{"text_format":"1","workbook":"xlsx","n_sheets":18,"sheets":["Instrucciones","Inicio","Hoja1","Listas","Municipios","Hoja4","Focalización","Formulario JeA","Mapa oferta","Consolidado","Hoja5","Visualizador","Filtros","Filtros1","Formulario","Control_info","Guia","Guia JeA"],"not_rendered":{"charts":0,"images":18,"macros":1,"external_links":0,"defined_names":65,"comments":0,"pivot_tables":1},"unopened":[],"bounds":{"document_bytes":16777216,"sheet_cells":100000,"rows_first":2000,"rows_last":500,"rows_between":2000,"halvings":0,"cell_chars":16384,"cell_head_chars":4096},"cells_cut":0,"cells_raw":0,"read":"whole","date_system":"1900"}

{"sheet":"Instrucciones","index":0,"n_rows":45,"n_cols":20,"rows_kept":45,"cut":false,"hidden":true,"merged":[[11,0,15,0],[11,2,11,4],[11,5,11,8],[12,2,12,4],[1,0,7,0],[1,1,3,8],[4,2,4,4],[4,5,4,8],[5,2,5,4],[5,5,5,8],[6,2,6,4],[6,5,6,8],[7,2,7,4],[7,5,7,8],[8,0,10,0],[8,2,8,4],[8,5,8,8],[9,2,9,4],[9,5,9,8],[10,2,10,4],[10,5,10,8],[18,2,18,4],[18,5,18,8],[19,2,19,4],[19,5,19,8],[13,5,13,8],[14,2,14,4],[14,5,14,8],[15,2,15,4],[15,5,15,8],[12,5,12,8],[13,2,13,4],[20,2,20,4],[20,5,20,8],[21,0,23,0],[21,2,21,4],[21,5,21,8],[22,2,22,4],[22,5,22,8],[23,2,23,4],[23,5,23,8],[16,0,20,0],[16,2,16,4],[16,5,16,8],[17,2,17,4],[17,5,17,8],[24,0,25,0],[24,2,24,4],[24,5,24,8],[25,2,25,4],[25,5,25,8]]}
[]
["Sección 1 Encabezado","FORMULARIO DE MAPEO DE OFERTA FAMILIAS Y COMUNIDADES\n"]
[]
[]
[null,"No.","CAMBIO PROPUESTO",null,null,"JUSTIFICACIÓN"]
[null,"1.","Unificar el nombre del anexo vs el título del mismo ",null,null,"En la página aparece como Instrumento de Registro de Oferta Mi Familia"]
[null,"2. ","Retirar el nombre “Mi Familia” del subtitulo “Formulario de Mapeo de oferta” ",null,null,"La intención es que el mismo instrumento pueda ser usado para las dos modalidades"]
[null,"3. ","Introducir una identificación de: operador Regional y contrato",null,null,"Facilita al Supervisor y la DFy C, la identificación de procedencia de dicho mapeo diligenciado, util para regionales con 2 contratos ",null,null,null,null,"Formulario de resgistro de oferta",null,null,null,null,null,null,null,null,"Incluir modalidad"]
["SECCION 2: INFORMACIÓN DE LA ENTIDAD RESPONSABLE ","4.","Empezar por la Descripción del Programa",null,null,"En términos de relevancia, orden y practicidad, inicair con el nombre del programa para luego continuar con quienes intervienen en el diseño y ejecución se percibe más práctico ",null,null,null,null,"Descripción del programa no va entidad responsable"]
[null,"5. "," Tipo de entidad, incluir “orden comunitario” y retirar “no identificada” ",null,null,"El mapeo de oferta permite identificar también organizaciones sociales y comunitarias, así mismo la variable  \"no identificada\" se presta para confusiones ",null,null,null,null,"beneficios o incentivos revisar si se cambia lista desplegable",null,null,null,null,null,null,null,null,"Organización de base comunitaria"]
[null,"6. ","Retirar de este ítem la variable “nombre de entidad aliada de operar” y dejarla en el ítem Información básica del programa después de la variable “nombre del programa”  ",null,null,"La entidad Aliada es la segunda información más relevante después de la descripción del programa, responde a dos de las preguntas más relevantes para el gestor y PAF ¿De qué se tratsa el programa? ¿ Quién lo ejecuta? ",null,null,null,null,"Cupos disponibles",null,null,null,"Quitar ninguno de lista desplegable de ¿Cómo se recibe el beneficio?"]
["SECCION 3: Información básica del programa ","7. "," Incluir la variable “nombre de entidad aliada de operar” después de “nombre del programa”, ajustando su nombre a “nombre de quien opera el programa”   ",null,null,"El término Entidad Aliada a operar se presta para confusiones, pensando en el perfil de quienes realizarán labores de convergencia en las comunidades étnicas ",null,null,null,null,"tilde en pagina web"]
[null,null," Eliminar de la variable “modo de atención” la opción otros. ",null,null,"Las variables ya existentes son suficientes y la opción otros afecta la calidad de la información, al ser ambigua e indeterminada, prestándose para muchas interpretaciones ",null,null,null,null,"Autocmpletar en disponibilidad de oferta"]
[null,"8. ","Cambiar nombre de la variable “Contrapartida del participante”; por “ aporte o compromisos\"  ",null,null,"Se presta para confusiones, pensando en el perfil de quienes realizarán labores de convergencia en las comunidades étnicas ",null,null,null,null,"poner formato de fecha",null,null,null,null,null,null,"Aporte o compromisos del beneficiario"]
[null,"9. ","Consultar con Monitoreo la opción de incluir más municipios para no repetir el diligenciamiento de la ficha en caso de que esta misma oferta se brinde en otro municipio, pero sin alterar el reporte que la herramienta genera por municipio. ",null,null,"Actualmente la información se debe cargar por municipio, en caso de ser una oferta que cubra varios, es necesario digitar la misma información por municipio ¿Existen opciones para facilitar esa labor a los gestores?",null,null,null,null,"productiva","Converegencia de oferta y gestion de redes"]
[null,"10.","Posterior a cobertura municipal, incluir “sector de cobertura”  ",null,null,"Hay programas o servicios (particularmente los comunitarios o los de cooperación) que se enfocan de manera especifica en un sector o barrio y pueden ser de utilidad  a una UAF o grupo de familias y no todas",null,null,null,"linea de atención","social","coveregencia, gestion y activación",null,null,null,null,null,"Ampliar información de ubicación de la oferta"]
["SECCIÓN 4:Criterios de Priorización  ","11.","Incluir Justicia como Derecho, antes que dimensión",null,null,"En términos de Activación de rutas, el acceso a justicia por diferentes tipos de violencias o vulneraciones, es clave y las solicitudes de las familias y comunidades en este aspecto son considerables  ",null,null,null,"dimnesiones","Cultura, recreación y deportes","Convivencia e integraciónsoacil","productividad, ingresos y trabajo"]
[null,"12.","Para el Derecho Salud; se porponen las siguientes Dimensiones:\n• Servicios de Promoción de la salud y prevención de la enfermedad\n• Salud Sexual y Reproductiva:\n• Estilos de Vida Saludable con enfoque diferencial\n• Salud Mental y Prevención de las Adicciones\n• Rehabilitación funcional\n• Rehabilitación integral\n• Apoyo a cuidadores de PcD\n\nDe acuerdo con lo revisado en el Plan Decenal en Salud y Planes de Intervenciones colectivas \n  ",null,null,"Actualmente para el Derechos Salud, las dimensiones son NNA y Adultos, lo cual es insuficiente respecto a servisios de salud; se propone hacer visible el enfoque de discapacidad, con las siguientes categorías:\n• Rehabilitación funcional: Proceso de acciones médicas y terapéuticas, encaminadas a lograr que las personas con discapacidad estén en condiciones de alcanzar y mantener un estado funcional óptimo desde el punto de vista físico, sensorial, intelectual, psíquico o social, de manera que les posibilite modificar su propia vida y ser más independientes.\n• Rehabilitación integral: Mejoramiento de la calidad de vida y la plena integración de la persona con discapacidad al medio familiar, social y ocupacional, a través de procesos terapéuticos, educativos y formativos que se brindan acorde al tipo de discapacidad.\n• Apoyo a cuidadores de PcD\n  "]
[null,"13.","Para el Derecho Educación, se porpone incluir las siguientes \nDimensiones:\n• Educación inicial para PcD\n• Educación Básica para NNAcD\n• Educación Media para PcD\n• Educación Técnica Vocacional para PcD\n• Educación y Capacitación para cuidadores\n\n",null,null,"con el fin de hacer visible el enfoque diferencial desde discapacidad (si bien es deber del Estado garantizar modelos inclusivos de educación, es bien sabido que no todos los establecimientos educativos cuentan con maestros especializados y es importante mapear las Instituciones que sí, para orientar mejor a las familias)"]
[null,"14. ","3. Para el Derecho INGRESOS Y TRABAJO se propone incluir\n• Promoción del emprendimiento\n• Promoción del emprendimiento para PcD\n• Inclusión Laboral de PcD\n• Promoción del emprendimiento para cuidadores\n",null,null,"Teniendo en cuenta lo enucnciado en el Plan de Desarrollo de Presidencia, frente a fomentar el emprendimiento para PcD y Cuidadores"]
[null,"15.","Para el Derecho USO DEL TIEMPO LIBRE, incluir las dimensiones\nCultura\nRecreación y Deporte \nCultura para PcD\nRecreación y Deporte para PcD",null,null,"Actualemente las dimensiones son NNA y Adultos, lo cual se prestó para ambiguedades y subregistro por no encontrar las opciones más adecuadas"]
["Sección 5: Requisitos de entrada","16.","Cambiar El término \"Descripción\" por CUAL",null,null,"Utilicemos el ejemplo con Edad: Existe? Sí ¿Cuál? De 10 a 15 años, mientras que el término descripción presentó confusiones ",null,null,null,null,"Oferta para población ","incluir en la lista adulto mayor"]
[null,"17.","Para Pueblos étnicos, en la Descripción, consideramos debería incluirse una lista desplegable con las etnias: Indígena, Comunidades NARP, Raizal, Rrom ",null,null,"En términos de delimitación, es útil para efectos de generación de información en la guía",null,null,null,null,"Categoria Sisben ","A B C D incluyendo descripción SISBEN"]
[null,"18.","En la fila 60, columnas W - Z, que hace referencia a Criterio: Quitar la categoría Otros",null,null,"La categoría Otros es muy amplia y afecta la calidad de la información recolectada y brindada a las UAF"]
["Sección 6: Variables con las que se prioriza el acceso a la Oferta","19.","Adicionar, al igual que en requisitos de entrada, una columna que diga \"CUAL\"",null,null,"Permite mayor precisión en la información, p.ej. Victimas SI Cual: Mujeres"]
[null,"20.","Para el criterio Pueblos étnicos, incluir en lista desplegable los  criterios de priorización establecidos en TEB:\nJurídica\n• Priorizados por otros autos y sentencias.\n• Priorizados por Auto 004 de 2009.\n• Priorizados por Auto 005 de 2009.\n• Priorizados por medidas Cautelares.\n• Planes integrales de reparación colectiva.\n• Casos de restitución de tierras.\nContexto \n• Priorizados por alertas tempranas.\n• Índice de pobreza multidimensional.\n• Municipios PDET e iniciativa comunitaria.\n• Municipio afectado por hechos victimizantes.\n• Municipios priorizados por la Cipruna.\n• Municipios en zona de frontera.\n• Municipios con presencia de ETCR.\n",null,null,"Lo cual permitiría mayor detalle en la generación de información que nos entrega la guía"]
[]
[]
[]
[]
[]
[]
[]
[]
[]
[]
[]
[]
[]
[]
[]
[]
[]
[]
[null,null,null,null,"Inclusión productiva ","Productividad, ingreso y trabajo"]

{"sheet":"Inicio","index":1,"n_rows":12,"n_cols":70,"rows_kept":12,"cut":false,"hidden":false,"merged":[[1,4,3,12]]}
[]
[]
[]
[]
[]
[]
[]
[]
[]
[]
[]
[null,null,null,null,null,null,null,null,null,null,null,null,null,null,null,null,null,null,null,null,null,null,null,null,null,null,null,"2021-01-01","2021-01-30",2,"2021-02-01","2021-02-28",3,"2021-03-01","2021-03-30",4,"2021-04-01","2021-04-30",5,"2021-05-01","2021-05-30",6,"2021-06-01","2021-06-30",7,"2021-07-01","2021-07-30",8,"2021-08-01","2021-08-10",9,"2021-01-01","2021-01-30",10,"2021-02-01","2021-02-28",11,"2021-03-01","2021-03-01",12,"2021-04-01","2021-04-30","Observación 6","Inclusión social","Cultura, recreación y deportes","Actividades culturales ","Niños, Niñas y Adolescentes","NO",null,"NO"]

{"sheet":"Hoja1","index":2,"n_rows":38,"n_cols":76,"rows_kept":38,"cut":false,"hidden":true,"merged":[[2,20,2,22],[1,15,1,18],[1,20,1,22],[1,9,1,14],[2,9,2,14],[9,9,9,10],[3,11,3,14],[7,9,7,10],[8,9,8,10],[2,15,2,18]]}
[null,null,null," Información básica del programa",null,null,null,"Hace referencia a los beneficio que reciben los participantes del programa (selección categoria y su respectivs desrcipción)"]
["Entidad","Clasificación","Entidad aliada u operador","Nombre del programa","Descripción","Acceso","Modalidad","Beneficios/Incentivos ","DIMENSIONES","Orden y cobertura geográfica",null,null,null,null,null,"Estado de la oferta",null,null,null,"Contrapartida","Descripcion contrapartida",null,null,"Requisitos","Criterios de focalización","Contacto de la entidad","Página web de la entidad y del programa","Cupos disponiblres","Observación",null,"Tipo de cobertura","Modalidad","Tipo de Inclusión","Inclusión social","Inclusión productiva","Vivienda","Educación","Salud y Nutrición","Cultura, recreación y deportes","Convivencia e integración social","Productividad, ingresos y Trabajo","Oferta para población","Pueblos étnicos oferta","Categorias Sisben","EDUCACIÓN Y CAPACITACIÓN","HABITABILIDAD","SALUD","Ingreso y trabajo","USO DEL TIEMPO LIBRE","OTROS","Identificación","Justicia","UTL","Educación","Protección y prevención integral",null,"Educación inicial para PcD","Educación Básica para NNAcD","Educación Media para PcD"," Educación Técnica Vocacional para PcD","Educación y Capacitación para cuidadores","Mejoramiento de condiciones habitacionales","Construcción de vivienda","Servicios de Promoción de la salud y prevención de la enfermedad","Salud Sexual y Reproductiva","Estilos de Vida Saludable con enfoque diferencial","Rehabilitación funcional","Rehabilitación integral","Apoyo a cuidadores de PcD","Promoción del emprendimiento","Promoción del emprendimiento para PcD","Inclusión Laboral de PcD","Cultura","Recreación y Deporte ","Cultura para PcD","Recreación y Deporte para PcD"]
["Nombre de la entidad","Público","Nombre de la entidad","Corresponde al nombre oficial del programa que se está ofertando.","Permite conocer especificaciones generales del programa como objetivos, estructura (fases), actividades previstas y habilidades a desarrolar por los grupos poblacionales a los que va dirigido el servicio","Demanda","Virtual","Especie","Componentes a través de los cuales se fortalecerán a las familias vinculadas a la modalidad Mi Familia mediante la identificación de iniciativas sociales públicas, privadas y espacios de participación territorial. Estas son: salud, educación y capacitación, habitabilidad, identificación, ingresos, trabajo y uso del tiempo libre. ","área geográfica cubierta por las acciones del programa",null,null,null,null,null,"Establece las fechas en las que el programa o servicio se encuentra activo y en este sentido en que momento se puede ingresar a este",null,null,null,"Hace referencia a las acciones que deberán cumplir los participantes para continuar accediendo al beneficio. ","Indica si un programa es gratuito o si el beneficiario debe realizar algún tipo de pago, por este motivo se solicita el detalle por medio de la siguiente información",null,null,"Que debo cumplir","Por qué priorizan","Responsable nacional, regional y municipal del servicio o programa",null,"Gestionados",null,"SI","Nacional","Mi Familia","Inclusión social","Vivienda","Productividad, ingresos y Trabajo","Condiciones habitacionales","Inicial ","Manejo de sustancias psicoactivas","Actividades culturales ","Convivencia, equidad de género y detección temprana de violencias","Intermediación laboral ","Familia","Priorizados por otros autos y sentencias","Grupo A - Pobreza extrema","Educación inicial para PcD","Mejoramiento de condiciones habitacionales","Servicios de Promoción de la salud y prevención de la enfermedad","Promoción del emprendimiento","Cultura","Identificación",null,null,null,null,null,null,null,null,null,null,null,"Entrega de materiales","Subsidio para la compra"]
[null,"Privado",null,null,null,"Convocatoria abierta","Presencial","Efectivo","SALUD","Departamento","Municipio","Subdivisión",null,null,null,"Estado de la oferta","Número de apertura en el año","Fecha de inicio","Fecha de finalización","Tiempo","Cuánto:","Cada cuanto: ","Donde",null,null,null,null,null,null,"NO","Departamental","Territorios Étnicos con Bienestar","Inclusión productiva","Educación",null,"Construcción de vivienda","Preescolar ","Servicios de salud sexual y reproductiva","Actividades recreativas","Participación ciudadana","Orientación socio ocupacional","Mujer","Priorizados por Auto 004 de 2009","Grupo B - Pobreza moderada","Educación Básica para NNAcD","Construcción de vivienda","Salud Sexual y Reproductiva","Promoción del emprendimiento para PcD","Recreación y Deporte ","Jusiticia",null,null,null,null,null,null,null,null,null,null,null,"Entrega de dinero","Subsidio para el arriendo"]
[null,"Mixta",null,null,null,"Convocatoria cerrada","Virtual y presencial","Especie y efectivo","EDUCACIÓN Y CAPACITACIÓN",null,null,"Barrio","Comunidad","Consejo comunitario","Vereda",null,"permanente o mensual","Fecha de inicio del programa","Indica la fecha de finalización del programa","Dinero","Dato donde se especifica el valor o porcentaje que debe pagar el beneficiario para acceder al programa","Temporalidad del pago que se debe realizar","Información del lugar donde se realizan los pagos requeridos",null,null,"Nombre, telefono y correo electronico",null,"Numero",null,null,"Municipal",null,null,"Salud y Nutrición",null,"Entorno ","Básica ","Educación alimentaria y nutricional","Actividades deportivas ","Tejido social y comunitario","Emprendimiento – Autoempleo","Población LGBTI","Priorizados por Auto 005 de 2009","Grupo C - Vulnerable","Educación Media para PcD",null,"Estilos de Vida Saludable con enfoque diferencial","Inclusión Laboral de PcD","Cultura para PcD","Otros",null,null,null,null,null,null,null,null,null,null,null,"Realización de mejoramientos","Entrega de vivienda"]
[null,"Cooperación",null,null,null,null,"Semipresencial","Ninguno","HABITABILIDAD ","Nombre","Nombre","Lista de Nombres (descriptivo)","Lista de Nombres (descriptivo)","Lista de Nombres (descriptivo)",null,"Activo",1,null,null,"Otros","Descriptivo","Descriptivo","Descriptivo","Edad","Edad",null,null,"Demanda",null,null,null,null,null,"Cultura, recreación y deportes",null,"Otros apoyos","Media ","Servicios de cuidado de adultos mayores y PcD","Otros apoyos ","Justicia propia","Prácticas de autoconsumo e intercambio ","Discapacidad","Priorizados por medidas Cautelares","Grupo D - No pobre, No vulnerable"," Educación Técnica Vocacional para PcD",null,"Rehabilitación funcional",null,"Recreación y Deporte para PcD",null,null,null,null,null,null,null,null,null,null,null,null,"Varias de la opciones anteriores","Titulación de la vivienda"]
[null,"Organización de base comunitaria",null,null,null,null,null,null,"PREVENCIÓN",null,null,null,null,null,null,"Inactivo",2,"Cantidad de entradas por opción de periodicidad (max 12)","Cantidad de entradas por opción de periodicidad (max 12)","Ninguno",null,null,null,"Puntaje SISBEN","Puntaje SISBEN",null,null,null,null,null,null,null,null,"Convivencia e integración social",null,null,"Técnica ","Habilidades psicosociales para la vida",null,"Fortalecimiento y acceso a la justicia","Transferencias monetarias","Niños, Niñas y Adolescentes","Planes integrales de reparación colectiva",null,"Educación y Capacitación para cuidadores",null,"Rehabilitación integral",null,null,null,null,null,null,null,null,null,null,null,null,null,null,"Otras","Condonación de créditos"]
[null,null,null,null,null,null,null,null,"INGRESOS Y TRABAJO",null,null,null,null,null,null,null,3,null,null,null,null,null,null,"Nivel Escolaridad","Nivel Escolaridad",null,null,null,null,null,null,null,null,null,null,null,"Tecnológica ","Aseguramiento",null,"Otros apoyos ","Otros apoyos","Jovenes","Casos de restitución de tierras",null,null,null,"Apoyo a cuidadores de PcD",null,null,null,null,null,null,null,null,null,null,null,null,null,null,null,"Otras"]
[null,null,null,null,null,null,null,null,"USO DEL TIEMPO LIBRE ",null,null,null,null,null,null,null,4,null,null,null,null,null,null,"Género","Género",null,null,null,null,null,null,null,null,null,null,null,"Superior ","Crecimiento y desarrollo",null,null,null,"Comunidades negras","Priorizados por alertas tempranas"]
[null,null,null,null,null,null,null,null,"Unir otra base de oferta desagregada",null,null,null,null,null,null,null,5,null,null,null,null,null,null,"Víctimas","Víctimas (desplazados, otras víctimas)",null,null,null,null,null,null,null,null,null,null,null,"No formal ","Cocina tradicional y sistemas alimentarios",null,null,null,"Afrodescendientes","Índice de pobreza multidimensional"]
[null,null,null,null,null,null,null,null,null,null,null,null,null,null,null,null,6,null,null,null,null,null,null,"Reincorporados","Reincorporados",null,null,null,null,null,null,null,null,null,null,null,"Etnoeducación","Medicina tradicional ",null,null,null,"Indígenas","Municipios PDET e iniciativa comunitaria"]
[null,null,null,null,null,null,null,null,null,null,null,null,null,null,null,null,7,null,null,null,null,null,null,"Puble étnicos","Puble étnicos (afros, indigenas, RROM, ETC)",null,null,null,null,null,null,null,null,null,null,null,"Competencias transversales y socioemocionales","Otros apoyos ",null,null,null,"Raizales","Municipio afectado por hechos victimizantes"]
[null,null,null,null,null,null,null,null,null,null,null,null,null,null,null,null,8,null,null,null,null,null,null,"Otros abiertos","Unidos",null,null,null,null,null,null,null,null,null,null,null,"Educación para el trabajo y el desarrollo humano – ETDH.",null,null,null,null,"Palenqueros","Municipios priorizados por la Cipruna"]
[null,null,null,null,null,null,null,null,null,null,null,null,null,null,null,null,9,null,null,null,null,null,null,null,"ICBF",null,null,null,null,null,null,null,null,null,null,null,"Otros apoyos",null,null,null,null,"Rrom","Municipios priorizados por la Cipruna"]
[null,null,null,null,null,null,null,null,null,null,null,null,null,null,null,null,10,null,null,null,null,null,null,null,"Otros",null,null,null,null,null,null,null,null,null,null,null,null,null,null,null,null,"Víctimas","Municipios en zona de frontera"]
[null,null,null,null,null,null,null,null,null,null,null,null,null,null,null,null,11,null,null,null,null,null,null,null,null,null,null,null,null,null,null,null,null,null,null,null,null,null,null,null,null,"Reincorporados","Municipios con presencia de ETCR"]
[null,null,null,null,null,null,null,null,null,null,null,null,null,null,null,null,12,null,null,null,null,null,null,null,null,null,null,null,null,null,null,null,null,null,null,null,null,null,null,null,null,"Persona mayor"]
[null,null,null,null,null,null,null,null,null,null,null,null,null,null,null,null,"No aplica"]
["Prosperidad Social","Pública","SENA","Jóvenes en Acción",null,"Convocatoria abierta","Presencial","Efectivo","EDUCACIÓN Y CAPACITACIÓN","Antioquia","Medellín","Todos","Todos","Todos","Todos","Activo",4,"2020-01-15","2020-03-15","Tiempo",null,null,"Edad","16 a 24","No aplica","Julian","www.prosperidadsocial.gov.co"]
[null,null,null,null,null,null,null,null,null,null,null,null,null,null,null,null,null,"2020-03-15","2020-06-15",null,null,null,"Puntaje SISBEN","No aplica","0 a 54,86"]
["EDUCACIÓN_Y_CAPACITACIÓN","HABITABILIDAD","SALUD","INGRESOS_Y_TRABAJO","USO_DEL_TIEMPO_LIBRE","OTROS",null,null,null,null,null,null,null,null,null,null,null,"2020-06-15","2020-09-15",null,null,null,"Nivel Escolaridad","Bachiller","No aplica"]
[null,null,null,null,null,null,null,null,null,null,null,null,null,null,null,null,null,"2020-09-15","2020-12-15",null,null,null,"Género","No aplica","No aplica"]
[null,null,null,null,null,null,null,null,null,null,null,null,null,null,null,null,null,null,null,null,null,null,"Víctimas","No aplica","Si"]
["Educación_y_Capacitación_","Orientación_Socio_ocupacional","Taller_de_hoja_de_vida","Herramientas_digítales","Alfabetización","Otra",null,null,null,null,null,null,null,null,null,null,null,null,null,null,null,null,"Reincorporados","No aplica","No aplica"]
["Educación_y_Capacitación_","Habilidades_Blandas","Manejo_de_emociones","Trabajo_en_equipo","Comunicación_asertiva_","Resolución_de_conflictos","Pensamiento_crítico_","Creatividad","Dos_o_más_de_estas_habilidades","Otras_habilidades",null,null,null,null,null,null,null,null,null,null,null,null,"Pueblo étnicos","No aplica","Afros o indígenas"]
["Educación_y_Capacitación_","Educación_Básica_y_Media","Acceso_a_cupos_de_educación","Trabajo_infantil","Nivelación_en_Matemáticas_","Nivelación_en_Español","Bilingüismo","Apoyo_económicos_para_la_permanencia","Transporte_escolar","Alimentación_escolar","Varios_de_estos_servicios","Otros",null,null,null,null,null,null,null,null,null,null,"Otros abiertos","No aplica","Unidos, ICBf"]
["Educación_y_Capacitación_","Educación_Orientada_al_Trabajo","Técnico_profesional","Tecnólogo","Profesional_universitario","Técnico\n","Técnico__laboral\n","Cursos_cortos_o_Complementarios","Apoyo_en_espacie_","Otros"]
["HABITABILIDAD_","Mejoramiento_de_condiciones_habitacionales","Entrega_de_materiales","Entrega_de_dinero","Realización_de_mejoramientos","Varias_de_la_opciones_anteriores","Otras"]
["HABITABILIDAD_","Construcción_de_vivienda","Subsidio_para_la_compra","Subsidio_para_el_arriendo","Entrega_de_vivienda","Titulación_de_la_vivienda","Condonación_de_créditos","Otras"]
["SALUD","Niños_niñas_y_adolescentes","Aseguramiento","Vacunación,_tamizaje_y/o_nutrición","Crecimiento_y_desarrollo","Acompañamiento_Psicosocial","Manejo_de_Sustancias_Psico_Activas_","Embarazo_adolescente","Otras"]
["SALUD","Adultos","Aseguramiento","Educación_alimentaria","Acompañamiento_Psicosocial","Violencia_intrafamiliar","Manejo_de_Sustancias_Psico_Activas_","Apoyo_y/o_productos_para_discapacidad","Otras"]
["INGRESOS_Y_TRABAJO","Intermediación_Laboral","Caracterización","Direccionamientos_Centros_de_Empleo","Remisión_a_Procesos_de_selección","Validación_de_competencias","Acompañamiento_post_vinculación_","Apoyo_en_espacie_","Otras"]
["INGRESOS_Y_TRABAJO","Autoempleo","Caracterización","Capital_semilla","Asistencia_técnica_o_extensionismo","Acceso_a_crédito","Certificaciones_y_cumplimientos_legales","Estrategias_de_mercadeo_y/o_comunicaciones","Varias_de_la_opciones_anteriores","Otras"]
["USO_DEL_TIEMPO_LIBRE_","Niños_niñas_y_adolescentes_","Actividades_deportivas_","Actividades_Culturales_","Actividades_Sociales","Apoyo_en_espacie_","Varias_de_la_opciones_anteriores","Otras"]
["USO_DEL_TIEMPO_LIBRE_","Adultos_","Actividades_deportivas_","Actividades_Culturales_","Actividades_Sociales","Apoyo_en_espacie_","Varias_de_la_opciones_anteriores","Otras"]
["OTROS","Identificación","Documentos_de_identificación","Tarjeta_militar","Otros"]
["OTROS","Jusiticia","Acceso_a_justicia","Mecanismos_de_concilianción","Otros"]
["OTROS","Otros_","Otros"]

{"sheet":"Listas","index":3,"n_rows":7,"n_cols":11,"rows_kept":7,"cut":false,"hidden":true,"merged":[]}
["Derecho",null,null,"EDUCACIÓN Y CAPACITACIÓN","HABITABILIDAD","SALUD","INGRESOS Y TRABAJO","USO DEL TIEMPO LIBRE","OTROS",null,"Pueblos étnicos"]
["EDUCACIÓN Y CAPACITACIÓN",null,null,"Educación inicial para PcD","Mejoramiento de condiciones habitacionales","Servicios de Promoción de la salud y prevención de la enfermedad","Promoción del emprendimiento","Cultura","Identificación",null,"Indígena"]
["HABITABILIDAD",null,null,"Educación Básica para NNAcD","Construcción de vivienda","Salud Sexual y Reproductiva","Promoción del emprendimiento para PcD","Recreación y Deporte ","Jusiticia",null,"Comunidades NARP"]
["SALUD",null,null,"Educación Media para PcD",null,"Estilos de Vida Saludable con enfoque diferencial","Inclusión Laboral de PcD","Cultura para PcD","Otros",null,"Raizal"]
["INGRESOS Y TRABAJO",null,null," Educación Técnica Vocacional para PcD",null,"Rehabilitación funcional",null,"Recreación y Deporte para PcD",null,null,"Rrom"]
["USO DEL TIEMPO LIBRE",null,null,"Educación y Capacitación para cuidadores",null,"Rehabilitación integral"]
["OTROS",null,null,null,null,"Apoyo a cuidadores de PcD"]

{"sheet":"Municipios","index":4,"n_rows":126,"n_cols":33,"rows_kept":126,"cut":false,"hidden":true,"merged":[]}
["Amazonas","Antioquia","Arauca","Atlántico","Bogota D.C.","Bolívar","Boyacá","Caldas","Caquetá","Casanare","Cauca","Cesar","Chocó","Córdoba","Cundinamarca","Guainía","Guaviare","Huila","La Guajira","Magdalena","Meta","Nariño","Norte De Santander","Putumayo","Quindio","Risaralda","San Andrés","Santander","Sucre","Tolima","Valle Del Cauca","Vaupés","Vichada"]
["El Encanto ","Abejorral","Arauca ","Baranoa","Bogota Distrito Capital","Achi ","Almeida","Aguadas","Albania","Aguazul","Almaguer ","Aguachica","Acandi ","Ayapel ","Agua De Dios ","Barranco Minas ","Calamar","Acevedo","Albania","Algarrobo","Acacias","Alban","Abrego ","Colon","Armenia","Apia ","Providencia","Aguada ","Buenavista ","Alpujarra","Alcala ","Caruru ","Cumaribo "]
["La Chorrera","Abriaqui","Arauquita","Barranquilla ",null,"Altos Del Rosario","Aquitania","Anserma","Belen De Los Andaquies ","Chameza","Argelia","Agustin Codazzi","Alto Baudo ","Buenavista ","Alban","Cacahual ","El Retorno ","Agrado ","Barrancas","Aracataca","Barranca De Upia ","Aldana ","Arboledas","Leguizamo","Buenavista ","Balboa ","San Andres ","Albania","Caimito","Alvarado ","Andalucia","Mitu ","La Primavera "]
["La Pedrera ","Alejandria","Cravo Norte","Campo De La Cruz ",null,"Arenal ","Arcabuco ","Aranzazu ","Cartagena Del Chaira ","Hato Corozal ","Balboa ","Astrea ","Atrato ","Canalete ","Anapoima ","Inirida","Miraflores ","Aipe ","Dibulla","Ariguani ","Cabuyaro ","Ancuya ","Bochalema","Mocoa","Calarca","Belen De Umbria",null,"Aratoca","Chalan ","Ambalema ","Ansermanuevo ","Pacoa","Puerto Carreño "]
["La Victoria","Amaga","Fortul ","Candelaria ",null,"Arjona ","Belen","Belalcazar ","Curillo","La Salina","Bolivar","Becerril ","Bagado ","Cerete ","Anolaima ","La Guadalupe ","San Jose Del Guaviare","Algeciras","Distraccion","Cerro San Antonio","Castilla La Nueva","Arboleda ","Bucarasica ","Orito","Circasia ","Dosquebradas ","","Barbosa","Coloso ","Anzoategui ","Argelia","Papunaua ","Santa Rosalia"]
["Leticia","Amalfi","Puerto Rondon","Galapa ",null,"Arroyohondo","Berbeo ","Chinchina","El Doncello","Mani ","Buenos Aires","Bosconia ","Bahia Solano ","Chima","Apulo","Mapiripana ",null,"Altamira ","El Molino","Chivolo","Cubarral ","Barbacoas","Cachira","Puerto Asis","Cordoba","Guatica","","Barichara","Corozal","Armero ","Bolivar","Taraira"]
["Miriti Parana","Andes","Saravena ","Juan De Acosta ",null,"Barranco De Loba ","Beteitiva","Filadelfia ","El Paujil","Monterrey","Cajibio","Chimichagua","Bajo Baudo ","Chinu","Arbelaez ","Morichal ","","Baraya ","Fonseca","Cienaga","Cumaral","Belen","Cacota ","Puerto Caicedo ","Filandia ","La Celia ","","Barrancabermeja","Coveñas","Ataco","Buenaventura ","Yavarate ",""]
["Puerto Alegria ","Angelopolis","Tame ","Luruaco",null,"Calamar","Boavita","La Dorada","Florencia","Nunchia","Caldono","Chiriguana ","Belen De Bajira","Cienaga De Oro ","Beltran","Pana Pana","","Campoalegre","Hatonuevo","Concordia","El Calvario","Buesaco","Chinacota","Puerto Guzman","Genova ","La Virginia","","Betulia","El Roble ","Cajamarca","Bugalagrande ",null,""]
["Puerto Arica ","Angostura",null,"Malambo",null,"Cantagallo ","Boyaca ","La Merced","La Montañita ","Orocue ","Caloto ","Curumani ","Bojaya ","Cotorra","Bituima","Puerto Colombia","","Colombia ","La Jagua Del Pilar ","El Banco ","El Castillo","Chachagüi","Chitaga","San Francisco","La Tebaida ","Marsella ","","Bolivar","Galeras","Carmen De Apicala","Caicedonia ","",""]
["Puerto Nariño","Anori","","Manati ",null,"Cartagena","Briceño","Manizales","Milan","Paz De Ariporo ","Corinto","El Copey ","Carmen Del Darien","La Apartada","Bojaca ","San Felipe ","","Elias","Maicao ","El Piñon ","El Dorado","Colon","Convencion ","San Miguel ","Montenegro ","Mistrato ","","Bucaramanga","Guaranda ","Casabianca ","Calima ","",""]
["Puerto Santander ","Anza","","Palmar De Varela ",null,"Cicuco ","Buenavista ","Manzanares ","Morelia","Pore ","El Tambo ","El Paso","Certegui ","Lorica ","Cabrera",null,"","Garzon ","Manaure","El Reten ","Fuente De Oro","Consaca","Cucuta ","Santiago ","Pijao","Pereira","","Cabrera","La Union ","Chaparral","Candelaria ","",""]
["Tarapaca ","Apartado","","Piojo",null,"Clemencia","Busbanza ","Marmato","Puerto Rico","Recetor","Florencia","Gamarra","Condoto","Los Cordobas ","Cachipay ","","","Gigante","Riohacha ","Fundacion","Granada","Contadero","Cucutilla","Sibundoy ","Quimbaya ","Pueblo Rico","","California ","Los Palmitos ","Coello ","Cartago","",""]
[null,"Arboletes","","Polonuevo",null,"Cordoba","Caldas ","Marquetalia","San Jose Del Fragua","Sabanalarga","Guachené","Gonzalez ","El Canton Del San Pablo","Momil","Cajica ","","","Guadalupe","San Juan Del Cesar ","Guamal ","Guamal ","Cordoba","Durania","Valle Del Guamuez","Salento","Quinchia ","","Capitanejo ","Majagual ","Coyaima","Dagua","",""]
["","Argelia","","Ponedera ",null,"El Carmen De Bolivar ","Campohermoso ","Marulanda","San Vicente Del Caguan ","Sacama ","Guapi","La Gloria","El Carmen De Atrato","Montelibano","Caparrapi","","","Hobo ","Uribia ","Nueva Granada","La Macarena","Cuaspud","El Carmen","Villagarzon",null,"Santa Rosa De Cabal","","Carcasi","Morroa ","Cunday ","El Águila","",""]
["","Armenia","","Puerto Colombia",null,"El Guamo ","Cerinza","Neira","Solano ","San Luis De Palenque ","Inza ","La Jagua De Ibirico","El Litoral Del San Juan","Monteria ","Caqueza","","","Iquira ","Urumita","Pedraza","Lejanias ","Cumbal ","El Tarra ",null,"","Santuario","","Cepita ","Ovejas ","Dolores","El Cairo ","",""]
["","Barbosa","","Repelon",null,"El Peñon ","Chinavita","Norcasia ","Solita ","Tamara ","Jambalo","La Paz ","Istmina","Moñitos","Carmen De Carupa ","","","Isnos","Villanueva ","Pijiño Del Carmen","Mapiripan","Cumbitara","El Zulia ","","",null,"","Cerrito","Palmito","Espinal","El Cerrito ","",""]
["","Bello","","Sabanagrande ",null,"Hatillo De Loba","Chiquinquira ","Pacora ","Valparaiso ","Tauramena","La Sierra","Manaure","Jurado ","Planeta Rica ","Chaguani ","","","La Argentina ",null,"Pivijay","Mesetas","El Charco","Gramalote","","","","","Charala","Sampues","Falan","El Dovio ","",""]
["","Belmira","","Sabanalarga",null,"Magangue ","Chiquiza ","Palestina",null,"Trinidad ","La Vega","Pailitas ","Lloro","Pueblo Nuevo ","Chia ","","","La Plata ","","Plato","Puerto Concordia ","El Peñol ","Hacari ","","","","","Charta ","San Benito Abad","Flandes","Florida","",""]
["","Betania","","Santa Lucia",null,"Mahates","Chiscas","Pensilvania","","Villanueva ","Lopez","Pelaya ","Medio Atrato ","Puerto Escondido ","Chipaque ","","","Nataga ","","Puebloviejo","Puerto Gaitan","El Rosario ","Herran ","","","","","Chima","San Juan De Betulia","Fresno ","Ginebra","",""]
["","Betulia","","Santo Tomas",null,"Margarita","Chita","Riosucio ","","Yopal","Mercaderes ","Pueblo Bello ","Medio Baudo","Puerto Libertador","Choachi","","","Neiva","","Remolino ","Puerto Lleras","El Tablon De Gomez ","La Esperanza ","","","","","Chipata","San Marcos ","Guamo","Guacari","",""]
["","Briceño","","Soledad",null,"Maria La Baja","Chitaraque ","Risaralda","",null,"Miranda","Rio De Oro ","Medio San Juan ","Purisima ","Choconta ","","","Oporapa","","Sabanas De San Angel ","Puerto Lopez ","El Tambo ","La Playa ","","","","","Cimitarra","San Onofre ","Herveo ","Guadalajara De Buga","",""]
["","Buritica ","","Suan ",null,"Mompos ","Chivata","Salamina ","","","Morales","San Alberto","Novita ","Sahagun","Cogua","","","Paicol ","","Salamina ","Puerto Rico","Francisco Pizarro","Labateca ","","","","","Concepcion ","San Pedro","Honda","Jamundi","",""]
["","Caceres","","Tubara ",null,"Montecristo","Chivor ","Samana ","","","Padilla","San Diego","Nuqui","San Andres Sotavento ","Cota ","","","Palermo","","San Sebastian De Buenavis","Restrepo ","Funes","Los Patios ","","","","","Confines ","Santiago De Tolu ","Ibague ","La Cumbre","",""]
["","Caicedo","","Usiacuri ",null,"Morales","Cienega","San Jose ","","","Paez ","San Martin ","Quibdo ","San Antero ","Cucunuba ","","","Palestina","","San Zenon","San Carlos De Guaroa ","Guachucal","Lourdes","","","","","Contratacion ","Since","Icononzo ","La Union ","",""]
["","Caldas ","",null,null,"Norosi","Combita","Supia","","","Patia","Tamalameque","Rio Iro","San Bernardo Del Viento","El Colegio ","","","Pital","","Santa Ana","San Juan De Arama","Guaitarilla","Mutiscua ","","","","","Coromoro ","Sincelejo","Lerida ","La Victoria","",""]
["","Campamento ","","",null,"Pinillos ","Coper","Victoria ","","","Piamonte ","Valledupar ","Rio Quito","San Carlos ","El Peñon ","","","Pitalito ","","Santa Barbara De Pinto ","San Juanito","Gualmatan","Ocaña","","","","","Curiti ","Sucre","Libano ","Obando ","",""]
["","Cañasgordas","","",null,"Regidor","Corrales ","Villamaria ","","","Piendamo ",null,"Riosucio ","San José De Uré","El Rosal ","","","Rivera ","","Santa Marta","San Martin ","Iles ","Pamplona ","","","","","El Carmen De Chucuri ","Tolu Viejo ","Mariquita","Palmira","",""]
["","Caracoli ","","",null,"Rio Viejo","Covarachia ","Viterbo","","","Popayan","","San Jose Del Palmar","San Pelayo ","Facatativa ","","","Saladoblanco ","","Sitionuevo ","Uribe","Imues","Pamplonita ","","","","","El Guacamayo ",null,"Melgar ","Pradera","",""]
["","Caramanta","","",null,"San Cristobal","Cubara ",null,"","","Puerto Tejada","","Sipi ","Tierralta","Fomeque","","","San Agustin","","Tenerife ","Villavicencio","Ipiales","Puerto Santander ","","","","","El Peñon ","","Murillo","Restrepo ","",""]
["","Carepa ","","",null,"San Estanislao ","Cucaita","","","","Purace ","","Tado ","Tuchín","Fosca","","","Santa Maria","","Zapayan","Vistahermosa ","La Cruz","Ragonvalia ","","","","","El Playon","","Natagaima","Riofrio","",""]
["","Carolina ","","",null,"San Fernando ","Cuitiva","","","","Rosas","","Unguia ","Valencia ","Funza","","","Suaza","","Zona Bananera",null,"La Florida ","Salazar","","","","","Encino ","","Ortega ","Roldanillo ","",""]
["","Caucasia ","","",null,"San Jacinto","Duitama","","","","San Sebastian","","Union Panamericana ",null,"Fuquene","","","Tarqui ","",null,"","La Llanada ","San Calixto","","","","","Enciso ","","Palocabildo","San Pedro","",""]
["","Chigorodo","","",null,"San Jacinto Del Cauca","El Cocuy ","","","","Santa Rosa ","",null,"","Fusagasuga ","","","Tello","","","","La Tola","San Cayetano ","","","","","Florian","","Piedras","Santiago De Cali ","",""]
["","Cisneros ","","",null,"San Juan Nepomuceno","El Espino","","","","Santander De Quilichao ","","","","Gachala","","","Teruel ","","","","La Union ","Santiago ","","","","","Floridablanca","","Planadas ","Sevilla","",""]
["","Ciudad Bolivar","","",null,"San Martin De Loba ","Firavitoba ","","","","Silvia ","","","","Gachancipa ","","","Tesalia","","","","Leiva","Sardinata","","","","","Galan","","Prado","Toro ","",""]
["","Cocorna","","",null,"San Pablo","Floresta ","","","","Sotara ","","","","Gacheta","","","Timana ","","","","Linares","Silos","","","","","Gambita","","Purificacion ","Trujillo ","",""]
["","Concepcion ","","",null,"Santa Catalina ","Gachantiva ","","","","Suarez ","","","","Gama ","","","Villavieja ","","","","Los Andes","Teorama","","","","","Giron","","Rioblanco","Tulua","",""]
["","Concordia","","",null,"Santa Rosa ","Gameza ","","","","Sucre","","","","Girardot ","","","Yaguara","","","","Magüi","Tibu ","","","","","Guaca","","Roncesvalles ","Ulloa","",""]
["","Copacabana ","","",null,"Santa Rosa Del Sur ","Garagoa","","","","Timbio ","","","","Granada","","",null,"","","","Mallama","Toledo ","","","","","Guadalupe","","Rovira ","Versalles","",""]
["","Dabeiba","","",null,"Simiti ","Guacamayas ","","","","Timbiqui ","","","","Guacheta ","","","","","","","Mosquera ","Villa Caro ","","","","","Guapota","","Saldaña","Vijes","",""]
["","Don Matias ","","",null,"Soplaviento","Guateque ","","","","Toribio","","","","Guaduas","","","","","","","Nariño ","Villa Del Rosario","","","","","Guavata","","San Antonio","Yotoco ","",""]
["","Ebejico","","",null,"Talaigua Nuevo ","Guayata","","","","Totoro ","","","","Guasca ","","","","","","","Olaya Herrera",null,"","","","","Güepsa ","","San Luis ","Yumbo","",""]
["","El Bagre ","","",null,"Tiquisio ","Güican ","","","","Villa Rica ","","","","Guataqui ","","","","","","","Ospina ","","","","","","Hato ","","Santa Isabel ","Zarzal ","",""]
["","El Carmen De Viboral ","","",null,"Turbaco","Iza","","","",null,"","","","Guatavita","","","","","","","Pasto","","","","","","Jesus Maria","","Suarez ",null,"",""]
["","El Santuario ","","",null,"Turbana","Jenesano ","","","","","","","","Guayabal De Siquima","","","","","","","Policarpa","","","","","","Jordan ","","Valle De San Juan","","",""]
["","Entrerrios ","","",null,"Villanueva ","Jerico ","","","","","","","","Guayabetal ","","","","","","","Potosi ","","","","","","La Belleza ","","Venadillo","","",""]
["","Envigado ","","",null,"Zambrano ","La Capilla ","","","","","","","","Gutierrez","","","","","","","Providencia","","","","","","La Paz ","","Villahermosa ","","",""]
["","Fredonia ","","",null,null,"La Uvita ","","","","","","","","Jerusalen","","","","","","","Puerres","","","","","","Landazuri","","Villarrica ","","",""]
["","Frontino ","","",null,"","La Victoria","","","","","","","","Junin","","","","","","","Pupiales ","","","","","","Lebrija","",null,"","",""]
["","Giraldo","","",null,"","Labranzagrande ","","","","","","","","La Calera","","","","","","","Ricaurte ","","","","","","Los Santos ","","","","",""]
["","Girardota","","",null,"","Macanal","","","","","","","","La Mesa","","","","","","","Roberto Payan","","","","","","Macaravita ","","","","",""]
["","Gomez Plata","","",null,"","Maripi ","","","","","","","","La Palma ","","","","","","","Samaniego","","","","","","Malaga ","","","","",""]
["","Granada","","",null,"","Miraflores ","","","","","","","","La Peña","","","","","","","San Bernardo ","","","","","","Matanza","","","","",""]
["","Guadalupe","","",null,"","Mongua ","","","","","","","","La Vega","","","","","","","San Lorenzo","","","","","","Mogotes","","","","",""]
["","Guarne ","","",null,"","Mongui ","","","","","","","","Lenguazaque","","","","","","","San Pablo","","","","","","Molagavita ","","","","",""]
["","Guatape","","",null,"","Moniquira","","","","","","","","Macheta","","","","","","","San Pedro De Cartago ","","","","","","Ocamonte ","","","","",""]
["","Heliconia","","",null,"","Motavita ","","","","","","","","Madrid ","","","","","","","Sandona","","","","","","Oiba ","","","","",""]
["","Hispania ","","",null,"","Muzo ","","","","","","","","Manta","","","","","","","Santa Barbara","","","","","","Onzaga ","","","","",""]
["","Itagui ","","",null,"","Nobsa","","","","","","","","Medina ","","","","","","","Santacruz","","","","","","Palmar ","","","","",""]
["","Ituango","","",null,"","Nuevo Colon","","","","","","","","Mosquera ","","","","","","","Sapuyes","","","","","","Palmas Del Socorro ","","","","",""]
["","Jardin ","","",null,"","Oicata ","","","","","","","","Nariño ","","","","","","","Taminango","","","","","","Paramo ","","","","",""]
["","Jerico ","","",null,"","Otanche","","","","","","","","Nemocon","","","","","","","Tangua ","","","","","","Piedecuesta","","","","",""]
["","La Ceja","","",null,"","Pachavita","","","","","","","","Nilo ","","","","","","","Tumaco ","","","","","","Pinchote ","","","","",""]
["","La Estrella","","",null,"","Paez ","","","","","","","","Nimaima","","","","","","","Tuquerres","","","","","","Puente Nacional","","","","",""]
["","La Magdalena ","","",null,"","Paipa","","","","","","","","Nocaima","","","","","","","Yacuanquer ","","","","","","Puerto Parra ","","","","",""]
["","La Pintada ","","",null,"","Pajarito ","","","","","","","","Pacho","","","","","","",null,"","","","","","Puerto Wilches ","","","","",""]
["","La Union ","","",null,"","Panqueba ","","","","","","","","Paime","","","","","","","","","","","","","Rionegro ","","","","",""]
["","Liborina ","","",null,"","Pauna","","","","","","","","Pandi","","","","","","","","","","","","","Sabana De Torres ","","","","",""]
["","Maceo","","",null,"","Paya ","","","","","","","","Paratebueno","","","","","","","","","","","","","San Andres ","","","","",""]
["","Marinilla","","",null,"","Paz De Rio ","","","","","","","","Pasca","","","","","","","","","","","","","San Benito ","","","","",""]
["","Medellin","","",null,"","Pesca","","","","","","","","Puerto Salgar","","","","","","","","","","","","","San Gil","","","","",""]
["","Montebello ","","",null,"","Pisba","","","","","","","","Puli ","","","","","","","","","","","","","San Joaquin","","","","",""]
["","Murindo","","",null,"","Puerto Boyaca","","","","","","","","Quebradanegra","","","","","","","","","","","","","San Jose De Miranda","","","","",""]
["","Mutata ","","",null,"","Quipama","","","","","","","","Quetame","","","","","","","","","","","","","San Miguel ","","","","",""]
["","Nariño ","","",null,"","Ramiriqui","","","","","","","","Quipile","","","","","","","","","","","","","San Vicente De Chucuri ","","","","",""]
["","Nechi","","",null,"","Raquira","","","","","","","","Ricaurte ","","","","","","","","","","","","","Santa Barbara","","","","",""]
["","Necocli","","",null,"","Rondon ","","","","","","","","San Antonio Del Tequendama","","","","","","","","","","","","","Santa Helena Del Opon","","","","",""]
["","Olaya","","",null,"","Saboya ","","","","","","","","San Bernardo ","","","","","","","","","","","","","Simacota ","","","","",""]
["","Peñol","","",null,"","Sachica","","","","","","","","San Cayetano ","","","","","","","","","","","","","Socorro","","","","",""]
["","Peque","","",null,"","Samaca ","","","","","","","","San Francisco","","","","","","","","","","","","","Suaita ","","","","",""]
["","Pueblorrico","","",null,"","San Eduardo","","","","","","","","San Juan De Rio Seco ","","","","","","","","","","","","","Sucre","","","","",""]
["","Puerto Berrio","","",null,"","San Jose De Pare ","","","","","","","","Sasaima","","","","","","","","","","","","","Surata ","","","","",""]
["","Puerto Triunfo ","","",null,"","San Luis De Gaceno ","","","","","","","","Sesquile ","","","","","","","","","","","","","Tona ","","","","",""]
["","Remedios ","","",null,"","San Mateo","","","","","","","","Sibate ","","","","","","","","","","","","","Valle De San Jose","","","","",""]
["","Retiro ","","",null,"","San Miguel De Sema ","","","","","","","","Silvania ","","","","","","","","","","","","","Velez","","","","",""]
["","Rionegro ","","",null,"","San Pablo De Borbur","","","","","","","","Simijaca ","","","","","","","","","","","","","Vetas","","","","",""]
["","Sabanalarga","","",null,"","Santa Maria","","","","","","","","Soacha ","","","","","","","","","","","","","Villanueva ","","","","",""]
["","Sabaneta ","","",null,"","Santa Rosa De Viterbo","","","","","","","","Sopo ","","","","","","","","","","","","","Zapatoca ","","","","",""]
["","Salgar ","","",null,"","Santa Sofia","","","","","","","","Subachoque ","","","","","","","","","","","","",null,"","","","",""]
["","San Andres ","","",null,"","Santana","","","","","","","","Suesca ","","","","","","","","","","","","","","","","","",""]
["","San Carlos ","","",null,"","Sativanorte","","","","","","","","Supata ","","","","","","","","","","","","","","","","","",""]
["","San Francisco","","",null,"","Sativasur","","","","","","","","Susa ","","","","","","","","","","","","","","","","","",""]
["","San Jeronimo ","","",null,"","Siachoque","","","","","","","","Sutatausa","","","","","","","","","","","","","","","","","",""]
["","San Jose De La Montaña ","","",null,"","Soata","","","","","","","","Tabio","","","","","","","","","","","","","","","","","",""]
["","San Juan De Uraba","","",null,"","Socha","","","","","","","","Tausa","","","","","","","","","","","","","","","","","",""]
["","San Luis ","","",null,"","Socota ","","","","","","","","Tena ","","","","","","","","","","","","","","","","","",""]
["","San Pedro","","",null,"","Sogamoso ","","","","","","","","Tenjo","","","","","","","","","","","","","","","","","",""]
["","San Pedro De Uraba ","","",null,"","Somondoco","","","","","","","","Tibacuy","","","","","","","","","","","","","","","","","",""]
["","San Rafael ","","",null,"","Sora ","","","","","","","","Tibirita ","","","","","","","","","","","","","","","","","",""]
["","San Roque","","",null,"","Soraca ","","","","","","","","Tocaima","","","","","","","","","","","","","","","","","",""]
["","San Vicente","","",null,"","Sotaquira","","","","","","","","Tocancipa","","","","","","","","","","","","","","","","","",""]
["","Santa Barbara","","",null,"","Susacon","","","","","","","","Topaipi","","","","","","","","","","","","","","","","","",""]
["","Santa Rosa De Osos ","","",null,"","Sutamarchan","","","","","","","","Ubala","","","","","","","","","","","","","","","","","",""]
["","Santafe De Antioquia","","",null,"","Sutatenza","","","","","","","","Ubaque ","","","","","","","","","","","","","","","","","",""]
["","Santo Domingo","","",null,"","Tasco","","","","","","","","Une","","","","","","","","","","","","","","","","","",""]
["","Segovia","","",null,"","Tenza","","","","","","","","Útica","","","","","","","","","","","","","","","","","",""]
["","Sonson ","","",null,"","Tibana ","","","","","","","","Venecia","","","","","","","","","","","","","","","","","",""]
["","Sopetran ","","",null,"","Tibasosa ","","","","","","","","Vergara","","","","","","","","","","","","","","","","","",""]
["","Tamesis","","",null,"","Tinjaca","","","","","","","","Viani","","","","","","","","","","","","","","","","","",""]
["","Taraza ","","",null,"","Tipacoque","","","","","","","","Villa De San Diego De Ubate","","","","","","","","","","","","","","","","","",""]
["","Tarso","","",null,"","Toca ","","","","","","","","Villagomez ","","","","","","","","","","","","","","","","","",""]
["","Titiribi ","","",null,"","Togüi","","","","","","","","Villapinzon","","","","","","","","","","","","","","","","","",""]
["","Toledo ","","",null,"","Topaga ","","","","","","","","Villeta","","","","","","","","","","","","","","","","","",""]
["","Turbo","","",null,"","Tota ","","","","","","","","Viota","","","","","","","","","","","","","","","","","",""]
["","Uramita","","",null,"","Tunja","","","","","","","","Yacopi ","","","","","","","","","","","","","","","","","",""]
["","Urrao","","",null,"","Tunungua ","","","","","","","","Zipacon","","","","","","","","","","","","","","","","","",""]
["","Valdivia ","","",null,"","Turmeque ","","","","","","","","Zipaquira","","","","","","","","","","","","","","","","","",""]
["","Valparaiso ","","",null,"","Tuta ","","","","","","","",null,"","","","","","","","","","","","","","","","","",""]
["","Vegachi","","",null,"","Tutaza ","","","","","","","","","","","","","","","","","","","","","","","","","",""]
["","Venecia","","",null,"","Umbita ","","","","","","","","","","","","","","","","","","","","","","","","","",""]
["","Vigia Del Fuerte ","","",null,"","Ventaquemada ","","","","","","","","","","","","","","","","","","","","","","","","","",""]
["","Yali ","","",null,"","Villa De Leyva ","","","","","","","","","","","","","","","","","","","","","","","","","",""]
["","Yarumal","","",null,"","Viracacha","","","","","","","","","","","","","","","","","","","","","","","","","",""]
["","Yolombo","","",null,"","Zetaquira","","","","","","","","","","","","","","","","","","","","","","","","","",""]
["","Yondo","","",null,"",null,"","","","","","","","","","","","","","","","","","","","","","","","","",""]
["","Zaragoza ","","",null,"","","","","","","","","","","","","","","","","","","","","","","","","","","",""]

{"sheet":"Hoja4","index":5,"n_rows":0,"n_cols":0,"rows_kept":0,"cut":false,"hidden":true,"merged":[]}

{"sheet":"Focalización","index":6,"n_rows":203,"n_cols":11,"rows_kept":203,"cut":false,"hidden":true,"merged":[]}
[]
[null,"Cod_Dp","Departamento","Cod_Mpio","Municipio",null,null,"Departamento",null,"Departamental","Municipal"]
[null,5,"Antioquia",5001,"Medellin",null,null,"Antioquia",null,"Amazonas","Amazonas"]
[null,5,"Antioquia",5030,"Amaga",null,null,"Amazonas",null,"Antioquia","Antioquia"]
[null,5,"Antioquia",5034,"Andes",null,null,"Arauca",null,"Arauca","Arauca"]
[null,5,"Antioquia",5079,"Barbosa",null,null,"Atlantico",null,"Atlántico","Atlántico"]
[null,5,"Antioquia",5088,"Bello",null,null,"Bogota",null,"Bogota D.C.","Bogota D.C."]
[null,5,"Antioquia",5101,"Ciudad Bolívar",null,null,"Bolivar",null,"Bolívar","Bolívar"]
[null,5,"Antioquia",5129,"Caldas",null,null,"Boyaca",null,"Boyacá","Boyacá"]
[null,5,"Antioquia",5154,"Caucasia",null,null,"Caldas",null,"Caldas","Caldas"]
[null,5,"Antioquia",5212,"Copacabana",null,null,"Caqueta",null,"Caquetá","Caquetá"]
[null,5,"Antioquia",5308,"Girardota",null,null,"Casanare",null,"Casanare","Casanare"]
[null,5,"Antioquia",5360,"Itagui",null,null,"Cauca",null,"Cauca","Cauca"]
[null,5,"Antioquia",5380,"La Estrella",null,null,"Cesar",null,"Cesar","Cesar"]
[null,5,"Antioquia",5579,"Puerto Berrio",null,null,"Choco",null,"Chocó","Chocó"]
[null,5,"Antioquia",5615,"Rionegro",null,null,"Cordoba",null,"Córdoba","Córdoba"]
[null,5,"Antioquia",5631,"Sabaneta",null,null,"Cundinamarca",null,"Cundinamarca","Cundinamarca"]
[null,5,"Antioquia",5697,"El Santuario",null,null,"Guainia",null,"Guainía","Guainía"]
[null,5,"Antioquia",5887,"Yarumal",null,null,"Guaviare",null,"Guaviare","Guaviare"]
[null,8,"Atlantico",8001,"Barranquilla",null,null,"Huila",null,"Huila","Huila"]
[null,8,"Atlantico",8078,"Baranoa",null,null,"La_Guajira",null,"La Guajira","La Guajira"]
[null,8,"Atlantico",8137,"Campo De La Cruz",null,null,"Magdalena",null,"Magdalena","Magdalena"]
[null,8,"Atlantico",8296,"Galapa",null,null,"Meta",null,"Meta","Meta"]
[null,8,"Atlantico",8421,"Luruaco",null,null,"Nariño",null,"Nariño","Nariño"]
[null,8,"Atlantico",8433,"Malambo",null,null,"Norte_De_Santander",null,"Norte De Santander","Norte De Santander"]
[null,8,"Atlantico",8520,"Palmar De Varela",null,null,"Putumayo",null,"Putumayo","Putumayo"]
[null,8,"Atlantico",8558,"Polonuevo",null,null,"Quindio",null,"Quindio","Quindio"]
[null,8,"Atlantico",8606,"Repelon",null,null,"Risaralda",null,"Risaralda","Risaralda"]
[null,8,"Atlantico",8634,"Sabanagrande",null,null,"San_Andres",null,"San Andrés","San Andrés"]
[null,8,"Atlantico",8638,"Sabanalarga",null,null,"Santander",null,"Santander","Santander"]
[null,8,"Atlantico",8685,"Santo Tomas",null,null,"Sucre",null,"Sucre","Sucre"]
[null,8,"Atlantico",8758,"Soledad",null,null,"Tolima",null,"Tolima","Tolima"]
[null,8,"Atlantico",8770,"Suan",null,null,"Valle_Del_Cauca",null,"Valle Del Cauca","Valle Del Cauca"]
[null,11,"Bogota",11001,"Bogota DC",null,null,"Vaupes",null,"Vaupés","Vaupés"]
[null,13,"Bolivar",13001,"Cartagena",null,null,"Vichada",null,"Vichada","Vichada"]
[null,13,"Bolivar",13052,"Arjona"]
[null,13,"Bolivar",13244,"El Carmen De Bolivar"]
[null,13,"Bolivar",13430,"Magangue"]
[null,13,"Bolivar",13433,"Mahates"]
[null,13,"Bolivar",13442,"Maria La Baja"]
[null,13,"Bolivar",13468,"Mompos"]
[null,13,"Bolivar",13744,"Simiti"]
[null,13,"Bolivar",13836,"Turbaco"]
[null,15,"Boyaca",15001,"Tunja"]
[null,15,"Boyaca",15176,"Chiquinquira"]
[null,15,"Boyaca",15238,"Duitama"]
[null,15,"Boyaca",15299,"Garagoa"]
[null,15,"Boyaca",15469,"Moniquira"]
[null,15,"Boyaca",15572,"Puerto Boyaca"]
[null,15,"Boyaca",15759,"Sogamoso"]
[null,17,"Caldas",17001,"Manizales"]
[null,17,"Caldas",17174,"Chinchina"]
[null,17,"Caldas",17380,"La Dorada"]
[null,17,"Caldas",17433,"Manzanares"]
[null,17,"Caldas",17614,"Riosucio"]
[null,17,"Caldas",17777,"Supia"]
[null,17,"Caldas",17873,"Villamaria"]
[null,18,"Caqueta",18001,"Florencia"]
[null,18,"Caqueta",18247,"El Doncello"]
[null,18,"Caqueta",18753,"San Vicente Del Caguan"]
[null,19,"Cauca",19001,"Popayan"]
[null,19,"Cauca",19110,"Buenos Aires"]
[null,19,"Cauca",19137,"Caldono"]
[null,19,"Cauca",19212,"Corinto"]
[null,19,"Cauca",19290,"Florencia"]
[null,19,"Cauca",19300,"Guachene"]
[null,19,"Cauca",19318,"Guapi"]
[null,19,"Cauca",19418,"Lopez De Micay"]
[null,19,"Cauca",19455,"Miranda"]
[null,19,"Cauca",19513,"Padilla"]
[null,19,"Cauca",19548,"Piendamo"]
[null,19,"Cauca",19573,"Puerto Tejada"]
[null,19,"Cauca",19622,"Rosas"]
[null,19,"Cauca",19698,"Santander De Quilichao"]
[null,19,"Cauca",19807,"Timbio"]
[null,19,"Cauca",19809,"Timbiqui"]
[null,19,"Cauca",19845,"Villa Rica"]
[null,20,"Cesar",20001,"Valledupar"]
[null,20,"Cesar",20013,"Agustin Codazzi"]
[null,23,"Cordoba",23001,"Monteria"]
[null,23,"Cordoba",23162,"Cerete"]
[null,23,"Cordoba",23182,"Chinu"]
[null,23,"Cordoba",23417,"Lorica"]
[null,23,"Cordoba",23466,"Montelibano"]
[null,23,"Cordoba",23807,"Tierralta"]
[null,23,"Cordoba",23855,"Valencia"]
[null,25,"Cundinamarca",25175,"Chia"]
[null,25,"Cundinamarca",25183,"Choconta"]
[null,25,"Cundinamarca",25269,"Facatativa"]
[null,25,"Cundinamarca",25286,"Funza"]
[null,25,"Cundinamarca",25290,"Fusagasuga"]
[null,25,"Cundinamarca",25307,"Girardot"]
[null,25,"Cundinamarca",25430,"Madrid"]
[null,25,"Cundinamarca",25754,"Soacha"]
[null,25,"Cundinamarca",25843,"Ubate"]
[null,25,"Cundinamarca",25875,"Villeta"]
[null,25,"Cundinamarca",25899,"Zipaquira"]
[null,27,"Choco",27001,"Quibdo"]
[null,27,"Choco",27006,"Acandi"]
[null,27,"Choco",27810,"Union Panamericana"]
[null,41,"Huila",41001,"Neiva"]
[null,41,"Huila",41298,"Garzon"]
[null,41,"Huila",41396,"La Plata"]
[null,41,"Huila",41551,"Pitalito"]
[null,44,"La Guajira",44001,"Riohacha"]
[null,44,"La Guajira",44078,"Barrancas"]
[null,44,"La Guajira",44090,"Dibulla"]
[null,44,"La Guajira",44279,"Fonseca"]
[null,44,"La Guajira",44430,"Maicao"]
[null,44,"La Guajira",44874,"Villanueva"]
[null,47,"Magdalena",47001,"Santa Marta"]
[null,47,"Magdalena",47053,"Aracataca"]
[null,47,"Magdalena",47189,"Cienaga"]
[null,47,"Magdalena",47288,"Fundacion"]
[null,47,"Magdalena",47745,"Sitionuevo"]
[null,50,"Meta",50001,"Villavicencio"]
[null,50,"Meta",50006,"Acacias"]
[null,50,"Meta",50313,"Granada"]
[null,50,"Meta",50606,"Restrepo"]
[null,52,"Nariño",52001,"Pasto"]
[null,52,"Nariño",52079,"Barbacoas"]
[null,52,"Nariño",52240,"Chachagui"]
[null,52,"Nariño",52356,"Ipiales"]
[null,52,"Nariño",52399,"La Union"]
[null,52,"Nariño",52612,"Ricaurte"]
[null,52,"Nariño",52678,"Samaniego"]
[null,52,"Nariño",52683,"Sandona"]
[null,52,"Nariño",52693,"San Pablo"]
[null,52,"Nariño",52835,"Tumaco"]
[null,52,"Nariño",52838,"Tuquerres"]
[null,54,"Norte De Santander",54001,"Cucuta"]
[null,54,"Norte De Santander",54250,"El Tarra"]
[null,54,"Norte De Santander",54405,"Los Patios"]
[null,54,"Norte De Santander",54498,"Ocaña"]
[null,54,"Norte De Santander",54553,"Puerto Santander"]
[null,54,"Norte De Santander",54800,"Teorama"]
[null,54,"Norte De Santander",54810,"Tibu"]
[null,54,"Norte De Santander",54874,"Villa Del Rosario"]
[null,63,"Quindio",63001,"Armenia"]
[null,63,"Quindio",63130,"Calarca"]
[null,63,"Quindio",63401,"La Tebaida"]
[null,66,"Risaralda",66001,"Pereira"]
[null,66,"Risaralda",66088,"Belen De Umbria"]
[null,66,"Risaralda",66170,"Dosquebradas"]
[null,66,"Risaralda",66400,"La Virginia"]
[null,66,"Risaralda",66594,"Quinchia"]
[null,66,"Risaralda",66682,"Santa Rosa De Cabal"]
[null,68,"Santander",68001,"Bucaramanga"]
[null,68,"Santander",68077,"Barbosa"]
[null,68,"Santander",68079,"Barichara"]
[null,68,"Santander",68081,"Barrancabermeja"]
[null,68,"Santander",68147,"Capitanejo"]
[null,68,"Santander",68276,"Floridablanca"]
[null,68,"Santander",68307,"Giron"]
[null,68,"Santander",68406,"Lebrija"]
[null,68,"Santander",68432,"Malaga"]
[null,68,"Santander",68547,"Piedecuesta"]
[null,68,"Santander",68679,"San Gil"]
[null,68,"Santander",68755,"Socorro"]
[null,68,"Santander",68855,"Valle San Jose"]
[null,68,"Santander",68872,"Villanueva"]
[null,70,"Sucre",70001,"Sincelejo"]
[null,70,"Sucre",70110,"Buenavista"]
[null,70,"Sucre",70215,"Corozal"]
[null,70,"Sucre",70233,"El Roble"]
[null,70,"Sucre",70418,"Los Palmitos"]
[null,70,"Sucre",70670,"Sampues"]
[null,70,"Sucre",70713,"San Onofre"]
[null,70,"Sucre",70717,"San Pedro"]
[null,70,"Sucre",70823,"Tolu Viejo"]
[null,73,"Tolima",73001,"Ibague"]
[null,73,"Tolima",73168,"Chaparral"]
[null,73,"Tolima",73268,"Espinal"]
[null,73,"Tolima",73349,"Honda"]
[null,73,"Tolima",73408,"Lerida"]
[null,73,"Tolima",73449,"Melgar"]
[null,73,"Tolima",73585,"Purificacion"]
[null,76,"Valle Del Cauca",76001,"Cali"]
[null,76,"Valle Del Cauca",76109,"Buenaventura"]
[null,76,"Valle Del Cauca",76111,"Buga"]
[null,76,"Valle Del Cauca",76147,"Cartago"]
[null,76,"Valle Del Cauca",76275,"Florida"]
[null,76,"Valle Del Cauca",76364,"Jamundi"]
[null,76,"Valle Del Cauca",76520,"Palmira"]
[null,76,"Valle Del Cauca",76563,"Pradera"]
[null,76,"Valle Del Cauca",76622,"Roldanillo"]
[null,76,"Valle Del Cauca",76834,"Tulua"]
[null,76,"Valle Del Cauca",76892,"Yumbo"]
[null,81,"Arauca",81001,"Arauca"]
[null,81,"Arauca",81065,"Arauquita"]
[null,81,"Arauca",81736,"Saravena"]
[null,85,"Casanare",85001,"Yopal"]
[null,85,"Casanare",85010,"Aguazul"]
[null,86,"Putumayo",86001,"Mocoa"]
[null,86,"Putumayo",86568,"Puerto Asis"]
[null,86,"Putumayo",86571,"Puerto Guzmán"]
[null,86,"Putumayo",86749,"Sibundoy"]
[null,88,"San Andres",88001,"San Andres"]
[null,91,"Amazonas",91001,"Leticia"]
[null,94,"Guainia",94001,"Inirida"]
[null,95,"Guaviare",95001,"San Jose Del Guaviare"]
[null,97,"Vaupes",97001,"Mitu"]
[null,99,"Vichada",99001,"Puerto Carreño"]

{"sheet":"Formulario JeA","index":7,"n_rows":43,"n_cols":11,"rows_kept":43,"cut":false,"hidden":true,"merged":[[42,10,42,30],[1,2,1,31],[2,2,4,31],[31,10,31,30],[32,10,32,30],[33,10,33,30],[34,10,34,30],[40,10,40,30],[41,10,41,30],[21,10,21,30],[22,10,22,30],[23,10,23,30],[24,10,24,30],[25,10,25,30],[26,10,26,30],[8,9,8,30],[9,9,9,30],[10,9,10,30],[15,10,15,30],[16,10,19,30],[20,10,20,30]]}
[]
[null,null,"FORMULARIO DE MAPEO DE OFERTA PARA MI FAMILIA"]
[null,null,"La presente herramienta permite identificar la oferta disponible para adelantar acciones para la convergencia de oferta y gestión de redes"]
[]
[]
[]
[]
[]
[null,null,null,null,null,null,null,null,"Nombre entidad","Departamento para la Prosperidad Social"]
[null,null,null,null,null,null,null,null,"Tipo de entidad","Público"]
[null,null,null,null,null,null,null,null,"Entidad aliada de operar","SENA"]
[]
[]
[]
[]
[null,null,null,null,null,null,null,null,null,"Nombre del programa","Jóvenes en Acción"]
[null,null,null,null,null,null,null,null,null,"Descripción","Apoya a los jóvenes en condición de pobreza y vulnerabilidad, con la entrega de transferencias monetarias condicionadas –TMC-, para que puedan continuar sus estudios técnicos, tecnológicos y profesionales.​"]
[]
[]
[]
[null,null,null,null,null,null,null,null,null,"Tipo de acceso al programa","Convocatoria abierta"]
[null,null,null,null,null,null,null,null,null,"Modo de atención","presencial"]
[null,null,null,null,null,null,null,null,null,"Beneficios o incentivos","Efectivo"]
[null,null,null,null,null,null,null,null,null,"Contrapartida del participante","Tiempo"]
[null,null,null,null,null,null,null,null,null,"Cobertura territorial","Por definir"]
[null,null,null,null,null,null,null,null,null,"Datos de contacto y página web","http://www.prosperidadsocial.gov.co/que/jov/Paginas/Que-es-jovenes-en-accion.aspx"]
[null,null,null,null,null,null,null,null,null,"Cupos disponibles para Mi Familia","Por concertar"]
[]
[]
[]
[]
[null,null,null,null,null,null,null,null,null,"Estado de la oferta","Activo"]
[null,null,null,null,null,null,null,null,null,"Número de apertura en el año",4]
[null,null,null,null,null,null,null,null,null,"Fecha de inicio","2020-01-15"]
[null,null,null,null,null,null,null,null,null,"Fecha de finalización","2020-12-15"]
[]
[]
[]
[]
[]
[null,null,null,null,null,null,null,null,null,"Derechos y dimensiones","EDUCACIÓN Y CAPACITACIÓN"]
[null,null,null,null,null,null,null,null,null,"Requisitos de entrada","Jóvenes colombianos bachilleres entre 16 y 24 años de edad y que adicionalmente se encuentren registrados en por lo menos uno de los siguientes listados poblacionales:\n\nEstar en el SISBEN  III, con uno de los puntajes especificados conforme al área de residencia (desagregación geográfica), \nEstar registrado en la Red UNIDOS; ó\nEstar registrado en el Registro Único de Víctimas -RUV en condición de desplazamiento en estado \"INCLUIDO\"; ó\nEstar registrado en las listas censales de jóvenes indígenas ó\nEstar registrado en las listas censales para jóvenes con medida de adoptabilidad o responsabilidad penal del ICBF."]
[null,null,null,null,null,null,null,null,null,"Variables de focalización"]

{"sheet":"Mapa oferta","index":8,"n_rows":600,"n_cols":88,"rows_kept":600,"cut":false,"hidden":true,"merged":[[3,67,3,83],[3,2,3,5],[3,6,3,7],[3,8,3,23],[3,24,3,62],[3,63,3,66]]}
[]
[null,2,null,"Mi Familia Rural",null,null,null,null,null,{"$f":"Formulario!M24","v":0},{"$f":"Formulario!M25","v":0},{"$f":"Formulario!M26","v":0},{"$f":"Formulario!M27","v":0},{"$f":"Formulario!M28","v":0},{"$f":"Formulario!M29","v":0},null,{"$f":"Formulario!M30","v":0},{"$f":"Formulario!M31","v":0},{"$f":"Formulario!M36","v":0},{"$f":"Formulario!M37","v":0},{"$f":"IF(Formulario!M40=\"\",0,Formulario!M40)","v":0},{"$f":"IF(Formulario!M40=\"\",0,IF(AND(Formulario!M40<>\"\",OR(Formulario!M41=\"\",Formulario!M41=\"  \")),\"Sin diligenciar\",Formulario!M41))","v":0},null,{"$f":"IF(Formulario!M40=\"\",0,IF(AND(Formulario!M40<>\"\",OR(Formulario!M42=\"\",Formulario!M42=\"  \")),\"Sin diligenciar\",Formulario!M42))","v":0},{"$f":"IF(OR(Formulario!P40=\"\",Formulario!P40=\"  \"),0,Formulario!P40)","v":0},{"$f":"IF(OR(Formulario!P40=\"\",Formulario!P40=\"  \"),0,IF(AND(Formulario!P40<>\"\",OR(Formulario!P41=\"\",Formulario!P41=\"  \")),\"Sin diligenciar\",Formulario!P41))","v":0},{"$f":"IF(OR(Formulario!P40=\"\",Formulario!P40=\"  \"),0,IF(AND(Formulario!P40<>\"\",OR(Formulario!P42=\"\",Formulario!P42=\"  \")),\"Sin diligenciar\",Formulario!P42))","v":0},{"$f":"IF(OR(Formulario!S40=\"\",Formulario!S40=\"  \"),0,Formulario!S40)","v":"00:00:00"},{"$f":"IF(OR(Formulario!S40=\"\",Formulario!S40=\"  \"),0,IF(AND(Formulario!S40<>\"\",OR(Formulario!S41=\"\",Formulario!S41=\"  \")),\"Sin diligenciar\",Formulario!S41))","v":"00:00:00"},{"$f":"IF(OR(Formulario!S40=\"\",Formulario!S40=\"  \"),0,IF(AND(Formulario!S40<>\"\",OR(Formulario!S42=\"\",Formulario!S42=\"  \")),\"Sin diligenciar\",Formulario!S42))","v":0},{"$f":"IF(OR(Formulario!V40=\"\",Formulario!V40=\"  \"),0,Formulario!V40)","v":"00:00:00"},{"$f":"IF(OR(Formulario!V40=\"\",Formulario!V40=\"  \"),0,IF(AND(Formulario!V40<>\"\",OR(Formulario!V41=\"\",Formulario!V41=\"  \")),\"Sin diligenciar\",Formulario!V41))","v":"00:00:00"},{"$f":"IF(OR(Formulario!V40=\"\",Formulario!V40=\"  \"),0,IF(AND(Formulario!V40<>\"\",OR(Formulario!V42=\"\",Formulario!V42=\"  \")),\"Sin diligenciar\",Formulario!V42))","v":0},{"$f":"IF(OR(Formulario!Y40=\"\",Formulario!Y40=\"  \"),0,Formulario!Y40)","v":"00:00:00"},{"$f":"IF(OR(Formulario!Y40=\"\",Formulario!Y40=\"  \"),0,IF(AND(Formulario!Y40<>\"\",OR(Formulario!Y41=\"\",Formulario!Y41=\"  \")),\"Sin diligenciar\",Formulario!Y41))","v":"00:00:00"},{"$f":"IF(OR(Formulario!Y40=\"\",Formulario!Y40=\"  \"),0,IF(AND(Formulario!Y40<>\"\",OR(Formulario!Y42=\"\",Formulario!Y42=\"  \")),\"Sin diligenciar\",Formulario!Y42))","v":0},{"$f":"IF(OR(Formulario!AB40=\"\",Formulario!AB40=\"  \"),0,Formulario!AB40)","v":"00:00:00"},{"$f":"IF(OR(Formulario!AB40=\"\",Formulario!AB40=\"  \"),0,IF(AND(Formulario!AB40<>\"\",OR(Formulario!AB41=\"\",Formulario!AB41=\"  \")),\"Sin diligenciar\",Formulario!AB41))","v":"00:00:00"},{"$f":"IF(OR(Formulario!AB40=\"\",Formulario!AB40=\"  \"),0,IF(AND(Formulario!AB40<>\"\",OR(Formulario!AB42=\"\",Formulario!AB42=\"  \")),\"Sin diligenciar\",Formulario!AB42))","v":0},{"$f":"IF(OR(Formulario!AE40=\"\",Formulario!AE40=\"  \"),0,Formulario!AE40)","v":"00:00:00"},{"$f":"IF(OR(Formulario!AE40=\"\",Formulario!AE40=\"  \"),0,IF(AND(Formulario!AE40<>\"\",OR(Formulario!AE41=\"\",Formulario!AE41=\"  \")),\"Sin diligenciar\",Formulario!AE41))","v":"00:00:00"},{"$f":"IF(OR(Formulario!AE40=\"\",Formulario!AE40=\"  \"),0,IF(AND(Formulario!AE40<>\"\",OR(Formulario!AE42=\"\",Formulario!AE42=\"  \")),\"Sin diligenciar\",Formulario!AE42))","v":0},{"$f":"IF(OR(Formulario!M44=\"\",Formulario!M44=\"  \"),0,Formulario!M44)","v":"00:00:00"},{"$f":"IF(OR(Formulario!M44=\"\",Formulario!M44=\"  \"),0,IF(AND(Formulario!M44<>\"\",OR(Formulario!M45=\"\",Formulario!M45=\"  \")),\"Sin diligenciar\",Formulario!M45))","v":"00:00:00"},{"$f":"IF(OR(Formulario!M44=\"\",Formulario!M44=\"  \"),0,IF(AND(Formulario!M44<>\"\",OR(Formulario!M46=\"\",Formulario!M46=\"  \")),\"Sin diligenciar\",Formulario!M46))","v":0},{"$f":"IF(OR(Formulario!P44=\"\",Formulario!P44=\"  \"),0,Formulario!P44)","v":"00:00:00"},{"$f":"IF(OR(Formulario!P44=\"\",Formulario!P44=\"  \"),0,IF(AND(Formulario!P44<>\"\",OR(Formulario!P45=\"\",Formulario!P45=\"  \")),\"Sin diligenciar\",Formulario!P45))","v":"00:00:00"},{"$f":"IF(OR(Formulario!P44=\"\",Formulario!P44=\"  \"),0,IF(AND(Formulario!P44<>\"\",OR(Formulario!P46=\"\",Formulario!P46=\"  \")),\"Sin diligenciar\",Formulario!P46))","v":0},{"$f":"IF(OR(Formulario!S44=\"\",Formulario!S44=\"  \"),0,Formulario!S44)","v":"00:00:00"},{"$f":"IF(OR(Formulario!S44=\"\",Formulario!S44=\"  \"),0,IF(AND(Formulario!S44<>\"\",OR(Formulario!S45=\"\",Formulario!S45=\"  \")),\"Sin diligenciar\",Formulario!S45))","v":"00:00:00"},{"$f":"IF(OR(Formulario!S44=\"\",Formulario!S44=\"  \"),0,IF(AND(Formulario!S44<>\"\",OR(Formulario!S46=\"\",Formulario!S46=\"  \")),\"Sin diligenciar\",Formulario!S46))","v":0},{"$f":"IF(OR(Formulario!V44=\"\",Formulario!V44=\"  \"),0,Formulario!V44)","v":"00:00:00"},{"$f":"IF(OR(Formulario!V44=\"\",Formulario!V44=\"  \"),0,IF(AND(Formulario!V44<>\"\",OR(Formulario!V45=\"\",Formulario!V45=\"  \")),\"Sin diligenciar\",Formulario!V45))","v":"00:00:00"},{"$f":"IF(OR(Formulario!V44=\"\",Formulario!V44=\"  \"),0,IF(AND(Formulario!V44<>\"\",OR(Formulario!V46=\"\",Formulario!V46=\"  \")),\"Sin diligenciar\",Formulario!V46))","v":0},{"$f":"IF(OR(Formulario!Y44=\"\",Formulario!Y44=\"  \"),0,Formulario!Y44)","v":"00:00:00"},{"$f":"IF(OR(Formulario!Y44=\"\",Formulario!Y44=\"  \"),0,IF(AND(Formulario!Y44<>\"\",OR(Formulario!Y45=\"\",Formulario!Y45=\"  \")),\"Sin diligenciar\",Formulario!Y45))","v":"00:00:00"},{"$f":"IF(OR(Formulario!Y44=\"\",Formulario!Y44=\"  \"),0,IF(AND(Formulario!Y44<>\"\",OR(Formulario!Y46=\"\",Formulario!Y46=\"  \")),\"Sin diligenciar\",Formulario!Y46))","v":0},{"$f":"Formulario!M48","v":"00:00:00"},{"$f":"Formulario!P52","v":"OTROS"},{"$f":"Formulario!P53","v":"Jusiticia"},{"$f":"Formulario!P54","v":"Acceso_a_justicia"},{"$f":"Formulario!O57","v":"00:00:00"},{"$f":"Formulario!Q57","v":0},{"$f":"Formulario!O58","v":0},{"$f":"Formulario!Q58","v":0},{"$f":"Formulario!O59","v":0},null,{"$f":"Formulario!O60","v":0},{"$f":"Formulario!Q60","v":0},{"$f":"Formulario!AA58","v":0},{"$f":"Formulario!AC58","v":0},{"$f":"IF(SUM(BH2:BS2)<>0,0,CONCATENATE(IF(BH2=\"SÍ\",CONCATENATE(#REF!,\" -> \",BI2,\", \"),\"\"),IF(BJ2=\"SÍ\",CONCATENATE(#REF!,\" -> \",BK2,\", \"),\"\"),IF(BL2=\"SÍ\",CONCATENATE(#REF!,\" -> \",BM2,\", \"),\"\"),IF(BN2=\"SÍ\",CONCATENATE(BT5,\" -> \",BO2,\", \"),\"\"),IF(BP2=\"SÍ\",CONCATENATE(BU5,\" -> \",BQ2,\", \"),\"\"),IF(#REF!=\"SÍ\",CONCATENATE(BV5,\" -> \",#REF!,\", \"),\"\"),IF(BR2=\"SÍ\",CONCATENATE(CC5,\" -> \",BS2,\", \"),\"\"),IF(#REF!=\"SÍ\",CONCATENATE(BZ5,\" -> \",#REF!,\", \"),\"\")))","v":{"$error":"#REF!"}},{"$f":"Formulario!O67","v":0},{"$f":"Formulario!W63","v":0},{"$f":"Formulario!W64","v":0},{"$f":"Formulario!W65","v":0},{"$f":"Formulario!W66","v":0},{"$f":"Formulario!W67","v":0},{"$f":"(47-SUM(COUNTIF(B2:T2,0),COUNTIF(BG2:BZ2,\"No aplica\")))/47","v":0.78723404255319152},null,null,null,null,null,{"$f":"(47-SUM(COUNTIF(B2:R2,0),COUNTIF(BE2:BZ2,\"No aplica\")))/47","v":0.82978723404255317}]
[]
[null,"Serie","Información básica",null,null,null,"Información entidad responsable",null,"Infotmación básica del programa",null,null,null,null,null,null,null,null,null,null,null,null,null,null,null,"Disponibilidad de la oferta",null,null,null,null,null,null,null,null,null,null,null,null,null,null,null,null,null,null,null,null,null,null,null,null,null,null,null,null,null,null,null,null,null,null,null,null,null,null,"Tipo de inclusión",null,null,null,"Criterios de priorización"]
[null,"ID","Modalidad","Nombre del operador","Regional","Número de contrato","Nombre de la entidad","Tipo de entidad","Nombre del programa","Nombre quien opera programa","Descripción del programa","Tipo de acceso al programa","Modo de atención","Como se recibe el beneficio?","Aporte o compromisos","Tipo de cobertura","Cobetura departamental","Cobertura municipal","Zona de cobertura","Cupos disponibles para mi familia","Nombre de la persona de contacto","Telefono de la persona de contacto","Correo electrónico persona de contacto","Pagina web del programa","Estado de la oferta","Número de apertura en el año","Apertura_1","Fecha inicio 1","Fecha fin 1","Apertura_2","Fecha inicio 2","Fecha fin 2","Apertura_3","Fecha inicio 3","Fecha fin 3","Apertura_4","Fecha inicio 4","Fecha fin 4","Apertura_5","Fecha inicio 5","Fecha fin 5","Apertura_6","Fecha inicio 6","Fecha fin 6","Apertura_7","Fecha inicio 7","Fecha fin 7","Apertura_8","Fecha inicio 8","Fecha fin 8","Apertura_9","Fecha inicio 9","Fecha fin 9","Apertura_10","Fecha inicio 10","Fecha fin 10","Apertura_11","Fecha inicio 11","Fecha fin 11","Apertura_12","Fecha inicio 12","Fecha fin 12","Observaciones","Tipo de inclusión","Dimensión","Linea de gestión","Oferta para población","Edad - ¿existe?","Edad -¿Cuál?","Nivel Escolaridad - ¿existe?","Nivel Escolaridad - ¿Cuál?","Descripción requisitos","Unidos - ¿existe?","Unidos - ¿Cuál?","Victimas - ¿existe?","Victimas - ¿Cuál?","Pueblos étnicos - ¿existe?","Pueblos étnicos - ¿Cuál?","ICBF - ¿existe?","ICBF - ¿Cuál?","Familias en acción - ¿existe?","Familias en acción - ¿Cuál?","Grupo Sisben - ¿existe?","Grupo Sisben - ¿Cuál?","Calidad de información sobre el programa","Calidad de información sobre el programa"]
[null,null,null,null,null,null,null,null,null,null,null,null,null,null,null,null,null,null,null,null,null,null,null,null,null,null,null,null,null,null,null,null,null,null,null,null,null,null,null,null,null,null,null,null,null,null,null,null,null,null,null,null,null,null,null,null,null,null,null,null,null,null,null,null,null,null,null,null,null,null,null,{"$f":"IF(SUM(BP6:BS6)<>0,\"\",CONCATENATE(IF(BP6=\"SI\",CONCATENATE(\"Edad\",\" -> \",BQ6,\", \"),\"\"),IF(BR6=\"SI\",CONCATENATE(\"Nivel escolaridad\",\" -> \",BS6,\", \"),\"\")))","v":""},null,null,null,null,null,null,null,null,null,null,null,null,{"$f":"IF(AND(B6<>\"\",P6=\"Municipal\"),(45-SUM((COUNTIF(B6:Z6,\"\")),COUNTIF(BL6:CF6,\"No aplica\")))/45,IF(AND(B6<>\"\",P6=\"Departamental\"),(45-SUM((COUNTIF(B6:Z6,\"\")),COUNTIF(BL6:CF6,\"No aplica\")))/44,IF(AND(B6<>\"\",P6=\"Nacional\"),(45-SUM((COUNTIF(B6:Z6,\"\")),COUNTIF(BL6:CF6,\"No aplica\")))/43,\"\")))","v":""},{"$f":"CG6","v":""},{"$f":"(45-SUM((COUNTIF(B6:Z6,\"\"))))","v":20},{"$f":"(COUNTIF(B6:Z6,\"\"))","v":25}]
[null,null,null,null,null,null,null,null,null,null,null,null,null,null,null,null,null,null,null,null,null,null,null,null,null,null,null,null,null,null,null,null,null,null,null,null,null,null,null,null,null,null,null,null,null,null,null,null,null,null,null,null,null,null,null,null,null,null,null,null,null,null,null,null,null,null,null,null,null,null,null,{"$f":"IF(SUM(BP7:BS7)<>0,\"\",CONCATENATE(IF(BP7=\"SI\",CONCATENATE(\"Edad\",\" -> \",BQ7,\", \"),\"\"),IF(BR7=\"SI\",CONCATENATE(\"Nivel escolaridad\",\" -> \",BS7,\", \"),\"\")))","v":""},null,null,null,null,null,null,null,null,null,null,null,null,{"$f":"IF(AND(B7<>\"\",P7=\"Municipal\"),(45-SUM((COUNTIF(B7:Z7,\"\")),COUNTIF(BL7:CF7,\"No aplica\")))/45,IF(AND(B7<>\"\",P7=\"Departamental\"),(45-SUM((COUNTIF(B7:Z7,\"\")),COUNTIF(BL7:CF7,\"No aplica\")))/44,IF(AND(B7<>\"\",P7=\"Nacional\"),(45-SUM((COUNTIF(B7:Z7,\"\")),COUNTIF(BL7:CF7,\"No aplica\")))/43,\"\")))","v":""},""]
[null,null,null,null,null,null,null,null,null,null,null,null,null,null,null,null,null,null,null,null,null,null,null,null,null,null,null,null,null,null,null,null,null,null,null,null,null,null,null,null,null,null,null,null,null,null,null,null,null,null,null,null,null,null,null,null,null,null,null,null,null,null,null,null,null,null,null,null,null,null,null,"",null,null,null,null,null,null,null,null,null,null,null,null,"","",null,{"$f":"(COUNTIF(B8:Z8,\"\"))","v":25}]
[null,null,null,null,null,null,null,null,null,null,null,null,null,null,null,null,null,null,null,null,null,null,null,null,null,null,null,null,null,null,null,null,null,null,null,null,null,null,null,null,null,null,null,null,null,null,null,null,null,null,null,null,null,null,null,null,null,null,null,null,null,null,null,null,null,null,null,null,null,null,null,"",null,null,null,null,null,null,null,null,null,null,null,null,"",""]
[null,null,null,null,null,null,null,null,null,null,null,null,null,null,null,null,null,null,null,null,null,null,null,null,null,null,null,null,null,null,null,null,null,null,null,null,null,null,null,null,null,null,null,null,null,null,null,null,null,null,null,null,null,null,null,null,null,null,null,null,null,null,null,null,null,null,null,null,null,null,null,"",null,null,null,null,null,null,null,null,null,null,null,null,{"$f":"IF(AND(B10<>\"\",P10=\"Municipal\"),(45-SUM((COUNTIF(B10:Z10,\"\")),COUNTIF(BL10:CF10,\"No aplica\")))/45,IF(AND(B10<>\"\",P10=\"Departamental\"),(45-SUM((COUNTIF(B10:Z10,\"\")),COUNTIF(BL10:CF10,\"No aplica\")))/44,IF(AND(B10<>\"\",P10=\"Nacional\"),(45-SUM((COUNTIF(B10:Z10,\"\")),COUNTIF(BL10:CF10,\"No aplica\")))/43,\"\")))","v":""},""]
[null,null,null,null,null,null,null,null,null,null,null,null,null,null,null,null,null,null,null,null,null,null,null,null,null,null,null,null,null,null,null,null,null,null,null,null,null,null,null,null,null,null,null,null,null,null,null,null,null,null,null,null,null,null,null,null,null,null,null,null,null,null,null,null,null,null,null,null,null,null,null,"",null,null,null,null,null,null,null,null,null,null,null,null,"",""]
[null,null,null,null,null,null,null,null,null,null,null,null,null,null,null,null,null,null,null,null,null,null,null,null,null,null,null,null,null,null,null,null,null,null,null,null,null,null,null,null,null,null,null,null,null,null,null,null,null,null,null,null,null,null,null,null,null,null,null,null,null,null,null,null,null,null,null,null,null,null,null,"",null,null,null,null,null,null,null,null,null,null,null,null,"",""]
[null,null,null,null,null,null,null,null,null,null,null,null,null,null,null,null,null,null,null,null,null,null,null,null,null,null,null,null,null,null,null,null,null,null,null,null,null,null,null,null,null,null,null,null,null,null,null,null,null,null,null,null,null,null,null,null,null,null,null,null,null,null,null,null,null,null,null,null,null,null,null,"",null,null,null,null,null,null,null,null,null,null,null,null,"",""]
[null,null,null,null,null,null,null,null,null,null,null,null,null,null,null,null,null,null,null,null,null,null,null,null,null,null,null,null,null,null,null,null,null,null,null,null,null,null,null,null,null,null,null,null,null,null,null,null,null,null,null,null,null,null,null,null,null,null,null,null,null,null,null,null,null,null,null,null,null,null,null,"",null,null,null,null,null,null,null,null,null,null,null,null,"",""]
[null,null,null,null,null,null,null,null,null,null,null,null,null,null,null,null,null,null,null,null,null,null,null,null,null,null,null,null,null,null,null,null,null,null,null,null,null,null,null,null,null,null,null,null,null,null,null,null,null,null,null,null,null,null,null,null,null,null,null,null,null,null,null,null,null,null,null,null,null,null,null,"",null,null,null,null,null,null,null,null,null,null,null,null,"",""]
[null,null,null,null,null,null,null,null,null,null,null,null,null,null,null,null,null,null,null,null,null,null,null,null,null,null,null,null,null,null,null,null,null,null,null,null,null,null,null,null,null,null,null,null,null,null,null,null,null,null,null,null,null,null,null,null,null,null,null,null,null,null,null,null,null,null,null,null,null,null,null,"",null,null,null,null,null,null,null,null,null,null,null,null,"",""]
[null,null,null,null,null,null,null,null,null,null,null,null,null,null,null,null,null,null,null,null,null,null,null,null,null,null,null,null,null,null,null,null,null,null,null,null,null,null,null,null,null,null,null,null,null,null,null,null,null,null,null,null,null,null,null,null,null,null,null,null,null,null,null,null,null,null,null,null,null,null,null,"",null,null,null,null,null,null,null,null,null,null,null,null,"",""]
[null,null,null,null,null,null,null,null,null,null,null,null,null,null,null,null,null,null,null,null,null,null,null,null,null,null,null,null,null,null,null,null,null,null,null,null,null,null,null,null,null,null,null,null,null,null,null,null,null,null,null,null,null,null,null,null,null,null,null,null,null,null,null,null,null,null,null,null,null,null,null,"",null,null,null,null,null,null,null,null,null,null,null,null,"",""]
[null,null,null,null,null,null,null,null,null,null,null,null,null,null,null,null,null,null,null,null,null,null,null,null,null,null,null,null,null,null,null,null,null,null,null,null,null,null,null,null,null,null,null,null,null,null,null,null,null,null,null,null,null,null,null,null,null,null,null,null,null,null,null,null,null,null,null,null,null,null,null,"",null,null,null,null,null,null,null,null,null,null,null,null,"",""]
[null,null,null,null,null,null,null,null,null,null,null,null,null,null,null,null,null,null,null,null,null,null,null,null,null,null,null,null,null,null,null,null,null,null,null,null,null,null,null,null,null,null,null,null,null,null,null,null,null,null,null,null,null,null,null,null,null,null,null,null,null,null,null,null,null,null,null,null,null,null,null,"",null,null,null,null,null,null,null,null,null,null,null,null,"",""]
[null,null,null,null,null,null,null,null,null,null,null,null,null,null,null,null,null,null,null,null,null,null,null,null,null,null,null,null,null,null,null,null,null,null,null,null,null,null,null,null,null,null,null,null,null,null,null,null,null,null,null,null,null,null,null,null,null,null,null,null,null,null,null,null,null,null,null,null,null,null,null,"",null,null,null,null,null,null,null,null,null,null,null,null,"",""]
[null,null,null,null,null,null,null,null,null,null,null,null,null,null,null,null,null,null,null,null,null,null,null,null,null,null,null,null,null,null,null,null,null,null,null,null,null,null,null,null,null,null,null,null,null,null,null,null,null,null,null,null,null,null,null,null,null,null,null,null,null,null,null,null,null,null,null,null,null,null,null,"",null,null,null,null,null,null,null,null,null,null,null,null,"",""]
[null,null,null,null,null,null,null,null,null,null,null,null,null,null,null,null,null,null,null,null,null,null,null,null,null,null,null,null,null,null,null,null,null,null,null,null,null,null,null,null,null,null,null,null,null,null,null,null,null,null,null,null,null,null,null,null,null,null,null,null,null,null,null,null,null,null,null,null,null,null,null,"",null,null,null,null,null,null,null,null,null,null,null,null,"",""]
[null,null,null,null,null,null,null,null,null,null,null,null,null,null,null,null,null,null,null,null,null,null,null,null,null,null,null,null,null,null,null,null,null,null,null,null,null,null,null,null,null,null,null,null,null,null,null,null,null,null,null,null,null,null,null,null,null,null,null,null,null,null,null,null,null,null,null,null,null,null,null,"",null,null,null,null,null,null,null,null,null,null,null,null,"",""]
[null,null,null,null,null,null,null,null,null,null,null,null,null,null,null,null,null,null,null,null,null,null,null,null,null,null,null,null,null,null,null,null,null,null,null,null,null,null,null,null,null,null,null,null,null,null,null,null,null,null,null,null,null,null,null,null,null,null,null,null,null,null,null,null,null,null,null,null,null,null,null,"",null,null,null,null,null,null,null,null,null,null,null,null,"",""]
[null,null,null,null,null,null,null,null,null,null,null,null,null,null,null,null,null,null,null,null,null,null,null,null,null,null,null,null,null,null,null,null,null,null,null,null,null,null,null,null,null,null,null,null,null,null,null,null,null,null,null,null,null,null,null,null,null,null,null,null,null,null,null,null,null,null,null,null,null,null,null,"",null,null,null,null,null,null,null,null,null,null,null,null,"",""]
[null,null,null,null,null,null,null,null,null,null,null,null,null,null,null,null,null,null,null,null,null,null,null,null,null,null,null,null,null,null,null,null,null,null,null,null,null,null,null,null,null,null,null,null,null,null,null,null,null,null,null,null,null,null,null,null,null,null,null,null,null,null,null,null,null,null,null,null,null,null,null,"",null,null,null,null,null,null,null,null,null,null,null,null,"",""]
[null,null,null,null,null,null,null,null,null,null,null,null,null,null,null,null,null,null,null,null,null,null,null,null,null,null,null,null,null,null,null,null,null,null,null,null,null,null,null,null,null,null,null,null,null,null,null,null,null,null,null,null,null,null,null,null,null,null,null,null,null,null,null,null,null,null,null,null,null,null,null,"",null,null,null,null,null,null,null,null,null,null,null,null,"",""]
[null,null,null,null,null,null,null,null,null,null,null,null,null,null,null,null,null,null,null,null,null,null,null,null,null,null,null,null,null,null,null,null,null,null,null,null,null,null,null,null,null,null,null,null,null,null,null,null,null,null,null,null,null,null,null,null,null,null,null,null,null,null,null,null,null,null,null,null,null,null,null,"",null,null,null,null,null,null,null,null,null,null,null,null,"",""]
[null,null,null,null,null,null,null,null,null,null,null,null,null,null,null,null,null,null,null,null,null,null,null,null,null,null,null,null,null,null,null,null,null,null,null,null,null,null,null,null,null,null,null,null,null,null,null,null,null,null,null,null,null,null,null,null,null,null,null,null,null,null,null,null,null,null,null,null,null,null,null,"",null,null,null,null,null,null,null,null,null,null,null,null,"",""]
[null,null,null,null,null,null,null,null,null,null,null,null,null,null,null,null,null,null,null,null,null,null,null,null,null,null,null,null,null,null,null,null,null,null,null,null,null,null,null,null,null,null,null,null,null,null,null,null,null,null,null,null,null,null,null,null,null,null,null,null,null,null,null,null,null,null,null,null,null,null,null,"",null,null,null,null,null,null,null,null,null,null,null,null,"",""]
[null,null,null,null,null,null,null,null,null,null,null,null,null,null,null,null,null,null,null,null,null,null,null,null,null,null,null,null,null,null,null,null,null,null,null,null,null,null,null,null,null,null,null,null,null,null,null,null,null,null,null,null,null,null,null,null,null,null,null,null,null,null,null,null,null,null,null,null,null,null,null,"",null,null,null,null,null,null,null,null,null,null,null,null,"",""]
[null,null,null,null,null,null,null,null,null,null,null,null,null,null,null,null,null,null,null,null,null,null,null,null,null,null,null,null,null,null,null,null,null,null,null,null,null,null,null,null,null,null,null,null,null,null,null,null,null,null,null,null,null,null,null,null,null,null,null,null,null,null,null,null,null,null,null,null,null,null,null,"",null,null,null,null,null,null,null,null,null,null,null,null,"",""]
[null,null,null,null,null,null,null,null,null,null,null,null,null,null,null,null,null,null,null,null,null,null,null,null,null,null,null,null,null,null,null,null,null,null,null,null,null,null,null,null,null,null,null,null,null,null,null,null,null,null,null,null,null,null,null,null,null,null,null,null,null,null,null,null,null,null,null,null,null,null,null,"",null,null,null,null,null,null,null,null,null,null,null,null,"",""]
[null,null,null,null,null,null,null,null,null,null,null,null,null,null,null,null,null,null,null,null,null,null,null,null,null,null,null,null,null,null,null,null,null,null,null,null,null,null,null,null,null,null,null,null,null,null,null,null,null,null,null,null,null,null,null,null,null,null,null,null,null,null,null,null,null,null,null,null,null,null,null,"",null,null,null,null,null,null,null,null,null,null,null,null,"",""]
[null,null,null,null,null,null,null,null,null,null,null,null,null,null,null,null,null,null,null,null,null,null,null,null,null,null,null,null,null,null,null,null,null,null,null,null,null,null,null,null,null,null,null,null,null,null,null,null,null,null,null,null,null,null,null,null,null,null,null,null,null,null,null,null,null,null,null,null,null,null,null,"",null,null,null,null,null,null,null,null,null,null,null,null,"",""]
[null,null,null,null,null,null,null,null,null,null,null,null,null,null,null,null,null,null,null,null,null,null,null,null,null,null,null,null,null,null,null,null,null,null,null,null,null,null,null,null,null,null,null,null,null,null,null,null,null,null,null,null,null,null,null,null,null,null,null,null,null,null,null,null,null,null,null,null,null,null,null,"",null,null,null,null,null,null,null,null,null,null,null,null,"",""]
[null,null,null,null,null,null,null,null,null,null,null,null,null,null,null,null,null,null,null,null,null,null,null,null,null,null,null,null,null,null,null,null,null,null,null,null,null,null,null,null,null,null,null,null,null,null,null,null,null,null,null,null,null,null,null,null,null,null,null,null,null,null,null,null,null,null,null,null,null,null,null,"",null,null,null,null,null,null,null,null,null,null,null,null,"",""]
[null,null,null,null,null,null,null,null,null,null,null,null,null,null,null,null,null,null,null,null,null,null,null,null,null,null,null,null,null,null,null,null,null,null,null,null,null,null,null,null,null,null,null,null,null,null,null,null,null,null,null,null,null,null,null,null,null,null,null,null,null,null,null,null,null,null,null,null,null,null,null,"",null,null,null,null,null,null,null,null,null,null,null,null,"",""]
[null,null,null,null,null,null,null,null,null,null,null,null,null,null,null,null,null,null,null,null,null,null,null,null,null,null,null,null,null,null,null,null,null,null,null,null,null,null,null,null,null,null,null,null,null,null,null,null,null,null,null,null,null,null,null,null,null,null,null,null,null,null,null,null,null,null,null,null,null,null,null,"",null,null,null,null,null,null,null,null,null,null,null,null,"",""]
[null,null,null,null,null,null,null,null,null,null,null,null,null,null,null,null,null,null,null,null,null,null,null,null,null,null,null,null,null,null,null,null,null,null,null,null,null,null,null,null,null,null,null,null,null,null,null,null,null,null,null,null,null,null,null,null,null,null,null,null,null,null,null,null,null,null,null,null,null,null,null,"",null,null,null,null,null,null,null,null,null,null,null,null,"",""]
[null,null,null,null,null,null,null,null,null,null,null,null,null,null,null,null,null,null,null,null,null,null,null,null,null,null,null,null,null,null,null,null,null,null,null,null,null,null,null,null,null,null,null,null,null,null,null,null,null,null,null,null,null,null,null,null,null,null,null,null,null,null,null,null,null,null,null,null,null,null,null,"",null,null,null,null,null,null,null,null,null,null,null,null,"",""]
[null,null,null,null,null,null,null,null,null,null,null,null,null,null,null,null,null,null,null,null,null,null,null,null,null,null,null,null,null,null,null,null,null,null,null,null,null,null,null,null,null,null,null,null,null,null,null,null,null,null,null,null,null,null,null,null,null,null,null,null,null,null,null,null,null,null,null,null,null,null,null,"",null,null,null,null,null,null,null,null,null,null,null,null,"",""]
[null,null,null,null,null,null,null,null,null,null,null,null,null,null,null,null,null,null,null,null,null,null,null,null,null,null,null,null,null,null,null,null,null,null,null,null,null,null,null,null,null,null,null,null,null,null,null,null,null,null,null,null,null,null,null,null,null,null,null,null,null,null,null,null,null,null,null,null,null,null,null,"",null,null,null,null,null,null,null,null,null,null,null,null,"",""]
[null,null,null,null,null,null,null,null,null,null,null,null,null,null,null,null,null,null,null,null,null,null,null,null,null,null,null,null,null,null,null,null,null,null,null,null,null,null,null,null,null,null,null,null,null,null,null,null,null,null,null,null,null,null,null,null,null,null,null,null,null,null,null,null,null,null,null,null,null,null,null,"",null,null,null,null,null,null,null,null,null,null,null,null,"",""]
[null,null,null,null,null,null,null,null,null,null,null,null,null,null,null,null,null,null,null,null,null,null,null,null,null,null,null,null,null,null,null,null,null,null,null,null,null,null,null,null,null,null,null,null,null,null,null,null,null,null,null,null,null,null,null,null,null,null,null,null,null,null,null,null,null,null,null,null,null,null,null,"",null,null,null,null,null,null,null,null,null,null,null,null,"",""]
[null,null,null,null,null,null,null,null,null,null,null,null,null,null,null,null,null,null,null,null,null,null,null,null,null,null,null,null,null,null,null,null,null,null,null,null,null,null,null,null,null,null,null,null,null,null,null,null,null,null,null,null,null,null,null,null,null,null,null,null,null,null,null,null,null,null,null,null,null,null,null,"",null,null,null,null,null,null,null,null,null,null,null,null,"",""]
[null,null,null,null,null,null,null,null,null,null,null,null,null,null,null,null,null,null,null,null,null,null,null,null,null,null,null,null,null,null,null,null,null,null,null,null,null,null,null,null,null,null,null,null,null,null,null,null,null,null,null,null,null,null,null,null,null,null,null,null,null,null,null,null,null,null,null,null,null,null,null,"",null,null,null,null,null,null,null,null,null,null,null,null,"",""]
[null,null,null,null,null,null,null,null,null,null,null,null,null,null,null,null,null,null,null,null,null,null,null,null,null,null,null,null,null,null,null,null,null,null,null,null,null,null,null,null,null,null,null,null,null,null,null,null,null,null,null,null,null,null,null,null,null,null,null,null,null,null,null,null,null,null,null,null,null,null,null,"",null,null,null,null,null,null,null,null,null,null,null,null,"",""]
[null,null,null,null,null,null,null,null,null,null,null,null,null,null,null,null,null,null,null,null,null,null,null,null,null,null,null,null,null,null,null,null,null,null,null,null,null,null,null,null,null,null,null,null,null,null,null,null,null,null,null,null,null,null,null,null,null,null,null,null,null,null,null,null,null,null,null,null,null,null,null,"",null,null,null,null,null,null,null,null,null,null,null,null,"",""]
[null,null,null,null,null,null,null,null,null,null,null,null,null,null,null,null,null,null,null,null,null,null,null,null,null,null,null,null,null,null,null,null,null,null,null,null,null,null,null,null,null,null,null,null,null,null,null,null,null,null,null,null,null,null,null,null,null,null,null,null,null,null,null,null,null,null,null,null,null,null,null,"",null,null,null,null,null,null,null,null,null,null,null,null,"",""]
[null,null,null,null,null,null,null,null,null,null,null,null,null,null,null,null,null,null,null,null,null,null,null,null,null,null,null,null,null,null,null,null,null,null,null,null,null,null,null,null,null,null,null,null,null,null,null,null,null,null,null,null,null,null,null,null,null,null,null,null,null,null,null,null,null,null,null,null,null,null,null,"",null,null,null,null,null,null,null,null,null,null,null,null,"",""]
[null,null,null,null,null,null,null,null,null,null,null,null,null,null,null,null,null,null,null,null,null,null,null,null,null,null,null,null,null,null,null,null,null,null,null,null,null,null,null,null,null,null,null,null,null,null,null,null,null,null,null,null,null,null,null,null,null,null,null,null,null,null,null,null,null,null,null,null,null,null,null,"",null,null,null,null,null,null,null,null,null,null,null,null,"",""]
[null,null,null,null,null,null,null,null,null,null,null,null,null,null,null,null,null,null,null,null,null,null,null,null,null,null,null,null,null,null,null,null,null,null,null,null,null,null,null,null,null,null,null,null,null,null,null,null,null,null,null,null,null,null,null,null,null,null,null,null,null,null,null,null,null,null,null,null,null,null,null,"",null,null,null,null,null,null,null,null,null,null,null,null,"",""]
[null,null,null,null,null,null,null,null,null,null,null,null,null,null,null,null,null,null,null,null,null,null,null,null,null,null,null,null,null,null,null,null,null,null,null,null,null,null,null,null,null,null,null,null,null,null,null,null,null,null,null,null,null,null,null,null,null,null,null,null,null,null,null,null,null,null,null,null,null,null,null,"",null,null,null,null,null,null,null,null,null,null,null,null,"",""]
[null,null,null,null,null,null,null,null,null,null,null,null,null,null,null,null,null,null,null,null,null,null,null,null,null,null,null,null,null,null,null,null,null,null,null,null,null,null,null,null,null,null,null,null,null,null,null,null,null,null,null,null,null,null,null,null,null,null,null,null,null,null,null,null,null,null,null,null,null,null,null,"",null,null,null,null,null,null,null,null,null,null,null,null,"",""]
[null,null,null,null,null,null,null,null,null,null,null,null,null,null,null,null,null,null,null,null,null,null,null,null,null,null,null,null,null,null,null,null,null,null,null,null,null,null,null,null,null,null,null,null,null,null,null,null,null,null,null,null,null,null,null,null,null,null,null,null,null,null,null,null,null,null,null,null,null,null,null,"",null,null,null,null,null,null,null,null,null,null,null,null,"",""]
[null,null,null,null,null,null,null,null,null,null,null,null,null,null,null,null,null,null,null,null,null,null,null,null,null,null,null,null,null,null,null,null,null,null,null,null,null,null,null,null,null,null,null,null,null,null,null,null,null,null,null,null,null,null,null,null,null,null,null,null,null,null,null,null,null,null,null,null,null,null,null,"",null,null,null,null,null,null,null,null,null,null,null,null,"",""]
[null,null,null,null,null,null,null,null,null,null,null,null,null,null,null,null,null,null,null,null,null,null,null,null,null,null,null,null,null,null,null,null,null,null,null,null,null,null,null,null,null,null,null,null,null,null,null,null,null,null,null,null,null,null,null,null,null,null,null,null,null,null,null,null,null,null,null,null,null,null,null,"",null,null,null,null,null,null,null,null,null,null,null,null,"",""]
[null,null,null,null,null,null,null,null,null,null,null,null,null,null,null,null,null,null,null,null,null,null,null,null,null,null,null,null,null,null,null,null,null,null,null,null,null,null,null,null,null,null,null,null,null,null,null,null,null,null,null,null,null,null,null,null,null,null,null,null,null,null,null,null,null,null,null,null,null,null,null,"",null,null,null,null,null,null,null,null,null,null,null,null,"",""]
[null,null,null,null,null,null,null,null,null,null,null,null,null,null,null,null,null,null,null,null,null,null,null,null,null,null,null,null,null,null,null,null,null,null,null,null,null,null,null,null,null,null,null,null,null,null,null,null,null,null,null,null,null,null,null,null,null,null,null,null,null,null,null,null,null,null,null,null,null,null,null,"",null,null,null,null,null,null,null,null,null,null,null,null,"",""]
[null,null,null,null,null,null,null,null,null,null,null,null,null,null,null,null,null,null,null,null,null,null,null,null,null,null,null,null,null,null,null,null,null,null,null,null,null,null,null,null,null,null,null,null,null,null,null,null,null,null,null,null,null,null,null,null,null,null,null,null,null,null,null,null,null,null,null,null,null,null,null,"",null,null,null,null,null,null,null,null,null,null,null,null,"",""]
[null,null,null,null,null,null,null,null,null,null,null,null,null,null,null,null,null,null,null,null,null,null,null,null,null,null,null,null,null,null,null,null,null,null,null,null,null,null,null,null,null,null,null,null,null,null,null,null,null,null,null,null,null,null,null,null,null,null,null,null,null,null,null,null,null,null,null,null,null,null,null,"",null,null,null,null,null,null,null,null,null,null,null,null,"",""]
[null,null,null,null,null,null,null,null,null,null,null,null,null,null,null,null,null,null,null,null,null,null,null,null,null,null,null,null,null,null,null,null,null,null,null,null,null,null,null,null,null,null,null,null,null,null,null,null,null,null,null,null,null,null,null,null,null,null,null,null,null,null,null,null,null,null,null,null,null,null,null,"",null,null,null,null,null,null,null,null,null,null,null,null,"",""]
[null,null,null,null,null,null,null,null,null,null,null,null,null,null,null,null,null,null,null,null,null,null,null,null,null,null,null,null,null,null,null,null,null,null,null,null,null,null,null,null,null,null,null,null,null,null,null,null,null,null,null,null,null,null,null,null,null,null,null,null,null,null,null,null,null,null,null,null,null,null,null,"",null,null,null,null,null,null,null,null,null,null,null,null,"",""]
[null,null,null,null,null,null,null,null,null,null,null,null,null,null,null,null,null,null,null,null,null,null,null,null,null,null,null,null,null,null,null,null,null,null,null,null,null,null,null,null,null,null,null,null,null,null,null,null,null,null,null,null,null,null,null,null,null,null,null,null,null,null,null,null,null,null,null,null,null,null,null,"",null,null,null,null,null,null,null,null,null,null,null,null,"",""]
[null,null,null,null,null,null,null,null,null,null,null,null,null,null,null,null,null,null,null,null,null,null,null,null,null,null,null,null,null,null,null,null,null,null,null,null,null,null,null,null,null,null,null,null,null,null,null,null,null,null,null,null,null,null,null,null,null,null,null,null,null,null,null,null,null,null,null,null,null,null,null,"",null,null,null,null,null,null,null,null,null,null,null,null,"",""]
[null,null,null,null,null,null,null,null,null,null,null,null,null,null,null,null,null,null,null,null,null,null,null,null,null,null,null,null,null,null,null,null,null,null,null,null,null,null,null,null,null,null,null,null,null,null,null,null,null,null,null,null,null,null,null,null,null,null,null,null,null,null,null,null,null,null,null,null,null,null,null,"",null,null,null,null,null,null,null,null,null,null,null,null,"",""]
[null,null,null,null,null,null,null,null,null,null,null,null,null,null,null,null,null,null,null,null,null,null,null,null,null,null,null,null,null,null,null,null,null,null,null,null,null,null,null,null,null,null,null,null,null,null,null,null,null,null,null,null,null,null,null,null,null,null,null,null,null,null,null,null,null,null,null,null,null,null,null,"",null,null,null,null,null,null,null,null,null,null,null,null,"",""]
[null,null,null,null,null,null,null,null,null,null,null,null,null,null,null,null,null,null,null,null,null,null,null,null,null,null,null,null,null,null,null,null,null,null,null,null,null,null,null,null,null,null,null,null,null,null,null,null,null,null,null,null,null,null,null,null,null,null,null,null,null,null,null,null,null,null,null,null,null,null,null,"",null,null,null,null,null,null,null,null,null,null,null,null,"",{"$f":"CG70","v":""}]
[null,null,null,null,null,null,null,null,null,null,null,null,null,null,null,null,null,null,null,null,null,null,null,null,null,null,null,null,null,null,null,null,null,null,null,null,null,null,null,null,null,null,null,null,null,null,null,null,null,null,null,null,null,null,null,null,null,null,null,null,null,null,null,null,null,null,null,null,null,null,null,{"$f":"IF(SUM(BP71:BS71)<>0,\"\",CONCATENATE(IF(BP71=\"SI\",CONCATENATE(\"Edad\",\" -> \",BQ71,\", \"),\"\"),IF(BR71=\"SI\",CONCATENATE(\"Nivel escolaridad\",\" -> \",BS71,\", \"),\"\")))","v":""},null,null,null,null,null,null,null,null,null,null,null,null,{"$f":"IF(AND(B71<>\"\",P71=\"Municipal\"),(45-SUM((COUNTIF(B71:Z71,\"\")),COUNTIF(BL71:CF71,\"No aplica\")))/45,IF(AND(B71<>\"\",P71=\"Departamental\"),(45-SUM((COUNTIF(B71:Z71,\"\")),COUNTIF(BL71:CF71,\"No aplica\")))/44,IF(AND(B71<>\"\",P71=\"Nacional\"),(45-SUM((COUNTIF(B71:Z71,\"\")),COUNTIF(BL71:CF71,\"No aplica\")))/43,\"\")))","v":""},""]
[null,null,null,null,null,null,null,null,null,null,null,null,null,null,null,null,null,null,null,null,null,null,null,null,null,null,null,null,null,null,null,null,null,null,null,null,null,null,null,null,null,null,null,null,null,null,null,null,null,null,null,null,null,null,null,null,null,null,null,null,null,null,null,null,null,null,null,null,null,null,null,"",null,null,null,null,null,null,null,null,null,null,null,null,"",""]
[null,null,null,null,null,null,null,null,null,null,null,null,null,null,null,null,null,null,null,null,null,null,null,null,null,null,null,null,null,null,null,null,null,null,null,null,null,null,null,null,null,null,null,null,null,null,null,null,null,null,null,null,null,null,null,null,null,null,null,null,null,null,null,null,null,null,null,null,null,null,null,"",null,null,null,null,null,null,null,null,null,null,null,null,"",""]
[null,null,null,null,null,null,null,null,null,null,null,null,null,null,null,null,null,null,null,null,null,null,null,null,null,null,null,null,null,null,null,null,null,null,null,null,null,null,null,null,null,null,null,null,null,null,null,null,null,null,null,null,null,null,null,null,null,null,null,null,null,null,null,null,null,null,null,null,null,null,null,"",null,null,null,null,null,null,null,null,null,null,null,null,"",""]
[null,null,null,null,null,null,null,null,null,null,null,null,null,null,null,null,null,null,null,null,null,null,null,null,null,null,null,null,null,null,null,null,null,null,null,null,null,null,null,null,null,null,null,null,null,null,null,null,null,null,null,null,null,null,null,null,null,null,null,null,null,null,null,null,null,null,null,null,null,null,null,"",null,null,null,null,null,null,null,null,null,null,null,null,"",""]
[null,null,null,null,null,null,null,null,null,null,null,null,null,null,null,null,null,null,null,null,null,null,null,null,null,null,null,null,null,null,null,null,null,null,null,null,null,null,null,null,null,null,null,null,null,null,null,null,null,null,null,null,null,null,null,null,null,null,null,null,null,null,null,null,null,null,null,null,null,null,null,"",null,null,null,null,null,null,null,null,null,null,null,null,"",""]
[null,null,null,null,null,null,null,null,null,null,null,null,null,null,null,null,null,null,null,null,null,null,null,null,null,null,null,null,null,null,null,null,null,null,null,null,null,null,null,null,null,null,null,null,null,null,null,null,null,null,null,null,null,null,null,null,null,null,null,null,null,null,null,null,null,null,null,null,null,null,null,"",null,null,null,null,null,null,null,null,null,null,null,null,"",""]
[null,null,null,null,null,null,null,null,null,null,null,null,null,null,null,null,null,null,null,null,null,null,null,null,null,null,null,null,null,null,null,null,null,null,null,null,null,null,null,null,null,null,null,null,null,null,null,null,null,null,null,null,null,null,null,null,null,null,null,null,null,null,null,null,null,null,null,null,null,null,null,"",null,null,null,null,null,null,null,null,null,null,null,null,"",""]
[null,null,null,null,null,null,null,null,null,null,null,null,null,null,null,null,null,null,null,null,null,null,null,null,null,null,null,null,null,null,null,null,null,null,null,null,null,null,null,null,null,null,null,null,null,null,null,null,null,null,null,null,null,null,null,null,null,null,null,null,null,null,null,null,null,null,null,null,null,null,null,"",null,null,null,null,null,null,null,null,null,null,null,null,"",""]
[null,null,null,null,null,null,null,null,null,null,null,null,null,null,null,null,null,null,null,null,null,null,null,null,null,null,null,null,null,null,null,null,null,null,null,null,null,null,null,null,null,null,null,null,null,null,null,null,null,null,null,null,null,null,null,null,null,null,null,null,null,null,null,null,null,null,null,null,null,null,null,"",null,null,null,null,null,null,null,null,null,null,null,null,"",""]
[null,null,null,null,null,null,null,null,null,null,null,null,null,null,null,null,null,null,null,null,null,null,null,null,null,null,null,null,null,null,null,null,null,null,null,null,null,null,null,null,null,null,null,null,null,null,null,null,null,null,null,null,null,null,null,null,null,null,null,null,null,null,null,null,null,null,null,null,null,null,null,"",null,null,null,null,null,null,null,null,null,null,null,null,"",""]
[null,null,null,null,null,null,null,null,null,null,null,null,null,null,null,null,null,null,null,null,null,null,null,null,null,null,null,null,null,null,null,null,null,null,null,null,null,null,null,null,null,null,null,null,null,null,null,null,null,null,null,null,null,null,null,null,null,null,null,null,null,null,null,null,null,null,null,null,null,null,null,"",null,null,null,null,null,null,null,null,null,null,null,null,"",""]
[null,null,null,null,null,null,null,null,null,null,null,null,null,null,null,null,null,null,null,null,null,null,null,null,null,null,null,null,null,null,null,null,null,null,null,null,null,null,null,null,null,null,null,null,null,null,null,null,null,null,null,null,null,null,null,null,null,null,null,null,null,null,null,null,null,null,null,null,null,null,null,"",null,null,null,null,null,null,null,null,null,null,null,null,"",""]
[null,null,null,null,null,null,null,null,null,null,null,null,null,null,null,null,null,null,null,null,null,null,null,null,null,null,null,null,null,null,null,null,null,null,null,null,null,null,null,null,null,null,null,null,null,null,null,null,null,null,null,null,null,null,null,null,null,null,null,null,null,null,null,null,null,null,null,null,null,null,null,"",null,null,null,null,null,null,null,null,null,null,null,null,"",""]
[null,null,null,null,null,null,null,null,null,null,null,null,null,null,null,null,null,null,null,null,null,null,null,null,null,null,null,null,null,null,null,null,null,null,null,null,null,null,null,null,null,null,null,null,null,null,null,null,null,null,null,null,null,null,null,null,null,null,null,null,null,null,null,null,null,null,null,null,null,null,null,"",null,null,null,null,null,null,null,null,null,null,null,null,"",""]
[null,null,null,null,null,null,null,null,null,null,null,null,null,null,null,null,null,null,null,null,null,null,null,null,null,null,null,null,null,null,null,null,null,null,null,null,null,null,null,null,null,null,null,null,null,null,null,null,null,null,null,null,null,null,null,null,null,null,null,null,null,null,null,null,null,null,null,null,null,null,null,"",null,null,null,null,null,null,null,null,null,null,null,null,"",""]
[null,null,null,null,null,null,null,null,null,null,null,null,null,null,null,null,null,null,null,null,null,null,null,null,null,null,null,null,null,null,null,null,null,null,null,null,null,null,null,null,null,null,null,null,null,null,null,null,null,null,null,null,null,null,null,null,null,null,null,null,null,null,null,null,null,null,null,null,null,null,null,"",null,null,null,null,null,null,null,null,null,null,null,null,"",""]
[null,null,null,null,null,null,null,null,null,null,null,null,null,null,null,null,null,null,null,null,null,null,null,null,null,null,null,null,null,null,null,null,null,null,null,null,null,null,null,null,null,null,null,null,null,null,null,null,null,null,null,null,null,null,null,null,null,null,null,null,null,null,null,null,null,null,null,null,null,null,null,"",null,null,null,null,null,null,null,null,null,null,null,null,"",""]
[null,null,null,null,null,null,null,null,null,null,null,null,null,null,null,null,null,null,null,null,null,null,null,null,null,null,null,null,null,null,null,null,null,null,null,null,null,null,null,null,null,null,null,null,null,null,null,null,null,null,null,null,null,null,null,null,null,null,null,null,null,null,null,null,null,null,null,null,null,null,null,"",null,null,null,null,null,null,null,null,null,null,null,null,"",""]
[null,null,null,null,null,null,null,null,null,null,null,null,null,null,null,null,null,null,null,null,null,null,null,null,null,null,null,null,null,null,null,null,null,null,null,null,null,null,null,null,null,null,null,null,null,null,null,null,null,null,null,null,null,null,null,null,null,null,null,null,null,null,null,null,null,null,null,null,null,null,null,"",null,null,null,null,null,null,null,null,null,null,null,null,"",""]
[null,null,null,null,null,null,null,null,null,null,null,null,null,null,null,null,null,null,null,null,null,null,null,null,null,null,null,null,null,null,null,null,null,null,null,null,null,null,null,null,null,null,null,null,null,null,null,null,null,null,null,null,null,null,null,null,null,null,null,null,null,null,null,null,null,null,null,null,null,null,null,"",null,null,null,null,null,null,null,null,null,null,null,null,"",""]
[null,null,null,null,null,null,null,null,null,null,null,null,null,null,null,null,null,null,null,null,null,null,null,null,null,null,null,null,null,null,null,null,null,null,null,null,null,null,null,null,null,null,null,null,null,null,null,null,null,null,null,null,null,null,null,null,null,null,null,null,null,null,null,null,null,null,null,null,null,null,null,"",null,null,null,null,null,null,null,null,null,null,null,null,"",""]
[null,null,null,null,null,null,null,null,null,null,null,null,null,null,null,null,null,null,null,null,null,null,null,null,null,null,null,null,null,null,null,null,null,null,null,null,null,null,null,null,null,null,null,null,null,null,null,null,null,null,null,null,null,null,null,null,null,null,null,null,null,null,null,null,null,null,null,null,null,null,null,"",null,null,null,null,null,null,null,null,null,null,null,null,"",""]
[null,null,null,null,null,null,null,null,null,null,null,null,null,null,null,null,null,null,null,null,null,null,null,null,null,null,null,null,null,null,null,null,null,null,null,null,null,null,null,null,null,null,null,null,null,null,null,null,null,null,null,null,null,null,null,null,null,null,null,null,null,null,null,null,null,null,null,null,null,null,null,"",null,null,null,null,null,null,null,null,null,null,null,null,"",""]
[null,null,null,null,null,null,null,null,null,null,null,null,null,null,null,null,null,null,null,null,null,null,null,null,null,null,null,null,null,null,null,null,null,null,null,null,null,null,null,null,null,null,null,null,null,null,null,null,null,null,null,null,null,null,null,null,null,null,null,null,null,null,null,null,null,null,null,null,null,null,null,"",null,null,null,null,null,null,null,null,null,null,null,null,"",""]
[null,null,null,null,null,null,null,null,null,null,null,null,null,null,null,null,null,null,null,null,null,null,null,null,null,null,null,null,null,null,null,null,null,null,null,null,null,null,null,null,null,null,null,null,null,null,null,null,null,null,null,null,null,null,null,null,null,null,null,null,null,null,null,null,null,null,null,null,null,null,null,"",null,null,null,null,null,null,null,null,null,null,null,null,"",""]
[null,null,null,null,null,null,null,null,null,null,null,null,null,null,null,null,null,null,null,null,null,null,null,null,null,null,null,null,null,null,null,null,null,null,null,null,null,null,null,null,null,null,null,null,null,null,null,null,null,null,null,null,null,null,null,null,null,null,null,null,null,null,null,null,null,null,null,null,null,null,null,"",null,null,null,null,null,null,null,null,null,null,null,null,"",""]
[null,null,null,null,null,null,null,null,null,null,null,null,null,null,null,null,null,null,null,null,null,null,null,null,null,null,null,null,null,null,null,null,null,null,null,null,null,null,null,null,null,null,null,null,null,null,null,null,null,null,null,null,null,null,null,null,null,null,null,null,null,null,null,null,null,null,null,null,null,null,null,"",null,null,null,null,null,null,null,null,null,null,null,null,"",""]
[null,null,null,null,null,null,null,null,null,null,null,null,null,null,null,null,null,null,null,null,null,null,null,null,null,null,null,null,null,null,null,null,null,null,null,null,null,null,null,null,null,null,null,null,null,null,null,null,null,null,null,null,null,null,null,null,null,null,null,null,null,null,null,null,null,null,null,null,null,null,null,"",null,null,null,null,null,null,null,null,null,null,null,null,"",""]
[null,null,null,null,null,null,null,null,null,null,null,null,null,null,null,null,null,null,null,null,null,null,null,null,null,null,null,null,null,null,null,null,null,null,null,null,null,null,null,null,null,null,null,null,null,null,null,null,null,null,null,null,null,null,null,null,null,null,null,null,null,null,null,null,null,null,null,null,null,null,null,"",null,null,null,null,null,null,null,null,null,null,null,null,"",""]
[null,null,null,null,null,null,null,null,null,null,null,null,null,null,null,null,null,null,null,null,null,null,null,null,null,null,null,null,null,null,null,null,null,null,null,null,null,null,null,null,null,null,null,null,null,null,null,null,null,null,null,null,null,null,null,null,null,null,null,null,null,null,null,null,null,null,null,null,null,null,null,"",null,null,null,null,null,null,null,null,null,null,null,null,"",""]
[null,null,null,null,null,null,null,null,null,null,null,null,null,null,null,null,null,null,null,null,null,null,null,null,null,null,null,null,null,null,null,null,null,null,null,null,null,null,null,null,null,null,null,null,null,null,null,null,null,null,null,null,null,null,null,null,null,null,null,null,null,null,null,null,null,null,null,null,null,null,null,"",null,null,null,null,null,null,null,null,null,null,null,null,"",""]
[null,null,null,null,null,null,null,null,null,null,null,null,null,null,null,null,null,null,null,null,null,null,null,null,null,null,null,null,null,null,null,null,null,null,null,null,null,null,null,null,null,null,null,null,null,null,null,null,null,null,null,null,null,null,null,null,null,null,null,null,null,null,null,null,null,null,null,null,null,null,null,"",null,null,null,null,null,null,null,null,null,null,null,null,"",""]
[null,null,null,null,null,null,null,null,null,null,null,null,null,null,null,null,null,null,null,null,null,null,null,null,null,null,null,null,null,null,null,null,null,null,null,null,null,null,null,null,null,null,null,null,null,null,null,null,null,null,null,null,null,null,null,null,null,null,null,null,null,null,null,null,null,null,null,null,null,null,null,"",null,null,null,null,null,null,null,null,null,null,null,null,"",""]
[null,null,null,null,null,null,null,null,null,null,null,null,null,null,null,null,null,null,null,null,null,null,null,null,null,null,null,null,null,null,null,null,null,null,null,null,null,null,null,null,null,null,null,null,null,null,null,null,null,null,null,null,null,null,null,null,null,null,null,null,null,null,null,null,null,null,null,null,null,null,null,"",null,null,null,null,null,null,null,null,null,null,null,null,"",""]
[null,null,null,null,null,null,null,null,null,null,null,null,null,null,null,null,null,null,null,null,null,null,null,null,null,null,null,null,null,null,null,null,null,null,null,null,null,null,null,null,null,null,null,null,null,null,null,null,null,null,null,null,null,null,null,null,null,null,null,null,null,null,null,null,null,null,null,null,null,null,null,"",null,null,null,null,null,null,null,null,null,null,null,null,"",""]
[null,null,null,null,null,null,null,null,null,null,null,null,null,null,null,null,null,null,null,null,null,null,null,null,null,null,null,null,null,null,null,null,null,null,null,null,null,null,null,null,null,null,null,null,null,null,null,null,null,null,null,null,null,null,null,null,null,null,null,null,null,null,null,null,null,null,null,null,null,null,null,"",null,null,null,null,null,null,null,null,null,null,null,null,"",""]
[null,null,null,null,null,null,null,null,null,null,null,null,null,null,null,null,null,null,null,null,null,null,null,null,null,null,null,null,null,null,null,null,null,null,null,null,null,null,null,null,null,null,null,null,null,null,null,null,null,null,null,null,null,null,null,null,null,null,null,null,null,null,null,null,null,null,null,null,null,null,null,"",null,null,null,null,null,null,null,null,null,null,null,null,"",""]
[null,null,null,null,null,null,null,null,null,null,null,null,null,null,null,null,null,null,null,null,null,null,null,null,null,null,null,null,null,null,null,null,null,null,null,null,null,null,null,null,null,null,null,null,null,null,null,null,null,null,null,null,null,null,null,null,null,null,null,null,null,null,null,null,null,null,null,null,null,null,null,"",null,null,null,null,null,null,null,null,null,null,null,null,"",""]
[null,null,null,null,null,null,null,null,null,null,null,null,null,null,null,null,null,null,null,null,null,null,null,null,null,null,null,null,null,null,null,null,null,null,null,null,null,null,null,null,null,null,null,null,null,null,null,null,null,null,null,null,null,null,null,null,null,null,null,null,null,null,null,null,null,null,null,null,null,null,null,"",null,null,null,null,null,null,null,null,null,null,null,null,"",""]
[null,null,null,null,null,null,null,null,null,null,null,null,null,null,null,null,null,null,null,null,null,null,null,null,null,null,null,null,null,null,null,null,null,null,null,null,null,null,null,null,null,null,null,null,null,null,null,null,null,null,null,null,null,null,null,null,null,null,null,null,null,null,null,null,null,null,null,null,null,null,null,"",null,null,null,null,null,null,null,null,null,null,null,null,"",""]
[null,null,null,null,null,null,null,null,null,null,null,null,null,null,null,null,null,null,null,null,null,null,null,null,null,null,null,null,null,null,null,null,null,null,null,null,null,null,null,null,null,null,null,null,null,null,null,null,null,null,null,null,null,null,null,null,null,null,null,null,null,null,null,null,null,null,null,null,null,null,null,"",null,null,null,null,null,null,null,null,null,null,null,null,"",""]
[null,null,null,null,null,null,null,null,null,null,null,null,null,null,null,null,null,null,null,null,null,null,null,null,null,null,null,null,null,null,null,null,null,null,null,null,null,null,null,null,null,null,null,null,null,null,null,null,null,null,null,null,null,null,null,null,null,null,null,null,null,null,null,null,null,null,null,null,null,null,null,"",null,null,null,null,null,null,null,null,null,null,null,null,"",""]
[null,null,null,null,null,null,null,null,null,null,null,null,null,null,null,null,null,null,null,null,null,null,null,null,null,null,null,null,null,null,null,null,null,null,null,null,null,null,null,null,null,null,null,null,null,null,null,null,null,null,null,null,null,null,null,null,null,null,null,null,null,null,null,null,null,null,null,null,null,null,null,"",null,null,null,null,null,null,null,null,null,null,null,null,"",""]
[null,null,null,null,null,null,null,null,null,null,null,null,null,null,null,null,null,null,null,null,null,null,null,null,null,null,null,null,null,null,null,null,null,null,null,null,null,null,null,null,null,null,null,null,null,null,null,null,null,null,null,null,null,null,null,null,null,null,null,null,null,null,null,null,null,null,null,null,null,null,null,"",null,null,null,null,null,null,null,null,null,null,null,null,"",""]
[null,null,null,null,null,null,null,null,null,null,null,null,null,null,null,null,null,null,null,null,null,null,null,null,null,null,null,null,null,null,null,null,null,null,null,null,null,null,null,null,null,null,null,null,null,null,null,null,null,null,null,null,null,null,null,null,null,null,null,null,null,null,null,null,null,null,null,null,null,null,null,"",null,null,null,null,null,null,null,null,null,null,null,null,"",""]
[null,null,null,null,null,null,null,null,null,null,null,null,null,null,null,null,null,null,null,null,null,null,null,null,null,null,null,null,null,null,null,null,null,null,null,null,null,null,null,null,null,null,null,null,null,null,null,null,null,null,null,null,null,null,null,null,null,null,null,null,null,null,null,null,null,null,null,null,null,null,null,"",null,null,null,null,null,null,null,null,null,null,null,null,"",""]
[null,null,null,null,null,null,null,null,null,null,null,null,null,null,null,null,null,null,null,null,null,null,null,null,null,null,null,null,null,null,null,null,null,null,null,null,null,null,null,null,null,null,null,null,null,null,null,null,null,null,null,null,null,null,null,null,null,null,null,null,null,null,null,null,null,null,null,null,null,null,null,"",null,null,null,null,null,null,null,null,null,null,null,null,"",""]
[null,null,null,null,null,null,null,null,null,null,null,null,null,null,null,null,null,null,null,null,null,null,null,null,null,null,null,null,null,null,null,null,null,null,null,null,null,null,null,null,null,null,null,null,null,null,null,null,null,null,null,null,null,null,null,null,null,null,null,null,null,null,null,null,null,null,null,null,null,null,null,"",null,null,null,null,null,null,null,null,null,null,null,null,"",""]
[null,null,null,null,null,null,null,null,null,null,null,null,null,null,null,null,null,null,null,null,null,null,null,null,null,null,null,null,null,null,null,null,null,null,null,null,null,null,null,null,null,null,null,null,null,null,null,null,null,null,null,null,null,null,null,null,null,null,null,null,null,null,null,null,null,null,null,null,null,null,null,"",null,null,null,null,null,null,null,null,null,null,null,null,"",""]
[null,null,null,null,null,null,null,null,null,null,null,null,null,null,null,null,null,null,null,null,null,null,null,null,null,null,null,null,null,null,null,null,null,null,null,null,null,null,null,null,null,null,null,null,null,null,null,null,null,null,null,null,null,null,null,null,null,null,null,null,null,null,null,null,null,null,null,null,null,null,null,"",null,null,null,null,null,null,null,null,null,null,null,null,"",""]
[null,null,null,null,null,null,null,null,null,null,null,null,null,null,null,null,null,null,null,null,null,null,null,null,null,null,null,null,null,null,null,null,null,null,null,null,null,null,null,null,null,null,null,null,null,null,null,null,null,null,null,null,null,null,null,null,null,null,null,null,null,null,null,null,null,null,null,null,null,null,null,"",null,null,null,null,null,null,null,null,null,null,null,null,"",""]
[null,null,null,null,null,null,null,null,null,null,null,null,null,null,null,null,null,null,null,null,null,null,null,null,null,null,null,null,null,null,null,null,null,null,null,null,null,null,null,null,null,null,null,null,null,null,null,null,null,null,null,null,null,null,null,null,null,null,null,null,null,null,null,null,null,null,null,null,null,null,null,"",null,null,null,null,null,null,null,null,null,null,null,null,"",""]
[null,null,null,null,null,null,null,null,null,null,null,null,null,null,null,null,null,null,null,null,null,null,null,null,null,null,null,null,null,null,null,null,null,null,null,null,null,null,null,null,null,null,null,null,null,null,null,null,null,null,null,null,null,null,null,null,null,null,null,null,null,null,null,null,null,null,null,null,null,null,null,"",null,null,null,null,null,null,null,null,null,null,null,null,"",""]
[null,null,null,null,null,null,null,null,null,null,null,null,null,null,null,null,null,null,null,null,null,null,null,null,null,null,null,null,null,null,null,null,null,null,null,null,null,null,null,null,null,null,null,null,null,null,null,null,null,null,null,null,null,null,null,null,null,null,null,null,null,null,null,null,null,null,null,null,null,null,null,"",null,null,null,null,null,null,null,null,null,null,null,null,"",""]
[null,null,null,null,null,null,null,null,null,null,null,null,null,null,null,null,null,null,null,null,null,null,null,null,null,null,null,null,null,null,null,null,null,null,null,null,null,null,null,null,null,null,null,null,null,null,null,null,null,null,null,null,null,null,null,null,null,null,null,null,null,null,null,null,null,null,null,null,null,null,null,"",null,null,null,null,null,null,null,null,null,null,null,null,"",""]
[null,null,null,null,null,null,null,null,null,null,null,null,null,null,null,null,null,null,null,null,null,null,null,null,null,null,null,null,null,null,null,null,null,null,null,null,null,null,null,null,null,null,null,null,null,null,null,null,null,null,null,null,null,null,null,null,null,null,null,null,null,null,null,null,null,null,null,null,null,null,null,"",null,null,null,null,null,null,null,null,null,null,null,null,"",""]
[null,null,null,null,null,null,null,null,null,null,null,null,null,null,null,null,null,null,null,null,null,null,null,null,null,null,null,null,null,null,null,null,null,null,null,null,null,null,null,null,null,null,null,null,null,null,null,null,null,null,null,null,null,null,null,null,null,null,null,null,null,null,null,null,null,null,null,null,null,null,null,"",null,null,null,null,null,null,null,null,null,null,null,null,"",""]
[null,null,null,null,null,null,null,null,null,null,null,null,null,null,null,null,null,null,null,null,null,null,null,null,null,null,null,null,null,null,null,null,null,null,null,null,null,null,null,null,null,null,null,null,null,null,null,null,null,null,null,null,null,null,null,null,null,null,null,null,null,null,null,null,null,null,null,null,null,null,null,"",null,null,null,null,null,null,null,null,null,null,null,null,"",""]
[null,null,null,null,null,null,null,null,null,null,null,null,null,null,null,null,null,null,null,null,null,null,null,null,null,null,null,null,null,null,null,null,null,null,null,null,null,null,null,null,null,null,null,null,null,null,null,null,null,null,null,null,null,null,null,null,null,null,null,null,null,null,null,null,null,null,null,null,null,null,null,"",null,null,null,null,null,null,null,null,null,null,null,null,"",""]
[null,null,null,null,null,null,null,null,null,null,null,null,null,null,null,null,null,null,null,null,null,null,null,null,null,null,null,null,null,null,null,null,null,null,null,null,null,null,null,null,null,null,null,null,null,null,null,null,null,null,null,null,null,null,null,null,null,null,null,null,null,null,null,null,null,null,null,null,null,null,null,"",null,null,null,null,null,null,null,null,null,null,null,null,"",""]
[null,null,null,null,null,null,null,null,null,null,null,null,null,null,null,null,null,null,null,null,null,null,null,null,null,null,null,null,null,null,null,null,null,null,null,null,null,null,null,null,null,null,null,null,null,null,null,null,null,null,null,null,null,null,null,null,null,null,null,null,null,null,null,null,null,null,null,null,null,null,null,"",null,null,null,null,null,null,null,null,null,null,null,null,"",""]
[null,null,null,null,null,null,null,null,null,null,null,null,null,null,null,null,null,null,null,null,null,null,null,null,null,null,null,null,null,null,null,null,null,null,null,null,null,null,null,null,null,null,null,null,null,null,null,null,null,null,null,null,null,null,null,null,null,null,null,null,null,null,null,null,null,null,null,null,null,null,null,"",null,null,null,null,null,null,null,null,null,null,null,null,"",""]
[null,null,null,null,null,null,null,null,null,null,null,null,null,null,null,null,null,null,null,null,null,null,null,null,null,null,null,null,null,null,null,null,null,null,null,null,null,null,null,null,null,null,null,null,null,null,null,null,null,null,null,null,null,null,null,null,null,null,null,null,null,null,null,null,null,null,null,null,null,null,null,"",null,null,null,null,null,null,null,null,null,null,null,null,"",{"$f":"CG134","v":""}]
[null,null,null,null,null,null,null,null,null,null,null,null,null,null,null,null,null,null,null,null,null,null,null,null,null,null,null,null,null,null,null,null,null,null,null,null,null,null,null,null,null,null,null,null,null,null,null,null,null,null,null,null,null,null,null,null,null,null,null,null,null,null,null,null,null,null,null,null,null,null,null,{"$f":"IF(SUM(BP135:BS135)<>0,\"\",CONCATENATE(IF(BP135=\"SI\",CONCATENATE(\"Edad\",\" -> \",BQ135,\", \"),\"\"),IF(BR135=\"SI\",CONCATENATE(\"Nivel escolaridad\",\" -> \",BS135,\", \"),\"\")))","v":""},null,null,null,null,null,null,null,null,null,null,null,null,{"$f":"IF(AND(B135<>\"\",P135=\"Municipal\"),(45-SUM((COUNTIF(B135:Z135,\"\")),COUNTIF(BL135:CF135,\"No aplica\")))/45,IF(AND(B135<>\"\",P135=\"Departamental\"),(45-SUM((COUNTIF(B135:Z135,\"\")),COUNTIF(BL135:CF135,\"No aplica\")))/44,IF(AND(B135<>\"\",P135=\"Nacional\"),(45-SUM((COUNTIF(B135:Z135,\"\")),COUNTIF(BL135:CF135,\"No aplica\")))/43,\"\")))","v":""},""]
[null,null,null,null,null,null,null,null,null,null,null,null,null,null,null,null,null,null,null,null,null,null,null,null,null,null,null,null,null,null,null,null,null,null,null,null,null,null,null,null,null,null,null,null,null,null,null,null,null,null,null,null,null,null,null,null,null,null,null,null,null,null,null,null,null,null,null,null,null,null,null,"",null,null,null,null,null,null,null,null,null,null,null,null,"",""]
[null,null,null,null,null,null,null,null,null,null,null,null,null,null,null,null,null,null,null,null,null,null,null,null,null,null,null,null,null,null,null,null,null,null,null,null,null,null,null,null,null,null,null,null,null,null,null,null,null,null,null,null,null,null,null,null,null,null,null,null,null,null,null,null,null,null,null,null,null,null,null,"",null,null,null,null,null,null,null,null,null,null,null,null,"",""]
[null,null,null,null,null,null,null,null,null,null,null,null,null,null,null,null,null,null,null,null,null,null,null,null,null,null,null,null,null,null,null,null,null,null,null,null,null,null,null,null,null,null,null,null,null,null,null,null,null,null,null,null,null,null,null,null,null,null,null,null,null,null,null,null,null,null,null,null,null,null,null,"",null,null,null,null,null,null,null,null,null,null,null,null,"",""]
[null,null,null,null,null,null,null,null,null,null,null,null,null,null,null,null,null,null,null,null,null,null,null,null,null,null,null,null,null,null,null,null,null,null,null,null,null,null,null,null,null,null,null,null,null,null,null,null,null,null,null,null,null,null,null,null,null,null,null,null,null,null,null,null,null,null,null,null,null,null,null,"",null,null,null,null,null,null,null,null,null,null,null,null,"",""]
[null,null,null,null,null,null,null,null,null,null,null,null,null,null,null,null,null,null,null,null,null,null,null,null,null,null,null,null,null,null,null,null,null,null,null,null,null,null,null,null,null,null,null,null,null,null,null,null,null,null,null,null,null,null,null,null,null,null,null,null,null,null,null,null,null,null,null,null,null,null,null,"",null,null,null,null,null,null,null,null,null,null,null,null,"",""]
[null,null,null,null,null,null,null,null,null,null,null,null,null,null,null,null,null,null,null,null,null,null,null,null,null,null,null,null,null,null,null,null,null,null,null,null,null,null,null,null,null,null,null,null,null,null,null,null,null,null,null,null,null,null,null,null,null,null,null,null,null,null,null,null,null,null,null,null,null,null,null,"",null,null,null,null,null,null,null,null,null,null,null,null,"",""]
[null,null,null,null,null,null,null,null,null,null,null,null,null,null,null,null,null,null,null,null,null,null,null,null,null,null,null,null,null,null,null,null,null,null,null,null,null,null,null,null,null,null,null,null,null,null,null,null,null,null,null,null,null,null,null,null,null,null,null,null,null,null,null,null,null,null,null,null,null,null,null,"",null,null,null,null,null,null,null,null,null,null,null,null,"",""]
[null,null,null,null,null,null,null,null,null,null,null,null,null,null,null,null,null,null,null,null,null,null,null,null,null,null,null,null,null,null,null,null,null,null,null,null,null,null,null,null,null,null,null,null,null,null,null,null,null,null,null,null,null,null,null,null,null,null,null,null,null,null,null,null,null,null,null,null,null,null,null,"",null,null,null,null,null,null,null,null,null,null,null,null,"",""]
[null,null,null,null,null,null,null,null,null,null,null,null,null,null,null,null,null,null,null,null,null,null,null,null,null,null,null,null,null,null,null,null,null,null,null,null,null,null,null,null,null,null,null,null,null,null,null,null,null,null,null,null,null,null,null,null,null,null,null,null,null,null,null,null,null,null,null,null,null,null,null,"",null,null,null,null,null,null,null,null,null,null,null,null,"",""]
[null,null,null,null,null,null,null,null,null,null,null,null,null,null,null,null,null,null,null,null,null,null,null,null,null,null,null,null,null,null,null,null,null,null,null,null,null,null,null,null,null,null,null,null,null,null,null,null,null,null,null,null,null,null,null,null,null,null,null,null,null,null,null,null,null,null,null,null,null,null,null,"",null,null,null,null,null,null,null,null,null,null,null,null,"",""]
[null,null,null,null,null,null,null,null,null,null,null,null,null,null,null,null,null,null,null,null,null,null,null,null,null,null,null,null,null,null,null,null,null,null,null,null,null,null,null,null,null,null,null,null,null,null,null,null,null,null,null,null,null,null,null,null,null,null,null,null,null,null,null,null,null,null,null,null,null,null,null,"",null,null,null,null,null,null,null,null,null,null,null,null,"",""]
[null,null,null,null,null,null,null,null,null,null,null,null,null,null,null,null,null,null,null,null,null,null,null,null,null,null,null,null,null,null,null,null,null,null,null,null,null,null,null,null,null,null,null,null,null,null,null,null,null,null,null,null,null,null,null,null,null,null,null,null,null,null,null,null,null,null,null,null,null,null,null,"",null,null,null,null,null,null,null,null,null,null,null,null,"",""]
[null,null,null,null,null,null,null,null,null,null,null,null,null,null,null,null,null,null,null,null,null,null,null,null,null,null,null,null,null,null,null,null,null,null,null,null,null,null,null,null,null,null,null,null,null,null,null,null,null,null,null,null,null,null,null,null,null,null,null,null,null,null,null,null,null,null,null,null,null,null,null,"",null,null,null,null,null,null,null,null,null,null,null,null,"",""]
[null,null,null,null,null,null,null,null,null,null,null,null,null,null,null,null,null,null,null,null,null,null,null,null,null,null,null,null,null,null,null,null,null,null,null,null,null,null,null,null,null,null,null,null,null,null,null,null,null,null,null,null,null,null,null,null,null,null,null,null,null,null,null,null,null,null,null,null,null,null,null,"",null,null,null,null,null,null,null,null,null,null,null,null,"",""]
[null,null,null,null,null,null,null,null,null,null,null,null,null,null,null,null,null,null,null,null,null,null,null,null,null,null,null,null,null,null,null,null,null,null,null,null,null,null,null,null,null,null,null,null,null,null,null,null,null,null,null,null,null,null,null,null,null,null,null,null,null,null,null,null,null,null,null,null,null,null,null,"",null,null,null,null,null,null,null,null,null,null,null,null,"",""]
[null,null,null,null,null,null,null,null,null,null,null,null,null,null,null,null,null,null,null,null,null,null,null,null,null,null,null,null,null,null,null,null,null,null,null,null,null,null,null,null,null,null,null,null,null,null,null,null,null,null,null,null,null,null,null,null,null,null,null,null,null,null,null,null,null,null,null,null,null,null,null,"",null,null,null,null,null,null,null,null,null,null,null,null,"",""]
[null,null,null,null,null,null,null,null,null,null,null,null,null,null,null,null,null,null,null,null,null,null,null,null,null,null,null,null,null,null,null,null,null,null,null,null,null,null,null,null,null,null,null,null,null,null,null,null,null,null,null,null,null,null,null,null,null,null,null,null,null,null,null,null,null,null,null,null,null,null,null,"",null,null,null,null,null,null,null,null,null,null,null,null,"",""]
[null,null,null,null,null,null,null,null,null,null,null,null,null,null,null,null,null,null,null,null,null,null,null,null,null,null,null,null,null,null,null,null,null,null,null,null,null,null,null,null,null,null,null,null,null,null,null,null,null,null,null,null,null,null,null,null,null,null,null,null,null,null,null,null,null,null,null,null,null,null,null,"",null,null,null,null,null,null,null,null,null,null,null,null,"",""]
[null,null,null,null,null,null,null,null,null,null,null,null,null,null,null,null,null,null,null,null,null,null,null,null,null,null,null,null,null,null,null,null,null,null,null,null,null,null,null,null,null,null,null,null,null,null,null,null,null,null,null,null,null,null,null,null,null,null,null,null,null,null,null,null,null,null,null,null,null,null,null,"",null,null,null,null,null,null,null,null,null,null,null,null,"",""]
[null,null,null,null,null,null,null,null,null,null,null,null,null,null,null,null,null,null,null,null,null,null,null,null,null,null,null,null,null,null,null,null,null,null,null,null,null,null,null,null,null,null,null,null,null,null,null,null,null,null,null,null,null,null,null,null,null,null,null,null,null,null,null,null,null,null,null,null,null,null,null,"",null,null,null,null,null,null,null,null,null,null,null,null,"",""]
[null,null,null,null,null,null,null,null,null,null,null,null,null,null,null,null,null,null,null,null,null,null,null,null,null,null,null,null,null,null,null,null,null,null,null,null,null,null,null,null,null,null,null,null,null,null,null,null,null,null,null,null,null,null,null,null,null,null,null,null,null,null,null,null,null,null,null,null,null,null,null,"",null,null,null,null,null,null,null,null,null,null,null,null,"",""]
[null,null,null,null,null,null,null,null,null,null,null,null,null,null,null,null,null,null,null,null,null,null,null,null,null,null,null,null,null,null,null,null,null,null,null,null,null,null,null,null,null,null,null,null,null,null,null,null,null,null,null,null,null,null,null,null,null,null,null,null,null,null,null,null,null,null,null,null,null,null,null,"",null,null,null,null,null,null,null,null,null,null,null,null,"",""]
[null,null,null,null,null,null,null,null,null,null,null,null,null,null,null,null,null,null,null,null,null,null,null,null,null,null,null,null,null,null,null,null,null,null,null,null,null,null,null,null,null,null,null,null,null,null,null,null,null,null,null,null,null,null,null,null,null,null,null,null,null,null,null,null,null,null,null,null,null,null,null,"",null,null,null,null,null,null,null,null,null,null,null,null,"",""]
[null,null,null,null,null,null,null,null,null,null,null,null,null,null,null,null,null,null,null,null,null,null,null,null,null,null,null,null,null,null,null,null,null,null,null,null,null,null,null,null,null,null,null,null,null,null,null,null,null,null,null,null,null,null,null,null,null,null,null,null,null,null,null,null,null,null,null,null,null,null,null,"",null,null,null,null,null,null,null,null,null,null,null,null,"",""]
[null,null,null,null,null,null,null,null,null,null,null,null,null,null,null,null,null,null,null,null,null,null,null,null,null,null,null,null,null,null,null,null,null,null,null,null,null,null,null,null,null,null,null,null,null,null,null,null,null,null,null,null,null,null,null,null,null,null,null,null,null,null,null,null,null,null,null,null,null,null,null,"",null,null,null,null,null,null,null,null,null,null,null,null,"",""]
[null,null,null,null,null,null,null,null,null,null,null,null,null,null,null,null,null,null,null,null,null,null,null,null,null,null,null,null,null,null,null,null,null,null,null,null,null,null,null,null,null,null,null,null,null,null,null,null,null,null,null,null,null,null,null,null,null,null,null,null,null,null,null,null,null,null,null,null,null,null,null,"",null,null,null,null,null,null,null,null,null,null,null,null,"",""]
[null,null,null,null,null,null,null,null,null,null,null,null,null,null,null,null,null,null,null,null,null,null,null,null,null,null,null,null,null,null,null,null,null,null,null,null,null,null,null,null,null,null,null,null,null,null,null,null,null,null,null,null,null,null,null,null,null,null,null,null,null,null,null,null,null,null,null,null,null,null,null,"",null,null,null,null,null,null,null,null,null,null,null,null,"",""]
[null,null,null,null,null,null,null,null,null,null,null,null,null,null,null,null,null,null,null,null,null,null,null,null,null,null,null,null,null,null,null,null,null,null,null,null,null,null,null,null,null,null,null,null,null,null,null,null,null,null,null,null,null,null,null,null,null,null,null,null,null,null,null,null,null,null,null,null,null,null,null,"",null,null,null,null,null,null,null,null,null,null,null,null,"",""]
[null,null,null,null,null,null,null,null,null,null,null,null,null,null,null,null,null,null,null,null,null,null,null,null,null,null,null,null,null,null,null,null,null,null,null,null,null,null,null,null,null,null,null,null,null,null,null,null,null,null,null,null,null,null,null,null,null,null,null,null,null,null,null,null,null,null,null,null,null,null,null,"",null,null,null,null,null,null,null,null,null,null,null,null,"",""]
[null,null,null,null,null,null,null,null,null,null,null,null,null,null,null,null,null,null,null,null,null,null,null,null,null,null,null,null,null,null,null,null,null,null,null,null,null,null,null,null,null,null,null,null,null,null,null,null,null,null,null,null,null,null,null,null,null,null,null,null,null,null,null,null,null,null,null,null,null,null,null,"",null,null,null,null,null,null,null,null,null,null,null,null,"",""]
[null,null,null,null,null,null,null,null,null,null,null,null,null,null,null,null,null,null,null,null,null,null,null,null,null,null,null,null,null,null,null,null,null,null,null,null,null,null,null,null,null,null,null,null,null,null,null,null,null,null,null,null,null,null,null,null,null,null,null,null,null,null,null,null,null,null,null,null,null,null,null,"",null,null,null,null,null,null,null,null,null,null,null,null,"",""]
[null,null,null,null,null,null,null,null,null,null,null,null,null,null,null,null,null,null,null,null,null,null,null,null,null,null,null,null,null,null,null,null,null,null,null,null,null,null,null,null,null,null,null,null,null,null,null,null,null,null,null,null,null,null,null,null,null,null,null,null,null,null,null,null,null,null,null,null,null,null,null,"",null,null,null,null,null,null,null,null,null,null,null,null,"",""]
[null,null,null,null,null,null,null,null,null,null,null,null,null,null,null,null,null,null,null,null,null,null,null,null,null,null,null,null,null,null,null,null,null,null,null,null,null,null,null,null,null,null,null,null,null,null,null,null,null,null,null,null,null,null,null,null,null,null,null,null,null,null,null,null,null,null,null,null,null,null,null,"",null,null,null,null,null,null,null,null,null,null,null,null,"",""]
[null,null,null,null,null,null,null,null,null,null,null,null,null,null,null,null,null,null,null,null,null,null,null,null,null,null,null,null,null,null,null,null,null,null,null,null,null,null,null,null,null,null,null,null,null,null,null,null,null,null,null,null,null,null,null,null,null,null,null,null,null,null,null,null,null,null,null,null,null,null,null,"",null,null,null,null,null,null,null,null,null,null,null,null,"",""]
[null,null,null,null,null,null,null,null,null,null,null,null,null,null,null,null,null,null,null,null,null,null,null,null,null,null,null,null,null,null,null,null,null,null,null,null,null,null,null,null,null,null,null,null,null,null,null,null,null,null,null,null,null,null,null,null,null,null,null,null,null,null,null,null,null,null,null,null,null,null,null,"",null,null,null,null,null,null,null,null,null,null,null,null,"",""]
[null,null,null,null,null,null,null,null,null,null,null,null,null,null,null,null,null,null,null,null,null,null,null,null,null,null,null,null,null,null,null,null,null,null,null,null,null,null,null,null,null,null,null,null,null,null,null,null,null,null,null,null,null,null,null,null,null,null,null,null,null,null,null,null,null,null,null,null,null,null,null,"",null,null,null,null,null,null,null,null,null,null,null,null,"",""]
[null,null,null,null,null,null,null,null,null,null,null,null,null,null,null,null,null,null,null,null,null,null,null,null,null,null,null,null,null,null,null,null,null,null,null,null,null,null,null,null,null,null,null,null,null,null,null,null,null,null,null,null,null,null,null,null,null,null,null,null,null,null,null,null,null,null,null,null,null,null,null,"",null,null,null,null,null,null,null,null,null,null,null,null,"",""]
[null,null,null,null,null,null,null,null,null,null,null,null,null,null,null,null,null,null,null,null,null,null,null,null,null,null,null,null,null,null,null,null,null,null,null,null,null,null,null,null,null,null,null,null,null,null,null,null,null,null,null,null,null,null,null,null,null,null,null,null,null,null,null,null,null,null,null,null,null,null,null,"",null,null,null,null,null,null,null,null,null,null,null,null,"",""]
[null,null,null,null,null,null,null,null,null,null,null,null,null,null,null,null,null,null,null,null,null,null,null,null,null,null,null,null,null,null,null,null,null,null,null,null,null,null,null,null,null,null,null,null,null,null,null,null,null,null,null,null,null,null,null,null,null,null,null,null,null,null,null,null,null,null,null,null,null,null,null,"",null,null,null,null,null,null,null,null,null,null,null,null,"",""]
[null,null,null,null,null,null,null,null,null,null,null,null,null,null,null,null,null,null,null,null,null,null,null,null,null,null,null,null,null,null,null,null,null,null,null,null,null,null,null,null,null,null,null,null,null,null,null,null,null,null,null,null,null,null,null,null,null,null,null,null,null,null,null,null,null,null,null,null,null,null,null,"",null,null,null,null,null,null,null,null,null,null,null,null,"",""]
[null,null,null,null,null,null,null,null,null,null,null,null,null,null,null,null,null,null,null,null,null,null,null,null,null,null,null,null,null,null,null,null,null,null,null,null,null,null,null,null,null,null,null,null,null,null,null,null,null,null,null,null,null,null,null,null,null,null,null,null,null,null,null,null,null,null,null,null,null,null,null,"",null,null,null,null,null,null,null,null,null,null,null,null,"",""]
[null,null,null,null,null,null,null,null,null,null,null,null,null,null,null,null,null,null,null,null,null,null,null,null,null,null,null,null,null,null,null,null,null,null,null,null,null,null,null,null,null,null,null,null,null,null,null,null,null,null,null,null,null,null,null,null,null,null,null,null,null,null,null,null,null,null,null,null,null,null,null,"",null,null,null,null,null,null,null,null,null,null,null,null,"",""]
[null,null,null,null,null,null,null,null,null,null,null,null,null,null,null,null,null,null,null,null,null,null,null,null,null,null,null,null,null,null,null,null,null,null,null,null,null,null,null,null,null,null,null,null,null,null,null,null,null,null,null,null,null,null,null,null,null,null,null,null,null,null,null,null,null,null,null,null,null,null,null,"",null,null,null,null,null,null,null,null,null,null,null,null,"",""]
[null,null,null,null,null,null,null,null,null,null,null,null,null,null,null,null,null,null,null,null,null,null,null,null,null,null,null,null,null,null,null,null,null,null,null,null,null,null,null,null,null,null,null,null,null,null,null,null,null,null,null,null,null,null,null,null,null,null,null,null,null,null,null,null,null,null,null,null,null,null,null,"",null,null,null,null,null,null,null,null,null,null,null,null,"",""]
[null,null,null,null,null,null,null,null,null,null,null,null,null,null,null,null,null,null,null,null,null,null,null,null,null,null,null,null,null,null,null,null,null,null,null,null,null,null,null,null,null,null,null,null,null,null,null,null,null,null,null,null,null,null,null,null,null,null,null,null,null,null,null,null,null,null,null,null,null,null,null,"",null,null,null,null,null,null,null,null,null,null,null,null,"",""]
[null,null,null,null,null,null,null,null,null,null,null,null,null,null,null,null,null,null,null,null,null,null,null,null,null,null,null,null,null,null,null,null,null,null,null,null,null,null,null,null,null,null,null,null,null,null,null,null,null,null,null,null,null,null,null,null,null,null,null,null,null,null,null,null,null,null,null,null,null,null,null,"",null,null,null,null,null,null,null,null,null,null,null,null,"",""]
[null,null,null,null,null,null,null,null,null,null,null,null,null,null,null,null,null,null,null,null,null,null,null,null,null,null,null,null,null,null,null,null,null,null,null,null,null,null,null,null,null,null,null,null,null,null,null,null,null,null,null,null,null,null,null,null,null,null,null,null,null,null,null,null,null,null,null,null,null,null,null,"",null,null,null,null,null,null,null,null,null,null,null,null,"",""]
[null,null,null,null,null,null,null,null,null,null,null,null,null,null,null,null,null,null,null,null,null,null,null,null,null,null,null,null,null,null,null,null,null,null,null,null,null,null,null,null,null,null,null,null,null,null,null,null,null,null,null,null,null,null,null,null,null,null,null,null,null,null,null,null,null,null,null,null,null,null,null,"",null,null,null,null,null,null,null,null,null,null,null,null,"",""]
[null,null,null,null,null,null,null,null,null,null,null,null,null,null,null,null,null,null,null,null,null,null,null,null,null,null,null,null,null,null,null,null,null,null,null,null,null,null,null,null,null,null,null,null,null,null,null,null,null,null,null,null,null,null,null,null,null,null,null,null,null,null,null,null,null,null,null,null,null,null,null,"",null,null,null,null,null,null,null,null,null,null,null,null,"",""]
[null,null,null,null,null,null,null,null,null,null,null,null,null,null,null,null,null,null,null,null,null,null,null,null,null,null,null,null,null,null,null,null,null,null,null,null,null,null,null,null,null,null,null,null,null,null,null,null,null,null,null,null,null,null,null,null,null,null,null,null,null,null,null,null,null,null,null,null,null,null,null,"",null,null,null,null,null,null,null,null,null,null,null,null,"",""]
[null,null,null,null,null,null,null,null,null,null,null,null,null,null,null,null,null,null,null,null,null,null,null,null,null,null,null,null,null,null,null,null,null,null,null,null,null,null,null,null,null,null,null,null,null,null,null,null,null,null,null,null,null,null,null,null,null,null,null,null,null,null,null,null,null,null,null,null,null,null,null,"",null,null,null,null,null,null,null,null,null,null,null,null,"",""]
[null,null,null,null,null,null,null,null,null,null,null,null,null,null,null,null,null,null,null,null,null,null,null,null,null,null,null,null,null,null,null,null,null,null,null,null,null,null,null,null,null,null,null,null,null,null,null,null,null,null,null,null,null,null,null,null,null,null,null,null,null,null,null,null,null,null,null,null,null,null,null,"",null,null,null,null,null,null,null,null,null,null,null,null,"",""]
[null,null,null,null,null,null,null,null,null,null,null,null,null,null,null,null,null,null,null,null,null,null,null,null,null,null,null,null,null,null,null,null,null,null,null,null,null,null,null,null,null,null,null,null,null,null,null,null,null,null,null,null,null,null,null,null,null,null,null,null,null,null,null,null,null,null,null,null,null,null,null,"",null,null,null,null,null,null,null,null,null,null,null,null,"",""]
[null,null,null,null,null,null,null,null,null,null,null,null,null,null,null,null,null,null,null,null,null,null,null,null,null,null,null,null,null,null,null,null,null,null,null,null,null,null,null,null,null,null,null,null,null,null,null,null,null,null,null,null,null,null,null,null,null,null,null,null,null,null,null,null,null,null,null,null,null,null,null,"",null,null,null,null,null,null,null,null,null,null,null,null,"",""]
[null,null,null,null,null,null,null,null,null,null,null,null,null,null,null,null,null,null,null,null,null,null,null,null,null,null,null,null,null,null,null,null,null,null,null,null,null,null,null,null,null,null,null,null,null,null,null,null,null,null,null,null,null,null,null,null,null,null,null,null,null,null,null,null,null,null,null,null,null,null,null,"",null,null,null,null,null,null,null,null,null,null,null,null,"",""]
[null,null,null,null,null,null,null,null,null,null,null,null,null,null,null,null,null,null,null,null,null,null,null,null,null,null,null,null,null,null,null,null,null,null,null,null,null,null,null,null,null,null,null,null,null,null,null,null,null,null,null,null,null,null,null,null,null,null,null,null,null,null,null,null,null,null,null,null,null,null,null,"",null,null,null,null,null,null,null,null,null,null,null,null,"",""]
[null,null,null,null,null,null,null,null,null,null,null,null,null,null,null,null,null,null,null,null,null,null,null,null,null,null,null,null,null,null,null,null,null,null,null,null,null,null,null,null,null,null,null,null,null,null,null,null,null,null,null,null,null,null,null,null,null,null,null,null,null,null,null,null,null,null,null,null,null,null,null,"",null,null,null,null,null,null,null,null,null,null,null,null,"",""]
[null,null,null,null,null,null,null,null,null,null,null,null,null,null,null,null,null,null,null,null,null,null,null,null,null,null,null,null,null,null,null,null,null,null,null,null,null,null,null,null,null,null,null,null,null,null,null,null,null,null,null,null,null,null,null,null,null,null,null,null,null,null,null,null,null,null,null,null,null,null,null,"",null,null,null,null,null,null,null,null,null,null,null,null,"",""]
[null,null,null,null,null,null,null,null,null,null,null,null,null,null,null,null,null,null,null,null,null,null,null,null,null,null,null,null,null,null,null,null,null,null,null,null,null,null,null,null,null,null,null,null,null,null,null,null,null,null,null,null,null,null,null,null,null,null,null,null,null,null,null,null,null,null,null,null,null,null,null,"",null,null,null,null,null,null,null,null,null,null,null,null,"",""]
[null,null,null,null,null,null,null,null,null,null,null,null,null,null,null,null,null,null,null,null,null,null,null,null,null,null,null,null,null,null,null,null,null,null,null,null,null,null,null,null,null,null,null,null,null,null,null,null,null,null,null,null,null,null,null,null,null,null,null,null,null,null,null,null,null,null,null,null,null,null,null,"",null,null,null,null,null,null,null,null,null,null,null,null,"",""]
[null,null,null,null,null,null,null,null,null,null,null,null,null,null,null,null,null,null,null,null,null,null,null,null,null,null,null,null,null,null,null,null,null,null,null,null,null,null,null,null,null,null,null,null,null,null,null,null,null,null,null,null,null,null,null,null,null,null,null,null,null,null,null,null,null,null,null,null,null,null,null,"",null,null,null,null,null,null,null,null,null,null,null,null,"",""]
[null,null,null,null,null,null,null,null,null,null,null,null,null,null,null,null,null,null,null,null,null,null,null,null,null,null,null,null,null,null,null,null,null,null,null,null,null,null,null,null,null,null,null,null,null,null,null,null,null,null,null,null,null,null,null,null,null,null,null,null,null,null,null,null,null,null,null,null,null,null,null,"",null,null,null,null,null,null,null,null,null,null,null,null,"",""]
[null,null,null,null,null,null,null,null,null,null,null,null,null,null,null,null,null,null,null,null,null,null,null,null,null,null,null,null,null,null,null,null,null,null,null,null,null,null,null,null,null,null,null,null,null,null,null,null,null,null,null,null,null,null,null,null,null,null,null,null,null,null,null,null,null,null,null,null,null,null,null,"",null,null,null,null,null,null,null,null,null,null,null,null,"",{"$f":"CG198","v":""}]
[null,null,null,null,null,null,null,null,null,null,null,null,null,null,null,null,null,null,null,null,null,null,null,null,null,null,null,null,null,null,null,null,null,null,null,null,null,null,null,null,null,null,null,null,null,null,null,null,null,null,null,null,null,null,null,null,null,null,null,null,null,null,null,null,null,null,null,null,null,null,null,{"$f":"IF(SUM(BP199:BS199)<>0,\"\",CONCATENATE(IF(BP199=\"SI\",CONCATENATE(\"Edad\",\" -> \",BQ199,\", \"),\"\"),IF(BR199=\"SI\",CONCATENATE(\"Nivel escolaridad\",\" -> \",BS199,\", \"),\"\")))","v":""},null,null,null,null,null,null,null,null,null,null,null,null,{"$f":"IF(AND(B199<>\"\",P199=\"Municipal\"),(45-SUM((COUNTIF(B199:Z199,\"\")),COUNTIF(BL199:CF199,\"No aplica\")))/45,IF(AND(B199<>\"\",P199=\"Departamental\"),(45-SUM((COUNTIF(B199:Z199,\"\")),COUNTIF(BL199:CF199,\"No aplica\")))/44,IF(AND(B199<>\"\",P199=\"Nacional\"),(45-SUM((COUNTIF(B199:Z199,\"\")),COUNTIF(BL199:CF199,\"No aplica\")))/43,\"\")))","v":""},""]
[null,null,null,null,null,null,null,null,null,null,null,null,null,null,null,null,null,null,null,null,null,null,null,null,null,null,null,null,null,null,null,null,null,null,null,null,null,null,null,null,null,null,null,null,null,null,null,null,null,null,null,null,null,null,null,null,null,null,null,null,null,null,null,null,null,null,null,null,null,null,null,"",null,null,null,null,null,null,null,null,null,null,null,null,"",""]
[null,null,null,null,null,null,null,null,null,null,null,null,null,null,null,null,null,null,null,null,null,null,null,null,null,null,null,null,null,null,null,null,null,null,null,null,null,null,null,null,null,null,null,null,null,null,null,null,null,null,null,null,null,null,null,null,null,null,null,null,null,null,null,null,null,null,null,null,null,null,null,"",null,null,null,null,null,null,null,null,null,null,null,null,"",""]
[null,null,null,null,null,null,null,null,null,null,null,null,null,null,null,null,null,null,null,null,null,null,null,null,null,null,null,null,null,null,null,null,null,null,null,null,null,null,null,null,null,null,null,null,null,null,null,null,null,null,null,null,null,null,null,null,null,null,null,null,null,null,null,null,null,null,null,null,null,null,null,"",null,null,null,null,null,null,null,null,null,null,null,null,"",""]
[null,null,null,null,null,null,null,null,null,null,null,null,null,null,null,null,null,null,null,null,null,null,null,null,null,null,null,null,null,null,null,null,null,null,null,null,null,null,null,null,null,null,null,null,null,null,null,null,null,null,null,null,null,null,null,null,null,null,null,null,null,null,null,null,null,null,null,null,null,null,null,"",null,null,null,null,null,null,null,null,null,null,null,null,"",""]
[null,null,null,null,null,null,null,null,null,null,null,null,null,null,null,null,null,null,null,null,null,null,null,null,null,null,null,null,null,null,null,null,null,null,null,null,null,null,null,null,null,null,null,null,null,null,null,null,null,null,null,null,null,null,null,null,null,null,null,null,null,null,null,null,null,null,null,null,null,null,null,"",null,null,null,null,null,null,null,null,null,null,null,null,"",""]
[null,null,null,null,null,null,null,null,null,null,null,null,null,null,null,null,null,null,null,null,null,null,null,null,null,null,null,null,null,null,null,null,null,null,null,null,null,null,null,null,null,null,null,null,null,null,null,null,null,null,null,null,null,null,null,null,null,null,null,null,null,null,null,null,null,null,null,null,null,null,null,"",null,null,null,null,null,null,null,null,null,null,null,null,"",""]
[null,null,null,null,null,null,null,null,null,null,null,null,null,null,null,null,null,null,null,null,null,null,null,null,null,null,null,null,null,null,null,null,null,null,null,null,null,null,null,null,null,null,null,null,null,null,null,null,null,null,null,null,null,null,null,null,null,null,null,null,null,null,null,null,null,null,null,null,null,null,null,"",null,null,null,null,null,null,null,null,null,null,null,null,"",""]
[null,null,null,null,null,null,null,null,null,null,null,null,null,null,null,null,null,null,null,null,null,null,null,null,null,null,null,null,null,null,null,null,null,null,null,null,null,null,null,null,null,null,null,null,null,null,null,null,null,null,null,null,null,null,null,null,null,null,null,null,null,null,null,null,null,null,null,null,null,null,null,"",null,null,null,null,null,null,null,null,null,null,null,null,"",""]
[null,null,null,null,null,null,null,null,null,null,null,null,null,null,null,null,null,null,null,null,null,null,null,null,null,null,null,null,null,null,null,null,null,null,null,null,null,null,null,null,null,null,null,null,null,null,null,null,null,null,null,null,null,null,null,null,null,null,null,null,null,null,null,null,null,null,null,null,null,null,null,"",null,null,null,null,null,null,null,null,null,null,null,null,"",""]
[null,null,null,null,null,null,null,null,null,null,null,null,null,null,null,null,null,null,null,null,null,null,null,null,null,null,null,null,null,null,null,null,null,null,null,null,null,null,null,null,null,null,null,null,null,null,null,null,null,null,null,null,null,null,null,null,null,null,null,null,null,null,null,null,null,null,null,null,null,null,null,"",null,null,null,null,null,null,null,null,null,null,null,null,"",""]
[null,null,null,null,null,null,null,null,null,null,null,null,null,null,null,null,null,null,null,null,null,null,null,null,null,null,null,null,null,null,null,null,null,null,null,null,null,null,null,null,null,null,null,null,null,null,null,null,null,null,null,null,null,null,null,null,null,null,null,null,null,null,null,null,null,null,null,null,null,null,null,"",null,null,null,null,null,null,null,null,null,null,null,null,"",""]
[null,null,null,null,null,null,null,null,null,null,null,null,null,null,null,null,null,null,null,null,null,null,null,null,null,null,null,null,null,null,null,null,null,null,null,null,null,null,null,null,null,null,null,null,null,null,null,null,null,null,null,null,null,null,null,null,null,null,null,null,null,null,null,null,null,null,null,null,null,null,null,"",null,null,null,null,null,null,null,null,null,null,null,null,"",""]
[null,null,null,null,null,null,null,null,null,null,null,null,null,null,null,null,null,null,null,null,null,null,null,null,null,null,null,null,null,null,null,null,null,null,null,null,null,null,null,null,null,null,null,null,null,null,null,null,null,null,null,null,null,null,null,null,null,null,null,null,null,null,null,null,null,null,null,null,null,null,null,"",null,null,null,null,null,null,null,null,null,null,null,null,"",""]
[null,null,null,null,null,null,null,null,null,null,null,null,null,null,null,null,null,null,null,null,null,null,null,null,null,null,null,null,null,null,null,null,null,null,null,null,null,null,null,null,null,null,null,null,null,null,null,null,null,null,null,null,null,null,null,null,null,null,null,null,null,null,null,null,null,null,null,null,null,null,null,"",null,null,null,null,null,null,null,null,null,null,null,null,"",""]
[null,null,null,null,null,null,null,null,null,null,null,null,null,null,null,null,null,null,null,null,null,null,null,null,null,null,null,null,null,null,null,null,null,null,null,null,null,null,null,null,null,null,null,null,null,null,null,null,null,null,null,null,null,null,null,null,null,null,null,null,null,null,null,null,null,null,null,null,null,null,null,"",null,null,null,null,null,null,null,null,null,null,null,null,"",""]
[null,null,null,null,null,null,null,null,null,null,null,null,null,null,null,null,null,null,null,null,null,null,null,null,null,null,null,null,null,null,null,null,null,null,null,null,null,null,null,null,null,null,null,null,null,null,null,null,null,null,null,null,null,null,null,null,null,null,null,null,null,null,null,null,null,null,null,null,null,null,null,"",null,null,null,null,null,null,null,null,null,null,null,null,"",""]
[null,null,null,null,null,null,null,null,null,null,null,null,null,null,null,null,null,null,null,null,null,null,null,null,null,null,null,null,null,null,null,null,null,null,null,null,null,null,null,null,null,null,null,null,null,null,null,null,null,null,null,null,null,null,null,null,null,null,null,null,null,null,null,null,null,null,null,null,null,null,null,"",null,null,null,null,null,null,null,null,null,null,null,null,"",""]
[null,null,null,null,null,null,null,null,null,null,null,null,null,null,null,null,null,null,null,null,null,null,null,null,null,null,null,null,null,null,null,null,null,null,null,null,null,null,null,null,null,null,null,null,null,null,null,null,null,null,null,null,null,null,null,null,null,null,null,null,null,null,null,null,null,null,null,null,null,null,null,"",null,null,null,null,null,null,null,null,null,null,null,null,"",""]
[null,null,null,null,null,null,null,null,null,null,null,null,null,null,null,null,null,null,null,null,null,null,null,null,null,null,null,null,null,null,null,null,null,null,null,null,null,null,null,null,null,null,null,null,null,null,null,null,null,null,null,null,null,null,null,null,null,null,null,null,null,null,null,null,null,null,null,null,null,null,null,"",null,null,null,null,null,null,null,null,null,null,null,null,"",""]
[null,null,null,null,null,null,null,null,null,null,null,null,null,null,null,null,null,null,null,null,null,null,null,null,null,null,null,null,null,null,null,null,null,null,null,null,null,null,null,null,null,null,null,null,null,null,null,null,null,null,null,null,null,null,null,null,null,null,null,null,null,null,null,null,null,null,null,null,null,null,null,"",null,null,null,null,null,null,null,null,null,null,null,null,"",""]
[null,null,null,null,null,null,null,null,null,null,null,null,null,null,null,null,null,null,null,null,null,null,null,null,null,null,null,null,null,null,null,null,null,null,null,null,null,null,null,null,null,null,null,null,null,null,null,null,null,null,null,null,null,null,null,null,null,null,null,null,null,null,null,null,null,null,null,null,null,null,null,"",null,null,null,null,null,null,null,null,null,null,null,null,"",""]
[null,null,null,null,null,null,null,null,null,null,null,null,null,null,null,null,null,null,null,null,null,null,null,null,null,null,null,null,null,null,null,null,null,null,null,null,null,null,null,null,null,null,null,null,null,null,null,null,null,null,null,null,null,null,null,null,null,null,null,null,null,null,null,null,null,null,null,null,null,null,null,"",null,null,null,null,null,null,null,null,null,null,null,null,"",""]
[null,null,null,null,null,null,null,null,null,null,null,null,null,null,null,null,null,null,null,null,null,null,null,null,null,null,null,null,null,null,null,null,null,null,null,null,null,null,null,null,null,null,null,null,null,null,null,null,null,null,null,null,null,null,null,null,null,null,null,null,null,null,null,null,null,null,null,null,null,null,null,"",null,null,null,null,null,null,null,null,null,null,null,null,"",""]
[null,null,null,null,null,null,null,null,null,null,null,null,null,null,null,null,null,null,null,null,null,null,null,null,null,null,null,null,null,null,null,null,null,null,null,null,null,null,null,null,null,null,null,null,null,null,null,null,null,null,null,null,null,null,null,null,null,null,null,null,null,null,null,null,null,null,null,null,null,null,null,"",null,null,null,null,null,null,null,null,null,null,null,null,"",""]
[null,null,null,null,null,null,null,null,null,null,null,null,null,null,null,null,null,null,null,null,null,null,null,null,null,null,null,null,null,null,null,null,null,null,null,null,null,null,null,null,null,null,null,null,null,null,null,null,null,null,null,null,null,null,null,null,null,null,null,null,null,null,null,null,null,null,null,null,null,null,null,"",null,null,null,null,null,null,null,null,null,null,null,null,"",""]
[null,null,null,null,null,null,null,null,null,null,null,null,null,null,null,null,null,null,null,null,null,null,null,null,null,null,null,null,null,null,null,null,null,null,null,null,null,null,null,null,null,null,null,null,null,null,null,null,null,null,null,null,null,null,null,null,null,null,null,null,null,null,null,null,null,null,null,null,null,null,null,"",null,null,null,null,null,null,null,null,null,null,null,null,"",""]
[null,null,null,null,null,null,null,null,null,null,null,null,null,null,null,null,null,null,null,null,null,null,null,null,null,null,null,null,null,null,null,null,null,null,null,null,null,null,null,null,null,null,null,null,null,null,null,null,null,null,null,null,null,null,null,null,null,null,null,null,null,null,null,null,null,null,null,null,null,null,null,"",null,null,null,null,null,null,null,null,null,null,null,null,"",""]
[null,null,null,null,null,null,null,null,null,null,null,null,null,null,null,null,null,null,null,null,null,null,null,null,null,null,null,null,null,null,null,null,null,null,null,null,null,null,null,null,null,null,null,null,null,null,null,null,null,null,null,null,null,null,null,null,null,null,null,null,null,null,null,null,null,null,null,null,null,null,null,"",null,null,null,null,null,null,null,null,null,null,null,null,"",""]
[null,null,null,null,null,null,null,null,null,null,null,null,null,null,null,null,null,null,null,null,null,null,null,null,null,null,null,null,null,null,null,null,null,null,null,null,null,null,null,null,null,null,null,null,null,null,null,null,null,null,null,null,null,null,null,null,null,null,null,null,null,null,null,null,null,null,null,null,null,null,null,"",null,null,null,null,null,null,null,null,null,null,null,null,"",""]
[null,null,null,null,null,null,null,null,null,null,null,null,null,null,null,null,null,null,null,null,null,null,null,null,null,null,null,null,null,null,null,null,null,null,null,null,null,null,null,null,null,null,null,null,null,null,null,null,null,null,null,null,null,null,null,null,null,null,null,null,null,null,null,null,null,null,null,null,null,null,null,"",null,null,null,null,null,null,null,null,null,null,null,null,"",""]
[null,null,null,null,null,null,null,null,null,null,null,null,null,null,null,null,null,null,null,null,null,null,null,null,null,null,null,null,null,null,null,null,null,null,null,null,null,null,null,null,null,null,null,null,null,null,null,null,null,null,null,null,null,null,null,null,null,null,null,null,null,null,null,null,null,null,null,null,null,null,null,"",null,null,null,null,null,null,null,null,null,null,null,null,"",""]
[null,null,null,null,null,null,null,null,null,null,null,null,null,null,null,null,null,null,null,null,null,null,null,null,null,null,null,null,null,null,null,null,null,null,null,null,null,null,null,null,null,null,null,null,null,null,null,null,null,null,null,null,null,null,null,null,null,null,null,null,null,null,null,null,null,null,null,null,null,null,null,"",null,null,null,null,null,null,null,null,null,null,null,null,"",""]
[null,null,null,null,null,null,null,null,null,null,null,null,null,null,null,null,null,null,null,null,null,null,null,null,null,null,null,null,null,null,null,null,null,null,null,null,null,null,null,null,null,null,null,null,null,null,null,null,null,null,null,null,null,null,null,null,null,null,null,null,null,null,null,null,null,null,null,null,null,null,null,"",null,null,null,null,null,null,null,null,null,null,null,null,"",""]
[null,null,null,null,null,null,null,null,null,null,null,null,null,null,null,null,null,null,null,null,null,null,null,null,null,null,null,null,null,null,null,null,null,null,null,null,null,null,null,null,null,null,null,null,null,null,null,null,null,null,null,null,null,null,null,null,null,null,null,null,null,null,null,null,null,null,null,null,null,null,null,"",null,null,null,null,null,null,null,null,null,null,null,null,"",""]
[null,null,null,null,null,null,null,null,null,null,null,null,null,null,null,null,null,null,null,null,null,null,null,null,null,null,null,null,null,null,null,null,null,null,null,null,null,null,null,null,null,null,null,null,null,null,null,null,null,null,null,null,null,null,null,null,null,null,null,null,null,null,null,null,null,null,null,null,null,null,null,"",null,null,null,null,null,null,null,null,null,null,null,null,"",""]
[null,null,null,null,null,null,null,null,null,null,null,null,null,null,null,null,null,null,null,null,null,null,null,null,null,null,null,null,null,null,null,null,null,null,null,null,null,null,null,null,null,null,null,null,null,null,null,null,null,null,null,null,null,null,null,null,null,null,null,null,null,null,null,null,null,null,null,null,null,null,null,"",null,null,null,null,null,null,null,null,null,null,null,null,"",""]
[null,null,null,null,null,null,null,null,null,null,null,null,null,null,null,null,null,null,null,null,null,null,null,null,null,null,null,null,null,null,null,null,null,null,null,null,null,null,null,null,null,null,null,null,null,null,null,null,null,null,null,null,null,null,null,null,null,null,null,null,null,null,null,null,null,null,null,null,null,null,null,"",null,null,null,null,null,null,null,null,null,null,null,null,"",""]
[null,null,null,null,null,null,null,null,null,null,null,null,null,null,null,null,null,null,null,null,null,null,null,null,null,null,null,null,null,null,null,null,null,null,null,null,null,null,null,null,null,null,null,null,null,null,null,null,null,null,null,null,null,null,null,null,null,null,null,null,null,null,null,null,null,null,null,null,null,null,null,"",null,null,null,null,null,null,null,null,null,null,null,null,"",""]
[null,null,null,null,null,null,null,null,null,null,null,null,null,null,null,null,null,null,null,null,null,null,null,null,null,null,null,null,null,null,null,null,null,null,null,null,null,null,null,null,null,null,null,null,null,null,null,null,null,null,null,null,null,null,null,null,null,null,null,null,null,null,null,null,null,null,null,null,null,null,null,"",null,null,null,null,null,null,null,null,null,null,null,null,"",""]
[null,null,null,null,null,null,null,null,null,null,null,null,null,null,null,null,null,null,null,null,null,null,null,null,null,null,null,null,null,null,null,null,null,null,null,null,null,null,null,null,null,null,null,null,null,null,null,null,null,null,null,null,null,null,null,null,null,null,null,null,null,null,null,null,null,null,null,null,null,null,null,"",null,null,null,null,null,null,null,null,null,null,null,null,"",""]
[null,null,null,null,null,null,null,null,null,null,null,null,null,null,null,null,null,null,null,null,null,null,null,null,null,null,null,null,null,null,null,null,null,null,null,null,null,null,null,null,null,null,null,null,null,null,null,null,null,null,null,null,null,null,null,null,null,null,null,null,null,null,null,null,null,null,null,null,null,null,null,"",null,null,null,null,null,null,null,null,null,null,null,null,"",""]
[null,null,null,null,null,null,null,null,null,null,null,null,null,null,null,null,null,null,null,null,null,null,null,null,null,null,null,null,null,null,null,null,null,null,null,null,null,null,null,null,null,null,null,null,null,null,null,null,null,null,null,null,null,null,null,null,null,null,null,null,null,null,null,null,null,null,null,null,null,null,null,"",null,null,null,null,null,null,null,null,null,null,null,null,"",""]
[null,null,null,null,null,null,null,null,null,null,null,null,null,null,null,null,null,null,null,null,null,null,null,null,null,null,null,null,null,null,null,null,null,null,null,null,null,null,null,null,null,null,null,null,null,null,null,null,null,null,null,null,null,null,null,null,null,null,null,null,null,null,null,null,null,null,null,null,null,null,null,"",null,null,null,null,null,null,null,null,null,null,null,null,"",""]
[null,null,null,null,null,null,null,null,null,null,null,null,null,null,null,null,null,null,null,null,null,null,null,null,null,null,null,null,null,null,null,null,null,null,null,null,null,null,null,null,null,null,null,null,null,null,null,null,null,null,null,null,null,null,null,null,null,null,null,null,null,null,null,null,null,null,null,null,null,null,null,"",null,null,null,null,null,null,null,null,null,null,null,null,"",""]
[null,null,null,null,null,null,null,null,null,null,null,null,null,null,null,null,null,null,null,null,null,null,null,null,null,null,null,null,null,null,null,null,null,null,null,null,null,null,null,null,null,null,null,null,null,null,null,null,null,null,null,null,null,null,null,null,null,null,null,null,null,null,null,null,null,null,null,null,null,null,null,"",null,null,null,null,null,null,null,null,null,null,null,null,"",""]
[null,null,null,null,null,null,null,null,null,null,null,null,null,null,null,null,null,null,null,null,null,null,null,null,null,null,null,null,null,null,null,null,null,null,null,null,null,null,null,null,null,null,null,null,null,null,null,null,null,null,null,null,null,null,null,null,null,null,null,null,null,null,null,null,null,null,null,null,null,null,null,"",null,null,null,null,null,null,null,null,null,null,null,null,"",""]
[null,null,null,null,null,null,null,null,null,null,null,null,null,null,null,null,null,null,null,null,null,null,null,null,null,null,null,null,null,null,null,null,null,null,null,null,null,null,null,null,null,null,null,null,null,null,null,null,null,null,null,null,null,null,null,null,null,null,null,null,null,null,null,null,null,null,null,null,null,null,null,"",null,null,null,null,null,null,null,null,null,null,null,null,"",""]
[null,null,null,null,null,null,null,null,null,null,null,null,null,null,null,null,null,null,null,null,null,null,null,null,null,null,null,null,null,null,null,null,null,null,null,null,null,null,null,null,null,null,null,null,null,null,null,null,null,null,null,null,null,null,null,null,null,null,null,null,null,null,null,null,null,null,null,null,null,null,null,"",null,null,null,null,null,null,null,null,null,null,null,null,"",""]
[null,null,null,null,null,null,null,null,null,null,null,null,null,null,null,null,null,null,null,null,null,null,null,null,null,null,null,null,null,null,null,null,null,null,null,null,null,null,null,null,null,null,null,null,null,null,null,null,null,null,null,null,null,null,null,null,null,null,null,null,null,null,null,null,null,null,null,null,null,null,null,"",null,null,null,null,null,null,null,null,null,null,null,null,"",""]
[null,null,null,null,null,null,null,null,null,null,null,null,null,null,null,null,null,null,null,null,null,null,null,null,null,null,null,null,null,null,null,null,null,null,null,null,null,null,null,null,null,null,null,null,null,null,null,null,null,null,null,null,null,null,null,null,null,null,null,null,null,null,null,null,null,null,null,null,null,null,null,"",null,null,null,null,null,null,null,null,null,null,null,null,"",""]
[null,null,null,null,null,null,null,null,null,null,null,null,null,null,null,null,null,null,null,null,null,null,null,null,null,null,null,null,null,null,null,null,null,null,null,null,null,null,null,null,null,null,null,null,null,null,null,null,null,null,null,null,null,null,null,null,null,null,null,null,null,null,null,null,null,null,null,null,null,null,null,"",null,null,null,null,null,null,null,null,null,null,null,null,"",""]
[null,null,null,null,null,null,null,null,null,null,null,null,null,null,null,null,null,null,null,null,null,null,null,null,null,null,null,null,null,null,null,null,null,null,null,null,null,null,null,null,null,null,null,null,null,null,null,null,null,null,null,null,null,null,null,null,null,null,null,null,null,null,null,null,null,null,null,null,null,null,null,"",null,null,null,null,null,null,null,null,null,null,null,null,"",""]
[null,null,null,null,null,null,null,null,null,null,null,null,null,null,null,null,null,null,null,null,null,null,null,null,null,null,null,null,null,null,null,null,null,null,null,null,null,null,null,null,null,null,null,null,null,null,null,null,null,null,null,null,null,null,null,null,null,null,null,null,null,null,null,null,null,null,null,null,null,null,null,"",null,null,null,null,null,null,null,null,null,null,null,null,"",""]
[null,null,null,null,null,null,null,null,null,null,null,null,null,null,null,null,null,null,null,null,null,null,null,null,null,null,null,null,null,null,null,null,null,null,null,null,null,null,null,null,null,null,null,null,null,null,null,null,null,null,null,null,null,null,null,null,null,null,null,null,null,null,null,null,null,null,null,null,null,null,null,"",null,null,null,null,null,null,null,null,null,null,null,null,"",""]
[null,null,null,null,null,null,null,null,null,null,null,null,null,null,null,null,null,null,null,null,null,null,null,null,null,null,null,null,null,null,null,null,null,null,null,null,null,null,null,null,null,null,null,null,null,null,null,null,null,null,null,null,null,null,null,null,null,null,null,null,null,null,null,null,null,null,null,null,null,null,null,"",null,null,null,null,null,null,null,null,null,null,null,null,"",""]
[null,null,null,null,null,null,null,null,null,null,null,null,null,null,null,null,null,null,null,null,null,null,null,null,null,null,null,null,null,null,null,null,null,null,null,null,null,null,null,null,null,null,null,null,null,null,null,null,null,null,null,null,null,null,null,null,null,null,null,null,null,null,null,null,null,null,null,null,null,null,null,"",null,null,null,null,null,null,null,null,null,null,null,null,"",""]
[null,null,null,null,null,null,null,null,null,null,null,null,null,null,null,null,null,null,null,null,null,null,null,null,null,null,null,null,null,null,null,null,null,null,null,null,null,null,null,null,null,null,null,null,null,null,null,null,null,null,null,null,null,null,null,null,null,null,null,null,null,null,null,null,null,null,null,null,null,null,null,"",null,null,null,null,null,null,null,null,null,null,null,null,"",""]
[null,null,null,null,null,null,null,null,null,null,null,null,null,null,null,null,null,null,null,null,null,null,null,null,null,null,null,null,null,null,null,null,null,null,null,null,null,null,null,null,null,null,null,null,null,null,null,null,null,null,null,null,null,null,null,null,null,null,null,null,null,null,null,null,null,null,null,null,null,null,null,"",null,null,null,null,null,null,null,null,null,null,null,null,"",""]
[null,null,null,null,null,null,null,null,null,null,null,null,null,null,null,null,null,null,null,null,null,null,null,null,null,null,null,null,null,null,null,null,null,null,null,null,null,null,null,null,null,null,null,null,null,null,null,null,null,null,null,null,null,null,null,null,null,null,null,null,null,null,null,null,null,null,null,null,null,null,null,"",null,null,null,null,null,null,null,null,null,null,null,null,"",""]
[null,null,null,null,null,null,null,null,null,null,null,null,null,null,null,null,null,null,null,null,null,null,null,null,null,null,null,null,null,null,null,null,null,null,null,null,null,null,null,null,null,null,null,null,null,null,null,null,null,null,null,null,null,null,null,null,null,null,null,null,null,null,null,null,null,null,null,null,null,null,null,"",null,null,null,null,null,null,null,null,null,null,null,null,"",""]
[null,null,null,null,null,null,null,null,null,null,null,null,null,null,null,null,null,null,null,null,null,null,null,null,null,null,null,null,null,null,null,null,null,null,null,null,null,null,null,null,null,null,null,null,null,null,null,null,null,null,null,null,null,null,null,null,null,null,null,null,null,null,null,null,null,null,null,null,null,null,null,"",null,null,null,null,null,null,null,null,null,null,null,null,"",""]
[null,null,null,null,null,null,null,null,null,null,null,null,null,null,null,null,null,null,null,null,null,null,null,null,null,null,null,null,null,null,null,null,null,null,null,null,null,null,null,null,null,null,null,null,null,null,null,null,null,null,null,null,null,null,null,null,null,null,null,null,null,null,null,null,null,null,null,null,null,null,null,"",null,null,null,null,null,null,null,null,null,null,null,null,"",""]
[null,null,null,null,null,null,null,null,null,null,null,null,null,null,null,null,null,null,null,null,null,null,null,null,null,null,null,null,null,null,null,null,null,null,null,null,null,null,null,null,null,null,null,null,null,null,null,null,null,null,null,null,null,null,null,null,null,null,null,null,null,null,null,null,null,null,null,null,null,null,null,"",null,null,null,null,null,null,null,null,null,null,null,null,"",{"$f":"CG262","v":""}]
[null,null,null,null,null,null,null,null,null,null,null,null,null,null,null,null,null,null,null,null,null,null,null,null,null,null,null,null,null,null,null,null,null,null,null,null,null,null,null,null,null,null,null,null,null,null,null,null,null,null,null,null,null,null,null,null,null,null,null,null,null,null,null,null,null,null,null,null,null,null,null,{"$f":"IF(SUM(BP263:BS263)<>0,\"\",CONCATENATE(IF(BP263=\"SI\",CONCATENATE(\"Edad\",\" -> \",BQ263,\", \"),\"\"),IF(BR263=\"SI\",CONCATENATE(\"Nivel escolaridad\",\" -> \",BS263,\", \"),\"\")))","v":""},null,null,null,null,null,null,null,null,null,null,null,null,{"$f":"IF(AND(B263<>\"\",P263=\"Municipal\"),(45-SUM((COUNTIF(B263:Z263,\"\")),COUNTIF(BL263:CF263,\"No aplica\")))/45,IF(AND(B263<>\"\",P263=\"Departamental\"),(45-SUM((COUNTIF(B263:Z263,\"\")),COUNTIF(BL263:CF263,\"No aplica\")))/44,IF(AND(B263<>\"\",P263=\"Nacional\"),(45-SUM((COUNTIF(B263:Z263,\"\")),COUNTIF(BL263:CF263,\"No aplica\")))/43,\"\")))","v":""},""]
[null,null,null,null,null,null,null,null,null,null,null,null,null,null,null,null,null,null,null,null,null,null,null,null,null,null,null,null,null,null,null,null,null,null,null,null,null,null,null,null,null,null,null,null,null,null,null,null,null,null,null,null,null,null,null,null,null,null,null,null,null,null,null,null,null,null,null,null,null,null,null,"",null,null,null,null,null,null,null,null,null,null,null,null,"",""]
[null,null,null,null,null,null,null,null,null,null,null,null,null,null,null,null,null,null,null,null,null,null,null,null,null,null,null,null,null,null,null,null,null,null,null,null,null,null,null,null,null,null,null,null,null,null,null,null,null,null,null,null,null,null,null,null,null,null,null,null,null,null,null,null,null,null,null,null,null,null,null,"",null,null,null,null,null,null,null,null,null,null,null,null,"",""]
[null,null,null,null,null,null,null,null,null,null,null,null,null,null,null,null,null,null,null,null,null,null,null,null,null,null,null,null,null,null,null,null,null,null,null,null,null,null,null,null,null,null,null,null,null,null,null,null,null,null,null,null,null,null,null,null,null,null,null,null,null,null,null,null,null,null,null,null,null,null,null,"",null,null,null,null,null,null,null,null,null,null,null,null,"",""]
[null,null,null,null,null,null,null,null,null,null,null,null,null,null,null,null,null,null,null,null,null,null,null,null,null,null,null,null,null,null,null,null,null,null,null,null,null,null,null,null,null,null,null,null,null,null,null,null,null,null,null,null,null,null,null,null,null,null,null,null,null,null,null,null,null,null,null,null,null,null,null,"",null,null,null,null,null,null,null,null,null,null,null,null,"",""]
[null,null,null,null,null,null,null,null,null,null,null,null,null,null,null,null,null,null,null,null,null,null,null,null,null,null,null,null,null,null,null,null,null,null,null,null,null,null,null,null,null,null,null,null,null,null,null,null,null,null,null,null,null,null,null,null,null,null,null,null,null,null,null,null,null,null,null,null,null,null,null,"",null,null,null,null,null,null,null,null,null,null,null,null,"",""]
[null,null,null,null,null,null,null,null,null,null,null,null,null,null,null,null,null,null,null,null,null,null,null,null,null,null,null,null,null,null,null,null,null,null,null,null,null,null,null,null,null,null,null,null,null,null,null,null,null,null,null,null,null,null,null,null,null,null,null,null,null,null,null,null,null,null,null,null,null,null,null,"",null,null,null,null,null,null,null,null,null,null,null,null,"",""]
[null,null,null,null,null,null,null,null,null,null,null,null,null,null,null,null,null,null,null,null,null,null,null,null,null,null,null,null,null,null,null,null,null,null,null,null,null,null,null,null,null,null,null,null,null,null,null,null,null,null,null,null,null,null,null,null,null,null,null,null,null,null,null,null,null,null,null,null,null,null,null,"",null,null,null,null,null,null,null,null,null,null,null,null,"",""]
[null,null,null,null,null,null,null,null,null,null,null,null,null,null,null,null,null,null,null,null,null,null,null,null,null,null,null,null,null,null,null,null,null,null,null,null,null,null,null,null,null,null,null,null,null,null,null,null,null,null,null,null,null,null,null,null,null,null,null,null,null,null,null,null,null,null,null,null,null,null,null,"",null,null,null,null,null,null,null,null,null,null,null,null,"",""]
[null,null,null,null,null,null,null,null,null,null,null,null,null,null,null,null,null,null,null,null,null,null,null,null,null,null,null,null,null,null,null,null,null,null,null,null,null,null,null,null,null,null,null,null,null,null,null,null,null,null,null,null,null,null,null,null,null,null,null,null,null,null,null,null,null,null,null,null,null,null,null,"",null,null,null,null,null,null,null,null,null,null,null,null,"",""]
[null,null,null,null,null,null,null,null,null,null,null,null,null,null,null,null,null,null,null,null,null,null,null,null,null,null,null,null,null,null,null,null,null,null,null,null,null,null,null,null,null,null,null,null,null,null,null,null,null,null,null,null,null,null,null,null,null,null,null,null,null,null,null,null,null,null,null,null,null,null,null,"",null,null,null,null,null,null,null,null,null,null,null,null,"",""]
[null,null,null,null,null,null,null,null,null,null,null,null,null,null,null,null,null,null,null,null,null,null,null,null,null,null,null,null,null,null,null,null,null,null,null,null,null,null,null,null,null,null,null,null,null,null,null,null,null,null,null,null,null,null,null,null,null,null,null,null,null,null,null,null,null,null,null,null,null,null,null,"",null,null,null,null,null,null,null,null,null,null,null,null,"",""]
[null,null,null,null,null,null,null,null,null,null,null,null,null,null,null,null,null,null,null,null,null,null,null,null,null,null,null,null,null,null,null,null,null,null,null,null,null,null,null,null,null,null,null,null,null,null,null,null,null,null,null,null,null,null,null,null,null,null,null,null,null,null,null,null,null,null,null,null,null,null,null,"",null,null,null,null,null,null,null,null,null,null,null,null,"",""]
[null,null,null,null,null,null,null,null,null,null,null,null,null,null,null,null,null,null,null,null,null,null,null,null,null,null,null,null,null,null,null,null,null,null,null,null,null,null,null,null,null,null,null,null,null,null,null,null,null,null,null,null,null,null,null,null,null,null,null,null,null,null,null,null,null,null,null,null,null,null,null,"",null,null,null,null,null,null,null,null,null,null,null,null,"",""]
[null,null,null,null,null,null,null,null,null,null,null,null,null,null,null,null,null,null,null,null,null,null,null,null,null,null,null,null,null,null,null,null,null,null,null,null,null,null,null,null,null,null,null,null,null,null,null,null,null,null,null,null,null,null,null,null,null,null,null,null,null,null,null,null,null,null,null,null,null,null,null,"",null,null,null,null,null,null,null,null,null,null,null,null,"",""]
[null,null,null,null,null,null,null,null,null,null,null,null,null,null,null,null,null,null,null,null,null,null,null,null,null,null,null,null,null,null,null,null,null,null,null,null,null,null,null,null,null,null,null,null,null,null,null,null,null,null,null,null,null,null,null,null,null,null,null,null,null,null,null,null,null,null,null,null,null,null,null,"",null,null,null,null,null,null,null,null,null,null,null,null,"",""]
[null,null,null,null,null,null,null,null,null,null,null,null,null,null,null,null,null,null,null,null,null,null,null,null,null,null,null,null,null,null,null,null,null,null,null,null,null,null,null,null,null,null,null,null,null,null,null,null,null,null,null,null,null,null,null,null,null,null,null,null,null,null,null,null,null,null,null,null,null,null,null,"",null,null,null,null,null,null,null,null,null,null,null,null,"",""]
[null,null,null,null,null,null,null,null,null,null,null,null,null,null,null,null,null,null,null,null,null,null,null,null,null,null,null,null,null,null,null,null,null,null,null,null,null,null,null,null,null,null,null,null,null,null,null,null,null,null,null,null,null,null,null,null,null,null,null,null,null,null,null,null,null,null,null,null,null,null,null,"",null,null,null,null,null,null,null,null,null,null,null,null,"",""]
[null,null,null,null,null,null,null,null,null,null,null,null,null,null,null,null,null,null,null,null,null,null,null,null,null,null,null,null,null,null,null,null,null,null,null,null,null,null,null,null,null,null,null,null,null,null,null,null,null,null,null,null,null,null,null,null,null,null,null,null,null,null,null,null,null,null,null,null,null,null,null,"",null,null,null,null,null,null,null,null,null,null,null,null,"",""]
[null,null,null,null,null,null,null,null,null,null,null,null,null,null,null,null,null,null,null,null,null,null,null,null,null,null,null,null,null,null,null,null,null,null,null,null,null,null,null,null,null,null,null,null,null,null,null,null,null,null,null,null,null,null,null,null,null,null,null,null,null,null,null,null,null,null,null,null,null,null,null,"",null,null,null,null,null,null,null,null,null,null,null,null,"",""]
[null,null,null,null,null,null,null,null,null,null,null,null,null,null,null,null,null,null,null,null,null,null,null,null,null,null,null,null,null,null,null,null,null,null,null,null,null,null,null,null,null,null,null,null,null,null,null,null,null,null,null,null,null,null,null,null,null,null,null,null,null,null,null,null,null,null,null,null,null,null,null,"",null,null,null,null,null,null,null,null,null,null,null,null,"",""]
[null,null,null,null,null,null,null,null,null,null,null,null,null,null,null,null,null,null,null,null,null,null,null,null,null,null,null,null,null,null,null,null,null,null,null,null,null,null,null,null,null,null,null,null,null,null,null,null,null,null,null,null,null,null,null,null,null,null,null,null,null,null,null,null,null,null,null,null,null,null,null,"",null,null,null,null,null,null,null,null,null,null,null,null,"",""]
[null,null,null,null,null,null,null,null,null,null,null,null,null,null,null,null,null,null,null,null,null,null,null,null,null,null,null,null,null,null,null,null,null,null,null,null,null,null,null,null,null,null,null,null,null,null,null,null,null,null,null,null,null,null,null,null,null,null,null,null,null,null,null,null,null,null,null,null,null,null,null,"",null,null,null,null,null,null,null,null,null,null,null,null,"",""]
[null,null,null,null,null,null,null,null,null,null,null,null,null,null,null,null,null,null,null,null,null,null,null,null,null,null,null,null,null,null,null,null,null,null,null,null,null,null,null,null,null,null,null,null,null,null,null,null,null,null,null,null,null,null,null,null,null,null,null,null,null,null,null,null,null,null,null,null,null,null,null,"",null,null,null,null,null,null,null,null,null,null,null,null,"",""]
[null,null,null,null,null,null,null,null,null,null,null,null,null,null,null,null,null,null,null,null,null,null,null,null,null,null,null,null,null,null,null,null,null,null,null,null,null,null,null,null,null,null,null,null,null,null,null,null,null,null,null,null,null,null,null,null,null,null,null,null,null,null,null,null,null,null,null,null,null,null,null,"",null,null,null,null,null,null,null,null,null,null,null,null,"",""]
[null,null,null,null,null,null,null,null,null,null,null,null,null,null,null,null,null,null,null,null,null,null,null,null,null,null,null,null,null,null,null,null,null,null,null,null,null,null,null,null,null,null,null,null,null,null,null,null,null,null,null,null,null,null,null,null,null,null,null,null,null,null,null,null,null,null,null,null,null,null,null,"",null,null,null,null,null,null,null,null,null,null,null,null,"",""]
[null,null,null,null,null,null,null,null,null,null,null,null,null,null,null,null,null,null,null,null,null,null,null,null,null,null,null,null,null,null,null,null,null,null,null,null,null,null,null,null,null,null,null,null,null,null,null,null,null,null,null,null,null,null,null,null,null,null,null,null,null,null,null,null,null,null,null,null,null,null,null,"",null,null,null,null,null,null,null,null,null,null,null,null,"",""]
[null,null,null,null,null,null,null,null,null,null,null,null,null,null,null,null,null,null,null,null,null,null,null,null,null,null,null,null,null,null,null,null,null,null,null,null,null,null,null,null,null,null,null,null,null,null,null,null,null,null,null,null,null,null,null,null,null,null,null,null,null,null,null,null,null,null,null,null,null,null,null,"",null,null,null,null,null,null,null,null,null,null,null,null,"",""]
[null,null,null,null,null,null,null,null,null,null,null,null,null,null,null,null,null,null,null,null,null,null,null,null,null,null,null,null,null,null,null,null,null,null,null,null,null,null,null,null,null,null,null,null,null,null,null,null,null,null,null,null,null,null,null,null,null,null,null,null,null,null,null,null,null,null,null,null,null,null,null,"",null,null,null,null,null,null,null,null,null,null,null,null,"",""]
[null,null,null,null,null,null,null,null,null,null,null,null,null,null,null,null,null,null,null,null,null,null,null,null,null,null,null,null,null,null,null,null,null,null,null,null,null,null,null,null,null,null,null,null,null,null,null,null,null,null,null,null,null,null,null,null,null,null,null,null,null,null,null,null,null,null,null,null,null,null,null,"",null,null,null,null,null,null,null,null,null,null,null,null,"",""]
[null,null,null,null,null,null,null,null,null,null,null,null,null,null,null,null,null,null,null,null,null,null,null,null,null,null,null,null,null,null,null,null,null,null,null,null,null,null,null,null,null,null,null,null,null,null,null,null,null,null,null,null,null,null,null,null,null,null,null,null,null,null,null,null,null,null,null,null,null,null,null,"",null,null,null,null,null,null,null,null,null,null,null,null,"",""]
[null,null,null,null,null,null,null,null,null,null,null,null,null,null,null,null,null,null,null,null,null,null,null,null,null,null,null,null,null,null,null,null,null,null,null,null,null,null,null,null,null,null,null,null,null,null,null,null,null,null,null,null,null,null,null,null,null,null,null,null,null,null,null,null,null,null,null,null,null,null,null,"",null,null,null,null,null,null,null,null,null,null,null,null,"",""]
[null,null,null,null,null,null,null,null,null,null,null,null,null,null,null,null,null,null,null,null,null,null,null,null,null,null,null,null,null,null,null,null,null,null,null,null,null,null,null,null,null,null,null,null,null,null,null,null,null,null,null,null,null,null,null,null,null,null,null,null,null,null,null,null,null,null,null,null,null,null,null,"",null,null,null,null,null,null,null,null,null,null,null,null,"",""]
[null,null,null,null,null,null,null,null,null,null,null,null,null,null,null,null,null,null,null,null,null,null,null,null,null,null,null,null,null,null,null,null,null,null,null,null,null,null,null,null,null,null,null,null,null,null,null,null,null,null,null,null,null,null,null,null,null,null,null,null,null,null,null,null,null,null,null,null,null,null,null,"",null,null,null,null,null,null,null,null,null,null,null,null,"",""]
[null,null,null,null,null,null,null,null,null,null,null,null,null,null,null,null,null,null,null,null,null,null,null,null,null,null,null,null,null,null,null,null,null,null,null,null,null,null,null,null,null,null,null,null,null,null,null,null,null,null,null,null,null,null,null,null,null,null,null,null,null,null,null,null,null,null,null,null,null,null,null,"",null,null,null,null,null,null,null,null,null,null,null,null,"",""]
[null,null,null,null,null,null,null,null,null,null,null,null,null,null,null,null,null,null,null,null,null,null,null,null,null,null,null,null,null,null,null,null,null,null,null,null,null,null,null,null,null,null,null,null,null,null,null,null,null,null,null,null,null,null,null,null,null,null,null,null,null,null,null,null,null,null,null,null,null,null,null,"",null,null,null,null,null,null,null,null,null,null,null,null,"",""]
[null,null,null,null,null,null,null,null,null,null,null,null,null,null,null,null,null,null,null,null,null,null,null,null,null,null,null,null,null,null,null,null,null,null,null,null,null,null,null,null,null,null,null,null,null,null,null,null,null,null,null,null,null,null,null,null,null,null,null,null,null,null,null,null,null,null,null,null,null,null,null,"",null,null,null,null,null,null,null,null,null,null,null,null,"",""]
[null,null,null,null,null,null,null,null,null,null,null,null,null,null,null,null,null,null,null,null,null,null,null,null,null,null,null,null,null,null,null,null,null,null,null,null,null,null,null,null,null,null,null,null,null,null,null,null,null,null,null,null,null,null,null,null,null,null,null,null,null,null,null,null,null,null,null,null,null,null,null,"",null,null,null,null,null,null,null,null,null,null,null,null,"",""]
[null,null,null,null,null,null,null,null,null,null,null,null,null,null,null,null,null,null,null,null,null,null,null,null,null,null,null,null,null,null,null,null,null,null,null,null,null,null,null,null,null,null,null,null,null,null,null,null,null,null,null,null,null,null,null,null,null,null,null,null,null,null,null,null,null,null,null,null,null,null,null,"",null,null,null,null,null,null,null,null,null,null,null,null,"",""]
[null,null,null,null,null,null,null,null,null,null,null,null,null,null,null,null,null,null,null,null,null,null,null,null,null,null,null,null,null,null,null,null,null,null,null,null,null,null,null,null,null,null,null,null,null,null,null,null,null,null,null,null,null,null,null,null,null,null,null,null,null,null,null,null,null,null,null,null,null,null,null,"",null,null,null,null,null,null,null,null,null,null,null,null,"",""]
[null,null,null,null,null,null,null,null,null,null,null,null,null,null,null,null,null,null,null,null,null,null,null,null,null,null,null,null,null,null,null,null,null,null,null,null,null,null,null,null,null,null,null,null,null,null,null,null,null,null,null,null,null,null,null,null,null,null,null,null,null,null,null,null,null,null,null,null,null,null,null,"",null,null,null,null,null,null,null,null,null,null,null,null,"",""]
[null,null,null,null,null,null,null,null,null,null,null,null,null,null,null,null,null,null,null,null,null,null,null,null,null,null,null,null,null,null,null,null,null,null,null,null,null,null,null,null,null,null,null,null,null,null,null,null,null,null,null,null,null,null,null,null,null,null,null,null,null,null,null,null,null,null,null,null,null,null,null,"",null,null,null,null,null,null,null,null,null,null,null,null,"",""]
[null,null,null,null,null,null,null,null,null,null,null,null,null,null,null,null,null,null,null,null,null,null,null,null,null,null,null,null,null,null,null,null,null,null,null,null,null,null,null,null,null,null,null,null,null,null,null,null,null,null,null,null,null,null,null,null,null,null,null,null,null,null,null,null,null,null,null,null,null,null,null,"",null,null,null,null,null,null,null,null,null,null,null,null,"",""]
[null,null,null,null,null,null,null,null,null,null,null,null,null,null,null,null,null,null,null,null,null,null,null,null,null,null,null,null,null,null,null,null,null,null,null,null,null,null,null,null,null,null,null,null,null,null,null,null,null,null,null,null,null,null,null,null,null,null,null,null,null,null,null,null,null,null,null,null,null,null,null,"",null,null,null,null,null,null,null,null,null,null,null,null,"",""]
[null,null,null,null,null,null,null,null,null,null,null,null,null,null,null,null,null,null,null,null,null,null,null,null,null,null,null,null,null,null,null,null,null,null,null,null,null,null,null,null,null,null,null,null,null,null,null,null,null,null,null,null,null,null,null,null,null,null,null,null,null,null,null,null,null,null,null,null,null,null,null,"",null,null,null,null,null,null,null,null,null,null,null,null,"",""]
[null,null,null,null,null,null,null,null,null,null,null,null,null,null,null,null,null,null,null,null,null,null,null,null,null,null,null,null,null,null,null,null,null,null,null,null,null,null,null,null,null,null,null,null,null,null,null,null,null,null,null,null,null,null,null,null,null,null,null,null,null,null,null,null,null,null,null,null,null,null,null,"",null,null,null,null,null,null,null,null,null,null,null,null,"",""]
[null,null,null,null,null,null,null,null,null,null,null,null,null,null,null,null,null,null,null,null,null,null,null,null,null,null,null,null,null,null,null,null,null,null,null,null,null,null,null,null,null,null,null,null,null,null,null,null,null,null,null,null,null,null,null,null,null,null,null,null,null,null,null,null,null,null,null,null,null,null,null,"",null,null,null,null,null,null,null,null,null,null,null,null,"",""]
[null,null,null,null,null,null,null,null,null,null,null,null,null,null,null,null,null,null,null,null,null,null,null,null,null,null,null,null,null,null,null,null,null,null,null,null,null,null,null,null,null,null,null,null,null,null,null,null,null,null,null,null,null,null,null,null,null,null,null,null,null,null,null,null,null,null,null,null,null,null,null,"",null,null,null,null,null,null,null,null,null,null,null,null,"",""]
[null,null,null,null,null,null,null,null,null,null,null,null,null,null,null,null,null,null,null,null,null,null,null,null,null,null,null,null,null,null,null,null,null,null,null,null,null,null,null,null,null,null,null,null,null,null,null,null,null,null,null,null,null,null,null,null,null,null,null,null,null,null,null,null,null,null,null,null,null,null,null,"",null,null,null,null,null,null,null,null,null,null,null,null,"",""]
[null,null,null,null,null,null,null,null,null,null,null,null,null,null,null,null,null,null,null,null,null,null,null,null,null,null,null,null,null,null,null,null,null,null,null,null,null,null,null,null,null,null,null,null,null,null,null,null,null,null,null,null,null,null,null,null,null,null,null,null,null,null,null,null,null,null,null,null,null,null,null,"",null,null,null,null,null,null,null,null,null,null,null,null,"",""]
[null,null,null,null,null,null,null,null,null,null,null,null,null,null,null,null,null,null,null,null,null,null,null,null,null,null,null,null,null,null,null,null,null,null,null,null,null,null,null,null,null,null,null,null,null,null,null,null,null,null,null,null,null,null,null,null,null,null,null,null,null,null,null,null,null,null,null,null,null,null,null,"",null,null,null,null,null,null,null,null,null,null,null,null,"",""]
[null,null,null,null,null,null,null,null,null,null,null,null,null,null,null,null,null,null,null,null,null,null,null,null,null,null,null,null,null,null,null,null,null,null,null,null,null,null,null,null,null,null,null,null,null,null,null,null,null,null,null,null,null,null,null,null,null,null,null,null,null,null,null,null,null,null,null,null,null,null,null,"",null,null,null,null,null,null,null,null,null,null,null,null,"",""]
[null,null,null,null,null,null,null,null,null,null,null,null,null,null,null,null,null,null,null,null,null,null,null,null,null,null,null,null,null,null,null,null,null,null,null,null,null,null,null,null,null,null,null,null,null,null,null,null,null,null,null,null,null,null,null,null,null,null,null,null,null,null,null,null,null,null,null,null,null,null,null,"",null,null,null,null,null,null,null,null,null,null,null,null,"",""]
[null,null,null,null,null,null,null,null,null,null,null,null,null,null,null,null,null,null,null,null,null,null,null,null,null,null,null,null,null,null,null,null,null,null,null,null,null,null,null,null,null,null,null,null,null,null,null,null,null,null,null,null,null,null,null,null,null,null,null,null,null,null,null,null,null,null,null,null,null,null,null,"",null,null,null,null,null,null,null,null,null,null,null,null,"",""]
[null,null,null,null,null,null,null,null,null,null,null,null,null,null,null,null,null,null,null,null,null,null,null,null,null,null,null,null,null,null,null,null,null,null,null,null,null,null,null,null,null,null,null,null,null,null,null,null,null,null,null,null,null,null,null,null,null,null,null,null,null,null,null,null,null,null,null,null,null,null,null,"",null,null,null,null,null,null,null,null,null,null,null,null,"",""]
[null,null,null,null,null,null,null,null,null,null,null,null,null,null,null,null,null,null,null,null,null,null,null,null,null,null,null,null,null,null,null,null,null,null,null,null,null,null,null,null,null,null,null,null,null,null,null,null,null,null,null,null,null,null,null,null,null,null,null,null,null,null,null,null,null,null,null,null,null,null,null,"",null,null,null,null,null,null,null,null,null,null,null,null,"",""]
[null,null,null,null,null,null,null,null,null,null,null,null,null,null,null,null,null,null,null,null,null,null,null,null,null,null,null,null,null,null,null,null,null,null,null,null,null,null,null,null,null,null,null,null,null,null,null,null,null,null,null,null,null,null,null,null,null,null,null,null,null,null,null,null,null,null,null,null,null,null,null,"",null,null,null,null,null,null,null,null,null,null,null,null,"",""]
[null,null,null,null,null,null,null,null,null,null,null,null,null,null,null,null,null,null,null,null,null,null,null,null,null,null,null,null,null,null,null,null,null,null,null,null,null,null,null,null,null,null,null,null,null,null,null,null,null,null,null,null,null,null,null,null,null,null,null,null,null,null,null,null,null,null,null,null,null,null,null,"",null,null,null,null,null,null,null,null,null,null,null,null,"",""]
[null,null,null,null,null,null,null,null,null,null,null,null,null,null,null,null,null,null,null,null,null,null,null,null,null,null,null,null,null,null,null,null,null,null,null,null,null,null,null,null,null,null,null,null,null,null,null,null,null,null,null,null,null,null,null,null,null,null,null,null,null,null,null,null,null,null,null,null,null,null,null,"",null,null,null,null,null,null,null,null,null,null,null,null,"",""]
[null,null,null,null,null,null,null,null,null,null,null,null,null,null,null,null,null,null,null,null,null,null,null,null,null,null,null,null,null,null,null,null,null,null,null,null,null,null,null,null,null,null,null,null,null,null,null,null,null,null,null,null,null,null,null,null,null,null,null,null,null,null,null,null,null,null,null,null,null,null,null,"",null,null,null,null,null,null,null,null,null,null,null,null,"",""]
[null,null,null,null,null,null,null,null,null,null,null,null,null,null,null,null,null,null,null,null,null,null,null,null,null,null,null,null,null,null,null,null,null,null,null,null,null,null,null,null,null,null,null,null,null,null,null,null,null,null,null,null,null,null,null,null,null,null,null,null,null,null,null,null,null,null,null,null,null,null,null,"",null,null,null,null,null,null,null,null,null,null,null,null,"",""]
[null,null,null,null,null,null,null,null,null,null,null,null,null,null,null,null,null,null,null,null,null,null,null,null,null,null,null,null,null,null,null,null,null,null,null,null,null,null,null,null,null,null,null,null,null,null,null,null,null,null,null,null,null,null,null,null,null,null,null,null,null,null,null,null,null,null,null,null,null,null,null,"",null,null,null,null,null,null,null,null,null,null,null,null,"",""]
[null,null,null,null,null,null,null,null,null,null,null,null,null,null,null,null,null,null,null,null,null,null,null,null,null,null,null,null,null,null,null,null,null,null,null,null,null,null,null,null,null,null,null,null,null,null,null,null,null,null,null,null,null,null,null,null,null,null,null,null,null,null,null,null,null,null,null,null,null,null,null,"",null,null,null,null,null,null,null,null,null,null,null,null,"",""]
[null,null,null,null,null,null,null,null,null,null,null,null,null,null,null,null,null,null,null,null,null,null,null,null,null,null,null,null,null,null,null,null,null,null,null,null,null,null,null,null,null,null,null,null,null,null,null,null,null,null,null,null,null,null,null,null,null,null,null,null,null,null,null,null,null,null,null,null,null,null,null,"",null,null,null,null,null,null,null,null,null,null,null,null,"",{"$f":"CG326","v":""}]
[null,null,null,null,null,null,null,null,null,null,null,null,null,null,null,null,null,null,null,null,null,null,null,null,null,null,null,null,null,null,null,null,null,null,null,null,null,null,null,null,null,null,null,null,null,null,null,null,null,null,null,null,null,null,null,null,null,null,null,null,null,null,null,null,null,null,null,null,null,null,null,{"$f":"IF(SUM(BP327:BS327)<>0,\"\",CONCATENATE(IF(BP327=\"SI\",CONCATENATE(\"Edad\",\" -> \",BQ327,\", \"),\"\"),IF(BR327=\"SI\",CONCATENATE(\"Nivel escolaridad\",\" -> \",BS327,\", \"),\"\")))","v":""},null,null,null,null,null,null,null,null,null,null,null,null,{"$f":"IF(AND(B327<>\"\",P327=\"Municipal\"),(45-SUM((COUNTIF(B327:Z327,\"\")),COUNTIF(BL327:CF327,\"No aplica\")))/45,IF(AND(B327<>\"\",P327=\"Departamental\"),(45-SUM((COUNTIF(B327:Z327,\"\")),COUNTIF(BL327:CF327,\"No aplica\")))/44,IF(AND(B327<>\"\",P327=\"Nacional\"),(45-SUM((COUNTIF(B327:Z327,\"\")),COUNTIF(BL327:CF327,\"No aplica\")))/43,\"\")))","v":""},""]
[null,null,null,null,null,null,null,null,null,null,null,null,null,null,null,null,null,null,null,null,null,null,null,null,null,null,null,null,null,null,null,null,null,null,null,null,null,null,null,null,null,null,null,null,null,null,null,null,null,null,null,null,null,null,null,null,null,null,null,null,null,null,null,null,null,null,null,null,null,null,null,"",null,null,null,null,null,null,null,null,null,null,null,null,"",""]
[null,null,null,null,null,null,null,null,null,null,null,null,null,null,null,null,null,null,null,null,null,null,null,null,null,null,null,null,null,null,null,null,null,null,null,null,null,null,null,null,null,null,null,null,null,null,null,null,null,null,null,null,null,null,null,null,null,null,null,null,null,null,null,null,null,null,null,null,null,null,null,"",null,null,null,null,null,null,null,null,null,null,null,null,"",""]
[null,null,null,null,null,null,null,null,null,null,null,null,null,null,null,null,null,null,null,null,null,null,null,null,null,null,null,null,null,null,null,null,null,null,null,null,null,null,null,null,null,null,null,null,null,null,null,null,null,null,null,null,null,null,null,null,null,null,null,null,null,null,null,null,null,null,null,null,null,null,null,"",null,null,null,null,null,null,null,null,null,null,null,null,"",""]
[null,null,null,null,null,null,null,null,null,null,null,null,null,null,null,null,null,null,null,null,null,null,null,null,null,null,null,null,null,null,null,null,null,null,null,null,null,null,null,null,null,null,null,null,null,null,null,null,null,null,null,null,null,null,null,null,null,null,null,null,null,null,null,null,null,null,null,null,null,null,null,"",null,null,null,null,null,null,null,null,null,null,null,null,"",""]
[null,null,null,null,null,null,null,null,null,null,null,null,null,null,null,null,null,null,null,null,null,null,null,null,null,null,null,null,null,null,null,null,null,null,null,null,null,null,null,null,null,null,null,null,null,null,null,null,null,null,null,null,null,null,null,null,null,null,null,null,null,null,null,null,null,null,null,null,null,null,null,"",null,null,null,null,null,null,null,null,null,null,null,null,"",""]
[null,null,null,null,null,null,null,null,null,null,null,null,null,null,null,null,null,null,null,null,null,null,null,null,null,null,null,null,null,null,null,null,null,null,null,null,null,null,null,null,null,null,null,null,null,null,null,null,null,null,null,null,null,null,null,null,null,null,null,null,null,null,null,null,null,null,null,null,null,null,null,"",null,null,null,null,null,null,null,null,null,null,null,null,"",""]
[null,null,null,null,null,null,null,null,null,null,null,null,null,null,null,null,null,null,null,null,null,null,null,null,null,null,null,null,null,null,null,null,null,null,null,null,null,null,null,null,null,null,null,null,null,null,null,null,null,null,null,null,null,null,null,null,null,null,null,null,null,null,null,null,null,null,null,null,null,null,null,"",null,null,null,null,null,null,null,null,null,null,null,null,"",""]
[null,null,null,null,null,null,null,null,null,null,null,null,null,null,null,null,null,null,null,null,null,null,null,null,null,null,null,null,null,null,null,null,null,null,null,null,null,null,null,null,null,null,null,null,null,null,null,null,null,null,null,null,null,null,null,null,null,null,null,null,null,null,null,null,null,null,null,null,null,null,null,"",null,null,null,null,null,null,null,null,null,null,null,null,"",""]
[null,null,null,null,null,null,null,null,null,null,null,null,null,null,null,null,null,null,null,null,null,null,null,null,null,null,null,null,null,null,null,null,null,null,null,null,null,null,null,null,null,null,null,null,null,null,null,null,null,null,null,null,null,null,null,null,null,null,null,null,null,null,null,null,null,null,null,null,null,null,null,"",null,null,null,null,null,null,null,null,null,null,null,null,"",""]
[null,null,null,null,null,null,null,null,null,null,null,null,null,null,null,null,null,null,null,null,null,null,null,null,null,null,null,null,null,null,null,null,null,null,null,null,null,null,null,null,null,null,null,null,null,null,null,null,null,null,null,null,null,null,null,null,null,null,null,null,null,null,null,null,null,null,null,null,null,null,null,"",null,null,null,null,null,null,null,null,null,null,null,null,"",""]
[null,null,null,null,null,null,null,null,null,null,null,null,null,null,null,null,null,null,null,null,null,null,null,null,null,null,null,null,null,null,null,null,null,null,null,null,null,null,null,null,null,null,null,null,null,null,null,null,null,null,null,null,null,null,null,null,null,null,null,null,null,null,null,null,null,null,null,null,null,null,null,"",null,null,null,null,null,null,null,null,null,null,null,null,"",""]
[null,null,null,null,null,null,null,null,null,null,null,null,null,null,null,null,null,null,null,null,null,null,null,null,null,null,null,null,null,null,null,null,null,null,null,null,null,null,null,null,null,null,null,null,null,null,null,null,null,null,null,null,null,null,null,null,null,null,null,null,null,null,null,null,null,null,null,null,null,null,null,"",null,null,null,null,null,null,null,null,null,null,null,null,"",""]
[null,null,null,null,null,null,null,null,null,null,null,null,null,null,null,null,null,null,null,null,null,null,null,null,null,null,null,null,null,null,null,null,null,null,null,null,null,null,null,null,null,null,null,null,null,null,null,null,null,null,null,null,null,null,null,null,null,null,null,null,null,null,null,null,null,null,null,null,null,null,null,"",null,null,null,null,null,null,null,null,null,null,null,null,"",""]
[null,null,null,null,null,null,null,null,null,null,null,null,null,null,null,null,null,null,null,null,null,null,null,null,null,null,null,null,null,null,null,null,null,null,null,null,null,null,null,null,null,null,null,null,null,null,null,null,null,null,null,null,null,null,null,null,null,null,null,null,null,null,null,null,null,null,null,null,null,null,null,"",null,null,null,null,null,null,null,null,null,null,null,null,"",""]
[null,null,null,null,null,null,null,null,null,null,null,null,null,null,null,null,null,null,null,null,null,null,null,null,null,null,null,null,null,null,null,null,null,null,null,null,null,null,null,null,null,null,null,null,null,null,null,null,null,null,null,null,null,null,null,null,null,null,null,null,null,null,null,null,null,null,null,null,null,null,null,"",null,null,null,null,null,null,null,null,null,null,null,null,"",""]
[null,null,null,null,null,null,null,null,null,null,null,null,null,null,null,null,null,null,null,null,null,null,null,null,null,null,null,null,null,null,null,null,null,null,null,null,null,null,null,null,null,null,null,null,null,null,null,null,null,null,null,null,null,null,null,null,null,null,null,null,null,null,null,null,null,null,null,null,null,null,null,"",null,null,null,null,null,null,null,null,null,null,null,null,"",""]
[null,null,null,null,null,null,null,null,null,null,null,null,null,null,null,null,null,null,null,null,null,null,null,null,null,null,null,null,null,null,null,null,null,null,null,null,null,null,null,null,null,null,null,null,null,null,null,null,null,null,null,null,null,null,null,null,null,null,null,null,null,null,null,null,null,null,null,null,null,null,null,"",null,null,null,null,null,null,null,null,null,null,null,null,"",""]
[null,null,null,null,null,null,null,null,null,null,null,null,null,null,null,null,null,null,null,null,null,null,null,null,null,null,null,null,null,null,null,null,null,null,null,null,null,null,null,null,null,null,null,null,null,null,null,null,null,null,null,null,null,null,null,null,null,null,null,null,null,null,null,null,null,null,null,null,null,null,null,"",null,null,null,null,null,null,null,null,null,null,null,null,"",""]
[null,null,null,null,null,null,null,null,null,null,null,null,null,null,null,null,null,null,null,null,null,null,null,null,null,null,null,null,null,null,null,null,null,null,null,null,null,null,null,null,null,null,null,null,null,null,null,null,null,null,null,null,null,null,null,null,null,null,null,null,null,null,null,null,null,null,null,null,null,null,null,"",null,null,null,null,null,null,null,null,null,null,null,null,"",""]
[null,null,null,null,null,null,null,null,null,null,null,null,null,null,null,null,null,null,null,null,null,null,null,null,null,null,null,null,null,null,null,null,null,null,null,null,null,null,null,null,null,null,null,null,null,null,null,null,null,null,null,null,null,null,null,null,null,null,null,null,null,null,null,null,null,null,null,null,null,null,null,"",null,null,null,null,null,null,null,null,null,null,null,null,"",""]
[null,null,null,null,null,null,null,null,null,null,null,null,null,null,null,null,null,null,null,null,null,null,null,null,null,null,null,null,null,null,null,null,null,null,null,null,null,null,null,null,null,null,null,null,null,null,null,null,null,null,null,null,null,null,null,null,null,null,null,null,null,null,null,null,null,null,null,null,null,null,null,"",null,null,null,null,null,null,null,null,null,null,null,null,"",""]
[null,null,null,null,null,null,null,null,null,null,null,null,null,null,null,null,null,null,null,null,null,null,null,null,null,null,null,null,null,null,null,null,null,null,null,null,null,null,null,null,null,null,null,null,null,null,null,null,null,null,null,null,null,null,null,null,null,null,null,null,null,null,null,null,null,null,null,null,null,null,null,"",null,null,null,null,null,null,null,null,null,null,null,null,"",""]
[null,null,null,null,null,null,null,null,null,null,null,null,null,null,null,null,null,null,null,null,null,null,null,null,null,null,null,null,null,null,null,null,null,null,null,null,null,null,null,null,null,null,null,null,null,null,null,null,null,null,null,null,null,null,null,null,null,null,null,null,null,null,null,null,null,null,null,null,null,null,null,"",null,null,null,null,null,null,null,null,null,null,null,null,"",""]
[null,null,null,null,null,null,null,null,null,null,null,null,null,null,null,null,null,null,null,null,null,null,null,null,null,null,null,null,null,null,null,null,null,null,null,null,null,null,null,null,null,null,null,null,null,null,null,null,null,null,null,null,null,null,null,null,null,null,null,null,null,null,null,null,null,null,null,null,null,null,null,"",null,null,null,null,null,null,null,null,null,null,null,null,"",""]
[null,null,null,null,null,null,null,null,null,null,null,null,null,null,null,null,null,null,null,null,null,null,null,null,null,null,null,null,null,null,null,null,null,null,null,null,null,null,null,null,null,null,null,null,null,null,null,null,null,null,null,null,null,null,null,null,null,null,null,null,null,null,null,null,null,null,null,null,null,null,null,"",null,null,null,null,null,null,null,null,null,null,null,null,"",""]
[null,null,null,null,null,null,null,null,null,null,null,null,null,null,null,null,null,null,null,null,null,null,null,null,null,null,null,null,null,null,null,null,null,null,null,null,null,null,null,null,null,null,null,null,null,null,null,null,null,null,null,null,null,null,null,null,null,null,null,null,null,null,null,null,null,null,null,null,null,null,null,"",null,null,null,null,null,null,null,null,null,null,null,null,"",""]
[null,null,null,null,null,null,null,null,null,null,null,null,null,null,null,null,null,null,null,null,null,null,null,null,null,null,null,null,null,null,null,null,null,null,null,null,null,null,null,null,null,null,null,null,null,null,null,null,null,null,null,null,null,null,null,null,null,null,null,null,null,null,null,null,null,null,null,null,null,null,null,"",null,null,null,null,null,null,null,null,null,null,null,null,"",""]
[null,null,null,null,null,null,null,null,null,null,null,null,null,null,null,null,null,null,null,null,null,null,null,null,null,null,null,null,null,null,null,null,null,null,null,null,null,null,null,null,null,null,null,null,null,null,null,null,null,null,null,null,null,null,null,null,null,null,null,null,null,null,null,null,null,null,null,null,null,null,null,"",null,null,null,null,null,null,null,null,null,null,null,null,"",""]
[null,null,null,null,null,null,null,null,null,null,null,null,null,null,null,null,null,null,null,null,null,null,null,null,null,null,null,null,null,null,null,null,null,null,null,null,null,null,null,null,null,null,null,null,null,null,null,null,null,null,null,null,null,null,null,null,null,null,null,null,null,null,null,null,null,null,null,null,null,null,null,"",null,null,null,null,null,null,null,null,null,null,null,null,"",""]
[null,null,null,null,null,null,null,null,null,null,null,null,null,null,null,null,null,null,null,null,null,null,null,null,null,null,null,null,null,null,null,null,null,null,null,null,null,null,null,null,null,null,null,null,null,null,null,null,null,null,null,null,null,null,null,null,null,null,null,null,null,null,null,null,null,null,null,null,null,null,null,"",null,null,null,null,null,null,null,null,null,null,null,null,"",""]
[null,null,null,null,null,null,null,null,null,null,null,null,null,null,null,null,null,null,null,null,null,null,null,null,null,null,null,null,null,null,null,null,null,null,null,null,null,null,null,null,null,null,null,null,null,null,null,null,null,null,null,null,null,null,null,null,null,null,null,null,null,null,null,null,null,null,null,null,null,null,null,"",null,null,null,null,null,null,null,null,null,null,null,null,"",""]
[null,null,null,null,null,null,null,null,null,null,null,null,null,null,null,null,null,null,null,null,null,null,null,null,null,null,null,null,null,null,null,null,null,null,null,null,null,null,null,null,null,null,null,null,null,null,null,null,null,null,null,null,null,null,null,null,null,null,null,null,null,null,null,null,null,null,null,null,null,null,null,"",null,null,null,null,null,null,null,null,null,null,null,null,"",""]
[null,null,null,null,null,null,null,null,null,null,null,null,null,null,null,null,null,null,null,null,null,null,null,null,null,null,null,null,null,null,null,null,null,null,null,null,null,null,null,null,null,null,null,null,null,null,null,null,null,null,null,null,null,null,null,null,null,null,null,null,null,null,null,null,null,null,null,null,null,null,null,"",null,null,null,null,null,null,null,null,null,null,null,null,"",""]
[null,null,null,null,null,null,null,null,null,null,null,null,null,null,null,null,null,null,null,null,null,null,null,null,null,null,null,null,null,null,null,null,null,null,null,null,null,null,null,null,null,null,null,null,null,null,null,null,null,null,null,null,null,null,null,null,null,null,null,null,null,null,null,null,null,null,null,null,null,null,null,"",null,null,null,null,null,null,null,null,null,null,null,null,"",""]
[null,null,null,null,null,null,null,null,null,null,null,null,null,null,null,null,null,null,null,null,null,null,null,null,null,null,null,null,null,null,null,null,null,null,null,null,null,null,null,null,null,null,null,null,null,null,null,null,null,null,null,null,null,null,null,null,null,null,null,null,null,null,null,null,null,null,null,null,null,null,null,"",null,null,null,null,null,null,null,null,null,null,null,null,"",""]
[null,null,null,null,null,null,null,null,null,null,null,null,null,null,null,null,null,null,null,null,null,null,null,null,null,null,null,null,null,null,null,null,null,null,null,null,null,null,null,null,null,null,null,null,null,null,null,null,null,null,null,null,null,null,null,null,null,null,null,null,null,null,null,null,null,null,null,null,null,null,null,"",null,null,null,null,null,null,null,null,null,null,null,null,"",""]
[null,null,null,null,null,null,null,null,null,null,null,null,null,null,null,null,null,null,null,null,null,null,null,null,null,null,null,null,null,null,null,null,null,null,null,null,null,null,null,null,null,null,null,null,null,null,null,null,null,null,null,null,null,null,null,null,null,null,null,null,null,null,null,null,null,null,null,null,null,null,null,"",null,null,null,null,null,null,null,null,null,null,null,null,"",""]
[null,null,null,null,null,null,null,null,null,null,null,null,null,null,null,null,null,null,null,null,null,null,null,null,null,null,null,null,null,null,null,null,null,null,null,null,null,null,null,null,null,null,null,null,null,null,null,null,null,null,null,null,null,null,null,null,null,null,null,null,null,null,null,null,null,null,null,null,null,null,null,"",null,null,null,null,null,null,null,null,null,null,null,null,"",""]
[null,null,null,null,null,null,null,null,null,null,null,null,null,null,null,null,null,null,null,null,null,null,null,null,null,null,null,null,null,null,null,null,null,null,null,null,null,null,null,null,null,null,null,null,null,null,null,null,null,null,null,null,null,null,null,null,null,null,null,null,null,null,null,null,null,null,null,null,null,null,null,"",null,null,null,null,null,null,null,null,null,null,null,null,"",""]
[null,null,null,null,null,null,null,null,null,null,null,null,null,null,null,null,null,null,null,null,null,null,null,null,null,null,null,null,null,null,null,null,null,null,null,null,null,null,null,null,null,null,null,null,null,null,null,null,null,null,null,null,null,null,null,null,null,null,null,null,null,null,null,null,null,null,null,null,null,null,null,"",null,null,null,null,null,null,null,null,null,null,null,null,"",""]
[null,null,null,null,null,null,null,null,null,null,null,null,null,null,null,null,null,null,null,null,null,null,null,null,null,null,null,null,null,null,null,null,null,null,null,null,null,null,null,null,null,null,null,null,null,null,null,null,null,null,null,null,null,null,null,null,null,null,null,null,null,null,null,null,null,null,null,null,null,null,null,"",null,null,null,null,null,null,null,null,null,null,null,null,"",""]
[null,null,null,null,null,null,null,null,null,null,null,null,null,null,null,null,null,null,null,null,null,null,null,null,null,null,null,null,null,null,null,null,null,null,null,null,null,null,null,null,null,null,null,null,null,null,null,null,null,null,null,null,null,null,null,null,null,null,null,null,null,null,null,null,null,null,null,null,null,null,null,"",null,null,null,null,null,null,null,null,null,null,null,null,"",""]
[null,null,null,null,null,null,null,null,null,null,null,null,null,null,null,null,null,null,null,null,null,null,null,null,null,null,null,null,null,null,null,null,null,null,null,null,null,null,null,null,null,null,null,null,null,null,null,null,null,null,null,null,null,null,null,null,null,null,null,null,null,null,null,null,null,null,null,null,null,null,null,"",null,null,null,null,null,null,null,null,null,null,null,null,"",""]
[null,null,null,null,null,null,null,null,null,null,null,null,null,null,null,null,null,null,null,null,null,null,null,null,null,null,null,null,null,null,null,null,null,null,null,null,null,null,null,null,null,null,null,null,null,null,null,null,null,null,null,null,null,null,null,null,null,null,null,null,null,null,null,null,null,null,null,null,null,null,null,"",null,null,null,null,null,null,null,null,null,null,null,null,"",""]
[null,null,null,null,null,null,null,null,null,null,null,null,null,null,null,null,null,null,null,null,null,null,null,null,null,null,null,null,null,null,null,null,null,null,null,null,null,null,null,null,null,null,null,null,null,null,null,null,null,null,null,null,null,null,null,null,null,null,null,null,null,null,null,null,null,null,null,null,null,null,null,"",null,null,null,null,null,null,null,null,null,null,null,null,"",""]
[null,null,null,null,null,null,null,null,null,null,null,null,null,null,null,null,null,null,null,null,null,null,null,null,null,null,null,null,null,null,null,null,null,null,null,null,null,null,null,null,null,null,null,null,null,null,null,null,null,null,null,null,null,null,null,null,null,null,null,null,null,null,null,null,null,null,null,null,null,null,null,"",null,null,null,null,null,null,null,null,null,null,null,null,"",""]
[null,null,null,null,null,null,null,null,null,null,null,null,null,null,null,null,null,null,null,null,null,null,null,null,null,null,null,null,null,null,null,null,null,null,null,null,null,null,null,null,null,null,null,null,null,null,null,null,null,null,null,null,null,null,null,null,null,null,null,null,null,null,null,null,null,null,null,null,null,null,null,"",null,null,null,null,null,null,null,null,null,null,null,null,"",""]
[null,null,null,null,null,null,null,null,null,null,null,null,null,null,null,null,null,null,null,null,null,null,null,null,null,null,null,null,null,null,null,null,null,null,null,null,null,null,null,null,null,null,null,null,null,null,null,null,null,null,null,null,null,null,null,null,null,null,null,null,null,null,null,null,null,null,null,null,null,null,null,"",null,null,null,null,null,null,null,null,null,null,null,null,"",""]
[null,null,null,null,null,null,null,null,null,null,null,null,null,null,null,null,null,null,null,null,null,null,null,null,null,null,null,null,null,null,null,null,null,null,null,null,null,null,null,null,null,null,null,null,null,null,null,null,null,null,null,null,null,null,null,null,null,null,null,null,null,null,null,null,null,null,null,null,null,null,null,"",null,null,null,null,null,null,null,null,null,null,null,null,"",""]
[null,null,null,null,null,null,null,null,null,null,null,null,null,null,null,null,null,null,null,null,null,null,null,null,null,null,null,null,null,null,null,null,null,null,null,null,null,null,null,null,null,null,null,null,null,null,null,null,null,null,null,null,null,null,null,null,null,null,null,null,null,null,null,null,null,null,null,null,null,null,null,"",null,null,null,null,null,null,null,null,null,null,null,null,"",""]
[null,null,null,null,null,null,null,null,null,null,null,null,null,null,null,null,null,null,null,null,null,null,null,null,null,null,null,null,null,null,null,null,null,null,null,null,null,null,null,null,null,null,null,null,null,null,null,null,null,null,null,null,null,null,null,null,null,null,null,null,null,null,null,null,null,null,null,null,null,null,null,"",null,null,null,null,null,null,null,null,null,null,null,null,"",""]
[null,null,null,null,null,null,null,null,null,null,null,null,null,null,null,null,null,null,null,null,null,null,null,null,null,null,null,null,null,null,null,null,null,null,null,null,null,null,null,null,null,null,null,null,null,null,null,null,null,null,null,null,null,null,null,null,null,null,null,null,null,null,null,null,null,null,null,null,null,null,null,"",null,null,null,null,null,null,null,null,null,null,null,null,"",""]
[null,null,null,null,null,null,null,null,null,null,null,null,null,null,null,null,null,null,null,null,null,null,null,null,null,null,null,null,null,null,null,null,null,null,null,null,null,null,null,null,null,null,null,null,null,null,null,null,null,null,null,null,null,null,null,null,null,null,null,null,null,null,null,null,null,null,null,null,null,null,null,"",null,null,null,null,null,null,null,null,null,null,null,null,"",""]
[null,null,null,null,null,null,null,null,null,null,null,null,null,null,null,null,null,null,null,null,null,null,null,null,null,null,null,null,null,null,null,null,null,null,null,null,null,null,null,null,null,null,null,null,null,null,null,null,null,null,null,null,null,null,null,null,null,null,null,null,null,null,null,null,null,null,null,null,null,null,null,"",null,null,null,null,null,null,null,null,null,null,null,null,"",""]
[null,null,null,null,null,null,null,null,null,null,null,null,null,null,null,null,null,null,null,null,null,null,null,null,null,null,null,null,null,null,null,null,null,null,null,null,null,null,null,null,null,null,null,null,null,null,null,null,null,null,null,null,null,null,null,null,null,null,null,null,null,null,null,null,null,null,null,null,null,null,null,"",null,null,null,null,null,null,null,null,null,null,null,null,"",""]
[null,null,null,null,null,null,null,null,null,null,null,null,null,null,null,null,null,null,null,null,null,null,null,null,null,null,null,null,null,null,null,null,null,null,null,null,null,null,null,null,null,null,null,null,null,null,null,null,null,null,null,null,null,null,null,null,null,null,null,null,null,null,null,null,null,null,null,null,null,null,null,"",null,null,null,null,null,null,null,null,null,null,null,null,"",""]
[null,null,null,null,null,null,null,null,null,null,null,null,null,null,null,null,null,null,null,null,null,null,null,null,null,null,null,null,null,null,null,null,null,null,null,null,null,null,null,null,null,null,null,null,null,null,null,null,null,null,null,null,null,null,null,null,null,null,null,null,null,null,null,null,null,null,null,null,null,null,null,"",null,null,null,null,null,null,null,null,null,null,null,null,"",""]
[null,null,null,null,null,null,null,null,null,null,null,null,null,null,null,null,null,null,null,null,null,null,null,null,null,null,null,null,null,null,null,null,null,null,null,null,null,null,null,null,null,null,null,null,null,null,null,null,null,null,null,null,null,null,null,null,null,null,null,null,null,null,null,null,null,null,null,null,null,null,null,"",null,null,null,null,null,null,null,null,null,null,null,null,"",""]
[null,null,null,null,null,null,null,null,null,null,null,null,null,null,null,null,null,null,null,null,null,null,null,null,null,null,null,null,null,null,null,null,null,null,null,null,null,null,null,null,null,null,null,null,null,null,null,null,null,null,null,null,null,null,null,null,null,null,null,null,null,null,null,null,null,null,null,null,null,null,null,"",null,null,null,null,null,null,null,null,null,null,null,null,"",""]
[null,null,null,null,null,null,null,null,null,null,null,null,null,null,null,null,null,null,null,null,null,null,null,null,null,null,null,null,null,null,null,null,null,null,null,null,null,null,null,null,null,null,null,null,null,null,null,null,null,null,null,null,null,null,null,null,null,null,null,null,null,null,null,null,null,null,null,null,null,null,null,"",null,null,null,null,null,null,null,null,null,null,null,null,"",""]
[null,null,null,null,null,null,null,null,null,null,null,null,null,null,null,null,null,null,null,null,null,null,null,null,null,null,null,null,null,null,null,null,null,null,null,null,null,null,null,null,null,null,null,null,null,null,null,null,null,null,null,null,null,null,null,null,null,null,null,null,null,null,null,null,null,null,null,null,null,null,null,"",null,null,null,null,null,null,null,null,null,null,null,null,"",""]
[null,null,null,null,null,null,null,null,null,null,null,null,null,null,null,null,null,null,null,null,null,null,null,null,null,null,null,null,null,null,null,null,null,null,null,null,null,null,null,null,null,null,null,null,null,null,null,null,null,null,null,null,null,null,null,null,null,null,null,null,null,null,null,null,null,null,null,null,null,null,null,"",null,null,null,null,null,null,null,null,null,null,null,null,"",""]
[null,null,null,null,null,null,null,null,null,null,null,null,null,null,null,null,null,null,null,null,null,null,null,null,null,null,null,null,null,null,null,null,null,null,null,null,null,null,null,null,null,null,null,null,null,null,null,null,null,null,null,null,null,null,null,null,null,null,null,null,null,null,null,null,null,null,null,null,null,null,null,"",null,null,null,null,null,null,null,null,null,null,null,null,"",{"$f":"CG390","v":""}]
[null,null,null,null,null,null,null,null,null,null,null,null,null,null,null,null,null,null,null,null,null,null,null,null,null,null,null,null,null,null,null,null,null,null,null,null,null,null,null,null,null,null,null,null,null,null,null,null,null,null,null,null,null,null,null,null,null,null,null,null,null,null,null,null,null,null,null,null,null,null,null,{"$f":"IF(SUM(BP391:BS391)<>0,\"\",CONCATENATE(IF(BP391=\"SI\",CONCATENATE(\"Edad\",\" -> \",BQ391,\", \"),\"\"),IF(BR391=\"SI\",CONCATENATE(\"Nivel escolaridad\",\" -> \",BS391,\", \"),\"\")))","v":""},null,null,null,null,null,null,null,null,null,null,null,null,{"$f":"IF(AND(B391<>\"\",P391=\"Municipal\"),(45-SUM((COUNTIF(B391:Z391,\"\")),COUNTIF(BL391:CF391,\"No aplica\")))/45,IF(AND(B391<>\"\",P391=\"Departamental\"),(45-SUM((COUNTIF(B391:Z391,\"\")),COUNTIF(BL391:CF391,\"No aplica\")))/44,IF(AND(B391<>\"\",P391=\"Nacional\"),(45-SUM((COUNTIF(B391:Z391,\"\")),COUNTIF(BL391:CF391,\"No aplica\")))/43,\"\")))","v":""},""]
[null,null,null,null,null,null,null,null,null,null,null,null,null,null,null,null,null,null,null,null,null,null,null,null,null,null,null,null,null,null,null,null,null,null,null,null,null,null,null,null,null,null,null,null,null,null,null,null,null,null,null,null,null,null,null,null,null,null,null,null,null,null,null,null,null,null,null,null,null,null,null,"",null,null,null,null,null,null,null,null,null,null,null,null,"",""]
[null,null,null,null,null,null,null,null,null,null,null,null,null,null,null,null,null,null,null,null,null,null,null,null,null,null,null,null,null,null,null,null,null,null,null,null,null,null,null,null,null,null,null,null,null,null,null,null,null,null,null,null,null,null,null,null,null,null,null,null,null,null,null,null,null,null,null,null,null,null,null,"",null,null,null,null,null,null,null,null,null,null,null,null,"",""]
[null,null,null,null,null,null,null,null,null,null,null,null,null,null,null,null,null,null,null,null,null,null,null,null,null,null,null,null,null,null,null,null,null,null,null,null,null,null,null,null,null,null,null,null,null,null,null,null,null,null,null,null,null,null,null,null,null,null,null,null,null,null,null,null,null,null,null,null,null,null,null,"",null,null,null,null,null,null,null,null,null,null,null,null,"",""]
[null,null,null,null,null,null,null,null,null,null,null,null,null,null,null,null,null,null,null,null,null,null,null,null,null,null,null,null,null,null,null,null,null,null,null,null,null,null,null,null,null,null,null,null,null,null,null,null,null,null,null,null,null,null,null,null,null,null,null,null,null,null,null,null,null,null,null,null,null,null,null,"",null,null,null,null,null,null,null,null,null,null,null,null,"",""]
[null,null,null,null,null,null,null,null,null,null,null,null,null,null,null,null,null,null,null,null,null,null,null,null,null,null,null,null,null,null,null,null,null,null,null,null,null,null,null,null,null,null,null,null,null,null,null,null,null,null,null,null,null,null,null,null,null,null,null,null,null,null,null,null,null,null,null,null,null,null,null,"",null,null,null,null,null,null,null,null,null,null,null,null,"",""]
[null,null,null,null,null,null,null,null,null,null,null,null,null,null,null,null,null,null,null,null,null,null,null,null,null,null,null,null,null,null,null,null,null,null,null,null,null,null,null,null,null,null,null,null,null,null,null,null,null,null,null,null,null,null,null,null,null,null,null,null,null,null,null,null,null,null,null,null,null,null,null,"",null,null,null,null,null,null,null,null,null,null,null,null,"",""]
[null,null,null,null,null,null,null,null,null,null,null,null,null,null,null,null,null,null,null,null,null,null,null,null,null,null,null,null,null,null,null,null,null,null,null,null,null,null,null,null,null,null,null,null,null,null,null,null,null,null,null,null,null,null,null,null,null,null,null,null,null,null,null,null,null,null,null,null,null,null,null,"",null,null,null,null,null,null,null,null,null,null,null,null,"",""]
[null,null,null,null,null,null,null,null,null,null,null,null,null,null,null,null,null,null,null,null,null,null,null,null,null,null,null,null,null,null,null,null,null,null,null,null,null,null,null,null,null,null,null,null,null,null,null,null,null,null,null,null,null,null,null,null,null,null,null,null,null,null,null,null,null,null,null,null,null,null,null,"",null,null,null,null,null,null,null,null,null,null,null,null,"",""]
[null,null,null,null,null,null,null,null,null,null,null,null,null,null,null,null,null,null,null,null,null,null,null,null,null,null,null,null,null,null,null,null,null,null,null,null,null,null,null,null,null,null,null,null,null,null,null,null,null,null,null,null,null,null,null,null,null,null,null,null,null,null,null,null,null,null,null,null,null,null,null,"",null,null,null,null,null,null,null,null,null,null,null,null,"",""]
[null,null,null,null,null,null,null,null,null,null,null,null,null,null,null,null,null,null,null,null,null,null,null,null,null,null,null,null,null,null,null,null,null,null,null,null,null,null,null,null,null,null,null,null,null,null,null,null,null,null,null,null,null,null,null,null,null,null,null,null,null,null,null,null,null,null,null,null,null,null,null,"",null,null,null,null,null,null,null,null,null,null,null,null,"",""]
[null,null,null,null,null,null,null,null,null,null,null,null,null,null,null,null,null,null,null,null,null,null,null,null,null,null,null,null,null,null,null,null,null,null,null,null,null,null,null,null,null,null,null,null,null,null,null,null,null,null,null,null,null,null,null,null,null,null,null,null,null,null,null,null,null,null,null,null,null,null,null,"",null,null,null,null,null,null,null,null,null,null,null,null,"",""]
[null,null,null,null,null,null,null,null,null,null,null,null,null,null,null,null,null,null,null,null,null,null,null,null,null,null,null,null,null,null,null,null,null,null,null,null,null,null,null,null,null,null,null,null,null,null,null,null,null,null,null,null,null,null,null,null,null,null,null,null,null,null,null,null,null,null,null,null,null,null,null,"",null,null,null,null,null,null,null,null,null,null,null,null,"",""]
[null,null,null,null,null,null,null,null,null,null,null,null,null,null,null,null,null,null,null,null,null,null,null,null,null,null,null,null,null,null,null,null,null,null,null,null,null,null,null,null,null,null,null,null,null,null,null,null,null,null,null,null,null,null,null,null,null,null,null,null,null,null,null,null,null,null,null,null,null,null,null,"",null,null,null,null,null,null,null,null,null,null,null,null,"",""]
[null,null,null,null,null,null,null,null,null,null,null,null,null,null,null,null,null,null,null,null,null,null,null,null,null,null,null,null,null,null,null,null,null,null,null,null,null,null,null,null,null,null,null,null,null,null,null,null,null,null,null,null,null,null,null,null,null,null,null,null,null,null,null,null,null,null,null,null,null,null,null,"",null,null,null,null,null,null,null,null,null,null,null,null,"",""]
[null,null,null,null,null,null,null,null,null,null,null,null,null,null,null,null,null,null,null,null,null,null,null,null,null,null,null,null,null,null,null,null,null,null,null,null,null,null,null,null,null,null,null,null,null,null,null,null,null,null,null,null,null,null,null,null,null,null,null,null,null,null,null,null,null,null,null,null,null,null,null,"",null,null,null,null,null,null,null,null,null,null,null,null,"",""]
[null,null,null,null,null,null,null,null,null,null,null,null,null,null,null,null,null,null,null,null,null,null,null,null,null,null,null,null,null,null,null,null,null,null,null,null,null,null,null,null,null,null,null,null,null,null,null,null,null,null,null,null,null,null,null,null,null,null,null,null,null,null,null,null,null,null,null,null,null,null,null,"",null,null,null,null,null,null,null,null,null,null,null,null,"",""]
[null,null,null,null,null,null,null,null,null,null,null,null,null,null,null,null,null,null,null,null,null,null,null,null,null,null,null,null,null,null,null,null,null,null,null,null,null,null,null,null,null,null,null,null,null,null,null,null,null,null,null,null,null,null,null,null,null,null,null,null,null,null,null,null,null,null,null,null,null,null,null,"",null,null,null,null,null,null,null,null,null,null,null,null,"",""]
[null,null,null,null,null,null,null,null,null,null,null,null,null,null,null,null,null,null,null,null,null,null,null,null,null,null,null,null,null,null,null,null,null,null,null,null,null,null,null,null,null,null,null,null,null,null,null,null,null,null,null,null,null,null,null,null,null,null,null,null,null,null,null,null,null,null,null,null,null,null,null,"",null,null,null,null,null,null,null,null,null,null,null,null,"",""]
[null,null,null,null,null,null,null,null,null,null,null,null,null,null,null,null,null,null,null,null,null,null,null,null,null,null,null,null,null,null,null,null,null,null,null,null,null,null,null,null,null,null,null,null,null,null,null,null,null,null,null,null,null,null,null,null,null,null,null,null,null,null,null,null,null,null,null,null,null,null,null,"",null,null,null,null,null,null,null,null,null,null,null,null,"",""]
[null,null,null,null,null,null,null,null,null,null,null,null,null,null,null,null,null,null,null,null,null,null,null,null,null,null,null,null,null,null,null,null,null,null,null,null,null,null,null,null,null,null,null,null,null,null,null,null,null,null,null,null,null,null,null,null,null,null,null,null,null,null,null,null,null,null,null,null,null,null,null,"",null,null,null,null,null,null,null,null,null,null,null,null,"",""]
[null,null,null,null,null,null,null,null,null,null,null,null,null,null,null,null,null,null,null,null,null,null,null,null,null,null,null,null,null,null,null,null,null,null,null,null,null,null,null,null,null,null,null,null,null,null,null,null,null,null,null,null,null,null,null,null,null,null,null,null,null,null,null,null,null,null,null,null,null,null,null,"",null,null,null,null,null,null,null,null,null,null,null,null,"",""]
[null,null,null,null,null,null,null,null,null,null,null,null,null,null,null,null,null,null,null,null,null,null,null,null,null,null,null,null,null,null,null,null,null,null,null,null,null,null,null,null,null,null,null,null,null,null,null,null,null,null,null,null,null,null,null,null,null,null,null,null,null,null,null,null,null,null,null,null,null,null,null,"",null,null,null,null,null,null,null,null,null,null,null,null,"",""]
[null,null,null,null,null,null,null,null,null,null,null,null,null,null,null,null,null,null,null,null,null,null,null,null,null,null,null,null,null,null,null,null,null,null,null,null,null,null,null,null,null,null,null,null,null,null,null,null,null,null,null,null,null,null,null,null,null,null,null,null,null,null,null,null,null,null,null,null,null,null,null,"",null,null,null,null,null,null,null,null,null,null,null,null,"",""]
[null,null,null,null,null,null,null,null,null,null,null,null,null,null,null,null,null,null,null,null,null,null,null,null,null,null,null,null,null,null,null,null,null,null,null,null,null,null,null,null,null,null,null,null,null,null,null,null,null,null,null,null,null,null,null,null,null,null,null,null,null,null,null,null,null,null,null,null,null,null,null,"",null,null,null,null,null,null,null,null,null,null,null,null,"",""]
[null,null,null,null,null,null,null,null,null,null,null,null,null,null,null,null,null,null,null,null,null,null,null,null,null,null,null,null,null,null,null,null,null,null,null,null,null,null,null,null,null,null,null,null,null,null,null,null,null,null,null,null,null,null,null,null,null,null,null,null,null,null,null,null,null,null,null,null,null,null,null,"",null,null,null,null,null,null,null,null,null,null,null,null,"",""]
[null,null,null,null,null,null,null,null,null,null,null,null,null,null,null,null,null,null,null,null,null,null,null,null,null,null,null,null,null,null,null,null,null,null,null,null,null,null,null,null,null,null,null,null,null,null,null,null,null,null,null,null,null,null,null,null,null,null,null,null,null,null,null,null,null,null,null,null,null,null,null,"",null,null,null,null,null,null,null,null,null,null,null,null,"",""]
[null,null,null,null,null,null,null,null,null,null,null,null,null,null,null,null,null,null,null,null,null,null,null,null,null,null,null,null,null,null,null,null,null,null,null,null,null,null,null,null,null,null,null,null,null,null,null,null,null,null,null,null,null,null,null,null,null,null,null,null,null,null,null,null,null,null,null,null,null,null,null,"",null,null,null,null,null,null,null,null,null,null,null,null,"",""]
[null,null,null,null,null,null,null,null,null,null,null,null,null,null,null,null,null,null,null,null,null,null,null,null,null,null,null,null,null,null,null,null,null,null,null,null,null,null,null,null,null,null,null,null,null,null,null,null,null,null,null,null,null,null,null,null,null,null,null,null,null,null,null,null,null,null,null,null,null,null,null,"",null,null,null,null,null,null,null,null,null,null,null,null,"",""]
[null,null,null,null,null,null,null,null,null,null,null,null,null,null,null,null,null,null,null,null,null,null,null,null,null,null,null,null,null,null,null,null,null,null,null,null,null,null,null,null,null,null,null,null,null,null,null,null,null,null,null,null,null,null,null,null,null,null,null,null,null,null,null,null,null,null,null,null,null,null,null,"",null,null,null,null,null,null,null,null,null,null,null,null,"",""]
[null,null,null,null,null,null,null,null,null,null,null,null,null,null,null,null,null,null,null,null,null,null,null,null,null,null,null,null,null,null,null,null,null,null,null,null,null,null,null,null,null,null,null,null,null,null,null,null,null,null,null,null,null,null,null,null,null,null,null,null,null,null,null,null,null,null,null,null,null,null,null,"",null,null,null,null,null,null,null,null,null,null,null,null,"",""]
[null,null,null,null,null,null,null,null,null,null,null,null,null,null,null,null,null,null,null,null,null,null,null,null,null,null,null,null,null,null,null,null,null,null,null,null,null,null,null,null,null,null,null,null,null,null,null,null,null,null,null,null,null,null,null,null,null,null,null,null,null,null,null,null,null,null,null,null,null,null,null,"",null,null,null,null,null,null,null,null,null,null,null,null,"",""]
[null,null,null,null,null,null,null,null,null,null,null,null,null,null,null,null,null,null,null,null,null,null,null,null,null,null,null,null,null,null,null,null,null,null,null,null,null,null,null,null,null,null,null,null,null,null,null,null,null,null,null,null,null,null,null,null,null,null,null,null,null,null,null,null,null,null,null,null,null,null,null,"",null,null,null,null,null,null,null,null,null,null,null,null,"",""]
[null,null,null,null,null,null,null,null,null,null,null,null,null,null,null,null,null,null,null,null,null,null,null,null,null,null,null,null,null,null,null,null,null,null,null,null,null,null,null,null,null,null,null,null,null,null,null,null,null,null,null,null,null,null,null,null,null,null,null,null,null,null,null,null,null,null,null,null,null,null,null,"",null,null,null,null,null,null,null,null,null,null,null,null,"",""]
[null,null,null,null,null,null,null,null,null,null,null,null,null,null,null,null,null,null,null,null,null,null,null,null,null,null,null,null,null,null,null,null,null,null,null,null,null,null,null,null,null,null,null,null,null,null,null,null,null,null,null,null,null,null,null,null,null,null,null,null,null,null,null,null,null,null,null,null,null,null,null,"",null,null,null,null,null,null,null,null,null,null,null,null,"",""]
[null,null,null,null,null,null,null,null,null,null,null,null,null,null,null,null,null,null,null,null,null,null,null,null,null,null,null,null,null,null,null,null,null,null,null,null,null,null,null,null,null,null,null,null,null,null,null,null,null,null,null,null,null,null,null,null,null,null,null,null,null,null,null,null,null,null,null,null,null,null,null,"",null,null,null,null,null,null,null,null,null,null,null,null,"",""]
[null,null,null,null,null,null,null,null,null,null,null,null,null,null,null,null,null,null,null,null,null,null,null,null,null,null,null,null,null,null,null,null,null,null,null,null,null,null,null,null,null,null,null,null,null,null,null,null,null,null,null,null,null,null,null,null,null,null,null,null,null,null,null,null,null,null,null,null,null,null,null,"",null,null,null,null,null,null,null,null,null,null,null,null,"",""]
[null,null,null,null,null,null,null,null,null,null,null,null,null,null,null,null,null,null,null,null,null,null,null,null,null,null,null,null,null,null,null,null,null,null,null,null,null,null,null,null,null,null,null,null,null,null,null,null,null,null,null,null,null,null,null,null,null,null,null,null,null,null,null,null,null,null,null,null,null,null,null,"",null,null,null,null,null,null,null,null,null,null,null,null,"",""]
[null,null,null,null,null,null,null,null,null,null,null,null,null,null,null,null,null,null,null,null,null,null,null,null,null,null,null,null,null,null,null,null,null,null,null,null,null,null,null,null,null,null,null,null,null,null,null,null,null,null,null,null,null,null,null,null,null,null,null,null,null,null,null,null,null,null,null,null,null,null,null,"",null,null,null,null,null,null,null,null,null,null,null,null,"",""]
[null,null,null,null,null,null,null,null,null,null,null,null,null,null,null,null,null,null,null,null,null,null,null,null,null,null,null,null,null,null,null,null,null,null,null,null,null,null,null,null,null,null,null,null,null,null,null,null,null,null,null,null,null,null,null,null,null,null,null,null,null,null,null,null,null,null,null,null,null,null,null,"",null,null,null,null,null,null,null,null,null,null,null,null,"",""]
[null,null,null,null,null,null,null,null,null,null,null,null,null,null,null,null,null,null,null,null,null,null,null,null,null,null,null,null,null,null,null,null,null,null,null,null,null,null,null,null,null,null,null,null,null,null,null,null,null,null,null,null,null,null,null,null,null,null,null,null,null,null,null,null,null,null,null,null,null,null,null,"",null,null,null,null,null,null,null,null,null,null,null,null,"",""]
[null,null,null,null,null,null,null,null,null,null,null,null,null,null,null,null,null,null,null,null,null,null,null,null,null,null,null,null,null,null,null,null,null,null,null,null,null,null,null,null,null,null,null,null,null,null,null,null,null,null,null,null,null,null,null,null,null,null,null,null,null,null,null,null,null,null,null,null,null,null,null,"",null,null,null,null,null,null,null,null,null,null,null,null,"",""]
[null,null,null,null,null,null,null,null,null,null,null,null,null,null,null,null,null,null,null,null,null,null,null,null,null,null,null,null,null,null,null,null,null,null,null,null,null,null,null,null,null,null,null,null,null,null,null,null,null,null,null,null,null,null,null,null,null,null,null,null,null,null,null,null,null,null,null,null,null,null,null,"",null,null,null,null,null,null,null,null,null,null,null,null,"",""]
[null,null,null,null,null,null,null,null,null,null,null,null,null,null,null,null,null,null,null,null,null,null,null,null,null,null,null,null,null,null,null,null,null,null,null,null,null,null,null,null,null,null,null,null,null,null,null,null,null,null,null,null,null,null,null,null,null,null,null,null,null,null,null,null,null,null,null,null,null,null,null,"",null,null,null,null,null,null,null,null,null,null,null,null,"",""]
[null,null,null,null,null,null,null,null,null,null,null,null,null,null,null,null,null,null,null,null,null,null,null,null,null,null,null,null,null,null,null,null,null,null,null,null,null,null,null,null,null,null,null,null,null,null,null,null,null,null,null,null,null,null,null,null,null,null,null,null,null,null,null,null,null,null,null,null,null,null,null,"",null,null,null,null,null,null,null,null,null,null,null,null,"",""]
[null,null,null,null,null,null,null,null,null,null,null,null,null,null,null,null,null,null,null,null,null,null,null,null,null,null,null,null,null,null,null,null,null,null,null,null,null,null,null,null,null,null,null,null,null,null,null,null,null,null,null,null,null,null,null,null,null,null,null,null,null,null,null,null,null,null,null,null,null,null,null,"",null,null,null,null,null,null,null,null,null,null,null,null,"",""]
[null,null,null,null,null,null,null,null,null,null,null,null,null,null,null,null,null,null,null,null,null,null,null,null,null,null,null,null,null,null,null,null,null,null,null,null,null,null,null,null,null,null,null,null,null,null,null,null,null,null,null,null,null,null,null,null,null,null,null,null,null,null,null,null,null,null,null,null,null,null,null,"",null,null,null,null,null,null,null,null,null,null,null,null,"",""]
[null,null,null,null,null,null,null,null,null,null,null,null,null,null,null,null,null,null,null,null,null,null,null,null,null,null,null,null,null,null,null,null,null,null,null,null,null,null,null,null,null,null,null,null,null,null,null,null,null,null,null,null,null,null,null,null,null,null,null,null,null,null,null,null,null,null,null,null,null,null,null,"",null,null,null,null,null,null,null,null,null,null,null,null,"",""]
[null,null,null,null,null,null,null,null,null,null,null,null,null,null,null,null,null,null,null,null,null,null,null,null,null,null,null,null,null,null,null,null,null,null,null,null,null,null,null,null,null,null,null,null,null,null,null,null,null,null,null,null,null,null,null,null,null,null,null,null,null,null,null,null,null,null,null,null,null,null,null,"",null,null,null,null,null,null,null,null,null,null,null,null,"",""]
[null,null,null,null,null,null,null,null,null,null,null,null,null,null,null,null,null,null,null,null,null,null,null,null,null,null,null,null,null,null,null,null,null,null,null,null,null,null,null,null,null,null,null,null,null,null,null,null,null,null,null,null,null,null,null,null,null,null,null,null,null,null,null,null,null,null,null,null,null,null,null,"",null,null,null,null,null,null,null,null,null,null,null,null,"",""]
[null,null,null,null,null,null,null,null,null,null,null,null,null,null,null,null,null,null,null,null,null,null,null,null,null,null,null,null,null,null,null,null,null,null,null,null,null,null,null,null,null,null,null,null,null,null,null,null,null,null,null,null,null,null,null,null,null,null,null,null,null,null,null,null,null,null,null,null,null,null,null,"",null,null,null,null,null,null,null,null,null,null,null,null,"",""]
[null,null,null,null,null,null,null,null,null,null,null,null,null,null,null,null,null,null,null,null,null,null,null,null,null,null,null,null,null,null,null,null,null,null,null,null,null,null,null,null,null,null,null,null,null,null,null,null,null,null,null,null,null,null,null,null,null,null,null,null,null,null,null,null,null,null,null,null,null,null,null,"",null,null,null,null,null,null,null,null,null,null,null,null,"",""]
[null,null,null,null,null,null,null,null,null,null,null,null,null,null,null,null,null,null,null,null,null,null,null,null,null,null,null,null,null,null,null,null,null,null,null,null,null,null,null,null,null,null,null,null,null,null,null,null,null,null,null,null,null,null,null,null,null,null,null,null,null,null,null,null,null,null,null,null,null,null,null,"",null,null,null,null,null,null,null,null,null,null,null,null,"",""]
[null,null,null,null,null,null,null,null,null,null,null,null,null,null,null,null,null,null,null,null,null,null,null,null,null,null,null,null,null,null,null,null,null,null,null,null,null,null,null,null,null,null,null,null,null,null,null,null,null,null,null,null,null,null,null,null,null,null,null,null,null,null,null,null,null,null,null,null,null,null,null,"",null,null,null,null,null,null,null,null,null,null,null,null,"",""]
[null,null,null,null,null,null,null,null,null,null,null,null,null,null,null,null,null,null,null,null,null,null,null,null,null,null,null,null,null,null,null,null,null,null,null,null,null,null,null,null,null,null,null,null,null,null,null,null,null,null,null,null,null,null,null,null,null,null,null,null,null,null,null,null,null,null,null,null,null,null,null,"",null,null,null,null,null,null,null,null,null,null,null,null,"",""]
[null,null,null,null,null,null,null,null,null,null,null,null,null,null,null,null,null,null,null,null,null,null,null,null,null,null,null,null,null,null,null,null,null,null,null,null,null,null,null,null,null,null,null,null,null,null,null,null,null,null,null,null,null,null,null,null,null,null,null,null,null,null,null,null,null,null,null,null,null,null,null,"",null,null,null,null,null,null,null,null,null,null,null,null,"",""]
[null,null,null,null,null,null,null,null,null,null,null,null,null,null,null,null,null,null,null,null,null,null,null,null,null,null,null,null,null,null,null,null,null,null,null,null,null,null,null,null,null,null,null,null,null,null,null,null,null,null,null,null,null,null,null,null,null,null,null,null,null,null,null,null,null,null,null,null,null,null,null,"",null,null,null,null,null,null,null,null,null,null,null,null,"",""]
[null,null,null,null,null,null,null,null,null,null,null,null,null,null,null,null,null,null,null,null,null,null,null,null,null,null,null,null,null,null,null,null,null,null,null,null,null,null,null,null,null,null,null,null,null,null,null,null,null,null,null,null,null,null,null,null,null,null,null,null,null,null,null,null,null,null,null,null,null,null,null,"",null,null,null,null,null,null,null,null,null,null,null,null,"",""]
[null,null,null,null,null,null,null,null,null,null,null,null,null,null,null,null,null,null,null,null,null,null,null,null,null,null,null,null,null,null,null,null,null,null,null,null,null,null,null,null,null,null,null,null,null,null,null,null,null,null,null,null,null,null,null,null,null,null,null,null,null,null,null,null,null,null,null,null,null,null,null,"",null,null,null,null,null,null,null,null,null,null,null,null,"",""]
[null,null,null,null,null,null,null,null,null,null,null,null,null,null,null,null,null,null,null,null,null,null,null,null,null,null,null,null,null,null,null,null,null,null,null,null,null,null,null,null,null,null,null,null,null,null,null,null,null,null,null,null,null,null,null,null,null,null,null,null,null,null,null,null,null,null,null,null,null,null,null,"",null,null,null,null,null,null,null,null,null,null,null,null,"",""]
[null,null,null,null,null,null,null,null,null,null,null,null,null,null,null,null,null,null,null,null,null,null,null,null,null,null,null,null,null,null,null,null,null,null,null,null,null,null,null,null,null,null,null,null,null,null,null,null,null,null,null,null,null,null,null,null,null,null,null,null,null,null,null,null,null,null,null,null,null,null,null,"",null,null,null,null,null,null,null,null,null,null,null,null,"",""]
[null,null,null,null,null,null,null,null,null,null,null,null,null,null,null,null,null,null,null,null,null,null,null,null,null,null,null,null,null,null,null,null,null,null,null,null,null,null,null,null,null,null,null,null,null,null,null,null,null,null,null,null,null,null,null,null,null,null,null,null,null,null,null,null,null,null,null,null,null,null,null,"",null,null,null,null,null,null,null,null,null,null,null,null,"",""]
[null,null,null,null,null,null,null,null,null,null,null,null,null,null,null,null,null,null,null,null,null,null,null,null,null,null,null,null,null,null,null,null,null,null,null,null,null,null,null,null,null,null,null,null,null,null,null,null,null,null,null,null,null,null,null,null,null,null,null,null,null,null,null,null,null,null,null,null,null,null,null,"",null,null,null,null,null,null,null,null,null,null,null,null,"",""]
[null,null,null,null,null,null,null,null,null,null,null,null,null,null,null,null,null,null,null,null,null,null,null,null,null,null,null,null,null,null,null,null,null,null,null,null,null,null,null,null,null,null,null,null,null,null,null,null,null,null,null,null,null,null,null,null,null,null,null,null,null,null,null,null,null,null,null,null,null,null,null,"",null,null,null,null,null,null,null,null,null,null,null,null,"",{"$f":"CG454","v":""}]
[null,null,null,null,null,null,null,null,null,null,null,null,null,null,null,null,null,null,null,null,null,null,null,null,null,null,null,null,null,null,null,null,null,null,null,null,null,null,null,null,null,null,null,null,null,null,null,null,null,null,null,null,null,null,null,null,null,null,null,null,null,null,null,null,null,null,null,null,null,null,null,{"$f":"IF(SUM(BP455:BS455)<>0,\"\",CONCATENATE(IF(BP455=\"SI\",CONCATENATE(\"Edad\",\" -> \",BQ455,\", \"),\"\"),IF(BR455=\"SI\",CONCATENATE(\"Nivel escolaridad\",\" -> \",BS455,\", \"),\"\")))","v":""},null,null,null,null,null,null,null,null,null,null,null,null,{"$f":"IF(AND(B455<>\"\",P455=\"Municipal\"),(45-SUM((COUNTIF(B455:Z455,\"\")),COUNTIF(BL455:CF455,\"No aplica\")))/45,IF(AND(B455<>\"\",P455=\"Departamental\"),(45-SUM((COUNTIF(B455:Z455,\"\")),COUNTIF(BL455:CF455,\"No aplica\")))/44,IF(AND(B455<>\"\",P455=\"Nacional\"),(45-SUM((COUNTIF(B455:Z455,\"\")),COUNTIF(BL455:CF455,\"No aplica\")))/43,\"\")))","v":""},""]
[null,null,null,null,null,null,null,null,null,null,null,null,null,null,null,null,null,null,null,null,null,null,null,null,null,null,null,null,null,null,null,null,null,null,null,null,null,null,null,null,null,null,null,null,null,null,null,null,null,null,null,null,null,null,null,null,null,null,null,null,null,null,null,null,null,null,null,null,null,null,null,"",null,null,null,null,null,null,null,null,null,null,null,null,"",""]
[null,null,null,null,null,null,null,null,null,null,null,null,null,null,null,null,null,null,null,null,null,null,null,null,null,null,null,null,null,null,null,null,null,null,null,null,null,null,null,null,null,null,null,null,null,null,null,null,null,null,null,null,null,null,null,null,null,null,null,null,null,null,null,null,null,null,null,null,null,null,null,"",null,null,null,null,null,null,null,null,null,null,null,null,"",""]
[null,null,null,null,null,null,null,null,null,null,null,null,null,null,null,null,null,null,null,null,null,null,null,null,null,null,null,null,null,null,null,null,null,null,null,null,null,null,null,null,null,null,null,null,null,null,null,null,null,null,null,null,null,null,null,null,null,null,null,null,null,null,null,null,null,null,null,null,null,null,null,"",null,null,null,null,null,null,null,null,null,null,null,null,"",""]
[null,null,null,null,null,null,null,null,null,null,null,null,null,null,null,null,null,null,null,null,null,null,null,null,null,null,null,null,null,null,null,null,null,null,null,null,null,null,null,null,null,null,null,null,null,null,null,null,null,null,null,null,null,null,null,null,null,null,null,null,null,null,null,null,null,null,null,null,null,null,null,"",null,null,null,null,null,null,null,null,null,null,null,null,"",""]
[null,null,null,null,null,null,null,null,null,null,null,null,null,null,null,null,null,null,null,null,null,null,null,null,null,null,null,null,null,null,null,null,null,null,null,null,null,null,null,null,null,null,null,null,null,null,null,null,null,null,null,null,null,null,null,null,null,null,null,null,null,null,null,null,null,null,null,null,null,null,null,"",null,null,null,null,null,null,null,null,null,null,null,null,"",""]
[null,null,null,null,null,null,null,null,null,null,null,null,null,null,null,null,null,null,null,null,null,null,null,null,null,null,null,null,null,null,null,null,null,null,null,null,null,null,null,null,null,null,null,null,null,null,null,null,null,null,null,null,null,null,null,null,null,null,null,null,null,null,null,null,null,null,null,null,null,null,null,"",null,null,null,null,null,null,null,null,null,null,null,null,"",""]
[null,null,null,null,null,null,null,null,null,null,null,null,null,null,null,null,null,null,null,null,null,null,null,null,null,null,null,null,null,null,null,null,null,null,null,null,null,null,null,null,null,null,null,null,null,null,null,null,null,null,null,null,null,null,null,null,null,null,null,null,null,null,null,null,null,null,null,null,null,null,null,"",null,null,null,null,null,null,null,null,null,null,null,null,"",""]
[null,null,null,null,null,null,null,null,null,null,null,null,null,null,null,null,null,null,null,null,null,null,null,null,null,null,null,null,null,null,null,null,null,null,null,null,null,null,null,null,null,null,null,null,null,null,null,null,null,null,null,null,null,null,null,null,null,null,null,null,null,null,null,null,null,null,null,null,null,null,null,"",null,null,null,null,null,null,null,null,null,null,null,null,"",""]
[null,null,null,null,null,null,null,null,null,null,null,null,null,null,null,null,null,null,null,null,null,null,null,null,null,null,null,null,null,null,null,null,null,null,null,null,null,null,null,null,null,null,null,null,null,null,null,null,null,null,null,null,null,null,null,null,null,null,null,null,null,null,null,null,null,null,null,null,null,null,null,"",null,null,null,null,null,null,null,null,null,null,null,null,"",""]
[null,null,null,null,null,null,null,null,null,null,null,null,null,null,null,null,null,null,null,null,null,null,null,null,null,null,null,null,null,null,null,null,null,null,null,null,null,null,null,null,null,null,null,null,null,null,null,null,null,null,null,null,null,null,null,null,null,null,null,null,null,null,null,null,null,null,null,null,null,null,null,"",null,null,null,null,null,null,null,null,null,null,null,null,"",""]
[null,null,null,null,null,null,null,null,null,null,null,null,null,null,null,null,null,null,null,null,null,null,null,null,null,null,null,null,null,null,null,null,null,null,null,null,null,null,null,null,null,null,null,null,null,null,null,null,null,null,null,null,null,null,null,null,null,null,null,null,null,null,null,null,null,null,null,null,null,null,null,"",null,null,null,null,null,null,null,null,null,null,null,null,"",""]
[null,null,null,null,null,null,null,null,null,null,null,null,null,null,null,null,null,null,null,null,null,null,null,null,null,null,null,null,null,null,null,null,null,null,null,null,null,null,null,null,null,null,null,null,null,null,null,null,null,null,null,null,null,null,null,null,null,null,null,null,null,null,null,null,null,null,null,null,null,null,null,"",null,null,null,null,null,null,null,null,null,null,null,null,"",""]
[null,null,null,null,null,null,null,null,null,null,null,null,null,null,null,null,null,null,null,null,null,null,null,null,null,null,null,null,null,null,null,null,null,null,null,null,null,null,null,null,null,null,null,null,null,null,null,null,null,null,null,null,null,null,null,null,null,null,null,null,null,null,null,null,null,null,null,null,null,null,null,"",null,null,null,null,null,null,null,null,null,null,null,null,"",""]
[null,null,null,null,null,null,null,null,null,null,null,null,null,null,null,null,null,null,null,null,null,null,null,null,null,null,null,null,null,null,null,null,null,null,null,null,null,null,null,null,null,null,null,null,null,null,null,null,null,null,null,null,null,null,null,null,null,null,null,null,null,null,null,null,null,null,null,null,null,null,null,"",null,null,null,null,null,null,null,null,null,null,null,null,"",""]
[null,null,null,null,null,null,null,null,null,null,null,null,null,null,null,null,null,null,null,null,null,null,null,null,null,null,null,null,null,null,null,null,null,null,null,null,null,null,null,null,null,null,null,null,null,null,null,null,null,null,null,null,null,null,null,null,null,null,null,null,null,null,null,null,null,null,null,null,null,null,null,"",null,null,null,null,null,null,null,null,null,null,null,null,"",""]
[null,null,null,null,null,null,null,null,null,null,null,null,null,null,null,null,null,null,null,null,null,null,null,null,null,null,null,null,null,null,null,null,null,null,null,null,null,null,null,null,null,null,null,null,null,null,null,null,null,null,null,null,null,null,null,null,null,null,null,null,null,null,null,null,null,null,null,null,null,null,null,"",null,null,null,null,null,null,null,null,null,null,null,null,"",""]
[null,null,null,null,null,null,null,null,null,null,null,null,null,null,null,null,null,null,null,null,null,null,null,null,null,null,null,null,null,null,null,null,null,null,null,null,null,null,null,null,null,null,null,null,null,null,null,null,null,null,null,null,null,null,null,null,null,null,null,null,null,null,null,null,null,null,null,null,null,null,null,"",null,null,null,null,null,null,null,null,null,null,null,null,"",""]
[null,null,null,null,null,null,null,null,null,null,null,null,null,null,null,null,null,null,null,null,null,null,null,null,null,null,null,null,null,null,null,null,null,null,null,null,null,null,null,null,null,null,null,null,null,null,null,null,null,null,null,null,null,null,null,null,null,null,null,null,null,null,null,null,null,null,null,null,null,null,null,"",null,null,null,null,null,null,null,null,null,null,null,null,"",""]
[null,null,null,null,null,null,null,null,null,null,null,null,null,null,null,null,null,null,null,null,null,null,null,null,null,null,null,null,null,null,null,null,null,null,null,null,null,null,null,null,null,null,null,null,null,null,null,null,null,null,null,null,null,null,null,null,null,null,null,null,null,null,null,null,null,null,null,null,null,null,null,"",null,null,null,null,null,null,null,null,null,null,null,null,"",""]
[null,null,null,null,null,null,null,null,null,null,null,null,null,null,null,null,null,null,null,null,null,null,null,null,null,null,null,null,null,null,null,null,null,null,null,null,null,null,null,null,null,null,null,null,null,null,null,null,null,null,null,null,null,null,null,null,null,null,null,null,null,null,null,null,null,null,null,null,null,null,null,"",null,null,null,null,null,null,null,null,null,null,null,null,"",""]
[null,null,null,null,null,null,null,null,null,null,null,null,null,null,null,null,null,null,null,null,null,null,null,null,null,null,null,null,null,null,null,null,null,null,null,null,null,null,null,null,null,null,null,null,null,null,null,null,null,null,null,null,null,null,null,null,null,null,null,null,null,null,null,null,null,null,null,null,null,null,null,"",null,null,null,null,null,null,null,null,null,null,null,null,"",""]
[null,null,null,null,null,null,null,null,null,null,null,null,null,null,null,null,null,null,null,null,null,null,null,null,null,null,null,null,null,null,null,null,null,null,null,null,null,null,null,null,null,null,null,null,null,null,null,null,null,null,null,null,null,null,null,null,null,null,null,null,null,null,null,null,null,null,null,null,null,null,null,"",null,null,null,null,null,null,null,null,null,null,null,null,"",""]
[null,null,null,null,null,null,null,null,null,null,null,null,null,null,null,null,null,null,null,null,null,null,null,null,null,null,null,null,null,null,null,null,null,null,null,null,null,null,null,null,null,null,null,null,null,null,null,null,null,null,null,null,null,null,null,null,null,null,null,null,null,null,null,null,null,null,null,null,null,null,null,"",null,null,null,null,null,null,null,null,null,null,null,null,"",""]
[null,null,null,null,null,null,null,null,null,null,null,null,null,null,null,null,null,null,null,null,null,null,null,null,null,null,null,null,null,null,null,null,null,null,null,null,null,null,null,null,null,null,null,null,null,null,null,null,null,null,null,null,null,null,null,null,null,null,null,null,null,null,null,null,null,null,null,null,null,null,null,"",null,null,null,null,null,null,null,null,null,null,null,null,"",""]
[null,null,null,null,null,null,null,null,null,null,null,null,null,null,null,null,null,null,null,null,null,null,null,null,null,null,null,null,null,null,null,null,null,null,null,null,null,null,null,null,null,null,null,null,null,null,null,null,null,null,null,null,null,null,null,null,null,null,null,null,null,null,null,null,null,null,null,null,null,null,null,"",null,null,null,null,null,null,null,null,null,null,null,null,"",""]
[null,null,null,null,null,null,null,null,null,null,null,null,null,null,null,null,null,null,null,null,null,null,null,null,null,null,null,null,null,null,null,null,null,null,null,null,null,null,null,null,null,null,null,null,null,null,null,null,null,null,null,null,null,null,null,null,null,null,null,null,null,null,null,null,null,null,null,null,null,null,null,"",null,null,null,null,null,null,null,null,null,null,null,null,"",""]
[null,null,null,null,null,null,null,null,null,null,null,null,null,null,null,null,null,null,null,null,null,null,null,null,null,null,null,null,null,null,null,null,null,null,null,null,null,null,null,null,null,null,null,null,null,null,null,null,null,null,null,null,null,null,null,null,null,null,null,null,null,null,null,null,null,null,null,null,null,null,null,"",null,null,null,null,null,null,null,null,null,null,null,null,"",""]
[null,null,null,null,null,null,null,null,null,null,null,null,null,null,null,null,null,null,null,null,null,null,null,null,null,null,null,null,null,null,null,null,null,null,null,null,null,null,null,null,null,null,null,null,null,null,null,null,null,null,null,null,null,null,null,null,null,null,null,null,null,null,null,null,null,null,null,null,null,null,null,"",null,null,null,null,null,null,null,null,null,null,null,null,"",""]
[null,null,null,null,null,null,null,null,null,null,null,null,null,null,null,null,null,null,null,null,null,null,null,null,null,null,null,null,null,null,null,null,null,null,null,null,null,null,null,null,null,null,null,null,null,null,null,null,null,null,null,null,null,null,null,null,null,null,null,null,null,null,null,null,null,null,null,null,null,null,null,"",null,null,null,null,null,null,null,null,null,null,null,null,"",""]
[null,null,null,null,null,null,null,null,null,null,null,null,null,null,null,null,null,null,null,null,null,null,null,null,null,null,null,null,null,null,null,null,null,null,null,null,null,null,null,null,null,null,null,null,null,null,null,null,null,null,null,null,null,null,null,null,null,null,null,null,null,null,null,null,null,null,null,null,null,null,null,"",null,null,null,null,null,null,null,null,null,null,null,null,"",""]
[null,null,null,null,null,null,null,null,null,null,null,null,null,null,null,null,null,null,null,null,null,null,null,null,null,null,null,null,null,null,null,null,null,null,null,null,null,null,null,null,null,null,null,null,null,null,null,null,null,null,null,null,null,null,null,null,null,null,null,null,null,null,null,null,null,null,null,null,null,null,null,"",null,null,null,null,null,null,null,null,null,null,null,null,"",""]
[null,null,null,null,null,null,null,null,null,null,null,null,null,null,null,null,null,null,null,null,null,null,null,null,null,null,null,null,null,null,null,null,null,null,null,null,null,null,null,null,null,null,null,null,null,null,null,null,null,null,null,null,null,null,null,null,null,null,null,null,null,null,null,null,null,null,null,null,null,null,null,"",null,null,null,null,null,null,null,null,null,null,null,null,"",""]
[null,null,null,null,null,null,null,null,null,null,null,null,null,null,null,null,null,null,null,null,null,null,null,null,null,null,null,null,null,null,null,null,null,null,null,null,null,null,null,null,null,null,null,null,null,null,null,null,null,null,null,null,null,null,null,null,null,null,null,null,null,null,null,null,null,null,null,null,null,null,null,"",null,null,null,null,null,null,null,null,null,null,null,null,"",""]
[null,null,null,null,null,null,null,null,null,null,null,null,null,null,null,null,null,null,null,null,null,null,null,null,null,null,null,null,null,null,null,null,null,null,null,null,null,null,null,null,null,null,null,null,null,null,null,null,null,null,null,null,null,null,null,null,null,null,null,null,null,null,null,null,null,null,null,null,null,null,null,"",null,null,null,null,null,null,null,null,null,null,null,null,"",""]
[null,null,null,null,null,null,null,null,null,null,null,null,null,null,null,null,null,null,null,null,null,null,null,null,null,null,null,null,null,null,null,null,null,null,null,null,null,null,null,null,null,null,null,null,null,null,null,null,null,null,null,null,null,null,null,null,null,null,null,null,null,null,null,null,null,null,null,null,null,null,null,"",null,null,null,null,null,null,null,null,null,null,null,null,"",""]
[null,null,null,null,null,null,null,null,null,null,null,null,null,null,null,null,null,null,null,null,null,null,null,null,null,null,null,null,null,null,null,null,null,null,null,null,null,null,null,null,null,null,null,null,null,null,null,null,null,null,null,null,null,null,null,null,null,null,null,null,null,null,null,null,null,null,null,null,null,null,null,"",null,null,null,null,null,null,null,null,null,null,null,null,"",""]
[null,null,null,null,null,null,null,null,null,null,null,null,null,null,null,null,null,null,null,null,null,null,null,null,null,null,null,null,null,null,null,null,null,null,null,null,null,null,null,null,null,null,null,null,null,null,null,null,null,null,null,null,null,null,null,null,null,null,null,null,null,null,null,null,null,null,null,null,null,null,null,"",null,null,null,null,null,null,null,null,null,null,null,null,"",""]
[null,null,null,null,null,null,null,null,null,null,null,null,null,null,null,null,null,null,null,null,null,null,null,null,null,null,null,null,null,null,null,null,null,null,null,null,null,null,null,null,null,null,null,null,null,null,null,null,null,null,null,null,null,null,null,null,null,null,null,null,null,null,null,null,null,null,null,null,null,null,null,"",null,null,null,null,null,null,null,null,null,null,null,null,"",""]
[null,null,null,null,null,null,null,null,null,null,null,null,null,null,null,null,null,null,null,null,null,null,null,null,null,null,null,null,null,null,null,null,null,null,null,null,null,null,null,null,null,null,null,null,null,null,null,null,null,null,null,null,null,null,null,null,null,null,null,null,null,null,null,null,null,null,null,null,null,null,null,"",null,null,null,null,null,null,null,null,null,null,null,null,"",""]
[null,null,null,null,null,null,null,null,null,null,null,null,null,null,null,null,null,null,null,null,null,null,null,null,null,null,null,null,null,null,null,null,null,null,null,null,null,null,null,null,null,null,null,null,null,null,null,null,null,null,null,null,null,null,null,null,null,null,null,null,null,null,null,null,null,null,null,null,null,null,null,"",null,null,null,null,null,null,null,null,null,null,null,null,"",""]
[null,null,null,null,null,null,null,null,null,null,null,null,null,null,null,null,null,null,null,null,null,null,null,null,null,null,null,null,null,null,null,null,null,null,null,null,null,null,null,null,null,null,null,null,null,null,null,null,null,null,null,null,null,null,null,null,null,null,null,null,null,null,null,null,null,null,null,null,null,null,null,"",null,null,null,null,null,null,null,null,null,null,null,null,"",""]
[null,null,null,null,null,null,null,null,null,null,null,null,null,null,null,null,null,null,null,null,null,null,null,null,null,null,null,null,null,null,null,null,null,null,null,null,null,null,null,null,null,null,null,null,null,null,null,null,null,null,null,null,null,null,null,null,null,null,null,null,null,null,null,null,null,null,null,null,null,null,null,"",null,null,null,null,null,null,null,null,null,null,null,null,"",""]
[null,null,null,null,null,null,null,null,null,null,null,null,null,null,null,null,null,null,null,null,null,null,null,null,null,null,null,null,null,null,null,null,null,null,null,null,null,null,null,null,null,null,null,null,null,null,null,null,null,null,null,null,null,null,null,null,null,null,null,null,null,null,null,null,null,null,null,null,null,null,null,"",null,null,null,null,null,null,null,null,null,null,null,null,"",""]
[null,null,null,null,null,null,null,null,null,null,null,null,null,null,null,null,null,null,null,null,null,null,null,null,null,null,null,null,null,null,null,null,null,null,null,null,null,null,null,null,null,null,null,null,null,null,null,null,null,null,null,null,null,null,null,null,null,null,null,null,null,null,null,null,null,null,null,null,null,null,null,"",null,null,null,null,null,null,null,null,null,null,null,null,"",""]
[null,null,null,null,null,null,null,null,null,null,null,null,null,null,null,null,null,null,null,null,null,null,null,null,null,null,null,null,null,null,null,null,null,null,null,null,null,null,null,null,null,null,null,null,null,null,null,null,null,null,null,null,null,null,null,null,null,null,null,null,null,null,null,null,null,null,null,null,null,null,null,"",null,null,null,null,null,null,null,null,null,null,null,null,"",""]
[null,null,null,null,null,null,null,null,null,null,null,null,null,null,null,null,null,null,null,null,null,null,null,null,null,null,null,null,null,null,null,null,null,null,null,null,null,null,null,null,null,null,null,null,null,null,null,null,null,null,null,null,null,null,null,null,null,null,null,null,null,null,null,null,null,null,null,null,null,null,null,"",null,null,null,null,null,null,null,null,null,null,null,null,"",""]
[null,null,null,null,null,null,null,null,null,null,null,null,null,null,null,null,null,null,null,null,null,null,null,null,null,null,null,null,null,null,null,null,null,null,null,null,null,null,null,null,null,null,null,null,null,null,null,null,null,null,null,null,null,null,null,null,null,null,null,null,null,null,null,null,null,null,null,null,null,null,null,"",null,null,null,null,null,null,null,null,null,null,null,null,"",""]
[null,null,null,null,null,null,null,null,null,null,null,null,null,null,null,null,null,null,null,null,null,null,null,null,null,null,null,null,null,null,null,null,null,null,null,null,null,null,null,null,null,null,null,null,null,null,null,null,null,null,null,null,null,null,null,null,null,null,null,null,null,null,null,null,null,null,null,null,null,null,null,"",null,null,null,null,null,null,null,null,null,null,null,null,"",""]
[null,null,null,null,null,null,null,null,null,null,null,null,null,null,null,null,null,null,null,null,null,null,null,null,null,null,null,null,null,null,null,null,null,null,null,null,null,null,null,null,null,null,null,null,null,null,null,null,null,null,null,null,null,null,null,null,null,null,null,null,null,null,null,null,null,null,null,null,null,null,null,"",null,null,null,null,null,null,null,null,null,null,null,null,"",""]
[null,null,null,null,null,null,null,null,null,null,null,null,null,null,null,null,null,null,null,null,null,null,null,null,null,null,null,null,null,null,null,null,null,null,null,null,null,null,null,null,null,null,null,null,null,null,null,null,null,null,null,null,null,null,null,null,null,null,null,null,null,null,null,null,null,null,null,null,null,null,null,"",null,null,null,null,null,null,null,null,null,null,null,null,"",""]
[null,null,null,null,null,null,null,null,null,null,null,null,null,null,null,null,null,null,null,null,null,null,null,null,null,null,null,null,null,null,null,null,null,null,null,null,null,null,null,null,null,null,null,null,null,null,null,null,null,null,null,null,null,null,null,null,null,null,null,null,null,null,null,null,null,null,null,null,null,null,null,"",null,null,null,null,null,null,null,null,null,null,null,null,"",""]
[null,null,null,null,null,null,null,null,null,null,null,null,null,null,null,null,null,null,null,null,null,null,null,null,null,null,null,null,null,null,null,null,null,null,null,null,null,null,null,null,null,null,null,null,null,null,null,null,null,null,null,null,null,null,null,null,null,null,null,null,null,null,null,null,null,null,null,null,null,null,null,"",null,null,null,null,null,null,null,null,null,null,null,null,"",""]
[null,null,null,null,null,null,null,null,null,null,null,null,null,null,null,null,null,null,null,null,null,null,null,null,null,null,null,null,null,null,null,null,null,null,null,null,null,null,null,null,null,null,null,null,null,null,null,null,null,null,null,null,null,null,null,null,null,null,null,null,null,null,null,null,null,null,null,null,null,null,null,"",null,null,null,null,null,null,null,null,null,null,null,null,"",""]
[null,null,null,null,null,null,null,null,null,null,null,null,null,null,null,null,null,null,null,null,null,null,null,null,null,null,null,null,null,null,null,null,null,null,null,null,null,null,null,null,null,null,null,null,null,null,null,null,null,null,null,null,null,null,null,null,null,null,null,null,null,null,null,null,null,null,null,null,null,null,null,"",null,null,null,null,null,null,null,null,null,null,null,null,"",""]
[null,null,null,null,null,null,null,null,null,null,null,null,null,null,null,null,null,null,null,null,null,null,null,null,null,null,null,null,null,null,null,null,null,null,null,null,null,null,null,null,null,null,null,null,null,null,null,null,null,null,null,null,null,null,null,null,null,null,null,null,null,null,null,null,null,null,null,null,null,null,null,"",null,null,null,null,null,null,null,null,null,null,null,null,"",""]
[null,null,null,null,null,null,null,null,null,null,null,null,null,null,null,null,null,null,null,null,null,null,null,null,null,null,null,null,null,null,null,null,null,null,null,null,null,null,null,null,null,null,null,null,null,null,null,null,null,null,null,null,null,null,null,null,null,null,null,null,null,null,null,null,null,null,null,null,null,null,null,"",null,null,null,null,null,null,null,null,null,null,null,null,"",""]
[null,null,null,null,null,null,null,null,null,null,null,null,null,null,null,null,null,null,null,null,null,null,null,null,null,null,null,null,null,null,null,null,null,null,null,null,null,null,null,null,null,null,null,null,null,null,null,null,null,null,null,null,null,null,null,null,null,null,null,null,null,null,null,null,null,null,null,null,null,null,null,"",null,null,null,null,null,null,null,null,null,null,null,null,"",""]
[null,null,null,null,null,null,null,null,null,null,null,null,null,null,null,null,null,null,null,null,null,null,null,null,null,null,null,null,null,null,null,null,null,null,null,null,null,null,null,null,null,null,null,null,null,null,null,null,null,null,null,null,null,null,null,null,null,null,null,null,null,null,null,null,null,null,null,null,null,null,null,"",null,null,null,null,null,null,null,null,null,null,null,null,"",""]
[null,null,null,null,null,null,null,null,null,null,null,null,null,null,null,null,null,null,null,null,null,null,null,null,null,null,null,null,null,null,null,null,null,null,null,null,null,null,null,null,null,null,null,null,null,null,null,null,null,null,null,null,null,null,null,null,null,null,null,null,null,null,null,null,null,null,null,null,null,null,null,"",null,null,null,null,null,null,null,null,null,null,null,null,"",""]
[null,null,null,null,null,null,null,null,null,null,null,null,null,null,null,null,null,null,null,null,null,null,null,null,null,null,null,null,null,null,null,null,null,null,null,null,null,null,null,null,null,null,null,null,null,null,null,null,null,null,null,null,null,null,null,null,null,null,null,null,null,null,null,null,null,null,null,null,null,null,null,"",null,null,null,null,null,null,null,null,null,null,null,null,"",""]
[null,null,null,null,null,null,null,null,null,null,null,null,null,null,null,null,null,null,null,null,null,null,null,null,null,null,null,null,null,null,null,null,null,null,null,null,null,null,null,null,null,null,null,null,null,null,null,null,null,null,null,null,null,null,null,null,null,null,null,null,null,null,null,null,null,null,null,null,null,null,null,"",null,null,null,null,null,null,null,null,null,null,null,null,"",""]
[null,null,null,null,null,null,null,null,null,null,null,null,null,null,null,null,null,null,null,null,null,null,null,null,null,null,null,null,null,null,null,null,null,null,null,null,null,null,null,null,null,null,null,null,null,null,null,null,null,null,null,null,null,null,null,null,null,null,null,null,null,null,null,null,null,null,null,null,null,null,null,"",null,null,null,null,null,null,null,null,null,null,null,null,"",""]
[null,null,null,null,null,null,null,null,null,null,null,null,null,null,null,null,null,null,null,null,null,null,null,null,null,null,null,null,null,null,null,null,null,null,null,null,null,null,null,null,null,null,null,null,null,null,null,null,null,null,null,null,null,null,null,null,null,null,null,null,null,null,null,null,null,null,null,null,null,null,null,"",null,null,null,null,null,null,null,null,null,null,null,null,"",{"$f":"CG518","v":""}]
[null,null,null,null,null,null,null,null,null,null,null,null,null,null,null,null,null,null,null,null,null,null,null,null,null,null,null,null,null,null,null,null,null,null,null,null,null,null,null,null,null,null,null,null,null,null,null,null,null,null,null,null,null,null,null,null,null,null,null,null,null,null,null,null,null,null,null,null,null,null,null,{"$f":"IF(SUM(BP519:BS519)<>0,\"\",CONCATENATE(IF(BP519=\"SI\",CONCATENATE(\"Edad\",\" -> \",BQ519,\", \"),\"\"),IF(BR519=\"SI\",CONCATENATE(\"Nivel escolaridad\",\" -> \",BS519,\", \"),\"\")))","v":""},null,null,null,null,null,null,null,null,null,null,null,null,{"$f":"IF(AND(B519<>\"\",P519=\"Municipal\"),(45-SUM((COUNTIF(B519:Z519,\"\")),COUNTIF(BL519:CF519,\"No aplica\")))/45,IF(AND(B519<>\"\",P519=\"Departamental\"),(45-SUM((COUNTIF(B519:Z519,\"\")),COUNTIF(BL519:CF519,\"No aplica\")))/44,IF(AND(B519<>\"\",P519=\"Nacional\"),(45-SUM((COUNTIF(B519:Z519,\"\")),COUNTIF(BL519:CF519,\"No aplica\")))/43,\"\")))","v":""},""]
[null,null,null,null,null,null,null,null,null,null,null,null,null,null,null,null,null,null,null,null,null,null,null,null,null,null,null,null,null,null,null,null,null,null,null,null,null,null,null,null,null,null,null,null,null,null,null,null,null,null,null,null,null,null,null,null,null,null,null,null,null,null,null,null,null,null,null,null,null,null,null,"",null,null,null,null,null,null,null,null,null,null,null,null,"",""]
[null,null,null,null,null,null,null,null,null,null,null,null,null,null,null,null,null,null,null,null,null,null,null,null,null,null,null,null,null,null,null,null,null,null,null,null,null,null,null,null,null,null,null,null,null,null,null,null,null,null,null,null,null,null,null,null,null,null,null,null,null,null,null,null,null,null,null,null,null,null,null,"",null,null,null,null,null,null,null,null,null,null,null,null,"",""]
[null,null,null,null,null,null,null,null,null,null,null,null,null,null,null,null,null,null,null,null,null,null,null,null,null,null,null,null,null,null,null,null,null,null,null,null,null,null,null,null,null,null,null,null,null,null,null,null,null,null,null,null,null,null,null,null,null,null,null,null,null,null,null,null,null,null,null,null,null,null,null,"",null,null,null,null,null,null,null,null,null,null,null,null,"",""]
[null,null,null,null,null,null,null,null,null,null,null,null,null,null,null,null,null,null,null,null,null,null,null,null,null,null,null,null,null,null,null,null,null,null,null,null,null,null,null,null,null,null,null,null,null,null,null,null,null,null,null,null,null,null,null,null,null,null,null,null,null,null,null,null,null,null,null,null,null,null,null,"",null,null,null,null,null,null,null,null,null,null,null,null,"",""]
[null,null,null,null,null,null,null,null,null,null,null,null,null,null,null,null,null,null,null,null,null,null,null,null,null,null,null,null,null,null,null,null,null,null,null,null,null,null,null,null,null,null,null,null,null,null,null,null,null,null,null,null,null,null,null,null,null,null,null,null,null,null,null,null,null,null,null,null,null,null,null,"",null,null,null,null,null,null,null,null,null,null,null,null,"",""]
[null,null,null,null,null,null,null,null,null,null,null,null,null,null,null,null,null,null,null,null,null,null,null,null,null,null,null,null,null,null,null,null,null,null,null,null,null,null,null,null,null,null,null,null,null,null,null,null,null,null,null,null,null,null,null,null,null,null,null,null,null,null,null,null,null,null,null,null,null,null,null,"",null,null,null,null,null,null,null,null,null,null,null,null,"",""]
[null,null,null,null,null,null,null,null,null,null,null,null,null,null,null,null,null,null,null,null,null,null,null,null,null,null,null,null,null,null,null,null,null,null,null,null,null,null,null,null,null,null,null,null,null,null,null,null,null,null,null,null,null,null,null,null,null,null,null,null,null,null,null,null,null,null,null,null,null,null,null,"",null,null,null,null,null,null,null,null,null,null,null,null,"",""]
[null,null,null,null,null,null,null,null,null,null,null,null,null,null,null,null,null,null,null,null,null,null,null,null,null,null,null,null,null,null,null,null,null,null,null,null,null,null,null,null,null,null,null,null,null,null,null,null,null,null,null,null,null,null,null,null,null,null,null,null,null,null,null,null,null,null,null,null,null,null,null,"",null,null,null,null,null,null,null,null,null,null,null,null,"",""]
[null,null,null,null,null,null,null,null,null,null,null,null,null,null,null,null,null,null,null,null,null,null,null,null,null,null,null,null,null,null,null,null,null,null,null,null,null,null,null,null,null,null,null,null,null,null,null,null,null,null,null,null,null,null,null,null,null,null,null,null,null,null,null,null,null,null,null,null,null,null,null,"",null,null,null,null,null,null,null,null,null,null,null,null,"",""]
[null,null,null,null,null,null,null,null,null,null,null,null,null,null,null,null,null,null,null,null,null,null,null,null,null,null,null,null,null,null,null,null,null,null,null,null,null,null,null,null,null,null,null,null,null,null,null,null,null,null,null,null,null,null,null,null,null,null,null,null,null,null,null,null,null,null,null,null,null,null,null,"",null,null,null,null,null,null,null,null,null,null,null,null,"",""]
[null,null,null,null,null,null,null,null,null,null,null,null,null,null,null,null,null,null,null,null,null,null,null,null,null,null,null,null,null,null,null,null,null,null,null,null,null,null,null,null,null,null,null,null,null,null,null,null,null,null,null,null,null,null,null,null,null,null,null,null,null,null,null,null,null,null,null,null,null,null,null,"",null,null,null,null,null,null,null,null,null,null,null,null,"",""]
[null,null,null,null,null,null,null,null,null,null,null,null,null,null,null,null,null,null,null,null,null,null,null,null,null,null,null,null,null,null,null,null,null,null,null,null,null,null,null,null,null,null,null,null,null,null,null,null,null,null,null,null,null,null,null,null,null,null,null,null,null,null,null,null,null,null,null,null,null,null,null,"",null,null,null,null,null,null,null,null,null,null,null,null,"",""]
[null,null,null,null,null,null,null,null,null,null,null,null,null,null,null,null,null,null,null,null,null,null,null,null,null,null,null,null,null,null,null,null,null,null,null,null,null,null,null,null,null,null,null,null,null,null,null,null,null,null,null,null,null,null,null,null,null,null,null,null,null,null,null,null,null,null,null,null,null,null,null,"",null,null,null,null,null,null,null,null,null,null,null,null,"",""]
[null,null,null,null,null,null,null,null,null,null,null,null,null,null,null,null,null,null,null,null,null,null,null,null,null,null,null,null,null,null,null,null,null,null,null,null,null,null,null,null,null,null,null,null,null,null,null,null,null,null,null,null,null,null,null,null,null,null,null,null,null,null,null,null,null,null,null,null,null,null,null,"",null,null,null,null,null,null,null,null,null,null,null,null,"",""]
[null,null,null,null,null,null,null,null,null,null,null,null,null,null,null,null,null,null,null,null,null,null,null,null,null,null,null,null,null,null,null,null,null,null,null,null,null,null,null,null,null,null,null,null,null,null,null,null,null,null,null,null,null,null,null,null,null,null,null,null,null,null,null,null,null,null,null,null,null,null,null,"",null,null,null,null,null,null,null,null,null,null,null,null,"",""]
[null,null,null,null,null,null,null,null,null,null,null,null,null,null,null,null,null,null,null,null,null,null,null,null,null,null,null,null,null,null,null,null,null,null,null,null,null,null,null,null,null,null,null,null,null,null,null,null,null,null,null,null,null,null,null,null,null,null,null,null,null,null,null,null,null,null,null,null,null,null,null,"",null,null,null,null,null,null,null,null,null,null,null,null,"",""]
[null,null,null,null,null,null,null,null,null,null,null,null,null,null,null,null,null,null,null,null,null,null,null,null,null,null,null,null,null,null,null,null,null,null,null,null,null,null,null,null,null,null,null,null,null,null,null,null,null,null,null,null,null,null,null,null,null,null,null,null,null,null,null,null,null,null,null,null,null,null,null,"",null,null,null,null,null,null,null,null,null,null,null,null,"",""]
[null,null,null,null,null,null,null,null,null,null,null,null,null,null,null,null,null,null,null,null,null,null,null,null,null,null,null,null,null,null,null,null,null,null,null,null,null,null,null,null,null,null,null,null,null,null,null,null,null,null,null,null,null,null,null,null,null,null,null,null,null,null,null,null,null,null,null,null,null,null,null,"",null,null,null,null,null,null,null,null,null,null,null,null,"",""]
[null,null,null,null,null,null,null,null,null,null,null,null,null,null,null,null,null,null,null,null,null,null,null,null,null,null,null,null,null,null,null,null,null,null,null,null,null,null,null,null,null,null,null,null,null,null,null,null,null,null,null,null,null,null,null,null,null,null,null,null,null,null,null,null,null,null,null,null,null,null,null,"",null,null,null,null,null,null,null,null,null,null,null,null,"",""]
[null,null,null,null,null,null,null,null,null,null,null,null,null,null,null,null,null,null,null,null,null,null,null,null,null,null,null,null,null,null,null,null,null,null,null,null,null,null,null,null,null,null,null,null,null,null,null,null,null,null,null,null,null,null,null,null,null,null,null,null,null,null,null,null,null,null,null,null,null,null,null,"",null,null,null,null,null,null,null,null,null,null,null,null,"",""]
[null,null,null,null,null,null,null,null,null,null,null,null,null,null,null,null,null,null,null,null,null,null,null,null,null,null,null,null,null,null,null,null,null,null,null,null,null,null,null,null,null,null,null,null,null,null,null,null,null,null,null,null,null,null,null,null,null,null,null,null,null,null,null,null,null,null,null,null,null,null,null,"",null,null,null,null,null,null,null,null,null,null,null,null,"",""]
[null,null,null,null,null,null,null,null,null,null,null,null,null,null,null,null,null,null,null,null,null,null,null,null,null,null,null,null,null,null,null,null,null,null,null,null,null,null,null,null,null,null,null,null,null,null,null,null,null,null,null,null,null,null,null,null,null,null,null,null,null,null,null,null,null,null,null,null,null,null,null,"",null,null,null,null,null,null,null,null,null,null,null,null,"",""]
[null,null,null,null,null,null,null,null,null,null,null,null,null,null,null,null,null,null,null,null,null,null,null,null,null,null,null,null,null,null,null,null,null,null,null,null,null,null,null,null,null,null,null,null,null,null,null,null,null,null,null,null,null,null,null,null,null,null,null,null,null,null,null,null,null,null,null,null,null,null,null,"",null,null,null,null,null,null,null,null,null,null,null,null,"",""]
[null,null,null,null,null,null,null,null,null,null,null,null,null,null,null,null,null,null,null,null,null,null,null,null,null,null,null,null,null,null,null,null,null,null,null,null,null,null,null,null,null,null,null,null,null,null,null,null,null,null,null,null,null,null,null,null,null,null,null,null,null,null,null,null,null,null,null,null,null,null,null,"",null,null,null,null,null,null,null,null,null,null,null,null,"",""]
[null,null,null,null,null,null,null,null,null,null,null,null,null,null,null,null,null,null,null,null,null,null,null,null,null,null,null,null,null,null,null,null,null,null,null,null,null,null,null,null,null,null,null,null,null,null,null,null,null,null,null,null,null,null,null,null,null,null,null,null,null,null,null,null,null,null,null,null,null,null,null,"",null,null,null,null,null,null,null,null,null,null,null,null,"",""]
[null,null,null,null,null,null,null,null,null,null,null,null,null,null,null,null,null,null,null,null,null,null,null,null,null,null,null,null,null,null,null,null,null,null,null,null,null,null,null,null,null,null,null,null,null,null,null,null,null,null,null,null,null,null,null,null,null,null,null,null,null,null,null,null,null,null,null,null,null,null,null,"",null,null,null,null,null,null,null,null,null,null,null,null,"",""]
[null,null,null,null,null,null,null,null,null,null,null,null,null,null,null,null,null,null,null,null,null,null,null,null,null,null,null,null,null,null,null,null,null,null,null,null,null,null,null,null,null,null,null,null,null,null,null,null,null,null,null,null,null,null,null,null,null,null,null,null,null,null,null,null,null,null,null,null,null,null,null,"",null,null,null,null,null,null,null,null,null,null,null,null,"",""]
[null,null,null,null,null,null,null,null,null,null,null,null,null,null,null,null,null,null,null,null,null,null,null,null,null,null,null,null,null,null,null,null,null,null,null,null,null,null,null,null,null,null,null,null,null,null,null,null,null,null,null,null,null,null,null,null,null,null,null,null,null,null,null,null,null,null,null,null,null,null,null,"",null,null,null,null,null,null,null,null,null,null,null,null,"",""]
[null,null,null,null,null,null,null,null,null,null,null,null,null,null,null,null,null,null,null,null,null,null,null,null,null,null,null,null,null,null,null,null,null,null,null,null,null,null,null,null,null,null,null,null,null,null,null,null,null,null,null,null,null,null,null,null,null,null,null,null,null,null,null,null,null,null,null,null,null,null,null,"",null,null,null,null,null,null,null,null,null,null,null,null,"",""]
[null,null,null,null,null,null,null,null,null,null,null,null,null,null,null,null,null,null,null,null,null,null,null,null,null,null,null,null,null,null,null,null,null,null,null,null,null,null,null,null,null,null,null,null,null,null,null,null,null,null,null,null,null,null,null,null,null,null,null,null,null,null,null,null,null,null,null,null,null,null,null,"",null,null,null,null,null,null,null,null,null,null,null,null,"",""]
[null,null,null,null,null,null,null,null,null,null,null,null,null,null,null,null,null,null,null,null,null,null,null,null,null,null,null,null,null,null,null,null,null,null,null,null,null,null,null,null,null,null,null,null,null,null,null,null,null,null,null,null,null,null,null,null,null,null,null,null,null,null,null,null,null,null,null,null,null,null,null,"",null,null,null,null,null,null,null,null,null,null,null,null,"",""]
[null,null,null,null,null,null,null,null,null,null,null,null,null,null,null,null,null,null,null,null,null,null,null,null,null,null,null,null,null,null,null,null,null,null,null,null,null,null,null,null,null,null,null,null,null,null,null,null,null,null,null,null,null,null,null,null,null,null,null,null,null,null,null,null,null,null,null,null,null,null,null,"",null,null,null,null,null,null,null,null,null,null,null,null,"",""]
[null,null,null,null,null,null,null,null,null,null,null,null,null,null,null,null,null,null,null,null,null,null,null,null,null,null,null,null,null,null,null,null,null,null,null,null,null,null,null,null,null,null,null,null,null,null,null,null,null,null,null,null,null,null,null,null,null,null,null,null,null,null,null,null,null,null,null,null,null,null,null,"",null,null,null,null,null,null,null,null,null,null,null,null,"",""]
[null,null,null,null,null,null,null,null,null,null,null,null,null,null,null,null,null,null,null,null,null,null,null,null,null,null,null,null,null,null,null,null,null,null,null,null,null,null,null,null,null,null,null,null,null,null,null,null,null,null,null,null,null,null,null,null,null,null,null,null,null,null,null,null,null,null,null,null,null,null,null,"",null,null,null,null,null,null,null,null,null,null,null,null,"",""]
[null,null,null,null,null,null,null,null,null,null,null,null,null,null,null,null,null,null,null,null,null,null,null,null,null,null,null,null,null,null,null,null,null,null,null,null,null,null,null,null,null,null,null,null,null,null,null,null,null,null,null,null,null,null,null,null,null,null,null,null,null,null,null,null,null,null,null,null,null,null,null,"",null,null,null,null,null,null,null,null,null,null,null,null,"",""]
[null,null,null,null,null,null,null,null,null,null,null,null,null,null,null,null,null,null,null,null,null,null,null,null,null,null,null,null,null,null,null,null,null,null,null,null,null,null,null,null,null,null,null,null,null,null,null,null,null,null,null,null,null,null,null,null,null,null,null,null,null,null,null,null,null,null,null,null,null,null,null,"",null,null,null,null,null,null,null,null,null,null,null,null,"",""]
[null,null,null,null,null,null,null,null,null,null,null,null,null,null,null,null,null,null,null,null,null,null,null,null,null,null,null,null,null,null,null,null,null,null,null,null,null,null,null,null,null,null,null,null,null,null,null,null,null,null,null,null,null,null,null,null,null,null,null,null,null,null,null,null,null,null,null,null,null,null,null,"",null,null,null,null,null,null,null,null,null,null,null,null,"",""]
[null,null,null,null,null,null,null,null,null,null,null,null,null,null,null,null,null,null,null,null,null,null,null,null,null,null,null,null,null,null,null,null,null,null,null,null,null,null,null,null,null,null,null,null,null,null,null,null,null,null,null,null,null,null,null,null,null,null,null,null,null,null,null,null,null,null,null,null,null,null,null,"",null,null,null,null,null,null,null,null,null,null,null,null,"",""]
[null,null,null,null,null,null,null,null,null,null,null,null,null,null,null,null,null,null,null,null,null,null,null,null,null,null,null,null,null,null,null,null,null,null,null,null,null,null,null,null,null,null,null,null,null,null,null,null,null,null,null,null,null,null,null,null,null,null,null,null,null,null,null,null,null,null,null,null,null,null,null,"",null,null,null,null,null,null,null,null,null,null,null,null,"",""]
[null,null,null,null,null,null,null,null,null,null,null,null,null,null,null,null,null,null,null,null,null,null,null,null,null,null,null,null,null,null,null,null,null,null,null,null,null,null,null,null,null,null,null,null,null,null,null,null,null,null,null,null,null,null,null,null,null,null,null,null,null,null,null,null,null,null,null,null,null,null,null,"",null,null,null,null,null,null,null,null,null,null,null,null,"",""]
[null,null,null,null,null,null,null,null,null,null,null,null,null,null,null,null,null,null,null,null,null,null,null,null,null,null,null,null,null,null,null,null,null,null,null,null,null,null,null,null,null,null,null,null,null,null,null,null,null,null,null,null,null,null,null,null,null,null,null,null,null,null,null,null,null,null,null,null,null,null,null,"",null,null,null,null,null,null,null,null,null,null,null,null,"",""]
[null,null,null,null,null,null,null,null,null,null,null,null,null,null,null,null,null,null,null,null,null,null,null,null,null,null,null,null,null,null,null,null,null,null,null,null,null,null,null,null,null,null,null,null,null,null,null,null,null,null,null,null,null,null,null,null,null,null,null,null,null,null,null,null,null,null,null,null,null,null,null,"",null,null,null,null,null,null,null,null,null,null,null,null,"",""]
[null,null,null,null,null,null,null,null,null,null,null,null,null,null,null,null,null,null,null,null,null,null,null,null,null,null,null,null,null,null,null,null,null,null,null,null,null,null,null,null,null,null,null,null,null,null,null,null,null,null,null,null,null,null,null,null,null,null,null,null,null,null,null,null,null,null,null,null,null,null,null,"",null,null,null,null,null,null,null,null,null,null,null,null,"",""]
[null,null,null,null,null,null,null,null,null,null,null,null,null,null,null,null,null,null,null,null,null,null,null,null,null,null,null,null,null,null,null,null,null,null,null,null,null,null,null,null,null,null,null,null,null,null,null,null,null,null,null,null,null,null,null,null,null,null,null,null,null,null,null,null,null,null,null,null,null,null,null,"",null,null,null,null,null,null,null,null,null,null,null,null,"",""]
[null,null,null,null,null,null,null,null,null,null,null,null,null,null,null,null,null,null,null,null,null,null,null,null,null,null,null,null,null,null,null,null,null,null,null,null,null,null,null,null,null,null,null,null,null,null,null,null,null,null,null,null,null,null,null,null,null,null,null,null,null,null,null,null,null,null,null,null,null,null,null,"",null,null,null,null,null,null,null,null,null,null,null,null,"",""]
[null,null,null,null,null,null,null,null,null,null,null,null,null,null,null,null,null,null,null,null,null,null,null,null,null,null,null,null,null,null,null,null,null,null,null,null,null,null,null,null,null,null,null,null,null,null,null,null,null,null,null,null,null,null,null,null,null,null,null,null,null,null,null,null,null,null,null,null,null,null,null,"",null,null,null,null,null,null,null,null,null,null,null,null,"",""]
[null,null,null,null,null,null,null,null,null,null,null,null,null,null,null,null,null,null,null,null,null,null,null,null,null,null,null,null,null,null,null,null,null,null,null,null,null,null,null,null,null,null,null,null,null,null,null,null,null,null,null,null,null,null,null,null,null,null,null,null,null,null,null,null,null,null,null,null,null,null,null,"",null,null,null,null,null,null,null,null,null,null,null,null,"",""]
[null,null,null,null,null,null,null,null,null,null,null,null,null,null,null,null,null,null,null,null,null,null,null,null,null,null,null,null,null,null,null,null,null,null,null,null,null,null,null,null,null,null,null,null,null,null,null,null,null,null,null,null,null,null,null,null,null,null,null,null,null,null,null,null,null,null,null,null,null,null,null,"",null,null,null,null,null,null,null,null,null,null,null,null,"",""]
[null,null,null,null,null,null,null,null,null,null,null,null,null,null,null,null,null,null,null,null,null,null,null,null,null,null,null,null,null,null,null,null,null,null,null,null,null,null,null,null,null,null,null,null,null,null,null,null,null,null,null,null,null,null,null,null,null,null,null,null,null,null,null,null,null,null,null,null,null,null,null,"",null,null,null,null,null,null,null,null,null,null,null,null,"",""]
[null,null,null,null,null,null,null,null,null,null,null,null,null,null,null,null,null,null,null,null,null,null,null,null,null,null,null,null,null,null,null,null,null,null,null,null,null,null,null,null,null,null,null,null,null,null,null,null,null,null,null,null,null,null,null,null,null,null,null,null,null,null,null,null,null,null,null,null,null,null,null,"",null,null,null,null,null,null,null,null,null,null,null,null,"",""]
[null,null,null,null,null,null,null,null,null,null,null,null,null,null,null,null,null,null,null,null,null,null,null,null,null,null,null,null,null,null,null,null,null,null,null,null,null,null,null,null,null,null,null,null,null,null,null,null,null,null,null,null,null,null,null,null,null,null,null,null,null,null,null,null,null,null,null,null,null,null,null,"",null,null,null,null,null,null,null,null,null,null,null,null,"",""]
[null,null,null,null,null,null,null,null,null,null,null,null,null,null,null,null,null,null,null,null,null,null,null,null,null,null,null,null,null,null,null,null,null,null,null,null,null,null,null,null,null,null,null,null,null,null,null,null,null,null,null,null,null,null,null,null,null,null,null,null,null,null,null,null,null,null,null,null,null,null,null,"",null,null,null,null,null,null,null,null,null,null,null,null,"",""]
[null,null,null,null,null,null,null,null,null,null,null,null,null,null,null,null,null,null,null,null,null,null,null,null,null,null,null,null,null,null,null,null,null,null,null,null,null,null,null,null,null,null,null,null,null,null,null,null,null,null,null,null,null,null,null,null,null,null,null,null,null,null,null,null,null,null,null,null,null,null,null,"",null,null,null,null,null,null,null,null,null,null,null,null,"",""]
[null,null,null,null,null,null,null,null,null,null,null,null,null,null,null,null,null,null,null,null,null,null,null,null,null,null,null,null,null,null,null,null,null,null,null,null,null,null,null,null,null,null,null,null,null,null,null,null,null,null,null,null,null,null,null,null,null,null,null,null,null,null,null,null,null,null,null,null,null,null,null,"",null,null,null,null,null,null,null,null,null,null,null,null,"",""]
[null,null,null,null,null,null,null,null,null,null,null,null,null,null,null,null,null,null,null,null,null,null,null,null,null,null,null,null,null,null,null,null,null,null,null,null,null,null,null,null,null,null,null,null,null,null,null,null,null,null,null,null,null,null,null,null,null,null,null,null,null,null,null,null,null,null,null,null,null,null,null,"",null,null,null,null,null,null,null,null,null,null,null,null,"",""]
[null,null,null,null,null,null,null,null,null,null,null,null,null,null,null,null,null,null,null,null,null,null,null,null,null,null,null,null,null,null,null,null,null,null,null,null,null,null,null,null,null,null,null,null,null,null,null,null,null,null,null,null,null,null,null,null,null,null,null,null,null,null,null,null,null,null,null,null,null,null,null,"",null,null,null,null,null,null,null,null,null,null,null,null,"",""]
[null,null,null,null,null,null,null,null,null,null,null,null,null,null,null,null,null,null,null,null,null,null,null,null,null,null,null,null,null,null,null,null,null,null,null,null,null,null,null,null,null,null,null,null,null,null,null,null,null,null,null,null,null,null,null,null,null,null,null,null,null,null,null,null,null,null,null,null,null,null,null,"",null,null,null,null,null,null,null,null,null,null,null,null,"",""]
[null,null,null,null,null,null,null,null,null,null,null,null,null,null,null,null,null,null,null,null,null,null,null,null,null,null,null,null,null,null,null,null,null,null,null,null,null,null,null,null,null,null,null,null,null,null,null,null,null,null,null,null,null,null,null,null,null,null,null,null,null,null,null,null,null,null,null,null,null,null,null,"",null,null,null,null,null,null,null,null,null,null,null,null,"",""]
[null,null,null,null,null,null,null,null,null,null,null,null,null,null,null,null,null,null,null,null,null,null,null,null,null,null,null,null,null,null,null,null,null,null,null,null,null,null,null,null,null,null,null,null,null,null,null,null,null,null,null,null,null,null,null,null,null,null,null,null,null,null,null,null,null,null,null,null,null,null,null,"",null,null,null,null,null,null,null,null,null,null,null,null,"",""]
[null,null,null,null,null,null,null,null,null,null,null,null,null,null,null,null,null,null,null,null,null,null,null,null,null,null,null,null,null,null,null,null,null,null,null,null,null,null,null,null,null,null,null,null,null,null,null,null,null,null,null,null,null,null,null,null,null,null,null,null,null,null,null,null,null,null,null,null,null,null,null,"",null,null,null,null,null,null,null,null,null,null,null,null,"",""]
[null,null,null,null,null,null,null,null,null,null,null,null,null,null,null,null,null,null,null,null,null,null,null,null,null,null,null,null,null,null,null,null,null,null,null,null,null,null,null,null,null,null,null,null,null,null,null,null,null,null,null,null,null,null,null,null,null,null,null,null,null,null,null,null,null,null,null,null,null,null,null,"",null,null,null,null,null,null,null,null,null,null,null,null,"",""]
[null,null,null,null,null,null,null,null,null,null,null,null,null,null,null,null,null,null,null,null,null,null,null,null,null,null,null,null,null,null,null,null,null,null,null,null,null,null,null,null,null,null,null,null,null,null,null,null,null,null,null,null,null,null,null,null,null,null,null,null,null,null,null,null,null,null,null,null,null,null,null,"",null,null,null,null,null,null,null,null,null,null,null,null,"",""]
[null,null,null,null,null,null,null,null,null,null,null,null,null,null,null,null,null,null,null,null,null,null,null,null,null,null,null,null,null,null,null,null,null,null,null,null,null,null,null,null,null,null,null,null,null,null,null,null,null,null,null,null,null,null,null,null,null,null,null,null,null,null,null,null,null,null,null,null,null,null,null,"",null,null,null,null,null,null,null,null,null,null,null,null,"",{"$f":"CG582","v":""}]
[null,null,null,null,null,null,null,null,null,null,null,null,null,null,null,null,null,null,null,null,null,null,null,null,null,null,null,null,null,null,null,null,null,null,null,null,null,null,null,null,null,null,null,null,null,null,null,null,null,null,null,null,null,null,null,null,null,null,null,null,null,null,null,null,null,null,null,null,null,null,null,{"$f":"IF(SUM(BP583:BS583)<>0,\"\",CONCATENATE(IF(BP583=\"SI\",CONCATENATE(\"Edad\",\" -> \",BQ583,\", \"),\"\"),IF(BR583=\"SI\",CONCATENATE(\"Nivel escolaridad\",\" -> \",BS583,\", \"),\"\")))","v":""},null,null,null,null,null,null,null,null,null,null,null,null,{"$f":"IF(AND(B583<>\"\",P583=\"Municipal\"),(45-SUM((COUNTIF(B583:Z583,\"\")),COUNTIF(BL583:CF583,\"No aplica\")))/45,IF(AND(B583<>\"\",P583=\"Departamental\"),(45-SUM((COUNTIF(B583:Z583,\"\")),COUNTIF(BL583:CF583,\"No aplica\")))/44,IF(AND(B583<>\"\",P583=\"Nacional\"),(45-SUM((COUNTIF(B583:Z583,\"\")),COUNTIF(BL583:CF583,\"No aplica\")))/43,\"\")))","v":""},""]
[null,null,null,null,null,null,null,null,null,null,null,null,null,null,null,null,null,null,null,null,null,null,null,null,null,null,null,null,null,null,null,null,null,null,null,null,null,null,null,null,null,null,null,null,null,null,null,null,null,null,null,null,null,null,null,null,null,null,null,null,null,null,null,null,null,null,null,null,null,null,null,"",null,null,null,null,null,null,null,null,null,null,null,null,"",""]
[null,null,null,null,null,null,null,null,null,null,null,null,null,null,null,null,null,null,null,null,null,null,null,null,null,null,null,null,null,null,null,null,null,null,null,null,null,null,null,null,null,null,null,null,null,null,null,null,null,null,null,null,null,null,null,null,null,null,null,null,null,null,null,null,null,null,null,null,null,null,null,"",null,null,null,null,null,null,null,null,null,null,null,null,"",""]
[null,null,null,null,null,null,null,null,null,null,null,null,null,null,null,null,null,null,null,null,null,null,null,null,null,null,null,null,null,null,null,null,null,null,null,null,null,null,null,null,null,null,null,null,null,null,null,null,null,null,null,null,null,null,null,null,null,null,null,null,null,null,null,null,null,null,null,null,null,null,null,"",null,null,null,null,null,null,null,null,null,null,null,null,"",""]
[null,null,null,null,null,null,null,null,null,null,null,null,null,null,null,null,null,null,null,null,null,null,null,null,null,null,null,null,null,null,null,null,null,null,null,null,null,null,null,null,null,null,null,null,null,null,null,null,null,null,null,null,null,null,null,null,null,null,null,null,null,null,null,null,null,null,null,null,null,null,null,"",null,null,null,null,null,null,null,null,null,null,null,null,"",""]
[null,null,null,null,null,null,null,null,null,null,null,null,null,null,null,null,null,null,null,null,null,null,null,null,null,null,null,null,null,null,null,null,null,null,null,null,null,null,null,null,null,null,null,null,null,null,null,null,null,null,null,null,null,null,null,null,null,null,null,null,null,null,null,null,null,null,null,null,null,null,null,"",null,null,null,null,null,null,null,null,null,null,null,null,"",""]
[null,null,null,null,null,null,null,null,null,null,null,null,null,null,null,null,null,null,null,null,null,null,null,null,null,null,null,null,null,null,null,null,null,null,null,null,null,null,null,null,null,null,null,null,null,null,null,null,null,null,null,null,null,null,null,null,null,null,null,null,null,null,null,null,null,null,null,null,null,null,null,"",null,null,null,null,null,null,null,null,null,null,null,null,"",""]
[null,null,null,null,null,null,null,null,null,null,null,null,null,null,null,null,null,null,null,null,null,null,null,null,null,null,null,null,null,null,null,null,null,null,null,null,null,null,null,null,null,null,null,null,null,null,null,null,null,null,null,null,null,null,null,null,null,null,null,null,null,null,null,null,null,null,null,null,null,null,null,"",null,null,null,null,null,null,null,null,null,null,null,null,"",""]
[null,null,null,null,null,null,null,null,null,null,null,null,null,null,null,null,null,null,null,null,null,null,null,null,null,null,null,null,null,null,null,null,null,null,null,null,null,null,null,null,null,null,null,null,null,null,null,null,null,null,null,null,null,null,null,null,null,null,null,null,null,null,null,null,null,null,null,null,null,null,null,"",null,null,null,null,null,null,null,null,null,null,null,null,"",""]
[null,null,null,null,null,null,null,null,null,null,null,null,null,null,null,null,null,null,null,null,null,null,null,null,null,null,null,null,null,null,null,null,null,null,null,null,null,null,null,null,null,null,null,null,null,null,null,null,null,null,null,null,null,null,null,null,null,null,null,null,null,null,null,null,null,null,null,null,null,null,null,"",null,null,null,null,null,null,null,null,null,null,null,null,"",""]
[null,null,null,null,null,null,null,null,null,null,null,null,null,null,null,null,null,null,null,null,null,null,null,null,null,null,null,null,null,null,null,null,null,null,null,null,null,null,null,null,null,null,null,null,null,null,null,null,null,null,null,null,null,null,null,null,null,null,null,null,null,null,null,null,null,null,null,null,null,null,null,"",null,null,null,null,null,null,null,null,null,null,null,null,"",""]
[null,null,null,null,null,null,null,null,null,null,null,null,null,null,null,null,null,null,null,null,null,null,null,null,null,null,null,null,null,null,null,null,null,null,null,null,null,null,null,null,null,null,null,null,null,null,null,null,null,null,null,null,null,null,null,null,null,null,null,null,null,null,null,null,null,null,null,null,null,null,null,"",null,null,null,null,null,null,null,null,null,null,null,null,"",""]
[null,null,null,null,null,null,null,null,null,null,null,null,null,null,null,null,null,null,null,null,null,null,null,null,null,null,null,null,null,null,null,null,null,null,null,null,null,null,null,null,null,null,null,null,null,null,null,null,null,null,null,null,null,null,null,null,null,null,null,null,null,null,null,null,null,null,null,null,null,null,null,"",null,null,null,null,null,null,null,null,null,null,null,null,"",""]
[null,null,null,null,null,null,null,null,null,null,null,null,null,null,null,null,null,null,null,null,null,null,null,null,null,null,null,null,null,null,null,null,null,null,null,null,null,null,null,null,null,null,null,null,null,null,null,null,null,null,null,null,null,null,null,null,null,null,null,null,null,null,null,null,null,null,null,null,null,null,null,"",null,null,null,null,null,null,null,null,null,null,null,null,"",""]
[null,null,null,null,null,null,null,null,null,null,null,null,null,null,null,null,null,null,null,null,null,null,null,null,null,null,null,null,null,null,null,null,null,null,null,null,null,null,null,null,null,null,null,null,null,null,null,null,null,null,null,null,null,null,null,null,null,null,null,null,null,null,null,null,null,null,null,null,null,null,null,"",null,null,null,null,null,null,null,null,null,null,null,null,"",""]
[null,null,null,null,null,null,null,null,null,null,null,null,null,null,null,null,null,null,null,null,null,null,null,null,null,null,null,null,null,null,null,null,null,null,null,null,null,null,null,null,null,null,null,null,null,null,null,null,null,null,null,null,null,null,null,null,null,null,null,null,null,null,null,null,null,null,null,null,null,null,null,"",null,null,null,null,null,null,null,null,null,null,null,null,"",""]
[null,null,null,null,null,null,null,null,null,null,null,null,null,null,null,null,null,null,null,null,null,null,null,null,null,null,null,null,null,null,null,null,null,null,null,null,null,null,null,null,null,null,null,null,null,null,null,null,null,null,null,null,null,null,null,null,null,null,null,null,null,null,null,null,null,null,null,null,null,null,null,"",null,null,null,null,null,null,null,null,null,null,null,null,"",""]
[null,null,null,null,null,null,null,null,null,null,null,null,null,null,null,null,null,null,null,null,null,null,null,null,null,null,null,null,null,null,null,null,null,null,null,null,null,null,null,null,null,null,null,null,null,null,null,null,null,null,null,null,null,null,null,null,null,null,null,null,null,null,null,null,null,null,null,null,null,null,null,"",null,null,null,null,null,null,null,null,null,null,null,null,"",""]

{"sheet":"Consolidado","index":9,"n_rows":600,"n_cols":6,"rows_kept":600,"cut":false,"hidden":true,"merged":[]}
[]
[null,2,{"$f":"Formulario!N10","v":0},{"$f":"Formulario!M22","v":0},null,{"$f":"(47-SUM(COUNTIF(B2:D2,0),COUNTIF(#REF!,\"No aplica\")))/47","v":{"$error":"#REF!"}}]
[]
[null,"Serie","Información entidad responsable"]
[null,"Serie","Nombre entidad","Nombre del programa","Dimensión","Calidad de información sobre el programa"]
[null,{"$f":"IF('Mapa oferta'!B6<>\"\",'Mapa oferta'!B6,\"\")","v":""},{"$f":"IF('Mapa oferta'!G6<>\"\",'Mapa oferta'!G6,\"\")","v":""},{"$f":"IF('Mapa oferta'!I6<>\"\",'Mapa oferta'!I6,\"\")","v":""},{"$f":"IF('Mapa oferta'!BM6<>\"\",'Mapa oferta'!BM6,\"\")","v":""},{"$f":"IF('Mapa oferta'!CG6<>\"\",'Mapa oferta'!CG6,\"\")","v":""}]
[null,{"$f":"IF('Mapa oferta'!B7<>\"\",'Mapa oferta'!B7,\"\")","v":""},{"$f":"IF('Mapa oferta'!G7<>\"\",'Mapa oferta'!G7,\"\")","v":""},{"$f":"IF('Mapa oferta'!I7<>\"\",'Mapa oferta'!I7,\"\")","v":""},{"$f":"IF('Mapa oferta'!BM7<>\"\",'Mapa oferta'!BM7,\"\")","v":""},{"$f":"IF('Mapa oferta'!CG7<>\"\",'Mapa oferta'!CG7,\"\")","v":""}]
[null,{"$f":"IF('Mapa oferta'!B8<>\"\",'Mapa oferta'!B8,\"\")","v":""},{"$f":"IF('Mapa oferta'!G8<>\"\",'Mapa oferta'!G8,\"\")","v":""},{"$f":"IF('Mapa oferta'!I8<>\"\",'Mapa oferta'!I8,\"\")","v":""},{"$f":"IF('Mapa oferta'!BM8<>\"\",'Mapa oferta'!BM8,\"\")","v":""},{"$f":"IF('Mapa oferta'!CG8<>\"\",'Mapa oferta'!CG8,\"\")","v":""}]
[null,{"$f":"IF('Mapa oferta'!B9<>\"\",'Mapa oferta'!B9,\"\")","v":""},{"$f":"IF('Mapa oferta'!G9<>\"\",'Mapa oferta'!G9,\"\")","v":""},{"$f":"IF('Mapa oferta'!I9<>\"\",'Mapa oferta'!I9,\"\")","v":""},{"$f":"IF('Mapa oferta'!BM9<>\"\",'Mapa oferta'!BM9,\"\")","v":""},{"$f":"IF('Mapa oferta'!CG9<>\"\",'Mapa oferta'!CG9,\"\")","v":""}]
[null,{"$f":"IF('Mapa oferta'!B10<>\"\",'Mapa oferta'!B10,\"\")","v":""},{"$f":"IF('Mapa oferta'!G10<>\"\",'Mapa oferta'!G10,\"\")","v":""},{"$f":"IF('Mapa oferta'!I10<>\"\",'Mapa oferta'!I10,\"\")","v":""},{"$f":"IF('Mapa oferta'!BM10<>\"\",'Mapa oferta'!BM10,\"\")","v":""},{"$f":"IF('Mapa oferta'!CG10<>\"\",'Mapa oferta'!CG10,\"\")","v":""}]
[null,{"$f":"IF('Mapa oferta'!B11<>\"\",'Mapa oferta'!B11,\"\")","v":""},{"$f":"IF('Mapa oferta'!G11<>\"\",'Mapa oferta'!G11,\"\")","v":""},{"$f":"IF('Mapa oferta'!I11<>\"\",'Mapa oferta'!I11,\"\")","v":""},{"$f":"IF('Mapa oferta'!BM11<>\"\",'Mapa oferta'!BM11,\"\")","v":""},{"$f":"IF('Mapa oferta'!CG11<>\"\",'Mapa oferta'!CG11,\"\")","v":""}]
[null,{"$f":"IF('Mapa oferta'!B12<>\"\",'Mapa oferta'!B12,\"\")","v":""},{"$f":"IF('Mapa oferta'!G12<>\"\",'Mapa oferta'!G12,\"\")","v":""},{"$f":"IF('Mapa oferta'!I12<>\"\",'Mapa oferta'!I12,\"\")","v":""},{"$f":"IF('Mapa oferta'!BM12<>\"\",'Mapa oferta'!BM12,\"\")","v":""},{"$f":"IF('Mapa oferta'!CG12<>\"\",'Mapa oferta'!CG12,\"\")","v":""}]
[null,{"$f":"IF('Mapa oferta'!B13<>\"\",'Mapa oferta'!B13,\"\")","v":""},{"$f":"IF('Mapa oferta'!G13<>\"\",'Mapa oferta'!G13,\"\")","v":""},{"$f":"IF('Mapa oferta'!I13<>\"\",'Mapa oferta'!I13,\"\")","v":""},{"$f":"IF('Mapa oferta'!BM13<>\"\",'Mapa oferta'!BM13,\"\")","v":""},{"$f":"IF('Mapa oferta'!CG13<>\"\",'Mapa oferta'!CG13,\"\")","v":""}]
[null,{"$f":"IF('Mapa oferta'!B14<>\"\",'Mapa oferta'!B14,\"\")","v":""},{"$f":"IF('Mapa oferta'!G14<>\"\",'Mapa oferta'!G14,\"\")","v":""},{"$f":"IF('Mapa oferta'!I14<>\"\",'Mapa oferta'!I14,\"\")","v":""},{"$f":"IF('Mapa oferta'!BM14<>\"\",'Mapa oferta'!BM14,\"\")","v":""},{"$f":"IF('Mapa oferta'!CG14<>\"\",'Mapa oferta'!CG14,\"\")","v":""}]
[null,{"$f":"IF('Mapa oferta'!B15<>\"\",'Mapa oferta'!B15,\"\")","v":""},{"$f":"IF('Mapa oferta'!G15<>\"\",'Mapa oferta'!G15,\"\")","v":""},{"$f":"IF('Mapa oferta'!I15<>\"\",'Mapa oferta'!I15,\"\")","v":""},{"$f":"IF('Mapa oferta'!BM15<>\"\",'Mapa oferta'!BM15,\"\")","v":""},{"$f":"IF('Mapa oferta'!CG15<>\"\",'Mapa oferta'!CG15,\"\")","v":""}]
[null,{"$f":"IF('Mapa oferta'!B16<>\"\",'Mapa oferta'!B16,\"\")","v":""},{"$f":"IF('Mapa oferta'!G16<>\"\",'Mapa oferta'!G16,\"\")","v":""},{"$f":"IF('Mapa oferta'!I16<>\"\",'Mapa oferta'!I16,\"\")","v":""},{"$f":"IF('Mapa oferta'!BM16<>\"\",'Mapa oferta'!BM16,\"\")","v":""},{"$f":"IF('Mapa oferta'!CG16<>\"\",'Mapa oferta'!CG16,\"\")","v":""}]
[null,{"$f":"IF('Mapa oferta'!B17<>\"\",'Mapa oferta'!B17,\"\")","v":""},{"$f":"IF('Mapa oferta'!G17<>\"\",'Mapa oferta'!G17,\"\")","v":""},{"$f":"IF('Mapa oferta'!I17<>\"\",'Mapa oferta'!I17,\"\")","v":""},{"$f":"IF('Mapa oferta'!BM17<>\"\",'Mapa oferta'!BM17,\"\")","v":""},{"$f":"IF('Mapa oferta'!CG17<>\"\",'Mapa oferta'!CG17,\"\")","v":""}]
[null,{"$f":"IF('Mapa oferta'!B18<>\"\",'Mapa oferta'!B18,\"\")","v":""},{"$f":"IF('Mapa oferta'!G18<>\"\",'Mapa oferta'!G18,\"\")","v":""},{"$f":"IF('Mapa oferta'!I18<>\"\",'Mapa oferta'!I18,\"\")","v":""},{"$f":"IF('Mapa oferta'!BM18<>\"\",'Mapa oferta'!BM18,\"\")","v":""},{"$f":"IF('Mapa oferta'!CG18<>\"\",'Mapa oferta'!CG18,\"\")","v":""}]
[null,{"$f":"IF('Mapa oferta'!B19<>\"\",'Mapa oferta'!B19,\"\")","v":""},{"$f":"IF('Mapa oferta'!G19<>\"\",'Mapa oferta'!G19,\"\")","v":""},{"$f":"IF('Mapa oferta'!I19<>\"\",'Mapa oferta'!I19,\"\")","v":""},{"$f":"IF('Mapa oferta'!BM19<>\"\",'Mapa oferta'!BM19,\"\")","v":""},{"$f":"IF('Mapa oferta'!CG19<>\"\",'Mapa oferta'!CG19,\"\")","v":""}]
[null,{"$f":"IF('Mapa oferta'!B20<>\"\",'Mapa oferta'!B20,\"\")","v":""},{"$f":"IF('Mapa oferta'!G20<>\"\",'Mapa oferta'!G20,\"\")","v":""},{"$f":"IF('Mapa oferta'!I20<>\"\",'Mapa oferta'!I20,\"\")","v":""},{"$f":"IF('Mapa oferta'!BM20<>\"\",'Mapa oferta'!BM20,\"\")","v":""},{"$f":"IF('Mapa oferta'!CG20<>\"\",'Mapa oferta'!CG20,\"\")","v":""}]
[null,{"$f":"IF('Mapa oferta'!B21<>\"\",'Mapa oferta'!B21,\"\")","v":""},{"$f":"IF('Mapa oferta'!G21<>\"\",'Mapa oferta'!G21,\"\")","v":""},{"$f":"IF('Mapa oferta'!I21<>\"\",'Mapa oferta'!I21,\"\")","v":""},{"$f":"IF('Mapa oferta'!BM21<>\"\",'Mapa oferta'!BM21,\"\")","v":""},{"$f":"IF('Mapa oferta'!CG21<>\"\",'Mapa oferta'!CG21,\"\")","v":""}]
[null,{"$f":"IF('Mapa oferta'!B22<>\"\",'Mapa oferta'!B22,\"\")","v":""},{"$f":"IF('Mapa oferta'!G22<>\"\",'Mapa oferta'!G22,\"\")","v":""},{"$f":"IF('Mapa oferta'!I22<>\"\",'Mapa oferta'!I22,\"\")","v":""},{"$f":"IF('Mapa oferta'!BM22<>\"\",'Mapa oferta'!BM22,\"\")","v":""},{"$f":"IF('Mapa oferta'!CG22<>\"\",'Mapa oferta'!CG22,\"\")","v":""}]
[null,{"$f":"IF('Mapa oferta'!B23<>\"\",'Mapa oferta'!B23,\"\")","v":""},{"$f":"IF('Mapa oferta'!G23<>\"\",'Mapa oferta'!G23,\"\")","v":""},{"$f":"IF('Mapa oferta'!I23<>\"\",'Mapa oferta'!I23,\"\")","v":""},{"$f":"IF('Mapa oferta'!BM23<>\"\",'Mapa oferta'!BM23,\"\")","v":""},{"$f":"IF('Mapa oferta'!CG23<>\"\",'Mapa oferta'!CG23,\"\")","v":""}]
[null,{"$f":"IF('Mapa oferta'!B24<>\"\",'Mapa oferta'!B24,\"\")","v":""},{"$f":"IF('Mapa oferta'!G24<>\"\",'Mapa oferta'!G24,\"\")","v":""},{"$f":"IF('Mapa oferta'!I24<>\"\",'Mapa oferta'!I24,\"\")","v":""},{"$f":"IF('Mapa oferta'!BM24<>\"\",'Mapa oferta'!BM24,\"\")","v":""},{"$f":"IF('Mapa oferta'!CG24<>\"\",'Mapa oferta'!CG24,\"\")","v":""}]
[null,{"$f":"IF('Mapa oferta'!B25<>\"\",'Mapa oferta'!B25,\"\")","v":""},{"$f":"IF('Mapa oferta'!G25<>\"\",'Mapa oferta'!G25,\"\")","v":""},{"$f":"IF('Mapa oferta'!I25<>\"\",'Mapa oferta'!I25,\"\")","v":""},{"$f":"IF('Mapa oferta'!BM25<>\"\",'Mapa oferta'!BM25,\"\")","v":""},{"$f":"IF('Mapa oferta'!CG25<>\"\",'Mapa oferta'!CG25,\"\")","v":""}]
[null,{"$f":"IF('Mapa oferta'!B26<>\"\",'Mapa oferta'!B26,\"\")","v":""},{"$f":"IF('Mapa oferta'!G26<>\"\",'Mapa oferta'!G26,\"\")","v":""},{"$f":"IF('Mapa oferta'!I26<>\"\",'Mapa oferta'!I26,\"\")","v":""},{"$f":"IF('Mapa oferta'!BM26<>\"\",'Mapa oferta'!BM26,\"\")","v":""},{"$f":"IF('Mapa oferta'!CG26<>\"\",'Mapa oferta'!CG26,\"\")","v":""}]
[null,{"$f":"IF('Mapa oferta'!B27<>\"\",'Mapa oferta'!B27,\"\")","v":""},{"$f":"IF('Mapa oferta'!G27<>\"\",'Mapa oferta'!G27,\"\")","v":""},{"$f":"IF('Mapa oferta'!I27<>\"\",'Mapa oferta'!I27,\"\")","v":""},{"$f":"IF('Mapa oferta'!BM27<>\"\",'Mapa oferta'!BM27,\"\")","v":""},{"$f":"IF('Mapa oferta'!CG27<>\"\",'Mapa oferta'!CG27,\"\")","v":""}]
[null,{"$f":"IF('Mapa oferta'!B28<>\"\",'Mapa oferta'!B28,\"\")","v":""},{"$f":"IF('Mapa oferta'!G28<>\"\",'Mapa oferta'!G28,\"\")","v":""},{"$f":"IF('Mapa oferta'!I28<>\"\",'Mapa oferta'!I28,\"\")","v":""},{"$f":"IF('Mapa oferta'!BM28<>\"\",'Mapa oferta'!BM28,\"\")","v":""},{"$f":"IF('Mapa oferta'!CG28<>\"\",'Mapa oferta'!CG28,\"\")","v":""}]
[null,{"$f":"IF('Mapa oferta'!B29<>\"\",'Mapa oferta'!B29,\"\")","v":""},{"$f":"IF('Mapa oferta'!G29<>\"\",'Mapa oferta'!G29,\"\")","v":""},{"$f":"IF('Mapa oferta'!I29<>\"\",'Mapa oferta'!I29,\"\")","v":""},{"$f":"IF('Mapa oferta'!BM29<>\"\",'Mapa oferta'!BM29,\"\")","v":""},{"$f":"IF('Mapa oferta'!CG29<>\"\",'Mapa oferta'!CG29,\"\")","v":""}]
[null,{"$f":"IF('Mapa oferta'!B30<>\"\",'Mapa oferta'!B30,\"\")","v":""},{"$f":"IF('Mapa oferta'!G30<>\"\",'Mapa oferta'!G30,\"\")","v":""},{"$f":"IF('Mapa oferta'!I30<>\"\",'Mapa oferta'!I30,\"\")","v":""},{"$f":"IF('Mapa oferta'!BM30<>\"\",'Mapa oferta'!BM30,\"\")","v":""},{"$f":"IF('Mapa oferta'!CG30<>\"\",'Mapa oferta'!CG30,\"\")","v":""}]
[null,{"$f":"IF('Mapa oferta'!B31<>\"\",'Mapa oferta'!B31,\"\")","v":""},{"$f":"IF('Mapa oferta'!G31<>\"\",'Mapa oferta'!G31,\"\")","v":""},{"$f":"IF('Mapa oferta'!I31<>\"\",'Mapa oferta'!I31,\"\")","v":""},{"$f":"IF('Mapa oferta'!BM31<>\"\",'Mapa oferta'!BM31,\"\")","v":""},{"$f":"IF('Mapa oferta'!CG31<>\"\",'Mapa oferta'!CG31,\"\")","v":""}]
[null,{"$f":"IF('Mapa oferta'!B32<>\"\",'Mapa oferta'!B32,\"\")","v":""},{"$f":"IF('Mapa oferta'!G32<>\"\",'Mapa oferta'!G32,\"\")","v":""},{"$f":"IF('Mapa oferta'!I32<>\"\",'Mapa oferta'!I32,\"\")","v":""},{"$f":"IF('Mapa oferta'!BM32<>\"\",'Mapa oferta'!BM32,\"\")","v":""},{"$f":"IF('Mapa oferta'!CG32<>\"\",'Mapa oferta'!CG32,\"\")","v":""}]
[null,{"$f":"IF('Mapa oferta'!B33<>\"\",'Mapa oferta'!B33,\"\")","v":""},{"$f":"IF('Mapa oferta'!G33<>\"\",'Mapa oferta'!G33,\"\")","v":""},{"$f":"IF('Mapa oferta'!I33<>\"\",'Mapa oferta'!I33,\"\")","v":""},{"$f":"IF('Mapa oferta'!BM33<>\"\",'Mapa oferta'!BM33,\"\")","v":""},{"$f":"IF('Mapa oferta'!CG33<>\"\",'Mapa oferta'!CG33,\"\")","v":""}]
[null,{"$f":"IF('Mapa oferta'!B34<>\"\",'Mapa oferta'!B34,\"\")","v":""},{"$f":"IF('Mapa oferta'!G34<>\"\",'Mapa oferta'!G34,\"\")","v":""},{"$f":"IF('Mapa oferta'!I34<>\"\",'Mapa oferta'!I34,\"\")","v":""},{"$f":"IF('Mapa oferta'!BM34<>\"\",'Mapa oferta'!BM34,\"\")","v":""},{"$f":"IF('Mapa oferta'!CG34<>\"\",'Mapa oferta'!CG34,\"\")","v":""}]
[null,{"$f":"IF('Mapa oferta'!B35<>\"\",'Mapa oferta'!B35,\"\")","v":""},{"$f":"IF('Mapa oferta'!G35<>\"\",'Mapa oferta'!G35,\"\")","v":""},{"$f":"IF('Mapa oferta'!I35<>\"\",'Mapa oferta'!I35,\"\")","v":""},{"$f":"IF('Mapa oferta'!BM35<>\"\",'Mapa oferta'!BM35,\"\")","v":""},{"$f":"IF('Mapa oferta'!CG35<>\"\",'Mapa oferta'!CG35,\"\")","v":""}]
[null,{"$f":"IF('Mapa oferta'!B36<>\"\",'Mapa oferta'!B36,\"\")","v":""},{"$f":"IF('Mapa oferta'!G36<>\"\",'Mapa oferta'!G36,\"\")","v":""},{"$f":"IF('Mapa oferta'!I36<>\"\",'Mapa oferta'!I36,\"\")","v":""},{"$f":"IF('Mapa oferta'!BM36<>\"\",'Mapa oferta'!BM36,\"\")","v":""},{"$f":"IF('Mapa oferta'!CG36<>\"\",'Mapa oferta'!CG36,\"\")","v":""}]
[null,{"$f":"IF('Mapa oferta'!B37<>\"\",'Mapa oferta'!B37,\"\")","v":""},{"$f":"IF('Mapa oferta'!G37<>\"\",'Mapa oferta'!G37,\"\")","v":""},{"$f":"IF('Mapa oferta'!I37<>\"\",'Mapa oferta'!I37,\"\")","v":""},{"$f":"IF('Mapa oferta'!BM37<>\"\",'Mapa oferta'!BM37,\"\")","v":""},{"$f":"IF('Mapa oferta'!CG37<>\"\",'Mapa oferta'!CG37,\"\")","v":""}]
[null,{"$f":"IF('Mapa oferta'!B38<>\"\",'Mapa oferta'!B38,\"\")","v":""},{"$f":"IF('Mapa oferta'!G38<>\"\",'Mapa oferta'!G38,\"\")","v":""},{"$f":"IF('Mapa oferta'!I38<>\"\",'Mapa oferta'!I38,\"\")","v":""},{"$f":"IF('Mapa oferta'!BM38<>\"\",'Mapa oferta'!BM38,\"\")","v":""},{"$f":"IF('Mapa oferta'!CG38<>\"\",'Mapa oferta'!CG38,\"\")","v":""}]
[null,{"$f":"IF('Mapa oferta'!B39<>\"\",'Mapa oferta'!B39,\"\")","v":""},{"$f":"IF('Mapa oferta'!G39<>\"\",'Mapa oferta'!G39,\"\")","v":""},{"$f":"IF('Mapa oferta'!I39<>\"\",'Mapa oferta'!I39,\"\")","v":""},{"$f":"IF('Mapa oferta'!BM39<>\"\",'Mapa oferta'!BM39,\"\")","v":""},{"$f":"IF('Mapa oferta'!CG39<>\"\",'Mapa oferta'!CG39,\"\")","v":""}]
[null,{"$f":"IF('Mapa oferta'!B40<>\"\",'Mapa oferta'!B40,\"\")","v":""},{"$f":"IF('Mapa oferta'!G40<>\"\",'Mapa oferta'!G40,\"\")","v":""},{"$f":"IF('Mapa oferta'!I40<>\"\",'Mapa oferta'!I40,\"\")","v":""},{"$f":"IF('Mapa oferta'!BM40<>\"\",'Mapa oferta'!BM40,\"\")","v":""},{"$f":"IF('Mapa oferta'!CG40<>\"\",'Mapa oferta'!CG40,\"\")","v":""}]
[null,{"$f":"IF('Mapa oferta'!B41<>\"\",'Mapa oferta'!B41,\"\")","v":""},{"$f":"IF('Mapa oferta'!G41<>\"\",'Mapa oferta'!G41,\"\")","v":""},{"$f":"IF('Mapa oferta'!I41<>\"\",'Mapa oferta'!I41,\"\")","v":""},{"$f":"IF('Mapa oferta'!BM41<>\"\",'Mapa oferta'!BM41,\"\")","v":""},{"$f":"IF('Mapa oferta'!CG41<>\"\",'Mapa oferta'!CG41,\"\")","v":""}]
[null,{"$f":"IF('Mapa oferta'!B42<>\"\",'Mapa oferta'!B42,\"\")","v":""},{"$f":"IF('Mapa oferta'!G42<>\"\",'Mapa oferta'!G42,\"\")","v":""},{"$f":"IF('Mapa oferta'!I42<>\"\",'Mapa oferta'!I42,\"\")","v":""},{"$f":"IF('Mapa oferta'!BM42<>\"\",'Mapa oferta'!BM42,\"\")","v":""},{"$f":"IF('Mapa oferta'!CG42<>\"\",'Mapa oferta'!CG42,\"\")","v":""}]
[null,{"$f":"IF('Mapa oferta'!B43<>\"\",'Mapa oferta'!B43,\"\")","v":""},{"$f":"IF('Mapa oferta'!G43<>\"\",'Mapa oferta'!G43,\"\")","v":""},{"$f":"IF('Mapa oferta'!I43<>\"\",'Mapa oferta'!I43,\"\")","v":""},{"$f":"IF('Mapa oferta'!BM43<>\"\",'Mapa oferta'!BM43,\"\")","v":""},{"$f":"IF('Mapa oferta'!CG43<>\"\",'Mapa oferta'!CG43,\"\")","v":""}]
[null,{"$f":"IF('Mapa oferta'!B44<>\"\",'Mapa oferta'!B44,\"\")","v":""},{"$f":"IF('Mapa oferta'!G44<>\"\",'Mapa oferta'!G44,\"\")","v":""},{"$f":"IF('Mapa oferta'!I44<>\"\",'Mapa oferta'!I44,\"\")","v":""},{"$f":"IF('Mapa oferta'!BM44<>\"\",'Mapa oferta'!BM44,\"\")","v":""},{"$f":"IF('Mapa oferta'!CG44<>\"\",'Mapa oferta'!CG44,\"\")","v":""}]
[null,{"$f":"IF('Mapa oferta'!B45<>\"\",'Mapa oferta'!B45,\"\")","v":""},{"$f":"IF('Mapa oferta'!G45<>\"\",'Mapa oferta'!G45,\"\")","v":""},{"$f":"IF('Mapa oferta'!I45<>\"\",'Mapa oferta'!I45,\"\")","v":""},{"$f":"IF('Mapa oferta'!BM45<>\"\",'Mapa oferta'!BM45,\"\")","v":""},{"$f":"IF('Mapa oferta'!CG45<>\"\",'Mapa oferta'!CG45,\"\")","v":""}]
[null,{"$f":"IF('Mapa oferta'!B46<>\"\",'Mapa oferta'!B46,\"\")","v":""},{"$f":"IF('Mapa oferta'!G46<>\"\",'Mapa oferta'!G46,\"\")","v":""},{"$f":"IF('Mapa oferta'!I46<>\"\",'Mapa oferta'!I46,\"\")","v":""},{"$f":"IF('Mapa oferta'!BM46<>\"\",'Mapa oferta'!BM46,\"\")","v":""},{"$f":"IF('Mapa oferta'!CG46<>\"\",'Mapa oferta'!CG46,\"\")","v":""}]
[null,{"$f":"IF('Mapa oferta'!B47<>\"\",'Mapa oferta'!B47,\"\")","v":""},{"$f":"IF('Mapa oferta'!G47<>\"\",'Mapa oferta'!G47,\"\")","v":""},{"$f":"IF('Mapa oferta'!I47<>\"\",'Mapa oferta'!I47,\"\")","v":""},{"$f":"IF('Mapa oferta'!BM47<>\"\",'Mapa oferta'!BM47,\"\")","v":""},{"$f":"IF('Mapa oferta'!CG47<>\"\",'Mapa oferta'!CG47,\"\")","v":""}]
[null,{"$f":"IF('Mapa oferta'!B48<>\"\",'Mapa oferta'!B48,\"\")","v":""},{"$f":"IF('Mapa oferta'!G48<>\"\",'Mapa oferta'!G48,\"\")","v":""},{"$f":"IF('Mapa oferta'!I48<>\"\",'Mapa oferta'!I48,\"\")","v":""},{"$f":"IF('Mapa oferta'!BM48<>\"\",'Mapa oferta'!BM48,\"\")","v":""},{"$f":"IF('Mapa oferta'!CG48<>\"\",'Mapa oferta'!CG48,\"\")","v":""}]
[null,{"$f":"IF('Mapa oferta'!B49<>\"\",'Mapa oferta'!B49,\"\")","v":""},{"$f":"IF('Mapa oferta'!G49<>\"\",'Mapa oferta'!G49,\"\")","v":""},{"$f":"IF('Mapa oferta'!I49<>\"\",'Mapa oferta'!I49,\"\")","v":""},{"$f":"IF('Mapa oferta'!BM49<>\"\",'Mapa oferta'!BM49,\"\")","v":""},{"$f":"IF('Mapa oferta'!CG49<>\"\",'Mapa oferta'!CG49,\"\")","v":""}]
[null,{"$f":"IF('Mapa oferta'!B50<>\"\",'Mapa oferta'!B50,\"\")","v":""},{"$f":"IF('Mapa oferta'!G50<>\"\",'Mapa oferta'!G50,\"\")","v":""},{"$f":"IF('Mapa oferta'!I50<>\"\",'Mapa oferta'!I50,\"\")","v":""},{"$f":"IF('Mapa oferta'!BM50<>\"\",'Mapa oferta'!BM50,\"\")","v":""},{"$f":"IF('Mapa oferta'!CG50<>\"\",'Mapa oferta'!CG50,\"\")","v":""}]
[null,{"$f":"IF('Mapa oferta'!B51<>\"\",'Mapa oferta'!B51,\"\")","v":""},{"$f":"IF('Mapa oferta'!G51<>\"\",'Mapa oferta'!G51,\"\")","v":""},{"$f":"IF('Mapa oferta'!I51<>\"\",'Mapa oferta'!I51,\"\")","v":""},{"$f":"IF('Mapa oferta'!BM51<>\"\",'Mapa oferta'!BM51,\"\")","v":""},{"$f":"IF('Mapa oferta'!CG51<>\"\",'Mapa oferta'!CG51,\"\")","v":""}]
[null,{"$f":"IF('Mapa oferta'!B52<>\"\",'Mapa oferta'!B52,\"\")","v":""},{"$f":"IF('Mapa oferta'!G52<>\"\",'Mapa oferta'!G52,\"\")","v":""},{"$f":"IF('Mapa oferta'!I52<>\"\",'Mapa oferta'!I52,\"\")","v":""},{"$f":"IF('Mapa oferta'!BM52<>\"\",'Mapa oferta'!BM52,\"\")","v":""},{"$f":"IF('Mapa oferta'!CG52<>\"\",'Mapa oferta'!CG52,\"\")","v":""}]
[null,{"$f":"IF('Mapa oferta'!B53<>\"\",'Mapa oferta'!B53,\"\")","v":""},{"$f":"IF('Mapa oferta'!G53<>\"\",'Mapa oferta'!G53,\"\")","v":""},{"$f":"IF('Mapa oferta'!I53<>\"\",'Mapa oferta'!I53,\"\")","v":""},{"$f":"IF('Mapa oferta'!BM53<>\"\",'Mapa oferta'!BM53,\"\")","v":""},{"$f":"IF('Mapa oferta'!CG53<>\"\",'Mapa oferta'!CG53,\"\")","v":""}]
[null,{"$f":"IF('Mapa oferta'!B54<>\"\",'Mapa oferta'!B54,\"\")","v":""},{"$f":"IF('Mapa oferta'!G54<>\"\",'Mapa oferta'!G54,\"\")","v":""},{"$f":"IF('Mapa oferta'!I54<>\"\",'Mapa oferta'!I54,\"\")","v":""},{"$f":"IF('Mapa oferta'!BM54<>\"\",'Mapa oferta'!BM54,\"\")","v":""},{"$f":"IF('Mapa oferta'!CG54<>\"\",'Mapa oferta'!CG54,\"\")","v":""}]
[null,{"$f":"IF('Mapa oferta'!B55<>\"\",'Mapa oferta'!B55,\"\")","v":""},{"$f":"IF('Mapa oferta'!G55<>\"\",'Mapa oferta'!G55,\"\")","v":""},{"$f":"IF('Mapa oferta'!I55<>\"\",'Mapa oferta'!I55,\"\")","v":""},{"$f":"IF('Mapa oferta'!BM55<>\"\",'Mapa oferta'!BM55,\"\")","v":""},{"$f":"IF('Mapa oferta'!CG55<>\"\",'Mapa oferta'!CG55,\"\")","v":""}]
[null,{"$f":"IF('Mapa oferta'!B56<>\"\",'Mapa oferta'!B56,\"\")","v":""},{"$f":"IF('Mapa oferta'!G56<>\"\",'Mapa oferta'!G56,\"\")","v":""},{"$f":"IF('Mapa oferta'!I56<>\"\",'Mapa oferta'!I56,\"\")","v":""},{"$f":"IF('Mapa oferta'!BM56<>\"\",'Mapa oferta'!BM56,\"\")","v":""},{"$f":"IF('Mapa oferta'!CG56<>\"\",'Mapa oferta'!CG56,\"\")","v":""}]
[null,{"$f":"IF('Mapa oferta'!B57<>\"\",'Mapa oferta'!B57,\"\")","v":""},{"$f":"IF('Mapa oferta'!G57<>\"\",'Mapa oferta'!G57,\"\")","v":""},{"$f":"IF('Mapa oferta'!I57<>\"\",'Mapa oferta'!I57,\"\")","v":""},{"$f":"IF('Mapa oferta'!BM57<>\"\",'Mapa oferta'!BM57,\"\")","v":""},{"$f":"IF('Mapa oferta'!CG57<>\"\",'Mapa oferta'!CG57,\"\")","v":""}]
[null,{"$f":"IF('Mapa oferta'!B58<>\"\",'Mapa oferta'!B58,\"\")","v":""},{"$f":"IF('Mapa oferta'!G58<>\"\",'Mapa oferta'!G58,\"\")","v":""},{"$f":"IF('Mapa oferta'!I58<>\"\",'Mapa oferta'!I58,\"\")","v":""},{"$f":"IF('Mapa oferta'!BM58<>\"\",'Mapa oferta'!BM58,\"\")","v":""},{"$f":"IF('Mapa oferta'!CG58<>\"\",'Mapa oferta'!CG58,\"\")","v":""}]
[null,{"$f":"IF('Mapa oferta'!B59<>\"\",'Mapa oferta'!B59,\"\")","v":""},{"$f":"IF('Mapa oferta'!G59<>\"\",'Mapa oferta'!G59,\"\")","v":""},{"$f":"IF('Mapa oferta'!I59<>\"\",'Mapa oferta'!I59,\"\")","v":""},{"$f":"IF('Mapa oferta'!BM59<>\"\",'Mapa oferta'!BM59,\"\")","v":""},{"$f":"IF('Mapa oferta'!CG59<>\"\",'Mapa oferta'!CG59,\"\")","v":""}]
[null,{"$f":"IF('Mapa oferta'!B60<>\"\",'Mapa oferta'!B60,\"\")","v":""},{"$f":"IF('Mapa oferta'!G60<>\"\",'Mapa oferta'!G60,\"\")","v":""},{"$f":"IF('Mapa oferta'!I60<>\"\",'Mapa oferta'!I60,\"\")","v":""},{"$f":"IF('Mapa oferta'!BM60<>\"\",'Mapa oferta'!BM60,\"\")","v":""},{"$f":"IF('Mapa oferta'!CG60<>\"\",'Mapa oferta'!CG60,\"\")","v":""}]
[null,{"$f":"IF('Mapa oferta'!B61<>\"\",'Mapa oferta'!B61,\"\")","v":""},{"$f":"IF('Mapa oferta'!G61<>\"\",'Mapa oferta'!G61,\"\")","v":""},{"$f":"IF('Mapa oferta'!I61<>\"\",'Mapa oferta'!I61,\"\")","v":""},{"$f":"IF('Mapa oferta'!BM61<>\"\",'Mapa oferta'!BM61,\"\")","v":""},{"$f":"IF('Mapa oferta'!CG61<>\"\",'Mapa oferta'!CG61,\"\")","v":""}]
[null,{"$f":"IF('Mapa oferta'!B62<>\"\",'Mapa oferta'!B62,\"\")","v":""},{"$f":"IF('Mapa oferta'!G62<>\"\",'Mapa oferta'!G62,\"\")","v":""},{"$f":"IF('Mapa oferta'!I62<>\"\",'Mapa oferta'!I62,\"\")","v":""},{"$f":"IF('Mapa oferta'!BM62<>\"\",'Mapa oferta'!BM62,\"\")","v":""},{"$f":"IF('Mapa oferta'!CG62<>\"\",'Mapa oferta'!CG62,\"\")","v":""}]
[null,{"$f":"IF('Mapa oferta'!B63<>\"\",'Mapa oferta'!B63,\"\")","v":""},{"$f":"IF('Mapa oferta'!G63<>\"\",'Mapa oferta'!G63,\"\")","v":""},{"$f":"IF('Mapa oferta'!I63<>\"\",'Mapa oferta'!I63,\"\")","v":""},{"$f":"IF('Mapa oferta'!BM63<>\"\",'Mapa oferta'!BM63,\"\")","v":""},{"$f":"IF('Mapa oferta'!CG63<>\"\",'Mapa oferta'!CG63,\"\")","v":""}]
[null,{"$f":"IF('Mapa oferta'!B64<>\"\",'Mapa oferta'!B64,\"\")","v":""},{"$f":"IF('Mapa oferta'!G64<>\"\",'Mapa oferta'!G64,\"\")","v":""},{"$f":"IF('Mapa oferta'!I64<>\"\",'Mapa oferta'!I64,\"\")","v":""},{"$f":"IF('Mapa oferta'!BM64<>\"\",'Mapa oferta'!BM64,\"\")","v":""},{"$f":"IF('Mapa oferta'!CG64<>\"\",'Mapa oferta'!CG64,\"\")","v":""}]
[null,{"$f":"IF('Mapa oferta'!B65<>\"\",'Mapa oferta'!B65,\"\")","v":""},{"$f":"IF('Mapa oferta'!G65<>\"\",'Mapa oferta'!G65,\"\")","v":""},{"$f":"IF('Mapa oferta'!I65<>\"\",'Mapa oferta'!I65,\"\")","v":""},{"$f":"IF('Mapa oferta'!BM65<>\"\",'Mapa oferta'!BM65,\"\")","v":""},{"$f":"IF('Mapa oferta'!CG65<>\"\",'Mapa oferta'!CG65,\"\")","v":""}]
[null,{"$f":"IF('Mapa oferta'!B66<>\"\",'Mapa oferta'!B66,\"\")","v":""},{"$f":"IF('Mapa oferta'!G66<>\"\",'Mapa oferta'!G66,\"\")","v":""},{"$f":"IF('Mapa oferta'!I66<>\"\",'Mapa oferta'!I66,\"\")","v":""},{"$f":"IF('Mapa oferta'!BM66<>\"\",'Mapa oferta'!BM66,\"\")","v":""},{"$f":"IF('Mapa oferta'!CG66<>\"\",'Mapa oferta'!CG66,\"\")","v":""}]
[null,{"$f":"IF('Mapa oferta'!B67<>\"\",'Mapa oferta'!B67,\"\")","v":""},{"$f":"IF('Mapa oferta'!G67<>\"\",'Mapa oferta'!G67,\"\")","v":""},{"$f":"IF('Mapa oferta'!I67<>\"\",'Mapa oferta'!I67,\"\")","v":""},{"$f":"IF('Mapa oferta'!BM67<>\"\",'Mapa oferta'!BM67,\"\")","v":""},{"$f":"IF('Mapa oferta'!CG67<>\"\",'Mapa oferta'!CG67,\"\")","v":""}]
[null,{"$f":"IF('Mapa oferta'!B68<>\"\",'Mapa oferta'!B68,\"\")","v":""},{"$f":"IF('Mapa oferta'!G68<>\"\",'Mapa oferta'!G68,\"\")","v":""},{"$f":"IF('Mapa oferta'!I68<>\"\",'Mapa oferta'!I68,\"\")","v":""},{"$f":"IF('Mapa oferta'!BM68<>\"\",'Mapa oferta'!BM68,\"\")","v":""},{"$f":"IF('Mapa oferta'!CG68<>\"\",'Mapa oferta'!CG68,\"\")","v":""}]
[null,{"$f":"IF('Mapa oferta'!B69<>\"\",'Mapa oferta'!B69,\"\")","v":""},{"$f":"IF('Mapa oferta'!G69<>\"\",'Mapa oferta'!G69,\"\")","v":""},{"$f":"IF('Mapa oferta'!I69<>\"\",'Mapa oferta'!I69,\"\")","v":""},{"$f":"IF('Mapa oferta'!BM69<>\"\",'Mapa oferta'!BM69,\"\")","v":""},{"$f":"IF('Mapa oferta'!CG69<>\"\",'Mapa oferta'!CG69,\"\")","v":""}]
[null,{"$f":"IF('Mapa oferta'!B70<>\"\",'Mapa oferta'!B70,\"\")","v":""},{"$f":"IF('Mapa oferta'!G70<>\"\",'Mapa oferta'!G70,\"\")","v":""},{"$f":"IF('Mapa oferta'!I70<>\"\",'Mapa oferta'!I70,\"\")","v":""},{"$f":"IF('Mapa oferta'!BM70<>\"\",'Mapa oferta'!BM70,\"\")","v":""},{"$f":"IF('Mapa oferta'!CG70<>\"\",'Mapa oferta'!CG70,\"\")","v":""}]
[null,{"$f":"IF('Mapa oferta'!B71<>\"\",'Mapa oferta'!B71,\"\")","v":""},{"$f":"IF('Mapa oferta'!G71<>\"\",'Mapa oferta'!G71,\"\")","v":""},{"$f":"IF('Mapa oferta'!I71<>\"\",'Mapa oferta'!I71,\"\")","v":""},{"$f":"IF('Mapa oferta'!BM71<>\"\",'Mapa oferta'!BM71,\"\")","v":""},{"$f":"IF('Mapa oferta'!CG71<>\"\",'Mapa oferta'!CG71,\"\")","v":""}]
[null,{"$f":"IF('Mapa oferta'!B72<>\"\",'Mapa oferta'!B72,\"\")","v":""},{"$f":"IF('Mapa oferta'!G72<>\"\",'Mapa oferta'!G72,\"\")","v":""},{"$f":"IF('Mapa oferta'!I72<>\"\",'Mapa oferta'!I72,\"\")","v":""},{"$f":"IF('Mapa oferta'!BM72<>\"\",'Mapa oferta'!BM72,\"\")","v":""},{"$f":"IF('Mapa oferta'!CG72<>\"\",'Mapa oferta'!CG72,\"\")","v":""}]
[null,{"$f":"IF('Mapa oferta'!B73<>\"\",'Mapa oferta'!B73,\"\")","v":""},{"$f":"IF('Mapa oferta'!G73<>\"\",'Mapa oferta'!G73,\"\")","v":""},{"$f":"IF('Mapa oferta'!I73<>\"\",'Mapa oferta'!I73,\"\")","v":""},{"$f":"IF('Mapa oferta'!BM73<>\"\",'Mapa oferta'!BM73,\"\")","v":""},{"$f":"IF('Mapa oferta'!CG73<>\"\",'Mapa oferta'!CG73,\"\")","v":""}]
[null,{"$f":"IF('Mapa oferta'!B74<>\"\",'Mapa oferta'!B74,\"\")","v":""},{"$f":"IF('Mapa oferta'!G74<>\"\",'Mapa oferta'!G74,\"\")","v":""},{"$f":"IF('Mapa oferta'!I74<>\"\",'Mapa oferta'!I74,\"\")","v":""},{"$f":"IF('Mapa oferta'!BM74<>\"\",'Mapa oferta'!BM74,\"\")","v":""},{"$f":"IF('Mapa oferta'!CG74<>\"\",'Mapa oferta'!CG74,\"\")","v":""}]
[null,{"$f":"IF('Mapa oferta'!B75<>\"\",'Mapa oferta'!B75,\"\")","v":""},{"$f":"IF('Mapa oferta'!G75<>\"\",'Mapa oferta'!G75,\"\")","v":""},{"$f":"IF('Mapa oferta'!I75<>\"\",'Mapa oferta'!I75,\"\")","v":""},{"$f":"IF('Mapa oferta'!BM75<>\"\",'Mapa oferta'!BM75,\"\")","v":""},{"$f":"IF('Mapa oferta'!CG75<>\"\",'Mapa oferta'!CG75,\"\")","v":""}]
[null,{"$f":"IF('Mapa oferta'!B76<>\"\",'Mapa oferta'!B76,\"\")","v":""},{"$f":"IF('Mapa oferta'!G76<>\"\",'Mapa oferta'!G76,\"\")","v":""},{"$f":"IF('Mapa oferta'!I76<>\"\",'Mapa oferta'!I76,\"\")","v":""},{"$f":"IF('Mapa oferta'!BM76<>\"\",'Mapa oferta'!BM76,\"\")","v":""},{"$f":"IF('Mapa oferta'!CG76<>\"\",'Mapa oferta'!CG76,\"\")","v":""}]
[null,{"$f":"IF('Mapa oferta'!B77<>\"\",'Mapa oferta'!B77,\"\")","v":""},{"$f":"IF('Mapa oferta'!G77<>\"\",'Mapa oferta'!G77,\"\")","v":""},{"$f":"IF('Mapa oferta'!I77<>\"\",'Mapa oferta'!I77,\"\")","v":""},{"$f":"IF('Mapa oferta'!BM77<>\"\",'Mapa oferta'!BM77,\"\")","v":""},{"$f":"IF('Mapa oferta'!CG77<>\"\",'Mapa oferta'!CG77,\"\")","v":""}]
[null,{"$f":"IF('Mapa oferta'!B78<>\"\",'Mapa oferta'!B78,\"\")","v":""},{"$f":"IF('Mapa oferta'!G78<>\"\",'Mapa oferta'!G78,\"\")","v":""},{"$f":"IF('Mapa oferta'!I78<>\"\",'Mapa oferta'!I78,\"\")","v":""},{"$f":"IF('Mapa oferta'!BM78<>\"\",'Mapa oferta'!BM78,\"\")","v":""},{"$f":"IF('Mapa oferta'!CG78<>\"\",'Mapa oferta'!CG78,\"\")","v":""}]
[null,{"$f":"IF('Mapa oferta'!B79<>\"\",'Mapa oferta'!B79,\"\")","v":""},{"$f":"IF('Mapa oferta'!G79<>\"\",'Mapa oferta'!G79,\"\")","v":""},{"$f":"IF('Mapa oferta'!I79<>\"\",'Mapa oferta'!I79,\"\")","v":""},{"$f":"IF('Mapa oferta'!BM79<>\"\",'Mapa oferta'!BM79,\"\")","v":""},{"$f":"IF('Mapa oferta'!CG79<>\"\",'Mapa oferta'!CG79,\"\")","v":""}]
[null,{"$f":"IF('Mapa oferta'!B80<>\"\",'Mapa oferta'!B80,\"\")","v":""},{"$f":"IF('Mapa oferta'!G80<>\"\",'Mapa oferta'!G80,\"\")","v":""},{"$f":"IF('Mapa oferta'!I80<>\"\",'Mapa oferta'!I80,\"\")","v":""},{"$f":"IF('Mapa oferta'!BM80<>\"\",'Mapa oferta'!BM80,\"\")","v":""},{"$f":"IF('Mapa oferta'!CG80<>\"\",'Mapa oferta'!CG80,\"\")","v":""}]
[null,{"$f":"IF('Mapa oferta'!B81<>\"\",'Mapa oferta'!B81,\"\")","v":""},{"$f":"IF('Mapa oferta'!G81<>\"\",'Mapa oferta'!G81,\"\")","v":""},{"$f":"IF('Mapa oferta'!I81<>\"\",'Mapa oferta'!I81,\"\")","v":""},{"$f":"IF('Mapa oferta'!BM81<>\"\",'Mapa oferta'!BM81,\"\")","v":""},{"$f":"IF('Mapa oferta'!CG81<>\"\",'Mapa oferta'!CG81,\"\")","v":""}]
[null,{"$f":"IF('Mapa oferta'!B82<>\"\",'Mapa oferta'!B82,\"\")","v":""},{"$f":"IF('Mapa oferta'!G82<>\"\",'Mapa oferta'!G82,\"\")","v":""},{"$f":"IF('Mapa oferta'!I82<>\"\",'Mapa oferta'!I82,\"\")","v":""},{"$f":"IF('Mapa oferta'!BM82<>\"\",'Mapa oferta'!BM82,\"\")","v":""},{"$f":"IF('Mapa oferta'!CG82<>\"\",'Mapa oferta'!CG82,\"\")","v":""}]
[null,{"$f":"IF('Mapa oferta'!B83<>\"\",'Mapa oferta'!B83,\"\")","v":""},{"$f":"IF('Mapa oferta'!G83<>\"\",'Mapa oferta'!G83,\"\")","v":""},{"$f":"IF('Mapa oferta'!I83<>\"\",'Mapa oferta'!I83,\"\")","v":""},{"$f":"IF('Mapa oferta'!BM83<>\"\",'Mapa oferta'!BM83,\"\")","v":""},{"$f":"IF('Mapa oferta'!CG83<>\"\",'Mapa oferta'!CG83,\"\")","v":""}]
[null,{"$f":"IF('Mapa oferta'!B84<>\"\",'Mapa oferta'!B84,\"\")","v":""},{"$f":"IF('Mapa oferta'!G84<>\"\",'Mapa oferta'!G84,\"\")","v":""},{"$f":"IF('Mapa oferta'!I84<>\"\",'Mapa oferta'!I84,\"\")","v":""},{"$f":"IF('Mapa oferta'!BM84<>\"\",'Mapa oferta'!BM84,\"\")","v":""},{"$f":"IF('Mapa oferta'!CG84<>\"\",'Mapa oferta'!CG84,\"\")","v":""}]
[null,{"$f":"IF('Mapa oferta'!B85<>\"\",'Mapa oferta'!B85,\"\")","v":""},{"$f":"IF('Mapa oferta'!G85<>\"\",'Mapa oferta'!G85,\"\")","v":""},{"$f":"IF('Mapa oferta'!I85<>\"\",'Mapa oferta'!I85,\"\")","v":""},{"$f":"IF('Mapa oferta'!BM85<>\"\",'Mapa oferta'!BM85,\"\")","v":""},{"$f":"IF('Mapa oferta'!CG85<>\"\",'Mapa oferta'!CG85,\"\")","v":""}]
[null,{"$f":"IF('Mapa oferta'!B86<>\"\",'Mapa oferta'!B86,\"\")","v":""},{"$f":"IF('Mapa oferta'!G86<>\"\",'Mapa oferta'!G86,\"\")","v":""},{"$f":"IF('Mapa oferta'!I86<>\"\",'Mapa oferta'!I86,\"\")","v":""},{"$f":"IF('Mapa oferta'!BM86<>\"\",'Mapa oferta'!BM86,\"\")","v":""},{"$f":"IF('Mapa oferta'!CG86<>\"\",'Mapa oferta'!CG86,\"\")","v":""}]
[null,{"$f":"IF('Mapa oferta'!B87<>\"\",'Mapa oferta'!B87,\"\")","v":""},{"$f":"IF('Mapa oferta'!G87<>\"\",'Mapa oferta'!G87,\"\")","v":""},{"$f":"IF('Mapa oferta'!I87<>\"\",'Mapa oferta'!I87,\"\")","v":""},{"$f":"IF('Mapa oferta'!BM87<>\"\",'Mapa oferta'!BM87,\"\")","v":""},{"$f":"IF('Mapa oferta'!CG87<>\"\",'Mapa oferta'!CG87,\"\")","v":""}]
[null,{"$f":"IF('Mapa oferta'!B88<>\"\",'Mapa oferta'!B88,\"\")","v":""},{"$f":"IF('Mapa oferta'!G88<>\"\",'Mapa oferta'!G88,\"\")","v":""},{"$f":"IF('Mapa oferta'!I88<>\"\",'Mapa oferta'!I88,\"\")","v":""},{"$f":"IF('Mapa oferta'!BM88<>\"\",'Mapa oferta'!BM88,\"\")","v":""},{"$f":"IF('Mapa oferta'!CG88<>\"\",'Mapa oferta'!CG88,\"\")","v":""}]
[null,{"$f":"IF('Mapa oferta'!B89<>\"\",'Mapa oferta'!B89,\"\")","v":""},{"$f":"IF('Mapa oferta'!G89<>\"\",'Mapa oferta'!G89,\"\")","v":""},{"$f":"IF('Mapa oferta'!I89<>\"\",'Mapa oferta'!I89,\"\")","v":""},{"$f":"IF('Mapa oferta'!BM89<>\"\",'Mapa oferta'!BM89,\"\")","v":""},{"$f":"IF('Mapa oferta'!CG89<>\"\",'Mapa oferta'!CG89,\"\")","v":""}]
[null,{"$f":"IF('Mapa oferta'!B90<>\"\",'Mapa oferta'!B90,\"\")","v":""},{"$f":"IF('Mapa oferta'!G90<>\"\",'Mapa oferta'!G90,\"\")","v":""},{"$f":"IF('Mapa oferta'!I90<>\"\",'Mapa oferta'!I90,\"\")","v":""},{"$f":"IF('Mapa oferta'!BM90<>\"\",'Mapa oferta'!BM90,\"\")","v":""},{"$f":"IF('Mapa oferta'!CG90<>\"\",'Mapa oferta'!CG90,\"\")","v":""}]
[null,{"$f":"IF('Mapa oferta'!B91<>\"\",'Mapa oferta'!B91,\"\")","v":""},{"$f":"IF('Mapa oferta'!G91<>\"\",'Mapa oferta'!G91,\"\")","v":""},{"$f":"IF('Mapa oferta'!I91<>\"\",'Mapa oferta'!I91,\"\")","v":""},{"$f":"IF('Mapa oferta'!BM91<>\"\",'Mapa oferta'!BM91,\"\")","v":""},{"$f":"IF('Mapa oferta'!CG91<>\"\",'Mapa oferta'!CG91,\"\")","v":""}]
[null,{"$f":"IF('Mapa oferta'!B92<>\"\",'Mapa oferta'!B92,\"\")","v":""},{"$f":"IF('Mapa oferta'!G92<>\"\",'Mapa oferta'!G92,\"\")","v":""},{"$f":"IF('Mapa oferta'!I92<>\"\",'Mapa oferta'!I92,\"\")","v":""},{"$f":"IF('Mapa oferta'!BM92<>\"\",'Mapa oferta'!BM92,\"\")","v":""},{"$f":"IF('Mapa oferta'!CG92<>\"\",'Mapa oferta'!CG92,\"\")","v":""}]
[null,{"$f":"IF('Mapa oferta'!B93<>\"\",'Mapa oferta'!B93,\"\")","v":""},{"$f":"IF('Mapa oferta'!G93<>\"\",'Mapa oferta'!G93,\"\")","v":""},{"$f":"IF('Mapa oferta'!I93<>\"\",'Mapa oferta'!I93,\"\")","v":""},{"$f":"IF('Mapa oferta'!BM93<>\"\",'Mapa oferta'!BM93,\"\")","v":""},{"$f":"IF('Mapa oferta'!CG93<>\"\",'Mapa oferta'!CG93,\"\")","v":""}]
[null,{"$f":"IF('Mapa oferta'!B94<>\"\",'Mapa oferta'!B94,\"\")","v":""},{"$f":"IF('Mapa oferta'!G94<>\"\",'Mapa oferta'!G94,\"\")","v":""},{"$f":"IF('Mapa oferta'!I94<>\"\",'Mapa oferta'!I94,\"\")","v":""},{"$f":"IF('Mapa oferta'!BM94<>\"\",'Mapa oferta'!BM94,\"\")","v":""},{"$f":"IF('Mapa oferta'!CG94<>\"\",'Mapa oferta'!CG94,\"\")","v":""}]
[null,{"$f":"IF('Mapa oferta'!B95<>\"\",'Mapa oferta'!B95,\"\")","v":""},{"$f":"IF('Mapa oferta'!G95<>\"\",'Mapa oferta'!G95,\"\")","v":""},{"$f":"IF('Mapa oferta'!I95<>\"\",'Mapa oferta'!I95,\"\")","v":""},{"$f":"IF('Mapa oferta'!BM95<>\"\",'Mapa oferta'!BM95,\"\")","v":""},{"$f":"IF('Mapa oferta'!CG95<>\"\",'Mapa oferta'!CG95,\"\")","v":""}]
[null,{"$f":"IF('Mapa oferta'!B96<>\"\",'Mapa oferta'!B96,\"\")","v":""},{"$f":"IF('Mapa oferta'!G96<>\"\",'Mapa oferta'!G96,\"\")","v":""},{"$f":"IF('Mapa oferta'!I96<>\"\",'Mapa oferta'!I96,\"\")","v":""},{"$f":"IF('Mapa oferta'!BM96<>\"\",'Mapa oferta'!BM96,\"\")","v":""},{"$f":"IF('Mapa oferta'!CG96<>\"\",'Mapa oferta'!CG96,\"\")","v":""}]
[null,{"$f":"IF('Mapa oferta'!B97<>\"\",'Mapa oferta'!B97,\"\")","v":""},{"$f":"IF('Mapa oferta'!G97<>\"\",'Mapa oferta'!G97,\"\")","v":""},{"$f":"IF('Mapa oferta'!I97<>\"\",'Mapa oferta'!I97,\"\")","v":""},{"$f":"IF('Mapa oferta'!BM97<>\"\",'Mapa oferta'!BM97,\"\")","v":""},{"$f":"IF('Mapa oferta'!CG97<>\"\",'Mapa oferta'!CG97,\"\")","v":""}]
[null,{"$f":"IF('Mapa oferta'!B98<>\"\",'Mapa oferta'!B98,\"\")","v":""},{"$f":"IF('Mapa oferta'!G98<>\"\",'Mapa oferta'!G98,\"\")","v":""},{"$f":"IF('Mapa oferta'!I98<>\"\",'Mapa oferta'!I98,\"\")","v":""},{"$f":"IF('Mapa oferta'!BM98<>\"\",'Mapa oferta'!BM98,\"\")","v":""},{"$f":"IF('Mapa oferta'!CG98<>\"\",'Mapa oferta'!CG98,\"\")","v":""}]
[null,{"$f":"IF('Mapa oferta'!B99<>\"\",'Mapa oferta'!B99,\"\")","v":""},{"$f":"IF('Mapa oferta'!G99<>\"\",'Mapa oferta'!G99,\"\")","v":""},{"$f":"IF('Mapa oferta'!I99<>\"\",'Mapa oferta'!I99,\"\")","v":""},{"$f":"IF('Mapa oferta'!BM99<>\"\",'Mapa oferta'!BM99,\"\")","v":""},{"$f":"IF('Mapa oferta'!CG99<>\"\",'Mapa oferta'!CG99,\"\")","v":""}]
[null,{"$f":"IF('Mapa oferta'!B100<>\"\",'Mapa oferta'!B100,\"\")","v":""},{"$f":"IF('Mapa oferta'!G100<>\"\",'Mapa oferta'!G100,\"\")","v":""},{"$f":"IF('Mapa oferta'!I100<>\"\",'Mapa oferta'!I100,\"\")","v":""},{"$f":"IF('Mapa oferta'!BM100<>\"\",'Mapa oferta'!BM100,\"\")","v":""},{"$f":"IF('Mapa oferta'!CG100<>\"\",'Mapa oferta'!CG100,\"\")","v":""}]
[null,{"$f":"IF('Mapa oferta'!B101<>\"\",'Mapa oferta'!B101,\"\")","v":""},{"$f":"IF('Mapa oferta'!G101<>\"\",'Mapa oferta'!G101,\"\")","v":""},{"$f":"IF('Mapa oferta'!I101<>\"\",'Mapa oferta'!I101,\"\")","v":""},{"$f":"IF('Mapa oferta'!BM101<>\"\",'Mapa oferta'!BM101,\"\")","v":""},{"$f":"IF('Mapa oferta'!CG101<>\"\",'Mapa oferta'!CG101,\"\")","v":""}]
[null,{"$f":"IF('Mapa oferta'!B102<>\"\",'Mapa oferta'!B102,\"\")","v":""},{"$f":"IF('Mapa oferta'!G102<>\"\",'Mapa oferta'!G102,\"\")","v":""},{"$f":"IF('Mapa oferta'!I102<>\"\",'Mapa oferta'!I102,\"\")","v":""},{"$f":"IF('Mapa oferta'!BM102<>\"\",'Mapa oferta'!BM102,\"\")","v":""},{"$f":"IF('Mapa oferta'!CG102<>\"\",'Mapa oferta'!CG102,\"\")","v":""}]
[null,{"$f":"IF('Mapa oferta'!B103<>\"\",'Mapa oferta'!B103,\"\")","v":""},{"$f":"IF('Mapa oferta'!G103<>\"\",'Mapa oferta'!G103,\"\")","v":""},{"$f":"IF('Mapa oferta'!I103<>\"\",'Mapa oferta'!I103,\"\")","v":""},{"$f":"IF('Mapa oferta'!BM103<>\"\",'Mapa oferta'!BM103,\"\")","v":""},{"$f":"IF('Mapa oferta'!CG103<>\"\",'Mapa oferta'!CG103,\"\")","v":""}]
[null,{"$f":"IF('Mapa oferta'!B104<>\"\",'Mapa oferta'!B104,\"\")","v":""},{"$f":"IF('Mapa oferta'!G104<>\"\",'Mapa oferta'!G104,\"\")","v":""},{"$f":"IF('Mapa oferta'!I104<>\"\",'Mapa oferta'!I104,\"\")","v":""},{"$f":"IF('Mapa oferta'!BM104<>\"\",'Mapa oferta'!BM104,\"\")","v":""},{"$f":"IF('Mapa oferta'!CG104<>\"\",'Mapa oferta'!CG104,\"\")","v":""}]
[null,{"$f":"IF('Mapa oferta'!B105<>\"\",'Mapa oferta'!B105,\"\")","v":""},{"$f":"IF('Mapa oferta'!G105<>\"\",'Mapa oferta'!G105,\"\")","v":""},{"$f":"IF('Mapa oferta'!I105<>\"\",'Mapa oferta'!I105,\"\")","v":""},{"$f":"IF('Mapa oferta'!BM105<>\"\",'Mapa oferta'!BM105,\"\")","v":""},{"$f":"IF('Mapa oferta'!CG105<>\"\",'Mapa oferta'!CG105,\"\")","v":""}]
[null,{"$f":"IF('Mapa oferta'!B106<>\"\",'Mapa oferta'!B106,\"\")","v":""},{"$f":"IF('Mapa oferta'!G106<>\"\",'Mapa oferta'!G106,\"\")","v":""},{"$f":"IF('Mapa oferta'!I106<>\"\",'Mapa oferta'!I106,\"\")","v":""},{"$f":"IF('Mapa oferta'!BM106<>\"\",'Mapa oferta'!BM106,\"\")","v":""},{"$f":"IF('Mapa oferta'!CG106<>\"\",'Mapa oferta'!CG106,\"\")","v":""}]
[null,{"$f":"IF('Mapa oferta'!B107<>\"\",'Mapa oferta'!B107,\"\")","v":""},{"$f":"IF('Mapa oferta'!G107<>\"\",'Mapa oferta'!G107,\"\")","v":""},{"$f":"IF('Mapa oferta'!I107<>\"\",'Mapa oferta'!I107,\"\")","v":""},{"$f":"IF('Mapa oferta'!BM107<>\"\",'Mapa oferta'!BM107,\"\")","v":""},{"$f":"IF('Mapa oferta'!CG107<>\"\",'Mapa oferta'!CG107,\"\")","v":""}]
[null,{"$f":"IF('Mapa oferta'!B108<>\"\",'Mapa oferta'!B108,\"\")","v":""},{"$f":"IF('Mapa oferta'!G108<>\"\",'Mapa oferta'!G108,\"\")","v":""},{"$f":"IF('Mapa oferta'!I108<>\"\",'Mapa oferta'!I108,\"\")","v":""},{"$f":"IF('Mapa oferta'!BM108<>\"\",'Mapa oferta'!BM108,\"\")","v":""},{"$f":"IF('Mapa oferta'!CG108<>\"\",'Mapa oferta'!CG108,\"\")","v":""}]
[null,{"$f":"IF('Mapa oferta'!B109<>\"\",'Mapa oferta'!B109,\"\")","v":""},{"$f":"IF('Mapa oferta'!G109<>\"\",'Mapa oferta'!G109,\"\")","v":""},{"$f":"IF('Mapa oferta'!I109<>\"\",'Mapa oferta'!I109,\"\")","v":""},{"$f":"IF('Mapa oferta'!BM109<>\"\",'Mapa oferta'!BM109,\"\")","v":""},{"$f":"IF('Mapa oferta'!CG109<>\"\",'Mapa oferta'!CG109,\"\")","v":""}]
[null,{"$f":"IF('Mapa oferta'!B110<>\"\",'Mapa oferta'!B110,\"\")","v":""},{"$f":"IF('Mapa oferta'!G110<>\"\",'Mapa oferta'!G110,\"\")","v":""},{"$f":"IF('Mapa oferta'!I110<>\"\",'Mapa oferta'!I110,\"\")","v":""},{"$f":"IF('Mapa oferta'!BM110<>\"\",'Mapa oferta'!BM110,\"\")","v":""},{"$f":"IF('Mapa oferta'!CG110<>\"\",'Mapa oferta'!CG110,\"\")","v":""}]
[null,{"$f":"IF('Mapa oferta'!B111<>\"\",'Mapa oferta'!B111,\"\")","v":""},{"$f":"IF('Mapa oferta'!G111<>\"\",'Mapa oferta'!G111,\"\")","v":""},{"$f":"IF('Mapa oferta'!I111<>\"\",'Mapa oferta'!I111,\"\")","v":""},{"$f":"IF('Mapa oferta'!BM111<>\"\",'Mapa oferta'!BM111,\"\")","v":""},{"$f":"IF('Mapa oferta'!CG111<>\"\",'Mapa oferta'!CG111,\"\")","v":""}]
[null,{"$f":"IF('Mapa oferta'!B112<>\"\",'Mapa oferta'!B112,\"\")","v":""},{"$f":"IF('Mapa oferta'!G112<>\"\",'Mapa oferta'!G112,\"\")","v":""},{"$f":"IF('Mapa oferta'!I112<>\"\",'Mapa oferta'!I112,\"\")","v":""},{"$f":"IF('Mapa oferta'!BM112<>\"\",'Mapa oferta'!BM112,\"\")","v":""},{"$f":"IF('Mapa oferta'!CG112<>\"\",'Mapa oferta'!CG112,\"\")","v":""}]
[null,{"$f":"IF('Mapa oferta'!B113<>\"\",'Mapa oferta'!B113,\"\")","v":""},{"$f":"IF('Mapa oferta'!G113<>\"\",'Mapa oferta'!G113,\"\")","v":""},{"$f":"IF('Mapa oferta'!I113<>\"\",'Mapa oferta'!I113,\"\")","v":""},{"$f":"IF('Mapa oferta'!BM113<>\"\",'Mapa oferta'!BM113,\"\")","v":""},{"$f":"IF('Mapa oferta'!CG113<>\"\",'Mapa oferta'!CG113,\"\")","v":""}]
[null,{"$f":"IF('Mapa oferta'!B114<>\"\",'Mapa oferta'!B114,\"\")","v":""},{"$f":"IF('Mapa oferta'!G114<>\"\",'Mapa oferta'!G114,\"\")","v":""},{"$f":"IF('Mapa oferta'!I114<>\"\",'Mapa oferta'!I114,\"\")","v":""},{"$f":"IF('Mapa oferta'!BM114<>\"\",'Mapa oferta'!BM114,\"\")","v":""},{"$f":"IF('Mapa oferta'!CG114<>\"\",'Mapa oferta'!CG114,\"\")","v":""}]
[null,{"$f":"IF('Mapa oferta'!B115<>\"\",'Mapa oferta'!B115,\"\")","v":""},{"$f":"IF('Mapa oferta'!G115<>\"\",'Mapa oferta'!G115,\"\")","v":""},{"$f":"IF('Mapa oferta'!I115<>\"\",'Mapa oferta'!I115,\"\")","v":""},{"$f":"IF('Mapa oferta'!BM115<>\"\",'Mapa oferta'!BM115,\"\")","v":""},{"$f":"IF('Mapa oferta'!CG115<>\"\",'Mapa oferta'!CG115,\"\")","v":""}]
[null,{"$f":"IF('Mapa oferta'!B116<>\"\",'Mapa oferta'!B116,\"\")","v":""},{"$f":"IF('Mapa oferta'!G116<>\"\",'Mapa oferta'!G116,\"\")","v":""},{"$f":"IF('Mapa oferta'!I116<>\"\",'Mapa oferta'!I116,\"\")","v":""},{"$f":"IF('Mapa oferta'!BM116<>\"\",'Mapa oferta'!BM116,\"\")","v":""},{"$f":"IF('Mapa oferta'!CG116<>\"\",'Mapa oferta'!CG116,\"\")","v":""}]
[null,{"$f":"IF('Mapa oferta'!B117<>\"\",'Mapa oferta'!B117,\"\")","v":""},{"$f":"IF('Mapa oferta'!G117<>\"\",'Mapa oferta'!G117,\"\")","v":""},{"$f":"IF('Mapa oferta'!I117<>\"\",'Mapa oferta'!I117,\"\")","v":""},{"$f":"IF('Mapa oferta'!BM117<>\"\",'Mapa oferta'!BM117,\"\")","v":""},{"$f":"IF('Mapa oferta'!CG117<>\"\",'Mapa oferta'!CG117,\"\")","v":""}]
[null,{"$f":"IF('Mapa oferta'!B118<>\"\",'Mapa oferta'!B118,\"\")","v":""},{"$f":"IF('Mapa oferta'!G118<>\"\",'Mapa oferta'!G118,\"\")","v":""},{"$f":"IF('Mapa oferta'!I118<>\"\",'Mapa oferta'!I118,\"\")","v":""},{"$f":"IF('Mapa oferta'!BM118<>\"\",'Mapa oferta'!BM118,\"\")","v":""},{"$f":"IF('Mapa oferta'!CG118<>\"\",'Mapa oferta'!CG118,\"\")","v":""}]
[null,{"$f":"IF('Mapa oferta'!B119<>\"\",'Mapa oferta'!B119,\"\")","v":""},{"$f":"IF('Mapa oferta'!G119<>\"\",'Mapa oferta'!G119,\"\")","v":""},{"$f":"IF('Mapa oferta'!I119<>\"\",'Mapa oferta'!I119,\"\")","v":""},{"$f":"IF('Mapa oferta'!BM119<>\"\",'Mapa oferta'!BM119,\"\")","v":""},{"$f":"IF('Mapa oferta'!CG119<>\"\",'Mapa oferta'!CG119,\"\")","v":""}]
[null,{"$f":"IF('Mapa oferta'!B120<>\"\",'Mapa oferta'!B120,\"\")","v":""},{"$f":"IF('Mapa oferta'!G120<>\"\",'Mapa oferta'!G120,\"\")","v":""},{"$f":"IF('Mapa oferta'!I120<>\"\",'Mapa oferta'!I120,\"\")","v":""},{"$f":"IF('Mapa oferta'!BM120<>\"\",'Mapa oferta'!BM120,\"\")","v":""},{"$f":"IF('Mapa oferta'!CG120<>\"\",'Mapa oferta'!CG120,\"\")","v":""}]
[null,{"$f":"IF('Mapa oferta'!B121<>\"\",'Mapa oferta'!B121,\"\")","v":""},{"$f":"IF('Mapa oferta'!G121<>\"\",'Mapa oferta'!G121,\"\")","v":""},{"$f":"IF('Mapa oferta'!I121<>\"\",'Mapa oferta'!I121,\"\")","v":""},{"$f":"IF('Mapa oferta'!BM121<>\"\",'Mapa oferta'!BM121,\"\")","v":""},{"$f":"IF('Mapa oferta'!CG121<>\"\",'Mapa oferta'!CG121,\"\")","v":""}]
[null,{"$f":"IF('Mapa oferta'!B122<>\"\",'Mapa oferta'!B122,\"\")","v":""},{"$f":"IF('Mapa oferta'!G122<>\"\",'Mapa oferta'!G122,\"\")","v":""},{"$f":"IF('Mapa oferta'!I122<>\"\",'Mapa oferta'!I122,\"\")","v":""},{"$f":"IF('Mapa oferta'!BM122<>\"\",'Mapa oferta'!BM122,\"\")","v":""},{"$f":"IF('Mapa oferta'!CG122<>\"\",'Mapa oferta'!CG122,\"\")","v":""}]
[null,{"$f":"IF('Mapa oferta'!B123<>\"\",'Mapa oferta'!B123,\"\")","v":""},{"$f":"IF('Mapa oferta'!G123<>\"\",'Mapa oferta'!G123,\"\")","v":""},{"$f":"IF('Mapa oferta'!I123<>\"\",'Mapa oferta'!I123,\"\")","v":""},{"$f":"IF('Mapa oferta'!BM123<>\"\",'Mapa oferta'!BM123,\"\")","v":""},{"$f":"IF('Mapa oferta'!CG123<>\"\",'Mapa oferta'!CG123,\"\")","v":""}]
[null,{"$f":"IF('Mapa oferta'!B124<>\"\",'Mapa oferta'!B124,\"\")","v":""},{"$f":"IF('Mapa oferta'!G124<>\"\",'Mapa oferta'!G124,\"\")","v":""},{"$f":"IF('Mapa oferta'!I124<>\"\",'Mapa oferta'!I124,\"\")","v":""},{"$f":"IF('Mapa oferta'!BM124<>\"\",'Mapa oferta'!BM124,\"\")","v":""},{"$f":"IF('Mapa oferta'!CG124<>\"\",'Mapa oferta'!CG124,\"\")","v":""}]
[null,{"$f":"IF('Mapa oferta'!B125<>\"\",'Mapa oferta'!B125,\"\")","v":""},{"$f":"IF('Mapa oferta'!G125<>\"\",'Mapa oferta'!G125,\"\")","v":""},{"$f":"IF('Mapa oferta'!I125<>\"\",'Mapa oferta'!I125,\"\")","v":""},{"$f":"IF('Mapa oferta'!BM125<>\"\",'Mapa oferta'!BM125,\"\")","v":""},{"$f":"IF('Mapa oferta'!CG125<>\"\",'Mapa oferta'!CG125,\"\")","v":""}]
[null,{"$f":"IF('Mapa oferta'!B126<>\"\",'Mapa oferta'!B126,\"\")","v":""},{"$f":"IF('Mapa oferta'!G126<>\"\",'Mapa oferta'!G126,\"\")","v":""},{"$f":"IF('Mapa oferta'!I126<>\"\",'Mapa oferta'!I126,\"\")","v":""},{"$f":"IF('Mapa oferta'!BM126<>\"\",'Mapa oferta'!BM126,\"\")","v":""},{"$f":"IF('Mapa oferta'!CG126<>\"\",'Mapa oferta'!CG126,\"\")","v":""}]
[null,{"$f":"IF('Mapa oferta'!B127<>\"\",'Mapa oferta'!B127,\"\")","v":""},{"$f":"IF('Mapa oferta'!G127<>\"\",'Mapa oferta'!G127,\"\")","v":""},{"$f":"IF('Mapa oferta'!I127<>\"\",'Mapa oferta'!I127,\"\")","v":""},{"$f":"IF('Mapa oferta'!BM127<>\"\",'Mapa oferta'!BM127,\"\")","v":""},{"$f":"IF('Mapa oferta'!CG127<>\"\",'Mapa oferta'!CG127,\"\")","v":""}]
[null,{"$f":"IF('Mapa oferta'!B128<>\"\",'Mapa oferta'!B128,\"\")","v":""},{"$f":"IF('Mapa oferta'!G128<>\"\",'Mapa oferta'!G128,\"\")","v":""},{"$f":"IF('Mapa oferta'!I128<>\"\",'Mapa oferta'!I128,\"\")","v":""},{"$f":"IF('Mapa oferta'!BM128<>\"\",'Mapa oferta'!BM128,\"\")","v":""},{"$f":"IF('Mapa oferta'!CG128<>\"\",'Mapa oferta'!CG128,\"\")","v":""}]
[null,{"$f":"IF('Mapa oferta'!B129<>\"\",'Mapa oferta'!B129,\"\")","v":""},{"$f":"IF('Mapa oferta'!G129<>\"\",'Mapa oferta'!G129,\"\")","v":""},{"$f":"IF('Mapa oferta'!I129<>\"\",'Mapa oferta'!I129,\"\")","v":""},{"$f":"IF('Mapa oferta'!BM129<>\"\",'Mapa oferta'!BM129,\"\")","v":""},{"$f":"IF('Mapa oferta'!CG129<>\"\",'Mapa oferta'!CG129,\"\")","v":""}]
[null,{"$f":"IF('Mapa oferta'!B130<>\"\",'Mapa oferta'!B130,\"\")","v":""},{"$f":"IF('Mapa oferta'!G130<>\"\",'Mapa oferta'!G130,\"\")","v":""},{"$f":"IF('Mapa oferta'!I130<>\"\",'Mapa oferta'!I130,\"\")","v":""},{"$f":"IF('Mapa oferta'!BM130<>\"\",'Mapa oferta'!BM130,\"\")","v":""},{"$f":"IF('Mapa oferta'!CG130<>\"\",'Mapa oferta'!CG130,\"\")","v":""}]
[null,{"$f":"IF('Mapa oferta'!B131<>\"\",'Mapa oferta'!B131,\"\")","v":""},{"$f":"IF('Mapa oferta'!G131<>\"\",'Mapa oferta'!G131,\"\")","v":""},{"$f":"IF('Mapa oferta'!I131<>\"\",'Mapa oferta'!I131,\"\")","v":""},{"$f":"IF('Mapa oferta'!BM131<>\"\",'Mapa oferta'!BM131,\"\")","v":""},{"$f":"IF('Mapa oferta'!CG131<>\"\",'Mapa oferta'!CG131,\"\")","v":""}]
[null,{"$f":"IF('Mapa oferta'!B132<>\"\",'Mapa oferta'!B132,\"\")","v":""},{"$f":"IF('Mapa oferta'!G132<>\"\",'Mapa oferta'!G132,\"\")","v":""},{"$f":"IF('Mapa oferta'!I132<>\"\",'Mapa oferta'!I132,\"\")","v":""},{"$f":"IF('Mapa oferta'!BM132<>\"\",'Mapa oferta'!BM132,\"\")","v":""},{"$f":"IF('Mapa oferta'!CG132<>\"\",'Mapa oferta'!CG132,\"\")","v":""}]
[null,{"$f":"IF('Mapa oferta'!B133<>\"\",'Mapa oferta'!B133,\"\")","v":""},{"$f":"IF('Mapa oferta'!G133<>\"\",'Mapa oferta'!G133,\"\")","v":""},{"$f":"IF('Mapa oferta'!I133<>\"\",'Mapa oferta'!I133,\"\")","v":""},{"$f":"IF('Mapa oferta'!BM133<>\"\",'Mapa oferta'!BM133,\"\")","v":""},{"$f":"IF('Mapa oferta'!CG133<>\"\",'Mapa oferta'!CG133,\"\")","v":""}]
[null,{"$f":"IF('Mapa oferta'!B134<>\"\",'Mapa oferta'!B134,\"\")","v":""},{"$f":"IF('Mapa oferta'!G134<>\"\",'Mapa oferta'!G134,\"\")","v":""},{"$f":"IF('Mapa oferta'!I134<>\"\",'Mapa oferta'!I134,\"\")","v":""},{"$f":"IF('Mapa oferta'!BM134<>\"\",'Mapa oferta'!BM134,\"\")","v":""},{"$f":"IF('Mapa oferta'!CG134<>\"\",'Mapa oferta'!CG134,\"\")","v":""}]
[null,{"$f":"IF('Mapa oferta'!B135<>\"\",'Mapa oferta'!B135,\"\")","v":""},{"$f":"IF('Mapa oferta'!G135<>\"\",'Mapa oferta'!G135,\"\")","v":""},{"$f":"IF('Mapa oferta'!I135<>\"\",'Mapa oferta'!I135,\"\")","v":""},{"$f":"IF('Mapa oferta'!BM135<>\"\",'Mapa oferta'!BM135,\"\")","v":""},{"$f":"IF('Mapa oferta'!CG135<>\"\",'Mapa oferta'!CG135,\"\")","v":""}]
[null,{"$f":"IF('Mapa oferta'!B136<>\"\",'Mapa oferta'!B136,\"\")","v":""},{"$f":"IF('Mapa oferta'!G136<>\"\",'Mapa oferta'!G136,\"\")","v":""},{"$f":"IF('Mapa oferta'!I136<>\"\",'Mapa oferta'!I136,\"\")","v":""},{"$f":"IF('Mapa oferta'!BM136<>\"\",'Mapa oferta'!BM136,\"\")","v":""},{"$f":"IF('Mapa oferta'!CG136<>\"\",'Mapa oferta'!CG136,\"\")","v":""}]
[null,{"$f":"IF('Mapa oferta'!B137<>\"\",'Mapa oferta'!B137,\"\")","v":""},{"$f":"IF('Mapa oferta'!G137<>\"\",'Mapa oferta'!G137,\"\")","v":""},{"$f":"IF('Mapa oferta'!I137<>\"\",'Mapa oferta'!I137,\"\")","v":""},{"$f":"IF('Mapa oferta'!BM137<>\"\",'Mapa oferta'!BM137,\"\")","v":""},{"$f":"IF('Mapa oferta'!CG137<>\"\",'Mapa oferta'!CG137,\"\")","v":""}]
[null,{"$f":"IF('Mapa oferta'!B138<>\"\",'Mapa oferta'!B138,\"\")","v":""},{"$f":"IF('Mapa oferta'!G138<>\"\",'Mapa oferta'!G138,\"\")","v":""},{"$f":"IF('Mapa oferta'!I138<>\"\",'Mapa oferta'!I138,\"\")","v":""},{"$f":"IF('Mapa oferta'!BM138<>\"\",'Mapa oferta'!BM138,\"\")","v":""},{"$f":"IF('Mapa oferta'!CG138<>\"\",'Mapa oferta'!CG138,\"\")","v":""}]
[null,{"$f":"IF('Mapa oferta'!B139<>\"\",'Mapa oferta'!B139,\"\")","v":""},{"$f":"IF('Mapa oferta'!G139<>\"\",'Mapa oferta'!G139,\"\")","v":""},{"$f":"IF('Mapa oferta'!I139<>\"\",'Mapa oferta'!I139,\"\")","v":""},{"$f":"IF('Mapa oferta'!BM139<>\"\",'Mapa oferta'!BM139,\"\")","v":""},{"$f":"IF('Mapa oferta'!CG139<>\"\",'Mapa oferta'!CG139,\"\")","v":""}]
[null,{"$f":"IF('Mapa oferta'!B140<>\"\",'Mapa oferta'!B140,\"\")","v":""},{"$f":"IF('Mapa oferta'!G140<>\"\",'Mapa oferta'!G140,\"\")","v":""},{"$f":"IF('Mapa oferta'!I140<>\"\",'Mapa oferta'!I140,\"\")","v":""},{"$f":"IF('Mapa oferta'!BM140<>\"\",'Mapa oferta'!BM140,\"\")","v":""},{"$f":"IF('Mapa oferta'!CG140<>\"\",'Mapa oferta'!CG140,\"\")","v":""}]
[null,{"$f":"IF('Mapa oferta'!B141<>\"\",'Mapa oferta'!B141,\"\")","v":""},{"$f":"IF('Mapa oferta'!G141<>\"\",'Mapa oferta'!G141,\"\")","v":""},{"$f":"IF('Mapa oferta'!I141<>\"\",'Mapa oferta'!I141,\"\")","v":""},{"$f":"IF('Mapa oferta'!BM141<>\"\",'Mapa oferta'!BM141,\"\")","v":""},{"$f":"IF('Mapa oferta'!CG141<>\"\",'Mapa oferta'!CG141,\"\")","v":""}]
[null,{"$f":"IF('Mapa oferta'!B142<>\"\",'Mapa oferta'!B142,\"\")","v":""},{"$f":"IF('Mapa oferta'!G142<>\"\",'Mapa oferta'!G142,\"\")","v":""},{"$f":"IF('Mapa oferta'!I142<>\"\",'Mapa oferta'!I142,\"\")","v":""},{"$f":"IF('Mapa oferta'!BM142<>\"\",'Mapa oferta'!BM142,\"\")","v":""},{"$f":"IF('Mapa oferta'!CG142<>\"\",'Mapa oferta'!CG142,\"\")","v":""}]
[null,{"$f":"IF('Mapa oferta'!B143<>\"\",'Mapa oferta'!B143,\"\")","v":""},{"$f":"IF('Mapa oferta'!G143<>\"\",'Mapa oferta'!G143,\"\")","v":""},{"$f":"IF('Mapa oferta'!I143<>\"\",'Mapa oferta'!I143,\"\")","v":""},{"$f":"IF('Mapa oferta'!BM143<>\"\",'Mapa oferta'!BM143,\"\")","v":""},{"$f":"IF('Mapa oferta'!CG143<>\"\",'Mapa oferta'!CG143,\"\")","v":""}]
[null,{"$f":"IF('Mapa oferta'!B144<>\"\",'Mapa oferta'!B144,\"\")","v":""},{"$f":"IF('Mapa oferta'!G144<>\"\",'Mapa oferta'!G144,\"\")","v":""},{"$f":"IF('Mapa oferta'!I144<>\"\",'Mapa oferta'!I144,\"\")","v":""},{"$f":"IF('Mapa oferta'!BM144<>\"\",'Mapa oferta'!BM144,\"\")","v":""},{"$f":"IF('Mapa oferta'!CG144<>\"\",'Mapa oferta'!CG144,\"\")","v":""}]
[null,{"$f":"IF('Mapa oferta'!B145<>\"\",'Mapa oferta'!B145,\"\")","v":""},{"$f":"IF('Mapa oferta'!G145<>\"\",'Mapa oferta'!G145,\"\")","v":""},{"$f":"IF('Mapa oferta'!I145<>\"\",'Mapa oferta'!I145,\"\")","v":""},{"$f":"IF('Mapa oferta'!BM145<>\"\",'Mapa oferta'!BM145,\"\")","v":""},{"$f":"IF('Mapa oferta'!CG145<>\"\",'Mapa oferta'!CG145,\"\")","v":""}]
[null,{"$f":"IF('Mapa oferta'!B146<>\"\",'Mapa oferta'!B146,\"\")","v":""},{"$f":"IF('Mapa oferta'!G146<>\"\",'Mapa oferta'!G146,\"\")","v":""},{"$f":"IF('Mapa oferta'!I146<>\"\",'Mapa oferta'!I146,\"\")","v":""},{"$f":"IF('Mapa oferta'!BM146<>\"\",'Mapa oferta'!BM146,\"\")","v":""},{"$f":"IF('Mapa oferta'!CG146<>\"\",'Mapa oferta'!CG146,\"\")","v":""}]
[null,{"$f":"IF('Mapa oferta'!B147<>\"\",'Mapa oferta'!B147,\"\")","v":""},{"$f":"IF('Mapa oferta'!G147<>\"\",'Mapa oferta'!G147,\"\")","v":""},{"$f":"IF('Mapa oferta'!I147<>\"\",'Mapa oferta'!I147,\"\")","v":""},{"$f":"IF('Mapa oferta'!BM147<>\"\",'Mapa oferta'!BM147,\"\")","v":""},{"$f":"IF('Mapa oferta'!CG147<>\"\",'Mapa oferta'!CG147,\"\")","v":""}]
[null,{"$f":"IF('Mapa oferta'!B148<>\"\",'Mapa oferta'!B148,\"\")","v":""},{"$f":"IF('Mapa oferta'!G148<>\"\",'Mapa oferta'!G148,\"\")","v":""},{"$f":"IF('Mapa oferta'!I148<>\"\",'Mapa oferta'!I148,\"\")","v":""},{"$f":"IF('Mapa oferta'!BM148<>\"\",'Mapa oferta'!BM148,\"\")","v":""},{"$f":"IF('Mapa oferta'!CG148<>\"\",'Mapa oferta'!CG148,\"\")","v":""}]
[null,{"$f":"IF('Mapa oferta'!B149<>\"\",'Mapa oferta'!B149,\"\")","v":""},{"$f":"IF('Mapa oferta'!G149<>\"\",'Mapa oferta'!G149,\"\")","v":""},{"$f":"IF('Mapa oferta'!I149<>\"\",'Mapa oferta'!I149,\"\")","v":""},{"$f":"IF('Mapa oferta'!BM149<>\"\",'Mapa oferta'!BM149,\"\")","v":""},{"$f":"IF('Mapa oferta'!CG149<>\"\",'Mapa oferta'!CG149,\"\")","v":""}]
[null,{"$f":"IF('Mapa oferta'!B150<>\"\",'Mapa oferta'!B150,\"\")","v":""},{"$f":"IF('Mapa oferta'!G150<>\"\",'Mapa oferta'!G150,\"\")","v":""},{"$f":"IF('Mapa oferta'!I150<>\"\",'Mapa oferta'!I150,\"\")","v":""},{"$f":"IF('Mapa oferta'!BM150<>\"\",'Mapa oferta'!BM150,\"\")","v":""},{"$f":"IF('Mapa oferta'!CG150<>\"\",'Mapa oferta'!CG150,\"\")","v":""}]
[null,{"$f":"IF('Mapa oferta'!B151<>\"\",'Mapa oferta'!B151,\"\")","v":""},{"$f":"IF('Mapa oferta'!G151<>\"\",'Mapa oferta'!G151,\"\")","v":""},{"$f":"IF('Mapa oferta'!I151<>\"\",'Mapa oferta'!I151,\"\")","v":""},{"$f":"IF('Mapa oferta'!BM151<>\"\",'Mapa oferta'!BM151,\"\")","v":""},{"$f":"IF('Mapa oferta'!CG151<>\"\",'Mapa oferta'!CG151,\"\")","v":""}]
[null,{"$f":"IF('Mapa oferta'!B152<>\"\",'Mapa oferta'!B152,\"\")","v":""},{"$f":"IF('Mapa oferta'!G152<>\"\",'Mapa oferta'!G152,\"\")","v":""},{"$f":"IF('Mapa oferta'!I152<>\"\",'Mapa oferta'!I152,\"\")","v":""},{"$f":"IF('Mapa oferta'!BM152<>\"\",'Mapa oferta'!BM152,\"\")","v":""},{"$f":"IF('Mapa oferta'!CG152<>\"\",'Mapa oferta'!CG152,\"\")","v":""}]
[null,{"$f":"IF('Mapa oferta'!B153<>\"\",'Mapa oferta'!B153,\"\")","v":""},{"$f":"IF('Mapa oferta'!G153<>\"\",'Mapa oferta'!G153,\"\")","v":""},{"$f":"IF('Mapa oferta'!I153<>\"\",'Mapa oferta'!I153,\"\")","v":""},{"$f":"IF('Mapa oferta'!BM153<>\"\",'Mapa oferta'!BM153,\"\")","v":""},{"$f":"IF('Mapa oferta'!CG153<>\"\",'Mapa oferta'!CG153,\"\")","v":""}]
[null,{"$f":"IF('Mapa oferta'!B154<>\"\",'Mapa oferta'!B154,\"\")","v":""},{"$f":"IF('Mapa oferta'!G154<>\"\",'Mapa oferta'!G154,\"\")","v":""},{"$f":"IF('Mapa oferta'!I154<>\"\",'Mapa oferta'!I154,\"\")","v":""},{"$f":"IF('Mapa oferta'!BM154<>\"\",'Mapa oferta'!BM154,\"\")","v":""},{"$f":"IF('Mapa oferta'!CG154<>\"\",'Mapa oferta'!CG154,\"\")","v":""}]
[null,{"$f":"IF('Mapa oferta'!B155<>\"\",'Mapa oferta'!B155,\"\")","v":""},{"$f":"IF('Mapa oferta'!G155<>\"\",'Mapa oferta'!G155,\"\")","v":""},{"$f":"IF('Mapa oferta'!I155<>\"\",'Mapa oferta'!I155,\"\")","v":""},{"$f":"IF('Mapa oferta'!BM155<>\"\",'Mapa oferta'!BM155,\"\")","v":""},{"$f":"IF('Mapa oferta'!CG155<>\"\",'Mapa oferta'!CG155,\"\")","v":""}]
[null,{"$f":"IF('Mapa oferta'!B156<>\"\",'Mapa oferta'!B156,\"\")","v":""},{"$f":"IF('Mapa oferta'!G156<>\"\",'Mapa oferta'!G156,\"\")","v":""},{"$f":"IF('Mapa oferta'!I156<>\"\",'Mapa oferta'!I156,\"\")","v":""},{"$f":"IF('Mapa oferta'!BM156<>\"\",'Mapa oferta'!BM156,\"\")","v":""},{"$f":"IF('Mapa oferta'!CG156<>\"\",'Mapa oferta'!CG156,\"\")","v":""}]
[null,{"$f":"IF('Mapa oferta'!B157<>\"\",'Mapa oferta'!B157,\"\")","v":""},{"$f":"IF('Mapa oferta'!G157<>\"\",'Mapa oferta'!G157,\"\")","v":""},{"$f":"IF('Mapa oferta'!I157<>\"\",'Mapa oferta'!I157,\"\")","v":""},{"$f":"IF('Mapa oferta'!BM157<>\"\",'Mapa oferta'!BM157,\"\")","v":""},{"$f":"IF('Mapa oferta'!CG157<>\"\",'Mapa oferta'!CG157,\"\")","v":""}]
[null,{"$f":"IF('Mapa oferta'!B158<>\"\",'Mapa oferta'!B158,\"\")","v":""},{"$f":"IF('Mapa oferta'!G158<>\"\",'Mapa oferta'!G158,\"\")","v":""},{"$f":"IF('Mapa oferta'!I158<>\"\",'Mapa oferta'!I158,\"\")","v":""},{"$f":"IF('Mapa oferta'!BM158<>\"\",'Mapa oferta'!BM158,\"\")","v":""},{"$f":"IF('Mapa oferta'!CG158<>\"\",'Mapa oferta'!CG158,\"\")","v":""}]
[null,{"$f":"IF('Mapa oferta'!B159<>\"\",'Mapa oferta'!B159,\"\")","v":""},{"$f":"IF('Mapa oferta'!G159<>\"\",'Mapa oferta'!G159,\"\")","v":""},{"$f":"IF('Mapa oferta'!I159<>\"\",'Mapa oferta'!I159,\"\")","v":""},{"$f":"IF('Mapa oferta'!BM159<>\"\",'Mapa oferta'!BM159,\"\")","v":""},{"$f":"IF('Mapa oferta'!CG159<>\"\",'Mapa oferta'!CG159,\"\")","v":""}]
[null,{"$f":"IF('Mapa oferta'!B160<>\"\",'Mapa oferta'!B160,\"\")","v":""},{"$f":"IF('Mapa oferta'!G160<>\"\",'Mapa oferta'!G160,\"\")","v":""},{"$f":"IF('Mapa oferta'!I160<>\"\",'Mapa oferta'!I160,\"\")","v":""},{"$f":"IF('Mapa oferta'!BM160<>\"\",'Mapa oferta'!BM160,\"\")","v":""},{"$f":"IF('Mapa oferta'!CG160<>\"\",'Mapa oferta'!CG160,\"\")","v":""}]
[null,{"$f":"IF('Mapa oferta'!B161<>\"\",'Mapa oferta'!B161,\"\")","v":""},{"$f":"IF('Mapa oferta'!G161<>\"\",'Mapa oferta'!G161,\"\")","v":""},{"$f":"IF('Mapa oferta'!I161<>\"\",'Mapa oferta'!I161,\"\")","v":""},{"$f":"IF('Mapa oferta'!BM161<>\"\",'Mapa oferta'!BM161,\"\")","v":""},{"$f":"IF('Mapa oferta'!CG161<>\"\",'Mapa oferta'!CG161,\"\")","v":""}]
[null,{"$f":"IF('Mapa oferta'!B162<>\"\",'Mapa oferta'!B162,\"\")","v":""},{"$f":"IF('Mapa oferta'!G162<>\"\",'Mapa oferta'!G162,\"\")","v":""},{"$f":"IF('Mapa oferta'!I162<>\"\",'Mapa oferta'!I162,\"\")","v":""},{"$f":"IF('Mapa oferta'!BM162<>\"\",'Mapa oferta'!BM162,\"\")","v":""},{"$f":"IF('Mapa oferta'!CG162<>\"\",'Mapa oferta'!CG162,\"\")","v":""}]
[null,{"$f":"IF('Mapa oferta'!B163<>\"\",'Mapa oferta'!B163,\"\")","v":""},{"$f":"IF('Mapa oferta'!G163<>\"\",'Mapa oferta'!G163,\"\")","v":""},{"$f":"IF('Mapa oferta'!I163<>\"\",'Mapa oferta'!I163,\"\")","v":""},{"$f":"IF('Mapa oferta'!BM163<>\"\",'Mapa oferta'!BM163,\"\")","v":""},{"$f":"IF('Mapa oferta'!CG163<>\"\",'Mapa oferta'!CG163,\"\")","v":""}]
[null,{"$f":"IF('Mapa oferta'!B164<>\"\",'Mapa oferta'!B164,\"\")","v":""},{"$f":"IF('Mapa oferta'!G164<>\"\",'Mapa oferta'!G164,\"\")","v":""},{"$f":"IF('Mapa oferta'!I164<>\"\",'Mapa oferta'!I164,\"\")","v":""},{"$f":"IF('Mapa oferta'!BM164<>\"\",'Mapa oferta'!BM164,\"\")","v":""},{"$f":"IF('Mapa oferta'!CG164<>\"\",'Mapa oferta'!CG164,\"\")","v":""}]
[null,{"$f":"IF('Mapa oferta'!B165<>\"\",'Mapa oferta'!B165,\"\")","v":""},{"$f":"IF('Mapa oferta'!G165<>\"\",'Mapa oferta'!G165,\"\")","v":""},{"$f":"IF('Mapa oferta'!I165<>\"\",'Mapa oferta'!I165,\"\")","v":""},{"$f":"IF('Mapa oferta'!BM165<>\"\",'Mapa oferta'!BM165,\"\")","v":""},{"$f":"IF('Mapa oferta'!CG165<>\"\",'Mapa oferta'!CG165,\"\")","v":""}]
[null,{"$f":"IF('Mapa oferta'!B166<>\"\",'Mapa oferta'!B166,\"\")","v":""},{"$f":"IF('Mapa oferta'!G166<>\"\",'Mapa oferta'!G166,\"\")","v":""},{"$f":"IF('Mapa oferta'!I166<>\"\",'Mapa oferta'!I166,\"\")","v":""},{"$f":"IF('Mapa oferta'!BM166<>\"\",'Mapa oferta'!BM166,\"\")","v":""},{"$f":"IF('Mapa oferta'!CG166<>\"\",'Mapa oferta'!CG166,\"\")","v":""}]
[null,{"$f":"IF('Mapa oferta'!B167<>\"\",'Mapa oferta'!B167,\"\")","v":""},{"$f":"IF('Mapa oferta'!G167<>\"\",'Mapa oferta'!G167,\"\")","v":""},{"$f":"IF('Mapa oferta'!I167<>\"\",'Mapa oferta'!I167,\"\")","v":""},{"$f":"IF('Mapa oferta'!BM167<>\"\",'Mapa oferta'!BM167,\"\")","v":""},{"$f":"IF('Mapa oferta'!CG167<>\"\",'Mapa oferta'!CG167,\"\")","v":""}]
[null,{"$f":"IF('Mapa oferta'!B168<>\"\",'Mapa oferta'!B168,\"\")","v":""},{"$f":"IF('Mapa oferta'!G168<>\"\",'Mapa oferta'!G168,\"\")","v":""},{"$f":"IF('Mapa oferta'!I168<>\"\",'Mapa oferta'!I168,\"\")","v":""},{"$f":"IF('Mapa oferta'!BM168<>\"\",'Mapa oferta'!BM168,\"\")","v":""},{"$f":"IF('Mapa oferta'!CG168<>\"\",'Mapa oferta'!CG168,\"\")","v":""}]
[null,{"$f":"IF('Mapa oferta'!B169<>\"\",'Mapa oferta'!B169,\"\")","v":""},{"$f":"IF('Mapa oferta'!G169<>\"\",'Mapa oferta'!G169,\"\")","v":""},{"$f":"IF('Mapa oferta'!I169<>\"\",'Mapa oferta'!I169,\"\")","v":""},{"$f":"IF('Mapa oferta'!BM169<>\"\",'Mapa oferta'!BM169,\"\")","v":""},{"$f":"IF('Mapa oferta'!CG169<>\"\",'Mapa oferta'!CG169,\"\")","v":""}]
[null,{"$f":"IF('Mapa oferta'!B170<>\"\",'Mapa oferta'!B170,\"\")","v":""},{"$f":"IF('Mapa oferta'!G170<>\"\",'Mapa oferta'!G170,\"\")","v":""},{"$f":"IF('Mapa oferta'!I170<>\"\",'Mapa oferta'!I170,\"\")","v":""},{"$f":"IF('Mapa oferta'!BM170<>\"\",'Mapa oferta'!BM170,\"\")","v":""},{"$f":"IF('Mapa oferta'!CG170<>\"\",'Mapa oferta'!CG170,\"\")","v":""}]
[null,{"$f":"IF('Mapa oferta'!B171<>\"\",'Mapa oferta'!B171,\"\")","v":""},{"$f":"IF('Mapa oferta'!G171<>\"\",'Mapa oferta'!G171,\"\")","v":""},{"$f":"IF('Mapa oferta'!I171<>\"\",'Mapa oferta'!I171,\"\")","v":""},{"$f":"IF('Mapa oferta'!BM171<>\"\",'Mapa oferta'!BM171,\"\")","v":""},{"$f":"IF('Mapa oferta'!CG171<>\"\",'Mapa oferta'!CG171,\"\")","v":""}]
[null,{"$f":"IF('Mapa oferta'!B172<>\"\",'Mapa oferta'!B172,\"\")","v":""},{"$f":"IF('Mapa oferta'!G172<>\"\",'Mapa oferta'!G172,\"\")","v":""},{"$f":"IF('Mapa oferta'!I172<>\"\",'Mapa oferta'!I172,\"\")","v":""},{"$f":"IF('Mapa oferta'!BM172<>\"\",'Mapa oferta'!BM172,\"\")","v":""},{"$f":"IF('Mapa oferta'!CG172<>\"\",'Mapa oferta'!CG172,\"\")","v":""}]
[null,{"$f":"IF('Mapa oferta'!B173<>\"\",'Mapa oferta'!B173,\"\")","v":""},{"$f":"IF('Mapa oferta'!G173<>\"\",'Mapa oferta'!G173,\"\")","v":""},{"$f":"IF('Mapa oferta'!I173<>\"\",'Mapa oferta'!I173,\"\")","v":""},{"$f":"IF('Mapa oferta'!BM173<>\"\",'Mapa oferta'!BM173,\"\")","v":""},{"$f":"IF('Mapa oferta'!CG173<>\"\",'Mapa oferta'!CG173,\"\")","v":""}]
[null,{"$f":"IF('Mapa oferta'!B174<>\"\",'Mapa oferta'!B174,\"\")","v":""},{"$f":"IF('Mapa oferta'!G174<>\"\",'Mapa oferta'!G174,\"\")","v":""},{"$f":"IF('Mapa oferta'!I174<>\"\",'Mapa oferta'!I174,\"\")","v":""},{"$f":"IF('Mapa oferta'!BM174<>\"\",'Mapa oferta'!BM174,\"\")","v":""},{"$f":"IF('Mapa oferta'!CG174<>\"\",'Mapa oferta'!CG174,\"\")","v":""}]
[null,{"$f":"IF('Mapa oferta'!B175<>\"\",'Mapa oferta'!B175,\"\")","v":""},{"$f":"IF('Mapa oferta'!G175<>\"\",'Mapa oferta'!G175,\"\")","v":""},{"$f":"IF('Mapa oferta'!I175<>\"\",'Mapa oferta'!I175,\"\")","v":""},{"$f":"IF('Mapa oferta'!BM175<>\"\",'Mapa oferta'!BM175,\"\")","v":""},{"$f":"IF('Mapa oferta'!CG175<>\"\",'Mapa oferta'!CG175,\"\")","v":""}]
[null,{"$f":"IF('Mapa oferta'!B176<>\"\",'Mapa oferta'!B176,\"\")","v":""},{"$f":"IF('Mapa oferta'!G176<>\"\",'Mapa oferta'!G176,\"\")","v":""},{"$f":"IF('Mapa oferta'!I176<>\"\",'Mapa oferta'!I176,\"\")","v":""},{"$f":"IF('Mapa oferta'!BM176<>\"\",'Mapa oferta'!BM176,\"\")","v":""},{"$f":"IF('Mapa oferta'!CG176<>\"\",'Mapa oferta'!CG176,\"\")","v":""}]
[null,{"$f":"IF('Mapa oferta'!B177<>\"\",'Mapa oferta'!B177,\"\")","v":""},{"$f":"IF('Mapa oferta'!G177<>\"\",'Mapa oferta'!G177,\"\")","v":""},{"$f":"IF('Mapa oferta'!I177<>\"\",'Mapa oferta'!I177,\"\")","v":""},{"$f":"IF('Mapa oferta'!BM177<>\"\",'Mapa oferta'!BM177,\"\")","v":""},{"$f":"IF('Mapa oferta'!CG177<>\"\",'Mapa oferta'!CG177,\"\")","v":""}]
[null,{"$f":"IF('Mapa oferta'!B178<>\"\",'Mapa oferta'!B178,\"\")","v":""},{"$f":"IF('Mapa oferta'!G178<>\"\",'Mapa oferta'!G178,\"\")","v":""},{"$f":"IF('Mapa oferta'!I178<>\"\",'Mapa oferta'!I178,\"\")","v":""},{"$f":"IF('Mapa oferta'!BM178<>\"\",'Mapa oferta'!BM178,\"\")","v":""},{"$f":"IF('Mapa oferta'!CG178<>\"\",'Mapa oferta'!CG178,\"\")","v":""}]
[null,{"$f":"IF('Mapa oferta'!B179<>\"\",'Mapa oferta'!B179,\"\")","v":""},{"$f":"IF('Mapa oferta'!G179<>\"\",'Mapa oferta'!G179,\"\")","v":""},{"$f":"IF('Mapa oferta'!I179<>\"\",'Mapa oferta'!I179,\"\")","v":""},{"$f":"IF('Mapa oferta'!BM179<>\"\",'Mapa oferta'!BM179,\"\")","v":""},{"$f":"IF('Mapa oferta'!CG179<>\"\",'Mapa oferta'!CG179,\"\")","v":""}]
[null,{"$f":"IF('Mapa oferta'!B180<>\"\",'Mapa oferta'!B180,\"\")","v":""},{"$f":"IF('Mapa oferta'!G180<>\"\",'Mapa oferta'!G180,\"\")","v":""},{"$f":"IF('Mapa oferta'!I180<>\"\",'Mapa oferta'!I180,\"\")","v":""},{"$f":"IF('Mapa oferta'!BM180<>\"\",'Mapa oferta'!BM180,\"\")","v":""},{"$f":"IF('Mapa oferta'!CG180<>\"\",'Mapa oferta'!CG180,\"\")","v":""}]
[null,{"$f":"IF('Mapa oferta'!B181<>\"\",'Mapa oferta'!B181,\"\")","v":""},{"$f":"IF('Mapa oferta'!G181<>\"\",'Mapa oferta'!G181,\"\")","v":""},{"$f":"IF('Mapa oferta'!I181<>\"\",'Mapa oferta'!I181,\"\")","v":""},{"$f":"IF('Mapa oferta'!BM181<>\"\",'Mapa oferta'!BM181,\"\")","v":""},{"$f":"IF('Mapa oferta'!CG181<>\"\",'Mapa oferta'!CG181,\"\")","v":""}]
[null,{"$f":"IF('Mapa oferta'!B182<>\"\",'Mapa oferta'!B182,\"\")","v":""},{"$f":"IF('Mapa oferta'!G182<>\"\",'Mapa oferta'!G182,\"\")","v":""},{"$f":"IF('Mapa oferta'!I182<>\"\",'Mapa oferta'!I182,\"\")","v":""},{"$f":"IF('Mapa oferta'!BM182<>\"\",'Mapa oferta'!BM182,\"\")","v":""},{"$f":"IF('Mapa oferta'!CG182<>\"\",'Mapa oferta'!CG182,\"\")","v":""}]
[null,{"$f":"IF('Mapa oferta'!B183<>\"\",'Mapa oferta'!B183,\"\")","v":""},{"$f":"IF('Mapa oferta'!G183<>\"\",'Mapa oferta'!G183,\"\")","v":""},{"$f":"IF('Mapa oferta'!I183<>\"\",'Mapa oferta'!I183,\"\")","v":""},{"$f":"IF('Mapa oferta'!BM183<>\"\",'Mapa oferta'!BM183,\"\")","v":""},{"$f":"IF('Mapa oferta'!CG183<>\"\",'Mapa oferta'!CG183,\"\")","v":""}]
[null,{"$f":"IF('Mapa oferta'!B184<>\"\",'Mapa oferta'!B184,\"\")","v":""},{"$f":"IF('Mapa oferta'!G184<>\"\",'Mapa oferta'!G184,\"\")","v":""},{"$f":"IF('Mapa oferta'!I184<>\"\",'Mapa oferta'!I184,\"\")","v":""},{"$f":"IF('Mapa oferta'!BM184<>\"\",'Mapa oferta'!BM184,\"\")","v":""},{"$f":"IF('Mapa oferta'!CG184<>\"\",'Mapa oferta'!CG184,\"\")","v":""}]
[null,{"$f":"IF('Mapa oferta'!B185<>\"\",'Mapa oferta'!B185,\"\")","v":""},{"$f":"IF('Mapa oferta'!G185<>\"\",'Mapa oferta'!G185,\"\")","v":""},{"$f":"IF('Mapa oferta'!I185<>\"\",'Mapa oferta'!I185,\"\")","v":""},{"$f":"IF('Mapa oferta'!BM185<>\"\",'Mapa oferta'!BM185,\"\")","v":""},{"$f":"IF('Mapa oferta'!CG185<>\"\",'Mapa oferta'!CG185,\"\")","v":""}]
[null,{"$f":"IF('Mapa oferta'!B186<>\"\",'Mapa oferta'!B186,\"\")","v":""},{"$f":"IF('Mapa oferta'!G186<>\"\",'Mapa oferta'!G186,\"\")","v":""},{"$f":"IF('Mapa oferta'!I186<>\"\",'Mapa oferta'!I186,\"\")","v":""},{"$f":"IF('Mapa oferta'!BM186<>\"\",'Mapa oferta'!BM186,\"\")","v":""},{"$f":"IF('Mapa oferta'!CG186<>\"\",'Mapa oferta'!CG186,\"\")","v":""}]
[null,{"$f":"IF('Mapa oferta'!B187<>\"\",'Mapa oferta'!B187,\"\")","v":""},{"$f":"IF('Mapa oferta'!G187<>\"\",'Mapa oferta'!G187,\"\")","v":""},{"$f":"IF('Mapa oferta'!I187<>\"\",'Mapa oferta'!I187,\"\")","v":""},{"$f":"IF('Mapa oferta'!BM187<>\"\",'Mapa oferta'!BM187,\"\")","v":""},{"$f":"IF('Mapa oferta'!CG187<>\"\",'Mapa oferta'!CG187,\"\")","v":""}]
[null,{"$f":"IF('Mapa oferta'!B188<>\"\",'Mapa oferta'!B188,\"\")","v":""},{"$f":"IF('Mapa oferta'!G188<>\"\",'Mapa oferta'!G188,\"\")","v":""},{"$f":"IF('Mapa oferta'!I188<>\"\",'Mapa oferta'!I188,\"\")","v":""},{"$f":"IF('Mapa oferta'!BM188<>\"\",'Mapa oferta'!BM188,\"\")","v":""},{"$f":"IF('Mapa oferta'!CG188<>\"\",'Mapa oferta'!CG188,\"\")","v":""}]
[null,{"$f":"IF('Mapa oferta'!B189<>\"\",'Mapa oferta'!B189,\"\")","v":""},{"$f":"IF('Mapa oferta'!G189<>\"\",'Mapa oferta'!G189,\"\")","v":""},{"$f":"IF('Mapa oferta'!I189<>\"\",'Mapa oferta'!I189,\"\")","v":""},{"$f":"IF('Mapa oferta'!BM189<>\"\",'Mapa oferta'!BM189,\"\")","v":""},{"$f":"IF('Mapa oferta'!CG189<>\"\",'Mapa oferta'!CG189,\"\")","v":""}]
[null,{"$f":"IF('Mapa oferta'!B190<>\"\",'Mapa oferta'!B190,\"\")","v":""},{"$f":"IF('Mapa oferta'!G190<>\"\",'Mapa oferta'!G190,\"\")","v":""},{"$f":"IF('Mapa oferta'!I190<>\"\",'Mapa oferta'!I190,\"\")","v":""},{"$f":"IF('Mapa oferta'!BM190<>\"\",'Mapa oferta'!BM190,\"\")","v":""},{"$f":"IF('Mapa oferta'!CG190<>\"\",'Mapa oferta'!CG190,\"\")","v":""}]
[null,{"$f":"IF('Mapa oferta'!B191<>\"\",'Mapa oferta'!B191,\"\")","v":""},{"$f":"IF('Mapa oferta'!G191<>\"\",'Mapa oferta'!G191,\"\")","v":""},{"$f":"IF('Mapa oferta'!I191<>\"\",'Mapa oferta'!I191,\"\")","v":""},{"$f":"IF('Mapa oferta'!BM191<>\"\",'Mapa oferta'!BM191,\"\")","v":""},{"$f":"IF('Mapa oferta'!CG191<>\"\",'Mapa oferta'!CG191,\"\")","v":""}]
[null,{"$f":"IF('Mapa oferta'!B192<>\"\",'Mapa oferta'!B192,\"\")","v":""},{"$f":"IF('Mapa oferta'!G192<>\"\",'Mapa oferta'!G192,\"\")","v":""},{"$f":"IF('Mapa oferta'!I192<>\"\",'Mapa oferta'!I192,\"\")","v":""},{"$f":"IF('Mapa oferta'!BM192<>\"\",'Mapa oferta'!BM192,\"\")","v":""},{"$f":"IF('Mapa oferta'!CG192<>\"\",'Mapa oferta'!CG192,\"\")","v":""}]
[null,{"$f":"IF('Mapa oferta'!B193<>\"\",'Mapa oferta'!B193,\"\")","v":""},{"$f":"IF('Mapa oferta'!G193<>\"\",'Mapa oferta'!G193,\"\")","v":""},{"$f":"IF('Mapa oferta'!I193<>\"\",'Mapa oferta'!I193,\"\")","v":""},{"$f":"IF('Mapa oferta'!BM193<>\"\",'Mapa oferta'!BM193,\"\")","v":""},{"$f":"IF('Mapa oferta'!CG193<>\"\",'Mapa oferta'!CG193,\"\")","v":""}]
[null,{"$f":"IF('Mapa oferta'!B194<>\"\",'Mapa oferta'!B194,\"\")","v":""},{"$f":"IF('Mapa oferta'!G194<>\"\",'Mapa oferta'!G194,\"\")","v":""},{"$f":"IF('Mapa oferta'!I194<>\"\",'Mapa oferta'!I194,\"\")","v":""},{"$f":"IF('Mapa oferta'!BM194<>\"\",'Mapa oferta'!BM194,\"\")","v":""},{"$f":"IF('Mapa oferta'!CG194<>\"\",'Mapa oferta'!CG194,\"\")","v":""}]
[null,{"$f":"IF('Mapa oferta'!B195<>\"\",'Mapa oferta'!B195,\"\")","v":""},{"$f":"IF('Mapa oferta'!G195<>\"\",'Mapa oferta'!G195,\"\")","v":""},{"$f":"IF('Mapa oferta'!I195<>\"\",'Mapa oferta'!I195,\"\")","v":""},{"$f":"IF('Mapa oferta'!BM195<>\"\",'Mapa oferta'!BM195,\"\")","v":""},{"$f":"IF('Mapa oferta'!CG195<>\"\",'Mapa oferta'!CG195,\"\")","v":""}]
[null,{"$f":"IF('Mapa oferta'!B196<>\"\",'Mapa oferta'!B196,\"\")","v":""},{"$f":"IF('Mapa oferta'!G196<>\"\",'Mapa oferta'!G196,\"\")","v":""},{"$f":"IF('Mapa oferta'!I196<>\"\",'Mapa oferta'!I196,\"\")","v":""},{"$f":"IF('Mapa oferta'!BM196<>\"\",'Mapa oferta'!BM196,\"\")","v":""},{"$f":"IF('Mapa oferta'!CG196<>\"\",'Mapa oferta'!CG196,\"\")","v":""}]
[null,{"$f":"IF('Mapa oferta'!B197<>\"\",'Mapa oferta'!B197,\"\")","v":""},{"$f":"IF('Mapa oferta'!G197<>\"\",'Mapa oferta'!G197,\"\")","v":""},{"$f":"IF('Mapa oferta'!I197<>\"\",'Mapa oferta'!I197,\"\")","v":""},{"$f":"IF('Mapa oferta'!BM197<>\"\",'Mapa oferta'!BM197,\"\")","v":""},{"$f":"IF('Mapa oferta'!CG197<>\"\",'Mapa oferta'!CG197,\"\")","v":""}]
[null,{"$f":"IF('Mapa oferta'!B198<>\"\",'Mapa oferta'!B198,\"\")","v":""},{"$f":"IF('Mapa oferta'!G198<>\"\",'Mapa oferta'!G198,\"\")","v":""},{"$f":"IF('Mapa oferta'!I198<>\"\",'Mapa oferta'!I198,\"\")","v":""},{"$f":"IF('Mapa oferta'!BM198<>\"\",'Mapa oferta'!BM198,\"\")","v":""},{"$f":"IF('Mapa oferta'!CG198<>\"\",'Mapa oferta'!CG198,\"\")","v":""}]
[null,{"$f":"IF('Mapa oferta'!B199<>\"\",'Mapa oferta'!B199,\"\")","v":""},{"$f":"IF('Mapa oferta'!G199<>\"\",'Mapa oferta'!G199,\"\")","v":""},{"$f":"IF('Mapa oferta'!I199<>\"\",'Mapa oferta'!I199,\"\")","v":""},{"$f":"IF('Mapa oferta'!BM199<>\"\",'Mapa oferta'!BM199,\"\")","v":""},{"$f":"IF('Mapa oferta'!CG199<>\"\",'Mapa oferta'!CG199,\"\")","v":""}]
[null,{"$f":"IF('Mapa oferta'!B200<>\"\",'Mapa oferta'!B200,\"\")","v":""},{"$f":"IF('Mapa oferta'!G200<>\"\",'Mapa oferta'!G200,\"\")","v":""},{"$f":"IF('Mapa oferta'!I200<>\"\",'Mapa oferta'!I200,\"\")","v":""},{"$f":"IF('Mapa oferta'!BM200<>\"\",'Mapa oferta'!BM200,\"\")","v":""},{"$f":"IF('Mapa oferta'!CG200<>\"\",'Mapa oferta'!CG200,\"\")","v":""}]
[null,{"$f":"IF('Mapa oferta'!B201<>\"\",'Mapa oferta'!B201,\"\")","v":""},{"$f":"IF('Mapa oferta'!G201<>\"\",'Mapa oferta'!G201,\"\")","v":""},{"$f":"IF('Mapa oferta'!I201<>\"\",'Mapa oferta'!I201,\"\")","v":""},{"$f":"IF('Mapa oferta'!BM201<>\"\",'Mapa oferta'!BM201,\"\")","v":""},{"$f":"IF('Mapa oferta'!CG201<>\"\",'Mapa oferta'!CG201,\"\")","v":""}]
[null,{"$f":"IF('Mapa oferta'!B202<>\"\",'Mapa oferta'!B202,\"\")","v":""},{"$f":"IF('Mapa oferta'!G202<>\"\",'Mapa oferta'!G202,\"\")","v":""},{"$f":"IF('Mapa oferta'!I202<>\"\",'Mapa oferta'!I202,\"\")","v":""},{"$f":"IF('Mapa oferta'!BM202<>\"\",'Mapa oferta'!BM202,\"\")","v":""},{"$f":"IF('Mapa oferta'!CG202<>\"\",'Mapa oferta'!CG202,\"\")","v":""}]
[null,{"$f":"IF('Mapa oferta'!B203<>\"\",'Mapa oferta'!B203,\"\")","v":""},{"$f":"IF('Mapa oferta'!G203<>\"\",'Mapa oferta'!G203,\"\")","v":""},{"$f":"IF('Mapa oferta'!I203<>\"\",'Mapa oferta'!I203,\"\")","v":""},{"$f":"IF('Mapa oferta'!BM203<>\"\",'Mapa oferta'!BM203,\"\")","v":""},{"$f":"IF('Mapa oferta'!CG203<>\"\",'Mapa oferta'!CG203,\"\")","v":""}]
[null,{"$f":"IF('Mapa oferta'!B204<>\"\",'Mapa oferta'!B204,\"\")","v":""},{"$f":"IF('Mapa oferta'!G204<>\"\",'Mapa oferta'!G204,\"\")","v":""},{"$f":"IF('Mapa oferta'!I204<>\"\",'Mapa oferta'!I204,\"\")","v":""},{"$f":"IF('Mapa oferta'!BM204<>\"\",'Mapa oferta'!BM204,\"\")","v":""},{"$f":"IF('Mapa oferta'!CG204<>\"\",'Mapa oferta'!CG204,\"\")","v":""}]
[null,{"$f":"IF('Mapa oferta'!B205<>\"\",'Mapa oferta'!B205,\"\")","v":""},{"$f":"IF('Mapa oferta'!G205<>\"\",'Mapa oferta'!G205,\"\")","v":""},{"$f":"IF('Mapa oferta'!I205<>\"\",'Mapa oferta'!I205,\"\")","v":""},{"$f":"IF('Mapa oferta'!BM205<>\"\",'Mapa oferta'!BM205,\"\")","v":""},{"$f":"IF('Mapa oferta'!CG205<>\"\",'Mapa oferta'!CG205,\"\")","v":""}]
[null,{"$f":"IF('Mapa oferta'!B206<>\"\",'Mapa oferta'!B206,\"\")","v":""},{"$f":"IF('Mapa oferta'!G206<>\"\",'Mapa oferta'!G206,\"\")","v":""},{"$f":"IF('Mapa oferta'!I206<>\"\",'Mapa oferta'!I206,\"\")","v":""},{"$f":"IF('Mapa oferta'!BM206<>\"\",'Mapa oferta'!BM206,\"\")","v":""},{"$f":"IF('Mapa oferta'!CG206<>\"\",'Mapa oferta'!CG206,\"\")","v":""}]
[null,{"$f":"IF('Mapa oferta'!B207<>\"\",'Mapa oferta'!B207,\"\")","v":""},{"$f":"IF('Mapa oferta'!G207<>\"\",'Mapa oferta'!G207,\"\")","v":""},{"$f":"IF('Mapa oferta'!I207<>\"\",'Mapa oferta'!I207,\"\")","v":""},{"$f":"IF('Mapa oferta'!BM207<>\"\",'Mapa oferta'!BM207,\"\")","v":""},{"$f":"IF('Mapa oferta'!CG207<>\"\",'Mapa oferta'!CG207,\"\")","v":""}]
[null,{"$f":"IF('Mapa oferta'!B208<>\"\",'Mapa oferta'!B208,\"\")","v":""},{"$f":"IF('Mapa oferta'!G208<>\"\",'Mapa oferta'!G208,\"\")","v":""},{"$f":"IF('Mapa oferta'!I208<>\"\",'Mapa oferta'!I208,\"\")","v":""},{"$f":"IF('Mapa oferta'!BM208<>\"\",'Mapa oferta'!BM208,\"\")","v":""},{"$f":"IF('Mapa oferta'!CG208<>\"\",'Mapa oferta'!CG208,\"\")","v":""}]
[null,{"$f":"IF('Mapa oferta'!B209<>\"\",'Mapa oferta'!B209,\"\")","v":""},{"$f":"IF('Mapa oferta'!G209<>\"\",'Mapa oferta'!G209,\"\")","v":""},{"$f":"IF('Mapa oferta'!I209<>\"\",'Mapa oferta'!I209,\"\")","v":""},{"$f":"IF('Mapa oferta'!BM209<>\"\",'Mapa oferta'!BM209,\"\")","v":""},{"$f":"IF('Mapa oferta'!CG209<>\"\",'Mapa oferta'!CG209,\"\")","v":""}]
[null,{"$f":"IF('Mapa oferta'!B210<>\"\",'Mapa oferta'!B210,\"\")","v":""},{"$f":"IF('Mapa oferta'!G210<>\"\",'Mapa oferta'!G210,\"\")","v":""},{"$f":"IF('Mapa oferta'!I210<>\"\",'Mapa oferta'!I210,\"\")","v":""},{"$f":"IF('Mapa oferta'!BM210<>\"\",'Mapa oferta'!BM210,\"\")","v":""},{"$f":"IF('Mapa oferta'!CG210<>\"\",'Mapa oferta'!CG210,\"\")","v":""}]
[null,{"$f":"IF('Mapa oferta'!B211<>\"\",'Mapa oferta'!B211,\"\")","v":""},{"$f":"IF('Mapa oferta'!G211<>\"\",'Mapa oferta'!G211,\"\")","v":""},{"$f":"IF('Mapa oferta'!I211<>\"\",'Mapa oferta'!I211,\"\")","v":""},{"$f":"IF('Mapa oferta'!BM211<>\"\",'Mapa oferta'!BM211,\"\")","v":""},{"$f":"IF('Mapa oferta'!CG211<>\"\",'Mapa oferta'!CG211,\"\")","v":""}]
[null,{"$f":"IF('Mapa oferta'!B212<>\"\",'Mapa oferta'!B212,\"\")","v":""},{"$f":"IF('Mapa oferta'!G212<>\"\",'Mapa oferta'!G212,\"\")","v":""},{"$f":"IF('Mapa oferta'!I212<>\"\",'Mapa oferta'!I212,\"\")","v":""},{"$f":"IF('Mapa oferta'!BM212<>\"\",'Mapa oferta'!BM212,\"\")","v":""},{"$f":"IF('Mapa oferta'!CG212<>\"\",'Mapa oferta'!CG212,\"\")","v":""}]
[null,{"$f":"IF('Mapa oferta'!B213<>\"\",'Mapa oferta'!B213,\"\")","v":""},{"$f":"IF('Mapa oferta'!G213<>\"\",'Mapa oferta'!G213,\"\")","v":""},{"$f":"IF('Mapa oferta'!I213<>\"\",'Mapa oferta'!I213,\"\")","v":""},{"$f":"IF('Mapa oferta'!BM213<>\"\",'Mapa oferta'!BM213,\"\")","v":""},{"$f":"IF('Mapa oferta'!CG213<>\"\",'Mapa oferta'!CG213,\"\")","v":""}]
[null,{"$f":"IF('Mapa oferta'!B214<>\"\",'Mapa oferta'!B214,\"\")","v":""},{"$f":"IF('Mapa oferta'!G214<>\"\",'Mapa oferta'!G214,\"\")","v":""},{"$f":"IF('Mapa oferta'!I214<>\"\",'Mapa oferta'!I214,\"\")","v":""},{"$f":"IF('Mapa oferta'!BM214<>\"\",'Mapa oferta'!BM214,\"\")","v":""},{"$f":"IF('Mapa oferta'!CG214<>\"\",'Mapa oferta'!CG214,\"\")","v":""}]
[null,{"$f":"IF('Mapa oferta'!B215<>\"\",'Mapa oferta'!B215,\"\")","v":""},{"$f":"IF('Mapa oferta'!G215<>\"\",'Mapa oferta'!G215,\"\")","v":""},{"$f":"IF('Mapa oferta'!I215<>\"\",'Mapa oferta'!I215,\"\")","v":""},{"$f":"IF('Mapa oferta'!BM215<>\"\",'Mapa oferta'!BM215,\"\")","v":""},{"$f":"IF('Mapa oferta'!CG215<>\"\",'Mapa oferta'!CG215,\"\")","v":""}]
[null,{"$f":"IF('Mapa oferta'!B216<>\"\",'Mapa oferta'!B216,\"\")","v":""},{"$f":"IF('Mapa oferta'!G216<>\"\",'Mapa oferta'!G216,\"\")","v":""},{"$f":"IF('Mapa oferta'!I216<>\"\",'Mapa oferta'!I216,\"\")","v":""},{"$f":"IF('Mapa oferta'!BM216<>\"\",'Mapa oferta'!BM216,\"\")","v":""},{"$f":"IF('Mapa oferta'!CG216<>\"\",'Mapa oferta'!CG216,\"\")","v":""}]
[null,{"$f":"IF('Mapa oferta'!B217<>\"\",'Mapa oferta'!B217,\"\")","v":""},{"$f":"IF('Mapa oferta'!G217<>\"\",'Mapa oferta'!G217,\"\")","v":""},{"$f":"IF('Mapa oferta'!I217<>\"\",'Mapa oferta'!I217,\"\")","v":""},{"$f":"IF('Mapa oferta'!BM217<>\"\",'Mapa oferta'!BM217,\"\")","v":""},{"$f":"IF('Mapa oferta'!CG217<>\"\",'Mapa oferta'!CG217,\"\")","v":""}]
[null,{"$f":"IF('Mapa oferta'!B218<>\"\",'Mapa oferta'!B218,\"\")","v":""},{"$f":"IF('Mapa oferta'!G218<>\"\",'Mapa oferta'!G218,\"\")","v":""},{"$f":"IF('Mapa oferta'!I218<>\"\",'Mapa oferta'!I218,\"\")","v":""},{"$f":"IF('Mapa oferta'!BM218<>\"\",'Mapa oferta'!BM218,\"\")","v":""},{"$f":"IF('Mapa oferta'!CG218<>\"\",'Mapa oferta'!CG218,\"\")","v":""}]
[null,{"$f":"IF('Mapa oferta'!B219<>\"\",'Mapa oferta'!B219,\"\")","v":""},{"$f":"IF('Mapa oferta'!G219<>\"\",'Mapa oferta'!G219,\"\")","v":""},{"$f":"IF('Mapa oferta'!I219<>\"\",'Mapa oferta'!I219,\"\")","v":""},{"$f":"IF('Mapa oferta'!BM219<>\"\",'Mapa oferta'!BM219,\"\")","v":""},{"$f":"IF('Mapa oferta'!CG219<>\"\",'Mapa oferta'!CG219,\"\")","v":""}]
[null,{"$f":"IF('Mapa oferta'!B220<>\"\",'Mapa oferta'!B220,\"\")","v":""},{"$f":"IF('Mapa oferta'!G220<>\"\",'Mapa oferta'!G220,\"\")","v":""},{"$f":"IF('Mapa oferta'!I220<>\"\",'Mapa oferta'!I220,\"\")","v":""},{"$f":"IF('Mapa oferta'!BM220<>\"\",'Mapa oferta'!BM220,\"\")","v":""},{"$f":"IF('Mapa oferta'!CG220<>\"\",'Mapa oferta'!CG220,\"\")","v":""}]
[null,{"$f":"IF('Mapa oferta'!B221<>\"\",'Mapa oferta'!B221,\"\")","v":""},{"$f":"IF('Mapa oferta'!G221<>\"\",'Mapa oferta'!G221,\"\")","v":""},{"$f":"IF('Mapa oferta'!I221<>\"\",'Mapa oferta'!I221,\"\")","v":""},{"$f":"IF('Mapa oferta'!BM221<>\"\",'Mapa oferta'!BM221,\"\")","v":""},{"$f":"IF('Mapa oferta'!CG221<>\"\",'Mapa oferta'!CG221,\"\")","v":""}]
[null,{"$f":"IF('Mapa oferta'!B222<>\"\",'Mapa oferta'!B222,\"\")","v":""},{"$f":"IF('Mapa oferta'!G222<>\"\",'Mapa oferta'!G222,\"\")","v":""},{"$f":"IF('Mapa oferta'!I222<>\"\",'Mapa oferta'!I222,\"\")","v":""},{"$f":"IF('Mapa oferta'!BM222<>\"\",'Mapa oferta'!BM222,\"\")","v":""},{"$f":"IF('Mapa oferta'!CG222<>\"\",'Mapa oferta'!CG222,\"\")","v":""}]
[null,{"$f":"IF('Mapa oferta'!B223<>\"\",'Mapa oferta'!B223,\"\")","v":""},{"$f":"IF('Mapa oferta'!G223<>\"\",'Mapa oferta'!G223,\"\")","v":""},{"$f":"IF('Mapa oferta'!I223<>\"\",'Mapa oferta'!I223,\"\")","v":""},{"$f":"IF('Mapa oferta'!BM223<>\"\",'Mapa oferta'!BM223,\"\")","v":""},{"$f":"IF('Mapa oferta'!CG223<>\"\",'Mapa oferta'!CG223,\"\")","v":""}]
[null,{"$f":"IF('Mapa oferta'!B224<>\"\",'Mapa oferta'!B224,\"\")","v":""},{"$f":"IF('Mapa oferta'!G224<>\"\",'Mapa oferta'!G224,\"\")","v":""},{"$f":"IF('Mapa oferta'!I224<>\"\",'Mapa oferta'!I224,\"\")","v":""},{"$f":"IF('Mapa oferta'!BM224<>\"\",'Mapa oferta'!BM224,\"\")","v":""},{"$f":"IF('Mapa oferta'!CG224<>\"\",'Mapa oferta'!CG224,\"\")","v":""}]
[null,{"$f":"IF('Mapa oferta'!B225<>\"\",'Mapa oferta'!B225,\"\")","v":""},{"$f":"IF('Mapa oferta'!G225<>\"\",'Mapa oferta'!G225,\"\")","v":""},{"$f":"IF('Mapa oferta'!I225<>\"\",'Mapa oferta'!I225,\"\")","v":""},{"$f":"IF('Mapa oferta'!BM225<>\"\",'Mapa oferta'!BM225,\"\")","v":""},{"$f":"IF('Mapa oferta'!CG225<>\"\",'Mapa oferta'!CG225,\"\")","v":""}]
[null,{"$f":"IF('Mapa oferta'!B226<>\"\",'Mapa oferta'!B226,\"\")","v":""},{"$f":"IF('Mapa oferta'!G226<>\"\",'Mapa oferta'!G226,\"\")","v":""},{"$f":"IF('Mapa oferta'!I226<>\"\",'Mapa oferta'!I226,\"\")","v":""},{"$f":"IF('Mapa oferta'!BM226<>\"\",'Mapa oferta'!BM226,\"\")","v":""},{"$f":"IF('Mapa oferta'!CG226<>\"\",'Mapa oferta'!CG226,\"\")","v":""}]
[null,{"$f":"IF('Mapa oferta'!B227<>\"\",'Mapa oferta'!B227,\"\")","v":""},{"$f":"IF('Mapa oferta'!G227<>\"\",'Mapa oferta'!G227,\"\")","v":""},{"$f":"IF('Mapa oferta'!I227<>\"\",'Mapa oferta'!I227,\"\")","v":""},{"$f":"IF('Mapa oferta'!BM227<>\"\",'Mapa oferta'!BM227,\"\")","v":""},{"$f":"IF('Mapa oferta'!CG227<>\"\",'Mapa oferta'!CG227,\"\")","v":""}]
[null,{"$f":"IF('Mapa oferta'!B228<>\"\",'Mapa oferta'!B228,\"\")","v":""},{"$f":"IF('Mapa oferta'!G228<>\"\",'Mapa oferta'!G228,\"\")","v":""},{"$f":"IF('Mapa oferta'!I228<>\"\",'Mapa oferta'!I228,\"\")","v":""},{"$f":"IF('Mapa oferta'!BM228<>\"\",'Mapa oferta'!BM228,\"\")","v":""},{"$f":"IF('Mapa oferta'!CG228<>\"\",'Mapa oferta'!CG228,\"\")","v":""}]
[null,{"$f":"IF('Mapa oferta'!B229<>\"\",'Mapa oferta'!B229,\"\")","v":""},{"$f":"IF('Mapa oferta'!G229<>\"\",'Mapa oferta'!G229,\"\")","v":""},{"$f":"IF('Mapa oferta'!I229<>\"\",'Mapa oferta'!I229,\"\")","v":""},{"$f":"IF('Mapa oferta'!BM229<>\"\",'Mapa oferta'!BM229,\"\")","v":""},{"$f":"IF('Mapa oferta'!CG229<>\"\",'Mapa oferta'!CG229,\"\")","v":""}]
[null,{"$f":"IF('Mapa oferta'!B230<>\"\",'Mapa oferta'!B230,\"\")","v":""},{"$f":"IF('Mapa oferta'!G230<>\"\",'Mapa oferta'!G230,\"\")","v":""},{"$f":"IF('Mapa oferta'!I230<>\"\",'Mapa oferta'!I230,\"\")","v":""},{"$f":"IF('Mapa oferta'!BM230<>\"\",'Mapa oferta'!BM230,\"\")","v":""},{"$f":"IF('Mapa oferta'!CG230<>\"\",'Mapa oferta'!CG230,\"\")","v":""}]
[null,{"$f":"IF('Mapa oferta'!B231<>\"\",'Mapa oferta'!B231,\"\")","v":""},{"$f":"IF('Mapa oferta'!G231<>\"\",'Mapa oferta'!G231,\"\")","v":""},{"$f":"IF('Mapa oferta'!I231<>\"\",'Mapa oferta'!I231,\"\")","v":""},{"$f":"IF('Mapa oferta'!BM231<>\"\",'Mapa oferta'!BM231,\"\")","v":""},{"$f":"IF('Mapa oferta'!CG231<>\"\",'Mapa oferta'!CG231,\"\")","v":""}]
[null,{"$f":"IF('Mapa oferta'!B232<>\"\",'Mapa oferta'!B232,\"\")","v":""},{"$f":"IF('Mapa oferta'!G232<>\"\",'Mapa oferta'!G232,\"\")","v":""},{"$f":"IF('Mapa oferta'!I232<>\"\",'Mapa oferta'!I232,\"\")","v":""},{"$f":"IF('Mapa oferta'!BM232<>\"\",'Mapa oferta'!BM232,\"\")","v":""},{"$f":"IF('Mapa oferta'!CG232<>\"\",'Mapa oferta'!CG232,\"\")","v":""}]
[null,{"$f":"IF('Mapa oferta'!B233<>\"\",'Mapa oferta'!B233,\"\")","v":""},{"$f":"IF('Mapa oferta'!G233<>\"\",'Mapa oferta'!G233,\"\")","v":""},{"$f":"IF('Mapa oferta'!I233<>\"\",'Mapa oferta'!I233,\"\")","v":""},{"$f":"IF('Mapa oferta'!BM233<>\"\",'Mapa oferta'!BM233,\"\")","v":""},{"$f":"IF('Mapa oferta'!CG233<>\"\",'Mapa oferta'!CG233,\"\")","v":""}]
[null,{"$f":"IF('Mapa oferta'!B234<>\"\",'Mapa oferta'!B234,\"\")","v":""},{"$f":"IF('Mapa oferta'!G234<>\"\",'Mapa oferta'!G234,\"\")","v":""},{"$f":"IF('Mapa oferta'!I234<>\"\",'Mapa oferta'!I234,\"\")","v":""},{"$f":"IF('Mapa oferta'!BM234<>\"\",'Mapa oferta'!BM234,\"\")","v":""},{"$f":"IF('Mapa oferta'!CG234<>\"\",'Mapa oferta'!CG234,\"\")","v":""}]
[null,{"$f":"IF('Mapa oferta'!B235<>\"\",'Mapa oferta'!B235,\"\")","v":""},{"$f":"IF('Mapa oferta'!G235<>\"\",'Mapa oferta'!G235,\"\")","v":""},{"$f":"IF('Mapa oferta'!I235<>\"\",'Mapa oferta'!I235,\"\")","v":""},{"$f":"IF('Mapa oferta'!BM235<>\"\",'Mapa oferta'!BM235,\"\")","v":""},{"$f":"IF('Mapa oferta'!CG235<>\"\",'Mapa oferta'!CG235,\"\")","v":""}]
[null,{"$f":"IF('Mapa oferta'!B236<>\"\",'Mapa oferta'!B236,\"\")","v":""},{"$f":"IF('Mapa oferta'!G236<>\"\",'Mapa oferta'!G236,\"\")","v":""},{"$f":"IF('Mapa oferta'!I236<>\"\",'Mapa oferta'!I236,\"\")","v":""},{"$f":"IF('Mapa oferta'!BM236<>\"\",'Mapa oferta'!BM236,\"\")","v":""},{"$f":"IF('Mapa oferta'!CG236<>\"\",'Mapa oferta'!CG236,\"\")","v":""}]
[null,{"$f":"IF('Mapa oferta'!B237<>\"\",'Mapa oferta'!B237,\"\")","v":""},{"$f":"IF('Mapa oferta'!G237<>\"\",'Mapa oferta'!G237,\"\")","v":""},{"$f":"IF('Mapa oferta'!I237<>\"\",'Mapa oferta'!I237,\"\")","v":""},{"$f":"IF('Mapa oferta'!BM237<>\"\",'Mapa oferta'!BM237,\"\")","v":""},{"$f":"IF('Mapa oferta'!CG237<>\"\",'Mapa oferta'!CG237,\"\")","v":""}]
[null,{"$f":"IF('Mapa oferta'!B238<>\"\",'Mapa oferta'!B238,\"\")","v":""},{"$f":"IF('Mapa oferta'!G238<>\"\",'Mapa oferta'!G238,\"\")","v":""},{"$f":"IF('Mapa oferta'!I238<>\"\",'Mapa oferta'!I238,\"\")","v":""},{"$f":"IF('Mapa oferta'!BM238<>\"\",'Mapa oferta'!BM238,\"\")","v":""},{"$f":"IF('Mapa oferta'!CG238<>\"\",'Mapa oferta'!CG238,\"\")","v":""}]
[null,{"$f":"IF('Mapa oferta'!B239<>\"\",'Mapa oferta'!B239,\"\")","v":""},{"$f":"IF('Mapa oferta'!G239<>\"\",'Mapa oferta'!G239,\"\")","v":""},{"$f":"IF('Mapa oferta'!I239<>\"\",'Mapa oferta'!I239,\"\")","v":""},{"$f":"IF('Mapa oferta'!BM239<>\"\",'Mapa oferta'!BM239,\"\")","v":""},{"$f":"IF('Mapa oferta'!CG239<>\"\",'Mapa oferta'!CG239,\"\")","v":""}]
[null,{"$f":"IF('Mapa oferta'!B240<>\"\",'Mapa oferta'!B240,\"\")","v":""},{"$f":"IF('Mapa oferta'!G240<>\"\",'Mapa oferta'!G240,\"\")","v":""},{"$f":"IF('Mapa oferta'!I240<>\"\",'Mapa oferta'!I240,\"\")","v":""},{"$f":"IF('Mapa oferta'!BM240<>\"\",'Mapa oferta'!BM240,\"\")","v":""},{"$f":"IF('Mapa oferta'!CG240<>\"\",'Mapa oferta'!CG240,\"\")","v":""}]
[null,{"$f":"IF('Mapa oferta'!B241<>\"\",'Mapa oferta'!B241,\"\")","v":""},{"$f":"IF('Mapa oferta'!G241<>\"\",'Mapa oferta'!G241,\"\")","v":""},{"$f":"IF('Mapa oferta'!I241<>\"\",'Mapa oferta'!I241,\"\")","v":""},{"$f":"IF('Mapa oferta'!BM241<>\"\",'Mapa oferta'!BM241,\"\")","v":""},{"$f":"IF('Mapa oferta'!CG241<>\"\",'Mapa oferta'!CG241,\"\")","v":""}]
[null,{"$f":"IF('Mapa oferta'!B242<>\"\",'Mapa oferta'!B242,\"\")","v":""},{"$f":"IF('Mapa oferta'!G242<>\"\",'Mapa oferta'!G242,\"\")","v":""},{"$f":"IF('Mapa oferta'!I242<>\"\",'Mapa oferta'!I242,\"\")","v":""},{"$f":"IF('Mapa oferta'!BM242<>\"\",'Mapa oferta'!BM242,\"\")","v":""},{"$f":"IF('Mapa oferta'!CG242<>\"\",'Mapa oferta'!CG242,\"\")","v":""}]
[null,{"$f":"IF('Mapa oferta'!B243<>\"\",'Mapa oferta'!B243,\"\")","v":""},{"$f":"IF('Mapa oferta'!G243<>\"\",'Mapa oferta'!G243,\"\")","v":""},{"$f":"IF('Mapa oferta'!I243<>\"\",'Mapa oferta'!I243,\"\")","v":""},{"$f":"IF('Mapa oferta'!BM243<>\"\",'Mapa oferta'!BM243,\"\")","v":""},{"$f":"IF('Mapa oferta'!CG243<>\"\",'Mapa oferta'!CG243,\"\")","v":""}]
[null,{"$f":"IF('Mapa oferta'!B244<>\"\",'Mapa oferta'!B244,\"\")","v":""},{"$f":"IF('Mapa oferta'!G244<>\"\",'Mapa oferta'!G244,\"\")","v":""},{"$f":"IF('Mapa oferta'!I244<>\"\",'Mapa oferta'!I244,\"\")","v":""},{"$f":"IF('Mapa oferta'!BM244<>\"\",'Mapa oferta'!BM244,\"\")","v":""},{"$f":"IF('Mapa oferta'!CG244<>\"\",'Mapa oferta'!CG244,\"\")","v":""}]
[null,{"$f":"IF('Mapa oferta'!B245<>\"\",'Mapa oferta'!B245,\"\")","v":""},{"$f":"IF('Mapa oferta'!G245<>\"\",'Mapa oferta'!G245,\"\")","v":""},{"$f":"IF('Mapa oferta'!I245<>\"\",'Mapa oferta'!I245,\"\")","v":""},{"$f":"IF('Mapa oferta'!BM245<>\"\",'Mapa oferta'!BM245,\"\")","v":""},{"$f":"IF('Mapa oferta'!CG245<>\"\",'Mapa oferta'!CG245,\"\")","v":""}]
[null,{"$f":"IF('Mapa oferta'!B246<>\"\",'Mapa oferta'!B246,\"\")","v":""},{"$f":"IF('Mapa oferta'!G246<>\"\",'Mapa oferta'!G246,\"\")","v":""},{"$f":"IF('Mapa oferta'!I246<>\"\",'Mapa oferta'!I246,\"\")","v":""},{"$f":"IF('Mapa oferta'!BM246<>\"\",'Mapa oferta'!BM246,\"\")","v":""},{"$f":"IF('Mapa oferta'!CG246<>\"\",'Mapa oferta'!CG246,\"\")","v":""}]
[null,{"$f":"IF('Mapa oferta'!B247<>\"\",'Mapa oferta'!B247,\"\")","v":""},{"$f":"IF('Mapa oferta'!G247<>\"\",'Mapa oferta'!G247,\"\")","v":""},{"$f":"IF('Mapa oferta'!I247<>\"\",'Mapa oferta'!I247,\"\")","v":""},{"$f":"IF('Mapa oferta'!BM247<>\"\",'Mapa oferta'!BM247,\"\")","v":""},{"$f":"IF('Mapa oferta'!CG247<>\"\",'Mapa oferta'!CG247,\"\")","v":""}]
[null,{"$f":"IF('Mapa oferta'!B248<>\"\",'Mapa oferta'!B248,\"\")","v":""},{"$f":"IF('Mapa oferta'!G248<>\"\",'Mapa oferta'!G248,\"\")","v":""},{"$f":"IF('Mapa oferta'!I248<>\"\",'Mapa oferta'!I248,\"\")","v":""},{"$f":"IF('Mapa oferta'!BM248<>\"\",'Mapa oferta'!BM248,\"\")","v":""},{"$f":"IF('Mapa oferta'!CG248<>\"\",'Mapa oferta'!CG248,\"\")","v":""}]
[null,{"$f":"IF('Mapa oferta'!B249<>\"\",'Mapa oferta'!B249,\"\")","v":""},{"$f":"IF('Mapa oferta'!G249<>\"\",'Mapa oferta'!G249,\"\")","v":""},{"$f":"IF('Mapa oferta'!I249<>\"\",'Mapa oferta'!I249,\"\")","v":""},{"$f":"IF('Mapa oferta'!BM249<>\"\",'Mapa oferta'!BM249,\"\")","v":""},{"$f":"IF('Mapa oferta'!CG249<>\"\",'Mapa oferta'!CG249,\"\")","v":""}]
[null,{"$f":"IF('Mapa oferta'!B250<>\"\",'Mapa oferta'!B250,\"\")","v":""},{"$f":"IF('Mapa oferta'!G250<>\"\",'Mapa oferta'!G250,\"\")","v":""},{"$f":"IF('Mapa oferta'!I250<>\"\",'Mapa oferta'!I250,\"\")","v":""},{"$f":"IF('Mapa oferta'!BM250<>\"\",'Mapa oferta'!BM250,\"\")","v":""},{"$f":"IF('Mapa oferta'!CG250<>\"\",'Mapa oferta'!CG250,\"\")","v":""}]
[null,{"$f":"IF('Mapa oferta'!B251<>\"\",'Mapa oferta'!B251,\"\")","v":""},{"$f":"IF('Mapa oferta'!G251<>\"\",'Mapa oferta'!G251,\"\")","v":""},{"$f":"IF('Mapa oferta'!I251<>\"\",'Mapa oferta'!I251,\"\")","v":""},{"$f":"IF('Mapa oferta'!BM251<>\"\",'Mapa oferta'!BM251,\"\")","v":""},{"$f":"IF('Mapa oferta'!CG251<>\"\",'Mapa oferta'!CG251,\"\")","v":""}]
[null,{"$f":"IF('Mapa oferta'!B252<>\"\",'Mapa oferta'!B252,\"\")","v":""},{"$f":"IF('Mapa oferta'!G252<>\"\",'Mapa oferta'!G252,\"\")","v":""},{"$f":"IF('Mapa oferta'!I252<>\"\",'Mapa oferta'!I252,\"\")","v":""},{"$f":"IF('Mapa oferta'!BM252<>\"\",'Mapa oferta'!BM252,\"\")","v":""},{"$f":"IF('Mapa oferta'!CG252<>\"\",'Mapa oferta'!CG252,\"\")","v":""}]
[null,{"$f":"IF('Mapa oferta'!B253<>\"\",'Mapa oferta'!B253,\"\")","v":""},{"$f":"IF('Mapa oferta'!G253<>\"\",'Mapa oferta'!G253,\"\")","v":""},{"$f":"IF('Mapa oferta'!I253<>\"\",'Mapa oferta'!I253,\"\")","v":""},{"$f":"IF('Mapa oferta'!BM253<>\"\",'Mapa oferta'!BM253,\"\")","v":""},{"$f":"IF('Mapa oferta'!CG253<>\"\",'Mapa oferta'!CG253,\"\")","v":""}]
[null,{"$f":"IF('Mapa oferta'!B254<>\"\",'Mapa oferta'!B254,\"\")","v":""},{"$f":"IF('Mapa oferta'!G254<>\"\",'Mapa oferta'!G254,\"\")","v":""},{"$f":"IF('Mapa oferta'!I254<>\"\",'Mapa oferta'!I254,\"\")","v":""},{"$f":"IF('Mapa oferta'!BM254<>\"\",'Mapa oferta'!BM254,\"\")","v":""},{"$f":"IF('Mapa oferta'!CG254<>\"\",'Mapa oferta'!CG254,\"\")","v":""}]
[null,{"$f":"IF('Mapa oferta'!B255<>\"\",'Mapa oferta'!B255,\"\")","v":""},{"$f":"IF('Mapa oferta'!G255<>\"\",'Mapa oferta'!G255,\"\")","v":""},{"$f":"IF('Mapa oferta'!I255<>\"\",'Mapa oferta'!I255,\"\")","v":""},{"$f":"IF('Mapa oferta'!BM255<>\"\",'Mapa oferta'!BM255,\"\")","v":""},{"$f":"IF('Mapa oferta'!CG255<>\"\",'Mapa oferta'!CG255,\"\")","v":""}]
[null,{"$f":"IF('Mapa oferta'!B256<>\"\",'Mapa oferta'!B256,\"\")","v":""},{"$f":"IF('Mapa oferta'!G256<>\"\",'Mapa oferta'!G256,\"\")","v":""},{"$f":"IF('Mapa oferta'!I256<>\"\",'Mapa oferta'!I256,\"\")","v":""},{"$f":"IF('Mapa oferta'!BM256<>\"\",'Mapa oferta'!BM256,\"\")","v":""},{"$f":"IF('Mapa oferta'!CG256<>\"\",'Mapa oferta'!CG256,\"\")","v":""}]
[null,{"$f":"IF('Mapa oferta'!B257<>\"\",'Mapa oferta'!B257,\"\")","v":""},{"$f":"IF('Mapa oferta'!G257<>\"\",'Mapa oferta'!G257,\"\")","v":""},{"$f":"IF('Mapa oferta'!I257<>\"\",'Mapa oferta'!I257,\"\")","v":""},{"$f":"IF('Mapa oferta'!BM257<>\"\",'Mapa oferta'!BM257,\"\")","v":""},{"$f":"IF('Mapa oferta'!CG257<>\"\",'Mapa oferta'!CG257,\"\")","v":""}]
[null,{"$f":"IF('Mapa oferta'!B258<>\"\",'Mapa oferta'!B258,\"\")","v":""},{"$f":"IF('Mapa oferta'!G258<>\"\",'Mapa oferta'!G258,\"\")","v":""},{"$f":"IF('Mapa oferta'!I258<>\"\",'Mapa oferta'!I258,\"\")","v":""},{"$f":"IF('Mapa oferta'!BM258<>\"\",'Mapa oferta'!BM258,\"\")","v":""},{"$f":"IF('Mapa oferta'!CG258<>\"\",'Mapa oferta'!CG258,\"\")","v":""}]
[null,{"$f":"IF('Mapa oferta'!B259<>\"\",'Mapa oferta'!B259,\"\")","v":""},{"$f":"IF('Mapa oferta'!G259<>\"\",'Mapa oferta'!G259,\"\")","v":""},{"$f":"IF('Mapa oferta'!I259<>\"\",'Mapa oferta'!I259,\"\")","v":""},{"$f":"IF('Mapa oferta'!BM259<>\"\",'Mapa oferta'!BM259,\"\")","v":""},{"$f":"IF('Mapa oferta'!CG259<>\"\",'Mapa oferta'!CG259,\"\")","v":""}]
[null,{"$f":"IF('Mapa oferta'!B260<>\"\",'Mapa oferta'!B260,\"\")","v":""},{"$f":"IF('Mapa oferta'!G260<>\"\",'Mapa oferta'!G260,\"\")","v":""},{"$f":"IF('Mapa oferta'!I260<>\"\",'Mapa oferta'!I260,\"\")","v":""},{"$f":"IF('Mapa oferta'!BM260<>\"\",'Mapa oferta'!BM260,\"\")","v":""},{"$f":"IF('Mapa oferta'!CG260<>\"\",'Mapa oferta'!CG260,\"\")","v":""}]
[null,{"$f":"IF('Mapa oferta'!B261<>\"\",'Mapa oferta'!B261,\"\")","v":""},{"$f":"IF('Mapa oferta'!G261<>\"\",'Mapa oferta'!G261,\"\")","v":""},{"$f":"IF('Mapa oferta'!I261<>\"\",'Mapa oferta'!I261,\"\")","v":""},{"$f":"IF('Mapa oferta'!BM261<>\"\",'Mapa oferta'!BM261,\"\")","v":""},{"$f":"IF('Mapa oferta'!CG261<>\"\",'Mapa oferta'!CG261,\"\")","v":""}]
[null,{"$f":"IF('Mapa oferta'!B262<>\"\",'Mapa oferta'!B262,\"\")","v":""},{"$f":"IF('Mapa oferta'!G262<>\"\",'Mapa oferta'!G262,\"\")","v":""},{"$f":"IF('Mapa oferta'!I262<>\"\",'Mapa oferta'!I262,\"\")","v":""},{"$f":"IF('Mapa oferta'!BM262<>\"\",'Mapa oferta'!BM262,\"\")","v":""},{"$f":"IF('Mapa oferta'!CG262<>\"\",'Mapa oferta'!CG262,\"\")","v":""}]
[null,{"$f":"IF('Mapa oferta'!B263<>\"\",'Mapa oferta'!B263,\"\")","v":""},{"$f":"IF('Mapa oferta'!G263<>\"\",'Mapa oferta'!G263,\"\")","v":""},{"$f":"IF('Mapa oferta'!I263<>\"\",'Mapa oferta'!I263,\"\")","v":""},{"$f":"IF('Mapa oferta'!BM263<>\"\",'Mapa oferta'!BM263,\"\")","v":""},{"$f":"IF('Mapa oferta'!CG263<>\"\",'Mapa oferta'!CG263,\"\")","v":""}]
[null,{"$f":"IF('Mapa oferta'!B264<>\"\",'Mapa oferta'!B264,\"\")","v":""},{"$f":"IF('Mapa oferta'!G264<>\"\",'Mapa oferta'!G264,\"\")","v":""},{"$f":"IF('Mapa oferta'!I264<>\"\",'Mapa oferta'!I264,\"\")","v":""},{"$f":"IF('Mapa oferta'!BM264<>\"\",'Mapa oferta'!BM264,\"\")","v":""},{"$f":"IF('Mapa oferta'!CG264<>\"\",'Mapa oferta'!CG264,\"\")","v":""}]
[null,{"$f":"IF('Mapa oferta'!B265<>\"\",'Mapa oferta'!B265,\"\")","v":""},{"$f":"IF('Mapa oferta'!G265<>\"\",'Mapa oferta'!G265,\"\")","v":""},{"$f":"IF('Mapa oferta'!I265<>\"\",'Mapa oferta'!I265,\"\")","v":""},{"$f":"IF('Mapa oferta'!BM265<>\"\",'Mapa oferta'!BM265,\"\")","v":""},{"$f":"IF('Mapa oferta'!CG265<>\"\",'Mapa oferta'!CG265,\"\")","v":""}]
[null,{"$f":"IF('Mapa oferta'!B266<>\"\",'Mapa oferta'!B266,\"\")","v":""},{"$f":"IF('Mapa oferta'!G266<>\"\",'Mapa oferta'!G266,\"\")","v":""},{"$f":"IF('Mapa oferta'!I266<>\"\",'Mapa oferta'!I266,\"\")","v":""},{"$f":"IF('Mapa oferta'!BM266<>\"\",'Mapa oferta'!BM266,\"\")","v":""},{"$f":"IF('Mapa oferta'!CG266<>\"\",'Mapa oferta'!CG266,\"\")","v":""}]
[null,{"$f":"IF('Mapa oferta'!B267<>\"\",'Mapa oferta'!B267,\"\")","v":""},{"$f":"IF('Mapa oferta'!G267<>\"\",'Mapa oferta'!G267,\"\")","v":""},{"$f":"IF('Mapa oferta'!I267<>\"\",'Mapa oferta'!I267,\"\")","v":""},{"$f":"IF('Mapa oferta'!BM267<>\"\",'Mapa oferta'!BM267,\"\")","v":""},{"$f":"IF('Mapa oferta'!CG267<>\"\",'Mapa oferta'!CG267,\"\")","v":""}]
[null,{"$f":"IF('Mapa oferta'!B268<>\"\",'Mapa oferta'!B268,\"\")","v":""},{"$f":"IF('Mapa oferta'!G268<>\"\",'Mapa oferta'!G268,\"\")","v":""},{"$f":"IF('Mapa oferta'!I268<>\"\",'Mapa oferta'!I268,\"\")","v":""},{"$f":"IF('Mapa oferta'!BM268<>\"\",'Mapa oferta'!BM268,\"\")","v":""},{"$f":"IF('Mapa oferta'!CG268<>\"\",'Mapa oferta'!CG268,\"\")","v":""}]
[null,{"$f":"IF('Mapa oferta'!B269<>\"\",'Mapa oferta'!B269,\"\")","v":""},{"$f":"IF('Mapa oferta'!G269<>\"\",'Mapa oferta'!G269,\"\")","v":""},{"$f":"IF('Mapa oferta'!I269<>\"\",'Mapa oferta'!I269,\"\")","v":""},{"$f":"IF('Mapa oferta'!BM269<>\"\",'Mapa oferta'!BM269,\"\")","v":""},{"$f":"IF('Mapa oferta'!CG269<>\"\",'Mapa oferta'!CG269,\"\")","v":""}]
[null,{"$f":"IF('Mapa oferta'!B270<>\"\",'Mapa oferta'!B270,\"\")","v":""},{"$f":"IF('Mapa oferta'!G270<>\"\",'Mapa oferta'!G270,\"\")","v":""},{"$f":"IF('Mapa oferta'!I270<>\"\",'Mapa oferta'!I270,\"\")","v":""},{"$f":"IF('Mapa oferta'!BM270<>\"\",'Mapa oferta'!BM270,\"\")","v":""},{"$f":"IF('Mapa oferta'!CG270<>\"\",'Mapa oferta'!CG270,\"\")","v":""}]
[null,{"$f":"IF('Mapa oferta'!B271<>\"\",'Mapa oferta'!B271,\"\")","v":""},{"$f":"IF('Mapa oferta'!G271<>\"\",'Mapa oferta'!G271,\"\")","v":""},{"$f":"IF('Mapa oferta'!I271<>\"\",'Mapa oferta'!I271,\"\")","v":""},{"$f":"IF('Mapa oferta'!BM271<>\"\",'Mapa oferta'!BM271,\"\")","v":""},{"$f":"IF('Mapa oferta'!CG271<>\"\",'Mapa oferta'!CG271,\"\")","v":""}]
[null,{"$f":"IF('Mapa oferta'!B272<>\"\",'Mapa oferta'!B272,\"\")","v":""},{"$f":"IF('Mapa oferta'!G272<>\"\",'Mapa oferta'!G272,\"\")","v":""},{"$f":"IF('Mapa oferta'!I272<>\"\",'Mapa oferta'!I272,\"\")","v":""},{"$f":"IF('Mapa oferta'!BM272<>\"\",'Mapa oferta'!BM272,\"\")","v":""},{"$f":"IF('Mapa oferta'!CG272<>\"\",'Mapa oferta'!CG272,\"\")","v":""}]
[null,{"$f":"IF('Mapa oferta'!B273<>\"\",'Mapa oferta'!B273,\"\")","v":""},{"$f":"IF('Mapa oferta'!G273<>\"\",'Mapa oferta'!G273,\"\")","v":""},{"$f":"IF('Mapa oferta'!I273<>\"\",'Mapa oferta'!I273,\"\")","v":""},{"$f":"IF('Mapa oferta'!BM273<>\"\",'Mapa oferta'!BM273,\"\")","v":""},{"$f":"IF('Mapa oferta'!CG273<>\"\",'Mapa oferta'!CG273,\"\")","v":""}]
[null,{"$f":"IF('Mapa oferta'!B274<>\"\",'Mapa oferta'!B274,\"\")","v":""},{"$f":"IF('Mapa oferta'!G274<>\"\",'Mapa oferta'!G274,\"\")","v":""},{"$f":"IF('Mapa oferta'!I274<>\"\",'Mapa oferta'!I274,\"\")","v":""},{"$f":"IF('Mapa oferta'!BM274<>\"\",'Mapa oferta'!BM274,\"\")","v":""},{"$f":"IF('Mapa oferta'!CG274<>\"\",'Mapa oferta'!CG274,\"\")","v":""}]
[null,{"$f":"IF('Mapa oferta'!B275<>\"\",'Mapa oferta'!B275,\"\")","v":""},{"$f":"IF('Mapa oferta'!G275<>\"\",'Mapa oferta'!G275,\"\")","v":""},{"$f":"IF('Mapa oferta'!I275<>\"\",'Mapa oferta'!I275,\"\")","v":""},{"$f":"IF('Mapa oferta'!BM275<>\"\",'Mapa oferta'!BM275,\"\")","v":""},{"$f":"IF('Mapa oferta'!CG275<>\"\",'Mapa oferta'!CG275,\"\")","v":""}]
[null,{"$f":"IF('Mapa oferta'!B276<>\"\",'Mapa oferta'!B276,\"\")","v":""},{"$f":"IF('Mapa oferta'!G276<>\"\",'Mapa oferta'!G276,\"\")","v":""},{"$f":"IF('Mapa oferta'!I276<>\"\",'Mapa oferta'!I276,\"\")","v":""},{"$f":"IF('Mapa oferta'!BM276<>\"\",'Mapa oferta'!BM276,\"\")","v":""},{"$f":"IF('Mapa oferta'!CG276<>\"\",'Mapa oferta'!CG276,\"\")","v":""}]
[null,{"$f":"IF('Mapa oferta'!B277<>\"\",'Mapa oferta'!B277,\"\")","v":""},{"$f":"IF('Mapa oferta'!G277<>\"\",'Mapa oferta'!G277,\"\")","v":""},{"$f":"IF('Mapa oferta'!I277<>\"\",'Mapa oferta'!I277,\"\")","v":""},{"$f":"IF('Mapa oferta'!BM277<>\"\",'Mapa oferta'!BM277,\"\")","v":""},{"$f":"IF('Mapa oferta'!CG277<>\"\",'Mapa oferta'!CG277,\"\")","v":""}]
[null,{"$f":"IF('Mapa oferta'!B278<>\"\",'Mapa oferta'!B278,\"\")","v":""},{"$f":"IF('Mapa oferta'!G278<>\"\",'Mapa oferta'!G278,\"\")","v":""},{"$f":"IF('Mapa oferta'!I278<>\"\",'Mapa oferta'!I278,\"\")","v":""},{"$f":"IF('Mapa oferta'!BM278<>\"\",'Mapa oferta'!BM278,\"\")","v":""},{"$f":"IF('Mapa oferta'!CG278<>\"\",'Mapa oferta'!CG278,\"\")","v":""}]
[null,{"$f":"IF('Mapa oferta'!B279<>\"\",'Mapa oferta'!B279,\"\")","v":""},{"$f":"IF('Mapa oferta'!G279<>\"\",'Mapa oferta'!G279,\"\")","v":""},{"$f":"IF('Mapa oferta'!I279<>\"\",'Mapa oferta'!I279,\"\")","v":""},{"$f":"IF('Mapa oferta'!BM279<>\"\",'Mapa oferta'!BM279,\"\")","v":""},{"$f":"IF('Mapa oferta'!CG279<>\"\",'Mapa oferta'!CG279,\"\")","v":""}]
[null,{"$f":"IF('Mapa oferta'!B280<>\"\",'Mapa oferta'!B280,\"\")","v":""},{"$f":"IF('Mapa oferta'!G280<>\"\",'Mapa oferta'!G280,\"\")","v":""},{"$f":"IF('Mapa oferta'!I280<>\"\",'Mapa oferta'!I280,\"\")","v":""},{"$f":"IF('Mapa oferta'!BM280<>\"\",'Mapa oferta'!BM280,\"\")","v":""},{"$f":"IF('Mapa oferta'!CG280<>\"\",'Mapa oferta'!CG280,\"\")","v":""}]
[null,{"$f":"IF('Mapa oferta'!B281<>\"\",'Mapa oferta'!B281,\"\")","v":""},{"$f":"IF('Mapa oferta'!G281<>\"\",'Mapa oferta'!G281,\"\")","v":""},{"$f":"IF('Mapa oferta'!I281<>\"\",'Mapa oferta'!I281,\"\")","v":""},{"$f":"IF('Mapa oferta'!BM281<>\"\",'Mapa oferta'!BM281,\"\")","v":""},{"$f":"IF('Mapa oferta'!CG281<>\"\",'Mapa oferta'!CG281,\"\")","v":""}]
[null,{"$f":"IF('Mapa oferta'!B282<>\"\",'Mapa oferta'!B282,\"\")","v":""},{"$f":"IF('Mapa oferta'!G282<>\"\",'Mapa oferta'!G282,\"\")","v":""},{"$f":"IF('Mapa oferta'!I282<>\"\",'Mapa oferta'!I282,\"\")","v":""},{"$f":"IF('Mapa oferta'!BM282<>\"\",'Mapa oferta'!BM282,\"\")","v":""},{"$f":"IF('Mapa oferta'!CG282<>\"\",'Mapa oferta'!CG282,\"\")","v":""}]
[null,{"$f":"IF('Mapa oferta'!B283<>\"\",'Mapa oferta'!B283,\"\")","v":""},{"$f":"IF('Mapa oferta'!G283<>\"\",'Mapa oferta'!G283,\"\")","v":""},{"$f":"IF('Mapa oferta'!I283<>\"\",'Mapa oferta'!I283,\"\")","v":""},{"$f":"IF('Mapa oferta'!BM283<>\"\",'Mapa oferta'!BM283,\"\")","v":""},{"$f":"IF('Mapa oferta'!CG283<>\"\",'Mapa oferta'!CG283,\"\")","v":""}]
[null,{"$f":"IF('Mapa oferta'!B284<>\"\",'Mapa oferta'!B284,\"\")","v":""},{"$f":"IF('Mapa oferta'!G284<>\"\",'Mapa oferta'!G284,\"\")","v":""},{"$f":"IF('Mapa oferta'!I284<>\"\",'Mapa oferta'!I284,\"\")","v":""},{"$f":"IF('Mapa oferta'!BM284<>\"\",'Mapa oferta'!BM284,\"\")","v":""},{"$f":"IF('Mapa oferta'!CG284<>\"\",'Mapa oferta'!CG284,\"\")","v":""}]
[null,{"$f":"IF('Mapa oferta'!B285<>\"\",'Mapa oferta'!B285,\"\")","v":""},{"$f":"IF('Mapa oferta'!G285<>\"\",'Mapa oferta'!G285,\"\")","v":""},{"$f":"IF('Mapa oferta'!I285<>\"\",'Mapa oferta'!I285,\"\")","v":""},{"$f":"IF('Mapa oferta'!BM285<>\"\",'Mapa oferta'!BM285,\"\")","v":""},{"$f":"IF('Mapa oferta'!CG285<>\"\",'Mapa oferta'!CG285,\"\")","v":""}]
[null,{"$f":"IF('Mapa oferta'!B286<>\"\",'Mapa oferta'!B286,\"\")","v":""},{"$f":"IF('Mapa oferta'!G286<>\"\",'Mapa oferta'!G286,\"\")","v":""},{"$f":"IF('Mapa oferta'!I286<>\"\",'Mapa oferta'!I286,\"\")","v":""},{"$f":"IF('Mapa oferta'!BM286<>\"\",'Mapa oferta'!BM286,\"\")","v":""},{"$f":"IF('Mapa oferta'!CG286<>\"\",'Mapa oferta'!CG286,\"\")","v":""}]
[null,{"$f":"IF('Mapa oferta'!B287<>\"\",'Mapa oferta'!B287,\"\")","v":""},{"$f":"IF('Mapa oferta'!G287<>\"\",'Mapa oferta'!G287,\"\")","v":""},{"$f":"IF('Mapa oferta'!I287<>\"\",'Mapa oferta'!I287,\"\")","v":""},{"$f":"IF('Mapa oferta'!BM287<>\"\",'Mapa oferta'!BM287,\"\")","v":""},{"$f":"IF('Mapa oferta'!CG287<>\"\",'Mapa oferta'!CG287,\"\")","v":""}]
[null,{"$f":"IF('Mapa oferta'!B288<>\"\",'Mapa oferta'!B288,\"\")","v":""},{"$f":"IF('Mapa oferta'!G288<>\"\",'Mapa oferta'!G288,\"\")","v":""},{"$f":"IF('Mapa oferta'!I288<>\"\",'Mapa oferta'!I288,\"\")","v":""},{"$f":"IF('Mapa oferta'!BM288<>\"\",'Mapa oferta'!BM288,\"\")","v":""},{"$f":"IF('Mapa oferta'!CG288<>\"\",'Mapa oferta'!CG288,\"\")","v":""}]
[null,{"$f":"IF('Mapa oferta'!B289<>\"\",'Mapa oferta'!B289,\"\")","v":""},{"$f":"IF('Mapa oferta'!G289<>\"\",'Mapa oferta'!G289,\"\")","v":""},{"$f":"IF('Mapa oferta'!I289<>\"\",'Mapa oferta'!I289,\"\")","v":""},{"$f":"IF('Mapa oferta'!BM289<>\"\",'Mapa oferta'!BM289,\"\")","v":""},{"$f":"IF('Mapa oferta'!CG289<>\"\",'Mapa oferta'!CG289,\"\")","v":""}]
[null,{"$f":"IF('Mapa oferta'!B290<>\"\",'Mapa oferta'!B290,\"\")","v":""},{"$f":"IF('Mapa oferta'!G290<>\"\",'Mapa oferta'!G290,\"\")","v":""},{"$f":"IF('Mapa oferta'!I290<>\"\",'Mapa oferta'!I290,\"\")","v":""},{"$f":"IF('Mapa oferta'!BM290<>\"\",'Mapa oferta'!BM290,\"\")","v":""},{"$f":"IF('Mapa oferta'!CG290<>\"\",'Mapa oferta'!CG290,\"\")","v":""}]
[null,{"$f":"IF('Mapa oferta'!B291<>\"\",'Mapa oferta'!B291,\"\")","v":""},{"$f":"IF('Mapa oferta'!G291<>\"\",'Mapa oferta'!G291,\"\")","v":""},{"$f":"IF('Mapa oferta'!I291<>\"\",'Mapa oferta'!I291,\"\")","v":""},{"$f":"IF('Mapa oferta'!BM291<>\"\",'Mapa oferta'!BM291,\"\")","v":""},{"$f":"IF('Mapa oferta'!CG291<>\"\",'Mapa oferta'!CG291,\"\")","v":""}]
[null,{"$f":"IF('Mapa oferta'!B292<>\"\",'Mapa oferta'!B292,\"\")","v":""},{"$f":"IF('Mapa oferta'!G292<>\"\",'Mapa oferta'!G292,\"\")","v":""},{"$f":"IF('Mapa oferta'!I292<>\"\",'Mapa oferta'!I292,\"\")","v":""},{"$f":"IF('Mapa oferta'!BM292<>\"\",'Mapa oferta'!BM292,\"\")","v":""},{"$f":"IF('Mapa oferta'!CG292<>\"\",'Mapa oferta'!CG292,\"\")","v":""}]
[null,{"$f":"IF('Mapa oferta'!B293<>\"\",'Mapa oferta'!B293,\"\")","v":""},{"$f":"IF('Mapa oferta'!G293<>\"\",'Mapa oferta'!G293,\"\")","v":""},{"$f":"IF('Mapa oferta'!I293<>\"\",'Mapa oferta'!I293,\"\")","v":""},{"$f":"IF('Mapa oferta'!BM293<>\"\",'Mapa oferta'!BM293,\"\")","v":""},{"$f":"IF('Mapa oferta'!CG293<>\"\",'Mapa oferta'!CG293,\"\")","v":""}]
[null,{"$f":"IF('Mapa oferta'!B294<>\"\",'Mapa oferta'!B294,\"\")","v":""},{"$f":"IF('Mapa oferta'!G294<>\"\",'Mapa oferta'!G294,\"\")","v":""},{"$f":"IF('Mapa oferta'!I294<>\"\",'Mapa oferta'!I294,\"\")","v":""},{"$f":"IF('Mapa oferta'!BM294<>\"\",'Mapa oferta'!BM294,\"\")","v":""},{"$f":"IF('Mapa oferta'!CG294<>\"\",'Mapa oferta'!CG294,\"\")","v":""}]
[null,{"$f":"IF('Mapa oferta'!B295<>\"\",'Mapa oferta'!B295,\"\")","v":""},{"$f":"IF('Mapa oferta'!G295<>\"\",'Mapa oferta'!G295,\"\")","v":""},{"$f":"IF('Mapa oferta'!I295<>\"\",'Mapa oferta'!I295,\"\")","v":""},{"$f":"IF('Mapa oferta'!BM295<>\"\",'Mapa oferta'!BM295,\"\")","v":""},{"$f":"IF('Mapa oferta'!CG295<>\"\",'Mapa oferta'!CG295,\"\")","v":""}]
[null,{"$f":"IF('Mapa oferta'!B296<>\"\",'Mapa oferta'!B296,\"\")","v":""},{"$f":"IF('Mapa oferta'!G296<>\"\",'Mapa oferta'!G296,\"\")","v":""},{"$f":"IF('Mapa oferta'!I296<>\"\",'Mapa oferta'!I296,\"\")","v":""},{"$f":"IF('Mapa oferta'!BM296<>\"\",'Mapa oferta'!BM296,\"\")","v":""},{"$f":"IF('Mapa oferta'!CG296<>\"\",'Mapa oferta'!CG296,\"\")","v":""}]
[null,{"$f":"IF('Mapa oferta'!B297<>\"\",'Mapa oferta'!B297,\"\")","v":""},{"$f":"IF('Mapa oferta'!G297<>\"\",'Mapa oferta'!G297,\"\")","v":""},{"$f":"IF('Mapa oferta'!I297<>\"\",'Mapa oferta'!I297,\"\")","v":""},{"$f":"IF('Mapa oferta'!BM297<>\"\",'Mapa oferta'!BM297,\"\")","v":""},{"$f":"IF('Mapa oferta'!CG297<>\"\",'Mapa oferta'!CG297,\"\")","v":""}]
[null,{"$f":"IF('Mapa oferta'!B298<>\"\",'Mapa oferta'!B298,\"\")","v":""},{"$f":"IF('Mapa oferta'!G298<>\"\",'Mapa oferta'!G298,\"\")","v":""},{"$f":"IF('Mapa oferta'!I298<>\"\",'Mapa oferta'!I298,\"\")","v":""},{"$f":"IF('Mapa oferta'!BM298<>\"\",'Mapa oferta'!BM298,\"\")","v":""},{"$f":"IF('Mapa oferta'!CG298<>\"\",'Mapa oferta'!CG298,\"\")","v":""}]
[null,{"$f":"IF('Mapa oferta'!B299<>\"\",'Mapa oferta'!B299,\"\")","v":""},{"$f":"IF('Mapa oferta'!G299<>\"\",'Mapa oferta'!G299,\"\")","v":""},{"$f":"IF('Mapa oferta'!I299<>\"\",'Mapa oferta'!I299,\"\")","v":""},{"$f":"IF('Mapa oferta'!BM299<>\"\",'Mapa oferta'!BM299,\"\")","v":""},{"$f":"IF('Mapa oferta'!CG299<>\"\",'Mapa oferta'!CG299,\"\")","v":""}]
[null,{"$f":"IF('Mapa oferta'!B300<>\"\",'Mapa oferta'!B300,\"\")","v":""},{"$f":"IF('Mapa oferta'!G300<>\"\",'Mapa oferta'!G300,\"\")","v":""},{"$f":"IF('Mapa oferta'!I300<>\"\",'Mapa oferta'!I300,\"\")","v":""},{"$f":"IF('Mapa oferta'!BM300<>\"\",'Mapa oferta'!BM300,\"\")","v":""},{"$f":"IF('Mapa oferta'!CG300<>\"\",'Mapa oferta'!CG300,\"\")","v":""}]
[null,{"$f":"IF('Mapa oferta'!B301<>\"\",'Mapa oferta'!B301,\"\")","v":""},{"$f":"IF('Mapa oferta'!G301<>\"\",'Mapa oferta'!G301,\"\")","v":""},{"$f":"IF('Mapa oferta'!I301<>\"\",'Mapa oferta'!I301,\"\")","v":""},{"$f":"IF('Mapa oferta'!BM301<>\"\",'Mapa oferta'!BM301,\"\")","v":""},{"$f":"IF('Mapa oferta'!CG301<>\"\",'Mapa oferta'!CG301,\"\")","v":""}]
[null,{"$f":"IF('Mapa oferta'!B302<>\"\",'Mapa oferta'!B302,\"\")","v":""},{"$f":"IF('Mapa oferta'!G302<>\"\",'Mapa oferta'!G302,\"\")","v":""},{"$f":"IF('Mapa oferta'!I302<>\"\",'Mapa oferta'!I302,\"\")","v":""},{"$f":"IF('Mapa oferta'!BM302<>\"\",'Mapa oferta'!BM302,\"\")","v":""},{"$f":"IF('Mapa oferta'!CG302<>\"\",'Mapa oferta'!CG302,\"\")","v":""}]
[null,{"$f":"IF('Mapa oferta'!B303<>\"\",'Mapa oferta'!B303,\"\")","v":""},{"$f":"IF('Mapa oferta'!G303<>\"\",'Mapa oferta'!G303,\"\")","v":""},{"$f":"IF('Mapa oferta'!I303<>\"\",'Mapa oferta'!I303,\"\")","v":""},{"$f":"IF('Mapa oferta'!BM303<>\"\",'Mapa oferta'!BM303,\"\")","v":""},{"$f":"IF('Mapa oferta'!CG303<>\"\",'Mapa oferta'!CG303,\"\")","v":""}]
[null,{"$f":"IF('Mapa oferta'!B304<>\"\",'Mapa oferta'!B304,\"\")","v":""},{"$f":"IF('Mapa oferta'!G304<>\"\",'Mapa oferta'!G304,\"\")","v":""},{"$f":"IF('Mapa oferta'!I304<>\"\",'Mapa oferta'!I304,\"\")","v":""},{"$f":"IF('Mapa oferta'!BM304<>\"\",'Mapa oferta'!BM304,\"\")","v":""},{"$f":"IF('Mapa oferta'!CG304<>\"\",'Mapa oferta'!CG304,\"\")","v":""}]
[null,{"$f":"IF('Mapa oferta'!B305<>\"\",'Mapa oferta'!B305,\"\")","v":""},{"$f":"IF('Mapa oferta'!G305<>\"\",'Mapa oferta'!G305,\"\")","v":""},{"$f":"IF('Mapa oferta'!I305<>\"\",'Mapa oferta'!I305,\"\")","v":""},{"$f":"IF('Mapa oferta'!BM305<>\"\",'Mapa oferta'!BM305,\"\")","v":""},{"$f":"IF('Mapa oferta'!CG305<>\"\",'Mapa oferta'!CG305,\"\")","v":""}]
[null,{"$f":"IF('Mapa oferta'!B306<>\"\",'Mapa oferta'!B306,\"\")","v":""},{"$f":"IF('Mapa oferta'!G306<>\"\",'Mapa oferta'!G306,\"\")","v":""},{"$f":"IF('Mapa oferta'!I306<>\"\",'Mapa oferta'!I306,\"\")","v":""},{"$f":"IF('Mapa oferta'!BM306<>\"\",'Mapa oferta'!BM306,\"\")","v":""},{"$f":"IF('Mapa oferta'!CG306<>\"\",'Mapa oferta'!CG306,\"\")","v":""}]
[null,{"$f":"IF('Mapa oferta'!B307<>\"\",'Mapa oferta'!B307,\"\")","v":""},{"$f":"IF('Mapa oferta'!G307<>\"\",'Mapa oferta'!G307,\"\")","v":""},{"$f":"IF('Mapa oferta'!I307<>\"\",'Mapa oferta'!I307,\"\")","v":""},{"$f":"IF('Mapa oferta'!BM307<>\"\",'Mapa oferta'!BM307,\"\")","v":""},{"$f":"IF('Mapa oferta'!CG307<>\"\",'Mapa oferta'!CG307,\"\")","v":""}]
[null,{"$f":"IF('Mapa oferta'!B308<>\"\",'Mapa oferta'!B308,\"\")","v":""},{"$f":"IF('Mapa oferta'!G308<>\"\",'Mapa oferta'!G308,\"\")","v":""},{"$f":"IF('Mapa oferta'!I308<>\"\",'Mapa oferta'!I308,\"\")","v":""},{"$f":"IF('Mapa oferta'!BM308<>\"\",'Mapa oferta'!BM308,\"\")","v":""},{"$f":"IF('Mapa oferta'!CG308<>\"\",'Mapa oferta'!CG308,\"\")","v":""}]
[null,{"$f":"IF('Mapa oferta'!B309<>\"\",'Mapa oferta'!B309,\"\")","v":""},{"$f":"IF('Mapa oferta'!G309<>\"\",'Mapa oferta'!G309,\"\")","v":""},{"$f":"IF('Mapa oferta'!I309<>\"\",'Mapa oferta'!I309,\"\")","v":""},{"$f":"IF('Mapa oferta'!BM309<>\"\",'Mapa oferta'!BM309,\"\")","v":""},{"$f":"IF('Mapa oferta'!CG309<>\"\",'Mapa oferta'!CG309,\"\")","v":""}]
[null,{"$f":"IF('Mapa oferta'!B310<>\"\",'Mapa oferta'!B310,\"\")","v":""},{"$f":"IF('Mapa oferta'!G310<>\"\",'Mapa oferta'!G310,\"\")","v":""},{"$f":"IF('Mapa oferta'!I310<>\"\",'Mapa oferta'!I310,\"\")","v":""},{"$f":"IF('Mapa oferta'!BM310<>\"\",'Mapa oferta'!BM310,\"\")","v":""},{"$f":"IF('Mapa oferta'!CG310<>\"\",'Mapa oferta'!CG310,\"\")","v":""}]
[null,{"$f":"IF('Mapa oferta'!B311<>\"\",'Mapa oferta'!B311,\"\")","v":""},{"$f":"IF('Mapa oferta'!G311<>\"\",'Mapa oferta'!G311,\"\")","v":""},{"$f":"IF('Mapa oferta'!I311<>\"\",'Mapa oferta'!I311,\"\")","v":""},{"$f":"IF('Mapa oferta'!BM311<>\"\",'Mapa oferta'!BM311,\"\")","v":""},{"$f":"IF('Mapa oferta'!CG311<>\"\",'Mapa oferta'!CG311,\"\")","v":""}]
[null,{"$f":"IF('Mapa oferta'!B312<>\"\",'Mapa oferta'!B312,\"\")","v":""},{"$f":"IF('Mapa oferta'!G312<>\"\",'Mapa oferta'!G312,\"\")","v":""},{"$f":"IF('Mapa oferta'!I312<>\"\",'Mapa oferta'!I312,\"\")","v":""},{"$f":"IF('Mapa oferta'!BM312<>\"\",'Mapa oferta'!BM312,\"\")","v":""},{"$f":"IF('Mapa oferta'!CG312<>\"\",'Mapa oferta'!CG312,\"\")","v":""}]
[null,{"$f":"IF('Mapa oferta'!B313<>\"\",'Mapa oferta'!B313,\"\")","v":""},{"$f":"IF('Mapa oferta'!G313<>\"\",'Mapa oferta'!G313,\"\")","v":""},{"$f":"IF('Mapa oferta'!I313<>\"\",'Mapa oferta'!I313,\"\")","v":""},{"$f":"IF('Mapa oferta'!BM313<>\"\",'Mapa oferta'!BM313,\"\")","v":""},{"$f":"IF('Mapa oferta'!CG313<>\"\",'Mapa oferta'!CG313,\"\")","v":""}]
[null,{"$f":"IF('Mapa oferta'!B314<>\"\",'Mapa oferta'!B314,\"\")","v":""},{"$f":"IF('Mapa oferta'!G314<>\"\",'Mapa oferta'!G314,\"\")","v":""},{"$f":"IF('Mapa oferta'!I314<>\"\",'Mapa oferta'!I314,\"\")","v":""},{"$f":"IF('Mapa oferta'!BM314<>\"\",'Mapa oferta'!BM314,\"\")","v":""},{"$f":"IF('Mapa oferta'!CG314<>\"\",'Mapa oferta'!CG314,\"\")","v":""}]
[null,{"$f":"IF('Mapa oferta'!B315<>\"\",'Mapa oferta'!B315,\"\")","v":""},{"$f":"IF('Mapa oferta'!G315<>\"\",'Mapa oferta'!G315,\"\")","v":""},{"$f":"IF('Mapa oferta'!I315<>\"\",'Mapa oferta'!I315,\"\")","v":""},{"$f":"IF('Mapa oferta'!BM315<>\"\",'Mapa oferta'!BM315,\"\")","v":""},{"$f":"IF('Mapa oferta'!CG315<>\"\",'Mapa oferta'!CG315,\"\")","v":""}]
[null,{"$f":"IF('Mapa oferta'!B316<>\"\",'Mapa oferta'!B316,\"\")","v":""},{"$f":"IF('Mapa oferta'!G316<>\"\",'Mapa oferta'!G316,\"\")","v":""},{"$f":"IF('Mapa oferta'!I316<>\"\",'Mapa oferta'!I316,\"\")","v":""},{"$f":"IF('Mapa oferta'!BM316<>\"\",'Mapa oferta'!BM316,\"\")","v":""},{"$f":"IF('Mapa oferta'!CG316<>\"\",'Mapa oferta'!CG316,\"\")","v":""}]
[null,{"$f":"IF('Mapa oferta'!B317<>\"\",'Mapa oferta'!B317,\"\")","v":""},{"$f":"IF('Mapa oferta'!G317<>\"\",'Mapa oferta'!G317,\"\")","v":""},{"$f":"IF('Mapa oferta'!I317<>\"\",'Mapa oferta'!I317,\"\")","v":""},{"$f":"IF('Mapa oferta'!BM317<>\"\",'Mapa oferta'!BM317,\"\")","v":""},{"$f":"IF('Mapa oferta'!CG317<>\"\",'Mapa oferta'!CG317,\"\")","v":""}]
[null,{"$f":"IF('Mapa oferta'!B318<>\"\",'Mapa oferta'!B318,\"\")","v":""},{"$f":"IF('Mapa oferta'!G318<>\"\",'Mapa oferta'!G318,\"\")","v":""},{"$f":"IF('Mapa oferta'!I318<>\"\",'Mapa oferta'!I318,\"\")","v":""},{"$f":"IF('Mapa oferta'!BM318<>\"\",'Mapa oferta'!BM318,\"\")","v":""},{"$f":"IF('Mapa oferta'!CG318<>\"\",'Mapa oferta'!CG318,\"\")","v":""}]
[null,{"$f":"IF('Mapa oferta'!B319<>\"\",'Mapa oferta'!B319,\"\")","v":""},{"$f":"IF('Mapa oferta'!G319<>\"\",'Mapa oferta'!G319,\"\")","v":""},{"$f":"IF('Mapa oferta'!I319<>\"\",'Mapa oferta'!I319,\"\")","v":""},{"$f":"IF('Mapa oferta'!BM319<>\"\",'Mapa oferta'!BM319,\"\")","v":""},{"$f":"IF('Mapa oferta'!CG319<>\"\",'Mapa oferta'!CG319,\"\")","v":""}]
[null,{"$f":"IF('Mapa oferta'!B320<>\"\",'Mapa oferta'!B320,\"\")","v":""},{"$f":"IF('Mapa oferta'!G320<>\"\",'Mapa oferta'!G320,\"\")","v":""},{"$f":"IF('Mapa oferta'!I320<>\"\",'Mapa oferta'!I320,\"\")","v":""},{"$f":"IF('Mapa oferta'!BM320<>\"\",'Mapa oferta'!BM320,\"\")","v":""},{"$f":"IF('Mapa oferta'!CG320<>\"\",'Mapa oferta'!CG320,\"\")","v":""}]
[null,{"$f":"IF('Mapa oferta'!B321<>\"\",'Mapa oferta'!B321,\"\")","v":""},{"$f":"IF('Mapa oferta'!G321<>\"\",'Mapa oferta'!G321,\"\")","v":""},{"$f":"IF('Mapa oferta'!I321<>\"\",'Mapa oferta'!I321,\"\")","v":""},{"$f":"IF('Mapa oferta'!BM321<>\"\",'Mapa oferta'!BM321,\"\")","v":""},{"$f":"IF('Mapa oferta'!CG321<>\"\",'Mapa oferta'!CG321,\"\")","v":""}]
[null,{"$f":"IF('Mapa oferta'!B322<>\"\",'Mapa oferta'!B322,\"\")","v":""},{"$f":"IF('Mapa oferta'!G322<>\"\",'Mapa oferta'!G322,\"\")","v":""},{"$f":"IF('Mapa oferta'!I322<>\"\",'Mapa oferta'!I322,\"\")","v":""},{"$f":"IF('Mapa oferta'!BM322<>\"\",'Mapa oferta'!BM322,\"\")","v":""},{"$f":"IF('Mapa oferta'!CG322<>\"\",'Mapa oferta'!CG322,\"\")","v":""}]
[null,{"$f":"IF('Mapa oferta'!B323<>\"\",'Mapa oferta'!B323,\"\")","v":""},{"$f":"IF('Mapa oferta'!G323<>\"\",'Mapa oferta'!G323,\"\")","v":""},{"$f":"IF('Mapa oferta'!I323<>\"\",'Mapa oferta'!I323,\"\")","v":""},{"$f":"IF('Mapa oferta'!BM323<>\"\",'Mapa oferta'!BM323,\"\")","v":""},{"$f":"IF('Mapa oferta'!CG323<>\"\",'Mapa oferta'!CG323,\"\")","v":""}]
[null,{"$f":"IF('Mapa oferta'!B324<>\"\",'Mapa oferta'!B324,\"\")","v":""},{"$f":"IF('Mapa oferta'!G324<>\"\",'Mapa oferta'!G324,\"\")","v":""},{"$f":"IF('Mapa oferta'!I324<>\"\",'Mapa oferta'!I324,\"\")","v":""},{"$f":"IF('Mapa oferta'!BM324<>\"\",'Mapa oferta'!BM324,\"\")","v":""},{"$f":"IF('Mapa oferta'!CG324<>\"\",'Mapa oferta'!CG324,\"\")","v":""}]
[null,{"$f":"IF('Mapa oferta'!B325<>\"\",'Mapa oferta'!B325,\"\")","v":""},{"$f":"IF('Mapa oferta'!G325<>\"\",'Mapa oferta'!G325,\"\")","v":""},{"$f":"IF('Mapa oferta'!I325<>\"\",'Mapa oferta'!I325,\"\")","v":""},{"$f":"IF('Mapa oferta'!BM325<>\"\",'Mapa oferta'!BM325,\"\")","v":""},{"$f":"IF('Mapa oferta'!CG325<>\"\",'Mapa oferta'!CG325,\"\")","v":""}]
[null,{"$f":"IF('Mapa oferta'!B326<>\"\",'Mapa oferta'!B326,\"\")","v":""},{"$f":"IF('Mapa oferta'!G326<>\"\",'Mapa oferta'!G326,\"\")","v":""},{"$f":"IF('Mapa oferta'!I326<>\"\",'Mapa oferta'!I326,\"\")","v":""},{"$f":"IF('Mapa oferta'!BM326<>\"\",'Mapa oferta'!BM326,\"\")","v":""},{"$f":"IF('Mapa oferta'!CG326<>\"\",'Mapa oferta'!CG326,\"\")","v":""}]
[null,{"$f":"IF('Mapa oferta'!B327<>\"\",'Mapa oferta'!B327,\"\")","v":""},{"$f":"IF('Mapa oferta'!G327<>\"\",'Mapa oferta'!G327,\"\")","v":""},{"$f":"IF('Mapa oferta'!I327<>\"\",'Mapa oferta'!I327,\"\")","v":""},{"$f":"IF('Mapa oferta'!BM327<>\"\",'Mapa oferta'!BM327,\"\")","v":""},{"$f":"IF('Mapa oferta'!CG327<>\"\",'Mapa oferta'!CG327,\"\")","v":""}]
[null,{"$f":"IF('Mapa oferta'!B328<>\"\",'Mapa oferta'!B328,\"\")","v":""},{"$f":"IF('Mapa oferta'!G328<>\"\",'Mapa oferta'!G328,\"\")","v":""},{"$f":"IF('Mapa oferta'!I328<>\"\",'Mapa oferta'!I328,\"\")","v":""},{"$f":"IF('Mapa oferta'!BM328<>\"\",'Mapa oferta'!BM328,\"\")","v":""},{"$f":"IF('Mapa oferta'!CG328<>\"\",'Mapa oferta'!CG328,\"\")","v":""}]
[null,{"$f":"IF('Mapa oferta'!B329<>\"\",'Mapa oferta'!B329,\"\")","v":""},{"$f":"IF('Mapa oferta'!G329<>\"\",'Mapa oferta'!G329,\"\")","v":""},{"$f":"IF('Mapa oferta'!I329<>\"\",'Mapa oferta'!I329,\"\")","v":""},{"$f":"IF('Mapa oferta'!BM329<>\"\",'Mapa oferta'!BM329,\"\")","v":""},{"$f":"IF('Mapa oferta'!CG329<>\"\",'Mapa oferta'!CG329,\"\")","v":""}]
[null,{"$f":"IF('Mapa oferta'!B330<>\"\",'Mapa oferta'!B330,\"\")","v":""},{"$f":"IF('Mapa oferta'!G330<>\"\",'Mapa oferta'!G330,\"\")","v":""},{"$f":"IF('Mapa oferta'!I330<>\"\",'Mapa oferta'!I330,\"\")","v":""},{"$f":"IF('Mapa oferta'!BM330<>\"\",'Mapa oferta'!BM330,\"\")","v":""},{"$f":"IF('Mapa oferta'!CG330<>\"\",'Mapa oferta'!CG330,\"\")","v":""}]
[null,{"$f":"IF('Mapa oferta'!B331<>\"\",'Mapa oferta'!B331,\"\")","v":""},{"$f":"IF('Mapa oferta'!G331<>\"\",'Mapa oferta'!G331,\"\")","v":""},{"$f":"IF('Mapa oferta'!I331<>\"\",'Mapa oferta'!I331,\"\")","v":""},{"$f":"IF('Mapa oferta'!BM331<>\"\",'Mapa oferta'!BM331,\"\")","v":""},{"$f":"IF('Mapa oferta'!CG331<>\"\",'Mapa oferta'!CG331,\"\")","v":""}]
[null,{"$f":"IF('Mapa oferta'!B332<>\"\",'Mapa oferta'!B332,\"\")","v":""},{"$f":"IF('Mapa oferta'!G332<>\"\",'Mapa oferta'!G332,\"\")","v":""},{"$f":"IF('Mapa oferta'!I332<>\"\",'Mapa oferta'!I332,\"\")","v":""},{"$f":"IF('Mapa oferta'!BM332<>\"\",'Mapa oferta'!BM332,\"\")","v":""},{"$f":"IF('Mapa oferta'!CG332<>\"\",'Mapa oferta'!CG332,\"\")","v":""}]
[null,{"$f":"IF('Mapa oferta'!B333<>\"\",'Mapa oferta'!B333,\"\")","v":""},{"$f":"IF('Mapa oferta'!G333<>\"\",'Mapa oferta'!G333,\"\")","v":""},{"$f":"IF('Mapa oferta'!I333<>\"\",'Mapa oferta'!I333,\"\")","v":""},{"$f":"IF('Mapa oferta'!BM333<>\"\",'Mapa oferta'!BM333,\"\")","v":""},{"$f":"IF('Mapa oferta'!CG333<>\"\",'Mapa oferta'!CG333,\"\")","v":""}]
[null,{"$f":"IF('Mapa oferta'!B334<>\"\",'Mapa oferta'!B334,\"\")","v":""},{"$f":"IF('Mapa oferta'!G334<>\"\",'Mapa oferta'!G334,\"\")","v":""},{"$f":"IF('Mapa oferta'!I334<>\"\",'Mapa oferta'!I334,\"\")","v":""},{"$f":"IF('Mapa oferta'!BM334<>\"\",'Mapa oferta'!BM334,\"\")","v":""},{"$f":"IF('Mapa oferta'!CG334<>\"\",'Mapa oferta'!CG334,\"\")","v":""}]
[null,{"$f":"IF('Mapa oferta'!B335<>\"\",'Mapa oferta'!B335,\"\")","v":""},{"$f":"IF('Mapa oferta'!G335<>\"\",'Mapa oferta'!G335,\"\")","v":""},{"$f":"IF('Mapa oferta'!I335<>\"\",'Mapa oferta'!I335,\"\")","v":""},{"$f":"IF('Mapa oferta'!BM335<>\"\",'Mapa oferta'!BM335,\"\")","v":""},{"$f":"IF('Mapa oferta'!CG335<>\"\",'Mapa oferta'!CG335,\"\")","v":""}]
[null,{"$f":"IF('Mapa oferta'!B336<>\"\",'Mapa oferta'!B336,\"\")","v":""},{"$f":"IF('Mapa oferta'!G336<>\"\",'Mapa oferta'!G336,\"\")","v":""},{"$f":"IF('Mapa oferta'!I336<>\"\",'Mapa oferta'!I336,\"\")","v":""},{"$f":"IF('Mapa oferta'!BM336<>\"\",'Mapa oferta'!BM336,\"\")","v":""},{"$f":"IF('Mapa oferta'!CG336<>\"\",'Mapa oferta'!CG336,\"\")","v":""}]
[null,{"$f":"IF('Mapa oferta'!B337<>\"\",'Mapa oferta'!B337,\"\")","v":""},{"$f":"IF('Mapa oferta'!G337<>\"\",'Mapa oferta'!G337,\"\")","v":""},{"$f":"IF('Mapa oferta'!I337<>\"\",'Mapa oferta'!I337,\"\")","v":""},{"$f":"IF('Mapa oferta'!BM337<>\"\",'Mapa oferta'!BM337,\"\")","v":""},{"$f":"IF('Mapa oferta'!CG337<>\"\",'Mapa oferta'!CG337,\"\")","v":""}]
[null,{"$f":"IF('Mapa oferta'!B338<>\"\",'Mapa oferta'!B338,\"\")","v":""},{"$f":"IF('Mapa oferta'!G338<>\"\",'Mapa oferta'!G338,\"\")","v":""},{"$f":"IF('Mapa oferta'!I338<>\"\",'Mapa oferta'!I338,\"\")","v":""},{"$f":"IF('Mapa oferta'!BM338<>\"\",'Mapa oferta'!BM338,\"\")","v":""},{"$f":"IF('Mapa oferta'!CG338<>\"\",'Mapa oferta'!CG338,\"\")","v":""}]
[null,{"$f":"IF('Mapa oferta'!B339<>\"\",'Mapa oferta'!B339,\"\")","v":""},{"$f":"IF('Mapa oferta'!G339<>\"\",'Mapa oferta'!G339,\"\")","v":""},{"$f":"IF('Mapa oferta'!I339<>\"\",'Mapa oferta'!I339,\"\")","v":""},{"$f":"IF('Mapa oferta'!BM339<>\"\",'Mapa oferta'!BM339,\"\")","v":""},{"$f":"IF('Mapa oferta'!CG339<>\"\",'Mapa oferta'!CG339,\"\")","v":""}]
[null,{"$f":"IF('Mapa oferta'!B340<>\"\",'Mapa oferta'!B340,\"\")","v":""},{"$f":"IF('Mapa oferta'!G340<>\"\",'Mapa oferta'!G340,\"\")","v":""},{"$f":"IF('Mapa oferta'!I340<>\"\",'Mapa oferta'!I340,\"\")","v":""},{"$f":"IF('Mapa oferta'!BM340<>\"\",'Mapa oferta'!BM340,\"\")","v":""},{"$f":"IF('Mapa oferta'!CG340<>\"\",'Mapa oferta'!CG340,\"\")","v":""}]
[null,{"$f":"IF('Mapa oferta'!B341<>\"\",'Mapa oferta'!B341,\"\")","v":""},{"$f":"IF('Mapa oferta'!G341<>\"\",'Mapa oferta'!G341,\"\")","v":""},{"$f":"IF('Mapa oferta'!I341<>\"\",'Mapa oferta'!I341,\"\")","v":""},{"$f":"IF('Mapa oferta'!BM341<>\"\",'Mapa oferta'!BM341,\"\")","v":""},{"$f":"IF('Mapa oferta'!CG341<>\"\",'Mapa oferta'!CG341,\"\")","v":""}]
[null,{"$f":"IF('Mapa oferta'!B342<>\"\",'Mapa oferta'!B342,\"\")","v":""},{"$f":"IF('Mapa oferta'!G342<>\"\",'Mapa oferta'!G342,\"\")","v":""},{"$f":"IF('Mapa oferta'!I342<>\"\",'Mapa oferta'!I342,\"\")","v":""},{"$f":"IF('Mapa oferta'!BM342<>\"\",'Mapa oferta'!BM342,\"\")","v":""},{"$f":"IF('Mapa oferta'!CG342<>\"\",'Mapa oferta'!CG342,\"\")","v":""}]
[null,{"$f":"IF('Mapa oferta'!B343<>\"\",'Mapa oferta'!B343,\"\")","v":""},{"$f":"IF('Mapa oferta'!G343<>\"\",'Mapa oferta'!G343,\"\")","v":""},{"$f":"IF('Mapa oferta'!I343<>\"\",'Mapa oferta'!I343,\"\")","v":""},{"$f":"IF('Mapa oferta'!BM343<>\"\",'Mapa oferta'!BM343,\"\")","v":""},{"$f":"IF('Mapa oferta'!CG343<>\"\",'Mapa oferta'!CG343,\"\")","v":""}]
[null,{"$f":"IF('Mapa oferta'!B344<>\"\",'Mapa oferta'!B344,\"\")","v":""},{"$f":"IF('Mapa oferta'!G344<>\"\",'Mapa oferta'!G344,\"\")","v":""},{"$f":"IF('Mapa oferta'!I344<>\"\",'Mapa oferta'!I344,\"\")","v":""},{"$f":"IF('Mapa oferta'!BM344<>\"\",'Mapa oferta'!BM344,\"\")","v":""},{"$f":"IF('Mapa oferta'!CG344<>\"\",'Mapa oferta'!CG344,\"\")","v":""}]
[null,{"$f":"IF('Mapa oferta'!B345<>\"\",'Mapa oferta'!B345,\"\")","v":""},{"$f":"IF('Mapa oferta'!G345<>\"\",'Mapa oferta'!G345,\"\")","v":""},{"$f":"IF('Mapa oferta'!I345<>\"\",'Mapa oferta'!I345,\"\")","v":""},{"$f":"IF('Mapa oferta'!BM345<>\"\",'Mapa oferta'!BM345,\"\")","v":""},{"$f":"IF('Mapa oferta'!CG345<>\"\",'Mapa oferta'!CG345,\"\")","v":""}]
[null,{"$f":"IF('Mapa oferta'!B346<>\"\",'Mapa oferta'!B346,\"\")","v":""},{"$f":"IF('Mapa oferta'!G346<>\"\",'Mapa oferta'!G346,\"\")","v":""},{"$f":"IF('Mapa oferta'!I346<>\"\",'Mapa oferta'!I346,\"\")","v":""},{"$f":"IF('Mapa oferta'!BM346<>\"\",'Mapa oferta'!BM346,\"\")","v":""},{"$f":"IF('Mapa oferta'!CG346<>\"\",'Mapa oferta'!CG346,\"\")","v":""}]
[null,{"$f":"IF('Mapa oferta'!B347<>\"\",'Mapa oferta'!B347,\"\")","v":""},{"$f":"IF('Mapa oferta'!G347<>\"\",'Mapa oferta'!G347,\"\")","v":""},{"$f":"IF('Mapa oferta'!I347<>\"\",'Mapa oferta'!I347,\"\")","v":""},{"$f":"IF('Mapa oferta'!BM347<>\"\",'Mapa oferta'!BM347,\"\")","v":""},{"$f":"IF('Mapa oferta'!CG347<>\"\",'Mapa oferta'!CG347,\"\")","v":""}]
[null,{"$f":"IF('Mapa oferta'!B348<>\"\",'Mapa oferta'!B348,\"\")","v":""},{"$f":"IF('Mapa oferta'!G348<>\"\",'Mapa oferta'!G348,\"\")","v":""},{"$f":"IF('Mapa oferta'!I348<>\"\",'Mapa oferta'!I348,\"\")","v":""},{"$f":"IF('Mapa oferta'!BM348<>\"\",'Mapa oferta'!BM348,\"\")","v":""},{"$f":"IF('Mapa oferta'!CG348<>\"\",'Mapa oferta'!CG348,\"\")","v":""}]
[null,{"$f":"IF('Mapa oferta'!B349<>\"\",'Mapa oferta'!B349,\"\")","v":""},{"$f":"IF('Mapa oferta'!G349<>\"\",'Mapa oferta'!G349,\"\")","v":""},{"$f":"IF('Mapa oferta'!I349<>\"\",'Mapa oferta'!I349,\"\")","v":""},{"$f":"IF('Mapa oferta'!BM349<>\"\",'Mapa oferta'!BM349,\"\")","v":""},{"$f":"IF('Mapa oferta'!CG349<>\"\",'Mapa oferta'!CG349,\"\")","v":""}]
[null,{"$f":"IF('Mapa oferta'!B350<>\"\",'Mapa oferta'!B350,\"\")","v":""},{"$f":"IF('Mapa oferta'!G350<>\"\",'Mapa oferta'!G350,\"\")","v":""},{"$f":"IF('Mapa oferta'!I350<>\"\",'Mapa oferta'!I350,\"\")","v":""},{"$f":"IF('Mapa oferta'!BM350<>\"\",'Mapa oferta'!BM350,\"\")","v":""},{"$f":"IF('Mapa oferta'!CG350<>\"\",'Mapa oferta'!CG350,\"\")","v":""}]
[null,{"$f":"IF('Mapa oferta'!B351<>\"\",'Mapa oferta'!B351,\"\")","v":""},{"$f":"IF('Mapa oferta'!G351<>\"\",'Mapa oferta'!G351,\"\")","v":""},{"$f":"IF('Mapa oferta'!I351<>\"\",'Mapa oferta'!I351,\"\")","v":""},{"$f":"IF('Mapa oferta'!BM351<>\"\",'Mapa oferta'!BM351,\"\")","v":""},{"$f":"IF('Mapa oferta'!CG351<>\"\",'Mapa oferta'!CG351,\"\")","v":""}]
[null,{"$f":"IF('Mapa oferta'!B352<>\"\",'Mapa oferta'!B352,\"\")","v":""},{"$f":"IF('Mapa oferta'!G352<>\"\",'Mapa oferta'!G352,\"\")","v":""},{"$f":"IF('Mapa oferta'!I352<>\"\",'Mapa oferta'!I352,\"\")","v":""},{"$f":"IF('Mapa oferta'!BM352<>\"\",'Mapa oferta'!BM352,\"\")","v":""},{"$f":"IF('Mapa oferta'!CG352<>\"\",'Mapa oferta'!CG352,\"\")","v":""}]
[null,{"$f":"IF('Mapa oferta'!B353<>\"\",'Mapa oferta'!B353,\"\")","v":""},{"$f":"IF('Mapa oferta'!G353<>\"\",'Mapa oferta'!G353,\"\")","v":""},{"$f":"IF('Mapa oferta'!I353<>\"\",'Mapa oferta'!I353,\"\")","v":""},{"$f":"IF('Mapa oferta'!BM353<>\"\",'Mapa oferta'!BM353,\"\")","v":""},{"$f":"IF('Mapa oferta'!CG353<>\"\",'Mapa oferta'!CG353,\"\")","v":""}]
[null,{"$f":"IF('Mapa oferta'!B354<>\"\",'Mapa oferta'!B354,\"\")","v":""},{"$f":"IF('Mapa oferta'!G354<>\"\",'Mapa oferta'!G354,\"\")","v":""},{"$f":"IF('Mapa oferta'!I354<>\"\",'Mapa oferta'!I354,\"\")","v":""},{"$f":"IF('Mapa oferta'!BM354<>\"\",'Mapa oferta'!BM354,\"\")","v":""},{"$f":"IF('Mapa oferta'!CG354<>\"\",'Mapa oferta'!CG354,\"\")","v":""}]
[null,{"$f":"IF('Mapa oferta'!B355<>\"\",'Mapa oferta'!B355,\"\")","v":""},{"$f":"IF('Mapa oferta'!G355<>\"\",'Mapa oferta'!G355,\"\")","v":""},{"$f":"IF('Mapa oferta'!I355<>\"\",'Mapa oferta'!I355,\"\")","v":""},{"$f":"IF('Mapa oferta'!BM355<>\"\",'Mapa oferta'!BM355,\"\")","v":""},{"$f":"IF('Mapa oferta'!CG355<>\"\",'Mapa oferta'!CG355,\"\")","v":""}]
[null,{"$f":"IF('Mapa oferta'!B356<>\"\",'Mapa oferta'!B356,\"\")","v":""},{"$f":"IF('Mapa oferta'!G356<>\"\",'Mapa oferta'!G356,\"\")","v":""},{"$f":"IF('Mapa oferta'!I356<>\"\",'Mapa oferta'!I356,\"\")","v":""},{"$f":"IF('Mapa oferta'!BM356<>\"\",'Mapa oferta'!BM356,\"\")","v":""},{"$f":"IF('Mapa oferta'!CG356<>\"\",'Mapa oferta'!CG356,\"\")","v":""}]
[null,{"$f":"IF('Mapa oferta'!B357<>\"\",'Mapa oferta'!B357,\"\")","v":""},{"$f":"IF('Mapa oferta'!G357<>\"\",'Mapa oferta'!G357,\"\")","v":""},{"$f":"IF('Mapa oferta'!I357<>\"\",'Mapa oferta'!I357,\"\")","v":""},{"$f":"IF('Mapa oferta'!BM357<>\"\",'Mapa oferta'!BM357,\"\")","v":""},{"$f":"IF('Mapa oferta'!CG357<>\"\",'Mapa oferta'!CG357,\"\")","v":""}]
[null,{"$f":"IF('Mapa oferta'!B358<>\"\",'Mapa oferta'!B358,\"\")","v":""},{"$f":"IF('Mapa oferta'!G358<>\"\",'Mapa oferta'!G358,\"\")","v":""},{"$f":"IF('Mapa oferta'!I358<>\"\",'Mapa oferta'!I358,\"\")","v":""},{"$f":"IF('Mapa oferta'!BM358<>\"\",'Mapa oferta'!BM358,\"\")","v":""},{"$f":"IF('Mapa oferta'!CG358<>\"\",'Mapa oferta'!CG358,\"\")","v":""}]
[null,{"$f":"IF('Mapa oferta'!B359<>\"\",'Mapa oferta'!B359,\"\")","v":""},{"$f":"IF('Mapa oferta'!G359<>\"\",'Mapa oferta'!G359,\"\")","v":""},{"$f":"IF('Mapa oferta'!I359<>\"\",'Mapa oferta'!I359,\"\")","v":""},{"$f":"IF('Mapa oferta'!BM359<>\"\",'Mapa oferta'!BM359,\"\")","v":""},{"$f":"IF('Mapa oferta'!CG359<>\"\",'Mapa oferta'!CG359,\"\")","v":""}]
[null,{"$f":"IF('Mapa oferta'!B360<>\"\",'Mapa oferta'!B360,\"\")","v":""},{"$f":"IF('Mapa oferta'!G360<>\"\",'Mapa oferta'!G360,\"\")","v":""},{"$f":"IF('Mapa oferta'!I360<>\"\",'Mapa oferta'!I360,\"\")","v":""},{"$f":"IF('Mapa oferta'!BM360<>\"\",'Mapa oferta'!BM360,\"\")","v":""},{"$f":"IF('Mapa oferta'!CG360<>\"\",'Mapa oferta'!CG360,\"\")","v":""}]
[null,{"$f":"IF('Mapa oferta'!B361<>\"\",'Mapa oferta'!B361,\"\")","v":""},{"$f":"IF('Mapa oferta'!G361<>\"\",'Mapa oferta'!G361,\"\")","v":""},{"$f":"IF('Mapa oferta'!I361<>\"\",'Mapa oferta'!I361,\"\")","v":""},{"$f":"IF('Mapa oferta'!BM361<>\"\",'Mapa oferta'!BM361,\"\")","v":""},{"$f":"IF('Mapa oferta'!CG361<>\"\",'Mapa oferta'!CG361,\"\")","v":""}]
[null,{"$f":"IF('Mapa oferta'!B362<>\"\",'Mapa oferta'!B362,\"\")","v":""},{"$f":"IF('Mapa oferta'!G362<>\"\",'Mapa oferta'!G362,\"\")","v":""},{"$f":"IF('Mapa oferta'!I362<>\"\",'Mapa oferta'!I362,\"\")","v":""},{"$f":"IF('Mapa oferta'!BM362<>\"\",'Mapa oferta'!BM362,\"\")","v":""},{"$f":"IF('Mapa oferta'!CG362<>\"\",'Mapa oferta'!CG362,\"\")","v":""}]
[null,{"$f":"IF('Mapa oferta'!B363<>\"\",'Mapa oferta'!B363,\"\")","v":""},{"$f":"IF('Mapa oferta'!G363<>\"\",'Mapa oferta'!G363,\"\")","v":""},{"$f":"IF('Mapa oferta'!I363<>\"\",'Mapa oferta'!I363,\"\")","v":""},{"$f":"IF('Mapa oferta'!BM363<>\"\",'Mapa oferta'!BM363,\"\")","v":""},{"$f":"IF('Mapa oferta'!CG363<>\"\",'Mapa oferta'!CG363,\"\")","v":""}]
[null,{"$f":"IF('Mapa oferta'!B364<>\"\",'Mapa oferta'!B364,\"\")","v":""},{"$f":"IF('Mapa oferta'!G364<>\"\",'Mapa oferta'!G364,\"\")","v":""},{"$f":"IF('Mapa oferta'!I364<>\"\",'Mapa oferta'!I364,\"\")","v":""},{"$f":"IF('Mapa oferta'!BM364<>\"\",'Mapa oferta'!BM364,\"\")","v":""},{"$f":"IF('Mapa oferta'!CG364<>\"\",'Mapa oferta'!CG364,\"\")","v":""}]
[null,{"$f":"IF('Mapa oferta'!B365<>\"\",'Mapa oferta'!B365,\"\")","v":""},{"$f":"IF('Mapa oferta'!G365<>\"\",'Mapa oferta'!G365,\"\")","v":""},{"$f":"IF('Mapa oferta'!I365<>\"\",'Mapa oferta'!I365,\"\")","v":""},{"$f":"IF('Mapa oferta'!BM365<>\"\",'Mapa oferta'!BM365,\"\")","v":""},{"$f":"IF('Mapa oferta'!CG365<>\"\",'Mapa oferta'!CG365,\"\")","v":""}]
[null,{"$f":"IF('Mapa oferta'!B366<>\"\",'Mapa oferta'!B366,\"\")","v":""},{"$f":"IF('Mapa oferta'!G366<>\"\",'Mapa oferta'!G366,\"\")","v":""},{"$f":"IF('Mapa oferta'!I366<>\"\",'Mapa oferta'!I366,\"\")","v":""},{"$f":"IF('Mapa oferta'!BM366<>\"\",'Mapa oferta'!BM366,\"\")","v":""},{"$f":"IF('Mapa oferta'!CG366<>\"\",'Mapa oferta'!CG366,\"\")","v":""}]
[null,{"$f":"IF('Mapa oferta'!B367<>\"\",'Mapa oferta'!B367,\"\")","v":""},{"$f":"IF('Mapa oferta'!G367<>\"\",'Mapa oferta'!G367,\"\")","v":""},{"$f":"IF('Mapa oferta'!I367<>\"\",'Mapa oferta'!I367,\"\")","v":""},{"$f":"IF('Mapa oferta'!BM367<>\"\",'Mapa oferta'!BM367,\"\")","v":""},{"$f":"IF('Mapa oferta'!CG367<>\"\",'Mapa oferta'!CG367,\"\")","v":""}]
[null,{"$f":"IF('Mapa oferta'!B368<>\"\",'Mapa oferta'!B368,\"\")","v":""},{"$f":"IF('Mapa oferta'!G368<>\"\",'Mapa oferta'!G368,\"\")","v":""},{"$f":"IF('Mapa oferta'!I368<>\"\",'Mapa oferta'!I368,\"\")","v":""},{"$f":"IF('Mapa oferta'!BM368<>\"\",'Mapa oferta'!BM368,\"\")","v":""},{"$f":"IF('Mapa oferta'!CG368<>\"\",'Mapa oferta'!CG368,\"\")","v":""}]
[null,{"$f":"IF('Mapa oferta'!B369<>\"\",'Mapa oferta'!B369,\"\")","v":""},{"$f":"IF('Mapa oferta'!G369<>\"\",'Mapa oferta'!G369,\"\")","v":""},{"$f":"IF('Mapa oferta'!I369<>\"\",'Mapa oferta'!I369,\"\")","v":""},{"$f":"IF('Mapa oferta'!BM369<>\"\",'Mapa oferta'!BM369,\"\")","v":""},{"$f":"IF('Mapa oferta'!CG369<>\"\",'Mapa oferta'!CG369,\"\")","v":""}]
[null,{"$f":"IF('Mapa oferta'!B370<>\"\",'Mapa oferta'!B370,\"\")","v":""},{"$f":"IF('Mapa oferta'!G370<>\"\",'Mapa oferta'!G370,\"\")","v":""},{"$f":"IF('Mapa oferta'!I370<>\"\",'Mapa oferta'!I370,\"\")","v":""},{"$f":"IF('Mapa oferta'!BM370<>\"\",'Mapa oferta'!BM370,\"\")","v":""},{"$f":"IF('Mapa oferta'!CG370<>\"\",'Mapa oferta'!CG370,\"\")","v":""}]
[null,{"$f":"IF('Mapa oferta'!B371<>\"\",'Mapa oferta'!B371,\"\")","v":""},{"$f":"IF('Mapa oferta'!G371<>\"\",'Mapa oferta'!G371,\"\")","v":""},{"$f":"IF('Mapa oferta'!I371<>\"\",'Mapa oferta'!I371,\"\")","v":""},{"$f":"IF('Mapa oferta'!BM371<>\"\",'Mapa oferta'!BM371,\"\")","v":""},{"$f":"IF('Mapa oferta'!CG371<>\"\",'Mapa oferta'!CG371,\"\")","v":""}]
[null,{"$f":"IF('Mapa oferta'!B372<>\"\",'Mapa oferta'!B372,\"\")","v":""},{"$f":"IF('Mapa oferta'!G372<>\"\",'Mapa oferta'!G372,\"\")","v":""},{"$f":"IF('Mapa oferta'!I372<>\"\",'Mapa oferta'!I372,\"\")","v":""},{"$f":"IF('Mapa oferta'!BM372<>\"\",'Mapa oferta'!BM372,\"\")","v":""},{"$f":"IF('Mapa oferta'!CG372<>\"\",'Mapa oferta'!CG372,\"\")","v":""}]
[null,{"$f":"IF('Mapa oferta'!B373<>\"\",'Mapa oferta'!B373,\"\")","v":""},{"$f":"IF('Mapa oferta'!G373<>\"\",'Mapa oferta'!G373,\"\")","v":""},{"$f":"IF('Mapa oferta'!I373<>\"\",'Mapa oferta'!I373,\"\")","v":""},{"$f":"IF('Mapa oferta'!BM373<>\"\",'Mapa oferta'!BM373,\"\")","v":""},{"$f":"IF('Mapa oferta'!CG373<>\"\",'Mapa oferta'!CG373,\"\")","v":""}]
[null,{"$f":"IF('Mapa oferta'!B374<>\"\",'Mapa oferta'!B374,\"\")","v":""},{"$f":"IF('Mapa oferta'!G374<>\"\",'Mapa oferta'!G374,\"\")","v":""},{"$f":"IF('Mapa oferta'!I374<>\"\",'Mapa oferta'!I374,\"\")","v":""},{"$f":"IF('Mapa oferta'!BM374<>\"\",'Mapa oferta'!BM374,\"\")","v":""},{"$f":"IF('Mapa oferta'!CG374<>\"\",'Mapa oferta'!CG374,\"\")","v":""}]
[null,{"$f":"IF('Mapa oferta'!B375<>\"\",'Mapa oferta'!B375,\"\")","v":""},{"$f":"IF('Mapa oferta'!G375<>\"\",'Mapa oferta'!G375,\"\")","v":""},{"$f":"IF('Mapa oferta'!I375<>\"\",'Mapa oferta'!I375,\"\")","v":""},{"$f":"IF('Mapa oferta'!BM375<>\"\",'Mapa oferta'!BM375,\"\")","v":""},{"$f":"IF('Mapa oferta'!CG375<>\"\",'Mapa oferta'!CG375,\"\")","v":""}]
[null,{"$f":"IF('Mapa oferta'!B376<>\"\",'Mapa oferta'!B376,\"\")","v":""},{"$f":"IF('Mapa oferta'!G376<>\"\",'Mapa oferta'!G376,\"\")","v":""},{"$f":"IF('Mapa oferta'!I376<>\"\",'Mapa oferta'!I376,\"\")","v":""},{"$f":"IF('Mapa oferta'!BM376<>\"\",'Mapa oferta'!BM376,\"\")","v":""},{"$f":"IF('Mapa oferta'!CG376<>\"\",'Mapa oferta'!CG376,\"\")","v":""}]
[null,{"$f":"IF('Mapa oferta'!B377<>\"\",'Mapa oferta'!B377,\"\")","v":""},{"$f":"IF('Mapa oferta'!G377<>\"\",'Mapa oferta'!G377,\"\")","v":""},{"$f":"IF('Mapa oferta'!I377<>\"\",'Mapa oferta'!I377,\"\")","v":""},{"$f":"IF('Mapa oferta'!BM377<>\"\",'Mapa oferta'!BM377,\"\")","v":""},{"$f":"IF('Mapa oferta'!CG377<>\"\",'Mapa oferta'!CG377,\"\")","v":""}]
[null,{"$f":"IF('Mapa oferta'!B378<>\"\",'Mapa oferta'!B378,\"\")","v":""},{"$f":"IF('Mapa oferta'!G378<>\"\",'Mapa oferta'!G378,\"\")","v":""},{"$f":"IF('Mapa oferta'!I378<>\"\",'Mapa oferta'!I378,\"\")","v":""},{"$f":"IF('Mapa oferta'!BM378<>\"\",'Mapa oferta'!BM378,\"\")","v":""},{"$f":"IF('Mapa oferta'!CG378<>\"\",'Mapa oferta'!CG378,\"\")","v":""}]
[null,{"$f":"IF('Mapa oferta'!B379<>\"\",'Mapa oferta'!B379,\"\")","v":""},{"$f":"IF('Mapa oferta'!G379<>\"\",'Mapa oferta'!G379,\"\")","v":""},{"$f":"IF('Mapa oferta'!I379<>\"\",'Mapa oferta'!I379,\"\")","v":""},{"$f":"IF('Mapa oferta'!BM379<>\"\",'Mapa oferta'!BM379,\"\")","v":""},{"$f":"IF('Mapa oferta'!CG379<>\"\",'Mapa oferta'!CG379,\"\")","v":""}]
[null,{"$f":"IF('Mapa oferta'!B380<>\"\",'Mapa oferta'!B380,\"\")","v":""},{"$f":"IF('Mapa oferta'!G380<>\"\",'Mapa oferta'!G380,\"\")","v":""},{"$f":"IF('Mapa oferta'!I380<>\"\",'Mapa oferta'!I380,\"\")","v":""},{"$f":"IF('Mapa oferta'!BM380<>\"\",'Mapa oferta'!BM380,\"\")","v":""},{"$f":"IF('Mapa oferta'!CG380<>\"\",'Mapa oferta'!CG380,\"\")","v":""}]
[null,{"$f":"IF('Mapa oferta'!B381<>\"\",'Mapa oferta'!B381,\"\")","v":""},{"$f":"IF('Mapa oferta'!G381<>\"\",'Mapa oferta'!G381,\"\")","v":""},{"$f":"IF('Mapa oferta'!I381<>\"\",'Mapa oferta'!I381,\"\")","v":""},{"$f":"IF('Mapa oferta'!BM381<>\"\",'Mapa oferta'!BM381,\"\")","v":""},{"$f":"IF('Mapa oferta'!CG381<>\"\",'Mapa oferta'!CG381,\"\")","v":""}]
[null,{"$f":"IF('Mapa oferta'!B382<>\"\",'Mapa oferta'!B382,\"\")","v":""},{"$f":"IF('Mapa oferta'!G382<>\"\",'Mapa oferta'!G382,\"\")","v":""},{"$f":"IF('Mapa oferta'!I382<>\"\",'Mapa oferta'!I382,\"\")","v":""},{"$f":"IF('Mapa oferta'!BM382<>\"\",'Mapa oferta'!BM382,\"\")","v":""},{"$f":"IF('Mapa oferta'!CG382<>\"\",'Mapa oferta'!CG382,\"\")","v":""}]
[null,{"$f":"IF('Mapa oferta'!B383<>\"\",'Mapa oferta'!B383,\"\")","v":""},{"$f":"IF('Mapa oferta'!G383<>\"\",'Mapa oferta'!G383,\"\")","v":""},{"$f":"IF('Mapa oferta'!I383<>\"\",'Mapa oferta'!I383,\"\")","v":""},{"$f":"IF('Mapa oferta'!BM383<>\"\",'Mapa oferta'!BM383,\"\")","v":""},{"$f":"IF('Mapa oferta'!CG383<>\"\",'Mapa oferta'!CG383,\"\")","v":""}]
[null,{"$f":"IF('Mapa oferta'!B384<>\"\",'Mapa oferta'!B384,\"\")","v":""},{"$f":"IF('Mapa oferta'!G384<>\"\",'Mapa oferta'!G384,\"\")","v":""},{"$f":"IF('Mapa oferta'!I384<>\"\",'Mapa oferta'!I384,\"\")","v":""},{"$f":"IF('Mapa oferta'!BM384<>\"\",'Mapa oferta'!BM384,\"\")","v":""},{"$f":"IF('Mapa oferta'!CG384<>\"\",'Mapa oferta'!CG384,\"\")","v":""}]
[null,{"$f":"IF('Mapa oferta'!B385<>\"\",'Mapa oferta'!B385,\"\")","v":""},{"$f":"IF('Mapa oferta'!G385<>\"\",'Mapa oferta'!G385,\"\")","v":""},{"$f":"IF('Mapa oferta'!I385<>\"\",'Mapa oferta'!I385,\"\")","v":""},{"$f":"IF('Mapa oferta'!BM385<>\"\",'Mapa oferta'!BM385,\"\")","v":""},{"$f":"IF('Mapa oferta'!CG385<>\"\",'Mapa oferta'!CG385,\"\")","v":""}]
[null,{"$f":"IF('Mapa oferta'!B386<>\"\",'Mapa oferta'!B386,\"\")","v":""},{"$f":"IF('Mapa oferta'!G386<>\"\",'Mapa oferta'!G386,\"\")","v":""},{"$f":"IF('Mapa oferta'!I386<>\"\",'Mapa oferta'!I386,\"\")","v":""},{"$f":"IF('Mapa oferta'!BM386<>\"\",'Mapa oferta'!BM386,\"\")","v":""},{"$f":"IF('Mapa oferta'!CG386<>\"\",'Mapa oferta'!CG386,\"\")","v":""}]
[null,{"$f":"IF('Mapa oferta'!B387<>\"\",'Mapa oferta'!B387,\"\")","v":""},{"$f":"IF('Mapa oferta'!G387<>\"\",'Mapa oferta'!G387,\"\")","v":""},{"$f":"IF('Mapa oferta'!I387<>\"\",'Mapa oferta'!I387,\"\")","v":""},{"$f":"IF('Mapa oferta'!BM387<>\"\",'Mapa oferta'!BM387,\"\")","v":""},{"$f":"IF('Mapa oferta'!CG387<>\"\",'Mapa oferta'!CG387,\"\")","v":""}]
[null,{"$f":"IF('Mapa oferta'!B388<>\"\",'Mapa oferta'!B388,\"\")","v":""},{"$f":"IF('Mapa oferta'!G388<>\"\",'Mapa oferta'!G388,\"\")","v":""},{"$f":"IF('Mapa oferta'!I388<>\"\",'Mapa oferta'!I388,\"\")","v":""},{"$f":"IF('Mapa oferta'!BM388<>\"\",'Mapa oferta'!BM388,\"\")","v":""},{"$f":"IF('Mapa oferta'!CG388<>\"\",'Mapa oferta'!CG388,\"\")","v":""}]
[null,{"$f":"IF('Mapa oferta'!B389<>\"\",'Mapa oferta'!B389,\"\")","v":""},{"$f":"IF('Mapa oferta'!G389<>\"\",'Mapa oferta'!G389,\"\")","v":""},{"$f":"IF('Mapa oferta'!I389<>\"\",'Mapa oferta'!I389,\"\")","v":""},{"$f":"IF('Mapa oferta'!BM389<>\"\",'Mapa oferta'!BM389,\"\")","v":""},{"$f":"IF('Mapa oferta'!CG389<>\"\",'Mapa oferta'!CG389,\"\")","v":""}]
[null,{"$f":"IF('Mapa oferta'!B390<>\"\",'Mapa oferta'!B390,\"\")","v":""},{"$f":"IF('Mapa oferta'!G390<>\"\",'Mapa oferta'!G390,\"\")","v":""},{"$f":"IF('Mapa oferta'!I390<>\"\",'Mapa oferta'!I390,\"\")","v":""},{"$f":"IF('Mapa oferta'!BM390<>\"\",'Mapa oferta'!BM390,\"\")","v":""},{"$f":"IF('Mapa oferta'!CG390<>\"\",'Mapa oferta'!CG390,\"\")","v":""}]
[null,{"$f":"IF('Mapa oferta'!B391<>\"\",'Mapa oferta'!B391,\"\")","v":""},{"$f":"IF('Mapa oferta'!G391<>\"\",'Mapa oferta'!G391,\"\")","v":""},{"$f":"IF('Mapa oferta'!I391<>\"\",'Mapa oferta'!I391,\"\")","v":""},{"$f":"IF('Mapa oferta'!BM391<>\"\",'Mapa oferta'!BM391,\"\")","v":""},{"$f":"IF('Mapa oferta'!CG391<>\"\",'Mapa oferta'!CG391,\"\")","v":""}]
[null,{"$f":"IF('Mapa oferta'!B392<>\"\",'Mapa oferta'!B392,\"\")","v":""},{"$f":"IF('Mapa oferta'!G392<>\"\",'Mapa oferta'!G392,\"\")","v":""},{"$f":"IF('Mapa oferta'!I392<>\"\",'Mapa oferta'!I392,\"\")","v":""},{"$f":"IF('Mapa oferta'!BM392<>\"\",'Mapa oferta'!BM392,\"\")","v":""},{"$f":"IF('Mapa oferta'!CG392<>\"\",'Mapa oferta'!CG392,\"\")","v":""}]
[null,{"$f":"IF('Mapa oferta'!B393<>\"\",'Mapa oferta'!B393,\"\")","v":""},{"$f":"IF('Mapa oferta'!G393<>\"\",'Mapa oferta'!G393,\"\")","v":""},{"$f":"IF('Mapa oferta'!I393<>\"\",'Mapa oferta'!I393,\"\")","v":""},{"$f":"IF('Mapa oferta'!BM393<>\"\",'Mapa oferta'!BM393,\"\")","v":""},{"$f":"IF('Mapa oferta'!CG393<>\"\",'Mapa oferta'!CG393,\"\")","v":""}]
[null,{"$f":"IF('Mapa oferta'!B394<>\"\",'Mapa oferta'!B394,\"\")","v":""},{"$f":"IF('Mapa oferta'!G394<>\"\",'Mapa oferta'!G394,\"\")","v":""},{"$f":"IF('Mapa oferta'!I394<>\"\",'Mapa oferta'!I394,\"\")","v":""},{"$f":"IF('Mapa oferta'!BM394<>\"\",'Mapa oferta'!BM394,\"\")","v":""},{"$f":"IF('Mapa oferta'!CG394<>\"\",'Mapa oferta'!CG394,\"\")","v":""}]
[null,{"$f":"IF('Mapa oferta'!B395<>\"\",'Mapa oferta'!B395,\"\")","v":""},{"$f":"IF('Mapa oferta'!G395<>\"\",'Mapa oferta'!G395,\"\")","v":""},{"$f":"IF('Mapa oferta'!I395<>\"\",'Mapa oferta'!I395,\"\")","v":""},{"$f":"IF('Mapa oferta'!BM395<>\"\",'Mapa oferta'!BM395,\"\")","v":""},{"$f":"IF('Mapa oferta'!CG395<>\"\",'Mapa oferta'!CG395,\"\")","v":""}]
[null,{"$f":"IF('Mapa oferta'!B396<>\"\",'Mapa oferta'!B396,\"\")","v":""},{"$f":"IF('Mapa oferta'!G396<>\"\",'Mapa oferta'!G396,\"\")","v":""},{"$f":"IF('Mapa oferta'!I396<>\"\",'Mapa oferta'!I396,\"\")","v":""},{"$f":"IF('Mapa oferta'!BM396<>\"\",'Mapa oferta'!BM396,\"\")","v":""},{"$f":"IF('Mapa oferta'!CG396<>\"\",'Mapa oferta'!CG396,\"\")","v":""}]
[null,{"$f":"IF('Mapa oferta'!B397<>\"\",'Mapa oferta'!B397,\"\")","v":""},{"$f":"IF('Mapa oferta'!G397<>\"\",'Mapa oferta'!G397,\"\")","v":""},{"$f":"IF('Mapa oferta'!I397<>\"\",'Mapa oferta'!I397,\"\")","v":""},{"$f":"IF('Mapa oferta'!BM397<>\"\",'Mapa oferta'!BM397,\"\")","v":""},{"$f":"IF('Mapa oferta'!CG397<>\"\",'Mapa oferta'!CG397,\"\")","v":""}]
[null,{"$f":"IF('Mapa oferta'!B398<>\"\",'Mapa oferta'!B398,\"\")","v":""},{"$f":"IF('Mapa oferta'!G398<>\"\",'Mapa oferta'!G398,\"\")","v":""},{"$f":"IF('Mapa oferta'!I398<>\"\",'Mapa oferta'!I398,\"\")","v":""},{"$f":"IF('Mapa oferta'!BM398<>\"\",'Mapa oferta'!BM398,\"\")","v":""},{"$f":"IF('Mapa oferta'!CG398<>\"\",'Mapa oferta'!CG398,\"\")","v":""}]
[null,{"$f":"IF('Mapa oferta'!B399<>\"\",'Mapa oferta'!B399,\"\")","v":""},{"$f":"IF('Mapa oferta'!G399<>\"\",'Mapa oferta'!G399,\"\")","v":""},{"$f":"IF('Mapa oferta'!I399<>\"\",'Mapa oferta'!I399,\"\")","v":""},{"$f":"IF('Mapa oferta'!BM399<>\"\",'Mapa oferta'!BM399,\"\")","v":""},{"$f":"IF('Mapa oferta'!CG399<>\"\",'Mapa oferta'!CG399,\"\")","v":""}]
[null,{"$f":"IF('Mapa oferta'!B400<>\"\",'Mapa oferta'!B400,\"\")","v":""},{"$f":"IF('Mapa oferta'!G400<>\"\",'Mapa oferta'!G400,\"\")","v":""},{"$f":"IF('Mapa oferta'!I400<>\"\",'Mapa oferta'!I400,\"\")","v":""},{"$f":"IF('Mapa oferta'!BM400<>\"\",'Mapa oferta'!BM400,\"\")","v":""},{"$f":"IF('Mapa oferta'!CG400<>\"\",'Mapa oferta'!CG400,\"\")","v":""}]
[null,{"$f":"IF('Mapa oferta'!B401<>\"\",'Mapa oferta'!B401,\"\")","v":""},{"$f":"IF('Mapa oferta'!G401<>\"\",'Mapa oferta'!G401,\"\")","v":""},{"$f":"IF('Mapa oferta'!I401<>\"\",'Mapa oferta'!I401,\"\")","v":""},{"$f":"IF('Mapa oferta'!BM401<>\"\",'Mapa oferta'!BM401,\"\")","v":""},{"$f":"IF('Mapa oferta'!CG401<>\"\",'Mapa oferta'!CG401,\"\")","v":""}]
[null,{"$f":"IF('Mapa oferta'!B402<>\"\",'Mapa oferta'!B402,\"\")","v":""},{"$f":"IF('Mapa oferta'!G402<>\"\",'Mapa oferta'!G402,\"\")","v":""},{"$f":"IF('Mapa oferta'!I402<>\"\",'Mapa oferta'!I402,\"\")","v":""},{"$f":"IF('Mapa oferta'!BM402<>\"\",'Mapa oferta'!BM402,\"\")","v":""},{"$f":"IF('Mapa oferta'!CG402<>\"\",'Mapa oferta'!CG402,\"\")","v":""}]
[null,{"$f":"IF('Mapa oferta'!B403<>\"\",'Mapa oferta'!B403,\"\")","v":""},{"$f":"IF('Mapa oferta'!G403<>\"\",'Mapa oferta'!G403,\"\")","v":""},{"$f":"IF('Mapa oferta'!I403<>\"\",'Mapa oferta'!I403,\"\")","v":""},{"$f":"IF('Mapa oferta'!BM403<>\"\",'Mapa oferta'!BM403,\"\")","v":""},{"$f":"IF('Mapa oferta'!CG403<>\"\",'Mapa oferta'!CG403,\"\")","v":""}]
[null,{"$f":"IF('Mapa oferta'!B404<>\"\",'Mapa oferta'!B404,\"\")","v":""},{"$f":"IF('Mapa oferta'!G404<>\"\",'Mapa oferta'!G404,\"\")","v":""},{"$f":"IF('Mapa oferta'!I404<>\"\",'Mapa oferta'!I404,\"\")","v":""},{"$f":"IF('Mapa oferta'!BM404<>\"\",'Mapa oferta'!BM404,\"\")","v":""},{"$f":"IF('Mapa oferta'!CG404<>\"\",'Mapa oferta'!CG404,\"\")","v":""}]
[null,{"$f":"IF('Mapa oferta'!B405<>\"\",'Mapa oferta'!B405,\"\")","v":""},{"$f":"IF('Mapa oferta'!G405<>\"\",'Mapa oferta'!G405,\"\")","v":""},{"$f":"IF('Mapa oferta'!I405<>\"\",'Mapa oferta'!I405,\"\")","v":""},{"$f":"IF('Mapa oferta'!BM405<>\"\",'Mapa oferta'!BM405,\"\")","v":""},{"$f":"IF('Mapa oferta'!CG405<>\"\",'Mapa oferta'!CG405,\"\")","v":""}]
[null,{"$f":"IF('Mapa oferta'!B406<>\"\",'Mapa oferta'!B406,\"\")","v":""},{"$f":"IF('Mapa oferta'!G406<>\"\",'Mapa oferta'!G406,\"\")","v":""},{"$f":"IF('Mapa oferta'!I406<>\"\",'Mapa oferta'!I406,\"\")","v":""},{"$f":"IF('Mapa oferta'!BM406<>\"\",'Mapa oferta'!BM406,\"\")","v":""},{"$f":"IF('Mapa oferta'!CG406<>\"\",'Mapa oferta'!CG406,\"\")","v":""}]
[null,{"$f":"IF('Mapa oferta'!B407<>\"\",'Mapa oferta'!B407,\"\")","v":""},{"$f":"IF('Mapa oferta'!G407<>\"\",'Mapa oferta'!G407,\"\")","v":""},{"$f":"IF('Mapa oferta'!I407<>\"\",'Mapa oferta'!I407,\"\")","v":""},{"$f":"IF('Mapa oferta'!BM407<>\"\",'Mapa oferta'!BM407,\"\")","v":""},{"$f":"IF('Mapa oferta'!CG407<>\"\",'Mapa oferta'!CG407,\"\")","v":""}]
[null,{"$f":"IF('Mapa oferta'!B408<>\"\",'Mapa oferta'!B408,\"\")","v":""},{"$f":"IF('Mapa oferta'!G408<>\"\",'Mapa oferta'!G408,\"\")","v":""},{"$f":"IF('Mapa oferta'!I408<>\"\",'Mapa oferta'!I408,\"\")","v":""},{"$f":"IF('Mapa oferta'!BM408<>\"\",'Mapa oferta'!BM408,\"\")","v":""},{"$f":"IF('Mapa oferta'!CG408<>\"\",'Mapa oferta'!CG408,\"\")","v":""}]
[null,{"$f":"IF('Mapa oferta'!B409<>\"\",'Mapa oferta'!B409,\"\")","v":""},{"$f":"IF('Mapa oferta'!G409<>\"\",'Mapa oferta'!G409,\"\")","v":""},{"$f":"IF('Mapa oferta'!I409<>\"\",'Mapa oferta'!I409,\"\")","v":""},{"$f":"IF('Mapa oferta'!BM409<>\"\",'Mapa oferta'!BM409,\"\")","v":""},{"$f":"IF('Mapa oferta'!CG409<>\"\",'Mapa oferta'!CG409,\"\")","v":""}]
[null,{"$f":"IF('Mapa oferta'!B410<>\"\",'Mapa oferta'!B410,\"\")","v":""},{"$f":"IF('Mapa oferta'!G410<>\"\",'Mapa oferta'!G410,\"\")","v":""},{"$f":"IF('Mapa oferta'!I410<>\"\",'Mapa oferta'!I410,\"\")","v":""},{"$f":"IF('Mapa oferta'!BM410<>\"\",'Mapa oferta'!BM410,\"\")","v":""},{"$f":"IF('Mapa oferta'!CG410<>\"\",'Mapa oferta'!CG410,\"\")","v":""}]
[null,{"$f":"IF('Mapa oferta'!B411<>\"\",'Mapa oferta'!B411,\"\")","v":""},{"$f":"IF('Mapa oferta'!G411<>\"\",'Mapa oferta'!G411,\"\")","v":""},{"$f":"IF('Mapa oferta'!I411<>\"\",'Mapa oferta'!I411,\"\")","v":""},{"$f":"IF('Mapa oferta'!BM411<>\"\",'Mapa oferta'!BM411,\"\")","v":""},{"$f":"IF('Mapa oferta'!CG411<>\"\",'Mapa oferta'!CG411,\"\")","v":""}]
[null,{"$f":"IF('Mapa oferta'!B412<>\"\",'Mapa oferta'!B412,\"\")","v":""},{"$f":"IF('Mapa oferta'!G412<>\"\",'Mapa oferta'!G412,\"\")","v":""},{"$f":"IF('Mapa oferta'!I412<>\"\",'Mapa oferta'!I412,\"\")","v":""},{"$f":"IF('Mapa oferta'!BM412<>\"\",'Mapa oferta'!BM412,\"\")","v":""},{"$f":"IF('Mapa oferta'!CG412<>\"\",'Mapa oferta'!CG412,\"\")","v":""}]
[null,{"$f":"IF('Mapa oferta'!B413<>\"\",'Mapa oferta'!B413,\"\")","v":""},{"$f":"IF('Mapa oferta'!G413<>\"\",'Mapa oferta'!G413,\"\")","v":""},{"$f":"IF('Mapa oferta'!I413<>\"\",'Mapa oferta'!I413,\"\")","v":""},{"$f":"IF('Mapa oferta'!BM413<>\"\",'Mapa oferta'!BM413,\"\")","v":""},{"$f":"IF('Mapa oferta'!CG413<>\"\",'Mapa oferta'!CG413,\"\")","v":""}]
[null,{"$f":"IF('Mapa oferta'!B414<>\"\",'Mapa oferta'!B414,\"\")","v":""},{"$f":"IF('Mapa oferta'!G414<>\"\",'Mapa oferta'!G414,\"\")","v":""},{"$f":"IF('Mapa oferta'!I414<>\"\",'Mapa oferta'!I414,\"\")","v":""},{"$f":"IF('Mapa oferta'!BM414<>\"\",'Mapa oferta'!BM414,\"\")","v":""},{"$f":"IF('Mapa oferta'!CG414<>\"\",'Mapa oferta'!CG414,\"\")","v":""}]
[null,{"$f":"IF('Mapa oferta'!B415<>\"\",'Mapa oferta'!B415,\"\")","v":""},{"$f":"IF('Mapa oferta'!G415<>\"\",'Mapa oferta'!G415,\"\")","v":""},{"$f":"IF('Mapa oferta'!I415<>\"\",'Mapa oferta'!I415,\"\")","v":""},{"$f":"IF('Mapa oferta'!BM415<>\"\",'Mapa oferta'!BM415,\"\")","v":""},{"$f":"IF('Mapa oferta'!CG415<>\"\",'Mapa oferta'!CG415,\"\")","v":""}]
[null,{"$f":"IF('Mapa oferta'!B416<>\"\",'Mapa oferta'!B416,\"\")","v":""},{"$f":"IF('Mapa oferta'!G416<>\"\",'Mapa oferta'!G416,\"\")","v":""},{"$f":"IF('Mapa oferta'!I416<>\"\",'Mapa oferta'!I416,\"\")","v":""},{"$f":"IF('Mapa oferta'!BM416<>\"\",'Mapa oferta'!BM416,\"\")","v":""},{"$f":"IF('Mapa oferta'!CG416<>\"\",'Mapa oferta'!CG416,\"\")","v":""}]
[null,{"$f":"IF('Mapa oferta'!B417<>\"\",'Mapa oferta'!B417,\"\")","v":""},{"$f":"IF('Mapa oferta'!G417<>\"\",'Mapa oferta'!G417,\"\")","v":""},{"$f":"IF('Mapa oferta'!I417<>\"\",'Mapa oferta'!I417,\"\")","v":""},{"$f":"IF('Mapa oferta'!BM417<>\"\",'Mapa oferta'!BM417,\"\")","v":""},{"$f":"IF('Mapa oferta'!CG417<>\"\",'Mapa oferta'!CG417,\"\")","v":""}]
[null,{"$f":"IF('Mapa oferta'!B418<>\"\",'Mapa oferta'!B418,\"\")","v":""},{"$f":"IF('Mapa oferta'!G418<>\"\",'Mapa oferta'!G418,\"\")","v":""},{"$f":"IF('Mapa oferta'!I418<>\"\",'Mapa oferta'!I418,\"\")","v":""},{"$f":"IF('Mapa oferta'!BM418<>\"\",'Mapa oferta'!BM418,\"\")","v":""},{"$f":"IF('Mapa oferta'!CG418<>\"\",'Mapa oferta'!CG418,\"\")","v":""}]
[null,{"$f":"IF('Mapa oferta'!B419<>\"\",'Mapa oferta'!B419,\"\")","v":""},{"$f":"IF('Mapa oferta'!G419<>\"\",'Mapa oferta'!G419,\"\")","v":""},{"$f":"IF('Mapa oferta'!I419<>\"\",'Mapa oferta'!I419,\"\")","v":""},{"$f":"IF('Mapa oferta'!BM419<>\"\",'Mapa oferta'!BM419,\"\")","v":""},{"$f":"IF('Mapa oferta'!CG419<>\"\",'Mapa oferta'!CG419,\"\")","v":""}]
[null,{"$f":"IF('Mapa oferta'!B420<>\"\",'Mapa oferta'!B420,\"\")","v":""},{"$f":"IF('Mapa oferta'!G420<>\"\",'Mapa oferta'!G420,\"\")","v":""},{"$f":"IF('Mapa oferta'!I420<>\"\",'Mapa oferta'!I420,\"\")","v":""},{"$f":"IF('Mapa oferta'!BM420<>\"\",'Mapa oferta'!BM420,\"\")","v":""},{"$f":"IF('Mapa oferta'!CG420<>\"\",'Mapa oferta'!CG420,\"\")","v":""}]
[null,{"$f":"IF('Mapa oferta'!B421<>\"\",'Mapa oferta'!B421,\"\")","v":""},{"$f":"IF('Mapa oferta'!G421<>\"\",'Mapa oferta'!G421,\"\")","v":""},{"$f":"IF('Mapa oferta'!I421<>\"\",'Mapa oferta'!I421,\"\")","v":""},{"$f":"IF('Mapa oferta'!BM421<>\"\",'Mapa oferta'!BM421,\"\")","v":""},{"$f":"IF('Mapa oferta'!CG421<>\"\",'Mapa oferta'!CG421,\"\")","v":""}]
[null,{"$f":"IF('Mapa oferta'!B422<>\"\",'Mapa oferta'!B422,\"\")","v":""},{"$f":"IF('Mapa oferta'!G422<>\"\",'Mapa oferta'!G422,\"\")","v":""},{"$f":"IF('Mapa oferta'!I422<>\"\",'Mapa oferta'!I422,\"\")","v":""},{"$f":"IF('Mapa oferta'!BM422<>\"\",'Mapa oferta'!BM422,\"\")","v":""},{"$f":"IF('Mapa oferta'!CG422<>\"\",'Mapa oferta'!CG422,\"\")","v":""}]
[null,{"$f":"IF('Mapa oferta'!B423<>\"\",'Mapa oferta'!B423,\"\")","v":""},{"$f":"IF('Mapa oferta'!G423<>\"\",'Mapa oferta'!G423,\"\")","v":""},{"$f":"IF('Mapa oferta'!I423<>\"\",'Mapa oferta'!I423,\"\")","v":""},{"$f":"IF('Mapa oferta'!BM423<>\"\",'Mapa oferta'!BM423,\"\")","v":""},{"$f":"IF('Mapa oferta'!CG423<>\"\",'Mapa oferta'!CG423,\"\")","v":""}]
[null,{"$f":"IF('Mapa oferta'!B424<>\"\",'Mapa oferta'!B424,\"\")","v":""},{"$f":"IF('Mapa oferta'!G424<>\"\",'Mapa oferta'!G424,\"\")","v":""},{"$f":"IF('Mapa oferta'!I424<>\"\",'Mapa oferta'!I424,\"\")","v":""},{"$f":"IF('Mapa oferta'!BM424<>\"\",'Mapa oferta'!BM424,\"\")","v":""},{"$f":"IF('Mapa oferta'!CG424<>\"\",'Mapa oferta'!CG424,\"\")","v":""}]
[null,{"$f":"IF('Mapa oferta'!B425<>\"\",'Mapa oferta'!B425,\"\")","v":""},{"$f":"IF('Mapa oferta'!G425<>\"\",'Mapa oferta'!G425,\"\")","v":""},{"$f":"IF('Mapa oferta'!I425<>\"\",'Mapa oferta'!I425,\"\")","v":""},{"$f":"IF('Mapa oferta'!BM425<>\"\",'Mapa oferta'!BM425,\"\")","v":""},{"$f":"IF('Mapa oferta'!CG425<>\"\",'Mapa oferta'!CG425,\"\")","v":""}]
[null,{"$f":"IF('Mapa oferta'!B426<>\"\",'Mapa oferta'!B426,\"\")","v":""},{"$f":"IF('Mapa oferta'!G426<>\"\",'Mapa oferta'!G426,\"\")","v":""},{"$f":"IF('Mapa oferta'!I426<>\"\",'Mapa oferta'!I426,\"\")","v":""},{"$f":"IF('Mapa oferta'!BM426<>\"\",'Mapa oferta'!BM426,\"\")","v":""},{"$f":"IF('Mapa oferta'!CG426<>\"\",'Mapa oferta'!CG426,\"\")","v":""}]
[null,{"$f":"IF('Mapa oferta'!B427<>\"\",'Mapa oferta'!B427,\"\")","v":""},{"$f":"IF('Mapa oferta'!G427<>\"\",'Mapa oferta'!G427,\"\")","v":""},{"$f":"IF('Mapa oferta'!I427<>\"\",'Mapa oferta'!I427,\"\")","v":""},{"$f":"IF('Mapa oferta'!BM427<>\"\",'Mapa oferta'!BM427,\"\")","v":""},{"$f":"IF('Mapa oferta'!CG427<>\"\",'Mapa oferta'!CG427,\"\")","v":""}]
[null,{"$f":"IF('Mapa oferta'!B428<>\"\",'Mapa oferta'!B428,\"\")","v":""},{"$f":"IF('Mapa oferta'!G428<>\"\",'Mapa oferta'!G428,\"\")","v":""},{"$f":"IF('Mapa oferta'!I428<>\"\",'Mapa oferta'!I428,\"\")","v":""},{"$f":"IF('Mapa oferta'!BM428<>\"\",'Mapa oferta'!BM428,\"\")","v":""},{"$f":"IF('Mapa oferta'!CG428<>\"\",'Mapa oferta'!CG428,\"\")","v":""}]
[null,{"$f":"IF('Mapa oferta'!B429<>\"\",'Mapa oferta'!B429,\"\")","v":""},{"$f":"IF('Mapa oferta'!G429<>\"\",'Mapa oferta'!G429,\"\")","v":""},{"$f":"IF('Mapa oferta'!I429<>\"\",'Mapa oferta'!I429,\"\")","v":""},{"$f":"IF('Mapa oferta'!BM429<>\"\",'Mapa oferta'!BM429,\"\")","v":""},{"$f":"IF('Mapa oferta'!CG429<>\"\",'Mapa oferta'!CG429,\"\")","v":""}]
[null,{"$f":"IF('Mapa oferta'!B430<>\"\",'Mapa oferta'!B430,\"\")","v":""},{"$f":"IF('Mapa oferta'!G430<>\"\",'Mapa oferta'!G430,\"\")","v":""},{"$f":"IF('Mapa oferta'!I430<>\"\",'Mapa oferta'!I430,\"\")","v":""},{"$f":"IF('Mapa oferta'!BM430<>\"\",'Mapa oferta'!BM430,\"\")","v":""},{"$f":"IF('Mapa oferta'!CG430<>\"\",'Mapa oferta'!CG430,\"\")","v":""}]
[null,{"$f":"IF('Mapa oferta'!B431<>\"\",'Mapa oferta'!B431,\"\")","v":""},{"$f":"IF('Mapa oferta'!G431<>\"\",'Mapa oferta'!G431,\"\")","v":""},{"$f":"IF('Mapa oferta'!I431<>\"\",'Mapa oferta'!I431,\"\")","v":""},{"$f":"IF('Mapa oferta'!BM431<>\"\",'Mapa oferta'!BM431,\"\")","v":""},{"$f":"IF('Mapa oferta'!CG431<>\"\",'Mapa oferta'!CG431,\"\")","v":""}]
[null,{"$f":"IF('Mapa oferta'!B432<>\"\",'Mapa oferta'!B432,\"\")","v":""},{"$f":"IF('Mapa oferta'!G432<>\"\",'Mapa oferta'!G432,\"\")","v":""},{"$f":"IF('Mapa oferta'!I432<>\"\",'Mapa oferta'!I432,\"\")","v":""},{"$f":"IF('Mapa oferta'!BM432<>\"\",'Mapa oferta'!BM432,\"\")","v":""},{"$f":"IF('Mapa oferta'!CG432<>\"\",'Mapa oferta'!CG432,\"\")","v":""}]
[null,{"$f":"IF('Mapa oferta'!B433<>\"\",'Mapa oferta'!B433,\"\")","v":""},{"$f":"IF('Mapa oferta'!G433<>\"\",'Mapa oferta'!G433,\"\")","v":""},{"$f":"IF('Mapa oferta'!I433<>\"\",'Mapa oferta'!I433,\"\")","v":""},{"$f":"IF('Mapa oferta'!BM433<>\"\",'Mapa oferta'!BM433,\"\")","v":""},{"$f":"IF('Mapa oferta'!CG433<>\"\",'Mapa oferta'!CG433,\"\")","v":""}]
[null,{"$f":"IF('Mapa oferta'!B434<>\"\",'Mapa oferta'!B434,\"\")","v":""},{"$f":"IF('Mapa oferta'!G434<>\"\",'Mapa oferta'!G434,\"\")","v":""},{"$f":"IF('Mapa oferta'!I434<>\"\",'Mapa oferta'!I434,\"\")","v":""},{"$f":"IF('Mapa oferta'!BM434<>\"\",'Mapa oferta'!BM434,\"\")","v":""},{"$f":"IF('Mapa oferta'!CG434<>\"\",'Mapa oferta'!CG434,\"\")","v":""}]
[null,{"$f":"IF('Mapa oferta'!B435<>\"\",'Mapa oferta'!B435,\"\")","v":""},{"$f":"IF('Mapa oferta'!G435<>\"\",'Mapa oferta'!G435,\"\")","v":""},{"$f":"IF('Mapa oferta'!I435<>\"\",'Mapa oferta'!I435,\"\")","v":""},{"$f":"IF('Mapa oferta'!BM435<>\"\",'Mapa oferta'!BM435,\"\")","v":""},{"$f":"IF('Mapa oferta'!CG435<>\"\",'Mapa oferta'!CG435,\"\")","v":""}]
[null,{"$f":"IF('Mapa oferta'!B436<>\"\",'Mapa oferta'!B436,\"\")","v":""},{"$f":"IF('Mapa oferta'!G436<>\"\",'Mapa oferta'!G436,\"\")","v":""},{"$f":"IF('Mapa oferta'!I436<>\"\",'Mapa oferta'!I436,\"\")","v":""},{"$f":"IF('Mapa oferta'!BM436<>\"\",'Mapa oferta'!BM436,\"\")","v":""},{"$f":"IF('Mapa oferta'!CG436<>\"\",'Mapa oferta'!CG436,\"\")","v":""}]
[null,{"$f":"IF('Mapa oferta'!B437<>\"\",'Mapa oferta'!B437,\"\")","v":""},{"$f":"IF('Mapa oferta'!G437<>\"\",'Mapa oferta'!G437,\"\")","v":""},{"$f":"IF('Mapa oferta'!I437<>\"\",'Mapa oferta'!I437,\"\")","v":""},{"$f":"IF('Mapa oferta'!BM437<>\"\",'Mapa oferta'!BM437,\"\")","v":""},{"$f":"IF('Mapa oferta'!CG437<>\"\",'Mapa oferta'!CG437,\"\")","v":""}]
[null,{"$f":"IF('Mapa oferta'!B438<>\"\",'Mapa oferta'!B438,\"\")","v":""},{"$f":"IF('Mapa oferta'!G438<>\"\",'Mapa oferta'!G438,\"\")","v":""},{"$f":"IF('Mapa oferta'!I438<>\"\",'Mapa oferta'!I438,\"\")","v":""},{"$f":"IF('Mapa oferta'!BM438<>\"\",'Mapa oferta'!BM438,\"\")","v":""},{"$f":"IF('Mapa oferta'!CG438<>\"\",'Mapa oferta'!CG438,\"\")","v":""}]
[null,{"$f":"IF('Mapa oferta'!B439<>\"\",'Mapa oferta'!B439,\"\")","v":""},{"$f":"IF('Mapa oferta'!G439<>\"\",'Mapa oferta'!G439,\"\")","v":""},{"$f":"IF('Mapa oferta'!I439<>\"\",'Mapa oferta'!I439,\"\")","v":""},{"$f":"IF('Mapa oferta'!BM439<>\"\",'Mapa oferta'!BM439,\"\")","v":""},{"$f":"IF('Mapa oferta'!CG439<>\"\",'Mapa oferta'!CG439,\"\")","v":""}]
[null,{"$f":"IF('Mapa oferta'!B440<>\"\",'Mapa oferta'!B440,\"\")","v":""},{"$f":"IF('Mapa oferta'!G440<>\"\",'Mapa oferta'!G440,\"\")","v":""},{"$f":"IF('Mapa oferta'!I440<>\"\",'Mapa oferta'!I440,\"\")","v":""},{"$f":"IF('Mapa oferta'!BM440<>\"\",'Mapa oferta'!BM440,\"\")","v":""},{"$f":"IF('Mapa oferta'!CG440<>\"\",'Mapa oferta'!CG440,\"\")","v":""}]
[null,{"$f":"IF('Mapa oferta'!B441<>\"\",'Mapa oferta'!B441,\"\")","v":""},{"$f":"IF('Mapa oferta'!G441<>\"\",'Mapa oferta'!G441,\"\")","v":""},{"$f":"IF('Mapa oferta'!I441<>\"\",'Mapa oferta'!I441,\"\")","v":""},{"$f":"IF('Mapa oferta'!BM441<>\"\",'Mapa oferta'!BM441,\"\")","v":""},{"$f":"IF('Mapa oferta'!CG441<>\"\",'Mapa oferta'!CG441,\"\")","v":""}]
[null,{"$f":"IF('Mapa oferta'!B442<>\"\",'Mapa oferta'!B442,\"\")","v":""},{"$f":"IF('Mapa oferta'!G442<>\"\",'Mapa oferta'!G442,\"\")","v":""},{"$f":"IF('Mapa oferta'!I442<>\"\",'Mapa oferta'!I442,\"\")","v":""},{"$f":"IF('Mapa oferta'!BM442<>\"\",'Mapa oferta'!BM442,\"\")","v":""},{"$f":"IF('Mapa oferta'!CG442<>\"\",'Mapa oferta'!CG442,\"\")","v":""}]
[null,{"$f":"IF('Mapa oferta'!B443<>\"\",'Mapa oferta'!B443,\"\")","v":""},{"$f":"IF('Mapa oferta'!G443<>\"\",'Mapa oferta'!G443,\"\")","v":""},{"$f":"IF('Mapa oferta'!I443<>\"\",'Mapa oferta'!I443,\"\")","v":""},{"$f":"IF('Mapa oferta'!BM443<>\"\",'Mapa oferta'!BM443,\"\")","v":""},{"$f":"IF('Mapa oferta'!CG443<>\"\",'Mapa oferta'!CG443,\"\")","v":""}]
[null,{"$f":"IF('Mapa oferta'!B444<>\"\",'Mapa oferta'!B444,\"\")","v":""},{"$f":"IF('Mapa oferta'!G444<>\"\",'Mapa oferta'!G444,\"\")","v":""},{"$f":"IF('Mapa oferta'!I444<>\"\",'Mapa oferta'!I444,\"\")","v":""},{"$f":"IF('Mapa oferta'!BM444<>\"\",'Mapa oferta'!BM444,\"\")","v":""},{"$f":"IF('Mapa oferta'!CG444<>\"\",'Mapa oferta'!CG444,\"\")","v":""}]
[null,{"$f":"IF('Mapa oferta'!B445<>\"\",'Mapa oferta'!B445,\"\")","v":""},{"$f":"IF('Mapa oferta'!G445<>\"\",'Mapa oferta'!G445,\"\")","v":""},{"$f":"IF('Mapa oferta'!I445<>\"\",'Mapa oferta'!I445,\"\")","v":""},{"$f":"IF('Mapa oferta'!BM445<>\"\",'Mapa oferta'!BM445,\"\")","v":""},{"$f":"IF('Mapa oferta'!CG445<>\"\",'Mapa oferta'!CG445,\"\")","v":""}]
[null,{"$f":"IF('Mapa oferta'!B446<>\"\",'Mapa oferta'!B446,\"\")","v":""},{"$f":"IF('Mapa oferta'!G446<>\"\",'Mapa oferta'!G446,\"\")","v":""},{"$f":"IF('Mapa oferta'!I446<>\"\",'Mapa oferta'!I446,\"\")","v":""},{"$f":"IF('Mapa oferta'!BM446<>\"\",'Mapa oferta'!BM446,\"\")","v":""},{"$f":"IF('Mapa oferta'!CG446<>\"\",'Mapa oferta'!CG446,\"\")","v":""}]
[null,{"$f":"IF('Mapa oferta'!B447<>\"\",'Mapa oferta'!B447,\"\")","v":""},{"$f":"IF('Mapa oferta'!G447<>\"\",'Mapa oferta'!G447,\"\")","v":""},{"$f":"IF('Mapa oferta'!I447<>\"\",'Mapa oferta'!I447,\"\")","v":""},{"$f":"IF('Mapa oferta'!BM447<>\"\",'Mapa oferta'!BM447,\"\")","v":""},{"$f":"IF('Mapa oferta'!CG447<>\"\",'Mapa oferta'!CG447,\"\")","v":""}]
[null,{"$f":"IF('Mapa oferta'!B448<>\"\",'Mapa oferta'!B448,\"\")","v":""},{"$f":"IF('Mapa oferta'!G448<>\"\",'Mapa oferta'!G448,\"\")","v":""},{"$f":"IF('Mapa oferta'!I448<>\"\",'Mapa oferta'!I448,\"\")","v":""},{"$f":"IF('Mapa oferta'!BM448<>\"\",'Mapa oferta'!BM448,\"\")","v":""},{"$f":"IF('Mapa oferta'!CG448<>\"\",'Mapa oferta'!CG448,\"\")","v":""}]
[null,{"$f":"IF('Mapa oferta'!B449<>\"\",'Mapa oferta'!B449,\"\")","v":""},{"$f":"IF('Mapa oferta'!G449<>\"\",'Mapa oferta'!G449,\"\")","v":""},{"$f":"IF('Mapa oferta'!I449<>\"\",'Mapa oferta'!I449,\"\")","v":""},{"$f":"IF('Mapa oferta'!BM449<>\"\",'Mapa oferta'!BM449,\"\")","v":""},{"$f":"IF('Mapa oferta'!CG449<>\"\",'Mapa oferta'!CG449,\"\")","v":""}]
[null,{"$f":"IF('Mapa oferta'!B450<>\"\",'Mapa oferta'!B450,\"\")","v":""},{"$f":"IF('Mapa oferta'!G450<>\"\",'Mapa oferta'!G450,\"\")","v":""},{"$f":"IF('Mapa oferta'!I450<>\"\",'Mapa oferta'!I450,\"\")","v":""},{"$f":"IF('Mapa oferta'!BM450<>\"\",'Mapa oferta'!BM450,\"\")","v":""},{"$f":"IF('Mapa oferta'!CG450<>\"\",'Mapa oferta'!CG450,\"\")","v":""}]
[null,{"$f":"IF('Mapa oferta'!B451<>\"\",'Mapa oferta'!B451,\"\")","v":""},{"$f":"IF('Mapa oferta'!G451<>\"\",'Mapa oferta'!G451,\"\")","v":""},{"$f":"IF('Mapa oferta'!I451<>\"\",'Mapa oferta'!I451,\"\")","v":""},{"$f":"IF('Mapa oferta'!BM451<>\"\",'Mapa oferta'!BM451,\"\")","v":""},{"$f":"IF('Mapa oferta'!CG451<>\"\",'Mapa oferta'!CG451,\"\")","v":""}]
[null,{"$f":"IF('Mapa oferta'!B452<>\"\",'Mapa oferta'!B452,\"\")","v":""},{"$f":"IF('Mapa oferta'!G452<>\"\",'Mapa oferta'!G452,\"\")","v":""},{"$f":"IF('Mapa oferta'!I452<>\"\",'Mapa oferta'!I452,\"\")","v":""},{"$f":"IF('Mapa oferta'!BM452<>\"\",'Mapa oferta'!BM452,\"\")","v":""},{"$f":"IF('Mapa oferta'!CG452<>\"\",'Mapa oferta'!CG452,\"\")","v":""}]
[null,{"$f":"IF('Mapa oferta'!B453<>\"\",'Mapa oferta'!B453,\"\")","v":""},{"$f":"IF('Mapa oferta'!G453<>\"\",'Mapa oferta'!G453,\"\")","v":""},{"$f":"IF('Mapa oferta'!I453<>\"\",'Mapa oferta'!I453,\"\")","v":""},{"$f":"IF('Mapa oferta'!BM453<>\"\",'Mapa oferta'!BM453,\"\")","v":""},{"$f":"IF('Mapa oferta'!CG453<>\"\",'Mapa oferta'!CG453,\"\")","v":""}]
[null,{"$f":"IF('Mapa oferta'!B454<>\"\",'Mapa oferta'!B454,\"\")","v":""},{"$f":"IF('Mapa oferta'!G454<>\"\",'Mapa oferta'!G454,\"\")","v":""},{"$f":"IF('Mapa oferta'!I454<>\"\",'Mapa oferta'!I454,\"\")","v":""},{"$f":"IF('Mapa oferta'!BM454<>\"\",'Mapa oferta'!BM454,\"\")","v":""},{"$f":"IF('Mapa oferta'!CG454<>\"\",'Mapa oferta'!CG454,\"\")","v":""}]
[null,{"$f":"IF('Mapa oferta'!B455<>\"\",'Mapa oferta'!B455,\"\")","v":""},{"$f":"IF('Mapa oferta'!G455<>\"\",'Mapa oferta'!G455,\"\")","v":""},{"$f":"IF('Mapa oferta'!I455<>\"\",'Mapa oferta'!I455,\"\")","v":""},{"$f":"IF('Mapa oferta'!BM455<>\"\",'Mapa oferta'!BM455,\"\")","v":""},{"$f":"IF('Mapa oferta'!CG455<>\"\",'Mapa oferta'!CG455,\"\")","v":""}]
[null,{"$f":"IF('Mapa oferta'!B456<>\"\",'Mapa oferta'!B456,\"\")","v":""},{"$f":"IF('Mapa oferta'!G456<>\"\",'Mapa oferta'!G456,\"\")","v":""},{"$f":"IF('Mapa oferta'!I456<>\"\",'Mapa oferta'!I456,\"\")","v":""},{"$f":"IF('Mapa oferta'!BM456<>\"\",'Mapa oferta'!BM456,\"\")","v":""},{"$f":"IF('Mapa oferta'!CG456<>\"\",'Mapa oferta'!CG456,\"\")","v":""}]
[null,{"$f":"IF('Mapa oferta'!B457<>\"\",'Mapa oferta'!B457,\"\")","v":""},{"$f":"IF('Mapa oferta'!G457<>\"\",'Mapa oferta'!G457,\"\")","v":""},{"$f":"IF('Mapa oferta'!I457<>\"\",'Mapa oferta'!I457,\"\")","v":""},{"$f":"IF('Mapa oferta'!BM457<>\"\",'Mapa oferta'!BM457,\"\")","v":""},{"$f":"IF('Mapa oferta'!CG457<>\"\",'Mapa oferta'!CG457,\"\")","v":""}]
[null,{"$f":"IF('Mapa oferta'!B458<>\"\",'Mapa oferta'!B458,\"\")","v":""},{"$f":"IF('Mapa oferta'!G458<>\"\",'Mapa oferta'!G458,\"\")","v":""},{"$f":"IF('Mapa oferta'!I458<>\"\",'Mapa oferta'!I458,\"\")","v":""},{"$f":"IF('Mapa oferta'!BM458<>\"\",'Mapa oferta'!BM458,\"\")","v":""},{"$f":"IF('Mapa oferta'!CG458<>\"\",'Mapa oferta'!CG458,\"\")","v":""}]
[null,{"$f":"IF('Mapa oferta'!B459<>\"\",'Mapa oferta'!B459,\"\")","v":""},{"$f":"IF('Mapa oferta'!G459<>\"\",'Mapa oferta'!G459,\"\")","v":""},{"$f":"IF('Mapa oferta'!I459<>\"\",'Mapa oferta'!I459,\"\")","v":""},{"$f":"IF('Mapa oferta'!BM459<>\"\",'Mapa oferta'!BM459,\"\")","v":""},{"$f":"IF('Mapa oferta'!CG459<>\"\",'Mapa oferta'!CG459,\"\")","v":""}]
[null,{"$f":"IF('Mapa oferta'!B460<>\"\",'Mapa oferta'!B460,\"\")","v":""},{"$f":"IF('Mapa oferta'!G460<>\"\",'Mapa oferta'!G460,\"\")","v":""},{"$f":"IF('Mapa oferta'!I460<>\"\",'Mapa oferta'!I460,\"\")","v":""},{"$f":"IF('Mapa oferta'!BM460<>\"\",'Mapa oferta'!BM460,\"\")","v":""},{"$f":"IF('Mapa oferta'!CG460<>\"\",'Mapa oferta'!CG460,\"\")","v":""}]
[null,{"$f":"IF('Mapa oferta'!B461<>\"\",'Mapa oferta'!B461,\"\")","v":""},{"$f":"IF('Mapa oferta'!G461<>\"\",'Mapa oferta'!G461,\"\")","v":""},{"$f":"IF('Mapa oferta'!I461<>\"\",'Mapa oferta'!I461,\"\")","v":""},{"$f":"IF('Mapa oferta'!BM461<>\"\",'Mapa oferta'!BM461,\"\")","v":""},{"$f":"IF('Mapa oferta'!CG461<>\"\",'Mapa oferta'!CG461,\"\")","v":""}]
[null,{"$f":"IF('Mapa oferta'!B462<>\"\",'Mapa oferta'!B462,\"\")","v":""},{"$f":"IF('Mapa oferta'!G462<>\"\",'Mapa oferta'!G462,\"\")","v":""},{"$f":"IF('Mapa oferta'!I462<>\"\",'Mapa oferta'!I462,\"\")","v":""},{"$f":"IF('Mapa oferta'!BM462<>\"\",'Mapa oferta'!BM462,\"\")","v":""},{"$f":"IF('Mapa oferta'!CG462<>\"\",'Mapa oferta'!CG462,\"\")","v":""}]
[null,{"$f":"IF('Mapa oferta'!B463<>\"\",'Mapa oferta'!B463,\"\")","v":""},{"$f":"IF('Mapa oferta'!G463<>\"\",'Mapa oferta'!G463,\"\")","v":""},{"$f":"IF('Mapa oferta'!I463<>\"\",'Mapa oferta'!I463,\"\")","v":""},{"$f":"IF('Mapa oferta'!BM463<>\"\",'Mapa oferta'!BM463,\"\")","v":""},{"$f":"IF('Mapa oferta'!CG463<>\"\",'Mapa oferta'!CG463,\"\")","v":""}]
[null,{"$f":"IF('Mapa oferta'!B464<>\"\",'Mapa oferta'!B464,\"\")","v":""},{"$f":"IF('Mapa oferta'!G464<>\"\",'Mapa oferta'!G464,\"\")","v":""},{"$f":"IF('Mapa oferta'!I464<>\"\",'Mapa oferta'!I464,\"\")","v":""},{"$f":"IF('Mapa oferta'!BM464<>\"\",'Mapa oferta'!BM464,\"\")","v":""},{"$f":"IF('Mapa oferta'!CG464<>\"\",'Mapa oferta'!CG464,\"\")","v":""}]
[null,{"$f":"IF('Mapa oferta'!B465<>\"\",'Mapa oferta'!B465,\"\")","v":""},{"$f":"IF('Mapa oferta'!G465<>\"\",'Mapa oferta'!G465,\"\")","v":""},{"$f":"IF('Mapa oferta'!I465<>\"\",'Mapa oferta'!I465,\"\")","v":""},{"$f":"IF('Mapa oferta'!BM465<>\"\",'Mapa oferta'!BM465,\"\")","v":""},{"$f":"IF('Mapa oferta'!CG465<>\"\",'Mapa oferta'!CG465,\"\")","v":""}]
[null,{"$f":"IF('Mapa oferta'!B466<>\"\",'Mapa oferta'!B466,\"\")","v":""},{"$f":"IF('Mapa oferta'!G466<>\"\",'Mapa oferta'!G466,\"\")","v":""},{"$f":"IF('Mapa oferta'!I466<>\"\",'Mapa oferta'!I466,\"\")","v":""},{"$f":"IF('Mapa oferta'!BM466<>\"\",'Mapa oferta'!BM466,\"\")","v":""},{"$f":"IF('Mapa oferta'!CG466<>\"\",'Mapa oferta'!CG466,\"\")","v":""}]
[null,{"$f":"IF('Mapa oferta'!B467<>\"\",'Mapa oferta'!B467,\"\")","v":""},{"$f":"IF('Mapa oferta'!G467<>\"\",'Mapa oferta'!G467,\"\")","v":""},{"$f":"IF('Mapa oferta'!I467<>\"\",'Mapa oferta'!I467,\"\")","v":""},{"$f":"IF('Mapa oferta'!BM467<>\"\",'Mapa oferta'!BM467,\"\")","v":""},{"$f":"IF('Mapa oferta'!CG467<>\"\",'Mapa oferta'!CG467,\"\")","v":""}]
[null,{"$f":"IF('Mapa oferta'!B468<>\"\",'Mapa oferta'!B468,\"\")","v":""},{"$f":"IF('Mapa oferta'!G468<>\"\",'Mapa oferta'!G468,\"\")","v":""},{"$f":"IF('Mapa oferta'!I468<>\"\",'Mapa oferta'!I468,\"\")","v":""},{"$f":"IF('Mapa oferta'!BM468<>\"\",'Mapa oferta'!BM468,\"\")","v":""},{"$f":"IF('Mapa oferta'!CG468<>\"\",'Mapa oferta'!CG468,\"\")","v":""}]
[null,{"$f":"IF('Mapa oferta'!B469<>\"\",'Mapa oferta'!B469,\"\")","v":""},{"$f":"IF('Mapa oferta'!G469<>\"\",'Mapa oferta'!G469,\"\")","v":""},{"$f":"IF('Mapa oferta'!I469<>\"\",'Mapa oferta'!I469,\"\")","v":""},{"$f":"IF('Mapa oferta'!BM469<>\"\",'Mapa oferta'!BM469,\"\")","v":""},{"$f":"IF('Mapa oferta'!CG469<>\"\",'Mapa oferta'!CG469,\"\")","v":""}]
[null,{"$f":"IF('Mapa oferta'!B470<>\"\",'Mapa oferta'!B470,\"\")","v":""},{"$f":"IF('Mapa oferta'!G470<>\"\",'Mapa oferta'!G470,\"\")","v":""},{"$f":"IF('Mapa oferta'!I470<>\"\",'Mapa oferta'!I470,\"\")","v":""},{"$f":"IF('Mapa oferta'!BM470<>\"\",'Mapa oferta'!BM470,\"\")","v":""},{"$f":"IF('Mapa oferta'!CG470<>\"\",'Mapa oferta'!CG470,\"\")","v":""}]
[null,{"$f":"IF('Mapa oferta'!B471<>\"\",'Mapa oferta'!B471,\"\")","v":""},{"$f":"IF('Mapa oferta'!G471<>\"\",'Mapa oferta'!G471,\"\")","v":""},{"$f":"IF('Mapa oferta'!I471<>\"\",'Mapa oferta'!I471,\"\")","v":""},{"$f":"IF('Mapa oferta'!BM471<>\"\",'Mapa oferta'!BM471,\"\")","v":""},{"$f":"IF('Mapa oferta'!CG471<>\"\",'Mapa oferta'!CG471,\"\")","v":""}]
[null,{"$f":"IF('Mapa oferta'!B472<>\"\",'Mapa oferta'!B472,\"\")","v":""},{"$f":"IF('Mapa oferta'!G472<>\"\",'Mapa oferta'!G472,\"\")","v":""},{"$f":"IF('Mapa oferta'!I472<>\"\",'Mapa oferta'!I472,\"\")","v":""},{"$f":"IF('Mapa oferta'!BM472<>\"\",'Mapa oferta'!BM472,\"\")","v":""},{"$f":"IF('Mapa oferta'!CG472<>\"\",'Mapa oferta'!CG472,\"\")","v":""}]
[null,{"$f":"IF('Mapa oferta'!B473<>\"\",'Mapa oferta'!B473,\"\")","v":""},{"$f":"IF('Mapa oferta'!G473<>\"\",'Mapa oferta'!G473,\"\")","v":""},{"$f":"IF('Mapa oferta'!I473<>\"\",'Mapa oferta'!I473,\"\")","v":""},{"$f":"IF('Mapa oferta'!BM473<>\"\",'Mapa oferta'!BM473,\"\")","v":""},{"$f":"IF('Mapa oferta'!CG473<>\"\",'Mapa oferta'!CG473,\"\")","v":""}]
[null,{"$f":"IF('Mapa oferta'!B474<>\"\",'Mapa oferta'!B474,\"\")","v":""},{"$f":"IF('Mapa oferta'!G474<>\"\",'Mapa oferta'!G474,\"\")","v":""},{"$f":"IF('Mapa oferta'!I474<>\"\",'Mapa oferta'!I474,\"\")","v":""},{"$f":"IF('Mapa oferta'!BM474<>\"\",'Mapa oferta'!BM474,\"\")","v":""},{"$f":"IF('Mapa oferta'!CG474<>\"\",'Mapa oferta'!CG474,\"\")","v":""}]
[null,{"$f":"IF('Mapa oferta'!B475<>\"\",'Mapa oferta'!B475,\"\")","v":""},{"$f":"IF('Mapa oferta'!G475<>\"\",'Mapa oferta'!G475,\"\")","v":""},{"$f":"IF('Mapa oferta'!I475<>\"\",'Mapa oferta'!I475,\"\")","v":""},{"$f":"IF('Mapa oferta'!BM475<>\"\",'Mapa oferta'!BM475,\"\")","v":""},{"$f":"IF('Mapa oferta'!CG475<>\"\",'Mapa oferta'!CG475,\"\")","v":""}]
[null,{"$f":"IF('Mapa oferta'!B476<>\"\",'Mapa oferta'!B476,\"\")","v":""},{"$f":"IF('Mapa oferta'!G476<>\"\",'Mapa oferta'!G476,\"\")","v":""},{"$f":"IF('Mapa oferta'!I476<>\"\",'Mapa oferta'!I476,\"\")","v":""},{"$f":"IF('Mapa oferta'!BM476<>\"\",'Mapa oferta'!BM476,\"\")","v":""},{"$f":"IF('Mapa oferta'!CG476<>\"\",'Mapa oferta'!CG476,\"\")","v":""}]
[null,{"$f":"IF('Mapa oferta'!B477<>\"\",'Mapa oferta'!B477,\"\")","v":""},{"$f":"IF('Mapa oferta'!G477<>\"\",'Mapa oferta'!G477,\"\")","v":""},{"$f":"IF('Mapa oferta'!I477<>\"\",'Mapa oferta'!I477,\"\")","v":""},{"$f":"IF('Mapa oferta'!BM477<>\"\",'Mapa oferta'!BM477,\"\")","v":""},{"$f":"IF('Mapa oferta'!CG477<>\"\",'Mapa oferta'!CG477,\"\")","v":""}]
[null,{"$f":"IF('Mapa oferta'!B478<>\"\",'Mapa oferta'!B478,\"\")","v":""},{"$f":"IF('Mapa oferta'!G478<>\"\",'Mapa oferta'!G478,\"\")","v":""},{"$f":"IF('Mapa oferta'!I478<>\"\",'Mapa oferta'!I478,\"\")","v":""},{"$f":"IF('Mapa oferta'!BM478<>\"\",'Mapa oferta'!BM478,\"\")","v":""},{"$f":"IF('Mapa oferta'!CG478<>\"\",'Mapa oferta'!CG478,\"\")","v":""}]
[null,{"$f":"IF('Mapa oferta'!B479<>\"\",'Mapa oferta'!B479,\"\")","v":""},{"$f":"IF('Mapa oferta'!G479<>\"\",'Mapa oferta'!G479,\"\")","v":""},{"$f":"IF('Mapa oferta'!I479<>\"\",'Mapa oferta'!I479,\"\")","v":""},{"$f":"IF('Mapa oferta'!BM479<>\"\",'Mapa oferta'!BM479,\"\")","v":""},{"$f":"IF('Mapa oferta'!CG479<>\"\",'Mapa oferta'!CG479,\"\")","v":""}]
[null,{"$f":"IF('Mapa oferta'!B480<>\"\",'Mapa oferta'!B480,\"\")","v":""},{"$f":"IF('Mapa oferta'!G480<>\"\",'Mapa oferta'!G480,\"\")","v":""},{"$f":"IF('Mapa oferta'!I480<>\"\",'Mapa oferta'!I480,\"\")","v":""},{"$f":"IF('Mapa oferta'!BM480<>\"\",'Mapa oferta'!BM480,\"\")","v":""},{"$f":"IF('Mapa oferta'!CG480<>\"\",'Mapa oferta'!CG480,\"\")","v":""}]
[null,{"$f":"IF('Mapa oferta'!B481<>\"\",'Mapa oferta'!B481,\"\")","v":""},{"$f":"IF('Mapa oferta'!G481<>\"\",'Mapa oferta'!G481,\"\")","v":""},{"$f":"IF('Mapa oferta'!I481<>\"\",'Mapa oferta'!I481,\"\")","v":""},{"$f":"IF('Mapa oferta'!BM481<>\"\",'Mapa oferta'!BM481,\"\")","v":""},{"$f":"IF('Mapa oferta'!CG481<>\"\",'Mapa oferta'!CG481,\"\")","v":""}]
[null,{"$f":"IF('Mapa oferta'!B482<>\"\",'Mapa oferta'!B482,\"\")","v":""},{"$f":"IF('Mapa oferta'!G482<>\"\",'Mapa oferta'!G482,\"\")","v":""},{"$f":"IF('Mapa oferta'!I482<>\"\",'Mapa oferta'!I482,\"\")","v":""},{"$f":"IF('Mapa oferta'!BM482<>\"\",'Mapa oferta'!BM482,\"\")","v":""},{"$f":"IF('Mapa oferta'!CG482<>\"\",'Mapa oferta'!CG482,\"\")","v":""}]
[null,{"$f":"IF('Mapa oferta'!B483<>\"\",'Mapa oferta'!B483,\"\")","v":""},{"$f":"IF('Mapa oferta'!G483<>\"\",'Mapa oferta'!G483,\"\")","v":""},{"$f":"IF('Mapa oferta'!I483<>\"\",'Mapa oferta'!I483,\"\")","v":""},{"$f":"IF('Mapa oferta'!BM483<>\"\",'Mapa oferta'!BM483,\"\")","v":""},{"$f":"IF('Mapa oferta'!CG483<>\"\",'Mapa oferta'!CG483,\"\")","v":""}]
[null,{"$f":"IF('Mapa oferta'!B484<>\"\",'Mapa oferta'!B484,\"\")","v":""},{"$f":"IF('Mapa oferta'!G484<>\"\",'Mapa oferta'!G484,\"\")","v":""},{"$f":"IF('Mapa oferta'!I484<>\"\",'Mapa oferta'!I484,\"\")","v":""},{"$f":"IF('Mapa oferta'!BM484<>\"\",'Mapa oferta'!BM484,\"\")","v":""},{"$f":"IF('Mapa oferta'!CG484<>\"\",'Mapa oferta'!CG484,\"\")","v":""}]
[null,{"$f":"IF('Mapa oferta'!B485<>\"\",'Mapa oferta'!B485,\"\")","v":""},{"$f":"IF('Mapa oferta'!G485<>\"\",'Mapa oferta'!G485,\"\")","v":""},{"$f":"IF('Mapa oferta'!I485<>\"\",'Mapa oferta'!I485,\"\")","v":""},{"$f":"IF('Mapa oferta'!BM485<>\"\",'Mapa oferta'!BM485,\"\")","v":""},{"$f":"IF('Mapa oferta'!CG485<>\"\",'Mapa oferta'!CG485,\"\")","v":""}]
[null,{"$f":"IF('Mapa oferta'!B486<>\"\",'Mapa oferta'!B486,\"\")","v":""},{"$f":"IF('Mapa oferta'!G486<>\"\",'Mapa oferta'!G486,\"\")","v":""},{"$f":"IF('Mapa oferta'!I486<>\"\",'Mapa oferta'!I486,\"\")","v":""},{"$f":"IF('Mapa oferta'!BM486<>\"\",'Mapa oferta'!BM486,\"\")","v":""},{"$f":"IF('Mapa oferta'!CG486<>\"\",'Mapa oferta'!CG486,\"\")","v":""}]
[null,{"$f":"IF('Mapa oferta'!B487<>\"\",'Mapa oferta'!B487,\"\")","v":""},{"$f":"IF('Mapa oferta'!G487<>\"\",'Mapa oferta'!G487,\"\")","v":""},{"$f":"IF('Mapa oferta'!I487<>\"\",'Mapa oferta'!I487,\"\")","v":""},{"$f":"IF('Mapa oferta'!BM487<>\"\",'Mapa oferta'!BM487,\"\")","v":""},{"$f":"IF('Mapa oferta'!CG487<>\"\",'Mapa oferta'!CG487,\"\")","v":""}]
[null,{"$f":"IF('Mapa oferta'!B488<>\"\",'Mapa oferta'!B488,\"\")","v":""},{"$f":"IF('Mapa oferta'!G488<>\"\",'Mapa oferta'!G488,\"\")","v":""},{"$f":"IF('Mapa oferta'!I488<>\"\",'Mapa oferta'!I488,\"\")","v":""},{"$f":"IF('Mapa oferta'!BM488<>\"\",'Mapa oferta'!BM488,\"\")","v":""},{"$f":"IF('Mapa oferta'!CG488<>\"\",'Mapa oferta'!CG488,\"\")","v":""}]
[null,{"$f":"IF('Mapa oferta'!B489<>\"\",'Mapa oferta'!B489,\"\")","v":""},{"$f":"IF('Mapa oferta'!G489<>\"\",'Mapa oferta'!G489,\"\")","v":""},{"$f":"IF('Mapa oferta'!I489<>\"\",'Mapa oferta'!I489,\"\")","v":""},{"$f":"IF('Mapa oferta'!BM489<>\"\",'Mapa oferta'!BM489,\"\")","v":""},{"$f":"IF('Mapa oferta'!CG489<>\"\",'Mapa oferta'!CG489,\"\")","v":""}]
[null,{"$f":"IF('Mapa oferta'!B490<>\"\",'Mapa oferta'!B490,\"\")","v":""},{"$f":"IF('Mapa oferta'!G490<>\"\",'Mapa oferta'!G490,\"\")","v":""},{"$f":"IF('Mapa oferta'!I490<>\"\",'Mapa oferta'!I490,\"\")","v":""},{"$f":"IF('Mapa oferta'!BM490<>\"\",'Mapa oferta'!BM490,\"\")","v":""},{"$f":"IF('Mapa oferta'!CG490<>\"\",'Mapa oferta'!CG490,\"\")","v":""}]
[null,{"$f":"IF('Mapa oferta'!B491<>\"\",'Mapa oferta'!B491,\"\")","v":""},{"$f":"IF('Mapa oferta'!G491<>\"\",'Mapa oferta'!G491,\"\")","v":""},{"$f":"IF('Mapa oferta'!I491<>\"\",'Mapa oferta'!I491,\"\")","v":""},{"$f":"IF('Mapa oferta'!BM491<>\"\",'Mapa oferta'!BM491,\"\")","v":""},{"$f":"IF('Mapa oferta'!CG491<>\"\",'Mapa oferta'!CG491,\"\")","v":""}]
[null,{"$f":"IF('Mapa oferta'!B492<>\"\",'Mapa oferta'!B492,\"\")","v":""},{"$f":"IF('Mapa oferta'!G492<>\"\",'Mapa oferta'!G492,\"\")","v":""},{"$f":"IF('Mapa oferta'!I492<>\"\",'Mapa oferta'!I492,\"\")","v":""},{"$f":"IF('Mapa oferta'!BM492<>\"\",'Mapa oferta'!BM492,\"\")","v":""},{"$f":"IF('Mapa oferta'!CG492<>\"\",'Mapa oferta'!CG492,\"\")","v":""}]
[null,{"$f":"IF('Mapa oferta'!B493<>\"\",'Mapa oferta'!B493,\"\")","v":""},{"$f":"IF('Mapa oferta'!G493<>\"\",'Mapa oferta'!G493,\"\")","v":""},{"$f":"IF('Mapa oferta'!I493<>\"\",'Mapa oferta'!I493,\"\")","v":""},{"$f":"IF('Mapa oferta'!BM493<>\"\",'Mapa oferta'!BM493,\"\")","v":""},{"$f":"IF('Mapa oferta'!CG493<>\"\",'Mapa oferta'!CG493,\"\")","v":""}]
[null,{"$f":"IF('Mapa oferta'!B494<>\"\",'Mapa oferta'!B494,\"\")","v":""},{"$f":"IF('Mapa oferta'!G494<>\"\",'Mapa oferta'!G494,\"\")","v":""},{"$f":"IF('Mapa oferta'!I494<>\"\",'Mapa oferta'!I494,\"\")","v":""},{"$f":"IF('Mapa oferta'!BM494<>\"\",'Mapa oferta'!BM494,\"\")","v":""},{"$f":"IF('Mapa oferta'!CG494<>\"\",'Mapa oferta'!CG494,\"\")","v":""}]
[null,{"$f":"IF('Mapa oferta'!B495<>\"\",'Mapa oferta'!B495,\"\")","v":""},{"$f":"IF('Mapa oferta'!G495<>\"\",'Mapa oferta'!G495,\"\")","v":""},{"$f":"IF('Mapa oferta'!I495<>\"\",'Mapa oferta'!I495,\"\")","v":""},{"$f":"IF('Mapa oferta'!BM495<>\"\",'Mapa oferta'!BM495,\"\")","v":""},{"$f":"IF('Mapa oferta'!CG495<>\"\",'Mapa oferta'!CG495,\"\")","v":""}]
[null,{"$f":"IF('Mapa oferta'!B496<>\"\",'Mapa oferta'!B496,\"\")","v":""},{"$f":"IF('Mapa oferta'!G496<>\"\",'Mapa oferta'!G496,\"\")","v":""},{"$f":"IF('Mapa oferta'!I496<>\"\",'Mapa oferta'!I496,\"\")","v":""},{"$f":"IF('Mapa oferta'!BM496<>\"\",'Mapa oferta'!BM496,\"\")","v":""},{"$f":"IF('Mapa oferta'!CG496<>\"\",'Mapa oferta'!CG496,\"\")","v":""}]
[null,{"$f":"IF('Mapa oferta'!B497<>\"\",'Mapa oferta'!B497,\"\")","v":""},{"$f":"IF('Mapa oferta'!G497<>\"\",'Mapa oferta'!G497,\"\")","v":""},{"$f":"IF('Mapa oferta'!I497<>\"\",'Mapa oferta'!I497,\"\")","v":""},{"$f":"IF('Mapa oferta'!BM497<>\"\",'Mapa oferta'!BM497,\"\")","v":""},{"$f":"IF('Mapa oferta'!CG497<>\"\",'Mapa oferta'!CG497,\"\")","v":""}]
[null,{"$f":"IF('Mapa oferta'!B498<>\"\",'Mapa oferta'!B498,\"\")","v":""},{"$f":"IF('Mapa oferta'!G498<>\"\",'Mapa oferta'!G498,\"\")","v":""},{"$f":"IF('Mapa oferta'!I498<>\"\",'Mapa oferta'!I498,\"\")","v":""},{"$f":"IF('Mapa oferta'!BM498<>\"\",'Mapa oferta'!BM498,\"\")","v":""},{"$f":"IF('Mapa oferta'!CG498<>\"\",'Mapa oferta'!CG498,\"\")","v":""}]
[null,{"$f":"IF('Mapa oferta'!B499<>\"\",'Mapa oferta'!B499,\"\")","v":""},{"$f":"IF('Mapa oferta'!G499<>\"\",'Mapa oferta'!G499,\"\")","v":""},{"$f":"IF('Mapa oferta'!I499<>\"\",'Mapa oferta'!I499,\"\")","v":""},{"$f":"IF('Mapa oferta'!BM499<>\"\",'Mapa oferta'!BM499,\"\")","v":""},{"$f":"IF('Mapa oferta'!CG499<>\"\",'Mapa oferta'!CG499,\"\")","v":""}]
[null,{"$f":"IF('Mapa oferta'!B500<>\"\",'Mapa oferta'!B500,\"\")","v":""},{"$f":"IF('Mapa oferta'!G500<>\"\",'Mapa oferta'!G500,\"\")","v":""},{"$f":"IF('Mapa oferta'!I500<>\"\",'Mapa oferta'!I500,\"\")","v":""},{"$f":"IF('Mapa oferta'!BM500<>\"\",'Mapa oferta'!BM500,\"\")","v":""},{"$f":"IF('Mapa oferta'!CG500<>\"\",'Mapa oferta'!CG500,\"\")","v":""}]
[null,{"$f":"IF('Mapa oferta'!B501<>\"\",'Mapa oferta'!B501,\"\")","v":""},{"$f":"IF('Mapa oferta'!G501<>\"\",'Mapa oferta'!G501,\"\")","v":""},{"$f":"IF('Mapa oferta'!I501<>\"\",'Mapa oferta'!I501,\"\")","v":""},{"$f":"IF('Mapa oferta'!BM501<>\"\",'Mapa oferta'!BM501,\"\")","v":""},{"$f":"IF('Mapa oferta'!CG501<>\"\",'Mapa oferta'!CG501,\"\")","v":""}]
[null,{"$f":"IF('Mapa oferta'!B502<>\"\",'Mapa oferta'!B502,\"\")","v":""},{"$f":"IF('Mapa oferta'!G502<>\"\",'Mapa oferta'!G502,\"\")","v":""},{"$f":"IF('Mapa oferta'!I502<>\"\",'Mapa oferta'!I502,\"\")","v":""},{"$f":"IF('Mapa oferta'!BM502<>\"\",'Mapa oferta'!BM502,\"\")","v":""},{"$f":"IF('Mapa oferta'!CG502<>\"\",'Mapa oferta'!CG502,\"\")","v":""}]
[null,{"$f":"IF('Mapa oferta'!B503<>\"\",'Mapa oferta'!B503,\"\")","v":""},{"$f":"IF('Mapa oferta'!G503<>\"\",'Mapa oferta'!G503,\"\")","v":""},{"$f":"IF('Mapa oferta'!I503<>\"\",'Mapa oferta'!I503,\"\")","v":""},{"$f":"IF('Mapa oferta'!BM503<>\"\",'Mapa oferta'!BM503,\"\")","v":""},{"$f":"IF('Mapa oferta'!CG503<>\"\",'Mapa oferta'!CG503,\"\")","v":""}]
[null,{"$f":"IF('Mapa oferta'!B504<>\"\",'Mapa oferta'!B504,\"\")","v":""},{"$f":"IF('Mapa oferta'!G504<>\"\",'Mapa oferta'!G504,\"\")","v":""},{"$f":"IF('Mapa oferta'!I504<>\"\",'Mapa oferta'!I504,\"\")","v":""},{"$f":"IF('Mapa oferta'!BM504<>\"\",'Mapa oferta'!BM504,\"\")","v":""},{"$f":"IF('Mapa oferta'!CG504<>\"\",'Mapa oferta'!CG504,\"\")","v":""}]
[null,{"$f":"IF('Mapa oferta'!B505<>\"\",'Mapa oferta'!B505,\"\")","v":""},{"$f":"IF('Mapa oferta'!G505<>\"\",'Mapa oferta'!G505,\"\")","v":""},{"$f":"IF('Mapa oferta'!I505<>\"\",'Mapa oferta'!I505,\"\")","v":""},{"$f":"IF('Mapa oferta'!BM505<>\"\",'Mapa oferta'!BM505,\"\")","v":""},{"$f":"IF('Mapa oferta'!CG505<>\"\",'Mapa oferta'!CG505,\"\")","v":""}]
[null,{"$f":"IF('Mapa oferta'!B506<>\"\",'Mapa oferta'!B506,\"\")","v":""},{"$f":"IF('Mapa oferta'!G506<>\"\",'Mapa oferta'!G506,\"\")","v":""},{"$f":"IF('Mapa oferta'!I506<>\"\",'Mapa oferta'!I506,\"\")","v":""},{"$f":"IF('Mapa oferta'!BM506<>\"\",'Mapa oferta'!BM506,\"\")","v":""},{"$f":"IF('Mapa oferta'!CG506<>\"\",'Mapa oferta'!CG506,\"\")","v":""}]
[null,{"$f":"IF('Mapa oferta'!B507<>\"\",'Mapa oferta'!B507,\"\")","v":""},{"$f":"IF('Mapa oferta'!G507<>\"\",'Mapa oferta'!G507,\"\")","v":""},{"$f":"IF('Mapa oferta'!I507<>\"\",'Mapa oferta'!I507,\"\")","v":""},{"$f":"IF('Mapa oferta'!BM507<>\"\",'Mapa oferta'!BM507,\"\")","v":""},{"$f":"IF('Mapa oferta'!CG507<>\"\",'Mapa oferta'!CG507,\"\")","v":""}]
[null,{"$f":"IF('Mapa oferta'!B508<>\"\",'Mapa oferta'!B508,\"\")","v":""},{"$f":"IF('Mapa oferta'!G508<>\"\",'Mapa oferta'!G508,\"\")","v":""},{"$f":"IF('Mapa oferta'!I508<>\"\",'Mapa oferta'!I508,\"\")","v":""},{"$f":"IF('Mapa oferta'!BM508<>\"\",'Mapa oferta'!BM508,\"\")","v":""},{"$f":"IF('Mapa oferta'!CG508<>\"\",'Mapa oferta'!CG508,\"\")","v":""}]
[null,{"$f":"IF('Mapa oferta'!B509<>\"\",'Mapa oferta'!B509,\"\")","v":""},{"$f":"IF('Mapa oferta'!G509<>\"\",'Mapa oferta'!G509,\"\")","v":""},{"$f":"IF('Mapa oferta'!I509<>\"\",'Mapa oferta'!I509,\"\")","v":""},{"$f":"IF('Mapa oferta'!BM509<>\"\",'Mapa oferta'!BM509,\"\")","v":""},{"$f":"IF('Mapa oferta'!CG509<>\"\",'Mapa oferta'!CG509,\"\")","v":""}]
[null,{"$f":"IF('Mapa oferta'!B510<>\"\",'Mapa oferta'!B510,\"\")","v":""},{"$f":"IF('Mapa oferta'!G510<>\"\",'Mapa oferta'!G510,\"\")","v":""},{"$f":"IF('Mapa oferta'!I510<>\"\",'Mapa oferta'!I510,\"\")","v":""},{"$f":"IF('Mapa oferta'!BM510<>\"\",'Mapa oferta'!BM510,\"\")","v":""},{"$f":"IF('Mapa oferta'!CG510<>\"\",'Mapa oferta'!CG510,\"\")","v":""}]
[null,{"$f":"IF('Mapa oferta'!B511<>\"\",'Mapa oferta'!B511,\"\")","v":""},{"$f":"IF('Mapa oferta'!G511<>\"\",'Mapa oferta'!G511,\"\")","v":""},{"$f":"IF('Mapa oferta'!I511<>\"\",'Mapa oferta'!I511,\"\")","v":""},{"$f":"IF('Mapa oferta'!BM511<>\"\",'Mapa oferta'!BM511,\"\")","v":""},{"$f":"IF('Mapa oferta'!CG511<>\"\",'Mapa oferta'!CG511,\"\")","v":""}]
[null,{"$f":"IF('Mapa oferta'!B512<>\"\",'Mapa oferta'!B512,\"\")","v":""},{"$f":"IF('Mapa oferta'!G512<>\"\",'Mapa oferta'!G512,\"\")","v":""},{"$f":"IF('Mapa oferta'!I512<>\"\",'Mapa oferta'!I512,\"\")","v":""},{"$f":"IF('Mapa oferta'!BM512<>\"\",'Mapa oferta'!BM512,\"\")","v":""},{"$f":"IF('Mapa oferta'!CG512<>\"\",'Mapa oferta'!CG512,\"\")","v":""}]
[null,{"$f":"IF('Mapa oferta'!B513<>\"\",'Mapa oferta'!B513,\"\")","v":""},{"$f":"IF('Mapa oferta'!G513<>\"\",'Mapa oferta'!G513,\"\")","v":""},{"$f":"IF('Mapa oferta'!I513<>\"\",'Mapa oferta'!I513,\"\")","v":""},{"$f":"IF('Mapa oferta'!BM513<>\"\",'Mapa oferta'!BM513,\"\")","v":""},{"$f":"IF('Mapa oferta'!CG513<>\"\",'Mapa oferta'!CG513,\"\")","v":""}]
[null,{"$f":"IF('Mapa oferta'!B514<>\"\",'Mapa oferta'!B514,\"\")","v":""},{"$f":"IF('Mapa oferta'!G514<>\"\",'Mapa oferta'!G514,\"\")","v":""},{"$f":"IF('Mapa oferta'!I514<>\"\",'Mapa oferta'!I514,\"\")","v":""},{"$f":"IF('Mapa oferta'!BM514<>\"\",'Mapa oferta'!BM514,\"\")","v":""},{"$f":"IF('Mapa oferta'!CG514<>\"\",'Mapa oferta'!CG514,\"\")","v":""}]
[null,{"$f":"IF('Mapa oferta'!B515<>\"\",'Mapa oferta'!B515,\"\")","v":""},{"$f":"IF('Mapa oferta'!G515<>\"\",'Mapa oferta'!G515,\"\")","v":""},{"$f":"IF('Mapa oferta'!I515<>\"\",'Mapa oferta'!I515,\"\")","v":""},{"$f":"IF('Mapa oferta'!BM515<>\"\",'Mapa oferta'!BM515,\"\")","v":""},{"$f":"IF('Mapa oferta'!CG515<>\"\",'Mapa oferta'!CG515,\"\")","v":""}]
[null,{"$f":"IF('Mapa oferta'!B516<>\"\",'Mapa oferta'!B516,\"\")","v":""},{"$f":"IF('Mapa oferta'!G516<>\"\",'Mapa oferta'!G516,\"\")","v":""},{"$f":"IF('Mapa oferta'!I516<>\"\",'Mapa oferta'!I516,\"\")","v":""},{"$f":"IF('Mapa oferta'!BM516<>\"\",'Mapa oferta'!BM516,\"\")","v":""},{"$f":"IF('Mapa oferta'!CG516<>\"\",'Mapa oferta'!CG516,\"\")","v":""}]
[null,{"$f":"IF('Mapa oferta'!B517<>\"\",'Mapa oferta'!B517,\"\")","v":""},{"$f":"IF('Mapa oferta'!G517<>\"\",'Mapa oferta'!G517,\"\")","v":""},{"$f":"IF('Mapa oferta'!I517<>\"\",'Mapa oferta'!I517,\"\")","v":""},{"$f":"IF('Mapa oferta'!BM517<>\"\",'Mapa oferta'!BM517,\"\")","v":""},{"$f":"IF('Mapa oferta'!CG517<>\"\",'Mapa oferta'!CG517,\"\")","v":""}]
[null,{"$f":"IF('Mapa oferta'!B518<>\"\",'Mapa oferta'!B518,\"\")","v":""},{"$f":"IF('Mapa oferta'!G518<>\"\",'Mapa oferta'!G518,\"\")","v":""},{"$f":"IF('Mapa oferta'!I518<>\"\",'Mapa oferta'!I518,\"\")","v":""},{"$f":"IF('Mapa oferta'!BM518<>\"\",'Mapa oferta'!BM518,\"\")","v":""},{"$f":"IF('Mapa oferta'!CG518<>\"\",'Mapa oferta'!CG518,\"\")","v":""}]
[null,{"$f":"IF('Mapa oferta'!B519<>\"\",'Mapa oferta'!B519,\"\")","v":""},{"$f":"IF('Mapa oferta'!G519<>\"\",'Mapa oferta'!G519,\"\")","v":""},{"$f":"IF('Mapa oferta'!I519<>\"\",'Mapa oferta'!I519,\"\")","v":""},{"$f":"IF('Mapa oferta'!BM519<>\"\",'Mapa oferta'!BM519,\"\")","v":""},{"$f":"IF('Mapa oferta'!CG519<>\"\",'Mapa oferta'!CG519,\"\")","v":""}]
[null,{"$f":"IF('Mapa oferta'!B520<>\"\",'Mapa oferta'!B520,\"\")","v":""},{"$f":"IF('Mapa oferta'!G520<>\"\",'Mapa oferta'!G520,\"\")","v":""},{"$f":"IF('Mapa oferta'!I520<>\"\",'Mapa oferta'!I520,\"\")","v":""},{"$f":"IF('Mapa oferta'!BM520<>\"\",'Mapa oferta'!BM520,\"\")","v":""},{"$f":"IF('Mapa oferta'!CG520<>\"\",'Mapa oferta'!CG520,\"\")","v":""}]
[null,{"$f":"IF('Mapa oferta'!B521<>\"\",'Mapa oferta'!B521,\"\")","v":""},{"$f":"IF('Mapa oferta'!G521<>\"\",'Mapa oferta'!G521,\"\")","v":""},{"$f":"IF('Mapa oferta'!I521<>\"\",'Mapa oferta'!I521,\"\")","v":""},{"$f":"IF('Mapa oferta'!BM521<>\"\",'Mapa oferta'!BM521,\"\")","v":""},{"$f":"IF('Mapa oferta'!CG521<>\"\",'Mapa oferta'!CG521,\"\")","v":""}]
[null,{"$f":"IF('Mapa oferta'!B522<>\"\",'Mapa oferta'!B522,\"\")","v":""},{"$f":"IF('Mapa oferta'!G522<>\"\",'Mapa oferta'!G522,\"\")","v":""},{"$f":"IF('Mapa oferta'!I522<>\"\",'Mapa oferta'!I522,\"\")","v":""},{"$f":"IF('Mapa oferta'!BM522<>\"\",'Mapa oferta'!BM522,\"\")","v":""},{"$f":"IF('Mapa oferta'!CG522<>\"\",'Mapa oferta'!CG522,\"\")","v":""}]
[null,{"$f":"IF('Mapa oferta'!B523<>\"\",'Mapa oferta'!B523,\"\")","v":""},{"$f":"IF('Mapa oferta'!G523<>\"\",'Mapa oferta'!G523,\"\")","v":""},{"$f":"IF('Mapa oferta'!I523<>\"\",'Mapa oferta'!I523,\"\")","v":""},{"$f":"IF('Mapa oferta'!BM523<>\"\",'Mapa oferta'!BM523,\"\")","v":""},{"$f":"IF('Mapa oferta'!CG523<>\"\",'Mapa oferta'!CG523,\"\")","v":""}]
[null,{"$f":"IF('Mapa oferta'!B524<>\"\",'Mapa oferta'!B524,\"\")","v":""},{"$f":"IF('Mapa oferta'!G524<>\"\",'Mapa oferta'!G524,\"\")","v":""},{"$f":"IF('Mapa oferta'!I524<>\"\",'Mapa oferta'!I524,\"\")","v":""},{"$f":"IF('Mapa oferta'!BM524<>\"\",'Mapa oferta'!BM524,\"\")","v":""},{"$f":"IF('Mapa oferta'!CG524<>\"\",'Mapa oferta'!CG524,\"\")","v":""}]
[null,{"$f":"IF('Mapa oferta'!B525<>\"\",'Mapa oferta'!B525,\"\")","v":""},{"$f":"IF('Mapa oferta'!G525<>\"\",'Mapa oferta'!G525,\"\")","v":""},{"$f":"IF('Mapa oferta'!I525<>\"\",'Mapa oferta'!I525,\"\")","v":""},{"$f":"IF('Mapa oferta'!BM525<>\"\",'Mapa oferta'!BM525,\"\")","v":""},{"$f":"IF('Mapa oferta'!CG525<>\"\",'Mapa oferta'!CG525,\"\")","v":""}]
[null,{"$f":"IF('Mapa oferta'!B526<>\"\",'Mapa oferta'!B526,\"\")","v":""},{"$f":"IF('Mapa oferta'!G526<>\"\",'Mapa oferta'!G526,\"\")","v":""},{"$f":"IF('Mapa oferta'!I526<>\"\",'Mapa oferta'!I526,\"\")","v":""},{"$f":"IF('Mapa oferta'!BM526<>\"\",'Mapa oferta'!BM526,\"\")","v":""},{"$f":"IF('Mapa oferta'!CG526<>\"\",'Mapa oferta'!CG526,\"\")","v":""}]
[null,{"$f":"IF('Mapa oferta'!B527<>\"\",'Mapa oferta'!B527,\"\")","v":""},{"$f":"IF('Mapa oferta'!G527<>\"\",'Mapa oferta'!G527,\"\")","v":""},{"$f":"IF('Mapa oferta'!I527<>\"\",'Mapa oferta'!I527,\"\")","v":""},{"$f":"IF('Mapa oferta'!BM527<>\"\",'Mapa oferta'!BM527,\"\")","v":""},{"$f":"IF('Mapa oferta'!CG527<>\"\",'Mapa oferta'!CG527,\"\")","v":""}]
[null,{"$f":"IF('Mapa oferta'!B528<>\"\",'Mapa oferta'!B528,\"\")","v":""},{"$f":"IF('Mapa oferta'!G528<>\"\",'Mapa oferta'!G528,\"\")","v":""},{"$f":"IF('Mapa oferta'!I528<>\"\",'Mapa oferta'!I528,\"\")","v":""},{"$f":"IF('Mapa oferta'!BM528<>\"\",'Mapa oferta'!BM528,\"\")","v":""},{"$f":"IF('Mapa oferta'!CG528<>\"\",'Mapa oferta'!CG528,\"\")","v":""}]
[null,{"$f":"IF('Mapa oferta'!B529<>\"\",'Mapa oferta'!B529,\"\")","v":""},{"$f":"IF('Mapa oferta'!G529<>\"\",'Mapa oferta'!G529,\"\")","v":""},{"$f":"IF('Mapa oferta'!I529<>\"\",'Mapa oferta'!I529,\"\")","v":""},{"$f":"IF('Mapa oferta'!BM529<>\"\",'Mapa oferta'!BM529,\"\")","v":""},{"$f":"IF('Mapa oferta'!CG529<>\"\",'Mapa oferta'!CG529,\"\")","v":""}]
[null,{"$f":"IF('Mapa oferta'!B530<>\"\",'Mapa oferta'!B530,\"\")","v":""},{"$f":"IF('Mapa oferta'!G530<>\"\",'Mapa oferta'!G530,\"\")","v":""},{"$f":"IF('Mapa oferta'!I530<>\"\",'Mapa oferta'!I530,\"\")","v":""},{"$f":"IF('Mapa oferta'!BM530<>\"\",'Mapa oferta'!BM530,\"\")","v":""},{"$f":"IF('Mapa oferta'!CG530<>\"\",'Mapa oferta'!CG530,\"\")","v":""}]
[null,{"$f":"IF('Mapa oferta'!B531<>\"\",'Mapa oferta'!B531,\"\")","v":""},{"$f":"IF('Mapa oferta'!G531<>\"\",'Mapa oferta'!G531,\"\")","v":""},{"$f":"IF('Mapa oferta'!I531<>\"\",'Mapa oferta'!I531,\"\")","v":""},{"$f":"IF('Mapa oferta'!BM531<>\"\",'Mapa oferta'!BM531,\"\")","v":""},{"$f":"IF('Mapa oferta'!CG531<>\"\",'Mapa oferta'!CG531,\"\")","v":""}]
[null,{"$f":"IF('Mapa oferta'!B532<>\"\",'Mapa oferta'!B532,\"\")","v":""},{"$f":"IF('Mapa oferta'!G532<>\"\",'Mapa oferta'!G532,\"\")","v":""},{"$f":"IF('Mapa oferta'!I532<>\"\",'Mapa oferta'!I532,\"\")","v":""},{"$f":"IF('Mapa oferta'!BM532<>\"\",'Mapa oferta'!BM532,\"\")","v":""},{"$f":"IF('Mapa oferta'!CG532<>\"\",'Mapa oferta'!CG532,\"\")","v":""}]
[null,{"$f":"IF('Mapa oferta'!B533<>\"\",'Mapa oferta'!B533,\"\")","v":""},{"$f":"IF('Mapa oferta'!G533<>\"\",'Mapa oferta'!G533,\"\")","v":""},{"$f":"IF('Mapa oferta'!I533<>\"\",'Mapa oferta'!I533,\"\")","v":""},{"$f":"IF('Mapa oferta'!BM533<>\"\",'Mapa oferta'!BM533,\"\")","v":""},{"$f":"IF('Mapa oferta'!CG533<>\"\",'Mapa oferta'!CG533,\"\")","v":""}]
[null,{"$f":"IF('Mapa oferta'!B534<>\"\",'Mapa oferta'!B534,\"\")","v":""},{"$f":"IF('Mapa oferta'!G534<>\"\",'Mapa oferta'!G534,\"\")","v":""},{"$f":"IF('Mapa oferta'!I534<>\"\",'Mapa oferta'!I534,\"\")","v":""},{"$f":"IF('Mapa oferta'!BM534<>\"\",'Mapa oferta'!BM534,\"\")","v":""},{"$f":"IF('Mapa oferta'!CG534<>\"\",'Mapa oferta'!CG534,\"\")","v":""}]
[null,{"$f":"IF('Mapa oferta'!B535<>\"\",'Mapa oferta'!B535,\"\")","v":""},{"$f":"IF('Mapa oferta'!G535<>\"\",'Mapa oferta'!G535,\"\")","v":""},{"$f":"IF('Mapa oferta'!I535<>\"\",'Mapa oferta'!I535,\"\")","v":""},{"$f":"IF('Mapa oferta'!BM535<>\"\",'Mapa oferta'!BM535,\"\")","v":""},{"$f":"IF('Mapa oferta'!CG535<>\"\",'Mapa oferta'!CG535,\"\")","v":""}]
[null,{"$f":"IF('Mapa oferta'!B536<>\"\",'Mapa oferta'!B536,\"\")","v":""},{"$f":"IF('Mapa oferta'!G536<>\"\",'Mapa oferta'!G536,\"\")","v":""},{"$f":"IF('Mapa oferta'!I536<>\"\",'Mapa oferta'!I536,\"\")","v":""},{"$f":"IF('Mapa oferta'!BM536<>\"\",'Mapa oferta'!BM536,\"\")","v":""},{"$f":"IF('Mapa oferta'!CG536<>\"\",'Mapa oferta'!CG536,\"\")","v":""}]
[null,{"$f":"IF('Mapa oferta'!B537<>\"\",'Mapa oferta'!B537,\"\")","v":""},{"$f":"IF('Mapa oferta'!G537<>\"\",'Mapa oferta'!G537,\"\")","v":""},{"$f":"IF('Mapa oferta'!I537<>\"\",'Mapa oferta'!I537,\"\")","v":""},{"$f":"IF('Mapa oferta'!BM537<>\"\",'Mapa oferta'!BM537,\"\")","v":""},{"$f":"IF('Mapa oferta'!CG537<>\"\",'Mapa oferta'!CG537,\"\")","v":""}]
[null,{"$f":"IF('Mapa oferta'!B538<>\"\",'Mapa oferta'!B538,\"\")","v":""},{"$f":"IF('Mapa oferta'!G538<>\"\",'Mapa oferta'!G538,\"\")","v":""},{"$f":"IF('Mapa oferta'!I538<>\"\",'Mapa oferta'!I538,\"\")","v":""},{"$f":"IF('Mapa oferta'!BM538<>\"\",'Mapa oferta'!BM538,\"\")","v":""},{"$f":"IF('Mapa oferta'!CG538<>\"\",'Mapa oferta'!CG538,\"\")","v":""}]
[null,{"$f":"IF('Mapa oferta'!B539<>\"\",'Mapa oferta'!B539,\"\")","v":""},{"$f":"IF('Mapa oferta'!G539<>\"\",'Mapa oferta'!G539,\"\")","v":""},{"$f":"IF('Mapa oferta'!I539<>\"\",'Mapa oferta'!I539,\"\")","v":""},{"$f":"IF('Mapa oferta'!BM539<>\"\",'Mapa oferta'!BM539,\"\")","v":""},{"$f":"IF('Mapa oferta'!CG539<>\"\",'Mapa oferta'!CG539,\"\")","v":""}]
[null,{"$f":"IF('Mapa oferta'!B540<>\"\",'Mapa oferta'!B540,\"\")","v":""},{"$f":"IF('Mapa oferta'!G540<>\"\",'Mapa oferta'!G540,\"\")","v":""},{"$f":"IF('Mapa oferta'!I540<>\"\",'Mapa oferta'!I540,\"\")","v":""},{"$f":"IF('Mapa oferta'!BM540<>\"\",'Mapa oferta'!BM540,\"\")","v":""},{"$f":"IF('Mapa oferta'!CG540<>\"\",'Mapa oferta'!CG540,\"\")","v":""}]
[null,{"$f":"IF('Mapa oferta'!B541<>\"\",'Mapa oferta'!B541,\"\")","v":""},{"$f":"IF('Mapa oferta'!G541<>\"\",'Mapa oferta'!G541,\"\")","v":""},{"$f":"IF('Mapa oferta'!I541<>\"\",'Mapa oferta'!I541,\"\")","v":""},{"$f":"IF('Mapa oferta'!BM541<>\"\",'Mapa oferta'!BM541,\"\")","v":""},{"$f":"IF('Mapa oferta'!CG541<>\"\",'Mapa oferta'!CG541,\"\")","v":""}]
[null,{"$f":"IF('Mapa oferta'!B542<>\"\",'Mapa oferta'!B542,\"\")","v":""},{"$f":"IF('Mapa oferta'!G542<>\"\",'Mapa oferta'!G542,\"\")","v":""},{"$f":"IF('Mapa oferta'!I542<>\"\",'Mapa oferta'!I542,\"\")","v":""},{"$f":"IF('Mapa oferta'!BM542<>\"\",'Mapa oferta'!BM542,\"\")","v":""},{"$f":"IF('Mapa oferta'!CG542<>\"\",'Mapa oferta'!CG542,\"\")","v":""}]
[null,{"$f":"IF('Mapa oferta'!B543<>\"\",'Mapa oferta'!B543,\"\")","v":""},{"$f":"IF('Mapa oferta'!G543<>\"\",'Mapa oferta'!G543,\"\")","v":""},{"$f":"IF('Mapa oferta'!I543<>\"\",'Mapa oferta'!I543,\"\")","v":""},{"$f":"IF('Mapa oferta'!BM543<>\"\",'Mapa oferta'!BM543,\"\")","v":""},{"$f":"IF('Mapa oferta'!CG543<>\"\",'Mapa oferta'!CG543,\"\")","v":""}]
[null,{"$f":"IF('Mapa oferta'!B544<>\"\",'Mapa oferta'!B544,\"\")","v":""},{"$f":"IF('Mapa oferta'!G544<>\"\",'Mapa oferta'!G544,\"\")","v":""},{"$f":"IF('Mapa oferta'!I544<>\"\",'Mapa oferta'!I544,\"\")","v":""},{"$f":"IF('Mapa oferta'!BM544<>\"\",'Mapa oferta'!BM544,\"\")","v":""},{"$f":"IF('Mapa oferta'!CG544<>\"\",'Mapa oferta'!CG544,\"\")","v":""}]
[null,{"$f":"IF('Mapa oferta'!B545<>\"\",'Mapa oferta'!B545,\"\")","v":""},{"$f":"IF('Mapa oferta'!G545<>\"\",'Mapa oferta'!G545,\"\")","v":""},{"$f":"IF('Mapa oferta'!I545<>\"\",'Mapa oferta'!I545,\"\")","v":""},{"$f":"IF('Mapa oferta'!BM545<>\"\",'Mapa oferta'!BM545,\"\")","v":""},{"$f":"IF('Mapa oferta'!CG545<>\"\",'Mapa oferta'!CG545,\"\")","v":""}]
[null,{"$f":"IF('Mapa oferta'!B546<>\"\",'Mapa oferta'!B546,\"\")","v":""},{"$f":"IF('Mapa oferta'!G546<>\"\",'Mapa oferta'!G546,\"\")","v":""},{"$f":"IF('Mapa oferta'!I546<>\"\",'Mapa oferta'!I546,\"\")","v":""},{"$f":"IF('Mapa oferta'!BM546<>\"\",'Mapa oferta'!BM546,\"\")","v":""},{"$f":"IF('Mapa oferta'!CG546<>\"\",'Mapa oferta'!CG546,\"\")","v":""}]
[null,{"$f":"IF('Mapa oferta'!B547<>\"\",'Mapa oferta'!B547,\"\")","v":""},{"$f":"IF('Mapa oferta'!G547<>\"\",'Mapa oferta'!G547,\"\")","v":""},{"$f":"IF('Mapa oferta'!I547<>\"\",'Mapa oferta'!I547,\"\")","v":""},{"$f":"IF('Mapa oferta'!BM547<>\"\",'Mapa oferta'!BM547,\"\")","v":""},{"$f":"IF('Mapa oferta'!CG547<>\"\",'Mapa oferta'!CG547,\"\")","v":""}]
[null,{"$f":"IF('Mapa oferta'!B548<>\"\",'Mapa oferta'!B548,\"\")","v":""},{"$f":"IF('Mapa oferta'!G548<>\"\",'Mapa oferta'!G548,\"\")","v":""},{"$f":"IF('Mapa oferta'!I548<>\"\",'Mapa oferta'!I548,\"\")","v":""},{"$f":"IF('Mapa oferta'!BM548<>\"\",'Mapa oferta'!BM548,\"\")","v":""},{"$f":"IF('Mapa oferta'!CG548<>\"\",'Mapa oferta'!CG548,\"\")","v":""}]
[null,{"$f":"IF('Mapa oferta'!B549<>\"\",'Mapa oferta'!B549,\"\")","v":""},{"$f":"IF('Mapa oferta'!G549<>\"\",'Mapa oferta'!G549,\"\")","v":""},{"$f":"IF('Mapa oferta'!I549<>\"\",'Mapa oferta'!I549,\"\")","v":""},{"$f":"IF('Mapa oferta'!BM549<>\"\",'Mapa oferta'!BM549,\"\")","v":""},{"$f":"IF('Mapa oferta'!CG549<>\"\",'Mapa oferta'!CG549,\"\")","v":""}]
[null,{"$f":"IF('Mapa oferta'!B550<>\"\",'Mapa oferta'!B550,\"\")","v":""},{"$f":"IF('Mapa oferta'!G550<>\"\",'Mapa oferta'!G550,\"\")","v":""},{"$f":"IF('Mapa oferta'!I550<>\"\",'Mapa oferta'!I550,\"\")","v":""},{"$f":"IF('Mapa oferta'!BM550<>\"\",'Mapa oferta'!BM550,\"\")","v":""},{"$f":"IF('Mapa oferta'!CG550<>\"\",'Mapa oferta'!CG550,\"\")","v":""}]
[null,{"$f":"IF('Mapa oferta'!B551<>\"\",'Mapa oferta'!B551,\"\")","v":""},{"$f":"IF('Mapa oferta'!G551<>\"\",'Mapa oferta'!G551,\"\")","v":""},{"$f":"IF('Mapa oferta'!I551<>\"\",'Mapa oferta'!I551,\"\")","v":""},{"$f":"IF('Mapa oferta'!BM551<>\"\",'Mapa oferta'!BM551,\"\")","v":""},{"$f":"IF('Mapa oferta'!CG551<>\"\",'Mapa oferta'!CG551,\"\")","v":""}]
[null,{"$f":"IF('Mapa oferta'!B552<>\"\",'Mapa oferta'!B552,\"\")","v":""},{"$f":"IF('Mapa oferta'!G552<>\"\",'Mapa oferta'!G552,\"\")","v":""},{"$f":"IF('Mapa oferta'!I552<>\"\",'Mapa oferta'!I552,\"\")","v":""},{"$f":"IF('Mapa oferta'!BM552<>\"\",'Mapa oferta'!BM552,\"\")","v":""},{"$f":"IF('Mapa oferta'!CG552<>\"\",'Mapa oferta'!CG552,\"\")","v":""}]
[null,{"$f":"IF('Mapa oferta'!B553<>\"\",'Mapa oferta'!B553,\"\")","v":""},{"$f":"IF('Mapa oferta'!G553<>\"\",'Mapa oferta'!G553,\"\")","v":""},{"$f":"IF('Mapa oferta'!I553<>\"\",'Mapa oferta'!I553,\"\")","v":""},{"$f":"IF('Mapa oferta'!BM553<>\"\",'Mapa oferta'!BM553,\"\")","v":""},{"$f":"IF('Mapa oferta'!CG553<>\"\",'Mapa oferta'!CG553,\"\")","v":""}]
[null,{"$f":"IF('Mapa oferta'!B554<>\"\",'Mapa oferta'!B554,\"\")","v":""},{"$f":"IF('Mapa oferta'!G554<>\"\",'Mapa oferta'!G554,\"\")","v":""},{"$f":"IF('Mapa oferta'!I554<>\"\",'Mapa oferta'!I554,\"\")","v":""},{"$f":"IF('Mapa oferta'!BM554<>\"\",'Mapa oferta'!BM554,\"\")","v":""},{"$f":"IF('Mapa oferta'!CG554<>\"\",'Mapa oferta'!CG554,\"\")","v":""}]
[null,{"$f":"IF('Mapa oferta'!B555<>\"\",'Mapa oferta'!B555,\"\")","v":""},{"$f":"IF('Mapa oferta'!G555<>\"\",'Mapa oferta'!G555,\"\")","v":""},{"$f":"IF('Mapa oferta'!I555<>\"\",'Mapa oferta'!I555,\"\")","v":""},{"$f":"IF('Mapa oferta'!BM555<>\"\",'Mapa oferta'!BM555,\"\")","v":""},{"$f":"IF('Mapa oferta'!CG555<>\"\",'Mapa oferta'!CG555,\"\")","v":""}]
[null,{"$f":"IF('Mapa oferta'!B556<>\"\",'Mapa oferta'!B556,\"\")","v":""},{"$f":"IF('Mapa oferta'!G556<>\"\",'Mapa oferta'!G556,\"\")","v":""},{"$f":"IF('Mapa oferta'!I556<>\"\",'Mapa oferta'!I556,\"\")","v":""},{"$f":"IF('Mapa oferta'!BM556<>\"\",'Mapa oferta'!BM556,\"\")","v":""},{"$f":"IF('Mapa oferta'!CG556<>\"\",'Mapa oferta'!CG556,\"\")","v":""}]
[null,{"$f":"IF('Mapa oferta'!B557<>\"\",'Mapa oferta'!B557,\"\")","v":""},{"$f":"IF('Mapa oferta'!G557<>\"\",'Mapa oferta'!G557,\"\")","v":""},{"$f":"IF('Mapa oferta'!I557<>\"\",'Mapa oferta'!I557,\"\")","v":""},{"$f":"IF('Mapa oferta'!BM557<>\"\",'Mapa oferta'!BM557,\"\")","v":""},{"$f":"IF('Mapa oferta'!CG557<>\"\",'Mapa oferta'!CG557,\"\")","v":""}]
[null,{"$f":"IF('Mapa oferta'!B558<>\"\",'Mapa oferta'!B558,\"\")","v":""},{"$f":"IF('Mapa oferta'!G558<>\"\",'Mapa oferta'!G558,\"\")","v":""},{"$f":"IF('Mapa oferta'!I558<>\"\",'Mapa oferta'!I558,\"\")","v":""},{"$f":"IF('Mapa oferta'!BM558<>\"\",'Mapa oferta'!BM558,\"\")","v":""},{"$f":"IF('Mapa oferta'!CG558<>\"\",'Mapa oferta'!CG558,\"\")","v":""}]
[null,{"$f":"IF('Mapa oferta'!B559<>\"\",'Mapa oferta'!B559,\"\")","v":""},{"$f":"IF('Mapa oferta'!G559<>\"\",'Mapa oferta'!G559,\"\")","v":""},{"$f":"IF('Mapa oferta'!I559<>\"\",'Mapa oferta'!I559,\"\")","v":""},{"$f":"IF('Mapa oferta'!BM559<>\"\",'Mapa oferta'!BM559,\"\")","v":""},{"$f":"IF('Mapa oferta'!CG559<>\"\",'Mapa oferta'!CG559,\"\")","v":""}]
[null,{"$f":"IF('Mapa oferta'!B560<>\"\",'Mapa oferta'!B560,\"\")","v":""},{"$f":"IF('Mapa oferta'!G560<>\"\",'Mapa oferta'!G560,\"\")","v":""},{"$f":"IF('Mapa oferta'!I560<>\"\",'Mapa oferta'!I560,\"\")","v":""},{"$f":"IF('Mapa oferta'!BM560<>\"\",'Mapa oferta'!BM560,\"\")","v":""},{"$f":"IF('Mapa oferta'!CG560<>\"\",'Mapa oferta'!CG560,\"\")","v":""}]
[null,{"$f":"IF('Mapa oferta'!B561<>\"\",'Mapa oferta'!B561,\"\")","v":""},{"$f":"IF('Mapa oferta'!G561<>\"\",'Mapa oferta'!G561,\"\")","v":""},{"$f":"IF('Mapa oferta'!I561<>\"\",'Mapa oferta'!I561,\"\")","v":""},{"$f":"IF('Mapa oferta'!BM561<>\"\",'Mapa oferta'!BM561,\"\")","v":""},{"$f":"IF('Mapa oferta'!CG561<>\"\",'Mapa oferta'!CG561,\"\")","v":""}]
[null,{"$f":"IF('Mapa oferta'!B562<>\"\",'Mapa oferta'!B562,\"\")","v":""},{"$f":"IF('Mapa oferta'!G562<>\"\",'Mapa oferta'!G562,\"\")","v":""},{"$f":"IF('Mapa oferta'!I562<>\"\",'Mapa oferta'!I562,\"\")","v":""},{"$f":"IF('Mapa oferta'!BM562<>\"\",'Mapa oferta'!BM562,\"\")","v":""},{"$f":"IF('Mapa oferta'!CG562<>\"\",'Mapa oferta'!CG562,\"\")","v":""}]
[null,{"$f":"IF('Mapa oferta'!B563<>\"\",'Mapa oferta'!B563,\"\")","v":""},{"$f":"IF('Mapa oferta'!G563<>\"\",'Mapa oferta'!G563,\"\")","v":""},{"$f":"IF('Mapa oferta'!I563<>\"\",'Mapa oferta'!I563,\"\")","v":""},{"$f":"IF('Mapa oferta'!BM563<>\"\",'Mapa oferta'!BM563,\"\")","v":""},{"$f":"IF('Mapa oferta'!CG563<>\"\",'Mapa oferta'!CG563,\"\")","v":""}]
[null,{"$f":"IF('Mapa oferta'!B564<>\"\",'Mapa oferta'!B564,\"\")","v":""},{"$f":"IF('Mapa oferta'!G564<>\"\",'Mapa oferta'!G564,\"\")","v":""},{"$f":"IF('Mapa oferta'!I564<>\"\",'Mapa oferta'!I564,\"\")","v":""},{"$f":"IF('Mapa oferta'!BM564<>\"\",'Mapa oferta'!BM564,\"\")","v":""},{"$f":"IF('Mapa oferta'!CG564<>\"\",'Mapa oferta'!CG564,\"\")","v":""}]
[null,{"$f":"IF('Mapa oferta'!B565<>\"\",'Mapa oferta'!B565,\"\")","v":""},{"$f":"IF('Mapa oferta'!G565<>\"\",'Mapa oferta'!G565,\"\")","v":""},{"$f":"IF('Mapa oferta'!I565<>\"\",'Mapa oferta'!I565,\"\")","v":""},{"$f":"IF('Mapa oferta'!BM565<>\"\",'Mapa oferta'!BM565,\"\")","v":""},{"$f":"IF('Mapa oferta'!CG565<>\"\",'Mapa oferta'!CG565,\"\")","v":""}]
[null,{"$f":"IF('Mapa oferta'!B566<>\"\",'Mapa oferta'!B566,\"\")","v":""},{"$f":"IF('Mapa oferta'!G566<>\"\",'Mapa oferta'!G566,\"\")","v":""},{"$f":"IF('Mapa oferta'!I566<>\"\",'Mapa oferta'!I566,\"\")","v":""},{"$f":"IF('Mapa oferta'!BM566<>\"\",'Mapa oferta'!BM566,\"\")","v":""},{"$f":"IF('Mapa oferta'!CG566<>\"\",'Mapa oferta'!CG566,\"\")","v":""}]
[null,{"$f":"IF('Mapa oferta'!B567<>\"\",'Mapa oferta'!B567,\"\")","v":""},{"$f":"IF('Mapa oferta'!G567<>\"\",'Mapa oferta'!G567,\"\")","v":""},{"$f":"IF('Mapa oferta'!I567<>\"\",'Mapa oferta'!I567,\"\")","v":""},{"$f":"IF('Mapa oferta'!BM567<>\"\",'Mapa oferta'!BM567,\"\")","v":""},{"$f":"IF('Mapa oferta'!CG567<>\"\",'Mapa oferta'!CG567,\"\")","v":""}]
[null,{"$f":"IF('Mapa oferta'!B568<>\"\",'Mapa oferta'!B568,\"\")","v":""},{"$f":"IF('Mapa oferta'!G568<>\"\",'Mapa oferta'!G568,\"\")","v":""},{"$f":"IF('Mapa oferta'!I568<>\"\",'Mapa oferta'!I568,\"\")","v":""},{"$f":"IF('Mapa oferta'!BM568<>\"\",'Mapa oferta'!BM568,\"\")","v":""},{"$f":"IF('Mapa oferta'!CG568<>\"\",'Mapa oferta'!CG568,\"\")","v":""}]
[null,{"$f":"IF('Mapa oferta'!B569<>\"\",'Mapa oferta'!B569,\"\")","v":""},{"$f":"IF('Mapa oferta'!G569<>\"\",'Mapa oferta'!G569,\"\")","v":""},{"$f":"IF('Mapa oferta'!I569<>\"\",'Mapa oferta'!I569,\"\")","v":""},{"$f":"IF('Mapa oferta'!BM569<>\"\",'Mapa oferta'!BM569,\"\")","v":""},{"$f":"IF('Mapa oferta'!CG569<>\"\",'Mapa oferta'!CG569,\"\")","v":""}]
[null,{"$f":"IF('Mapa oferta'!B570<>\"\",'Mapa oferta'!B570,\"\")","v":""},{"$f":"IF('Mapa oferta'!G570<>\"\",'Mapa oferta'!G570,\"\")","v":""},{"$f":"IF('Mapa oferta'!I570<>\"\",'Mapa oferta'!I570,\"\")","v":""},{"$f":"IF('Mapa oferta'!BM570<>\"\",'Mapa oferta'!BM570,\"\")","v":""},{"$f":"IF('Mapa oferta'!CG570<>\"\",'Mapa oferta'!CG570,\"\")","v":""}]
[null,{"$f":"IF('Mapa oferta'!B571<>\"\",'Mapa oferta'!B571,\"\")","v":""},{"$f":"IF('Mapa oferta'!G571<>\"\",'Mapa oferta'!G571,\"\")","v":""},{"$f":"IF('Mapa oferta'!I571<>\"\",'Mapa oferta'!I571,\"\")","v":""},{"$f":"IF('Mapa oferta'!BM571<>\"\",'Mapa oferta'!BM571,\"\")","v":""},{"$f":"IF('Mapa oferta'!CG571<>\"\",'Mapa oferta'!CG571,\"\")","v":""}]
[null,{"$f":"IF('Mapa oferta'!B572<>\"\",'Mapa oferta'!B572,\"\")","v":""},{"$f":"IF('Mapa oferta'!G572<>\"\",'Mapa oferta'!G572,\"\")","v":""},{"$f":"IF('Mapa oferta'!I572<>\"\",'Mapa oferta'!I572,\"\")","v":""},{"$f":"IF('Mapa oferta'!BM572<>\"\",'Mapa oferta'!BM572,\"\")","v":""},{"$f":"IF('Mapa oferta'!CG572<>\"\",'Mapa oferta'!CG572,\"\")","v":""}]
[null,{"$f":"IF('Mapa oferta'!B573<>\"\",'Mapa oferta'!B573,\"\")","v":""},{"$f":"IF('Mapa oferta'!G573<>\"\",'Mapa oferta'!G573,\"\")","v":""},{"$f":"IF('Mapa oferta'!I573<>\"\",'Mapa oferta'!I573,\"\")","v":""},{"$f":"IF('Mapa oferta'!BM573<>\"\",'Mapa oferta'!BM573,\"\")","v":""},{"$f":"IF('Mapa oferta'!CG573<>\"\",'Mapa oferta'!CG573,\"\")","v":""}]
[null,{"$f":"IF('Mapa oferta'!B574<>\"\",'Mapa oferta'!B574,\"\")","v":""},{"$f":"IF('Mapa oferta'!G574<>\"\",'Mapa oferta'!G574,\"\")","v":""},{"$f":"IF('Mapa oferta'!I574<>\"\",'Mapa oferta'!I574,\"\")","v":""},{"$f":"IF('Mapa oferta'!BM574<>\"\",'Mapa oferta'!BM574,\"\")","v":""},{"$f":"IF('Mapa oferta'!CG574<>\"\",'Mapa oferta'!CG574,\"\")","v":""}]
[null,{"$f":"IF('Mapa oferta'!B575<>\"\",'Mapa oferta'!B575,\"\")","v":""},{"$f":"IF('Mapa oferta'!G575<>\"\",'Mapa oferta'!G575,\"\")","v":""},{"$f":"IF('Mapa oferta'!I575<>\"\",'Mapa oferta'!I575,\"\")","v":""},{"$f":"IF('Mapa oferta'!BM575<>\"\",'Mapa oferta'!BM575,\"\")","v":""},{"$f":"IF('Mapa oferta'!CG575<>\"\",'Mapa oferta'!CG575,\"\")","v":""}]
[null,{"$f":"IF('Mapa oferta'!B576<>\"\",'Mapa oferta'!B576,\"\")","v":""},{"$f":"IF('Mapa oferta'!G576<>\"\",'Mapa oferta'!G576,\"\")","v":""},{"$f":"IF('Mapa oferta'!I576<>\"\",'Mapa oferta'!I576,\"\")","v":""},{"$f":"IF('Mapa oferta'!BM576<>\"\",'Mapa oferta'!BM576,\"\")","v":""},{"$f":"IF('Mapa oferta'!CG576<>\"\",'Mapa oferta'!CG576,\"\")","v":""}]
[null,{"$f":"IF('Mapa oferta'!B577<>\"\",'Mapa oferta'!B577,\"\")","v":""},{"$f":"IF('Mapa oferta'!G577<>\"\",'Mapa oferta'!G577,\"\")","v":""},{"$f":"IF('Mapa oferta'!I577<>\"\",'Mapa oferta'!I577,\"\")","v":""},{"$f":"IF('Mapa oferta'!BM577<>\"\",'Mapa oferta'!BM577,\"\")","v":""},{"$f":"IF('Mapa oferta'!CG577<>\"\",'Mapa oferta'!CG577,\"\")","v":""}]
[null,{"$f":"IF('Mapa oferta'!B578<>\"\",'Mapa oferta'!B578,\"\")","v":""},{"$f":"IF('Mapa oferta'!G578<>\"\",'Mapa oferta'!G578,\"\")","v":""},{"$f":"IF('Mapa oferta'!I578<>\"\",'Mapa oferta'!I578,\"\")","v":""},{"$f":"IF('Mapa oferta'!BM578<>\"\",'Mapa oferta'!BM578,\"\")","v":""},{"$f":"IF('Mapa oferta'!CG578<>\"\",'Mapa oferta'!CG578,\"\")","v":""}]
[null,{"$f":"IF('Mapa oferta'!B579<>\"\",'Mapa oferta'!B579,\"\")","v":""},{"$f":"IF('Mapa oferta'!G579<>\"\",'Mapa oferta'!G579,\"\")","v":""},{"$f":"IF('Mapa oferta'!I579<>\"\",'Mapa oferta'!I579,\"\")","v":""},{"$f":"IF('Mapa oferta'!BM579<>\"\",'Mapa oferta'!BM579,\"\")","v":""},{"$f":"IF('Mapa oferta'!CG579<>\"\",'Mapa oferta'!CG579,\"\")","v":""}]
[null,{"$f":"IF('Mapa oferta'!B580<>\"\",'Mapa oferta'!B580,\"\")","v":""},{"$f":"IF('Mapa oferta'!G580<>\"\",'Mapa oferta'!G580,\"\")","v":""},{"$f":"IF('Mapa oferta'!I580<>\"\",'Mapa oferta'!I580,\"\")","v":""},{"$f":"IF('Mapa oferta'!BM580<>\"\",'Mapa oferta'!BM580,\"\")","v":""},{"$f":"IF('Mapa oferta'!CG580<>\"\",'Mapa oferta'!CG580,\"\")","v":""}]
[null,{"$f":"IF('Mapa oferta'!B581<>\"\",'Mapa oferta'!B581,\"\")","v":""},{"$f":"IF('Mapa oferta'!G581<>\"\",'Mapa oferta'!G581,\"\")","v":""},{"$f":"IF('Mapa oferta'!I581<>\"\",'Mapa oferta'!I581,\"\")","v":""},{"$f":"IF('Mapa oferta'!BM581<>\"\",'Mapa oferta'!BM581,\"\")","v":""},{"$f":"IF('Mapa oferta'!CG581<>\"\",'Mapa oferta'!CG581,\"\")","v":""}]
[null,{"$f":"IF('Mapa oferta'!B582<>\"\",'Mapa oferta'!B582,\"\")","v":""},{"$f":"IF('Mapa oferta'!G582<>\"\",'Mapa oferta'!G582,\"\")","v":""},{"$f":"IF('Mapa oferta'!I582<>\"\",'Mapa oferta'!I582,\"\")","v":""},{"$f":"IF('Mapa oferta'!BM582<>\"\",'Mapa oferta'!BM582,\"\")","v":""},{"$f":"IF('Mapa oferta'!CG582<>\"\",'Mapa oferta'!CG582,\"\")","v":""}]
[null,{"$f":"IF('Mapa oferta'!B583<>\"\",'Mapa oferta'!B583,\"\")","v":""},{"$f":"IF('Mapa oferta'!G583<>\"\",'Mapa oferta'!G583,\"\")","v":""},{"$f":"IF('Mapa oferta'!I583<>\"\",'Mapa oferta'!I583,\"\")","v":""},{"$f":"IF('Mapa oferta'!BM583<>\"\",'Mapa oferta'!BM583,\"\")","v":""},{"$f":"IF('Mapa oferta'!CG583<>\"\",'Mapa oferta'!CG583,\"\")","v":""}]
[null,{"$f":"IF('Mapa oferta'!B584<>\"\",'Mapa oferta'!B584,\"\")","v":""},{"$f":"IF('Mapa oferta'!G584<>\"\",'Mapa oferta'!G584,\"\")","v":""},{"$f":"IF('Mapa oferta'!I584<>\"\",'Mapa oferta'!I584,\"\")","v":""},{"$f":"IF('Mapa oferta'!BM584<>\"\",'Mapa oferta'!BM584,\"\")","v":""},{"$f":"IF('Mapa oferta'!CG584<>\"\",'Mapa oferta'!CG584,\"\")","v":""}]
[null,{"$f":"IF('Mapa oferta'!B585<>\"\",'Mapa oferta'!B585,\"\")","v":""},{"$f":"IF('Mapa oferta'!G585<>\"\",'Mapa oferta'!G585,\"\")","v":""},{"$f":"IF('Mapa oferta'!I585<>\"\",'Mapa oferta'!I585,\"\")","v":""},{"$f":"IF('Mapa oferta'!BM585<>\"\",'Mapa oferta'!BM585,\"\")","v":""},{"$f":"IF('Mapa oferta'!CG585<>\"\",'Mapa oferta'!CG585,\"\")","v":""}]
[null,{"$f":"IF('Mapa oferta'!B586<>\"\",'Mapa oferta'!B586,\"\")","v":""},{"$f":"IF('Mapa oferta'!G586<>\"\",'Mapa oferta'!G586,\"\")","v":""},{"$f":"IF('Mapa oferta'!I586<>\"\",'Mapa oferta'!I586,\"\")","v":""},{"$f":"IF('Mapa oferta'!BM586<>\"\",'Mapa oferta'!BM586,\"\")","v":""},{"$f":"IF('Mapa oferta'!CG586<>\"\",'Mapa oferta'!CG586,\"\")","v":""}]
[null,{"$f":"IF('Mapa oferta'!B587<>\"\",'Mapa oferta'!B587,\"\")","v":""},{"$f":"IF('Mapa oferta'!G587<>\"\",'Mapa oferta'!G587,\"\")","v":""},{"$f":"IF('Mapa oferta'!I587<>\"\",'Mapa oferta'!I587,\"\")","v":""},{"$f":"IF('Mapa oferta'!BM587<>\"\",'Mapa oferta'!BM587,\"\")","v":""},{"$f":"IF('Mapa oferta'!CG587<>\"\",'Mapa oferta'!CG587,\"\")","v":""}]
[null,{"$f":"IF('Mapa oferta'!B588<>\"\",'Mapa oferta'!B588,\"\")","v":""},{"$f":"IF('Mapa oferta'!G588<>\"\",'Mapa oferta'!G588,\"\")","v":""},{"$f":"IF('Mapa oferta'!I588<>\"\",'Mapa oferta'!I588,\"\")","v":""},{"$f":"IF('Mapa oferta'!BM588<>\"\",'Mapa oferta'!BM588,\"\")","v":""},{"$f":"IF('Mapa oferta'!CG588<>\"\",'Mapa oferta'!CG588,\"\")","v":""}]
[null,{"$f":"IF('Mapa oferta'!B589<>\"\",'Mapa oferta'!B589,\"\")","v":""},{"$f":"IF('Mapa oferta'!G589<>\"\",'Mapa oferta'!G589,\"\")","v":""},{"$f":"IF('Mapa oferta'!I589<>\"\",'Mapa oferta'!I589,\"\")","v":""},{"$f":"IF('Mapa oferta'!BM589<>\"\",'Mapa oferta'!BM589,\"\")","v":""},{"$f":"IF('Mapa oferta'!CG589<>\"\",'Mapa oferta'!CG589,\"\")","v":""}]
[null,{"$f":"IF('Mapa oferta'!B590<>\"\",'Mapa oferta'!B590,\"\")","v":""},{"$f":"IF('Mapa oferta'!G590<>\"\",'Mapa oferta'!G590,\"\")","v":""},{"$f":"IF('Mapa oferta'!I590<>\"\",'Mapa oferta'!I590,\"\")","v":""},{"$f":"IF('Mapa oferta'!BM590<>\"\",'Mapa oferta'!BM590,\"\")","v":""},{"$f":"IF('Mapa oferta'!CG590<>\"\",'Mapa oferta'!CG590,\"\")","v":""}]
[null,{"$f":"IF('Mapa oferta'!B591<>\"\",'Mapa oferta'!B591,\"\")","v":""},{"$f":"IF('Mapa oferta'!G591<>\"\",'Mapa oferta'!G591,\"\")","v":""},{"$f":"IF('Mapa oferta'!I591<>\"\",'Mapa oferta'!I591,\"\")","v":""},{"$f":"IF('Mapa oferta'!BM591<>\"\",'Mapa oferta'!BM591,\"\")","v":""},{"$f":"IF('Mapa oferta'!CG591<>\"\",'Mapa oferta'!CG591,\"\")","v":""}]
[null,{"$f":"IF('Mapa oferta'!B592<>\"\",'Mapa oferta'!B592,\"\")","v":""},{"$f":"IF('Mapa oferta'!G592<>\"\",'Mapa oferta'!G592,\"\")","v":""},{"$f":"IF('Mapa oferta'!I592<>\"\",'Mapa oferta'!I592,\"\")","v":""},{"$f":"IF('Mapa oferta'!BM592<>\"\",'Mapa oferta'!BM592,\"\")","v":""},{"$f":"IF('Mapa oferta'!CG592<>\"\",'Mapa oferta'!CG592,\"\")","v":""}]
[null,{"$f":"IF('Mapa oferta'!B593<>\"\",'Mapa oferta'!B593,\"\")","v":""},{"$f":"IF('Mapa oferta'!G593<>\"\",'Mapa oferta'!G593,\"\")","v":""},{"$f":"IF('Mapa oferta'!I593<>\"\",'Mapa oferta'!I593,\"\")","v":""},{"$f":"IF('Mapa oferta'!BM593<>\"\",'Mapa oferta'!BM593,\"\")","v":""},{"$f":"IF('Mapa oferta'!CG593<>\"\",'Mapa oferta'!CG593,\"\")","v":""}]
[null,{"$f":"IF('Mapa oferta'!B594<>\"\",'Mapa oferta'!B594,\"\")","v":""},{"$f":"IF('Mapa oferta'!G594<>\"\",'Mapa oferta'!G594,\"\")","v":""},{"$f":"IF('Mapa oferta'!I594<>\"\",'Mapa oferta'!I594,\"\")","v":""},{"$f":"IF('Mapa oferta'!BM594<>\"\",'Mapa oferta'!BM594,\"\")","v":""},{"$f":"IF('Mapa oferta'!CG594<>\"\",'Mapa oferta'!CG594,\"\")","v":""}]
[null,{"$f":"IF('Mapa oferta'!B595<>\"\",'Mapa oferta'!B595,\"\")","v":""},{"$f":"IF('Mapa oferta'!G595<>\"\",'Mapa oferta'!G595,\"\")","v":""},{"$f":"IF('Mapa oferta'!I595<>\"\",'Mapa oferta'!I595,\"\")","v":""},{"$f":"IF('Mapa oferta'!BM595<>\"\",'Mapa oferta'!BM595,\"\")","v":""},{"$f":"IF('Mapa oferta'!CG595<>\"\",'Mapa oferta'!CG595,\"\")","v":""}]
[null,{"$f":"IF('Mapa oferta'!B596<>\"\",'Mapa oferta'!B596,\"\")","v":""},{"$f":"IF('Mapa oferta'!G596<>\"\",'Mapa oferta'!G596,\"\")","v":""},{"$f":"IF('Mapa oferta'!I596<>\"\",'Mapa oferta'!I596,\"\")","v":""},{"$f":"IF('Mapa oferta'!BM596<>\"\",'Mapa oferta'!BM596,\"\")","v":""},{"$f":"IF('Mapa oferta'!CG596<>\"\",'Mapa oferta'!CG596,\"\")","v":""}]
[null,{"$f":"IF('Mapa oferta'!B597<>\"\",'Mapa oferta'!B597,\"\")","v":""},{"$f":"IF('Mapa oferta'!G597<>\"\",'Mapa oferta'!G597,\"\")","v":""},{"$f":"IF('Mapa oferta'!I597<>\"\",'Mapa oferta'!I597,\"\")","v":""},{"$f":"IF('Mapa oferta'!BM597<>\"\",'Mapa oferta'!BM597,\"\")","v":""},{"$f":"IF('Mapa oferta'!CG597<>\"\",'Mapa oferta'!CG597,\"\")","v":""}]
[null,{"$f":"IF('Mapa oferta'!B598<>\"\",'Mapa oferta'!B598,\"\")","v":""},{"$f":"IF('Mapa oferta'!G598<>\"\",'Mapa oferta'!G598,\"\")","v":""},{"$f":"IF('Mapa oferta'!I598<>\"\",'Mapa oferta'!I598,\"\")","v":""},{"$f":"IF('Mapa oferta'!BM598<>\"\",'Mapa oferta'!BM598,\"\")","v":""},{"$f":"IF('Mapa oferta'!CG598<>\"\",'Mapa oferta'!CG598,\"\")","v":""}]
[null,{"$f":"IF('Mapa oferta'!B599<>\"\",'Mapa oferta'!B599,\"\")","v":""},{"$f":"IF('Mapa oferta'!G599<>\"\",'Mapa oferta'!G599,\"\")","v":""},{"$f":"IF('Mapa oferta'!I599<>\"\",'Mapa oferta'!I599,\"\")","v":""},{"$f":"IF('Mapa oferta'!BM599<>\"\",'Mapa oferta'!BM599,\"\")","v":""},{"$f":"IF('Mapa oferta'!CG599<>\"\",'Mapa oferta'!CG599,\"\")","v":""}]
[null,{"$f":"IF('Mapa oferta'!B600<>\"\",'Mapa oferta'!B600,\"\")","v":""},{"$f":"IF('Mapa oferta'!G600<>\"\",'Mapa oferta'!G600,\"\")","v":""},{"$f":"IF('Mapa oferta'!I600<>\"\",'Mapa oferta'!I600,\"\")","v":""},{"$f":"IF('Mapa oferta'!BM600<>\"\",'Mapa oferta'!BM600,\"\")","v":""},{"$f":"IF('Mapa oferta'!CG600<>\"\",'Mapa oferta'!CG600,\"\")","v":""}]

{"sheet":"Hoja5","index":10,"n_rows":3,"n_cols":1,"rows_kept":3,"cut":false,"hidden":true,"merged":[]}
["Mi Familia"]
[""]
[{"$error":"#REF!"}]

{"sheet":"Visualizador","index":11,"n_rows":5,"n_cols":6,"rows_kept":5,"cut":false,"hidden":true,"merged":[]}
[]
[]
[]
[]
[null,"ID","Modalidad","Nombre de la entidad","Nombre del programa","Descripción requisitos"]

{"sheet":"Filtros","index":12,"n_rows":0,"n_cols":0,"rows_kept":0,"cut":false,"hidden":true,"merged":[]}

{"sheet":"Filtros1","index":13,"n_rows":0,"n_cols":0,"rows_kept":0,"cut":false,"hidden":true,"merged":[]}

{"sheet":"Formulario","index":14,"n_rows":67,"n_cols":164,"rows_kept":67,"cut":false,"hidden":true,"merged":[[53,15,53,32],[44,12,44,14],[44,15,44,17],[44,18,44,20],[44,21,44,23],[44,24,44,26],[51,15,51,32],[52,15,52,32],[45,12,45,14],[45,15,45,17],[45,18,45,20],[45,21,45,23],[45,24,45,26],[47,12,47,32],[40,30,40,32],[41,15,41,17],[41,18,41,20],[41,21,41,23],[41,24,41,26],[41,27,41,29],[41,30,41,32],[43,12,43,14],[43,15,43,17],[43,18,43,20],[43,21,43,23],[43,24,43,26],[3,3,5,33],[30,12,30,32],[35,12,35,32],[16,12,16,32],[17,12,20,32],[9,13,9,32],[10,13,10,32],[11,13,11,32],[26,12,26,32],[28,12,28,32],[29,12,29,32],[55,28,55,32],[36,12,36,32],[21,12,21,32],[22,12,22,32],[23,12,23,32],[24,12,24,32],[25,12,25,32],[27,12,27,32],[17,5,20,11],[39,12,39,14],[40,12,40,14],[38,12,38,32],[41,12,41,14],[39,15,39,17],[39,18,39,20],[39,21,39,23],[39,24,39,26],[39,27,39,29],[39,30,39,32],[40,15,40,17],[40,18,40,20],[40,21,40,23],[40,24,40,26],[40,27,40,29],[58,14,58,15],[59,14,59,15],[55,10,55,13],[56,10,56,13],[57,10,57,13],[58,10,58,13],[59,10,59,13],[55,22,55,25],[55,26,55,27],[66,14,66,15],[55,4,59,9],[61,10,61,13],[61,14,61,15],[56,26,56,27],[56,28,56,32],[57,26,57,27],[57,28,57,32],[58,26,58,27],[58,28,58,32],[59,26,59,27],[59,28,59,32],[56,22,56,25],[57,22,57,25],[58,22,58,25],[59,22,59,25],[56,16,56,20],[57,16,57,20],[58,16,58,20],[59,16,59,20],[55,14,55,15],[55,16,55,20],[56,14,56,15],[57,14,57,15],[65,22,65,23],[66,22,66,23],[61,4,66,9],[2,31,2,33],[2,3,2,30],[61,18,61,21],[61,22,61,23],[62,22,62,23],[63,22,63,23],[64,22,64,23],[62,18,62,21],[63,18,63,21],[64,18,64,21],[65,18,65,21],[66,18,66,21],[62,10,62,13],[63,10,63,13],[64,10,64,13],[65,10,65,13],[66,10,66,13],[62,14,62,15],[63,14,63,15],[64,14,64,15],[65,14,65,15]]}
[]
[]
[null,null,null,"FORMULARIO DE MAPEO DE OFERTA PARA MI FAMILIA",null,null,null,null,null,null,null,null,null,null,null,null,null,null,null,null,null,null,null,null,null,null,null,null,null,null,null,null,null,null,null,null,null,null,null,null,null,null,null,null,null,null,null,null,null,null,null,null,null,null,null,null,null,null,null,null,null,null,1,1,1,1,1,1,1,1,1,1,1,1,1,1,1,1,1,1,1,1,1,1,1,1,1,1,1,1,1,1,1,1,1,1,1,1,1,1,1,1,1,1,1,1,1,1,1,1,1,1,1,1,1,1,1,1,1,1,1,1,1,1,1,1,1,1,1,1,1,1,1,1,1,1,1,1,1,1,1,1,1,1,1,1,1,1,1,1,1,1,1,1,1,1,1,1,1,1,1,1,1,1]
[null,null,null,"La presente herramienta permite identificar la oferta disponible para adelantar acciones para la convergencia de oferta y gestión de redes"]
[]
[]
[]
[]
[]
[null,null,null,null,null,null,null,null,null,null,null,null,"Nombre entidad"]
[null,null,null,null,null,null,null,null,null,null,null,null,"Tipo de entidad"]
[null,null,null,null,null,null,null,null,null,null,null,null,"Nombre de entidad aliada de operar"]
[]
[]
[]
[]
[null,null,null,null,null,null,null,null,null,null,null,"Nombre del programa"]
[null,null,null,null,null,"Descripción"]
[]
[]
[]
[null,null,null,null,null,null,null,null,null,null,null,"Tipo de acceso al programa"]
[null,null,null,null,null,null,null,null,null,null,null,"Modo de atención"]
[null,null,null,null,null,null,null,null,null,null,null,"Beneficios o incentivos"]
[null,null,null,null,null,null,null,null,null,null,null,"Contrapartida del participante"]
[null,null,null,null,null,null,null,null,null,null,null,"Cobertura departamental"]
[null,null,null,null,null,null,null,null,null,null,null,"Cobertura municipal"]
[null,null,null,null,null,null,null,null,null,null,null,"Cupos disponibles para Mi Familia"]
[null,null,null,null,null,null,null,null,null,null,null,"Nombre de la persona de contacto"]
[null,null,null,null,null,null,null,null,null,null,null,"Teléfono de la persona de contacto"]
[null,null,null,null,null,null,null,null,null,null,null,"Página web del programa"]
[]
[]
[]
[]
[null,null,null,null,null,null,null,null,null,null,null,"Estado de la oferta"]
[null,null,null,null,null,null,null,null,null,null,null,"Número de veces que se oferta al año"]
[]
[null,null,null,null,null,null,null,null,null,null,null,null,"Según el número de aperturas del programa en el año, asocie a cada apertura la fecha de inicio y fin"]
[null,null,null,null,null,null,null,null,null,null,null,"Apertura del año",{"$f":"IF(OR($M37=\"\",$M37=\"No aplica\"),\"\",IF($M37>1,1,IF($M37=1,1,\".\")))","v":""},null,null,{"$f":"IF(OR($M37=\"\",$M37=\"No aplica\"),\"\",IF($M37>2,2,IF($M37=2,2,\"  \")))","v":""},null,null,{"$f":"IF(OR($M37=\"\",$M37=\"No aplica\"),\"\",IF($M37>3,3,IF($M37=3,3,\"  \")))","v":""},null,null,{"$f":"IF(OR($M37=\"\",$M37=\"No aplica\"),\"\",IF($M37>4,4,IF($M37=4,4,\"  \")))","v":""},null,null,{"$f":"IF(OR($M37=\"\",$M37=\"No aplica\"),\"\",IF($M37>5,5,IF($M37=5,5,\"  \")))","v":""},null,null,{"$f":"IF(OR($M37=\"\",$M37=\"No aplica\"),\"\",IF($M37>6,6,IF($M37=6,6,\"  \")))","v":""},null,null,{"$f":"IF(OR($M37=\"\",$M37=\"No aplica\"),\"\",IF($M37>7,7,IF($M37=7,7,\"  \")))","v":""}]
[null,null,null,null,null,null,null,null,null,null,null,"Fecha de inicio"]
[null,null,null,null,null,null,null,null,null,null,null,"Fecha de finalización"]
[]
[null,null,null,null,null,null,null,null,null,null,null,"Apertura del año",{"$f":"IF(OR($M37=\"\",$M37=\"No aplica\"),\"\",IF($M37>8,8,IF($M37=8,8,\"  \")))","v":""},null,null,{"$f":"IF(OR($M37=\"\",$M37=\"No aplica\"),\"\",IF($M37>9,9,IF($M37=9,9,\"  \")))","v":""},null,null,{"$f":"IF(OR($M37=\"\",$M37=\"No aplica\"),\"\",IF($M37>10,10,IF($M37=10,10,\"  \")))","v":""},null,null,{"$f":"IF(OR($M37=\"\",$M37=\"No aplica\"),\"\",IF($M37>11,11,IF($M37=11,11,\"  \")))","v":""},null,null,{"$f":"IF(OR($M37=\"\",$M37=\"No aplica\"),\"\",IF($M37>12,12,IF($M37=12,12,\"  \")))","v":""}]
[null,null,null,null,null,null,null,null,null,null,null,"Fecha de inicio"]
[null,null,null,null,null,null,null,null,null,null,null,"Fecha de finalización"]
[]
[null,null,null,null,null,null,null,null,null,null,null,"Observaciones"]
[]
[]
[null,null,null,null,null,null,null,null,"Tipo de "]
[null,null,null,null,null,null,null,null,null,null,null,null,null,null,"Derecho en el que se enmarca el programa","OTROS"]
[null,null,null,null,null,null,null,null,null,null,null,null,null,null,"Dimensión en la que se enmarca el programa","Jusiticia"]
[null,null,null,null,null,null,null,null,null,null,null,null,null,null,"Principal bien o servicio que presta el programa","Acceso_a_justicia"]
[]
[null,null,null,null,"Requisitos de entrada",null,null,null,null,null,"Criterio",null,null,null,"¿Existe?",null,"Descripción",null,null,null,null,null,"Criterio",null,null,null,"¿Existe?",null,"Descripción"]
[null,null,null,null,null,null,null,null,null,null,"Edad",null,null,null,null,null,null,null,null,null,null,null,"Víctimas"]
[null,null,null,null,null,null,null,null,null,null,"Puntaje SISBEN",null,null,null,null,null,null,null,null,null,null,null,"Reincorporados"]
[null,null,null,null,null,null,null,null,null,null,"Nivel Escolaridad",null,null,null,null,null,null,null,null,null,null,null,"Pueblos étnicos"]
[null,null,null,null,null,null,null,null,null,null,"Género",null,null,null,null,null,null,null,null,null,null,null,"Otros"]
[]
[null,null,null,null,"Variables con los que se prioriza el acceso a la oferta",null,null,null,null,null,"Criterio",null,null,null,"¿Existe?",null,null,null,"Criterio",null,null,null,"¿Existe?"]
[null,null,null,null,null,null,null,null,null,null,"Edad",null,null,null,null,null,null,null,"Reincorporados"]
[null,null,null,null,null,null,null,null,null,null,"Puntaje SISBEN",null,null,null,null,null,null,null,"Pueblos étnicos"]
[null,null,null,null,null,null,null,null,null,null,"Nivel Escolaridad",null,null,null,null,null,null,null,"Unidos"]
[null,null,null,null,null,null,null,null,null,null,"Género",null,null,null,null,null,null,null,"ICBF"]
[null,null,null,null,null,null,null,null,null,null,"Víctimas",null,null,null,null,null,null,null,"Otros"]

{"sheet":"Control_info","index":15,"n_rows":7,"n_cols":5,"rows_kept":7,"cut":false,"hidden":true,"merged":[]}
[]
[]
[null,"Relación de programas cargados en la herramienta y su calidad de información"]
[]
[null,"Serie","Nombre entidad","Nombre del programa","Calidad de información sobre el programa"]
[null,"(en blanco)","(en blanco)","(en blanco)","(en blanco)"]
[null,"Total general"]

{"sheet":"Guia","index":16,"n_rows":26,"n_cols":25,"rows_kept":26,"cut":false,"hidden":true,"merged":[[29,4,29,7],[29,8,29,12],[29,13,29,23],[29,24,29,28],[32,4,32,7],[32,8,32,12],[32,13,32,23],[32,24,32,28],[30,4,30,7],[30,8,30,12],[30,13,30,23],[30,24,30,28],[31,4,31,7],[31,8,31,12],[31,13,31,23],[31,24,31,28],[27,4,27,7],[27,8,27,12],[27,13,27,23],[27,24,27,28],[28,4,28,7],[28,8,28,12],[28,13,28,23],[28,24,28,28],[26,4,26,7],[26,8,26,12],[26,13,26,23],[26,24,26,28],[15,11,15,14],[25,4,25,7],[25,8,25,12],[25,13,25,23],[25,24,25,28],[18,19,18,25],[19,19,19,25],[16,11,16,14],[17,11,17,14],[13,19,13,25],[14,19,14,25],[15,19,15,25],[16,19,16,25],[17,19,17,25],[14,3,14,7],[15,3,15,7],[14,11,14,14],[13,3,13,7],[9,11,9,14],[13,11,13,14],[2,1,2,30],[3,1,5,30],[10,3,10,7],[11,3,11,7],[12,3,12,7],[10,19,10,25],[11,19,11,25],[12,19,12,25],[9,19,9,25],[9,3,9,7],[10,11,10,14],[11,11,11,14],[12,11,12,14]]}
[]
[]
[null,"GUÍA DE OFERTA PARA MI FAMILIA"]
[null,"La presente herramienta permite priorizar ofrtas pertienente para las caracteristicas y necesidades de la familia"]
[]
[]
[]
[]
[]
[null,null,null,"Derechos y dimensiones",null,null,null,null,null,null,null,"Requisitos de entrada",null,null,null,null,null,null,null,"Variables de focalización"]
[null,null,null,"SALUD",null,null,null,null,null,null,null,"Edad",null,null,null,null,null,null,null,"Edad"]
[null,null,null,"EDUCACIÓN Y CAPACITACIÓN",null,null,null,null,null,null,null,"Puntaje SISBEN",null,null,null,null,null,null,null,"Puntaje SISBEN"]
[null,null,null,"HABITABILIDAD ",null,null,null,null,null,null,null,"Nivel Escolaridad",null,null,null,null,null,null,null,"Nivel Escolaridad"]
[null,null,null,"PREVENCIÓN",null,null,null,null,null,null,null,"Género",null,null,null,null,null,null,null,"Género"]
[null,null,null,"INGRESOS Y TRABAJO",null,null,null,null,null,null,null,"Víctimas",null,null,null,null,null,null,null,"Víctimas (desplazados, otras víctimas)"]
[null,null,null,"USO DEL TIEMPO LIBRE ",null,null,null,null,null,null,null,"Reincorporados",null,null,null,null,null,null,null,"Reincorporados"]
[null,null,null,null,null,null,null,null,null,null,null,"Puble étnicos",null,null,null,null,null,null,null,"Puble étnicos (afros, indigenas, RROM, ETC)"]
[null,null,null,null,null,null,null,null,null,null,null,"Otros abiertos",null,null,null,null,null,null,null,"Unidos"]
[null,null,null,null,null,null,null,null,null,null,null,null,null,null,null,null,null,null,null,"ICBF"]
[null,null,null,null,null,null,null,null,null,null,null,null,null,null,null,null,null,null,null,"Otros"]
[]
[]
[]
[]
[]
[null,null,null,null,"Nombre entidad",null,null,null,"Nombre del programa",null,null,null,null,"Descripción",null,null,null,null,null,null,null,null,null,null,"Beneficios o incentivos"]

{"sheet":"Guia JeA","index":17,"n_rows":24,"n_cols":25,"rows_kept":24,"cut":false,"hidden":true,"merged":[[29,4,29,7],[29,8,29,12],[29,13,29,23],[29,24,29,28],[27,4,27,7],[27,8,27,12],[27,13,27,23],[27,24,27,28],[28,4,28,7],[28,8,28,12],[28,13,28,23],[28,24,28,28],[25,4,25,7],[25,8,25,12],[25,13,25,23],[25,24,25,28],[26,4,26,7],[26,8,26,12],[26,13,26,23],[26,24,26,28],[23,4,23,7],[23,8,23,12],[23,13,23,23],[23,24,23,28],[24,4,24,7],[24,8,24,12],[24,13,24,23],[24,24,24,28],[17,19,17,25],[18,19,18,25],[22,4,22,7],[22,8,22,12],[22,13,22,23],[22,24,22,28],[16,11,16,14],[16,19,16,25],[12,3,12,7],[12,11,12,14],[12,19,12,25],[13,3,13,7],[13,11,13,14],[13,19,13,25],[14,3,14,7],[14,11,14,14],[14,19,14,25],[15,11,15,14],[15,19,15,25],[10,3,10,7],[10,11,10,14],[10,19,10,25],[11,3,11,7],[11,11,11,14],[11,19,11,25],[9,3,9,7],[9,11,9,14],[9,19,9,25],[1,1,1,30],[2,1,4,30],[8,3,8,7],[8,11,8,14],[8,19,8,25]]}
[]
[null,"GUÍA DE OFERTA PARA MI FAMILIA"]
[null,"La presente herramienta permite priorizar ofrtas pertienente para las caracteristicas y necesidades de la familia"]
[]
[]
[]
[]
[]
[null,null,null,"Derechos y dimensiones",null,null,null,null,null,null,null,"Requisitos de entrada",null,null,null,null,null,null,null,"Variables de focalización"]
[null,null,null,"SALUD",null,null,null,null,null,null,null,"Edad",null,null,null,null,null,null,null,"Edad"]
[null,null,null,"EDUCACIÓN Y CAPACITACIÓN",null,null,null,null,null,null,null,"Puntaje SISBEN",null,null,null,null,null,null,null,"Puntaje SISBEN"]
[null,null,null,"HABITABILIDAD ",null,null,null,null,null,null,null,"Nivel Escolaridad",null,null,null,null,null,null,null,"Nivel Escolaridad"]
[null,null,null,"PREVENCIÓN",null,null,null,null,null,null,null,"Género",null,null,null,null,null,null,null,"Género"]
[null,null,null,"INGRESOS Y TRABAJO",null,null,null,null,null,null,null,"Víctimas",null,null,null,null,null,null,null,"Víctimas (desplazados, otras víctimas)"]
[null,null,null,"USO DEL TIEMPO LIBRE ",null,null,null,null,null,null,null,"Reincorporados",null,null,null,null,null,null,null,"Reincorporados"]
[null,null,null,null,null,null,null,null,null,null,null,"Puble étnicos",null,null,null,null,null,null,null,"Puble étnicos (afros, indigenas, RROM, ETC)"]
[null,null,null,null,null,null,null,null,null,null,null,"Otros abiertos",null,null,null,null,null,null,null,"Unidos"]
[null,null,null,null,null,null,null,null,null,null,null,null,null,null,null,null,null,null,null,"ICBF"]
[null,null,null,null,null,null,null,null,null,null,null,null,null,null,null,null,null,null,null,"Otros"]
[]
[]
[]
[null,null,null,null,"Nombre entidad",null,null,null,"Nombre del programa",null,null,null,null,"Descripción",null,null,null,null,null,null,null,null,null,null,"Beneficios o incentivos"]
[null,null,null,null,"Departamento para la Prosperidad Social",null,null,null,"Jóvenes en Acción",null,null,null,null,"Apoya a los jóvenes en condición de pobreza y vulnerabilidad, con la entrega de transferencias monetarias condicionadas –TMC-, para que puedan continuar sus estudios técnicos, tecnológicos y profesionales.​",null,null,null,null,null,null,null,null,null,null,"Efectivo"]