{"text_format":"1","workbook":"xlsx","n_sheets":6,"sheets":["Mi Familia Urbana-Rural 2023","Listas","CZ_MUNICIPIO","Reg_Cz","Reg_CzMun","Dato"],"not_rendered":{"charts":0,"images":4,"macros":0,"external_links":0,"defined_names":271,"comments":0,"pivot_tables":1},"unopened":[],"bounds":{"document_bytes":16777216,"sheet_cells":100000,"rows_first":2000,"rows_last":500,"rows_between":2000,"halvings":0,"cell_chars":16384,"cell_head_chars":4096},"cells_cut":0,"cells_raw":0,"read":"whole","date_system":"1900"}

{"sheet":"Mi Familia Urbana-Rural 2023","index":0,"n_rows":5009,"n_cols":94,"rows_kept":5009,"cut":false,"hidden":false,"merged":[[8,91,8,93],[8,10,8,15],[8,89,8,90],[8,23,8,26],[8,28,8,47],[8,49,8,88]]}
[]
[]
[]
[]
[]
[]
[]
[]
[null,null,null,null,null,null,null,null,null,null,"PROFESIONALES QUE HACEN PARTE DE LA UAF (URBANA ó RURAL)",null,null,null,null,null,null,null,null,null,null,null,null,"FAMILIAS CON INTEGRANTES DE PROTECCIÓN",null,null,null,null,"ENCUENTROS FAMILIARES",null,null,null,null,null,null,null,null,null,null,null,null,null,null,null,null,null,null,null,null,"VISITAS EN DOMICILIO",null,null,null,null,null,null,null,null,null,null,null,null,null,null,null,null,null,null,null,null,null,null,null,null,null,null,null,null,null,null,null,null,null,null,null,null,null,null,null,"GESTIÓN DE CASO",null,"LA FAMILIA REPORTA ACCIONES FRENTE A ACCIONES EN LAS SIGUIENTES VARIABLES "]
["ID PRIORIZACIÓN","MODALIDAD","REGIONAL","CÓDIGO REGIONAL","NOMBRE CENTRO ZONAL","CÓDIGO CENTRO ZONAL","MUNICIPIO DE ATENCIÓN","CÓDIGO MUNICIPIO","NÚMERO DE CONTRATO\n(SITCO 11 DÍGITOS)","NOMBRE DE OPERADOR","NÚMERO DE DOCUMENTO PROFESIONAL ACOMPAÑAMIENTO FAMILIAR 1","NOMBRE COMPLETO PROFESIONAL ACOMPAÑAMIENTO FAMILIAR 1","NÚMERO DE DOCUMENTO DEL PROFESIONAL ACOMPAÑAMIENTO FAMILIAR 2","NOMBRE COMPLETO PROFESIONAL ACOMPAÑAMIENTO FAMILIAR 2","NÚMERO DE DOCUMENTO DEL PROFESIONAL ACOMPAÑAMIENTO FAMILIAR 3","NOMBRE COMPLETO PROFESIONAL ACOMPAÑAMIENTO FAMILIAR 3","TIPO DE DOCUMENTO DEL JEFE DE GRUPO FAMILIAR","NÚMERO DE DOCUMENTO DEL JEFE DE GRUPO FAMILIAR","PRIMER NOMBRE DEL JEFE DE GRUPO FAMILIAR","PRIMER APELLIDO DEL JEFE DE GRUPO FAMILIAR","NÚMERO DE INTEGRANTES DEL GRUPO FAMILIAR\n(Incluido el Jefe)","FECHA DE VINCULACIÓN DE LA FAMILIA A LA MODALIDAD MI FAMILIA\n(DD/MM/AAAA)","NÚMERO TELÉFONO/CELULAR DE LA FAMILIA","¿EN EL GRUPO FAMILIAR EXISTE ALGÚN INTEGRANTE QUE ESTÉ O HAYA ESTADO EN ALGUNA DE LAS MODALIDADES DE LA DIRECCIÓN DE PROTECCIÓN?","SI LA RESPUESTA ANTERIOR ES AFIRMATIVA  POR FAVOR INDIQUE EL PROCESO ICBF"," INDIQUE LA MODALIDAD/SERVICIO DE PROTECCIÓN","¿EL BENEFICIARIO IDENTIFICADO SE ENCUENTRA ACTIVO EN EL PROCESO?","¿EN EL GRUPO FAMILIAR EXISTE ALGÚN INTEGRANTE CON DISCAPACIDAD?","FORMA DE REALIZACIÓN DEL ENCUENTRO 1","FECHA DEL ENCUENTRO 1\nDD/MM/AAAA","MEDIO UTILIZADO\nENCUENTRO 1","TEMÁTICA\nENCUENTRO 1","EN CASO QUE LA TEMÁTICA\nDEL ENCUENTRO 1 SEA \"OTRO\" INDIQUE LA TEMÁTICA","FORMA DE REALIZACIÓN DEL ENCUENTRO 2","FECHA DEL ENCUENTRO 2\nDD/MM/AAAA","MEDIO UTILIZADO\nENCUENTRO 2","TEMÁTICA\nENCUENTRO 2","EN CASO QUE LA TEMÁTICA\nDEL ENCUENTRO 2 SEA \"OTRO\" INDIQUE LA TEMÁTICA","FORMA DE REALIZACIÓN DEL ENCUENTRO 3","FECHA DEL ENCUENTRO 3\nDD/MM/AAAA","MEDIO UTILIZADO\nENCUENTRO 3","TEMÁTICA\nENCUENTRO 3","EN CASO QUE LA TEMÁTICA\nDEL ENCUENTRO 3 SEA \"OTRO\" INDIQUE LA TEMÁTICA","FORMA DE REALIZACIÓN DEL ENCUENTRO 4","FECHA DEL ENCUENTRO 4\nDD/MM/AAAA","MEDIO UTILIZADO\nENCUENTRO 4","TEMÁTICA\nENCUENTRO 4","EN CASO QUE LA TEMÁTICA\nDEL ENCUENTRO 4 SEA \"OTRO\" INDIQUE LA TEMÁTICA","CUANTAS SESIONES DE NIVELACIÓN SE LE REALIZÓ A LA FAMILIA","FORMA DE REALIZACIÓN DE LA VISITA 1","VISITA 1\n(FECHA VISITA PRESENCIAL)\nDD/MM/AAAA","CANTIDAD DE LLAMADAS REALIZADAS PARA LA VISITA 1","TEMÁTICA","EN CASO QUE LA TEMÁTICA\nDE LA VISITA 1 SEA \"OTRO\" INDIQUE LA TEMÁTICA","FORMA DE REALIZACIÓN DE LA VISITA 2","VISITA 2\n(FECHA VISITA)\nDD/MM/AAAA","CANTIDAD DE LLAMADAS REALIZADAS PARA LA VISITA 2","TEMÁTICA","EN CASO QUE LA TEMÁTICA\nDE LA VISITA 2 SEA \"OTRO\" INDIQUE LA TEMÁTICA","FORMA DE REALIZACIÓN DE LA VISITA 3","VISITA 3\n(FECHA VISITA)\nDD/MM/AAAA","CANTIDAD DE LLAMADAS REALIZADAS PARA LA VISITA 3","TEMÁTICA","EN CASO QUE LA TEMÁTICA\nDE LA VISITA 3 SEA \"OTRO\" INDIQUE LA TEMÁTICA","FORMA DE REALIZACIÓN DE LA VISITA 4","VISITA 4\n(FECHA VISITA)\nDD/MM/AAAA","CANTIDAD DE LLAMADAS REALIZADAS PARA LA VISITA 4","TEMÁTICA","EN CASO QUE LA TEMÁTICA\nDE LA VISITA 4 SEA \"OTRO\" INDIQUE LA TEMÁTICA","FORMA DE REALIZACIÓN DE LA VISITA 5","VISITA 5\n(FECHA VISITA)\nDD/MM/AAAA","CANTIDAD DE LLAMADAS REALIZADAS PARA LA VISITA 5","TEMÁTICA","EN CASO QUE LA TEMÁTICA\nDE LA VISITA 5 SEA \"OTRO\" INDIQUE LA TEMÁTICA","FORMA DE REALIZACIÓN DE LA VISITA 6","VISITA 6\n(FECHA VISITA)\nDD/MM/AAAA","CANTIDAD DE LLAMADAS REALIZADAS PARA LA VISITA 6","TEMÁTICA","EN CASO QUE LA TEMÁTICA\nDE LA VISITA 6 SEA \"OTRO\" INDIQUE LA TEMÁTICA","FORMA DE REALIZACIÓN DE LA VISITA 7","VISITA 7\n(FECHA VISITA)\nDD/MM/AAAA","CANTIDAD DE LLAMADAS REALIZADAS PARA LA VISITA 7","TEMÁTICA","EN CASO QUE LA TEMÁTICA\nDE LA VISITA 7 SEA \"OTRO\" INDIQUE LA TEMÁTICA","FORMA DE REALIZACIÓN DE LA VISITA 8","VISITA 8\n(FECHA VISITA)\nDD/MM/AAAA","CANTIDAD DE LLAMADAS REALIZADAS PARA LA VISITA 8","TEMÁTICA","EN CASO QUE LA TEMÁTICA\nDE LA VISITA 8 SEA \"OTRO\" INDIQUE LA TEMÁTICA","LA FAMILIA TUVO GESTIÓN DE CASO","QUEDÓ CERRADA LA GESTIÓN DE CASO","ACTIVACIÓN DE RUTAS","CONVERGENCIA DE OFERTA ","GESTIÓN DE REDES"]
[null,null,null,{"$f":"IF(C11=\"\",\"\",VLOOKUP(C11,Tabla_Regional[],3,0))","v":""},null,{"$f":"IF(E11<>\"\",VLOOKUP(CONCATENATE(C11,E11),Dato!$A$4:$I$218,7,0),\"\")","v":""},null,{"$f":"IF(G11<>\"\",VLOOKUP(CONCATENATE(C11,E11,G11),czmuni,7,0),\"\")","v":""}]
[null,null,null,{"$f":"IF(C12=\"\",\"\",VLOOKUP(C12,Tabla_Regional[],3,0))","v":""},null,{"$f":"IF(E12<>\"\",VLOOKUP(CONCATENATE(C12,E12),Dato!$A$4:$I$218,7,0),\"\")","v":""},null,""]
[null,null,null,{"$f":"IF(C13=\"\",\"\",VLOOKUP(C13,Tabla_Regional[],3,0))","v":""},null,{"$f":"IF(E13<>\"\",VLOOKUP(CONCATENATE(C13,E13),Dato!$A$4:$I$218,7,0),\"\")","v":""},null,""]
[null,null,null,{"$f":"IF(C14=\"\",\"\",VLOOKUP(C14,Tabla_Regional[],3,0))","v":""},null,{"$f":"IF(E14<>\"\",VLOOKUP(CONCATENATE(C14,E14),Dato!$A$4:$I$218,7,0),\"\")","v":""},null,""]
[null,null,null,{"$f":"IF(C15=\"\",\"\",VLOOKUP(C15,Tabla_Regional[],3,0))","v":""},null,{"$f":"IF(E15<>\"\",VLOOKUP(CONCATENATE(C15,E15),Dato!$A$4:$I$218,7,0),\"\")","v":""},null,""]
[null,null,null,{"$f":"IF(C16=\"\",\"\",VLOOKUP(C16,Tabla_Regional[],3,0))","v":""},null,{"$f":"IF(E16<>\"\",VLOOKUP(CONCATENATE(C16,E16),Dato!$A$4:$I$218,7,0),\"\")","v":""},null,""]
[null,null,null,{"$f":"IF(C17=\"\",\"\",VLOOKUP(C17,Tabla_Regional[],3,0))","v":""},null,{"$f":"IF(E17<>\"\",VLOOKUP(CONCATENATE(C17,E17),Dato!$A$4:$I$218,7,0),\"\")","v":""},null,""]
[null,null,null,{"$f":"IF(C18=\"\",\"\",VLOOKUP(C18,Tabla_Regional[],3,0))","v":""},null,{"$f":"IF(E18<>\"\",VLOOKUP(CONCATENATE(C18,E18),Dato!$A$4:$I$218,7,0),\"\")","v":""},null,""]
[null,null,null,{"$f":"IF(C19=\"\",\"\",VLOOKUP(C19,Tabla_Regional[],3,0))","v":""},null,{"$f":"IF(E19<>\"\",VLOOKUP(CONCATENATE(C19,E19),Dato!$A$4:$I$218,7,0),\"\")","v":""},null,""]
[null,null,null,{"$f":"IF(C20=\"\",\"\",VLOOKUP(C20,Tabla_Regional[],3,0))","v":""},null,{"$f":"IF(E20<>\"\",VLOOKUP(CONCATENATE(C20,E20),Dato!$A$4:$I$218,7,0),\"\")","v":""},null,""]
[null,null,null,{"$f":"IF(C21=\"\",\"\",VLOOKUP(C21,Tabla_Regional[],3,0))","v":""},null,{"$f":"IF(E21<>\"\",VLOOKUP(CONCATENATE(C21,E21),Dato!$A$4:$I$218,7,0),\"\")","v":""},null,""]
[null,null,null,{"$f":"IF(C22=\"\",\"\",VLOOKUP(C22,Tabla_Regional[],3,0))","v":""},null,{"$f":"IF(E22<>\"\",VLOOKUP(CONCATENATE(C22,E22),Dato!$A$4:$I$218,7,0),\"\")","v":""},null,""]
[null,null,null,{"$f":"IF(C23=\"\",\"\",VLOOKUP(C23,Tabla_Regional[],3,0))","v":""},null,{"$f":"IF(E23<>\"\",VLOOKUP(CONCATENATE(C23,E23),Dato!$A$4:$I$218,7,0),\"\")","v":""},null,""]
[null,null,null,{"$f":"IF(C24=\"\",\"\",VLOOKUP(C24,Tabla_Regional[],3,0))","v":""},null,{"$f":"IF(E24<>\"\",VLOOKUP(CONCATENATE(C24,E24),Dato!$A$4:$I$218,7,0),\"\")","v":""},null,""]
[null,null,null,{"$f":"IF(C25=\"\",\"\",VLOOKUP(C25,Tabla_Regional[],3,0))","v":""},null,{"$f":"IF(E25<>\"\",VLOOKUP(CONCATENATE(C25,E25),Dato!$A$4:$I$218,7,0),\"\")","v":""},null,""]
[null,null,null,{"$f":"IF(C26=\"\",\"\",VLOOKUP(C26,Tabla_Regional[],3,0))","v":""},null,{"$f":"IF(E26<>\"\",VLOOKUP(CONCATENATE(C26,E26),Dato!$A$4:$I$218,7,0),\"\")","v":""},null,""]
[null,null,null,{"$f":"IF(C27=\"\",\"\",VLOOKUP(C27,Tabla_Regional[],3,0))","v":""},null,{"$f":"IF(E27<>\"\",VLOOKUP(CONCATENATE(C27,E27),Dato!$A$4:$I$218,7,0),\"\")","v":""},null,""]
[null,null,null,{"$f":"IF(C28=\"\",\"\",VLOOKUP(C28,Tabla_Regional[],3,0))","v":""},null,{"$f":"IF(E28<>\"\",VLOOKUP(CONCATENATE(C28,E28),Dato!$A$4:$I$218,7,0),\"\")","v":""},null,""]
[null,null,null,{"$f":"IF(C29=\"\",\"\",VLOOKUP(C29,Tabla_Regional[],3,0))","v":""},null,{"$f":"IF(E29<>\"\",VLOOKUP(CONCATENATE(C29,E29),Dato!$A$4:$I$218,7,0),\"\")","v":""},null,""]
[null,null,null,{"$f":"IF(C30=\"\",\"\",VLOOKUP(C30,Tabla_Regional[],3,0))","v":""},null,{"$f":"IF(E30<>\"\",VLOOKUP(CONCATENATE(C30,E30),Dato!$A$4:$I$218,7,0),\"\")","v":""},null,""]
[null,null,null,{"$f":"IF(C31=\"\",\"\",VLOOKUP(C31,Tabla_Regional[],3,0))","v":""},null,{"$f":"IF(E31<>\"\",VLOOKUP(CONCATENATE(C31,E31),Dato!$A$4:$I$218,7,0),\"\")","v":""},null,""]
[null,null,null,{"$f":"IF(C32=\"\",\"\",VLOOKUP(C32,Tabla_Regional[],3,0))","v":""},null,{"$f":"IF(E32<>\"\",VLOOKUP(CONCATENATE(C32,E32),Dato!$A$4:$I$218,7,0),\"\")","v":""},null,""]
[null,null,null,{"$f":"IF(C33=\"\",\"\",VLOOKUP(C33,Tabla_Regional[],3,0))","v":""},null,{"$f":"IF(E33<>\"\",VLOOKUP(CONCATENATE(C33,E33),Dato!$A$4:$I$218,7,0),\"\")","v":""},null,""]
[null,null,null,{"$f":"IF(C34=\"\",\"\",VLOOKUP(C34,Tabla_Regional[],3,0))","v":""},null,{"$f":"IF(E34<>\"\",VLOOKUP(CONCATENATE(C34,E34),Dato!$A$4:$I$218,7,0),\"\")","v":""},null,""]
[null,null,null,{"$f":"IF(C35=\"\",\"\",VLOOKUP(C35,Tabla_Regional[],3,0))","v":""},null,{"$f":"IF(E35<>\"\",VLOOKUP(CONCATENATE(C35,E35),Dato!$A$4:$I$218,7,0),\"\")","v":""},null,""]
[null,null,null,{"$f":"IF(C36=\"\",\"\",VLOOKUP(C36,Tabla_Regional[],3,0))","v":""},null,{"$f":"IF(E36<>\"\",VLOOKUP(CONCATENATE(C36,E36),Dato!$A$4:$I$218,7,0),\"\")","v":""},null,""]
[null,null,null,{"$f":"IF(C37=\"\",\"\",VLOOKUP(C37,Tabla_Regional[],3,0))","v":""},null,{"$f":"IF(E37<>\"\",VLOOKUP(CONCATENATE(C37,E37),Dato!$A$4:$I$218,7,0),\"\")","v":""},null,""]
[null,null,null,{"$f":"IF(C38=\"\",\"\",VLOOKUP(C38,Tabla_Regional[],3,0))","v":""},null,{"$f":"IF(E38<>\"\",VLOOKUP(CONCATENATE(C38,E38),Dato!$A$4:$I$218,7,0),\"\")","v":""},null,""]
[null,null,null,{"$f":"IF(C39=\"\",\"\",VLOOKUP(C39,Tabla_Regional[],3,0))","v":""},null,{"$f":"IF(E39<>\"\",VLOOKUP(CONCATENATE(C39,E39),Dato!$A$4:$I$218,7,0),\"\")","v":""},null,""]
[null,null,null,{"$f":"IF(C40=\"\",\"\",VLOOKUP(C40,Tabla_Regional[],3,0))","v":""},null,{"$f":"IF(E40<>\"\",VLOOKUP(CONCATENATE(C40,E40),Dato!$A$4:$I$218,7,0),\"\")","v":""},null,""]
[null,null,null,{"$f":"IF(C41=\"\",\"\",VLOOKUP(C41,Tabla_Regional[],3,0))","v":""},null,{"$f":"IF(E41<>\"\",VLOOKUP(CONCATENATE(C41,E41),Dato!$A$4:$I$218,7,0),\"\")","v":""},null,""]
[null,null,null,{"$f":"IF(C42=\"\",\"\",VLOOKUP(C42,Tabla_Regional[],3,0))","v":""},null,{"$f":"IF(E42<>\"\",VLOOKUP(CONCATENATE(C42,E42),Dato!$A$4:$I$218,7,0),\"\")","v":""},null,""]
[null,null,null,{"$f":"IF(C43=\"\",\"\",VLOOKUP(C43,Tabla_Regional[],3,0))","v":""},null,{"$f":"IF(E43<>\"\",VLOOKUP(CONCATENATE(C43,E43),Dato!$A$4:$I$218,7,0),\"\")","v":""},null,""]
[null,null,null,{"$f":"IF(C44=\"\",\"\",VLOOKUP(C44,Tabla_Regional[],3,0))","v":""},null,{"$f":"IF(E44<>\"\",VLOOKUP(CONCATENATE(C44,E44),Dato!$A$4:$I$218,7,0),\"\")","v":""},null,""]
[null,null,null,{"$f":"IF(C45=\"\",\"\",VLOOKUP(C45,Tabla_Regional[],3,0))","v":""},null,{"$f":"IF(E45<>\"\",VLOOKUP(CONCATENATE(C45,E45),Dato!$A$4:$I$218,7,0),\"\")","v":""},null,""]
[null,null,null,{"$f":"IF(C46=\"\",\"\",VLOOKUP(C46,Tabla_Regional[],3,0))","v":""},null,{"$f":"IF(E46<>\"\",VLOOKUP(CONCATENATE(C46,E46),Dato!$A$4:$I$218,7,0),\"\")","v":""},null,""]
[null,null,null,{"$f":"IF(C47=\"\",\"\",VLOOKUP(C47,Tabla_Regional[],3,0))","v":""},null,{"$f":"IF(E47<>\"\",VLOOKUP(CONCATENATE(C47,E47),Dato!$A$4:$I$218,7,0),\"\")","v":""},null,""]
[null,null,null,{"$f":"IF(C48=\"\",\"\",VLOOKUP(C48,Tabla_Regional[],3,0))","v":""},null,{"$f":"IF(E48<>\"\",VLOOKUP(CONCATENATE(C48,E48),Dato!$A$4:$I$218,7,0),\"\")","v":""},null,""]
[null,null,null,{"$f":"IF(C49=\"\",\"\",VLOOKUP(C49,Tabla_Regional[],3,0))","v":""},null,{"$f":"IF(E49<>\"\",VLOOKUP(CONCATENATE(C49,E49),Dato!$A$4:$I$218,7,0),\"\")","v":""},null,""]
[null,null,null,{"$f":"IF(C50=\"\",\"\",VLOOKUP(C50,Tabla_Regional[],3,0))","v":""},null,{"$f":"IF(E50<>\"\",VLOOKUP(CONCATENATE(C50,E50),Dato!$A$4:$I$218,7,0),\"\")","v":""},null,""]
[null,null,null,{"$f":"IF(C51=\"\",\"\",VLOOKUP(C51,Tabla_Regional[],3,0))","v":""},null,{"$f":"IF(E51<>\"\",VLOOKUP(CONCATENATE(C51,E51),Dato!$A$4:$I$218,7,0),\"\")","v":""},null,""]
[null,null,null,{"$f":"IF(C52=\"\",\"\",VLOOKUP(C52,Tabla_Regional[],3,0))","v":""},null,{"$f":"IF(E52<>\"\",VLOOKUP(CONCATENATE(C52,E52),Dato!$A$4:$I$218,7,0),\"\")","v":""},null,""]
[null,null,null,{"$f":"IF(C53=\"\",\"\",VLOOKUP(C53,Tabla_Regional[],3,0))","v":""},null,{"$f":"IF(E53<>\"\",VLOOKUP(CONCATENATE(C53,E53),Dato!$A$4:$I$218,7,0),\"\")","v":""},null,""]
[null,null,null,{"$f":"IF(C54=\"\",\"\",VLOOKUP(C54,Tabla_Regional[],3,0))","v":""},null,{"$f":"IF(E54<>\"\",VLOOKUP(CONCATENATE(C54,E54),Dato!$A$4:$I$218,7,0),\"\")","v":""},null,""]
[null,null,null,{"$f":"IF(C55=\"\",\"\",VLOOKUP(C55,Tabla_Regional[],3,0))","v":""},null,{"$f":"IF(E55<>\"\",VLOOKUP(CONCATENATE(C55,E55),Dato!$A$4:$I$218,7,0),\"\")","v":""},null,""]
[null,null,null,{"$f":"IF(C56=\"\",\"\",VLOOKUP(C56,Tabla_Regional[],3,0))","v":""},null,{"$f":"IF(E56<>\"\",VLOOKUP(CONCATENATE(C56,E56),Dato!$A$4:$I$218,7,0),\"\")","v":""},null,""]
[null,null,null,{"$f":"IF(C57=\"\",\"\",VLOOKUP(C57,Tabla_Regional[],3,0))","v":""},null,{"$f":"IF(E57<>\"\",VLOOKUP(CONCATENATE(C57,E57),Dato!$A$4:$I$218,7,0),\"\")","v":""},null,""]
[null,null,null,{"$f":"IF(C58=\"\",\"\",VLOOKUP(C58,Tabla_Regional[],3,0))","v":""},null,{"$f":"IF(E58<>\"\",VLOOKUP(CONCATENATE(C58,E58),Dato!$A$4:$I$218,7,0),\"\")","v":""},null,""]
[null,null,null,{"$f":"IF(C59=\"\",\"\",VLOOKUP(C59,Tabla_Regional[],3,0))","v":""},null,{"$f":"IF(E59<>\"\",VLOOKUP(CONCATENATE(C59,E59),Dato!$A$4:$I$218,7,0),\"\")","v":""},null,""]
[null,null,null,{"$f":"IF(C60=\"\",\"\",VLOOKUP(C60,Tabla_Regional[],3,0))","v":""},null,{"$f":"IF(E60<>\"\",VLOOKUP(CONCATENATE(C60,E60),Dato!$A$4:$I$218,7,0),\"\")","v":""},null,""]
[null,null,null,{"$f":"IF(C61=\"\",\"\",VLOOKUP(C61,Tabla_Regional[],3,0))","v":""},null,{"$f":"IF(E61<>\"\",VLOOKUP(CONCATENATE(C61,E61),Dato!$A$4:$I$218,7,0),\"\")","v":""},null,""]
[null,null,null,{"$f":"IF(C62=\"\",\"\",VLOOKUP(C62,Tabla_Regional[],3,0))","v":""},null,{"$f":"IF(E62<>\"\",VLOOKUP(CONCATENATE(C62,E62),Dato!$A$4:$I$218,7,0),\"\")","v":""},null,""]
[null,null,null,{"$f":"IF(C63=\"\",\"\",VLOOKUP(C63,Tabla_Regional[],3,0))","v":""},null,{"$f":"IF(E63<>\"\",VLOOKUP(CONCATENATE(C63,E63),Dato!$A$4:$I$218,7,0),\"\")","v":""},null,""]
[null,null,null,{"$f":"IF(C64=\"\",\"\",VLOOKUP(C64,Tabla_Regional[],3,0))","v":""},null,{"$f":"IF(E64<>\"\",VLOOKUP(CONCATENATE(C64,E64),Dato!$A$4:$I$218,7,0),\"\")","v":""},null,""]
[null,null,null,{"$f":"IF(C65=\"\",\"\",VLOOKUP(C65,Tabla_Regional[],3,0))","v":""},null,{"$f":"IF(E65<>\"\",VLOOKUP(CONCATENATE(C65,E65),Dato!$A$4:$I$218,7,0),\"\")","v":""},null,""]
[null,null,null,{"$f":"IF(C66=\"\",\"\",VLOOKUP(C66,Tabla_Regional[],3,0))","v":""},null,{"$f":"IF(E66<>\"\",VLOOKUP(CONCATENATE(C66,E66),Dato!$A$4:$I$218,7,0),\"\")","v":""},null,""]
[null,null,null,{"$f":"IF(C67=\"\",\"\",VLOOKUP(C67,Tabla_Regional[],3,0))","v":""},null,{"$f":"IF(E67<>\"\",VLOOKUP(CONCATENATE(C67,E67),Dato!$A$4:$I$218,7,0),\"\")","v":""},null,""]
[null,null,null,{"$f":"IF(C68=\"\",\"\",VLOOKUP(C68,Tabla_Regional[],3,0))","v":""},null,{"$f":"IF(E68<>\"\",VLOOKUP(CONCATENATE(C68,E68),Dato!$A$4:$I$218,7,0),\"\")","v":""},null,""]
[null,null,null,{"$f":"IF(C69=\"\",\"\",VLOOKUP(C69,Tabla_Regional[],3,0))","v":""},null,{"$f":"IF(E69<>\"\",VLOOKUP(CONCATENATE(C69,E69),Dato!$A$4:$I$218,7,0),\"\")","v":""},null,""]
[null,null,null,{"$f":"IF(C70=\"\",\"\",VLOOKUP(C70,Tabla_Regional[],3,0))","v":""},null,{"$f":"IF(E70<>\"\",VLOOKUP(CONCATENATE(C70,E70),Dato!$A$4:$I$218,7,0),\"\")","v":""},null,""]
[null,null,null,{"$f":"IF(C71=\"\",\"\",VLOOKUP(C71,Tabla_Regional[],3,0))","v":""},null,{"$f":"IF(E71<>\"\",VLOOKUP(CONCATENATE(C71,E71),Dato!$A$4:$I$218,7,0),\"\")","v":""},null,""]
[null,null,null,{"$f":"IF(C72=\"\",\"\",VLOOKUP(C72,Tabla_Regional[],3,0))","v":""},null,{"$f":"IF(E72<>\"\",VLOOKUP(CONCATENATE(C72,E72),Dato!$A$4:$I$218,7,0),\"\")","v":""},null,""]
[null,null,null,{"$f":"IF(C73=\"\",\"\",VLOOKUP(C73,Tabla_Regional[],3,0))","v":""},null,{"$f":"IF(E73<>\"\",VLOOKUP(CONCATENATE(C73,E73),Dato!$A$4:$I$218,7,0),\"\")","v":""},null,""]
[null,null,null,{"$f":"IF(C74=\"\",\"\",VLOOKUP(C74,Tabla_Regional[],3,0))","v":""},null,{"$f":"IF(E74<>\"\",VLOOKUP(CONCATENATE(C74,E74),Dato!$A$4:$I$218,7,0),\"\")","v":""},null,""]
[null,null,null,{"$f":"IF(C75=\"\",\"\",VLOOKUP(C75,Tabla_Regional[],3,0))","v":""},null,{"$f":"IF(E75<>\"\",VLOOKUP(CONCATENATE(C75,E75),Dato!$A$4:$I$218,7,0),\"\")","v":""},null,""]
[null,null,null,{"$f":"IF(C76=\"\",\"\",VLOOKUP(C76,Tabla_Regional[],3,0))","v":""},null,{"$f":"IF(E76<>\"\",VLOOKUP(CONCATENATE(C76,E76),Dato!$A$4:$I$218,7,0),\"\")","v":""},null,{"$f":"IF(G76<>\"\",VLOOKUP(CONCATENATE(C76,E76,G76),czmuni,7,0),\"\")","v":""}]
[null,null,null,{"$f":"IF(C77=\"\",\"\",VLOOKUP(C77,Tabla_Regional[],3,0))","v":""},null,{"$f":"IF(E77<>\"\",VLOOKUP(CONCATENATE(C77,E77),Dato!$A$4:$I$218,7,0),\"\")","v":""},null,""]
[null,null,null,{"$f":"IF(C78=\"\",\"\",VLOOKUP(C78,Tabla_Regional[],3,0))","v":""},null,{"$f":"IF(E78<>\"\",VLOOKUP(CONCATENATE(C78,E78),Dato!$A$4:$I$218,7,0),\"\")","v":""},null,""]
[null,null,null,{"$f":"IF(C79=\"\",\"\",VLOOKUP(C79,Tabla_Regional[],3,0))","v":""},null,{"$f":"IF(E79<>\"\",VLOOKUP(CONCATENATE(C79,E79),Dato!$A$4:$I$218,7,0),\"\")","v":""},null,""]
[null,null,null,{"$f":"IF(C80=\"\",\"\",VLOOKUP(C80,Tabla_Regional[],3,0))","v":""},null,{"$f":"IF(E80<>\"\",VLOOKUP(CONCATENATE(C80,E80),Dato!$A$4:$I$218,7,0),\"\")","v":""},null,""]
[null,null,null,{"$f":"IF(C81=\"\",\"\",VLOOKUP(C81,Tabla_Regional[],3,0))","v":""},null,{"$f":"IF(E81<>\"\",VLOOKUP(CONCATENATE(C81,E81),Dato!$A$4:$I$218,7,0),\"\")","v":""},null,""]
[null,null,null,{"$f":"IF(C82=\"\",\"\",VLOOKUP(C82,Tabla_Regional[],3,0))","v":""},null,{"$f":"IF(E82<>\"\",VLOOKUP(CONCATENATE(C82,E82),Dato!$A$4:$I$218,7,0),\"\")","v":""},null,""]
[null,null,null,{"$f":"IF(C83=\"\",\"\",VLOOKUP(C83,Tabla_Regional[],3,0))","v":""},null,{"$f":"IF(E83<>\"\",VLOOKUP(CONCATENATE(C83,E83),Dato!$A$4:$I$218,7,0),\"\")","v":""},null,""]
[null,null,null,{"$f":"IF(C84=\"\",\"\",VLOOKUP(C84,Tabla_Regional[],3,0))","v":""},null,{"$f":"IF(E84<>\"\",VLOOKUP(CONCATENATE(C84,E84),Dato!$A$4:$I$218,7,0),\"\")","v":""},null,""]
[null,null,null,{"$f":"IF(C85=\"\",\"\",VLOOKUP(C85,Tabla_Regional[],3,0))","v":""},null,{"$f":"IF(E85<>\"\",VLOOKUP(CONCATENATE(C85,E85),Dato!$A$4:$I$218,7,0),\"\")","v":""},null,""]
[null,null,null,{"$f":"IF(C86=\"\",\"\",VLOOKUP(C86,Tabla_Regional[],3,0))","v":""},null,{"$f":"IF(E86<>\"\",VLOOKUP(CONCATENATE(C86,E86),Dato!$A$4:$I$218,7,0),\"\")","v":""},null,""]
[null,null,null,{"$f":"IF(C87=\"\",\"\",VLOOKUP(C87,Tabla_Regional[],3,0))","v":""},null,{"$f":"IF(E87<>\"\",VLOOKUP(CONCATENATE(C87,E87),Dato!$A$4:$I$218,7,0),\"\")","v":""},null,""]
[null,null,null,{"$f":"IF(C88=\"\",\"\",VLOOKUP(C88,Tabla_Regional[],3,0))","v":""},null,{"$f":"IF(E88<>\"\",VLOOKUP(CONCATENATE(C88,E88),Dato!$A$4:$I$218,7,0),\"\")","v":""},null,""]
[null,null,null,{"$f":"IF(C89=\"\",\"\",VLOOKUP(C89,Tabla_Regional[],3,0))","v":""},null,{"$f":"IF(E89<>\"\",VLOOKUP(CONCATENATE(C89,E89),Dato!$A$4:$I$218,7,0),\"\")","v":""},null,""]
[null,null,null,{"$f":"IF(C90=\"\",\"\",VLOOKUP(C90,Tabla_Regional[],3,0))","v":""},null,{"$f":"IF(E90<>\"\",VLOOKUP(CONCATENATE(C90,E90),Dato!$A$4:$I$218,7,0),\"\")","v":""},null,""]
[null,null,null,{"$f":"IF(C91=\"\",\"\",VLOOKUP(C91,Tabla_Regional[],3,0))","v":""},null,{"$f":"IF(E91<>\"\",VLOOKUP(CONCATENATE(C91,E91),Dato!$A$4:$I$218,7,0),\"\")","v":""},null,""]
[null,null,null,{"$f":"IF(C92=\"\",\"\",VLOOKUP(C92,Tabla_Regional[],3,0))","v":""},null,{"$f":"IF(E92<>\"\",VLOOKUP(CONCATENATE(C92,E92),Dato!$A$4:$I$218,7,0),\"\")","v":""},null,""]
[null,null,null,{"$f":"IF(C93=\"\",\"\",VLOOKUP(C93,Tabla_Regional[],3,0))","v":""},null,{"$f":"IF(E93<>\"\",VLOOKUP(CONCATENATE(C93,E93),Dato!$A$4:$I$218,7,0),\"\")","v":""},null,""]
[null,null,null,{"$f":"IF(C94=\"\",\"\",VLOOKUP(C94,Tabla_Regional[],3,0))","v":""},null,{"$f":"IF(E94<>\"\",VLOOKUP(CONCATENATE(C94,E94),Dato!$A$4:$I$218,7,0),\"\")","v":""},null,""]
[null,null,null,{"$f":"IF(C95=\"\",\"\",VLOOKUP(C95,Tabla_Regional[],3,0))","v":""},null,{"$f":"IF(E95<>\"\",VLOOKUP(CONCATENATE(C95,E95),Dato!$A$4:$I$218,7,0),\"\")","v":""},null,""]
[null,null,null,{"$f":"IF(C96=\"\",\"\",VLOOKUP(C96,Tabla_Regional[],3,0))","v":""},null,{"$f":"IF(E96<>\"\",VLOOKUP(CONCATENATE(C96,E96),Dato!$A$4:$I$218,7,0),\"\")","v":""},null,""]
[null,null,null,{"$f":"IF(C97=\"\",\"\",VLOOKUP(C97,Tabla_Regional[],3,0))","v":""},null,{"$f":"IF(E97<>\"\",VLOOKUP(CONCATENATE(C97,E97),Dato!$A$4:$I$218,7,0),\"\")","v":""},null,""]
[null,null,null,{"$f":"IF(C98=\"\",\"\",VLOOKUP(C98,Tabla_Regional[],3,0))","v":""},null,{"$f":"IF(E98<>\"\",VLOOKUP(CONCATENATE(C98,E98),Dato!$A$4:$I$218,7,0),\"\")","v":""},null,""]
[null,null,null,{"$f":"IF(C99=\"\",\"\",VLOOKUP(C99,Tabla_Regional[],3,0))","v":""},null,{"$f":"IF(E99<>\"\",VLOOKUP(CONCATENATE(C99,E99),Dato!$A$4:$I$218,7,0),\"\")","v":""},null,""]
[null,null,null,{"$f":"IF(C100=\"\",\"\",VLOOKUP(C100,Tabla_Regional[],3,0))","v":""},null,{"$f":"IF(E100<>\"\",VLOOKUP(CONCATENATE(C100,E100),Dato!$A$4:$I$218,7,0),\"\")","v":""},null,""]
[null,null,null,{"$f":"IF(C101=\"\",\"\",VLOOKUP(C101,Tabla_Regional[],3,0))","v":""},null,{"$f":"IF(E101<>\"\",VLOOKUP(CONCATENATE(C101,E101),Dato!$A$4:$I$218,7,0),\"\")","v":""},null,""]
[null,null,null,{"$f":"IF(C102=\"\",\"\",VLOOKUP(C102,Tabla_Regional[],3,0))","v":""},null,{"$f":"IF(E102<>\"\",VLOOKUP(CONCATENATE(C102,E102),Dato!$A$4:$I$218,7,0),\"\")","v":""},null,""]
[null,null,null,{"$f":"IF(C103=\"\",\"\",VLOOKUP(C103,Tabla_Regional[],3,0))","v":""},null,{"$f":"IF(E103<>\"\",VLOOKUP(CONCATENATE(C103,E103),Dato!$A$4:$I$218,7,0),\"\")","v":""},null,""]
[null,null,null,{"$f":"IF(C104=\"\",\"\",VLOOKUP(C104,Tabla_Regional[],3,0))","v":""},null,{"$f":"IF(E104<>\"\",VLOOKUP(CONCATENATE(C104,E104),Dato!$A$4:$I$218,7,0),\"\")","v":""},null,""]
[null,null,null,{"$f":"IF(C105=\"\",\"\",VLOOKUP(C105,Tabla_Regional[],3,0))","v":""},null,{"$f":"IF(E105<>\"\",VLOOKUP(CONCATENATE(C105,E105),Dato!$A$4:$I$218,7,0),\"\")","v":""},null,""]
[null,null,null,{"$f":"IF(C106=\"\",\"\",VLOOKUP(C106,Tabla_Regional[],3,0))","v":""},null,{"$f":"IF(E106<>\"\",VLOOKUP(CONCATENATE(C106,E106),Dato!$A$4:$I$218,7,0),\"\")","v":""},null,""]
[null,null,null,{"$f":"IF(C107=\"\",\"\",VLOOKUP(C107,Tabla_Regional[],3,0))","v":""},null,{"$f":"IF(E107<>\"\",VLOOKUP(CONCATENATE(C107,E107),Dato!$A$4:$I$218,7,0),\"\")","v":""},null,""]
[null,null,null,{"$f":"IF(C108=\"\",\"\",VLOOKUP(C108,Tabla_Regional[],3,0))","v":""},null,{"$f":"IF(E108<>\"\",VLOOKUP(CONCATENATE(C108,E108),Dato!$A$4:$I$218,7,0),\"\")","v":""},null,""]
[null,null,null,{"$f":"IF(C109=\"\",\"\",VLOOKUP(C109,Tabla_Regional[],3,0))","v":""},null,{"$f":"IF(E109<>\"\",VLOOKUP(CONCATENATE(C109,E109),Dato!$A$4:$I$218,7,0),\"\")","v":""},null,""]
[null,null,null,{"$f":"IF(C110=\"\",\"\",VLOOKUP(C110,Tabla_Regional[],3,0))","v":""},null,{"$f":"IF(E110<>\"\",VLOOKUP(CONCATENATE(C110,E110),Dato!$A$4:$I$218,7,0),\"\")","v":""},null,""]
[null,null,null,{"$f":"IF(C111=\"\",\"\",VLOOKUP(C111,Tabla_Regional[],3,0))","v":""},null,{"$f":"IF(E111<>\"\",VLOOKUP(CONCATENATE(C111,E111),Dato!$A$4:$I$218,7,0),\"\")","v":""},null,""]
[null,null,null,{"$f":"IF(C112=\"\",\"\",VLOOKUP(C112,Tabla_Regional[],3,0))","v":""},null,{"$f":"IF(E112<>\"\",VLOOKUP(CONCATENATE(C112,E112),Dato!$A$4:$I$218,7,0),\"\")","v":""},null,""]
[null,null,null,{"$f":"IF(C113=\"\",\"\",VLOOKUP(C113,Tabla_Regional[],3,0))","v":""},null,{"$f":"IF(E113<>\"\",VLOOKUP(CONCATENATE(C113,E113),Dato!$A$4:$I$218,7,0),\"\")","v":""},null,""]
[null,null,null,{"$f":"IF(C114=\"\",\"\",VLOOKUP(C114,Tabla_Regional[],3,0))","v":""},null,{"$f":"IF(E114<>\"\",VLOOKUP(CONCATENATE(C114,E114),Dato!$A$4:$I$218,7,0),\"\")","v":""},null,""]
[null,null,null,{"$f":"IF(C115=\"\",\"\",VLOOKUP(C115,Tabla_Regional[],3,0))","v":""},null,{"$f":"IF(E115<>\"\",VLOOKUP(CONCATENATE(C115,E115),Dato!$A$4:$I$218,7,0),\"\")","v":""},null,""]
[null,null,null,{"$f":"IF(C116=\"\",\"\",VLOOKUP(C116,Tabla_Regional[],3,0))","v":""},null,{"$f":"IF(E116<>\"\",VLOOKUP(CONCATENATE(C116,E116),Dato!$A$4:$I$218,7,0),\"\")","v":""},null,""]
[null,null,null,{"$f":"IF(C117=\"\",\"\",VLOOKUP(C117,Tabla_Regional[],3,0))","v":""},null,{"$f":"IF(E117<>\"\",VLOOKUP(CONCATENATE(C117,E117),Dato!$A$4:$I$218,7,0),\"\")","v":""},null,""]
[null,null,null,{"$f":"IF(C118=\"\",\"\",VLOOKUP(C118,Tabla_Regional[],3,0))","v":""},null,{"$f":"IF(E118<>\"\",VLOOKUP(CONCATENATE(C118,E118),Dato!$A$4:$I$218,7,0),\"\")","v":""},null,""]
[null,null,null,{"$f":"IF(C119=\"\",\"\",VLOOKUP(C119,Tabla_Regional[],3,0))","v":""},null,{"$f":"IF(E119<>\"\",VLOOKUP(CONCATENATE(C119,E119),Dato!$A$4:$I$218,7,0),\"\")","v":""},null,""]
[null,null,null,{"$f":"IF(C120=\"\",\"\",VLOOKUP(C120,Tabla_Regional[],3,0))","v":""},null,{"$f":"IF(E120<>\"\",VLOOKUP(CONCATENATE(C120,E120),Dato!$A$4:$I$218,7,0),\"\")","v":""},null,""]
[null,null,null,{"$f":"IF(C121=\"\",\"\",VLOOKUP(C121,Tabla_Regional[],3,0))","v":""},null,{"$f":"IF(E121<>\"\",VLOOKUP(CONCATENATE(C121,E121),Dato!$A$4:$I$218,7,0),\"\")","v":""},null,""]
[null,null,null,{"$f":"IF(C122=\"\",\"\",VLOOKUP(C122,Tabla_Regional[],3,0))","v":""},null,{"$f":"IF(E122<>\"\",VLOOKUP(CONCATENATE(C122,E122),Dato!$A$4:$I$218,7,0),\"\")","v":""},null,""]
[null,null,null,{"$f":"IF(C123=\"\",\"\",VLOOKUP(C123,Tabla_Regional[],3,0))","v":""},null,{"$f":"IF(E123<>\"\",VLOOKUP(CONCATENATE(C123,E123),Dato!$A$4:$I$218,7,0),\"\")","v":""},null,""]
[null,null,null,{"$f":"IF(C124=\"\",\"\",VLOOKUP(C124,Tabla_Regional[],3,0))","v":""},null,{"$f":"IF(E124<>\"\",VLOOKUP(CONCATENATE(C124,E124),Dato!$A$4:$I$218,7,0),\"\")","v":""},null,""]
[null,null,null,{"$f":"IF(C125=\"\",\"\",VLOOKUP(C125,Tabla_Regional[],3,0))","v":""},null,{"$f":"IF(E125<>\"\",VLOOKUP(CONCATENATE(C125,E125),Dato!$A$4:$I$218,7,0),\"\")","v":""},null,""]
[null,null,null,{"$f":"IF(C126=\"\",\"\",VLOOKUP(C126,Tabla_Regional[],3,0))","v":""},null,{"$f":"IF(E126<>\"\",VLOOKUP(CONCATENATE(C126,E126),Dato!$A$4:$I$218,7,0),\"\")","v":""},null,""]
[null,null,null,{"$f":"IF(C127=\"\",\"\",VLOOKUP(C127,Tabla_Regional[],3,0))","v":""},null,{"$f":"IF(E127<>\"\",VLOOKUP(CONCATENATE(C127,E127),Dato!$A$4:$I$218,7,0),\"\")","v":""},null,""]
[null,null,null,{"$f":"IF(C128=\"\",\"\",VLOOKUP(C128,Tabla_Regional[],3,0))","v":""},null,{"$f":"IF(E128<>\"\",VLOOKUP(CONCATENATE(C128,E128),Dato!$A$4:$I$218,7,0),\"\")","v":""},null,""]
[null,null,null,{"$f":"IF(C129=\"\",\"\",VLOOKUP(C129,Tabla_Regional[],3,0))","v":""},null,{"$f":"IF(E129<>\"\",VLOOKUP(CONCATENATE(C129,E129),Dato!$A$4:$I$218,7,0),\"\")","v":""},null,""]
[null,null,null,{"$f":"IF(C130=\"\",\"\",VLOOKUP(C130,Tabla_Regional[],3,0))","v":""},null,{"$f":"IF(E130<>\"\",VLOOKUP(CONCATENATE(C130,E130),Dato!$A$4:$I$218,7,0),\"\")","v":""},null,""]
[null,null,null,{"$f":"IF(C131=\"\",\"\",VLOOKUP(C131,Tabla_Regional[],3,0))","v":""},null,{"$f":"IF(E131<>\"\",VLOOKUP(CONCATENATE(C131,E131),Dato!$A$4:$I$218,7,0),\"\")","v":""},null,""]
[null,null,null,{"$f":"IF(C132=\"\",\"\",VLOOKUP(C132,Tabla_Regional[],3,0))","v":""},null,{"$f":"IF(E132<>\"\",VLOOKUP(CONCATENATE(C132,E132),Dato!$A$4:$I$218,7,0),\"\")","v":""},null,""]
[null,null,null,{"$f":"IF(C133=\"\",\"\",VLOOKUP(C133,Tabla_Regional[],3,0))","v":""},null,{"$f":"IF(E133<>\"\",VLOOKUP(CONCATENATE(C133,E133),Dato!$A$4:$I$218,7,0),\"\")","v":""},null,""]
[null,null,null,{"$f":"IF(C134=\"\",\"\",VLOOKUP(C134,Tabla_Regional[],3,0))","v":""},null,{"$f":"IF(E134<>\"\",VLOOKUP(CONCATENATE(C134,E134),Dato!$A$4:$I$218,7,0),\"\")","v":""},null,""]
[null,null,null,{"$f":"IF(C135=\"\",\"\",VLOOKUP(C135,Tabla_Regional[],3,0))","v":""},null,{"$f":"IF(E135<>\"\",VLOOKUP(CONCATENATE(C135,E135),Dato!$A$4:$I$218,7,0),\"\")","v":""},null,""]
[null,null,null,{"$f":"IF(C136=\"\",\"\",VLOOKUP(C136,Tabla_Regional[],3,0))","v":""},null,{"$f":"IF(E136<>\"\",VLOOKUP(CONCATENATE(C136,E136),Dato!$A$4:$I$218,7,0),\"\")","v":""},null,""]
[null,null,null,{"$f":"IF(C137=\"\",\"\",VLOOKUP(C137,Tabla_Regional[],3,0))","v":""},null,{"$f":"IF(E137<>\"\",VLOOKUP(CONCATENATE(C137,E137),Dato!$A$4:$I$218,7,0),\"\")","v":""},null,""]
[null,null,null,{"$f":"IF(C138=\"\",\"\",VLOOKUP(C138,Tabla_Regional[],3,0))","v":""},null,{"$f":"IF(E138<>\"\",VLOOKUP(CONCATENATE(C138,E138),Dato!$A$4:$I$218,7,0),\"\")","v":""},null,""]
[null,null,null,{"$f":"IF(C139=\"\",\"\",VLOOKUP(C139,Tabla_Regional[],3,0))","v":""},null,{"$f":"IF(E139<>\"\",VLOOKUP(CONCATENATE(C139,E139),Dato!$A$4:$I$218,7,0),\"\")","v":""},null,""]
[null,null,null,{"$f":"IF(C140=\"\",\"\",VLOOKUP(C140,Tabla_Regional[],3,0))","v":""},null,{"$f":"IF(E140<>\"\",VLOOKUP(CONCATENATE(C140,E140),Dato!$A$4:$I$218,7,0),\"\")","v":""},null,{"$f":"IF(G140<>\"\",VLOOKUP(CONCATENATE(C140,E140,G140),czmuni,7,0),\"\")","v":""}]
[null,null,null,{"$f":"IF(C141=\"\",\"\",VLOOKUP(C141,Tabla_Regional[],3,0))","v":""},null,{"$f":"IF(E141<>\"\",VLOOKUP(CONCATENATE(C141,E141),Dato!$A$4:$I$218,7,0),\"\")","v":""},null,""]
[null,null,null,{"$f":"IF(C142=\"\",\"\",VLOOKUP(C142,Tabla_Regional[],3,0))","v":""},null,{"$f":"IF(E142<>\"\",VLOOKUP(CONCATENATE(C142,E142),Dato!$A$4:$I$218,7,0),\"\")","v":""},null,""]
[null,null,null,{"$f":"IF(C143=\"\",\"\",VLOOKUP(C143,Tabla_Regional[],3,0))","v":""},null,{"$f":"IF(E143<>\"\",VLOOKUP(CONCATENATE(C143,E143),Dato!$A$4:$I$218,7,0),\"\")","v":""},null,""]
[null,null,null,{"$f":"IF(C144=\"\",\"\",VLOOKUP(C144,Tabla_Regional[],3,0))","v":""},null,{"$f":"IF(E144<>\"\",VLOOKUP(CONCATENATE(C144,E144),Dato!$A$4:$I$218,7,0),\"\")","v":""},null,""]
[null,null,null,{"$f":"IF(C145=\"\",\"\",VLOOKUP(C145,Tabla_Regional[],3,0))","v":""},null,{"$f":"IF(E145<>\"\",VLOOKUP(CONCATENATE(C145,E145),Dato!$A$4:$I$218,7,0),\"\")","v":""},null,""]
[null,null,null,{"$f":"IF(C146=\"\",\"\",VLOOKUP(C146,Tabla_Regional[],3,0))","v":""},null,{"$f":"IF(E146<>\"\",VLOOKUP(CONCATENATE(C146,E146),Dato!$A$4:$I$218,7,0),\"\")","v":""},null,""]
[null,null,null,{"$f":"IF(C147=\"\",\"\",VLOOKUP(C147,Tabla_Regional[],3,0))","v":""},null,{"$f":"IF(E147<>\"\",VLOOKUP(CONCATENATE(C147,E147),Dato!$A$4:$I$218,7,0),\"\")","v":""},null,""]
[null,null,null,{"$f":"IF(C148=\"\",\"\",VLOOKUP(C148,Tabla_Regional[],3,0))","v":""},null,{"$f":"IF(E148<>\"\",VLOOKUP(CONCATENATE(C148,E148),Dato!$A$4:$I$218,7,0),\"\")","v":""},null,""]
[null,null,null,{"$f":"IF(C149=\"\",\"\",VLOOKUP(C149,Tabla_Regional[],3,0))","v":""},null,{"$f":"IF(E149<>\"\",VLOOKUP(CONCATENATE(C149,E149),Dato!$A$4:$I$218,7,0),\"\")","v":""},null,""]
[null,null,null,{"$f":"IF(C150=\"\",\"\",VLOOKUP(C150,Tabla_Regional[],3,0))","v":""},null,{"$f":"IF(E150<>\"\",VLOOKUP(CONCATENATE(C150,E150),Dato!$A$4:$I$218,7,0),\"\")","v":""},null,""]
[null,null,null,{"$f":"IF(C151=\"\",\"\",VLOOKUP(C151,Tabla_Regional[],3,0))","v":""},null,{"$f":"IF(E151<>\"\",VLOOKUP(CONCATENATE(C151,E151),Dato!$A$4:$I$218,7,0),\"\")","v":""},null,""]
[null,null,null,{"$f":"IF(C152=\"\",\"\",VLOOKUP(C152,Tabla_Regional[],3,0))","v":""},null,{"$f":"IF(E152<>\"\",VLOOKUP(CONCATENATE(C152,E152),Dato!$A$4:$I$218,7,0),\"\")","v":""},null,""]
[null,null,null,{"$f":"IF(C153=\"\",\"\",VLOOKUP(C153,Tabla_Regional[],3,0))","v":""},null,{"$f":"IF(E153<>\"\",VLOOKUP(CONCATENATE(C153,E153),Dato!$A$4:$I$218,7,0),\"\")","v":""},null,""]
[null,null,null,{"$f":"IF(C154=\"\",\"\",VLOOKUP(C154,Tabla_Regional[],3,0))","v":""},null,{"$f":"IF(E154<>\"\",VLOOKUP(CONCATENATE(C154,E154),Dato!$A$4:$I$218,7,0),\"\")","v":""},null,""]
[null,null,null,{"$f":"IF(C155=\"\",\"\",VLOOKUP(C155,Tabla_Regional[],3,0))","v":""},null,{"$f":"IF(E155<>\"\",VLOOKUP(CONCATENATE(C155,E155),Dato!$A$4:$I$218,7,0),\"\")","v":""},null,""]
[null,null,null,{"$f":"IF(C156=\"\",\"\",VLOOKUP(C156,Tabla_Regional[],3,0))","v":""},null,{"$f":"IF(E156<>\"\",VLOOKUP(CONCATENATE(C156,E156),Dato!$A$4:$I$218,7,0),\"\")","v":""},null,""]
[null,null,null,{"$f":"IF(C157=\"\",\"\",VLOOKUP(C157,Tabla_Regional[],3,0))","v":""},null,{"$f":"IF(E157<>\"\",VLOOKUP(CONCATENATE(C157,E157),Dato!$A$4:$I$218,7,0),\"\")","v":""},null,""]
[null,null,null,{"$f":"IF(C158=\"\",\"\",VLOOKUP(C158,Tabla_Regional[],3,0))","v":""},null,{"$f":"IF(E158<>\"\",VLOOKUP(CONCATENATE(C158,E158),Dato!$A$4:$I$218,7,0),\"\")","v":""},null,""]
[null,null,null,{"$f":"IF(C159=\"\",\"\",VLOOKUP(C159,Tabla_Regional[],3,0))","v":""},null,{"$f":"IF(E159<>\"\",VLOOKUP(CONCATENATE(C159,E159),Dato!$A$4:$I$218,7,0),\"\")","v":""},null,""]
[null,null,null,{"$f":"IF(C160=\"\",\"\",VLOOKUP(C160,Tabla_Regional[],3,0))","v":""},null,{"$f":"IF(E160<>\"\",VLOOKUP(CONCATENATE(C160,E160),Dato!$A$4:$I$218,7,0),\"\")","v":""},null,""]
[null,null,null,{"$f":"IF(C161=\"\",\"\",VLOOKUP(C161,Tabla_Regional[],3,0))","v":""},null,{"$f":"IF(E161<>\"\",VLOOKUP(CONCATENATE(C161,E161),Dato!$A$4:$I$218,7,0),\"\")","v":""},null,""]
[null,null,null,{"$f":"IF(C162=\"\",\"\",VLOOKUP(C162,Tabla_Regional[],3,0))","v":""},null,{"$f":"IF(E162<>\"\",VLOOKUP(CONCATENATE(C162,E162),Dato!$A$4:$I$218,7,0),\"\")","v":""},null,""]
[null,null,null,{"$f":"IF(C163=\"\",\"\",VLOOKUP(C163,Tabla_Regional[],3,0))","v":""},null,{"$f":"IF(E163<>\"\",VLOOKUP(CONCATENATE(C163,E163),Dato!$A$4:$I$218,7,0),\"\")","v":""},null,""]
[null,null,null,{"$f":"IF(C164=\"\",\"\",VLOOKUP(C164,Tabla_Regional[],3,0))","v":""},null,{"$f":"IF(E164<>\"\",VLOOKUP(CONCATENATE(C164,E164),Dato!$A$4:$I$218,7,0),\"\")","v":""},null,""]
[null,null,null,{"$f":"IF(C165=\"\",\"\",VLOOKUP(C165,Tabla_Regional[],3,0))","v":""},null,{"$f":"IF(E165<>\"\",VLOOKUP(CONCATENATE(C165,E165),Dato!$A$4:$I$218,7,0),\"\")","v":""},null,""]
[null,null,null,{"$f":"IF(C166=\"\",\"\",VLOOKUP(C166,Tabla_Regional[],3,0))","v":""},null,{"$f":"IF(E166<>\"\",VLOOKUP(CONCATENATE(C166,E166),Dato!$A$4:$I$218,7,0),\"\")","v":""},null,""]
[null,null,null,{"$f":"IF(C167=\"\",\"\",VLOOKUP(C167,Tabla_Regional[],3,0))","v":""},null,{"$f":"IF(E167<>\"\",VLOOKUP(CONCATENATE(C167,E167),Dato!$A$4:$I$218,7,0),\"\")","v":""},null,""]
[null,null,null,{"$f":"IF(C168=\"\",\"\",VLOOKUP(C168,Tabla_Regional[],3,0))","v":""},null,{"$f":"IF(E168<>\"\",VLOOKUP(CONCATENATE(C168,E168),Dato!$A$4:$I$218,7,0),\"\")","v":""},null,""]
[null,null,null,{"$f":"IF(C169=\"\",\"\",VLOOKUP(C169,Tabla_Regional[],3,0))","v":""},null,{"$f":"IF(E169<>\"\",VLOOKUP(CONCATENATE(C169,E169),Dato!$A$4:$I$218,7,0),\"\")","v":""},null,""]
[null,null,null,{"$f":"IF(C170=\"\",\"\",VLOOKUP(C170,Tabla_Regional[],3,0))","v":""},null,{"$f":"IF(E170<>\"\",VLOOKUP(CONCATENATE(C170,E170),Dato!$A$4:$I$218,7,0),\"\")","v":""},null,""]
[null,null,null,{"$f":"IF(C171=\"\",\"\",VLOOKUP(C171,Tabla_Regional[],3,0))","v":""},null,{"$f":"IF(E171<>\"\",VLOOKUP(CONCATENATE(C171,E171),Dato!$A$4:$I$218,7,0),\"\")","v":""},null,""]
[null,null,null,{"$f":"IF(C172=\"\",\"\",VLOOKUP(C172,Tabla_Regional[],3,0))","v":""},null,{"$f":"IF(E172<>\"\",VLOOKUP(CONCATENATE(C172,E172),Dato!$A$4:$I$218,7,0),\"\")","v":""},null,""]
[null,null,null,{"$f":"IF(C173=\"\",\"\",VLOOKUP(C173,Tabla_Regional[],3,0))","v":""},null,{"$f":"IF(E173<>\"\",VLOOKUP(CONCATENATE(C173,E173),Dato!$A$4:$I$218,7,0),\"\")","v":""},null,""]
[null,null,null,{"$f":"IF(C174=\"\",\"\",VLOOKUP(C174,Tabla_Regional[],3,0))","v":""},null,{"$f":"IF(E174<>\"\",VLOOKUP(CONCATENATE(C174,E174),Dato!$A$4:$I$218,7,0),\"\")","v":""},null,""]
[null,null,null,{"$f":"IF(C175=\"\",\"\",VLOOKUP(C175,Tabla_Regional[],3,0))","v":""},null,{"$f":"IF(E175<>\"\",VLOOKUP(CONCATENATE(C175,E175),Dato!$A$4:$I$218,7,0),\"\")","v":""},null,""]
[null,null,null,{"$f":"IF(C176=\"\",\"\",VLOOKUP(C176,Tabla_Regional[],3,0))","v":""},null,{"$f":"IF(E176<>\"\",VLOOKUP(CONCATENATE(C176,E176),Dato!$A$4:$I$218,7,0),\"\")","v":""},null,""]
[null,null,null,{"$f":"IF(C177=\"\",\"\",VLOOKUP(C177,Tabla_Regional[],3,0))","v":""},null,{"$f":"IF(E177<>\"\",VLOOKUP(CONCATENATE(C177,E177),Dato!$A$4:$I$218,7,0),\"\")","v":""},null,""]
[null,null,null,{"$f":"IF(C178=\"\",\"\",VLOOKUP(C178,Tabla_Regional[],3,0))","v":""},null,{"$f":"IF(E178<>\"\",VLOOKUP(CONCATENATE(C178,E178),Dato!$A$4:$I$218,7,0),\"\")","v":""},null,""]
[null,null,null,{"$f":"IF(C179=\"\",\"\",VLOOKUP(C179,Tabla_Regional[],3,0))","v":""},null,{"$f":"IF(E179<>\"\",VLOOKUP(CONCATENATE(C179,E179),Dato!$A$4:$I$218,7,0),\"\")","v":""},null,""]
[null,null,null,{"$f":"IF(C180=\"\",\"\",VLOOKUP(C180,Tabla_Regional[],3,0))","v":""},null,{"$f":"IF(E180<>\"\",VLOOKUP(CONCATENATE(C180,E180),Dato!$A$4:$I$218,7,0),\"\")","v":""},null,""]
[null,null,null,{"$f":"IF(C181=\"\",\"\",VLOOKUP(C181,Tabla_Regional[],3,0))","v":""},null,{"$f":"IF(E181<>\"\",VLOOKUP(CONCATENATE(C181,E181),Dato!$A$4:$I$218,7,0),\"\")","v":""},null,""]
[null,null,null,{"$f":"IF(C182=\"\",\"\",VLOOKUP(C182,Tabla_Regional[],3,0))","v":""},null,{"$f":"IF(E182<>\"\",VLOOKUP(CONCATENATE(C182,E182),Dato!$A$4:$I$218,7,0),\"\")","v":""},null,""]
[null,null,null,{"$f":"IF(C183=\"\",\"\",VLOOKUP(C183,Tabla_Regional[],3,0))","v":""},null,{"$f":"IF(E183<>\"\",VLOOKUP(CONCATENATE(C183,E183),Dato!$A$4:$I$218,7,0),\"\")","v":""},null,""]
[null,null,null,{"$f":"IF(C184=\"\",\"\",VLOOKUP(C184,Tabla_Regional[],3,0))","v":""},null,{"$f":"IF(E184<>\"\",VLOOKUP(CONCATENATE(C184,E184),Dato!$A$4:$I$218,7,0),\"\")","v":""},null,""]
[null,null,null,{"$f":"IF(C185=\"\",\"\",VLOOKUP(C185,Tabla_Regional[],3,0))","v":""},null,{"$f":"IF(E185<>\"\",VLOOKUP(CONCATENATE(C185,E185),Dato!$A$4:$I$218,7,0),\"\")","v":""},null,""]
[null,null,null,{"$f":"IF(C186=\"\",\"\",VLOOKUP(C186,Tabla_Regional[],3,0))","v":""},null,{"$f":"IF(E186<>\"\",VLOOKUP(CONCATENATE(C186,E186),Dato!$A$4:$I$218,7,0),\"\")","v":""},null,""]
[null,null,null,{"$f":"IF(C187=\"\",\"\",VLOOKUP(C187,Tabla_Regional[],3,0))","v":""},null,{"$f":"IF(E187<>\"\",VLOOKUP(CONCATENATE(C187,E187),Dato!$A$4:$I$218,7,0),\"\")","v":""},null,""]
[null,null,null,{"$f":"IF(C188=\"\",\"\",VLOOKUP(C188,Tabla_Regional[],3,0))","v":""},null,{"$f":"IF(E188<>\"\",VLOOKUP(CONCATENATE(C188,E188),Dato!$A$4:$I$218,7,0),\"\")","v":""},null,""]
[null,null,null,{"$f":"IF(C189=\"\",\"\",VLOOKUP(C189,Tabla_Regional[],3,0))","v":""},null,{"$f":"IF(E189<>\"\",VLOOKUP(CONCATENATE(C189,E189),Dato!$A$4:$I$218,7,0),\"\")","v":""},null,""]
[null,null,null,{"$f":"IF(C190=\"\",\"\",VLOOKUP(C190,Tabla_Regional[],3,0))","v":""},null,{"$f":"IF(E190<>\"\",VLOOKUP(CONCATENATE(C190,E190),Dato!$A$4:$I$218,7,0),\"\")","v":""},null,""]
[null,null,null,{"$f":"IF(C191=\"\",\"\",VLOOKUP(C191,Tabla_Regional[],3,0))","v":""},null,{"$f":"IF(E191<>\"\",VLOOKUP(CONCATENATE(C191,E191),Dato!$A$4:$I$218,7,0),\"\")","v":""},null,""]
[null,null,null,{"$f":"IF(C192=\"\",\"\",VLOOKUP(C192,Tabla_Regional[],3,0))","v":""},null,{"$f":"IF(E192<>\"\",VLOOKUP(CONCATENATE(C192,E192),Dato!$A$4:$I$218,7,0),\"\")","v":""},null,""]
[null,null,null,{"$f":"IF(C193=\"\",\"\",VLOOKUP(C193,Tabla_Regional[],3,0))","v":""},null,{"$f":"IF(E193<>\"\",VLOOKUP(CONCATENATE(C193,E193),Dato!$A$4:$I$218,7,0),\"\")","v":""},null,""]
[null,null,null,{"$f":"IF(C194=\"\",\"\",VLOOKUP(C194,Tabla_Regional[],3,0))","v":""},null,{"$f":"IF(E194<>\"\",VLOOKUP(CONCATENATE(C194,E194),Dato!$A$4:$I$218,7,0),\"\")","v":""},null,""]
[null,null,null,{"$f":"IF(C195=\"\",\"\",VLOOKUP(C195,Tabla_Regional[],3,0))","v":""},null,{"$f":"IF(E195<>\"\",VLOOKUP(CONCATENATE(C195,E195),Dato!$A$4:$I$218,7,0),\"\")","v":""},null,""]
[null,null,null,{"$f":"IF(C196=\"\",\"\",VLOOKUP(C196,Tabla_Regional[],3,0))","v":""},null,{"$f":"IF(E196<>\"\",VLOOKUP(CONCATENATE(C196,E196),Dato!$A$4:$I$218,7,0),\"\")","v":""},null,""]
[null,null,null,{"$f":"IF(C197=\"\",\"\",VLOOKUP(C197,Tabla_Regional[],3,0))","v":""},null,{"$f":"IF(E197<>\"\",VLOOKUP(CONCATENATE(C197,E197),Dato!$A$4:$I$218,7,0),\"\")","v":""},null,""]
[null,null,null,{"$f":"IF(C198=\"\",\"\",VLOOKUP(C198,Tabla_Regional[],3,0))","v":""},null,{"$f":"IF(E198<>\"\",VLOOKUP(CONCATENATE(C198,E198),Dato!$A$4:$I$218,7,0),\"\")","v":""},null,""]
[null,null,null,{"$f":"IF(C199=\"\",\"\",VLOOKUP(C199,Tabla_Regional[],3,0))","v":""},null,{"$f":"IF(E199<>\"\",VLOOKUP(CONCATENATE(C199,E199),Dato!$A$4:$I$218,7,0),\"\")","v":""},null,""]
[null,null,null,{"$f":"IF(C200=\"\",\"\",VLOOKUP(C200,Tabla_Regional[],3,0))","v":""},null,{"$f":"IF(E200<>\"\",VLOOKUP(CONCATENATE(C200,E200),Dato!$A$4:$I$218,7,0),\"\")","v":""},null,""]
[null,null,null,{"$f":"IF(C201=\"\",\"\",VLOOKUP(C201,Tabla_Regional[],3,0))","v":""},null,{"$f":"IF(E201<>\"\",VLOOKUP(CONCATENATE(C201,E201),Dato!$A$4:$I$218,7,0),\"\")","v":""},null,""]
[null,null,null,{"$f":"IF(C202=\"\",\"\",VLOOKUP(C202,Tabla_Regional[],3,0))","v":""},null,{"$f":"IF(E202<>\"\",VLOOKUP(CONCATENATE(C202,E202),Dato!$A$4:$I$218,7,0),\"\")","v":""},null,""]
[null,null,null,{"$f":"IF(C203=\"\",\"\",VLOOKUP(C203,Tabla_Regional[],3,0))","v":""},null,{"$f":"IF(E203<>\"\",VLOOKUP(CONCATENATE(C203,E203),Dato!$A$4:$I$218,7,0),\"\")","v":""},null,""]
[null,null,null,{"$f":"IF(C204=\"\",\"\",VLOOKUP(C204,Tabla_Regional[],3,0))","v":""},null,{"$f":"IF(E204<>\"\",VLOOKUP(CONCATENATE(C204,E204),Dato!$A$4:$I$218,7,0),\"\")","v":""},null,{"$f":"IF(G204<>\"\",VLOOKUP(CONCATENATE(C204,E204,G204),czmuni,7,0),\"\")","v":""}]
[null,null,null,{"$f":"IF(C205=\"\",\"\",VLOOKUP(C205,Tabla_Regional[],3,0))","v":""},null,{"$f":"IF(E205<>\"\",VLOOKUP(CONCATENATE(C205,E205),Dato!$A$4:$I$218,7,0),\"\")","v":""},null,""]
[null,null,null,{"$f":"IF(C206=\"\",\"\",VLOOKUP(C206,Tabla_Regional[],3,0))","v":""},null,{"$f":"IF(E206<>\"\",VLOOKUP(CONCATENATE(C206,E206),Dato!$A$4:$I$218,7,0),\"\")","v":""},null,""]
[null,null,null,{"$f":"IF(C207=\"\",\"\",VLOOKUP(C207,Tabla_Regional[],3,0))","v":""},null,{"$f":"IF(E207<>\"\",VLOOKUP(CONCATENATE(C207,E207),Dato!$A$4:$I$218,7,0),\"\")","v":""},null,""]
[null,null,null,{"$f":"IF(C208=\"\",\"\",VLOOKUP(C208,Tabla_Regional[],3,0))","v":""},null,{"$f":"IF(E208<>\"\",VLOOKUP(CONCATENATE(C208,E208),Dato!$A$4:$I$218,7,0),\"\")","v":""},null,""]
[null,null,null,{"$f":"IF(C209=\"\",\"\",VLOOKUP(C209,Tabla_Regional[],3,0))","v":""},null,{"$f":"IF(E209<>\"\",VLOOKUP(CONCATENATE(C209,E209),Dato!$A$4:$I$218,7,0),\"\")","v":""},null,""]
[null,null,null,{"$f":"IF(C210=\"\",\"\",VLOOKUP(C210,Tabla_Regional[],3,0))","v":""},null,{"$f":"IF(E210<>\"\",VLOOKUP(CONCATENATE(C210,E210),Dato!$A$4:$I$218,7,0),\"\")","v":""},null,""]
[null,null,null,{"$f":"IF(C211=\"\",\"\",VLOOKUP(C211,Tabla_Regional[],3,0))","v":""},null,{"$f":"IF(E211<>\"\",VLOOKUP(CONCATENATE(C211,E211),Dato!$A$4:$I$218,7,0),\"\")","v":""},null,""]
[null,null,null,{"$f":"IF(C212=\"\",\"\",VLOOKUP(C212,Tabla_Regional[],3,0))","v":""},null,{"$f":"IF(E212<>\"\",VLOOKUP(CONCATENATE(C212,E212),Dato!$A$4:$I$218,7,0),\"\")","v":""},null,""]
[null,null,null,{"$f":"IF(C213=\"\",\"\",VLOOKUP(C213,Tabla_Regional[],3,0))","v":""},null,{"$f":"IF(E213<>\"\",VLOOKUP(CONCATENATE(C213,E213),Dato!$A$4:$I$218,7,0),\"\")","v":""},null,""]
[null,null,null,{"$f":"IF(C214=\"\",\"\",VLOOKUP(C214,Tabla_Regional[],3,0))","v":""},null,{"$f":"IF(E214<>\"\",VLOOKUP(CONCATENATE(C214,E214),Dato!$A$4:$I$218,7,0),\"\")","v":""},null,""]
[null,null,null,{"$f":"IF(C215=\"\",\"\",VLOOKUP(C215,Tabla_Regional[],3,0))","v":""},null,{"$f":"IF(E215<>\"\",VLOOKUP(CONCATENATE(C215,E215),Dato!$A$4:$I$218,7,0),\"\")","v":""},null,""]
[null,null,null,{"$f":"IF(C216=\"\",\"\",VLOOKUP(C216,Tabla_Regional[],3,0))","v":""},null,{"$f":"IF(E216<>\"\",VLOOKUP(CONCATENATE(C216,E216),Dato!$A$4:$I$218,7,0),\"\")","v":""},null,""]
[null,null,null,{"$f":"IF(C217=\"\",\"\",VLOOKUP(C217,Tabla_Regional[],3,0))","v":""},null,{"$f":"IF(E217<>\"\",VLOOKUP(CONCATENATE(C217,E217),Dato!$A$4:$I$218,7,0),\"\")","v":""},null,""]
[null,null,null,{"$f":"IF(C218=\"\",\"\",VLOOKUP(C218,Tabla_Regional[],3,0))","v":""},null,{"$f":"IF(E218<>\"\",VLOOKUP(CONCATENATE(C218,E218),Dato!$A$4:$I$218,7,0),\"\")","v":""},null,""]
[null,null,null,{"$f":"IF(C219=\"\",\"\",VLOOKUP(C219,Tabla_Regional[],3,0))","v":""},null,{"$f":"IF(E219<>\"\",VLOOKUP(CONCATENATE(C219,E219),Dato!$A$4:$I$218,7,0),\"\")","v":""},null,""]
[null,null,null,{"$f":"IF(C220=\"\",\"\",VLOOKUP(C220,Tabla_Regional[],3,0))","v":""},null,{"$f":"IF(E220<>\"\",VLOOKUP(CONCATENATE(C220,E220),Dato!$A$4:$I$218,7,0),\"\")","v":""},null,""]
[null,null,null,{"$f":"IF(C221=\"\",\"\",VLOOKUP(C221,Tabla_Regional[],3,0))","v":""},null,{"$f":"IF(E221<>\"\",VLOOKUP(CONCATENATE(C221,E221),Dato!$A$4:$I$218,7,0),\"\")","v":""},null,""]
[null,null,null,{"$f":"IF(C222=\"\",\"\",VLOOKUP(C222,Tabla_Regional[],3,0))","v":""},null,{"$f":"IF(E222<>\"\",VLOOKUP(CONCATENATE(C222,E222),Dato!$A$4:$I$218,7,0),\"\")","v":""},null,""]
[null,null,null,{"$f":"IF(C223=\"\",\"\",VLOOKUP(C223,Tabla_Regional[],3,0))","v":""},null,{"$f":"IF(E223<>\"\",VLOOKUP(CONCATENATE(C223,E223),Dato!$A$4:$I$218,7,0),\"\")","v":""},null,""]
[null,null,null,{"$f":"IF(C224=\"\",\"\",VLOOKUP(C224,Tabla_Regional[],3,0))","v":""},null,{"$f":"IF(E224<>\"\",VLOOKUP(CONCATENATE(C224,E224),Dato!$A$4:$I$218,7,0),\"\")","v":""},null,""]
[null,null,null,{"$f":"IF(C225=\"\",\"\",VLOOKUP(C225,Tabla_Regional[],3,0))","v":""},null,{"$f":"IF(E225<>\"\",VLOOKUP(CONCATENATE(C225,E225),Dato!$A$4:$I$218,7,0),\"\")","v":""},null,""]
[null,null,null,{"$f":"IF(C226=\"\",\"\",VLOOKUP(C226,Tabla_Regional[],3,0))","v":""},null,{"$f":"IF(E226<>\"\",VLOOKUP(CONCATENATE(C226,E226),Dato!$A$4:$I$218,7,0),\"\")","v":""},null,""]
[null,null,null,{"$f":"IF(C227=\"\",\"\",VLOOKUP(C227,Tabla_Regional[],3,0))","v":""},null,{"$f":"IF(E227<>\"\",VLOOKUP(CONCATENATE(C227,E227),Dato!$A$4:$I$218,7,0),\"\")","v":""},null,""]
[null,null,null,{"$f":"IF(C228=\"\",\"\",VLOOKUP(C228,Tabla_Regional[],3,0))","v":""},null,{"$f":"IF(E228<>\"\",VLOOKUP(CONCATENATE(C228,E228),Dato!$A$4:$I$218,7,0),\"\")","v":""},null,""]
[null,null,null,{"$f":"IF(C229=\"\",\"\",VLOOKUP(C229,Tabla_Regional[],3,0))","v":""},null,{"$f":"IF(E229<>\"\",VLOOKUP(CONCATENATE(C229,E229),Dato!$A$4:$I$218,7,0),\"\")","v":""},null,""]
[null,null,null,{"$f":"IF(C230=\"\",\"\",VLOOKUP(C230,Tabla_Regional[],3,0))","v":""},null,{"$f":"IF(E230<>\"\",VLOOKUP(CONCATENATE(C230,E230),Dato!$A$4:$I$218,7,0),\"\")","v":""},null,""]
[null,null,null,{"$f":"IF(C231=\"\",\"\",VLOOKUP(C231,Tabla_Regional[],3,0))","v":""},null,{"$f":"IF(E231<>\"\",VLOOKUP(CONCATENATE(C231,E231),Dato!$A$4:$I$218,7,0),\"\")","v":""},null,""]
[null,null,null,{"$f":"IF(C232=\"\",\"\",VLOOKUP(C232,Tabla_Regional[],3,0))","v":""},null,{"$f":"IF(E232<>\"\",VLOOKUP(CONCATENATE(C232,E232),Dato!$A$4:$I$218,7,0),\"\")","v":""},null,""]
[null,null,null,{"$f":"IF(C233=\"\",\"\",VLOOKUP(C233,Tabla_Regional[],3,0))","v":""},null,{"$f":"IF(E233<>\"\",VLOOKUP(CONCATENATE(C233,E233),Dato!$A$4:$I$218,7,0),\"\")","v":""},null,""]
[null,null,null,{"$f":"IF(C234=\"\",\"\",VLOOKUP(C234,Tabla_Regional[],3,0))","v":""},null,{"$f":"IF(E234<>\"\",VLOOKUP(CONCATENATE(C234,E234),Dato!$A$4:$I$218,7,0),\"\")","v":""},null,""]
[null,null,null,{"$f":"IF(C235=\"\",\"\",VLOOKUP(C235,Tabla_Regional[],3,0))","v":""},null,{"$f":"IF(E235<>\"\",VLOOKUP(CONCATENATE(C235,E235),Dato!$A$4:$I$218,7,0),\"\")","v":""},null,""]
[null,null,null,{"$f":"IF(C236=\"\",\"\",VLOOKUP(C236,Tabla_Regional[],3,0))","v":""},null,{"$f":"IF(E236<>\"\",VLOOKUP(CONCATENATE(C236,E236),Dato!$A$4:$I$218,7,0),\"\")","v":""},null,""]
[null,null,null,{"$f":"IF(C237=\"\",\"\",VLOOKUP(C237,Tabla_Regional[],3,0))","v":""},null,{"$f":"IF(E237<>\"\",VLOOKUP(CONCATENATE(C237,E237),Dato!$A$4:$I$218,7,0),\"\")","v":""},null,""]
[null,null,null,{"$f":"IF(C238=\"\",\"\",VLOOKUP(C238,Tabla_Regional[],3,0))","v":""},null,{"$f":"IF(E238<>\"\",VLOOKUP(CONCATENATE(C238,E238),Dato!$A$4:$I$218,7,0),\"\")","v":""},null,""]
[null,null,null,{"$f":"IF(C239=\"\",\"\",VLOOKUP(C239,Tabla_Regional[],3,0))","v":""},null,{"$f":"IF(E239<>\"\",VLOOKUP(CONCATENATE(C239,E239),Dato!$A$4:$I$218,7,0),\"\")","v":""},null,""]
[null,null,null,{"$f":"IF(C240=\"\",\"\",VLOOKUP(C240,Tabla_Regional[],3,0))","v":""},null,{"$f":"IF(E240<>\"\",VLOOKUP(CONCATENATE(C240,E240),Dato!$A$4:$I$218,7,0),\"\")","v":""},null,""]
[null,null,null,{"$f":"IF(C241=\"\",\"\",VLOOKUP(C241,Tabla_Regional[],3,0))","v":""},null,{"$f":"IF(E241<>\"\",VLOOKUP(CONCATENATE(C241,E241),Dato!$A$4:$I$218,7,0),\"\")","v":""},null,""]
[null,null,null,{"$f":"IF(C242=\"\",\"\",VLOOKUP(C242,Tabla_Regional[],3,0))","v":""},null,{"$f":"IF(E242<>\"\",VLOOKUP(CONCATENATE(C242,E242),Dato!$A$4:$I$218,7,0),\"\")","v":""},null,""]
[null,null,null,{"$f":"IF(C243=\"\",\"\",VLOOKUP(C243,Tabla_Regional[],3,0))","v":""},null,{"$f":"IF(E243<>\"\",VLOOKUP(CONCATENATE(C243,E243),Dato!$A$4:$I$218,7,0),\"\")","v":""},null,""]
[null,null,null,{"$f":"IF(C244=\"\",\"\",VLOOKUP(C244,Tabla_Regional[],3,0))","v":""},null,{"$f":"IF(E244<>\"\",VLOOKUP(CONCATENATE(C244,E244),Dato!$A$4:$I$218,7,0),\"\")","v":""},null,""]
[null,null,null,{"$f":"IF(C245=\"\",\"\",VLOOKUP(C245,Tabla_Regional[],3,0))","v":""},null,{"$f":"IF(E245<>\"\",VLOOKUP(CONCATENATE(C245,E245),Dato!$A$4:$I$218,7,0),\"\")","v":""},null,""]
[null,null,null,{"$f":"IF(C246=\"\",\"\",VLOOKUP(C246,Tabla_Regional[],3,0))","v":""},null,{"$f":"IF(E246<>\"\",VLOOKUP(CONCATENATE(C246,E246),Dato!$A$4:$I$218,7,0),\"\")","v":""},null,""]
[null,null,null,{"$f":"IF(C247=\"\",\"\",VLOOKUP(C247,Tabla_Regional[],3,0))","v":""},null,{"$f":"IF(E247<>\"\",VLOOKUP(CONCATENATE(C247,E247),Dato!$A$4:$I$218,7,0),\"\")","v":""},null,""]
[null,null,null,{"$f":"IF(C248=\"\",\"\",VLOOKUP(C248,Tabla_Regional[],3,0))","v":""},null,{"$f":"IF(E248<>\"\",VLOOKUP(CONCATENATE(C248,E248),Dato!$A$4:$I$218,7,0),\"\")","v":""},null,""]
[null,null,null,{"$f":"IF(C249=\"\",\"\",VLOOKUP(C249,Tabla_Regional[],3,0))","v":""},null,{"$f":"IF(E249<>\"\",VLOOKUP(CONCATENATE(C249,E249),Dato!$A$4:$I$218,7,0),\"\")","v":""},null,""]
[null,null,null,{"$f":"IF(C250=\"\",\"\",VLOOKUP(C250,Tabla_Regional[],3,0))","v":""},null,{"$f":"IF(E250<>\"\",VLOOKUP(CONCATENATE(C250,E250),Dato!$A$4:$I$218,7,0),\"\")","v":""},null,""]
[null,null,null,{"$f":"IF(C251=\"\",\"\",VLOOKUP(C251,Tabla_Regional[],3,0))","v":""},null,{"$f":"IF(E251<>\"\",VLOOKUP(CONCATENATE(C251,E251),Dato!$A$4:$I$218,7,0),\"\")","v":""},null,""]
[null,null,null,{"$f":"IF(C252=\"\",\"\",VLOOKUP(C252,Tabla_Regional[],3,0))","v":""},null,{"$f":"IF(E252<>\"\",VLOOKUP(CONCATENATE(C252,E252),Dato!$A$4:$I$218,7,0),\"\")","v":""},null,""]
[null,null,null,{"$f":"IF(C253=\"\",\"\",VLOOKUP(C253,Tabla_Regional[],3,0))","v":""},null,{"$f":"IF(E253<>\"\",VLOOKUP(CONCATENATE(C253,E253),Dato!$A$4:$I$218,7,0),\"\")","v":""},null,""]
[null,null,null,{"$f":"IF(C254=\"\",\"\",VLOOKUP(C254,Tabla_Regional[],3,0))","v":""},null,{"$f":"IF(E254<>\"\",VLOOKUP(CONCATENATE(C254,E254),Dato!$A$4:$I$218,7,0),\"\")","v":""},null,""]
[null,null,null,{"$f":"IF(C255=\"\",\"\",VLOOKUP(C255,Tabla_Regional[],3,0))","v":""},null,{"$f":"IF(E255<>\"\",VLOOKUP(CONCATENATE(C255,E255),Dato!$A$4:$I$218,7,0),\"\")","v":""},null,""]
[null,null,null,{"$f":"IF(C256=\"\",\"\",VLOOKUP(C256,Tabla_Regional[],3,0))","v":""},null,{"$f":"IF(E256<>\"\",VLOOKUP(CONCATENATE(C256,E256),Dato!$A$4:$I$218,7,0),\"\")","v":""},null,""]
[null,null,null,{"$f":"IF(C257=\"\",\"\",VLOOKUP(C257,Tabla_Regional[],3,0))","v":""},null,{"$f":"IF(E257<>\"\",VLOOKUP(CONCATENATE(C257,E257),Dato!$A$4:$I$218,7,0),\"\")","v":""},null,""]
[null,null,null,{"$f":"IF(C258=\"\",\"\",VLOOKUP(C258,Tabla_Regional[],3,0))","v":""},null,{"$f":"IF(E258<>\"\",VLOOKUP(CONCATENATE(C258,E258),Dato!$A$4:$I$218,7,0),\"\")","v":""},null,""]
[null,null,null,{"$f":"IF(C259=\"\",\"\",VLOOKUP(C259,Tabla_Regional[],3,0))","v":""},null,{"$f":"IF(E259<>\"\",VLOOKUP(CONCATENATE(C259,E259),Dato!$A$4:$I$218,7,0),\"\")","v":""},null,""]
[null,null,null,{"$f":"IF(C260=\"\",\"\",VLOOKUP(C260,Tabla_Regional[],3,0))","v":""},null,{"$f":"IF(E260<>\"\",VLOOKUP(CONCATENATE(C260,E260),Dato!$A$4:$I$218,7,0),\"\")","v":""},null,""]
[null,null,null,{"$f":"IF(C261=\"\",\"\",VLOOKUP(C261,Tabla_Regional[],3,0))","v":""},null,{"$f":"IF(E261<>\"\",VLOOKUP(CONCATENATE(C261,E261),Dato!$A$4:$I$218,7,0),\"\")","v":""},null,""]
[null,null,null,{"$f":"IF(C262=\"\",\"\",VLOOKUP(C262,Tabla_Regional[],3,0))","v":""},null,{"$f":"IF(E262<>\"\",VLOOKUP(CONCATENATE(C262,E262),Dato!$A$4:$I$218,7,0),\"\")","v":""},null,""]
[null,null,null,{"$f":"IF(C263=\"\",\"\",VLOOKUP(C263,Tabla_Regional[],3,0))","v":""},null,{"$f":"IF(E263<>\"\",VLOOKUP(CONCATENATE(C263,E263),Dato!$A$4:$I$218,7,0),\"\")","v":""},null,""]
[null,null,null,{"$f":"IF(C264=\"\",\"\",VLOOKUP(C264,Tabla_Regional[],3,0))","v":""},null,{"$f":"IF(E264<>\"\",VLOOKUP(CONCATENATE(C264,E264),Dato!$A$4:$I$218,7,0),\"\")","v":""},null,""]
[null,null,null,{"$f":"IF(C265=\"\",\"\",VLOOKUP(C265,Tabla_Regional[],3,0))","v":""},null,{"$f":"IF(E265<>\"\",VLOOKUP(CONCATENATE(C265,E265),Dato!$A$4:$I$218,7,0),\"\")","v":""},null,""]
[null,null,null,{"$f":"IF(C266=\"\",\"\",VLOOKUP(C266,Tabla_Regional[],3,0))","v":""},null,{"$f":"IF(E266<>\"\",VLOOKUP(CONCATENATE(C266,E266),Dato!$A$4:$I$218,7,0),\"\")","v":""},null,""]
[null,null,null,{"$f":"IF(C267=\"\",\"\",VLOOKUP(C267,Tabla_Regional[],3,0))","v":""},null,{"$f":"IF(E267<>\"\",VLOOKUP(CONCATENATE(C267,E267),Dato!$A$4:$I$218,7,0),\"\")","v":""},null,""]
[null,null,null,{"$f":"IF(C268=\"\",\"\",VLOOKUP(C268,Tabla_Regional[],3,0))","v":""},null,{"$f":"IF(E268<>\"\",VLOOKUP(CONCATENATE(C268,E268),Dato!$A$4:$I$218,7,0),\"\")","v":""},null,{"$f":"IF(G268<>\"\",VLOOKUP(CONCATENATE(C268,E268,G268),czmuni,7,0),\"\")","v":""}]
[null,null,null,{"$f":"IF(C269=\"\",\"\",VLOOKUP(C269,Tabla_Regional[],3,0))","v":""},null,{"$f":"IF(E269<>\"\",VLOOKUP(CONCATENATE(C269,E269),Dato!$A$4:$I$218,7,0),\"\")","v":""},null,""]
[null,null,null,{"$f":"IF(C270=\"\",\"\",VLOOKUP(C270,Tabla_Regional[],3,0))","v":""},null,{"$f":"IF(E270<>\"\",VLOOKUP(CONCATENATE(C270,E270),Dato!$A$4:$I$218,7,0),\"\")","v":""},null,""]
[null,null,null,{"$f":"IF(C271=\"\",\"\",VLOOKUP(C271,Tabla_Regional[],3,0))","v":""},null,{"$f":"IF(E271<>\"\",VLOOKUP(CONCATENATE(C271,E271),Dato!$A$4:$I$218,7,0),\"\")","v":""},null,""]
[null,null,null,{"$f":"IF(C272=\"\",\"\",VLOOKUP(C272,Tabla_Regional[],3,0))","v":""},null,{"$f":"IF(E272<>\"\",VLOOKUP(CONCATENATE(C272,E272),Dato!$A$4:$I$218,7,0),\"\")","v":""},null,""]
[null,null,null,{"$f":"IF(C273=\"\",\"\",VLOOKUP(C273,Tabla_Regional[],3,0))","v":""},null,{"$f":"IF(E273<>\"\",VLOOKUP(CONCATENATE(C273,E273),Dato!$A$4:$I$218,7,0),\"\")","v":""},null,""]
[null,null,null,{"$f":"IF(C274=\"\",\"\",VLOOKUP(C274,Tabla_Regional[],3,0))","v":""},null,{"$f":"IF(E274<>\"\",VLOOKUP(CONCATENATE(C274,E274),Dato!$A$4:$I$218,7,0),\"\")","v":""},null,""]
[null,null,null,{"$f":"IF(C275=\"\",\"\",VLOOKUP(C275,Tabla_Regional[],3,0))","v":""},null,{"$f":"IF(E275<>\"\",VLOOKUP(CONCATENATE(C275,E275),Dato!$A$4:$I$218,7,0),\"\")","v":""},null,""]
[null,null,null,{"$f":"IF(C276=\"\",\"\",VLOOKUP(C276,Tabla_Regional[],3,0))","v":""},null,{"$f":"IF(E276<>\"\",VLOOKUP(CONCATENATE(C276,E276),Dato!$A$4:$I$218,7,0),\"\")","v":""},null,""]
[null,null,null,{"$f":"IF(C277=\"\",\"\",VLOOKUP(C277,Tabla_Regional[],3,0))","v":""},null,{"$f":"IF(E277<>\"\",VLOOKUP(CONCATENATE(C277,E277),Dato!$A$4:$I$218,7,0),\"\")","v":""},null,""]
[null,null,null,{"$f":"IF(C278=\"\",\"\",VLOOKUP(C278,Tabla_Regional[],3,0))","v":""},null,{"$f":"IF(E278<>\"\",VLOOKUP(CONCATENATE(C278,E278),Dato!$A$4:$I$218,7,0),\"\")","v":""},null,""]
[null,null,null,{"$f":"IF(C279=\"\",\"\",VLOOKUP(C279,Tabla_Regional[],3,0))","v":""},null,{"$f":"IF(E279<>\"\",VLOOKUP(CONCATENATE(C279,E279),Dato!$A$4:$I$218,7,0),\"\")","v":""},null,""]
[null,null,null,{"$f":"IF(C280=\"\",\"\",VLOOKUP(C280,Tabla_Regional[],3,0))","v":""},null,{"$f":"IF(E280<>\"\",VLOOKUP(CONCATENATE(C280,E280),Dato!$A$4:$I$218,7,0),\"\")","v":""},null,""]
[null,null,null,{"$f":"IF(C281=\"\",\"\",VLOOKUP(C281,Tabla_Regional[],3,0))","v":""},null,{"$f":"IF(E281<>\"\",VLOOKUP(CONCATENATE(C281,E281),Dato!$A$4:$I$218,7,0),\"\")","v":""},null,""]
[null,null,null,{"$f":"IF(C282=\"\",\"\",VLOOKUP(C282,Tabla_Regional[],3,0))","v":""},null,{"$f":"IF(E282<>\"\",VLOOKUP(CONCATENATE(C282,E282),Dato!$A$4:$I$218,7,0),\"\")","v":""},null,""]
[null,null,null,{"$f":"IF(C283=\"\",\"\",VLOOKUP(C283,Tabla_Regional[],3,0))","v":""},null,{"$f":"IF(E283<>\"\",VLOOKUP(CONCATENATE(C283,E283),Dato!$A$4:$I$218,7,0),\"\")","v":""},null,""]
[null,null,null,{"$f":"IF(C284=\"\",\"\",VLOOKUP(C284,Tabla_Regional[],3,0))","v":""},null,{"$f":"IF(E284<>\"\",VLOOKUP(CONCATENATE(C284,E284),Dato!$A$4:$I$218,7,0),\"\")","v":""},null,""]
[null,null,null,{"$f":"IF(C285=\"\",\"\",VLOOKUP(C285,Tabla_Regional[],3,0))","v":""},null,{"$f":"IF(E285<>\"\",VLOOKUP(CONCATENATE(C285,E285),Dato!$A$4:$I$218,7,0),\"\")","v":""},null,""]
[null,null,null,{"$f":"IF(C286=\"\",\"\",VLOOKUP(C286,Tabla_Regional[],3,0))","v":""},null,{"$f":"IF(E286<>\"\",VLOOKUP(CONCATENATE(C286,E286),Dato!$A$4:$I$218,7,0),\"\")","v":""},null,""]
[null,null,null,{"$f":"IF(C287=\"\",\"\",VLOOKUP(C287,Tabla_Regional[],3,0))","v":""},null,{"$f":"IF(E287<>\"\",VLOOKUP(CONCATENATE(C287,E287),Dato!$A$4:$I$218,7,0),\"\")","v":""},null,""]
[null,null,null,{"$f":"IF(C288=\"\",\"\",VLOOKUP(C288,Tabla_Regional[],3,0))","v":""},null,{"$f":"IF(E288<>\"\",VLOOKUP(CONCATENATE(C288,E288),Dato!$A$4:$I$218,7,0),\"\")","v":""},null,""]
[null,null,null,{"$f":"IF(C289=\"\",\"\",VLOOKUP(C289,Tabla_Regional[],3,0))","v":""},null,{"$f":"IF(E289<>\"\",VLOOKUP(CONCATENATE(C289,E289),Dato!$A$4:$I$218,7,0),\"\")","v":""},null,""]
[null,null,null,{"$f":"IF(C290=\"\",\"\",VLOOKUP(C290,Tabla_Regional[],3,0))","v":""},null,{"$f":"IF(E290<>\"\",VLOOKUP(CONCATENATE(C290,E290),Dato!$A$4:$I$218,7,0),\"\")","v":""},null,""]
[null,null,null,{"$f":"IF(C291=\"\",\"\",VLOOKUP(C291,Tabla_Regional[],3,0))","v":""},null,{"$f":"IF(E291<>\"\",VLOOKUP(CONCATENATE(C291,E291),Dato!$A$4:$I$218,7,0),\"\")","v":""},null,""]
[null,null,null,{"$f":"IF(C292=\"\",\"\",VLOOKUP(C292,Tabla_Regional[],3,0))","v":""},null,{"$f":"IF(E292<>\"\",VLOOKUP(CONCATENATE(C292,E292),Dato!$A$4:$I$218,7,0),\"\")","v":""},null,""]
[null,null,null,{"$f":"IF(C293=\"\",\"\",VLOOKUP(C293,Tabla_Regional[],3,0))","v":""},null,{"$f":"IF(E293<>\"\",VLOOKUP(CONCATENATE(C293,E293),Dato!$A$4:$I$218,7,0),\"\")","v":""},null,""]
[null,null,null,{"$f":"IF(C294=\"\",\"\",VLOOKUP(C294,Tabla_Regional[],3,0))","v":""},null,{"$f":"IF(E294<>\"\",VLOOKUP(CONCATENATE(C294,E294),Dato!$A$4:$I$218,7,0),\"\")","v":""},null,""]
[null,null,null,{"$f":"IF(C295=\"\",\"\",VLOOKUP(C295,Tabla_Regional[],3,0))","v":""},null,{"$f":"IF(E295<>\"\",VLOOKUP(CONCATENATE(C295,E295),Dato!$A$4:$I$218,7,0),\"\")","v":""},null,""]
[null,null,null,{"$f":"IF(C296=\"\",\"\",VLOOKUP(C296,Tabla_Regional[],3,0))","v":""},null,{"$f":"IF(E296<>\"\",VLOOKUP(CONCATENATE(C296,E296),Dato!$A$4:$I$218,7,0),\"\")","v":""},null,""]
[null,null,null,{"$f":"IF(C297=\"\",\"\",VLOOKUP(C297,Tabla_Regional[],3,0))","v":""},null,{"$f":"IF(E297<>\"\",VLOOKUP(CONCATENATE(C297,E297),Dato!$A$4:$I$218,7,0),\"\")","v":""},null,""]
[null,null,null,{"$f":"IF(C298=\"\",\"\",VLOOKUP(C298,Tabla_Regional[],3,0))","v":""},null,{"$f":"IF(E298<>\"\",VLOOKUP(CONCATENATE(C298,E298),Dato!$A$4:$I$218,7,0),\"\")","v":""},null,""]
[null,null,null,{"$f":"IF(C299=\"\",\"\",VLOOKUP(C299,Tabla_Regional[],3,0))","v":""},null,{"$f":"IF(E299<>\"\",VLOOKUP(CONCATENATE(C299,E299),Dato!$A$4:$I$218,7,0),\"\")","v":""},null,""]
[null,null,null,{"$f":"IF(C300=\"\",\"\",VLOOKUP(C300,Tabla_Regional[],3,0))","v":""},null,{"$f":"IF(E300<>\"\",VLOOKUP(CONCATENATE(C300,E300),Dato!$A$4:$I$218,7,0),\"\")","v":""},null,""]
[null,null,null,{"$f":"IF(C301=\"\",\"\",VLOOKUP(C301,Tabla_Regional[],3,0))","v":""},null,{"$f":"IF(E301<>\"\",VLOOKUP(CONCATENATE(C301,E301),Dato!$A$4:$I$218,7,0),\"\")","v":""},null,""]
[null,null,null,{"$f":"IF(C302=\"\",\"\",VLOOKUP(C302,Tabla_Regional[],3,0))","v":""},null,{"$f":"IF(E302<>\"\",VLOOKUP(CONCATENATE(C302,E302),Dato!$A$4:$I$218,7,0),\"\")","v":""},null,""]
[null,null,null,{"$f":"IF(C303=\"\",\"\",VLOOKUP(C303,Tabla_Regional[],3,0))","v":""},null,{"$f":"IF(E303<>\"\",VLOOKUP(CONCATENATE(C303,E303),Dato!$A$4:$I$218,7,0),\"\")","v":""},null,""]
[null,null,null,{"$f":"IF(C304=\"\",\"\",VLOOKUP(C304,Tabla_Regional[],3,0))","v":""},null,{"$f":"IF(E304<>\"\",VLOOKUP(CONCATENATE(C304,E304),Dato!$A$4:$I$218,7,0),\"\")","v":""},null,""]
[null,null,null,{"$f":"IF(C305=\"\",\"\",VLOOKUP(C305,Tabla_Regional[],3,0))","v":""},null,{"$f":"IF(E305<>\"\",VLOOKUP(CONCATENATE(C305,E305),Dato!$A$4:$I$218,7,0),\"\")","v":""},null,""]
[null,null,null,{"$f":"IF(C306=\"\",\"\",VLOOKUP(C306,Tabla_Regional[],3,0))","v":""},null,{"$f":"IF(E306<>\"\",VLOOKUP(CONCATENATE(C306,E306),Dato!$A$4:$I$218,7,0),\"\")","v":""},null,""]
[null,null,null,{"$f":"IF(C307=\"\",\"\",VLOOKUP(C307,Tabla_Regional[],3,0))","v":""},null,{"$f":"IF(E307<>\"\",VLOOKUP(CONCATENATE(C307,E307),Dato!$A$4:$I$218,7,0),\"\")","v":""},null,""]
[null,null,null,{"$f":"IF(C308=\"\",\"\",VLOOKUP(C308,Tabla_Regional[],3,0))","v":""},null,{"$f":"IF(E308<>\"\",VLOOKUP(CONCATENATE(C308,E308),Dato!$A$4:$I$218,7,0),\"\")","v":""},null,""]
[null,null,null,{"$f":"IF(C309=\"\",\"\",VLOOKUP(C309,Tabla_Regional[],3,0))","v":""},null,{"$f":"IF(E309<>\"\",VLOOKUP(CONCATENATE(C309,E309),Dato!$A$4:$I$218,7,0),\"\")","v":""},null,""]
[null,null,null,{"$f":"IF(C310=\"\",\"\",VLOOKUP(C310,Tabla_Regional[],3,0))","v":""},null,{"$f":"IF(E310<>\"\",VLOOKUP(CONCATENATE(C310,E310),Dato!$A$4:$I$218,7,0),\"\")","v":""},null,""]
[null,null,null,{"$f":"IF(C311=\"\",\"\",VLOOKUP(C311,Tabla_Regional[],3,0))","v":""},null,{"$f":"IF(E311<>\"\",VLOOKUP(CONCATENATE(C311,E311),Dato!$A$4:$I$218,7,0),\"\")","v":""},null,""]
[null,null,null,{"$f":"IF(C312=\"\",\"\",VLOOKUP(C312,Tabla_Regional[],3,0))","v":""},null,{"$f":"IF(E312<>\"\",VLOOKUP(CONCATENATE(C312,E312),Dato!$A$4:$I$218,7,0),\"\")","v":""},null,""]
[null,null,null,{"$f":"IF(C313=\"\",\"\",VLOOKUP(C313,Tabla_Regional[],3,0))","v":""},null,{"$f":"IF(E313<>\"\",VLOOKUP(CONCATENATE(C313,E313),Dato!$A$4:$I$218,7,0),\"\")","v":""},null,""]
[null,null,null,{"$f":"IF(C314=\"\",\"\",VLOOKUP(C314,Tabla_Regional[],3,0))","v":""},null,{"$f":"IF(E314<>\"\",VLOOKUP(CONCATENATE(C314,E314),Dato!$A$4:$I$218,7,0),\"\")","v":""},null,""]
[null,null,null,{"$f":"IF(C315=\"\",\"\",VLOOKUP(C315,Tabla_Regional[],3,0))","v":""},null,{"$f":"IF(E315<>\"\",VLOOKUP(CONCATENATE(C315,E315),Dato!$A$4:$I$218,7,0),\"\")","v":""},null,""]
[null,null,null,{"$f":"IF(C316=\"\",\"\",VLOOKUP(C316,Tabla_Regional[],3,0))","v":""},null,{"$f":"IF(E316<>\"\",VLOOKUP(CONCATENATE(C316,E316),Dato!$A$4:$I$218,7,0),\"\")","v":""},null,""]
[null,null,null,{"$f":"IF(C317=\"\",\"\",VLOOKUP(C317,Tabla_Regional[],3,0))","v":""},null,{"$f":"IF(E317<>\"\",VLOOKUP(CONCATENATE(C317,E317),Dato!$A$4:$I$218,7,0),\"\")","v":""},null,""]
[null,null,null,{"$f":"IF(C318=\"\",\"\",VLOOKUP(C318,Tabla_Regional[],3,0))","v":""},null,{"$f":"IF(E318<>\"\",VLOOKUP(CONCATENATE(C318,E318),Dato!$A$4:$I$218,7,0),\"\")","v":""},null,""]
[null,null,null,{"$f":"IF(C319=\"\",\"\",VLOOKUP(C319,Tabla_Regional[],3,0))","v":""},null,{"$f":"IF(E319<>\"\",VLOOKUP(CONCATENATE(C319,E319),Dato!$A$4:$I$218,7,0),\"\")","v":""},null,""]
[null,null,null,{"$f":"IF(C320=\"\",\"\",VLOOKUP(C320,Tabla_Regional[],3,0))","v":""},null,{"$f":"IF(E320<>\"\",VLOOKUP(CONCATENATE(C320,E320),Dato!$A$4:$I$218,7,0),\"\")","v":""},null,""]
[null,null,null,{"$f":"IF(C321=\"\",\"\",VLOOKUP(C321,Tabla_Regional[],3,0))","v":""},null,{"$f":"IF(E321<>\"\",VLOOKUP(CONCATENATE(C321,E321),Dato!$A$4:$I$218,7,0),\"\")","v":""},null,""]
[null,null,null,{"$f":"IF(C322=\"\",\"\",VLOOKUP(C322,Tabla_Regional[],3,0))","v":""},null,{"$f":"IF(E322<>\"\",VLOOKUP(CONCATENATE(C322,E322),Dato!$A$4:$I$218,7,0),\"\")","v":""},null,""]
[null,null,null,{"$f":"IF(C323=\"\",\"\",VLOOKUP(C323,Tabla_Regional[],3,0))","v":""},null,{"$f":"IF(E323<>\"\",VLOOKUP(CONCATENATE(C323,E323),Dato!$A$4:$I$218,7,0),\"\")","v":""},null,""]
[null,null,null,{"$f":"IF(C324=\"\",\"\",VLOOKUP(C324,Tabla_Regional[],3,0))","v":""},null,{"$f":"IF(E324<>\"\",VLOOKUP(CONCATENATE(C324,E324),Dato!$A$4:$I$218,7,0),\"\")","v":""},null,""]
[null,null,null,{"$f":"IF(C325=\"\",\"\",VLOOKUP(C325,Tabla_Regional[],3,0))","v":""},null,{"$f":"IF(E325<>\"\",VLOOKUP(CONCATENATE(C325,E325),Dato!$A$4:$I$218,7,0),\"\")","v":""},null,""]
[null,null,null,{"$f":"IF(C326=\"\",\"\",VLOOKUP(C326,Tabla_Regional[],3,0))","v":""},null,{"$f":"IF(E326<>\"\",VLOOKUP(CONCATENATE(C326,E326),Dato!$A$4:$I$218,7,0),\"\")","v":""},null,""]
[null,null,null,{"$f":"IF(C327=\"\",\"\",VLOOKUP(C327,Tabla_Regional[],3,0))","v":""},null,{"$f":"IF(E327<>\"\",VLOOKUP(CONCATENATE(C327,E327),Dato!$A$4:$I$218,7,0),\"\")","v":""},null,""]
[null,null,null,{"$f":"IF(C328=\"\",\"\",VLOOKUP(C328,Tabla_Regional[],3,0))","v":""},null,{"$f":"IF(E328<>\"\",VLOOKUP(CONCATENATE(C328,E328),Dato!$A$4:$I$218,7,0),\"\")","v":""},null,""]
[null,null,null,{"$f":"IF(C329=\"\",\"\",VLOOKUP(C329,Tabla_Regional[],3,0))","v":""},null,{"$f":"IF(E329<>\"\",VLOOKUP(CONCATENATE(C329,E329),Dato!$A$4:$I$218,7,0),\"\")","v":""},null,""]
[null,null,null,{"$f":"IF(C330=\"\",\"\",VLOOKUP(C330,Tabla_Regional[],3,0))","v":""},null,{"$f":"IF(E330<>\"\",VLOOKUP(CONCATENATE(C330,E330),Dato!$A$4:$I$218,7,0),\"\")","v":""},null,""]
[null,null,null,{"$f":"IF(C331=\"\",\"\",VLOOKUP(C331,Tabla_Regional[],3,0))","v":""},null,{"$f":"IF(E331<>\"\",VLOOKUP(CONCATENATE(C331,E331),Dato!$A$4:$I$218,7,0),\"\")","v":""},null,""]
[null,null,null,{"$f":"IF(C332=\"\",\"\",VLOOKUP(C332,Tabla_Regional[],3,0))","v":""},null,{"$f":"IF(E332<>\"\",VLOOKUP(CONCATENATE(C332,E332),Dato!$A$4:$I$218,7,0),\"\")","v":""},null,{"$f":"IF(G332<>\"\",VLOOKUP(CONCATENATE(C332,E332,G332),czmuni,7,0),\"\")","v":""}]
[null,null,null,{"$f":"IF(C333=\"\",\"\",VLOOKUP(C333,Tabla_Regional[],3,0))","v":""},null,{"$f":"IF(E333<>\"\",VLOOKUP(CONCATENATE(C333,E333),Dato!$A$4:$I$218,7,0),\"\")","v":""},null,""]
[null,null,null,{"$f":"IF(C334=\"\",\"\",VLOOKUP(C334,Tabla_Regional[],3,0))","v":""},null,{"$f":"IF(E334<>\"\",VLOOKUP(CONCATENATE(C334,E334),Dato!$A$4:$I$218,7,0),\"\")","v":""},null,""]
[null,null,null,{"$f":"IF(C335=\"\",\"\",VLOOKUP(C335,Tabla_Regional[],3,0))","v":""},null,{"$f":"IF(E335<>\"\",VLOOKUP(CONCATENATE(C335,E335),Dato!$A$4:$I$218,7,0),\"\")","v":""},null,""]
[null,null,null,{"$f":"IF(C336=\"\",\"\",VLOOKUP(C336,Tabla_Regional[],3,0))","v":""},null,{"$f":"IF(E336<>\"\",VLOOKUP(CONCATENATE(C336,E336),Dato!$A$4:$I$218,7,0),\"\")","v":""},null,""]
[null,null,null,{"$f":"IF(C337=\"\",\"\",VLOOKUP(C337,Tabla_Regional[],3,0))","v":""},null,{"$f":"IF(E337<>\"\",VLOOKUP(CONCATENATE(C337,E337),Dato!$A$4:$I$218,7,0),\"\")","v":""},null,""]
[null,null,null,{"$f":"IF(C338=\"\",\"\",VLOOKUP(C338,Tabla_Regional[],3,0))","v":""},null,{"$f":"IF(E338<>\"\",VLOOKUP(CONCATENATE(C338,E338),Dato!$A$4:$I$218,7,0),\"\")","v":""},null,""]
[null,null,null,{"$f":"IF(C339=\"\",\"\",VLOOKUP(C339,Tabla_Regional[],3,0))","v":""},null,{"$f":"IF(E339<>\"\",VLOOKUP(CONCATENATE(C339,E339),Dato!$A$4:$I$218,7,0),\"\")","v":""},null,""]
[null,null,null,{"$f":"IF(C340=\"\",\"\",VLOOKUP(C340,Tabla_Regional[],3,0))","v":""},null,{"$f":"IF(E340<>\"\",VLOOKUP(CONCATENATE(C340,E340),Dato!$A$4:$I$218,7,0),\"\")","v":""},null,""]
[null,null,null,{"$f":"IF(C341=\"\",\"\",VLOOKUP(C341,Tabla_Regional[],3,0))","v":""},null,{"$f":"IF(E341<>\"\",VLOOKUP(CONCATENATE(C341,E341),Dato!$A$4:$I$218,7,0),\"\")","v":""},null,""]
[null,null,null,{"$f":"IF(C342=\"\",\"\",VLOOKUP(C342,Tabla_Regional[],3,0))","v":""},null,{"$f":"IF(E342<>\"\",VLOOKUP(CONCATENATE(C342,E342),Dato!$A$4:$I$218,7,0),\"\")","v":""},null,""]
[null,null,null,{"$f":"IF(C343=\"\",\"\",VLOOKUP(C343,Tabla_Regional[],3,0))","v":""},null,{"$f":"IF(E343<>\"\",VLOOKUP(CONCATENATE(C343,E343),Dato!$A$4:$I$218,7,0),\"\")","v":""},null,""]
[null,null,null,{"$f":"IF(C344=\"\",\"\",VLOOKUP(C344,Tabla_Regional[],3,0))","v":""},null,{"$f":"IF(E344<>\"\",VLOOKUP(CONCATENATE(C344,E344),Dato!$A$4:$I$218,7,0),\"\")","v":""},null,""]
[null,null,null,{"$f":"IF(C345=\"\",\"\",VLOOKUP(C345,Tabla_Regional[],3,0))","v":""},null,{"$f":"IF(E345<>\"\",VLOOKUP(CONCATENATE(C345,E345),Dato!$A$4:$I$218,7,0),\"\")","v":""},null,""]
[null,null,null,{"$f":"IF(C346=\"\",\"\",VLOOKUP(C346,Tabla_Regional[],3,0))","v":""},null,{"$f":"IF(E346<>\"\",VLOOKUP(CONCATENATE(C346,E346),Dato!$A$4:$I$218,7,0),\"\")","v":""},null,""]
[null,null,null,{"$f":"IF(C347=\"\",\"\",VLOOKUP(C347,Tabla_Regional[],3,0))","v":""},null,{"$f":"IF(E347<>\"\",VLOOKUP(CONCATENATE(C347,E347),Dato!$A$4:$I$218,7,0),\"\")","v":""},null,""]
[null,null,null,{"$f":"IF(C348=\"\",\"\",VLOOKUP(C348,Tabla_Regional[],3,0))","v":""},null,{"$f":"IF(E348<>\"\",VLOOKUP(CONCATENATE(C348,E348),Dato!$A$4:$I$218,7,0),\"\")","v":""},null,""]
[null,null,null,{"$f":"IF(C349=\"\",\"\",VLOOKUP(C349,Tabla_Regional[],3,0))","v":""},null,{"$f":"IF(E349<>\"\",VLOOKUP(CONCATENATE(C349,E349),Dato!$A$4:$I$218,7,0),\"\")","v":""},null,""]
[null,null,null,{"$f":"IF(C350=\"\",\"\",VLOOKUP(C350,Tabla_Regional[],3,0))","v":""},null,{"$f":"IF(E350<>\"\",VLOOKUP(CONCATENATE(C350,E350),Dato!$A$4:$I$218,7,0),\"\")","v":""},null,""]
[null,null,null,{"$f":"IF(C351=\"\",\"\",VLOOKUP(C351,Tabla_Regional[],3,0))","v":""},null,{"$f":"IF(E351<>\"\",VLOOKUP(CONCATENATE(C351,E351),Dato!$A$4:$I$218,7,0),\"\")","v":""},null,""]
[null,null,null,{"$f":"IF(C352=\"\",\"\",VLOOKUP(C352,Tabla_Regional[],3,0))","v":""},null,{"$f":"IF(E352<>\"\",VLOOKUP(CONCATENATE(C352,E352),Dato!$A$4:$I$218,7,0),\"\")","v":""},null,""]
[null,null,null,{"$f":"IF(C353=\"\",\"\",VLOOKUP(C353,Tabla_Regional[],3,0))","v":""},null,{"$f":"IF(E353<>\"\",VLOOKUP(CONCATENATE(C353,E353),Dato!$A$4:$I$218,7,0),\"\")","v":""},null,""]
[null,null,null,{"$f":"IF(C354=\"\",\"\",VLOOKUP(C354,Tabla_Regional[],3,0))","v":""},null,{"$f":"IF(E354<>\"\",VLOOKUP(CONCATENATE(C354,E354),Dato!$A$4:$I$218,7,0),\"\")","v":""},null,""]
[null,null,null,{"$f":"IF(C355=\"\",\"\",VLOOKUP(C355,Tabla_Regional[],3,0))","v":""},null,{"$f":"IF(E355<>\"\",VLOOKUP(CONCATENATE(C355,E355),Dato!$A$4:$I$218,7,0),\"\")","v":""},null,""]
[null,null,null,{"$f":"IF(C356=\"\",\"\",VLOOKUP(C356,Tabla_Regional[],3,0))","v":""},null,{"$f":"IF(E356<>\"\",VLOOKUP(CONCATENATE(C356,E356),Dato!$A$4:$I$218,7,0),\"\")","v":""},null,""]
[null,null,null,{"$f":"IF(C357=\"\",\"\",VLOOKUP(C357,Tabla_Regional[],3,0))","v":""},null,{"$f":"IF(E357<>\"\",VLOOKUP(CONCATENATE(C357,E357),Dato!$A$4:$I$218,7,0),\"\")","v":""},null,""]
[null,null,null,{"$f":"IF(C358=\"\",\"\",VLOOKUP(C358,Tabla_Regional[],3,0))","v":""},null,{"$f":"IF(E358<>\"\",VLOOKUP(CONCATENATE(C358,E358),Dato!$A$4:$I$218,7,0),\"\")","v":""},null,""]
[null,null,null,{"$f":"IF(C359=\"\",\"\",VLOOKUP(C359,Tabla_Regional[],3,0))","v":""},null,{"$f":"IF(E359<>\"\",VLOOKUP(CONCATENATE(C359,E359),Dato!$A$4:$I$218,7,0),\"\")","v":""},null,""]
[null,null,null,{"$f":"IF(C360=\"\",\"\",VLOOKUP(C360,Tabla_Regional[],3,0))","v":""},null,{"$f":"IF(E360<>\"\",VLOOKUP(CONCATENATE(C360,E360),Dato!$A$4:$I$218,7,0),\"\")","v":""},null,""]
[null,null,null,{"$f":"IF(C361=\"\",\"\",VLOOKUP(C361,Tabla_Regional[],3,0))","v":""},null,{"$f":"IF(E361<>\"\",VLOOKUP(CONCATENATE(C361,E361),Dato!$A$4:$I$218,7,0),\"\")","v":""},null,""]
[null,null,null,{"$f":"IF(C362=\"\",\"\",VLOOKUP(C362,Tabla_Regional[],3,0))","v":""},null,{"$f":"IF(E362<>\"\",VLOOKUP(CONCATENATE(C362,E362),Dato!$A$4:$I$218,7,0),\"\")","v":""},null,""]
[null,null,null,{"$f":"IF(C363=\"\",\"\",VLOOKUP(C363,Tabla_Regional[],3,0))","v":""},null,{"$f":"IF(E363<>\"\",VLOOKUP(CONCATENATE(C363,E363),Dato!$A$4:$I$218,7,0),\"\")","v":""},null,""]
[null,null,null,{"$f":"IF(C364=\"\",\"\",VLOOKUP(C364,Tabla_Regional[],3,0))","v":""},null,{"$f":"IF(E364<>\"\",VLOOKUP(CONCATENATE(C364,E364),Dato!$A$4:$I$218,7,0),\"\")","v":""},null,""]
[null,null,null,{"$f":"IF(C365=\"\",\"\",VLOOKUP(C365,Tabla_Regional[],3,0))","v":""},null,{"$f":"IF(E365<>\"\",VLOOKUP(CONCATENATE(C365,E365),Dato!$A$4:$I$218,7,0),\"\")","v":""},null,""]
[null,null,null,{"$f":"IF(C366=\"\",\"\",VLOOKUP(C366,Tabla_Regional[],3,0))","v":""},null,{"$f":"IF(E366<>\"\",VLOOKUP(CONCATENATE(C366,E366),Dato!$A$4:$I$218,7,0),\"\")","v":""},null,""]
[null,null,null,{"$f":"IF(C367=\"\",\"\",VLOOKUP(C367,Tabla_Regional[],3,0))","v":""},null,{"$f":"IF(E367<>\"\",VLOOKUP(CONCATENATE(C367,E367),Dato!$A$4:$I$218,7,0),\"\")","v":""},null,""]
[null,null,null,{"$f":"IF(C368=\"\",\"\",VLOOKUP(C368,Tabla_Regional[],3,0))","v":""},null,{"$f":"IF(E368<>\"\",VLOOKUP(CONCATENATE(C368,E368),Dato!$A$4:$I$218,7,0),\"\")","v":""},null,""]
[null,null,null,{"$f":"IF(C369=\"\",\"\",VLOOKUP(C369,Tabla_Regional[],3,0))","v":""},null,{"$f":"IF(E369<>\"\",VLOOKUP(CONCATENATE(C369,E369),Dato!$A$4:$I$218,7,0),\"\")","v":""},null,""]
[null,null,null,{"$f":"IF(C370=\"\",\"\",VLOOKUP(C370,Tabla_Regional[],3,0))","v":""},null,{"$f":"IF(E370<>\"\",VLOOKUP(CONCATENATE(C370,E370),Dato!$A$4:$I$218,7,0),\"\")","v":""},null,""]
[null,null,null,{"$f":"IF(C371=\"\",\"\",VLOOKUP(C371,Tabla_Regional[],3,0))","v":""},null,{"$f":"IF(E371<>\"\",VLOOKUP(CONCATENATE(C371,E371),Dato!$A$4:$I$218,7,0),\"\")","v":""},null,""]
[null,null,null,{"$f":"IF(C372=\"\",\"\",VLOOKUP(C372,Tabla_Regional[],3,0))","v":""},null,{"$f":"IF(E372<>\"\",VLOOKUP(CONCATENATE(C372,E372),Dato!$A$4:$I$218,7,0),\"\")","v":""},null,""]
[null,null,null,{"$f":"IF(C373=\"\",\"\",VLOOKUP(C373,Tabla_Regional[],3,0))","v":""},null,{"$f":"IF(E373<>\"\",VLOOKUP(CONCATENATE(C373,E373),Dato!$A$4:$I$218,7,0),\"\")","v":""},null,""]
[null,null,null,{"$f":"IF(C374=\"\",\"\",VLOOKUP(C374,Tabla_Regional[],3,0))","v":""},null,{"$f":"IF(E374<>\"\",VLOOKUP(CONCATENATE(C374,E374),Dato!$A$4:$I$218,7,0),\"\")","v":""},null,""]
[null,null,null,{"$f":"IF(C375=\"\",\"\",VLOOKUP(C375,Tabla_Regional[],3,0))","v":""},null,{"$f":"IF(E375<>\"\",VLOOKUP(CONCATENATE(C375,E375),Dato!$A$4:$I$218,7,0),\"\")","v":""},null,""]
[null,null,null,{"$f":"IF(C376=\"\",\"\",VLOOKUP(C376,Tabla_Regional[],3,0))","v":""},null,{"$f":"IF(E376<>\"\",VLOOKUP(CONCATENATE(C376,E376),Dato!$A$4:$I$218,7,0),\"\")","v":""},null,""]
[null,null,null,{"$f":"IF(C377=\"\",\"\",VLOOKUP(C377,Tabla_Regional[],3,0))","v":""},null,{"$f":"IF(E377<>\"\",VLOOKUP(CONCATENATE(C377,E377),Dato!$A$4:$I$218,7,0),\"\")","v":""},null,""]
[null,null,null,{"$f":"IF(C378=\"\",\"\",VLOOKUP(C378,Tabla_Regional[],3,0))","v":""},null,{"$f":"IF(E378<>\"\",VLOOKUP(CONCATENATE(C378,E378),Dato!$A$4:$I$218,7,0),\"\")","v":""},null,""]
[null,null,null,{"$f":"IF(C379=\"\",\"\",VLOOKUP(C379,Tabla_Regional[],3,0))","v":""},null,{"$f":"IF(E379<>\"\",VLOOKUP(CONCATENATE(C379,E379),Dato!$A$4:$I$218,7,0),\"\")","v":""},null,""]
[null,null,null,{"$f":"IF(C380=\"\",\"\",VLOOKUP(C380,Tabla_Regional[],3,0))","v":""},null,{"$f":"IF(E380<>\"\",VLOOKUP(CONCATENATE(C380,E380),Dato!$A$4:$I$218,7,0),\"\")","v":""},null,""]
[null,null,null,{"$f":"IF(C381=\"\",\"\",VLOOKUP(C381,Tabla_Regional[],3,0))","v":""},null,{"$f":"IF(E381<>\"\",VLOOKUP(CONCATENATE(C381,E381),Dato!$A$4:$I$218,7,0),\"\")","v":""},null,""]
[null,null,null,{"$f":"IF(C382=\"\",\"\",VLOOKUP(C382,Tabla_Regional[],3,0))","v":""},null,{"$f":"IF(E382<>\"\",VLOOKUP(CONCATENATE(C382,E382),Dato!$A$4:$I$218,7,0),\"\")","v":""},null,""]
[null,null,null,{"$f":"IF(C383=\"\",\"\",VLOOKUP(C383,Tabla_Regional[],3,0))","v":""},null,{"$f":"IF(E383<>\"\",VLOOKUP(CONCATENATE(C383,E383),Dato!$A$4:$I$218,7,0),\"\")","v":""},null,""]
[null,null,null,{"$f":"IF(C384=\"\",\"\",VLOOKUP(C384,Tabla_Regional[],3,0))","v":""},null,{"$f":"IF(E384<>\"\",VLOOKUP(CONCATENATE(C384,E384),Dato!$A$4:$I$218,7,0),\"\")","v":""},null,""]
[null,null,null,{"$f":"IF(C385=\"\",\"\",VLOOKUP(C385,Tabla_Regional[],3,0))","v":""},null,{"$f":"IF(E385<>\"\",VLOOKUP(CONCATENATE(C385,E385),Dato!$A$4:$I$218,7,0),\"\")","v":""},null,""]
[null,null,null,{"$f":"IF(C386=\"\",\"\",VLOOKUP(C386,Tabla_Regional[],3,0))","v":""},null,{"$f":"IF(E386<>\"\",VLOOKUP(CONCATENATE(C386,E386),Dato!$A$4:$I$218,7,0),\"\")","v":""},null,""]
[null,null,null,{"$f":"IF(C387=\"\",\"\",VLOOKUP(C387,Tabla_Regional[],3,0))","v":""},null,{"$f":"IF(E387<>\"\",VLOOKUP(CONCATENATE(C387,E387),Dato!$A$4:$I$218,7,0),\"\")","v":""},null,""]
[null,null,null,{"$f":"IF(C388=\"\",\"\",VLOOKUP(C388,Tabla_Regional[],3,0))","v":""},null,{"$f":"IF(E388<>\"\",VLOOKUP(CONCATENATE(C388,E388),Dato!$A$4:$I$218,7,0),\"\")","v":""},null,""]
[null,null,null,{"$f":"IF(C389=\"\",\"\",VLOOKUP(C389,Tabla_Regional[],3,0))","v":""},null,{"$f":"IF(E389<>\"\",VLOOKUP(CONCATENATE(C389,E389),Dato!$A$4:$I$218,7,0),\"\")","v":""},null,""]
[null,null,null,{"$f":"IF(C390=\"\",\"\",VLOOKUP(C390,Tabla_Regional[],3,0))","v":""},null,{"$f":"IF(E390<>\"\",VLOOKUP(CONCATENATE(C390,E390),Dato!$A$4:$I$218,7,0),\"\")","v":""},null,""]
[null,null,null,{"$f":"IF(C391=\"\",\"\",VLOOKUP(C391,Tabla_Regional[],3,0))","v":""},null,{"$f":"IF(E391<>\"\",VLOOKUP(CONCATENATE(C391,E391),Dato!$A$4:$I$218,7,0),\"\")","v":""},null,""]
[null,null,null,{"$f":"IF(C392=\"\",\"\",VLOOKUP(C392,Tabla_Regional[],3,0))","v":""},null,{"$f":"IF(E392<>\"\",VLOOKUP(CONCATENATE(C392,E392),Dato!$A$4:$I$218,7,0),\"\")","v":""},null,""]
[null,null,null,{"$f":"IF(C393=\"\",\"\",VLOOKUP(C393,Tabla_Regional[],3,0))","v":""},null,{"$f":"IF(E393<>\"\",VLOOKUP(CONCATENATE(C393,E393),Dato!$A$4:$I$218,7,0),\"\")","v":""},null,""]
[null,null,null,{"$f":"IF(C394=\"\",\"\",VLOOKUP(C394,Tabla_Regional[],3,0))","v":""},null,{"$f":"IF(E394<>\"\",VLOOKUP(CONCATENATE(C394,E394),Dato!$A$4:$I$218,7,0),\"\")","v":""},null,""]
[null,null,null,{"$f":"IF(C395=\"\",\"\",VLOOKUP(C395,Tabla_Regional[],3,0))","v":""},null,{"$f":"IF(E395<>\"\",VLOOKUP(CONCATENATE(C395,E395),Dato!$A$4:$I$218,7,0),\"\")","v":""},null,""]
[null,null,null,{"$f":"IF(C396=\"\",\"\",VLOOKUP(C396,Tabla_Regional[],3,0))","v":""},null,{"$f":"IF(E396<>\"\",VLOOKUP(CONCATENATE(C396,E396),Dato!$A$4:$I$218,7,0),\"\")","v":""},null,{"$f":"IF(G396<>\"\",VLOOKUP(CONCATENATE(C396,E396,G396),czmuni,7,0),\"\")","v":""}]
[null,null,null,{"$f":"IF(C397=\"\",\"\",VLOOKUP(C397,Tabla_Regional[],3,0))","v":""},null,{"$f":"IF(E397<>\"\",VLOOKUP(CONCATENATE(C397,E397),Dato!$A$4:$I$218,7,0),\"\")","v":""},null,""]
[null,null,null,{"$f":"IF(C398=\"\",\"\",VLOOKUP(C398,Tabla_Regional[],3,0))","v":""},null,{"$f":"IF(E398<>\"\",VLOOKUP(CONCATENATE(C398,E398),Dato!$A$4:$I$218,7,0),\"\")","v":""},null,""]
[null,null,null,{"$f":"IF(C399=\"\",\"\",VLOOKUP(C399,Tabla_Regional[],3,0))","v":""},null,{"$f":"IF(E399<>\"\",VLOOKUP(CONCATENATE(C399,E399),Dato!$A$4:$I$218,7,0),\"\")","v":""},null,""]
[null,null,null,{"$f":"IF(C400=\"\",\"\",VLOOKUP(C400,Tabla_Regional[],3,0))","v":""},null,{"$f":"IF(E400<>\"\",VLOOKUP(CONCATENATE(C400,E400),Dato!$A$4:$I$218,7,0),\"\")","v":""},null,""]
[null,null,null,{"$f":"IF(C401=\"\",\"\",VLOOKUP(C401,Tabla_Regional[],3,0))","v":""},null,{"$f":"IF(E401<>\"\",VLOOKUP(CONCATENATE(C401,E401),Dato!$A$4:$I$218,7,0),\"\")","v":""},null,""]
[null,null,null,{"$f":"IF(C402=\"\",\"\",VLOOKUP(C402,Tabla_Regional[],3,0))","v":""},null,{"$f":"IF(E402<>\"\",VLOOKUP(CONCATENATE(C402,E402),Dato!$A$4:$I$218,7,0),\"\")","v":""},null,""]
[null,null,null,{"$f":"IF(C403=\"\",\"\",VLOOKUP(C403,Tabla_Regional[],3,0))","v":""},null,{"$f":"IF(E403<>\"\",VLOOKUP(CONCATENATE(C403,E403),Dato!$A$4:$I$218,7,0),\"\")","v":""},null,""]
[null,null,null,{"$f":"IF(C404=\"\",\"\",VLOOKUP(C404,Tabla_Regional[],3,0))","v":""},null,{"$f":"IF(E404<>\"\",VLOOKUP(CONCATENATE(C404,E404),Dato!$A$4:$I$218,7,0),\"\")","v":""},null,""]
[null,null,null,{"$f":"IF(C405=\"\",\"\",VLOOKUP(C405,Tabla_Regional[],3,0))","v":""},null,{"$f":"IF(E405<>\"\",VLOOKUP(CONCATENATE(C405,E405),Dato!$A$4:$I$218,7,0),\"\")","v":""},null,""]
[null,null,null,{"$f":"IF(C406=\"\",\"\",VLOOKUP(C406,Tabla_Regional[],3,0))","v":""},null,{"$f":"IF(E406<>\"\",VLOOKUP(CONCATENATE(C406,E406),Dato!$A$4:$I$218,7,0),\"\")","v":""},null,""]
[null,null,null,{"$f":"IF(C407=\"\",\"\",VLOOKUP(C407,Tabla_Regional[],3,0))","v":""},null,{"$f":"IF(E407<>\"\",VLOOKUP(CONCATENATE(C407,E407),Dato!$A$4:$I$218,7,0),\"\")","v":""},null,""]
[null,null,null,{"$f":"IF(C408=\"\",\"\",VLOOKUP(C408,Tabla_Regional[],3,0))","v":""},null,{"$f":"IF(E408<>\"\",VLOOKUP(CONCATENATE(C408,E408),Dato!$A$4:$I$218,7,0),\"\")","v":""},null,""]
[null,null,null,{"$f":"IF(C409=\"\",\"\",VLOOKUP(C409,Tabla_Regional[],3,0))","v":""},null,{"$f":"IF(E409<>\"\",VLOOKUP(CONCATENATE(C409,E409),Dato!$A$4:$I$218,7,0),\"\")","v":""},null,""]
[null,null,null,{"$f":"IF(C410=\"\",\"\",VLOOKUP(C410,Tabla_Regional[],3,0))","v":""},null,{"$f":"IF(E410<>\"\",VLOOKUP(CONCATENATE(C410,E410),Dato!$A$4:$I$218,7,0),\"\")","v":""},null,""]
[null,null,null,{"$f":"IF(C411=\"\",\"\",VLOOKUP(C411,Tabla_Regional[],3,0))","v":""},null,{"$f":"IF(E411<>\"\",VLOOKUP(CONCATENATE(C411,E411),Dato!$A$4:$I$218,7,0),\"\")","v":""},null,""]
[null,null,null,{"$f":"IF(C412=\"\",\"\",VLOOKUP(C412,Tabla_Regional[],3,0))","v":""},null,{"$f":"IF(E412<>\"\",VLOOKUP(CONCATENATE(C412,E412),Dato!$A$4:$I$218,7,0),\"\")","v":""},null,""]
[null,null,null,{"$f":"IF(C413=\"\",\"\",VLOOKUP(C413,Tabla_Regional[],3,0))","v":""},null,{"$f":"IF(E413<>\"\",VLOOKUP(CONCATENATE(C413,E413),Dato!$A$4:$I$218,7,0),\"\")","v":""},null,""]
[null,null,null,{"$f":"IF(C414=\"\",\"\",VLOOKUP(C414,Tabla_Regional[],3,0))","v":""},null,{"$f":"IF(E414<>\"\",VLOOKUP(CONCATENATE(C414,E414),Dato!$A$4:$I$218,7,0),\"\")","v":""},null,""]
[null,null,null,{"$f":"IF(C415=\"\",\"\",VLOOKUP(C415,Tabla_Regional[],3,0))","v":""},null,{"$f":"IF(E415<>\"\",VLOOKUP(CONCATENATE(C415,E415),Dato!$A$4:$I$218,7,0),\"\")","v":""},null,""]
[null,null,null,{"$f":"IF(C416=\"\",\"\",VLOOKUP(C416,Tabla_Regional[],3,0))","v":""},null,{"$f":"IF(E416<>\"\",VLOOKUP(CONCATENATE(C416,E416),Dato!$A$4:$I$218,7,0),\"\")","v":""},null,""]
[null,null,null,{"$f":"IF(C417=\"\",\"\",VLOOKUP(C417,Tabla_Regional[],3,0))","v":""},null,{"$f":"IF(E417<>\"\",VLOOKUP(CONCATENATE(C417,E417),Dato!$A$4:$I$218,7,0),\"\")","v":""},null,""]
[null,null,null,{"$f":"IF(C418=\"\",\"\",VLOOKUP(C418,Tabla_Regional[],3,0))","v":""},null,{"$f":"IF(E418<>\"\",VLOOKUP(CONCATENATE(C418,E418),Dato!$A$4:$I$218,7,0),\"\")","v":""},null,""]
[null,null,null,{"$f":"IF(C419=\"\",\"\",VLOOKUP(C419,Tabla_Regional[],3,0))","v":""},null,{"$f":"IF(E419<>\"\",VLOOKUP(CONCATENATE(C419,E419),Dato!$A$4:$I$218,7,0),\"\")","v":""},null,""]
[null,null,null,{"$f":"IF(C420=\"\",\"\",VLOOKUP(C420,Tabla_Regional[],3,0))","v":""},null,{"$f":"IF(E420<>\"\",VLOOKUP(CONCATENATE(C420,E420),Dato!$A$4:$I$218,7,0),\"\")","v":""},null,""]
[null,null,null,{"$f":"IF(C421=\"\",\"\",VLOOKUP(C421,Tabla_Regional[],3,0))","v":""},null,{"$f":"IF(E421<>\"\",VLOOKUP(CONCATENATE(C421,E421),Dato!$A$4:$I$218,7,0),\"\")","v":""},null,""]
[null,null,null,{"$f":"IF(C422=\"\",\"\",VLOOKUP(C422,Tabla_Regional[],3,0))","v":""},null,{"$f":"IF(E422<>\"\",VLOOKUP(CONCATENATE(C422,E422),Dato!$A$4:$I$218,7,0),\"\")","v":""},null,""]
[null,null,null,{"$f":"IF(C423=\"\",\"\",VLOOKUP(C423,Tabla_Regional[],3,0))","v":""},null,{"$f":"IF(E423<>\"\",VLOOKUP(CONCATENATE(C423,E423),Dato!$A$4:$I$218,7,0),\"\")","v":""},null,""]
[null,null,null,{"$f":"IF(C424=\"\",\"\",VLOOKUP(C424,Tabla_Regional[],3,0))","v":""},null,{"$f":"IF(E424<>\"\",VLOOKUP(CONCATENATE(C424,E424),Dato!$A$4:$I$218,7,0),\"\")","v":""},null,""]
[null,null,null,{"$f":"IF(C425=\"\",\"\",VLOOKUP(C425,Tabla_Regional[],3,0))","v":""},null,{"$f":"IF(E425<>\"\",VLOOKUP(CONCATENATE(C425,E425),Dato!$A$4:$I$218,7,0),\"\")","v":""},null,""]
[null,null,null,{"$f":"IF(C426=\"\",\"\",VLOOKUP(C426,Tabla_Regional[],3,0))","v":""},null,{"$f":"IF(E426<>\"\",VLOOKUP(CONCATENATE(C426,E426),Dato!$A$4:$I$218,7,0),\"\")","v":""},null,""]
[null,null,null,{"$f":"IF(C427=\"\",\"\",VLOOKUP(C427,Tabla_Regional[],3,0))","v":""},null,{"$f":"IF(E427<>\"\",VLOOKUP(CONCATENATE(C427,E427),Dato!$A$4:$I$218,7,0),\"\")","v":""},null,""]
[null,null,null,{"$f":"IF(C428=\"\",\"\",VLOOKUP(C428,Tabla_Regional[],3,0))","v":""},null,{"$f":"IF(E428<>\"\",VLOOKUP(CONCATENATE(C428,E428),Dato!$A$4:$I$218,7,0),\"\")","v":""},null,""]
[null,null,null,{"$f":"IF(C429=\"\",\"\",VLOOKUP(C429,Tabla_Regional[],3,0))","v":""},null,{"$f":"IF(E429<>\"\",VLOOKUP(CONCATENATE(C429,E429),Dato!$A$4:$I$218,7,0),\"\")","v":""},null,""]
[null,null,null,{"$f":"IF(C430=\"\",\"\",VLOOKUP(C430,Tabla_Regional[],3,0))","v":""},null,{"$f":"IF(E430<>\"\",VLOOKUP(CONCATENATE(C430,E430),Dato!$A$4:$I$218,7,0),\"\")","v":""},null,""]
[null,null,null,{"$f":"IF(C431=\"\",\"\",VLOOKUP(C431,Tabla_Regional[],3,0))","v":""},null,{"$f":"IF(E431<>\"\",VLOOKUP(CONCATENATE(C431,E431),Dato!$A$4:$I$218,7,0),\"\")","v":""},null,""]
[null,null,null,{"$f":"IF(C432=\"\",\"\",VLOOKUP(C432,Tabla_Regional[],3,0))","v":""},null,{"$f":"IF(E432<>\"\",VLOOKUP(CONCATENATE(C432,E432),Dato!$A$4:$I$218,7,0),\"\")","v":""},null,""]
[null,null,null,{"$f":"IF(C433=\"\",\"\",VLOOKUP(C433,Tabla_Regional[],3,0))","v":""},null,{"$f":"IF(E433<>\"\",VLOOKUP(CONCATENATE(C433,E433),Dato!$A$4:$I$218,7,0),\"\")","v":""},null,""]
[null,null,null,{"$f":"IF(C434=\"\",\"\",VLOOKUP(C434,Tabla_Regional[],3,0))","v":""},null,{"$f":"IF(E434<>\"\",VLOOKUP(CONCATENATE(C434,E434),Dato!$A$4:$I$218,7,0),\"\")","v":""},null,""]
[null,null,null,{"$f":"IF(C435=\"\",\"\",VLOOKUP(C435,Tabla_Regional[],3,0))","v":""},null,{"$f":"IF(E435<>\"\",VLOOKUP(CONCATENATE(C435,E435),Dato!$A$4:$I$218,7,0),\"\")","v":""},null,""]
[null,null,null,{"$f":"IF(C436=\"\",\"\",VLOOKUP(C436,Tabla_Regional[],3,0))","v":""},null,{"$f":"IF(E436<>\"\",VLOOKUP(CONCATENATE(C436,E436),Dato!$A$4:$I$218,7,0),\"\")","v":""},null,""]
[null,null,null,{"$f":"IF(C437=\"\",\"\",VLOOKUP(C437,Tabla_Regional[],3,0))","v":""},null,{"$f":"IF(E437<>\"\",VLOOKUP(CONCATENATE(C437,E437),Dato!$A$4:$I$218,7,0),\"\")","v":""},null,""]
[null,null,null,{"$f":"IF(C438=\"\",\"\",VLOOKUP(C438,Tabla_Regional[],3,0))","v":""},null,{"$f":"IF(E438<>\"\",VLOOKUP(CONCATENATE(C438,E438),Dato!$A$4:$I$218,7,0),\"\")","v":""},null,""]
[null,null,null,{"$f":"IF(C439=\"\",\"\",VLOOKUP(C439,Tabla_Regional[],3,0))","v":""},null,{"$f":"IF(E439<>\"\",VLOOKUP(CONCATENATE(C439,E439),Dato!$A$4:$I$218,7,0),\"\")","v":""},null,""]
[null,null,null,{"$f":"IF(C440=\"\",\"\",VLOOKUP(C440,Tabla_Regional[],3,0))","v":""},null,{"$f":"IF(E440<>\"\",VLOOKUP(CONCATENATE(C440,E440),Dato!$A$4:$I$218,7,0),\"\")","v":""},null,""]
[null,null,null,{"$f":"IF(C441=\"\",\"\",VLOOKUP(C441,Tabla_Regional[],3,0))","v":""},null,{"$f":"IF(E441<>\"\",VLOOKUP(CONCATENATE(C441,E441),Dato!$A$4:$I$218,7,0),\"\")","v":""},null,""]
[null,null,null,{"$f":"IF(C442=\"\",\"\",VLOOKUP(C442,Tabla_Regional[],3,0))","v":""},null,{"$f":"IF(E442<>\"\",VLOOKUP(CONCATENATE(C442,E442),Dato!$A$4:$I$218,7,0),\"\")","v":""},null,""]
[null,null,null,{"$f":"IF(C443=\"\",\"\",VLOOKUP(C443,Tabla_Regional[],3,0))","v":""},null,{"$f":"IF(E443<>\"\",VLOOKUP(CONCATENATE(C443,E443),Dato!$A$4:$I$218,7,0),\"\")","v":""},null,""]
[null,null,null,{"$f":"IF(C444=\"\",\"\",VLOOKUP(C444,Tabla_Regional[],3,0))","v":""},null,{"$f":"IF(E444<>\"\",VLOOKUP(CONCATENATE(C444,E444),Dato!$A$4:$I$218,7,0),\"\")","v":""},null,""]
[null,null,null,{"$f":"IF(C445=\"\",\"\",VLOOKUP(C445,Tabla_Regional[],3,0))","v":""},null,{"$f":"IF(E445<>\"\",VLOOKUP(CONCATENATE(C445,E445),Dato!$A$4:$I$218,7,0),\"\")","v":""},null,""]
[null,null,null,{"$f":"IF(C446=\"\",\"\",VLOOKUP(C446,Tabla_Regional[],3,0))","v":""},null,{"$f":"IF(E446<>\"\",VLOOKUP(CONCATENATE(C446,E446),Dato!$A$4:$I$218,7,0),\"\")","v":""},null,""]
[null,null,null,{"$f":"IF(C447=\"\",\"\",VLOOKUP(C447,Tabla_Regional[],3,0))","v":""},null,{"$f":"IF(E447<>\"\",VLOOKUP(CONCATENATE(C447,E447),Dato!$A$4:$I$218,7,0),\"\")","v":""},null,""]
[null,null,null,{"$f":"IF(C448=\"\",\"\",VLOOKUP(C448,Tabla_Regional[],3,0))","v":""},null,{"$f":"IF(E448<>\"\",VLOOKUP(CONCATENATE(C448,E448),Dato!$A$4:$I$218,7,0),\"\")","v":""},null,""]
[null,null,null,{"$f":"IF(C449=\"\",\"\",VLOOKUP(C449,Tabla_Regional[],3,0))","v":""},null,{"$f":"IF(E449<>\"\",VLOOKUP(CONCATENATE(C449,E449),Dato!$A$4:$I$218,7,0),\"\")","v":""},null,""]
[null,null,null,{"$f":"IF(C450=\"\",\"\",VLOOKUP(C450,Tabla_Regional[],3,0))","v":""},null,{"$f":"IF(E450<>\"\",VLOOKUP(CONCATENATE(C450,E450),Dato!$A$4:$I$218,7,0),\"\")","v":""},null,""]
[null,null,null,{"$f":"IF(C451=\"\",\"\",VLOOKUP(C451,Tabla_Regional[],3,0))","v":""},null,{"$f":"IF(E451<>\"\",VLOOKUP(CONCATENATE(C451,E451),Dato!$A$4:$I$218,7,0),\"\")","v":""},null,""]
[null,null,null,{"$f":"IF(C452=\"\",\"\",VLOOKUP(C452,Tabla_Regional[],3,0))","v":""},null,{"$f":"IF(E452<>\"\",VLOOKUP(CONCATENATE(C452,E452),Dato!$A$4:$I$218,7,0),\"\")","v":""},null,""]
[null,null,null,{"$f":"IF(C453=\"\",\"\",VLOOKUP(C453,Tabla_Regional[],3,0))","v":""},null,{"$f":"IF(E453<>\"\",VLOOKUP(CONCATENATE(C453,E453),Dato!$A$4:$I$218,7,0),\"\")","v":""},null,""]
[null,null,null,{"$f":"IF(C454=\"\",\"\",VLOOKUP(C454,Tabla_Regional[],3,0))","v":""},null,{"$f":"IF(E454<>\"\",VLOOKUP(CONCATENATE(C454,E454),Dato!$A$4:$I$218,7,0),\"\")","v":""},null,""]
[null,null,null,{"$f":"IF(C455=\"\",\"\",VLOOKUP(C455,Tabla_Regional[],3,0))","v":""},null,{"$f":"IF(E455<>\"\",VLOOKUP(CONCATENATE(C455,E455),Dato!$A$4:$I$218,7,0),\"\")","v":""},null,""]
[null,null,null,{"$f":"IF(C456=\"\",\"\",VLOOKUP(C456,Tabla_Regional[],3,0))","v":""},null,{"$f":"IF(E456<>\"\",VLOOKUP(CONCATENATE(C456,E456),Dato!$A$4:$I$218,7,0),\"\")","v":""},null,""]
[null,null,null,{"$f":"IF(C457=\"\",\"\",VLOOKUP(C457,Tabla_Regional[],3,0))","v":""},null,{"$f":"IF(E457<>\"\",VLOOKUP(CONCATENATE(C457,E457),Dato!$A$4:$I$218,7,0),\"\")","v":""},null,""]
[null,null,null,{"$f":"IF(C458=\"\",\"\",VLOOKUP(C458,Tabla_Regional[],3,0))","v":""},null,{"$f":"IF(E458<>\"\",VLOOKUP(CONCATENATE(C458,E458),Dato!$A$4:$I$218,7,0),\"\")","v":""},null,""]
[null,null,null,{"$f":"IF(C459=\"\",\"\",VLOOKUP(C459,Tabla_Regional[],3,0))","v":""},null,{"$f":"IF(E459<>\"\",VLOOKUP(CONCATENATE(C459,E459),Dato!$A$4:$I$218,7,0),\"\")","v":""},null,""]
[null,null,null,{"$f":"IF(C460=\"\",\"\",VLOOKUP(C460,Tabla_Regional[],3,0))","v":""},null,{"$f":"IF(E460<>\"\",VLOOKUP(CONCATENATE(C460,E460),Dato!$A$4:$I$218,7,0),\"\")","v":""},null,{"$f":"IF(G460<>\"\",VLOOKUP(CONCATENATE(C460,E460,G460),czmuni,7,0),\"\")","v":""}]
[null,null,null,{"$f":"IF(C461=\"\",\"\",VLOOKUP(C461,Tabla_Regional[],3,0))","v":""},null,{"$f":"IF(E461<>\"\",VLOOKUP(CONCATENATE(C461,E461),Dato!$A$4:$I$218,7,0),\"\")","v":""},null,""]
[null,null,null,{"$f":"IF(C462=\"\",\"\",VLOOKUP(C462,Tabla_Regional[],3,0))","v":""},null,{"$f":"IF(E462<>\"\",VLOOKUP(CONCATENATE(C462,E462),Dato!$A$4:$I$218,7,0),\"\")","v":""},null,""]
[null,null,null,{"$f":"IF(C463=\"\",\"\",VLOOKUP(C463,Tabla_Regional[],3,0))","v":""},null,{"$f":"IF(E463<>\"\",VLOOKUP(CONCATENATE(C463,E463),Dato!$A$4:$I$218,7,0),\"\")","v":""},null,""]
[null,null,null,{"$f":"IF(C464=\"\",\"\",VLOOKUP(C464,Tabla_Regional[],3,0))","v":""},null,{"$f":"IF(E464<>\"\",VLOOKUP(CONCATENATE(C464,E464),Dato!$A$4:$I$218,7,0),\"\")","v":""},null,""]
[null,null,null,{"$f":"IF(C465=\"\",\"\",VLOOKUP(C465,Tabla_Regional[],3,0))","v":""},null,{"$f":"IF(E465<>\"\",VLOOKUP(CONCATENATE(C465,E465),Dato!$A$4:$I$218,7,0),\"\")","v":""},null,""]
[null,null,null,{"$f":"IF(C466=\"\",\"\",VLOOKUP(C466,Tabla_Regional[],3,0))","v":""},null,{"$f":"IF(E466<>\"\",VLOOKUP(CONCATENATE(C466,E466),Dato!$A$4:$I$218,7,0),\"\")","v":""},null,""]
[null,null,null,{"$f":"IF(C467=\"\",\"\",VLOOKUP(C467,Tabla_Regional[],3,0))","v":""},null,{"$f":"IF(E467<>\"\",VLOOKUP(CONCATENATE(C467,E467),Dato!$A$4:$I$218,7,0),\"\")","v":""},null,""]
[null,null,null,{"$f":"IF(C468=\"\",\"\",VLOOKUP(C468,Tabla_Regional[],3,0))","v":""},null,{"$f":"IF(E468<>\"\",VLOOKUP(CONCATENATE(C468,E468),Dato!$A$4:$I$218,7,0),\"\")","v":""},null,""]
[null,null,null,{"$f":"IF(C469=\"\",\"\",VLOOKUP(C469,Tabla_Regional[],3,0))","v":""},null,{"$f":"IF(E469<>\"\",VLOOKUP(CONCATENATE(C469,E469),Dato!$A$4:$I$218,7,0),\"\")","v":""},null,""]
[null,null,null,{"$f":"IF(C470=\"\",\"\",VLOOKUP(C470,Tabla_Regional[],3,0))","v":""},null,{"$f":"IF(E470<>\"\",VLOOKUP(CONCATENATE(C470,E470),Dato!$A$4:$I$218,7,0),\"\")","v":""},null,""]
[null,null,null,{"$f":"IF(C471=\"\",\"\",VLOOKUP(C471,Tabla_Regional[],3,0))","v":""},null,{"$f":"IF(E471<>\"\",VLOOKUP(CONCATENATE(C471,E471),Dato!$A$4:$I$218,7,0),\"\")","v":""},null,""]
[null,null,null,{"$f":"IF(C472=\"\",\"\",VLOOKUP(C472,Tabla_Regional[],3,0))","v":""},null,{"$f":"IF(E472<>\"\",VLOOKUP(CONCATENATE(C472,E472),Dato!$A$4:$I$218,7,0),\"\")","v":""},null,""]
[null,null,null,{"$f":"IF(C473=\"\",\"\",VLOOKUP(C473,Tabla_Regional[],3,0))","v":""},null,{"$f":"IF(E473<>\"\",VLOOKUP(CONCATENATE(C473,E473),Dato!$A$4:$I$218,7,0),\"\")","v":""},null,""]
[null,null,null,{"$f":"IF(C474=\"\",\"\",VLOOKUP(C474,Tabla_Regional[],3,0))","v":""},null,{"$f":"IF(E474<>\"\",VLOOKUP(CONCATENATE(C474,E474),Dato!$A$4:$I$218,7,0),\"\")","v":""},null,""]
[null,null,null,{"$f":"IF(C475=\"\",\"\",VLOOKUP(C475,Tabla_Regional[],3,0))","v":""},null,{"$f":"IF(E475<>\"\",VLOOKUP(CONCATENATE(C475,E475),Dato!$A$4:$I$218,7,0),\"\")","v":""},null,""]
[null,null,null,{"$f":"IF(C476=\"\",\"\",VLOOKUP(C476,Tabla_Regional[],3,0))","v":""},null,{"$f":"IF(E476<>\"\",VLOOKUP(CONCATENATE(C476,E476),Dato!$A$4:$I$218,7,0),\"\")","v":""},null,""]
[null,null,null,{"$f":"IF(C477=\"\",\"\",VLOOKUP(C477,Tabla_Regional[],3,0))","v":""},null,{"$f":"IF(E477<>\"\",VLOOKUP(CONCATENATE(C477,E477),Dato!$A$4:$I$218,7,0),\"\")","v":""},null,""]
[null,null,null,{"$f":"IF(C478=\"\",\"\",VLOOKUP(C478,Tabla_Regional[],3,0))","v":""},null,{"$f":"IF(E478<>\"\",VLOOKUP(CONCATENATE(C478,E478),Dato!$A$4:$I$218,7,0),\"\")","v":""},null,""]
[null,null,null,{"$f":"IF(C479=\"\",\"\",VLOOKUP(C479,Tabla_Regional[],3,0))","v":""},null,{"$f":"IF(E479<>\"\",VLOOKUP(CONCATENATE(C479,E479),Dato!$A$4:$I$218,7,0),\"\")","v":""},null,""]
[null,null,null,{"$f":"IF(C480=\"\",\"\",VLOOKUP(C480,Tabla_Regional[],3,0))","v":""},null,{"$f":"IF(E480<>\"\",VLOOKUP(CONCATENATE(C480,E480),Dato!$A$4:$I$218,7,0),\"\")","v":""},null,""]
[null,null,null,{"$f":"IF(C481=\"\",\"\",VLOOKUP(C481,Tabla_Regional[],3,0))","v":""},null,{"$f":"IF(E481<>\"\",VLOOKUP(CONCATENATE(C481,E481),Dato!$A$4:$I$218,7,0),\"\")","v":""},null,""]
[null,null,null,{"$f":"IF(C482=\"\",\"\",VLOOKUP(C482,Tabla_Regional[],3,0))","v":""},null,{"$f":"IF(E482<>\"\",VLOOKUP(CONCATENATE(C482,E482),Dato!$A$4:$I$218,7,0),\"\")","v":""},null,""]
[null,null,null,{"$f":"IF(C483=\"\",\"\",VLOOKUP(C483,Tabla_Regional[],3,0))","v":""},null,{"$f":"IF(E483<>\"\",VLOOKUP(CONCATENATE(C483,E483),Dato!$A$4:$I$218,7,0),\"\")","v":""},null,""]
[null,null,null,{"$f":"IF(C484=\"\",\"\",VLOOKUP(C484,Tabla_Regional[],3,0))","v":""},null,{"$f":"IF(E484<>\"\",VLOOKUP(CONCATENATE(C484,E484),Dato!$A$4:$I$218,7,0),\"\")","v":""},null,""]
[null,null,null,{"$f":"IF(C485=\"\",\"\",VLOOKUP(C485,Tabla_Regional[],3,0))","v":""},null,{"$f":"IF(E485<>\"\",VLOOKUP(CONCATENATE(C485,E485),Dato!$A$4:$I$218,7,0),\"\")","v":""},null,""]
[null,null,null,{"$f":"IF(C486=\"\",\"\",VLOOKUP(C486,Tabla_Regional[],3,0))","v":""},null,{"$f":"IF(E486<>\"\",VLOOKUP(CONCATENATE(C486,E486),Dato!$A$4:$I$218,7,0),\"\")","v":""},null,""]
[null,null,null,{"$f":"IF(C487=\"\",\"\",VLOOKUP(C487,Tabla_Regional[],3,0))","v":""},null,{"$f":"IF(E487<>\"\",VLOOKUP(CONCATENATE(C487,E487),Dato!$A$4:$I$218,7,0),\"\")","v":""},null,""]
[null,null,null,{"$f":"IF(C488=\"\",\"\",VLOOKUP(C488,Tabla_Regional[],3,0))","v":""},null,{"$f":"IF(E488<>\"\",VLOOKUP(CONCATENATE(C488,E488),Dato!$A$4:$I$218,7,0),\"\")","v":""},null,""]
[null,null,null,{"$f":"IF(C489=\"\",\"\",VLOOKUP(C489,Tabla_Regional[],3,0))","v":""},null,{"$f":"IF(E489<>\"\",VLOOKUP(CONCATENATE(C489,E489),Dato!$A$4:$I$218,7,0),\"\")","v":""},null,""]
[null,null,null,{"$f":"IF(C490=\"\",\"\",VLOOKUP(C490,Tabla_Regional[],3,0))","v":""},null,{"$f":"IF(E490<>\"\",VLOOKUP(CONCATENATE(C490,E490),Dato!$A$4:$I$218,7,0),\"\")","v":""},null,""]
[null,null,null,{"$f":"IF(C491=\"\",\"\",VLOOKUP(C491,Tabla_Regional[],3,0))","v":""},null,{"$f":"IF(E491<>\"\",VLOOKUP(CONCATENATE(C491,E491),Dato!$A$4:$I$218,7,0),\"\")","v":""},null,""]
[null,null,null,{"$f":"IF(C492=\"\",\"\",VLOOKUP(C492,Tabla_Regional[],3,0))","v":""},null,{"$f":"IF(E492<>\"\",VLOOKUP(CONCATENATE(C492,E492),Dato!$A$4:$I$218,7,0),\"\")","v":""},null,""]
[null,null,null,{"$f":"IF(C493=\"\",\"\",VLOOKUP(C493,Tabla_Regional[],3,0))","v":""},null,{"$f":"IF(E493<>\"\",VLOOKUP(CONCATENATE(C493,E493),Dato!$A$4:$I$218,7,0),\"\")","v":""},null,""]
[null,null,null,{"$f":"IF(C494=\"\",\"\",VLOOKUP(C494,Tabla_Regional[],3,0))","v":""},null,{"$f":"IF(E494<>\"\",VLOOKUP(CONCATENATE(C494,E494),Dato!$A$4:$I$218,7,0),\"\")","v":""},null,""]
[null,null,null,{"$f":"IF(C495=\"\",\"\",VLOOKUP(C495,Tabla_Regional[],3,0))","v":""},null,{"$f":"IF(E495<>\"\",VLOOKUP(CONCATENATE(C495,E495),Dato!$A$4:$I$218,7,0),\"\")","v":""},null,""]
[null,null,null,{"$f":"IF(C496=\"\",\"\",VLOOKUP(C496,Tabla_Regional[],3,0))","v":""},null,{"$f":"IF(E496<>\"\",VLOOKUP(CONCATENATE(C496,E496),Dato!$A$4:$I$218,7,0),\"\")","v":""},null,""]
[null,null,null,{"$f":"IF(C497=\"\",\"\",VLOOKUP(C497,Tabla_Regional[],3,0))","v":""},null,{"$f":"IF(E497<>\"\",VLOOKUP(CONCATENATE(C497,E497),Dato!$A$4:$I$218,7,0),\"\")","v":""},null,""]
[null,null,null,{"$f":"IF(C498=\"\",\"\",VLOOKUP(C498,Tabla_Regional[],3,0))","v":""},null,{"$f":"IF(E498<>\"\",VLOOKUP(CONCATENATE(C498,E498),Dato!$A$4:$I$218,7,0),\"\")","v":""},null,""]
[null,null,null,{"$f":"IF(C499=\"\",\"\",VLOOKUP(C499,Tabla_Regional[],3,0))","v":""},null,{"$f":"IF(E499<>\"\",VLOOKUP(CONCATENATE(C499,E499),Dato!$A$4:$I$218,7,0),\"\")","v":""},null,""]
[null,null,null,{"$f":"IF(C500=\"\",\"\",VLOOKUP(C500,Tabla_Regional[],3,0))","v":""},null,{"$f":"IF(E500<>\"\",VLOOKUP(CONCATENATE(C500,E500),Dato!$A$4:$I$218,7,0),\"\")","v":""},null,""]
[null,null,null,{"$f":"IF(C501=\"\",\"\",VLOOKUP(C501,Tabla_Regional[],3,0))","v":""},null,{"$f":"IF(E501<>\"\",VLOOKUP(CONCATENATE(C501,E501),Dato!$A$4:$I$218,7,0),\"\")","v":""},null,""]
[null,null,null,{"$f":"IF(C502=\"\",\"\",VLOOKUP(C502,Tabla_Regional[],3,0))","v":""},null,{"$f":"IF(E502<>\"\",VLOOKUP(CONCATENATE(C502,E502),Dato!$A$4:$I$218,7,0),\"\")","v":""},null,""]
[null,null,null,{"$f":"IF(C503=\"\",\"\",VLOOKUP(C503,Tabla_Regional[],3,0))","v":""},null,{"$f":"IF(E503<>\"\",VLOOKUP(CONCATENATE(C503,E503),Dato!$A$4:$I$218,7,0),\"\")","v":""},null,""]
[null,null,null,{"$f":"IF(C504=\"\",\"\",VLOOKUP(C504,Tabla_Regional[],3,0))","v":""},null,{"$f":"IF(E504<>\"\",VLOOKUP(CONCATENATE(C504,E504),Dato!$A$4:$I$218,7,0),\"\")","v":""},null,""]
[null,null,null,{"$f":"IF(C505=\"\",\"\",VLOOKUP(C505,Tabla_Regional[],3,0))","v":""},null,{"$f":"IF(E505<>\"\",VLOOKUP(CONCATENATE(C505,E505),Dato!$A$4:$I$218,7,0),\"\")","v":""},null,""]
[null,null,null,{"$f":"IF(C506=\"\",\"\",VLOOKUP(C506,Tabla_Regional[],3,0))","v":""},null,{"$f":"IF(E506<>\"\",VLOOKUP(CONCATENATE(C506,E506),Dato!$A$4:$I$218,7,0),\"\")","v":""},null,""]
[null,null,null,{"$f":"IF(C507=\"\",\"\",VLOOKUP(C507,Tabla_Regional[],3,0))","v":""},null,{"$f":"IF(E507<>\"\",VLOOKUP(CONCATENATE(C507,E507),Dato!$A$4:$I$218,7,0),\"\")","v":""},null,""]
[null,null,null,{"$f":"IF(C508=\"\",\"\",VLOOKUP(C508,Tabla_Regional[],3,0))","v":""},null,{"$f":"IF(E508<>\"\",VLOOKUP(CONCATENATE(C508,E508),Dato!$A$4:$I$218,7,0),\"\")","v":""},null,""]
[null,null,null,{"$f":"IF(C509=\"\",\"\",VLOOKUP(C509,Tabla_Regional[],3,0))","v":""},null,{"$f":"IF(E509<>\"\",VLOOKUP(CONCATENATE(C509,E509),Dato!$A$4:$I$218,7,0),\"\")","v":""},null,""]
[null,null,null,{"$f":"IF(C510=\"\",\"\",VLOOKUP(C510,Tabla_Regional[],3,0))","v":""},null,{"$f":"IF(E510<>\"\",VLOOKUP(CONCATENATE(C510,E510),Dato!$A$4:$I$218,7,0),\"\")","v":""},null,""]
[null,null,null,{"$f":"IF(C511=\"\",\"\",VLOOKUP(C511,Tabla_Regional[],3,0))","v":""},null,{"$f":"IF(E511<>\"\",VLOOKUP(CONCATENATE(C511,E511),Dato!$A$4:$I$218,7,0),\"\")","v":""},null,""]
[null,null,null,{"$f":"IF(C512=\"\",\"\",VLOOKUP(C512,Tabla_Regional[],3,0))","v":""},null,{"$f":"IF(E512<>\"\",VLOOKUP(CONCATENATE(C512,E512),Dato!$A$4:$I$218,7,0),\"\")","v":""},null,""]
[null,null,null,{"$f":"IF(C513=\"\",\"\",VLOOKUP(C513,Tabla_Regional[],3,0))","v":""},null,{"$f":"IF(E513<>\"\",VLOOKUP(CONCATENATE(C513,E513),Dato!$A$4:$I$218,7,0),\"\")","v":""},null,""]
[null,null,null,{"$f":"IF(C514=\"\",\"\",VLOOKUP(C514,Tabla_Regional[],3,0))","v":""},null,{"$f":"IF(E514<>\"\",VLOOKUP(CONCATENATE(C514,E514),Dato!$A$4:$I$218,7,0),\"\")","v":""},null,""]
[null,null,null,{"$f":"IF(C515=\"\",\"\",VLOOKUP(C515,Tabla_Regional[],3,0))","v":""},null,{"$f":"IF(E515<>\"\",VLOOKUP(CONCATENATE(C515,E515),Dato!$A$4:$I$218,7,0),\"\")","v":""},null,""]
[null,null,null,{"$f":"IF(C516=\"\",\"\",VLOOKUP(C516,Tabla_Regional[],3,0))","v":""},null,{"$f":"IF(E516<>\"\",VLOOKUP(CONCATENATE(C516,E516),Dato!$A$4:$I$218,7,0),\"\")","v":""},null,""]
[null,null,null,{"$f":"IF(C517=\"\",\"\",VLOOKUP(C517,Tabla_Regional[],3,0))","v":""},null,{"$f":"IF(E517<>\"\",VLOOKUP(CONCATENATE(C517,E517),Dato!$A$4:$I$218,7,0),\"\")","v":""},null,""]
[null,null,null,{"$f":"IF(C518=\"\",\"\",VLOOKUP(C518,Tabla_Regional[],3,0))","v":""},null,{"$f":"IF(E518<>\"\",VLOOKUP(CONCATENATE(C518,E518),Dato!$A$4:$I$218,7,0),\"\")","v":""},null,""]
[null,null,null,{"$f":"IF(C519=\"\",\"\",VLOOKUP(C519,Tabla_Regional[],3,0))","v":""},null,{"$f":"IF(E519<>\"\",VLOOKUP(CONCATENATE(C519,E519),Dato!$A$4:$I$218,7,0),\"\")","v":""},null,""]
[null,null,null,{"$f":"IF(C520=\"\",\"\",VLOOKUP(C520,Tabla_Regional[],3,0))","v":""},null,{"$f":"IF(E520<>\"\",VLOOKUP(CONCATENATE(C520,E520),Dato!$A$4:$I$218,7,0),\"\")","v":""},null,""]
[null,null,null,{"$f":"IF(C521=\"\",\"\",VLOOKUP(C521,Tabla_Regional[],3,0))","v":""},null,{"$f":"IF(E521<>\"\",VLOOKUP(CONCATENATE(C521,E521),Dato!$A$4:$I$218,7,0),\"\")","v":""},null,""]
[null,null,null,{"$f":"IF(C522=\"\",\"\",VLOOKUP(C522,Tabla_Regional[],3,0))","v":""},null,{"$f":"IF(E522<>\"\",VLOOKUP(CONCATENATE(C522,E522),Dato!$A$4:$I$218,7,0),\"\")","v":""},null,""]
[null,null,null,{"$f":"IF(C523=\"\",\"\",VLOOKUP(C523,Tabla_Regional[],3,0))","v":""},null,{"$f":"IF(E523<>\"\",VLOOKUP(CONCATENATE(C523,E523),Dato!$A$4:$I$218,7,0),\"\")","v":""},null,""]
[null,null,null,{"$f":"IF(C524=\"\",\"\",VLOOKUP(C524,Tabla_Regional[],3,0))","v":""},null,{"$f":"IF(E524<>\"\",VLOOKUP(CONCATENATE(C524,E524),Dato!$A$4:$I$218,7,0),\"\")","v":""},null,{"$f":"IF(G524<>\"\",VLOOKUP(CONCATENATE(C524,E524,G524),czmuni,7,0),\"\")","v":""}]
[null,null,null,{"$f":"IF(C525=\"\",\"\",VLOOKUP(C525,Tabla_Regional[],3,0))","v":""},null,{"$f":"IF(E525<>\"\",VLOOKUP(CONCATENATE(C525,E525),Dato!$A$4:$I$218,7,0),\"\")","v":""},null,""]
[null,null,null,{"$f":"IF(C526=\"\",\"\",VLOOKUP(C526,Tabla_Regional[],3,0))","v":""},null,{"$f":"IF(E526<>\"\",VLOOKUP(CONCATENATE(C526,E526),Dato!$A$4:$I$218,7,0),\"\")","v":""},null,""]
[null,null,null,{"$f":"IF(C527=\"\",\"\",VLOOKUP(C527,Tabla_Regional[],3,0))","v":""},null,{"$f":"IF(E527<>\"\",VLOOKUP(CONCATENATE(C527,E527),Dato!$A$4:$I$218,7,0),\"\")","v":""},null,""]
[null,null,null,{"$f":"IF(C528=\"\",\"\",VLOOKUP(C528,Tabla_Regional[],3,0))","v":""},null,{"$f":"IF(E528<>\"\",VLOOKUP(CONCATENATE(C528,E528),Dato!$A$4:$I$218,7,0),\"\")","v":""},null,""]
[null,null,null,{"$f":"IF(C529=\"\",\"\",VLOOKUP(C529,Tabla_Regional[],3,0))","v":""},null,{"$f":"IF(E529<>\"\",VLOOKUP(CONCATENATE(C529,E529),Dato!$A$4:$I$218,7,0),\"\")","v":""},null,""]
[null,null,null,{"$f":"IF(C530=\"\",\"\",VLOOKUP(C530,Tabla_Regional[],3,0))","v":""},null,{"$f":"IF(E530<>\"\",VLOOKUP(CONCATENATE(C530,E530),Dato!$A$4:$I$218,7,0),\"\")","v":""},null,""]
[null,null,null,{"$f":"IF(C531=\"\",\"\",VLOOKUP(C531,Tabla_Regional[],3,0))","v":""},null,{"$f":"IF(E531<>\"\",VLOOKUP(CONCATENATE(C531,E531),Dato!$A$4:$I$218,7,0),\"\")","v":""},null,""]
[null,null,null,{"$f":"IF(C532=\"\",\"\",VLOOKUP(C532,Tabla_Regional[],3,0))","v":""},null,{"$f":"IF(E532<>\"\",VLOOKUP(CONCATENATE(C532,E532),Dato!$A$4:$I$218,7,0),\"\")","v":""},null,""]
[null,null,null,{"$f":"IF(C533=\"\",\"\",VLOOKUP(C533,Tabla_Regional[],3,0))","v":""},null,{"$f":"IF(E533<>\"\",VLOOKUP(CONCATENATE(C533,E533),Dato!$A$4:$I$218,7,0),\"\")","v":""},null,""]
[null,null,null,{"$f":"IF(C534=\"\",\"\",VLOOKUP(C534,Tabla_Regional[],3,0))","v":""},null,{"$f":"IF(E534<>\"\",VLOOKUP(CONCATENATE(C534,E534),Dato!$A$4:$I$218,7,0),\"\")","v":""},null,""]
[null,null,null,{"$f":"IF(C535=\"\",\"\",VLOOKUP(C535,Tabla_Regional[],3,0))","v":""},null,{"$f":"IF(E535<>\"\",VLOOKUP(CONCATENATE(C535,E535),Dato!$A$4:$I$218,7,0),\"\")","v":""},null,""]
[null,null,null,{"$f":"IF(C536=\"\",\"\",VLOOKUP(C536,Tabla_Regional[],3,0))","v":""},null,{"$f":"IF(E536<>\"\",VLOOKUP(CONCATENATE(C536,E536),Dato!$A$4:$I$218,7,0),\"\")","v":""},null,""]
[null,null,null,{"$f":"IF(C537=\"\",\"\",VLOOKUP(C537,Tabla_Regional[],3,0))","v":""},null,{"$f":"IF(E537<>\"\",VLOOKUP(CONCATENATE(C537,E537),Dato!$A$4:$I$218,7,0),\"\")","v":""},null,""]
[null,null,null,{"$f":"IF(C538=\"\",\"\",VLOOKUP(C538,Tabla_Regional[],3,0))","v":""},null,{"$f":"IF(E538<>\"\",VLOOKUP(CONCATENATE(C538,E538),Dato!$A$4:$I$218,7,0),\"\")","v":""},null,""]
[null,null,null,{"$f":"IF(C539=\"\",\"\",VLOOKUP(C539,Tabla_Regional[],3,0))","v":""},null,{"$f":"IF(E539<>\"\",VLOOKUP(CONCATENATE(C539,E539),Dato!$A$4:$I$218,7,0),\"\")","v":""},null,""]
[null,null,null,{"$f":"IF(C540=\"\",\"\",VLOOKUP(C540,Tabla_Regional[],3,0))","v":""},null,{"$f":"IF(E540<>\"\",VLOOKUP(CONCATENATE(C540,E540),Dato!$A$4:$I$218,7,0),\"\")","v":""},null,""]
[null,null,null,{"$f":"IF(C541=\"\",\"\",VLOOKUP(C541,Tabla_Regional[],3,0))","v":""},null,{"$f":"IF(E541<>\"\",VLOOKUP(CONCATENATE(C541,E541),Dato!$A$4:$I$218,7,0),\"\")","v":""},null,""]
[null,null,null,{"$f":"IF(C542=\"\",\"\",VLOOKUP(C542,Tabla_Regional[],3,0))","v":""},null,{"$f":"IF(E542<>\"\",VLOOKUP(CONCATENATE(C542,E542),Dato!$A$4:$I$218,7,0),\"\")","v":""},null,""]
[null,null,null,{"$f":"IF(C543=\"\",\"\",VLOOKUP(C543,Tabla_Regional[],3,0))","v":""},null,{"$f":"IF(E543<>\"\",VLOOKUP(CONCATENATE(C543,E543),Dato!$A$4:$I$218,7,0),\"\")","v":""},null,""]
[null,null,null,{"$f":"IF(C544=\"\",\"\",VLOOKUP(C544,Tabla_Regional[],3,0))","v":""},null,{"$f":"IF(E544<>\"\",VLOOKUP(CONCATENATE(C544,E544),Dato!$A$4:$I$218,7,0),\"\")","v":""},null,""]
[null,null,null,{"$f":"IF(C545=\"\",\"\",VLOOKUP(C545,Tabla_Regional[],3,0))","v":""},null,{"$f":"IF(E545<>\"\",VLOOKUP(CONCATENATE(C545,E545),Dato!$A$4:$I$218,7,0),\"\")","v":""},null,""]
[null,null,null,{"$f":"IF(C546=\"\",\"\",VLOOKUP(C546,Tabla_Regional[],3,0))","v":""},null,{"$f":"IF(E546<>\"\",VLOOKUP(CONCATENATE(C546,E546),Dato!$A$4:$I$218,7,0),\"\")","v":""},null,""]
[null,null,null,{"$f":"IF(C547=\"\",\"\",VLOOKUP(C547,Tabla_Regional[],3,0))","v":""},null,{"$f":"IF(E547<>\"\",VLOOKUP(CONCATENATE(C547,E547),Dato!$A$4:$I$218,7,0),\"\")","v":""},null,""]
[null,null,null,{"$f":"IF(C548=\"\",\"\",VLOOKUP(C548,Tabla_Regional[],3,0))","v":""},null,{"$f":"IF(E548<>\"\",VLOOKUP(CONCATENATE(C548,E548),Dato!$A$4:$I$218,7,0),\"\")","v":""},null,""]
[null,null,null,{"$f":"IF(C549=\"\",\"\",VLOOKUP(C549,Tabla_Regional[],3,0))","v":""},null,{"$f":"IF(E549<>\"\",VLOOKUP(CONCATENATE(C549,E549),Dato!$A$4:$I$218,7,0),\"\")","v":""},null,""]
[null,null,null,{"$f":"IF(C550=\"\",\"\",VLOOKUP(C550,Tabla_Regional[],3,0))","v":""},null,{"$f":"IF(E550<>\"\",VLOOKUP(CONCATENATE(C550,E550),Dato!$A$4:$I$218,7,0),\"\")","v":""},null,""]
[null,null,null,{"$f":"IF(C551=\"\",\"\",VLOOKUP(C551,Tabla_Regional[],3,0))","v":""},null,{"$f":"IF(E551<>\"\",VLOOKUP(CONCATENATE(C551,E551),Dato!$A$4:$I$218,7,0),\"\")","v":""},null,""]
[null,null,null,{"$f":"IF(C552=\"\",\"\",VLOOKUP(C552,Tabla_Regional[],3,0))","v":""},null,{"$f":"IF(E552<>\"\",VLOOKUP(CONCATENATE(C552,E552),Dato!$A$4:$I$218,7,0),\"\")","v":""},null,""]
[null,null,null,{"$f":"IF(C553=\"\",\"\",VLOOKUP(C553,Tabla_Regional[],3,0))","v":""},null,{"$f":"IF(E553<>\"\",VLOOKUP(CONCATENATE(C553,E553),Dato!$A$4:$I$218,7,0),\"\")","v":""},null,""]
[null,null,null,{"$f":"IF(C554=\"\",\"\",VLOOKUP(C554,Tabla_Regional[],3,0))","v":""},null,{"$f":"IF(E554<>\"\",VLOOKUP(CONCATENATE(C554,E554),Dato!$A$4:$I$218,7,0),\"\")","v":""},null,""]
[null,null,null,{"$f":"IF(C555=\"\",\"\",VLOOKUP(C555,Tabla_Regional[],3,0))","v":""},null,{"$f":"IF(E555<>\"\",VLOOKUP(CONCATENATE(C555,E555),Dato!$A$4:$I$218,7,0),\"\")","v":""},null,""]
[null,null,null,{"$f":"IF(C556=\"\",\"\",VLOOKUP(C556,Tabla_Regional[],3,0))","v":""},null,{"$f":"IF(E556<>\"\",VLOOKUP(CONCATENATE(C556,E556),Dato!$A$4:$I$218,7,0),\"\")","v":""},null,""]
[null,null,null,{"$f":"IF(C557=\"\",\"\",VLOOKUP(C557,Tabla_Regional[],3,0))","v":""},null,{"$f":"IF(E557<>\"\",VLOOKUP(CONCATENATE(C557,E557),Dato!$A$4:$I$218,7,0),\"\")","v":""},null,""]
[null,null,null,{"$f":"IF(C558=\"\",\"\",VLOOKUP(C558,Tabla_Regional[],3,0))","v":""},null,{"$f":"IF(E558<>\"\",VLOOKUP(CONCATENATE(C558,E558),Dato!$A$4:$I$218,7,0),\"\")","v":""},null,""]
[null,null,null,{"$f":"IF(C559=\"\",\"\",VLOOKUP(C559,Tabla_Regional[],3,0))","v":""},null,{"$f":"IF(E559<>\"\",VLOOKUP(CONCATENATE(C559,E559),Dato!$A$4:$I$218,7,0),\"\")","v":""},null,""]
[null,null,null,{"$f":"IF(C560=\"\",\"\",VLOOKUP(C560,Tabla_Regional[],3,0))","v":""},null,{"$f":"IF(E560<>\"\",VLOOKUP(CONCATENATE(C560,E560),Dato!$A$4:$I$218,7,0),\"\")","v":""},null,""]
[null,null,null,{"$f":"IF(C561=\"\",\"\",VLOOKUP(C561,Tabla_Regional[],3,0))","v":""},null,{"$f":"IF(E561<>\"\",VLOOKUP(CONCATENATE(C561,E561),Dato!$A$4:$I$218,7,0),\"\")","v":""},null,""]
[null,null,null,{"$f":"IF(C562=\"\",\"\",VLOOKUP(C562,Tabla_Regional[],3,0))","v":""},null,{"$f":"IF(E562<>\"\",VLOOKUP(CONCATENATE(C562,E562),Dato!$A$4:$I$218,7,0),\"\")","v":""},null,""]
[null,null,null,{"$f":"IF(C563=\"\",\"\",VLOOKUP(C563,Tabla_Regional[],3,0))","v":""},null,{"$f":"IF(E563<>\"\",VLOOKUP(CONCATENATE(C563,E563),Dato!$A$4:$I$218,7,0),\"\")","v":""},null,""]
[null,null,null,{"$f":"IF(C564=\"\",\"\",VLOOKUP(C564,Tabla_Regional[],3,0))","v":""},null,{"$f":"IF(E564<>\"\",VLOOKUP(CONCATENATE(C564,E564),Dato!$A$4:$I$218,7,0),\"\")","v":""},null,""]
[null,null,null,{"$f":"IF(C565=\"\",\"\",VLOOKUP(C565,Tabla_Regional[],3,0))","v":""},null,{"$f":"IF(E565<>\"\",VLOOKUP(CONCATENATE(C565,E565),Dato!$A$4:$I$218,7,0),\"\")","v":""},null,""]
[null,null,null,{"$f":"IF(C566=\"\",\"\",VLOOKUP(C566,Tabla_Regional[],3,0))","v":""},null,{"$f":"IF(E566<>\"\",VLOOKUP(CONCATENATE(C566,E566),Dato!$A$4:$I$218,7,0),\"\")","v":""},null,""]
[null,null,null,{"$f":"IF(C567=\"\",\"\",VLOOKUP(C567,Tabla_Regional[],3,0))","v":""},null,{"$f":"IF(E567<>\"\",VLOOKUP(CONCATENATE(C567,E567),Dato!$A$4:$I$218,7,0),\"\")","v":""},null,""]
[null,null,null,{"$f":"IF(C568=\"\",\"\",VLOOKUP(C568,Tabla_Regional[],3,0))","v":""},null,{"$f":"IF(E568<>\"\",VLOOKUP(CONCATENATE(C568,E568),Dato!$A$4:$I$218,7,0),\"\")","v":""},null,""]
[null,null,null,{"$f":"IF(C569=\"\",\"\",VLOOKUP(C569,Tabla_Regional[],3,0))","v":""},null,{"$f":"IF(E569<>\"\",VLOOKUP(CONCATENATE(C569,E569),Dato!$A$4:$I$218,7,0),\"\")","v":""},null,""]
[null,null,null,{"$f":"IF(C570=\"\",\"\",VLOOKUP(C570,Tabla_Regional[],3,0))","v":""},null,{"$f":"IF(E570<>\"\",VLOOKUP(CONCATENATE(C570,E570),Dato!$A$4:$I$218,7,0),\"\")","v":""},null,""]
[null,null,null,{"$f":"IF(C571=\"\",\"\",VLOOKUP(C571,Tabla_Regional[],3,0))","v":""},null,{"$f":"IF(E571<>\"\",VLOOKUP(CONCATENATE(C571,E571),Dato!$A$4:$I$218,7,0),\"\")","v":""},null,""]
[null,null,null,{"$f":"IF(C572=\"\",\"\",VLOOKUP(C572,Tabla_Regional[],3,0))","v":""},null,{"$f":"IF(E572<>\"\",VLOOKUP(CONCATENATE(C572,E572),Dato!$A$4:$I$218,7,0),\"\")","v":""},null,""]
[null,null,null,{"$f":"IF(C573=\"\",\"\",VLOOKUP(C573,Tabla_Regional[],3,0))","v":""},null,{"$f":"IF(E573<>\"\",VLOOKUP(CONCATENATE(C573,E573),Dato!$A$4:$I$218,7,0),\"\")","v":""},null,""]
[null,null,null,{"$f":"IF(C574=\"\",\"\",VLOOKUP(C574,Tabla_Regional[],3,0))","v":""},null,{"$f":"IF(E574<>\"\",VLOOKUP(CONCATENATE(C574,E574),Dato!$A$4:$I$218,7,0),\"\")","v":""},null,""]
[null,null,null,{"$f":"IF(C575=\"\",\"\",VLOOKUP(C575,Tabla_Regional[],3,0))","v":""},null,{"$f":"IF(E575<>\"\",VLOOKUP(CONCATENATE(C575,E575),Dato!$A$4:$I$218,7,0),\"\")","v":""},null,""]
[null,null,null,{"$f":"IF(C576=\"\",\"\",VLOOKUP(C576,Tabla_Regional[],3,0))","v":""},null,{"$f":"IF(E576<>\"\",VLOOKUP(CONCATENATE(C576,E576),Dato!$A$4:$I$218,7,0),\"\")","v":""},null,""]
[null,null,null,{"$f":"IF(C577=\"\",\"\",VLOOKUP(C577,Tabla_Regional[],3,0))","v":""},null,{"$f":"IF(E577<>\"\",VLOOKUP(CONCATENATE(C577,E577),Dato!$A$4:$I$218,7,0),\"\")","v":""},null,""]
[null,null,null,{"$f":"IF(C578=\"\",\"\",VLOOKUP(C578,Tabla_Regional[],3,0))","v":""},null,{"$f":"IF(E578<>\"\",VLOOKUP(CONCATENATE(C578,E578),Dato!$A$4:$I$218,7,0),\"\")","v":""},null,""]
[null,null,null,{"$f":"IF(C579=\"\",\"\",VLOOKUP(C579,Tabla_Regional[],3,0))","v":""},null,{"$f":"IF(E579<>\"\",VLOOKUP(CONCATENATE(C579,E579),Dato!$A$4:$I$218,7,0),\"\")","v":""},null,""]
[null,null,null,{"$f":"IF(C580=\"\",\"\",VLOOKUP(C580,Tabla_Regional[],3,0))","v":""},null,{"$f":"IF(E580<>\"\",VLOOKUP(CONCATENATE(C580,E580),Dato!$A$4:$I$218,7,0),\"\")","v":""},null,""]
[null,null,null,{"$f":"IF(C581=\"\",\"\",VLOOKUP(C581,Tabla_Regional[],3,0))","v":""},null,{"$f":"IF(E581<>\"\",VLOOKUP(CONCATENATE(C581,E581),Dato!$A$4:$I$218,7,0),\"\")","v":""},null,""]
[null,null,null,{"$f":"IF(C582=\"\",\"\",VLOOKUP(C582,Tabla_Regional[],3,0))","v":""},null,{"$f":"IF(E582<>\"\",VLOOKUP(CONCATENATE(C582,E582),Dato!$A$4:$I$218,7,0),\"\")","v":""},null,""]
[null,null,null,{"$f":"IF(C583=\"\",\"\",VLOOKUP(C583,Tabla_Regional[],3,0))","v":""},null,{"$f":"IF(E583<>\"\",VLOOKUP(CONCATENATE(C583,E583),Dato!$A$4:$I$218,7,0),\"\")","v":""},null,""]
[null,null,null,{"$f":"IF(C584=\"\",\"\",VLOOKUP(C584,Tabla_Regional[],3,0))","v":""},null,{"$f":"IF(E584<>\"\",VLOOKUP(CONCATENATE(C584,E584),Dato!$A$4:$I$218,7,0),\"\")","v":""},null,""]
[null,null,null,{"$f":"IF(C585=\"\",\"\",VLOOKUP(C585,Tabla_Regional[],3,0))","v":""},null,{"$f":"IF(E585<>\"\",VLOOKUP(CONCATENATE(C585,E585),Dato!$A$4:$I$218,7,0),\"\")","v":""},null,""]
[null,null,null,{"$f":"IF(C586=\"\",\"\",VLOOKUP(C586,Tabla_Regional[],3,0))","v":""},null,{"$f":"IF(E586<>\"\",VLOOKUP(CONCATENATE(C586,E586),Dato!$A$4:$I$218,7,0),\"\")","v":""},null,""]
[null,null,null,{"$f":"IF(C587=\"\",\"\",VLOOKUP(C587,Tabla_Regional[],3,0))","v":""},null,{"$f":"IF(E587<>\"\",VLOOKUP(CONCATENATE(C587,E587),Dato!$A$4:$I$218,7,0),\"\")","v":""},null,""]
[null,null,null,{"$f":"IF(C588=\"\",\"\",VLOOKUP(C588,Tabla_Regional[],3,0))","v":""},null,{"$f":"IF(E588<>\"\",VLOOKUP(CONCATENATE(C588,E588),Dato!$A$4:$I$218,7,0),\"\")","v":""},null,{"$f":"IF(G588<>\"\",VLOOKUP(CONCATENATE(C588,E588,G588),czmuni,7,0),\"\")","v":""}]
[null,null,null,{"$f":"IF(C589=\"\",\"\",VLOOKUP(C589,Tabla_Regional[],3,0))","v":""},null,{"$f":"IF(E589<>\"\",VLOOKUP(CONCATENATE(C589,E589),Dato!$A$4:$I$218,7,0),\"\")","v":""},null,""]
[null,null,null,{"$f":"IF(C590=\"\",\"\",VLOOKUP(C590,Tabla_Regional[],3,0))","v":""},null,{"$f":"IF(E590<>\"\",VLOOKUP(CONCATENATE(C590,E590),Dato!$A$4:$I$218,7,0),\"\")","v":""},null,""]
[null,null,null,{"$f":"IF(C591=\"\",\"\",VLOOKUP(C591,Tabla_Regional[],3,0))","v":""},null,{"$f":"IF(E591<>\"\",VLOOKUP(CONCATENATE(C591,E591),Dato!$A$4:$I$218,7,0),\"\")","v":""},null,""]
[null,null,null,{"$f":"IF(C592=\"\",\"\",VLOOKUP(C592,Tabla_Regional[],3,0))","v":""},null,{"$f":"IF(E592<>\"\",VLOOKUP(CONCATENATE(C592,E592),Dato!$A$4:$I$218,7,0),\"\")","v":""},null,""]
[null,null,null,{"$f":"IF(C593=\"\",\"\",VLOOKUP(C593,Tabla_Regional[],3,0))","v":""},null,{"$f":"IF(E593<>\"\",VLOOKUP(CONCATENATE(C593,E593),Dato!$A$4:$I$218,7,0),\"\")","v":""},null,""]
[null,null,null,{"$f":"IF(C594=\"\",\"\",VLOOKUP(C594,Tabla_Regional[],3,0))","v":""},null,{"$f":"IF(E594<>\"\",VLOOKUP(CONCATENATE(C594,E594),Dato!$A$4:$I$218,7,0),\"\")","v":""},null,""]
[null,null,null,{"$f":"IF(C595=\"\",\"\",VLOOKUP(C595,Tabla_Regional[],3,0))","v":""},null,{"$f":"IF(E595<>\"\",VLOOKUP(CONCATENATE(C595,E595),Dato!$A$4:$I$218,7,0),\"\")","v":""},null,""]
[null,null,null,{"$f":"IF(C596=\"\",\"\",VLOOKUP(C596,Tabla_Regional[],3,0))","v":""},null,{"$f":"IF(E596<>\"\",VLOOKUP(CONCATENATE(C596,E596),Dato!$A$4:$I$218,7,0),\"\")","v":""},null,""]
[null,null,null,{"$f":"IF(C597=\"\",\"\",VLOOKUP(C597,Tabla_Regional[],3,0))","v":""},null,{"$f":"IF(E597<>\"\",VLOOKUP(CONCATENATE(C597,E597),Dato!$A$4:$I$218,7,0),\"\")","v":""},null,""]
[null,null,null,{"$f":"IF(C598=\"\",\"\",VLOOKUP(C598,Tabla_Regional[],3,0))","v":""},null,{"$f":"IF(E598<>\"\",VLOOKUP(CONCATENATE(C598,E598),Dato!$A$4:$I$218,7,0),\"\")","v":""},null,""]
[null,null,null,{"$f":"IF(C599=\"\",\"\",VLOOKUP(C599,Tabla_Regional[],3,0))","v":""},null,{"$f":"IF(E599<>\"\",VLOOKUP(CONCATENATE(C599,E599),Dato!$A$4:$I$218,7,0),\"\")","v":""},null,""]
[null,null,null,{"$f":"IF(C600=\"\",\"\",VLOOKUP(C600,Tabla_Regional[],3,0))","v":""},null,{"$f":"IF(E600<>\"\",VLOOKUP(CONCATENATE(C600,E600),Dato!$A$4:$I$218,7,0),\"\")","v":""},null,""]
[null,null,null,{"$f":"IF(C601=\"\",\"\",VLOOKUP(C601,Tabla_Regional[],3,0))","v":""},null,{"$f":"IF(E601<>\"\",VLOOKUP(CONCATENATE(C601,E601),Dato!$A$4:$I$218,7,0),\"\")","v":""},null,""]
[null,null,null,{"$f":"IF(C602=\"\",\"\",VLOOKUP(C602,Tabla_Regional[],3,0))","v":""},null,{"$f":"IF(E602<>\"\",VLOOKUP(CONCATENATE(C602,E602),Dato!$A$4:$I$218,7,0),\"\")","v":""},null,""]
[null,null,null,{"$f":"IF(C603=\"\",\"\",VLOOKUP(C603,Tabla_Regional[],3,0))","v":""},null,{"$f":"IF(E603<>\"\",VLOOKUP(CONCATENATE(C603,E603),Dato!$A$4:$I$218,7,0),\"\")","v":""},null,""]
[null,null,null,{"$f":"IF(C604=\"\",\"\",VLOOKUP(C604,Tabla_Regional[],3,0))","v":""},null,{"$f":"IF(E604<>\"\",VLOOKUP(CONCATENATE(C604,E604),Dato!$A$4:$I$218,7,0),\"\")","v":""},null,""]
[null,null,null,{"$f":"IF(C605=\"\",\"\",VLOOKUP(C605,Tabla_Regional[],3,0))","v":""},null,{"$f":"IF(E605<>\"\",VLOOKUP(CONCATENATE(C605,E605),Dato!$A$4:$I$218,7,0),\"\")","v":""},null,""]
[null,null,null,{"$f":"IF(C606=\"\",\"\",VLOOKUP(C606,Tabla_Regional[],3,0))","v":""},null,{"$f":"IF(E606<>\"\",VLOOKUP(CONCATENATE(C606,E606),Dato!$A$4:$I$218,7,0),\"\")","v":""},null,""]
[null,null,null,{"$f":"IF(C607=\"\",\"\",VLOOKUP(C607,Tabla_Regional[],3,0))","v":""},null,{"$f":"IF(E607<>\"\",VLOOKUP(CONCATENATE(C607,E607),Dato!$A$4:$I$218,7,0),\"\")","v":""},null,""]
[null,null,null,{"$f":"IF(C608=\"\",\"\",VLOOKUP(C608,Tabla_Regional[],3,0))","v":""},null,{"$f":"IF(E608<>\"\",VLOOKUP(CONCATENATE(C608,E608),Dato!$A$4:$I$218,7,0),\"\")","v":""},null,""]
[null,null,null,{"$f":"IF(C609=\"\",\"\",VLOOKUP(C609,Tabla_Regional[],3,0))","v":""},null,{"$f":"IF(E609<>\"\",VLOOKUP(CONCATENATE(C609,E609),Dato!$A$4:$I$218,7,0),\"\")","v":""},null,""]
[null,null,null,{"$f":"IF(C610=\"\",\"\",VLOOKUP(C610,Tabla_Regional[],3,0))","v":""},null,{"$f":"IF(E610<>\"\",VLOOKUP(CONCATENATE(C610,E610),Dato!$A$4:$I$218,7,0),\"\")","v":""},null,""]
[null,null,null,{"$f":"IF(C611=\"\",\"\",VLOOKUP(C611,Tabla_Regional[],3,0))","v":""},null,{"$f":"IF(E611<>\"\",VLOOKUP(CONCATENATE(C611,E611),Dato!$A$4:$I$218,7,0),\"\")","v":""},null,""]
[null,null,null,{"$f":"IF(C612=\"\",\"\",VLOOKUP(C612,Tabla_Regional[],3,0))","v":""},null,{"$f":"IF(E612<>\"\",VLOOKUP(CONCATENATE(C612,E612),Dato!$A$4:$I$218,7,0),\"\")","v":""},null,""]
[null,null,null,{"$f":"IF(C613=\"\",\"\",VLOOKUP(C613,Tabla_Regional[],3,0))","v":""},null,{"$f":"IF(E613<>\"\",VLOOKUP(CONCATENATE(C613,E613),Dato!$A$4:$I$218,7,0),\"\")","v":""},null,""]
[null,null,null,{"$f":"IF(C614=\"\",\"\",VLOOKUP(C614,Tabla_Regional[],3,0))","v":""},null,{"$f":"IF(E614<>\"\",VLOOKUP(CONCATENATE(C614,E614),Dato!$A$4:$I$218,7,0),\"\")","v":""},null,""]
[null,null,null,{"$f":"IF(C615=\"\",\"\",VLOOKUP(C615,Tabla_Regional[],3,0))","v":""},null,{"$f":"IF(E615<>\"\",VLOOKUP(CONCATENATE(C615,E615),Dato!$A$4:$I$218,7,0),\"\")","v":""},null,""]
[null,null,null,{"$f":"IF(C616=\"\",\"\",VLOOKUP(C616,Tabla_Regional[],3,0))","v":""},null,{"$f":"IF(E616<>\"\",VLOOKUP(CONCATENATE(C616,E616),Dato!$A$4:$I$218,7,0),\"\")","v":""},null,""]
[null,null,null,{"$f":"IF(C617=\"\",\"\",VLOOKUP(C617,Tabla_Regional[],3,0))","v":""},null,{"$f":"IF(E617<>\"\",VLOOKUP(CONCATENATE(C617,E617),Dato!$A$4:$I$218,7,0),\"\")","v":""},null,""]
[null,null,null,{"$f":"IF(C618=\"\",\"\",VLOOKUP(C618,Tabla_Regional[],3,0))","v":""},null,{"$f":"IF(E618<>\"\",VLOOKUP(CONCATENATE(C618,E618),Dato!$A$4:$I$218,7,0),\"\")","v":""},null,""]
[null,null,null,{"$f":"IF(C619=\"\",\"\",VLOOKUP(C619,Tabla_Regional[],3,0))","v":""},null,{"$f":"IF(E619<>\"\",VLOOKUP(CONCATENATE(C619,E619),Dato!$A$4:$I$218,7,0),\"\")","v":""},null,""]
[null,null,null,{"$f":"IF(C620=\"\",\"\",VLOOKUP(C620,Tabla_Regional[],3,0))","v":""},null,{"$f":"IF(E620<>\"\",VLOOKUP(CONCATENATE(C620,E620),Dato!$A$4:$I$218,7,0),\"\")","v":""},null,""]
[null,null,null,{"$f":"IF(C621=\"\",\"\",VLOOKUP(C621,Tabla_Regional[],3,0))","v":""},null,{"$f":"IF(E621<>\"\",VLOOKUP(CONCATENATE(C621,E621),Dato!$A$4:$I$218,7,0),\"\")","v":""},null,""]
[null,null,null,{"$f":"IF(C622=\"\",\"\",VLOOKUP(C622,Tabla_Regional[],3,0))","v":""},null,{"$f":"IF(E622<>\"\",VLOOKUP(CONCATENATE(C622,E622),Dato!$A$4:$I$218,7,0),\"\")","v":""},null,""]
[null,null,null,{"$f":"IF(C623=\"\",\"\",VLOOKUP(C623,Tabla_Regional[],3,0))","v":""},null,{"$f":"IF(E623<>\"\",VLOOKUP(CONCATENATE(C623,E623),Dato!$A$4:$I$218,7,0),\"\")","v":""},null,""]
[null,null,null,{"$f":"IF(C624=\"\",\"\",VLOOKUP(C624,Tabla_Regional[],3,0))","v":""},null,{"$f":"IF(E624<>\"\",VLOOKUP(CONCATENATE(C624,E624),Dato!$A$4:$I$218,7,0),\"\")","v":""},null,""]
[null,null,null,{"$f":"IF(C625=\"\",\"\",VLOOKUP(C625,Tabla_Regional[],3,0))","v":""},null,{"$f":"IF(E625<>\"\",VLOOKUP(CONCATENATE(C625,E625),Dato!$A$4:$I$218,7,0),\"\")","v":""},null,""]
[null,null,null,{"$f":"IF(C626=\"\",\"\",VLOOKUP(C626,Tabla_Regional[],3,0))","v":""},null,{"$f":"IF(E626<>\"\",VLOOKUP(CONCATENATE(C626,E626),Dato!$A$4:$I$218,7,0),\"\")","v":""},null,""]
[null,null,null,{"$f":"IF(C627=\"\",\"\",VLOOKUP(C627,Tabla_Regional[],3,0))","v":""},null,{"$f":"IF(E627<>\"\",VLOOKUP(CONCATENATE(C627,E627),Dato!$A$4:$I$218,7,0),\"\")","v":""},null,""]
[null,null,null,{"$f":"IF(C628=\"\",\"\",VLOOKUP(C628,Tabla_Regional[],3,0))","v":""},null,{"$f":"IF(E628<>\"\",VLOOKUP(CONCATENATE(C628,E628),Dato!$A$4:$I$218,7,0),\"\")","v":""},null,""]
[null,null,null,{"$f":"IF(C629=\"\",\"\",VLOOKUP(C629,Tabla_Regional[],3,0))","v":""},null,{"$f":"IF(E629<>\"\",VLOOKUP(CONCATENATE(C629,E629),Dato!$A$4:$I$218,7,0),\"\")","v":""},null,""]
[null,null,null,{"$f":"IF(C630=\"\",\"\",VLOOKUP(C630,Tabla_Regional[],3,0))","v":""},null,{"$f":"IF(E630<>\"\",VLOOKUP(CONCATENATE(C630,E630),Dato!$A$4:$I$218,7,0),\"\")","v":""},null,""]
[null,null,null,{"$f":"IF(C631=\"\",\"\",VLOOKUP(C631,Tabla_Regional[],3,0))","v":""},null,{"$f":"IF(E631<>\"\",VLOOKUP(CONCATENATE(C631,E631),Dato!$A$4:$I$218,7,0),\"\")","v":""},null,""]
[null,null,null,{"$f":"IF(C632=\"\",\"\",VLOOKUP(C632,Tabla_Regional[],3,0))","v":""},null,{"$f":"IF(E632<>\"\",VLOOKUP(CONCATENATE(C632,E632),Dato!$A$4:$I$218,7,0),\"\")","v":""},null,""]
[null,null,null,{"$f":"IF(C633=\"\",\"\",VLOOKUP(C633,Tabla_Regional[],3,0))","v":""},null,{"$f":"IF(E633<>\"\",VLOOKUP(CONCATENATE(C633,E633),Dato!$A$4:$I$218,7,0),\"\")","v":""},null,""]
[null,null,null,{"$f":"IF(C634=\"\",\"\",VLOOKUP(C634,Tabla_Regional[],3,0))","v":""},null,{"$f":"IF(E634<>\"\",VLOOKUP(CONCATENATE(C634,E634),Dato!$A$4:$I$218,7,0),\"\")","v":""},null,""]
[null,null,null,{"$f":"IF(C635=\"\",\"\",VLOOKUP(C635,Tabla_Regional[],3,0))","v":""},null,{"$f":"IF(E635<>\"\",VLOOKUP(CONCATENATE(C635,E635),Dato!$A$4:$I$218,7,0),\"\")","v":""},null,""]
[null,null,null,{"$f":"IF(C636=\"\",\"\",VLOOKUP(C636,Tabla_Regional[],3,0))","v":""},null,{"$f":"IF(E636<>\"\",VLOOKUP(CONCATENATE(C636,E636),Dato!$A$4:$I$218,7,0),\"\")","v":""},null,""]
[null,null,null,{"$f":"IF(C637=\"\",\"\",VLOOKUP(C637,Tabla_Regional[],3,0))","v":""},null,{"$f":"IF(E637<>\"\",VLOOKUP(CONCATENATE(C637,E637),Dato!$A$4:$I$218,7,0),\"\")","v":""},null,""]
[null,null,null,{"$f":"IF(C638=\"\",\"\",VLOOKUP(C638,Tabla_Regional[],3,0))","v":""},null,{"$f":"IF(E638<>\"\",VLOOKUP(CONCATENATE(C638,E638),Dato!$A$4:$I$218,7,0),\"\")","v":""},null,""]
[null,null,null,{"$f":"IF(C639=\"\",\"\",VLOOKUP(C639,Tabla_Regional[],3,0))","v":""},null,{"$f":"IF(E639<>\"\",VLOOKUP(CONCATENATE(C639,E639),Dato!$A$4:$I$218,7,0),\"\")","v":""},null,""]
[null,null,null,{"$f":"IF(C640=\"\",\"\",VLOOKUP(C640,Tabla_Regional[],3,0))","v":""},null,{"$f":"IF(E640<>\"\",VLOOKUP(CONCATENATE(C640,E640),Dato!$A$4:$I$218,7,0),\"\")","v":""},null,""]
[null,null,null,{"$f":"IF(C641=\"\",\"\",VLOOKUP(C641,Tabla_Regional[],3,0))","v":""},null,{"$f":"IF(E641<>\"\",VLOOKUP(CONCATENATE(C641,E641),Dato!$A$4:$I$218,7,0),\"\")","v":""},null,""]
[null,null,null,{"$f":"IF(C642=\"\",\"\",VLOOKUP(C642,Tabla_Regional[],3,0))","v":""},null,{"$f":"IF(E642<>\"\",VLOOKUP(CONCATENATE(C642,E642),Dato!$A$4:$I$218,7,0),\"\")","v":""},null,""]
[null,null,null,{"$f":"IF(C643=\"\",\"\",VLOOKUP(C643,Tabla_Regional[],3,0))","v":""},null,{"$f":"IF(E643<>\"\",VLOOKUP(CONCATENATE(C643,E643),Dato!$A$4:$I$218,7,0),\"\")","v":""},null,""]
[null,null,null,{"$f":"IF(C644=\"\",\"\",VLOOKUP(C644,Tabla_Regional[],3,0))","v":""},null,{"$f":"IF(E644<>\"\",VLOOKUP(CONCATENATE(C644,E644),Dato!$A$4:$I$218,7,0),\"\")","v":""},null,""]
[null,null,null,{"$f":"IF(C645=\"\",\"\",VLOOKUP(C645,Tabla_Regional[],3,0))","v":""},null,{"$f":"IF(E645<>\"\",VLOOKUP(CONCATENATE(C645,E645),Dato!$A$4:$I$218,7,0),\"\")","v":""},null,""]
[null,null,null,{"$f":"IF(C646=\"\",\"\",VLOOKUP(C646,Tabla_Regional[],3,0))","v":""},null,{"$f":"IF(E646<>\"\",VLOOKUP(CONCATENATE(C646,E646),Dato!$A$4:$I$218,7,0),\"\")","v":""},null,""]
[null,null,null,{"$f":"IF(C647=\"\",\"\",VLOOKUP(C647,Tabla_Regional[],3,0))","v":""},null,{"$f":"IF(E647<>\"\",VLOOKUP(CONCATENATE(C647,E647),Dato!$A$4:$I$218,7,0),\"\")","v":""},null,""]
[null,null,null,{"$f":"IF(C648=\"\",\"\",VLOOKUP(C648,Tabla_Regional[],3,0))","v":""},null,{"$f":"IF(E648<>\"\",VLOOKUP(CONCATENATE(C648,E648),Dato!$A$4:$I$218,7,0),\"\")","v":""},null,""]
[null,null,null,{"$f":"IF(C649=\"\",\"\",VLOOKUP(C649,Tabla_Regional[],3,0))","v":""},null,{"$f":"IF(E649<>\"\",VLOOKUP(CONCATENATE(C649,E649),Dato!$A$4:$I$218,7,0),\"\")","v":""},null,""]
[null,null,null,{"$f":"IF(C650=\"\",\"\",VLOOKUP(C650,Tabla_Regional[],3,0))","v":""},null,{"$f":"IF(E650<>\"\",VLOOKUP(CONCATENATE(C650,E650),Dato!$A$4:$I$218,7,0),\"\")","v":""},null,""]
[null,null,null,{"$f":"IF(C651=\"\",\"\",VLOOKUP(C651,Tabla_Regional[],3,0))","v":""},null,{"$f":"IF(E651<>\"\",VLOOKUP(CONCATENATE(C651,E651),Dato!$A$4:$I$218,7,0),\"\")","v":""},null,""]
[null,null,null,{"$f":"IF(C652=\"\",\"\",VLOOKUP(C652,Tabla_Regional[],3,0))","v":""},null,{"$f":"IF(E652<>\"\",VLOOKUP(CONCATENATE(C652,E652),Dato!$A$4:$I$218,7,0),\"\")","v":""},null,{"$f":"IF(G652<>\"\",VLOOKUP(CONCATENATE(C652,E652,G652),czmuni,7,0),\"\")","v":""}]
[null,null,null,{"$f":"IF(C653=\"\",\"\",VLOOKUP(C653,Tabla_Regional[],3,0))","v":""},null,{"$f":"IF(E653<>\"\",VLOOKUP(CONCATENATE(C653,E653),Dato!$A$4:$I$218,7,0),\"\")","v":""},null,""]
[null,null,null,{"$f":"IF(C654=\"\",\"\",VLOOKUP(C654,Tabla_Regional[],3,0))","v":""},null,{"$f":"IF(E654<>\"\",VLOOKUP(CONCATENATE(C654,E654),Dato!$A$4:$I$218,7,0),\"\")","v":""},null,""]
[null,null,null,{"$f":"IF(C655=\"\",\"\",VLOOKUP(C655,Tabla_Regional[],3,0))","v":""},null,{"$f":"IF(E655<>\"\",VLOOKUP(CONCATENATE(C655,E655),Dato!$A$4:$I$218,7,0),\"\")","v":""},null,""]
[null,null,null,{"$f":"IF(C656=\"\",\"\",VLOOKUP(C656,Tabla_Regional[],3,0))","v":""},null,{"$f":"IF(E656<>\"\",VLOOKUP(CONCATENATE(C656,E656),Dato!$A$4:$I$218,7,0),\"\")","v":""},null,""]
[null,null,null,{"$f":"IF(C657=\"\",\"\",VLOOKUP(C657,Tabla_Regional[],3,0))","v":""},null,{"$f":"IF(E657<>\"\",VLOOKUP(CONCATENATE(C657,E657),Dato!$A$4:$I$218,7,0),\"\")","v":""},null,""]
[null,null,null,{"$f":"IF(C658=\"\",\"\",VLOOKUP(C658,Tabla_Regional[],3,0))","v":""},null,{"$f":"IF(E658<>\"\",VLOOKUP(CONCATENATE(C658,E658),Dato!$A$4:$I$218,7,0),\"\")","v":""},null,""]
[null,null,null,{"$f":"IF(C659=\"\",\"\",VLOOKUP(C659,Tabla_Regional[],3,0))","v":""},null,{"$f":"IF(E659<>\"\",VLOOKUP(CONCATENATE(C659,E659),Dato!$A$4:$I$218,7,0),\"\")","v":""},null,""]
[null,null,null,{"$f":"IF(C660=\"\",\"\",VLOOKUP(C660,Tabla_Regional[],3,0))","v":""},null,{"$f":"IF(E660<>\"\",VLOOKUP(CONCATENATE(C660,E660),Dato!$A$4:$I$218,7,0),\"\")","v":""},null,""]
[null,null,null,{"$f":"IF(C661=\"\",\"\",VLOOKUP(C661,Tabla_Regional[],3,0))","v":""},null,{"$f":"IF(E661<>\"\",VLOOKUP(CONCATENATE(C661,E661),Dato!$A$4:$I$218,7,0),\"\")","v":""},null,""]
[null,null,null,{"$f":"IF(C662=\"\",\"\",VLOOKUP(C662,Tabla_Regional[],3,0))","v":""},null,{"$f":"IF(E662<>\"\",VLOOKUP(CONCATENATE(C662,E662),Dato!$A$4:$I$218,7,0),\"\")","v":""},null,""]
[null,null,null,{"$f":"IF(C663=\"\",\"\",VLOOKUP(C663,Tabla_Regional[],3,0))","v":""},null,{"$f":"IF(E663<>\"\",VLOOKUP(CONCATENATE(C663,E663),Dato!$A$4:$I$218,7,0),\"\")","v":""},null,""]
[null,null,null,{"$f":"IF(C664=\"\",\"\",VLOOKUP(C664,Tabla_Regional[],3,0))","v":""},null,{"$f":"IF(E664<>\"\",VLOOKUP(CONCATENATE(C664,E664),Dato!$A$4:$I$218,7,0),\"\")","v":""},null,""]
[null,null,null,{"$f":"IF(C665=\"\",\"\",VLOOKUP(C665,Tabla_Regional[],3,0))","v":""},null,{"$f":"IF(E665<>\"\",VLOOKUP(CONCATENATE(C665,E665),Dato!$A$4:$I$218,7,0),\"\")","v":""},null,""]
[null,null,null,{"$f":"IF(C666=\"\",\"\",VLOOKUP(C666,Tabla_Regional[],3,0))","v":""},null,{"$f":"IF(E666<>\"\",VLOOKUP(CONCATENATE(C666,E666),Dato!$A$4:$I$218,7,0),\"\")","v":""},null,""]
[null,null,null,{"$f":"IF(C667=\"\",\"\",VLOOKUP(C667,Tabla_Regional[],3,0))","v":""},null,{"$f":"IF(E667<>\"\",VLOOKUP(CONCATENATE(C667,E667),Dato!$A$4:$I$218,7,0),\"\")","v":""},null,""]
[null,null,null,{"$f":"IF(C668=\"\",\"\",VLOOKUP(C668,Tabla_Regional[],3,0))","v":""},null,{"$f":"IF(E668<>\"\",VLOOKUP(CONCATENATE(C668,E668),Dato!$A$4:$I$218,7,0),\"\")","v":""},null,""]
[null,null,null,{"$f":"IF(C669=\"\",\"\",VLOOKUP(C669,Tabla_Regional[],3,0))","v":""},null,{"$f":"IF(E669<>\"\",VLOOKUP(CONCATENATE(C669,E669),Dato!$A$4:$I$218,7,0),\"\")","v":""},null,""]
[null,null,null,{"$f":"IF(C670=\"\",\"\",VLOOKUP(C670,Tabla_Regional[],3,0))","v":""},null,{"$f":"IF(E670<>\"\",VLOOKUP(CONCATENATE(C670,E670),Dato!$A$4:$I$218,7,0),\"\")","v":""},null,""]
[null,null,null,{"$f":"IF(C671=\"\",\"\",VLOOKUP(C671,Tabla_Regional[],3,0))","v":""},null,{"$f":"IF(E671<>\"\",VLOOKUP(CONCATENATE(C671,E671),Dato!$A$4:$I$218,7,0),\"\")","v":""},null,""]
[null,null,null,{"$f":"IF(C672=\"\",\"\",VLOOKUP(C672,Tabla_Regional[],3,0))","v":""},null,{"$f":"IF(E672<>\"\",VLOOKUP(CONCATENATE(C672,E672),Dato!$A$4:$I$218,7,0),\"\")","v":""},null,""]
[null,null,null,{"$f":"IF(C673=\"\",\"\",VLOOKUP(C673,Tabla_Regional[],3,0))","v":""},null,{"$f":"IF(E673<>\"\",VLOOKUP(CONCATENATE(C673,E673),Dato!$A$4:$I$218,7,0),\"\")","v":""},null,""]
[null,null,null,{"$f":"IF(C674=\"\",\"\",VLOOKUP(C674,Tabla_Regional[],3,0))","v":""},null,{"$f":"IF(E674<>\"\",VLOOKUP(CONCATENATE(C674,E674),Dato!$A$4:$I$218,7,0),\"\")","v":""},null,""]
[null,null,null,{"$f":"IF(C675=\"\",\"\",VLOOKUP(C675,Tabla_Regional[],3,0))","v":""},null,{"$f":"IF(E675<>\"\",VLOOKUP(CONCATENATE(C675,E675),Dato!$A$4:$I$218,7,0),\"\")","v":""},null,""]
[null,null,null,{"$f":"IF(C676=\"\",\"\",VLOOKUP(C676,Tabla_Regional[],3,0))","v":""},null,{"$f":"IF(E676<>\"\",VLOOKUP(CONCATENATE(C676,E676),Dato!$A$4:$I$218,7,0),\"\")","v":""},null,""]
[null,null,null,{"$f":"IF(C677=\"\",\"\",VLOOKUP(C677,Tabla_Regional[],3,0))","v":""},null,{"$f":"IF(E677<>\"\",VLOOKUP(CONCATENATE(C677,E677),Dato!$A$4:$I$218,7,0),\"\")","v":""},null,""]
[null,null,null,{"$f":"IF(C678=\"\",\"\",VLOOKUP(C678,Tabla_Regional[],3,0))","v":""},null,{"$f":"IF(E678<>\"\",VLOOKUP(CONCATENATE(C678,E678),Dato!$A$4:$I$218,7,0),\"\")","v":""},null,""]
[null,null,null,{"$f":"IF(C679=\"\",\"\",VLOOKUP(C679,Tabla_Regional[],3,0))","v":""},null,{"$f":"IF(E679<>\"\",VLOOKUP(CONCATENATE(C679,E679),Dato!$A$4:$I$218,7,0),\"\")","v":""},null,""]
[null,null,null,{"$f":"IF(C680=\"\",\"\",VLOOKUP(C680,Tabla_Regional[],3,0))","v":""},null,{"$f":"IF(E680<>\"\",VLOOKUP(CONCATENATE(C680,E680),Dato!$A$4:$I$218,7,0),\"\")","v":""},null,""]
[null,null,null,{"$f":"IF(C681=\"\",\"\",VLOOKUP(C681,Tabla_Regional[],3,0))","v":""},null,{"$f":"IF(E681<>\"\",VLOOKUP(CONCATENATE(C681,E681),Dato!$A$4:$I$218,7,0),\"\")","v":""},null,""]
[null,null,null,{"$f":"IF(C682=\"\",\"\",VLOOKUP(C682,Tabla_Regional[],3,0))","v":""},null,{"$f":"IF(E682<>\"\",VLOOKUP(CONCATENATE(C682,E682),Dato!$A$4:$I$218,7,0),\"\")","v":""},null,""]
[null,null,null,{"$f":"IF(C683=\"\",\"\",VLOOKUP(C683,Tabla_Regional[],3,0))","v":""},null,{"$f":"IF(E683<>\"\",VLOOKUP(CONCATENATE(C683,E683),Dato!$A$4:$I$218,7,0),\"\")","v":""},null,""]
[null,null,null,{"$f":"IF(C684=\"\",\"\",VLOOKUP(C684,Tabla_Regional[],3,0))","v":""},null,{"$f":"IF(E684<>\"\",VLOOKUP(CONCATENATE(C684,E684),Dato!$A$4:$I$218,7,0),\"\")","v":""},null,""]
[null,null,null,{"$f":"IF(C685=\"\",\"\",VLOOKUP(C685,Tabla_Regional[],3,0))","v":""},null,{"$f":"IF(E685<>\"\",VLOOKUP(CONCATENATE(C685,E685),Dato!$A$4:$I$218,7,0),\"\")","v":""},null,""]
[null,null,null,{"$f":"IF(C686=\"\",\"\",VLOOKUP(C686,Tabla_Regional[],3,0))","v":""},null,{"$f":"IF(E686<>\"\",VLOOKUP(CONCATENATE(C686,E686),Dato!$A$4:$I$218,7,0),\"\")","v":""},null,""]
[null,null,null,{"$f":"IF(C687=\"\",\"\",VLOOKUP(C687,Tabla_Regional[],3,0))","v":""},null,{"$f":"IF(E687<>\"\",VLOOKUP(CONCATENATE(C687,E687),Dato!$A$4:$I$218,7,0),\"\")","v":""},null,""]
[null,null,null,{"$f":"IF(C688=\"\",\"\",VLOOKUP(C688,Tabla_Regional[],3,0))","v":""},null,{"$f":"IF(E688<>\"\",VLOOKUP(CONCATENATE(C688,E688),Dato!$A$4:$I$218,7,0),\"\")","v":""},null,""]
[null,null,null,{"$f":"IF(C689=\"\",\"\",VLOOKUP(C689,Tabla_Regional[],3,0))","v":""},null,{"$f":"IF(E689<>\"\",VLOOKUP(CONCATENATE(C689,E689),Dato!$A$4:$I$218,7,0),\"\")","v":""},null,""]
[null,null,null,{"$f":"IF(C690=\"\",\"\",VLOOKUP(C690,Tabla_Regional[],3,0))","v":""},null,{"$f":"IF(E690<>\"\",VLOOKUP(CONCATENATE(C690,E690),Dato!$A$4:$I$218,7,0),\"\")","v":""},null,""]
[null,null,null,{"$f":"IF(C691=\"\",\"\",VLOOKUP(C691,Tabla_Regional[],3,0))","v":""},null,{"$f":"IF(E691<>\"\",VLOOKUP(CONCATENATE(C691,E691),Dato!$A$4:$I$218,7,0),\"\")","v":""},null,""]
[null,null,null,{"$f":"IF(C692=\"\",\"\",VLOOKUP(C692,Tabla_Regional[],3,0))","v":""},null,{"$f":"IF(E692<>\"\",VLOOKUP(CONCATENATE(C692,E692),Dato!$A$4:$I$218,7,0),\"\")","v":""},null,""]
[null,null,null,{"$f":"IF(C693=\"\",\"\",VLOOKUP(C693,Tabla_Regional[],3,0))","v":""},null,{"$f":"IF(E693<>\"\",VLOOKUP(CONCATENATE(C693,E693),Dato!$A$4:$I$218,7,0),\"\")","v":""},null,""]
[null,null,null,{"$f":"IF(C694=\"\",\"\",VLOOKUP(C694,Tabla_Regional[],3,0))","v":""},null,{"$f":"IF(E694<>\"\",VLOOKUP(CONCATENATE(C694,E694),Dato!$A$4:$I$218,7,0),\"\")","v":""},null,""]
[null,null,null,{"$f":"IF(C695=\"\",\"\",VLOOKUP(C695,Tabla_Regional[],3,0))","v":""},null,{"$f":"IF(E695<>\"\",VLOOKUP(CONCATENATE(C695,E695),Dato!$A$4:$I$218,7,0),\"\")","v":""},null,""]
[null,null,null,{"$f":"IF(C696=\"\",\"\",VLOOKUP(C696,Tabla_Regional[],3,0))","v":""},null,{"$f":"IF(E696<>\"\",VLOOKUP(CONCATENATE(C696,E696),Dato!$A$4:$I$218,7,0),\"\")","v":""},null,""]
[null,null,null,{"$f":"IF(C697=\"\",\"\",VLOOKUP(C697,Tabla_Regional[],3,0))","v":""},null,{"$f":"IF(E697<>\"\",VLOOKUP(CONCATENATE(C697,E697),Dato!$A$4:$I$218,7,0),\"\")","v":""},null,""]
[null,null,null,{"$f":"IF(C698=\"\",\"\",VLOOKUP(C698,Tabla_Regional[],3,0))","v":""},null,{"$f":"IF(E698<>\"\",VLOOKUP(CONCATENATE(C698,E698),Dato!$A$4:$I$218,7,0),\"\")","v":""},null,""]
[null,null,null,{"$f":"IF(C699=\"\",\"\",VLOOKUP(C699,Tabla_Regional[],3,0))","v":""},null,{"$f":"IF(E699<>\"\",VLOOKUP(CONCATENATE(C699,E699),Dato!$A$4:$I$218,7,0),\"\")","v":""},null,""]
[null,null,null,{"$f":"IF(C700=\"\",\"\",VLOOKUP(C700,Tabla_Regional[],3,0))","v":""},null,{"$f":"IF(E700<>\"\",VLOOKUP(CONCATENATE(C700,E700),Dato!$A$4:$I$218,7,0),\"\")","v":""},null,""]
[null,null,null,{"$f":"IF(C701=\"\",\"\",VLOOKUP(C701,Tabla_Regional[],3,0))","v":""},null,{"$f":"IF(E701<>\"\",VLOOKUP(CONCATENATE(C701,E701),Dato!$A$4:$I$218,7,0),\"\")","v":""},null,""]
[null,null,null,{"$f":"IF(C702=\"\",\"\",VLOOKUP(C702,Tabla_Regional[],3,0))","v":""},null,{"$f":"IF(E702<>\"\",VLOOKUP(CONCATENATE(C702,E702),Dato!$A$4:$I$218,7,0),\"\")","v":""},null,""]
[null,null,null,{"$f":"IF(C703=\"\",\"\",VLOOKUP(C703,Tabla_Regional[],3,0))","v":""},null,{"$f":"IF(E703<>\"\",VLOOKUP(CONCATENATE(C703,E703),Dato!$A$4:$I$218,7,0),\"\")","v":""},null,""]
[null,null,null,{"$f":"IF(C704=\"\",\"\",VLOOKUP(C704,Tabla_Regional[],3,0))","v":""},null,{"$f":"IF(E704<>\"\",VLOOKUP(CONCATENATE(C704,E704),Dato!$A$4:$I$218,7,0),\"\")","v":""},null,""]
[null,null,null,{"$f":"IF(C705=\"\",\"\",VLOOKUP(C705,Tabla_Regional[],3,0))","v":""},null,{"$f":"IF(E705<>\"\",VLOOKUP(CONCATENATE(C705,E705),Dato!$A$4:$I$218,7,0),\"\")","v":""},null,""]
[null,null,null,{"$f":"IF(C706=\"\",\"\",VLOOKUP(C706,Tabla_Regional[],3,0))","v":""},null,{"$f":"IF(E706<>\"\",VLOOKUP(CONCATENATE(C706,E706),Dato!$A$4:$I$218,7,0),\"\")","v":""},null,""]
[null,null,null,{"$f":"IF(C707=\"\",\"\",VLOOKUP(C707,Tabla_Regional[],3,0))","v":""},null,{"$f":"IF(E707<>\"\",VLOOKUP(CONCATENATE(C707,E707),Dato!$A$4:$I$218,7,0),\"\")","v":""},null,""]
[null,null,null,{"$f":"IF(C708=\"\",\"\",VLOOKUP(C708,Tabla_Regional[],3,0))","v":""},null,{"$f":"IF(E708<>\"\",VLOOKUP(CONCATENATE(C708,E708),Dato!$A$4:$I$218,7,0),\"\")","v":""},null,""]
[null,null,null,{"$f":"IF(C709=\"\",\"\",VLOOKUP(C709,Tabla_Regional[],3,0))","v":""},null,{"$f":"IF(E709<>\"\",VLOOKUP(CONCATENATE(C709,E709),Dato!$A$4:$I$218,7,0),\"\")","v":""},null,""]
[null,null,null,{"$f":"IF(C710=\"\",\"\",VLOOKUP(C710,Tabla_Regional[],3,0))","v":""},null,{"$f":"IF(E710<>\"\",VLOOKUP(CONCATENATE(C710,E710),Dato!$A$4:$I$218,7,0),\"\")","v":""},null,""]
[null,null,null,{"$f":"IF(C711=\"\",\"\",VLOOKUP(C711,Tabla_Regional[],3,0))","v":""},null,{"$f":"IF(E711<>\"\",VLOOKUP(CONCATENATE(C711,E711),Dato!$A$4:$I$218,7,0),\"\")","v":""},null,""]
[null,null,null,{"$f":"IF(C712=\"\",\"\",VLOOKUP(C712,Tabla_Regional[],3,0))","v":""},null,{"$f":"IF(E712<>\"\",VLOOKUP(CONCATENATE(C712,E712),Dato!$A$4:$I$218,7,0),\"\")","v":""},null,""]
[null,null,null,{"$f":"IF(C713=\"\",\"\",VLOOKUP(C713,Tabla_Regional[],3,0))","v":""},null,{"$f":"IF(E713<>\"\",VLOOKUP(CONCATENATE(C713,E713),Dato!$A$4:$I$218,7,0),\"\")","v":""},null,""]
[null,null,null,{"$f":"IF(C714=\"\",\"\",VLOOKUP(C714,Tabla_Regional[],3,0))","v":""},null,{"$f":"IF(E714<>\"\",VLOOKUP(CONCATENATE(C714,E714),Dato!$A$4:$I$218,7,0),\"\")","v":""},null,""]
[null,null,null,{"$f":"IF(C715=\"\",\"\",VLOOKUP(C715,Tabla_Regional[],3,0))","v":""},null,{"$f":"IF(E715<>\"\",VLOOKUP(CONCATENATE(C715,E715),Dato!$A$4:$I$218,7,0),\"\")","v":""},null,""]
[null,null,null,{"$f":"IF(C716=\"\",\"\",VLOOKUP(C716,Tabla_Regional[],3,0))","v":""},null,{"$f":"IF(E716<>\"\",VLOOKUP(CONCATENATE(C716,E716),Dato!$A$4:$I$218,7,0),\"\")","v":""},null,{"$f":"IF(G716<>\"\",VLOOKUP(CONCATENATE(C716,E716,G716),czmuni,7,0),\"\")","v":""}]
[null,null,null,{"$f":"IF(C717=\"\",\"\",VLOOKUP(C717,Tabla_Regional[],3,0))","v":""},null,{"$f":"IF(E717<>\"\",VLOOKUP(CONCATENATE(C717,E717),Dato!$A$4:$I$218,7,0),\"\")","v":""},null,""]
[null,null,null,{"$f":"IF(C718=\"\",\"\",VLOOKUP(C718,Tabla_Regional[],3,0))","v":""},null,{"$f":"IF(E718<>\"\",VLOOKUP(CONCATENATE(C718,E718),Dato!$A$4:$I$218,7,0),\"\")","v":""},null,""]
[null,null,null,{"$f":"IF(C719=\"\",\"\",VLOOKUP(C719,Tabla_Regional[],3,0))","v":""},null,{"$f":"IF(E719<>\"\",VLOOKUP(CONCATENATE(C719,E719),Dato!$A$4:$I$218,7,0),\"\")","v":""},null,""]
[null,null,null,{"$f":"IF(C720=\"\",\"\",VLOOKUP(C720,Tabla_Regional[],3,0))","v":""},null,{"$f":"IF(E720<>\"\",VLOOKUP(CONCATENATE(C720,E720),Dato!$A$4:$I$218,7,0),\"\")","v":""},null,""]
[null,null,null,{"$f":"IF(C721=\"\",\"\",VLOOKUP(C721,Tabla_Regional[],3,0))","v":""},null,{"$f":"IF(E721<>\"\",VLOOKUP(CONCATENATE(C721,E721),Dato!$A$4:$I$218,7,0),\"\")","v":""},null,""]
[null,null,null,{"$f":"IF(C722=\"\",\"\",VLOOKUP(C722,Tabla_Regional[],3,0))","v":""},null,{"$f":"IF(E722<>\"\",VLOOKUP(CONCATENATE(C722,E722),Dato!$A$4:$I$218,7,0),\"\")","v":""},null,""]
[null,null,null,{"$f":"IF(C723=\"\",\"\",VLOOKUP(C723,Tabla_Regional[],3,0))","v":""},null,{"$f":"IF(E723<>\"\",VLOOKUP(CONCATENATE(C723,E723),Dato!$A$4:$I$218,7,0),\"\")","v":""},null,""]
[null,null,null,{"$f":"IF(C724=\"\",\"\",VLOOKUP(C724,Tabla_Regional[],3,0))","v":""},null,{"$f":"IF(E724<>\"\",VLOOKUP(CONCATENATE(C724,E724),Dato!$A$4:$I$218,7,0),\"\")","v":""},null,""]
[null,null,null,{"$f":"IF(C725=\"\",\"\",VLOOKUP(C725,Tabla_Regional[],3,0))","v":""},null,{"$f":"IF(E725<>\"\",VLOOKUP(CONCATENATE(C725,E725),Dato!$A$4:$I$218,7,0),\"\")","v":""},null,""]
[null,null,null,{"$f":"IF(C726=\"\",\"\",VLOOKUP(C726,Tabla_Regional[],3,0))","v":""},null,{"$f":"IF(E726<>\"\",VLOOKUP(CONCATENATE(C726,E726),Dato!$A$4:$I$218,7,0),\"\")","v":""},null,""]
[null,null,null,{"$f":"IF(C727=\"\",\"\",VLOOKUP(C727,Tabla_Regional[],3,0))","v":""},null,{"$f":"IF(E727<>\"\",VLOOKUP(CONCATENATE(C727,E727),Dato!$A$4:$I$218,7,0),\"\")","v":""},null,""]
[null,null,null,{"$f":"IF(C728=\"\",\"\",VLOOKUP(C728,Tabla_Regional[],3,0))","v":""},null,{"$f":"IF(E728<>\"\",VLOOKUP(CONCATENATE(C728,E728),Dato!$A$4:$I$218,7,0),\"\")","v":""},null,""]
[null,null,null,{"$f":"IF(C729=\"\",\"\",VLOOKUP(C729,Tabla_Regional[],3,0))","v":""},null,{"$f":"IF(E729<>\"\",VLOOKUP(CONCATENATE(C729,E729),Dato!$A$4:$I$218,7,0),\"\")","v":""},null,""]
[null,null,null,{"$f":"IF(C730=\"\",\"\",VLOOKUP(C730,Tabla_Regional[],3,0))","v":""},null,{"$f":"IF(E730<>\"\",VLOOKUP(CONCATENATE(C730,E730),Dato!$A$4:$I$218,7,0),\"\")","v":""},null,""]
[null,null,null,{"$f":"IF(C731=\"\",\"\",VLOOKUP(C731,Tabla_Regional[],3,0))","v":""},null,{"$f":"IF(E731<>\"\",VLOOKUP(CONCATENATE(C731,E731),Dato!$A$4:$I$218,7,0),\"\")","v":""},null,""]
[null,null,null,{"$f":"IF(C732=\"\",\"\",VLOOKUP(C732,Tabla_Regional[],3,0))","v":""},null,{"$f":"IF(E732<>\"\",VLOOKUP(CONCATENATE(C732,E732),Dato!$A$4:$I$218,7,0),\"\")","v":""},null,""]
[null,null,null,{"$f":"IF(C733=\"\",\"\",VLOOKUP(C733,Tabla_Regional[],3,0))","v":""},null,{"$f":"IF(E733<>\"\",VLOOKUP(CONCATENATE(C733,E733),Dato!$A$4:$I$218,7,0),\"\")","v":""},null,""]
[null,null,null,{"$f":"IF(C734=\"\",\"\",VLOOKUP(C734,Tabla_Regional[],3,0))","v":""},null,{"$f":"IF(E734<>\"\",VLOOKUP(CONCATENATE(C734,E734),Dato!$A$4:$I$218,7,0),\"\")","v":""},null,""]
[null,null,null,{"$f":"IF(C735=\"\",\"\",VLOOKUP(C735,Tabla_Regional[],3,0))","v":""},null,{"$f":"IF(E735<>\"\",VLOOKUP(CONCATENATE(C735,E735),Dato!$A$4:$I$218,7,0),\"\")","v":""},null,""]
[null,null,null,{"$f":"IF(C736=\"\",\"\",VLOOKUP(C736,Tabla_Regional[],3,0))","v":""},null,{"$f":"IF(E736<>\"\",VLOOKUP(CONCATENATE(C736,E736),Dato!$A$4:$I$218,7,0),\"\")","v":""},null,""]
[null,null,null,{"$f":"IF(C737=\"\",\"\",VLOOKUP(C737,Tabla_Regional[],3,0))","v":""},null,{"$f":"IF(E737<>\"\",VLOOKUP(CONCATENATE(C737,E737),Dato!$A$4:$I$218,7,0),\"\")","v":""},null,""]
[null,null,null,{"$f":"IF(C738=\"\",\"\",VLOOKUP(C738,Tabla_Regional[],3,0))","v":""},null,{"$f":"IF(E738<>\"\",VLOOKUP(CONCATENATE(C738,E738),Dato!$A$4:$I$218,7,0),\"\")","v":""},null,""]
[null,null,null,{"$f":"IF(C739=\"\",\"\",VLOOKUP(C739,Tabla_Regional[],3,0))","v":""},null,{"$f":"IF(E739<>\"\",VLOOKUP(CONCATENATE(C739,E739),Dato!$A$4:$I$218,7,0),\"\")","v":""},null,""]
[null,null,null,{"$f":"IF(C740=\"\",\"\",VLOOKUP(C740,Tabla_Regional[],3,0))","v":""},null,{"$f":"IF(E740<>\"\",VLOOKUP(CONCATENATE(C740,E740),Dato!$A$4:$I$218,7,0),\"\")","v":""},null,""]
[null,null,null,{"$f":"IF(C741=\"\",\"\",VLOOKUP(C741,Tabla_Regional[],3,0))","v":""},null,{"$f":"IF(E741<>\"\",VLOOKUP(CONCATENATE(C741,E741),Dato!$A$4:$I$218,7,0),\"\")","v":""},null,""]
[null,null,null,{"$f":"IF(C742=\"\",\"\",VLOOKUP(C742,Tabla_Regional[],3,0))","v":""},null,{"$f":"IF(E742<>\"\",VLOOKUP(CONCATENATE(C742,E742),Dato!$A$4:$I$218,7,0),\"\")","v":""},null,""]
[null,null,null,{"$f":"IF(C743=\"\",\"\",VLOOKUP(C743,Tabla_Regional[],3,0))","v":""},null,{"$f":"IF(E743<>\"\",VLOOKUP(CONCATENATE(C743,E743),Dato!$A$4:$I$218,7,0),\"\")","v":""},null,""]
[null,null,null,{"$f":"IF(C744=\"\",\"\",VLOOKUP(C744,Tabla_Regional[],3,0))","v":""},null,{"$f":"IF(E744<>\"\",VLOOKUP(CONCATENATE(C744,E744),Dato!$A$4:$I$218,7,0),\"\")","v":""},null,""]
[null,null,null,{"$f":"IF(C745=\"\",\"\",VLOOKUP(C745,Tabla_Regional[],3,0))","v":""},null,{"$f":"IF(E745<>\"\",VLOOKUP(CONCATENATE(C745,E745),Dato!$A$4:$I$218,7,0),\"\")","v":""},null,""]
[null,null,null,{"$f":"IF(C746=\"\",\"\",VLOOKUP(C746,Tabla_Regional[],3,0))","v":""},null,{"$f":"IF(E746<>\"\",VLOOKUP(CONCATENATE(C746,E746),Dato!$A$4:$I$218,7,0),\"\")","v":""},null,""]
[null,null,null,{"$f":"IF(C747=\"\",\"\",VLOOKUP(C747,Tabla_Regional[],3,0))","v":""},null,{"$f":"IF(E747<>\"\",VLOOKUP(CONCATENATE(C747,E747),Dato!$A$4:$I$218,7,0),\"\")","v":""},null,""]
[null,null,null,{"$f":"IF(C748=\"\",\"\",VLOOKUP(C748,Tabla_Regional[],3,0))","v":""},null,{"$f":"IF(E748<>\"\",VLOOKUP(CONCATENATE(C748,E748),Dato!$A$4:$I$218,7,0),\"\")","v":""},null,""]
[null,null,null,{"$f":"IF(C749=\"\",\"\",VLOOKUP(C749,Tabla_Regional[],3,0))","v":""},null,{"$f":"IF(E749<>\"\",VLOOKUP(CONCATENATE(C749,E749),Dato!$A$4:$I$218,7,0),\"\")","v":""},null,""]
[null,null,null,{"$f":"IF(C750=\"\",\"\",VLOOKUP(C750,Tabla_Regional[],3,0))","v":""},null,{"$f":"IF(E750<>\"\",VLOOKUP(CONCATENATE(C750,E750),Dato!$A$4:$I$218,7,0),\"\")","v":""},null,""]
[null,null,null,{"$f":"IF(C751=\"\",\"\",VLOOKUP(C751,Tabla_Regional[],3,0))","v":""},null,{"$f":"IF(E751<>\"\",VLOOKUP(CONCATENATE(C751,E751),Dato!$A$4:$I$218,7,0),\"\")","v":""},null,""]
[null,null,null,{"$f":"IF(C752=\"\",\"\",VLOOKUP(C752,Tabla_Regional[],3,0))","v":""},null,{"$f":"IF(E752<>\"\",VLOOKUP(CONCATENATE(C752,E752),Dato!$A$4:$I$218,7,0),\"\")","v":""},null,""]
[null,null,null,{"$f":"IF(C753=\"\",\"\",VLOOKUP(C753,Tabla_Regional[],3,0))","v":""},null,{"$f":"IF(E753<>\"\",VLOOKUP(CONCATENATE(C753,E753),Dato!$A$4:$I$218,7,0),\"\")","v":""},null,""]
[null,null,null,{"$f":"IF(C754=\"\",\"\",VLOOKUP(C754,Tabla_Regional[],3,0))","v":""},null,{"$f":"IF(E754<>\"\",VLOOKUP(CONCATENATE(C754,E754),Dato!$A$4:$I$218,7,0),\"\")","v":""},null,""]
[null,null,null,{"$f":"IF(C755=\"\",\"\",VLOOKUP(C755,Tabla_Regional[],3,0))","v":""},null,{"$f":"IF(E755<>\"\",VLOOKUP(CONCATENATE(C755,E755),Dato!$A$4:$I$218,7,0),\"\")","v":""},null,""]
[null,null,null,{"$f":"IF(C756=\"\",\"\",VLOOKUP(C756,Tabla_Regional[],3,0))","v":""},null,{"$f":"IF(E756<>\"\",VLOOKUP(CONCATENATE(C756,E756),Dato!$A$4:$I$218,7,0),\"\")","v":""},null,""]
[null,null,null,{"$f":"IF(C757=\"\",\"\",VLOOKUP(C757,Tabla_Regional[],3,0))","v":""},null,{"$f":"IF(E757<>\"\",VLOOKUP(CONCATENATE(C757,E757),Dato!$A$4:$I$218,7,0),\"\")","v":""},null,""]
[null,null,null,{"$f":"IF(C758=\"\",\"\",VLOOKUP(C758,Tabla_Regional[],3,0))","v":""},null,{"$f":"IF(E758<>\"\",VLOOKUP(CONCATENATE(C758,E758),Dato!$A$4:$I$218,7,0),\"\")","v":""},null,""]
[null,null,null,{"$f":"IF(C759=\"\",\"\",VLOOKUP(C759,Tabla_Regional[],3,0))","v":""},null,{"$f":"IF(E759<>\"\",VLOOKUP(CONCATENATE(C759,E759),Dato!$A$4:$I$218,7,0),\"\")","v":""},null,""]
[null,null,null,{"$f":"IF(C760=\"\",\"\",VLOOKUP(C760,Tabla_Regional[],3,0))","v":""},null,{"$f":"IF(E760<>\"\",VLOOKUP(CONCATENATE(C760,E760),Dato!$A$4:$I$218,7,0),\"\")","v":""},null,""]
[null,null,null,{"$f":"IF(C761=\"\",\"\",VLOOKUP(C761,Tabla_Regional[],3,0))","v":""},null,{"$f":"IF(E761<>\"\",VLOOKUP(CONCATENATE(C761,E761),Dato!$A$4:$I$218,7,0),\"\")","v":""},null,""]
[null,null,null,{"$f":"IF(C762=\"\",\"\",VLOOKUP(C762,Tabla_Regional[],3,0))","v":""},null,{"$f":"IF(E762<>\"\",VLOOKUP(CONCATENATE(C762,E762),Dato!$A$4:$I$218,7,0),\"\")","v":""},null,""]
[null,null,null,{"$f":"IF(C763=\"\",\"\",VLOOKUP(C763,Tabla_Regional[],3,0))","v":""},null,{"$f":"IF(E763<>\"\",VLOOKUP(CONCATENATE(C763,E763),Dato!$A$4:$I$218,7,0),\"\")","v":""},null,""]
[null,null,null,{"$f":"IF(C764=\"\",\"\",VLOOKUP(C764,Tabla_Regional[],3,0))","v":""},null,{"$f":"IF(E764<>\"\",VLOOKUP(CONCATENATE(C764,E764),Dato!$A$4:$I$218,7,0),\"\")","v":""},null,""]
[null,null,null,{"$f":"IF(C765=\"\",\"\",VLOOKUP(C765,Tabla_Regional[],3,0))","v":""},null,{"$f":"IF(E765<>\"\",VLOOKUP(CONCATENATE(C765,E765),Dato!$A$4:$I$218,7,0),\"\")","v":""},null,""]
[null,null,null,{"$f":"IF(C766=\"\",\"\",VLOOKUP(C766,Tabla_Regional[],3,0))","v":""},null,{"$f":"IF(E766<>\"\",VLOOKUP(CONCATENATE(C766,E766),Dato!$A$4:$I$218,7,0),\"\")","v":""},null,""]
[null,null,null,{"$f":"IF(C767=\"\",\"\",VLOOKUP(C767,Tabla_Regional[],3,0))","v":""},null,{"$f":"IF(E767<>\"\",VLOOKUP(CONCATENATE(C767,E767),Dato!$A$4:$I$218,7,0),\"\")","v":""},null,""]
[null,null,null,{"$f":"IF(C768=\"\",\"\",VLOOKUP(C768,Tabla_Regional[],3,0))","v":""},null,{"$f":"IF(E768<>\"\",VLOOKUP(CONCATENATE(C768,E768),Dato!$A$4:$I$218,7,0),\"\")","v":""},null,""]
[null,null,null,{"$f":"IF(C769=\"\",\"\",VLOOKUP(C769,Tabla_Regional[],3,0))","v":""},null,{"$f":"IF(E769<>\"\",VLOOKUP(CONCATENATE(C769,E769),Dato!$A$4:$I$218,7,0),\"\")","v":""},null,""]
[null,null,null,{"$f":"IF(C770=\"\",\"\",VLOOKUP(C770,Tabla_Regional[],3,0))","v":""},null,{"$f":"IF(E770<>\"\",VLOOKUP(CONCATENATE(C770,E770),Dato!$A$4:$I$218,7,0),\"\")","v":""},null,""]
[null,null,null,{"$f":"IF(C771=\"\",\"\",VLOOKUP(C771,Tabla_Regional[],3,0))","v":""},null,{"$f":"IF(E771<>\"\",VLOOKUP(CONCATENATE(C771,E771),Dato!$A$4:$I$218,7,0),\"\")","v":""},null,""]
[null,null,null,{"$f":"IF(C772=\"\",\"\",VLOOKUP(C772,Tabla_Regional[],3,0))","v":""},null,{"$f":"IF(E772<>\"\",VLOOKUP(CONCATENATE(C772,E772),Dato!$A$4:$I$218,7,0),\"\")","v":""},null,""]
[null,null,null,{"$f":"IF(C773=\"\",\"\",VLOOKUP(C773,Tabla_Regional[],3,0))","v":""},null,{"$f":"IF(E773<>\"\",VLOOKUP(CONCATENATE(C773,E773),Dato!$A$4:$I$218,7,0),\"\")","v":""},null,""]
[null,null,null,{"$f":"IF(C774=\"\",\"\",VLOOKUP(C774,Tabla_Regional[],3,0))","v":""},null,{"$f":"IF(E774<>\"\",VLOOKUP(CONCATENATE(C774,E774),Dato!$A$4:$I$218,7,0),\"\")","v":""},null,""]
[null,null,null,{"$f":"IF(C775=\"\",\"\",VLOOKUP(C775,Tabla_Regional[],3,0))","v":""},null,{"$f":"IF(E775<>\"\",VLOOKUP(CONCATENATE(C775,E775),Dato!$A$4:$I$218,7,0),\"\")","v":""},null,""]
[null,null,null,{"$f":"IF(C776=\"\",\"\",VLOOKUP(C776,Tabla_Regional[],3,0))","v":""},null,{"$f":"IF(E776<>\"\",VLOOKUP(CONCATENATE(C776,E776),Dato!$A$4:$I$218,7,0),\"\")","v":""},null,""]
[null,null,null,{"$f":"IF(C777=\"\",\"\",VLOOKUP(C777,Tabla_Regional[],3,0))","v":""},null,{"$f":"IF(E777<>\"\",VLOOKUP(CONCATENATE(C777,E777),Dato!$A$4:$I$218,7,0),\"\")","v":""},null,""]
[null,null,null,{"$f":"IF(C778=\"\",\"\",VLOOKUP(C778,Tabla_Regional[],3,0))","v":""},null,{"$f":"IF(E778<>\"\",VLOOKUP(CONCATENATE(C778,E778),Dato!$A$4:$I$218,7,0),\"\")","v":""},null,""]
[null,null,null,{"$f":"IF(C779=\"\",\"\",VLOOKUP(C779,Tabla_Regional[],3,0))","v":""},null,{"$f":"IF(E779<>\"\",VLOOKUP(CONCATENATE(C779,E779),Dato!$A$4:$I$218,7,0),\"\")","v":""},null,""]
[null,null,null,{"$f":"IF(C780=\"\",\"\",VLOOKUP(C780,Tabla_Regional[],3,0))","v":""},null,{"$f":"IF(E780<>\"\",VLOOKUP(CONCATENATE(C780,E780),Dato!$A$4:$I$218,7,0),\"\")","v":""},null,{"$f":"IF(G780<>\"\",VLOOKUP(CONCATENATE(C780,E780,G780),czmuni,7,0),\"\")","v":""}]
[null,null,null,{"$f":"IF(C781=\"\",\"\",VLOOKUP(C781,Tabla_Regional[],3,0))","v":""},null,{"$f":"IF(E781<>\"\",VLOOKUP(CONCATENATE(C781,E781),Dato!$A$4:$I$218,7,0),\"\")","v":""},null,""]
[null,null,null,{"$f":"IF(C782=\"\",\"\",VLOOKUP(C782,Tabla_Regional[],3,0))","v":""},null,{"$f":"IF(E782<>\"\",VLOOKUP(CONCATENATE(C782,E782),Dato!$A$4:$I$218,7,0),\"\")","v":""},null,""]
[null,null,null,{"$f":"IF(C783=\"\",\"\",VLOOKUP(C783,Tabla_Regional[],3,0))","v":""},null,{"$f":"IF(E783<>\"\",VLOOKUP(CONCATENATE(C783,E783),Dato!$A$4:$I$218,7,0),\"\")","v":""},null,""]
[null,null,null,{"$f":"IF(C784=\"\",\"\",VLOOKUP(C784,Tabla_Regional[],3,0))","v":""},null,{"$f":"IF(E784<>\"\",VLOOKUP(CONCATENATE(C784,E784),Dato!$A$4:$I$218,7,0),\"\")","v":""},null,""]
[null,null,null,{"$f":"IF(C785=\"\",\"\",VLOOKUP(C785,Tabla_Regional[],3,0))","v":""},null,{"$f":"IF(E785<>\"\",VLOOKUP(CONCATENATE(C785,E785),Dato!$A$4:$I$218,7,0),\"\")","v":""},null,""]
[null,null,null,{"$f":"IF(C786=\"\",\"\",VLOOKUP(C786,Tabla_Regional[],3,0))","v":""},null,{"$f":"IF(E786<>\"\",VLOOKUP(CONCATENATE(C786,E786),Dato!$A$4:$I$218,7,0),\"\")","v":""},null,""]
[null,null,null,{"$f":"IF(C787=\"\",\"\",VLOOKUP(C787,Tabla_Regional[],3,0))","v":""},null,{"$f":"IF(E787<>\"\",VLOOKUP(CONCATENATE(C787,E787),Dato!$A$4:$I$218,7,0),\"\")","v":""},null,""]
[null,null,null,{"$f":"IF(C788=\"\",\"\",VLOOKUP(C788,Tabla_Regional[],3,0))","v":""},null,{"$f":"IF(E788<>\"\",VLOOKUP(CONCATENATE(C788,E788),Dato!$A$4:$I$218,7,0),\"\")","v":""},null,""]
[null,null,null,{"$f":"IF(C789=\"\",\"\",VLOOKUP(C789,Tabla_Regional[],3,0))","v":""},null,{"$f":"IF(E789<>\"\",VLOOKUP(CONCATENATE(C789,E789),Dato!$A$4:$I$218,7,0),\"\")","v":""},null,""]
[null,null,null,{"$f":"IF(C790=\"\",\"\",VLOOKUP(C790,Tabla_Regional[],3,0))","v":""},null,{"$f":"IF(E790<>\"\",VLOOKUP(CONCATENATE(C790,E790),Dato!$A$4:$I$218,7,0),\"\")","v":""},null,""]
[null,null,null,{"$f":"IF(C791=\"\",\"\",VLOOKUP(C791,Tabla_Regional[],3,0))","v":""},null,{"$f":"IF(E791<>\"\",VLOOKUP(CONCATENATE(C791,E791),Dato!$A$4:$I$218,7,0),\"\")","v":""},null,""]
[null,null,null,{"$f":"IF(C792=\"\",\"\",VLOOKUP(C792,Tabla_Regional[],3,0))","v":""},null,{"$f":"IF(E792<>\"\",VLOOKUP(CONCATENATE(C792,E792),Dato!$A$4:$I$218,7,0),\"\")","v":""},null,""]
[null,null,null,{"$f":"IF(C793=\"\",\"\",VLOOKUP(C793,Tabla_Regional[],3,0))","v":""},null,{"$f":"IF(E793<>\"\",VLOOKUP(CONCATENATE(C793,E793),Dato!$A$4:$I$218,7,0),\"\")","v":""},null,""]
[null,null,null,{"$f":"IF(C794=\"\",\"\",VLOOKUP(C794,Tabla_Regional[],3,0))","v":""},null,{"$f":"IF(E794<>\"\",VLOOKUP(CONCATENATE(C794,E794),Dato!$A$4:$I$218,7,0),\"\")","v":""},null,""]
[null,null,null,{"$f":"IF(C795=\"\",\"\",VLOOKUP(C795,Tabla_Regional[],3,0))","v":""},null,{"$f":"IF(E795<>\"\",VLOOKUP(CONCATENATE(C795,E795),Dato!$A$4:$I$218,7,0),\"\")","v":""},null,""]
[null,null,null,{"$f":"IF(C796=\"\",\"\",VLOOKUP(C796,Tabla_Regional[],3,0))","v":""},null,{"$f":"IF(E796<>\"\",VLOOKUP(CONCATENATE(C796,E796),Dato!$A$4:$I$218,7,0),\"\")","v":""},null,""]
[null,null,null,{"$f":"IF(C797=\"\",\"\",VLOOKUP(C797,Tabla_Regional[],3,0))","v":""},null,{"$f":"IF(E797<>\"\",VLOOKUP(CONCATENATE(C797,E797),Dato!$A$4:$I$218,7,0),\"\")","v":""},null,""]
[null,null,null,{"$f":"IF(C798=\"\",\"\",VLOOKUP(C798,Tabla_Regional[],3,0))","v":""},null,{"$f":"IF(E798<>\"\",VLOOKUP(CONCATENATE(C798,E798),Dato!$A$4:$I$218,7,0),\"\")","v":""},null,""]
[null,null,null,{"$f":"IF(C799=\"\",\"\",VLOOKUP(C799,Tabla_Regional[],3,0))","v":""},null,{"$f":"IF(E799<>\"\",VLOOKUP(CONCATENATE(C799,E799),Dato!$A$4:$I$218,7,0),\"\")","v":""},null,""]
[null,null,null,{"$f":"IF(C800=\"\",\"\",VLOOKUP(C800,Tabla_Regional[],3,0))","v":""},null,{"$f":"IF(E800<>\"\",VLOOKUP(CONCATENATE(C800,E800),Dato!$A$4:$I$218,7,0),\"\")","v":""},null,""]
[null,null,null,{"$f":"IF(C801=\"\",\"\",VLOOKUP(C801,Tabla_Regional[],3,0))","v":""},null,{"$f":"IF(E801<>\"\",VLOOKUP(CONCATENATE(C801,E801),Dato!$A$4:$I$218,7,0),\"\")","v":""},null,""]
[null,null,null,{"$f":"IF(C802=\"\",\"\",VLOOKUP(C802,Tabla_Regional[],3,0))","v":""},null,{"$f":"IF(E802<>\"\",VLOOKUP(CONCATENATE(C802,E802),Dato!$A$4:$I$218,7,0),\"\")","v":""},null,""]
[null,null,null,{"$f":"IF(C803=\"\",\"\",VLOOKUP(C803,Tabla_Regional[],3,0))","v":""},null,{"$f":"IF(E803<>\"\",VLOOKUP(CONCATENATE(C803,E803),Dato!$A$4:$I$218,7,0),\"\")","v":""},null,""]
[null,null,null,{"$f":"IF(C804=\"\",\"\",VLOOKUP(C804,Tabla_Regional[],3,0))","v":""},null,{"$f":"IF(E804<>\"\",VLOOKUP(CONCATENATE(C804,E804),Dato!$A$4:$I$218,7,0),\"\")","v":""},null,""]
[null,null,null,{"$f":"IF(C805=\"\",\"\",VLOOKUP(C805,Tabla_Regional[],3,0))","v":""},null,{"$f":"IF(E805<>\"\",VLOOKUP(CONCATENATE(C805,E805),Dato!$A$4:$I$218,7,0),\"\")","v":""},null,""]
[null,null,null,{"$f":"IF(C806=\"\",\"\",VLOOKUP(C806,Tabla_Regional[],3,0))","v":""},null,{"$f":"IF(E806<>\"\",VLOOKUP(CONCATENATE(C806,E806),Dato!$A$4:$I$218,7,0),\"\")","v":""},null,""]
[null,null,null,{"$f":"IF(C807=\"\",\"\",VLOOKUP(C807,Tabla_Regional[],3,0))","v":""},null,{"$f":"IF(E807<>\"\",VLOOKUP(CONCATENATE(C807,E807),Dato!$A$4:$I$218,7,0),\"\")","v":""},null,""]
[null,null,null,{"$f":"IF(C808=\"\",\"\",VLOOKUP(C808,Tabla_Regional[],3,0))","v":""},null,{"$f":"IF(E808<>\"\",VLOOKUP(CONCATENATE(C808,E808),Dato!$A$4:$I$218,7,0),\"\")","v":""},null,""]
[null,null,null,{"$f":"IF(C809=\"\",\"\",VLOOKUP(C809,Tabla_Regional[],3,0))","v":""},null,{"$f":"IF(E809<>\"\",VLOOKUP(CONCATENATE(C809,E809),Dato!$A$4:$I$218,7,0),\"\")","v":""},null,""]
[null,null,null,{"$f":"IF(C810=\"\",\"\",VLOOKUP(C810,Tabla_Regional[],3,0))","v":""},null,{"$f":"IF(E810<>\"\",VLOOKUP(CONCATENATE(C810,E810),Dato!$A$4:$I$218,7,0),\"\")","v":""},null,""]
[null,null,null,{"$f":"IF(C811=\"\",\"\",VLOOKUP(C811,Tabla_Regional[],3,0))","v":""},null,{"$f":"IF(E811<>\"\",VLOOKUP(CONCATENATE(C811,E811),Dato!$A$4:$I$218,7,0),\"\")","v":""},null,""]
[null,null,null,{"$f":"IF(C812=\"\",\"\",VLOOKUP(C812,Tabla_Regional[],3,0))","v":""},null,{"$f":"IF(E812<>\"\",VLOOKUP(CONCATENATE(C812,E812),Dato!$A$4:$I$218,7,0),\"\")","v":""},null,""]
[null,null,null,{"$f":"IF(C813=\"\",\"\",VLOOKUP(C813,Tabla_Regional[],3,0))","v":""},null,{"$f":"IF(E813<>\"\",VLOOKUP(CONCATENATE(C813,E813),Dato!$A$4:$I$218,7,0),\"\")","v":""},null,""]
[null,null,null,{"$f":"IF(C814=\"\",\"\",VLOOKUP(C814,Tabla_Regional[],3,0))","v":""},null,{"$f":"IF(E814<>\"\",VLOOKUP(CONCATENATE(C814,E814),Dato!$A$4:$I$218,7,0),\"\")","v":""},null,""]
[null,null,null,{"$f":"IF(C815=\"\",\"\",VLOOKUP(C815,Tabla_Regional[],3,0))","v":""},null,{"$f":"IF(E815<>\"\",VLOOKUP(CONCATENATE(C815,E815),Dato!$A$4:$I$218,7,0),\"\")","v":""},null,""]
[null,null,null,{"$f":"IF(C816=\"\",\"\",VLOOKUP(C816,Tabla_Regional[],3,0))","v":""},null,{"$f":"IF(E816<>\"\",VLOOKUP(CONCATENATE(C816,E816),Dato!$A$4:$I$218,7,0),\"\")","v":""},null,""]
[null,null,null,{"$f":"IF(C817=\"\",\"\",VLOOKUP(C817,Tabla_Regional[],3,0))","v":""},null,{"$f":"IF(E817<>\"\",VLOOKUP(CONCATENATE(C817,E817),Dato!$A$4:$I$218,7,0),\"\")","v":""},null,""]
[null,null,null,{"$f":"IF(C818=\"\",\"\",VLOOKUP(C818,Tabla_Regional[],3,0))","v":""},null,{"$f":"IF(E818<>\"\",VLOOKUP(CONCATENATE(C818,E818),Dato!$A$4:$I$218,7,0),\"\")","v":""},null,""]
[null,null,null,{"$f":"IF(C819=\"\",\"\",VLOOKUP(C819,Tabla_Regional[],3,0))","v":""},null,{"$f":"IF(E819<>\"\",VLOOKUP(CONCATENATE(C819,E819),Dato!$A$4:$I$218,7,0),\"\")","v":""},null,""]
[null,null,null,{"$f":"IF(C820=\"\",\"\",VLOOKUP(C820,Tabla_Regional[],3,0))","v":""},null,{"$f":"IF(E820<>\"\",VLOOKUP(CONCATENATE(C820,E820),Dato!$A$4:$I$218,7,0),\"\")","v":""},null,""]
[null,null,null,{"$f":"IF(C821=\"\",\"\",VLOOKUP(C821,Tabla_Regional[],3,0))","v":""},null,{"$f":"IF(E821<>\"\",VLOOKUP(CONCATENATE(C821,E821),Dato!$A$4:$I$218,7,0),\"\")","v":""},null,""]
[null,null,null,{"$f":"IF(C822=\"\",\"\",VLOOKUP(C822,Tabla_Regional[],3,0))","v":""},null,{"$f":"IF(E822<>\"\",VLOOKUP(CONCATENATE(C822,E822),Dato!$A$4:$I$218,7,0),\"\")","v":""},null,""]
[null,null,null,{"$f":"IF(C823=\"\",\"\",VLOOKUP(C823,Tabla_Regional[],3,0))","v":""},null,{"$f":"IF(E823<>\"\",VLOOKUP(CONCATENATE(C823,E823),Dato!$A$4:$I$218,7,0),\"\")","v":""},null,""]
[null,null,null,{"$f":"IF(C824=\"\",\"\",VLOOKUP(C824,Tabla_Regional[],3,0))","v":""},null,{"$f":"IF(E824<>\"\",VLOOKUP(CONCATENATE(C824,E824),Dato!$A$4:$I$218,7,0),\"\")","v":""},null,""]
[null,null,null,{"$f":"IF(C825=\"\",\"\",VLOOKUP(C825,Tabla_Regional[],3,0))","v":""},null,{"$f":"IF(E825<>\"\",VLOOKUP(CONCATENATE(C825,E825),Dato!$A$4:$I$218,7,0),\"\")","v":""},null,""]
[null,null,null,{"$f":"IF(C826=\"\",\"\",VLOOKUP(C826,Tabla_Regional[],3,0))","v":""},null,{"$f":"IF(E826<>\"\",VLOOKUP(CONCATENATE(C826,E826),Dato!$A$4:$I$218,7,0),\"\")","v":""},null,""]
[null,null,null,{"$f":"IF(C827=\"\",\"\",VLOOKUP(C827,Tabla_Regional[],3,0))","v":""},null,{"$f":"IF(E827<>\"\",VLOOKUP(CONCATENATE(C827,E827),Dato!$A$4:$I$218,7,0),\"\")","v":""},null,""]
[null,null,null,{"$f":"IF(C828=\"\",\"\",VLOOKUP(C828,Tabla_Regional[],3,0))","v":""},null,{"$f":"IF(E828<>\"\",VLOOKUP(CONCATENATE(C828,E828),Dato!$A$4:$I$218,7,0),\"\")","v":""},null,""]
[null,null,null,{"$f":"IF(C829=\"\",\"\",VLOOKUP(C829,Tabla_Regional[],3,0))","v":""},null,{"$f":"IF(E829<>\"\",VLOOKUP(CONCATENATE(C829,E829),Dato!$A$4:$I$218,7,0),\"\")","v":""},null,""]
[null,null,null,{"$f":"IF(C830=\"\",\"\",VLOOKUP(C830,Tabla_Regional[],3,0))","v":""},null,{"$f":"IF(E830<>\"\",VLOOKUP(CONCATENATE(C830,E830),Dato!$A$4:$I$218,7,0),\"\")","v":""},null,""]
[null,null,null,{"$f":"IF(C831=\"\",\"\",VLOOKUP(C831,Tabla_Regional[],3,0))","v":""},null,{"$f":"IF(E831<>\"\",VLOOKUP(CONCATENATE(C831,E831),Dato!$A$4:$I$218,7,0),\"\")","v":""},null,""]
[null,null,null,{"$f":"IF(C832=\"\",\"\",VLOOKUP(C832,Tabla_Regional[],3,0))","v":""},null,{"$f":"IF(E832<>\"\",VLOOKUP(CONCATENATE(C832,E832),Dato!$A$4:$I$218,7,0),\"\")","v":""},null,""]
[null,null,null,{"$f":"IF(C833=\"\",\"\",VLOOKUP(C833,Tabla_Regional[],3,0))","v":""},null,{"$f":"IF(E833<>\"\",VLOOKUP(CONCATENATE(C833,E833),Dato!$A$4:$I$218,7,0),\"\")","v":""},null,""]
[null,null,null,{"$f":"IF(C834=\"\",\"\",VLOOKUP(C834,Tabla_Regional[],3,0))","v":""},null,{"$f":"IF(E834<>\"\",VLOOKUP(CONCATENATE(C834,E834),Dato!$A$4:$I$218,7,0),\"\")","v":""},null,""]
[null,null,null,{"$f":"IF(C835=\"\",\"\",VLOOKUP(C835,Tabla_Regional[],3,0))","v":""},null,{"$f":"IF(E835<>\"\",VLOOKUP(CONCATENATE(C835,E835),Dato!$A$4:$I$218,7,0),\"\")","v":""},null,""]
[null,null,null,{"$f":"IF(C836=\"\",\"\",VLOOKUP(C836,Tabla_Regional[],3,0))","v":""},null,{"$f":"IF(E836<>\"\",VLOOKUP(CONCATENATE(C836,E836),Dato!$A$4:$I$218,7,0),\"\")","v":""},null,""]
[null,null,null,{"$f":"IF(C837=\"\",\"\",VLOOKUP(C837,Tabla_Regional[],3,0))","v":""},null,{"$f":"IF(E837<>\"\",VLOOKUP(CONCATENATE(C837,E837),Dato!$A$4:$I$218,7,0),\"\")","v":""},null,""]
[null,null,null,{"$f":"IF(C838=\"\",\"\",VLOOKUP(C838,Tabla_Regional[],3,0))","v":""},null,{"$f":"IF(E838<>\"\",VLOOKUP(CONCATENATE(C838,E838),Dato!$A$4:$I$218,7,0),\"\")","v":""},null,""]
[null,null,null,{"$f":"IF(C839=\"\",\"\",VLOOKUP(C839,Tabla_Regional[],3,0))","v":""},null,{"$f":"IF(E839<>\"\",VLOOKUP(CONCATENATE(C839,E839),Dato!$A$4:$I$218,7,0),\"\")","v":""},null,""]
[null,null,null,{"$f":"IF(C840=\"\",\"\",VLOOKUP(C840,Tabla_Regional[],3,0))","v":""},null,{"$f":"IF(E840<>\"\",VLOOKUP(CONCATENATE(C840,E840),Dato!$A$4:$I$218,7,0),\"\")","v":""},null,""]
[null,null,null,{"$f":"IF(C841=\"\",\"\",VLOOKUP(C841,Tabla_Regional[],3,0))","v":""},null,{"$f":"IF(E841<>\"\",VLOOKUP(CONCATENATE(C841,E841),Dato!$A$4:$I$218,7,0),\"\")","v":""},null,""]
[null,null,null,{"$f":"IF(C842=\"\",\"\",VLOOKUP(C842,Tabla_Regional[],3,0))","v":""},null,{"$f":"IF(E842<>\"\",VLOOKUP(CONCATENATE(C842,E842),Dato!$A$4:$I$218,7,0),\"\")","v":""},null,""]
[null,null,null,{"$f":"IF(C843=\"\",\"\",VLOOKUP(C843,Tabla_Regional[],3,0))","v":""},null,{"$f":"IF(E843<>\"\",VLOOKUP(CONCATENATE(C843,E843),Dato!$A$4:$I$218,7,0),\"\")","v":""},null,""]
[null,null,null,{"$f":"IF(C844=\"\",\"\",VLOOKUP(C844,Tabla_Regional[],3,0))","v":""},null,{"$f":"IF(E844<>\"\",VLOOKUP(CONCATENATE(C844,E844),Dato!$A$4:$I$218,7,0),\"\")","v":""},null,{"$f":"IF(G844<>\"\",VLOOKUP(CONCATENATE(C844,E844,G844),czmuni,7,0),\"\")","v":""}]
[null,null,null,{"$f":"IF(C845=\"\",\"\",VLOOKUP(C845,Tabla_Regional[],3,0))","v":""},null,{"$f":"IF(E845<>\"\",VLOOKUP(CONCATENATE(C845,E845),Dato!$A$4:$I$218,7,0),\"\")","v":""},null,""]
[null,null,null,{"$f":"IF(C846=\"\",\"\",VLOOKUP(C846,Tabla_Regional[],3,0))","v":""},null,{"$f":"IF(E846<>\"\",VLOOKUP(CONCATENATE(C846,E846),Dato!$A$4:$I$218,7,0),\"\")","v":""},null,""]
[null,null,null,{"$f":"IF(C847=\"\",\"\",VLOOKUP(C847,Tabla_Regional[],3,0))","v":""},null,{"$f":"IF(E847<>\"\",VLOOKUP(CONCATENATE(C847,E847),Dato!$A$4:$I$218,7,0),\"\")","v":""},null,""]
[null,null,null,{"$f":"IF(C848=\"\",\"\",VLOOKUP(C848,Tabla_Regional[],3,0))","v":""},null,{"$f":"IF(E848<>\"\",VLOOKUP(CONCATENATE(C848,E848),Dato!$A$4:$I$218,7,0),\"\")","v":""},null,""]
[null,null,null,{"$f":"IF(C849=\"\",\"\",VLOOKUP(C849,Tabla_Regional[],3,0))","v":""},null,{"$f":"IF(E849<>\"\",VLOOKUP(CONCATENATE(C849,E849),Dato!$A$4:$I$218,7,0),\"\")","v":""},null,""]
[null,null,null,{"$f":"IF(C850=\"\",\"\",VLOOKUP(C850,Tabla_Regional[],3,0))","v":""},null,{"$f":"IF(E850<>\"\",VLOOKUP(CONCATENATE(C850,E850),Dato!$A$4:$I$218,7,0),\"\")","v":""},null,""]
[null,null,null,{"$f":"IF(C851=\"\",\"\",VLOOKUP(C851,Tabla_Regional[],3,0))","v":""},null,{"$f":"IF(E851<>\"\",VLOOKUP(CONCATENATE(C851,E851),Dato!$A$4:$I$218,7,0),\"\")","v":""},null,""]
[null,null,null,{"$f":"IF(C852=\"\",\"\",VLOOKUP(C852,Tabla_Regional[],3,0))","v":""},null,{"$f":"IF(E852<>\"\",VLOOKUP(CONCATENATE(C852,E852),Dato!$A$4:$I$218,7,0),\"\")","v":""},null,""]
[null,null,null,{"$f":"IF(C853=\"\",\"\",VLOOKUP(C853,Tabla_Regional[],3,0))","v":""},null,{"$f":"IF(E853<>\"\",VLOOKUP(CONCATENATE(C853,E853),Dato!$A$4:$I$218,7,0),\"\")","v":""},null,""]
[null,null,null,{"$f":"IF(C854=\"\",\"\",VLOOKUP(C854,Tabla_Regional[],3,0))","v":""},null,{"$f":"IF(E854<>\"\",VLOOKUP(CONCATENATE(C854,E854),Dato!$A$4:$I$218,7,0),\"\")","v":""},null,""]
[null,null,null,{"$f":"IF(C855=\"\",\"\",VLOOKUP(C855,Tabla_Regional[],3,0))","v":""},null,{"$f":"IF(E855<>\"\",VLOOKUP(CONCATENATE(C855,E855),Dato!$A$4:$I$218,7,0),\"\")","v":""},null,""]
[null,null,null,{"$f":"IF(C856=\"\",\"\",VLOOKUP(C856,Tabla_Regional[],3,0))","v":""},null,{"$f":"IF(E856<>\"\",VLOOKUP(CONCATENATE(C856,E856),Dato!$A$4:$I$218,7,0),\"\")","v":""},null,""]
[null,null,null,{"$f":"IF(C857=\"\",\"\",VLOOKUP(C857,Tabla_Regional[],3,0))","v":""},null,{"$f":"IF(E857<>\"\",VLOOKUP(CONCATENATE(C857,E857),Dato!$A$4:$I$218,7,0),\"\")","v":""},null,""]
[null,null,null,{"$f":"IF(C858=\"\",\"\",VLOOKUP(C858,Tabla_Regional[],3,0))","v":""},null,{"$f":"IF(E858<>\"\",VLOOKUP(CONCATENATE(C858,E858),Dato!$A$4:$I$218,7,0),\"\")","v":""},null,""]
[null,null,null,{"$f":"IF(C859=\"\",\"\",VLOOKUP(C859,Tabla_Regional[],3,0))","v":""},null,{"$f":"IF(E859<>\"\",VLOOKUP(CONCATENATE(C859,E859),Dato!$A$4:$I$218,7,0),\"\")","v":""},null,""]
[null,null,null,{"$f":"IF(C860=\"\",\"\",VLOOKUP(C860,Tabla_Regional[],3,0))","v":""},null,{"$f":"IF(E860<>\"\",VLOOKUP(CONCATENATE(C860,E860),Dato!$A$4:$I$218,7,0),\"\")","v":""},null,""]
[null,null,null,{"$f":"IF(C861=\"\",\"\",VLOOKUP(C861,Tabla_Regional[],3,0))","v":""},null,{"$f":"IF(E861<>\"\",VLOOKUP(CONCATENATE(C861,E861),Dato!$A$4:$I$218,7,0),\"\")","v":""},null,""]
[null,null,null,{"$f":"IF(C862=\"\",\"\",VLOOKUP(C862,Tabla_Regional[],3,0))","v":""},null,{"$f":"IF(E862<>\"\",VLOOKUP(CONCATENATE(C862,E862),Dato!$A$4:$I$218,7,0),\"\")","v":""},null,""]
[null,null,null,{"$f":"IF(C863=\"\",\"\",VLOOKUP(C863,Tabla_Regional[],3,0))","v":""},null,{"$f":"IF(E863<>\"\",VLOOKUP(CONCATENATE(C863,E863),Dato!$A$4:$I$218,7,0),\"\")","v":""},null,""]
[null,null,null,{"$f":"IF(C864=\"\",\"\",VLOOKUP(C864,Tabla_Regional[],3,0))","v":""},null,{"$f":"IF(E864<>\"\",VLOOKUP(CONCATENATE(C864,E864),Dato!$A$4:$I$218,7,0),\"\")","v":""},null,""]
[null,null,null,{"$f":"IF(C865=\"\",\"\",VLOOKUP(C865,Tabla_Regional[],3,0))","v":""},null,{"$f":"IF(E865<>\"\",VLOOKUP(CONCATENATE(C865,E865),Dato!$A$4:$I$218,7,0),\"\")","v":""},null,""]
[null,null,null,{"$f":"IF(C866=\"\",\"\",VLOOKUP(C866,Tabla_Regional[],3,0))","v":""},null,{"$f":"IF(E866<>\"\",VLOOKUP(CONCATENATE(C866,E866),Dato!$A$4:$I$218,7,0),\"\")","v":""},null,""]
[null,null,null,{"$f":"IF(C867=\"\",\"\",VLOOKUP(C867,Tabla_Regional[],3,0))","v":""},null,{"$f":"IF(E867<>\"\",VLOOKUP(CONCATENATE(C867,E867),Dato!$A$4:$I$218,7,0),\"\")","v":""},null,""]
[null,null,null,{"$f":"IF(C868=\"\",\"\",VLOOKUP(C868,Tabla_Regional[],3,0))","v":""},null,{"$f":"IF(E868<>\"\",VLOOKUP(CONCATENATE(C868,E868),Dato!$A$4:$I$218,7,0),\"\")","v":""},null,""]
[null,null,null,{"$f":"IF(C869=\"\",\"\",VLOOKUP(C869,Tabla_Regional[],3,0))","v":""},null,{"$f":"IF(E869<>\"\",VLOOKUP(CONCATENATE(C869,E869),Dato!$A$4:$I$218,7,0),\"\")","v":""},null,""]
[null,null,null,{"$f":"IF(C870=\"\",\"\",VLOOKUP(C870,Tabla_Regional[],3,0))","v":""},null,{"$f":"IF(E870<>\"\",VLOOKUP(CONCATENATE(C870,E870),Dato!$A$4:$I$218,7,0),\"\")","v":""},null,""]
[null,null,null,{"$f":"IF(C871=\"\",\"\",VLOOKUP(C871,Tabla_Regional[],3,0))","v":""},null,{"$f":"IF(E871<>\"\",VLOOKUP(CONCATENATE(C871,E871),Dato!$A$4:$I$218,7,0),\"\")","v":""},null,""]
[null,null,null,{"$f":"IF(C872=\"\",\"\",VLOOKUP(C872,Tabla_Regional[],3,0))","v":""},null,{"$f":"IF(E872<>\"\",VLOOKUP(CONCATENATE(C872,E872),Dato!$A$4:$I$218,7,0),\"\")","v":""},null,""]
[null,null,null,{"$f":"IF(C873=\"\",\"\",VLOOKUP(C873,Tabla_Regional[],3,0))","v":""},null,{"$f":"IF(E873<>\"\",VLOOKUP(CONCATENATE(C873,E873),Dato!$A$4:$I$218,7,0),\"\")","v":""},null,""]
[null,null,null,{"$f":"IF(C874=\"\",\"\",VLOOKUP(C874,Tabla_Regional[],3,0))","v":""},null,{"$f":"IF(E874<>\"\",VLOOKUP(CONCATENATE(C874,E874),Dato!$A$4:$I$218,7,0),\"\")","v":""},null,""]
[null,null,null,{"$f":"IF(C875=\"\",\"\",VLOOKUP(C875,Tabla_Regional[],3,0))","v":""},null,{"$f":"IF(E875<>\"\",VLOOKUP(CONCATENATE(C875,E875),Dato!$A$4:$I$218,7,0),\"\")","v":""},null,""]
[null,null,null,{"$f":"IF(C876=\"\",\"\",VLOOKUP(C876,Tabla_Regional[],3,0))","v":""},null,{"$f":"IF(E876<>\"\",VLOOKUP(CONCATENATE(C876,E876),Dato!$A$4:$I$218,7,0),\"\")","v":""},null,""]
[null,null,null,{"$f":"IF(C877=\"\",\"\",VLOOKUP(C877,Tabla_Regional[],3,0))","v":""},null,{"$f":"IF(E877<>\"\",VLOOKUP(CONCATENATE(C877,E877),Dato!$A$4:$I$218,7,0),\"\")","v":""},null,""]
[null,null,null,{"$f":"IF(C878=\"\",\"\",VLOOKUP(C878,Tabla_Regional[],3,0))","v":""},null,{"$f":"IF(E878<>\"\",VLOOKUP(CONCATENATE(C878,E878),Dato!$A$4:$I$218,7,0),\"\")","v":""},null,""]
[null,null,null,{"$f":"IF(C879=\"\",\"\",VLOOKUP(C879,Tabla_Regional[],3,0))","v":""},null,{"$f":"IF(E879<>\"\",VLOOKUP(CONCATENATE(C879,E879),Dato!$A$4:$I$218,7,0),\"\")","v":""},null,""]
[null,null,null,{"$f":"IF(C880=\"\",\"\",VLOOKUP(C880,Tabla_Regional[],3,0))","v":""},null,{"$f":"IF(E880<>\"\",VLOOKUP(CONCATENATE(C880,E880),Dato!$A$4:$I$218,7,0),\"\")","v":""},null,""]
[null,null,null,{"$f":"IF(C881=\"\",\"\",VLOOKUP(C881,Tabla_Regional[],3,0))","v":""},null,{"$f":"IF(E881<>\"\",VLOOKUP(CONCATENATE(C881,E881),Dato!$A$4:$I$218,7,0),\"\")","v":""},null,""]
[null,null,null,{"$f":"IF(C882=\"\",\"\",VLOOKUP(C882,Tabla_Regional[],3,0))","v":""},null,{"$f":"IF(E882<>\"\",VLOOKUP(CONCATENATE(C882,E882),Dato!$A$4:$I$218,7,0),\"\")","v":""},null,""]
[null,null,null,{"$f":"IF(C883=\"\",\"\",VLOOKUP(C883,Tabla_Regional[],3,0))","v":""},null,{"$f":"IF(E883<>\"\",VLOOKUP(CONCATENATE(C883,E883),Dato!$A$4:$I$218,7,0),\"\")","v":""},null,""]
[null,null,null,{"$f":"IF(C884=\"\",\"\",VLOOKUP(C884,Tabla_Regional[],3,0))","v":""},null,{"$f":"IF(E884<>\"\",VLOOKUP(CONCATENATE(C884,E884),Dato!$A$4:$I$218,7,0),\"\")","v":""},null,""]
[null,null,null,{"$f":"IF(C885=\"\",\"\",VLOOKUP(C885,Tabla_Regional[],3,0))","v":""},null,{"$f":"IF(E885<>\"\",VLOOKUP(CONCATENATE(C885,E885),Dato!$A$4:$I$218,7,0),\"\")","v":""},null,""]
[null,null,null,{"$f":"IF(C886=\"\",\"\",VLOOKUP(C886,Tabla_Regional[],3,0))","v":""},null,{"$f":"IF(E886<>\"\",VLOOKUP(CONCATENATE(C886,E886),Dato!$A$4:$I$218,7,0),\"\")","v":""},null,""]
[null,null,null,{"$f":"IF(C887=\"\",\"\",VLOOKUP(C887,Tabla_Regional[],3,0))","v":""},null,{"$f":"IF(E887<>\"\",VLOOKUP(CONCATENATE(C887,E887),Dato!$A$4:$I$218,7,0),\"\")","v":""},null,""]
[null,null,null,{"$f":"IF(C888=\"\",\"\",VLOOKUP(C888,Tabla_Regional[],3,0))","v":""},null,{"$f":"IF(E888<>\"\",VLOOKUP(CONCATENATE(C888,E888),Dato!$A$4:$I$218,7,0),\"\")","v":""},null,""]
[null,null,null,{"$f":"IF(C889=\"\",\"\",VLOOKUP(C889,Tabla_Regional[],3,0))","v":""},null,{"$f":"IF(E889<>\"\",VLOOKUP(CONCATENATE(C889,E889),Dato!$A$4:$I$218,7,0),\"\")","v":""},null,""]
[null,null,null,{"$f":"IF(C890=\"\",\"\",VLOOKUP(C890,Tabla_Regional[],3,0))","v":""},null,{"$f":"IF(E890<>\"\",VLOOKUP(CONCATENATE(C890,E890),Dato!$A$4:$I$218,7,0),\"\")","v":""},null,""]
[null,null,null,{"$f":"IF(C891=\"\",\"\",VLOOKUP(C891,Tabla_Regional[],3,0))","v":""},null,{"$f":"IF(E891<>\"\",VLOOKUP(CONCATENATE(C891,E891),Dato!$A$4:$I$218,7,0),\"\")","v":""},null,""]
[null,null,null,{"$f":"IF(C892=\"\",\"\",VLOOKUP(C892,Tabla_Regional[],3,0))","v":""},null,{"$f":"IF(E892<>\"\",VLOOKUP(CONCATENATE(C892,E892),Dato!$A$4:$I$218,7,0),\"\")","v":""},null,""]
[null,null,null,{"$f":"IF(C893=\"\",\"\",VLOOKUP(C893,Tabla_Regional[],3,0))","v":""},null,{"$f":"IF(E893<>\"\",VLOOKUP(CONCATENATE(C893,E893),Dato!$A$4:$I$218,7,0),\"\")","v":""},null,""]
[null,null,null,{"$f":"IF(C894=\"\",\"\",VLOOKUP(C894,Tabla_Regional[],3,0))","v":""},null,{"$f":"IF(E894<>\"\",VLOOKUP(CONCATENATE(C894,E894),Dato!$A$4:$I$218,7,0),\"\")","v":""},null,""]
[null,null,null,{"$f":"IF(C895=\"\",\"\",VLOOKUP(C895,Tabla_Regional[],3,0))","v":""},null,{"$f":"IF(E895<>\"\",VLOOKUP(CONCATENATE(C895,E895),Dato!$A$4:$I$218,7,0),\"\")","v":""},null,""]
[null,null,null,{"$f":"IF(C896=\"\",\"\",VLOOKUP(C896,Tabla_Regional[],3,0))","v":""},null,{"$f":"IF(E896<>\"\",VLOOKUP(CONCATENATE(C896,E896),Dato!$A$4:$I$218,7,0),\"\")","v":""},null,""]
[null,null,null,{"$f":"IF(C897=\"\",\"\",VLOOKUP(C897,Tabla_Regional[],3,0))","v":""},null,{"$f":"IF(E897<>\"\",VLOOKUP(CONCATENATE(C897,E897),Dato!$A$4:$I$218,7,0),\"\")","v":""},null,""]
[null,null,null,{"$f":"IF(C898=\"\",\"\",VLOOKUP(C898,Tabla_Regional[],3,0))","v":""},null,{"$f":"IF(E898<>\"\",VLOOKUP(CONCATENATE(C898,E898),Dato!$A$4:$I$218,7,0),\"\")","v":""},null,""]
[null,null,null,{"$f":"IF(C899=\"\",\"\",VLOOKUP(C899,Tabla_Regional[],3,0))","v":""},null,{"$f":"IF(E899<>\"\",VLOOKUP(CONCATENATE(C899,E899),Dato!$A$4:$I$218,7,0),\"\")","v":""},null,""]
[null,null,null,{"$f":"IF(C900=\"\",\"\",VLOOKUP(C900,Tabla_Regional[],3,0))","v":""},null,{"$f":"IF(E900<>\"\",VLOOKUP(CONCATENATE(C900,E900),Dato!$A$4:$I$218,7,0),\"\")","v":""},null,""]
[null,null,null,{"$f":"IF(C901=\"\",\"\",VLOOKUP(C901,Tabla_Regional[],3,0))","v":""},null,{"$f":"IF(E901<>\"\",VLOOKUP(CONCATENATE(C901,E901),Dato!$A$4:$I$218,7,0),\"\")","v":""},null,""]
[null,null,null,{"$f":"IF(C902=\"\",\"\",VLOOKUP(C902,Tabla_Regional[],3,0))","v":""},null,{"$f":"IF(E902<>\"\",VLOOKUP(CONCATENATE(C902,E902),Dato!$A$4:$I$218,7,0),\"\")","v":""},null,""]
[null,null,null,{"$f":"IF(C903=\"\",\"\",VLOOKUP(C903,Tabla_Regional[],3,0))","v":""},null,{"$f":"IF(E903<>\"\",VLOOKUP(CONCATENATE(C903,E903),Dato!$A$4:$I$218,7,0),\"\")","v":""},null,""]
[null,null,null,{"$f":"IF(C904=\"\",\"\",VLOOKUP(C904,Tabla_Regional[],3,0))","v":""},null,{"$f":"IF(E904<>\"\",VLOOKUP(CONCATENATE(C904,E904),Dato!$A$4:$I$218,7,0),\"\")","v":""},null,""]
[null,null,null,{"$f":"IF(C905=\"\",\"\",VLOOKUP(C905,Tabla_Regional[],3,0))","v":""},null,{"$f":"IF(E905<>\"\",VLOOKUP(CONCATENATE(C905,E905),Dato!$A$4:$I$218,7,0),\"\")","v":""},null,""]
[null,null,null,{"$f":"IF(C906=\"\",\"\",VLOOKUP(C906,Tabla_Regional[],3,0))","v":""},null,{"$f":"IF(E906<>\"\",VLOOKUP(CONCATENATE(C906,E906),Dato!$A$4:$I$218,7,0),\"\")","v":""},null,""]
[null,null,null,{"$f":"IF(C907=\"\",\"\",VLOOKUP(C907,Tabla_Regional[],3,0))","v":""},null,{"$f":"IF(E907<>\"\",VLOOKUP(CONCATENATE(C907,E907),Dato!$A$4:$I$218,7,0),\"\")","v":""},null,""]
[null,null,null,{"$f":"IF(C908=\"\",\"\",VLOOKUP(C908,Tabla_Regional[],3,0))","v":""},null,{"$f":"IF(E908<>\"\",VLOOKUP(CONCATENATE(C908,E908),Dato!$A$4:$I$218,7,0),\"\")","v":""},null,{"$f":"IF(G908<>\"\",VLOOKUP(CONCATENATE(C908,E908,G908),czmuni,7,0),\"\")","v":""}]
[null,null,null,{"$f":"IF(C909=\"\",\"\",VLOOKUP(C909,Tabla_Regional[],3,0))","v":""},null,{"$f":"IF(E909<>\"\",VLOOKUP(CONCATENATE(C909,E909),Dato!$A$4:$I$218,7,0),\"\")","v":""},null,""]
[null,null,null,{"$f":"IF(C910=\"\",\"\",VLOOKUP(C910,Tabla_Regional[],3,0))","v":""},null,{"$f":"IF(E910<>\"\",VLOOKUP(CONCATENATE(C910,E910),Dato!$A$4:$I$218,7,0),\"\")","v":""},null,""]
[null,null,null,{"$f":"IF(C911=\"\",\"\",VLOOKUP(C911,Tabla_Regional[],3,0))","v":""},null,{"$f":"IF(E911<>\"\",VLOOKUP(CONCATENATE(C911,E911),Dato!$A$4:$I$218,7,0),\"\")","v":""},null,""]
[null,null,null,{"$f":"IF(C912=\"\",\"\",VLOOKUP(C912,Tabla_Regional[],3,0))","v":""},null,{"$f":"IF(E912<>\"\",VLOOKUP(CONCATENATE(C912,E912),Dato!$A$4:$I$218,7,0),\"\")","v":""},null,""]
[null,null,null,{"$f":"IF(C913=\"\",\"\",VLOOKUP(C913,Tabla_Regional[],3,0))","v":""},null,{"$f":"IF(E913<>\"\",VLOOKUP(CONCATENATE(C913,E913),Dato!$A$4:$I$218,7,0),\"\")","v":""},null,""]
[null,null,null,{"$f":"IF(C914=\"\",\"\",VLOOKUP(C914,Tabla_Regional[],3,0))","v":""},null,{"$f":"IF(E914<>\"\",VLOOKUP(CONCATENATE(C914,E914),Dato!$A$4:$I$218,7,0),\"\")","v":""},null,""]
[null,null,null,{"$f":"IF(C915=\"\",\"\",VLOOKUP(C915,Tabla_Regional[],3,0))","v":""},null,{"$f":"IF(E915<>\"\",VLOOKUP(CONCATENATE(C915,E915),Dato!$A$4:$I$218,7,0),\"\")","v":""},null,""]
[null,null,null,{"$f":"IF(C916=\"\",\"\",VLOOKUP(C916,Tabla_Regional[],3,0))","v":""},null,{"$f":"IF(E916<>\"\",VLOOKUP(CONCATENATE(C916,E916),Dato!$A$4:$I$218,7,0),\"\")","v":""},null,""]
[null,null,null,{"$f":"IF(C917=\"\",\"\",VLOOKUP(C917,Tabla_Regional[],3,0))","v":""},null,{"$f":"IF(E917<>\"\",VLOOKUP(CONCATENATE(C917,E917),Dato!$A$4:$I$218,7,0),\"\")","v":""},null,""]
[null,null,null,{"$f":"IF(C918=\"\",\"\",VLOOKUP(C918,Tabla_Regional[],3,0))","v":""},null,{"$f":"IF(E918<>\"\",VLOOKUP(CONCATENATE(C918,E918),Dato!$A$4:$I$218,7,0),\"\")","v":""},null,""]
[null,null,null,{"$f":"IF(C919=\"\",\"\",VLOOKUP(C919,Tabla_Regional[],3,0))","v":""},null,{"$f":"IF(E919<>\"\",VLOOKUP(CONCATENATE(C919,E919),Dato!$A$4:$I$218,7,0),\"\")","v":""},null,""]
[null,null,null,{"$f":"IF(C920=\"\",\"\",VLOOKUP(C920,Tabla_Regional[],3,0))","v":""},null,{"$f":"IF(E920<>\"\",VLOOKUP(CONCATENATE(C920,E920),Dato!$A$4:$I$218,7,0),\"\")","v":""},null,""]
[null,null,null,{"$f":"IF(C921=\"\",\"\",VLOOKUP(C921,Tabla_Regional[],3,0))","v":""},null,{"$f":"IF(E921<>\"\",VLOOKUP(CONCATENATE(C921,E921),Dato!$A$4:$I$218,7,0),\"\")","v":""},null,""]
[null,null,null,{"$f":"IF(C922=\"\",\"\",VLOOKUP(C922,Tabla_Regional[],3,0))","v":""},null,{"$f":"IF(E922<>\"\",VLOOKUP(CONCATENATE(C922,E922),Dato!$A$4:$I$218,7,0),\"\")","v":""},null,""]
[null,null,null,{"$f":"IF(C923=\"\",\"\",VLOOKUP(C923,Tabla_Regional[],3,0))","v":""},null,{"$f":"IF(E923<>\"\",VLOOKUP(CONCATENATE(C923,E923),Dato!$A$4:$I$218,7,0),\"\")","v":""},null,""]
[null,null,null,{"$f":"IF(C924=\"\",\"\",VLOOKUP(C924,Tabla_Regional[],3,0))","v":""},null,{"$f":"IF(E924<>\"\",VLOOKUP(CONCATENATE(C924,E924),Dato!$A$4:$I$218,7,0),\"\")","v":""},null,""]
[null,null,null,{"$f":"IF(C925=\"\",\"\",VLOOKUP(C925,Tabla_Regional[],3,0))","v":""},null,{"$f":"IF(E925<>\"\",VLOOKUP(CONCATENATE(C925,E925),Dato!$A$4:$I$218,7,0),\"\")","v":""},null,""]
[null,null,null,{"$f":"IF(C926=\"\",\"\",VLOOKUP(C926,Tabla_Regional[],3,0))","v":""},null,{"$f":"IF(E926<>\"\",VLOOKUP(CONCATENATE(C926,E926),Dato!$A$4:$I$218,7,0),\"\")","v":""},null,""]
[null,null,null,{"$f":"IF(C927=\"\",\"\",VLOOKUP(C927,Tabla_Regional[],3,0))","v":""},null,{"$f":"IF(E927<>\"\",VLOOKUP(CONCATENATE(C927,E927),Dato!$A$4:$I$218,7,0),\"\")","v":""},null,""]
[null,null,null,{"$f":"IF(C928=\"\",\"\",VLOOKUP(C928,Tabla_Regional[],3,0))","v":""},null,{"$f":"IF(E928<>\"\",VLOOKUP(CONCATENATE(C928,E928),Dato!$A$4:$I$218,7,0),\"\")","v":""},null,""]
[null,null,null,{"$f":"IF(C929=\"\",\"\",VLOOKUP(C929,Tabla_Regional[],3,0))","v":""},null,{"$f":"IF(E929<>\"\",VLOOKUP(CONCATENATE(C929,E929),Dato!$A$4:$I$218,7,0),\"\")","v":""},null,""]
[null,null,null,{"$f":"IF(C930=\"\",\"\",VLOOKUP(C930,Tabla_Regional[],3,0))","v":""},null,{"$f":"IF(E930<>\"\",VLOOKUP(CONCATENATE(C930,E930),Dato!$A$4:$I$218,7,0),\"\")","v":""},null,""]
[null,null,null,{"$f":"IF(C931=\"\",\"\",VLOOKUP(C931,Tabla_Regional[],3,0))","v":""},null,{"$f":"IF(E931<>\"\",VLOOKUP(CONCATENATE(C931,E931),Dato!$A$4:$I$218,7,0),\"\")","v":""},null,""]
[null,null,null,{"$f":"IF(C932=\"\",\"\",VLOOKUP(C932,Tabla_Regional[],3,0))","v":""},null,{"$f":"IF(E932<>\"\",VLOOKUP(CONCATENATE(C932,E932),Dato!$A$4:$I$218,7,0),\"\")","v":""},null,""]
[null,null,null,{"$f":"IF(C933=\"\",\"\",VLOOKUP(C933,Tabla_Regional[],3,0))","v":""},null,{"$f":"IF(E933<>\"\",VLOOKUP(CONCATENATE(C933,E933),Dato!$A$4:$I$218,7,0),\"\")","v":""},null,""]
[null,null,null,{"$f":"IF(C934=\"\",\"\",VLOOKUP(C934,Tabla_Regional[],3,0))","v":""},null,{"$f":"IF(E934<>\"\",VLOOKUP(CONCATENATE(C934,E934),Dato!$A$4:$I$218,7,0),\"\")","v":""},null,""]
[null,null,null,{"$f":"IF(C935=\"\",\"\",VLOOKUP(C935,Tabla_Regional[],3,0))","v":""},null,{"$f":"IF(E935<>\"\",VLOOKUP(CONCATENATE(C935,E935),Dato!$A$4:$I$218,7,0),\"\")","v":""},null,""]
[null,null,null,{"$f":"IF(C936=\"\",\"\",VLOOKUP(C936,Tabla_Regional[],3,0))","v":""},null,{"$f":"IF(E936<>\"\",VLOOKUP(CONCATENATE(C936,E936),Dato!$A$4:$I$218,7,0),\"\")","v":""},null,""]
[null,null,null,{"$f":"IF(C937=\"\",\"\",VLOOKUP(C937,Tabla_Regional[],3,0))","v":""},null,{"$f":"IF(E937<>\"\",VLOOKUP(CONCATENATE(C937,E937),Dato!$A$4:$I$218,7,0),\"\")","v":""},null,""]
[null,null,null,{"$f":"IF(C938=\"\",\"\",VLOOKUP(C938,Tabla_Regional[],3,0))","v":""},null,{"$f":"IF(E938<>\"\",VLOOKUP(CONCATENATE(C938,E938),Dato!$A$4:$I$218,7,0),\"\")","v":""},null,""]
[null,null,null,{"$f":"IF(C939=\"\",\"\",VLOOKUP(C939,Tabla_Regional[],3,0))","v":""},null,{"$f":"IF(E939<>\"\",VLOOKUP(CONCATENATE(C939,E939),Dato!$A$4:$I$218,7,0),\"\")","v":""},null,""]
[null,null,null,{"$f":"IF(C940=\"\",\"\",VLOOKUP(C940,Tabla_Regional[],3,0))","v":""},null,{"$f":"IF(E940<>\"\",VLOOKUP(CONCATENATE(C940,E940),Dato!$A$4:$I$218,7,0),\"\")","v":""},null,""]
[null,null,null,{"$f":"IF(C941=\"\",\"\",VLOOKUP(C941,Tabla_Regional[],3,0))","v":""},null,{"$f":"IF(E941<>\"\",VLOOKUP(CONCATENATE(C941,E941),Dato!$A$4:$I$218,7,0),\"\")","v":""},null,""]
[null,null,null,{"$f":"IF(C942=\"\",\"\",VLOOKUP(C942,Tabla_Regional[],3,0))","v":""},null,{"$f":"IF(E942<>\"\",VLOOKUP(CONCATENATE(C942,E942),Dato!$A$4:$I$218,7,0),\"\")","v":""},null,""]
[null,null,null,{"$f":"IF(C943=\"\",\"\",VLOOKUP(C943,Tabla_Regional[],3,0))","v":""},null,{"$f":"IF(E943<>\"\",VLOOKUP(CONCATENATE(C943,E943),Dato!$A$4:$I$218,7,0),\"\")","v":""},null,""]
[null,null,null,{"$f":"IF(C944=\"\",\"\",VLOOKUP(C944,Tabla_Regional[],3,0))","v":""},null,{"$f":"IF(E944<>\"\",VLOOKUP(CONCATENATE(C944,E944),Dato!$A$4:$I$218,7,0),\"\")","v":""},null,""]
[null,null,null,{"$f":"IF(C945=\"\",\"\",VLOOKUP(C945,Tabla_Regional[],3,0))","v":""},null,{"$f":"IF(E945<>\"\",VLOOKUP(CONCATENATE(C945,E945),Dato!$A$4:$I$218,7,0),\"\")","v":""},null,""]
[null,null,null,{"$f":"IF(C946=\"\",\"\",VLOOKUP(C946,Tabla_Regional[],3,0))","v":""},null,{"$f":"IF(E946<>\"\",VLOOKUP(CONCATENATE(C946,E946),Dato!$A$4:$I$218,7,0),\"\")","v":""},null,""]
[null,null,null,{"$f":"IF(C947=\"\",\"\",VLOOKUP(C947,Tabla_Regional[],3,0))","v":""},null,{"$f":"IF(E947<>\"\",VLOOKUP(CONCATENATE(C947,E947),Dato!$A$4:$I$218,7,0),\"\")","v":""},null,""]
[null,null,null,{"$f":"IF(C948=\"\",\"\",VLOOKUP(C948,Tabla_Regional[],3,0))","v":""},null,{"$f":"IF(E948<>\"\",VLOOKUP(CONCATENATE(C948,E948),Dato!$A$4:$I$218,7,0),\"\")","v":""},null,""]
[null,null,null,{"$f":"IF(C949=\"\",\"\",VLOOKUP(C949,Tabla_Regional[],3,0))","v":""},null,{"$f":"IF(E949<>\"\",VLOOKUP(CONCATENATE(C949,E949),Dato!$A$4:$I$218,7,0),\"\")","v":""},null,""]
[null,null,null,{"$f":"IF(C950=\"\",\"\",VLOOKUP(C950,Tabla_Regional[],3,0))","v":""},null,{"$f":"IF(E950<>\"\",VLOOKUP(CONCATENATE(C950,E950),Dato!$A$4:$I$218,7,0),\"\")","v":""},null,""]
[null,null,null,{"$f":"IF(C951=\"\",\"\",VLOOKUP(C951,Tabla_Regional[],3,0))","v":""},null,{"$f":"IF(E951<>\"\",VLOOKUP(CONCATENATE(C951,E951),Dato!$A$4:$I$218,7,0),\"\")","v":""},null,""]
[null,null,null,{"$f":"IF(C952=\"\",\"\",VLOOKUP(C952,Tabla_Regional[],3,0))","v":""},null,{"$f":"IF(E952<>\"\",VLOOKUP(CONCATENATE(C952,E952),Dato!$A$4:$I$218,7,0),\"\")","v":""},null,""]
[null,null,null,{"$f":"IF(C953=\"\",\"\",VLOOKUP(C953,Tabla_Regional[],3,0))","v":""},null,{"$f":"IF(E953<>\"\",VLOOKUP(CONCATENATE(C953,E953),Dato!$A$4:$I$218,7,0),\"\")","v":""},null,""]
[null,null,null,{"$f":"IF(C954=\"\",\"\",VLOOKUP(C954,Tabla_Regional[],3,0))","v":""},null,{"$f":"IF(E954<>\"\",VLOOKUP(CONCATENATE(C954,E954),Dato!$A$4:$I$218,7,0),\"\")","v":""},null,""]
[null,null,null,{"$f":"IF(C955=\"\",\"\",VLOOKUP(C955,Tabla_Regional[],3,0))","v":""},null,{"$f":"IF(E955<>\"\",VLOOKUP(CONCATENATE(C955,E955),Dato!$A$4:$I$218,7,0),\"\")","v":""},null,""]
[null,null,null,{"$f":"IF(C956=\"\",\"\",VLOOKUP(C956,Tabla_Regional[],3,0))","v":""},null,{"$f":"IF(E956<>\"\",VLOOKUP(CONCATENATE(C956,E956),Dato!$A$4:$I$218,7,0),\"\")","v":""},null,""]
[null,null,null,{"$f":"IF(C957=\"\",\"\",VLOOKUP(C957,Tabla_Regional[],3,0))","v":""},null,{"$f":"IF(E957<>\"\",VLOOKUP(CONCATENATE(C957,E957),Dato!$A$4:$I$218,7,0),\"\")","v":""},null,""]
[null,null,null,{"$f":"IF(C958=\"\",\"\",VLOOKUP(C958,Tabla_Regional[],3,0))","v":""},null,{"$f":"IF(E958<>\"\",VLOOKUP(CONCATENATE(C958,E958),Dato!$A$4:$I$218,7,0),\"\")","v":""},null,""]
[null,null,null,{"$f":"IF(C959=\"\",\"\",VLOOKUP(C959,Tabla_Regional[],3,0))","v":""},null,{"$f":"IF(E959<>\"\",VLOOKUP(CONCATENATE(C959,E959),Dato!$A$4:$I$218,7,0),\"\")","v":""},null,""]
[null,null,null,{"$f":"IF(C960=\"\",\"\",VLOOKUP(C960,Tabla_Regional[],3,0))","v":""},null,{"$f":"IF(E960<>\"\",VLOOKUP(CONCATENATE(C960,E960),Dato!$A$4:$I$218,7,0),\"\")","v":""},null,""]
[null,null,null,{"$f":"IF(C961=\"\",\"\",VLOOKUP(C961,Tabla_Regional[],3,0))","v":""},null,{"$f":"IF(E961<>\"\",VLOOKUP(CONCATENATE(C961,E961),Dato!$A$4:$I$218,7,0),\"\")","v":""},null,""]
[null,null,null,{"$f":"IF(C962=\"\",\"\",VLOOKUP(C962,Tabla_Regional[],3,0))","v":""},null,{"$f":"IF(E962<>\"\",VLOOKUP(CONCATENATE(C962,E962),Dato!$A$4:$I$218,7,0),\"\")","v":""},null,""]
[null,null,null,{"$f":"IF(C963=\"\",\"\",VLOOKUP(C963,Tabla_Regional[],3,0))","v":""},null,{"$f":"IF(E963<>\"\",VLOOKUP(CONCATENATE(C963,E963),Dato!$A$4:$I$218,7,0),\"\")","v":""},null,""]
[null,null,null,{"$f":"IF(C964=\"\",\"\",VLOOKUP(C964,Tabla_Regional[],3,0))","v":""},null,{"$f":"IF(E964<>\"\",VLOOKUP(CONCATENATE(C964,E964),Dato!$A$4:$I$218,7,0),\"\")","v":""},null,""]
[null,null,null,{"$f":"IF(C965=\"\",\"\",VLOOKUP(C965,Tabla_Regional[],3,0))","v":""},null,{"$f":"IF(E965<>\"\",VLOOKUP(CONCATENATE(C965,E965),Dato!$A$4:$I$218,7,0),\"\")","v":""},null,""]
[null,null,null,{"$f":"IF(C966=\"\",\"\",VLOOKUP(C966,Tabla_Regional[],3,0))","v":""},null,{"$f":"IF(E966<>\"\",VLOOKUP(CONCATENATE(C966,E966),Dato!$A$4:$I$218,7,0),\"\")","v":""},null,""]
[null,null,null,{"$f":"IF(C967=\"\",\"\",VLOOKUP(C967,Tabla_Regional[],3,0))","v":""},null,{"$f":"IF(E967<>\"\",VLOOKUP(CONCATENATE(C967,E967),Dato!$A$4:$I$218,7,0),\"\")","v":""},null,""]
[null,null,null,{"$f":"IF(C968=\"\",\"\",VLOOKUP(C968,Tabla_Regional[],3,0))","v":""},null,{"$f":"IF(E968<>\"\",VLOOKUP(CONCATENATE(C968,E968),Dato!$A$4:$I$218,7,0),\"\")","v":""},null,""]
[null,null,null,{"$f":"IF(C969=\"\",\"\",VLOOKUP(C969,Tabla_Regional[],3,0))","v":""},null,{"$f":"IF(E969<>\"\",VLOOKUP(CONCATENATE(C969,E969),Dato!$A$4:$I$218,7,0),\"\")","v":""},null,""]
[null,null,null,{"$f":"IF(C970=\"\",\"\",VLOOKUP(C970,Tabla_Regional[],3,0))","v":""},null,{"$f":"IF(E970<>\"\",VLOOKUP(CONCATENATE(C970,E970),Dato!$A$4:$I$218,7,0),\"\")","v":""},null,""]
[null,null,null,{"$f":"IF(C971=\"\",\"\",VLOOKUP(C971,Tabla_Regional[],3,0))","v":""},null,{"$f":"IF(E971<>\"\",VLOOKUP(CONCATENATE(C971,E971),Dato!$A$4:$I$218,7,0),\"\")","v":""},null,""]
[null,null,null,{"$f":"IF(C972=\"\",\"\",VLOOKUP(C972,Tabla_Regional[],3,0))","v":""},null,{"$f":"IF(E972<>\"\",VLOOKUP(CONCATENATE(C972,E972),Dato!$A$4:$I$218,7,0),\"\")","v":""},null,{"$f":"IF(G972<>\"\",VLOOKUP(CONCATENATE(C972,E972,G972),czmuni,7,0),\"\")","v":""}]
[null,null,null,{"$f":"IF(C973=\"\",\"\",VLOOKUP(C973,Tabla_Regional[],3,0))","v":""},null,{"$f":"IF(E973<>\"\",VLOOKUP(CONCATENATE(C973,E973),Dato!$A$4:$I$218,7,0),\"\")","v":""},null,""]
[null,null,null,{"$f":"IF(C974=\"\",\"\",VLOOKUP(C974,Tabla_Regional[],3,0))","v":""},null,{"$f":"IF(E974<>\"\",VLOOKUP(CONCATENATE(C974,E974),Dato!$A$4:$I$218,7,0),\"\")","v":""},null,""]
[null,null,null,{"$f":"IF(C975=\"\",\"\",VLOOKUP(C975,Tabla_Regional[],3,0))","v":""},null,{"$f":"IF(E975<>\"\",VLOOKUP(CONCATENATE(C975,E975),Dato!$A$4:$I$218,7,0),\"\")","v":""},null,""]
[null,null,null,{"$f":"IF(C976=\"\",\"\",VLOOKUP(C976,Tabla_Regional[],3,0))","v":""},null,{"$f":"IF(E976<>\"\",VLOOKUP(CONCATENATE(C976,E976),Dato!$A$4:$I$218,7,0),\"\")","v":""},null,""]
[null,null,null,{"$f":"IF(C977=\"\",\"\",VLOOKUP(C977,Tabla_Regional[],3,0))","v":""},null,{"$f":"IF(E977<>\"\",VLOOKUP(CONCATENATE(C977,E977),Dato!$A$4:$I$218,7,0),\"\")","v":""},null,""]
[null,null,null,{"$f":"IF(C978=\"\",\"\",VLOOKUP(C978,Tabla_Regional[],3,0))","v":""},null,{"$f":"IF(E978<>\"\",VLOOKUP(CONCATENATE(C978,E978),Dato!$A$4:$I$218,7,0),\"\")","v":""},null,""]
[null,null,null,{"$f":"IF(C979=\"\",\"\",VLOOKUP(C979,Tabla_Regional[],3,0))","v":""},null,{"$f":"IF(E979<>\"\",VLOOKUP(CONCATENATE(C979,E979),Dato!$A$4:$I$218,7,0),\"\")","v":""},null,""]
[null,null,null,{"$f":"IF(C980=\"\",\"\",VLOOKUP(C980,Tabla_Regional[],3,0))","v":""},null,{"$f":"IF(E980<>\"\",VLOOKUP(CONCATENATE(C980,E980),Dato!$A$4:$I$218,7,0),\"\")","v":""},null,""]
[null,null,null,{"$f":"IF(C981=\"\",\"\",VLOOKUP(C981,Tabla_Regional[],3,0))","v":""},null,{"$f":"IF(E981<>\"\",VLOOKUP(CONCATENATE(C981,E981),Dato!$A$4:$I$218,7,0),\"\")","v":""},null,""]
[null,null,null,{"$f":"IF(C982=\"\",\"\",VLOOKUP(C982,Tabla_Regional[],3,0))","v":""},null,{"$f":"IF(E982<>\"\",VLOOKUP(CONCATENATE(C982,E982),Dato!$A$4:$I$218,7,0),\"\")","v":""},null,""]
[null,null,null,{"$f":"IF(C983=\"\",\"\",VLOOKUP(C983,Tabla_Regional[],3,0))","v":""},null,{"$f":"IF(E983<>\"\",VLOOKUP(CONCATENATE(C983,E983),Dato!$A$4:$I$218,7,0),\"\")","v":""},null,""]
[null,null,null,{"$f":"IF(C984=\"\",\"\",VLOOKUP(C984,Tabla_Regional[],3,0))","v":""},null,{"$f":"IF(E984<>\"\",VLOOKUP(CONCATENATE(C984,E984),Dato!$A$4:$I$218,7,0),\"\")","v":""},null,""]
[null,null,null,{"$f":"IF(C985=\"\",\"\",VLOOKUP(C985,Tabla_Regional[],3,0))","v":""},null,{"$f":"IF(E985<>\"\",VLOOKUP(CONCATENATE(C985,E985),Dato!$A$4:$I$218,7,0),\"\")","v":""},null,""]
[null,null,null,{"$f":"IF(C986=\"\",\"\",VLOOKUP(C986,Tabla_Regional[],3,0))","v":""},null,{"$f":"IF(E986<>\"\",VLOOKUP(CONCATENATE(C986,E986),Dato!$A$4:$I$218,7,0),\"\")","v":""},null,""]
[null,null,null,{"$f":"IF(C987=\"\",\"\",VLOOKUP(C987,Tabla_Regional[],3,0))","v":""},null,{"$f":"IF(E987<>\"\",VLOOKUP(CONCATENATE(C987,E987),Dato!$A$4:$I$218,7,0),\"\")","v":""},null,""]
[null,null,null,{"$f":"IF(C988=\"\",\"\",VLOOKUP(C988,Tabla_Regional[],3,0))","v":""},null,{"$f":"IF(E988<>\"\",VLOOKUP(CONCATENATE(C988,E988),Dato!$A$4:$I$218,7,0),\"\")","v":""},null,""]
[null,null,null,{"$f":"IF(C989=\"\",\"\",VLOOKUP(C989,Tabla_Regional[],3,0))","v":""},null,{"$f":"IF(E989<>\"\",VLOOKUP(CONCATENATE(C989,E989),Dato!$A$4:$I$218,7,0),\"\")","v":""},null,""]
[null,null,null,{"$f":"IF(C990=\"\",\"\",VLOOKUP(C990,Tabla_Regional[],3,0))","v":""},null,{"$f":"IF(E990<>\"\",VLOOKUP(CONCATENATE(C990,E990),Dato!$A$4:$I$218,7,0),\"\")","v":""},null,""]
[null,null,null,{"$f":"IF(C991=\"\",\"\",VLOOKUP(C991,Tabla_Regional[],3,0))","v":""},null,{"$f":"IF(E991<>\"\",VLOOKUP(CONCATENATE(C991,E991),Dato!$A$4:$I$218,7,0),\"\")","v":""},null,""]
[null,null,null,{"$f":"IF(C992=\"\",\"\",VLOOKUP(C992,Tabla_Regional[],3,0))","v":""},null,{"$f":"IF(E992<>\"\",VLOOKUP(CONCATENATE(C992,E992),Dato!$A$4:$I$218,7,0),\"\")","v":""},null,""]
[null,null,null,{"$f":"IF(C993=\"\",\"\",VLOOKUP(C993,Tabla_Regional[],3,0))","v":""},null,{"$f":"IF(E993<>\"\",VLOOKUP(CONCATENATE(C993,E993),Dato!$A$4:$I$218,7,0),\"\")","v":""},null,""]
[null,null,null,{"$f":"IF(C994=\"\",\"\",VLOOKUP(C994,Tabla_Regional[],3,0))","v":""},null,{"$f":"IF(E994<>\"\",VLOOKUP(CONCATENATE(C994,E994),Dato!$A$4:$I$218,7,0),\"\")","v":""},null,""]
[null,null,null,{"$f":"IF(C995=\"\",\"\",VLOOKUP(C995,Tabla_Regional[],3,0))","v":""},null,{"$f":"IF(E995<>\"\",VLOOKUP(CONCATENATE(C995,E995),Dato!$A$4:$I$218,7,0),\"\")","v":""},null,""]
[null,null,null,{"$f":"IF(C996=\"\",\"\",VLOOKUP(C996,Tabla_Regional[],3,0))","v":""},null,{"$f":"IF(E996<>\"\",VLOOKUP(CONCATENATE(C996,E996),Dato!$A$4:$I$218,7,0),\"\")","v":""},null,""]
[null,null,null,{"$f":"IF(C997=\"\",\"\",VLOOKUP(C997,Tabla_Regional[],3,0))","v":""},null,{"$f":"IF(E997<>\"\",VLOOKUP(CONCATENATE(C997,E997),Dato!$A$4:$I$218,7,0),\"\")","v":""},null,""]
[null,null,null,{"$f":"IF(C998=\"\",\"\",VLOOKUP(C998,Tabla_Regional[],3,0))","v":""},null,{"$f":"IF(E998<>\"\",VLOOKUP(CONCATENATE(C998,E998),Dato!$A$4:$I$218,7,0),\"\")","v":""},null,""]
[null,null,null,{"$f":"IF(C999=\"\",\"\",VLOOKUP(C999,Tabla_Regional[],3,0))","v":""},null,{"$f":"IF(E999<>\"\",VLOOKUP(CONCATENATE(C999,E999),Dato!$A$4:$I$218,7,0),\"\")","v":""},null,""]
[null,null,null,{"$f":"IF(C1000=\"\",\"\",VLOOKUP(C1000,Tabla_Regional[],3,0))","v":""},null,{"$f":"IF(E1000<>\"\",VLOOKUP(CONCATENATE(C1000,E1000),Dato!$A$4:$I$218,7,0),\"\")","v":""},null,""]
[null,null,null,{"$f":"IF(C1001=\"\",\"\",VLOOKUP(C1001,Tabla_Regional[],3,0))","v":""},null,{"$f":"IF(E1001<>\"\",VLOOKUP(CONCATENATE(C1001,E1001),Dato!$A$4:$I$218,7,0),\"\")","v":""},null,""]
[null,null,null,{"$f":"IF(C1002=\"\",\"\",VLOOKUP(C1002,Tabla_Regional[],3,0))","v":""},null,{"$f":"IF(E1002<>\"\",VLOOKUP(CONCATENATE(C1002,E1002),Dato!$A$4:$I$218,7,0),\"\")","v":""},null,""]
[null,null,null,{"$f":"IF(C1003=\"\",\"\",VLOOKUP(C1003,Tabla_Regional[],3,0))","v":""},null,{"$f":"IF(E1003<>\"\",VLOOKUP(CONCATENATE(C1003,E1003),Dato!$A$4:$I$218,7,0),\"\")","v":""},null,""]
[null,null,null,{"$f":"IF(C1004=\"\",\"\",VLOOKUP(C1004,Tabla_Regional[],3,0))","v":""},null,{"$f":"IF(E1004<>\"\",VLOOKUP(CONCATENATE(C1004,E1004),Dato!$A$4:$I$218,7,0),\"\")","v":""},null,""]
[null,null,null,{"$f":"IF(C1005=\"\",\"\",VLOOKUP(C1005,Tabla_Regional[],3,0))","v":""},null,{"$f":"IF(E1005<>\"\",VLOOKUP(CONCATENATE(C1005,E1005),Dato!$A$4:$I$218,7,0),\"\")","v":""},null,""]
[null,null,null,{"$f":"IF(C1006=\"\",\"\",VLOOKUP(C1006,Tabla_Regional[],3,0))","v":""},null,{"$f":"IF(E1006<>\"\",VLOOKUP(CONCATENATE(C1006,E1006),Dato!$A$4:$I$218,7,0),\"\")","v":""},null,""]
[null,null,null,{"$f":"IF(C1007=\"\",\"\",VLOOKUP(C1007,Tabla_Regional[],3,0))","v":""},null,{"$f":"IF(E1007<>\"\",VLOOKUP(CONCATENATE(C1007,E1007),Dato!$A$4:$I$218,7,0),\"\")","v":""},null,""]
[null,null,null,{"$f":"IF(C1008=\"\",\"\",VLOOKUP(C1008,Tabla_Regional[],3,0))","v":""},null,{"$f":"IF(E1008<>\"\",VLOOKUP(CONCATENATE(C1008,E1008),Dato!$A$4:$I$218,7,0),\"\")","v":""},null,""]
[null,null,null,{"$f":"IF(C1009=\"\",\"\",VLOOKUP(C1009,Tabla_Regional[],3,0))","v":""},null,{"$f":"IF(E1009<>\"\",VLOOKUP(CONCATENATE(C1009,E1009),Dato!$A$4:$I$218,7,0),\"\")","v":""},null,""]
[null,null,null,{"$f":"IF(C1010=\"\",\"\",VLOOKUP(C1010,Tabla_Regional[],3,0))","v":""},null,{"$f":"IF(E1010<>\"\",VLOOKUP(CONCATENATE(C1010,E1010),Dato!$A$4:$I$218,7,0),\"\")","v":""},null,""]
[null,null,null,{"$f":"IF(C1011=\"\",\"\",VLOOKUP(C1011,Tabla_Regional[],3,0))","v":""},null,{"$f":"IF(E1011<>\"\",VLOOKUP(CONCATENATE(C1011,E1011),Dato!$A$4:$I$218,7,0),\"\")","v":""},null,""]
[null,null,null,{"$f":"IF(C1012=\"\",\"\",VLOOKUP(C1012,Tabla_Regional[],3,0))","v":""},null,{"$f":"IF(E1012<>\"\",VLOOKUP(CONCATENATE(C1012,E1012),Dato!$A$4:$I$218,7,0),\"\")","v":""},null,""]
[null,null,null,{"$f":"IF(C1013=\"\",\"\",VLOOKUP(C1013,Tabla_Regional[],3,0))","v":""},null,{"$f":"IF(E1013<>\"\",VLOOKUP(CONCATENATE(C1013,E1013),Dato!$A$4:$I$218,7,0),\"\")","v":""},null,""]
[null,null,null,{"$f":"IF(C1014=\"\",\"\",VLOOKUP(C1014,Tabla_Regional[],3,0))","v":""},null,{"$f":"IF(E1014<>\"\",VLOOKUP(CONCATENATE(C1014,E1014),Dato!$A$4:$I$218,7,0),\"\")","v":""},null,""]
[null,null,null,{"$f":"IF(C1015=\"\",\"\",VLOOKUP(C1015,Tabla_Regional[],3,0))","v":""},null,{"$f":"IF(E1015<>\"\",VLOOKUP(CONCATENATE(C1015,E1015),Dato!$A$4:$I$218,7,0),\"\")","v":""},null,""]
[null,null,null,{"$f":"IF(C1016=\"\",\"\",VLOOKUP(C1016,Tabla_Regional[],3,0))","v":""},null,{"$f":"IF(E1016<>\"\",VLOOKUP(CONCATENATE(C1016,E1016),Dato!$A$4:$I$218,7,0),\"\")","v":""},null,""]
[null,null,null,{"$f":"IF(C1017=\"\",\"\",VLOOKUP(C1017,Tabla_Regional[],3,0))","v":""},null,{"$f":"IF(E1017<>\"\",VLOOKUP(CONCATENATE(C1017,E1017),Dato!$A$4:$I$218,7,0),\"\")","v":""},null,""]
[null,null,null,{"$f":"IF(C1018=\"\",\"\",VLOOKUP(C1018,Tabla_Regional[],3,0))","v":""},null,{"$f":"IF(E1018<>\"\",VLOOKUP(CONCATENATE(C1018,E1018),Dato!$A$4:$I$218,7,0),\"\")","v":""},null,""]
[null,null,null,{"$f":"IF(C1019=\"\",\"\",VLOOKUP(C1019,Tabla_Regional[],3,0))","v":""},null,{"$f":"IF(E1019<>\"\",VLOOKUP(CONCATENATE(C1019,E1019),Dato!$A$4:$I$218,7,0),\"\")","v":""},null,""]
[null,null,null,{"$f":"IF(C1020=\"\",\"\",VLOOKUP(C1020,Tabla_Regional[],3,0))","v":""},null,{"$f":"IF(E1020<>\"\",VLOOKUP(CONCATENATE(C1020,E1020),Dato!$A$4:$I$218,7,0),\"\")","v":""},null,""]
[null,null,null,{"$f":"IF(C1021=\"\",\"\",VLOOKUP(C1021,Tabla_Regional[],3,0))","v":""},null,{"$f":"IF(E1021<>\"\",VLOOKUP(CONCATENATE(C1021,E1021),Dato!$A$4:$I$218,7,0),\"\")","v":""},null,""]
[null,null,null,{"$f":"IF(C1022=\"\",\"\",VLOOKUP(C1022,Tabla_Regional[],3,0))","v":""},null,{"$f":"IF(E1022<>\"\",VLOOKUP(CONCATENATE(C1022,E1022),Dato!$A$4:$I$218,7,0),\"\")","v":""},null,""]
[null,null,null,{"$f":"IF(C1023=\"\",\"\",VLOOKUP(C1023,Tabla_Regional[],3,0))","v":""},null,{"$f":"IF(E1023<>\"\",VLOOKUP(CONCATENATE(C1023,E1023),Dato!$A$4:$I$218,7,0),\"\")","v":""},null,""]
[null,null,null,{"$f":"IF(C1024=\"\",\"\",VLOOKUP(C1024,Tabla_Regional[],3,0))","v":""},null,{"$f":"IF(E1024<>\"\",VLOOKUP(CONCATENATE(C1024,E1024),Dato!$A$4:$I$218,7,0),\"\")","v":""},null,""]
[null,null,null,{"$f":"IF(C1025=\"\",\"\",VLOOKUP(C1025,Tabla_Regional[],3,0))","v":""},null,{"$f":"IF(E1025<>\"\",VLOOKUP(CONCATENATE(C1025,E1025),Dato!$A$4:$I$218,7,0),\"\")","v":""},null,""]
[null,null,null,{"$f":"IF(C1026=\"\",\"\",VLOOKUP(C1026,Tabla_Regional[],3,0))","v":""},null,{"$f":"IF(E1026<>\"\",VLOOKUP(CONCATENATE(C1026,E1026),Dato!$A$4:$I$218,7,0),\"\")","v":""},null,""]
[null,null,null,{"$f":"IF(C1027=\"\",\"\",VLOOKUP(C1027,Tabla_Regional[],3,0))","v":""},null,{"$f":"IF(E1027<>\"\",VLOOKUP(CONCATENATE(C1027,E1027),Dato!$A$4:$I$218,7,0),\"\")","v":""},null,""]
[null,null,null,{"$f":"IF(C1028=\"\",\"\",VLOOKUP(C1028,Tabla_Regional[],3,0))","v":""},null,{"$f":"IF(E1028<>\"\",VLOOKUP(CONCATENATE(C1028,E1028),Dato!$A$4:$I$218,7,0),\"\")","v":""},null,""]
[null,null,null,{"$f":"IF(C1029=\"\",\"\",VLOOKUP(C1029,Tabla_Regional[],3,0))","v":""},null,{"$f":"IF(E1029<>\"\",VLOOKUP(CONCATENATE(C1029,E1029),Dato!$A$4:$I$218,7,0),\"\")","v":""},null,""]
[null,null,null,{"$f":"IF(C1030=\"\",\"\",VLOOKUP(C1030,Tabla_Regional[],3,0))","v":""},null,{"$f":"IF(E1030<>\"\",VLOOKUP(CONCATENATE(C1030,E1030),Dato!$A$4:$I$218,7,0),\"\")","v":""},null,""]
[null,null,null,{"$f":"IF(C1031=\"\",\"\",VLOOKUP(C1031,Tabla_Regional[],3,0))","v":""},null,{"$f":"IF(E1031<>\"\",VLOOKUP(CONCATENATE(C1031,E1031),Dato!$A$4:$I$218,7,0),\"\")","v":""},null,""]
[null,null,null,{"$f":"IF(C1032=\"\",\"\",VLOOKUP(C1032,Tabla_Regional[],3,0))","v":""},null,{"$f":"IF(E1032<>\"\",VLOOKUP(CONCATENATE(C1032,E1032),Dato!$A$4:$I$218,7,0),\"\")","v":""},null,""]
[null,null,null,{"$f":"IF(C1033=\"\",\"\",VLOOKUP(C1033,Tabla_Regional[],3,0))","v":""},null,{"$f":"IF(E1033<>\"\",VLOOKUP(CONCATENATE(C1033,E1033),Dato!$A$4:$I$218,7,0),\"\")","v":""},null,""]
[null,null,null,{"$f":"IF(C1034=\"\",\"\",VLOOKUP(C1034,Tabla_Regional[],3,0))","v":""},null,{"$f":"IF(E1034<>\"\",VLOOKUP(CONCATENATE(C1034,E1034),Dato!$A$4:$I$218,7,0),\"\")","v":""},null,""]
[null,null,null,{"$f":"IF(C1035=\"\",\"\",VLOOKUP(C1035,Tabla_Regional[],3,0))","v":""},null,{"$f":"IF(E1035<>\"\",VLOOKUP(CONCATENATE(C1035,E1035),Dato!$A$4:$I$218,7,0),\"\")","v":""},null,""]
[null,null,null,{"$f":"IF(C1036=\"\",\"\",VLOOKUP(C1036,Tabla_Regional[],3,0))","v":""},null,{"$f":"IF(E1036<>\"\",VLOOKUP(CONCATENATE(C1036,E1036),Dato!$A$4:$I$218,7,0),\"\")","v":""},null,{"$f":"IF(G1036<>\"\",VLOOKUP(CONCATENATE(C1036,E1036,G1036),czmuni,7,0),\"\")","v":""}]
[null,null,null,{"$f":"IF(C1037=\"\",\"\",VLOOKUP(C1037,Tabla_Regional[],3,0))","v":""},null,{"$f":"IF(E1037<>\"\",VLOOKUP(CONCATENATE(C1037,E1037),Dato!$A$4:$I$218,7,0),\"\")","v":""},null,""]
[null,null,null,{"$f":"IF(C1038=\"\",\"\",VLOOKUP(C1038,Tabla_Regional[],3,0))","v":""},null,{"$f":"IF(E1038<>\"\",VLOOKUP(CONCATENATE(C1038,E1038),Dato!$A$4:$I$218,7,0),\"\")","v":""},null,""]
[null,null,null,{"$f":"IF(C1039=\"\",\"\",VLOOKUP(C1039,Tabla_Regional[],3,0))","v":""},null,{"$f":"IF(E1039<>\"\",VLOOKUP(CONCATENATE(C1039,E1039),Dato!$A$4:$I$218,7,0),\"\")","v":""},null,""]
[null,null,null,{"$f":"IF(C1040=\"\",\"\",VLOOKUP(C1040,Tabla_Regional[],3,0))","v":""},null,{"$f":"IF(E1040<>\"\",VLOOKUP(CONCATENATE(C1040,E1040),Dato!$A$4:$I$218,7,0),\"\")","v":""},null,""]
[null,null,null,{"$f":"IF(C1041=\"\",\"\",VLOOKUP(C1041,Tabla_Regional[],3,0))","v":""},null,{"$f":"IF(E1041<>\"\",VLOOKUP(CONCATENATE(C1041,E1041),Dato!$A$4:$I$218,7,0),\"\")","v":""},null,""]
[null,null,null,{"$f":"IF(C1042=\"\",\"\",VLOOKUP(C1042,Tabla_Regional[],3,0))","v":""},null,{"$f":"IF(E1042<>\"\",VLOOKUP(CONCATENATE(C1042,E1042),Dato!$A$4:$I$218,7,0),\"\")","v":""},null,""]
[null,null,null,{"$f":"IF(C1043=\"\",\"\",VLOOKUP(C1043,Tabla_Regional[],3,0))","v":""},null,{"$f":"IF(E1043<>\"\",VLOOKUP(CONCATENATE(C1043,E1043),Dato!$A$4:$I$218,7,0),\"\")","v":""},null,""]
[null,null,null,{"$f":"IF(C1044=\"\",\"\",VLOOKUP(C1044,Tabla_Regional[],3,0))","v":""},null,{"$f":"IF(E1044<>\"\",VLOOKUP(CONCATENATE(C1044,E1044),Dato!$A$4:$I$218,7,0),\"\")","v":""},null,""]
[null,null,null,{"$f":"IF(C1045=\"\",\"\",VLOOKUP(C1045,Tabla_Regional[],3,0))","v":""},null,{"$f":"IF(E1045<>\"\",VLOOKUP(CONCATENATE(C1045,E1045),Dato!$A$4:$I$218,7,0),\"\")","v":""},null,""]
[null,null,null,{"$f":"IF(C1046=\"\",\"\",VLOOKUP(C1046,Tabla_Regional[],3,0))","v":""},null,{"$f":"IF(E1046<>\"\",VLOOKUP(CONCATENATE(C1046,E1046),Dato!$A$4:$I$218,7,0),\"\")","v":""},null,""]
[null,null,null,{"$f":"IF(C1047=\"\",\"\",VLOOKUP(C1047,Tabla_Regional[],3,0))","v":""},null,{"$f":"IF(E1047<>\"\",VLOOKUP(CONCATENATE(C1047,E1047),Dato!$A$4:$I$218,7,0),\"\")","v":""},null,""]
[null,null,null,{"$f":"IF(C1048=\"\",\"\",VLOOKUP(C1048,Tabla_Regional[],3,0))","v":""},null,{"$f":"IF(E1048<>\"\",VLOOKUP(CONCATENATE(C1048,E1048),Dato!$A$4:$I$218,7,0),\"\")","v":""},null,""]
[null,null,null,{"$f":"IF(C1049=\"\",\"\",VLOOKUP(C1049,Tabla_Regional[],3,0))","v":""},null,{"$f":"IF(E1049<>\"\",VLOOKUP(CONCATENATE(C1049,E1049),Dato!$A$4:$I$218,7,0),\"\")","v":""},null,""]
[null,null,null,{"$f":"IF(C1050=\"\",\"\",VLOOKUP(C1050,Tabla_Regional[],3,0))","v":""},null,{"$f":"IF(E1050<>\"\",VLOOKUP(CONCATENATE(C1050,E1050),Dato!$A$4:$I$218,7,0),\"\")","v":""},null,""]
[null,null,null,{"$f":"IF(C1051=\"\",\"\",VLOOKUP(C1051,Tabla_Regional[],3,0))","v":""},null,{"$f":"IF(E1051<>\"\",VLOOKUP(CONCATENATE(C1051,E1051),Dato!$A$4:$I$218,7,0),\"\")","v":""},null,""]
[null,null,null,{"$f":"IF(C1052=\"\",\"\",VLOOKUP(C1052,Tabla_Regional[],3,0))","v":""},null,{"$f":"IF(E1052<>\"\",VLOOKUP(CONCATENATE(C1052,E1052),Dato!$A$4:$I$218,7,0),\"\")","v":""},null,""]
[null,null,null,{"$f":"IF(C1053=\"\",\"\",VLOOKUP(C1053,Tabla_Regional[],3,0))","v":""},null,{"$f":"IF(E1053<>\"\",VLOOKUP(CONCATENATE(C1053,E1053),Dato!$A$4:$I$218,7,0),\"\")","v":""},null,""]
[null,null,null,{"$f":"IF(C1054=\"\",\"\",VLOOKUP(C1054,Tabla_Regional[],3,0))","v":""},null,{"$f":"IF(E1054<>\"\",VLOOKUP(CONCATENATE(C1054,E1054),Dato!$A$4:$I$218,7,0),\"\")","v":""},null,""]
[null,null,null,{"$f":"IF(C1055=\"\",\"\",VLOOKUP(C1055,Tabla_Regional[],3,0))","v":""},null,{"$f":"IF(E1055<>\"\",VLOOKUP(CONCATENATE(C1055,E1055),Dato!$A$4:$I$218,7,0),\"\")","v":""},null,""]
[null,null,null,{"$f":"IF(C1056=\"\",\"\",VLOOKUP(C1056,Tabla_Regional[],3,0))","v":""},null,{"$f":"IF(E1056<>\"\",VLOOKUP(CONCATENATE(C1056,E1056),Dato!$A$4:$I$218,7,0),\"\")","v":""},null,""]
[null,null,null,{"$f":"IF(C1057=\"\",\"\",VLOOKUP(C1057,Tabla_Regional[],3,0))","v":""},null,{"$f":"IF(E1057<>\"\",VLOOKUP(CONCATENATE(C1057,E1057),Dato!$A$4:$I$218,7,0),\"\")","v":""},null,""]
[null,null,null,{"$f":"IF(C1058=\"\",\"\",VLOOKUP(C1058,Tabla_Regional[],3,0))","v":""},null,{"$f":"IF(E1058<>\"\",VLOOKUP(CONCATENATE(C1058,E1058),Dato!$A$4:$I$218,7,0),\"\")","v":""},null,""]
[null,null,null,{"$f":"IF(C1059=\"\",\"\",VLOOKUP(C1059,Tabla_Regional[],3,0))","v":""},null,{"$f":"IF(E1059<>\"\",VLOOKUP(CONCATENATE(C1059,E1059),Dato!$A$4:$I$218,7,0),\"\")","v":""},null,""]
[null,null,null,{"$f":"IF(C1060=\"\",\"\",VLOOKUP(C1060,Tabla_Regional[],3,0))","v":""},null,{"$f":"IF(E1060<>\"\",VLOOKUP(CONCATENATE(C1060,E1060),Dato!$A$4:$I$218,7,0),\"\")","v":""},null,""]
[null,null,null,{"$f":"IF(C1061=\"\",\"\",VLOOKUP(C1061,Tabla_Regional[],3,0))","v":""},null,{"$f":"IF(E1061<>\"\",VLOOKUP(CONCATENATE(C1061,E1061),Dato!$A$4:$I$218,7,0),\"\")","v":""},null,""]
[null,null,null,{"$f":"IF(C1062=\"\",\"\",VLOOKUP(C1062,Tabla_Regional[],3,0))","v":""},null,{"$f":"IF(E1062<>\"\",VLOOKUP(CONCATENATE(C1062,E1062),Dato!$A$4:$I$218,7,0),\"\")","v":""},null,""]
[null,null,null,{"$f":"IF(C1063=\"\",\"\",VLOOKUP(C1063,Tabla_Regional[],3,0))","v":""},null,{"$f":"IF(E1063<>\"\",VLOOKUP(CONCATENATE(C1063,E1063),Dato!$A$4:$I$218,7,0),\"\")","v":""},null,""]
[null,null,null,{"$f":"IF(C1064=\"\",\"\",VLOOKUP(C1064,Tabla_Regional[],3,0))","v":""},null,{"$f":"IF(E1064<>\"\",VLOOKUP(CONCATENATE(C1064,E1064),Dato!$A$4:$I$218,7,0),\"\")","v":""},null,""]
[null,null,null,{"$f":"IF(C1065=\"\",\"\",VLOOKUP(C1065,Tabla_Regional[],3,0))","v":""},null,{"$f":"IF(E1065<>\"\",VLOOKUP(CONCATENATE(C1065,E1065),Dato!$A$4:$I$218,7,0),\"\")","v":""},null,""]
[null,null,null,{"$f":"IF(C1066=\"\",\"\",VLOOKUP(C1066,Tabla_Regional[],3,0))","v":""},null,{"$f":"IF(E1066<>\"\",VLOOKUP(CONCATENATE(C1066,E1066),Dato!$A$4:$I$218,7,0),\"\")","v":""},null,""]
[null,null,null,{"$f":"IF(C1067=\"\",\"\",VLOOKUP(C1067,Tabla_Regional[],3,0))","v":""},null,{"$f":"IF(E1067<>\"\",VLOOKUP(CONCATENATE(C1067,E1067),Dato!$A$4:$I$218,7,0),\"\")","v":""},null,""]
[null,null,null,{"$f":"IF(C1068=\"\",\"\",VLOOKUP(C1068,Tabla_Regional[],3,0))","v":""},null,{"$f":"IF(E1068<>\"\",VLOOKUP(CONCATENATE(C1068,E1068),Dato!$A$4:$I$218,7,0),\"\")","v":""},null,""]
[null,null,null,{"$f":"IF(C1069=\"\",\"\",VLOOKUP(C1069,Tabla_Regional[],3,0))","v":""},null,{"$f":"IF(E1069<>\"\",VLOOKUP(CONCATENATE(C1069,E1069),Dato!$A$4:$I$218,7,0),\"\")","v":""},null,""]
[null,null,null,{"$f":"IF(C1070=\"\",\"\",VLOOKUP(C1070,Tabla_Regional[],3,0))","v":""},null,{"$f":"IF(E1070<>\"\",VLOOKUP(CONCATENATE(C1070,E1070),Dato!$A$4:$I$218,7,0),\"\")","v":""},null,""]
[null,null,null,{"$f":"IF(C1071=\"\",\"\",VLOOKUP(C1071,Tabla_Regional[],3,0))","v":""},null,{"$f":"IF(E1071<>\"\",VLOOKUP(CONCATENATE(C1071,E1071),Dato!$A$4:$I$218,7,0),\"\")","v":""},null,""]
[null,null,null,{"$f":"IF(C1072=\"\",\"\",VLOOKUP(C1072,Tabla_Regional[],3,0))","v":""},null,{"$f":"IF(E1072<>\"\",VLOOKUP(CONCATENATE(C1072,E1072),Dato!$A$4:$I$218,7,0),\"\")","v":""},null,""]
[null,null,null,{"$f":"IF(C1073=\"\",\"\",VLOOKUP(C1073,Tabla_Regional[],3,0))","v":""},null,{"$f":"IF(E1073<>\"\",VLOOKUP(CONCATENATE(C1073,E1073),Dato!$A$4:$I$218,7,0),\"\")","v":""},null,""]
[null,null,null,{"$f":"IF(C1074=\"\",\"\",VLOOKUP(C1074,Tabla_Regional[],3,0))","v":""},null,{"$f":"IF(E1074<>\"\",VLOOKUP(CONCATENATE(C1074,E1074),Dato!$A$4:$I$218,7,0),\"\")","v":""},null,""]
[null,null,null,{"$f":"IF(C1075=\"\",\"\",VLOOKUP(C1075,Tabla_Regional[],3,0))","v":""},null,{"$f":"IF(E1075<>\"\",VLOOKUP(CONCATENATE(C1075,E1075),Dato!$A$4:$I$218,7,0),\"\")","v":""},null,""]
[null,null,null,{"$f":"IF(C1076=\"\",\"\",VLOOKUP(C1076,Tabla_Regional[],3,0))","v":""},null,{"$f":"IF(E1076<>\"\",VLOOKUP(CONCATENATE(C1076,E1076),Dato!$A$4:$I$218,7,0),\"\")","v":""},null,""]
[null,null,null,{"$f":"IF(C1077=\"\",\"\",VLOOKUP(C1077,Tabla_Regional[],3,0))","v":""},null,{"$f":"IF(E1077<>\"\",VLOOKUP(CONCATENATE(C1077,E1077),Dato!$A$4:$I$218,7,0),\"\")","v":""},null,""]
[null,null,null,{"$f":"IF(C1078=\"\",\"\",VLOOKUP(C1078,Tabla_Regional[],3,0))","v":""},null,{"$f":"IF(E1078<>\"\",VLOOKUP(CONCATENATE(C1078,E1078),Dato!$A$4:$I$218,7,0),\"\")","v":""},null,""]
[null,null,null,{"$f":"IF(C1079=\"\",\"\",VLOOKUP(C1079,Tabla_Regional[],3,0))","v":""},null,{"$f":"IF(E1079<>\"\",VLOOKUP(CONCATENATE(C1079,E1079),Dato!$A$4:$I$218,7,0),\"\")","v":""},null,""]
[null,null,null,{"$f":"IF(C1080=\"\",\"\",VLOOKUP(C1080,Tabla_Regional[],3,0))","v":""},null,{"$f":"IF(E1080<>\"\",VLOOKUP(CONCATENATE(C1080,E1080),Dato!$A$4:$I$218,7,0),\"\")","v":""},null,""]
[null,null,null,{"$f":"IF(C1081=\"\",\"\",VLOOKUP(C1081,Tabla_Regional[],3,0))","v":""},null,{"$f":"IF(E1081<>\"\",VLOOKUP(CONCATENATE(C1081,E1081),Dato!$A$4:$I$218,7,0),\"\")","v":""},null,""]
[null,null,null,{"$f":"IF(C1082=\"\",\"\",VLOOKUP(C1082,Tabla_Regional[],3,0))","v":""},null,{"$f":"IF(E1082<>\"\",VLOOKUP(CONCATENATE(C1082,E1082),Dato!$A$4:$I$218,7,0),\"\")","v":""},null,""]
[null,null,null,{"$f":"IF(C1083=\"\",\"\",VLOOKUP(C1083,Tabla_Regional[],3,0))","v":""},null,{"$f":"IF(E1083<>\"\",VLOOKUP(CONCATENATE(C1083,E1083),Dato!$A$4:$I$218,7,0),\"\")","v":""},null,""]
[null,null,null,{"$f":"IF(C1084=\"\",\"\",VLOOKUP(C1084,Tabla_Regional[],3,0))","v":""},null,{"$f":"IF(E1084<>\"\",VLOOKUP(CONCATENATE(C1084,E1084),Dato!$A$4:$I$218,7,0),\"\")","v":""},null,""]
[null,null,null,{"$f":"IF(C1085=\"\",\"\",VLOOKUP(C1085,Tabla_Regional[],3,0))","v":""},null,{"$f":"IF(E1085<>\"\",VLOOKUP(CONCATENATE(C1085,E1085),Dato!$A$4:$I$218,7,0),\"\")","v":""},null,""]
[null,null,null,{"$f":"IF(C1086=\"\",\"\",VLOOKUP(C1086,Tabla_Regional[],3,0))","v":""},null,{"$f":"IF(E1086<>\"\",VLOOKUP(CONCATENATE(C1086,E1086),Dato!$A$4:$I$218,7,0),\"\")","v":""},null,""]
[null,null,null,{"$f":"IF(C1087=\"\",\"\",VLOOKUP(C1087,Tabla_Regional[],3,0))","v":""},null,{"$f":"IF(E1087<>\"\",VLOOKUP(CONCATENATE(C1087,E1087),Dato!$A$4:$I$218,7,0),\"\")","v":""},null,""]
[null,null,null,{"$f":"IF(C1088=\"\",\"\",VLOOKUP(C1088,Tabla_Regional[],3,0))","v":""},null,{"$f":"IF(E1088<>\"\",VLOOKUP(CONCATENATE(C1088,E1088),Dato!$A$4:$I$218,7,0),\"\")","v":""},null,""]
[null,null,null,{"$f":"IF(C1089=\"\",\"\",VLOOKUP(C1089,Tabla_Regional[],3,0))","v":""},null,{"$f":"IF(E1089<>\"\",VLOOKUP(CONCATENATE(C1089,E1089),Dato!$A$4:$I$218,7,0),\"\")","v":""},null,""]
[null,null,null,{"$f":"IF(C1090=\"\",\"\",VLOOKUP(C1090,Tabla_Regional[],3,0))","v":""},null,{"$f":"IF(E1090<>\"\",VLOOKUP(CONCATENATE(C1090,E1090),Dato!$A$4:$I$218,7,0),\"\")","v":""},null,""]
[null,null,null,{"$f":"IF(C1091=\"\",\"\",VLOOKUP(C1091,Tabla_Regional[],3,0))","v":""},null,{"$f":"IF(E1091<>\"\",VLOOKUP(CONCATENATE(C1091,E1091),Dato!$A$4:$I$218,7,0),\"\")","v":""},null,""]
[null,null,null,{"$f":"IF(C1092=\"\",\"\",VLOOKUP(C1092,Tabla_Regional[],3,0))","v":""},null,{"$f":"IF(E1092<>\"\",VLOOKUP(CONCATENATE(C1092,E1092),Dato!$A$4:$I$218,7,0),\"\")","v":""},null,""]
[null,null,null,{"$f":"IF(C1093=\"\",\"\",VLOOKUP(C1093,Tabla_Regional[],3,0))","v":""},null,{"$f":"IF(E1093<>\"\",VLOOKUP(CONCATENATE(C1093,E1093),Dato!$A$4:$I$218,7,0),\"\")","v":""},null,""]
[null,null,null,{"$f":"IF(C1094=\"\",\"\",VLOOKUP(C1094,Tabla_Regional[],3,0))","v":""},null,{"$f":"IF(E1094<>\"\",VLOOKUP(CONCATENATE(C1094,E1094),Dato!$A$4:$I$218,7,0),\"\")","v":""},null,""]
[null,null,null,{"$f":"IF(C1095=\"\",\"\",VLOOKUP(C1095,Tabla_Regional[],3,0))","v":""},null,{"$f":"IF(E1095<>\"\",VLOOKUP(CONCATENATE(C1095,E1095),Dato!$A$4:$I$218,7,0),\"\")","v":""},null,""]
[null,null,null,{"$f":"IF(C1096=\"\",\"\",VLOOKUP(C1096,Tabla_Regional[],3,0))","v":""},null,{"$f":"IF(E1096<>\"\",VLOOKUP(CONCATENATE(C1096,E1096),Dato!$A$4:$I$218,7,0),\"\")","v":""},null,""]
[null,null,null,{"$f":"IF(C1097=\"\",\"\",VLOOKUP(C1097,Tabla_Regional[],3,0))","v":""},null,{"$f":"IF(E1097<>\"\",VLOOKUP(CONCATENATE(C1097,E1097),Dato!$A$4:$I$218,7,0),\"\")","v":""},null,""]
[null,null,null,{"$f":"IF(C1098=\"\",\"\",VLOOKUP(C1098,Tabla_Regional[],3,0))","v":""},null,{"$f":"IF(E1098<>\"\",VLOOKUP(CONCATENATE(C1098,E1098),Dato!$A$4:$I$218,7,0),\"\")","v":""},null,""]
[null,null,null,{"$f":"IF(C1099=\"\",\"\",VLOOKUP(C1099,Tabla_Regional[],3,0))","v":""},null,{"$f":"IF(E1099<>\"\",VLOOKUP(CONCATENATE(C1099,E1099),Dato!$A$4:$I$218,7,0),\"\")","v":""},null,""]
[null,null,null,{"$f":"IF(C1100=\"\",\"\",VLOOKUP(C1100,Tabla_Regional[],3,0))","v":""},null,{"$f":"IF(E1100<>\"\",VLOOKUP(CONCATENATE(C1100,E1100),Dato!$A$4:$I$218,7,0),\"\")","v":""},null,{"$f":"IF(G1100<>\"\",VLOOKUP(CONCATENATE(C1100,E1100,G1100),czmuni,7,0),\"\")","v":""}]
[null,null,null,{"$f":"IF(C1101=\"\",\"\",VLOOKUP(C1101,Tabla_Regional[],3,0))","v":""},null,{"$f":"IF(E1101<>\"\",VLOOKUP(CONCATENATE(C1101,E1101),Dato!$A$4:$I$218,7,0),\"\")","v":""},null,""]
[null,null,null,{"$f":"IF(C1102=\"\",\"\",VLOOKUP(C1102,Tabla_Regional[],3,0))","v":""},null,{"$f":"IF(E1102<>\"\",VLOOKUP(CONCATENATE(C1102,E1102),Dato!$A$4:$I$218,7,0),\"\")","v":""},null,""]
[null,null,null,{"$f":"IF(C1103=\"\",\"\",VLOOKUP(C1103,Tabla_Regional[],3,0))","v":""},null,{"$f":"IF(E1103<>\"\",VLOOKUP(CONCATENATE(C1103,E1103),Dato!$A$4:$I$218,7,0),\"\")","v":""},null,""]
[null,null,null,{"$f":"IF(C1104=\"\",\"\",VLOOKUP(C1104,Tabla_Regional[],3,0))","v":""},null,{"$f":"IF(E1104<>\"\",VLOOKUP(CONCATENATE(C1104,E1104),Dato!$A$4:$I$218,7,0),\"\")","v":""},null,""]
[null,null,null,{"$f":"IF(C1105=\"\",\"\",VLOOKUP(C1105,Tabla_Regional[],3,0))","v":""},null,{"$f":"IF(E1105<>\"\",VLOOKUP(CONCATENATE(C1105,E1105),Dato!$A$4:$I$218,7,0),\"\")","v":""},null,""]
[null,null,null,{"$f":"IF(C1106=\"\",\"\",VLOOKUP(C1106,Tabla_Regional[],3,0))","v":""},null,{"$f":"IF(E1106<>\"\",VLOOKUP(CONCATENATE(C1106,E1106),Dato!$A$4:$I$218,7,0),\"\")","v":""},null,""]
[null,null,null,{"$f":"IF(C1107=\"\",\"\",VLOOKUP(C1107,Tabla_Regional[],3,0))","v":""},null,{"$f":"IF(E1107<>\"\",VLOOKUP(CONCATENATE(C1107,E1107),Dato!$A$4:$I$218,7,0),\"\")","v":""},null,""]
[null,null,null,{"$f":"IF(C1108=\"\",\"\",VLOOKUP(C1108,Tabla_Regional[],3,0))","v":""},null,{"$f":"IF(E1108<>\"\",VLOOKUP(CONCATENATE(C1108,E1108),Dato!$A$4:$I$218,7,0),\"\")","v":""},null,""]
[null,null,null,{"$f":"IF(C1109=\"\",\"\",VLOOKUP(C1109,Tabla_Regional[],3,0))","v":""},null,{"$f":"IF(E1109<>\"\",VLOOKUP(CONCATENATE(C1109,E1109),Dato!$A$4:$I$218,7,0),\"\")","v":""},null,""]
[null,null,null,{"$f":"IF(C1110=\"\",\"\",VLOOKUP(C1110,Tabla_Regional[],3,0))","v":""},null,{"$f":"IF(E1110<>\"\",VLOOKUP(CONCATENATE(C1110,E1110),Dato!$A$4:$I$218,7,0),\"\")","v":""},null,""]
[null,null,null,{"$f":"IF(C1111=\"\",\"\",VLOOKUP(C1111,Tabla_Regional[],3,0))","v":""},null,{"$f":"IF(E1111<>\"\",VLOOKUP(CONCATENATE(C1111,E1111),Dato!$A$4:$I$218,7,0),\"\")","v":""},null,""]
[null,null,null,{"$f":"IF(C1112=\"\",\"\",VLOOKUP(C1112,Tabla_Regional[],3,0))","v":""},null,{"$f":"IF(E1112<>\"\",VLOOKUP(CONCATENATE(C1112,E1112),Dato!$A$4:$I$218,7,0),\"\")","v":""},null,""]
[null,null,null,{"$f":"IF(C1113=\"\",\"\",VLOOKUP(C1113,Tabla_Regional[],3,0))","v":""},null,{"$f":"IF(E1113<>\"\",VLOOKUP(CONCATENATE(C1113,E1113),Dato!$A$4:$I$218,7,0),\"\")","v":""},null,""]
[null,null,null,{"$f":"IF(C1114=\"\",\"\",VLOOKUP(C1114,Tabla_Regional[],3,0))","v":""},null,{"$f":"IF(E1114<>\"\",VLOOKUP(CONCATENATE(C1114,E1114),Dato!$A$4:$I$218,7,0),\"\")","v":""},null,""]
[null,null,null,{"$f":"IF(C1115=\"\",\"\",VLOOKUP(C1115,Tabla_Regional[],3,0))","v":""},null,{"$f":"IF(E1115<>\"\",VLOOKUP(CONCATENATE(C1115,E1115),Dato!$A$4:$I$218,7,0),\"\")","v":""},null,""]
[null,null,null,{"$f":"IF(C1116=\"\",\"\",VLOOKUP(C1116,Tabla_Regional[],3,0))","v":""},null,{"$f":"IF(E1116<>\"\",VLOOKUP(CONCATENATE(C1116,E1116),Dato!$A$4:$I$218,7,0),\"\")","v":""},null,""]
[null,null,null,{"$f":"IF(C1117=\"\",\"\",VLOOKUP(C1117,Tabla_Regional[],3,0))","v":""},null,{"$f":"IF(E1117<>\"\",VLOOKUP(CONCATENATE(C1117,E1117),Dato!$A$4:$I$218,7,0),\"\")","v":""},null,""]
[null,null,null,{"$f":"IF(C1118=\"\",\"\",VLOOKUP(C1118,Tabla_Regional[],3,0))","v":""},null,{"$f":"IF(E1118<>\"\",VLOOKUP(CONCATENATE(C1118,E1118),Dato!$A$4:$I$218,7,0),\"\")","v":""},null,""]
[null,null,null,{"$f":"IF(C1119=\"\",\"\",VLOOKUP(C1119,Tabla_Regional[],3,0))","v":""},null,{"$f":"IF(E1119<>\"\",VLOOKUP(CONCATENATE(C1119,E1119),Dato!$A$4:$I$218,7,0),\"\")","v":""},null,""]
[null,null,null,{"$f":"IF(C1120=\"\",\"\",VLOOKUP(C1120,Tabla_Regional[],3,0))","v":""},null,{"$f":"IF(E1120<>\"\",VLOOKUP(CONCATENATE(C1120,E1120),Dato!$A$4:$I$218,7,0),\"\")","v":""},null,""]
[null,null,null,{"$f":"IF(C1121=\"\",\"\",VLOOKUP(C1121,Tabla_Regional[],3,0))","v":""},null,{"$f":"IF(E1121<>\"\",VLOOKUP(CONCATENATE(C1121,E1121),Dato!$A$4:$I$218,7,0),\"\")","v":""},null,""]
[null,null,null,{"$f":"IF(C1122=\"\",\"\",VLOOKUP(C1122,Tabla_Regional[],3,0))","v":""},null,{"$f":"IF(E1122<>\"\",VLOOKUP(CONCATENATE(C1122,E1122),Dato!$A$4:$I$218,7,0),\"\")","v":""},null,""]
[null,null,null,{"$f":"IF(C1123=\"\",\"\",VLOOKUP(C1123,Tabla_Regional[],3,0))","v":""},null,{"$f":"IF(E1123<>\"\",VLOOKUP(CONCATENATE(C1123,E1123),Dato!$A$4:$I$218,7,0),\"\")","v":""},null,""]
[null,null,null,{"$f":"IF(C1124=\"\",\"\",VLOOKUP(C1124,Tabla_Regional[],3,0))","v":""},null,{"$f":"IF(E1124<>\"\",VLOOKUP(CONCATENATE(C1124,E1124),Dato!$A$4:$I$218,7,0),\"\")","v":""},null,""]
[null,null,null,{"$f":"IF(C1125=\"\",\"\",VLOOKUP(C1125,Tabla_Regional[],3,0))","v":""},null,{"$f":"IF(E1125<>\"\",VLOOKUP(CONCATENATE(C1125,E1125),Dato!$A$4:$I$218,7,0),\"\")","v":""},null,""]
[null,null,null,{"$f":"IF(C1126=\"\",\"\",VLOOKUP(C1126,Tabla_Regional[],3,0))","v":""},null,{"$f":"IF(E1126<>\"\",VLOOKUP(CONCATENATE(C1126,E1126),Dato!$A$4:$I$218,7,0),\"\")","v":""},null,""]
[null,null,null,{"$f":"IF(C1127=\"\",\"\",VLOOKUP(C1127,Tabla_Regional[],3,0))","v":""},null,{"$f":"IF(E1127<>\"\",VLOOKUP(CONCATENATE(C1127,E1127),Dato!$A$4:$I$218,7,0),\"\")","v":""},null,""]
[null,null,null,{"$f":"IF(C1128=\"\",\"\",VLOOKUP(C1128,Tabla_Regional[],3,0))","v":""},null,{"$f":"IF(E1128<>\"\",VLOOKUP(CONCATENATE(C1128,E1128),Dato!$A$4:$I$218,7,0),\"\")","v":""},null,""]
[null,null,null,{"$f":"IF(C1129=\"\",\"\",VLOOKUP(C1129,Tabla_Regional[],3,0))","v":""},null,{"$f":"IF(E1129<>\"\",VLOOKUP(CONCATENATE(C1129,E1129),Dato!$A$4:$I$218,7,0),\"\")","v":""},null,""]
[null,null,null,{"$f":"IF(C1130=\"\",\"\",VLOOKUP(C1130,Tabla_Regional[],3,0))","v":""},null,{"$f":"IF(E1130<>\"\",VLOOKUP(CONCATENATE(C1130,E1130),Dato!$A$4:$I$218,7,0),\"\")","v":""},null,""]
[null,null,null,{"$f":"IF(C1131=\"\",\"\",VLOOKUP(C1131,Tabla_Regional[],3,0))","v":""},null,{"$f":"IF(E1131<>\"\",VLOOKUP(CONCATENATE(C1131,E1131),Dato!$A$4:$I$218,7,0),\"\")","v":""},null,""]
[null,null,null,{"$f":"IF(C1132=\"\",\"\",VLOOKUP(C1132,Tabla_Regional[],3,0))","v":""},null,{"$f":"IF(E1132<>\"\",VLOOKUP(CONCATENATE(C1132,E1132),Dato!$A$4:$I$218,7,0),\"\")","v":""},null,""]
[null,null,null,{"$f":"IF(C1133=\"\",\"\",VLOOKUP(C1133,Tabla_Regional[],3,0))","v":""},null,{"$f":"IF(E1133<>\"\",VLOOKUP(CONCATENATE(C1133,E1133),Dato!$A$4:$I$218,7,0),\"\")","v":""},null,""]
[null,null,null,{"$f":"IF(C1134=\"\",\"\",VLOOKUP(C1134,Tabla_Regional[],3,0))","v":""},null,{"$f":"IF(E1134<>\"\",VLOOKUP(CONCATENATE(C1134,E1134),Dato!$A$4:$I$218,7,0),\"\")","v":""},null,""]
[null,null,null,{"$f":"IF(C1135=\"\",\"\",VLOOKUP(C1135,Tabla_Regional[],3,0))","v":""},null,{"$f":"IF(E1135<>\"\",VLOOKUP(CONCATENATE(C1135,E1135),Dato!$A$4:$I$218,7,0),\"\")","v":""},null,""]
[null,null,null,{"$f":"IF(C1136=\"\",\"\",VLOOKUP(C1136,Tabla_Regional[],3,0))","v":""},null,{"$f":"IF(E1136<>\"\",VLOOKUP(CONCATENATE(C1136,E1136),Dato!$A$4:$I$218,7,0),\"\")","v":""},null,""]
[null,null,null,{"$f":"IF(C1137=\"\",\"\",VLOOKUP(C1137,Tabla_Regional[],3,0))","v":""},null,{"$f":"IF(E1137<>\"\",VLOOKUP(CONCATENATE(C1137,E1137),Dato!$A$4:$I$218,7,0),\"\")","v":""},null,""]
[null,null,null,{"$f":"IF(C1138=\"\",\"\",VLOOKUP(C1138,Tabla_Regional[],3,0))","v":""},null,{"$f":"IF(E1138<>\"\",VLOOKUP(CONCATENATE(C1138,E1138),Dato!$A$4:$I$218,7,0),\"\")","v":""},null,""]
[null,null,null,{"$f":"IF(C1139=\"\",\"\",VLOOKUP(C1139,Tabla_Regional[],3,0))","v":""},null,{"$f":"IF(E1139<>\"\",VLOOKUP(CONCATENATE(C1139,E1139),Dato!$A$4:$I$218,7,0),\"\")","v":""},null,""]
[null,null,null,{"$f":"IF(C1140=\"\",\"\",VLOOKUP(C1140,Tabla_Regional[],3,0))","v":""},null,{"$f":"IF(E1140<>\"\",VLOOKUP(CONCATENATE(C1140,E1140),Dato!$A$4:$I$218,7,0),\"\")","v":""},null,""]
[null,null,null,{"$f":"IF(C1141=\"\",\"\",VLOOKUP(C1141,Tabla_Regional[],3,0))","v":""},null,{"$f":"IF(E1141<>\"\",VLOOKUP(CONCATENATE(C1141,E1141),Dato!$A$4:$I$218,7,0),\"\")","v":""},null,""]
[null,null,null,{"$f":"IF(C1142=\"\",\"\",VLOOKUP(C1142,Tabla_Regional[],3,0))","v":""},null,{"$f":"IF(E1142<>\"\",VLOOKUP(CONCATENATE(C1142,E1142),Dato!$A$4:$I$218,7,0),\"\")","v":""},null,""]
[null,null,null,{"$f":"IF(C1143=\"\",\"\",VLOOKUP(C1143,Tabla_Regional[],3,0))","v":""},null,{"$f":"IF(E1143<>\"\",VLOOKUP(CONCATENATE(C1143,E1143),Dato!$A$4:$I$218,7,0),\"\")","v":""},null,""]
[null,null,null,{"$f":"IF(C1144=\"\",\"\",VLOOKUP(C1144,Tabla_Regional[],3,0))","v":""},null,{"$f":"IF(E1144<>\"\",VLOOKUP(CONCATENATE(C1144,E1144),Dato!$A$4:$I$218,7,0),\"\")","v":""},null,""]
[null,null,null,{"$f":"IF(C1145=\"\",\"\",VLOOKUP(C1145,Tabla_Regional[],3,0))","v":""},null,{"$f":"IF(E1145<>\"\",VLOOKUP(CONCATENATE(C1145,E1145),Dato!$A$4:$I$218,7,0),\"\")","v":""},null,""]
[null,null,null,{"$f":"IF(C1146=\"\",\"\",VLOOKUP(C1146,Tabla_Regional[],3,0))","v":""},null,{"$f":"IF(E1146<>\"\",VLOOKUP(CONCATENATE(C1146,E1146),Dato!$A$4:$I$218,7,0),\"\")","v":""},null,""]
[null,null,null,{"$f":"IF(C1147=\"\",\"\",VLOOKUP(C1147,Tabla_Regional[],3,0))","v":""},null,{"$f":"IF(E1147<>\"\",VLOOKUP(CONCATENATE(C1147,E1147),Dato!$A$4:$I$218,7,0),\"\")","v":""},null,""]
[null,null,null,{"$f":"IF(C1148=\"\",\"\",VLOOKUP(C1148,Tabla_Regional[],3,0))","v":""},null,{"$f":"IF(E1148<>\"\",VLOOKUP(CONCATENATE(C1148,E1148),Dato!$A$4:$I$218,7,0),\"\")","v":""},null,""]
[null,null,null,{"$f":"IF(C1149=\"\",\"\",VLOOKUP(C1149,Tabla_Regional[],3,0))","v":""},null,{"$f":"IF(E1149<>\"\",VLOOKUP(CONCATENATE(C1149,E1149),Dato!$A$4:$I$218,7,0),\"\")","v":""},null,""]
[null,null,null,{"$f":"IF(C1150=\"\",\"\",VLOOKUP(C1150,Tabla_Regional[],3,0))","v":""},null,{"$f":"IF(E1150<>\"\",VLOOKUP(CONCATENATE(C1150,E1150),Dato!$A$4:$I$218,7,0),\"\")","v":""},null,""]
[null,null,null,{"$f":"IF(C1151=\"\",\"\",VLOOKUP(C1151,Tabla_Regional[],3,0))","v":""},null,{"$f":"IF(E1151<>\"\",VLOOKUP(CONCATENATE(C1151,E1151),Dato!$A$4:$I$218,7,0),\"\")","v":""},null,""]
[null,null,null,{"$f":"IF(C1152=\"\",\"\",VLOOKUP(C1152,Tabla_Regional[],3,0))","v":""},null,{"$f":"IF(E1152<>\"\",VLOOKUP(CONCATENATE(C1152,E1152),Dato!$A$4:$I$218,7,0),\"\")","v":""},null,""]
[null,null,null,{"$f":"IF(C1153=\"\",\"\",VLOOKUP(C1153,Tabla_Regional[],3,0))","v":""},null,{"$f":"IF(E1153<>\"\",VLOOKUP(CONCATENATE(C1153,E1153),Dato!$A$4:$I$218,7,0),\"\")","v":""},null,""]
[null,null,null,{"$f":"IF(C1154=\"\",\"\",VLOOKUP(C1154,Tabla_Regional[],3,0))","v":""},null,{"$f":"IF(E1154<>\"\",VLOOKUP(CONCATENATE(C1154,E1154),Dato!$A$4:$I$218,7,0),\"\")","v":""},null,""]
[null,null,null,{"$f":"IF(C1155=\"\",\"\",VLOOKUP(C1155,Tabla_Regional[],3,0))","v":""},null,{"$f":"IF(E1155<>\"\",VLOOKUP(CONCATENATE(C1155,E1155),Dato!$A$4:$I$218,7,0),\"\")","v":""},null,""]
[null,null,null,{"$f":"IF(C1156=\"\",\"\",VLOOKUP(C1156,Tabla_Regional[],3,0))","v":""},null,{"$f":"IF(E1156<>\"\",VLOOKUP(CONCATENATE(C1156,E1156),Dato!$A$4:$I$218,7,0),\"\")","v":""},null,""]
[null,null,null,{"$f":"IF(C1157=\"\",\"\",VLOOKUP(C1157,Tabla_Regional[],3,0))","v":""},null,{"$f":"IF(E1157<>\"\",VLOOKUP(CONCATENATE(C1157,E1157),Dato!$A$4:$I$218,7,0),\"\")","v":""},null,""]
[null,null,null,{"$f":"IF(C1158=\"\",\"\",VLOOKUP(C1158,Tabla_Regional[],3,0))","v":""},null,{"$f":"IF(E1158<>\"\",VLOOKUP(CONCATENATE(C1158,E1158),Dato!$A$4:$I$218,7,0),\"\")","v":""},null,""]
[null,null,null,{"$f":"IF(C1159=\"\",\"\",VLOOKUP(C1159,Tabla_Regional[],3,0))","v":""},null,{"$f":"IF(E1159<>\"\",VLOOKUP(CONCATENATE(C1159,E1159),Dato!$A$4:$I$218,7,0),\"\")","v":""},null,""]
[null,null,null,{"$f":"IF(C1160=\"\",\"\",VLOOKUP(C1160,Tabla_Regional[],3,0))","v":""},null,{"$f":"IF(E1160<>\"\",VLOOKUP(CONCATENATE(C1160,E1160),Dato!$A$4:$I$218,7,0),\"\")","v":""},null,""]
[null,null,null,{"$f":"IF(C1161=\"\",\"\",VLOOKUP(C1161,Tabla_Regional[],3,0))","v":""},null,{"$f":"IF(E1161<>\"\",VLOOKUP(CONCATENATE(C1161,E1161),Dato!$A$4:$I$218,7,0),\"\")","v":""},null,""]
[null,null,null,{"$f":"IF(C1162=\"\",\"\",VLOOKUP(C1162,Tabla_Regional[],3,0))","v":""},null,{"$f":"IF(E1162<>\"\",VLOOKUP(CONCATENATE(C1162,E1162),Dato!$A$4:$I$218,7,0),\"\")","v":""},null,""]
[null,null,null,{"$f":"IF(C1163=\"\",\"\",VLOOKUP(C1163,Tabla_Regional[],3,0))","v":""},null,{"$f":"IF(E1163<>\"\",VLOOKUP(CONCATENATE(C1163,E1163),Dato!$A$4:$I$218,7,0),\"\")","v":""},null,""]
[null,null,null,{"$f":"IF(C1164=\"\",\"\",VLOOKUP(C1164,Tabla_Regional[],3,0))","v":""},null,{"$f":"IF(E1164<>\"\",VLOOKUP(CONCATENATE(C1164,E1164),Dato!$A$4:$I$218,7,0),\"\")","v":""},null,{"$f":"IF(G1164<>\"\",VLOOKUP(CONCATENATE(C1164,E1164,G1164),czmuni,7,0),\"\")","v":""}]
[null,null,null,{"$f":"IF(C1165=\"\",\"\",VLOOKUP(C1165,Tabla_Regional[],3,0))","v":""},null,{"$f":"IF(E1165<>\"\",VLOOKUP(CONCATENATE(C1165,E1165),Dato!$A$4:$I$218,7,0),\"\")","v":""},null,""]
[null,null,null,{"$f":"IF(C1166=\"\",\"\",VLOOKUP(C1166,Tabla_Regional[],3,0))","v":""},null,{"$f":"IF(E1166<>\"\",VLOOKUP(CONCATENATE(C1166,E1166),Dato!$A$4:$I$218,7,0),\"\")","v":""},null,""]
[null,null,null,{"$f":"IF(C1167=\"\",\"\",VLOOKUP(C1167,Tabla_Regional[],3,0))","v":""},null,{"$f":"IF(E1167<>\"\",VLOOKUP(CONCATENATE(C1167,E1167),Dato!$A$4:$I$218,7,0),\"\")","v":""},null,""]
[null,null,null,{"$f":"IF(C1168=\"\",\"\",VLOOKUP(C1168,Tabla_Regional[],3,0))","v":""},null,{"$f":"IF(E1168<>\"\",VLOOKUP(CONCATENATE(C1168,E1168),Dato!$A$4:$I$218,7,0),\"\")","v":""},null,""]
[null,null,null,{"$f":"IF(C1169=\"\",\"\",VLOOKUP(C1169,Tabla_Regional[],3,0))","v":""},null,{"$f":"IF(E1169<>\"\",VLOOKUP(CONCATENATE(C1169,E1169),Dato!$A$4:$I$218,7,0),\"\")","v":""},null,""]
[null,null,null,{"$f":"IF(C1170=\"\",\"\",VLOOKUP(C1170,Tabla_Regional[],3,0))","v":""},null,{"$f":"IF(E1170<>\"\",VLOOKUP(CONCATENATE(C1170,E1170),Dato!$A$4:$I$218,7,0),\"\")","v":""},null,""]
[null,null,null,{"$f":"IF(C1171=\"\",\"\",VLOOKUP(C1171,Tabla_Regional[],3,0))","v":""},null,{"$f":"IF(E1171<>\"\",VLOOKUP(CONCATENATE(C1171,E1171),Dato!$A$4:$I$218,7,0),\"\")","v":""},null,""]
[null,null,null,{"$f":"IF(C1172=\"\",\"\",VLOOKUP(C1172,Tabla_Regional[],3,0))","v":""},null,{"$f":"IF(E1172<>\"\",VLOOKUP(CONCATENATE(C1172,E1172),Dato!$A$4:$I$218,7,0),\"\")","v":""},null,""]
[null,null,null,{"$f":"IF(C1173=\"\",\"\",VLOOKUP(C1173,Tabla_Regional[],3,0))","v":""},null,{"$f":"IF(E1173<>\"\",VLOOKUP(CONCATENATE(C1173,E1173),Dato!$A$4:$I$218,7,0),\"\")","v":""},null,""]
[null,null,null,{"$f":"IF(C1174=\"\",\"\",VLOOKUP(C1174,Tabla_Regional[],3,0))","v":""},null,{"$f":"IF(E1174<>\"\",VLOOKUP(CONCATENATE(C1174,E1174),Dato!$A$4:$I$218,7,0),\"\")","v":""},null,""]
[null,null,null,{"$f":"IF(C1175=\"\",\"\",VLOOKUP(C1175,Tabla_Regional[],3,0))","v":""},null,{"$f":"IF(E1175<>\"\",VLOOKUP(CONCATENATE(C1175,E1175),Dato!$A$4:$I$218,7,0),\"\")","v":""},null,""]
[null,null,null,{"$f":"IF(C1176=\"\",\"\",VLOOKUP(C1176,Tabla_Regional[],3,0))","v":""},null,{"$f":"IF(E1176<>\"\",VLOOKUP(CONCATENATE(C1176,E1176),Dato!$A$4:$I$218,7,0),\"\")","v":""},null,""]
[null,null,null,{"$f":"IF(C1177=\"\",\"\",VLOOKUP(C1177,Tabla_Regional[],3,0))","v":""},null,{"$f":"IF(E1177<>\"\",VLOOKUP(CONCATENATE(C1177,E1177),Dato!$A$4:$I$218,7,0),\"\")","v":""},null,""]
[null,null,null,{"$f":"IF(C1178=\"\",\"\",VLOOKUP(C1178,Tabla_Regional[],3,0))","v":""},null,{"$f":"IF(E1178<>\"\",VLOOKUP(CONCATENATE(C1178,E1178),Dato!$A$4:$I$218,7,0),\"\")","v":""},null,""]
[null,null,null,{"$f":"IF(C1179=\"\",\"\",VLOOKUP(C1179,Tabla_Regional[],3,0))","v":""},null,{"$f":"IF(E1179<>\"\",VLOOKUP(CONCATENATE(C1179,E1179),Dato!$A$4:$I$218,7,0),\"\")","v":""},null,""]
[null,null,null,{"$f":"IF(C1180=\"\",\"\",VLOOKUP(C1180,Tabla_Regional[],3,0))","v":""},null,{"$f":"IF(E1180<>\"\",VLOOKUP(CONCATENATE(C1180,E1180),Dato!$A$4:$I$218,7,0),\"\")","v":""},null,""]
[null,null,null,{"$f":"IF(C1181=\"\",\"\",VLOOKUP(C1181,Tabla_Regional[],3,0))","v":""},null,{"$f":"IF(E1181<>\"\",VLOOKUP(CONCATENATE(C1181,E1181),Dato!$A$4:$I$218,7,0),\"\")","v":""},null,""]
[null,null,null,{"$f":"IF(C1182=\"\",\"\",VLOOKUP(C1182,Tabla_Regional[],3,0))","v":""},null,{"$f":"IF(E1182<>\"\",VLOOKUP(CONCATENATE(C1182,E1182),Dato!$A$4:$I$218,7,0),\"\")","v":""},null,""]
[null,null,null,{"$f":"IF(C1183=\"\",\"\",VLOOKUP(C1183,Tabla_Regional[],3,0))","v":""},null,{"$f":"IF(E1183<>\"\",VLOOKUP(CONCATENATE(C1183,E1183),Dato!$A$4:$I$218,7,0),\"\")","v":""},null,""]
[null,null,null,{"$f":"IF(C1184=\"\",\"\",VLOOKUP(C1184,Tabla_Regional[],3,0))","v":""},null,{"$f":"IF(E1184<>\"\",VLOOKUP(CONCATENATE(C1184,E1184),Dato!$A$4:$I$218,7,0),\"\")","v":""},null,""]
[null,null,null,{"$f":"IF(C1185=\"\",\"\",VLOOKUP(C1185,Tabla_Regional[],3,0))","v":""},null,{"$f":"IF(E1185<>\"\",VLOOKUP(CONCATENATE(C1185,E1185),Dato!$A$4:$I$218,7,0),\"\")","v":""},null,""]
[null,null,null,{"$f":"IF(C1186=\"\",\"\",VLOOKUP(C1186,Tabla_Regional[],3,0))","v":""},null,{"$f":"IF(E1186<>\"\",VLOOKUP(CONCATENATE(C1186,E1186),Dato!$A$4:$I$218,7,0),\"\")","v":""},null,""]
[null,null,null,{"$f":"IF(C1187=\"\",\"\",VLOOKUP(C1187,Tabla_Regional[],3,0))","v":""},null,{"$f":"IF(E1187<>\"\",VLOOKUP(CONCATENATE(C1187,E1187),Dato!$A$4:$I$218,7,0),\"\")","v":""},null,""]
[null,null,null,{"$f":"IF(C1188=\"\",\"\",VLOOKUP(C1188,Tabla_Regional[],3,0))","v":""},null,{"$f":"IF(E1188<>\"\",VLOOKUP(CONCATENATE(C1188,E1188),Dato!$A$4:$I$218,7,0),\"\")","v":""},null,""]
[null,null,null,{"$f":"IF(C1189=\"\",\"\",VLOOKUP(C1189,Tabla_Regional[],3,0))","v":""},null,{"$f":"IF(E1189<>\"\",VLOOKUP(CONCATENATE(C1189,E1189),Dato!$A$4:$I$218,7,0),\"\")","v":""},null,""]
[null,null,null,{"$f":"IF(C1190=\"\",\"\",VLOOKUP(C1190,Tabla_Regional[],3,0))","v":""},null,{"$f":"IF(E1190<>\"\",VLOOKUP(CONCATENATE(C1190,E1190),Dato!$A$4:$I$218,7,0),\"\")","v":""},null,""]
[null,null,null,{"$f":"IF(C1191=\"\",\"\",VLOOKUP(C1191,Tabla_Regional[],3,0))","v":""},null,{"$f":"IF(E1191<>\"\",VLOOKUP(CONCATENATE(C1191,E1191),Dato!$A$4:$I$218,7,0),\"\")","v":""},null,""]
[null,null,null,{"$f":"IF(C1192=\"\",\"\",VLOOKUP(C1192,Tabla_Regional[],3,0))","v":""},null,{"$f":"IF(E1192<>\"\",VLOOKUP(CONCATENATE(C1192,E1192),Dato!$A$4:$I$218,7,0),\"\")","v":""},null,""]
[null,null,null,{"$f":"IF(C1193=\"\",\"\",VLOOKUP(C1193,Tabla_Regional[],3,0))","v":""},null,{"$f":"IF(E1193<>\"\",VLOOKUP(CONCATENATE(C1193,E1193),Dato!$A$4:$I$218,7,0),\"\")","v":""},null,""]
[null,null,null,{"$f":"IF(C1194=\"\",\"\",VLOOKUP(C1194,Tabla_Regional[],3,0))","v":""},null,{"$f":"IF(E1194<>\"\",VLOOKUP(CONCATENATE(C1194,E1194),Dato!$A$4:$I$218,7,0),\"\")","v":""},null,""]
[null,null,null,{"$f":"IF(C1195=\"\",\"\",VLOOKUP(C1195,Tabla_Regional[],3,0))","v":""},null,{"$f":"IF(E1195<>\"\",VLOOKUP(CONCATENATE(C1195,E1195),Dato!$A$4:$I$218,7,0),\"\")","v":""},null,""]
[null,null,null,{"$f":"IF(C1196=\"\",\"\",VLOOKUP(C1196,Tabla_Regional[],3,0))","v":""},null,{"$f":"IF(E1196<>\"\",VLOOKUP(CONCATENATE(C1196,E1196),Dato!$A$4:$I$218,7,0),\"\")","v":""},null,""]
[null,null,null,{"$f":"IF(C1197=\"\",\"\",VLOOKUP(C1197,Tabla_Regional[],3,0))","v":""},null,{"$f":"IF(E1197<>\"\",VLOOKUP(CONCATENATE(C1197,E1197),Dato!$A$4:$I$218,7,0),\"\")","v":""},null,""]
[null,null,null,{"$f":"IF(C1198=\"\",\"\",VLOOKUP(C1198,Tabla_Regional[],3,0))","v":""},null,{"$f":"IF(E1198<>\"\",VLOOKUP(CONCATENATE(C1198,E1198),Dato!$A$4:$I$218,7,0),\"\")","v":""},null,""]
[null,null,null,{"$f":"IF(C1199=\"\",\"\",VLOOKUP(C1199,Tabla_Regional[],3,0))","v":""},null,{"$f":"IF(E1199<>\"\",VLOOKUP(CONCATENATE(C1199,E1199),Dato!$A$4:$I$218,7,0),\"\")","v":""},null,""]
[null,null,null,{"$f":"IF(C1200=\"\",\"\",VLOOKUP(C1200,Tabla_Regional[],3,0))","v":""},null,{"$f":"IF(E1200<>\"\",VLOOKUP(CONCATENATE(C1200,E1200),Dato!$A$4:$I$218,7,0),\"\")","v":""},null,""]
[null,null,null,{"$f":"IF(C1201=\"\",\"\",VLOOKUP(C1201,Tabla_Regional[],3,0))","v":""},null,{"$f":"IF(E1201<>\"\",VLOOKUP(CONCATENATE(C1201,E1201),Dato!$A$4:$I$218,7,0),\"\")","v":""},null,""]
[null,null,null,{"$f":"IF(C1202=\"\",\"\",VLOOKUP(C1202,Tabla_Regional[],3,0))","v":""},null,{"$f":"IF(E1202<>\"\",VLOOKUP(CONCATENATE(C1202,E1202),Dato!$A$4:$I$218,7,0),\"\")","v":""},null,""]
[null,null,null,{"$f":"IF(C1203=\"\",\"\",VLOOKUP(C1203,Tabla_Regional[],3,0))","v":""},null,{"$f":"IF(E1203<>\"\",VLOOKUP(CONCATENATE(C1203,E1203),Dato!$A$4:$I$218,7,0),\"\")","v":""},null,""]
[null,null,null,{"$f":"IF(C1204=\"\",\"\",VLOOKUP(C1204,Tabla_Regional[],3,0))","v":""},null,{"$f":"IF(E1204<>\"\",VLOOKUP(CONCATENATE(C1204,E1204),Dato!$A$4:$I$218,7,0),\"\")","v":""},null,""]
[null,null,null,{"$f":"IF(C1205=\"\",\"\",VLOOKUP(C1205,Tabla_Regional[],3,0))","v":""},null,{"$f":"IF(E1205<>\"\",VLOOKUP(CONCATENATE(C1205,E1205),Dato!$A$4:$I$218,7,0),\"\")","v":""},null,""]
[null,null,null,{"$f":"IF(C1206=\"\",\"\",VLOOKUP(C1206,Tabla_Regional[],3,0))","v":""},null,{"$f":"IF(E1206<>\"\",VLOOKUP(CONCATENATE(C1206,E1206),Dato!$A$4:$I$218,7,0),\"\")","v":""},null,""]
[null,null,null,{"$f":"IF(C1207=\"\",\"\",VLOOKUP(C1207,Tabla_Regional[],3,0))","v":""},null,{"$f":"IF(E1207<>\"\",VLOOKUP(CONCATENATE(C1207,E1207),Dato!$A$4:$I$218,7,0),\"\")","v":""},null,""]
[null,null,null,{"$f":"IF(C1208=\"\",\"\",VLOOKUP(C1208,Tabla_Regional[],3,0))","v":""},null,{"$f":"IF(E1208<>\"\",VLOOKUP(CONCATENATE(C1208,E1208),Dato!$A$4:$I$218,7,0),\"\")","v":""},null,""]
[null,null,null,{"$f":"IF(C1209=\"\",\"\",VLOOKUP(C1209,Tabla_Regional[],3,0))","v":""},null,{"$f":"IF(E1209<>\"\",VLOOKUP(CONCATENATE(C1209,E1209),Dato!$A$4:$I$218,7,0),\"\")","v":""},null,""]
[null,null,null,{"$f":"IF(C1210=\"\",\"\",VLOOKUP(C1210,Tabla_Regional[],3,0))","v":""},null,{"$f":"IF(E1210<>\"\",VLOOKUP(CONCATENATE(C1210,E1210),Dato!$A$4:$I$218,7,0),\"\")","v":""},null,""]
[null,null,null,{"$f":"IF(C1211=\"\",\"\",VLOOKUP(C1211,Tabla_Regional[],3,0))","v":""},null,{"$f":"IF(E1211<>\"\",VLOOKUP(CONCATENATE(C1211,E1211),Dato!$A$4:$I$218,7,0),\"\")","v":""},null,""]
[null,null,null,{"$f":"IF(C1212=\"\",\"\",VLOOKUP(C1212,Tabla_Regional[],3,0))","v":""},null,{"$f":"IF(E1212<>\"\",VLOOKUP(CONCATENATE(C1212,E1212),Dato!$A$4:$I$218,7,0),\"\")","v":""},null,""]
[null,null,null,{"$f":"IF(C1213=\"\",\"\",VLOOKUP(C1213,Tabla_Regional[],3,0))","v":""},null,{"$f":"IF(E1213<>\"\",VLOOKUP(CONCATENATE(C1213,E1213),Dato!$A$4:$I$218,7,0),\"\")","v":""},null,""]
[null,null,null,{"$f":"IF(C1214=\"\",\"\",VLOOKUP(C1214,Tabla_Regional[],3,0))","v":""},null,{"$f":"IF(E1214<>\"\",VLOOKUP(CONCATENATE(C1214,E1214),Dato!$A$4:$I$218,7,0),\"\")","v":""},null,""]
[null,null,null,{"$f":"IF(C1215=\"\",\"\",VLOOKUP(C1215,Tabla_Regional[],3,0))","v":""},null,{"$f":"IF(E1215<>\"\",VLOOKUP(CONCATENATE(C1215,E1215),Dato!$A$4:$I$218,7,0),\"\")","v":""},null,""]
[null,null,null,{"$f":"IF(C1216=\"\",\"\",VLOOKUP(C1216,Tabla_Regional[],3,0))","v":""},null,{"$f":"IF(E1216<>\"\",VLOOKUP(CONCATENATE(C1216,E1216),Dato!$A$4:$I$218,7,0),\"\")","v":""},null,""]
[null,null,null,{"$f":"IF(C1217=\"\",\"\",VLOOKUP(C1217,Tabla_Regional[],3,0))","v":""},null,{"$f":"IF(E1217<>\"\",VLOOKUP(CONCATENATE(C1217,E1217),Dato!$A$4:$I$218,7,0),\"\")","v":""},null,""]
[null,null,null,{"$f":"IF(C1218=\"\",\"\",VLOOKUP(C1218,Tabla_Regional[],3,0))","v":""},null,{"$f":"IF(E1218<>\"\",VLOOKUP(CONCATENATE(C1218,E1218),Dato!$A$4:$I$218,7,0),\"\")","v":""},null,""]
[null,null,null,{"$f":"IF(C1219=\"\",\"\",VLOOKUP(C1219,Tabla_Regional[],3,0))","v":""},null,{"$f":"IF(E1219<>\"\",VLOOKUP(CONCATENATE(C1219,E1219),Dato!$A$4:$I$218,7,0),\"\")","v":""},null,""]
[null,null,null,{"$f":"IF(C1220=\"\",\"\",VLOOKUP(C1220,Tabla_Regional[],3,0))","v":""},null,{"$f":"IF(E1220<>\"\",VLOOKUP(CONCATENATE(C1220,E1220),Dato!$A$4:$I$218,7,0),\"\")","v":""},null,""]
[null,null,null,{"$f":"IF(C1221=\"\",\"\",VLOOKUP(C1221,Tabla_Regional[],3,0))","v":""},null,{"$f":"IF(E1221<>\"\",VLOOKUP(CONCATENATE(C1221,E1221),Dato!$A$4:$I$218,7,0),\"\")","v":""},null,""]
[null,null,null,{"$f":"IF(C1222=\"\",\"\",VLOOKUP(C1222,Tabla_Regional[],3,0))","v":""},null,{"$f":"IF(E1222<>\"\",VLOOKUP(CONCATENATE(C1222,E1222),Dato!$A$4:$I$218,7,0),\"\")","v":""},null,""]
[null,null,null,{"$f":"IF(C1223=\"\",\"\",VLOOKUP(C1223,Tabla_Regional[],3,0))","v":""},null,{"$f":"IF(E1223<>\"\",VLOOKUP(CONCATENATE(C1223,E1223),Dato!$A$4:$I$218,7,0),\"\")","v":""},null,""]
[null,null,null,{"$f":"IF(C1224=\"\",\"\",VLOOKUP(C1224,Tabla_Regional[],3,0))","v":""},null,{"$f":"IF(E1224<>\"\",VLOOKUP(CONCATENATE(C1224,E1224),Dato!$A$4:$I$218,7,0),\"\")","v":""},null,""]
[null,null,null,{"$f":"IF(C1225=\"\",\"\",VLOOKUP(C1225,Tabla_Regional[],3,0))","v":""},null,{"$f":"IF(E1225<>\"\",VLOOKUP(CONCATENATE(C1225,E1225),Dato!$A$4:$I$218,7,0),\"\")","v":""},null,""]
[null,null,null,{"$f":"IF(C1226=\"\",\"\",VLOOKUP(C1226,Tabla_Regional[],3,0))","v":""},null,{"$f":"IF(E1226<>\"\",VLOOKUP(CONCATENATE(C1226,E1226),Dato!$A$4:$I$218,7,0),\"\")","v":""},null,""]
[null,null,null,{"$f":"IF(C1227=\"\",\"\",VLOOKUP(C1227,Tabla_Regional[],3,0))","v":""},null,{"$f":"IF(E1227<>\"\",VLOOKUP(CONCATENATE(C1227,E1227),Dato!$A$4:$I$218,7,0),\"\")","v":""},null,""]
[null,null,null,{"$f":"IF(C1228=\"\",\"\",VLOOKUP(C1228,Tabla_Regional[],3,0))","v":""},null,{"$f":"IF(E1228<>\"\",VLOOKUP(CONCATENATE(C1228,E1228),Dato!$A$4:$I$218,7,0),\"\")","v":""},null,{"$f":"IF(G1228<>\"\",VLOOKUP(CONCATENATE(C1228,E1228,G1228),czmuni,7,0),\"\")","v":""}]
[null,null,null,{"$f":"IF(C1229=\"\",\"\",VLOOKUP(C1229,Tabla_Regional[],3,0))","v":""},null,{"$f":"IF(E1229<>\"\",VLOOKUP(CONCATENATE(C1229,E1229),Dato!$A$4:$I$218,7,0),\"\")","v":""},null,""]
[null,null,null,{"$f":"IF(C1230=\"\",\"\",VLOOKUP(C1230,Tabla_Regional[],3,0))","v":""},null,{"$f":"IF(E1230<>\"\",VLOOKUP(CONCATENATE(C1230,E1230),Dato!$A$4:$I$218,7,0),\"\")","v":""},null,""]
[null,null,null,{"$f":"IF(C1231=\"\",\"\",VLOOKUP(C1231,Tabla_Regional[],3,0))","v":""},null,{"$f":"IF(E1231<>\"\",VLOOKUP(CONCATENATE(C1231,E1231),Dato!$A$4:$I$218,7,0),\"\")","v":""},null,""]
[null,null,null,{"$f":"IF(C1232=\"\",\"\",VLOOKUP(C1232,Tabla_Regional[],3,0))","v":""},null,{"$f":"IF(E1232<>\"\",VLOOKUP(CONCATENATE(C1232,E1232),Dato!$A$4:$I$218,7,0),\"\")","v":""},null,""]
[null,null,null,{"$f":"IF(C1233=\"\",\"\",VLOOKUP(C1233,Tabla_Regional[],3,0))","v":""},null,{"$f":"IF(E1233<>\"\",VLOOKUP(CONCATENATE(C1233,E1233),Dato!$A$4:$I$218,7,0),\"\")","v":""},null,""]
[null,null,null,{"$f":"IF(C1234=\"\",\"\",VLOOKUP(C1234,Tabla_Regional[],3,0))","v":""},null,{"$f":"IF(E1234<>\"\",VLOOKUP(CONCATENATE(C1234,E1234),Dato!$A$4:$I$218,7,0),\"\")","v":""},null,""]
[null,null,null,{"$f":"IF(C1235=\"\",\"\",VLOOKUP(C1235,Tabla_Regional[],3,0))","v":""},null,{"$f":"IF(E1235<>\"\",VLOOKUP(CONCATENATE(C1235,E1235),Dato!$A$4:$I$218,7,0),\"\")","v":""},null,""]
[null,null,null,{"$f":"IF(C1236=\"\",\"\",VLOOKUP(C1236,Tabla_Regional[],3,0))","v":""},null,{"$f":"IF(E1236<>\"\",VLOOKUP(CONCATENATE(C1236,E1236),Dato!$A$4:$I$218,7,0),\"\")","v":""},null,""]
[null,null,null,{"$f":"IF(C1237=\"\",\"\",VLOOKUP(C1237,Tabla_Regional[],3,0))","v":""},null,{"$f":"IF(E1237<>\"\",VLOOKUP(CONCATENATE(C1237,E1237),Dato!$A$4:$I$218,7,0),\"\")","v":""},null,""]
[null,null,null,{"$f":"IF(C1238=\"\",\"\",VLOOKUP(C1238,Tabla_Regional[],3,0))","v":""},null,{"$f":"IF(E1238<>\"\",VLOOKUP(CONCATENATE(C1238,E1238),Dato!$A$4:$I$218,7,0),\"\")","v":""},null,""]
[null,null,null,{"$f":"IF(C1239=\"\",\"\",VLOOKUP(C1239,Tabla_Regional[],3,0))","v":""},null,{"$f":"IF(E1239<>\"\",VLOOKUP(CONCATENATE(C1239,E1239),Dato!$A$4:$I$218,7,0),\"\")","v":""},null,""]
[null,null,null,{"$f":"IF(C1240=\"\",\"\",VLOOKUP(C1240,Tabla_Regional[],3,0))","v":""},null,{"$f":"IF(E1240<>\"\",VLOOKUP(CONCATENATE(C1240,E1240),Dato!$A$4:$I$218,7,0),\"\")","v":""},null,""]
[null,null,null,{"$f":"IF(C1241=\"\",\"\",VLOOKUP(C1241,Tabla_Regional[],3,0))","v":""},null,{"$f":"IF(E1241<>\"\",VLOOKUP(CONCATENATE(C1241,E1241),Dato!$A$4:$I$218,7,0),\"\")","v":""},null,""]
[null,null,null,{"$f":"IF(C1242=\"\",\"\",VLOOKUP(C1242,Tabla_Regional[],3,0))","v":""},null,{"$f":"IF(E1242<>\"\",VLOOKUP(CONCATENATE(C1242,E1242),Dato!$A$4:$I$218,7,0),\"\")","v":""},null,""]
[null,null,null,{"$f":"IF(C1243=\"\",\"\",VLOOKUP(C1243,Tabla_Regional[],3,0))","v":""},null,{"$f":"IF(E1243<>\"\",VLOOKUP(CONCATENATE(C1243,E1243),Dato!$A$4:$I$218,7,0),\"\")","v":""},null,""]
[null,null,null,{"$f":"IF(C1244=\"\",\"\",VLOOKUP(C1244,Tabla_Regional[],3,0))","v":""},null,{"$f":"IF(E1244<>\"\",VLOOKUP(CONCATENATE(C1244,E1244),Dato!$A$4:$I$218,7,0),\"\")","v":""},null,""]
[null,null,null,{"$f":"IF(C1245=\"\",\"\",VLOOKUP(C1245,Tabla_Regional[],3,0))","v":""},null,{"$f":"IF(E1245<>\"\",VLOOKUP(CONCATENATE(C1245,E1245),Dato!$A$4:$I$218,7,0),\"\")","v":""},null,""]
[null,null,null,{"$f":"IF(C1246=\"\",\"\",VLOOKUP(C1246,Tabla_Regional[],3,0))","v":""},null,{"$f":"IF(E1246<>\"\",VLOOKUP(CONCATENATE(C1246,E1246),Dato!$A$4:$I$218,7,0),\"\")","v":""},null,""]
[null,null,null,{"$f":"IF(C1247=\"\",\"\",VLOOKUP(C1247,Tabla_Regional[],3,0))","v":""},null,{"$f":"IF(E1247<>\"\",VLOOKUP(CONCATENATE(C1247,E1247),Dato!$A$4:$I$218,7,0),\"\")","v":""},null,""]
[null,null,null,{"$f":"IF(C1248=\"\",\"\",VLOOKUP(C1248,Tabla_Regional[],3,0))","v":""},null,{"$f":"IF(E1248<>\"\",VLOOKUP(CONCATENATE(C1248,E1248),Dato!$A$4:$I$218,7,0),\"\")","v":""},null,""]
[null,null,null,{"$f":"IF(C1249=\"\",\"\",VLOOKUP(C1249,Tabla_Regional[],3,0))","v":""},null,{"$f":"IF(E1249<>\"\",VLOOKUP(CONCATENATE(C1249,E1249),Dato!$A$4:$I$218,7,0),\"\")","v":""},null,""]
[null,null,null,{"$f":"IF(C1250=\"\",\"\",VLOOKUP(C1250,Tabla_Regional[],3,0))","v":""},null,{"$f":"IF(E1250<>\"\",VLOOKUP(CONCATENATE(C1250,E1250),Dato!$A$4:$I$218,7,0),\"\")","v":""},null,""]
[null,null,null,{"$f":"IF(C1251=\"\",\"\",VLOOKUP(C1251,Tabla_Regional[],3,0))","v":""},null,{"$f":"IF(E1251<>\"\",VLOOKUP(CONCATENATE(C1251,E1251),Dato!$A$4:$I$218,7,0),\"\")","v":""},null,""]
[null,null,null,{"$f":"IF(C1252=\"\",\"\",VLOOKUP(C1252,Tabla_Regional[],3,0))","v":""},null,{"$f":"IF(E1252<>\"\",VLOOKUP(CONCATENATE(C1252,E1252),Dato!$A$4:$I$218,7,0),\"\")","v":""},null,""]
[null,null,null,{"$f":"IF(C1253=\"\",\"\",VLOOKUP(C1253,Tabla_Regional[],3,0))","v":""},null,{"$f":"IF(E1253<>\"\",VLOOKUP(CONCATENATE(C1253,E1253),Dato!$A$4:$I$218,7,0),\"\")","v":""},null,""]
[null,null,null,{"$f":"IF(C1254=\"\",\"\",VLOOKUP(C1254,Tabla_Regional[],3,0))","v":""},null,{"$f":"IF(E1254<>\"\",VLOOKUP(CONCATENATE(C1254,E1254),Dato!$A$4:$I$218,7,0),\"\")","v":""},null,""]
[null,null,null,{"$f":"IF(C1255=\"\",\"\",VLOOKUP(C1255,Tabla_Regional[],3,0))","v":""},null,{"$f":"IF(E1255<>\"\",VLOOKUP(CONCATENATE(C1255,E1255),Dato!$A$4:$I$218,7,0),\"\")","v":""},null,""]
[null,null,null,{"$f":"IF(C1256=\"\",\"\",VLOOKUP(C1256,Tabla_Regional[],3,0))","v":""},null,{"$f":"IF(E1256<>\"\",VLOOKUP(CONCATENATE(C1256,E1256),Dato!$A$4:$I$218,7,0),\"\")","v":""},null,""]
[null,null,null,{"$f":"IF(C1257=\"\",\"\",VLOOKUP(C1257,Tabla_Regional[],3,0))","v":""},null,{"$f":"IF(E1257<>\"\",VLOOKUP(CONCATENATE(C1257,E1257),Dato!$A$4:$I$218,7,0),\"\")","v":""},null,""]
[null,null,null,{"$f":"IF(C1258=\"\",\"\",VLOOKUP(C1258,Tabla_Regional[],3,0))","v":""},null,{"$f":"IF(E1258<>\"\",VLOOKUP(CONCATENATE(C1258,E1258),Dato!$A$4:$I$218,7,0),\"\")","v":""},null,""]
[null,null,null,{"$f":"IF(C1259=\"\",\"\",VLOOKUP(C1259,Tabla_Regional[],3,0))","v":""},null,{"$f":"IF(E1259<>\"\",VLOOKUP(CONCATENATE(C1259,E1259),Dato!$A$4:$I$218,7,0),\"\")","v":""},null,""]
[null,null,null,{"$f":"IF(C1260=\"\",\"\",VLOOKUP(C1260,Tabla_Regional[],3,0))","v":""},null,{"$f":"IF(E1260<>\"\",VLOOKUP(CONCATENATE(C1260,E1260),Dato!$A$4:$I$218,7,0),\"\")","v":""},null,""]
[null,null,null,{"$f":"IF(C1261=\"\",\"\",VLOOKUP(C1261,Tabla_Regional[],3,0))","v":""},null,{"$f":"IF(E1261<>\"\",VLOOKUP(CONCATENATE(C1261,E1261),Dato!$A$4:$I$218,7,0),\"\")","v":""},null,""]
[null,null,null,{"$f":"IF(C1262=\"\",\"\",VLOOKUP(C1262,Tabla_Regional[],3,0))","v":""},null,{"$f":"IF(E1262<>\"\",VLOOKUP(CONCATENATE(C1262,E1262),Dato!$A$4:$I$218,7,0),\"\")","v":""},null,""]
[null,null,null,{"$f":"IF(C1263=\"\",\"\",VLOOKUP(C1263,Tabla_Regional[],3,0))","v":""},null,{"$f":"IF(E1263<>\"\",VLOOKUP(CONCATENATE(C1263,E1263),Dato!$A$4:$I$218,7,0),\"\")","v":""},null,""]
[null,null,null,{"$f":"IF(C1264=\"\",\"\",VLOOKUP(C1264,Tabla_Regional[],3,0))","v":""},null,{"$f":"IF(E1264<>\"\",VLOOKUP(CONCATENATE(C1264,E1264),Dato!$A$4:$I$218,7,0),\"\")","v":""},null,""]
[null,null,null,{"$f":"IF(C1265=\"\",\"\",VLOOKUP(C1265,Tabla_Regional[],3,0))","v":""},null,{"$f":"IF(E1265<>\"\",VLOOKUP(CONCATENATE(C1265,E1265),Dato!$A$4:$I$218,7,0),\"\")","v":""},null,""]
[null,null,null,{"$f":"IF(C1266=\"\",\"\",VLOOKUP(C1266,Tabla_Regional[],3,0))","v":""},null,{"$f":"IF(E1266<>\"\",VLOOKUP(CONCATENATE(C1266,E1266),Dato!$A$4:$I$218,7,0),\"\")","v":""},null,""]
[null,null,null,{"$f":"IF(C1267=\"\",\"\",VLOOKUP(C1267,Tabla_Regional[],3,0))","v":""},null,{"$f":"IF(E1267<>\"\",VLOOKUP(CONCATENATE(C1267,E1267),Dato!$A$4:$I$218,7,0),\"\")","v":""},null,""]
[null,null,null,{"$f":"IF(C1268=\"\",\"\",VLOOKUP(C1268,Tabla_Regional[],3,0))","v":""},null,{"$f":"IF(E1268<>\"\",VLOOKUP(CONCATENATE(C1268,E1268),Dato!$A$4:$I$218,7,0),\"\")","v":""},null,""]
[null,null,null,{"$f":"IF(C1269=\"\",\"\",VLOOKUP(C1269,Tabla_Regional[],3,0))","v":""},null,{"$f":"IF(E1269<>\"\",VLOOKUP(CONCATENATE(C1269,E1269),Dato!$A$4:$I$218,7,0),\"\")","v":""},null,""]
[null,null,null,{"$f":"IF(C1270=\"\",\"\",VLOOKUP(C1270,Tabla_Regional[],3,0))","v":""},null,{"$f":"IF(E1270<>\"\",VLOOKUP(CONCATENATE(C1270,E1270),Dato!$A$4:$I$218,7,0),\"\")","v":""},null,""]
[null,null,null,{"$f":"IF(C1271=\"\",\"\",VLOOKUP(C1271,Tabla_Regional[],3,0))","v":""},null,{"$f":"IF(E1271<>\"\",VLOOKUP(CONCATENATE(C1271,E1271),Dato!$A$4:$I$218,7,0),\"\")","v":""},null,""]
[null,null,null,{"$f":"IF(C1272=\"\",\"\",VLOOKUP(C1272,Tabla_Regional[],3,0))","v":""},null,{"$f":"IF(E1272<>\"\",VLOOKUP(CONCATENATE(C1272,E1272),Dato!$A$4:$I$218,7,0),\"\")","v":""},null,""]
[null,null,null,{"$f":"IF(C1273=\"\",\"\",VLOOKUP(C1273,Tabla_Regional[],3,0))","v":""},null,{"$f":"IF(E1273<>\"\",VLOOKUP(CONCATENATE(C1273,E1273),Dato!$A$4:$I$218,7,0),\"\")","v":""},null,""]
[null,null,null,{"$f":"IF(C1274=\"\",\"\",VLOOKUP(C1274,Tabla_Regional[],3,0))","v":""},null,{"$f":"IF(E1274<>\"\",VLOOKUP(CONCATENATE(C1274,E1274),Dato!$A$4:$I$218,7,0),\"\")","v":""},null,""]
[null,null,null,{"$f":"IF(C1275=\"\",\"\",VLOOKUP(C1275,Tabla_Regional[],3,0))","v":""},null,{"$f":"IF(E1275<>\"\",VLOOKUP(CONCATENATE(C1275,E1275),Dato!$A$4:$I$218,7,0),\"\")","v":""},null,""]
[null,null,null,{"$f":"IF(C1276=\"\",\"\",VLOOKUP(C1276,Tabla_Regional[],3,0))","v":""},null,{"$f":"IF(E1276<>\"\",VLOOKUP(CONCATENATE(C1276,E1276),Dato!$A$4:$I$218,7,0),\"\")","v":""},null,""]
[null,null,null,{"$f":"IF(C1277=\"\",\"\",VLOOKUP(C1277,Tabla_Regional[],3,0))","v":""},null,{"$f":"IF(E1277<>\"\",VLOOKUP(CONCATENATE(C1277,E1277),Dato!$A$4:$I$218,7,0),\"\")","v":""},null,""]
[null,null,null,{"$f":"IF(C1278=\"\",\"\",VLOOKUP(C1278,Tabla_Regional[],3,0))","v":""},null,{"$f":"IF(E1278<>\"\",VLOOKUP(CONCATENATE(C1278,E1278),Dato!$A$4:$I$218,7,0),\"\")","v":""},null,""]
[null,null,null,{"$f":"IF(C1279=\"\",\"\",VLOOKUP(C1279,Tabla_Regional[],3,0))","v":""},null,{"$f":"IF(E1279<>\"\",VLOOKUP(CONCATENATE(C1279,E1279),Dato!$A$4:$I$218,7,0),\"\")","v":""},null,""]
[null,null,null,{"$f":"IF(C1280=\"\",\"\",VLOOKUP(C1280,Tabla_Regional[],3,0))","v":""},null,{"$f":"IF(E1280<>\"\",VLOOKUP(CONCATENATE(C1280,E1280),Dato!$A$4:$I$218,7,0),\"\")","v":""},null,""]
[null,null,null,{"$f":"IF(C1281=\"\",\"\",VLOOKUP(C1281,Tabla_Regional[],3,0))","v":""},null,{"$f":"IF(E1281<>\"\",VLOOKUP(CONCATENATE(C1281,E1281),Dato!$A$4:$I$218,7,0),\"\")","v":""},null,""]
[null,null,null,{"$f":"IF(C1282=\"\",\"\",VLOOKUP(C1282,Tabla_Regional[],3,0))","v":""},null,{"$f":"IF(E1282<>\"\",VLOOKUP(CONCATENATE(C1282,E1282),Dato!$A$4:$I$218,7,0),\"\")","v":""},null,""]
[null,null,null,{"$f":"IF(C1283=\"\",\"\",VLOOKUP(C1283,Tabla_Regional[],3,0))","v":""},null,{"$f":"IF(E1283<>\"\",VLOOKUP(CONCATENATE(C1283,E1283),Dato!$A$4:$I$218,7,0),\"\")","v":""},null,""]
[null,null,null,{"$f":"IF(C1284=\"\",\"\",VLOOKUP(C1284,Tabla_Regional[],3,0))","v":""},null,{"$f":"IF(E1284<>\"\",VLOOKUP(CONCATENATE(C1284,E1284),Dato!$A$4:$I$218,7,0),\"\")","v":""},null,""]
[null,null,null,{"$f":"IF(C1285=\"\",\"\",VLOOKUP(C1285,Tabla_Regional[],3,0))","v":""},null,{"$f":"IF(E1285<>\"\",VLOOKUP(CONCATENATE(C1285,E1285),Dato!$A$4:$I$218,7,0),\"\")","v":""},null,""]
[null,null,null,{"$f":"IF(C1286=\"\",\"\",VLOOKUP(C1286,Tabla_Regional[],3,0))","v":""},null,{"$f":"IF(E1286<>\"\",VLOOKUP(CONCATENATE(C1286,E1286),Dato!$A$4:$I$218,7,0),\"\")","v":""},null,""]
[null,null,null,{"$f":"IF(C1287=\"\",\"\",VLOOKUP(C1287,Tabla_Regional[],3,0))","v":""},null,{"$f":"IF(E1287<>\"\",VLOOKUP(CONCATENATE(C1287,E1287),Dato!$A$4:$I$218,7,0),\"\")","v":""},null,""]
[null,null,null,{"$f":"IF(C1288=\"\",\"\",VLOOKUP(C1288,Tabla_Regional[],3,0))","v":""},null,{"$f":"IF(E1288<>\"\",VLOOKUP(CONCATENATE(C1288,E1288),Dato!$A$4:$I$218,7,0),\"\")","v":""},null,""]
[null,null,null,{"$f":"IF(C1289=\"\",\"\",VLOOKUP(C1289,Tabla_Regional[],3,0))","v":""},null,{"$f":"IF(E1289<>\"\",VLOOKUP(CONCATENATE(C1289,E1289),Dato!$A$4:$I$218,7,0),\"\")","v":""},null,""]
[null,null,null,{"$f":"IF(C1290=\"\",\"\",VLOOKUP(C1290,Tabla_Regional[],3,0))","v":""},null,{"$f":"IF(E1290<>\"\",VLOOKUP(CONCATENATE(C1290,E1290),Dato!$A$4:$I$218,7,0),\"\")","v":""},null,""]
[null,null,null,{"$f":"IF(C1291=\"\",\"\",VLOOKUP(C1291,Tabla_Regional[],3,0))","v":""},null,{"$f":"IF(E1291<>\"\",VLOOKUP(CONCATENATE(C1291,E1291),Dato!$A$4:$I$218,7,0),\"\")","v":""},null,""]
[null,null,null,{"$f":"IF(C1292=\"\",\"\",VLOOKUP(C1292,Tabla_Regional[],3,0))","v":""},null,{"$f":"IF(E1292<>\"\",VLOOKUP(CONCATENATE(C1292,E1292),Dato!$A$4:$I$218,7,0),\"\")","v":""},null,{"$f":"IF(G1292<>\"\",VLOOKUP(CONCATENATE(C1292,E1292,G1292),czmuni,7,0),\"\")","v":""}]
[null,null,null,{"$f":"IF(C1293=\"\",\"\",VLOOKUP(C1293,Tabla_Regional[],3,0))","v":""},null,{"$f":"IF(E1293<>\"\",VLOOKUP(CONCATENATE(C1293,E1293),Dato!$A$4:$I$218,7,0),\"\")","v":""},null,""]
[null,null,null,{"$f":"IF(C1294=\"\",\"\",VLOOKUP(C1294,Tabla_Regional[],3,0))","v":""},null,{"$f":"IF(E1294<>\"\",VLOOKUP(CONCATENATE(C1294,E1294),Dato!$A$4:$I$218,7,0),\"\")","v":""},null,""]
[null,null,null,{"$f":"IF(C1295=\"\",\"\",VLOOKUP(C1295,Tabla_Regional[],3,0))","v":""},null,{"$f":"IF(E1295<>\"\",VLOOKUP(CONCATENATE(C1295,E1295),Dato!$A$4:$I$218,7,0),\"\")","v":""},null,""]
[null,null,null,{"$f":"IF(C1296=\"\",\"\",VLOOKUP(C1296,Tabla_Regional[],3,0))","v":""},null,{"$f":"IF(E1296<>\"\",VLOOKUP(CONCATENATE(C1296,E1296),Dato!$A$4:$I$218,7,0),\"\")","v":""},null,""]
[null,null,null,{"$f":"IF(C1297=\"\",\"\",VLOOKUP(C1297,Tabla_Regional[],3,0))","v":""},null,{"$f":"IF(E1297<>\"\",VLOOKUP(CONCATENATE(C1297,E1297),Dato!$A$4:$I$218,7,0),\"\")","v":""},null,""]
[null,null,null,{"$f":"IF(C1298=\"\",\"\",VLOOKUP(C1298,Tabla_Regional[],3,0))","v":""},null,{"$f":"IF(E1298<>\"\",VLOOKUP(CONCATENATE(C1298,E1298),Dato!$A$4:$I$218,7,0),\"\")","v":""},null,""]
[null,null,null,{"$f":"IF(C1299=\"\",\"\",VLOOKUP(C1299,Tabla_Regional[],3,0))","v":""},null,{"$f":"IF(E1299<>\"\",VLOOKUP(CONCATENATE(C1299,E1299),Dato!$A$4:$I$218,7,0),\"\")","v":""},null,""]
[null,null,null,{"$f":"IF(C1300=\"\",\"\",VLOOKUP(C1300,Tabla_Regional[],3,0))","v":""},null,{"$f":"IF(E1300<>\"\",VLOOKUP(CONCATENATE(C1300,E1300),Dato!$A$4:$I$218,7,0),\"\")","v":""},null,""]
[null,null,null,{"$f":"IF(C1301=\"\",\"\",VLOOKUP(C1301,Tabla_Regional[],3,0))","v":""},null,{"$f":"IF(E1301<>\"\",VLOOKUP(CONCATENATE(C1301,E1301),Dato!$A$4:$I$218,7,0),\"\")","v":""},null,""]
[null,null,null,{"$f":"IF(C1302=\"\",\"\",VLOOKUP(C1302,Tabla_Regional[],3,0))","v":""},null,{"$f":"IF(E1302<>\"\",VLOOKUP(CONCATENATE(C1302,E1302),Dato!$A$4:$I$218,7,0),\"\")","v":""},null,""]
[null,null,null,{"$f":"IF(C1303=\"\",\"\",VLOOKUP(C1303,Tabla_Regional[],3,0))","v":""},null,{"$f":"IF(E1303<>\"\",VLOOKUP(CONCATENATE(C1303,E1303),Dato!$A$4:$I$218,7,0),\"\")","v":""},null,""]
[null,null,null,{"$f":"IF(C1304=\"\",\"\",VLOOKUP(C1304,Tabla_Regional[],3,0))","v":""},null,{"$f":"IF(E1304<>\"\",VLOOKUP(CONCATENATE(C1304,E1304),Dato!$A$4:$I$218,7,0),\"\")","v":""},null,""]
[null,null,null,{"$f":"IF(C1305=\"\",\"\",VLOOKUP(C1305,Tabla_Regional[],3,0))","v":""},null,{"$f":"IF(E1305<>\"\",VLOOKUP(CONCATENATE(C1305,E1305),Dato!$A$4:$I$218,7,0),\"\")","v":""},null,""]
[null,null,null,{"$f":"IF(C1306=\"\",\"\",VLOOKUP(C1306,Tabla_Regional[],3,0))","v":""},null,{"$f":"IF(E1306<>\"\",VLOOKUP(CONCATENATE(C1306,E1306),Dato!$A$4:$I$218,7,0),\"\")","v":""},null,""]
[null,null,null,{"$f":"IF(C1307=\"\",\"\",VLOOKUP(C1307,Tabla_Regional[],3,0))","v":""},null,{"$f":"IF(E1307<>\"\",VLOOKUP(CONCATENATE(C1307,E1307),Dato!$A$4:$I$218,7,0),\"\")","v":""},null,""]
[null,null,null,{"$f":"IF(C1308=\"\",\"\",VLOOKUP(C1308,Tabla_Regional[],3,0))","v":""},null,{"$f":"IF(E1308<>\"\",VLOOKUP(CONCATENATE(C1308,E1308),Dato!$A$4:$I$218,7,0),\"\")","v":""},null,""]
[null,null,null,{"$f":"IF(C1309=\"\",\"\",VLOOKUP(C1309,Tabla_Regional[],3,0))","v":""},null,{"$f":"IF(E1309<>\"\",VLOOKUP(CONCATENATE(C1309,E1309),Dato!$A$4:$I$218,7,0),\"\")","v":""},null,""]
[null,null,null,{"$f":"IF(C1310=\"\",\"\",VLOOKUP(C1310,Tabla_Regional[],3,0))","v":""},null,{"$f":"IF(E1310<>\"\",VLOOKUP(CONCATENATE(C1310,E1310),Dato!$A$4:$I$218,7,0),\"\")","v":""},null,""]
[null,null,null,{"$f":"IF(C1311=\"\",\"\",VLOOKUP(C1311,Tabla_Regional[],3,0))","v":""},null,{"$f":"IF(E1311<>\"\",VLOOKUP(CONCATENATE(C1311,E1311),Dato!$A$4:$I$218,7,0),\"\")","v":""},null,""]
[null,null,null,{"$f":"IF(C1312=\"\",\"\",VLOOKUP(C1312,Tabla_Regional[],3,0))","v":""},null,{"$f":"IF(E1312<>\"\",VLOOKUP(CONCATENATE(C1312,E1312),Dato!$A$4:$I$218,7,0),\"\")","v":""},null,""]
[null,null,null,{"$f":"IF(C1313=\"\",\"\",VLOOKUP(C1313,Tabla_Regional[],3,0))","v":""},null,{"$f":"IF(E1313<>\"\",VLOOKUP(CONCATENATE(C1313,E1313),Dato!$A$4:$I$218,7,0),\"\")","v":""},null,""]
[null,null,null,{"$f":"IF(C1314=\"\",\"\",VLOOKUP(C1314,Tabla_Regional[],3,0))","v":""},null,{"$f":"IF(E1314<>\"\",VLOOKUP(CONCATENATE(C1314,E1314),Dato!$A$4:$I$218,7,0),\"\")","v":""},null,""]
[null,null,null,{"$f":"IF(C1315=\"\",\"\",VLOOKUP(C1315,Tabla_Regional[],3,0))","v":""},null,{"$f":"IF(E1315<>\"\",VLOOKUP(CONCATENATE(C1315,E1315),Dato!$A$4:$I$218,7,0),\"\")","v":""},null,""]
[null,null,null,{"$f":"IF(C1316=\"\",\"\",VLOOKUP(C1316,Tabla_Regional[],3,0))","v":""},null,{"$f":"IF(E1316<>\"\",VLOOKUP(CONCATENATE(C1316,E1316),Dato!$A$4:$I$218,7,0),\"\")","v":""},null,""]
[null,null,null,{"$f":"IF(C1317=\"\",\"\",VLOOKUP(C1317,Tabla_Regional[],3,0))","v":""},null,{"$f":"IF(E1317<>\"\",VLOOKUP(CONCATENATE(C1317,E1317),Dato!$A$4:$I$218,7,0),\"\")","v":""},null,""]
[null,null,null,{"$f":"IF(C1318=\"\",\"\",VLOOKUP(C1318,Tabla_Regional[],3,0))","v":""},null,{"$f":"IF(E1318<>\"\",VLOOKUP(CONCATENATE(C1318,E1318),Dato!$A$4:$I$218,7,0),\"\")","v":""},null,""]
[null,null,null,{"$f":"IF(C1319=\"\",\"\",VLOOKUP(C1319,Tabla_Regional[],3,0))","v":""},null,{"$f":"IF(E1319<>\"\",VLOOKUP(CONCATENATE(C1319,E1319),Dato!$A$4:$I$218,7,0),\"\")","v":""},null,""]
[null,null,null,{"$f":"IF(C1320=\"\",\"\",VLOOKUP(C1320,Tabla_Regional[],3,0))","v":""},null,{"$f":"IF(E1320<>\"\",VLOOKUP(CONCATENATE(C1320,E1320),Dato!$A$4:$I$218,7,0),\"\")","v":""},null,""]
[null,null,null,{"$f":"IF(C1321=\"\",\"\",VLOOKUP(C1321,Tabla_Regional[],3,0))","v":""},null,{"$f":"IF(E1321<>\"\",VLOOKUP(CONCATENATE(C1321,E1321),Dato!$A$4:$I$218,7,0),\"\")","v":""},null,""]
[null,null,null,{"$f":"IF(C1322=\"\",\"\",VLOOKUP(C1322,Tabla_Regional[],3,0))","v":""},null,{"$f":"IF(E1322<>\"\",VLOOKUP(CONCATENATE(C1322,E1322),Dato!$A$4:$I$218,7,0),\"\")","v":""},null,""]
[null,null,null,{"$f":"IF(C1323=\"\",\"\",VLOOKUP(C1323,Tabla_Regional[],3,0))","v":""},null,{"$f":"IF(E1323<>\"\",VLOOKUP(CONCATENATE(C1323,E1323),Dato!$A$4:$I$218,7,0),\"\")","v":""},null,""]
[null,null,null,{"$f":"IF(C1324=\"\",\"\",VLOOKUP(C1324,Tabla_Regional[],3,0))","v":""},null,{"$f":"IF(E1324<>\"\",VLOOKUP(CONCATENATE(C1324,E1324),Dato!$A$4:$I$218,7,0),\"\")","v":""},null,""]
[null,null,null,{"$f":"IF(C1325=\"\",\"\",VLOOKUP(C1325,Tabla_Regional[],3,0))","v":""},null,{"$f":"IF(E1325<>\"\",VLOOKUP(CONCATENATE(C1325,E1325),Dato!$A$4:$I$218,7,0),\"\")","v":""},null,""]
[null,null,null,{"$f":"IF(C1326=\"\",\"\",VLOOKUP(C1326,Tabla_Regional[],3,0))","v":""},null,{"$f":"IF(E1326<>\"\",VLOOKUP(CONCATENATE(C1326,E1326),Dato!$A$4:$I$218,7,0),\"\")","v":""},null,""]
[null,null,null,{"$f":"IF(C1327=\"\",\"\",VLOOKUP(C1327,Tabla_Regional[],3,0))","v":""},null,{"$f":"IF(E1327<>\"\",VLOOKUP(CONCATENATE(C1327,E1327),Dato!$A$4:$I$218,7,0),\"\")","v":""},null,""]
[null,null,null,{"$f":"IF(C1328=\"\",\"\",VLOOKUP(C1328,Tabla_Regional[],3,0))","v":""},null,{"$f":"IF(E1328<>\"\",VLOOKUP(CONCATENATE(C1328,E1328),Dato!$A$4:$I$218,7,0),\"\")","v":""},null,""]
[null,null,null,{"$f":"IF(C1329=\"\",\"\",VLOOKUP(C1329,Tabla_Regional[],3,0))","v":""},null,{"$f":"IF(E1329<>\"\",VLOOKUP(CONCATENATE(C1329,E1329),Dato!$A$4:$I$218,7,0),\"\")","v":""},null,""]
[null,null,null,{"$f":"IF(C1330=\"\",\"\",VLOOKUP(C1330,Tabla_Regional[],3,0))","v":""},null,{"$f":"IF(E1330<>\"\",VLOOKUP(CONCATENATE(C1330,E1330),Dato!$A$4:$I$218,7,0),\"\")","v":""},null,""]
[null,null,null,{"$f":"IF(C1331=\"\",\"\",VLOOKUP(C1331,Tabla_Regional[],3,0))","v":""},null,{"$f":"IF(E1331<>\"\",VLOOKUP(CONCATENATE(C1331,E1331),Dato!$A$4:$I$218,7,0),\"\")","v":""},null,""]
[null,null,null,{"$f":"IF(C1332=\"\",\"\",VLOOKUP(C1332,Tabla_Regional[],3,0))","v":""},null,{"$f":"IF(E1332<>\"\",VLOOKUP(CONCATENATE(C1332,E1332),Dato!$A$4:$I$218,7,0),\"\")","v":""},null,""]
[null,null,null,{"$f":"IF(C1333=\"\",\"\",VLOOKUP(C1333,Tabla_Regional[],3,0))","v":""},null,{"$f":"IF(E1333<>\"\",VLOOKUP(CONCATENATE(C1333,E1333),Dato!$A$4:$I$218,7,0),\"\")","v":""},null,""]
[null,null,null,{"$f":"IF(C1334=\"\",\"\",VLOOKUP(C1334,Tabla_Regional[],3,0))","v":""},null,{"$f":"IF(E1334<>\"\",VLOOKUP(CONCATENATE(C1334,E1334),Dato!$A$4:$I$218,7,0),\"\")","v":""},null,""]
[null,null,null,{"$f":"IF(C1335=\"\",\"\",VLOOKUP(C1335,Tabla_Regional[],3,0))","v":""},null,{"$f":"IF(E1335<>\"\",VLOOKUP(CONCATENATE(C1335,E1335),Dato!$A$4:$I$218,7,0),\"\")","v":""},null,""]
[null,null,null,{"$f":"IF(C1336=\"\",\"\",VLOOKUP(C1336,Tabla_Regional[],3,0))","v":""},null,{"$f":"IF(E1336<>\"\",VLOOKUP(CONCATENATE(C1336,E1336),Dato!$A$4:$I$218,7,0),\"\")","v":""},null,""]
[null,null,null,{"$f":"IF(C1337=\"\",\"\",VLOOKUP(C1337,Tabla_Regional[],3,0))","v":""},null,{"$f":"IF(E1337<>\"\",VLOOKUP(CONCATENATE(C1337,E1337),Dato!$A$4:$I$218,7,0),\"\")","v":""},null,""]
[null,null,null,{"$f":"IF(C1338=\"\",\"\",VLOOKUP(C1338,Tabla_Regional[],3,0))","v":""},null,{"$f":"IF(E1338<>\"\",VLOOKUP(CONCATENATE(C1338,E1338),Dato!$A$4:$I$218,7,0),\"\")","v":""},null,""]
[null,null,null,{"$f":"IF(C1339=\"\",\"\",VLOOKUP(C1339,Tabla_Regional[],3,0))","v":""},null,{"$f":"IF(E1339<>\"\",VLOOKUP(CONCATENATE(C1339,E1339),Dato!$A$4:$I$218,7,0),\"\")","v":""},null,""]
[null,null,null,{"$f":"IF(C1340=\"\",\"\",VLOOKUP(C1340,Tabla_Regional[],3,0))","v":""},null,{"$f":"IF(E1340<>\"\",VLOOKUP(CONCATENATE(C1340,E1340),Dato!$A$4:$I$218,7,0),\"\")","v":""},null,""]
[null,null,null,{"$f":"IF(C1341=\"\",\"\",VLOOKUP(C1341,Tabla_Regional[],3,0))","v":""},null,{"$f":"IF(E1341<>\"\",VLOOKUP(CONCATENATE(C1341,E1341),Dato!$A$4:$I$218,7,0),\"\")","v":""},null,""]
[null,null,null,{"$f":"IF(C1342=\"\",\"\",VLOOKUP(C1342,Tabla_Regional[],3,0))","v":""},null,{"$f":"IF(E1342<>\"\",VLOOKUP(CONCATENATE(C1342,E1342),Dato!$A$4:$I$218,7,0),\"\")","v":""},null,""]
[null,null,null,{"$f":"IF(C1343=\"\",\"\",VLOOKUP(C1343,Tabla_Regional[],3,0))","v":""},null,{"$f":"IF(E1343<>\"\",VLOOKUP(CONCATENATE(C1343,E1343),Dato!$A$4:$I$218,7,0),\"\")","v":""},null,""]
[null,null,null,{"$f":"IF(C1344=\"\",\"\",VLOOKUP(C1344,Tabla_Regional[],3,0))","v":""},null,{"$f":"IF(E1344<>\"\",VLOOKUP(CONCATENATE(C1344,E1344),Dato!$A$4:$I$218,7,0),\"\")","v":""},null,""]
[null,null,null,{"$f":"IF(C1345=\"\",\"\",VLOOKUP(C1345,Tabla_Regional[],3,0))","v":""},null,{"$f":"IF(E1345<>\"\",VLOOKUP(CONCATENATE(C1345,E1345),Dato!$A$4:$I$218,7,0),\"\")","v":""},null,""]
[null,null,null,{"$f":"IF(C1346=\"\",\"\",VLOOKUP(C1346,Tabla_Regional[],3,0))","v":""},null,{"$f":"IF(E1346<>\"\",VLOOKUP(CONCATENATE(C1346,E1346),Dato!$A$4:$I$218,7,0),\"\")","v":""},null,""]
[null,null,null,{"$f":"IF(C1347=\"\",\"\",VLOOKUP(C1347,Tabla_Regional[],3,0))","v":""},null,{"$f":"IF(E1347<>\"\",VLOOKUP(CONCATENATE(C1347,E1347),Dato!$A$4:$I$218,7,0),\"\")","v":""},null,""]
[null,null,null,{"$f":"IF(C1348=\"\",\"\",VLOOKUP(C1348,Tabla_Regional[],3,0))","v":""},null,{"$f":"IF(E1348<>\"\",VLOOKUP(CONCATENATE(C1348,E1348),Dato!$A$4:$I$218,7,0),\"\")","v":""},null,""]
[null,null,null,{"$f":"IF(C1349=\"\",\"\",VLOOKUP(C1349,Tabla_Regional[],3,0))","v":""},null,{"$f":"IF(E1349<>\"\",VLOOKUP(CONCATENATE(C1349,E1349),Dato!$A$4:$I$218,7,0),\"\")","v":""},null,""]
[null,null,null,{"$f":"IF(C1350=\"\",\"\",VLOOKUP(C1350,Tabla_Regional[],3,0))","v":""},null,{"$f":"IF(E1350<>\"\",VLOOKUP(CONCATENATE(C1350,E1350),Dato!$A$4:$I$218,7,0),\"\")","v":""},null,""]
[null,null,null,{"$f":"IF(C1351=\"\",\"\",VLOOKUP(C1351,Tabla_Regional[],3,0))","v":""},null,{"$f":"IF(E1351<>\"\",VLOOKUP(CONCATENATE(C1351,E1351),Dato!$A$4:$I$218,7,0),\"\")","v":""},null,""]
[null,null,null,{"$f":"IF(C1352=\"\",\"\",VLOOKUP(C1352,Tabla_Regional[],3,0))","v":""},null,{"$f":"IF(E1352<>\"\",VLOOKUP(CONCATENATE(C1352,E1352),Dato!$A$4:$I$218,7,0),\"\")","v":""},null,""]
[null,null,null,{"$f":"IF(C1353=\"\",\"\",VLOOKUP(C1353,Tabla_Regional[],3,0))","v":""},null,{"$f":"IF(E1353<>\"\",VLOOKUP(CONCATENATE(C1353,E1353),Dato!$A$4:$I$218,7,0),\"\")","v":""},null,""]
[null,null,null,{"$f":"IF(C1354=\"\",\"\",VLOOKUP(C1354,Tabla_Regional[],3,0))","v":""},null,{"$f":"IF(E1354<>\"\",VLOOKUP(CONCATENATE(C1354,E1354),Dato!$A$4:$I$218,7,0),\"\")","v":""},null,""]
[null,null,null,{"$f":"IF(C1355=\"\",\"\",VLOOKUP(C1355,Tabla_Regional[],3,0))","v":""},null,{"$f":"IF(E1355<>\"\",VLOOKUP(CONCATENATE(C1355,E1355),Dato!$A$4:$I$218,7,0),\"\")","v":""},null,""]
[null,null,null,{"$f":"IF(C1356=\"\",\"\",VLOOKUP(C1356,Tabla_Regional[],3,0))","v":""},null,{"$f":"IF(E1356<>\"\",VLOOKUP(CONCATENATE(C1356,E1356),Dato!$A$4:$I$218,7,0),\"\")","v":""},null,{"$f":"IF(G1356<>\"\",VLOOKUP(CONCATENATE(C1356,E1356,G1356),czmuni,7,0),\"\")","v":""}]
[null,null,null,{"$f":"IF(C1357=\"\",\"\",VLOOKUP(C1357,Tabla_Regional[],3,0))","v":""},null,{"$f":"IF(E1357<>\"\",VLOOKUP(CONCATENATE(C1357,E1357),Dato!$A$4:$I$218,7,0),\"\")","v":""},null,""]
[null,null,null,{"$f":"IF(C1358=\"\",\"\",VLOOKUP(C1358,Tabla_Regional[],3,0))","v":""},null,{"$f":"IF(E1358<>\"\",VLOOKUP(CONCATENATE(C1358,E1358),Dato!$A$4:$I$218,7,0),\"\")","v":""},null,""]
[null,null,null,{"$f":"IF(C1359=\"\",\"\",VLOOKUP(C1359,Tabla_Regional[],3,0))","v":""},null,{"$f":"IF(E1359<>\"\",VLOOKUP(CONCATENATE(C1359,E1359),Dato!$A$4:$I$218,7,0),\"\")","v":""},null,""]
[null,null,null,{"$f":"IF(C1360=\"\",\"\",VLOOKUP(C1360,Tabla_Regional[],3,0))","v":""},null,{"$f":"IF(E1360<>\"\",VLOOKUP(CONCATENATE(C1360,E1360),Dato!$A$4:$I$218,7,0),\"\")","v":""},null,""]
[null,null,null,{"$f":"IF(C1361=\"\",\"\",VLOOKUP(C1361,Tabla_Regional[],3,0))","v":""},null,{"$f":"IF(E1361<>\"\",VLOOKUP(CONCATENATE(C1361,E1361),Dato!$A$4:$I$218,7,0),\"\")","v":""},null,""]
[null,null,null,{"$f":"IF(C1362=\"\",\"\",VLOOKUP(C1362,Tabla_Regional[],3,0))","v":""},null,{"$f":"IF(E1362<>\"\",VLOOKUP(CONCATENATE(C1362,E1362),Dato!$A$4:$I$218,7,0),\"\")","v":""},null,""]
[null,null,null,{"$f":"IF(C1363=\"\",\"\",VLOOKUP(C1363,Tabla_Regional[],3,0))","v":""},null,{"$f":"IF(E1363<>\"\",VLOOKUP(CONCATENATE(C1363,E1363),Dato!$A$4:$I$218,7,0),\"\")","v":""},null,""]
[null,null,null,{"$f":"IF(C1364=\"\",\"\",VLOOKUP(C1364,Tabla_Regional[],3,0))","v":""},null,{"$f":"IF(E1364<>\"\",VLOOKUP(CONCATENATE(C1364,E1364),Dato!$A$4:$I$218,7,0),\"\")","v":""},null,""]
[null,null,null,{"$f":"IF(C1365=\"\",\"\",VLOOKUP(C1365,Tabla_Regional[],3,0))","v":""},null,{"$f":"IF(E1365<>\"\",VLOOKUP(CONCATENATE(C1365,E1365),Dato!$A$4:$I$218,7,0),\"\")","v":""},null,""]
[null,null,null,{"$f":"IF(C1366=\"\",\"\",VLOOKUP(C1366,Tabla_Regional[],3,0))","v":""},null,{"$f":"IF(E1366<>\"\",VLOOKUP(CONCATENATE(C1366,E1366),Dato!$A$4:$I$218,7,0),\"\")","v":""},null,""]
[null,null,null,{"$f":"IF(C1367=\"\",\"\",VLOOKUP(C1367,Tabla_Regional[],3,0))","v":""},null,{"$f":"IF(E1367<>\"\",VLOOKUP(CONCATENATE(C1367,E1367),Dato!$A$4:$I$218,7,0),\"\")","v":""},null,""]
[null,null,null,{"$f":"IF(C1368=\"\",\"\",VLOOKUP(C1368,Tabla_Regional[],3,0))","v":""},null,{"$f":"IF(E1368<>\"\",VLOOKUP(CONCATENATE(C1368,E1368),Dato!$A$4:$I$218,7,0),\"\")","v":""},null,""]
[null,null,null,{"$f":"IF(C1369=\"\",\"\",VLOOKUP(C1369,Tabla_Regional[],3,0))","v":""},null,{"$f":"IF(E1369<>\"\",VLOOKUP(CONCATENATE(C1369,E1369),Dato!$A$4:$I$218,7,0),\"\")","v":""},null,""]
[null,null,null,{"$f":"IF(C1370=\"\",\"\",VLOOKUP(C1370,Tabla_Regional[],3,0))","v":""},null,{"$f":"IF(E1370<>\"\",VLOOKUP(CONCATENATE(C1370,E1370),Dato!$A$4:$I$218,7,0),\"\")","v":""},null,""]
[null,null,null,{"$f":"IF(C1371=\"\",\"\",VLOOKUP(C1371,Tabla_Regional[],3,0))","v":""},null,{"$f":"IF(E1371<>\"\",VLOOKUP(CONCATENATE(C1371,E1371),Dato!$A$4:$I$218,7,0),\"\")","v":""},null,""]
[null,null,null,{"$f":"IF(C1372=\"\",\"\",VLOOKUP(C1372,Tabla_Regional[],3,0))","v":""},null,{"$f":"IF(E1372<>\"\",VLOOKUP(CONCATENATE(C1372,E1372),Dato!$A$4:$I$218,7,0),\"\")","v":""},null,""]
[null,null,null,{"$f":"IF(C1373=\"\",\"\",VLOOKUP(C1373,Tabla_Regional[],3,0))","v":""},null,{"$f":"IF(E1373<>\"\",VLOOKUP(CONCATENATE(C1373,E1373),Dato!$A$4:$I$218,7,0),\"\")","v":""},null,""]
[null,null,null,{"$f":"IF(C1374=\"\",\"\",VLOOKUP(C1374,Tabla_Regional[],3,0))","v":""},null,{"$f":"IF(E1374<>\"\",VLOOKUP(CONCATENATE(C1374,E1374),Dato!$A$4:$I$218,7,0),\"\")","v":""},null,""]
[null,null,null,{"$f":"IF(C1375=\"\",\"\",VLOOKUP(C1375,Tabla_Regional[],3,0))","v":""},null,{"$f":"IF(E1375<>\"\",VLOOKUP(CONCATENATE(C1375,E1375),Dato!$A$4:$I$218,7,0),\"\")","v":""},null,""]
[null,null,null,{"$f":"IF(C1376=\"\",\"\",VLOOKUP(C1376,Tabla_Regional[],3,0))","v":""},null,{"$f":"IF(E1376<>\"\",VLOOKUP(CONCATENATE(C1376,E1376),Dato!$A$4:$I$218,7,0),\"\")","v":""},null,""]
[null,null,null,{"$f":"IF(C1377=\"\",\"\",VLOOKUP(C1377,Tabla_Regional[],3,0))","v":""},null,{"$f":"IF(E1377<>\"\",VLOOKUP(CONCATENATE(C1377,E1377),Dato!$A$4:$I$218,7,0),\"\")","v":""},null,""]
[null,null,null,{"$f":"IF(C1378=\"\",\"\",VLOOKUP(C1378,Tabla_Regional[],3,0))","v":""},null,{"$f":"IF(E1378<>\"\",VLOOKUP(CONCATENATE(C1378,E1378),Dato!$A$4:$I$218,7,0),\"\")","v":""},null,""]
[null,null,null,{"$f":"IF(C1379=\"\",\"\",VLOOKUP(C1379,Tabla_Regional[],3,0))","v":""},null,{"$f":"IF(E1379<>\"\",VLOOKUP(CONCATENATE(C1379,E1379),Dato!$A$4:$I$218,7,0),\"\")","v":""},null,""]
[null,null,null,{"$f":"IF(C1380=\"\",\"\",VLOOKUP(C1380,Tabla_Regional[],3,0))","v":""},null,{"$f":"IF(E1380<>\"\",VLOOKUP(CONCATENATE(C1380,E1380),Dato!$A$4:$I$218,7,0),\"\")","v":""},null,""]
[null,null,null,{"$f":"IF(C1381=\"\",\"\",VLOOKUP(C1381,Tabla_Regional[],3,0))","v":""},null,{"$f":"IF(E1381<>\"\",VLOOKUP(CONCATENATE(C1381,E1381),Dato!$A$4:$I$218,7,0),\"\")","v":""},null,""]
[null,null,null,{"$f":"IF(C1382=\"\",\"\",VLOOKUP(C1382,Tabla_Regional[],3,0))","v":""},null,{"$f":"IF(E1382<>\"\",VLOOKUP(CONCATENATE(C1382,E1382),Dato!$A$4:$I$218,7,0),\"\")","v":""},null,""]
[null,null,null,{"$f":"IF(C1383=\"\",\"\",VLOOKUP(C1383,Tabla_Regional[],3,0))","v":""},null,{"$f":"IF(E1383<>\"\",VLOOKUP(CONCATENATE(C1383,E1383),Dato!$A$4:$I$218,7,0),\"\")","v":""},null,""]
[null,null,null,{"$f":"IF(C1384=\"\",\"\",VLOOKUP(C1384,Tabla_Regional[],3,0))","v":""},null,{"$f":"IF(E1384<>\"\",VLOOKUP(CONCATENATE(C1384,E1384),Dato!$A$4:$I$218,7,0),\"\")","v":""},null,""]
[null,null,null,{"$f":"IF(C1385=\"\",\"\",VLOOKUP(C1385,Tabla_Regional[],3,0))","v":""},null,{"$f":"IF(E1385<>\"\",VLOOKUP(CONCATENATE(C1385,E1385),Dato!$A$4:$I$218,7,0),\"\")","v":""},null,""]
[null,null,null,{"$f":"IF(C1386=\"\",\"\",VLOOKUP(C1386,Tabla_Regional[],3,0))","v":""},null,{"$f":"IF(E1386<>\"\",VLOOKUP(CONCATENATE(C1386,E1386),Dato!$A$4:$I$218,7,0),\"\")","v":""},null,""]
[null,null,null,{"$f":"IF(C1387=\"\",\"\",VLOOKUP(C1387,Tabla_Regional[],3,0))","v":""},null,{"$f":"IF(E1387<>\"\",VLOOKUP(CONCATENATE(C1387,E1387),Dato!$A$4:$I$218,7,0),\"\")","v":""},null,""]
[null,null,null,{"$f":"IF(C1388=\"\",\"\",VLOOKUP(C1388,Tabla_Regional[],3,0))","v":""},null,{"$f":"IF(E1388<>\"\",VLOOKUP(CONCATENATE(C1388,E1388),Dato!$A$4:$I$218,7,0),\"\")","v":""},null,""]
[null,null,null,{"$f":"IF(C1389=\"\",\"\",VLOOKUP(C1389,Tabla_Regional[],3,0))","v":""},null,{"$f":"IF(E1389<>\"\",VLOOKUP(CONCATENATE(C1389,E1389),Dato!$A$4:$I$218,7,0),\"\")","v":""},null,""]
[null,null,null,{"$f":"IF(C1390=\"\",\"\",VLOOKUP(C1390,Tabla_Regional[],3,0))","v":""},null,{"$f":"IF(E1390<>\"\",VLOOKUP(CONCATENATE(C1390,E1390),Dato!$A$4:$I$218,7,0),\"\")","v":""},null,""]
[null,null,null,{"$f":"IF(C1391=\"\",\"\",VLOOKUP(C1391,Tabla_Regional[],3,0))","v":""},null,{"$f":"IF(E1391<>\"\",VLOOKUP(CONCATENATE(C1391,E1391),Dato!$A$4:$I$218,7,0),\"\")","v":""},null,""]
[null,null,null,{"$f":"IF(C1392=\"\",\"\",VLOOKUP(C1392,Tabla_Regional[],3,0))","v":""},null,{"$f":"IF(E1392<>\"\",VLOOKUP(CONCATENATE(C1392,E1392),Dato!$A$4:$I$218,7,0),\"\")","v":""},null,""]
[null,null,null,{"$f":"IF(C1393=\"\",\"\",VLOOKUP(C1393,Tabla_Regional[],3,0))","v":""},null,{"$f":"IF(E1393<>\"\",VLOOKUP(CONCATENATE(C1393,E1393),Dato!$A$4:$I$218,7,0),\"\")","v":""},null,""]
[null,null,null,{"$f":"IF(C1394=\"\",\"\",VLOOKUP(C1394,Tabla_Regional[],3,0))","v":""},null,{"$f":"IF(E1394<>\"\",VLOOKUP(CONCATENATE(C1394,E1394),Dato!$A$4:$I$218,7,0),\"\")","v":""},null,""]
[null,null,null,{"$f":"IF(C1395=\"\",\"\",VLOOKUP(C1395,Tabla_Regional[],3,0))","v":""},null,{"$f":"IF(E1395<>\"\",VLOOKUP(CONCATENATE(C1395,E1395),Dato!$A$4:$I$218,7,0),\"\")","v":""},null,""]
[null,null,null,{"$f":"IF(C1396=\"\",\"\",VLOOKUP(C1396,Tabla_Regional[],3,0))","v":""},null,{"$f":"IF(E1396<>\"\",VLOOKUP(CONCATENATE(C1396,E1396),Dato!$A$4:$I$218,7,0),\"\")","v":""},null,""]
[null,null,null,{"$f":"IF(C1397=\"\",\"\",VLOOKUP(C1397,Tabla_Regional[],3,0))","v":""},null,{"$f":"IF(E1397<>\"\",VLOOKUP(CONCATENATE(C1397,E1397),Dato!$A$4:$I$218,7,0),\"\")","v":""},null,""]
[null,null,null,{"$f":"IF(C1398=\"\",\"\",VLOOKUP(C1398,Tabla_Regional[],3,0))","v":""},null,{"$f":"IF(E1398<>\"\",VLOOKUP(CONCATENATE(C1398,E1398),Dato!$A$4:$I$218,7,0),\"\")","v":""},null,""]
[null,null,null,{"$f":"IF(C1399=\"\",\"\",VLOOKUP(C1399,Tabla_Regional[],3,0))","v":""},null,{"$f":"IF(E1399<>\"\",VLOOKUP(CONCATENATE(C1399,E1399),Dato!$A$4:$I$218,7,0),\"\")","v":""},null,""]
[null,null,null,{"$f":"IF(C1400=\"\",\"\",VLOOKUP(C1400,Tabla_Regional[],3,0))","v":""},null,{"$f":"IF(E1400<>\"\",VLOOKUP(CONCATENATE(C1400,E1400),Dato!$A$4:$I$218,7,0),\"\")","v":""},null,""]
[null,null,null,{"$f":"IF(C1401=\"\",\"\",VLOOKUP(C1401,Tabla_Regional[],3,0))","v":""},null,{"$f":"IF(E1401<>\"\",VLOOKUP(CONCATENATE(C1401,E1401),Dato!$A$4:$I$218,7,0),\"\")","v":""},null,""]
[null,null,null,{"$f":"IF(C1402=\"\",\"\",VLOOKUP(C1402,Tabla_Regional[],3,0))","v":""},null,{"$f":"IF(E1402<>\"\",VLOOKUP(CONCATENATE(C1402,E1402),Dato!$A$4:$I$218,7,0),\"\")","v":""},null,""]
[null,null,null,{"$f":"IF(C1403=\"\",\"\",VLOOKUP(C1403,Tabla_Regional[],3,0))","v":""},null,{"$f":"IF(E1403<>\"\",VLOOKUP(CONCATENATE(C1403,E1403),Dato!$A$4:$I$218,7,0),\"\")","v":""},null,""]
[null,null,null,{"$f":"IF(C1404=\"\",\"\",VLOOKUP(C1404,Tabla_Regional[],3,0))","v":""},null,{"$f":"IF(E1404<>\"\",VLOOKUP(CONCATENATE(C1404,E1404),Dato!$A$4:$I$218,7,0),\"\")","v":""},null,""]
[null,null,null,{"$f":"IF(C1405=\"\",\"\",VLOOKUP(C1405,Tabla_Regional[],3,0))","v":""},null,{"$f":"IF(E1405<>\"\",VLOOKUP(CONCATENATE(C1405,E1405),Dato!$A$4:$I$218,7,0),\"\")","v":""},null,""]
[null,null,null,{"$f":"IF(C1406=\"\",\"\",VLOOKUP(C1406,Tabla_Regional[],3,0))","v":""},null,{"$f":"IF(E1406<>\"\",VLOOKUP(CONCATENATE(C1406,E1406),Dato!$A$4:$I$218,7,0),\"\")","v":""},null,""]
[null,null,null,{"$f":"IF(C1407=\"\",\"\",VLOOKUP(C1407,Tabla_Regional[],3,0))","v":""},null,{"$f":"IF(E1407<>\"\",VLOOKUP(CONCATENATE(C1407,E1407),Dato!$A$4:$I$218,7,0),\"\")","v":""},null,""]
[null,null,null,{"$f":"IF(C1408=\"\",\"\",VLOOKUP(C1408,Tabla_Regional[],3,0))","v":""},null,{"$f":"IF(E1408<>\"\",VLOOKUP(CONCATENATE(C1408,E1408),Dato!$A$4:$I$218,7,0),\"\")","v":""},null,""]
[null,null,null,{"$f":"IF(C1409=\"\",\"\",VLOOKUP(C1409,Tabla_Regional[],3,0))","v":""},null,{"$f":"IF(E1409<>\"\",VLOOKUP(CONCATENATE(C1409,E1409),Dato!$A$4:$I$218,7,0),\"\")","v":""},null,""]
[null,null,null,{"$f":"IF(C1410=\"\",\"\",VLOOKUP(C1410,Tabla_Regional[],3,0))","v":""},null,{"$f":"IF(E1410<>\"\",VLOOKUP(CONCATENATE(C1410,E1410),Dato!$A$4:$I$218,7,0),\"\")","v":""},null,""]
[null,null,null,{"$f":"IF(C1411=\"\",\"\",VLOOKUP(C1411,Tabla_Regional[],3,0))","v":""},null,{"$f":"IF(E1411<>\"\",VLOOKUP(CONCATENATE(C1411,E1411),Dato!$A$4:$I$218,7,0),\"\")","v":""},null,""]
[null,null,null,{"$f":"IF(C1412=\"\",\"\",VLOOKUP(C1412,Tabla_Regional[],3,0))","v":""},null,{"$f":"IF(E1412<>\"\",VLOOKUP(CONCATENATE(C1412,E1412),Dato!$A$4:$I$218,7,0),\"\")","v":""},null,""]
[null,null,null,{"$f":"IF(C1413=\"\",\"\",VLOOKUP(C1413,Tabla_Regional[],3,0))","v":""},null,{"$f":"IF(E1413<>\"\",VLOOKUP(CONCATENATE(C1413,E1413),Dato!$A$4:$I$218,7,0),\"\")","v":""},null,""]
[null,null,null,{"$f":"IF(C1414=\"\",\"\",VLOOKUP(C1414,Tabla_Regional[],3,0))","v":""},null,{"$f":"IF(E1414<>\"\",VLOOKUP(CONCATENATE(C1414,E1414),Dato!$A$4:$I$218,7,0),\"\")","v":""},null,""]
[null,null,null,{"$f":"IF(C1415=\"\",\"\",VLOOKUP(C1415,Tabla_Regional[],3,0))","v":""},null,{"$f":"IF(E1415<>\"\",VLOOKUP(CONCATENATE(C1415,E1415),Dato!$A$4:$I$218,7,0),\"\")","v":""},null,""]
[null,null,null,{"$f":"IF(C1416=\"\",\"\",VLOOKUP(C1416,Tabla_Regional[],3,0))","v":""},null,{"$f":"IF(E1416<>\"\",VLOOKUP(CONCATENATE(C1416,E1416),Dato!$A$4:$I$218,7,0),\"\")","v":""},null,""]
[null,null,null,{"$f":"IF(C1417=\"\",\"\",VLOOKUP(C1417,Tabla_Regional[],3,0))","v":""},null,{"$f":"IF(E1417<>\"\",VLOOKUP(CONCATENATE(C1417,E1417),Dato!$A$4:$I$218,7,0),\"\")","v":""},null,""]
[null,null,null,{"$f":"IF(C1418=\"\",\"\",VLOOKUP(C1418,Tabla_Regional[],3,0))","v":""},null,{"$f":"IF(E1418<>\"\",VLOOKUP(CONCATENATE(C1418,E1418),Dato!$A$4:$I$218,7,0),\"\")","v":""},null,""]
[null,null,null,{"$f":"IF(C1419=\"\",\"\",VLOOKUP(C1419,Tabla_Regional[],3,0))","v":""},null,{"$f":"IF(E1419<>\"\",VLOOKUP(CONCATENATE(C1419,E1419),Dato!$A$4:$I$218,7,0),\"\")","v":""},null,""]
[null,null,null,{"$f":"IF(C1420=\"\",\"\",VLOOKUP(C1420,Tabla_Regional[],3,0))","v":""},null,{"$f":"IF(E1420<>\"\",VLOOKUP(CONCATENATE(C1420,E1420),Dato!$A$4:$I$218,7,0),\"\")","v":""},null,{"$f":"IF(G1420<>\"\",VLOOKUP(CONCATENATE(C1420,E1420,G1420),czmuni,7,0),\"\")","v":""}]
[null,null,null,{"$f":"IF(C1421=\"\",\"\",VLOOKUP(C1421,Tabla_Regional[],3,0))","v":""},null,{"$f":"IF(E1421<>\"\",VLOOKUP(CONCATENATE(C1421,E1421),Dato!$A$4:$I$218,7,0),\"\")","v":""},null,""]
[null,null,null,{"$f":"IF(C1422=\"\",\"\",VLOOKUP(C1422,Tabla_Regional[],3,0))","v":""},null,{"$f":"IF(E1422<>\"\",VLOOKUP(CONCATENATE(C1422,E1422),Dato!$A$4:$I$218,7,0),\"\")","v":""},null,""]
[null,null,null,{"$f":"IF(C1423=\"\",\"\",VLOOKUP(C1423,Tabla_Regional[],3,0))","v":""},null,{"$f":"IF(E1423<>\"\",VLOOKUP(CONCATENATE(C1423,E1423),Dato!$A$4:$I$218,7,0),\"\")","v":""},null,""]
[null,null,null,{"$f":"IF(C1424=\"\",\"\",VLOOKUP(C1424,Tabla_Regional[],3,0))","v":""},null,{"$f":"IF(E1424<>\"\",VLOOKUP(CONCATENATE(C1424,E1424),Dato!$A$4:$I$218,7,0),\"\")","v":""},null,""]
[null,null,null,{"$f":"IF(C1425=\"\",\"\",VLOOKUP(C1425,Tabla_Regional[],3,0))","v":""},null,{"$f":"IF(E1425<>\"\",VLOOKUP(CONCATENATE(C1425,E1425),Dato!$A$4:$I$218,7,0),\"\")","v":""},null,""]
[null,null,null,{"$f":"IF(C1426=\"\",\"\",VLOOKUP(C1426,Tabla_Regional[],3,0))","v":""},null,{"$f":"IF(E1426<>\"\",VLOOKUP(CONCATENATE(C1426,E1426),Dato!$A$4:$I$218,7,0),\"\")","v":""},null,""]
[null,null,null,{"$f":"IF(C1427=\"\",\"\",VLOOKUP(C1427,Tabla_Regional[],3,0))","v":""},null,{"$f":"IF(E1427<>\"\",VLOOKUP(CONCATENATE(C1427,E1427),Dato!$A$4:$I$218,7,0),\"\")","v":""},null,""]
[null,null,null,{"$f":"IF(C1428=\"\",\"\",VLOOKUP(C1428,Tabla_Regional[],3,0))","v":""},null,{"$f":"IF(E1428<>\"\",VLOOKUP(CONCATENATE(C1428,E1428),Dato!$A$4:$I$218,7,0),\"\")","v":""},null,""]
[null,null,null,{"$f":"IF(C1429=\"\",\"\",VLOOKUP(C1429,Tabla_Regional[],3,0))","v":""},null,{"$f":"IF(E1429<>\"\",VLOOKUP(CONCATENATE(C1429,E1429),Dato!$A$4:$I$218,7,0),\"\")","v":""},null,""]
[null,null,null,{"$f":"IF(C1430=\"\",\"\",VLOOKUP(C1430,Tabla_Regional[],3,0))","v":""},null,{"$f":"IF(E1430<>\"\",VLOOKUP(CONCATENATE(C1430,E1430),Dato!$A$4:$I$218,7,0),\"\")","v":""},null,""]
[null,null,null,{"$f":"IF(C1431=\"\",\"\",VLOOKUP(C1431,Tabla_Regional[],3,0))","v":""},null,{"$f":"IF(E1431<>\"\",VLOOKUP(CONCATENATE(C1431,E1431),Dato!$A$4:$I$218,7,0),\"\")","v":""},null,""]
[null,null,null,{"$f":"IF(C1432=\"\",\"\",VLOOKUP(C1432,Tabla_Regional[],3,0))","v":""},null,{"$f":"IF(E1432<>\"\",VLOOKUP(CONCATENATE(C1432,E1432),Dato!$A$4:$I$218,7,0),\"\")","v":""},null,""]
[null,null,null,{"$f":"IF(C1433=\"\",\"\",VLOOKUP(C1433,Tabla_Regional[],3,0))","v":""},null,{"$f":"IF(E1433<>\"\",VLOOKUP(CONCATENATE(C1433,E1433),Dato!$A$4:$I$218,7,0),\"\")","v":""},null,""]
[null,null,null,{"$f":"IF(C1434=\"\",\"\",VLOOKUP(C1434,Tabla_Regional[],3,0))","v":""},null,{"$f":"IF(E1434<>\"\",VLOOKUP(CONCATENATE(C1434,E1434),Dato!$A$4:$I$218,7,0),\"\")","v":""},null,""]
[null,null,null,{"$f":"IF(C1435=\"\",\"\",VLOOKUP(C1435,Tabla_Regional[],3,0))","v":""},null,{"$f":"IF(E1435<>\"\",VLOOKUP(CONCATENATE(C1435,E1435),Dato!$A$4:$I$218,7,0),\"\")","v":""},null,""]
[null,null,null,{"$f":"IF(C1436=\"\",\"\",VLOOKUP(C1436,Tabla_Regional[],3,0))","v":""},null,{"$f":"IF(E1436<>\"\",VLOOKUP(CONCATENATE(C1436,E1436),Dato!$A$4:$I$218,7,0),\"\")","v":""},null,""]
[null,null,null,{"$f":"IF(C1437=\"\",\"\",VLOOKUP(C1437,Tabla_Regional[],3,0))","v":""},null,{"$f":"IF(E1437<>\"\",VLOOKUP(CONCATENATE(C1437,E1437),Dato!$A$4:$I$218,7,0),\"\")","v":""},null,""]
[null,null,null,{"$f":"IF(C1438=\"\",\"\",VLOOKUP(C1438,Tabla_Regional[],3,0))","v":""},null,{"$f":"IF(E1438<>\"\",VLOOKUP(CONCATENATE(C1438,E1438),Dato!$A$4:$I$218,7,0),\"\")","v":""},null,""]
[null,null,null,{"$f":"IF(C1439=\"\",\"\",VLOOKUP(C1439,Tabla_Regional[],3,0))","v":""},null,{"$f":"IF(E1439<>\"\",VLOOKUP(CONCATENATE(C1439,E1439),Dato!$A$4:$I$218,7,0),\"\")","v":""},null,""]
[null,null,null,{"$f":"IF(C1440=\"\",\"\",VLOOKUP(C1440,Tabla_Regional[],3,0))","v":""},null,{"$f":"IF(E1440<>\"\",VLOOKUP(CONCATENATE(C1440,E1440),Dato!$A$4:$I$218,7,0),\"\")","v":""},null,""]
[null,null,null,{"$f":"IF(C1441=\"\",\"\",VLOOKUP(C1441,Tabla_Regional[],3,0))","v":""},null,{"$f":"IF(E1441<>\"\",VLOOKUP(CONCATENATE(C1441,E1441),Dato!$A$4:$I$218,7,0),\"\")","v":""},null,""]
[null,null,null,{"$f":"IF(C1442=\"\",\"\",VLOOKUP(C1442,Tabla_Regional[],3,0))","v":""},null,{"$f":"IF(E1442<>\"\",VLOOKUP(CONCATENATE(C1442,E1442),Dato!$A$4:$I$218,7,0),\"\")","v":""},null,""]
[null,null,null,{"$f":"IF(C1443=\"\",\"\",VLOOKUP(C1443,Tabla_Regional[],3,0))","v":""},null,{"$f":"IF(E1443<>\"\",VLOOKUP(CONCATENATE(C1443,E1443),Dato!$A$4:$I$218,7,0),\"\")","v":""},null,""]
[null,null,null,{"$f":"IF(C1444=\"\",\"\",VLOOKUP(C1444,Tabla_Regional[],3,0))","v":""},null,{"$f":"IF(E1444<>\"\",VLOOKUP(CONCATENATE(C1444,E1444),Dato!$A$4:$I$218,7,0),\"\")","v":""},null,""]
[null,null,null,{"$f":"IF(C1445=\"\",\"\",VLOOKUP(C1445,Tabla_Regional[],3,0))","v":""},null,{"$f":"IF(E1445<>\"\",VLOOKUP(CONCATENATE(C1445,E1445),Dato!$A$4:$I$218,7,0),\"\")","v":""},null,""]
[null,null,null,{"$f":"IF(C1446=\"\",\"\",VLOOKUP(C1446,Tabla_Regional[],3,0))","v":""},null,{"$f":"IF(E1446<>\"\",VLOOKUP(CONCATENATE(C1446,E1446),Dato!$A$4:$I$218,7,0),\"\")","v":""},null,""]
[null,null,null,{"$f":"IF(C1447=\"\",\"\",VLOOKUP(C1447,Tabla_Regional[],3,0))","v":""},null,{"$f":"IF(E1447<>\"\",VLOOKUP(CONCATENATE(C1447,E1447),Dato!$A$4:$I$218,7,0),\"\")","v":""},null,""]
[null,null,null,{"$f":"IF(C1448=\"\",\"\",VLOOKUP(C1448,Tabla_Regional[],3,0))","v":""},null,{"$f":"IF(E1448<>\"\",VLOOKUP(CONCATENATE(C1448,E1448),Dato!$A$4:$I$218,7,0),\"\")","v":""},null,""]
[null,null,null,{"$f":"IF(C1449=\"\",\"\",VLOOKUP(C1449,Tabla_Regional[],3,0))","v":""},null,{"$f":"IF(E1449<>\"\",VLOOKUP(CONCATENATE(C1449,E1449),Dato!$A$4:$I$218,7,0),\"\")","v":""},null,""]
[null,null,null,{"$f":"IF(C1450=\"\",\"\",VLOOKUP(C1450,Tabla_Regional[],3,0))","v":""},null,{"$f":"IF(E1450<>\"\",VLOOKUP(CONCATENATE(C1450,E1450),Dato!$A$4:$I$218,7,0),\"\")","v":""},null,""]
[null,null,null,{"$f":"IF(C1451=\"\",\"\",VLOOKUP(C1451,Tabla_Regional[],3,0))","v":""},null,{"$f":"IF(E1451<>\"\",VLOOKUP(CONCATENATE(C1451,E1451),Dato!$A$4:$I$218,7,0),\"\")","v":""},null,""]
[null,null,null,{"$f":"IF(C1452=\"\",\"\",VLOOKUP(C1452,Tabla_Regional[],3,0))","v":""},null,{"$f":"IF(E1452<>\"\",VLOOKUP(CONCATENATE(C1452,E1452),Dato!$A$4:$I$218,7,0),\"\")","v":""},null,""]
[null,null,null,{"$f":"IF(C1453=\"\",\"\",VLOOKUP(C1453,Tabla_Regional[],3,0))","v":""},null,{"$f":"IF(E1453<>\"\",VLOOKUP(CONCATENATE(C1453,E1453),Dato!$A$4:$I$218,7,0),\"\")","v":""},null,""]
[null,null,null,{"$f":"IF(C1454=\"\",\"\",VLOOKUP(C1454,Tabla_Regional[],3,0))","v":""},null,{"$f":"IF(E1454<>\"\",VLOOKUP(CONCATENATE(C1454,E1454),Dato!$A$4:$I$218,7,0),\"\")","v":""},null,""]
[null,null,null,{"$f":"IF(C1455=\"\",\"\",VLOOKUP(C1455,Tabla_Regional[],3,0))","v":""},null,{"$f":"IF(E1455<>\"\",VLOOKUP(CONCATENATE(C1455,E1455),Dato!$A$4:$I$218,7,0),\"\")","v":""},null,""]
[null,null,null,{"$f":"IF(C1456=\"\",\"\",VLOOKUP(C1456,Tabla_Regional[],3,0))","v":""},null,{"$f":"IF(E1456<>\"\",VLOOKUP(CONCATENATE(C1456,E1456),Dato!$A$4:$I$218,7,0),\"\")","v":""},null,""]
[null,null,null,{"$f":"IF(C1457=\"\",\"\",VLOOKUP(C1457,Tabla_Regional[],3,0))","v":""},null,{"$f":"IF(E1457<>\"\",VLOOKUP(CONCATENATE(C1457,E1457),Dato!$A$4:$I$218,7,0),\"\")","v":""},null,""]
[null,null,null,{"$f":"IF(C1458=\"\",\"\",VLOOKUP(C1458,Tabla_Regional[],3,0))","v":""},null,{"$f":"IF(E1458<>\"\",VLOOKUP(CONCATENATE(C1458,E1458),Dato!$A$4:$I$218,7,0),\"\")","v":""},null,""]
[null,null,null,{"$f":"IF(C1459=\"\",\"\",VLOOKUP(C1459,Tabla_Regional[],3,0))","v":""},null,{"$f":"IF(E1459<>\"\",VLOOKUP(CONCATENATE(C1459,E1459),Dato!$A$4:$I$218,7,0),\"\")","v":""},null,""]
[null,null,null,{"$f":"IF(C1460=\"\",\"\",VLOOKUP(C1460,Tabla_Regional[],3,0))","v":""},null,{"$f":"IF(E1460<>\"\",VLOOKUP(CONCATENATE(C1460,E1460),Dato!$A$4:$I$218,7,0),\"\")","v":""},null,""]
[null,null,null,{"$f":"IF(C1461=\"\",\"\",VLOOKUP(C1461,Tabla_Regional[],3,0))","v":""},null,{"$f":"IF(E1461<>\"\",VLOOKUP(CONCATENATE(C1461,E1461),Dato!$A$4:$I$218,7,0),\"\")","v":""},null,""]
[null,null,null,{"$f":"IF(C1462=\"\",\"\",VLOOKUP(C1462,Tabla_Regional[],3,0))","v":""},null,{"$f":"IF(E1462<>\"\",VLOOKUP(CONCATENATE(C1462,E1462),Dato!$A$4:$I$218,7,0),\"\")","v":""},null,""]
[null,null,null,{"$f":"IF(C1463=\"\",\"\",VLOOKUP(C1463,Tabla_Regional[],3,0))","v":""},null,{"$f":"IF(E1463<>\"\",VLOOKUP(CONCATENATE(C1463,E1463),Dato!$A$4:$I$218,7,0),\"\")","v":""},null,""]
[null,null,null,{"$f":"IF(C1464=\"\",\"\",VLOOKUP(C1464,Tabla_Regional[],3,0))","v":""},null,{"$f":"IF(E1464<>\"\",VLOOKUP(CONCATENATE(C1464,E1464),Dato!$A$4:$I$218,7,0),\"\")","v":""},null,""]
[null,null,null,{"$f":"IF(C1465=\"\",\"\",VLOOKUP(C1465,Tabla_Regional[],3,0))","v":""},null,{"$f":"IF(E1465<>\"\",VLOOKUP(CONCATENATE(C1465,E1465),Dato!$A$4:$I$218,7,0),\"\")","v":""},null,""]
[null,null,null,{"$f":"IF(C1466=\"\",\"\",VLOOKUP(C1466,Tabla_Regional[],3,0))","v":""},null,{"$f":"IF(E1466<>\"\",VLOOKUP(CONCATENATE(C1466,E1466),Dato!$A$4:$I$218,7,0),\"\")","v":""},null,""]
[null,null,null,{"$f":"IF(C1467=\"\",\"\",VLOOKUP(C1467,Tabla_Regional[],3,0))","v":""},null,{"$f":"IF(E1467<>\"\",VLOOKUP(CONCATENATE(C1467,E1467),Dato!$A$4:$I$218,7,0),\"\")","v":""},null,""]
[null,null,null,{"$f":"IF(C1468=\"\",\"\",VLOOKUP(C1468,Tabla_Regional[],3,0))","v":""},null,{"$f":"IF(E1468<>\"\",VLOOKUP(CONCATENATE(C1468,E1468),Dato!$A$4:$I$218,7,0),\"\")","v":""},null,""]
[null,null,null,{"$f":"IF(C1469=\"\",\"\",VLOOKUP(C1469,Tabla_Regional[],3,0))","v":""},null,{"$f":"IF(E1469<>\"\",VLOOKUP(CONCATENATE(C1469,E1469),Dato!$A$4:$I$218,7,0),\"\")","v":""},null,""]
[null,null,null,{"$f":"IF(C1470=\"\",\"\",VLOOKUP(C1470,Tabla_Regional[],3,0))","v":""},null,{"$f":"IF(E1470<>\"\",VLOOKUP(CONCATENATE(C1470,E1470),Dato!$A$4:$I$218,7,0),\"\")","v":""},null,""]
[null,null,null,{"$f":"IF(C1471=\"\",\"\",VLOOKUP(C1471,Tabla_Regional[],3,0))","v":""},null,{"$f":"IF(E1471<>\"\",VLOOKUP(CONCATENATE(C1471,E1471),Dato!$A$4:$I$218,7,0),\"\")","v":""},null,""]
[null,null,null,{"$f":"IF(C1472=\"\",\"\",VLOOKUP(C1472,Tabla_Regional[],3,0))","v":""},null,{"$f":"IF(E1472<>\"\",VLOOKUP(CONCATENATE(C1472,E1472),Dato!$A$4:$I$218,7,0),\"\")","v":""},null,""]
[null,null,null,{"$f":"IF(C1473=\"\",\"\",VLOOKUP(C1473,Tabla_Regional[],3,0))","v":""},null,{"$f":"IF(E1473<>\"\",VLOOKUP(CONCATENATE(C1473,E1473),Dato!$A$4:$I$218,7,0),\"\")","v":""},null,""]
[null,null,null,{"$f":"IF(C1474=\"\",\"\",VLOOKUP(C1474,Tabla_Regional[],3,0))","v":""},null,{"$f":"IF(E1474<>\"\",VLOOKUP(CONCATENATE(C1474,E1474),Dato!$A$4:$I$218,7,0),\"\")","v":""},null,""]
[null,null,null,{"$f":"IF(C1475=\"\",\"\",VLOOKUP(C1475,Tabla_Regional[],3,0))","v":""},null,{"$f":"IF(E1475<>\"\",VLOOKUP(CONCATENATE(C1475,E1475),Dato!$A$4:$I$218,7,0),\"\")","v":""},null,""]
[null,null,null,{"$f":"IF(C1476=\"\",\"\",VLOOKUP(C1476,Tabla_Regional[],3,0))","v":""},null,{"$f":"IF(E1476<>\"\",VLOOKUP(CONCATENATE(C1476,E1476),Dato!$A$4:$I$218,7,0),\"\")","v":""},null,""]
[null,null,null,{"$f":"IF(C1477=\"\",\"\",VLOOKUP(C1477,Tabla_Regional[],3,0))","v":""},null,{"$f":"IF(E1477<>\"\",VLOOKUP(CONCATENATE(C1477,E1477),Dato!$A$4:$I$218,7,0),\"\")","v":""},null,""]
[null,null,null,{"$f":"IF(C1478=\"\",\"\",VLOOKUP(C1478,Tabla_Regional[],3,0))","v":""},null,{"$f":"IF(E1478<>\"\",VLOOKUP(CONCATENATE(C1478,E1478),Dato!$A$4:$I$218,7,0),\"\")","v":""},null,""]
[null,null,null,{"$f":"IF(C1479=\"\",\"\",VLOOKUP(C1479,Tabla_Regional[],3,0))","v":""},null,{"$f":"IF(E1479<>\"\",VLOOKUP(CONCATENATE(C1479,E1479),Dato!$A$4:$I$218,7,0),\"\")","v":""},null,""]
[null,null,null,{"$f":"IF(C1480=\"\",\"\",VLOOKUP(C1480,Tabla_Regional[],3,0))","v":""},null,{"$f":"IF(E1480<>\"\",VLOOKUP(CONCATENATE(C1480,E1480),Dato!$A$4:$I$218,7,0),\"\")","v":""},null,""]
[null,null,null,{"$f":"IF(C1481=\"\",\"\",VLOOKUP(C1481,Tabla_Regional[],3,0))","v":""},null,{"$f":"IF(E1481<>\"\",VLOOKUP(CONCATENATE(C1481,E1481),Dato!$A$4:$I$218,7,0),\"\")","v":""},null,""]
[null,null,null,{"$f":"IF(C1482=\"\",\"\",VLOOKUP(C1482,Tabla_Regional[],3,0))","v":""},null,{"$f":"IF(E1482<>\"\",VLOOKUP(CONCATENATE(C1482,E1482),Dato!$A$4:$I$218,7,0),\"\")","v":""},null,""]
[null,null,null,{"$f":"IF(C1483=\"\",\"\",VLOOKUP(C1483,Tabla_Regional[],3,0))","v":""},null,{"$f":"IF(E1483<>\"\",VLOOKUP(CONCATENATE(C1483,E1483),Dato!$A$4:$I$218,7,0),\"\")","v":""},null,""]
[null,null,null,{"$f":"IF(C1484=\"\",\"\",VLOOKUP(C1484,Tabla_Regional[],3,0))","v":""},null,{"$f":"IF(E1484<>\"\",VLOOKUP(CONCATENATE(C1484,E1484),Dato!$A$4:$I$218,7,0),\"\")","v":""},null,{"$f":"IF(G1484<>\"\",VLOOKUP(CONCATENATE(C1484,E1484,G1484),czmuni,7,0),\"\")","v":""}]
[null,null,null,{"$f":"IF(C1485=\"\",\"\",VLOOKUP(C1485,Tabla_Regional[],3,0))","v":""},null,{"$f":"IF(E1485<>\"\",VLOOKUP(CONCATENATE(C1485,E1485),Dato!$A$4:$I$218,7,0),\"\")","v":""},null,""]
[null,null,null,{"$f":"IF(C1486=\"\",\"\",VLOOKUP(C1486,Tabla_Regional[],3,0))","v":""},null,{"$f":"IF(E1486<>\"\",VLOOKUP(CONCATENATE(C1486,E1486),Dato!$A$4:$I$218,7,0),\"\")","v":""},null,""]
[null,null,null,{"$f":"IF(C1487=\"\",\"\",VLOOKUP(C1487,Tabla_Regional[],3,0))","v":""},null,{"$f":"IF(E1487<>\"\",VLOOKUP(CONCATENATE(C1487,E1487),Dato!$A$4:$I$218,7,0),\"\")","v":""},null,""]
[null,null,null,{"$f":"IF(C1488=\"\",\"\",VLOOKUP(C1488,Tabla_Regional[],3,0))","v":""},null,{"$f":"IF(E1488<>\"\",VLOOKUP(CONCATENATE(C1488,E1488),Dato!$A$4:$I$218,7,0),\"\")","v":""},null,""]
[null,null,null,{"$f":"IF(C1489=\"\",\"\",VLOOKUP(C1489,Tabla_Regional[],3,0))","v":""},null,{"$f":"IF(E1489<>\"\",VLOOKUP(CONCATENATE(C1489,E1489),Dato!$A$4:$I$218,7,0),\"\")","v":""},null,""]
[null,null,null,{"$f":"IF(C1490=\"\",\"\",VLOOKUP(C1490,Tabla_Regional[],3,0))","v":""},null,{"$f":"IF(E1490<>\"\",VLOOKUP(CONCATENATE(C1490,E1490),Dato!$A$4:$I$218,7,0),\"\")","v":""},null,""]
[null,null,null,{"$f":"IF(C1491=\"\",\"\",VLOOKUP(C1491,Tabla_Regional[],3,0))","v":""},null,{"$f":"IF(E1491<>\"\",VLOOKUP(CONCATENATE(C1491,E1491),Dato!$A$4:$I$218,7,0),\"\")","v":""},null,""]
[null,null,null,{"$f":"IF(C1492=\"\",\"\",VLOOKUP(C1492,Tabla_Regional[],3,0))","v":""},null,{"$f":"IF(E1492<>\"\",VLOOKUP(CONCATENATE(C1492,E1492),Dato!$A$4:$I$218,7,0),\"\")","v":""},null,""]
[null,null,null,{"$f":"IF(C1493=\"\",\"\",VLOOKUP(C1493,Tabla_Regional[],3,0))","v":""},null,{"$f":"IF(E1493<>\"\",VLOOKUP(CONCATENATE(C1493,E1493),Dato!$A$4:$I$218,7,0),\"\")","v":""},null,""]
[null,null,null,{"$f":"IF(C1494=\"\",\"\",VLOOKUP(C1494,Tabla_Regional[],3,0))","v":""},null,{"$f":"IF(E1494<>\"\",VLOOKUP(CONCATENATE(C1494,E1494),Dato!$A$4:$I$218,7,0),\"\")","v":""},null,""]
[null,null,null,{"$f":"IF(C1495=\"\",\"\",VLOOKUP(C1495,Tabla_Regional[],3,0))","v":""},null,{"$f":"IF(E1495<>\"\",VLOOKUP(CONCATENATE(C1495,E1495),Dato!$A$4:$I$218,7,0),\"\")","v":""},null,""]
[null,null,null,{"$f":"IF(C1496=\"\",\"\",VLOOKUP(C1496,Tabla_Regional[],3,0))","v":""},null,{"$f":"IF(E1496<>\"\",VLOOKUP(CONCATENATE(C1496,E1496),Dato!$A$4:$I$218,7,0),\"\")","v":""},null,""]
[null,null,null,{"$f":"IF(C1497=\"\",\"\",VLOOKUP(C1497,Tabla_Regional[],3,0))","v":""},null,{"$f":"IF(E1497<>\"\",VLOOKUP(CONCATENATE(C1497,E1497),Dato!$A$4:$I$218,7,0),\"\")","v":""},null,""]
[null,null,null,{"$f":"IF(C1498=\"\",\"\",VLOOKUP(C1498,Tabla_Regional[],3,0))","v":""},null,{"$f":"IF(E1498<>\"\",VLOOKUP(CONCATENATE(C1498,E1498),Dato!$A$4:$I$218,7,0),\"\")","v":""},null,""]
[null,null,null,{"$f":"IF(C1499=\"\",\"\",VLOOKUP(C1499,Tabla_Regional[],3,0))","v":""},null,{"$f":"IF(E1499<>\"\",VLOOKUP(CONCATENATE(C1499,E1499),Dato!$A$4:$I$218,7,0),\"\")","v":""},null,""]
[null,null,null,{"$f":"IF(C1500=\"\",\"\",VLOOKUP(C1500,Tabla_Regional[],3,0))","v":""},null,{"$f":"IF(E1500<>\"\",VLOOKUP(CONCATENATE(C1500,E1500),Dato!$A$4:$I$218,7,0),\"\")","v":""},null,""]
[null,null,null,{"$f":"IF(C1501=\"\",\"\",VLOOKUP(C1501,Tabla_Regional[],3,0))","v":""},null,{"$f":"IF(E1501<>\"\",VLOOKUP(CONCATENATE(C1501,E1501),Dato!$A$4:$I$218,7,0),\"\")","v":""},null,""]
[null,null,null,{"$f":"IF(C1502=\"\",\"\",VLOOKUP(C1502,Tabla_Regional[],3,0))","v":""},null,{"$f":"IF(E1502<>\"\",VLOOKUP(CONCATENATE(C1502,E1502),Dato!$A$4:$I$218,7,0),\"\")","v":""},null,""]
[null,null,null,{"$f":"IF(C1503=\"\",\"\",VLOOKUP(C1503,Tabla_Regional[],3,0))","v":""},null,{"$f":"IF(E1503<>\"\",VLOOKUP(CONCATENATE(C1503,E1503),Dato!$A$4:$I$218,7,0),\"\")","v":""},null,""]
[null,null,null,{"$f":"IF(C1504=\"\",\"\",VLOOKUP(C1504,Tabla_Regional[],3,0))","v":""},null,{"$f":"IF(E1504<>\"\",VLOOKUP(CONCATENATE(C1504,E1504),Dato!$A$4:$I$218,7,0),\"\")","v":""},null,""]
[null,null,null,{"$f":"IF(C1505=\"\",\"\",VLOOKUP(C1505,Tabla_Regional[],3,0))","v":""},null,{"$f":"IF(E1505<>\"\",VLOOKUP(CONCATENATE(C1505,E1505),Dato!$A$4:$I$218,7,0),\"\")","v":""},null,""]
[null,null,null,{"$f":"IF(C1506=\"\",\"\",VLOOKUP(C1506,Tabla_Regional[],3,0))","v":""},null,{"$f":"IF(E1506<>\"\",VLOOKUP(CONCATENATE(C1506,E1506),Dato!$A$4:$I$218,7,0),\"\")","v":""},null,""]
[null,null,null,{"$f":"IF(C1507=\"\",\"\",VLOOKUP(C1507,Tabla_Regional[],3,0))","v":""},null,{"$f":"IF(E1507<>\"\",VLOOKUP(CONCATENATE(C1507,E1507),Dato!$A$4:$I$218,7,0),\"\")","v":""},null,""]
[null,null,null,{"$f":"IF(C1508=\"\",\"\",VLOOKUP(C1508,Tabla_Regional[],3,0))","v":""},null,{"$f":"IF(E1508<>\"\",VLOOKUP(CONCATENATE(C1508,E1508),Dato!$A$4:$I$218,7,0),\"\")","v":""},null,""]
[null,null,null,{"$f":"IF(C1509=\"\",\"\",VLOOKUP(C1509,Tabla_Regional[],3,0))","v":""},null,{"$f":"IF(E1509<>\"\",VLOOKUP(CONCATENATE(C1509,E1509),Dato!$A$4:$I$218,7,0),\"\")","v":""},null,""]
[null,null,null,{"$f":"IF(C1510=\"\",\"\",VLOOKUP(C1510,Tabla_Regional[],3,0))","v":""},null,{"$f":"IF(E1510<>\"\",VLOOKUP(CONCATENATE(C1510,E1510),Dato!$A$4:$I$218,7,0),\"\")","v":""},null,""]
[null,null,null,{"$f":"IF(C1511=\"\",\"\",VLOOKUP(C1511,Tabla_Regional[],3,0))","v":""},null,{"$f":"IF(E1511<>\"\",VLOOKUP(CONCATENATE(C1511,E1511),Dato!$A$4:$I$218,7,0),\"\")","v":""},null,""]
[null,null,null,{"$f":"IF(C1512=\"\",\"\",VLOOKUP(C1512,Tabla_Regional[],3,0))","v":""},null,{"$f":"IF(E1512<>\"\",VLOOKUP(CONCATENATE(C1512,E1512),Dato!$A$4:$I$218,7,0),\"\")","v":""},null,""]
[null,null,null,{"$f":"IF(C1513=\"\",\"\",VLOOKUP(C1513,Tabla_Regional[],3,0))","v":""},null,{"$f":"IF(E1513<>\"\",VLOOKUP(CONCATENATE(C1513,E1513),Dato!$A$4:$I$218,7,0),\"\")","v":""},null,""]
[null,null,null,{"$f":"IF(C1514=\"\",\"\",VLOOKUP(C1514,Tabla_Regional[],3,0))","v":""},null,{"$f":"IF(E1514<>\"\",VLOOKUP(CONCATENATE(C1514,E1514),Dato!$A$4:$I$218,7,0),\"\")","v":""},null,""]
[null,null,null,{"$f":"IF(C1515=\"\",\"\",VLOOKUP(C1515,Tabla_Regional[],3,0))","v":""},null,{"$f":"IF(E1515<>\"\",VLOOKUP(CONCATENATE(C1515,E1515),Dato!$A$4:$I$218,7,0),\"\")","v":""},null,""]
[null,null,null,{"$f":"IF(C1516=\"\",\"\",VLOOKUP(C1516,Tabla_Regional[],3,0))","v":""},null,{"$f":"IF(E1516<>\"\",VLOOKUP(CONCATENATE(C1516,E1516),Dato!$A$4:$I$218,7,0),\"\")","v":""},null,""]
[null,null,null,{"$f":"IF(C1517=\"\",\"\",VLOOKUP(C1517,Tabla_Regional[],3,0))","v":""},null,{"$f":"IF(E1517<>\"\",VLOOKUP(CONCATENATE(C1517,E1517),Dato!$A$4:$I$218,7,0),\"\")","v":""},null,""]
[null,null,null,{"$f":"IF(C1518=\"\",\"\",VLOOKUP(C1518,Tabla_Regional[],3,0))","v":""},null,{"$f":"IF(E1518<>\"\",VLOOKUP(CONCATENATE(C1518,E1518),Dato!$A$4:$I$218,7,0),\"\")","v":""},null,""]
[null,null,null,{"$f":"IF(C1519=\"\",\"\",VLOOKUP(C1519,Tabla_Regional[],3,0))","v":""},null,{"$f":"IF(E1519<>\"\",VLOOKUP(CONCATENATE(C1519,E1519),Dato!$A$4:$I$218,7,0),\"\")","v":""},null,""]
[null,null,null,{"$f":"IF(C1520=\"\",\"\",VLOOKUP(C1520,Tabla_Regional[],3,0))","v":""},null,{"$f":"IF(E1520<>\"\",VLOOKUP(CONCATENATE(C1520,E1520),Dato!$A$4:$I$218,7,0),\"\")","v":""},null,""]
[null,null,null,{"$f":"IF(C1521=\"\",\"\",VLOOKUP(C1521,Tabla_Regional[],3,0))","v":""},null,{"$f":"IF(E1521<>\"\",VLOOKUP(CONCATENATE(C1521,E1521),Dato!$A$4:$I$218,7,0),\"\")","v":""},null,""]
[null,null,null,{"$f":"IF(C1522=\"\",\"\",VLOOKUP(C1522,Tabla_Regional[],3,0))","v":""},null,{"$f":"IF(E1522<>\"\",VLOOKUP(CONCATENATE(C1522,E1522),Dato!$A$4:$I$218,7,0),\"\")","v":""},null,""]
[null,null,null,{"$f":"IF(C1523=\"\",\"\",VLOOKUP(C1523,Tabla_Regional[],3,0))","v":""},null,{"$f":"IF(E1523<>\"\",VLOOKUP(CONCATENATE(C1523,E1523),Dato!$A$4:$I$218,7,0),\"\")","v":""},null,""]
[null,null,null,{"$f":"IF(C1524=\"\",\"\",VLOOKUP(C1524,Tabla_Regional[],3,0))","v":""},null,{"$f":"IF(E1524<>\"\",VLOOKUP(CONCATENATE(C1524,E1524),Dato!$A$4:$I$218,7,0),\"\")","v":""},null,""]
[null,null,null,{"$f":"IF(C1525=\"\",\"\",VLOOKUP(C1525,Tabla_Regional[],3,0))","v":""},null,{"$f":"IF(E1525<>\"\",VLOOKUP(CONCATENATE(C1525,E1525),Dato!$A$4:$I$218,7,0),\"\")","v":""},null,""]
[null,null,null,{"$f":"IF(C1526=\"\",\"\",VLOOKUP(C1526,Tabla_Regional[],3,0))","v":""},null,{"$f":"IF(E1526<>\"\",VLOOKUP(CONCATENATE(C1526,E1526),Dato!$A$4:$I$218,7,0),\"\")","v":""},null,""]
[null,null,null,{"$f":"IF(C1527=\"\",\"\",VLOOKUP(C1527,Tabla_Regional[],3,0))","v":""},null,{"$f":"IF(E1527<>\"\",VLOOKUP(CONCATENATE(C1527,E1527),Dato!$A$4:$I$218,7,0),\"\")","v":""},null,""]
[null,null,null,{"$f":"IF(C1528=\"\",\"\",VLOOKUP(C1528,Tabla_Regional[],3,0))","v":""},null,{"$f":"IF(E1528<>\"\",VLOOKUP(CONCATENATE(C1528,E1528),Dato!$A$4:$I$218,7,0),\"\")","v":""},null,""]
[null,null,null,{"$f":"IF(C1529=\"\",\"\",VLOOKUP(C1529,Tabla_Regional[],3,0))","v":""},null,{"$f":"IF(E1529<>\"\",VLOOKUP(CONCATENATE(C1529,E1529),Dato!$A$4:$I$218,7,0),\"\")","v":""},null,""]
[null,null,null,{"$f":"IF(C1530=\"\",\"\",VLOOKUP(C1530,Tabla_Regional[],3,0))","v":""},null,{"$f":"IF(E1530<>\"\",VLOOKUP(CONCATENATE(C1530,E1530),Dato!$A$4:$I$218,7,0),\"\")","v":""},null,""]
[null,null,null,{"$f":"IF(C1531=\"\",\"\",VLOOKUP(C1531,Tabla_Regional[],3,0))","v":""},null,{"$f":"IF(E1531<>\"\",VLOOKUP(CONCATENATE(C1531,E1531),Dato!$A$4:$I$218,7,0),\"\")","v":""},null,""]
[null,null,null,{"$f":"IF(C1532=\"\",\"\",VLOOKUP(C1532,Tabla_Regional[],3,0))","v":""},null,{"$f":"IF(E1532<>\"\",VLOOKUP(CONCATENATE(C1532,E1532),Dato!$A$4:$I$218,7,0),\"\")","v":""},null,""]
[null,null,null,{"$f":"IF(C1533=\"\",\"\",VLOOKUP(C1533,Tabla_Regional[],3,0))","v":""},null,{"$f":"IF(E1533<>\"\",VLOOKUP(CONCATENATE(C1533,E1533),Dato!$A$4:$I$218,7,0),\"\")","v":""},null,""]
[null,null,null,{"$f":"IF(C1534=\"\",\"\",VLOOKUP(C1534,Tabla_Regional[],3,0))","v":""},null,{"$f":"IF(E1534<>\"\",VLOOKUP(CONCATENATE(C1534,E1534),Dato!$A$4:$I$218,7,0),\"\")","v":""},null,""]
[null,null,null,{"$f":"IF(C1535=\"\",\"\",VLOOKUP(C1535,Tabla_Regional[],3,0))","v":""},null,{"$f":"IF(E1535<>\"\",VLOOKUP(CONCATENATE(C1535,E1535),Dato!$A$4:$I$218,7,0),\"\")","v":""},null,""]
[null,null,null,{"$f":"IF(C1536=\"\",\"\",VLOOKUP(C1536,Tabla_Regional[],3,0))","v":""},null,{"$f":"IF(E1536<>\"\",VLOOKUP(CONCATENATE(C1536,E1536),Dato!$A$4:$I$218,7,0),\"\")","v":""},null,""]
[null,null,null,{"$f":"IF(C1537=\"\",\"\",VLOOKUP(C1537,Tabla_Regional[],3,0))","v":""},null,{"$f":"IF(E1537<>\"\",VLOOKUP(CONCATENATE(C1537,E1537),Dato!$A$4:$I$218,7,0),\"\")","v":""},null,""]
[null,null,null,{"$f":"IF(C1538=\"\",\"\",VLOOKUP(C1538,Tabla_Regional[],3,0))","v":""},null,{"$f":"IF(E1538<>\"\",VLOOKUP(CONCATENATE(C1538,E1538),Dato!$A$4:$I$218,7,0),\"\")","v":""},null,""]
[null,null,null,{"$f":"IF(C1539=\"\",\"\",VLOOKUP(C1539,Tabla_Regional[],3,0))","v":""},null,{"$f":"IF(E1539<>\"\",VLOOKUP(CONCATENATE(C1539,E1539),Dato!$A$4:$I$218,7,0),\"\")","v":""},null,""]
[null,null,null,{"$f":"IF(C1540=\"\",\"\",VLOOKUP(C1540,Tabla_Regional[],3,0))","v":""},null,{"$f":"IF(E1540<>\"\",VLOOKUP(CONCATENATE(C1540,E1540),Dato!$A$4:$I$218,7,0),\"\")","v":""},null,""]
[null,null,null,{"$f":"IF(C1541=\"\",\"\",VLOOKUP(C1541,Tabla_Regional[],3,0))","v":""},null,{"$f":"IF(E1541<>\"\",VLOOKUP(CONCATENATE(C1541,E1541),Dato!$A$4:$I$218,7,0),\"\")","v":""},null,""]
[null,null,null,{"$f":"IF(C1542=\"\",\"\",VLOOKUP(C1542,Tabla_Regional[],3,0))","v":""},null,{"$f":"IF(E1542<>\"\",VLOOKUP(CONCATENATE(C1542,E1542),Dato!$A$4:$I$218,7,0),\"\")","v":""},null,""]
[null,null,null,{"$f":"IF(C1543=\"\",\"\",VLOOKUP(C1543,Tabla_Regional[],3,0))","v":""},null,{"$f":"IF(E1543<>\"\",VLOOKUP(CONCATENATE(C1543,E1543),Dato!$A$4:$I$218,7,0),\"\")","v":""},null,""]
[null,null,null,{"$f":"IF(C1544=\"\",\"\",VLOOKUP(C1544,Tabla_Regional[],3,0))","v":""},null,{"$f":"IF(E1544<>\"\",VLOOKUP(CONCATENATE(C1544,E1544),Dato!$A$4:$I$218,7,0),\"\")","v":""},null,""]
[null,null,null,{"$f":"IF(C1545=\"\",\"\",VLOOKUP(C1545,Tabla_Regional[],3,0))","v":""},null,{"$f":"IF(E1545<>\"\",VLOOKUP(CONCATENATE(C1545,E1545),Dato!$A$4:$I$218,7,0),\"\")","v":""},null,""]
[null,null,null,{"$f":"IF(C1546=\"\",\"\",VLOOKUP(C1546,Tabla_Regional[],3,0))","v":""},null,{"$f":"IF(E1546<>\"\",VLOOKUP(CONCATENATE(C1546,E1546),Dato!$A$4:$I$218,7,0),\"\")","v":""},null,""]
[null,null,null,{"$f":"IF(C1547=\"\",\"\",VLOOKUP(C1547,Tabla_Regional[],3,0))","v":""},null,{"$f":"IF(E1547<>\"\",VLOOKUP(CONCATENATE(C1547,E1547),Dato!$A$4:$I$218,7,0),\"\")","v":""},null,""]
[null,null,null,{"$f":"IF(C1548=\"\",\"\",VLOOKUP(C1548,Tabla_Regional[],3,0))","v":""},null,{"$f":"IF(E1548<>\"\",VLOOKUP(CONCATENATE(C1548,E1548),Dato!$A$4:$I$218,7,0),\"\")","v":""},null,{"$f":"IF(G1548<>\"\",VLOOKUP(CONCATENATE(C1548,E1548,G1548),czmuni,7,0),\"\")","v":""}]
[null,null,null,{"$f":"IF(C1549=\"\",\"\",VLOOKUP(C1549,Tabla_Regional[],3,0))","v":""},null,{"$f":"IF(E1549<>\"\",VLOOKUP(CONCATENATE(C1549,E1549),Dato!$A$4:$I$218,7,0),\"\")","v":""},null,""]
[null,null,null,{"$f":"IF(C1550=\"\",\"\",VLOOKUP(C1550,Tabla_Regional[],3,0))","v":""},null,{"$f":"IF(E1550<>\"\",VLOOKUP(CONCATENATE(C1550,E1550),Dato!$A$4:$I$218,7,0),\"\")","v":""},null,""]
[null,null,null,{"$f":"IF(C1551=\"\",\"\",VLOOKUP(C1551,Tabla_Regional[],3,0))","v":""},null,{"$f":"IF(E1551<>\"\",VLOOKUP(CONCATENATE(C1551,E1551),Dato!$A$4:$I$218,7,0),\"\")","v":""},null,""]
[null,null,null,{"$f":"IF(C1552=\"\",\"\",VLOOKUP(C1552,Tabla_Regional[],3,0))","v":""},null,{"$f":"IF(E1552<>\"\",VLOOKUP(CONCATENATE(C1552,E1552),Dato!$A$4:$I$218,7,0),\"\")","v":""},null,""]
[null,null,null,{"$f":"IF(C1553=\"\",\"\",VLOOKUP(C1553,Tabla_Regional[],3,0))","v":""},null,{"$f":"IF(E1553<>\"\",VLOOKUP(CONCATENATE(C1553,E1553),Dato!$A$4:$I$218,7,0),\"\")","v":""},null,""]
[null,null,null,{"$f":"IF(C1554=\"\",\"\",VLOOKUP(C1554,Tabla_Regional[],3,0))","v":""},null,{"$f":"IF(E1554<>\"\",VLOOKUP(CONCATENATE(C1554,E1554),Dato!$A$4:$I$218,7,0),\"\")","v":""},null,""]
[null,null,null,{"$f":"IF(C1555=\"\",\"\",VLOOKUP(C1555,Tabla_Regional[],3,0))","v":""},null,{"$f":"IF(E1555<>\"\",VLOOKUP(CONCATENATE(C1555,E1555),Dato!$A$4:$I$218,7,0),\"\")","v":""},null,""]
[null,null,null,{"$f":"IF(C1556=\"\",\"\",VLOOKUP(C1556,Tabla_Regional[],3,0))","v":""},null,{"$f":"IF(E1556<>\"\",VLOOKUP(CONCATENATE(C1556,E1556),Dato!$A$4:$I$218,7,0),\"\")","v":""},null,""]
[null,null,null,{"$f":"IF(C1557=\"\",\"\",VLOOKUP(C1557,Tabla_Regional[],3,0))","v":""},null,{"$f":"IF(E1557<>\"\",VLOOKUP(CONCATENATE(C1557,E1557),Dato!$A$4:$I$218,7,0),\"\")","v":""},null,""]
[null,null,null,{"$f":"IF(C1558=\"\",\"\",VLOOKUP(C1558,Tabla_Regional[],3,0))","v":""},null,{"$f":"IF(E1558<>\"\",VLOOKUP(CONCATENATE(C1558,E1558),Dato!$A$4:$I$218,7,0),\"\")","v":""},null,""]
[null,null,null,{"$f":"IF(C1559=\"\",\"\",VLOOKUP(C1559,Tabla_Regional[],3,0))","v":""},null,{"$f":"IF(E1559<>\"\",VLOOKUP(CONCATENATE(C1559,E1559),Dato!$A$4:$I$218,7,0),\"\")","v":""},null,""]
[null,null,null,{"$f":"IF(C1560=\"\",\"\",VLOOKUP(C1560,Tabla_Regional[],3,0))","v":""},null,{"$f":"IF(E1560<>\"\",VLOOKUP(CONCATENATE(C1560,E1560),Dato!$A$4:$I$218,7,0),\"\")","v":""},null,""]
[null,null,null,{"$f":"IF(C1561=\"\",\"\",VLOOKUP(C1561,Tabla_Regional[],3,0))","v":""},null,{"$f":"IF(E1561<>\"\",VLOOKUP(CONCATENATE(C1561,E1561),Dato!$A$4:$I$218,7,0),\"\")","v":""},null,""]
[null,null,null,{"$f":"IF(C1562=\"\",\"\",VLOOKUP(C1562,Tabla_Regional[],3,0))","v":""},null,{"$f":"IF(E1562<>\"\",VLOOKUP(CONCATENATE(C1562,E1562),Dato!$A$4:$I$218,7,0),\"\")","v":""},null,""]
[null,null,null,{"$f":"IF(C1563=\"\",\"\",VLOOKUP(C1563,Tabla_Regional[],3,0))","v":""},null,{"$f":"IF(E1563<>\"\",VLOOKUP(CONCATENATE(C1563,E1563),Dato!$A$4:$I$218,7,0),\"\")","v":""},null,""]
[null,null,null,{"$f":"IF(C1564=\"\",\"\",VLOOKUP(C1564,Tabla_Regional[],3,0))","v":""},null,{"$f":"IF(E1564<>\"\",VLOOKUP(CONCATENATE(C1564,E1564),Dato!$A$4:$I$218,7,0),\"\")","v":""},null,""]
[null,null,null,{"$f":"IF(C1565=\"\",\"\",VLOOKUP(C1565,Tabla_Regional[],3,0))","v":""},null,{"$f":"IF(E1565<>\"\",VLOOKUP(CONCATENATE(C1565,E1565),Dato!$A$4:$I$218,7,0),\"\")","v":""},null,""]
[null,null,null,{"$f":"IF(C1566=\"\",\"\",VLOOKUP(C1566,Tabla_Regional[],3,0))","v":""},null,{"$f":"IF(E1566<>\"\",VLOOKUP(CONCATENATE(C1566,E1566),Dato!$A$4:$I$218,7,0),\"\")","v":""},null,""]
[null,null,null,{"$f":"IF(C1567=\"\",\"\",VLOOKUP(C1567,Tabla_Regional[],3,0))","v":""},null,{"$f":"IF(E1567<>\"\",VLOOKUP(CONCATENATE(C1567,E1567),Dato!$A$4:$I$218,7,0),\"\")","v":""},null,""]
[null,null,null,{"$f":"IF(C1568=\"\",\"\",VLOOKUP(C1568,Tabla_Regional[],3,0))","v":""},null,{"$f":"IF(E1568<>\"\",VLOOKUP(CONCATENATE(C1568,E1568),Dato!$A$4:$I$218,7,0),\"\")","v":""},null,""]
[null,null,null,{"$f":"IF(C1569=\"\",\"\",VLOOKUP(C1569,Tabla_Regional[],3,0))","v":""},null,{"$f":"IF(E1569<>\"\",VLOOKUP(CONCATENATE(C1569,E1569),Dato!$A$4:$I$218,7,0),\"\")","v":""},null,""]
[null,null,null,{"$f":"IF(C1570=\"\",\"\",VLOOKUP(C1570,Tabla_Regional[],3,0))","v":""},null,{"$f":"IF(E1570<>\"\",VLOOKUP(CONCATENATE(C1570,E1570),Dato!$A$4:$I$218,7,0),\"\")","v":""},null,""]
[null,null,null,{"$f":"IF(C1571=\"\",\"\",VLOOKUP(C1571,Tabla_Regional[],3,0))","v":""},null,{"$f":"IF(E1571<>\"\",VLOOKUP(CONCATENATE(C1571,E1571),Dato!$A$4:$I$218,7,0),\"\")","v":""},null,""]
[null,null,null,{"$f":"IF(C1572=\"\",\"\",VLOOKUP(C1572,Tabla_Regional[],3,0))","v":""},null,{"$f":"IF(E1572<>\"\",VLOOKUP(CONCATENATE(C1572,E1572),Dato!$A$4:$I$218,7,0),\"\")","v":""},null,""]
[null,null,null,{"$f":"IF(C1573=\"\",\"\",VLOOKUP(C1573,Tabla_Regional[],3,0))","v":""},null,{"$f":"IF(E1573<>\"\",VLOOKUP(CONCATENATE(C1573,E1573),Dato!$A$4:$I$218,7,0),\"\")","v":""},null,""]
[null,null,null,{"$f":"IF(C1574=\"\",\"\",VLOOKUP(C1574,Tabla_Regional[],3,0))","v":""},null,{"$f":"IF(E1574<>\"\",VLOOKUP(CONCATENATE(C1574,E1574),Dato!$A$4:$I$218,7,0),\"\")","v":""},null,""]
[null,null,null,{"$f":"IF(C1575=\"\",\"\",VLOOKUP(C1575,Tabla_Regional[],3,0))","v":""},null,{"$f":"IF(E1575<>\"\",VLOOKUP(CONCATENATE(C1575,E1575),Dato!$A$4:$I$218,7,0),\"\")","v":""},null,""]
[null,null,null,{"$f":"IF(C1576=\"\",\"\",VLOOKUP(C1576,Tabla_Regional[],3,0))","v":""},null,{"$f":"IF(E1576<>\"\",VLOOKUP(CONCATENATE(C1576,E1576),Dato!$A$4:$I$218,7,0),\"\")","v":""},null,""]
[null,null,null,{"$f":"IF(C1577=\"\",\"\",VLOOKUP(C1577,Tabla_Regional[],3,0))","v":""},null,{"$f":"IF(E1577<>\"\",VLOOKUP(CONCATENATE(C1577,E1577),Dato!$A$4:$I$218,7,0),\"\")","v":""},null,""]
[null,null,null,{"$f":"IF(C1578=\"\",\"\",VLOOKUP(C1578,Tabla_Regional[],3,0))","v":""},null,{"$f":"IF(E1578<>\"\",VLOOKUP(CONCATENATE(C1578,E1578),Dato!$A$4:$I$218,7,0),\"\")","v":""},null,""]
[null,null,null,{"$f":"IF(C1579=\"\",\"\",VLOOKUP(C1579,Tabla_Regional[],3,0))","v":""},null,{"$f":"IF(E1579<>\"\",VLOOKUP(CONCATENATE(C1579,E1579),Dato!$A$4:$I$218,7,0),\"\")","v":""},null,""]
[null,null,null,{"$f":"IF(C1580=\"\",\"\",VLOOKUP(C1580,Tabla_Regional[],3,0))","v":""},null,{"$f":"IF(E1580<>\"\",VLOOKUP(CONCATENATE(C1580,E1580),Dato!$A$4:$I$218,7,0),\"\")","v":""},null,""]
[null,null,null,{"$f":"IF(C1581=\"\",\"\",VLOOKUP(C1581,Tabla_Regional[],3,0))","v":""},null,{"$f":"IF(E1581<>\"\",VLOOKUP(CONCATENATE(C1581,E1581),Dato!$A$4:$I$218,7,0),\"\")","v":""},null,""]
[null,null,null,{"$f":"IF(C1582=\"\",\"\",VLOOKUP(C1582,Tabla_Regional[],3,0))","v":""},null,{"$f":"IF(E1582<>\"\",VLOOKUP(CONCATENATE(C1582,E1582),Dato!$A$4:$I$218,7,0),\"\")","v":""},null,""]
[null,null,null,{"$f":"IF(C1583=\"\",\"\",VLOOKUP(C1583,Tabla_Regional[],3,0))","v":""},null,{"$f":"IF(E1583<>\"\",VLOOKUP(CONCATENATE(C1583,E1583),Dato!$A$4:$I$218,7,0),\"\")","v":""},null,""]
[null,null,null,{"$f":"IF(C1584=\"\",\"\",VLOOKUP(C1584,Tabla_Regional[],3,0))","v":""},null,{"$f":"IF(E1584<>\"\",VLOOKUP(CONCATENATE(C1584,E1584),Dato!$A$4:$I$218,7,0),\"\")","v":""},null,""]
[null,null,null,{"$f":"IF(C1585=\"\",\"\",VLOOKUP(C1585,Tabla_Regional[],3,0))","v":""},null,{"$f":"IF(E1585<>\"\",VLOOKUP(CONCATENATE(C1585,E1585),Dato!$A$4:$I$218,7,0),\"\")","v":""},null,""]
[null,null,null,{"$f":"IF(C1586=\"\",\"\",VLOOKUP(C1586,Tabla_Regional[],3,0))","v":""},null,{"$f":"IF(E1586<>\"\",VLOOKUP(CONCATENATE(C1586,E1586),Dato!$A$4:$I$218,7,0),\"\")","v":""},null,""]
[null,null,null,{"$f":"IF(C1587=\"\",\"\",VLOOKUP(C1587,Tabla_Regional[],3,0))","v":""},null,{"$f":"IF(E1587<>\"\",VLOOKUP(CONCATENATE(C1587,E1587),Dato!$A$4:$I$218,7,0),\"\")","v":""},null,""]
[null,null,null,{"$f":"IF(C1588=\"\",\"\",VLOOKUP(C1588,Tabla_Regional[],3,0))","v":""},null,{"$f":"IF(E1588<>\"\",VLOOKUP(CONCATENATE(C1588,E1588),Dato!$A$4:$I$218,7,0),\"\")","v":""},null,""]
[null,null,null,{"$f":"IF(C1589=\"\",\"\",VLOOKUP(C1589,Tabla_Regional[],3,0))","v":""},null,{"$f":"IF(E1589<>\"\",VLOOKUP(CONCATENATE(C1589,E1589),Dato!$A$4:$I$218,7,0),\"\")","v":""},null,""]
[null,null,null,{"$f":"IF(C1590=\"\",\"\",VLOOKUP(C1590,Tabla_Regional[],3,0))","v":""},null,{"$f":"IF(E1590<>\"\",VLOOKUP(CONCATENATE(C1590,E1590),Dato!$A$4:$I$218,7,0),\"\")","v":""},null,""]
[null,null,null,{"$f":"IF(C1591=\"\",\"\",VLOOKUP(C1591,Tabla_Regional[],3,0))","v":""},null,{"$f":"IF(E1591<>\"\",VLOOKUP(CONCATENATE(C1591,E1591),Dato!$A$4:$I$218,7,0),\"\")","v":""},null,""]
[null,null,null,{"$f":"IF(C1592=\"\",\"\",VLOOKUP(C1592,Tabla_Regional[],3,0))","v":""},null,{"$f":"IF(E1592<>\"\",VLOOKUP(CONCATENATE(C1592,E1592),Dato!$A$4:$I$218,7,0),\"\")","v":""},null,""]
[null,null,null,{"$f":"IF(C1593=\"\",\"\",VLOOKUP(C1593,Tabla_Regional[],3,0))","v":""},null,{"$f":"IF(E1593<>\"\",VLOOKUP(CONCATENATE(C1593,E1593),Dato!$A$4:$I$218,7,0),\"\")","v":""},null,""]
[null,null,null,{"$f":"IF(C1594=\"\",\"\",VLOOKUP(C1594,Tabla_Regional[],3,0))","v":""},null,{"$f":"IF(E1594<>\"\",VLOOKUP(CONCATENATE(C1594,E1594),Dato!$A$4:$I$218,7,0),\"\")","v":""},null,""]
[null,null,null,{"$f":"IF(C1595=\"\",\"\",VLOOKUP(C1595,Tabla_Regional[],3,0))","v":""},null,{"$f":"IF(E1595<>\"\",VLOOKUP(CONCATENATE(C1595,E1595),Dato!$A$4:$I$218,7,0),\"\")","v":""},null,""]
[null,null,null,{"$f":"IF(C1596=\"\",\"\",VLOOKUP(C1596,Tabla_Regional[],3,0))","v":""},null,{"$f":"IF(E1596<>\"\",VLOOKUP(CONCATENATE(C1596,E1596),Dato!$A$4:$I$218,7,0),\"\")","v":""},null,""]
[null,null,null,{"$f":"IF(C1597=\"\",\"\",VLOOKUP(C1597,Tabla_Regional[],3,0))","v":""},null,{"$f":"IF(E1597<>\"\",VLOOKUP(CONCATENATE(C1597,E1597),Dato!$A$4:$I$218,7,0),\"\")","v":""},null,""]
[null,null,null,{"$f":"IF(C1598=\"\",\"\",VLOOKUP(C1598,Tabla_Regional[],3,0))","v":""},null,{"$f":"IF(E1598<>\"\",VLOOKUP(CONCATENATE(C1598,E1598),Dato!$A$4:$I$218,7,0),\"\")","v":""},null,""]
[null,null,null,{"$f":"IF(C1599=\"\",\"\",VLOOKUP(C1599,Tabla_Regional[],3,0))","v":""},null,{"$f":"IF(E1599<>\"\",VLOOKUP(CONCATENATE(C1599,E1599),Dato!$A$4:$I$218,7,0),\"\")","v":""},null,""]
[null,null,null,{"$f":"IF(C1600=\"\",\"\",VLOOKUP(C1600,Tabla_Regional[],3,0))","v":""},null,{"$f":"IF(E1600<>\"\",VLOOKUP(CONCATENATE(C1600,E1600),Dato!$A$4:$I$218,7,0),\"\")","v":""},null,""]
[null,null,null,{"$f":"IF(C1601=\"\",\"\",VLOOKUP(C1601,Tabla_Regional[],3,0))","v":""},null,{"$f":"IF(E1601<>\"\",VLOOKUP(CONCATENATE(C1601,E1601),Dato!$A$4:$I$218,7,0),\"\")","v":""},null,""]
[null,null,null,{"$f":"IF(C1602=\"\",\"\",VLOOKUP(C1602,Tabla_Regional[],3,0))","v":""},null,{"$f":"IF(E1602<>\"\",VLOOKUP(CONCATENATE(C1602,E1602),Dato!$A$4:$I$218,7,0),\"\")","v":""},null,""]
[null,null,null,{"$f":"IF(C1603=\"\",\"\",VLOOKUP(C1603,Tabla_Regional[],3,0))","v":""},null,{"$f":"IF(E1603<>\"\",VLOOKUP(CONCATENATE(C1603,E1603),Dato!$A$4:$I$218,7,0),\"\")","v":""},null,""]
[null,null,null,{"$f":"IF(C1604=\"\",\"\",VLOOKUP(C1604,Tabla_Regional[],3,0))","v":""},null,{"$f":"IF(E1604<>\"\",VLOOKUP(CONCATENATE(C1604,E1604),Dato!$A$4:$I$218,7,0),\"\")","v":""},null,""]
[null,null,null,{"$f":"IF(C1605=\"\",\"\",VLOOKUP(C1605,Tabla_Regional[],3,0))","v":""},null,{"$f":"IF(E1605<>\"\",VLOOKUP(CONCATENATE(C1605,E1605),Dato!$A$4:$I$218,7,0),\"\")","v":""},null,""]
[null,null,null,{"$f":"IF(C1606=\"\",\"\",VLOOKUP(C1606,Tabla_Regional[],3,0))","v":""},null,{"$f":"IF(E1606<>\"\",VLOOKUP(CONCATENATE(C1606,E1606),Dato!$A$4:$I$218,7,0),\"\")","v":""},null,""]
[null,null,null,{"$f":"IF(C1607=\"\",\"\",VLOOKUP(C1607,Tabla_Regional[],3,0))","v":""},null,{"$f":"IF(E1607<>\"\",VLOOKUP(CONCATENATE(C1607,E1607),Dato!$A$4:$I$218,7,0),\"\")","v":""},null,""]
[null,null,null,{"$f":"IF(C1608=\"\",\"\",VLOOKUP(C1608,Tabla_Regional[],3,0))","v":""},null,{"$f":"IF(E1608<>\"\",VLOOKUP(CONCATENATE(C1608,E1608),Dato!$A$4:$I$218,7,0),\"\")","v":""},null,""]
[null,null,null,{"$f":"IF(C1609=\"\",\"\",VLOOKUP(C1609,Tabla_Regional[],3,0))","v":""},null,{"$f":"IF(E1609<>\"\",VLOOKUP(CONCATENATE(C1609,E1609),Dato!$A$4:$I$218,7,0),\"\")","v":""},null,""]
[null,null,null,{"$f":"IF(C1610=\"\",\"\",VLOOKUP(C1610,Tabla_Regional[],3,0))","v":""},null,{"$f":"IF(E1610<>\"\",VLOOKUP(CONCATENATE(C1610,E1610),Dato!$A$4:$I$218,7,0),\"\")","v":""},null,""]
[null,null,null,{"$f":"IF(C1611=\"\",\"\",VLOOKUP(C1611,Tabla_Regional[],3,0))","v":""},null,{"$f":"IF(E1611<>\"\",VLOOKUP(CONCATENATE(C1611,E1611),Dato!$A$4:$I$218,7,0),\"\")","v":""},null,""]
[null,null,null,{"$f":"IF(C1612=\"\",\"\",VLOOKUP(C1612,Tabla_Regional[],3,0))","v":""},null,{"$f":"IF(E1612<>\"\",VLOOKUP(CONCATENATE(C1612,E1612),Dato!$A$4:$I$218,7,0),\"\")","v":""},null,{"$f":"IF(G1612<>\"\",VLOOKUP(CONCATENATE(C1612,E1612,G1612),czmuni,7,0),\"\")","v":""}]
[null,null,null,{"$f":"IF(C1613=\"\",\"\",VLOOKUP(C1613,Tabla_Regional[],3,0))","v":""},null,{"$f":"IF(E1613<>\"\",VLOOKUP(CONCATENATE(C1613,E1613),Dato!$A$4:$I$218,7,0),\"\")","v":""},null,""]
[null,null,null,{"$f":"IF(C1614=\"\",\"\",VLOOKUP(C1614,Tabla_Regional[],3,0))","v":""},null,{"$f":"IF(E1614<>\"\",VLOOKUP(CONCATENATE(C1614,E1614),Dato!$A$4:$I$218,7,0),\"\")","v":""},null,""]
[null,null,null,{"$f":"IF(C1615=\"\",\"\",VLOOKUP(C1615,Tabla_Regional[],3,0))","v":""},null,{"$f":"IF(E1615<>\"\",VLOOKUP(CONCATENATE(C1615,E1615),Dato!$A$4:$I$218,7,0),\"\")","v":""},null,""]
[null,null,null,{"$f":"IF(C1616=\"\",\"\",VLOOKUP(C1616,Tabla_Regional[],3,0))","v":""},null,{"$f":"IF(E1616<>\"\",VLOOKUP(CONCATENATE(C1616,E1616),Dato!$A$4:$I$218,7,0),\"\")","v":""},null,""]
[null,null,null,{"$f":"IF(C1617=\"\",\"\",VLOOKUP(C1617,Tabla_Regional[],3,0))","v":""},null,{"$f":"IF(E1617<>\"\",VLOOKUP(CONCATENATE(C1617,E1617),Dato!$A$4:$I$218,7,0),\"\")","v":""},null,""]
[null,null,null,{"$f":"IF(C1618=\"\",\"\",VLOOKUP(C1618,Tabla_Regional[],3,0))","v":""},null,{"$f":"IF(E1618<>\"\",VLOOKUP(CONCATENATE(C1618,E1618),Dato!$A$4:$I$218,7,0),\"\")","v":""},null,""]
[null,null,null,{"$f":"IF(C1619=\"\",\"\",VLOOKUP(C1619,Tabla_Regional[],3,0))","v":""},null,{"$f":"IF(E1619<>\"\",VLOOKUP(CONCATENATE(C1619,E1619),Dato!$A$4:$I$218,7,0),\"\")","v":""},null,""]
[null,null,null,{"$f":"IF(C1620=\"\",\"\",VLOOKUP(C1620,Tabla_Regional[],3,0))","v":""},null,{"$f":"IF(E1620<>\"\",VLOOKUP(CONCATENATE(C1620,E1620),Dato!$A$4:$I$218,7,0),\"\")","v":""},null,""]
[null,null,null,{"$f":"IF(C1621=\"\",\"\",VLOOKUP(C1621,Tabla_Regional[],3,0))","v":""},null,{"$f":"IF(E1621<>\"\",VLOOKUP(CONCATENATE(C1621,E1621),Dato!$A$4:$I$218,7,0),\"\")","v":""},null,""]
[null,null,null,{"$f":"IF(C1622=\"\",\"\",VLOOKUP(C1622,Tabla_Regional[],3,0))","v":""},null,{"$f":"IF(E1622<>\"\",VLOOKUP(CONCATENATE(C1622,E1622),Dato!$A$4:$I$218,7,0),\"\")","v":""},null,""]
[null,null,null,{"$f":"IF(C1623=\"\",\"\",VLOOKUP(C1623,Tabla_Regional[],3,0))","v":""},null,{"$f":"IF(E1623<>\"\",VLOOKUP(CONCATENATE(C1623,E1623),Dato!$A$4:$I$218,7,0),\"\")","v":""},null,""]
[null,null,null,{"$f":"IF(C1624=\"\",\"\",VLOOKUP(C1624,Tabla_Regional[],3,0))","v":""},null,{"$f":"IF(E1624<>\"\",VLOOKUP(CONCATENATE(C1624,E1624),Dato!$A$4:$I$218,7,0),\"\")","v":""},null,""]
[null,null,null,{"$f":"IF(C1625=\"\",\"\",VLOOKUP(C1625,Tabla_Regional[],3,0))","v":""},null,{"$f":"IF(E1625<>\"\",VLOOKUP(CONCATENATE(C1625,E1625),Dato!$A$4:$I$218,7,0),\"\")","v":""},null,""]
[null,null,null,{"$f":"IF(C1626=\"\",\"\",VLOOKUP(C1626,Tabla_Regional[],3,0))","v":""},null,{"$f":"IF(E1626<>\"\",VLOOKUP(CONCATENATE(C1626,E1626),Dato!$A$4:$I$218,7,0),\"\")","v":""},null,""]
[null,null,null,{"$f":"IF(C1627=\"\",\"\",VLOOKUP(C1627,Tabla_Regional[],3,0))","v":""},null,{"$f":"IF(E1627<>\"\",VLOOKUP(CONCATENATE(C1627,E1627),Dato!$A$4:$I$218,7,0),\"\")","v":""},null,""]
[null,null,null,{"$f":"IF(C1628=\"\",\"\",VLOOKUP(C1628,Tabla_Regional[],3,0))","v":""},null,{"$f":"IF(E1628<>\"\",VLOOKUP(CONCATENATE(C1628,E1628),Dato!$A$4:$I$218,7,0),\"\")","v":""},null,""]
[null,null,null,{"$f":"IF(C1629=\"\",\"\",VLOOKUP(C1629,Tabla_Regional[],3,0))","v":""},null,{"$f":"IF(E1629<>\"\",VLOOKUP(CONCATENATE(C1629,E1629),Dato!$A$4:$I$218,7,0),\"\")","v":""},null,""]
[null,null,null,{"$f":"IF(C1630=\"\",\"\",VLOOKUP(C1630,Tabla_Regional[],3,0))","v":""},null,{"$f":"IF(E1630<>\"\",VLOOKUP(CONCATENATE(C1630,E1630),Dato!$A$4:$I$218,7,0),\"\")","v":""},null,""]
[null,null,null,{"$f":"IF(C1631=\"\",\"\",VLOOKUP(C1631,Tabla_Regional[],3,0))","v":""},null,{"$f":"IF(E1631<>\"\",VLOOKUP(CONCATENATE(C1631,E1631),Dato!$A$4:$I$218,7,0),\"\")","v":""},null,""]
[null,null,null,{"$f":"IF(C1632=\"\",\"\",VLOOKUP(C1632,Tabla_Regional[],3,0))","v":""},null,{"$f":"IF(E1632<>\"\",VLOOKUP(CONCATENATE(C1632,E1632),Dato!$A$4:$I$218,7,0),\"\")","v":""},null,""]
[null,null,null,{"$f":"IF(C1633=\"\",\"\",VLOOKUP(C1633,Tabla_Regional[],3,0))","v":""},null,{"$f":"IF(E1633<>\"\",VLOOKUP(CONCATENATE(C1633,E1633),Dato!$A$4:$I$218,7,0),\"\")","v":""},null,""]
[null,null,null,{"$f":"IF(C1634=\"\",\"\",VLOOKUP(C1634,Tabla_Regional[],3,0))","v":""},null,{"$f":"IF(E1634<>\"\",VLOOKUP(CONCATENATE(C1634,E1634),Dato!$A$4:$I$218,7,0),\"\")","v":""},null,""]
[null,null,null,{"$f":"IF(C1635=\"\",\"\",VLOOKUP(C1635,Tabla_Regional[],3,0))","v":""},null,{"$f":"IF(E1635<>\"\",VLOOKUP(CONCATENATE(C1635,E1635),Dato!$A$4:$I$218,7,0),\"\")","v":""},null,""]
[null,null,null,{"$f":"IF(C1636=\"\",\"\",VLOOKUP(C1636,Tabla_Regional[],3,0))","v":""},null,{"$f":"IF(E1636<>\"\",VLOOKUP(CONCATENATE(C1636,E1636),Dato!$A$4:$I$218,7,0),\"\")","v":""},null,""]
[null,null,null,{"$f":"IF(C1637=\"\",\"\",VLOOKUP(C1637,Tabla_Regional[],3,0))","v":""},null,{"$f":"IF(E1637<>\"\",VLOOKUP(CONCATENATE(C1637,E1637),Dato!$A$4:$I$218,7,0),\"\")","v":""},null,""]
[null,null,null,{"$f":"IF(C1638=\"\",\"\",VLOOKUP(C1638,Tabla_Regional[],3,0))","v":""},null,{"$f":"IF(E1638<>\"\",VLOOKUP(CONCATENATE(C1638,E1638),Dato!$A$4:$I$218,7,0),\"\")","v":""},null,""]
[null,null,null,{"$f":"IF(C1639=\"\",\"\",VLOOKUP(C1639,Tabla_Regional[],3,0))","v":""},null,{"$f":"IF(E1639<>\"\",VLOOKUP(CONCATENATE(C1639,E1639),Dato!$A$4:$I$218,7,0),\"\")","v":""},null,""]
[null,null,null,{"$f":"IF(C1640=\"\",\"\",VLOOKUP(C1640,Tabla_Regional[],3,0))","v":""},null,{"$f":"IF(E1640<>\"\",VLOOKUP(CONCATENATE(C1640,E1640),Dato!$A$4:$I$218,7,0),\"\")","v":""},null,""]
[null,null,null,{"$f":"IF(C1641=\"\",\"\",VLOOKUP(C1641,Tabla_Regional[],3,0))","v":""},null,{"$f":"IF(E1641<>\"\",VLOOKUP(CONCATENATE(C1641,E1641),Dato!$A$4:$I$218,7,0),\"\")","v":""},null,""]
[null,null,null,{"$f":"IF(C1642=\"\",\"\",VLOOKUP(C1642,Tabla_Regional[],3,0))","v":""},null,{"$f":"IF(E1642<>\"\",VLOOKUP(CONCATENATE(C1642,E1642),Dato!$A$4:$I$218,7,0),\"\")","v":""},null,""]
[null,null,null,{"$f":"IF(C1643=\"\",\"\",VLOOKUP(C1643,Tabla_Regional[],3,0))","v":""},null,{"$f":"IF(E1643<>\"\",VLOOKUP(CONCATENATE(C1643,E1643),Dato!$A$4:$I$218,7,0),\"\")","v":""},null,""]
[null,null,null,{"$f":"IF(C1644=\"\",\"\",VLOOKUP(C1644,Tabla_Regional[],3,0))","v":""},null,{"$f":"IF(E1644<>\"\",VLOOKUP(CONCATENATE(C1644,E1644),Dato!$A$4:$I$218,7,0),\"\")","v":""},null,""]
[null,null,null,{"$f":"IF(C1645=\"\",\"\",VLOOKUP(C1645,Tabla_Regional[],3,0))","v":""},null,{"$f":"IF(E1645<>\"\",VLOOKUP(CONCATENATE(C1645,E1645),Dato!$A$4:$I$218,7,0),\"\")","v":""},null,""]
[null,null,null,{"$f":"IF(C1646=\"\",\"\",VLOOKUP(C1646,Tabla_Regional[],3,0))","v":""},null,{"$f":"IF(E1646<>\"\",VLOOKUP(CONCATENATE(C1646,E1646),Dato!$A$4:$I$218,7,0),\"\")","v":""},null,""]
[null,null,null,{"$f":"IF(C1647=\"\",\"\",VLOOKUP(C1647,Tabla_Regional[],3,0))","v":""},null,{"$f":"IF(E1647<>\"\",VLOOKUP(CONCATENATE(C1647,E1647),Dato!$A$4:$I$218,7,0),\"\")","v":""},null,""]
[null,null,null,{"$f":"IF(C1648=\"\",\"\",VLOOKUP(C1648,Tabla_Regional[],3,0))","v":""},null,{"$f":"IF(E1648<>\"\",VLOOKUP(CONCATENATE(C1648,E1648),Dato!$A$4:$I$218,7,0),\"\")","v":""},null,""]
[null,null,null,{"$f":"IF(C1649=\"\",\"\",VLOOKUP(C1649,Tabla_Regional[],3,0))","v":""},null,{"$f":"IF(E1649<>\"\",VLOOKUP(CONCATENATE(C1649,E1649),Dato!$A$4:$I$218,7,0),\"\")","v":""},null,""]
[null,null,null,{"$f":"IF(C1650=\"\",\"\",VLOOKUP(C1650,Tabla_Regional[],3,0))","v":""},null,{"$f":"IF(E1650<>\"\",VLOOKUP(CONCATENATE(C1650,E1650),Dato!$A$4:$I$218,7,0),\"\")","v":""},null,""]
[null,null,null,{"$f":"IF(C1651=\"\",\"\",VLOOKUP(C1651,Tabla_Regional[],3,0))","v":""},null,{"$f":"IF(E1651<>\"\",VLOOKUP(CONCATENATE(C1651,E1651),Dato!$A$4:$I$218,7,0),\"\")","v":""},null,""]
[null,null,null,{"$f":"IF(C1652=\"\",\"\",VLOOKUP(C1652,Tabla_Regional[],3,0))","v":""},null,{"$f":"IF(E1652<>\"\",VLOOKUP(CONCATENATE(C1652,E1652),Dato!$A$4:$I$218,7,0),\"\")","v":""},null,""]
[null,null,null,{"$f":"IF(C1653=\"\",\"\",VLOOKUP(C1653,Tabla_Regional[],3,0))","v":""},null,{"$f":"IF(E1653<>\"\",VLOOKUP(CONCATENATE(C1653,E1653),Dato!$A$4:$I$218,7,0),\"\")","v":""},null,""]
[null,null,null,{"$f":"IF(C1654=\"\",\"\",VLOOKUP(C1654,Tabla_Regional[],3,0))","v":""},null,{"$f":"IF(E1654<>\"\",VLOOKUP(CONCATENATE(C1654,E1654),Dato!$A$4:$I$218,7,0),\"\")","v":""},null,""]
[null,null,null,{"$f":"IF(C1655=\"\",\"\",VLOOKUP(C1655,Tabla_Regional[],3,0))","v":""},null,{"$f":"IF(E1655<>\"\",VLOOKUP(CONCATENATE(C1655,E1655),Dato!$A$4:$I$218,7,0),\"\")","v":""},null,""]
[null,null,null,{"$f":"IF(C1656=\"\",\"\",VLOOKUP(C1656,Tabla_Regional[],3,0))","v":""},null,{"$f":"IF(E1656<>\"\",VLOOKUP(CONCATENATE(C1656,E1656),Dato!$A$4:$I$218,7,0),\"\")","v":""},null,""]
[null,null,null,{"$f":"IF(C1657=\"\",\"\",VLOOKUP(C1657,Tabla_Regional[],3,0))","v":""},null,{"$f":"IF(E1657<>\"\",VLOOKUP(CONCATENATE(C1657,E1657),Dato!$A$4:$I$218,7,0),\"\")","v":""},null,""]
[null,null,null,{"$f":"IF(C1658=\"\",\"\",VLOOKUP(C1658,Tabla_Regional[],3,0))","v":""},null,{"$f":"IF(E1658<>\"\",VLOOKUP(CONCATENATE(C1658,E1658),Dato!$A$4:$I$218,7,0),\"\")","v":""},null,""]
[null,null,null,{"$f":"IF(C1659=\"\",\"\",VLOOKUP(C1659,Tabla_Regional[],3,0))","v":""},null,{"$f":"IF(E1659<>\"\",VLOOKUP(CONCATENATE(C1659,E1659),Dato!$A$4:$I$218,7,0),\"\")","v":""},null,""]
[null,null,null,{"$f":"IF(C1660=\"\",\"\",VLOOKUP(C1660,Tabla_Regional[],3,0))","v":""},null,{"$f":"IF(E1660<>\"\",VLOOKUP(CONCATENATE(C1660,E1660),Dato!$A$4:$I$218,7,0),\"\")","v":""},null,""]
[null,null,null,{"$f":"IF(C1661=\"\",\"\",VLOOKUP(C1661,Tabla_Regional[],3,0))","v":""},null,{"$f":"IF(E1661<>\"\",VLOOKUP(CONCATENATE(C1661,E1661),Dato!$A$4:$I$218,7,0),\"\")","v":""},null,""]
[null,null,null,{"$f":"IF(C1662=\"\",\"\",VLOOKUP(C1662,Tabla_Regional[],3,0))","v":""},null,{"$f":"IF(E1662<>\"\",VLOOKUP(CONCATENATE(C1662,E1662),Dato!$A$4:$I$218,7,0),\"\")","v":""},null,""]
[null,null,null,{"$f":"IF(C1663=\"\",\"\",VLOOKUP(C1663,Tabla_Regional[],3,0))","v":""},null,{"$f":"IF(E1663<>\"\",VLOOKUP(CONCATENATE(C1663,E1663),Dato!$A$4:$I$218,7,0),\"\")","v":""},null,""]
[null,null,null,{"$f":"IF(C1664=\"\",\"\",VLOOKUP(C1664,Tabla_Regional[],3,0))","v":""},null,{"$f":"IF(E1664<>\"\",VLOOKUP(CONCATENATE(C1664,E1664),Dato!$A$4:$I$218,7,0),\"\")","v":""},null,""]
[null,null,null,{"$f":"IF(C1665=\"\",\"\",VLOOKUP(C1665,Tabla_Regional[],3,0))","v":""},null,{"$f":"IF(E1665<>\"\",VLOOKUP(CONCATENATE(C1665,E1665),Dato!$A$4:$I$218,7,0),\"\")","v":""},null,""]
[null,null,null,{"$f":"IF(C1666=\"\",\"\",VLOOKUP(C1666,Tabla_Regional[],3,0))","v":""},null,{"$f":"IF(E1666<>\"\",VLOOKUP(CONCATENATE(C1666,E1666),Dato!$A$4:$I$218,7,0),\"\")","v":""},null,""]
[null,null,null,{"$f":"IF(C1667=\"\",\"\",VLOOKUP(C1667,Tabla_Regional[],3,0))","v":""},null,{"$f":"IF(E1667<>\"\",VLOOKUP(CONCATENATE(C1667,E1667),Dato!$A$4:$I$218,7,0),\"\")","v":""},null,""]
[null,null,null,{"$f":"IF(C1668=\"\",\"\",VLOOKUP(C1668,Tabla_Regional[],3,0))","v":""},null,{"$f":"IF(E1668<>\"\",VLOOKUP(CONCATENATE(C1668,E1668),Dato!$A$4:$I$218,7,0),\"\")","v":""},null,""]
[null,null,null,{"$f":"IF(C1669=\"\",\"\",VLOOKUP(C1669,Tabla_Regional[],3,0))","v":""},null,{"$f":"IF(E1669<>\"\",VLOOKUP(CONCATENATE(C1669,E1669),Dato!$A$4:$I$218,7,0),\"\")","v":""},null,""]
[null,null,null,{"$f":"IF(C1670=\"\",\"\",VLOOKUP(C1670,Tabla_Regional[],3,0))","v":""},null,{"$f":"IF(E1670<>\"\",VLOOKUP(CONCATENATE(C1670,E1670),Dato!$A$4:$I$218,7,0),\"\")","v":""},null,""]
[null,null,null,{"$f":"IF(C1671=\"\",\"\",VLOOKUP(C1671,Tabla_Regional[],3,0))","v":""},null,{"$f":"IF(E1671<>\"\",VLOOKUP(CONCATENATE(C1671,E1671),Dato!$A$4:$I$218,7,0),\"\")","v":""},null,""]
[null,null,null,{"$f":"IF(C1672=\"\",\"\",VLOOKUP(C1672,Tabla_Regional[],3,0))","v":""},null,{"$f":"IF(E1672<>\"\",VLOOKUP(CONCATENATE(C1672,E1672),Dato!$A$4:$I$218,7,0),\"\")","v":""},null,""]
[null,null,null,{"$f":"IF(C1673=\"\",\"\",VLOOKUP(C1673,Tabla_Regional[],3,0))","v":""},null,{"$f":"IF(E1673<>\"\",VLOOKUP(CONCATENATE(C1673,E1673),Dato!$A$4:$I$218,7,0),\"\")","v":""},null,""]
[null,null,null,{"$f":"IF(C1674=\"\",\"\",VLOOKUP(C1674,Tabla_Regional[],3,0))","v":""},null,{"$f":"IF(E1674<>\"\",VLOOKUP(CONCATENATE(C1674,E1674),Dato!$A$4:$I$218,7,0),\"\")","v":""},null,""]
[null,null,null,{"$f":"IF(C1675=\"\",\"\",VLOOKUP(C1675,Tabla_Regional[],3,0))","v":""},null,{"$f":"IF(E1675<>\"\",VLOOKUP(CONCATENATE(C1675,E1675),Dato!$A$4:$I$218,7,0),\"\")","v":""},null,""]
[null,null,null,{"$f":"IF(C1676=\"\",\"\",VLOOKUP(C1676,Tabla_Regional[],3,0))","v":""},null,{"$f":"IF(E1676<>\"\",VLOOKUP(CONCATENATE(C1676,E1676),Dato!$A$4:$I$218,7,0),\"\")","v":""},null,{"$f":"IF(G1676<>\"\",VLOOKUP(CONCATENATE(C1676,E1676,G1676),czmuni,7,0),\"\")","v":""}]
[null,null,null,{"$f":"IF(C1677=\"\",\"\",VLOOKUP(C1677,Tabla_Regional[],3,0))","v":""},null,{"$f":"IF(E1677<>\"\",VLOOKUP(CONCATENATE(C1677,E1677),Dato!$A$4:$I$218,7,0),\"\")","v":""},null,""]
[null,null,null,{"$f":"IF(C1678=\"\",\"\",VLOOKUP(C1678,Tabla_Regional[],3,0))","v":""},null,{"$f":"IF(E1678<>\"\",VLOOKUP(CONCATENATE(C1678,E1678),Dato!$A$4:$I$218,7,0),\"\")","v":""},null,""]
[null,null,null,{"$f":"IF(C1679=\"\",\"\",VLOOKUP(C1679,Tabla_Regional[],3,0))","v":""},null,{"$f":"IF(E1679<>\"\",VLOOKUP(CONCATENATE(C1679,E1679),Dato!$A$4:$I$218,7,0),\"\")","v":""},null,""]
[null,null,null,{"$f":"IF(C1680=\"\",\"\",VLOOKUP(C1680,Tabla_Regional[],3,0))","v":""},null,{"$f":"IF(E1680<>\"\",VLOOKUP(CONCATENATE(C1680,E1680),Dato!$A$4:$I$218,7,0),\"\")","v":""},null,""]
[null,null,null,{"$f":"IF(C1681=\"\",\"\",VLOOKUP(C1681,Tabla_Regional[],3,0))","v":""},null,{"$f":"IF(E1681<>\"\",VLOOKUP(CONCATENATE(C1681,E1681),Dato!$A$4:$I$218,7,0),\"\")","v":""},null,""]
[null,null,null,{"$f":"IF(C1682=\"\",\"\",VLOOKUP(C1682,Tabla_Regional[],3,0))","v":""},null,{"$f":"IF(E1682<>\"\",VLOOKUP(CONCATENATE(C1682,E1682),Dato!$A$4:$I$218,7,0),\"\")","v":""},null,""]
[null,null,null,{"$f":"IF(C1683=\"\",\"\",VLOOKUP(C1683,Tabla_Regional[],3,0))","v":""},null,{"$f":"IF(E1683<>\"\",VLOOKUP(CONCATENATE(C1683,E1683),Dato!$A$4:$I$218,7,0),\"\")","v":""},null,""]
[null,null,null,{"$f":"IF(C1684=\"\",\"\",VLOOKUP(C1684,Tabla_Regional[],3,0))","v":""},null,{"$f":"IF(E1684<>\"\",VLOOKUP(CONCATENATE(C1684,E1684),Dato!$A$4:$I$218,7,0),\"\")","v":""},null,""]
[null,null,null,{"$f":"IF(C1685=\"\",\"\",VLOOKUP(C1685,Tabla_Regional[],3,0))","v":""},null,{"$f":"IF(E1685<>\"\",VLOOKUP(CONCATENATE(C1685,E1685),Dato!$A$4:$I$218,7,0),\"\")","v":""},null,""]
[null,null,null,{"$f":"IF(C1686=\"\",\"\",VLOOKUP(C1686,Tabla_Regional[],3,0))","v":""},null,{"$f":"IF(E1686<>\"\",VLOOKUP(CONCATENATE(C1686,E1686),Dato!$A$4:$I$218,7,0),\"\")","v":""},null,""]
[null,null,null,{"$f":"IF(C1687=\"\",\"\",VLOOKUP(C1687,Tabla_Regional[],3,0))","v":""},null,{"$f":"IF(E1687<>\"\",VLOOKUP(CONCATENATE(C1687,E1687),Dato!$A$4:$I$218,7,0),\"\")","v":""},null,""]
[null,null,null,{"$f":"IF(C1688=\"\",\"\",VLOOKUP(C1688,Tabla_Regional[],3,0))","v":""},null,{"$f":"IF(E1688<>\"\",VLOOKUP(CONCATENATE(C1688,E1688),Dato!$A$4:$I$218,7,0),\"\")","v":""},null,""]
[null,null,null,{"$f":"IF(C1689=\"\",\"\",VLOOKUP(C1689,Tabla_Regional[],3,0))","v":""},null,{"$f":"IF(E1689<>\"\",VLOOKUP(CONCATENATE(C1689,E1689),Dato!$A$4:$I$218,7,0),\"\")","v":""},null,""]
[null,null,null,{"$f":"IF(C1690=\"\",\"\",VLOOKUP(C1690,Tabla_Regional[],3,0))","v":""},null,{"$f":"IF(E1690<>\"\",VLOOKUP(CONCATENATE(C1690,E1690),Dato!$A$4:$I$218,7,0),\"\")","v":""},null,""]
[null,null,null,{"$f":"IF(C1691=\"\",\"\",VLOOKUP(C1691,Tabla_Regional[],3,0))","v":""},null,{"$f":"IF(E1691<>\"\",VLOOKUP(CONCATENATE(C1691,E1691),Dato!$A$4:$I$218,7,0),\"\")","v":""},null,""]
[null,null,null,{"$f":"IF(C1692=\"\",\"\",VLOOKUP(C1692,Tabla_Regional[],3,0))","v":""},null,{"$f":"IF(E1692<>\"\",VLOOKUP(CONCATENATE(C1692,E1692),Dato!$A$4:$I$218,7,0),\"\")","v":""},null,""]
[null,null,null,{"$f":"IF(C1693=\"\",\"\",VLOOKUP(C1693,Tabla_Regional[],3,0))","v":""},null,{"$f":"IF(E1693<>\"\",VLOOKUP(CONCATENATE(C1693,E1693),Dato!$A$4:$I$218,7,0),\"\")","v":""},null,""]
[null,null,null,{"$f":"IF(C1694=\"\",\"\",VLOOKUP(C1694,Tabla_Regional[],3,0))","v":""},null,{"$f":"IF(E1694<>\"\",VLOOKUP(CONCATENATE(C1694,E1694),Dato!$A$4:$I$218,7,0),\"\")","v":""},null,""]
[null,null,null,{"$f":"IF(C1695=\"\",\"\",VLOOKUP(C1695,Tabla_Regional[],3,0))","v":""},null,{"$f":"IF(E1695<>\"\",VLOOKUP(CONCATENATE(C1695,E1695),Dato!$A$4:$I$218,7,0),\"\")","v":""},null,""]
[null,null,null,{"$f":"IF(C1696=\"\",\"\",VLOOKUP(C1696,Tabla_Regional[],3,0))","v":""},null,{"$f":"IF(E1696<>\"\",VLOOKUP(CONCATENATE(C1696,E1696),Dato!$A$4:$I$218,7,0),\"\")","v":""},null,""]
[null,null,null,{"$f":"IF(C1697=\"\",\"\",VLOOKUP(C1697,Tabla_Regional[],3,0))","v":""},null,{"$f":"IF(E1697<>\"\",VLOOKUP(CONCATENATE(C1697,E1697),Dato!$A$4:$I$218,7,0),\"\")","v":""},null,""]
[null,null,null,{"$f":"IF(C1698=\"\",\"\",VLOOKUP(C1698,Tabla_Regional[],3,0))","v":""},null,{"$f":"IF(E1698<>\"\",VLOOKUP(CONCATENATE(C1698,E1698),Dato!$A$4:$I$218,7,0),\"\")","v":""},null,""]
[null,null,null,{"$f":"IF(C1699=\"\",\"\",VLOOKUP(C1699,Tabla_Regional[],3,0))","v":""},null,{"$f":"IF(E1699<>\"\",VLOOKUP(CONCATENATE(C1699,E1699),Dato!$A$4:$I$218,7,0),\"\")","v":""},null,""]
[null,null,null,{"$f":"IF(C1700=\"\",\"\",VLOOKUP(C1700,Tabla_Regional[],3,0))","v":""},null,{"$f":"IF(E1700<>\"\",VLOOKUP(CONCATENATE(C1700,E1700),Dato!$A$4:$I$218,7,0),\"\")","v":""},null,""]
[null,null,null,{"$f":"IF(C1701=\"\",\"\",VLOOKUP(C1701,Tabla_Regional[],3,0))","v":""},null,{"$f":"IF(E1701<>\"\",VLOOKUP(CONCATENATE(C1701,E1701),Dato!$A$4:$I$218,7,0),\"\")","v":""},null,""]
[null,null,null,{"$f":"IF(C1702=\"\",\"\",VLOOKUP(C1702,Tabla_Regional[],3,0))","v":""},null,{"$f":"IF(E1702<>\"\",VLOOKUP(CONCATENATE(C1702,E1702),Dato!$A$4:$I$218,7,0),\"\")","v":""},null,""]
[null,null,null,{"$f":"IF(C1703=\"\",\"\",VLOOKUP(C1703,Tabla_Regional[],3,0))","v":""},null,{"$f":"IF(E1703<>\"\",VLOOKUP(CONCATENATE(C1703,E1703),Dato!$A$4:$I$218,7,0),\"\")","v":""},null,""]
[null,null,null,{"$f":"IF(C1704=\"\",\"\",VLOOKUP(C1704,Tabla_Regional[],3,0))","v":""},null,{"$f":"IF(E1704<>\"\",VLOOKUP(CONCATENATE(C1704,E1704),Dato!$A$4:$I$218,7,0),\"\")","v":""},null,""]
[null,null,null,{"$f":"IF(C1705=\"\",\"\",VLOOKUP(C1705,Tabla_Regional[],3,0))","v":""},null,{"$f":"IF(E1705<>\"\",VLOOKUP(CONCATENATE(C1705,E1705),Dato!$A$4:$I$218,7,0),\"\")","v":""},null,""]
[null,null,null,{"$f":"IF(C1706=\"\",\"\",VLOOKUP(C1706,Tabla_Regional[],3,0))","v":""},null,{"$f":"IF(E1706<>\"\",VLOOKUP(CONCATENATE(C1706,E1706),Dato!$A$4:$I$218,7,0),\"\")","v":""},null,""]
[null,null,null,{"$f":"IF(C1707=\"\",\"\",VLOOKUP(C1707,Tabla_Regional[],3,0))","v":""},null,{"$f":"IF(E1707<>\"\",VLOOKUP(CONCATENATE(C1707,E1707),Dato!$A$4:$I$218,7,0),\"\")","v":""},null,""]
[null,null,null,{"$f":"IF(C1708=\"\",\"\",VLOOKUP(C1708,Tabla_Regional[],3,0))","v":""},null,{"$f":"IF(E1708<>\"\",VLOOKUP(CONCATENATE(C1708,E1708),Dato!$A$4:$I$218,7,0),\"\")","v":""},null,""]
[null,null,null,{"$f":"IF(C1709=\"\",\"\",VLOOKUP(C1709,Tabla_Regional[],3,0))","v":""},null,{"$f":"IF(E1709<>\"\",VLOOKUP(CONCATENATE(C1709,E1709),Dato!$A$4:$I$218,7,0),\"\")","v":""},null,""]
[null,null,null,{"$f":"IF(C1710=\"\",\"\",VLOOKUP(C1710,Tabla_Regional[],3,0))","v":""},null,{"$f":"IF(E1710<>\"\",VLOOKUP(CONCATENATE(C1710,E1710),Dato!$A$4:$I$218,7,0),\"\")","v":""},null,""]
[null,null,null,{"$f":"IF(C1711=\"\",\"\",VLOOKUP(C1711,Tabla_Regional[],3,0))","v":""},null,{"$f":"IF(E1711<>\"\",VLOOKUP(CONCATENATE(C1711,E1711),Dato!$A$4:$I$218,7,0),\"\")","v":""},null,""]
[null,null,null,{"$f":"IF(C1712=\"\",\"\",VLOOKUP(C1712,Tabla_Regional[],3,0))","v":""},null,{"$f":"IF(E1712<>\"\",VLOOKUP(CONCATENATE(C1712,E1712),Dato!$A$4:$I$218,7,0),\"\")","v":""},null,""]
[null,null,null,{"$f":"IF(C1713=\"\",\"\",VLOOKUP(C1713,Tabla_Regional[],3,0))","v":""},null,{"$f":"IF(E1713<>\"\",VLOOKUP(CONCATENATE(C1713,E1713),Dato!$A$4:$I$218,7,0),\"\")","v":""},null,""]
[null,null,null,{"$f":"IF(C1714=\"\",\"\",VLOOKUP(C1714,Tabla_Regional[],3,0))","v":""},null,{"$f":"IF(E1714<>\"\",VLOOKUP(CONCATENATE(C1714,E1714),Dato!$A$4:$I$218,7,0),\"\")","v":""},null,""]
[null,null,null,{"$f":"IF(C1715=\"\",\"\",VLOOKUP(C1715,Tabla_Regional[],3,0))","v":""},null,{"$f":"IF(E1715<>\"\",VLOOKUP(CONCATENATE(C1715,E1715),Dato!$A$4:$I$218,7,0),\"\")","v":""},null,""]
[null,null,null,{"$f":"IF(C1716=\"\",\"\",VLOOKUP(C1716,Tabla_Regional[],3,0))","v":""},null,{"$f":"IF(E1716<>\"\",VLOOKUP(CONCATENATE(C1716,E1716),Dato!$A$4:$I$218,7,0),\"\")","v":""},null,""]
[null,null,null,{"$f":"IF(C1717=\"\",\"\",VLOOKUP(C1717,Tabla_Regional[],3,0))","v":""},null,{"$f":"IF(E1717<>\"\",VLOOKUP(CONCATENATE(C1717,E1717),Dato!$A$4:$I$218,7,0),\"\")","v":""},null,""]
[null,null,null,{"$f":"IF(C1718=\"\",\"\",VLOOKUP(C1718,Tabla_Regional[],3,0))","v":""},null,{"$f":"IF(E1718<>\"\",VLOOKUP(CONCATENATE(C1718,E1718),Dato!$A$4:$I$218,7,0),\"\")","v":""},null,""]
[null,null,null,{"$f":"IF(C1719=\"\",\"\",VLOOKUP(C1719,Tabla_Regional[],3,0))","v":""},null,{"$f":"IF(E1719<>\"\",VLOOKUP(CONCATENATE(C1719,E1719),Dato!$A$4:$I$218,7,0),\"\")","v":""},null,""]
[null,null,null,{"$f":"IF(C1720=\"\",\"\",VLOOKUP(C1720,Tabla_Regional[],3,0))","v":""},null,{"$f":"IF(E1720<>\"\",VLOOKUP(CONCATENATE(C1720,E1720),Dato!$A$4:$I$218,7,0),\"\")","v":""},null,""]
[null,null,null,{"$f":"IF(C1721=\"\",\"\",VLOOKUP(C1721,Tabla_Regional[],3,0))","v":""},null,{"$f":"IF(E1721<>\"\",VLOOKUP(CONCATENATE(C1721,E1721),Dato!$A$4:$I$218,7,0),\"\")","v":""},null,""]
[null,null,null,{"$f":"IF(C1722=\"\",\"\",VLOOKUP(C1722,Tabla_Regional[],3,0))","v":""},null,{"$f":"IF(E1722<>\"\",VLOOKUP(CONCATENATE(C1722,E1722),Dato!$A$4:$I$218,7,0),\"\")","v":""},null,""]
[null,null,null,{"$f":"IF(C1723=\"\",\"\",VLOOKUP(C1723,Tabla_Regional[],3,0))","v":""},null,{"$f":"IF(E1723<>\"\",VLOOKUP(CONCATENATE(C1723,E1723),Dato!$A$4:$I$218,7,0),\"\")","v":""},null,""]
[null,null,null,{"$f":"IF(C1724=\"\",\"\",VLOOKUP(C1724,Tabla_Regional[],3,0))","v":""},null,{"$f":"IF(E1724<>\"\",VLOOKUP(CONCATENATE(C1724,E1724),Dato!$A$4:$I$218,7,0),\"\")","v":""},null,""]
[null,null,null,{"$f":"IF(C1725=\"\",\"\",VLOOKUP(C1725,Tabla_Regional[],3,0))","v":""},null,{"$f":"IF(E1725<>\"\",VLOOKUP(CONCATENATE(C1725,E1725),Dato!$A$4:$I$218,7,0),\"\")","v":""},null,""]
[null,null,null,{"$f":"IF(C1726=\"\",\"\",VLOOKUP(C1726,Tabla_Regional[],3,0))","v":""},null,{"$f":"IF(E1726<>\"\",VLOOKUP(CONCATENATE(C1726,E1726),Dato!$A$4:$I$218,7,0),\"\")","v":""},null,""]
[null,null,null,{"$f":"IF(C1727=\"\",\"\",VLOOKUP(C1727,Tabla_Regional[],3,0))","v":""},null,{"$f":"IF(E1727<>\"\",VLOOKUP(CONCATENATE(C1727,E1727),Dato!$A$4:$I$218,7,0),\"\")","v":""},null,""]
[null,null,null,{"$f":"IF(C1728=\"\",\"\",VLOOKUP(C1728,Tabla_Regional[],3,0))","v":""},null,{"$f":"IF(E1728<>\"\",VLOOKUP(CONCATENATE(C1728,E1728),Dato!$A$4:$I$218,7,0),\"\")","v":""},null,""]
[null,null,null,{"$f":"IF(C1729=\"\",\"\",VLOOKUP(C1729,Tabla_Regional[],3,0))","v":""},null,{"$f":"IF(E1729<>\"\",VLOOKUP(CONCATENATE(C1729,E1729),Dato!$A$4:$I$218,7,0),\"\")","v":""},null,""]
[null,null,null,{"$f":"IF(C1730=\"\",\"\",VLOOKUP(C1730,Tabla_Regional[],3,0))","v":""},null,{"$f":"IF(E1730<>\"\",VLOOKUP(CONCATENATE(C1730,E1730),Dato!$A$4:$I$218,7,0),\"\")","v":""},null,""]
[null,null,null,{"$f":"IF(C1731=\"\",\"\",VLOOKUP(C1731,Tabla_Regional[],3,0))","v":""},null,{"$f":"IF(E1731<>\"\",VLOOKUP(CONCATENATE(C1731,E1731),Dato!$A$4:$I$218,7,0),\"\")","v":""},null,""]
[null,null,null,{"$f":"IF(C1732=\"\",\"\",VLOOKUP(C1732,Tabla_Regional[],3,0))","v":""},null,{"$f":"IF(E1732<>\"\",VLOOKUP(CONCATENATE(C1732,E1732),Dato!$A$4:$I$218,7,0),\"\")","v":""},null,""]
[null,null,null,{"$f":"IF(C1733=\"\",\"\",VLOOKUP(C1733,Tabla_Regional[],3,0))","v":""},null,{"$f":"IF(E1733<>\"\",VLOOKUP(CONCATENATE(C1733,E1733),Dato!$A$4:$I$218,7,0),\"\")","v":""},null,""]
[null,null,null,{"$f":"IF(C1734=\"\",\"\",VLOOKUP(C1734,Tabla_Regional[],3,0))","v":""},null,{"$f":"IF(E1734<>\"\",VLOOKUP(CONCATENATE(C1734,E1734),Dato!$A$4:$I$218,7,0),\"\")","v":""},null,""]
[null,null,null,{"$f":"IF(C1735=\"\",\"\",VLOOKUP(C1735,Tabla_Regional[],3,0))","v":""},null,{"$f":"IF(E1735<>\"\",VLOOKUP(CONCATENATE(C1735,E1735),Dato!$A$4:$I$218,7,0),\"\")","v":""},null,""]
[null,null,null,{"$f":"IF(C1736=\"\",\"\",VLOOKUP(C1736,Tabla_Regional[],3,0))","v":""},null,{"$f":"IF(E1736<>\"\",VLOOKUP(CONCATENATE(C1736,E1736),Dato!$A$4:$I$218,7,0),\"\")","v":""},null,""]
[null,null,null,{"$f":"IF(C1737=\"\",\"\",VLOOKUP(C1737,Tabla_Regional[],3,0))","v":""},null,{"$f":"IF(E1737<>\"\",VLOOKUP(CONCATENATE(C1737,E1737),Dato!$A$4:$I$218,7,0),\"\")","v":""},null,""]
[null,null,null,{"$f":"IF(C1738=\"\",\"\",VLOOKUP(C1738,Tabla_Regional[],3,0))","v":""},null,{"$f":"IF(E1738<>\"\",VLOOKUP(CONCATENATE(C1738,E1738),Dato!$A$4:$I$218,7,0),\"\")","v":""},null,""]
[null,null,null,{"$f":"IF(C1739=\"\",\"\",VLOOKUP(C1739,Tabla_Regional[],3,0))","v":""},null,{"$f":"IF(E1739<>\"\",VLOOKUP(CONCATENATE(C1739,E1739),Dato!$A$4:$I$218,7,0),\"\")","v":""},null,""]
[null,null,null,{"$f":"IF(C1740=\"\",\"\",VLOOKUP(C1740,Tabla_Regional[],3,0))","v":""},null,{"$f":"IF(E1740<>\"\",VLOOKUP(CONCATENATE(C1740,E1740),Dato!$A$4:$I$218,7,0),\"\")","v":""},null,{"$f":"IF(G1740<>\"\",VLOOKUP(CONCATENATE(C1740,E1740,G1740),czmuni,7,0),\"\")","v":""}]
[null,null,null,{"$f":"IF(C1741=\"\",\"\",VLOOKUP(C1741,Tabla_Regional[],3,0))","v":""},null,{"$f":"IF(E1741<>\"\",VLOOKUP(CONCATENATE(C1741,E1741),Dato!$A$4:$I$218,7,0),\"\")","v":""},null,""]
[null,null,null,{"$f":"IF(C1742=\"\",\"\",VLOOKUP(C1742,Tabla_Regional[],3,0))","v":""},null,{"$f":"IF(E1742<>\"\",VLOOKUP(CONCATENATE(C1742,E1742),Dato!$A$4:$I$218,7,0),\"\")","v":""},null,""]
[null,null,null,{"$f":"IF(C1743=\"\",\"\",VLOOKUP(C1743,Tabla_Regional[],3,0))","v":""},null,{"$f":"IF(E1743<>\"\",VLOOKUP(CONCATENATE(C1743,E1743),Dato!$A$4:$I$218,7,0),\"\")","v":""},null,""]
[null,null,null,{"$f":"IF(C1744=\"\",\"\",VLOOKUP(C1744,Tabla_Regional[],3,0))","v":""},null,{"$f":"IF(E1744<>\"\",VLOOKUP(CONCATENATE(C1744,E1744),Dato!$A$4:$I$218,7,0),\"\")","v":""},null,""]
[null,null,null,{"$f":"IF(C1745=\"\",\"\",VLOOKUP(C1745,Tabla_Regional[],3,0))","v":""},null,{"$f":"IF(E1745<>\"\",VLOOKUP(CONCATENATE(C1745,E1745),Dato!$A$4:$I$218,7,0),\"\")","v":""},null,""]
[null,null,null,{"$f":"IF(C1746=\"\",\"\",VLOOKUP(C1746,Tabla_Regional[],3,0))","v":""},null,{"$f":"IF(E1746<>\"\",VLOOKUP(CONCATENATE(C1746,E1746),Dato!$A$4:$I$218,7,0),\"\")","v":""},null,""]
[null,null,null,{"$f":"IF(C1747=\"\",\"\",VLOOKUP(C1747,Tabla_Regional[],3,0))","v":""},null,{"$f":"IF(E1747<>\"\",VLOOKUP(CONCATENATE(C1747,E1747),Dato!$A$4:$I$218,7,0),\"\")","v":""},null,""]
[null,null,null,{"$f":"IF(C1748=\"\",\"\",VLOOKUP(C1748,Tabla_Regional[],3,0))","v":""},null,{"$f":"IF(E1748<>\"\",VLOOKUP(CONCATENATE(C1748,E1748),Dato!$A$4:$I$218,7,0),\"\")","v":""},null,""]
[null,null,null,{"$f":"IF(C1749=\"\",\"\",VLOOKUP(C1749,Tabla_Regional[],3,0))","v":""},null,{"$f":"IF(E1749<>\"\",VLOOKUP(CONCATENATE(C1749,E1749),Dato!$A$4:$I$218,7,0),\"\")","v":""},null,""]
[null,null,null,{"$f":"IF(C1750=\"\",\"\",VLOOKUP(C1750,Tabla_Regional[],3,0))","v":""},null,{"$f":"IF(E1750<>\"\",VLOOKUP(CONCATENATE(C1750,E1750),Dato!$A$4:$I$218,7,0),\"\")","v":""},null,""]
[null,null,null,{"$f":"IF(C1751=\"\",\"\",VLOOKUP(C1751,Tabla_Regional[],3,0))","v":""},null,{"$f":"IF(E1751<>\"\",VLOOKUP(CONCATENATE(C1751,E1751),Dato!$A$4:$I$218,7,0),\"\")","v":""},null,""]
[null,null,null,{"$f":"IF(C1752=\"\",\"\",VLOOKUP(C1752,Tabla_Regional[],3,0))","v":""},null,{"$f":"IF(E1752<>\"\",VLOOKUP(CONCATENATE(C1752,E1752),Dato!$A$4:$I$218,7,0),\"\")","v":""},null,""]
[null,null,null,{"$f":"IF(C1753=\"\",\"\",VLOOKUP(C1753,Tabla_Regional[],3,0))","v":""},null,{"$f":"IF(E1753<>\"\",VLOOKUP(CONCATENATE(C1753,E1753),Dato!$A$4:$I$218,7,0),\"\")","v":""},null,""]
[null,null,null,{"$f":"IF(C1754=\"\",\"\",VLOOKUP(C1754,Tabla_Regional[],3,0))","v":""},null,{"$f":"IF(E1754<>\"\",VLOOKUP(CONCATENATE(C1754,E1754),Dato!$A$4:$I$218,7,0),\"\")","v":""},null,""]
[null,null,null,{"$f":"IF(C1755=\"\",\"\",VLOOKUP(C1755,Tabla_Regional[],3,0))","v":""},null,{"$f":"IF(E1755<>\"\",VLOOKUP(CONCATENATE(C1755,E1755),Dato!$A$4:$I$218,7,0),\"\")","v":""},null,""]
[null,null,null,{"$f":"IF(C1756=\"\",\"\",VLOOKUP(C1756,Tabla_Regional[],3,0))","v":""},null,{"$f":"IF(E1756<>\"\",VLOOKUP(CONCATENATE(C1756,E1756),Dato!$A$4:$I$218,7,0),\"\")","v":""},null,""]
[null,null,null,{"$f":"IF(C1757=\"\",\"\",VLOOKUP(C1757,Tabla_Regional[],3,0))","v":""},null,{"$f":"IF(E1757<>\"\",VLOOKUP(CONCATENATE(C1757,E1757),Dato!$A$4:$I$218,7,0),\"\")","v":""},null,""]
[null,null,null,{"$f":"IF(C1758=\"\",\"\",VLOOKUP(C1758,Tabla_Regional[],3,0))","v":""},null,{"$f":"IF(E1758<>\"\",VLOOKUP(CONCATENATE(C1758,E1758),Dato!$A$4:$I$218,7,0),\"\")","v":""},null,""]
[null,null,null,{"$f":"IF(C1759=\"\",\"\",VLOOKUP(C1759,Tabla_Regional[],3,0))","v":""},null,{"$f":"IF(E1759<>\"\",VLOOKUP(CONCATENATE(C1759,E1759),Dato!$A$4:$I$218,7,0),\"\")","v":""},null,""]
[null,null,null,{"$f":"IF(C1760=\"\",\"\",VLOOKUP(C1760,Tabla_Regional[],3,0))","v":""},null,{"$f":"IF(E1760<>\"\",VLOOKUP(CONCATENATE(C1760,E1760),Dato!$A$4:$I$218,7,0),\"\")","v":""},null,""]
[null,null,null,{"$f":"IF(C1761=\"\",\"\",VLOOKUP(C1761,Tabla_Regional[],3,0))","v":""},null,{"$f":"IF(E1761<>\"\",VLOOKUP(CONCATENATE(C1761,E1761),Dato!$A$4:$I$218,7,0),\"\")","v":""},null,""]
[null,null,null,{"$f":"IF(C1762=\"\",\"\",VLOOKUP(C1762,Tabla_Regional[],3,0))","v":""},null,{"$f":"IF(E1762<>\"\",VLOOKUP(CONCATENATE(C1762,E1762),Dato!$A$4:$I$218,7,0),\"\")","v":""},null,""]
[null,null,null,{"$f":"IF(C1763=\"\",\"\",VLOOKUP(C1763,Tabla_Regional[],3,0))","v":""},null,{"$f":"IF(E1763<>\"\",VLOOKUP(CONCATENATE(C1763,E1763),Dato!$A$4:$I$218,7,0),\"\")","v":""},null,""]
[null,null,null,{"$f":"IF(C1764=\"\",\"\",VLOOKUP(C1764,Tabla_Regional[],3,0))","v":""},null,{"$f":"IF(E1764<>\"\",VLOOKUP(CONCATENATE(C1764,E1764),Dato!$A$4:$I$218,7,0),\"\")","v":""},null,""]
[null,null,null,{"$f":"IF(C1765=\"\",\"\",VLOOKUP(C1765,Tabla_Regional[],3,0))","v":""},null,{"$f":"IF(E1765<>\"\",VLOOKUP(CONCATENATE(C1765,E1765),Dato!$A$4:$I$218,7,0),\"\")","v":""},null,""]
[null,null,null,{"$f":"IF(C1766=\"\",\"\",VLOOKUP(C1766,Tabla_Regional[],3,0))","v":""},null,{"$f":"IF(E1766<>\"\",VLOOKUP(CONCATENATE(C1766,E1766),Dato!$A$4:$I$218,7,0),\"\")","v":""},null,""]
[null,null,null,{"$f":"IF(C1767=\"\",\"\",VLOOKUP(C1767,Tabla_Regional[],3,0))","v":""},null,{"$f":"IF(E1767<>\"\",VLOOKUP(CONCATENATE(C1767,E1767),Dato!$A$4:$I$218,7,0),\"\")","v":""},null,""]
[null,null,null,{"$f":"IF(C1768=\"\",\"\",VLOOKUP(C1768,Tabla_Regional[],3,0))","v":""},null,{"$f":"IF(E1768<>\"\",VLOOKUP(CONCATENATE(C1768,E1768),Dato!$A$4:$I$218,7,0),\"\")","v":""},null,""]
[null,null,null,{"$f":"IF(C1769=\"\",\"\",VLOOKUP(C1769,Tabla_Regional[],3,0))","v":""},null,{"$f":"IF(E1769<>\"\",VLOOKUP(CONCATENATE(C1769,E1769),Dato!$A$4:$I$218,7,0),\"\")","v":""},null,""]
[null,null,null,{"$f":"IF(C1770=\"\",\"\",VLOOKUP(C1770,Tabla_Regional[],3,0))","v":""},null,{"$f":"IF(E1770<>\"\",VLOOKUP(CONCATENATE(C1770,E1770),Dato!$A$4:$I$218,7,0),\"\")","v":""},null,""]
[null,null,null,{"$f":"IF(C1771=\"\",\"\",VLOOKUP(C1771,Tabla_Regional[],3,0))","v":""},null,{"$f":"IF(E1771<>\"\",VLOOKUP(CONCATENATE(C1771,E1771),Dato!$A$4:$I$218,7,0),\"\")","v":""},null,""]
[null,null,null,{"$f":"IF(C1772=\"\",\"\",VLOOKUP(C1772,Tabla_Regional[],3,0))","v":""},null,{"$f":"IF(E1772<>\"\",VLOOKUP(CONCATENATE(C1772,E1772),Dato!$A$4:$I$218,7,0),\"\")","v":""},null,""]
[null,null,null,{"$f":"IF(C1773=\"\",\"\",VLOOKUP(C1773,Tabla_Regional[],3,0))","v":""},null,{"$f":"IF(E1773<>\"\",VLOOKUP(CONCATENATE(C1773,E1773),Dato!$A$4:$I$218,7,0),\"\")","v":""},null,""]
[null,null,null,{"$f":"IF(C1774=\"\",\"\",VLOOKUP(C1774,Tabla_Regional[],3,0))","v":""},null,{"$f":"IF(E1774<>\"\",VLOOKUP(CONCATENATE(C1774,E1774),Dato!$A$4:$I$218,7,0),\"\")","v":""},null,""]
[null,null,null,{"$f":"IF(C1775=\"\",\"\",VLOOKUP(C1775,Tabla_Regional[],3,0))","v":""},null,{"$f":"IF(E1775<>\"\",VLOOKUP(CONCATENATE(C1775,E1775),Dato!$A$4:$I$218,7,0),\"\")","v":""},null,""]
[null,null,null,{"$f":"IF(C1776=\"\",\"\",VLOOKUP(C1776,Tabla_Regional[],3,0))","v":""},null,{"$f":"IF(E1776<>\"\",VLOOKUP(CONCATENATE(C1776,E1776),Dato!$A$4:$I$218,7,0),\"\")","v":""},null,""]
[null,null,null,{"$f":"IF(C1777=\"\",\"\",VLOOKUP(C1777,Tabla_Regional[],3,0))","v":""},null,{"$f":"IF(E1777<>\"\",VLOOKUP(CONCATENATE(C1777,E1777),Dato!$A$4:$I$218,7,0),\"\")","v":""},null,""]
[null,null,null,{"$f":"IF(C1778=\"\",\"\",VLOOKUP(C1778,Tabla_Regional[],3,0))","v":""},null,{"$f":"IF(E1778<>\"\",VLOOKUP(CONCATENATE(C1778,E1778),Dato!$A$4:$I$218,7,0),\"\")","v":""},null,""]
[null,null,null,{"$f":"IF(C1779=\"\",\"\",VLOOKUP(C1779,Tabla_Regional[],3,0))","v":""},null,{"$f":"IF(E1779<>\"\",VLOOKUP(CONCATENATE(C1779,E1779),Dato!$A$4:$I$218,7,0),\"\")","v":""},null,""]
[null,null,null,{"$f":"IF(C1780=\"\",\"\",VLOOKUP(C1780,Tabla_Regional[],3,0))","v":""},null,{"$f":"IF(E1780<>\"\",VLOOKUP(CONCATENATE(C1780,E1780),Dato!$A$4:$I$218,7,0),\"\")","v":""},null,""]
[null,null,null,{"$f":"IF(C1781=\"\",\"\",VLOOKUP(C1781,Tabla_Regional[],3,0))","v":""},null,{"$f":"IF(E1781<>\"\",VLOOKUP(CONCATENATE(C1781,E1781),Dato!$A$4:$I$218,7,0),\"\")","v":""},null,""]
[null,null,null,{"$f":"IF(C1782=\"\",\"\",VLOOKUP(C1782,Tabla_Regional[],3,0))","v":""},null,{"$f":"IF(E1782<>\"\",VLOOKUP(CONCATENATE(C1782,E1782),Dato!$A$4:$I$218,7,0),\"\")","v":""},null,""]
[null,null,null,{"$f":"IF(C1783=\"\",\"\",VLOOKUP(C1783,Tabla_Regional[],3,0))","v":""},null,{"$f":"IF(E1783<>\"\",VLOOKUP(CONCATENATE(C1783,E1783),Dato!$A$4:$I$218,7,0),\"\")","v":""},null,""]
[null,null,null,{"$f":"IF(C1784=\"\",\"\",VLOOKUP(C1784,Tabla_Regional[],3,0))","v":""},null,{"$f":"IF(E1784<>\"\",VLOOKUP(CONCATENATE(C1784,E1784),Dato!$A$4:$I$218,7,0),\"\")","v":""},null,""]
[null,null,null,{"$f":"IF(C1785=\"\",\"\",VLOOKUP(C1785,Tabla_Regional[],3,0))","v":""},null,{"$f":"IF(E1785<>\"\",VLOOKUP(CONCATENATE(C1785,E1785),Dato!$A$4:$I$218,7,0),\"\")","v":""},null,""]
[null,null,null,{"$f":"IF(C1786=\"\",\"\",VLOOKUP(C1786,Tabla_Regional[],3,0))","v":""},null,{"$f":"IF(E1786<>\"\",VLOOKUP(CONCATENATE(C1786,E1786),Dato!$A$4:$I$218,7,0),\"\")","v":""},null,""]
[null,null,null,{"$f":"IF(C1787=\"\",\"\",VLOOKUP(C1787,Tabla_Regional[],3,0))","v":""},null,{"$f":"IF(E1787<>\"\",VLOOKUP(CONCATENATE(C1787,E1787),Dato!$A$4:$I$218,7,0),\"\")","v":""},null,""]
[null,null,null,{"$f":"IF(C1788=\"\",\"\",VLOOKUP(C1788,Tabla_Regional[],3,0))","v":""},null,{"$f":"IF(E1788<>\"\",VLOOKUP(CONCATENATE(C1788,E1788),Dato!$A$4:$I$218,7,0),\"\")","v":""},null,""]
[null,null,null,{"$f":"IF(C1789=\"\",\"\",VLOOKUP(C1789,Tabla_Regional[],3,0))","v":""},null,{"$f":"IF(E1789<>\"\",VLOOKUP(CONCATENATE(C1789,E1789),Dato!$A$4:$I$218,7,0),\"\")","v":""},null,""]
[null,null,null,{"$f":"IF(C1790=\"\",\"\",VLOOKUP(C1790,Tabla_Regional[],3,0))","v":""},null,{"$f":"IF(E1790<>\"\",VLOOKUP(CONCATENATE(C1790,E1790),Dato!$A$4:$I$218,7,0),\"\")","v":""},null,""]
[null,null,null,{"$f":"IF(C1791=\"\",\"\",VLOOKUP(C1791,Tabla_Regional[],3,0))","v":""},null,{"$f":"IF(E1791<>\"\",VLOOKUP(CONCATENATE(C1791,E1791),Dato!$A$4:$I$218,7,0),\"\")","v":""},null,""]
[null,null,null,{"$f":"IF(C1792=\"\",\"\",VLOOKUP(C1792,Tabla_Regional[],3,0))","v":""},null,{"$f":"IF(E1792<>\"\",VLOOKUP(CONCATENATE(C1792,E1792),Dato!$A$4:$I$218,7,0),\"\")","v":""},null,""]
[null,null,null,{"$f":"IF(C1793=\"\",\"\",VLOOKUP(C1793,Tabla_Regional[],3,0))","v":""},null,{"$f":"IF(E1793<>\"\",VLOOKUP(CONCATENATE(C1793,E1793),Dato!$A$4:$I$218,7,0),\"\")","v":""},null,""]
[null,null,null,{"$f":"IF(C1794=\"\",\"\",VLOOKUP(C1794,Tabla_Regional[],3,0))","v":""},null,{"$f":"IF(E1794<>\"\",VLOOKUP(CONCATENATE(C1794,E1794),Dato!$A$4:$I$218,7,0),\"\")","v":""},null,""]
[null,null,null,{"$f":"IF(C1795=\"\",\"\",VLOOKUP(C1795,Tabla_Regional[],3,0))","v":""},null,{"$f":"IF(E1795<>\"\",VLOOKUP(CONCATENATE(C1795,E1795),Dato!$A$4:$I$218,7,0),\"\")","v":""},null,""]
[null,null,null,{"$f":"IF(C1796=\"\",\"\",VLOOKUP(C1796,Tabla_Regional[],3,0))","v":""},null,{"$f":"IF(E1796<>\"\",VLOOKUP(CONCATENATE(C1796,E1796),Dato!$A$4:$I$218,7,0),\"\")","v":""},null,""]
[null,null,null,{"$f":"IF(C1797=\"\",\"\",VLOOKUP(C1797,Tabla_Regional[],3,0))","v":""},null,{"$f":"IF(E1797<>\"\",VLOOKUP(CONCATENATE(C1797,E1797),Dato!$A$4:$I$218,7,0),\"\")","v":""},null,""]
[null,null,null,{"$f":"IF(C1798=\"\",\"\",VLOOKUP(C1798,Tabla_Regional[],3,0))","v":""},null,{"$f":"IF(E1798<>\"\",VLOOKUP(CONCATENATE(C1798,E1798),Dato!$A$4:$I$218,7,0),\"\")","v":""},null,""]
[null,null,null,{"$f":"IF(C1799=\"\",\"\",VLOOKUP(C1799,Tabla_Regional[],3,0))","v":""},null,{"$f":"IF(E1799<>\"\",VLOOKUP(CONCATENATE(C1799,E1799),Dato!$A$4:$I$218,7,0),\"\")","v":""},null,""]
[null,null,null,{"$f":"IF(C1800=\"\",\"\",VLOOKUP(C1800,Tabla_Regional[],3,0))","v":""},null,{"$f":"IF(E1800<>\"\",VLOOKUP(CONCATENATE(C1800,E1800),Dato!$A$4:$I$218,7,0),\"\")","v":""},null,""]
[null,null,null,{"$f":"IF(C1801=\"\",\"\",VLOOKUP(C1801,Tabla_Regional[],3,0))","v":""},null,{"$f":"IF(E1801<>\"\",VLOOKUP(CONCATENATE(C1801,E1801),Dato!$A$4:$I$218,7,0),\"\")","v":""},null,""]
[null,null,null,{"$f":"IF(C1802=\"\",\"\",VLOOKUP(C1802,Tabla_Regional[],3,0))","v":""},null,{"$f":"IF(E1802<>\"\",VLOOKUP(CONCATENATE(C1802,E1802),Dato!$A$4:$I$218,7,0),\"\")","v":""},null,""]
[null,null,null,{"$f":"IF(C1803=\"\",\"\",VLOOKUP(C1803,Tabla_Regional[],3,0))","v":""},null,{"$f":"IF(E1803<>\"\",VLOOKUP(CONCATENATE(C1803,E1803),Dato!$A$4:$I$218,7,0),\"\")","v":""},null,""]
[null,null,null,{"$f":"IF(C1804=\"\",\"\",VLOOKUP(C1804,Tabla_Regional[],3,0))","v":""},null,{"$f":"IF(E1804<>\"\",VLOOKUP(CONCATENATE(C1804,E1804),Dato!$A$4:$I$218,7,0),\"\")","v":""},null,{"$f":"IF(G1804<>\"\",VLOOKUP(CONCATENATE(C1804,E1804,G1804),czmuni,7,0),\"\")","v":""}]
[null,null,null,{"$f":"IF(C1805=\"\",\"\",VLOOKUP(C1805,Tabla_Regional[],3,0))","v":""},null,{"$f":"IF(E1805<>\"\",VLOOKUP(CONCATENATE(C1805,E1805),Dato!$A$4:$I$218,7,0),\"\")","v":""},null,""]
[null,null,null,{"$f":"IF(C1806=\"\",\"\",VLOOKUP(C1806,Tabla_Regional[],3,0))","v":""},null,{"$f":"IF(E1806<>\"\",VLOOKUP(CONCATENATE(C1806,E1806),Dato!$A$4:$I$218,7,0),\"\")","v":""},null,""]
[null,null,null,{"$f":"IF(C1807=\"\",\"\",VLOOKUP(C1807,Tabla_Regional[],3,0))","v":""},null,{"$f":"IF(E1807<>\"\",VLOOKUP(CONCATENATE(C1807,E1807),Dato!$A$4:$I$218,7,0),\"\")","v":""},null,""]
[null,null,null,{"$f":"IF(C1808=\"\",\"\",VLOOKUP(C1808,Tabla_Regional[],3,0))","v":""},null,{"$f":"IF(E1808<>\"\",VLOOKUP(CONCATENATE(C1808,E1808),Dato!$A$4:$I$218,7,0),\"\")","v":""},null,""]
[null,null,null,{"$f":"IF(C1809=\"\",\"\",VLOOKUP(C1809,Tabla_Regional[],3,0))","v":""},null,{"$f":"IF(E1809<>\"\",VLOOKUP(CONCATENATE(C1809,E1809),Dato!$A$4:$I$218,7,0),\"\")","v":""},null,""]
[null,null,null,{"$f":"IF(C1810=\"\",\"\",VLOOKUP(C1810,Tabla_Regional[],3,0))","v":""},null,{"$f":"IF(E1810<>\"\",VLOOKUP(CONCATENATE(C1810,E1810),Dato!$A$4:$I$218,7,0),\"\")","v":""},null,""]
[null,null,null,{"$f":"IF(C1811=\"\",\"\",VLOOKUP(C1811,Tabla_Regional[],3,0))","v":""},null,{"$f":"IF(E1811<>\"\",VLOOKUP(CONCATENATE(C1811,E1811),Dato!$A$4:$I$218,7,0),\"\")","v":""},null,""]
[null,null,null,{"$f":"IF(C1812=\"\",\"\",VLOOKUP(C1812,Tabla_Regional[],3,0))","v":""},null,{"$f":"IF(E1812<>\"\",VLOOKUP(CONCATENATE(C1812,E1812),Dato!$A$4:$I$218,7,0),\"\")","v":""},null,""]
[null,null,null,{"$f":"IF(C1813=\"\",\"\",VLOOKUP(C1813,Tabla_Regional[],3,0))","v":""},null,{"$f":"IF(E1813<>\"\",VLOOKUP(CONCATENATE(C1813,E1813),Dato!$A$4:$I$218,7,0),\"\")","v":""},null,""]
[null,null,null,{"$f":"IF(C1814=\"\",\"\",VLOOKUP(C1814,Tabla_Regional[],3,0))","v":""},null,{"$f":"IF(E1814<>\"\",VLOOKUP(CONCATENATE(C1814,E1814),Dato!$A$4:$I$218,7,0),\"\")","v":""},null,""]
[null,null,null,{"$f":"IF(C1815=\"\",\"\",VLOOKUP(C1815,Tabla_Regional[],3,0))","v":""},null,{"$f":"IF(E1815<>\"\",VLOOKUP(CONCATENATE(C1815,E1815),Dato!$A$4:$I$218,7,0),\"\")","v":""},null,""]
[null,null,null,{"$f":"IF(C1816=\"\",\"\",VLOOKUP(C1816,Tabla_Regional[],3,0))","v":""},null,{"$f":"IF(E1816<>\"\",VLOOKUP(CONCATENATE(C1816,E1816),Dato!$A$4:$I$218,7,0),\"\")","v":""},null,""]
[null,null,null,{"$f":"IF(C1817=\"\",\"\",VLOOKUP(C1817,Tabla_Regional[],3,0))","v":""},null,{"$f":"IF(E1817<>\"\",VLOOKUP(CONCATENATE(C1817,E1817),Dato!$A$4:$I$218,7,0),\"\")","v":""},null,""]
[null,null,null,{"$f":"IF(C1818=\"\",\"\",VLOOKUP(C1818,Tabla_Regional[],3,0))","v":""},null,{"$f":"IF(E1818<>\"\",VLOOKUP(CONCATENATE(C1818,E1818),Dato!$A$4:$I$218,7,0),\"\")","v":""},null,""]
[null,null,null,{"$f":"IF(C1819=\"\",\"\",VLOOKUP(C1819,Tabla_Regional[],3,0))","v":""},null,{"$f":"IF(E1819<>\"\",VLOOKUP(CONCATENATE(C1819,E1819),Dato!$A$4:$I$218,7,0),\"\")","v":""},null,""]
[null,null,null,{"$f":"IF(C1820=\"\",\"\",VLOOKUP(C1820,Tabla_Regional[],3,0))","v":""},null,{"$f":"IF(E1820<>\"\",VLOOKUP(CONCATENATE(C1820,E1820),Dato!$A$4:$I$218,7,0),\"\")","v":""},null,""]
[null,null,null,{"$f":"IF(C1821=\"\",\"\",VLOOKUP(C1821,Tabla_Regional[],3,0))","v":""},null,{"$f":"IF(E1821<>\"\",VLOOKUP(CONCATENATE(C1821,E1821),Dato!$A$4:$I$218,7,0),\"\")","v":""},null,""]
[null,null,null,{"$f":"IF(C1822=\"\",\"\",VLOOKUP(C1822,Tabla_Regional[],3,0))","v":""},null,{"$f":"IF(E1822<>\"\",VLOOKUP(CONCATENATE(C1822,E1822),Dato!$A$4:$I$218,7,0),\"\")","v":""},null,""]
[null,null,null,{"$f":"IF(C1823=\"\",\"\",VLOOKUP(C1823,Tabla_Regional[],3,0))","v":""},null,{"$f":"IF(E1823<>\"\",VLOOKUP(CONCATENATE(C1823,E1823),Dato!$A$4:$I$218,7,0),\"\")","v":""},null,""]
[null,null,null,{"$f":"IF(C1824=\"\",\"\",VLOOKUP(C1824,Tabla_Regional[],3,0))","v":""},null,{"$f":"IF(E1824<>\"\",VLOOKUP(CONCATENATE(C1824,E1824),Dato!$A$4:$I$218,7,0),\"\")","v":""},null,""]
[null,null,null,{"$f":"IF(C1825=\"\",\"\",VLOOKUP(C1825,Tabla_Regional[],3,0))","v":""},null,{"$f":"IF(E1825<>\"\",VLOOKUP(CONCATENATE(C1825,E1825),Dato!$A$4:$I$218,7,0),\"\")","v":""},null,""]
[null,null,null,{"$f":"IF(C1826=\"\",\"\",VLOOKUP(C1826,Tabla_Regional[],3,0))","v":""},null,{"$f":"IF(E1826<>\"\",VLOOKUP(CONCATENATE(C1826,E1826),Dato!$A$4:$I$218,7,0),\"\")","v":""},null,""]
[null,null,null,{"$f":"IF(C1827=\"\",\"\",VLOOKUP(C1827,Tabla_Regional[],3,0))","v":""},null,{"$f":"IF(E1827<>\"\",VLOOKUP(CONCATENATE(C1827,E1827),Dato!$A$4:$I$218,7,0),\"\")","v":""},null,""]
[null,null,null,{"$f":"IF(C1828=\"\",\"\",VLOOKUP(C1828,Tabla_Regional[],3,0))","v":""},null,{"$f":"IF(E1828<>\"\",VLOOKUP(CONCATENATE(C1828,E1828),Dato!$A$4:$I$218,7,0),\"\")","v":""},null,""]
[null,null,null,{"$f":"IF(C1829=\"\",\"\",VLOOKUP(C1829,Tabla_Regional[],3,0))","v":""},null,{"$f":"IF(E1829<>\"\",VLOOKUP(CONCATENATE(C1829,E1829),Dato!$A$4:$I$218,7,0),\"\")","v":""},null,""]
[null,null,null,{"$f":"IF(C1830=\"\",\"\",VLOOKUP(C1830,Tabla_Regional[],3,0))","v":""},null,{"$f":"IF(E1830<>\"\",VLOOKUP(CONCATENATE(C1830,E1830),Dato!$A$4:$I$218,7,0),\"\")","v":""},null,""]
[null,null,null,{"$f":"IF(C1831=\"\",\"\",VLOOKUP(C1831,Tabla_Regional[],3,0))","v":""},null,{"$f":"IF(E1831<>\"\",VLOOKUP(CONCATENATE(C1831,E1831),Dato!$A$4:$I$218,7,0),\"\")","v":""},null,""]
[null,null,null,{"$f":"IF(C1832=\"\",\"\",VLOOKUP(C1832,Tabla_Regional[],3,0))","v":""},null,{"$f":"IF(E1832<>\"\",VLOOKUP(CONCATENATE(C1832,E1832),Dato!$A$4:$I$218,7,0),\"\")","v":""},null,""]
[null,null,null,{"$f":"IF(C1833=\"\",\"\",VLOOKUP(C1833,Tabla_Regional[],3,0))","v":""},null,{"$f":"IF(E1833<>\"\",VLOOKUP(CONCATENATE(C1833,E1833),Dato!$A$4:$I$218,7,0),\"\")","v":""},null,""]
[null,null,null,{"$f":"IF(C1834=\"\",\"\",VLOOKUP(C1834,Tabla_Regional[],3,0))","v":""},null,{"$f":"IF(E1834<>\"\",VLOOKUP(CONCATENATE(C1834,E1834),Dato!$A$4:$I$218,7,0),\"\")","v":""},null,""]
[null,null,null,{"$f":"IF(C1835=\"\",\"\",VLOOKUP(C1835,Tabla_Regional[],3,0))","v":""},null,{"$f":"IF(E1835<>\"\",VLOOKUP(CONCATENATE(C1835,E1835),Dato!$A$4:$I$218,7,0),\"\")","v":""},null,""]
[null,null,null,{"$f":"IF(C1836=\"\",\"\",VLOOKUP(C1836,Tabla_Regional[],3,0))","v":""},null,{"$f":"IF(E1836<>\"\",VLOOKUP(CONCATENATE(C1836,E1836),Dato!$A$4:$I$218,7,0),\"\")","v":""},null,""]
[null,null,null,{"$f":"IF(C1837=\"\",\"\",VLOOKUP(C1837,Tabla_Regional[],3,0))","v":""},null,{"$f":"IF(E1837<>\"\",VLOOKUP(CONCATENATE(C1837,E1837),Dato!$A$4:$I$218,7,0),\"\")","v":""},null,""]
[null,null,null,{"$f":"IF(C1838=\"\",\"\",VLOOKUP(C1838,Tabla_Regional[],3,0))","v":""},null,{"$f":"IF(E1838<>\"\",VLOOKUP(CONCATENATE(C1838,E1838),Dato!$A$4:$I$218,7,0),\"\")","v":""},null,""]
[null,null,null,{"$f":"IF(C1839=\"\",\"\",VLOOKUP(C1839,Tabla_Regional[],3,0))","v":""},null,{"$f":"IF(E1839<>\"\",VLOOKUP(CONCATENATE(C1839,E1839),Dato!$A$4:$I$218,7,0),\"\")","v":""},null,""]
[null,null,null,{"$f":"IF(C1840=\"\",\"\",VLOOKUP(C1840,Tabla_Regional[],3,0))","v":""},null,{"$f":"IF(E1840<>\"\",VLOOKUP(CONCATENATE(C1840,E1840),Dato!$A$4:$I$218,7,0),\"\")","v":""},null,""]
[null,null,null,{"$f":"IF(C1841=\"\",\"\",VLOOKUP(C1841,Tabla_Regional[],3,0))","v":""},null,{"$f":"IF(E1841<>\"\",VLOOKUP(CONCATENATE(C1841,E1841),Dato!$A$4:$I$218,7,0),\"\")","v":""},null,""]
[null,null,null,{"$f":"IF(C1842=\"\",\"\",VLOOKUP(C1842,Tabla_Regional[],3,0))","v":""},null,{"$f":"IF(E1842<>\"\",VLOOKUP(CONCATENATE(C1842,E1842),Dato!$A$4:$I$218,7,0),\"\")","v":""},null,""]
[null,null,null,{"$f":"IF(C1843=\"\",\"\",VLOOKUP(C1843,Tabla_Regional[],3,0))","v":""},null,{"$f":"IF(E1843<>\"\",VLOOKUP(CONCATENATE(C1843,E1843),Dato!$A$4:$I$218,7,0),\"\")","v":""},null,""]
[null,null,null,{"$f":"IF(C1844=\"\",\"\",VLOOKUP(C1844,Tabla_Regional[],3,0))","v":""},null,{"$f":"IF(E1844<>\"\",VLOOKUP(CONCATENATE(C1844,E1844),Dato!$A$4:$I$218,7,0),\"\")","v":""},null,""]
[null,null,null,{"$f":"IF(C1845=\"\",\"\",VLOOKUP(C1845,Tabla_Regional[],3,0))","v":""},null,{"$f":"IF(E1845<>\"\",VLOOKUP(CONCATENATE(C1845,E1845),Dato!$A$4:$I$218,7,0),\"\")","v":""},null,""]
[null,null,null,{"$f":"IF(C1846=\"\",\"\",VLOOKUP(C1846,Tabla_Regional[],3,0))","v":""},null,{"$f":"IF(E1846<>\"\",VLOOKUP(CONCATENATE(C1846,E1846),Dato!$A$4:$I$218,7,0),\"\")","v":""},null,""]
[null,null,null,{"$f":"IF(C1847=\"\",\"\",VLOOKUP(C1847,Tabla_Regional[],3,0))","v":""},null,{"$f":"IF(E1847<>\"\",VLOOKUP(CONCATENATE(C1847,E1847),Dato!$A$4:$I$218,7,0),\"\")","v":""},null,""]
[null,null,null,{"$f":"IF(C1848=\"\",\"\",VLOOKUP(C1848,Tabla_Regional[],3,0))","v":""},null,{"$f":"IF(E1848<>\"\",VLOOKUP(CONCATENATE(C1848,E1848),Dato!$A$4:$I$218,7,0),\"\")","v":""},null,""]
[null,null,null,{"$f":"IF(C1849=\"\",\"\",VLOOKUP(C1849,Tabla_Regional[],3,0))","v":""},null,{"$f":"IF(E1849<>\"\",VLOOKUP(CONCATENATE(C1849,E1849),Dato!$A$4:$I$218,7,0),\"\")","v":""},null,""]
[null,null,null,{"$f":"IF(C1850=\"\",\"\",VLOOKUP(C1850,Tabla_Regional[],3,0))","v":""},null,{"$f":"IF(E1850<>\"\",VLOOKUP(CONCATENATE(C1850,E1850),Dato!$A$4:$I$218,7,0),\"\")","v":""},null,""]
[null,null,null,{"$f":"IF(C1851=\"\",\"\",VLOOKUP(C1851,Tabla_Regional[],3,0))","v":""},null,{"$f":"IF(E1851<>\"\",VLOOKUP(CONCATENATE(C1851,E1851),Dato!$A$4:$I$218,7,0),\"\")","v":""},null,""]
[null,null,null,{"$f":"IF(C1852=\"\",\"\",VLOOKUP(C1852,Tabla_Regional[],3,0))","v":""},null,{"$f":"IF(E1852<>\"\",VLOOKUP(CONCATENATE(C1852,E1852),Dato!$A$4:$I$218,7,0),\"\")","v":""},null,""]
[null,null,null,{"$f":"IF(C1853=\"\",\"\",VLOOKUP(C1853,Tabla_Regional[],3,0))","v":""},null,{"$f":"IF(E1853<>\"\",VLOOKUP(CONCATENATE(C1853,E1853),Dato!$A$4:$I$218,7,0),\"\")","v":""},null,""]
[null,null,null,{"$f":"IF(C1854=\"\",\"\",VLOOKUP(C1854,Tabla_Regional[],3,0))","v":""},null,{"$f":"IF(E1854<>\"\",VLOOKUP(CONCATENATE(C1854,E1854),Dato!$A$4:$I$218,7,0),\"\")","v":""},null,""]
[null,null,null,{"$f":"IF(C1855=\"\",\"\",VLOOKUP(C1855,Tabla_Regional[],3,0))","v":""},null,{"$f":"IF(E1855<>\"\",VLOOKUP(CONCATENATE(C1855,E1855),Dato!$A$4:$I$218,7,0),\"\")","v":""},null,""]
[null,null,null,{"$f":"IF(C1856=\"\",\"\",VLOOKUP(C1856,Tabla_Regional[],3,0))","v":""},null,{"$f":"IF(E1856<>\"\",VLOOKUP(CONCATENATE(C1856,E1856),Dato!$A$4:$I$218,7,0),\"\")","v":""},null,""]
[null,null,null,{"$f":"IF(C1857=\"\",\"\",VLOOKUP(C1857,Tabla_Regional[],3,0))","v":""},null,{"$f":"IF(E1857<>\"\",VLOOKUP(CONCATENATE(C1857,E1857),Dato!$A$4:$I$218,7,0),\"\")","v":""},null,""]
[null,null,null,{"$f":"IF(C1858=\"\",\"\",VLOOKUP(C1858,Tabla_Regional[],3,0))","v":""},null,{"$f":"IF(E1858<>\"\",VLOOKUP(CONCATENATE(C1858,E1858),Dato!$A$4:$I$218,7,0),\"\")","v":""},null,""]
[null,null,null,{"$f":"IF(C1859=\"\",\"\",VLOOKUP(C1859,Tabla_Regional[],3,0))","v":""},null,{"$f":"IF(E1859<>\"\",VLOOKUP(CONCATENATE(C1859,E1859),Dato!$A$4:$I$218,7,0),\"\")","v":""},null,""]
[null,null,null,{"$f":"IF(C1860=\"\",\"\",VLOOKUP(C1860,Tabla_Regional[],3,0))","v":""},null,{"$f":"IF(E1860<>\"\",VLOOKUP(CONCATENATE(C1860,E1860),Dato!$A$4:$I$218,7,0),\"\")","v":""},null,""]
[null,null,null,{"$f":"IF(C1861=\"\",\"\",VLOOKUP(C1861,Tabla_Regional[],3,0))","v":""},null,{"$f":"IF(E1861<>\"\",VLOOKUP(CONCATENATE(C1861,E1861),Dato!$A$4:$I$218,7,0),\"\")","v":""},null,""]
[null,null,null,{"$f":"IF(C1862=\"\",\"\",VLOOKUP(C1862,Tabla_Regional[],3,0))","v":""},null,{"$f":"IF(E1862<>\"\",VLOOKUP(CONCATENATE(C1862,E1862),Dato!$A$4:$I$218,7,0),\"\")","v":""},null,""]
[null,null,null,{"$f":"IF(C1863=\"\",\"\",VLOOKUP(C1863,Tabla_Regional[],3,0))","v":""},null,{"$f":"IF(E1863<>\"\",VLOOKUP(CONCATENATE(C1863,E1863),Dato!$A$4:$I$218,7,0),\"\")","v":""},null,""]
[null,null,null,{"$f":"IF(C1864=\"\",\"\",VLOOKUP(C1864,Tabla_Regional[],3,0))","v":""},null,{"$f":"IF(E1864<>\"\",VLOOKUP(CONCATENATE(C1864,E1864),Dato!$A$4:$I$218,7,0),\"\")","v":""},null,""]
[null,null,null,{"$f":"IF(C1865=\"\",\"\",VLOOKUP(C1865,Tabla_Regional[],3,0))","v":""},null,{"$f":"IF(E1865<>\"\",VLOOKUP(CONCATENATE(C1865,E1865),Dato!$A$4:$I$218,7,0),\"\")","v":""},null,""]
[null,null,null,{"$f":"IF(C1866=\"\",\"\",VLOOKUP(C1866,Tabla_Regional[],3,0))","v":""},null,{"$f":"IF(E1866<>\"\",VLOOKUP(CONCATENATE(C1866,E1866),Dato!$A$4:$I$218,7,0),\"\")","v":""},null,""]
[null,null,null,{"$f":"IF(C1867=\"\",\"\",VLOOKUP(C1867,Tabla_Regional[],3,0))","v":""},null,{"$f":"IF(E1867<>\"\",VLOOKUP(CONCATENATE(C1867,E1867),Dato!$A$4:$I$218,7,0),\"\")","v":""},null,""]
[null,null,null,{"$f":"IF(C1868=\"\",\"\",VLOOKUP(C1868,Tabla_Regional[],3,0))","v":""},null,{"$f":"IF(E1868<>\"\",VLOOKUP(CONCATENATE(C1868,E1868),Dato!$A$4:$I$218,7,0),\"\")","v":""},null,{"$f":"IF(G1868<>\"\",VLOOKUP(CONCATENATE(C1868,E1868,G1868),czmuni,7,0),\"\")","v":""}]
[null,null,null,{"$f":"IF(C1869=\"\",\"\",VLOOKUP(C1869,Tabla_Regional[],3,0))","v":""},null,{"$f":"IF(E1869<>\"\",VLOOKUP(CONCATENATE(C1869,E1869),Dato!$A$4:$I$218,7,0),\"\")","v":""},null,""]
[null,null,null,{"$f":"IF(C1870=\"\",\"\",VLOOKUP(C1870,Tabla_Regional[],3,0))","v":""},null,{"$f":"IF(E1870<>\"\",VLOOKUP(CONCATENATE(C1870,E1870),Dato!$A$4:$I$218,7,0),\"\")","v":""},null,""]
[null,null,null,{"$f":"IF(C1871=\"\",\"\",VLOOKUP(C1871,Tabla_Regional[],3,0))","v":""},null,{"$f":"IF(E1871<>\"\",VLOOKUP(CONCATENATE(C1871,E1871),Dato!$A$4:$I$218,7,0),\"\")","v":""},null,""]
[null,null,null,{"$f":"IF(C1872=\"\",\"\",VLOOKUP(C1872,Tabla_Regional[],3,0))","v":""},null,{"$f":"IF(E1872<>\"\",VLOOKUP(CONCATENATE(C1872,E1872),Dato!$A$4:$I$218,7,0),\"\")","v":""},null,""]
[null,null,null,{"$f":"IF(C1873=\"\",\"\",VLOOKUP(C1873,Tabla_Regional[],3,0))","v":""},null,{"$f":"IF(E1873<>\"\",VLOOKUP(CONCATENATE(C1873,E1873),Dato!$A$4:$I$218,7,0),\"\")","v":""},null,""]
[null,null,null,{"$f":"IF(C1874=\"\",\"\",VLOOKUP(C1874,Tabla_Regional[],3,0))","v":""},null,{"$f":"IF(E1874<>\"\",VLOOKUP(CONCATENATE(C1874,E1874),Dato!$A$4:$I$218,7,0),\"\")","v":""},null,""]
[null,null,null,{"$f":"IF(C1875=\"\",\"\",VLOOKUP(C1875,Tabla_Regional[],3,0))","v":""},null,{"$f":"IF(E1875<>\"\",VLOOKUP(CONCATENATE(C1875,E1875),Dato!$A$4:$I$218,7,0),\"\")","v":""},null,""]
[null,null,null,{"$f":"IF(C1876=\"\",\"\",VLOOKUP(C1876,Tabla_Regional[],3,0))","v":""},null,{"$f":"IF(E1876<>\"\",VLOOKUP(CONCATENATE(C1876,E1876),Dato!$A$4:$I$218,7,0),\"\")","v":""},null,""]
[null,null,null,{"$f":"IF(C1877=\"\",\"\",VLOOKUP(C1877,Tabla_Regional[],3,0))","v":""},null,{"$f":"IF(E1877<>\"\",VLOOKUP(CONCATENATE(C1877,E1877),Dato!$A$4:$I$218,7,0),\"\")","v":""},null,""]
[null,null,null,{"$f":"IF(C1878=\"\",\"\",VLOOKUP(C1878,Tabla_Regional[],3,0))","v":""},null,{"$f":"IF(E1878<>\"\",VLOOKUP(CONCATENATE(C1878,E1878),Dato!$A$4:$I$218,7,0),\"\")","v":""},null,""]
[null,null,null,{"$f":"IF(C1879=\"\",\"\",VLOOKUP(C1879,Tabla_Regional[],3,0))","v":""},null,{"$f":"IF(E1879<>\"\",VLOOKUP(CONCATENATE(C1879,E1879),Dato!$A$4:$I$218,7,0),\"\")","v":""},null,""]
[null,null,null,{"$f":"IF(C1880=\"\",\"\",VLOOKUP(C1880,Tabla_Regional[],3,0))","v":""},null,{"$f":"IF(E1880<>\"\",VLOOKUP(CONCATENATE(C1880,E1880),Dato!$A$4:$I$218,7,0),\"\")","v":""},null,""]
[null,null,null,{"$f":"IF(C1881=\"\",\"\",VLOOKUP(C1881,Tabla_Regional[],3,0))","v":""},null,{"$f":"IF(E1881<>\"\",VLOOKUP(CONCATENATE(C1881,E1881),Dato!$A$4:$I$218,7,0),\"\")","v":""},null,""]
[null,null,null,{"$f":"IF(C1882=\"\",\"\",VLOOKUP(C1882,Tabla_Regional[],3,0))","v":""},null,{"$f":"IF(E1882<>\"\",VLOOKUP(CONCATENATE(C1882,E1882),Dato!$A$4:$I$218,7,0),\"\")","v":""},null,""]
[null,null,null,{"$f":"IF(C1883=\"\",\"\",VLOOKUP(C1883,Tabla_Regional[],3,0))","v":""},null,{"$f":"IF(E1883<>\"\",VLOOKUP(CONCATENATE(C1883,E1883),Dato!$A$4:$I$218,7,0),\"\")","v":""},null,""]
[null,null,null,{"$f":"IF(C1884=\"\",\"\",VLOOKUP(C1884,Tabla_Regional[],3,0))","v":""},null,{"$f":"IF(E1884<>\"\",VLOOKUP(CONCATENATE(C1884,E1884),Dato!$A$4:$I$218,7,0),\"\")","v":""},null,""]
[null,null,null,{"$f":"IF(C1885=\"\",\"\",VLOOKUP(C1885,Tabla_Regional[],3,0))","v":""},null,{"$f":"IF(E1885<>\"\",VLOOKUP(CONCATENATE(C1885,E1885),Dato!$A$4:$I$218,7,0),\"\")","v":""},null,""]
[null,null,null,{"$f":"IF(C1886=\"\",\"\",VLOOKUP(C1886,Tabla_Regional[],3,0))","v":""},null,{"$f":"IF(E1886<>\"\",VLOOKUP(CONCATENATE(C1886,E1886),Dato!$A$4:$I$218,7,0),\"\")","v":""},null,""]
[null,null,null,{"$f":"IF(C1887=\"\",\"\",VLOOKUP(C1887,Tabla_Regional[],3,0))","v":""},null,{"$f":"IF(E1887<>\"\",VLOOKUP(CONCATENATE(C1887,E1887),Dato!$A$4:$I$218,7,0),\"\")","v":""},null,""]
[null,null,null,{"$f":"IF(C1888=\"\",\"\",VLOOKUP(C1888,Tabla_Regional[],3,0))","v":""},null,{"$f":"IF(E1888<>\"\",VLOOKUP(CONCATENATE(C1888,E1888),Dato!$A$4:$I$218,7,0),\"\")","v":""},null,""]
[null,null,null,{"$f":"IF(C1889=\"\",\"\",VLOOKUP(C1889,Tabla_Regional[],3,0))","v":""},null,{"$f":"IF(E1889<>\"\",VLOOKUP(CONCATENATE(C1889,E1889),Dato!$A$4:$I$218,7,0),\"\")","v":""},null,""]
[null,null,null,{"$f":"IF(C1890=\"\",\"\",VLOOKUP(C1890,Tabla_Regional[],3,0))","v":""},null,{"$f":"IF(E1890<>\"\",VLOOKUP(CONCATENATE(C1890,E1890),Dato!$A$4:$I$218,7,0),\"\")","v":""},null,""]
[null,null,null,{"$f":"IF(C1891=\"\",\"\",VLOOKUP(C1891,Tabla_Regional[],3,0))","v":""},null,{"$f":"IF(E1891<>\"\",VLOOKUP(CONCATENATE(C1891,E1891),Dato!$A$4:$I$218,7,0),\"\")","v":""},null,""]
[null,null,null,{"$f":"IF(C1892=\"\",\"\",VLOOKUP(C1892,Tabla_Regional[],3,0))","v":""},null,{"$f":"IF(E1892<>\"\",VLOOKUP(CONCATENATE(C1892,E1892),Dato!$A$4:$I$218,7,0),\"\")","v":""},null,""]
[null,null,null,{"$f":"IF(C1893=\"\",\"\",VLOOKUP(C1893,Tabla_Regional[],3,0))","v":""},null,{"$f":"IF(E1893<>\"\",VLOOKUP(CONCATENATE(C1893,E1893),Dato!$A$4:$I$218,7,0),\"\")","v":""},null,""]
[null,null,null,{"$f":"IF(C1894=\"\",\"\",VLOOKUP(C1894,Tabla_Regional[],3,0))","v":""},null,{"$f":"IF(E1894<>\"\",VLOOKUP(CONCATENATE(C1894,E1894),Dato!$A$4:$I$218,7,0),\"\")","v":""},null,""]
[null,null,null,{"$f":"IF(C1895=\"\",\"\",VLOOKUP(C1895,Tabla_Regional[],3,0))","v":""},null,{"$f":"IF(E1895<>\"\",VLOOKUP(CONCATENATE(C1895,E1895),Dato!$A$4:$I$218,7,0),\"\")","v":""},null,""]
[null,null,null,{"$f":"IF(C1896=\"\",\"\",VLOOKUP(C1896,Tabla_Regional[],3,0))","v":""},null,{"$f":"IF(E1896<>\"\",VLOOKUP(CONCATENATE(C1896,E1896),Dato!$A$4:$I$218,7,0),\"\")","v":""},null,""]
[null,null,null,{"$f":"IF(C1897=\"\",\"\",VLOOKUP(C1897,Tabla_Regional[],3,0))","v":""},null,{"$f":"IF(E1897<>\"\",VLOOKUP(CONCATENATE(C1897,E1897),Dato!$A$4:$I$218,7,0),\"\")","v":""},null,""]
[null,null,null,{"$f":"IF(C1898=\"\",\"\",VLOOKUP(C1898,Tabla_Regional[],3,0))","v":""},null,{"$f":"IF(E1898<>\"\",VLOOKUP(CONCATENATE(C1898,E1898),Dato!$A$4:$I$218,7,0),\"\")","v":""},null,""]
[null,null,null,{"$f":"IF(C1899=\"\",\"\",VLOOKUP(C1899,Tabla_Regional[],3,0))","v":""},null,{"$f":"IF(E1899<>\"\",VLOOKUP(CONCATENATE(C1899,E1899),Dato!$A$4:$I$218,7,0),\"\")","v":""},null,""]
[null,null,null,{"$f":"IF(C1900=\"\",\"\",VLOOKUP(C1900,Tabla_Regional[],3,0))","v":""},null,{"$f":"IF(E1900<>\"\",VLOOKUP(CONCATENATE(C1900,E1900),Dato!$A$4:$I$218,7,0),\"\")","v":""},null,""]
[null,null,null,{"$f":"IF(C1901=\"\",\"\",VLOOKUP(C1901,Tabla_Regional[],3,0))","v":""},null,{"$f":"IF(E1901<>\"\",VLOOKUP(CONCATENATE(C1901,E1901),Dato!$A$4:$I$218,7,0),\"\")","v":""},null,""]
[null,null,null,{"$f":"IF(C1902=\"\",\"\",VLOOKUP(C1902,Tabla_Regional[],3,0))","v":""},null,{"$f":"IF(E1902<>\"\",VLOOKUP(CONCATENATE(C1902,E1902),Dato!$A$4:$I$218,7,0),\"\")","v":""},null,""]
[null,null,null,{"$f":"IF(C1903=\"\",\"\",VLOOKUP(C1903,Tabla_Regional[],3,0))","v":""},null,{"$f":"IF(E1903<>\"\",VLOOKUP(CONCATENATE(C1903,E1903),Dato!$A$4:$I$218,7,0),\"\")","v":""},null,""]
[null,null,null,{"$f":"IF(C1904=\"\",\"\",VLOOKUP(C1904,Tabla_Regional[],3,0))","v":""},null,{"$f":"IF(E1904<>\"\",VLOOKUP(CONCATENATE(C1904,E1904),Dato!$A$4:$I$218,7,0),\"\")","v":""},null,""]
[null,null,null,{"$f":"IF(C1905=\"\",\"\",VLOOKUP(C1905,Tabla_Regional[],3,0))","v":""},null,{"$f":"IF(E1905<>\"\",VLOOKUP(CONCATENATE(C1905,E1905),Dato!$A$4:$I$218,7,0),\"\")","v":""},null,""]
[null,null,null,{"$f":"IF(C1906=\"\",\"\",VLOOKUP(C1906,Tabla_Regional[],3,0))","v":""},null,{"$f":"IF(E1906<>\"\",VLOOKUP(CONCATENATE(C1906,E1906),Dato!$A$4:$I$218,7,0),\"\")","v":""},null,""]
[null,null,null,{"$f":"IF(C1907=\"\",\"\",VLOOKUP(C1907,Tabla_Regional[],3,0))","v":""},null,{"$f":"IF(E1907<>\"\",VLOOKUP(CONCATENATE(C1907,E1907),Dato!$A$4:$I$218,7,0),\"\")","v":""},null,""]
[null,null,null,{"$f":"IF(C1908=\"\",\"\",VLOOKUP(C1908,Tabla_Regional[],3,0))","v":""},null,{"$f":"IF(E1908<>\"\",VLOOKUP(CONCATENATE(C1908,E1908),Dato!$A$4:$I$218,7,0),\"\")","v":""},null,""]
[null,null,null,{"$f":"IF(C1909=\"\",\"\",VLOOKUP(C1909,Tabla_Regional[],3,0))","v":""},null,{"$f":"IF(E1909<>\"\",VLOOKUP(CONCATENATE(C1909,E1909),Dato!$A$4:$I$218,7,0),\"\")","v":""},null,""]
[null,null,null,{"$f":"IF(C1910=\"\",\"\",VLOOKUP(C1910,Tabla_Regional[],3,0))","v":""},null,{"$f":"IF(E1910<>\"\",VLOOKUP(CONCATENATE(C1910,E1910),Dato!$A$4:$I$218,7,0),\"\")","v":""},null,""]
[null,null,null,{"$f":"IF(C1911=\"\",\"\",VLOOKUP(C1911,Tabla_Regional[],3,0))","v":""},null,{"$f":"IF(E1911<>\"\",VLOOKUP(CONCATENATE(C1911,E1911),Dato!$A$4:$I$218,7,0),\"\")","v":""},null,""]
[null,null,null,{"$f":"IF(C1912=\"\",\"\",VLOOKUP(C1912,Tabla_Regional[],3,0))","v":""},null,{"$f":"IF(E1912<>\"\",VLOOKUP(CONCATENATE(C1912,E1912),Dato!$A$4:$I$218,7,0),\"\")","v":""},null,""]
[null,null,null,{"$f":"IF(C1913=\"\",\"\",VLOOKUP(C1913,Tabla_Regional[],3,0))","v":""},null,{"$f":"IF(E1913<>\"\",VLOOKUP(CONCATENATE(C1913,E1913),Dato!$A$4:$I$218,7,0),\"\")","v":""},null,""]
[null,null,null,{"$f":"IF(C1914=\"\",\"\",VLOOKUP(C1914,Tabla_Regional[],3,0))","v":""},null,{"$f":"IF(E1914<>\"\",VLOOKUP(CONCATENATE(C1914,E1914),Dato!$A$4:$I$218,7,0),\"\")","v":""},null,""]
[null,null,null,{"$f":"IF(C1915=\"\",\"\",VLOOKUP(C1915,Tabla_Regional[],3,0))","v":""},null,{"$f":"IF(E1915<>\"\",VLOOKUP(CONCATENATE(C1915,E1915),Dato!$A$4:$I$218,7,0),\"\")","v":""},null,""]
[null,null,null,{"$f":"IF(C1916=\"\",\"\",VLOOKUP(C1916,Tabla_Regional[],3,0))","v":""},null,{"$f":"IF(E1916<>\"\",VLOOKUP(CONCATENATE(C1916,E1916),Dato!$A$4:$I$218,7,0),\"\")","v":""},null,""]
[null,null,null,{"$f":"IF(C1917=\"\",\"\",VLOOKUP(C1917,Tabla_Regional[],3,0))","v":""},null,{"$f":"IF(E1917<>\"\",VLOOKUP(CONCATENATE(C1917,E1917),Dato!$A$4:$I$218,7,0),\"\")","v":""},null,""]
[null,null,null,{"$f":"IF(C1918=\"\",\"\",VLOOKUP(C1918,Tabla_Regional[],3,0))","v":""},null,{"$f":"IF(E1918<>\"\",VLOOKUP(CONCATENATE(C1918,E1918),Dato!$A$4:$I$218,7,0),\"\")","v":""},null,""]
[null,null,null,{"$f":"IF(C1919=\"\",\"\",VLOOKUP(C1919,Tabla_Regional[],3,0))","v":""},null,{"$f":"IF(E1919<>\"\",VLOOKUP(CONCATENATE(C1919,E1919),Dato!$A$4:$I$218,7,0),\"\")","v":""},null,""]
[null,null,null,{"$f":"IF(C1920=\"\",\"\",VLOOKUP(C1920,Tabla_Regional[],3,0))","v":""},null,{"$f":"IF(E1920<>\"\",VLOOKUP(CONCATENATE(C1920,E1920),Dato!$A$4:$I$218,7,0),\"\")","v":""},null,""]
[null,null,null,{"$f":"IF(C1921=\"\",\"\",VLOOKUP(C1921,Tabla_Regional[],3,0))","v":""},null,{"$f":"IF(E1921<>\"\",VLOOKUP(CONCATENATE(C1921,E1921),Dato!$A$4:$I$218,7,0),\"\")","v":""},null,""]
[null,null,null,{"$f":"IF(C1922=\"\",\"\",VLOOKUP(C1922,Tabla_Regional[],3,0))","v":""},null,{"$f":"IF(E1922<>\"\",VLOOKUP(CONCATENATE(C1922,E1922),Dato!$A$4:$I$218,7,0),\"\")","v":""},null,""]
[null,null,null,{"$f":"IF(C1923=\"\",\"\",VLOOKUP(C1923,Tabla_Regional[],3,0))","v":""},null,{"$f":"IF(E1923<>\"\",VLOOKUP(CONCATENATE(C1923,E1923),Dato!$A$4:$I$218,7,0),\"\")","v":""},null,""]
[null,null,null,{"$f":"IF(C1924=\"\",\"\",VLOOKUP(C1924,Tabla_Regional[],3,0))","v":""},null,{"$f":"IF(E1924<>\"\",VLOOKUP(CONCATENATE(C1924,E1924),Dato!$A$4:$I$218,7,0),\"\")","v":""},null,""]
[null,null,null,{"$f":"IF(C1925=\"\",\"\",VLOOKUP(C1925,Tabla_Regional[],3,0))","v":""},null,{"$f":"IF(E1925<>\"\",VLOOKUP(CONCATENATE(C1925,E1925),Dato!$A$4:$I$218,7,0),\"\")","v":""},null,""]
[null,null,null,{"$f":"IF(C1926=\"\",\"\",VLOOKUP(C1926,Tabla_Regional[],3,0))","v":""},null,{"$f":"IF(E1926<>\"\",VLOOKUP(CONCATENATE(C1926,E1926),Dato!$A$4:$I$218,7,0),\"\")","v":""},null,""]
[null,null,null,{"$f":"IF(C1927=\"\",\"\",VLOOKUP(C1927,Tabla_Regional[],3,0))","v":""},null,{"$f":"IF(E1927<>\"\",VLOOKUP(CONCATENATE(C1927,E1927),Dato!$A$4:$I$218,7,0),\"\")","v":""},null,""]
[null,null,null,{"$f":"IF(C1928=\"\",\"\",VLOOKUP(C1928,Tabla_Regional[],3,0))","v":""},null,{"$f":"IF(E1928<>\"\",VLOOKUP(CONCATENATE(C1928,E1928),Dato!$A$4:$I$218,7,0),\"\")","v":""},null,""]
[null,null,null,{"$f":"IF(C1929=\"\",\"\",VLOOKUP(C1929,Tabla_Regional[],3,0))","v":""},null,{"$f":"IF(E1929<>\"\",VLOOKUP(CONCATENATE(C1929,E1929),Dato!$A$4:$I$218,7,0),\"\")","v":""},null,""]
[null,null,null,{"$f":"IF(C1930=\"\",\"\",VLOOKUP(C1930,Tabla_Regional[],3,0))","v":""},null,{"$f":"IF(E1930<>\"\",VLOOKUP(CONCATENATE(C1930,E1930),Dato!$A$4:$I$218,7,0),\"\")","v":""},null,""]
[null,null,null,{"$f":"IF(C1931=\"\",\"\",VLOOKUP(C1931,Tabla_Regional[],3,0))","v":""},null,{"$f":"IF(E1931<>\"\",VLOOKUP(CONCATENATE(C1931,E1931),Dato!$A$4:$I$218,7,0),\"\")","v":""},null,""]
[null,null,null,{"$f":"IF(C1932=\"\",\"\",VLOOKUP(C1932,Tabla_Regional[],3,0))","v":""},null,{"$f":"IF(E1932<>\"\",VLOOKUP(CONCATENATE(C1932,E1932),Dato!$A$4:$I$218,7,0),\"\")","v":""},null,{"$f":"IF(G1932<>\"\",VLOOKUP(CONCATENATE(C1932,E1932,G1932),czmuni,7,0),\"\")","v":""}]
[null,null,null,{"$f":"IF(C1933=\"\",\"\",VLOOKUP(C1933,Tabla_Regional[],3,0))","v":""},null,{"$f":"IF(E1933<>\"\",VLOOKUP(CONCATENATE(C1933,E1933),Dato!$A$4:$I$218,7,0),\"\")","v":""},null,""]
[null,null,null,{"$f":"IF(C1934=\"\",\"\",VLOOKUP(C1934,Tabla_Regional[],3,0))","v":""},null,{"$f":"IF(E1934<>\"\",VLOOKUP(CONCATENATE(C1934,E1934),Dato!$A$4:$I$218,7,0),\"\")","v":""},null,""]
[null,null,null,{"$f":"IF(C1935=\"\",\"\",VLOOKUP(C1935,Tabla_Regional[],3,0))","v":""},null,{"$f":"IF(E1935<>\"\",VLOOKUP(CONCATENATE(C1935,E1935),Dato!$A$4:$I$218,7,0),\"\")","v":""},null,""]
[null,null,null,{"$f":"IF(C1936=\"\",\"\",VLOOKUP(C1936,Tabla_Regional[],3,0))","v":""},null,{"$f":"IF(E1936<>\"\",VLOOKUP(CONCATENATE(C1936,E1936),Dato!$A$4:$I$218,7,0),\"\")","v":""},null,""]
[null,null,null,{"$f":"IF(C1937=\"\",\"\",VLOOKUP(C1937,Tabla_Regional[],3,0))","v":""},null,{"$f":"IF(E1937<>\"\",VLOOKUP(CONCATENATE(C1937,E1937),Dato!$A$4:$I$218,7,0),\"\")","v":""},null,""]
[null,null,null,{"$f":"IF(C1938=\"\",\"\",VLOOKUP(C1938,Tabla_Regional[],3,0))","v":""},null,{"$f":"IF(E1938<>\"\",VLOOKUP(CONCATENATE(C1938,E1938),Dato!$A$4:$I$218,7,0),\"\")","v":""},null,""]
[null,null,null,{"$f":"IF(C1939=\"\",\"\",VLOOKUP(C1939,Tabla_Regional[],3,0))","v":""},null,{"$f":"IF(E1939<>\"\",VLOOKUP(CONCATENATE(C1939,E1939),Dato!$A$4:$I$218,7,0),\"\")","v":""},null,""]
[null,null,null,{"$f":"IF(C1940=\"\",\"\",VLOOKUP(C1940,Tabla_Regional[],3,0))","v":""},null,{"$f":"IF(E1940<>\"\",VLOOKUP(CONCATENATE(C1940,E1940),Dato!$A$4:$I$218,7,0),\"\")","v":""},null,""]
[null,null,null,{"$f":"IF(C1941=\"\",\"\",VLOOKUP(C1941,Tabla_Regional[],3,0))","v":""},null,{"$f":"IF(E1941<>\"\",VLOOKUP(CONCATENATE(C1941,E1941),Dato!$A$4:$I$218,7,0),\"\")","v":""},null,""]
[null,null,null,{"$f":"IF(C1942=\"\",\"\",VLOOKUP(C1942,Tabla_Regional[],3,0))","v":""},null,{"$f":"IF(E1942<>\"\",VLOOKUP(CONCATENATE(C1942,E1942),Dato!$A$4:$I$218,7,0),\"\")","v":""},null,""]
[null,null,null,{"$f":"IF(C1943=\"\",\"\",VLOOKUP(C1943,Tabla_Regional[],3,0))","v":""},null,{"$f":"IF(E1943<>\"\",VLOOKUP(CONCATENATE(C1943,E1943),Dato!$A$4:$I$218,7,0),\"\")","v":""},null,""]
[null,null,null,{"$f":"IF(C1944=\"\",\"\",VLOOKUP(C1944,Tabla_Regional[],3,0))","v":""},null,{"$f":"IF(E1944<>\"\",VLOOKUP(CONCATENATE(C1944,E1944),Dato!$A$4:$I$218,7,0),\"\")","v":""},null,""]
[null,null,null,{"$f":"IF(C1945=\"\",\"\",VLOOKUP(C1945,Tabla_Regional[],3,0))","v":""},null,{"$f":"IF(E1945<>\"\",VLOOKUP(CONCATENATE(C1945,E1945),Dato!$A$4:$I$218,7,0),\"\")","v":""},null,""]
[null,null,null,{"$f":"IF(C1946=\"\",\"\",VLOOKUP(C1946,Tabla_Regional[],3,0))","v":""},null,{"$f":"IF(E1946<>\"\",VLOOKUP(CONCATENATE(C1946,E1946),Dato!$A$4:$I$218,7,0),\"\")","v":""},null,""]
[null,null,null,{"$f":"IF(C1947=\"\",\"\",VLOOKUP(C1947,Tabla_Regional[],3,0))","v":""},null,{"$f":"IF(E1947<>\"\",VLOOKUP(CONCATENATE(C1947,E1947),Dato!$A$4:$I$218,7,0),\"\")","v":""},null,""]
[null,null,null,{"$f":"IF(C1948=\"\",\"\",VLOOKUP(C1948,Tabla_Regional[],3,0))","v":""},null,{"$f":"IF(E1948<>\"\",VLOOKUP(CONCATENATE(C1948,E1948),Dato!$A$4:$I$218,7,0),\"\")","v":""},null,""]
[null,null,null,{"$f":"IF(C1949=\"\",\"\",VLOOKUP(C1949,Tabla_Regional[],3,0))","v":""},null,{"$f":"IF(E1949<>\"\",VLOOKUP(CONCATENATE(C1949,E1949),Dato!$A$4:$I$218,7,0),\"\")","v":""},null,""]
[null,null,null,{"$f":"IF(C1950=\"\",\"\",VLOOKUP(C1950,Tabla_Regional[],3,0))","v":""},null,{"$f":"IF(E1950<>\"\",VLOOKUP(CONCATENATE(C1950,E1950),Dato!$A$4:$I$218,7,0),\"\")","v":""},null,""]
[null,null,null,{"$f":"IF(C1951=\"\",\"\",VLOOKUP(C1951,Tabla_Regional[],3,0))","v":""},null,{"$f":"IF(E1951<>\"\",VLOOKUP(CONCATENATE(C1951,E1951),Dato!$A$4:$I$218,7,0),\"\")","v":""},null,""]
[null,null,null,{"$f":"IF(C1952=\"\",\"\",VLOOKUP(C1952,Tabla_Regional[],3,0))","v":""},null,{"$f":"IF(E1952<>\"\",VLOOKUP(CONCATENATE(C1952,E1952),Dato!$A$4:$I$218,7,0),\"\")","v":""},null,""]
[null,null,null,{"$f":"IF(C1953=\"\",\"\",VLOOKUP(C1953,Tabla_Regional[],3,0))","v":""},null,{"$f":"IF(E1953<>\"\",VLOOKUP(CONCATENATE(C1953,E1953),Dato!$A$4:$I$218,7,0),\"\")","v":""},null,""]
[null,null,null,{"$f":"IF(C1954=\"\",\"\",VLOOKUP(C1954,Tabla_Regional[],3,0))","v":""},null,{"$f":"IF(E1954<>\"\",VLOOKUP(CONCATENATE(C1954,E1954),Dato!$A$4:$I$218,7,0),\"\")","v":""},null,""]
[null,null,null,{"$f":"IF(C1955=\"\",\"\",VLOOKUP(C1955,Tabla_Regional[],3,0))","v":""},null,{"$f":"IF(E1955<>\"\",VLOOKUP(CONCATENATE(C1955,E1955),Dato!$A$4:$I$218,7,0),\"\")","v":""},null,""]
[null,null,null,{"$f":"IF(C1956=\"\",\"\",VLOOKUP(C1956,Tabla_Regional[],3,0))","v":""},null,{"$f":"IF(E1956<>\"\",VLOOKUP(CONCATENATE(C1956,E1956),Dato!$A$4:$I$218,7,0),\"\")","v":""},null,""]
[null,null,null,{"$f":"IF(C1957=\"\",\"\",VLOOKUP(C1957,Tabla_Regional[],3,0))","v":""},null,{"$f":"IF(E1957<>\"\",VLOOKUP(CONCATENATE(C1957,E1957),Dato!$A$4:$I$218,7,0),\"\")","v":""},null,""]
[null,null,null,{"$f":"IF(C1958=\"\",\"\",VLOOKUP(C1958,Tabla_Regional[],3,0))","v":""},null,{"$f":"IF(E1958<>\"\",VLOOKUP(CONCATENATE(C1958,E1958),Dato!$A$4:$I$218,7,0),\"\")","v":""},null,""]
[null,null,null,{"$f":"IF(C1959=\"\",\"\",VLOOKUP(C1959,Tabla_Regional[],3,0))","v":""},null,{"$f":"IF(E1959<>\"\",VLOOKUP(CONCATENATE(C1959,E1959),Dato!$A$4:$I$218,7,0),\"\")","v":""},null,""]
[null,null,null,{"$f":"IF(C1960=\"\",\"\",VLOOKUP(C1960,Tabla_Regional[],3,0))","v":""},null,{"$f":"IF(E1960<>\"\",VLOOKUP(CONCATENATE(C1960,E1960),Dato!$A$4:$I$218,7,0),\"\")","v":""},null,""]
[null,null,null,{"$f":"IF(C1961=\"\",\"\",VLOOKUP(C1961,Tabla_Regional[],3,0))","v":""},null,{"$f":"IF(E1961<>\"\",VLOOKUP(CONCATENATE(C1961,E1961),Dato!$A$4:$I$218,7,0),\"\")","v":""},null,""]
[null,null,null,{"$f":"IF(C1962=\"\",\"\",VLOOKUP(C1962,Tabla_Regional[],3,0))","v":""},null,{"$f":"IF(E1962<>\"\",VLOOKUP(CONCATENATE(C1962,E1962),Dato!$A$4:$I$218,7,0),\"\")","v":""},null,""]
[null,null,null,{"$f":"IF(C1963=\"\",\"\",VLOOKUP(C1963,Tabla_Regional[],3,0))","v":""},null,{"$f":"IF(E1963<>\"\",VLOOKUP(CONCATENATE(C1963,E1963),Dato!$A$4:$I$218,7,0),\"\")","v":""},null,""]
[null,null,null,{"$f":"IF(C1964=\"\",\"\",VLOOKUP(C1964,Tabla_Regional[],3,0))","v":""},null,{"$f":"IF(E1964<>\"\",VLOOKUP(CONCATENATE(C1964,E1964),Dato!$A$4:$I$218,7,0),\"\")","v":""},null,""]
[null,null,null,{"$f":"IF(C1965=\"\",\"\",VLOOKUP(C1965,Tabla_Regional[],3,0))","v":""},null,{"$f":"IF(E1965<>\"\",VLOOKUP(CONCATENATE(C1965,E1965),Dato!$A$4:$I$218,7,0),\"\")","v":""},null,""]
[null,null,null,{"$f":"IF(C1966=\"\",\"\",VLOOKUP(C1966,Tabla_Regional[],3,0))","v":""},null,{"$f":"IF(E1966<>\"\",VLOOKUP(CONCATENATE(C1966,E1966),Dato!$A$4:$I$218,7,0),\"\")","v":""},null,""]
[null,null,null,{"$f":"IF(C1967=\"\",\"\",VLOOKUP(C1967,Tabla_Regional[],3,0))","v":""},null,{"$f":"IF(E1967<>\"\",VLOOKUP(CONCATENATE(C1967,E1967),Dato!$A$4:$I$218,7,0),\"\")","v":""},null,""]
[null,null,null,{"$f":"IF(C1968=\"\",\"\",VLOOKUP(C1968,Tabla_Regional[],3,0))","v":""},null,{"$f":"IF(E1968<>\"\",VLOOKUP(CONCATENATE(C1968,E1968),Dato!$A$4:$I$218,7,0),\"\")","v":""},null,""]
[null,null,null,{"$f":"IF(C1969=\"\",\"\",VLOOKUP(C1969,Tabla_Regional[],3,0))","v":""},null,{"$f":"IF(E1969<>\"\",VLOOKUP(CONCATENATE(C1969,E1969),Dato!$A$4:$I$218,7,0),\"\")","v":""},null,""]
[null,null,null,{"$f":"IF(C1970=\"\",\"\",VLOOKUP(C1970,Tabla_Regional[],3,0))","v":""},null,{"$f":"IF(E1970<>\"\",VLOOKUP(CONCATENATE(C1970,E1970),Dato!$A$4:$I$218,7,0),\"\")","v":""},null,""]
[null,null,null,{"$f":"IF(C1971=\"\",\"\",VLOOKUP(C1971,Tabla_Regional[],3,0))","v":""},null,{"$f":"IF(E1971<>\"\",VLOOKUP(CONCATENATE(C1971,E1971),Dato!$A$4:$I$218,7,0),\"\")","v":""},null,""]
[null,null,null,{"$f":"IF(C1972=\"\",\"\",VLOOKUP(C1972,Tabla_Regional[],3,0))","v":""},null,{"$f":"IF(E1972<>\"\",VLOOKUP(CONCATENATE(C1972,E1972),Dato!$A$4:$I$218,7,0),\"\")","v":""},null,""]
[null,null,null,{"$f":"IF(C1973=\"\",\"\",VLOOKUP(C1973,Tabla_Regional[],3,0))","v":""},null,{"$f":"IF(E1973<>\"\",VLOOKUP(CONCATENATE(C1973,E1973),Dato!$A$4:$I$218,7,0),\"\")","v":""},null,""]
[null,null,null,{"$f":"IF(C1974=\"\",\"\",VLOOKUP(C1974,Tabla_Regional[],3,0))","v":""},null,{"$f":"IF(E1974<>\"\",VLOOKUP(CONCATENATE(C1974,E1974),Dato!$A$4:$I$218,7,0),\"\")","v":""},null,""]
[null,null,null,{"$f":"IF(C1975=\"\",\"\",VLOOKUP(C1975,Tabla_Regional[],3,0))","v":""},null,{"$f":"IF(E1975<>\"\",VLOOKUP(CONCATENATE(C1975,E1975),Dato!$A$4:$I$218,7,0),\"\")","v":""},null,""]
[null,null,null,{"$f":"IF(C1976=\"\",\"\",VLOOKUP(C1976,Tabla_Regional[],3,0))","v":""},null,{"$f":"IF(E1976<>\"\",VLOOKUP(CONCATENATE(C1976,E1976),Dato!$A$4:$I$218,7,0),\"\")","v":""},null,""]
[null,null,null,{"$f":"IF(C1977=\"\",\"\",VLOOKUP(C1977,Tabla_Regional[],3,0))","v":""},null,{"$f":"IF(E1977<>\"\",VLOOKUP(CONCATENATE(C1977,E1977),Dato!$A$4:$I$218,7,0),\"\")","v":""},null,""]
[null,null,null,{"$f":"IF(C1978=\"\",\"\",VLOOKUP(C1978,Tabla_Regional[],3,0))","v":""},null,{"$f":"IF(E1978<>\"\",VLOOKUP(CONCATENATE(C1978,E1978),Dato!$A$4:$I$218,7,0),\"\")","v":""},null,""]
[null,null,null,{"$f":"IF(C1979=\"\",\"\",VLOOKUP(C1979,Tabla_Regional[],3,0))","v":""},null,{"$f":"IF(E1979<>\"\",VLOOKUP(CONCATENATE(C1979,E1979),Dato!$A$4:$I$218,7,0),\"\")","v":""},null,""]
[null,null,null,{"$f":"IF(C1980=\"\",\"\",VLOOKUP(C1980,Tabla_Regional[],3,0))","v":""},null,{"$f":"IF(E1980<>\"\",VLOOKUP(CONCATENATE(C1980,E1980),Dato!$A$4:$I$218,7,0),\"\")","v":""},null,""]
[null,null,null,{"$f":"IF(C1981=\"\",\"\",VLOOKUP(C1981,Tabla_Regional[],3,0))","v":""},null,{"$f":"IF(E1981<>\"\",VLOOKUP(CONCATENATE(C1981,E1981),Dato!$A$4:$I$218,7,0),\"\")","v":""},null,""]
[null,null,null,{"$f":"IF(C1982=\"\",\"\",VLOOKUP(C1982,Tabla_Regional[],3,0))","v":""},null,{"$f":"IF(E1982<>\"\",VLOOKUP(CONCATENATE(C1982,E1982),Dato!$A$4:$I$218,7,0),\"\")","v":""},null,""]
[null,null,null,{"$f":"IF(C1983=\"\",\"\",VLOOKUP(C1983,Tabla_Regional[],3,0))","v":""},null,{"$f":"IF(E1983<>\"\",VLOOKUP(CONCATENATE(C1983,E1983),Dato!$A$4:$I$218,7,0),\"\")","v":""},null,""]
[null,null,null,{"$f":"IF(C1984=\"\",\"\",VLOOKUP(C1984,Tabla_Regional[],3,0))","v":""},null,{"$f":"IF(E1984<>\"\",VLOOKUP(CONCATENATE(C1984,E1984),Dato!$A$4:$I$218,7,0),\"\")","v":""},null,""]
[null,null,null,{"$f":"IF(C1985=\"\",\"\",VLOOKUP(C1985,Tabla_Regional[],3,0))","v":""},null,{"$f":"IF(E1985<>\"\",VLOOKUP(CONCATENATE(C1985,E1985),Dato!$A$4:$I$218,7,0),\"\")","v":""},null,""]
[null,null,null,{"$f":"IF(C1986=\"\",\"\",VLOOKUP(C1986,Tabla_Regional[],3,0))","v":""},null,{"$f":"IF(E1986<>\"\",VLOOKUP(CONCATENATE(C1986,E1986),Dato!$A$4:$I$218,7,0),\"\")","v":""},null,""]
[null,null,null,{"$f":"IF(C1987=\"\",\"\",VLOOKUP(C1987,Tabla_Regional[],3,0))","v":""},null,{"$f":"IF(E1987<>\"\",VLOOKUP(CONCATENATE(C1987,E1987),Dato!$A$4:$I$218,7,0),\"\")","v":""},null,""]
[null,null,null,{"$f":"IF(C1988=\"\",\"\",VLOOKUP(C1988,Tabla_Regional[],3,0))","v":""},null,{"$f":"IF(E1988<>\"\",VLOOKUP(CONCATENATE(C1988,E1988),Dato!$A$4:$I$218,7,0),\"\")","v":""},null,""]
[null,null,null,{"$f":"IF(C1989=\"\",\"\",VLOOKUP(C1989,Tabla_Regional[],3,0))","v":""},null,{"$f":"IF(E1989<>\"\",VLOOKUP(CONCATENATE(C1989,E1989),Dato!$A$4:$I$218,7,0),\"\")","v":""},null,""]
[null,null,null,{"$f":"IF(C1990=\"\",\"\",VLOOKUP(C1990,Tabla_Regional[],3,0))","v":""},null,{"$f":"IF(E1990<>\"\",VLOOKUP(CONCATENATE(C1990,E1990),Dato!$A$4:$I$218,7,0),\"\")","v":""},null,""]
[null,null,null,{"$f":"IF(C1991=\"\",\"\",VLOOKUP(C1991,Tabla_Regional[],3,0))","v":""},null,{"$f":"IF(E1991<>\"\",VLOOKUP(CONCATENATE(C1991,E1991),Dato!$A$4:$I$218,7,0),\"\")","v":""},null,""]
[null,null,null,{"$f":"IF(C1992=\"\",\"\",VLOOKUP(C1992,Tabla_Regional[],3,0))","v":""},null,{"$f":"IF(E1992<>\"\",VLOOKUP(CONCATENATE(C1992,E1992),Dato!$A$4:$I$218,7,0),\"\")","v":""},null,""]
[null,null,null,{"$f":"IF(C1993=\"\",\"\",VLOOKUP(C1993,Tabla_Regional[],3,0))","v":""},null,{"$f":"IF(E1993<>\"\",VLOOKUP(CONCATENATE(C1993,E1993),Dato!$A$4:$I$218,7,0),\"\")","v":""},null,""]
[null,null,null,{"$f":"IF(C1994=\"\",\"\",VLOOKUP(C1994,Tabla_Regional[],3,0))","v":""},null,{"$f":"IF(E1994<>\"\",VLOOKUP(CONCATENATE(C1994,E1994),Dato!$A$4:$I$218,7,0),\"\")","v":""},null,""]
[null,null,null,{"$f":"IF(C1995=\"\",\"\",VLOOKUP(C1995,Tabla_Regional[],3,0))","v":""},null,{"$f":"IF(E1995<>\"\",VLOOKUP(CONCATENATE(C1995,E1995),Dato!$A$4:$I$218,7,0),\"\")","v":""},null,""]
[null,null,null,{"$f":"IF(C1996=\"\",\"\",VLOOKUP(C1996,Tabla_Regional[],3,0))","v":""},null,{"$f":"IF(E1996<>\"\",VLOOKUP(CONCATENATE(C1996,E1996),Dato!$A$4:$I$218,7,0),\"\")","v":""},null,{"$f":"IF(G1996<>\"\",VLOOKUP(CONCATENATE(C1996,E1996,G1996),czmuni,7,0),\"\")","v":""}]
[null,null,null,{"$f":"IF(C1997=\"\",\"\",VLOOKUP(C1997,Tabla_Regional[],3,0))","v":""},null,{"$f":"IF(E1997<>\"\",VLOOKUP(CONCATENATE(C1997,E1997),Dato!$A$4:$I$218,7,0),\"\")","v":""},null,""]
[null,null,null,{"$f":"IF(C1998=\"\",\"\",VLOOKUP(C1998,Tabla_Regional[],3,0))","v":""},null,{"$f":"IF(E1998<>\"\",VLOOKUP(CONCATENATE(C1998,E1998),Dato!$A$4:$I$218,7,0),\"\")","v":""},null,""]
[null,null,null,{"$f":"IF(C1999=\"\",\"\",VLOOKUP(C1999,Tabla_Regional[],3,0))","v":""},null,{"$f":"IF(E1999<>\"\",VLOOKUP(CONCATENATE(C1999,E1999),Dato!$A$4:$I$218,7,0),\"\")","v":""},null,""]
[null,null,null,{"$f":"IF(C2000=\"\",\"\",VLOOKUP(C2000,Tabla_Regional[],3,0))","v":""},null,{"$f":"IF(E2000<>\"\",VLOOKUP(CONCATENATE(C2000,E2000),Dato!$A$4:$I$218,7,0),\"\")","v":""},null,""]
[null,null,null,{"$f":"IF(C2001=\"\",\"\",VLOOKUP(C2001,Tabla_Regional[],3,0))","v":""},null,{"$f":"IF(E2001<>\"\",VLOOKUP(CONCATENATE(C2001,E2001),Dato!$A$4:$I$218,7,0),\"\")","v":""},null,""]
[null,null,null,{"$f":"IF(C2002=\"\",\"\",VLOOKUP(C2002,Tabla_Regional[],3,0))","v":""},null,{"$f":"IF(E2002<>\"\",VLOOKUP(CONCATENATE(C2002,E2002),Dato!$A$4:$I$218,7,0),\"\")","v":""},null,""]
[null,null,null,{"$f":"IF(C2003=\"\",\"\",VLOOKUP(C2003,Tabla_Regional[],3,0))","v":""},null,{"$f":"IF(E2003<>\"\",VLOOKUP(CONCATENATE(C2003,E2003),Dato!$A$4:$I$218,7,0),\"\")","v":""},null,""]
[null,null,null,{"$f":"IF(C2004=\"\",\"\",VLOOKUP(C2004,Tabla_Regional[],3,0))","v":""},null,{"$f":"IF(E2004<>\"\",VLOOKUP(CONCATENATE(C2004,E2004),Dato!$A$4:$I$218,7,0),\"\")","v":""},null,""]
[null,null,null,{"$f":"IF(C2005=\"\",\"\",VLOOKUP(C2005,Tabla_Regional[],3,0))","v":""},null,{"$f":"IF(E2005<>\"\",VLOOKUP(CONCATENATE(C2005,E2005),Dato!$A$4:$I$218,7,0),\"\")","v":""},null,""]
[null,null,null,{"$f":"IF(C2006=\"\",\"\",VLOOKUP(C2006,Tabla_Regional[],3,0))","v":""},null,{"$f":"IF(E2006<>\"\",VLOOKUP(CONCATENATE(C2006,E2006),Dato!$A$4:$I$218,7,0),\"\")","v":""},null,""]
[null,null,null,{"$f":"IF(C2007=\"\",\"\",VLOOKUP(C2007,Tabla_Regional[],3,0))","v":""},null,{"$f":"IF(E2007<>\"\",VLOOKUP(CONCATENATE(C2007,E2007),Dato!$A$4:$I$218,7,0),\"\")","v":""},null,""]
[null,null,null,{"$f":"IF(C2008=\"\",\"\",VLOOKUP(C2008,Tabla_Regional[],3,0))","v":""},null,{"$f":"IF(E2008<>\"\",VLOOKUP(CONCATENATE(C2008,E2008),Dato!$A$4:$I$218,7,0),\"\")","v":""},null,""]
[null,null,null,{"$f":"IF(C2009=\"\",\"\",VLOOKUP(C2009,Tabla_Regional[],3,0))","v":""},null,{"$f":"IF(E2009<>\"\",VLOOKUP(CONCATENATE(C2009,E2009),Dato!$A$4:$I$218,7,0),\"\")","v":""},null,""]
[null,null,null,{"$f":"IF(C2010=\"\",\"\",VLOOKUP(C2010,Tabla_Regional[],3,0))","v":""},null,{"$f":"IF(E2010<>\"\",VLOOKUP(CONCATENATE(C2010,E2010),Dato!$A$4:$I$218,7,0),\"\")","v":""},null,""]
[null,null,null,{"$f":"IF(C2011=\"\",\"\",VLOOKUP(C2011,Tabla_Regional[],3,0))","v":""},null,{"$f":"IF(E2011<>\"\",VLOOKUP(CONCATENATE(C2011,E2011),Dato!$A$4:$I$218,7,0),\"\")","v":""},null,""]
[null,null,null,{"$f":"IF(C2012=\"\",\"\",VLOOKUP(C2012,Tabla_Regional[],3,0))","v":""},null,{"$f":"IF(E2012<>\"\",VLOOKUP(CONCATENATE(C2012,E2012),Dato!$A$4:$I$218,7,0),\"\")","v":""},null,""]
[null,null,null,{"$f":"IF(C2013=\"\",\"\",VLOOKUP(C2013,Tabla_Regional[],3,0))","v":""},null,{"$f":"IF(E2013<>\"\",VLOOKUP(CONCATENATE(C2013,E2013),Dato!$A$4:$I$218,7,0),\"\")","v":""},null,""]
[null,null,null,{"$f":"IF(C2014=\"\",\"\",VLOOKUP(C2014,Tabla_Regional[],3,0))","v":""},null,{"$f":"IF(E2014<>\"\",VLOOKUP(CONCATENATE(C2014,E2014),Dato!$A$4:$I$218,7,0),\"\")","v":""},null,""]
[null,null,null,{"$f":"IF(C2015=\"\",\"\",VLOOKUP(C2015,Tabla_Regional[],3,0))","v":""},null,{"$f":"IF(E2015<>\"\",VLOOKUP(CONCATENATE(C2015,E2015),Dato!$A$4:$I$218,7,0),\"\")","v":""},null,""]
[null,null,null,{"$f":"IF(C2016=\"\",\"\",VLOOKUP(C2016,Tabla_Regional[],3,0))","v":""},null,{"$f":"IF(E2016<>\"\",VLOOKUP(CONCATENATE(C2016,E2016),Dato!$A$4:$I$218,7,0),\"\")","v":""},null,""]
[null,null,null,{"$f":"IF(C2017=\"\",\"\",VLOOKUP(C2017,Tabla_Regional[],3,0))","v":""},null,{"$f":"IF(E2017<>\"\",VLOOKUP(CONCATENATE(C2017,E2017),Dato!$A$4:$I$218,7,0),\"\")","v":""},null,""]
[null,null,null,{"$f":"IF(C2018=\"\",\"\",VLOOKUP(C2018,Tabla_Regional[],3,0))","v":""},null,{"$f":"IF(E2018<>\"\",VLOOKUP(CONCATENATE(C2018,E2018),Dato!$A$4:$I$218,7,0),\"\")","v":""},null,""]
[null,null,null,{"$f":"IF(C2019=\"\",\"\",VLOOKUP(C2019,Tabla_Regional[],3,0))","v":""},null,{"$f":"IF(E2019<>\"\",VLOOKUP(CONCATENATE(C2019,E2019),Dato!$A$4:$I$218,7,0),\"\")","v":""},null,""]
[null,null,null,{"$f":"IF(C2020=\"\",\"\",VLOOKUP(C2020,Tabla_Regional[],3,0))","v":""},null,{"$f":"IF(E2020<>\"\",VLOOKUP(CONCATENATE(C2020,E2020),Dato!$A$4:$I$218,7,0),\"\")","v":""},null,""]
[null,null,null,{"$f":"IF(C2021=\"\",\"\",VLOOKUP(C2021,Tabla_Regional[],3,0))","v":""},null,{"$f":"IF(E2021<>\"\",VLOOKUP(CONCATENATE(C2021,E2021),Dato!$A$4:$I$218,7,0),\"\")","v":""},null,""]
[null,null,null,{"$f":"IF(C2022=\"\",\"\",VLOOKUP(C2022,Tabla_Regional[],3,0))","v":""},null,{"$f":"IF(E2022<>\"\",VLOOKUP(CONCATENATE(C2022,E2022),Dato!$A$4:$I$218,7,0),\"\")","v":""},null,""]
[null,null,null,{"$f":"IF(C2023=\"\",\"\",VLOOKUP(C2023,Tabla_Regional[],3,0))","v":""},null,{"$f":"IF(E2023<>\"\",VLOOKUP(CONCATENATE(C2023,E2023),Dato!$A$4:$I$218,7,0),\"\")","v":""},null,""]
[null,null,null,{"$f":"IF(C2024=\"\",\"\",VLOOKUP(C2024,Tabla_Regional[],3,0))","v":""},null,{"$f":"IF(E2024<>\"\",VLOOKUP(CONCATENATE(C2024,E2024),Dato!$A$4:$I$218,7,0),\"\")","v":""},null,""]
[null,null,null,{"$f":"IF(C2025=\"\",\"\",VLOOKUP(C2025,Tabla_Regional[],3,0))","v":""},null,{"$f":"IF(E2025<>\"\",VLOOKUP(CONCATENATE(C2025,E2025),Dato!$A$4:$I$218,7,0),\"\")","v":""},null,""]
[null,null,null,{"$f":"IF(C2026=\"\",\"\",VLOOKUP(C2026,Tabla_Regional[],3,0))","v":""},null,{"$f":"IF(E2026<>\"\",VLOOKUP(CONCATENATE(C2026,E2026),Dato!$A$4:$I$218,7,0),\"\")","v":""},null,""]
[null,null,null,{"$f":"IF(C2027=\"\",\"\",VLOOKUP(C2027,Tabla_Regional[],3,0))","v":""},null,{"$f":"IF(E2027<>\"\",VLOOKUP(CONCATENATE(C2027,E2027),Dato!$A$4:$I$218,7,0),\"\")","v":""},null,""]
[null,null,null,{"$f":"IF(C2028=\"\",\"\",VLOOKUP(C2028,Tabla_Regional[],3,0))","v":""},null,{"$f":"IF(E2028<>\"\",VLOOKUP(CONCATENATE(C2028,E2028),Dato!$A$4:$I$218,7,0),\"\")","v":""},null,""]
[null,null,null,{"$f":"IF(C2029=\"\",\"\",VLOOKUP(C2029,Tabla_Regional[],3,0))","v":""},null,{"$f":"IF(E2029<>\"\",VLOOKUP(CONCATENATE(C2029,E2029),Dato!$A$4:$I$218,7,0),\"\")","v":""},null,""]
[null,null,null,{"$f":"IF(C2030=\"\",\"\",VLOOKUP(C2030,Tabla_Regional[],3,0))","v":""},null,{"$f":"IF(E2030<>\"\",VLOOKUP(CONCATENATE(C2030,E2030),Dato!$A$4:$I$218,7,0),\"\")","v":""},null,""]
[null,null,null,{"$f":"IF(C2031=\"\",\"\",VLOOKUP(C2031,Tabla_Regional[],3,0))","v":""},null,{"$f":"IF(E2031<>\"\",VLOOKUP(CONCATENATE(C2031,E2031),Dato!$A$4:$I$218,7,0),\"\")","v":""},null,""]
[null,null,null,{"$f":"IF(C2032=\"\",\"\",VLOOKUP(C2032,Tabla_Regional[],3,0))","v":""},null,{"$f":"IF(E2032<>\"\",VLOOKUP(CONCATENATE(C2032,E2032),Dato!$A$4:$I$218,7,0),\"\")","v":""},null,""]
[null,null,null,{"$f":"IF(C2033=\"\",\"\",VLOOKUP(C2033,Tabla_Regional[],3,0))","v":""},null,{"$f":"IF(E2033<>\"\",VLOOKUP(CONCATENATE(C2033,E2033),Dato!$A$4:$I$218,7,0),\"\")","v":""},null,""]
[null,null,null,{"$f":"IF(C2034=\"\",\"\",VLOOKUP(C2034,Tabla_Regional[],3,0))","v":""},null,{"$f":"IF(E2034<>\"\",VLOOKUP(CONCATENATE(C2034,E2034),Dato!$A$4:$I$218,7,0),\"\")","v":""},null,""]
[null,null,null,{"$f":"IF(C2035=\"\",\"\",VLOOKUP(C2035,Tabla_Regional[],3,0))","v":""},null,{"$f":"IF(E2035<>\"\",VLOOKUP(CONCATENATE(C2035,E2035),Dato!$A$4:$I$218,7,0),\"\")","v":""},null,""]
[null,null,null,{"$f":"IF(C2036=\"\",\"\",VLOOKUP(C2036,Tabla_Regional[],3,0))","v":""},null,{"$f":"IF(E2036<>\"\",VLOOKUP(CONCATENATE(C2036,E2036),Dato!$A$4:$I$218,7,0),\"\")","v":""},null,""]
[null,null,null,{"$f":"IF(C2037=\"\",\"\",VLOOKUP(C2037,Tabla_Regional[],3,0))","v":""},null,{"$f":"IF(E2037<>\"\",VLOOKUP(CONCATENATE(C2037,E2037),Dato!$A$4:$I$218,7,0),\"\")","v":""},null,""]
[null,null,null,{"$f":"IF(C2038=\"\",\"\",VLOOKUP(C2038,Tabla_Regional[],3,0))","v":""},null,{"$f":"IF(E2038<>\"\",VLOOKUP(CONCATENATE(C2038,E2038),Dato!$A$4:$I$218,7,0),\"\")","v":""},null,""]
[null,null,null,{"$f":"IF(C2039=\"\",\"\",VLOOKUP(C2039,Tabla_Regional[],3,0))","v":""},null,{"$f":"IF(E2039<>\"\",VLOOKUP(CONCATENATE(C2039,E2039),Dato!$A$4:$I$218,7,0),\"\")","v":""},null,""]
[null,null,null,{"$f":"IF(C2040=\"\",\"\",VLOOKUP(C2040,Tabla_Regional[],3,0))","v":""},null,{"$f":"IF(E2040<>\"\",VLOOKUP(CONCATENATE(C2040,E2040),Dato!$A$4:$I$218,7,0),\"\")","v":""},null,""]
[null,null,null,{"$f":"IF(C2041=\"\",\"\",VLOOKUP(C2041,Tabla_Regional[],3,0))","v":""},null,{"$f":"IF(E2041<>\"\",VLOOKUP(CONCATENATE(C2041,E2041),Dato!$A$4:$I$218,7,0),\"\")","v":""},null,""]
[null,null,null,{"$f":"IF(C2042=\"\",\"\",VLOOKUP(C2042,Tabla_Regional[],3,0))","v":""},null,{"$f":"IF(E2042<>\"\",VLOOKUP(CONCATENATE(C2042,E2042),Dato!$A$4:$I$218,7,0),\"\")","v":""},null,""]
[null,null,null,{"$f":"IF(C2043=\"\",\"\",VLOOKUP(C2043,Tabla_Regional[],3,0))","v":""},null,{"$f":"IF(E2043<>\"\",VLOOKUP(CONCATENATE(C2043,E2043),Dato!$A$4:$I$218,7,0),\"\")","v":""},null,""]
[null,null,null,{"$f":"IF(C2044=\"\",\"\",VLOOKUP(C2044,Tabla_Regional[],3,0))","v":""},null,{"$f":"IF(E2044<>\"\",VLOOKUP(CONCATENATE(C2044,E2044),Dato!$A$4:$I$218,7,0),\"\")","v":""},null,""]
[null,null,null,{"$f":"IF(C2045=\"\",\"\",VLOOKUP(C2045,Tabla_Regional[],3,0))","v":""},null,{"$f":"IF(E2045<>\"\",VLOOKUP(CONCATENATE(C2045,E2045),Dato!$A$4:$I$218,7,0),\"\")","v":""},null,""]
[null,null,null,{"$f":"IF(C2046=\"\",\"\",VLOOKUP(C2046,Tabla_Regional[],3,0))","v":""},null,{"$f":"IF(E2046<>\"\",VLOOKUP(CONCATENATE(C2046,E2046),Dato!$A$4:$I$218,7,0),\"\")","v":""},null,""]
[null,null,null,{"$f":"IF(C2047=\"\",\"\",VLOOKUP(C2047,Tabla_Regional[],3,0))","v":""},null,{"$f":"IF(E2047<>\"\",VLOOKUP(CONCATENATE(C2047,E2047),Dato!$A$4:$I$218,7,0),\"\")","v":""},null,""]
[null,null,null,{"$f":"IF(C2048=\"\",\"\",VLOOKUP(C2048,Tabla_Regional[],3,0))","v":""},null,{"$f":"IF(E2048<>\"\",VLOOKUP(CONCATENATE(C2048,E2048),Dato!$A$4:$I$218,7,0),\"\")","v":""},null,""]
[null,null,null,{"$f":"IF(C2049=\"\",\"\",VLOOKUP(C2049,Tabla_Regional[],3,0))","v":""},null,{"$f":"IF(E2049<>\"\",VLOOKUP(CONCATENATE(C2049,E2049),Dato!$A$4:$I$218,7,0),\"\")","v":""},null,""]
[null,null,null,{"$f":"IF(C2050=\"\",\"\",VLOOKUP(C2050,Tabla_Regional[],3,0))","v":""},null,{"$f":"IF(E2050<>\"\",VLOOKUP(CONCATENATE(C2050,E2050),Dato!$A$4:$I$218,7,0),\"\")","v":""},null,""]
[null,null,null,{"$f":"IF(C2051=\"\",\"\",VLOOKUP(C2051,Tabla_Regional[],3,0))","v":""},null,{"$f":"IF(E2051<>\"\",VLOOKUP(CONCATENATE(C2051,E2051),Dato!$A$4:$I$218,7,0),\"\")","v":""},null,""]
[null,null,null,{"$f":"IF(C2052=\"\",\"\",VLOOKUP(C2052,Tabla_Regional[],3,0))","v":""},null,{"$f":"IF(E2052<>\"\",VLOOKUP(CONCATENATE(C2052,E2052),Dato!$A$4:$I$218,7,0),\"\")","v":""},null,""]
[null,null,null,{"$f":"IF(C2053=\"\",\"\",VLOOKUP(C2053,Tabla_Regional[],3,0))","v":""},null,{"$f":"IF(E2053<>\"\",VLOOKUP(CONCATENATE(C2053,E2053),Dato!$A$4:$I$218,7,0),\"\")","v":""},null,""]
[null,null,null,{"$f":"IF(C2054=\"\",\"\",VLOOKUP(C2054,Tabla_Regional[],3,0))","v":""},null,{"$f":"IF(E2054<>\"\",VLOOKUP(CONCATENATE(C2054,E2054),Dato!$A$4:$I$218,7,0),\"\")","v":""},null,""]
[null,null,null,{"$f":"IF(C2055=\"\",\"\",VLOOKUP(C2055,Tabla_Regional[],3,0))","v":""},null,{"$f":"IF(E2055<>\"\",VLOOKUP(CONCATENATE(C2055,E2055),Dato!$A$4:$I$218,7,0),\"\")","v":""},null,""]
[null,null,null,{"$f":"IF(C2056=\"\",\"\",VLOOKUP(C2056,Tabla_Regional[],3,0))","v":""},null,{"$f":"IF(E2056<>\"\",VLOOKUP(CONCATENATE(C2056,E2056),Dato!$A$4:$I$218,7,0),\"\")","v":""},null,""]
[null,null,null,{"$f":"IF(C2057=\"\",\"\",VLOOKUP(C2057,Tabla_Regional[],3,0))","v":""},null,{"$f":"IF(E2057<>\"\",VLOOKUP(CONCATENATE(C2057,E2057),Dato!$A$4:$I$218,7,0),\"\")","v":""},null,""]
[null,null,null,{"$f":"IF(C2058=\"\",\"\",VLOOKUP(C2058,Tabla_Regional[],3,0))","v":""},null,{"$f":"IF(E2058<>\"\",VLOOKUP(CONCATENATE(C2058,E2058),Dato!$A$4:$I$218,7,0),\"\")","v":""},null,""]
[null,null,null,{"$f":"IF(C2059=\"\",\"\",VLOOKUP(C2059,Tabla_Regional[],3,0))","v":""},null,{"$f":"IF(E2059<>\"\",VLOOKUP(CONCATENATE(C2059,E2059),Dato!$A$4:$I$218,7,0),\"\")","v":""},null,""]
[null,null,null,{"$f":"IF(C2060=\"\",\"\",VLOOKUP(C2060,Tabla_Regional[],3,0))","v":""},null,{"$f":"IF(E2060<>\"\",VLOOKUP(CONCATENATE(C2060,E2060),Dato!$A$4:$I$218,7,0),\"\")","v":""},null,{"$f":"IF(G2060<>\"\",VLOOKUP(CONCATENATE(C2060,E2060,G2060),czmuni,7,0),\"\")","v":""}]
[null,null,null,{"$f":"IF(C2061=\"\",\"\",VLOOKUP(C2061,Tabla_Regional[],3,0))","v":""},null,{"$f":"IF(E2061<>\"\",VLOOKUP(CONCATENATE(C2061,E2061),Dato!$A$4:$I$218,7,0),\"\")","v":""},null,""]
[null,null,null,{"$f":"IF(C2062=\"\",\"\",VLOOKUP(C2062,Tabla_Regional[],3,0))","v":""},null,{"$f":"IF(E2062<>\"\",VLOOKUP(CONCATENATE(C2062,E2062),Dato!$A$4:$I$218,7,0),\"\")","v":""},null,""]
[null,null,null,{"$f":"IF(C2063=\"\",\"\",VLOOKUP(C2063,Tabla_Regional[],3,0))","v":""},null,{"$f":"IF(E2063<>\"\",VLOOKUP(CONCATENATE(C2063,E2063),Dato!$A$4:$I$218,7,0),\"\")","v":""},null,""]
[null,null,null,{"$f":"IF(C2064=\"\",\"\",VLOOKUP(C2064,Tabla_Regional[],3,0))","v":""},null,{"$f":"IF(E2064<>\"\",VLOOKUP(CONCATENATE(C2064,E2064),Dato!$A$4:$I$218,7,0),\"\")","v":""},null,""]
[null,null,null,{"$f":"IF(C2065=\"\",\"\",VLOOKUP(C2065,Tabla_Regional[],3,0))","v":""},null,{"$f":"IF(E2065<>\"\",VLOOKUP(CONCATENATE(C2065,E2065),Dato!$A$4:$I$218,7,0),\"\")","v":""},null,""]
[null,null,null,{"$f":"IF(C2066=\"\",\"\",VLOOKUP(C2066,Tabla_Regional[],3,0))","v":""},null,{"$f":"IF(E2066<>\"\",VLOOKUP(CONCATENATE(C2066,E2066),Dato!$A$4:$I$218,7,0),\"\")","v":""},null,""]
[null,null,null,{"$f":"IF(C2067=\"\",\"\",VLOOKUP(C2067,Tabla_Regional[],3,0))","v":""},null,{"$f":"IF(E2067<>\"\",VLOOKUP(CONCATENATE(C2067,E2067),Dato!$A$4:$I$218,7,0),\"\")","v":""},null,""]
[null,null,null,{"$f":"IF(C2068=\"\",\"\",VLOOKUP(C2068,Tabla_Regional[],3,0))","v":""},null,{"$f":"IF(E2068<>\"\",VLOOKUP(CONCATENATE(C2068,E2068),Dato!$A$4:$I$218,7,0),\"\")","v":""},null,""]
[null,null,null,{"$f":"IF(C2069=\"\",\"\",VLOOKUP(C2069,Tabla_Regional[],3,0))","v":""},null,{"$f":"IF(E2069<>\"\",VLOOKUP(CONCATENATE(C2069,E2069),Dato!$A$4:$I$218,7,0),\"\")","v":""},null,""]
[null,null,null,{"$f":"IF(C2070=\"\",\"\",VLOOKUP(C2070,Tabla_Regional[],3,0))","v":""},null,{"$f":"IF(E2070<>\"\",VLOOKUP(CONCATENATE(C2070,E2070),Dato!$A$4:$I$218,7,0),\"\")","v":""},null,""]
[null,null,null,{"$f":"IF(C2071=\"\",\"\",VLOOKUP(C2071,Tabla_Regional[],3,0))","v":""},null,{"$f":"IF(E2071<>\"\",VLOOKUP(CONCATENATE(C2071,E2071),Dato!$A$4:$I$218,7,0),\"\")","v":""},null,""]
[null,null,null,{"$f":"IF(C2072=\"\",\"\",VLOOKUP(C2072,Tabla_Regional[],3,0))","v":""},null,{"$f":"IF(E2072<>\"\",VLOOKUP(CONCATENATE(C2072,E2072),Dato!$A$4:$I$218,7,0),\"\")","v":""},null,""]
[null,null,null,{"$f":"IF(C2073=\"\",\"\",VLOOKUP(C2073,Tabla_Regional[],3,0))","v":""},null,{"$f":"IF(E2073<>\"\",VLOOKUP(CONCATENATE(C2073,E2073),Dato!$A$4:$I$218,7,0),\"\")","v":""},null,""]
[null,null,null,{"$f":"IF(C2074=\"\",\"\",VLOOKUP(C2074,Tabla_Regional[],3,0))","v":""},null,{"$f":"IF(E2074<>\"\",VLOOKUP(CONCATENATE(C2074,E2074),Dato!$A$4:$I$218,7,0),\"\")","v":""},null,""]
[null,null,null,{"$f":"IF(C2075=\"\",\"\",VLOOKUP(C2075,Tabla_Regional[],3,0))","v":""},null,{"$f":"IF(E2075<>\"\",VLOOKUP(CONCATENATE(C2075,E2075),Dato!$A$4:$I$218,7,0),\"\")","v":""},null,""]
[null,null,null,{"$f":"IF(C2076=\"\",\"\",VLOOKUP(C2076,Tabla_Regional[],3,0))","v":""},null,{"$f":"IF(E2076<>\"\",VLOOKUP(CONCATENATE(C2076,E2076),Dato!$A$4:$I$218,7,0),\"\")","v":""},null,""]
[null,null,null,{"$f":"IF(C2077=\"\",\"\",VLOOKUP(C2077,Tabla_Regional[],3,0))","v":""},null,{"$f":"IF(E2077<>\"\",VLOOKUP(CONCATENATE(C2077,E2077),Dato!$A$4:$I$218,7,0),\"\")","v":""},null,""]
[null,null,null,{"$f":"IF(C2078=\"\",\"\",VLOOKUP(C2078,Tabla_Regional[],3,0))","v":""},null,{"$f":"IF(E2078<>\"\",VLOOKUP(CONCATENATE(C2078,E2078),Dato!$A$4:$I$218,7,0),\"\")","v":""},null,""]
[null,null,null,{"$f":"IF(C2079=\"\",\"\",VLOOKUP(C2079,Tabla_Regional[],3,0))","v":""},null,{"$f":"IF(E2079<>\"\",VLOOKUP(CONCATENATE(C2079,E2079),Dato!$A$4:$I$218,7,0),\"\")","v":""},null,""]
[null,null,null,{"$f":"IF(C2080=\"\",\"\",VLOOKUP(C2080,Tabla_Regional[],3,0))","v":""},null,{"$f":"IF(E2080<>\"\",VLOOKUP(CONCATENATE(C2080,E2080),Dato!$A$4:$I$218,7,0),\"\")","v":""},null,""]
[null,null,null,{"$f":"IF(C2081=\"\",\"\",VLOOKUP(C2081,Tabla_Regional[],3,0))","v":""},null,{"$f":"IF(E2081<>\"\",VLOOKUP(CONCATENATE(C2081,E2081),Dato!$A$4:$I$218,7,0),\"\")","v":""},null,""]
[null,null,null,{"$f":"IF(C2082=\"\",\"\",VLOOKUP(C2082,Tabla_Regional[],3,0))","v":""},null,{"$f":"IF(E2082<>\"\",VLOOKUP(CONCATENATE(C2082,E2082),Dato!$A$4:$I$218,7,0),\"\")","v":""},null,""]
[null,null,null,{"$f":"IF(C2083=\"\",\"\",VLOOKUP(C2083,Tabla_Regional[],3,0))","v":""},null,{"$f":"IF(E2083<>\"\",VLOOKUP(CONCATENATE(C2083,E2083),Dato!$A$4:$I$218,7,0),\"\")","v":""},null,""]
[null,null,null,{"$f":"IF(C2084=\"\",\"\",VLOOKUP(C2084,Tabla_Regional[],3,0))","v":""},null,{"$f":"IF(E2084<>\"\",VLOOKUP(CONCATENATE(C2084,E2084),Dato!$A$4:$I$218,7,0),\"\")","v":""},null,""]
[null,null,null,{"$f":"IF(C2085=\"\",\"\",VLOOKUP(C2085,Tabla_Regional[],3,0))","v":""},null,{"$f":"IF(E2085<>\"\",VLOOKUP(CONCATENATE(C2085,E2085),Dato!$A$4:$I$218,7,0),\"\")","v":""},null,""]
[null,null,null,{"$f":"IF(C2086=\"\",\"\",VLOOKUP(C2086,Tabla_Regional[],3,0))","v":""},null,{"$f":"IF(E2086<>\"\",VLOOKUP(CONCATENATE(C2086,E2086),Dato!$A$4:$I$218,7,0),\"\")","v":""},null,""]
[null,null,null,{"$f":"IF(C2087=\"\",\"\",VLOOKUP(C2087,Tabla_Regional[],3,0))","v":""},null,{"$f":"IF(E2087<>\"\",VLOOKUP(CONCATENATE(C2087,E2087),Dato!$A$4:$I$218,7,0),\"\")","v":""},null,""]
[null,null,null,{"$f":"IF(C2088=\"\",\"\",VLOOKUP(C2088,Tabla_Regional[],3,0))","v":""},null,{"$f":"IF(E2088<>\"\",VLOOKUP(CONCATENATE(C2088,E2088),Dato!$A$4:$I$218,7,0),\"\")","v":""},null,""]
[null,null,null,{"$f":"IF(C2089=\"\",\"\",VLOOKUP(C2089,Tabla_Regional[],3,0))","v":""},null,{"$f":"IF(E2089<>\"\",VLOOKUP(CONCATENATE(C2089,E2089),Dato!$A$4:$I$218,7,0),\"\")","v":""},null,""]
[null,null,null,{"$f":"IF(C2090=\"\",\"\",VLOOKUP(C2090,Tabla_Regional[],3,0))","v":""},null,{"$f":"IF(E2090<>\"\",VLOOKUP(CONCATENATE(C2090,E2090),Dato!$A$4:$I$218,7,0),\"\")","v":""},null,""]
[null,null,null,{"$f":"IF(C2091=\"\",\"\",VLOOKUP(C2091,Tabla_Regional[],3,0))","v":""},null,{"$f":"IF(E2091<>\"\",VLOOKUP(CONCATENATE(C2091,E2091),Dato!$A$4:$I$218,7,0),\"\")","v":""},null,""]
[null,null,null,{"$f":"IF(C2092=\"\",\"\",VLOOKUP(C2092,Tabla_Regional[],3,0))","v":""},null,{"$f":"IF(E2092<>\"\",VLOOKUP(CONCATENATE(C2092,E2092),Dato!$A$4:$I$218,7,0),\"\")","v":""},null,""]
[null,null,null,{"$f":"IF(C2093=\"\",\"\",VLOOKUP(C2093,Tabla_Regional[],3,0))","v":""},null,{"$f":"IF(E2093<>\"\",VLOOKUP(CONCATENATE(C2093,E2093),Dato!$A$4:$I$218,7,0),\"\")","v":""},null,""]
[null,null,null,{"$f":"IF(C2094=\"\",\"\",VLOOKUP(C2094,Tabla_Regional[],3,0))","v":""},null,{"$f":"IF(E2094<>\"\",VLOOKUP(CONCATENATE(C2094,E2094),Dato!$A$4:$I$218,7,0),\"\")","v":""},null,""]
[null,null,null,{"$f":"IF(C2095=\"\",\"\",VLOOKUP(C2095,Tabla_Regional[],3,0))","v":""},null,{"$f":"IF(E2095<>\"\",VLOOKUP(CONCATENATE(C2095,E2095),Dato!$A$4:$I$218,7,0),\"\")","v":""},null,""]
[null,null,null,{"$f":"IF(C2096=\"\",\"\",VLOOKUP(C2096,Tabla_Regional[],3,0))","v":""},null,{"$f":"IF(E2096<>\"\",VLOOKUP(CONCATENATE(C2096,E2096),Dato!$A$4:$I$218,7,0),\"\")","v":""},null,""]
[null,null,null,{"$f":"IF(C2097=\"\",\"\",VLOOKUP(C2097,Tabla_Regional[],3,0))","v":""},null,{"$f":"IF(E2097<>\"\",VLOOKUP(CONCATENATE(C2097,E2097),Dato!$A$4:$I$218,7,0),\"\")","v":""},null,""]
[null,null,null,{"$f":"IF(C2098=\"\",\"\",VLOOKUP(C2098,Tabla_Regional[],3,0))","v":""},null,{"$f":"IF(E2098<>\"\",VLOOKUP(CONCATENATE(C2098,E2098),Dato!$A$4:$I$218,7,0),\"\")","v":""},null,""]
[null,null,null,{"$f":"IF(C2099=\"\",\"\",VLOOKUP(C2099,Tabla_Regional[],3,0))","v":""},null,{"$f":"IF(E2099<>\"\",VLOOKUP(CONCATENATE(C2099,E2099),Dato!$A$4:$I$218,7,0),\"\")","v":""},null,""]
[null,null,null,{"$f":"IF(C2100=\"\",\"\",VLOOKUP(C2100,Tabla_Regional[],3,0))","v":""},null,{"$f":"IF(E2100<>\"\",VLOOKUP(CONCATENATE(C2100,E2100),Dato!$A$4:$I$218,7,0),\"\")","v":""},null,""]
[null,null,null,{"$f":"IF(C2101=\"\",\"\",VLOOKUP(C2101,Tabla_Regional[],3,0))","v":""},null,{"$f":"IF(E2101<>\"\",VLOOKUP(CONCATENATE(C2101,E2101),Dato!$A$4:$I$218,7,0),\"\")","v":""},null,""]
[null,null,null,{"$f":"IF(C2102=\"\",\"\",VLOOKUP(C2102,Tabla_Regional[],3,0))","v":""},null,{"$f":"IF(E2102<>\"\",VLOOKUP(CONCATENATE(C2102,E2102),Dato!$A$4:$I$218,7,0),\"\")","v":""},null,""]
[null,null,null,{"$f":"IF(C2103=\"\",\"\",VLOOKUP(C2103,Tabla_Regional[],3,0))","v":""},null,{"$f":"IF(E2103<>\"\",VLOOKUP(CONCATENATE(C2103,E2103),Dato!$A$4:$I$218,7,0),\"\")","v":""},null,""]
[null,null,null,{"$f":"IF(C2104=\"\",\"\",VLOOKUP(C2104,Tabla_Regional[],3,0))","v":""},null,{"$f":"IF(E2104<>\"\",VLOOKUP(CONCATENATE(C2104,E2104),Dato!$A$4:$I$218,7,0),\"\")","v":""},null,""]
[null,null,null,{"$f":"IF(C2105=\"\",\"\",VLOOKUP(C2105,Tabla_Regional[],3,0))","v":""},null,{"$f":"IF(E2105<>\"\",VLOOKUP(CONCATENATE(C2105,E2105),Dato!$A$4:$I$218,7,0),\"\")","v":""},null,""]
[null,null,null,{"$f":"IF(C2106=\"\",\"\",VLOOKUP(C2106,Tabla_Regional[],3,0))","v":""},null,{"$f":"IF(E2106<>\"\",VLOOKUP(CONCATENATE(C2106,E2106),Dato!$A$4:$I$218,7,0),\"\")","v":""},null,""]
[null,null,null,{"$f":"IF(C2107=\"\",\"\",VLOOKUP(C2107,Tabla_Regional[],3,0))","v":""},null,{"$f":"IF(E2107<>\"\",VLOOKUP(CONCATENATE(C2107,E2107),Dato!$A$4:$I$218,7,0),\"\")","v":""},null,""]
[null,null,null,{"$f":"IF(C2108=\"\",\"\",VLOOKUP(C2108,Tabla_Regional[],3,0))","v":""},null,{"$f":"IF(E2108<>\"\",VLOOKUP(CONCATENATE(C2108,E2108),Dato!$A$4:$I$218,7,0),\"\")","v":""},null,""]
[null,null,null,{"$f":"IF(C2109=\"\",\"\",VLOOKUP(C2109,Tabla_Regional[],3,0))","v":""},null,{"$f":"IF(E2109<>\"\",VLOOKUP(CONCATENATE(C2109,E2109),Dato!$A$4:$I$218,7,0),\"\")","v":""},null,""]
[null,null,null,{"$f":"IF(C2110=\"\",\"\",VLOOKUP(C2110,Tabla_Regional[],3,0))","v":""},null,{"$f":"IF(E2110<>\"\",VLOOKUP(CONCATENATE(C2110,E2110),Dato!$A$4:$I$218,7,0),\"\")","v":""},null,""]
[null,null,null,{"$f":"IF(C2111=\"\",\"\",VLOOKUP(C2111,Tabla_Regional[],3,0))","v":""},null,{"$f":"IF(E2111<>\"\",VLOOKUP(CONCATENATE(C2111,E2111),Dato!$A$4:$I$218,7,0),\"\")","v":""},null,""]
[null,null,null,{"$f":"IF(C2112=\"\",\"\",VLOOKUP(C2112,Tabla_Regional[],3,0))","v":""},null,{"$f":"IF(E2112<>\"\",VLOOKUP(CONCATENATE(C2112,E2112),Dato!$A$4:$I$218,7,0),\"\")","v":""},null,""]
[null,null,null,{"$f":"IF(C2113=\"\",\"\",VLOOKUP(C2113,Tabla_Regional[],3,0))","v":""},null,{"$f":"IF(E2113<>\"\",VLOOKUP(CONCATENATE(C2113,E2113),Dato!$A$4:$I$218,7,0),\"\")","v":""},null,""]
[null,null,null,{"$f":"IF(C2114=\"\",\"\",VLOOKUP(C2114,Tabla_Regional[],3,0))","v":""},null,{"$f":"IF(E2114<>\"\",VLOOKUP(CONCATENATE(C2114,E2114),Dato!$A$4:$I$218,7,0),\"\")","v":""},null,""]
[null,null,null,{"$f":"IF(C2115=\"\",\"\",VLOOKUP(C2115,Tabla_Regional[],3,0))","v":""},null,{"$f":"IF(E2115<>\"\",VLOOKUP(CONCATENATE(C2115,E2115),Dato!$A$4:$I$218,7,0),\"\")","v":""},null,""]
[null,null,null,{"$f":"IF(C2116=\"\",\"\",VLOOKUP(C2116,Tabla_Regional[],3,0))","v":""},null,{"$f":"IF(E2116<>\"\",VLOOKUP(CONCATENATE(C2116,E2116),Dato!$A$4:$I$218,7,0),\"\")","v":""},null,""]
[null,null,null,{"$f":"IF(C2117=\"\",\"\",VLOOKUP(C2117,Tabla_Regional[],3,0))","v":""},null,{"$f":"IF(E2117<>\"\",VLOOKUP(CONCATENATE(C2117,E2117),Dato!$A$4:$I$218,7,0),\"\")","v":""},null,""]
[null,null,null,{"$f":"IF(C2118=\"\",\"\",VLOOKUP(C2118,Tabla_Regional[],3,0))","v":""},null,{"$f":"IF(E2118<>\"\",VLOOKUP(CONCATENATE(C2118,E2118),Dato!$A$4:$I$218,7,0),\"\")","v":""},null,""]
[null,null,null,{"$f":"IF(C2119=\"\",\"\",VLOOKUP(C2119,Tabla_Regional[],3,0))","v":""},null,{"$f":"IF(E2119<>\"\",VLOOKUP(CONCATENATE(C2119,E2119),Dato!$A$4:$I$218,7,0),\"\")","v":""},null,""]
[null,null,null,{"$f":"IF(C2120=\"\",\"\",VLOOKUP(C2120,Tabla_Regional[],3,0))","v":""},null,{"$f":"IF(E2120<>\"\",VLOOKUP(CONCATENATE(C2120,E2120),Dato!$A$4:$I$218,7,0),\"\")","v":""},null,""]
[null,null,null,{"$f":"IF(C2121=\"\",\"\",VLOOKUP(C2121,Tabla_Regional[],3,0))","v":""},null,{"$f":"IF(E2121<>\"\",VLOOKUP(CONCATENATE(C2121,E2121),Dato!$A$4:$I$218,7,0),\"\")","v":""},null,""]
[null,null,null,{"$f":"IF(C2122=\"\",\"\",VLOOKUP(C2122,Tabla_Regional[],3,0))","v":""},null,{"$f":"IF(E2122<>\"\",VLOOKUP(CONCATENATE(C2122,E2122),Dato!$A$4:$I$218,7,0),\"\")","v":""},null,""]
[null,null,null,{"$f":"IF(C2123=\"\",\"\",VLOOKUP(C2123,Tabla_Regional[],3,0))","v":""},null,{"$f":"IF(E2123<>\"\",VLOOKUP(CONCATENATE(C2123,E2123),Dato!$A$4:$I$218,7,0),\"\")","v":""},null,""]
[null,null,null,{"$f":"IF(C2124=\"\",\"\",VLOOKUP(C2124,Tabla_Regional[],3,0))","v":""},null,{"$f":"IF(E2124<>\"\",VLOOKUP(CONCATENATE(C2124,E2124),Dato!$A$4:$I$218,7,0),\"\")","v":""},null,{"$f":"IF(G2124<>\"\",VLOOKUP(CONCATENATE(C2124,E2124,G2124),czmuni,7,0),\"\")","v":""}]
[null,null,null,{"$f":"IF(C2125=\"\",\"\",VLOOKUP(C2125,Tabla_Regional[],3,0))","v":""},null,{"$f":"IF(E2125<>\"\",VLOOKUP(CONCATENATE(C2125,E2125),Dato!$A$4:$I$218,7,0),\"\")","v":""},null,""]
[null,null,null,{"$f":"IF(C2126=\"\",\"\",VLOOKUP(C2126,Tabla_Regional[],3,0))","v":""},null,{"$f":"IF(E2126<>\"\",VLOOKUP(CONCATENATE(C2126,E2126),Dato!$A$4:$I$218,7,0),\"\")","v":""},null,""]
[null,null,null,{"$f":"IF(C2127=\"\",\"\",VLOOKUP(C2127,Tabla_Regional[],3,0))","v":""},null,{"$f":"IF(E2127<>\"\",VLOOKUP(CONCATENATE(C2127,E2127),Dato!$A$4:$I$218,7,0),\"\")","v":""},null,""]
[null,null,null,{"$f":"IF(C2128=\"\",\"\",VLOOKUP(C2128,Tabla_Regional[],3,0))","v":""},null,{"$f":"IF(E2128<>\"\",VLOOKUP(CONCATENATE(C2128,E2128),Dato!$A$4:$I$218,7,0),\"\")","v":""},null,""]
[null,null,null,{"$f":"IF(C2129=\"\",\"\",VLOOKUP(C2129,Tabla_Regional[],3,0))","v":""},null,{"$f":"IF(E2129<>\"\",VLOOKUP(CONCATENATE(C2129,E2129),Dato!$A$4:$I$218,7,0),\"\")","v":""},null,""]
[null,null,null,{"$f":"IF(C2130=\"\",\"\",VLOOKUP(C2130,Tabla_Regional[],3,0))","v":""},null,{"$f":"IF(E2130<>\"\",VLOOKUP(CONCATENATE(C2130,E2130),Dato!$A$4:$I$218,7,0),\"\")","v":""},null,""]
[null,null,null,{"$f":"IF(C2131=\"\",\"\",VLOOKUP(C2131,Tabla_Regional[],3,0))","v":""},null,{"$f":"IF(E2131<>\"\",VLOOKUP(CONCATENATE(C2131,E2131),Dato!$A$4:$I$218,7,0),\"\")","v":""},null,""]
[null,null,null,{"$f":"IF(C2132=\"\",\"\",VLOOKUP(C2132,Tabla_Regional[],3,0))","v":""},null,{"$f":"IF(E2132<>\"\",VLOOKUP(CONCATENATE(C2132,E2132),Dato!$A$4:$I$218,7,0),\"\")","v":""},null,""]
[null,null,null,{"$f":"IF(C2133=\"\",\"\",VLOOKUP(C2133,Tabla_Regional[],3,0))","v":""},null,{"$f":"IF(E2133<>\"\",VLOOKUP(CONCATENATE(C2133,E2133),Dato!$A$4:$I$218,7,0),\"\")","v":""},null,""]
[null,null,null,{"$f":"IF(C2134=\"\",\"\",VLOOKUP(C2134,Tabla_Regional[],3,0))","v":""},null,{"$f":"IF(E2134<>\"\",VLOOKUP(CONCATENATE(C2134,E2134),Dato!$A$4:$I$218,7,0),\"\")","v":""},null,""]
[null,null,null,{"$f":"IF(C2135=\"\",\"\",VLOOKUP(C2135,Tabla_Regional[],3,0))","v":""},null,{"$f":"IF(E2135<>\"\",VLOOKUP(CONCATENATE(C2135,E2135),Dato!$A$4:$I$218,7,0),\"\")","v":""},null,""]
[null,null,null,{"$f":"IF(C2136=\"\",\"\",VLOOKUP(C2136,Tabla_Regional[],3,0))","v":""},null,{"$f":"IF(E2136<>\"\",VLOOKUP(CONCATENATE(C2136,E2136),Dato!$A$4:$I$218,7,0),\"\")","v":""},null,""]
[null,null,null,{"$f":"IF(C2137=\"\",\"\",VLOOKUP(C2137,Tabla_Regional[],3,0))","v":""},null,{"$f":"IF(E2137<>\"\",VLOOKUP(CONCATENATE(C2137,E2137),Dato!$A$4:$I$218,7,0),\"\")","v":""},null,""]
[null,null,null,{"$f":"IF(C2138=\"\",\"\",VLOOKUP(C2138,Tabla_Regional[],3,0))","v":""},null,{"$f":"IF(E2138<>\"\",VLOOKUP(CONCATENATE(C2138,E2138),Dato!$A$4:$I$218,7,0),\"\")","v":""},null,""]
[null,null,null,{"$f":"IF(C2139=\"\",\"\",VLOOKUP(C2139,Tabla_Regional[],3,0))","v":""},null,{"$f":"IF(E2139<>\"\",VLOOKUP(CONCATENATE(C2139,E2139),Dato!$A$4:$I$218,7,0),\"\")","v":""},null,""]
[null,null,null,{"$f":"IF(C2140=\"\",\"\",VLOOKUP(C2140,Tabla_Regional[],3,0))","v":""},null,{"$f":"IF(E2140<>\"\",VLOOKUP(CONCATENATE(C2140,E2140),Dato!$A$4:$I$218,7,0),\"\")","v":""},null,""]
[null,null,null,{"$f":"IF(C2141=\"\",\"\",VLOOKUP(C2141,Tabla_Regional[],3,0))","v":""},null,{"$f":"IF(E2141<>\"\",VLOOKUP(CONCATENATE(C2141,E2141),Dato!$A$4:$I$218,7,0),\"\")","v":""},null,""]
[null,null,null,{"$f":"IF(C2142=\"\",\"\",VLOOKUP(C2142,Tabla_Regional[],3,0))","v":""},null,{"$f":"IF(E2142<>\"\",VLOOKUP(CONCATENATE(C2142,E2142),Dato!$A$4:$I$218,7,0),\"\")","v":""},null,""]
[null,null,null,{"$f":"IF(C2143=\"\",\"\",VLOOKUP(C2143,Tabla_Regional[],3,0))","v":""},null,{"$f":"IF(E2143<>\"\",VLOOKUP(CONCATENATE(C2143,E2143),Dato!$A$4:$I$218,7,0),\"\")","v":""},null,""]
[null,null,null,{"$f":"IF(C2144=\"\",\"\",VLOOKUP(C2144,Tabla_Regional[],3,0))","v":""},null,{"$f":"IF(E2144<>\"\",VLOOKUP(CONCATENATE(C2144,E2144),Dato!$A$4:$I$218,7,0),\"\")","v":""},null,""]
[null,null,null,{"$f":"IF(C2145=\"\",\"\",VLOOKUP(C2145,Tabla_Regional[],3,0))","v":""},null,{"$f":"IF(E2145<>\"\",VLOOKUP(CONCATENATE(C2145,E2145),Dato!$A$4:$I$218,7,0),\"\")","v":""},null,""]
[null,null,null,{"$f":"IF(C2146=\"\",\"\",VLOOKUP(C2146,Tabla_Regional[],3,0))","v":""},null,{"$f":"IF(E2146<>\"\",VLOOKUP(CONCATENATE(C2146,E2146),Dato!$A$4:$I$218,7,0),\"\")","v":""},null,""]
[null,null,null,{"$f":"IF(C2147=\"\",\"\",VLOOKUP(C2147,Tabla_Regional[],3,0))","v":""},null,{"$f":"IF(E2147<>\"\",VLOOKUP(CONCATENATE(C2147,E2147),Dato!$A$4:$I$218,7,0),\"\")","v":""},null,""]
[null,null,null,{"$f":"IF(C2148=\"\",\"\",VLOOKUP(C2148,Tabla_Regional[],3,0))","v":""},null,{"$f":"IF(E2148<>\"\",VLOOKUP(CONCATENATE(C2148,E2148),Dato!$A$4:$I$218,7,0),\"\")","v":""},null,""]
[null,null,null,{"$f":"IF(C2149=\"\",\"\",VLOOKUP(C2149,Tabla_Regional[],3,0))","v":""},null,{"$f":"IF(E2149<>\"\",VLOOKUP(CONCATENATE(C2149,E2149),Dato!$A$4:$I$218,7,0),\"\")","v":""},null,""]
[null,null,null,{"$f":"IF(C2150=\"\",\"\",VLOOKUP(C2150,Tabla_Regional[],3,0))","v":""},null,{"$f":"IF(E2150<>\"\",VLOOKUP(CONCATENATE(C2150,E2150),Dato!$A$4:$I$218,7,0),\"\")","v":""},null,""]
[null,null,null,{"$f":"IF(C2151=\"\",\"\",VLOOKUP(C2151,Tabla_Regional[],3,0))","v":""},null,{"$f":"IF(E2151<>\"\",VLOOKUP(CONCATENATE(C2151,E2151),Dato!$A$4:$I$218,7,0),\"\")","v":""},null,""]
[null,null,null,{"$f":"IF(C2152=\"\",\"\",VLOOKUP(C2152,Tabla_Regional[],3,0))","v":""},null,{"$f":"IF(E2152<>\"\",VLOOKUP(CONCATENATE(C2152,E2152),Dato!$A$4:$I$218,7,0),\"\")","v":""},null,""]
[null,null,null,{"$f":"IF(C2153=\"\",\"\",VLOOKUP(C2153,Tabla_Regional[],3,0))","v":""},null,{"$f":"IF(E2153<>\"\",VLOOKUP(CONCATENATE(C2153,E2153),Dato!$A$4:$I$218,7,0),\"\")","v":""},null,""]
[null,null,null,{"$f":"IF(C2154=\"\",\"\",VLOOKUP(C2154,Tabla_Regional[],3,0))","v":""},null,{"$f":"IF(E2154<>\"\",VLOOKUP(CONCATENATE(C2154,E2154),Dato!$A$4:$I$218,7,0),\"\")","v":""},null,""]
[null,null,null,{"$f":"IF(C2155=\"\",\"\",VLOOKUP(C2155,Tabla_Regional[],3,0))","v":""},null,{"$f":"IF(E2155<>\"\",VLOOKUP(CONCATENATE(C2155,E2155),Dato!$A$4:$I$218,7,0),\"\")","v":""},null,""]
[null,null,null,{"$f":"IF(C2156=\"\",\"\",VLOOKUP(C2156,Tabla_Regional[],3,0))","v":""},null,{"$f":"IF(E2156<>\"\",VLOOKUP(CONCATENATE(C2156,E2156),Dato!$A$4:$I$218,7,0),\"\")","v":""},null,""]
[null,null,null,{"$f":"IF(C2157=\"\",\"\",VLOOKUP(C2157,Tabla_Regional[],3,0))","v":""},null,{"$f":"IF(E2157<>\"\",VLOOKUP(CONCATENATE(C2157,E2157),Dato!$A$4:$I$218,7,0),\"\")","v":""},null,""]
[null,null,null,{"$f":"IF(C2158=\"\",\"\",VLOOKUP(C2158,Tabla_Regional[],3,0))","v":""},null,{"$f":"IF(E2158<>\"\",VLOOKUP(CONCATENATE(C2158,E2158),Dato!$A$4:$I$218,7,0),\"\")","v":""},null,""]
[null,null,null,{"$f":"IF(C2159=\"\",\"\",VLOOKUP(C2159,Tabla_Regional[],3,0))","v":""},null,{"$f":"IF(E2159<>\"\",VLOOKUP(CONCATENATE(C2159,E2159),Dato!$A$4:$I$218,7,0),\"\")","v":""},null,""]
[null,null,null,{"$f":"IF(C2160=\"\",\"\",VLOOKUP(C2160,Tabla_Regional[],3,0))","v":""},null,{"$f":"IF(E2160<>\"\",VLOOKUP(CONCATENATE(C2160,E2160),Dato!$A$4:$I$218,7,0),\"\")","v":""},null,""]
[null,null,null,{"$f":"IF(C2161=\"\",\"\",VLOOKUP(C2161,Tabla_Regional[],3,0))","v":""},null,{"$f":"IF(E2161<>\"\",VLOOKUP(CONCATENATE(C2161,E2161),Dato!$A$4:$I$218,7,0),\"\")","v":""},null,""]
[null,null,null,{"$f":"IF(C2162=\"\",\"\",VLOOKUP(C2162,Tabla_Regional[],3,0))","v":""},null,{"$f":"IF(E2162<>\"\",VLOOKUP(CONCATENATE(C2162,E2162),Dato!$A$4:$I$218,7,0),\"\")","v":""},null,""]
[null,null,null,{"$f":"IF(C2163=\"\",\"\",VLOOKUP(C2163,Tabla_Regional[],3,0))","v":""},null,{"$f":"IF(E2163<>\"\",VLOOKUP(CONCATENATE(C2163,E2163),Dato!$A$4:$I$218,7,0),\"\")","v":""},null,""]
[null,null,null,{"$f":"IF(C2164=\"\",\"\",VLOOKUP(C2164,Tabla_Regional[],3,0))","v":""},null,{"$f":"IF(E2164<>\"\",VLOOKUP(CONCATENATE(C2164,E2164),Dato!$A$4:$I$218,7,0),\"\")","v":""},null,""]
[null,null,null,{"$f":"IF(C2165=\"\",\"\",VLOOKUP(C2165,Tabla_Regional[],3,0))","v":""},null,{"$f":"IF(E2165<>\"\",VLOOKUP(CONCATENATE(C2165,E2165),Dato!$A$4:$I$218,7,0),\"\")","v":""},null,""]
[null,null,null,{"$f":"IF(C2166=\"\",\"\",VLOOKUP(C2166,Tabla_Regional[],3,0))","v":""},null,{"$f":"IF(E2166<>\"\",VLOOKUP(CONCATENATE(C2166,E2166),Dato!$A$4:$I$218,7,0),\"\")","v":""},null,""]
[null,null,null,{"$f":"IF(C2167=\"\",\"\",VLOOKUP(C2167,Tabla_Regional[],3,0))","v":""},null,{"$f":"IF(E2167<>\"\",VLOOKUP(CONCATENATE(C2167,E2167),Dato!$A$4:$I$218,7,0),\"\")","v":""},null,""]
[null,null,null,{"$f":"IF(C2168=\"\",\"\",VLOOKUP(C2168,Tabla_Regional[],3,0))","v":""},null,{"$f":"IF(E2168<>\"\",VLOOKUP(CONCATENATE(C2168,E2168),Dato!$A$4:$I$218,7,0),\"\")","v":""},null,""]
[null,null,null,{"$f":"IF(C2169=\"\",\"\",VLOOKUP(C2169,Tabla_Regional[],3,0))","v":""},null,{"$f":"IF(E2169<>\"\",VLOOKUP(CONCATENATE(C2169,E2169),Dato!$A$4:$I$218,7,0),\"\")","v":""},null,""]
[null,null,null,{"$f":"IF(C2170=\"\",\"\",VLOOKUP(C2170,Tabla_Regional[],3,0))","v":""},null,{"$f":"IF(E2170<>\"\",VLOOKUP(CONCATENATE(C2170,E2170),Dato!$A$4:$I$218,7,0),\"\")","v":""},null,""]
[null,null,null,{"$f":"IF(C2171=\"\",\"\",VLOOKUP(C2171,Tabla_Regional[],3,0))","v":""},null,{"$f":"IF(E2171<>\"\",VLOOKUP(CONCATENATE(C2171,E2171),Dato!$A$4:$I$218,7,0),\"\")","v":""},null,""]
[null,null,null,{"$f":"IF(C2172=\"\",\"\",VLOOKUP(C2172,Tabla_Regional[],3,0))","v":""},null,{"$f":"IF(E2172<>\"\",VLOOKUP(CONCATENATE(C2172,E2172),Dato!$A$4:$I$218,7,0),\"\")","v":""},null,""]
[null,null,null,{"$f":"IF(C2173=\"\",\"\",VLOOKUP(C2173,Tabla_Regional[],3,0))","v":""},null,{"$f":"IF(E2173<>\"\",VLOOKUP(CONCATENATE(C2173,E2173),Dato!$A$4:$I$218,7,0),\"\")","v":""},null,""]
[null,null,null,{"$f":"IF(C2174=\"\",\"\",VLOOKUP(C2174,Tabla_Regional[],3,0))","v":""},null,{"$f":"IF(E2174<>\"\",VLOOKUP(CONCATENATE(C2174,E2174),Dato!$A$4:$I$218,7,0),\"\")","v":""},null,""]
[null,null,null,{"$f":"IF(C2175=\"\",\"\",VLOOKUP(C2175,Tabla_Regional[],3,0))","v":""},null,{"$f":"IF(E2175<>\"\",VLOOKUP(CONCATENATE(C2175,E2175),Dato!$A$4:$I$218,7,0),\"\")","v":""},null,""]
[null,null,null,{"$f":"IF(C2176=\"\",\"\",VLOOKUP(C2176,Tabla_Regional[],3,0))","v":""},null,{"$f":"IF(E2176<>\"\",VLOOKUP(CONCATENATE(C2176,E2176),Dato!$A$4:$I$218,7,0),\"\")","v":""},null,""]
[null,null,null,{"$f":"IF(C2177=\"\",\"\",VLOOKUP(C2177,Tabla_Regional[],3,0))","v":""},null,{"$f":"IF(E2177<>\"\",VLOOKUP(CONCATENATE(C2177,E2177),Dato!$A$4:$I$218,7,0),\"\")","v":""},null,""]
[null,null,null,{"$f":"IF(C2178=\"\",\"\",VLOOKUP(C2178,Tabla_Regional[],3,0))","v":""},null,{"$f":"IF(E2178<>\"\",VLOOKUP(CONCATENATE(C2178,E2178),Dato!$A$4:$I$218,7,0),\"\")","v":""},null,""]
[null,null,null,{"$f":"IF(C2179=\"\",\"\",VLOOKUP(C2179,Tabla_Regional[],3,0))","v":""},null,{"$f":"IF(E2179<>\"\",VLOOKUP(CONCATENATE(C2179,E2179),Dato!$A$4:$I$218,7,0),\"\")","v":""},null,""]
[null,null,null,{"$f":"IF(C2180=\"\",\"\",VLOOKUP(C2180,Tabla_Regional[],3,0))","v":""},null,{"$f":"IF(E2180<>\"\",VLOOKUP(CONCATENATE(C2180,E2180),Dato!$A$4:$I$218,7,0),\"\")","v":""},null,""]
[null,null,null,{"$f":"IF(C2181=\"\",\"\",VLOOKUP(C2181,Tabla_Regional[],3,0))","v":""},null,{"$f":"IF(E2181<>\"\",VLOOKUP(CONCATENATE(C2181,E2181),Dato!$A$4:$I$218,7,0),\"\")","v":""},null,""]
[null,null,null,{"$f":"IF(C2182=\"\",\"\",VLOOKUP(C2182,Tabla_Regional[],3,0))","v":""},null,{"$f":"IF(E2182<>\"\",VLOOKUP(CONCATENATE(C2182,E2182),Dato!$A$4:$I$218,7,0),\"\")","v":""},null,""]
[null,null,null,{"$f":"IF(C2183=\"\",\"\",VLOOKUP(C2183,Tabla_Regional[],3,0))","v":""},null,{"$f":"IF(E2183<>\"\",VLOOKUP(CONCATENATE(C2183,E2183),Dato!$A$4:$I$218,7,0),\"\")","v":""},null,""]
[null,null,null,{"$f":"IF(C2184=\"\",\"\",VLOOKUP(C2184,Tabla_Regional[],3,0))","v":""},null,{"$f":"IF(E2184<>\"\",VLOOKUP(CONCATENATE(C2184,E2184),Dato!$A$4:$I$218,7,0),\"\")","v":""},null,""]
[null,null,null,{"$f":"IF(C2185=\"\",\"\",VLOOKUP(C2185,Tabla_Regional[],3,0))","v":""},null,{"$f":"IF(E2185<>\"\",VLOOKUP(CONCATENATE(C2185,E2185),Dato!$A$4:$I$218,7,0),\"\")","v":""},null,""]
[null,null,null,{"$f":"IF(C2186=\"\",\"\",VLOOKUP(C2186,Tabla_Regional[],3,0))","v":""},null,{"$f":"IF(E2186<>\"\",VLOOKUP(CONCATENATE(C2186,E2186),Dato!$A$4:$I$218,7,0),\"\")","v":""},null,""]
[null,null,null,{"$f":"IF(C2187=\"\",\"\",VLOOKUP(C2187,Tabla_Regional[],3,0))","v":""},null,{"$f":"IF(E2187<>\"\",VLOOKUP(CONCATENATE(C2187,E2187),Dato!$A$4:$I$218,7,0),\"\")","v":""},null,""]
[null,null,null,{"$f":"IF(C2188=\"\",\"\",VLOOKUP(C2188,Tabla_Regional[],3,0))","v":""},null,{"$f":"IF(E2188<>\"\",VLOOKUP(CONCATENATE(C2188,E2188),Dato!$A$4:$I$218,7,0),\"\")","v":""},null,{"$f":"IF(G2188<>\"\",VLOOKUP(CONCATENATE(C2188,E2188,G2188),czmuni,7,0),\"\")","v":""}]
[null,null,null,{"$f":"IF(C2189=\"\",\"\",VLOOKUP(C2189,Tabla_Regional[],3,0))","v":""},null,{"$f":"IF(E2189<>\"\",VLOOKUP(CONCATENATE(C2189,E2189),Dato!$A$4:$I$218,7,0),\"\")","v":""},null,""]
[null,null,null,{"$f":"IF(C2190=\"\",\"\",VLOOKUP(C2190,Tabla_Regional[],3,0))","v":""},null,{"$f":"IF(E2190<>\"\",VLOOKUP(CONCATENATE(C2190,E2190),Dato!$A$4:$I$218,7,0),\"\")","v":""},null,""]
[null,null,null,{"$f":"IF(C2191=\"\",\"\",VLOOKUP(C2191,Tabla_Regional[],3,0))","v":""},null,{"$f":"IF(E2191<>\"\",VLOOKUP(CONCATENATE(C2191,E2191),Dato!$A$4:$I$218,7,0),\"\")","v":""},null,""]
[null,null,null,{"$f":"IF(C2192=\"\",\"\",VLOOKUP(C2192,Tabla_Regional[],3,0))","v":""},null,{"$f":"IF(E2192<>\"\",VLOOKUP(CONCATENATE(C2192,E2192),Dato!$A$4:$I$218,7,0),\"\")","v":""},null,""]
[null,null,null,{"$f":"IF(C2193=\"\",\"\",VLOOKUP(C2193,Tabla_Regional[],3,0))","v":""},null,{"$f":"IF(E2193<>\"\",VLOOKUP(CONCATENATE(C2193,E2193),Dato!$A$4:$I$218,7,0),\"\")","v":""},null,""]
[null,null,null,{"$f":"IF(C2194=\"\",\"\",VLOOKUP(C2194,Tabla_Regional[],3,0))","v":""},null,{"$f":"IF(E2194<>\"\",VLOOKUP(CONCATENATE(C2194,E2194),Dato!$A$4:$I$218,7,0),\"\")","v":""},null,""]
[null,null,null,{"$f":"IF(C2195=\"\",\"\",VLOOKUP(C2195,Tabla_Regional[],3,0))","v":""},null,{"$f":"IF(E2195<>\"\",VLOOKUP(CONCATENATE(C2195,E2195),Dato!$A$4:$I$218,7,0),\"\")","v":""},null,""]
[null,null,null,{"$f":"IF(C2196=\"\",\"\",VLOOKUP(C2196,Tabla_Regional[],3,0))","v":""},null,{"$f":"IF(E2196<>\"\",VLOOKUP(CONCATENATE(C2196,E2196),Dato!$A$4:$I$218,7,0),\"\")","v":""},null,""]
[null,null,null,{"$f":"IF(C2197=\"\",\"\",VLOOKUP(C2197,Tabla_Regional[],3,0))","v":""},null,{"$f":"IF(E2197<>\"\",VLOOKUP(CONCATENATE(C2197,E2197),Dato!$A$4:$I$218,7,0),\"\")","v":""},null,""]
[null,null,null,{"$f":"IF(C2198=\"\",\"\",VLOOKUP(C2198,Tabla_Regional[],3,0))","v":""},null,{"$f":"IF(E2198<>\"\",VLOOKUP(CONCATENATE(C2198,E2198),Dato!$A$4:$I$218,7,0),\"\")","v":""},null,""]
[null,null,null,{"$f":"IF(C2199=\"\",\"\",VLOOKUP(C2199,Tabla_Regional[],3,0))","v":""},null,{"$f":"IF(E2199<>\"\",VLOOKUP(CONCATENATE(C2199,E2199),Dato!$A$4:$I$218,7,0),\"\")","v":""},null,""]
[null,null,null,{"$f":"IF(C2200=\"\",\"\",VLOOKUP(C2200,Tabla_Regional[],3,0))","v":""},null,{"$f":"IF(E2200<>\"\",VLOOKUP(CONCATENATE(C2200,E2200),Dato!$A$4:$I$218,7,0),\"\")","v":""},null,""]
[null,null,null,{"$f":"IF(C2201=\"\",\"\",VLOOKUP(C2201,Tabla_Regional[],3,0))","v":""},null,{"$f":"IF(E2201<>\"\",VLOOKUP(CONCATENATE(C2201,E2201),Dato!$A$4:$I$218,7,0),\"\")","v":""},null,""]
[null,null,null,{"$f":"IF(C2202=\"\",\"\",VLOOKUP(C2202,Tabla_Regional[],3,0))","v":""},null,{"$f":"IF(E2202<>\"\",VLOOKUP(CONCATENATE(C2202,E2202),Dato!$A$4:$I$218,7,0),\"\")","v":""},null,""]
[null,null,null,{"$f":"IF(C2203=\"\",\"\",VLOOKUP(C2203,Tabla_Regional[],3,0))","v":""},null,{"$f":"IF(E2203<>\"\",VLOOKUP(CONCATENATE(C2203,E2203),Dato!$A$4:$I$218,7,0),\"\")","v":""},null,""]
[null,null,null,{"$f":"IF(C2204=\"\",\"\",VLOOKUP(C2204,Tabla_Regional[],3,0))","v":""},null,{"$f":"IF(E2204<>\"\",VLOOKUP(CONCATENATE(C2204,E2204),Dato!$A$4:$I$218,7,0),\"\")","v":""},null,""]
[null,null,null,{"$f":"IF(C2205=\"\",\"\",VLOOKUP(C2205,Tabla_Regional[],3,0))","v":""},null,{"$f":"IF(E2205<>\"\",VLOOKUP(CONCATENATE(C2205,E2205),Dato!$A$4:$I$218,7,0),\"\")","v":""},null,""]
[null,null,null,{"$f":"IF(C2206=\"\",\"\",VLOOKUP(C2206,Tabla_Regional[],3,0))","v":""},null,{"$f":"IF(E2206<>\"\",VLOOKUP(CONCATENATE(C2206,E2206),Dato!$A$4:$I$218,7,0),\"\")","v":""},null,""]
[null,null,null,{"$f":"IF(C2207=\"\",\"\",VLOOKUP(C2207,Tabla_Regional[],3,0))","v":""},null,{"$f":"IF(E2207<>\"\",VLOOKUP(CONCATENATE(C2207,E2207),Dato!$A$4:$I$218,7,0),\"\")","v":""},null,""]
[null,null,null,{"$f":"IF(C2208=\"\",\"\",VLOOKUP(C2208,Tabla_Regional[],3,0))","v":""},null,{"$f":"IF(E2208<>\"\",VLOOKUP(CONCATENATE(C2208,E2208),Dato!$A$4:$I$218,7,0),\"\")","v":""},null,""]
[null,null,null,{"$f":"IF(C2209=\"\",\"\",VLOOKUP(C2209,Tabla_Regional[],3,0))","v":""},null,{"$f":"IF(E2209<>\"\",VLOOKUP(CONCATENATE(C2209,E2209),Dato!$A$4:$I$218,7,0),\"\")","v":""},null,""]
[null,null,null,{"$f":"IF(C2210=\"\",\"\",VLOOKUP(C2210,Tabla_Regional[],3,0))","v":""},null,{"$f":"IF(E2210<>\"\",VLOOKUP(CONCATENATE(C2210,E2210),Dato!$A$4:$I$218,7,0),\"\")","v":""},null,""]
[null,null,null,{"$f":"IF(C2211=\"\",\"\",VLOOKUP(C2211,Tabla_Regional[],3,0))","v":""},null,{"$f":"IF(E2211<>\"\",VLOOKUP(CONCATENATE(C2211,E2211),Dato!$A$4:$I$218,7,0),\"\")","v":""},null,""]
[null,null,null,{"$f":"IF(C2212=\"\",\"\",VLOOKUP(C2212,Tabla_Regional[],3,0))","v":""},null,{"$f":"IF(E2212<>\"\",VLOOKUP(CONCATENATE(C2212,E2212),Dato!$A$4:$I$218,7,0),\"\")","v":""},null,""]
[null,null,null,{"$f":"IF(C2213=\"\",\"\",VLOOKUP(C2213,Tabla_Regional[],3,0))","v":""},null,{"$f":"IF(E2213<>\"\",VLOOKUP(CONCATENATE(C2213,E2213),Dato!$A$4:$I$218,7,0),\"\")","v":""},null,""]
[null,null,null,{"$f":"IF(C2214=\"\",\"\",VLOOKUP(C2214,Tabla_Regional[],3,0))","v":""},null,{"$f":"IF(E2214<>\"\",VLOOKUP(CONCATENATE(C2214,E2214),Dato!$A$4:$I$218,7,0),\"\")","v":""},null,""]
[null,null,null,{"$f":"IF(C2215=\"\",\"\",VLOOKUP(C2215,Tabla_Regional[],3,0))","v":""},null,{"$f":"IF(E2215<>\"\",VLOOKUP(CONCATENATE(C2215,E2215),Dato!$A$4:$I$218,7,0),\"\")","v":""},null,""]
[null,null,null,{"$f":"IF(C2216=\"\",\"\",VLOOKUP(C2216,Tabla_Regional[],3,0))","v":""},null,{"$f":"IF(E2216<>\"\",VLOOKUP(CONCATENATE(C2216,E2216),Dato!$A$4:$I$218,7,0),\"\")","v":""},null,""]
[null,null,null,{"$f":"IF(C2217=\"\",\"\",VLOOKUP(C2217,Tabla_Regional[],3,0))","v":""},null,{"$f":"IF(E2217<>\"\",VLOOKUP(CONCATENATE(C2217,E2217),Dato!$A$4:$I$218,7,0),\"\")","v":""},null,""]
[null,null,null,{"$f":"IF(C2218=\"\",\"\",VLOOKUP(C2218,Tabla_Regional[],3,0))","v":""},null,{"$f":"IF(E2218<>\"\",VLOOKUP(CONCATENATE(C2218,E2218),Dato!$A$4:$I$218,7,0),\"\")","v":""},null,""]
[null,null,null,{"$f":"IF(C2219=\"\",\"\",VLOOKUP(C2219,Tabla_Regional[],3,0))","v":""},null,{"$f":"IF(E2219<>\"\",VLOOKUP(CONCATENATE(C2219,E2219),Dato!$A$4:$I$218,7,0),\"\")","v":""},null,""]
[null,null,null,{"$f":"IF(C2220=\"\",\"\",VLOOKUP(C2220,Tabla_Regional[],3,0))","v":""},null,{"$f":"IF(E2220<>\"\",VLOOKUP(CONCATENATE(C2220,E2220),Dato!$A$4:$I$218,7,0),\"\")","v":""},null,""]
[null,null,null,{"$f":"IF(C2221=\"\",\"\",VLOOKUP(C2221,Tabla_Regional[],3,0))","v":""},null,{"$f":"IF(E2221<>\"\",VLOOKUP(CONCATENATE(C2221,E2221),Dato!$A$4:$I$218,7,0),\"\")","v":""},null,""]
[null,null,null,{"$f":"IF(C2222=\"\",\"\",VLOOKUP(C2222,Tabla_Regional[],3,0))","v":""},null,{"$f":"IF(E2222<>\"\",VLOOKUP(CONCATENATE(C2222,E2222),Dato!$A$4:$I$218,7,0),\"\")","v":""},null,""]
[null,null,null,{"$f":"IF(C2223=\"\",\"\",VLOOKUP(C2223,Tabla_Regional[],3,0))","v":""},null,{"$f":"IF(E2223<>\"\",VLOOKUP(CONCATENATE(C2223,E2223),Dato!$A$4:$I$218,7,0),\"\")","v":""},null,""]
[null,null,null,{"$f":"IF(C2224=\"\",\"\",VLOOKUP(C2224,Tabla_Regional[],3,0))","v":""},null,{"$f":"IF(E2224<>\"\",VLOOKUP(CONCATENATE(C2224,E2224),Dato!$A$4:$I$218,7,0),\"\")","v":""},null,""]
[null,null,null,{"$f":"IF(C2225=\"\",\"\",VLOOKUP(C2225,Tabla_Regional[],3,0))","v":""},null,{"$f":"IF(E2225<>\"\",VLOOKUP(CONCATENATE(C2225,E2225),Dato!$A$4:$I$218,7,0),\"\")","v":""},null,""]
[null,null,null,{"$f":"IF(C2226=\"\",\"\",VLOOKUP(C2226,Tabla_Regional[],3,0))","v":""},null,{"$f":"IF(E2226<>\"\",VLOOKUP(CONCATENATE(C2226,E2226),Dato!$A$4:$I$218,7,0),\"\")","v":""},null,""]
[null,null,null,{"$f":"IF(C2227=\"\",\"\",VLOOKUP(C2227,Tabla_Regional[],3,0))","v":""},null,{"$f":"IF(E2227<>\"\",VLOOKUP(CONCATENATE(C2227,E2227),Dato!$A$4:$I$218,7,0),\"\")","v":""},null,""]
[null,null,null,{"$f":"IF(C2228=\"\",\"\",VLOOKUP(C2228,Tabla_Regional[],3,0))","v":""},null,{"$f":"IF(E2228<>\"\",VLOOKUP(CONCATENATE(C2228,E2228),Dato!$A$4:$I$218,7,0),\"\")","v":""},null,""]
[null,null,null,{"$f":"IF(C2229=\"\",\"\",VLOOKUP(C2229,Tabla_Regional[],3,0))","v":""},null,{"$f":"IF(E2229<>\"\",VLOOKUP(CONCATENATE(C2229,E2229),Dato!$A$4:$I$218,7,0),\"\")","v":""},null,""]
[null,null,null,{"$f":"IF(C2230=\"\",\"\",VLOOKUP(C2230,Tabla_Regional[],3,0))","v":""},null,{"$f":"IF(E2230<>\"\",VLOOKUP(CONCATENATE(C2230,E2230),Dato!$A$4:$I$218,7,0),\"\")","v":""},null,""]
[null,null,null,{"$f":"IF(C2231=\"\",\"\",VLOOKUP(C2231,Tabla_Regional[],3,0))","v":""},null,{"$f":"IF(E2231<>\"\",VLOOKUP(CONCATENATE(C2231,E2231),Dato!$A$4:$I$218,7,0),\"\")","v":""},null,""]
[null,null,null,{"$f":"IF(C2232=\"\",\"\",VLOOKUP(C2232,Tabla_Regional[],3,0))","v":""},null,{"$f":"IF(E2232<>\"\",VLOOKUP(CONCATENATE(C2232,E2232),Dato!$A$4:$I$218,7,0),\"\")","v":""},null,""]
[null,null,null,{"$f":"IF(C2233=\"\",\"\",VLOOKUP(C2233,Tabla_Regional[],3,0))","v":""},null,{"$f":"IF(E2233<>\"\",VLOOKUP(CONCATENATE(C2233,E2233),Dato!$A$4:$I$218,7,0),\"\")","v":""},null,""]
[null,null,null,{"$f":"IF(C2234=\"\",\"\",VLOOKUP(C2234,Tabla_Regional[],3,0))","v":""},null,{"$f":"IF(E2234<>\"\",VLOOKUP(CONCATENATE(C2234,E2234),Dato!$A$4:$I$218,7,0),\"\")","v":""},null,""]
[null,null,null,{"$f":"IF(C2235=\"\",\"\",VLOOKUP(C2235,Tabla_Regional[],3,0))","v":""},null,{"$f":"IF(E2235<>\"\",VLOOKUP(CONCATENATE(C2235,E2235),Dato!$A$4:$I$218,7,0),\"\")","v":""},null,""]
[null,null,null,{"$f":"IF(C2236=\"\",\"\",VLOOKUP(C2236,Tabla_Regional[],3,0))","v":""},null,{"$f":"IF(E2236<>\"\",VLOOKUP(CONCATENATE(C2236,E2236),Dato!$A$4:$I$218,7,0),\"\")","v":""},null,""]
[null,null,null,{"$f":"IF(C2237=\"\",\"\",VLOOKUP(C2237,Tabla_Regional[],3,0))","v":""},null,{"$f":"IF(E2237<>\"\",VLOOKUP(CONCATENATE(C2237,E2237),Dato!$A$4:$I$218,7,0),\"\")","v":""},null,""]
[null,null,null,{"$f":"IF(C2238=\"\",\"\",VLOOKUP(C2238,Tabla_Regional[],3,0))","v":""},null,{"$f":"IF(E2238<>\"\",VLOOKUP(CONCATENATE(C2238,E2238),Dato!$A$4:$I$218,7,0),\"\")","v":""},null,""]
[null,null,null,{"$f":"IF(C2239=\"\",\"\",VLOOKUP(C2239,Tabla_Regional[],3,0))","v":""},null,{"$f":"IF(E2239<>\"\",VLOOKUP(CONCATENATE(C2239,E2239),Dato!$A$4:$I$218,7,0),\"\")","v":""},null,""]
[null,null,null,{"$f":"IF(C2240=\"\",\"\",VLOOKUP(C2240,Tabla_Regional[],3,0))","v":""},null,{"$f":"IF(E2240<>\"\",VLOOKUP(CONCATENATE(C2240,E2240),Dato!$A$4:$I$218,7,0),\"\")","v":""},null,""]
[null,null,null,{"$f":"IF(C2241=\"\",\"\",VLOOKUP(C2241,Tabla_Regional[],3,0))","v":""},null,{"$f":"IF(E2241<>\"\",VLOOKUP(CONCATENATE(C2241,E2241),Dato!$A$4:$I$218,7,0),\"\")","v":""},null,""]
[null,null,null,{"$f":"IF(C2242=\"\",\"\",VLOOKUP(C2242,Tabla_Regional[],3,0))","v":""},null,{"$f":"IF(E2242<>\"\",VLOOKUP(CONCATENATE(C2242,E2242),Dato!$A$4:$I$218,7,0),\"\")","v":""},null,""]
[null,null,null,{"$f":"IF(C2243=\"\",\"\",VLOOKUP(C2243,Tabla_Regional[],3,0))","v":""},null,{"$f":"IF(E2243<>\"\",VLOOKUP(CONCATENATE(C2243,E2243),Dato!$A$4:$I$218,7,0),\"\")","v":""},null,""]
[null,null,null,{"$f":"IF(C2244=\"\",\"\",VLOOKUP(C2244,Tabla_Regional[],3,0))","v":""},null,{"$f":"IF(E2244<>\"\",VLOOKUP(CONCATENATE(C2244,E2244),Dato!$A$4:$I$218,7,0),\"\")","v":""},null,""]
[null,null,null,{"$f":"IF(C2245=\"\",\"\",VLOOKUP(C2245,Tabla_Regional[],3,0))","v":""},null,{"$f":"IF(E2245<>\"\",VLOOKUP(CONCATENATE(C2245,E2245),Dato!$A$4:$I$218,7,0),\"\")","v":""},null,""]
[null,null,null,{"$f":"IF(C2246=\"\",\"\",VLOOKUP(C2246,Tabla_Regional[],3,0))","v":""},null,{"$f":"IF(E2246<>\"\",VLOOKUP(CONCATENATE(C2246,E2246),Dato!$A$4:$I$218,7,0),\"\")","v":""},null,""]
[null,null,null,{"$f":"IF(C2247=\"\",\"\",VLOOKUP(C2247,Tabla_Regional[],3,0))","v":""},null,{"$f":"IF(E2247<>\"\",VLOOKUP(CONCATENATE(C2247,E2247),Dato!$A$4:$I$218,7,0),\"\")","v":""},null,""]
[null,null,null,{"$f":"IF(C2248=\"\",\"\",VLOOKUP(C2248,Tabla_Regional[],3,0))","v":""},null,{"$f":"IF(E2248<>\"\",VLOOKUP(CONCATENATE(C2248,E2248),Dato!$A$4:$I$218,7,0),\"\")","v":""},null,""]
[null,null,null,{"$f":"IF(C2249=\"\",\"\",VLOOKUP(C2249,Tabla_Regional[],3,0))","v":""},null,{"$f":"IF(E2249<>\"\",VLOOKUP(CONCATENATE(C2249,E2249),Dato!$A$4:$I$218,7,0),\"\")","v":""},null,""]
[null,null,null,{"$f":"IF(C2250=\"\",\"\",VLOOKUP(C2250,Tabla_Regional[],3,0))","v":""},null,{"$f":"IF(E2250<>\"\",VLOOKUP(CONCATENATE(C2250,E2250),Dato!$A$4:$I$218,7,0),\"\")","v":""},null,""]
[null,null,null,{"$f":"IF(C2251=\"\",\"\",VLOOKUP(C2251,Tabla_Regional[],3,0))","v":""},null,{"$f":"IF(E2251<>\"\",VLOOKUP(CONCATENATE(C2251,E2251),Dato!$A$4:$I$218,7,0),\"\")","v":""},null,""]
[null,null,null,{"$f":"IF(C2252=\"\",\"\",VLOOKUP(C2252,Tabla_Regional[],3,0))","v":""},null,{"$f":"IF(E2252<>\"\",VLOOKUP(CONCATENATE(C2252,E2252),Dato!$A$4:$I$218,7,0),\"\")","v":""},null,{"$f":"IF(G2252<>\"\",VLOOKUP(CONCATENATE(C2252,E2252,G2252),czmuni,7,0),\"\")","v":""}]
[null,null,null,{"$f":"IF(C2253=\"\",\"\",VLOOKUP(C2253,Tabla_Regional[],3,0))","v":""},null,{"$f":"IF(E2253<>\"\",VLOOKUP(CONCATENATE(C2253,E2253),Dato!$A$4:$I$218,7,0),\"\")","v":""},null,""]
[null,null,null,{"$f":"IF(C2254=\"\",\"\",VLOOKUP(C2254,Tabla_Regional[],3,0))","v":""},null,{"$f":"IF(E2254<>\"\",VLOOKUP(CONCATENATE(C2254,E2254),Dato!$A$4:$I$218,7,0),\"\")","v":""},null,""]
[null,null,null,{"$f":"IF(C2255=\"\",\"\",VLOOKUP(C2255,Tabla_Regional[],3,0))","v":""},null,{"$f":"IF(E2255<>\"\",VLOOKUP(CONCATENATE(C2255,E2255),Dato!$A$4:$I$218,7,0),\"\")","v":""},null,""]
[null,null,null,{"$f":"IF(C2256=\"\",\"\",VLOOKUP(C2256,Tabla_Regional[],3,0))","v":""},null,{"$f":"IF(E2256<>\"\",VLOOKUP(CONCATENATE(C2256,E2256),Dato!$A$4:$I$218,7,0),\"\")","v":""},null,""]
[null,null,null,{"$f":"IF(C2257=\"\",\"\",VLOOKUP(C2257,Tabla_Regional[],3,0))","v":""},null,{"$f":"IF(E2257<>\"\",VLOOKUP(CONCATENATE(C2257,E2257),Dato!$A$4:$I$218,7,0),\"\")","v":""},null,""]
[null,null,null,{"$f":"IF(C2258=\"\",\"\",VLOOKUP(C2258,Tabla_Regional[],3,0))","v":""},null,{"$f":"IF(E2258<>\"\",VLOOKUP(CONCATENATE(C2258,E2258),Dato!$A$4:$I$218,7,0),\"\")","v":""},null,""]
[null,null,null,{"$f":"IF(C2259=\"\",\"\",VLOOKUP(C2259,Tabla_Regional[],3,0))","v":""},null,{"$f":"IF(E2259<>\"\",VLOOKUP(CONCATENATE(C2259,E2259),Dato!$A$4:$I$218,7,0),\"\")","v":""},null,""]
[null,null,null,{"$f":"IF(C2260=\"\",\"\",VLOOKUP(C2260,Tabla_Regional[],3,0))","v":""},null,{"$f":"IF(E2260<>\"\",VLOOKUP(CONCATENATE(C2260,E2260),Dato!$A$4:$I$218,7,0),\"\")","v":""},null,""]
[null,null,null,{"$f":"IF(C2261=\"\",\"\",VLOOKUP(C2261,Tabla_Regional[],3,0))","v":""},null,{"$f":"IF(E2261<>\"\",VLOOKUP(CONCATENATE(C2261,E2261),Dato!$A$4:$I$218,7,0),\"\")","v":""},null,""]
[null,null,null,{"$f":"IF(C2262=\"\",\"\",VLOOKUP(C2262,Tabla_Regional[],3,0))","v":""},null,{"$f":"IF(E2262<>\"\",VLOOKUP(CONCATENATE(C2262,E2262),Dato!$A$4:$I$218,7,0),\"\")","v":""},null,""]
[null,null,null,{"$f":"IF(C2263=\"\",\"\",VLOOKUP(C2263,Tabla_Regional[],3,0))","v":""},null,{"$f":"IF(E2263<>\"\",VLOOKUP(CONCATENATE(C2263,E2263),Dato!$A$4:$I$218,7,0),\"\")","v":""},null,""]
[null,null,null,{"$f":"IF(C2264=\"\",\"\",VLOOKUP(C2264,Tabla_Regional[],3,0))","v":""},null,{"$f":"IF(E2264<>\"\",VLOOKUP(CONCATENATE(C2264,E2264),Dato!$A$4:$I$218,7,0),\"\")","v":""},null,""]
[null,null,null,{"$f":"IF(C2265=\"\",\"\",VLOOKUP(C2265,Tabla_Regional[],3,0))","v":""},null,{"$f":"IF(E2265<>\"\",VLOOKUP(CONCATENATE(C2265,E2265),Dato!$A$4:$I$218,7,0),\"\")","v":""},null,""]
[null,null,null,{"$f":"IF(C2266=\"\",\"\",VLOOKUP(C2266,Tabla_Regional[],3,0))","v":""},null,{"$f":"IF(E2266<>\"\",VLOOKUP(CONCATENATE(C2266,E2266),Dato!$A$4:$I$218,7,0),\"\")","v":""},null,""]
[null,null,null,{"$f":"IF(C2267=\"\",\"\",VLOOKUP(C2267,Tabla_Regional[],3,0))","v":""},null,{"$f":"IF(E2267<>\"\",VLOOKUP(CONCATENATE(C2267,E2267),Dato!$A$4:$I$218,7,0),\"\")","v":""},null,""]
[null,null,null,{"$f":"IF(C2268=\"\",\"\",VLOOKUP(C2268,Tabla_Regional[],3,0))","v":""},null,{"$f":"IF(E2268<>\"\",VLOOKUP(CONCATENATE(C2268,E2268),Dato!$A$4:$I$218,7,0),\"\")","v":""},null,""]
[null,null,null,{"$f":"IF(C2269=\"\",\"\",VLOOKUP(C2269,Tabla_Regional[],3,0))","v":""},null,{"$f":"IF(E2269<>\"\",VLOOKUP(CONCATENATE(C2269,E2269),Dato!$A$4:$I$218,7,0),\"\")","v":""},null,""]
[null,null,null,{"$f":"IF(C2270=\"\",\"\",VLOOKUP(C2270,Tabla_Regional[],3,0))","v":""},null,{"$f":"IF(E2270<>\"\",VLOOKUP(CONCATENATE(C2270,E2270),Dato!$A$4:$I$218,7,0),\"\")","v":""},null,""]
[null,null,null,{"$f":"IF(C2271=\"\",\"\",VLOOKUP(C2271,Tabla_Regional[],3,0))","v":""},null,{"$f":"IF(E2271<>\"\",VLOOKUP(CONCATENATE(C2271,E2271),Dato!$A$4:$I$218,7,0),\"\")","v":""},null,""]
[null,null,null,{"$f":"IF(C2272=\"\",\"\",VLOOKUP(C2272,Tabla_Regional[],3,0))","v":""},null,{"$f":"IF(E2272<>\"\",VLOOKUP(CONCATENATE(C2272,E2272),Dato!$A$4:$I$218,7,0),\"\")","v":""},null,""]
[null,null,null,{"$f":"IF(C2273=\"\",\"\",VLOOKUP(C2273,Tabla_Regional[],3,0))","v":""},null,{"$f":"IF(E2273<>\"\",VLOOKUP(CONCATENATE(C2273,E2273),Dato!$A$4:$I$218,7,0),\"\")","v":""},null,""]
[null,null,null,{"$f":"IF(C2274=\"\",\"\",VLOOKUP(C2274,Tabla_Regional[],3,0))","v":""},null,{"$f":"IF(E2274<>\"\",VLOOKUP(CONCATENATE(C2274,E2274),Dato!$A$4:$I$218,7,0),\"\")","v":""},null,""]
[null,null,null,{"$f":"IF(C2275=\"\",\"\",VLOOKUP(C2275,Tabla_Regional[],3,0))","v":""},null,{"$f":"IF(E2275<>\"\",VLOOKUP(CONCATENATE(C2275,E2275),Dato!$A$4:$I$218,7,0),\"\")","v":""},null,""]
[null,null,null,{"$f":"IF(C2276=\"\",\"\",VLOOKUP(C2276,Tabla_Regional[],3,0))","v":""},null,{"$f":"IF(E2276<>\"\",VLOOKUP(CONCATENATE(C2276,E2276),Dato!$A$4:$I$218,7,0),\"\")","v":""},null,""]
[null,null,null,{"$f":"IF(C2277=\"\",\"\",VLOOKUP(C2277,Tabla_Regional[],3,0))","v":""},null,{"$f":"IF(E2277<>\"\",VLOOKUP(CONCATENATE(C2277,E2277),Dato!$A$4:$I$218,7,0),\"\")","v":""},null,""]
[null,null,null,{"$f":"IF(C2278=\"\",\"\",VLOOKUP(C2278,Tabla_Regional[],3,0))","v":""},null,{"$f":"IF(E2278<>\"\",VLOOKUP(CONCATENATE(C2278,E2278),Dato!$A$4:$I$218,7,0),\"\")","v":""},null,""]
[null,null,null,{"$f":"IF(C2279=\"\",\"\",VLOOKUP(C2279,Tabla_Regional[],3,0))","v":""},null,{"$f":"IF(E2279<>\"\",VLOOKUP(CONCATENATE(C2279,E2279),Dato!$A$4:$I$218,7,0),\"\")","v":""},null,""]
[null,null,null,{"$f":"IF(C2280=\"\",\"\",VLOOKUP(C2280,Tabla_Regional[],3,0))","v":""},null,{"$f":"IF(E2280<>\"\",VLOOKUP(CONCATENATE(C2280,E2280),Dato!$A$4:$I$218,7,0),\"\")","v":""},null,""]
[null,null,null,{"$f":"IF(C2281=\"\",\"\",VLOOKUP(C2281,Tabla_Regional[],3,0))","v":""},null,{"$f":"IF(E2281<>\"\",VLOOKUP(CONCATENATE(C2281,E2281),Dato!$A$4:$I$218,7,0),\"\")","v":""},null,""]
[null,null,null,{"$f":"IF(C2282=\"\",\"\",VLOOKUP(C2282,Tabla_Regional[],3,0))","v":""},null,{"$f":"IF(E2282<>\"\",VLOOKUP(CONCATENATE(C2282,E2282),Dato!$A$4:$I$218,7,0),\"\")","v":""},null,""]
[null,null,null,{"$f":"IF(C2283=\"\",\"\",VLOOKUP(C2283,Tabla_Regional[],3,0))","v":""},null,{"$f":"IF(E2283<>\"\",VLOOKUP(CONCATENATE(C2283,E2283),Dato!$A$4:$I$218,7,0),\"\")","v":""},null,""]
[null,null,null,{"$f":"IF(C2284=\"\",\"\",VLOOKUP(C2284,Tabla_Regional[],3,0))","v":""},null,{"$f":"IF(E2284<>\"\",VLOOKUP(CONCATENATE(C2284,E2284),Dato!$A$4:$I$218,7,0),\"\")","v":""},null,""]
[null,null,null,{"$f":"IF(C2285=\"\",\"\",VLOOKUP(C2285,Tabla_Regional[],3,0))","v":""},null,{"$f":"IF(E2285<>\"\",VLOOKUP(CONCATENATE(C2285,E2285),Dato!$A$4:$I$218,7,0),\"\")","v":""},null,""]
[null,null,null,{"$f":"IF(C2286=\"\",\"\",VLOOKUP(C2286,Tabla_Regional[],3,0))","v":""},null,{"$f":"IF(E2286<>\"\",VLOOKUP(CONCATENATE(C2286,E2286),Dato!$A$4:$I$218,7,0),\"\")","v":""},null,""]
[null,null,null,{"$f":"IF(C2287=\"\",\"\",VLOOKUP(C2287,Tabla_Regional[],3,0))","v":""},null,{"$f":"IF(E2287<>\"\",VLOOKUP(CONCATENATE(C2287,E2287),Dato!$A$4:$I$218,7,0),\"\")","v":""},null,""]
[null,null,null,{"$f":"IF(C2288=\"\",\"\",VLOOKUP(C2288,Tabla_Regional[],3,0))","v":""},null,{"$f":"IF(E2288<>\"\",VLOOKUP(CONCATENATE(C2288,E2288),Dato!$A$4:$I$218,7,0),\"\")","v":""},null,""]
[null,null,null,{"$f":"IF(C2289=\"\",\"\",VLOOKUP(C2289,Tabla_Regional[],3,0))","v":""},null,{"$f":"IF(E2289<>\"\",VLOOKUP(CONCATENATE(C2289,E2289),Dato!$A$4:$I$218,7,0),\"\")","v":""},null,""]
[null,null,null,{"$f":"IF(C2290=\"\",\"\",VLOOKUP(C2290,Tabla_Regional[],3,0))","v":""},null,{"$f":"IF(E2290<>\"\",VLOOKUP(CONCATENATE(C2290,E2290),Dato!$A$4:$I$218,7,0),\"\")","v":""},null,""]
[null,null,null,{"$f":"IF(C2291=\"\",\"\",VLOOKUP(C2291,Tabla_Regional[],3,0))","v":""},null,{"$f":"IF(E2291<>\"\",VLOOKUP(CONCATENATE(C2291,E2291),Dato!$A$4:$I$218,7,0),\"\")","v":""},null,""]
[null,null,null,{"$f":"IF(C2292=\"\",\"\",VLOOKUP(C2292,Tabla_Regional[],3,0))","v":""},null,{"$f":"IF(E2292<>\"\",VLOOKUP(CONCATENATE(C2292,E2292),Dato!$A$4:$I$218,7,0),\"\")","v":""},null,""]
[null,null,null,{"$f":"IF(C2293=\"\",\"\",VLOOKUP(C2293,Tabla_Regional[],3,0))","v":""},null,{"$f":"IF(E2293<>\"\",VLOOKUP(CONCATENATE(C2293,E2293),Dato!$A$4:$I$218,7,0),\"\")","v":""},null,""]
[null,null,null,{"$f":"IF(C2294=\"\",\"\",VLOOKUP(C2294,Tabla_Regional[],3,0))","v":""},null,{"$f":"IF(E2294<>\"\",VLOOKUP(CONCATENATE(C2294,E2294),Dato!$A$4:$I$218,7,0),\"\")","v":""},null,""]
[null,null,null,{"$f":"IF(C2295=\"\",\"\",VLOOKUP(C2295,Tabla_Regional[],3,0))","v":""},null,{"$f":"IF(E2295<>\"\",VLOOKUP(CONCATENATE(C2295,E2295),Dato!$A$4:$I$218,7,0),\"\")","v":""},null,""]
[null,null,null,{"$f":"IF(C2296=\"\",\"\",VLOOKUP(C2296,Tabla_Regional[],3,0))","v":""},null,{"$f":"IF(E2296<>\"\",VLOOKUP(CONCATENATE(C2296,E2296),Dato!$A$4:$I$218,7,0),\"\")","v":""},null,""]
[null,null,null,{"$f":"IF(C2297=\"\",\"\",VLOOKUP(C2297,Tabla_Regional[],3,0))","v":""},null,{"$f":"IF(E2297<>\"\",VLOOKUP(CONCATENATE(C2297,E2297),Dato!$A$4:$I$218,7,0),\"\")","v":""},null,""]
[null,null,null,{"$f":"IF(C2298=\"\",\"\",VLOOKUP(C2298,Tabla_Regional[],3,0))","v":""},null,{"$f":"IF(E2298<>\"\",VLOOKUP(CONCATENATE(C2298,E2298),Dato!$A$4:$I$218,7,0),\"\")","v":""},null,""]
[null,null,null,{"$f":"IF(C2299=\"\",\"\",VLOOKUP(C2299,Tabla_Regional[],3,0))","v":""},null,{"$f":"IF(E2299<>\"\",VLOOKUP(CONCATENATE(C2299,E2299),Dato!$A$4:$I$218,7,0),\"\")","v":""},null,""]
[null,null,null,{"$f":"IF(C2300=\"\",\"\",VLOOKUP(C2300,Tabla_Regional[],3,0))","v":""},null,{"$f":"IF(E2300<>\"\",VLOOKUP(CONCATENATE(C2300,E2300),Dato!$A$4:$I$218,7,0),\"\")","v":""},null,""]
[null,null,null,{"$f":"IF(C2301=\"\",\"\",VLOOKUP(C2301,Tabla_Regional[],3,0))","v":""},null,{"$f":"IF(E2301<>\"\",VLOOKUP(CONCATENATE(C2301,E2301),Dato!$A$4:$I$218,7,0),\"\")","v":""},null,""]
[null,null,null,{"$f":"IF(C2302=\"\",\"\",VLOOKUP(C2302,Tabla_Regional[],3,0))","v":""},null,{"$f":"IF(E2302<>\"\",VLOOKUP(CONCATENATE(C2302,E2302),Dato!$A$4:$I$218,7,0),\"\")","v":""},null,""]
[null,null,null,{"$f":"IF(C2303=\"\",\"\",VLOOKUP(C2303,Tabla_Regional[],3,0))","v":""},null,{"$f":"IF(E2303<>\"\",VLOOKUP(CONCATENATE(C2303,E2303),Dato!$A$4:$I$218,7,0),\"\")","v":""},null,""]
[null,null,null,{"$f":"IF(C2304=\"\",\"\",VLOOKUP(C2304,Tabla_Regional[],3,0))","v":""},null,{"$f":"IF(E2304<>\"\",VLOOKUP(CONCATENATE(C2304,E2304),Dato!$A$4:$I$218,7,0),\"\")","v":""},null,""]
[null,null,null,{"$f":"IF(C2305=\"\",\"\",VLOOKUP(C2305,Tabla_Regional[],3,0))","v":""},null,{"$f":"IF(E2305<>\"\",VLOOKUP(CONCATENATE(C2305,E2305),Dato!$A$4:$I$218,7,0),\"\")","v":""},null,""]
[null,null,null,{"$f":"IF(C2306=\"\",\"\",VLOOKUP(C2306,Tabla_Regional[],3,0))","v":""},null,{"$f":"IF(E2306<>\"\",VLOOKUP(CONCATENATE(C2306,E2306),Dato!$A$4:$I$218,7,0),\"\")","v":""},null,""]
[null,null,null,{"$f":"IF(C2307=\"\",\"\",VLOOKUP(C2307,Tabla_Regional[],3,0))","v":""},null,{"$f":"IF(E2307<>\"\",VLOOKUP(CONCATENATE(C2307,E2307),Dato!$A$4:$I$218,7,0),\"\")","v":""},null,""]
[null,null,null,{"$f":"IF(C2308=\"\",\"\",VLOOKUP(C2308,Tabla_Regional[],3,0))","v":""},null,{"$f":"IF(E2308<>\"\",VLOOKUP(CONCATENATE(C2308,E2308),Dato!$A$4:$I$218,7,0),\"\")","v":""},null,""]
[null,null,null,{"$f":"IF(C2309=\"\",\"\",VLOOKUP(C2309,Tabla_Regional[],3,0))","v":""},null,{"$f":"IF(E2309<>\"\",VLOOKUP(CONCATENATE(C2309,E2309),Dato!$A$4:$I$218,7,0),\"\")","v":""},null,""]
[null,null,null,{"$f":"IF(C2310=\"\",\"\",VLOOKUP(C2310,Tabla_Regional[],3,0))","v":""},null,{"$f":"IF(E2310<>\"\",VLOOKUP(CONCATENATE(C2310,E2310),Dato!$A$4:$I$218,7,0),\"\")","v":""},null,""]
[null,null,null,{"$f":"IF(C2311=\"\",\"\",VLOOKUP(C2311,Tabla_Regional[],3,0))","v":""},null,{"$f":"IF(E2311<>\"\",VLOOKUP(CONCATENATE(C2311,E2311),Dato!$A$4:$I$218,7,0),\"\")","v":""},null,""]
[null,null,null,{"$f":"IF(C2312=\"\",\"\",VLOOKUP(C2312,Tabla_Regional[],3,0))","v":""},null,{"$f":"IF(E2312<>\"\",VLOOKUP(CONCATENATE(C2312,E2312),Dato!$A$4:$I$218,7,0),\"\")","v":""},null,""]
[null,null,null,{"$f":"IF(C2313=\"\",\"\",VLOOKUP(C2313,Tabla_Regional[],3,0))","v":""},null,{"$f":"IF(E2313<>\"\",VLOOKUP(CONCATENATE(C2313,E2313),Dato!$A$4:$I$218,7,0),\"\")","v":""},null,""]
[null,null,null,{"$f":"IF(C2314=\"\",\"\",VLOOKUP(C2314,Tabla_Regional[],3,0))","v":""},null,{"$f":"IF(E2314<>\"\",VLOOKUP(CONCATENATE(C2314,E2314),Dato!$A$4:$I$218,7,0),\"\")","v":""},null,""]
[null,null,null,{"$f":"IF(C2315=\"\",\"\",VLOOKUP(C2315,Tabla_Regional[],3,0))","v":""},null,{"$f":"IF(E2315<>\"\",VLOOKUP(CONCATENATE(C2315,E2315),Dato!$A$4:$I$218,7,0),\"\")","v":""},null,""]
[null,null,null,{"$f":"IF(C2316=\"\",\"\",VLOOKUP(C2316,Tabla_Regional[],3,0))","v":""},null,{"$f":"IF(E2316<>\"\",VLOOKUP(CONCATENATE(C2316,E2316),Dato!$A$4:$I$218,7,0),\"\")","v":""},null,{"$f":"IF(G2316<>\"\",VLOOKUP(CONCATENATE(C2316,E2316,G2316),czmuni,7,0),\"\")","v":""}]
[null,null,null,{"$f":"IF(C2317=\"\",\"\",VLOOKUP(C2317,Tabla_Regional[],3,0))","v":""},null,{"$f":"IF(E2317<>\"\",VLOOKUP(CONCATENATE(C2317,E2317),Dato!$A$4:$I$218,7,0),\"\")","v":""},null,""]
[null,null,null,{"$f":"IF(C2318=\"\",\"\",VLOOKUP(C2318,Tabla_Regional[],3,0))","v":""},null,{"$f":"IF(E2318<>\"\",VLOOKUP(CONCATENATE(C2318,E2318),Dato!$A$4:$I$218,7,0),\"\")","v":""},null,""]
[null,null,null,{"$f":"IF(C2319=\"\",\"\",VLOOKUP(C2319,Tabla_Regional[],3,0))","v":""},null,{"$f":"IF(E2319<>\"\",VLOOKUP(CONCATENATE(C2319,E2319),Dato!$A$4:$I$218,7,0),\"\")","v":""},null,""]
[null,null,null,{"$f":"IF(C2320=\"\",\"\",VLOOKUP(C2320,Tabla_Regional[],3,0))","v":""},null,{"$f":"IF(E2320<>\"\",VLOOKUP(CONCATENATE(C2320,E2320),Dato!$A$4:$I$218,7,0),\"\")","v":""},null,""]
[null,null,null,{"$f":"IF(C2321=\"\",\"\",VLOOKUP(C2321,Tabla_Regional[],3,0))","v":""},null,{"$f":"IF(E2321<>\"\",VLOOKUP(CONCATENATE(C2321,E2321),Dato!$A$4:$I$218,7,0),\"\")","v":""},null,""]
[null,null,null,{"$f":"IF(C2322=\"\",\"\",VLOOKUP(C2322,Tabla_Regional[],3,0))","v":""},null,{"$f":"IF(E2322<>\"\",VLOOKUP(CONCATENATE(C2322,E2322),Dato!$A$4:$I$218,7,0),\"\")","v":""},null,""]
[null,null,null,{"$f":"IF(C2323=\"\",\"\",VLOOKUP(C2323,Tabla_Regional[],3,0))","v":""},null,{"$f":"IF(E2323<>\"\",VLOOKUP(CONCATENATE(C2323,E2323),Dato!$A$4:$I$218,7,0),\"\")","v":""},null,""]
[null,null,null,{"$f":"IF(C2324=\"\",\"\",VLOOKUP(C2324,Tabla_Regional[],3,0))","v":""},null,{"$f":"IF(E2324<>\"\",VLOOKUP(CONCATENATE(C2324,E2324),Dato!$A$4:$I$218,7,0),\"\")","v":""},null,""]
[null,null,null,{"$f":"IF(C2325=\"\",\"\",VLOOKUP(C2325,Tabla_Regional[],3,0))","v":""},null,{"$f":"IF(E2325<>\"\",VLOOKUP(CONCATENATE(C2325,E2325),Dato!$A$4:$I$218,7,0),\"\")","v":""},null,""]
[null,null,null,{"$f":"IF(C2326=\"\",\"\",VLOOKUP(C2326,Tabla_Regional[],3,0))","v":""},null,{"$f":"IF(E2326<>\"\",VLOOKUP(CONCATENATE(C2326,E2326),Dato!$A$4:$I$218,7,0),\"\")","v":""},null,""]
[null,null,null,{"$f":"IF(C2327=\"\",\"\",VLOOKUP(C2327,Tabla_Regional[],3,0))","v":""},null,{"$f":"IF(E2327<>\"\",VLOOKUP(CONCATENATE(C2327,E2327),Dato!$A$4:$I$218,7,0),\"\")","v":""},null,""]
[null,null,null,{"$f":"IF(C2328=\"\",\"\",VLOOKUP(C2328,Tabla_Regional[],3,0))","v":""},null,{"$f":"IF(E2328<>\"\",VLOOKUP(CONCATENATE(C2328,E2328),Dato!$A$4:$I$218,7,0),\"\")","v":""},null,""]
[null,null,null,{"$f":"IF(C2329=\"\",\"\",VLOOKUP(C2329,Tabla_Regional[],3,0))","v":""},null,{"$f":"IF(E2329<>\"\",VLOOKUP(CONCATENATE(C2329,E2329),Dato!$A$4:$I$218,7,0),\"\")","v":""},null,""]
[null,null,null,{"$f":"IF(C2330=\"\",\"\",VLOOKUP(C2330,Tabla_Regional[],3,0))","v":""},null,{"$f":"IF(E2330<>\"\",VLOOKUP(CONCATENATE(C2330,E2330),Dato!$A$4:$I$218,7,0),\"\")","v":""},null,""]
[null,null,null,{"$f":"IF(C2331=\"\",\"\",VLOOKUP(C2331,Tabla_Regional[],3,0))","v":""},null,{"$f":"IF(E2331<>\"\",VLOOKUP(CONCATENATE(C2331,E2331),Dato!$A$4:$I$218,7,0),\"\")","v":""},null,""]
[null,null,null,{"$f":"IF(C2332=\"\",\"\",VLOOKUP(C2332,Tabla_Regional[],3,0))","v":""},null,{"$f":"IF(E2332<>\"\",VLOOKUP(CONCATENATE(C2332,E2332),Dato!$A$4:$I$218,7,0),\"\")","v":""},null,""]
[null,null,null,{"$f":"IF(C2333=\"\",\"\",VLOOKUP(C2333,Tabla_Regional[],3,0))","v":""},null,{"$f":"IF(E2333<>\"\",VLOOKUP(CONCATENATE(C2333,E2333),Dato!$A$4:$I$218,7,0),\"\")","v":""},null,""]
[null,null,null,{"$f":"IF(C2334=\"\",\"\",VLOOKUP(C2334,Tabla_Regional[],3,0))","v":""},null,{"$f":"IF(E2334<>\"\",VLOOKUP(CONCATENATE(C2334,E2334),Dato!$A$4:$I$218,7,0),\"\")","v":""},null,""]
[null,null,null,{"$f":"IF(C2335=\"\",\"\",VLOOKUP(C2335,Tabla_Regional[],3,0))","v":""},null,{"$f":"IF(E2335<>\"\",VLOOKUP(CONCATENATE(C2335,E2335),Dato!$A$4:$I$218,7,0),\"\")","v":""},null,""]
[null,null,null,{"$f":"IF(C2336=\"\",\"\",VLOOKUP(C2336,Tabla_Regional[],3,0))","v":""},null,{"$f":"IF(E2336<>\"\",VLOOKUP(CONCATENATE(C2336,E2336),Dato!$A$4:$I$218,7,0),\"\")","v":""},null,""]
[null,null,null,{"$f":"IF(C2337=\"\",\"\",VLOOKUP(C2337,Tabla_Regional[],3,0))","v":""},null,{"$f":"IF(E2337<>\"\",VLOOKUP(CONCATENATE(C2337,E2337),Dato!$A$4:$I$218,7,0),\"\")","v":""},null,""]
[null,null,null,{"$f":"IF(C2338=\"\",\"\",VLOOKUP(C2338,Tabla_Regional[],3,0))","v":""},null,{"$f":"IF(E2338<>\"\",VLOOKUP(CONCATENATE(C2338,E2338),Dato!$A$4:$I$218,7,0),\"\")","v":""},null,""]
[null,null,null,{"$f":"IF(C2339=\"\",\"\",VLOOKUP(C2339,Tabla_Regional[],3,0))","v":""},null,{"$f":"IF(E2339<>\"\",VLOOKUP(CONCATENATE(C2339,E2339),Dato!$A$4:$I$218,7,0),\"\")","v":""},null,""]
[null,null,null,{"$f":"IF(C2340=\"\",\"\",VLOOKUP(C2340,Tabla_Regional[],3,0))","v":""},null,{"$f":"IF(E2340<>\"\",VLOOKUP(CONCATENATE(C2340,E2340),Dato!$A$4:$I$218,7,0),\"\")","v":""},null,""]
[null,null,null,{"$f":"IF(C2341=\"\",\"\",VLOOKUP(C2341,Tabla_Regional[],3,0))","v":""},null,{"$f":"IF(E2341<>\"\",VLOOKUP(CONCATENATE(C2341,E2341),Dato!$A$4:$I$218,7,0),\"\")","v":""},null,""]
[null,null,null,{"$f":"IF(C2342=\"\",\"\",VLOOKUP(C2342,Tabla_Regional[],3,0))","v":""},null,{"$f":"IF(E2342<>\"\",VLOOKUP(CONCATENATE(C2342,E2342),Dato!$A$4:$I$218,7,0),\"\")","v":""},null,""]
[null,null,null,{"$f":"IF(C2343=\"\",\"\",VLOOKUP(C2343,Tabla_Regional[],3,0))","v":""},null,{"$f":"IF(E2343<>\"\",VLOOKUP(CONCATENATE(C2343,E2343),Dato!$A$4:$I$218,7,0),\"\")","v":""},null,""]
[null,null,null,{"$f":"IF(C2344=\"\",\"\",VLOOKUP(C2344,Tabla_Regional[],3,0))","v":""},null,{"$f":"IF(E2344<>\"\",VLOOKUP(CONCATENATE(C2344,E2344),Dato!$A$4:$I$218,7,0),\"\")","v":""},null,""]
[null,null,null,{"$f":"IF(C2345=\"\",\"\",VLOOKUP(C2345,Tabla_Regional[],3,0))","v":""},null,{"$f":"IF(E2345<>\"\",VLOOKUP(CONCATENATE(C2345,E2345),Dato!$A$4:$I$218,7,0),\"\")","v":""},null,""]
[null,null,null,{"$f":"IF(C2346=\"\",\"\",VLOOKUP(C2346,Tabla_Regional[],3,0))","v":""},null,{"$f":"IF(E2346<>\"\",VLOOKUP(CONCATENATE(C2346,E2346),Dato!$A$4:$I$218,7,0),\"\")","v":""},null,""]
[null,null,null,{"$f":"IF(C2347=\"\",\"\",VLOOKUP(C2347,Tabla_Regional[],3,0))","v":""},null,{"$f":"IF(E2347<>\"\",VLOOKUP(CONCATENATE(C2347,E2347),Dato!$A$4:$I$218,7,0),\"\")","v":""},null,""]
[null,null,null,{"$f":"IF(C2348=\"\",\"\",VLOOKUP(C2348,Tabla_Regional[],3,0))","v":""},null,{"$f":"IF(E2348<>\"\",VLOOKUP(CONCATENATE(C2348,E2348),Dato!$A$4:$I$218,7,0),\"\")","v":""},null,""]
[null,null,null,{"$f":"IF(C2349=\"\",\"\",VLOOKUP(C2349,Tabla_Regional[],3,0))","v":""},null,{"$f":"IF(E2349<>\"\",VLOOKUP(CONCATENATE(C2349,E2349),Dato!$A$4:$I$218,7,0),\"\")","v":""},null,""]
[null,null,null,{"$f":"IF(C2350=\"\",\"\",VLOOKUP(C2350,Tabla_Regional[],3,0))","v":""},null,{"$f":"IF(E2350<>\"\",VLOOKUP(CONCATENATE(C2350,E2350),Dato!$A$4:$I$218,7,0),\"\")","v":""},null,""]
[null,null,null,{"$f":"IF(C2351=\"\",\"\",VLOOKUP(C2351,Tabla_Regional[],3,0))","v":""},null,{"$f":"IF(E2351<>\"\",VLOOKUP(CONCATENATE(C2351,E2351),Dato!$A$4:$I$218,7,0),\"\")","v":""},null,""]
[null,null,null,{"$f":"IF(C2352=\"\",\"\",VLOOKUP(C2352,Tabla_Regional[],3,0))","v":""},null,{"$f":"IF(E2352<>\"\",VLOOKUP(CONCATENATE(C2352,E2352),Dato!$A$4:$I$218,7,0),\"\")","v":""},null,""]
[null,null,null,{"$f":"IF(C2353=\"\",\"\",VLOOKUP(C2353,Tabla_Regional[],3,0))","v":""},null,{"$f":"IF(E2353<>\"\",VLOOKUP(CONCATENATE(C2353,E2353),Dato!$A$4:$I$218,7,0),\"\")","v":""},null,""]
[null,null,null,{"$f":"IF(C2354=\"\",\"\",VLOOKUP(C2354,Tabla_Regional[],3,0))","v":""},null,{"$f":"IF(E2354<>\"\",VLOOKUP(CONCATENATE(C2354,E2354),Dato!$A$4:$I$218,7,0),\"\")","v":""},null,""]
[null,null,null,{"$f":"IF(C2355=\"\",\"\",VLOOKUP(C2355,Tabla_Regional[],3,0))","v":""},null,{"$f":"IF(E2355<>\"\",VLOOKUP(CONCATENATE(C2355,E2355),Dato!$A$4:$I$218,7,0),\"\")","v":""},null,""]
[null,null,null,{"$f":"IF(C2356=\"\",\"\",VLOOKUP(C2356,Tabla_Regional[],3,0))","v":""},null,{"$f":"IF(E2356<>\"\",VLOOKUP(CONCATENATE(C2356,E2356),Dato!$A$4:$I$218,7,0),\"\")","v":""},null,""]
[null,null,null,{"$f":"IF(C2357=\"\",\"\",VLOOKUP(C2357,Tabla_Regional[],3,0))","v":""},null,{"$f":"IF(E2357<>\"\",VLOOKUP(CONCATENATE(C2357,E2357),Dato!$A$4:$I$218,7,0),\"\")","v":""},null,""]
[null,null,null,{"$f":"IF(C2358=\"\",\"\",VLOOKUP(C2358,Tabla_Regional[],3,0))","v":""},null,{"$f":"IF(E2358<>\"\",VLOOKUP(CONCATENATE(C2358,E2358),Dato!$A$4:$I$218,7,0),\"\")","v":""},null,""]
[null,null,null,{"$f":"IF(C2359=\"\",\"\",VLOOKUP(C2359,Tabla_Regional[],3,0))","v":""},null,{"$f":"IF(E2359<>\"\",VLOOKUP(CONCATENATE(C2359,E2359),Dato!$A$4:$I$218,7,0),\"\")","v":""},null,""]
[null,null,null,{"$f":"IF(C2360=\"\",\"\",VLOOKUP(C2360,Tabla_Regional[],3,0))","v":""},null,{"$f":"IF(E2360<>\"\",VLOOKUP(CONCATENATE(C2360,E2360),Dato!$A$4:$I$218,7,0),\"\")","v":""},null,""]
[null,null,null,{"$f":"IF(C2361=\"\",\"\",VLOOKUP(C2361,Tabla_Regional[],3,0))","v":""},null,{"$f":"IF(E2361<>\"\",VLOOKUP(CONCATENATE(C2361,E2361),Dato!$A$4:$I$218,7,0),\"\")","v":""},null,""]
[null,null,null,{"$f":"IF(C2362=\"\",\"\",VLOOKUP(C2362,Tabla_Regional[],3,0))","v":""},null,{"$f":"IF(E2362<>\"\",VLOOKUP(CONCATENATE(C2362,E2362),Dato!$A$4:$I$218,7,0),\"\")","v":""},null,""]
[null,null,null,{"$f":"IF(C2363=\"\",\"\",VLOOKUP(C2363,Tabla_Regional[],3,0))","v":""},null,{"$f":"IF(E2363<>\"\",VLOOKUP(CONCATENATE(C2363,E2363),Dato!$A$4:$I$218,7,0),\"\")","v":""},null,""]
[null,null,null,{"$f":"IF(C2364=\"\",\"\",VLOOKUP(C2364,Tabla_Regional[],3,0))","v":""},null,{"$f":"IF(E2364<>\"\",VLOOKUP(CONCATENATE(C2364,E2364),Dato!$A$4:$I$218,7,0),\"\")","v":""},null,""]
[null,null,null,{"$f":"IF(C2365=\"\",\"\",VLOOKUP(C2365,Tabla_Regional[],3,0))","v":""},null,{"$f":"IF(E2365<>\"\",VLOOKUP(CONCATENATE(C2365,E2365),Dato!$A$4:$I$218,7,0),\"\")","v":""},null,""]
[null,null,null,{"$f":"IF(C2366=\"\",\"\",VLOOKUP(C2366,Tabla_Regional[],3,0))","v":""},null,{"$f":"IF(E2366<>\"\",VLOOKUP(CONCATENATE(C2366,E2366),Dato!$A$4:$I$218,7,0),\"\")","v":""},null,""]
[null,null,null,{"$f":"IF(C2367=\"\",\"\",VLOOKUP(C2367,Tabla_Regional[],3,0))","v":""},null,{"$f":"IF(E2367<>\"\",VLOOKUP(CONCATENATE(C2367,E2367),Dato!$A$4:$I$218,7,0),\"\")","v":""},null,""]
[null,null,null,{"$f":"IF(C2368=\"\",\"\",VLOOKUP(C2368,Tabla_Regional[],3,0))","v":""},null,{"$f":"IF(E2368<>\"\",VLOOKUP(CONCATENATE(C2368,E2368),Dato!$A$4:$I$218,7,0),\"\")","v":""},null,""]
[null,null,null,{"$f":"IF(C2369=\"\",\"\",VLOOKUP(C2369,Tabla_Regional[],3,0))","v":""},null,{"$f":"IF(E2369<>\"\",VLOOKUP(CONCATENATE(C2369,E2369),Dato!$A$4:$I$218,7,0),\"\")","v":""},null,""]
[null,null,null,{"$f":"IF(C2370=\"\",\"\",VLOOKUP(C2370,Tabla_Regional[],3,0))","v":""},null,{"$f":"IF(E2370<>\"\",VLOOKUP(CONCATENATE(C2370,E2370),Dato!$A$4:$I$218,7,0),\"\")","v":""},null,""]
[null,null,null,{"$f":"IF(C2371=\"\",\"\",VLOOKUP(C2371,Tabla_Regional[],3,0))","v":""},null,{"$f":"IF(E2371<>\"\",VLOOKUP(CONCATENATE(C2371,E2371),Dato!$A$4:$I$218,7,0),\"\")","v":""},null,""]
[null,null,null,{"$f":"IF(C2372=\"\",\"\",VLOOKUP(C2372,Tabla_Regional[],3,0))","v":""},null,{"$f":"IF(E2372<>\"\",VLOOKUP(CONCATENATE(C2372,E2372),Dato!$A$4:$I$218,7,0),\"\")","v":""},null,""]
[null,null,null,{"$f":"IF(C2373=\"\",\"\",VLOOKUP(C2373,Tabla_Regional[],3,0))","v":""},null,{"$f":"IF(E2373<>\"\",VLOOKUP(CONCATENATE(C2373,E2373),Dato!$A$4:$I$218,7,0),\"\")","v":""},null,""]
[null,null,null,{"$f":"IF(C2374=\"\",\"\",VLOOKUP(C2374,Tabla_Regional[],3,0))","v":""},null,{"$f":"IF(E2374<>\"\",VLOOKUP(CONCATENATE(C2374,E2374),Dato!$A$4:$I$218,7,0),\"\")","v":""},null,""]
[null,null,null,{"$f":"IF(C2375=\"\",\"\",VLOOKUP(C2375,Tabla_Regional[],3,0))","v":""},null,{"$f":"IF(E2375<>\"\",VLOOKUP(CONCATENATE(C2375,E2375),Dato!$A$4:$I$218,7,0),\"\")","v":""},null,""]
[null,null,null,{"$f":"IF(C2376=\"\",\"\",VLOOKUP(C2376,Tabla_Regional[],3,0))","v":""},null,{"$f":"IF(E2376<>\"\",VLOOKUP(CONCATENATE(C2376,E2376),Dato!$A$4:$I$218,7,0),\"\")","v":""},null,""]
[null,null,null,{"$f":"IF(C2377=\"\",\"\",VLOOKUP(C2377,Tabla_Regional[],3,0))","v":""},null,{"$f":"IF(E2377<>\"\",VLOOKUP(CONCATENATE(C2377,E2377),Dato!$A$4:$I$218,7,0),\"\")","v":""},null,""]
[null,null,null,{"$f":"IF(C2378=\"\",\"\",VLOOKUP(C2378,Tabla_Regional[],3,0))","v":""},null,{"$f":"IF(E2378<>\"\",VLOOKUP(CONCATENATE(C2378,E2378),Dato!$A$4:$I$218,7,0),\"\")","v":""},null,""]
[null,null,null,{"$f":"IF(C2379=\"\",\"\",VLOOKUP(C2379,Tabla_Regional[],3,0))","v":""},null,{"$f":"IF(E2379<>\"\",VLOOKUP(CONCATENATE(C2379,E2379),Dato!$A$4:$I$218,7,0),\"\")","v":""},null,""]
[null,null,null,{"$f":"IF(C2380=\"\",\"\",VLOOKUP(C2380,Tabla_Regional[],3,0))","v":""},null,{"$f":"IF(E2380<>\"\",VLOOKUP(CONCATENATE(C2380,E2380),Dato!$A$4:$I$218,7,0),\"\")","v":""},null,{"$f":"IF(G2380<>\"\",VLOOKUP(CONCATENATE(C2380,E2380,G2380),czmuni,7,0),\"\")","v":""}]
[null,null,null,{"$f":"IF(C2381=\"\",\"\",VLOOKUP(C2381,Tabla_Regional[],3,0))","v":""},null,{"$f":"IF(E2381<>\"\",VLOOKUP(CONCATENATE(C2381,E2381),Dato!$A$4:$I$218,7,0),\"\")","v":""},null,""]
[null,null,null,{"$f":"IF(C2382=\"\",\"\",VLOOKUP(C2382,Tabla_Regional[],3,0))","v":""},null,{"$f":"IF(E2382<>\"\",VLOOKUP(CONCATENATE(C2382,E2382),Dato!$A$4:$I$218,7,0),\"\")","v":""},null,""]
[null,null,null,{"$f":"IF(C2383=\"\",\"\",VLOOKUP(C2383,Tabla_Regional[],3,0))","v":""},null,{"$f":"IF(E2383<>\"\",VLOOKUP(CONCATENATE(C2383,E2383),Dato!$A$4:$I$218,7,0),\"\")","v":""},null,""]
[null,null,null,{"$f":"IF(C2384=\"\",\"\",VLOOKUP(C2384,Tabla_Regional[],3,0))","v":""},null,{"$f":"IF(E2384<>\"\",VLOOKUP(CONCATENATE(C2384,E2384),Dato!$A$4:$I$218,7,0),\"\")","v":""},null,""]
[null,null,null,{"$f":"IF(C2385=\"\",\"\",VLOOKUP(C2385,Tabla_Regional[],3,0))","v":""},null,{"$f":"IF(E2385<>\"\",VLOOKUP(CONCATENATE(C2385,E2385),Dato!$A$4:$I$218,7,0),\"\")","v":""},null,""]
[null,null,null,{"$f":"IF(C2386=\"\",\"\",VLOOKUP(C2386,Tabla_Regional[],3,0))","v":""},null,{"$f":"IF(E2386<>\"\",VLOOKUP(CONCATENATE(C2386,E2386),Dato!$A$4:$I$218,7,0),\"\")","v":""},null,""]
[null,null,null,{"$f":"IF(C2387=\"\",\"\",VLOOKUP(C2387,Tabla_Regional[],3,0))","v":""},null,{"$f":"IF(E2387<>\"\",VLOOKUP(CONCATENATE(C2387,E2387),Dato!$A$4:$I$218,7,0),\"\")","v":""},null,""]
[null,null,null,{"$f":"IF(C2388=\"\",\"\",VLOOKUP(C2388,Tabla_Regional[],3,0))","v":""},null,{"$f":"IF(E2388<>\"\",VLOOKUP(CONCATENATE(C2388,E2388),Dato!$A$4:$I$218,7,0),\"\")","v":""},null,""]
[null,null,null,{"$f":"IF(C2389=\"\",\"\",VLOOKUP(C2389,Tabla_Regional[],3,0))","v":""},null,{"$f":"IF(E2389<>\"\",VLOOKUP(CONCATENATE(C2389,E2389),Dato!$A$4:$I$218,7,0),\"\")","v":""},null,""]
[null,null,null,{"$f":"IF(C2390=\"\",\"\",VLOOKUP(C2390,Tabla_Regional[],3,0))","v":""},null,{"$f":"IF(E2390<>\"\",VLOOKUP(CONCATENATE(C2390,E2390),Dato!$A$4:$I$218,7,0),\"\")","v":""},null,""]
[null,null,null,{"$f":"IF(C2391=\"\",\"\",VLOOKUP(C2391,Tabla_Regional[],3,0))","v":""},null,{"$f":"IF(E2391<>\"\",VLOOKUP(CONCATENATE(C2391,E2391),Dato!$A$4:$I$218,7,0),\"\")","v":""},null,""]
[null,null,null,{"$f":"IF(C2392=\"\",\"\",VLOOKUP(C2392,Tabla_Regional[],3,0))","v":""},null,{"$f":"IF(E2392<>\"\",VLOOKUP(CONCATENATE(C2392,E2392),Dato!$A$4:$I$218,7,0),\"\")","v":""},null,""]
[null,null,null,{"$f":"IF(C2393=\"\",\"\",VLOOKUP(C2393,Tabla_Regional[],3,0))","v":""},null,{"$f":"IF(E2393<>\"\",VLOOKUP(CONCATENATE(C2393,E2393),Dato!$A$4:$I$218,7,0),\"\")","v":""},null,""]
[null,null,null,{"$f":"IF(C2394=\"\",\"\",VLOOKUP(C2394,Tabla_Regional[],3,0))","v":""},null,{"$f":"IF(E2394<>\"\",VLOOKUP(CONCATENATE(C2394,E2394),Dato!$A$4:$I$218,7,0),\"\")","v":""},null,""]
[null,null,null,{"$f":"IF(C2395=\"\",\"\",VLOOKUP(C2395,Tabla_Regional[],3,0))","v":""},null,{"$f":"IF(E2395<>\"\",VLOOKUP(CONCATENATE(C2395,E2395),Dato!$A$4:$I$218,7,0),\"\")","v":""},null,""]
[null,null,null,{"$f":"IF(C2396=\"\",\"\",VLOOKUP(C2396,Tabla_Regional[],3,0))","v":""},null,{"$f":"IF(E2396<>\"\",VLOOKUP(CONCATENATE(C2396,E2396),Dato!$A$4:$I$218,7,0),\"\")","v":""},null,""]
[null,null,null,{"$f":"IF(C2397=\"\",\"\",VLOOKUP(C2397,Tabla_Regional[],3,0))","v":""},null,{"$f":"IF(E2397<>\"\",VLOOKUP(CONCATENATE(C2397,E2397),Dato!$A$4:$I$218,7,0),\"\")","v":""},null,""]
[null,null,null,{"$f":"IF(C2398=\"\",\"\",VLOOKUP(C2398,Tabla_Regional[],3,0))","v":""},null,{"$f":"IF(E2398<>\"\",VLOOKUP(CONCATENATE(C2398,E2398),Dato!$A$4:$I$218,7,0),\"\")","v":""},null,""]
[null,null,null,{"$f":"IF(C2399=\"\",\"\",VLOOKUP(C2399,Tabla_Regional[],3,0))","v":""},null,{"$f":"IF(E2399<>\"\",VLOOKUP(CONCATENATE(C2399,E2399),Dato!$A$4:$I$218,7,0),\"\")","v":""},null,""]
[null,null,null,{"$f":"IF(C2400=\"\",\"\",VLOOKUP(C2400,Tabla_Regional[],3,0))","v":""},null,{"$f":"IF(E2400<>\"\",VLOOKUP(CONCATENATE(C2400,E2400),Dato!$A$4:$I$218,7,0),\"\")","v":""},null,""]
[null,null,null,{"$f":"IF(C2401=\"\",\"\",VLOOKUP(C2401,Tabla_Regional[],3,0))","v":""},null,{"$f":"IF(E2401<>\"\",VLOOKUP(CONCATENATE(C2401,E2401),Dato!$A$4:$I$218,7,0),\"\")","v":""},null,""]
[null,null,null,{"$f":"IF(C2402=\"\",\"\",VLOOKUP(C2402,Tabla_Regional[],3,0))","v":""},null,{"$f":"IF(E2402<>\"\",VLOOKUP(CONCATENATE(C2402,E2402),Dato!$A$4:$I$218,7,0),\"\")","v":""},null,""]
[null,null,null,{"$f":"IF(C2403=\"\",\"\",VLOOKUP(C2403,Tabla_Regional[],3,0))","v":""},null,{"$f":"IF(E2403<>\"\",VLOOKUP(CONCATENATE(C2403,E2403),Dato!$A$4:$I$218,7,0),\"\")","v":""},null,""]
[null,null,null,{"$f":"IF(C2404=\"\",\"\",VLOOKUP(C2404,Tabla_Regional[],3,0))","v":""},null,{"$f":"IF(E2404<>\"\",VLOOKUP(CONCATENATE(C2404,E2404),Dato!$A$4:$I$218,7,0),\"\")","v":""},null,""]
[null,null,null,{"$f":"IF(C2405=\"\",\"\",VLOOKUP(C2405,Tabla_Regional[],3,0))","v":""},null,{"$f":"IF(E2405<>\"\",VLOOKUP(CONCATENATE(C2405,E2405),Dato!$A$4:$I$218,7,0),\"\")","v":""},null,""]
[null,null,null,{"$f":"IF(C2406=\"\",\"\",VLOOKUP(C2406,Tabla_Regional[],3,0))","v":""},null,{"$f":"IF(E2406<>\"\",VLOOKUP(CONCATENATE(C2406,E2406),Dato!$A$4:$I$218,7,0),\"\")","v":""},null,""]
[null,null,null,{"$f":"IF(C2407=\"\",\"\",VLOOKUP(C2407,Tabla_Regional[],3,0))","v":""},null,{"$f":"IF(E2407<>\"\",VLOOKUP(CONCATENATE(C2407,E2407),Dato!$A$4:$I$218,7,0),\"\")","v":""},null,""]
[null,null,null,{"$f":"IF(C2408=\"\",\"\",VLOOKUP(C2408,Tabla_Regional[],3,0))","v":""},null,{"$f":"IF(E2408<>\"\",VLOOKUP(CONCATENATE(C2408,E2408),Dato!$A$4:$I$218,7,0),\"\")","v":""},null,""]
[null,null,null,{"$f":"IF(C2409=\"\",\"\",VLOOKUP(C2409,Tabla_Regional[],3,0))","v":""},null,{"$f":"IF(E2409<>\"\",VLOOKUP(CONCATENATE(C2409,E2409),Dato!$A$4:$I$218,7,0),\"\")","v":""},null,""]
[null,null,null,{"$f":"IF(C2410=\"\",\"\",VLOOKUP(C2410,Tabla_Regional[],3,0))","v":""},null,{"$f":"IF(E2410<>\"\",VLOOKUP(CONCATENATE(C2410,E2410),Dato!$A$4:$I$218,7,0),\"\")","v":""},null,""]
[null,null,null,{"$f":"IF(C2411=\"\",\"\",VLOOKUP(C2411,Tabla_Regional[],3,0))","v":""},null,{"$f":"IF(E2411<>\"\",VLOOKUP(CONCATENATE(C2411,E2411),Dato!$A$4:$I$218,7,0),\"\")","v":""},null,""]
[null,null,null,{"$f":"IF(C2412=\"\",\"\",VLOOKUP(C2412,Tabla_Regional[],3,0))","v":""},null,{"$f":"IF(E2412<>\"\",VLOOKUP(CONCATENATE(C2412,E2412),Dato!$A$4:$I$218,7,0),\"\")","v":""},null,""]
[null,null,null,{"$f":"IF(C2413=\"\",\"\",VLOOKUP(C2413,Tabla_Regional[],3,0))","v":""},null,{"$f":"IF(E2413<>\"\",VLOOKUP(CONCATENATE(C2413,E2413),Dato!$A$4:$I$218,7,0),\"\")","v":""},null,""]
[null,null,null,{"$f":"IF(C2414=\"\",\"\",VLOOKUP(C2414,Tabla_Regional[],3,0))","v":""},null,{"$f":"IF(E2414<>\"\",VLOOKUP(CONCATENATE(C2414,E2414),Dato!$A$4:$I$218,7,0),\"\")","v":""},null,""]
[null,null,null,{"$f":"IF(C2415=\"\",\"\",VLOOKUP(C2415,Tabla_Regional[],3,0))","v":""},null,{"$f":"IF(E2415<>\"\",VLOOKUP(CONCATENATE(C2415,E2415),Dato!$A$4:$I$218,7,0),\"\")","v":""},null,""]
[null,null,null,{"$f":"IF(C2416=\"\",\"\",VLOOKUP(C2416,Tabla_Regional[],3,0))","v":""},null,{"$f":"IF(E2416<>\"\",VLOOKUP(CONCATENATE(C2416,E2416),Dato!$A$4:$I$218,7,0),\"\")","v":""},null,""]
[null,null,null,{"$f":"IF(C2417=\"\",\"\",VLOOKUP(C2417,Tabla_Regional[],3,0))","v":""},null,{"$f":"IF(E2417<>\"\",VLOOKUP(CONCATENATE(C2417,E2417),Dato!$A$4:$I$218,7,0),\"\")","v":""},null,""]
[null,null,null,{"$f":"IF(C2418=\"\",\"\",VLOOKUP(C2418,Tabla_Regional[],3,0))","v":""},null,{"$f":"IF(E2418<>\"\",VLOOKUP(CONCATENATE(C2418,E2418),Dato!$A$4:$I$218,7,0),\"\")","v":""},null,""]
[null,null,null,{"$f":"IF(C2419=\"\",\"\",VLOOKUP(C2419,Tabla_Regional[],3,0))","v":""},null,{"$f":"IF(E2419<>\"\",VLOOKUP(CONCATENATE(C2419,E2419),Dato!$A$4:$I$218,7,0),\"\")","v":""},null,""]
[null,null,null,{"$f":"IF(C2420=\"\",\"\",VLOOKUP(C2420,Tabla_Regional[],3,0))","v":""},null,{"$f":"IF(E2420<>\"\",VLOOKUP(CONCATENATE(C2420,E2420),Dato!$A$4:$I$218,7,0),\"\")","v":""},null,""]
[null,null,null,{"$f":"IF(C2421=\"\",\"\",VLOOKUP(C2421,Tabla_Regional[],3,0))","v":""},null,{"$f":"IF(E2421<>\"\",VLOOKUP(CONCATENATE(C2421,E2421),Dato!$A$4:$I$218,7,0),\"\")","v":""},null,""]
[null,null,null,{"$f":"IF(C2422=\"\",\"\",VLOOKUP(C2422,Tabla_Regional[],3,0))","v":""},null,{"$f":"IF(E2422<>\"\",VLOOKUP(CONCATENATE(C2422,E2422),Dato!$A$4:$I$218,7,0),\"\")","v":""},null,""]
[null,null,null,{"$f":"IF(C2423=\"\",\"\",VLOOKUP(C2423,Tabla_Regional[],3,0))","v":""},null,{"$f":"IF(E2423<>\"\",VLOOKUP(CONCATENATE(C2423,E2423),Dato!$A$4:$I$218,7,0),\"\")","v":""},null,""]
[null,null,null,{"$f":"IF(C2424=\"\",\"\",VLOOKUP(C2424,Tabla_Regional[],3,0))","v":""},null,{"$f":"IF(E2424<>\"\",VLOOKUP(CONCATENATE(C2424,E2424),Dato!$A$4:$I$218,7,0),\"\")","v":""},null,""]
[null,null,null,{"$f":"IF(C2425=\"\",\"\",VLOOKUP(C2425,Tabla_Regional[],3,0))","v":""},null,{"$f":"IF(E2425<>\"\",VLOOKUP(CONCATENATE(C2425,E2425),Dato!$A$4:$I$218,7,0),\"\")","v":""},null,""]
[null,null,null,{"$f":"IF(C2426=\"\",\"\",VLOOKUP(C2426,Tabla_Regional[],3,0))","v":""},null,{"$f":"IF(E2426<>\"\",VLOOKUP(CONCATENATE(C2426,E2426),Dato!$A$4:$I$218,7,0),\"\")","v":""},null,""]
[null,null,null,{"$f":"IF(C2427=\"\",\"\",VLOOKUP(C2427,Tabla_Regional[],3,0))","v":""},null,{"$f":"IF(E2427<>\"\",VLOOKUP(CONCATENATE(C2427,E2427),Dato!$A$4:$I$218,7,0),\"\")","v":""},null,""]
[null,null,null,{"$f":"IF(C2428=\"\",\"\",VLOOKUP(C2428,Tabla_Regional[],3,0))","v":""},null,{"$f":"IF(E2428<>\"\",VLOOKUP(CONCATENATE(C2428,E2428),Dato!$A$4:$I$218,7,0),\"\")","v":""},null,""]
[null,null,null,{"$f":"IF(C2429=\"\",\"\",VLOOKUP(C2429,Tabla_Regional[],3,0))","v":""},null,{"$f":"IF(E2429<>\"\",VLOOKUP(CONCATENATE(C2429,E2429),Dato!$A$4:$I$218,7,0),\"\")","v":""},null,""]
[null,null,null,{"$f":"IF(C2430=\"\",\"\",VLOOKUP(C2430,Tabla_Regional[],3,0))","v":""},null,{"$f":"IF(E2430<>\"\",VLOOKUP(CONCATENATE(C2430,E2430),Dato!$A$4:$I$218,7,0),\"\")","v":""},null,""]
[null,null,null,{"$f":"IF(C2431=\"\",\"\",VLOOKUP(C2431,Tabla_Regional[],3,0))","v":""},null,{"$f":"IF(E2431<>\"\",VLOOKUP(CONCATENATE(C2431,E2431),Dato!$A$4:$I$218,7,0),\"\")","v":""},null,""]
[null,null,null,{"$f":"IF(C2432=\"\",\"\",VLOOKUP(C2432,Tabla_Regional[],3,0))","v":""},null,{"$f":"IF(E2432<>\"\",VLOOKUP(CONCATENATE(C2432,E2432),Dato!$A$4:$I$218,7,0),\"\")","v":""},null,""]
[null,null,null,{"$f":"IF(C2433=\"\",\"\",VLOOKUP(C2433,Tabla_Regional[],3,0))","v":""},null,{"$f":"IF(E2433<>\"\",VLOOKUP(CONCATENATE(C2433,E2433),Dato!$A$4:$I$218,7,0),\"\")","v":""},null,""]
[null,null,null,{"$f":"IF(C2434=\"\",\"\",VLOOKUP(C2434,Tabla_Regional[],3,0))","v":""},null,{"$f":"IF(E2434<>\"\",VLOOKUP(CONCATENATE(C2434,E2434),Dato!$A$4:$I$218,7,0),\"\")","v":""},null,""]
[null,null,null,{"$f":"IF(C2435=\"\",\"\",VLOOKUP(C2435,Tabla_Regional[],3,0))","v":""},null,{"$f":"IF(E2435<>\"\",VLOOKUP(CONCATENATE(C2435,E2435),Dato!$A$4:$I$218,7,0),\"\")","v":""},null,""]
[null,null,null,{"$f":"IF(C2436=\"\",\"\",VLOOKUP(C2436,Tabla_Regional[],3,0))","v":""},null,{"$f":"IF(E2436<>\"\",VLOOKUP(CONCATENATE(C2436,E2436),Dato!$A$4:$I$218,7,0),\"\")","v":""},null,""]
[null,null,null,{"$f":"IF(C2437=\"\",\"\",VLOOKUP(C2437,Tabla_Regional[],3,0))","v":""},null,{"$f":"IF(E2437<>\"\",VLOOKUP(CONCATENATE(C2437,E2437),Dato!$A$4:$I$218,7,0),\"\")","v":""},null,""]
[null,null,null,{"$f":"IF(C2438=\"\",\"\",VLOOKUP(C2438,Tabla_Regional[],3,0))","v":""},null,{"$f":"IF(E2438<>\"\",VLOOKUP(CONCATENATE(C2438,E2438),Dato!$A$4:$I$218,7,0),\"\")","v":""},null,""]
[null,null,null,{"$f":"IF(C2439=\"\",\"\",VLOOKUP(C2439,Tabla_Regional[],3,0))","v":""},null,{"$f":"IF(E2439<>\"\",VLOOKUP(CONCATENATE(C2439,E2439),Dato!$A$4:$I$218,7,0),\"\")","v":""},null,""]
[null,null,null,{"$f":"IF(C2440=\"\",\"\",VLOOKUP(C2440,Tabla_Regional[],3,0))","v":""},null,{"$f":"IF(E2440<>\"\",VLOOKUP(CONCATENATE(C2440,E2440),Dato!$A$4:$I$218,7,0),\"\")","v":""},null,""]
[null,null,null,{"$f":"IF(C2441=\"\",\"\",VLOOKUP(C2441,Tabla_Regional[],3,0))","v":""},null,{"$f":"IF(E2441<>\"\",VLOOKUP(CONCATENATE(C2441,E2441),Dato!$A$4:$I$218,7,0),\"\")","v":""},null,""]
[null,null,null,{"$f":"IF(C2442=\"\",\"\",VLOOKUP(C2442,Tabla_Regional[],3,0))","v":""},null,{"$f":"IF(E2442<>\"\",VLOOKUP(CONCATENATE(C2442,E2442),Dato!$A$4:$I$218,7,0),\"\")","v":""},null,""]
[null,null,null,{"$f":"IF(C2443=\"\",\"\",VLOOKUP(C2443,Tabla_Regional[],3,0))","v":""},null,{"$f":"IF(E2443<>\"\",VLOOKUP(CONCATENATE(C2443,E2443),Dato!$A$4:$I$218,7,0),\"\")","v":""},null,""]
[null,null,null,{"$f":"IF(C2444=\"\",\"\",VLOOKUP(C2444,Tabla_Regional[],3,0))","v":""},null,{"$f":"IF(E2444<>\"\",VLOOKUP(CONCATENATE(C2444,E2444),Dato!$A$4:$I$218,7,0),\"\")","v":""},null,{"$f":"IF(G2444<>\"\",VLOOKUP(CONCATENATE(C2444,E2444,G2444),czmuni,7,0),\"\")","v":""}]
[null,null,null,{"$f":"IF(C2445=\"\",\"\",VLOOKUP(C2445,Tabla_Regional[],3,0))","v":""},null,{"$f":"IF(E2445<>\"\",VLOOKUP(CONCATENATE(C2445,E2445),Dato!$A$4:$I$218,7,0),\"\")","v":""},null,""]
[null,null,null,{"$f":"IF(C2446=\"\",\"\",VLOOKUP(C2446,Tabla_Regional[],3,0))","v":""},null,{"$f":"IF(E2446<>\"\",VLOOKUP(CONCATENATE(C2446,E2446),Dato!$A$4:$I$218,7,0),\"\")","v":""},null,""]
[null,null,null,{"$f":"IF(C2447=\"\",\"\",VLOOKUP(C2447,Tabla_Regional[],3,0))","v":""},null,{"$f":"IF(E2447<>\"\",VLOOKUP(CONCATENATE(C2447,E2447),Dato!$A$4:$I$218,7,0),\"\")","v":""},null,""]
[null,null,null,{"$f":"IF(C2448=\"\",\"\",VLOOKUP(C2448,Tabla_Regional[],3,0))","v":""},null,{"$f":"IF(E2448<>\"\",VLOOKUP(CONCATENATE(C2448,E2448),Dato!$A$4:$I$218,7,0),\"\")","v":""},null,""]
[null,null,null,{"$f":"IF(C2449=\"\",\"\",VLOOKUP(C2449,Tabla_Regional[],3,0))","v":""},null,{"$f":"IF(E2449<>\"\",VLOOKUP(CONCATENATE(C2449,E2449),Dato!$A$4:$I$218,7,0),\"\")","v":""},null,""]
[null,null,null,{"$f":"IF(C2450=\"\",\"\",VLOOKUP(C2450,Tabla_Regional[],3,0))","v":""},null,{"$f":"IF(E2450<>\"\",VLOOKUP(CONCATENATE(C2450,E2450),Dato!$A$4:$I$218,7,0),\"\")","v":""},null,""]
[null,null,null,{"$f":"IF(C2451=\"\",\"\",VLOOKUP(C2451,Tabla_Regional[],3,0))","v":""},null,{"$f":"IF(E2451<>\"\",VLOOKUP(CONCATENATE(C2451,E2451),Dato!$A$4:$I$218,7,0),\"\")","v":""},null,""]
[null,null,null,{"$f":"IF(C2452=\"\",\"\",VLOOKUP(C2452,Tabla_Regional[],3,0))","v":""},null,{"$f":"IF(E2452<>\"\",VLOOKUP(CONCATENATE(C2452,E2452),Dato!$A$4:$I$218,7,0),\"\")","v":""},null,""]
[null,null,null,{"$f":"IF(C2453=\"\",\"\",VLOOKUP(C2453,Tabla_Regional[],3,0))","v":""},null,{"$f":"IF(E2453<>\"\",VLOOKUP(CONCATENATE(C2453,E2453),Dato!$A$4:$I$218,7,0),\"\")","v":""},null,""]
[null,null,null,{"$f":"IF(C2454=\"\",\"\",VLOOKUP(C2454,Tabla_Regional[],3,0))","v":""},null,{"$f":"IF(E2454<>\"\",VLOOKUP(CONCATENATE(C2454,E2454),Dato!$A$4:$I$218,7,0),\"\")","v":""},null,""]
[null,null,null,{"$f":"IF(C2455=\"\",\"\",VLOOKUP(C2455,Tabla_Regional[],3,0))","v":""},null,{"$f":"IF(E2455<>\"\",VLOOKUP(CONCATENATE(C2455,E2455),Dato!$A$4:$I$218,7,0),\"\")","v":""},null,""]
[null,null,null,{"$f":"IF(C2456=\"\",\"\",VLOOKUP(C2456,Tabla_Regional[],3,0))","v":""},null,{"$f":"IF(E2456<>\"\",VLOOKUP(CONCATENATE(C2456,E2456),Dato!$A$4:$I$218,7,0),\"\")","v":""},null,""]
[null,null,null,{"$f":"IF(C2457=\"\",\"\",VLOOKUP(C2457,Tabla_Regional[],3,0))","v":""},null,{"$f":"IF(E2457<>\"\",VLOOKUP(CONCATENATE(C2457,E2457),Dato!$A$4:$I$218,7,0),\"\")","v":""},null,""]
[null,null,null,{"$f":"IF(C2458=\"\",\"\",VLOOKUP(C2458,Tabla_Regional[],3,0))","v":""},null,{"$f":"IF(E2458<>\"\",VLOOKUP(CONCATENATE(C2458,E2458),Dato!$A$4:$I$218,7,0),\"\")","v":""},null,""]
[null,null,null,{"$f":"IF(C2459=\"\",\"\",VLOOKUP(C2459,Tabla_Regional[],3,0))","v":""},null,{"$f":"IF(E2459<>\"\",VLOOKUP(CONCATENATE(C2459,E2459),Dato!$A$4:$I$218,7,0),\"\")","v":""},null,""]
[null,null,null,{"$f":"IF(C2460=\"\",\"\",VLOOKUP(C2460,Tabla_Regional[],3,0))","v":""},null,{"$f":"IF(E2460<>\"\",VLOOKUP(CONCATENATE(C2460,E2460),Dato!$A$4:$I$218,7,0),\"\")","v":""},null,""]
[null,null,null,{"$f":"IF(C2461=\"\",\"\",VLOOKUP(C2461,Tabla_Regional[],3,0))","v":""},null,{"$f":"IF(E2461<>\"\",VLOOKUP(CONCATENATE(C2461,E2461),Dato!$A$4:$I$218,7,0),\"\")","v":""},null,""]
[null,null,null,{"$f":"IF(C2462=\"\",\"\",VLOOKUP(C2462,Tabla_Regional[],3,0))","v":""},null,{"$f":"IF(E2462<>\"\",VLOOKUP(CONCATENATE(C2462,E2462),Dato!$A$4:$I$218,7,0),\"\")","v":""},null,""]
[null,null,null,{"$f":"IF(C2463=\"\",\"\",VLOOKUP(C2463,Tabla_Regional[],3,0))","v":""},null,{"$f":"IF(E2463<>\"\",VLOOKUP(CONCATENATE(C2463,E2463),Dato!$A$4:$I$218,7,0),\"\")","v":""},null,""]
[null,null,null,{"$f":"IF(C2464=\"\",\"\",VLOOKUP(C2464,Tabla_Regional[],3,0))","v":""},null,{"$f":"IF(E2464<>\"\",VLOOKUP(CONCATENATE(C2464,E2464),Dato!$A$4:$I$218,7,0),\"\")","v":""},null,""]
[null,null,null,{"$f":"IF(C2465=\"\",\"\",VLOOKUP(C2465,Tabla_Regional[],3,0))","v":""},null,{"$f":"IF(E2465<>\"\",VLOOKUP(CONCATENATE(C2465,E2465),Dato!$A$4:$I$218,7,0),\"\")","v":""},null,""]
[null,null,null,{"$f":"IF(C2466=\"\",\"\",VLOOKUP(C2466,Tabla_Regional[],3,0))","v":""},null,{"$f":"IF(E2466<>\"\",VLOOKUP(CONCATENATE(C2466,E2466),Dato!$A$4:$I$218,7,0),\"\")","v":""},null,""]
[null,null,null,{"$f":"IF(C2467=\"\",\"\",VLOOKUP(C2467,Tabla_Regional[],3,0))","v":""},null,{"$f":"IF(E2467<>\"\",VLOOKUP(CONCATENATE(C2467,E2467),Dato!$A$4:$I$218,7,0),\"\")","v":""},null,""]
[null,null,null,{"$f":"IF(C2468=\"\",\"\",VLOOKUP(C2468,Tabla_Regional[],3,0))","v":""},null,{"$f":"IF(E2468<>\"\",VLOOKUP(CONCATENATE(C2468,E2468),Dato!$A$4:$I$218,7,0),\"\")","v":""},null,""]
[null,null,null,{"$f":"IF(C2469=\"\",\"\",VLOOKUP(C2469,Tabla_Regional[],3,0))","v":""},null,{"$f":"IF(E2469<>\"\",VLOOKUP(CONCATENATE(C2469,E2469),Dato!$A$4:$I$218,7,0),\"\")","v":""},null,""]
[null,null,null,{"$f":"IF(C2470=\"\",\"\",VLOOKUP(C2470,Tabla_Regional[],3,0))","v":""},null,{"$f":"IF(E2470<>\"\",VLOOKUP(CONCATENATE(C2470,E2470),Dato!$A$4:$I$218,7,0),\"\")","v":""},null,""]
[null,null,null,{"$f":"IF(C2471=\"\",\"\",VLOOKUP(C2471,Tabla_Regional[],3,0))","v":""},null,{"$f":"IF(E2471<>\"\",VLOOKUP(CONCATENATE(C2471,E2471),Dato!$A$4:$I$218,7,0),\"\")","v":""},null,""]
[null,null,null,{"$f":"IF(C2472=\"\",\"\",VLOOKUP(C2472,Tabla_Regional[],3,0))","v":""},null,{"$f":"IF(E2472<>\"\",VLOOKUP(CONCATENATE(C2472,E2472),Dato!$A$4:$I$218,7,0),\"\")","v":""},null,""]
[null,null,null,{"$f":"IF(C2473=\"\",\"\",VLOOKUP(C2473,Tabla_Regional[],3,0))","v":""},null,{"$f":"IF(E2473<>\"\",VLOOKUP(CONCATENATE(C2473,E2473),Dato!$A$4:$I$218,7,0),\"\")","v":""},null,""]
[null,null,null,{"$f":"IF(C2474=\"\",\"\",VLOOKUP(C2474,Tabla_Regional[],3,0))","v":""},null,{"$f":"IF(E2474<>\"\",VLOOKUP(CONCATENATE(C2474,E2474),Dato!$A$4:$I$218,7,0),\"\")","v":""},null,""]
[null,null,null,{"$f":"IF(C2475=\"\",\"\",VLOOKUP(C2475,Tabla_Regional[],3,0))","v":""},null,{"$f":"IF(E2475<>\"\",VLOOKUP(CONCATENATE(C2475,E2475),Dato!$A$4:$I$218,7,0),\"\")","v":""},null,""]
[null,null,null,{"$f":"IF(C2476=\"\",\"\",VLOOKUP(C2476,Tabla_Regional[],3,0))","v":""},null,{"$f":"IF(E2476<>\"\",VLOOKUP(CONCATENATE(C2476,E2476),Dato!$A$4:$I$218,7,0),\"\")","v":""},null,""]
[null,null,null,{"$f":"IF(C2477=\"\",\"\",VLOOKUP(C2477,Tabla_Regional[],3,0))","v":""},null,{"$f":"IF(E2477<>\"\",VLOOKUP(CONCATENATE(C2477,E2477),Dato!$A$4:$I$218,7,0),\"\")","v":""},null,""]
[null,null,null,{"$f":"IF(C2478=\"\",\"\",VLOOKUP(C2478,Tabla_Regional[],3,0))","v":""},null,{"$f":"IF(E2478<>\"\",VLOOKUP(CONCATENATE(C2478,E2478),Dato!$A$4:$I$218,7,0),\"\")","v":""},null,""]
[null,null,null,{"$f":"IF(C2479=\"\",\"\",VLOOKUP(C2479,Tabla_Regional[],3,0))","v":""},null,{"$f":"IF(E2479<>\"\",VLOOKUP(CONCATENATE(C2479,E2479),Dato!$A$4:$I$218,7,0),\"\")","v":""},null,""]
[null,null,null,{"$f":"IF(C2480=\"\",\"\",VLOOKUP(C2480,Tabla_Regional[],3,0))","v":""},null,{"$f":"IF(E2480<>\"\",VLOOKUP(CONCATENATE(C2480,E2480),Dato!$A$4:$I$218,7,0),\"\")","v":""},null,""]
[null,null,null,{"$f":"IF(C2481=\"\",\"\",VLOOKUP(C2481,Tabla_Regional[],3,0))","v":""},null,{"$f":"IF(E2481<>\"\",VLOOKUP(CONCATENATE(C2481,E2481),Dato!$A$4:$I$218,7,0),\"\")","v":""},null,""]
[null,null,null,{"$f":"IF(C2482=\"\",\"\",VLOOKUP(C2482,Tabla_Regional[],3,0))","v":""},null,{"$f":"IF(E2482<>\"\",VLOOKUP(CONCATENATE(C2482,E2482),Dato!$A$4:$I$218,7,0),\"\")","v":""},null,""]
[null,null,null,{"$f":"IF(C2483=\"\",\"\",VLOOKUP(C2483,Tabla_Regional[],3,0))","v":""},null,{"$f":"IF(E2483<>\"\",VLOOKUP(CONCATENATE(C2483,E2483),Dato!$A$4:$I$218,7,0),\"\")","v":""},null,""]
[null,null,null,{"$f":"IF(C2484=\"\",\"\",VLOOKUP(C2484,Tabla_Regional[],3,0))","v":""},null,{"$f":"IF(E2484<>\"\",VLOOKUP(CONCATENATE(C2484,E2484),Dato!$A$4:$I$218,7,0),\"\")","v":""},null,""]
[null,null,null,{"$f":"IF(C2485=\"\",\"\",VLOOKUP(C2485,Tabla_Regional[],3,0))","v":""},null,{"$f":"IF(E2485<>\"\",VLOOKUP(CONCATENATE(C2485,E2485),Dato!$A$4:$I$218,7,0),\"\")","v":""},null,""]
[null,null,null,{"$f":"IF(C2486=\"\",\"\",VLOOKUP(C2486,Tabla_Regional[],3,0))","v":""},null,{"$f":"IF(E2486<>\"\",VLOOKUP(CONCATENATE(C2486,E2486),Dato!$A$4:$I$218,7,0),\"\")","v":""},null,""]
[null,null,null,{"$f":"IF(C2487=\"\",\"\",VLOOKUP(C2487,Tabla_Regional[],3,0))","v":""},null,{"$f":"IF(E2487<>\"\",VLOOKUP(CONCATENATE(C2487,E2487),Dato!$A$4:$I$218,7,0),\"\")","v":""},null,""]
[null,null,null,{"$f":"IF(C2488=\"\",\"\",VLOOKUP(C2488,Tabla_Regional[],3,0))","v":""},null,{"$f":"IF(E2488<>\"\",VLOOKUP(CONCATENATE(C2488,E2488),Dato!$A$4:$I$218,7,0),\"\")","v":""},null,""]
[null,null,null,{"$f":"IF(C2489=\"\",\"\",VLOOKUP(C2489,Tabla_Regional[],3,0))","v":""},null,{"$f":"IF(E2489<>\"\",VLOOKUP(CONCATENATE(C2489,E2489),Dato!$A$4:$I$218,7,0),\"\")","v":""},null,""]
[null,null,null,{"$f":"IF(C2490=\"\",\"\",VLOOKUP(C2490,Tabla_Regional[],3,0))","v":""},null,{"$f":"IF(E2490<>\"\",VLOOKUP(CONCATENATE(C2490,E2490),Dato!$A$4:$I$218,7,0),\"\")","v":""},null,""]
[null,null,null,{"$f":"IF(C2491=\"\",\"\",VLOOKUP(C2491,Tabla_Regional[],3,0))","v":""},null,{"$f":"IF(E2491<>\"\",VLOOKUP(CONCATENATE(C2491,E2491),Dato!$A$4:$I$218,7,0),\"\")","v":""},null,""]
[null,null,null,{"$f":"IF(C2492=\"\",\"\",VLOOKUP(C2492,Tabla_Regional[],3,0))","v":""},null,{"$f":"IF(E2492<>\"\",VLOOKUP(CONCATENATE(C2492,E2492),Dato!$A$4:$I$218,7,0),\"\")","v":""},null,""]
[null,null,null,{"$f":"IF(C2493=\"\",\"\",VLOOKUP(C2493,Tabla_Regional[],3,0))","v":""},null,{"$f":"IF(E2493<>\"\",VLOOKUP(CONCATENATE(C2493,E2493),Dato!$A$4:$I$218,7,0),\"\")","v":""},null,""]
[null,null,null,{"$f":"IF(C2494=\"\",\"\",VLOOKUP(C2494,Tabla_Regional[],3,0))","v":""},null,{"$f":"IF(E2494<>\"\",VLOOKUP(CONCATENATE(C2494,E2494),Dato!$A$4:$I$218,7,0),\"\")","v":""},null,""]
[null,null,null,{"$f":"IF(C2495=\"\",\"\",VLOOKUP(C2495,Tabla_Regional[],3,0))","v":""},null,{"$f":"IF(E2495<>\"\",VLOOKUP(CONCATENATE(C2495,E2495),Dato!$A$4:$I$218,7,0),\"\")","v":""},null,""]
[null,null,null,{"$f":"IF(C2496=\"\",\"\",VLOOKUP(C2496,Tabla_Regional[],3,0))","v":""},null,{"$f":"IF(E2496<>\"\",VLOOKUP(CONCATENATE(C2496,E2496),Dato!$A$4:$I$218,7,0),\"\")","v":""},null,""]
[null,null,null,{"$f":"IF(C2497=\"\",\"\",VLOOKUP(C2497,Tabla_Regional[],3,0))","v":""},null,{"$f":"IF(E2497<>\"\",VLOOKUP(CONCATENATE(C2497,E2497),Dato!$A$4:$I$218,7,0),\"\")","v":""},null,""]
[null,null,null,{"$f":"IF(C2498=\"\",\"\",VLOOKUP(C2498,Tabla_Regional[],3,0))","v":""},null,{"$f":"IF(E2498<>\"\",VLOOKUP(CONCATENATE(C2498,E2498),Dato!$A$4:$I$218,7,0),\"\")","v":""},null,""]
[null,null,null,{"$f":"IF(C2499=\"\",\"\",VLOOKUP(C2499,Tabla_Regional[],3,0))","v":""},null,{"$f":"IF(E2499<>\"\",VLOOKUP(CONCATENATE(C2499,E2499),Dato!$A$4:$I$218,7,0),\"\")","v":""},null,""]
[null,null,null,{"$f":"IF(C2500=\"\",\"\",VLOOKUP(C2500,Tabla_Regional[],3,0))","v":""},null,{"$f":"IF(E2500<>\"\",VLOOKUP(CONCATENATE(C2500,E2500),Dato!$A$4:$I$218,7,0),\"\")","v":""},null,""]
[null,null,null,{"$f":"IF(C2501=\"\",\"\",VLOOKUP(C2501,Tabla_Regional[],3,0))","v":""},null,{"$f":"IF(E2501<>\"\",VLOOKUP(CONCATENATE(C2501,E2501),Dato!$A$4:$I$218,7,0),\"\")","v":""},null,""]
[null,null,null,{"$f":"IF(C2502=\"\",\"\",VLOOKUP(C2502,Tabla_Regional[],3,0))","v":""},null,{"$f":"IF(E2502<>\"\",VLOOKUP(CONCATENATE(C2502,E2502),Dato!$A$4:$I$218,7,0),\"\")","v":""},null,""]
[null,null,null,{"$f":"IF(C2503=\"\",\"\",VLOOKUP(C2503,Tabla_Regional[],3,0))","v":""},null,{"$f":"IF(E2503<>\"\",VLOOKUP(CONCATENATE(C2503,E2503),Dato!$A$4:$I$218,7,0),\"\")","v":""},null,""]
[null,null,null,{"$f":"IF(C2504=\"\",\"\",VLOOKUP(C2504,Tabla_Regional[],3,0))","v":""},null,{"$f":"IF(E2504<>\"\",VLOOKUP(CONCATENATE(C2504,E2504),Dato!$A$4:$I$218,7,0),\"\")","v":""},null,""]
[null,null,null,{"$f":"IF(C2505=\"\",\"\",VLOOKUP(C2505,Tabla_Regional[],3,0))","v":""},null,{"$f":"IF(E2505<>\"\",VLOOKUP(CONCATENATE(C2505,E2505),Dato!$A$4:$I$218,7,0),\"\")","v":""},null,""]
[null,null,null,{"$f":"IF(C2506=\"\",\"\",VLOOKUP(C2506,Tabla_Regional[],3,0))","v":""},null,{"$f":"IF(E2506<>\"\",VLOOKUP(CONCATENATE(C2506,E2506),Dato!$A$4:$I$218,7,0),\"\")","v":""},null,""]
[null,null,null,{"$f":"IF(C2507=\"\",\"\",VLOOKUP(C2507,Tabla_Regional[],3,0))","v":""},null,{"$f":"IF(E2507<>\"\",VLOOKUP(CONCATENATE(C2507,E2507),Dato!$A$4:$I$218,7,0),\"\")","v":""},null,""]
[null,null,null,{"$f":"IF(C2508=\"\",\"\",VLOOKUP(C2508,Tabla_Regional[],3,0))","v":""},null,{"$f":"IF(E2508<>\"\",VLOOKUP(CONCATENATE(C2508,E2508),Dato!$A$4:$I$218,7,0),\"\")","v":""},null,{"$f":"IF(G2508<>\"\",VLOOKUP(CONCATENATE(C2508,E2508,G2508),czmuni,7,0),\"\")","v":""}]
[null,null,null,{"$f":"IF(C2509=\"\",\"\",VLOOKUP(C2509,Tabla_Regional[],3,0))","v":""},null,{"$f":"IF(E2509<>\"\",VLOOKUP(CONCATENATE(C2509,E2509),Dato!$A$4:$I$218,7,0),\"\")","v":""},null,""]
[null,null,null,{"$f":"IF(C2510=\"\",\"\",VLOOKUP(C2510,Tabla_Regional[],3,0))","v":""},null,{"$f":"IF(E2510<>\"\",VLOOKUP(CONCATENATE(C2510,E2510),Dato!$A$4:$I$218,7,0),\"\")","v":""},null,""]
[null,null,null,{"$f":"IF(C2511=\"\",\"\",VLOOKUP(C2511,Tabla_Regional[],3,0))","v":""},null,{"$f":"IF(E2511<>\"\",VLOOKUP(CONCATENATE(C2511,E2511),Dato!$A$4:$I$218,7,0),\"\")","v":""},null,""]
[null,null,null,{"$f":"IF(C2512=\"\",\"\",VLOOKUP(C2512,Tabla_Regional[],3,0))","v":""},null,{"$f":"IF(E2512<>\"\",VLOOKUP(CONCATENATE(C2512,E2512),Dato!$A$4:$I$218,7,0),\"\")","v":""},null,""]
[null,null,null,{"$f":"IF(C2513=\"\",\"\",VLOOKUP(C2513,Tabla_Regional[],3,0))","v":""},null,{"$f":"IF(E2513<>\"\",VLOOKUP(CONCATENATE(C2513,E2513),Dato!$A$4:$I$218,7,0),\"\")","v":""},null,""]
[null,null,null,{"$f":"IF(C2514=\"\",\"\",VLOOKUP(C2514,Tabla_Regional[],3,0))","v":""},null,{"$f":"IF(E2514<>\"\",VLOOKUP(CONCATENATE(C2514,E2514),Dato!$A$4:$I$218,7,0),\"\")","v":""},null,""]
[null,null,null,{"$f":"IF(C2515=\"\",\"\",VLOOKUP(C2515,Tabla_Regional[],3,0))","v":""},null,{"$f":"IF(E2515<>\"\",VLOOKUP(CONCATENATE(C2515,E2515),Dato!$A$4:$I$218,7,0),\"\")","v":""},null,""]
[null,null,null,{"$f":"IF(C2516=\"\",\"\",VLOOKUP(C2516,Tabla_Regional[],3,0))","v":""},null,{"$f":"IF(E2516<>\"\",VLOOKUP(CONCATENATE(C2516,E2516),Dato!$A$4:$I$218,7,0),\"\")","v":""},null,""]
[null,null,null,{"$f":"IF(C2517=\"\",\"\",VLOOKUP(C2517,Tabla_Regional[],3,0))","v":""},null,{"$f":"IF(E2517<>\"\",VLOOKUP(CONCATENATE(C2517,E2517),Dato!$A$4:$I$218,7,0),\"\")","v":""},null,""]
[null,null,null,{"$f":"IF(C2518=\"\",\"\",VLOOKUP(C2518,Tabla_Regional[],3,0))","v":""},null,{"$f":"IF(E2518<>\"\",VLOOKUP(CONCATENATE(C2518,E2518),Dato!$A$4:$I$218,7,0),\"\")","v":""},null,""]
[null,null,null,{"$f":"IF(C2519=\"\",\"\",VLOOKUP(C2519,Tabla_Regional[],3,0))","v":""},null,{"$f":"IF(E2519<>\"\",VLOOKUP(CONCATENATE(C2519,E2519),Dato!$A$4:$I$218,7,0),\"\")","v":""},null,""]
[null,null,null,{"$f":"IF(C2520=\"\",\"\",VLOOKUP(C2520,Tabla_Regional[],3,0))","v":""},null,{"$f":"IF(E2520<>\"\",VLOOKUP(CONCATENATE(C2520,E2520),Dato!$A$4:$I$218,7,0),\"\")","v":""},null,""]
[null,null,null,{"$f":"IF(C2521=\"\",\"\",VLOOKUP(C2521,Tabla_Regional[],3,0))","v":""},null,{"$f":"IF(E2521<>\"\",VLOOKUP(CONCATENATE(C2521,E2521),Dato!$A$4:$I$218,7,0),\"\")","v":""},null,""]
[null,null,null,{"$f":"IF(C2522=\"\",\"\",VLOOKUP(C2522,Tabla_Regional[],3,0))","v":""},null,{"$f":"IF(E2522<>\"\",VLOOKUP(CONCATENATE(C2522,E2522),Dato!$A$4:$I$218,7,0),\"\")","v":""},null,""]
[null,null,null,{"$f":"IF(C2523=\"\",\"\",VLOOKUP(C2523,Tabla_Regional[],3,0))","v":""},null,{"$f":"IF(E2523<>\"\",VLOOKUP(CONCATENATE(C2523,E2523),Dato!$A$4:$I$218,7,0),\"\")","v":""},null,""]
[null,null,null,{"$f":"IF(C2524=\"\",\"\",VLOOKUP(C2524,Tabla_Regional[],3,0))","v":""},null,{"$f":"IF(E2524<>\"\",VLOOKUP(CONCATENATE(C2524,E2524),Dato!$A$4:$I$218,7,0),\"\")","v":""},null,""]
[null,null,null,{"$f":"IF(C2525=\"\",\"\",VLOOKUP(C2525,Tabla_Regional[],3,0))","v":""},null,{"$f":"IF(E2525<>\"\",VLOOKUP(CONCATENATE(C2525,E2525),Dato!$A$4:$I$218,7,0),\"\")","v":""},null,""]
[null,null,null,{"$f":"IF(C2526=\"\",\"\",VLOOKUP(C2526,Tabla_Regional[],3,0))","v":""},null,{"$f":"IF(E2526<>\"\",VLOOKUP(CONCATENATE(C2526,E2526),Dato!$A$4:$I$218,7,0),\"\")","v":""},null,""]
[null,null,null,{"$f":"IF(C2527=\"\",\"\",VLOOKUP(C2527,Tabla_Regional[],3,0))","v":""},null,{"$f":"IF(E2527<>\"\",VLOOKUP(CONCATENATE(C2527,E2527),Dato!$A$4:$I$218,7,0),\"\")","v":""},null,""]
[null,null,null,{"$f":"IF(C2528=\"\",\"\",VLOOKUP(C2528,Tabla_Regional[],3,0))","v":""},null,{"$f":"IF(E2528<>\"\",VLOOKUP(CONCATENATE(C2528,E2528),Dato!$A$4:$I$218,7,0),\"\")","v":""},null,""]
[null,null,null,{"$f":"IF(C2529=\"\",\"\",VLOOKUP(C2529,Tabla_Regional[],3,0))","v":""},null,{"$f":"IF(E2529<>\"\",VLOOKUP(CONCATENATE(C2529,E2529),Dato!$A$4:$I$218,7,0),\"\")","v":""},null,""]
[null,null,null,{"$f":"IF(C2530=\"\",\"\",VLOOKUP(C2530,Tabla_Regional[],3,0))","v":""},null,{"$f":"IF(E2530<>\"\",VLOOKUP(CONCATENATE(C2530,E2530),Dato!$A$4:$I$218,7,0),\"\")","v":""},null,""]
[null,null,null,{"$f":"IF(C2531=\"\",\"\",VLOOKUP(C2531,Tabla_Regional[],3,0))","v":""},null,{"$f":"IF(E2531<>\"\",VLOOKUP(CONCATENATE(C2531,E2531),Dato!$A$4:$I$218,7,0),\"\")","v":""},null,""]
[null,null,null,{"$f":"IF(C2532=\"\",\"\",VLOOKUP(C2532,Tabla_Regional[],3,0))","v":""},null,{"$f":"IF(E2532<>\"\",VLOOKUP(CONCATENATE(C2532,E2532),Dato!$A$4:$I$218,7,0),\"\")","v":""},null,""]
[null,null,null,{"$f":"IF(C2533=\"\",\"\",VLOOKUP(C2533,Tabla_Regional[],3,0))","v":""},null,{"$f":"IF(E2533<>\"\",VLOOKUP(CONCATENATE(C2533,E2533),Dato!$A$4:$I$218,7,0),\"\")","v":""},null,""]
[null,null,null,{"$f":"IF(C2534=\"\",\"\",VLOOKUP(C2534,Tabla_Regional[],3,0))","v":""},null,{"$f":"IF(E2534<>\"\",VLOOKUP(CONCATENATE(C2534,E2534),Dato!$A$4:$I$218,7,0),\"\")","v":""},null,""]
[null,null,null,{"$f":"IF(C2535=\"\",\"\",VLOOKUP(C2535,Tabla_Regional[],3,0))","v":""},null,{"$f":"IF(E2535<>\"\",VLOOKUP(CONCATENATE(C2535,E2535),Dato!$A$4:$I$218,7,0),\"\")","v":""},null,""]
[null,null,null,{"$f":"IF(C2536=\"\",\"\",VLOOKUP(C2536,Tabla_Regional[],3,0))","v":""},null,{"$f":"IF(E2536<>\"\",VLOOKUP(CONCATENATE(C2536,E2536),Dato!$A$4:$I$218,7,0),\"\")","v":""},null,""]
[null,null,null,{"$f":"IF(C2537=\"\",\"\",VLOOKUP(C2537,Tabla_Regional[],3,0))","v":""},null,{"$f":"IF(E2537<>\"\",VLOOKUP(CONCATENATE(C2537,E2537),Dato!$A$4:$I$218,7,0),\"\")","v":""},null,""]
[null,null,null,{"$f":"IF(C2538=\"\",\"\",VLOOKUP(C2538,Tabla_Regional[],3,0))","v":""},null,{"$f":"IF(E2538<>\"\",VLOOKUP(CONCATENATE(C2538,E2538),Dato!$A$4:$I$218,7,0),\"\")","v":""},null,""]
[null,null,null,{"$f":"IF(C2539=\"\",\"\",VLOOKUP(C2539,Tabla_Regional[],3,0))","v":""},null,{"$f":"IF(E2539<>\"\",VLOOKUP(CONCATENATE(C2539,E2539),Dato!$A$4:$I$218,7,0),\"\")","v":""},null,""]
[null,null,null,{"$f":"IF(C2540=\"\",\"\",VLOOKUP(C2540,Tabla_Regional[],3,0))","v":""},null,{"$f":"IF(E2540<>\"\",VLOOKUP(CONCATENATE(C2540,E2540),Dato!$A$4:$I$218,7,0),\"\")","v":""},null,""]
[null,null,null,{"$f":"IF(C2541=\"\",\"\",VLOOKUP(C2541,Tabla_Regional[],3,0))","v":""},null,{"$f":"IF(E2541<>\"\",VLOOKUP(CONCATENATE(C2541,E2541),Dato!$A$4:$I$218,7,0),\"\")","v":""},null,""]
[null,null,null,{"$f":"IF(C2542=\"\",\"\",VLOOKUP(C2542,Tabla_Regional[],3,0))","v":""},null,{"$f":"IF(E2542<>\"\",VLOOKUP(CONCATENATE(C2542,E2542),Dato!$A$4:$I$218,7,0),\"\")","v":""},null,""]
[null,null,null,{"$f":"IF(C2543=\"\",\"\",VLOOKUP(C2543,Tabla_Regional[],3,0))","v":""},null,{"$f":"IF(E2543<>\"\",VLOOKUP(CONCATENATE(C2543,E2543),Dato!$A$4:$I$218,7,0),\"\")","v":""},null,""]
[null,null,null,{"$f":"IF(C2544=\"\",\"\",VLOOKUP(C2544,Tabla_Regional[],3,0))","v":""},null,{"$f":"IF(E2544<>\"\",VLOOKUP(CONCATENATE(C2544,E2544),Dato!$A$4:$I$218,7,0),\"\")","v":""},null,""]
[null,null,null,{"$f":"IF(C2545=\"\",\"\",VLOOKUP(C2545,Tabla_Regional[],3,0))","v":""},null,{"$f":"IF(E2545<>\"\",VLOOKUP(CONCATENATE(C2545,E2545),Dato!$A$4:$I$218,7,0),\"\")","v":""},null,""]
[null,null,null,{"$f":"IF(C2546=\"\",\"\",VLOOKUP(C2546,Tabla_Regional[],3,0))","v":""},null,{"$f":"IF(E2546<>\"\",VLOOKUP(CONCATENATE(C2546,E2546),Dato!$A$4:$I$218,7,0),\"\")","v":""},null,""]
[null,null,null,{"$f":"IF(C2547=\"\",\"\",VLOOKUP(C2547,Tabla_Regional[],3,0))","v":""},null,{"$f":"IF(E2547<>\"\",VLOOKUP(CONCATENATE(C2547,E2547),Dato!$A$4:$I$218,7,0),\"\")","v":""},null,""]
[null,null,null,{"$f":"IF(C2548=\"\",\"\",VLOOKUP(C2548,Tabla_Regional[],3,0))","v":""},null,{"$f":"IF(E2548<>\"\",VLOOKUP(CONCATENATE(C2548,E2548),Dato!$A$4:$I$218,7,0),\"\")","v":""},null,""]
[null,null,null,{"$f":"IF(C2549=\"\",\"\",VLOOKUP(C2549,Tabla_Regional[],3,0))","v":""},null,{"$f":"IF(E2549<>\"\",VLOOKUP(CONCATENATE(C2549,E2549),Dato!$A$4:$I$218,7,0),\"\")","v":""},null,""]
[null,null,null,{"$f":"IF(C2550=\"\",\"\",VLOOKUP(C2550,Tabla_Regional[],3,0))","v":""},null,{"$f":"IF(E2550<>\"\",VLOOKUP(CONCATENATE(C2550,E2550),Dato!$A$4:$I$218,7,0),\"\")","v":""},null,""]
[null,null,null,{"$f":"IF(C2551=\"\",\"\",VLOOKUP(C2551,Tabla_Regional[],3,0))","v":""},null,{"$f":"IF(E2551<>\"\",VLOOKUP(CONCATENATE(C2551,E2551),Dato!$A$4:$I$218,7,0),\"\")","v":""},null,""]
[null,null,null,{"$f":"IF(C2552=\"\",\"\",VLOOKUP(C2552,Tabla_Regional[],3,0))","v":""},null,{"$f":"IF(E2552<>\"\",VLOOKUP(CONCATENATE(C2552,E2552),Dato!$A$4:$I$218,7,0),\"\")","v":""},null,""]
[null,null,null,{"$f":"IF(C2553=\"\",\"\",VLOOKUP(C2553,Tabla_Regional[],3,0))","v":""},null,{"$f":"IF(E2553<>\"\",VLOOKUP(CONCATENATE(C2553,E2553),Dato!$A$4:$I$218,7,0),\"\")","v":""},null,""]
[null,null,null,{"$f":"IF(C2554=\"\",\"\",VLOOKUP(C2554,Tabla_Regional[],3,0))","v":""},null,{"$f":"IF(E2554<>\"\",VLOOKUP(CONCATENATE(C2554,E2554),Dato!$A$4:$I$218,7,0),\"\")","v":""},null,""]
[null,null,null,{"$f":"IF(C2555=\"\",\"\",VLOOKUP(C2555,Tabla_Regional[],3,0))","v":""},null,{"$f":"IF(E2555<>\"\",VLOOKUP(CONCATENATE(C2555,E2555),Dato!$A$4:$I$218,7,0),\"\")","v":""},null,""]
[null,null,null,{"$f":"IF(C2556=\"\",\"\",VLOOKUP(C2556,Tabla_Regional[],3,0))","v":""},null,{"$f":"IF(E2556<>\"\",VLOOKUP(CONCATENATE(C2556,E2556),Dato!$A$4:$I$218,7,0),\"\")","v":""},null,""]
[null,null,null,{"$f":"IF(C2557=\"\",\"\",VLOOKUP(C2557,Tabla_Regional[],3,0))","v":""},null,{"$f":"IF(E2557<>\"\",VLOOKUP(CONCATENATE(C2557,E2557),Dato!$A$4:$I$218,7,0),\"\")","v":""},null,""]
[null,null,null,{"$f":"IF(C2558=\"\",\"\",VLOOKUP(C2558,Tabla_Regional[],3,0))","v":""},null,{"$f":"IF(E2558<>\"\",VLOOKUP(CONCATENATE(C2558,E2558),Dato!$A$4:$I$218,7,0),\"\")","v":""},null,""]
[null,null,null,{"$f":"IF(C2559=\"\",\"\",VLOOKUP(C2559,Tabla_Regional[],3,0))","v":""},null,{"$f":"IF(E2559<>\"\",VLOOKUP(CONCATENATE(C2559,E2559),Dato!$A$4:$I$218,7,0),\"\")","v":""},null,""]
[null,null,null,{"$f":"IF(C2560=\"\",\"\",VLOOKUP(C2560,Tabla_Regional[],3,0))","v":""},null,{"$f":"IF(E2560<>\"\",VLOOKUP(CONCATENATE(C2560,E2560),Dato!$A$4:$I$218,7,0),\"\")","v":""},null,""]
[null,null,null,{"$f":"IF(C2561=\"\",\"\",VLOOKUP(C2561,Tabla_Regional[],3,0))","v":""},null,{"$f":"IF(E2561<>\"\",VLOOKUP(CONCATENATE(C2561,E2561),Dato!$A$4:$I$218,7,0),\"\")","v":""},null,""]
[null,null,null,{"$f":"IF(C2562=\"\",\"\",VLOOKUP(C2562,Tabla_Regional[],3,0))","v":""},null,{"$f":"IF(E2562<>\"\",VLOOKUP(CONCATENATE(C2562,E2562),Dato!$A$4:$I$218,7,0),\"\")","v":""},null,""]
[null,null,null,{"$f":"IF(C2563=\"\",\"\",VLOOKUP(C2563,Tabla_Regional[],3,0))","v":""},null,{"$f":"IF(E2563<>\"\",VLOOKUP(CONCATENATE(C2563,E2563),Dato!$A$4:$I$218,7,0),\"\")","v":""},null,""]
[null,null,null,{"$f":"IF(C2564=\"\",\"\",VLOOKUP(C2564,Tabla_Regional[],3,0))","v":""},null,{"$f":"IF(E2564<>\"\",VLOOKUP(CONCATENATE(C2564,E2564),Dato!$A$4:$I$218,7,0),\"\")","v":""},null,""]
[null,null,null,{"$f":"IF(C2565=\"\",\"\",VLOOKUP(C2565,Tabla_Regional[],3,0))","v":""},null,{"$f":"IF(E2565<>\"\",VLOOKUP(CONCATENATE(C2565,E2565),Dato!$A$4:$I$218,7,0),\"\")","v":""},null,""]
[null,null,null,{"$f":"IF(C2566=\"\",\"\",VLOOKUP(C2566,Tabla_Regional[],3,0))","v":""},null,{"$f":"IF(E2566<>\"\",VLOOKUP(CONCATENATE(C2566,E2566),Dato!$A$4:$I$218,7,0),\"\")","v":""},null,""]
[null,null,null,{"$f":"IF(C2567=\"\",\"\",VLOOKUP(C2567,Tabla_Regional[],3,0))","v":""},null,{"$f":"IF(E2567<>\"\",VLOOKUP(CONCATENATE(C2567,E2567),Dato!$A$4:$I$218,7,0),\"\")","v":""},null,""]
[null,null,null,{"$f":"IF(C2568=\"\",\"\",VLOOKUP(C2568,Tabla_Regional[],3,0))","v":""},null,{"$f":"IF(E2568<>\"\",VLOOKUP(CONCATENATE(C2568,E2568),Dato!$A$4:$I$218,7,0),\"\")","v":""},null,""]
[null,null,null,{"$f":"IF(C2569=\"\",\"\",VLOOKUP(C2569,Tabla_Regional[],3,0))","v":""},null,{"$f":"IF(E2569<>\"\",VLOOKUP(CONCATENATE(C2569,E2569),Dato!$A$4:$I$218,7,0),\"\")","v":""},null,""]
[null,null,null,{"$f":"IF(C2570=\"\",\"\",VLOOKUP(C2570,Tabla_Regional[],3,0))","v":""},null,{"$f":"IF(E2570<>\"\",VLOOKUP(CONCATENATE(C2570,E2570),Dato!$A$4:$I$218,7,0),\"\")","v":""},null,""]
[null,null,null,{"$f":"IF(C2571=\"\",\"\",VLOOKUP(C2571,Tabla_Regional[],3,0))","v":""},null,{"$f":"IF(E2571<>\"\",VLOOKUP(CONCATENATE(C2571,E2571),Dato!$A$4:$I$218,7,0),\"\")","v":""},null,""]
[null,null,null,{"$f":"IF(C2572=\"\",\"\",VLOOKUP(C2572,Tabla_Regional[],3,0))","v":""},null,{"$f":"IF(E2572<>\"\",VLOOKUP(CONCATENATE(C2572,E2572),Dato!$A$4:$I$218,7,0),\"\")","v":""},null,{"$f":"IF(G2572<>\"\",VLOOKUP(CONCATENATE(C2572,E2572,G2572),czmuni,7,0),\"\")","v":""}]
[null,null,null,{"$f":"IF(C2573=\"\",\"\",VLOOKUP(C2573,Tabla_Regional[],3,0))","v":""},null,{"$f":"IF(E2573<>\"\",VLOOKUP(CONCATENATE(C2573,E2573),Dato!$A$4:$I$218,7,0),\"\")","v":""},null,""]
[null,null,null,{"$f":"IF(C2574=\"\",\"\",VLOOKUP(C2574,Tabla_Regional[],3,0))","v":""},null,{"$f":"IF(E2574<>\"\",VLOOKUP(CONCATENATE(C2574,E2574),Dato!$A$4:$I$218,7,0),\"\")","v":""},null,""]
[null,null,null,{"$f":"IF(C2575=\"\",\"\",VLOOKUP(C2575,Tabla_Regional[],3,0))","v":""},null,{"$f":"IF(E2575<>\"\",VLOOKUP(CONCATENATE(C2575,E2575),Dato!$A$4:$I$218,7,0),\"\")","v":""},null,""]
[null,null,null,{"$f":"IF(C2576=\"\",\"\",VLOOKUP(C2576,Tabla_Regional[],3,0))","v":""},null,{"$f":"IF(E2576<>\"\",VLOOKUP(CONCATENATE(C2576,E2576),Dato!$A$4:$I$218,7,0),\"\")","v":""},null,""]
[null,null,null,{"$f":"IF(C2577=\"\",\"\",VLOOKUP(C2577,Tabla_Regional[],3,0))","v":""},null,{"$f":"IF(E2577<>\"\",VLOOKUP(CONCATENATE(C2577,E2577),Dato!$A$4:$I$218,7,0),\"\")","v":""},null,""]
[null,null,null,{"$f":"IF(C2578=\"\",\"\",VLOOKUP(C2578,Tabla_Regional[],3,0))","v":""},null,{"$f":"IF(E2578<>\"\",VLOOKUP(CONCATENATE(C2578,E2578),Dato!$A$4:$I$218,7,0),\"\")","v":""},null,""]
[null,null,null,{"$f":"IF(C2579=\"\",\"\",VLOOKUP(C2579,Tabla_Regional[],3,0))","v":""},null,{"$f":"IF(E2579<>\"\",VLOOKUP(CONCATENATE(C2579,E2579),Dato!$A$4:$I$218,7,0),\"\")","v":""},null,""]
[null,null,null,{"$f":"IF(C2580=\"\",\"\",VLOOKUP(C2580,Tabla_Regional[],3,0))","v":""},null,{"$f":"IF(E2580<>\"\",VLOOKUP(CONCATENATE(C2580,E2580),Dato!$A$4:$I$218,7,0),\"\")","v":""},null,""]
[null,null,null,{"$f":"IF(C2581=\"\",\"\",VLOOKUP(C2581,Tabla_Regional[],3,0))","v":""},null,{"$f":"IF(E2581<>\"\",VLOOKUP(CONCATENATE(C2581,E2581),Dato!$A$4:$I$218,7,0),\"\")","v":""},null,""]
[null,null,null,{"$f":"IF(C2582=\"\",\"\",VLOOKUP(C2582,Tabla_Regional[],3,0))","v":""},null,{"$f":"IF(E2582<>\"\",VLOOKUP(CONCATENATE(C2582,E2582),Dato!$A$4:$I$218,7,0),\"\")","v":""},null,""]
[null,null,null,{"$f":"IF(C2583=\"\",\"\",VLOOKUP(C2583,Tabla_Regional[],3,0))","v":""},null,{"$f":"IF(E2583<>\"\",VLOOKUP(CONCATENATE(C2583,E2583),Dato!$A$4:$I$218,7,0),\"\")","v":""},null,""]
[null,null,null,{"$f":"IF(C2584=\"\",\"\",VLOOKUP(C2584,Tabla_Regional[],3,0))","v":""},null,{"$f":"IF(E2584<>\"\",VLOOKUP(CONCATENATE(C2584,E2584),Dato!$A$4:$I$218,7,0),\"\")","v":""},null,""]
[null,null,null,{"$f":"IF(C2585=\"\",\"\",VLOOKUP(C2585,Tabla_Regional[],3,0))","v":""},null,{"$f":"IF(E2585<>\"\",VLOOKUP(CONCATENATE(C2585,E2585),Dato!$A$4:$I$218,7,0),\"\")","v":""},null,""]
[null,null,null,{"$f":"IF(C2586=\"\",\"\",VLOOKUP(C2586,Tabla_Regional[],3,0))","v":""},null,{"$f":"IF(E2586<>\"\",VLOOKUP(CONCATENATE(C2586,E2586),Dato!$A$4:$I$218,7,0),\"\")","v":""},null,""]
[null,null,null,{"$f":"IF(C2587=\"\",\"\",VLOOKUP(C2587,Tabla_Regional[],3,0))","v":""},null,{"$f":"IF(E2587<>\"\",VLOOKUP(CONCATENATE(C2587,E2587),Dato!$A$4:$I$218,7,0),\"\")","v":""},null,""]
[null,null,null,{"$f":"IF(C2588=\"\",\"\",VLOOKUP(C2588,Tabla_Regional[],3,0))","v":""},null,{"$f":"IF(E2588<>\"\",VLOOKUP(CONCATENATE(C2588,E2588),Dato!$A$4:$I$218,7,0),\"\")","v":""},null,""]
[null,null,null,{"$f":"IF(C2589=\"\",\"\",VLOOKUP(C2589,Tabla_Regional[],3,0))","v":""},null,{"$f":"IF(E2589<>\"\",VLOOKUP(CONCATENATE(C2589,E2589),Dato!$A$4:$I$218,7,0),\"\")","v":""},null,""]
[null,null,null,{"$f":"IF(C2590=\"\",\"\",VLOOKUP(C2590,Tabla_Regional[],3,0))","v":""},null,{"$f":"IF(E2590<>\"\",VLOOKUP(CONCATENATE(C2590,E2590),Dato!$A$4:$I$218,7,0),\"\")","v":""},null,""]
[null,null,null,{"$f":"IF(C2591=\"\",\"\",VLOOKUP(C2591,Tabla_Regional[],3,0))","v":""},null,{"$f":"IF(E2591<>\"\",VLOOKUP(CONCATENATE(C2591,E2591),Dato!$A$4:$I$218,7,0),\"\")","v":""},null,""]
[null,null,null,{"$f":"IF(C2592=\"\",\"\",VLOOKUP(C2592,Tabla_Regional[],3,0))","v":""},null,{"$f":"IF(E2592<>\"\",VLOOKUP(CONCATENATE(C2592,E2592),Dato!$A$4:$I$218,7,0),\"\")","v":""},null,""]
[null,null,null,{"$f":"IF(C2593=\"\",\"\",VLOOKUP(C2593,Tabla_Regional[],3,0))","v":""},null,{"$f":"IF(E2593<>\"\",VLOOKUP(CONCATENATE(C2593,E2593),Dato!$A$4:$I$218,7,0),\"\")","v":""},null,""]
[null,null,null,{"$f":"IF(C2594=\"\",\"\",VLOOKUP(C2594,Tabla_Regional[],3,0))","v":""},null,{"$f":"IF(E2594<>\"\",VLOOKUP(CONCATENATE(C2594,E2594),Dato!$A$4:$I$218,7,0),\"\")","v":""},null,""]
[null,null,null,{"$f":"IF(C2595=\"\",\"\",VLOOKUP(C2595,Tabla_Regional[],3,0))","v":""},null,{"$f":"IF(E2595<>\"\",VLOOKUP(CONCATENATE(C2595,E2595),Dato!$A$4:$I$218,7,0),\"\")","v":""},null,""]
[null,null,null,{"$f":"IF(C2596=\"\",\"\",VLOOKUP(C2596,Tabla_Regional[],3,0))","v":""},null,{"$f":"IF(E2596<>\"\",VLOOKUP(CONCATENATE(C2596,E2596),Dato!$A$4:$I$218,7,0),\"\")","v":""},null,""]
[null,null,null,{"$f":"IF(C2597=\"\",\"\",VLOOKUP(C2597,Tabla_Regional[],3,0))","v":""},null,{"$f":"IF(E2597<>\"\",VLOOKUP(CONCATENATE(C2597,E2597),Dato!$A$4:$I$218,7,0),\"\")","v":""},null,""]
[null,null,null,{"$f":"IF(C2598=\"\",\"\",VLOOKUP(C2598,Tabla_Regional[],3,0))","v":""},null,{"$f":"IF(E2598<>\"\",VLOOKUP(CONCATENATE(C2598,E2598),Dato!$A$4:$I$218,7,0),\"\")","v":""},null,""]
[null,null,null,{"$f":"IF(C2599=\"\",\"\",VLOOKUP(C2599,Tabla_Regional[],3,0))","v":""},null,{"$f":"IF(E2599<>\"\",VLOOKUP(CONCATENATE(C2599,E2599),Dato!$A$4:$I$218,7,0),\"\")","v":""},null,""]
[null,null,null,{"$f":"IF(C2600=\"\",\"\",VLOOKUP(C2600,Tabla_Regional[],3,0))","v":""},null,{"$f":"IF(E2600<>\"\",VLOOKUP(CONCATENATE(C2600,E2600),Dato!$A$4:$I$218,7,0),\"\")","v":""},null,""]
[null,null,null,{"$f":"IF(C2601=\"\",\"\",VLOOKUP(C2601,Tabla_Regional[],3,0))","v":""},null,{"$f":"IF(E2601<>\"\",VLOOKUP(CONCATENATE(C2601,E2601),Dato!$A$4:$I$218,7,0),\"\")","v":""},null,""]
[null,null,null,{"$f":"IF(C2602=\"\",\"\",VLOOKUP(C2602,Tabla_Regional[],3,0))","v":""},null,{"$f":"IF(E2602<>\"\",VLOOKUP(CONCATENATE(C2602,E2602),Dato!$A$4:$I$218,7,0),\"\")","v":""},null,""]
[null,null,null,{"$f":"IF(C2603=\"\",\"\",VLOOKUP(C2603,Tabla_Regional[],3,0))","v":""},null,{"$f":"IF(E2603<>\"\",VLOOKUP(CONCATENATE(C2603,E2603),Dato!$A$4:$I$218,7,0),\"\")","v":""},null,""]
[null,null,null,{"$f":"IF(C2604=\"\",\"\",VLOOKUP(C2604,Tabla_Regional[],3,0))","v":""},null,{"$f":"IF(E2604<>\"\",VLOOKUP(CONCATENATE(C2604,E2604),Dato!$A$4:$I$218,7,0),\"\")","v":""},null,""]
[null,null,null,{"$f":"IF(C2605=\"\",\"\",VLOOKUP(C2605,Tabla_Regional[],3,0))","v":""},null,{"$f":"IF(E2605<>\"\",VLOOKUP(CONCATENATE(C2605,E2605),Dato!$A$4:$I$218,7,0),\"\")","v":""},null,""]
[null,null,null,{"$f":"IF(C2606=\"\",\"\",VLOOKUP(C2606,Tabla_Regional[],3,0))","v":""},null,{"$f":"IF(E2606<>\"\",VLOOKUP(CONCATENATE(C2606,E2606),Dato!$A$4:$I$218,7,0),\"\")","v":""},null,""]
[null,null,null,{"$f":"IF(C2607=\"\",\"\",VLOOKUP(C2607,Tabla_Regional[],3,0))","v":""},null,{"$f":"IF(E2607<>\"\",VLOOKUP(CONCATENATE(C2607,E2607),Dato!$A$4:$I$218,7,0),\"\")","v":""},null,""]
[null,null,null,{"$f":"IF(C2608=\"\",\"\",VLOOKUP(C2608,Tabla_Regional[],3,0))","v":""},null,{"$f":"IF(E2608<>\"\",VLOOKUP(CONCATENATE(C2608,E2608),Dato!$A$4:$I$218,7,0),\"\")","v":""},null,""]
[null,null,null,{"$f":"IF(C2609=\"\",\"\",VLOOKUP(C2609,Tabla_Regional[],3,0))","v":""},null,{"$f":"IF(E2609<>\"\",VLOOKUP(CONCATENATE(C2609,E2609),Dato!$A$4:$I$218,7,0),\"\")","v":""},null,""]
[null,null,null,{"$f":"IF(C2610=\"\",\"\",VLOOKUP(C2610,Tabla_Regional[],3,0))","v":""},null,{"$f":"IF(E2610<>\"\",VLOOKUP(CONCATENATE(C2610,E2610),Dato!$A$4:$I$218,7,0),\"\")","v":""},null,""]
[null,null,null,{"$f":"IF(C2611=\"\",\"\",VLOOKUP(C2611,Tabla_Regional[],3,0))","v":""},null,{"$f":"IF(E2611<>\"\",VLOOKUP(CONCATENATE(C2611,E2611),Dato!$A$4:$I$218,7,0),\"\")","v":""},null,""]
[null,null,null,{"$f":"IF(C2612=\"\",\"\",VLOOKUP(C2612,Tabla_Regional[],3,0))","v":""},null,{"$f":"IF(E2612<>\"\",VLOOKUP(CONCATENATE(C2612,E2612),Dato!$A$4:$I$218,7,0),\"\")","v":""},null,""]
[null,null,null,{"$f":"IF(C2613=\"\",\"\",VLOOKUP(C2613,Tabla_Regional[],3,0))","v":""},null,{"$f":"IF(E2613<>\"\",VLOOKUP(CONCATENATE(C2613,E2613),Dato!$A$4:$I$218,7,0),\"\")","v":""},null,""]
[null,null,null,{"$f":"IF(C2614=\"\",\"\",VLOOKUP(C2614,Tabla_Regional[],3,0))","v":""},null,{"$f":"IF(E2614<>\"\",VLOOKUP(CONCATENATE(C2614,E2614),Dato!$A$4:$I$218,7,0),\"\")","v":""},null,""]
[null,null,null,{"$f":"IF(C2615=\"\",\"\",VLOOKUP(C2615,Tabla_Regional[],3,0))","v":""},null,{"$f":"IF(E2615<>\"\",VLOOKUP(CONCATENATE(C2615,E2615),Dato!$A$4:$I$218,7,0),\"\")","v":""},null,""]
[null,null,null,{"$f":"IF(C2616=\"\",\"\",VLOOKUP(C2616,Tabla_Regional[],3,0))","v":""},null,{"$f":"IF(E2616<>\"\",VLOOKUP(CONCATENATE(C2616,E2616),Dato!$A$4:$I$218,7,0),\"\")","v":""},null,""]
[null,null,null,{"$f":"IF(C2617=\"\",\"\",VLOOKUP(C2617,Tabla_Regional[],3,0))","v":""},null,{"$f":"IF(E2617<>\"\",VLOOKUP(CONCATENATE(C2617,E2617),Dato!$A$4:$I$218,7,0),\"\")","v":""},null,""]
[null,null,null,{"$f":"IF(C2618=\"\",\"\",VLOOKUP(C2618,Tabla_Regional[],3,0))","v":""},null,{"$f":"IF(E2618<>\"\",VLOOKUP(CONCATENATE(C2618,E2618),Dato!$A$4:$I$218,7,0),\"\")","v":""},null,""]
[null,null,null,{"$f":"IF(C2619=\"\",\"\",VLOOKUP(C2619,Tabla_Regional[],3,0))","v":""},null,{"$f":"IF(E2619<>\"\",VLOOKUP(CONCATENATE(C2619,E2619),Dato!$A$4:$I$218,7,0),\"\")","v":""},null,""]
[null,null,null,{"$f":"IF(C2620=\"\",\"\",VLOOKUP(C2620,Tabla_Regional[],3,0))","v":""},null,{"$f":"IF(E2620<>\"\",VLOOKUP(CONCATENATE(C2620,E2620),Dato!$A$4:$I$218,7,0),\"\")","v":""},null,""]
[null,null,null,{"$f":"IF(C2621=\"\",\"\",VLOOKUP(C2621,Tabla_Regional[],3,0))","v":""},null,{"$f":"IF(E2621<>\"\",VLOOKUP(CONCATENATE(C2621,E2621),Dato!$A$4:$I$218,7,0),\"\")","v":""},null,""]
[null,null,null,{"$f":"IF(C2622=\"\",\"\",VLOOKUP(C2622,Tabla_Regional[],3,0))","v":""},null,{"$f":"IF(E2622<>\"\",VLOOKUP(CONCATENATE(C2622,E2622),Dato!$A$4:$I$218,7,0),\"\")","v":""},null,""]
[null,null,null,{"$f":"IF(C2623=\"\",\"\",VLOOKUP(C2623,Tabla_Regional[],3,0))","v":""},null,{"$f":"IF(E2623<>\"\",VLOOKUP(CONCATENATE(C2623,E2623),Dato!$A$4:$I$218,7,0),\"\")","v":""},null,""]
[null,null,null,{"$f":"IF(C2624=\"\",\"\",VLOOKUP(C2624,Tabla_Regional[],3,0))","v":""},null,{"$f":"IF(E2624<>\"\",VLOOKUP(CONCATENATE(C2624,E2624),Dato!$A$4:$I$218,7,0),\"\")","v":""},null,""]
[null,null,null,{"$f":"IF(C2625=\"\",\"\",VLOOKUP(C2625,Tabla_Regional[],3,0))","v":""},null,{"$f":"IF(E2625<>\"\",VLOOKUP(CONCATENATE(C2625,E2625),Dato!$A$4:$I$218,7,0),\"\")","v":""},null,""]
[null,null,null,{"$f":"IF(C2626=\"\",\"\",VLOOKUP(C2626,Tabla_Regional[],3,0))","v":""},null,{"$f":"IF(E2626<>\"\",VLOOKUP(CONCATENATE(C2626,E2626),Dato!$A$4:$I$218,7,0),\"\")","v":""},null,""]
[null,null,null,{"$f":"IF(C2627=\"\",\"\",VLOOKUP(C2627,Tabla_Regional[],3,0))","v":""},null,{"$f":"IF(E2627<>\"\",VLOOKUP(CONCATENATE(C2627,E2627),Dato!$A$4:$I$218,7,0),\"\")","v":""},null,""]
[null,null,null,{"$f":"IF(C2628=\"\",\"\",VLOOKUP(C2628,Tabla_Regional[],3,0))","v":""},null,{"$f":"IF(E2628<>\"\",VLOOKUP(CONCATENATE(C2628,E2628),Dato!$A$4:$I$218,7,0),\"\")","v":""},null,""]
[null,null,null,{"$f":"IF(C2629=\"\",\"\",VLOOKUP(C2629,Tabla_Regional[],3,0))","v":""},null,{"$f":"IF(E2629<>\"\",VLOOKUP(CONCATENATE(C2629,E2629),Dato!$A$4:$I$218,7,0),\"\")","v":""},null,""]
[null,null,null,{"$f":"IF(C2630=\"\",\"\",VLOOKUP(C2630,Tabla_Regional[],3,0))","v":""},null,{"$f":"IF(E2630<>\"\",VLOOKUP(CONCATENATE(C2630,E2630),Dato!$A$4:$I$218,7,0),\"\")","v":""},null,""]
[null,null,null,{"$f":"IF(C2631=\"\",\"\",VLOOKUP(C2631,Tabla_Regional[],3,0))","v":""},null,{"$f":"IF(E2631<>\"\",VLOOKUP(CONCATENATE(C2631,E2631),Dato!$A$4:$I$218,7,0),\"\")","v":""},null,""]
[null,null,null,{"$f":"IF(C2632=\"\",\"\",VLOOKUP(C2632,Tabla_Regional[],3,0))","v":""},null,{"$f":"IF(E2632<>\"\",VLOOKUP(CONCATENATE(C2632,E2632),Dato!$A$4:$I$218,7,0),\"\")","v":""},null,""]
[null,null,null,{"$f":"IF(C2633=\"\",\"\",VLOOKUP(C2633,Tabla_Regional[],3,0))","v":""},null,{"$f":"IF(E2633<>\"\",VLOOKUP(CONCATENATE(C2633,E2633),Dato!$A$4:$I$218,7,0),\"\")","v":""},null,""]
[null,null,null,{"$f":"IF(C2634=\"\",\"\",VLOOKUP(C2634,Tabla_Regional[],3,0))","v":""},null,{"$f":"IF(E2634<>\"\",VLOOKUP(CONCATENATE(C2634,E2634),Dato!$A$4:$I$218,7,0),\"\")","v":""},null,""]
[null,null,null,{"$f":"IF(C2635=\"\",\"\",VLOOKUP(C2635,Tabla_Regional[],3,0))","v":""},null,{"$f":"IF(E2635<>\"\",VLOOKUP(CONCATENATE(C2635,E2635),Dato!$A$4:$I$218,7,0),\"\")","v":""},null,""]
[null,null,null,{"$f":"IF(C2636=\"\",\"\",VLOOKUP(C2636,Tabla_Regional[],3,0))","v":""},null,{"$f":"IF(E2636<>\"\",VLOOKUP(CONCATENATE(C2636,E2636),Dato!$A$4:$I$218,7,0),\"\")","v":""},null,{"$f":"IF(G2636<>\"\",VLOOKUP(CONCATENATE(C2636,E2636,G2636),czmuni,7,0),\"\")","v":""}]
[null,null,null,{"$f":"IF(C2637=\"\",\"\",VLOOKUP(C2637,Tabla_Regional[],3,0))","v":""},null,{"$f":"IF(E2637<>\"\",VLOOKUP(CONCATENATE(C2637,E2637),Dato!$A$4:$I$218,7,0),\"\")","v":""},null,""]
[null,null,null,{"$f":"IF(C2638=\"\",\"\",VLOOKUP(C2638,Tabla_Regional[],3,0))","v":""},null,{"$f":"IF(E2638<>\"\",VLOOKUP(CONCATENATE(C2638,E2638),Dato!$A$4:$I$218,7,0),\"\")","v":""},null,""]
[null,null,null,{"$f":"IF(C2639=\"\",\"\",VLOOKUP(C2639,Tabla_Regional[],3,0))","v":""},null,{"$f":"IF(E2639<>\"\",VLOOKUP(CONCATENATE(C2639,E2639),Dato!$A$4:$I$218,7,0),\"\")","v":""},null,""]
[null,null,null,{"$f":"IF(C2640=\"\",\"\",VLOOKUP(C2640,Tabla_Regional[],3,0))","v":""},null,{"$f":"IF(E2640<>\"\",VLOOKUP(CONCATENATE(C2640,E2640),Dato!$A$4:$I$218,7,0),\"\")","v":""},null,""]
[null,null,null,{"$f":"IF(C2641=\"\",\"\",VLOOKUP(C2641,Tabla_Regional[],3,0))","v":""},null,{"$f":"IF(E2641<>\"\",VLOOKUP(CONCATENATE(C2641,E2641),Dato!$A$4:$I$218,7,0),\"\")","v":""},null,""]
[null,null,null,{"$f":"IF(C2642=\"\",\"\",VLOOKUP(C2642,Tabla_Regional[],3,0))","v":""},null,{"$f":"IF(E2642<>\"\",VLOOKUP(CONCATENATE(C2642,E2642),Dato!$A$4:$I$218,7,0),\"\")","v":""},null,""]
[null,null,null,{"$f":"IF(C2643=\"\",\"\",VLOOKUP(C2643,Tabla_Regional[],3,0))","v":""},null,{"$f":"IF(E2643<>\"\",VLOOKUP(CONCATENATE(C2643,E2643),Dato!$A$4:$I$218,7,0),\"\")","v":""},null,""]
[null,null,null,{"$f":"IF(C2644=\"\",\"\",VLOOKUP(C2644,Tabla_Regional[],3,0))","v":""},null,{"$f":"IF(E2644<>\"\",VLOOKUP(CONCATENATE(C2644,E2644),Dato!$A$4:$I$218,7,0),\"\")","v":""},null,""]
[null,null,null,{"$f":"IF(C2645=\"\",\"\",VLOOKUP(C2645,Tabla_Regional[],3,0))","v":""},null,{"$f":"IF(E2645<>\"\",VLOOKUP(CONCATENATE(C2645,E2645),Dato!$A$4:$I$218,7,0),\"\")","v":""},null,""]
[null,null,null,{"$f":"IF(C2646=\"\",\"\",VLOOKUP(C2646,Tabla_Regional[],3,0))","v":""},null,{"$f":"IF(E2646<>\"\",VLOOKUP(CONCATENATE(C2646,E2646),Dato!$A$4:$I$218,7,0),\"\")","v":""},null,""]
[null,null,null,{"$f":"IF(C2647=\"\",\"\",VLOOKUP(C2647,Tabla_Regional[],3,0))","v":""},null,{"$f":"IF(E2647<>\"\",VLOOKUP(CONCATENATE(C2647,E2647),Dato!$A$4:$I$218,7,0),\"\")","v":""},null,""]
[null,null,null,{"$f":"IF(C2648=\"\",\"\",VLOOKUP(C2648,Tabla_Regional[],3,0))","v":""},null,{"$f":"IF(E2648<>\"\",VLOOKUP(CONCATENATE(C2648,E2648),Dato!$A$4:$I$218,7,0),\"\")","v":""},null,""]
[null,null,null,{"$f":"IF(C2649=\"\",\"\",VLOOKUP(C2649,Tabla_Regional[],3,0))","v":""},null,{"$f":"IF(E2649<>\"\",VLOOKUP(CONCATENATE(C2649,E2649),Dato!$A$4:$I$218,7,0),\"\")","v":""},null,""]
[null,null,null,{"$f":"IF(C2650=\"\",\"\",VLOOKUP(C2650,Tabla_Regional[],3,0))","v":""},null,{"$f":"IF(E2650<>\"\",VLOOKUP(CONCATENATE(C2650,E2650),Dato!$A$4:$I$218,7,0),\"\")","v":""},null,""]
[null,null,null,{"$f":"IF(C2651=\"\",\"\",VLOOKUP(C2651,Tabla_Regional[],3,0))","v":""},null,{"$f":"IF(E2651<>\"\",VLOOKUP(CONCATENATE(C2651,E2651),Dato!$A$4:$I$218,7,0),\"\")","v":""},null,""]
[null,null,null,{"$f":"IF(C2652=\"\",\"\",VLOOKUP(C2652,Tabla_Regional[],3,0))","v":""},null,{"$f":"IF(E2652<>\"\",VLOOKUP(CONCATENATE(C2652,E2652),Dato!$A$4:$I$218,7,0),\"\")","v":""},null,""]
[null,null,null,{"$f":"IF(C2653=\"\",\"\",VLOOKUP(C2653,Tabla_Regional[],3,0))","v":""},null,{"$f":"IF(E2653<>\"\",VLOOKUP(CONCATENATE(C2653,E2653),Dato!$A$4:$I$218,7,0),\"\")","v":""},null,""]
[null,null,null,{"$f":"IF(C2654=\"\",\"\",VLOOKUP(C2654,Tabla_Regional[],3,0))","v":""},null,{"$f":"IF(E2654<>\"\",VLOOKUP(CONCATENATE(C2654,E2654),Dato!$A$4:$I$218,7,0),\"\")","v":""},null,""]
[null,null,null,{"$f":"IF(C2655=\"\",\"\",VLOOKUP(C2655,Tabla_Regional[],3,0))","v":""},null,{"$f":"IF(E2655<>\"\",VLOOKUP(CONCATENATE(C2655,E2655),Dato!$A$4:$I$218,7,0),\"\")","v":""},null,""]
[null,null,null,{"$f":"IF(C2656=\"\",\"\",VLOOKUP(C2656,Tabla_Regional[],3,0))","v":""},null,{"$f":"IF(E2656<>\"\",VLOOKUP(CONCATENATE(C2656,E2656),Dato!$A$4:$I$218,7,0),\"\")","v":""},null,""]
[null,null,null,{"$f":"IF(C2657=\"\",\"\",VLOOKUP(C2657,Tabla_Regional[],3,0))","v":""},null,{"$f":"IF(E2657<>\"\",VLOOKUP(CONCATENATE(C2657,E2657),Dato!$A$4:$I$218,7,0),\"\")","v":""},null,""]
[null,null,null,{"$f":"IF(C2658=\"\",\"\",VLOOKUP(C2658,Tabla_Regional[],3,0))","v":""},null,{"$f":"IF(E2658<>\"\",VLOOKUP(CONCATENATE(C2658,E2658),Dato!$A$4:$I$218,7,0),\"\")","v":""},null,""]
[null,null,null,{"$f":"IF(C2659=\"\",\"\",VLOOKUP(C2659,Tabla_Regional[],3,0))","v":""},null,{"$f":"IF(E2659<>\"\",VLOOKUP(CONCATENATE(C2659,E2659),Dato!$A$4:$I$218,7,0),\"\")","v":""},null,""]
[null,null,null,{"$f":"IF(C2660=\"\",\"\",VLOOKUP(C2660,Tabla_Regional[],3,0))","v":""},null,{"$f":"IF(E2660<>\"\",VLOOKUP(CONCATENATE(C2660,E2660),Dato!$A$4:$I$218,7,0),\"\")","v":""},null,""]
[null,null,null,{"$f":"IF(C2661=\"\",\"\",VLOOKUP(C2661,Tabla_Regional[],3,0))","v":""},null,{"$f":"IF(E2661<>\"\",VLOOKUP(CONCATENATE(C2661,E2661),Dato!$A$4:$I$218,7,0),\"\")","v":""},null,""]
[null,null,null,{"$f":"IF(C2662=\"\",\"\",VLOOKUP(C2662,Tabla_Regional[],3,0))","v":""},null,{"$f":"IF(E2662<>\"\",VLOOKUP(CONCATENATE(C2662,E2662),Dato!$A$4:$I$218,7,0),\"\")","v":""},null,""]
[null,null,null,{"$f":"IF(C2663=\"\",\"\",VLOOKUP(C2663,Tabla_Regional[],3,0))","v":""},null,{"$f":"IF(E2663<>\"\",VLOOKUP(CONCATENATE(C2663,E2663),Dato!$A$4:$I$218,7,0),\"\")","v":""},null,""]
[null,null,null,{"$f":"IF(C2664=\"\",\"\",VLOOKUP(C2664,Tabla_Regional[],3,0))","v":""},null,{"$f":"IF(E2664<>\"\",VLOOKUP(CONCATENATE(C2664,E2664),Dato!$A$4:$I$218,7,0),\"\")","v":""},null,""]
[null,null,null,{"$f":"IF(C2665=\"\",\"\",VLOOKUP(C2665,Tabla_Regional[],3,0))","v":""},null,{"$f":"IF(E2665<>\"\",VLOOKUP(CONCATENATE(C2665,E2665),Dato!$A$4:$I$218,7,0),\"\")","v":""},null,""]
[null,null,null,{"$f":"IF(C2666=\"\",\"\",VLOOKUP(C2666,Tabla_Regional[],3,0))","v":""},null,{"$f":"IF(E2666<>\"\",VLOOKUP(CONCATENATE(C2666,E2666),Dato!$A$4:$I$218,7,0),\"\")","v":""},null,""]
[null,null,null,{"$f":"IF(C2667=\"\",\"\",VLOOKUP(C2667,Tabla_Regional[],3,0))","v":""},null,{"$f":"IF(E2667<>\"\",VLOOKUP(CONCATENATE(C2667,E2667),Dato!$A$4:$I$218,7,0),\"\")","v":""},null,""]
[null,null,null,{"$f":"IF(C2668=\"\",\"\",VLOOKUP(C2668,Tabla_Regional[],3,0))","v":""},null,{"$f":"IF(E2668<>\"\",VLOOKUP(CONCATENATE(C2668,E2668),Dato!$A$4:$I$218,7,0),\"\")","v":""},null,""]
[null,null,null,{"$f":"IF(C2669=\"\",\"\",VLOOKUP(C2669,Tabla_Regional[],3,0))","v":""},null,{"$f":"IF(E2669<>\"\",VLOOKUP(CONCATENATE(C2669,E2669),Dato!$A$4:$I$218,7,0),\"\")","v":""},null,""]
[null,null,null,{"$f":"IF(C2670=\"\",\"\",VLOOKUP(C2670,Tabla_Regional[],3,0))","v":""},null,{"$f":"IF(E2670<>\"\",VLOOKUP(CONCATENATE(C2670,E2670),Dato!$A$4:$I$218,7,0),\"\")","v":""},null,""]
[null,null,null,{"$f":"IF(C2671=\"\",\"\",VLOOKUP(C2671,Tabla_Regional[],3,0))","v":""},null,{"$f":"IF(E2671<>\"\",VLOOKUP(CONCATENATE(C2671,E2671),Dato!$A$4:$I$218,7,0),\"\")","v":""},null,""]
[null,null,null,{"$f":"IF(C2672=\"\",\"\",VLOOKUP(C2672,Tabla_Regional[],3,0))","v":""},null,{"$f":"IF(E2672<>\"\",VLOOKUP(CONCATENATE(C2672,E2672),Dato!$A$4:$I$218,7,0),\"\")","v":""},null,""]
[null,null,null,{"$f":"IF(C2673=\"\",\"\",VLOOKUP(C2673,Tabla_Regional[],3,0))","v":""},null,{"$f":"IF(E2673<>\"\",VLOOKUP(CONCATENATE(C2673,E2673),Dato!$A$4:$I$218,7,0),\"\")","v":""},null,""]
[null,null,null,{"$f":"IF(C2674=\"\",\"\",VLOOKUP(C2674,Tabla_Regional[],3,0))","v":""},null,{"$f":"IF(E2674<>\"\",VLOOKUP(CONCATENATE(C2674,E2674),Dato!$A$4:$I$218,7,0),\"\")","v":""},null,""]
[null,null,null,{"$f":"IF(C2675=\"\",\"\",VLOOKUP(C2675,Tabla_Regional[],3,0))","v":""},null,{"$f":"IF(E2675<>\"\",VLOOKUP(CONCATENATE(C2675,E2675),Dato!$A$4:$I$218,7,0),\"\")","v":""},null,""]
[null,null,null,{"$f":"IF(C2676=\"\",\"\",VLOOKUP(C2676,Tabla_Regional[],3,0))","v":""},null,{"$f":"IF(E2676<>\"\",VLOOKUP(CONCATENATE(C2676,E2676),Dato!$A$4:$I$218,7,0),\"\")","v":""},null,""]
[null,null,null,{"$f":"IF(C2677=\"\",\"\",VLOOKUP(C2677,Tabla_Regional[],3,0))","v":""},null,{"$f":"IF(E2677<>\"\",VLOOKUP(CONCATENATE(C2677,E2677),Dato!$A$4:$I$218,7,0),\"\")","v":""},null,""]
[null,null,null,{"$f":"IF(C2678=\"\",\"\",VLOOKUP(C2678,Tabla_Regional[],3,0))","v":""},null,{"$f":"IF(E2678<>\"\",VLOOKUP(CONCATENATE(C2678,E2678),Dato!$A$4:$I$218,7,0),\"\")","v":""},null,""]
[null,null,null,{"$f":"IF(C2679=\"\",\"\",VLOOKUP(C2679,Tabla_Regional[],3,0))","v":""},null,{"$f":"IF(E2679<>\"\",VLOOKUP(CONCATENATE(C2679,E2679),Dato!$A$4:$I$218,7,0),\"\")","v":""},null,""]
[null,null,null,{"$f":"IF(C2680=\"\",\"\",VLOOKUP(C2680,Tabla_Regional[],3,0))","v":""},null,{"$f":"IF(E2680<>\"\",VLOOKUP(CONCATENATE(C2680,E2680),Dato!$A$4:$I$218,7,0),\"\")","v":""},null,""]
[null,null,null,{"$f":"IF(C2681=\"\",\"\",VLOOKUP(C2681,Tabla_Regional[],3,0))","v":""},null,{"$f":"IF(E2681<>\"\",VLOOKUP(CONCATENATE(C2681,E2681),Dato!$A$4:$I$218,7,0),\"\")","v":""},null,""]
[null,null,null,{"$f":"IF(C2682=\"\",\"\",VLOOKUP(C2682,Tabla_Regional[],3,0))","v":""},null,{"$f":"IF(E2682<>\"\",VLOOKUP(CONCATENATE(C2682,E2682),Dato!$A$4:$I$218,7,0),\"\")","v":""},null,""]
[null,null,null,{"$f":"IF(C2683=\"\",\"\",VLOOKUP(C2683,Tabla_Regional[],3,0))","v":""},null,{"$f":"IF(E2683<>\"\",VLOOKUP(CONCATENATE(C2683,E2683),Dato!$A$4:$I$218,7,0),\"\")","v":""},null,""]
[null,null,null,{"$f":"IF(C2684=\"\",\"\",VLOOKUP(C2684,Tabla_Regional[],3,0))","v":""},null,{"$f":"IF(E2684<>\"\",VLOOKUP(CONCATENATE(C2684,E2684),Dato!$A$4:$I$218,7,0),\"\")","v":""},null,""]
[null,null,null,{"$f":"IF(C2685=\"\",\"\",VLOOKUP(C2685,Tabla_Regional[],3,0))","v":""},null,{"$f":"IF(E2685<>\"\",VLOOKUP(CONCATENATE(C2685,E2685),Dato!$A$4:$I$218,7,0),\"\")","v":""},null,""]
[null,null,null,{"$f":"IF(C2686=\"\",\"\",VLOOKUP(C2686,Tabla_Regional[],3,0))","v":""},null,{"$f":"IF(E2686<>\"\",VLOOKUP(CONCATENATE(C2686,E2686),Dato!$A$4:$I$218,7,0),\"\")","v":""},null,""]
[null,null,null,{"$f":"IF(C2687=\"\",\"\",VLOOKUP(C2687,Tabla_Regional[],3,0))","v":""},null,{"$f":"IF(E2687<>\"\",VLOOKUP(CONCATENATE(C2687,E2687),Dato!$A$4:$I$218,7,0),\"\")","v":""},null,""]
[null,null,null,{"$f":"IF(C2688=\"\",\"\",VLOOKUP(C2688,Tabla_Regional[],3,0))","v":""},null,{"$f":"IF(E2688<>\"\",VLOOKUP(CONCATENATE(C2688,E2688),Dato!$A$4:$I$218,7,0),\"\")","v":""},null,""]
[null,null,null,{"$f":"IF(C2689=\"\",\"\",VLOOKUP(C2689,Tabla_Regional[],3,0))","v":""},null,{"$f":"IF(E2689<>\"\",VLOOKUP(CONCATENATE(C2689,E2689),Dato!$A$4:$I$218,7,0),\"\")","v":""},null,""]
[null,null,null,{"$f":"IF(C2690=\"\",\"\",VLOOKUP(C2690,Tabla_Regional[],3,0))","v":""},null,{"$f":"IF(E2690<>\"\",VLOOKUP(CONCATENATE(C2690,E2690),Dato!$A$4:$I$218,7,0),\"\")","v":""},null,""]
[null,null,null,{"$f":"IF(C2691=\"\",\"\",VLOOKUP(C2691,Tabla_Regional[],3,0))","v":""},null,{"$f":"IF(E2691<>\"\",VLOOKUP(CONCATENATE(C2691,E2691),Dato!$A$4:$I$218,7,0),\"\")","v":""},null,""]
[null,null,null,{"$f":"IF(C2692=\"\",\"\",VLOOKUP(C2692,Tabla_Regional[],3,0))","v":""},null,{"$f":"IF(E2692<>\"\",VLOOKUP(CONCATENATE(C2692,E2692),Dato!$A$4:$I$218,7,0),\"\")","v":""},null,""]
[null,null,null,{"$f":"IF(C2693=\"\",\"\",VLOOKUP(C2693,Tabla_Regional[],3,0))","v":""},null,{"$f":"IF(E2693<>\"\",VLOOKUP(CONCATENATE(C2693,E2693),Dato!$A$4:$I$218,7,0),\"\")","v":""},null,""]
[null,null,null,{"$f":"IF(C2694=\"\",\"\",VLOOKUP(C2694,Tabla_Regional[],3,0))","v":""},null,{"$f":"IF(E2694<>\"\",VLOOKUP(CONCATENATE(C2694,E2694),Dato!$A$4:$I$218,7,0),\"\")","v":""},null,""]
[null,null,null,{"$f":"IF(C2695=\"\",\"\",VLOOKUP(C2695,Tabla_Regional[],3,0))","v":""},null,{"$f":"IF(E2695<>\"\",VLOOKUP(CONCATENATE(C2695,E2695),Dato!$A$4:$I$218,7,0),\"\")","v":""},null,""]
[null,null,null,{"$f":"IF(C2696=\"\",\"\",VLOOKUP(C2696,Tabla_Regional[],3,0))","v":""},null,{"$f":"IF(E2696<>\"\",VLOOKUP(CONCATENATE(C2696,E2696),Dato!$A$4:$I$218,7,0),\"\")","v":""},null,""]
[null,null,null,{"$f":"IF(C2697=\"\",\"\",VLOOKUP(C2697,Tabla_Regional[],3,0))","v":""},null,{"$f":"IF(E2697<>\"\",VLOOKUP(CONCATENATE(C2697,E2697),Dato!$A$4:$I$218,7,0),\"\")","v":""},null,""]
[null,null,null,{"$f":"IF(C2698=\"\",\"\",VLOOKUP(C2698,Tabla_Regional[],3,0))","v":""},null,{"$f":"IF(E2698<>\"\",VLOOKUP(CONCATENATE(C2698,E2698),Dato!$A$4:$I$218,7,0),\"\")","v":""},null,""]
[null,null,null,{"$f":"IF(C2699=\"\",\"\",VLOOKUP(C2699,Tabla_Regional[],3,0))","v":""},null,{"$f":"IF(E2699<>\"\",VLOOKUP(CONCATENATE(C2699,E2699),Dato!$A$4:$I$218,7,0),\"\")","v":""},null,""]
[null,null,null,{"$f":"IF(C2700=\"\",\"\",VLOOKUP(C2700,Tabla_Regional[],3,0))","v":""},null,{"$f":"IF(E2700<>\"\",VLOOKUP(CONCATENATE(C2700,E2700),Dato!$A$4:$I$218,7,0),\"\")","v":""},null,{"$f":"IF(G2700<>\"\",VLOOKUP(CONCATENATE(C2700,E2700,G2700),czmuni,7,0),\"\")","v":""}]
[null,null,null,{"$f":"IF(C2701=\"\",\"\",VLOOKUP(C2701,Tabla_Regional[],3,0))","v":""},null,{"$f":"IF(E2701<>\"\",VLOOKUP(CONCATENATE(C2701,E2701),Dato!$A$4:$I$218,7,0),\"\")","v":""},null,""]
[null,null,null,{"$f":"IF(C2702=\"\",\"\",VLOOKUP(C2702,Tabla_Regional[],3,0))","v":""},null,{"$f":"IF(E2702<>\"\",VLOOKUP(CONCATENATE(C2702,E2702),Dato!$A$4:$I$218,7,0),\"\")","v":""},null,""]
[null,null,null,{"$f":"IF(C2703=\"\",\"\",VLOOKUP(C2703,Tabla_Regional[],3,0))","v":""},null,{"$f":"IF(E2703<>\"\",VLOOKUP(CONCATENATE(C2703,E2703),Dato!$A$4:$I$218,7,0),\"\")","v":""},null,""]
[null,null,null,{"$f":"IF(C2704=\"\",\"\",VLOOKUP(C2704,Tabla_Regional[],3,0))","v":""},null,{"$f":"IF(E2704<>\"\",VLOOKUP(CONCATENATE(C2704,E2704),Dato!$A$4:$I$218,7,0),\"\")","v":""},null,""]
[null,null,null,{"$f":"IF(C2705=\"\",\"\",VLOOKUP(C2705,Tabla_Regional[],3,0))","v":""},null,{"$f":"IF(E2705<>\"\",VLOOKUP(CONCATENATE(C2705,E2705),Dato!$A$4:$I$218,7,0),\"\")","v":""},null,""]
[null,null,null,{"$f":"IF(C2706=\"\",\"\",VLOOKUP(C2706,Tabla_Regional[],3,0))","v":""},null,{"$f":"IF(E2706<>\"\",VLOOKUP(CONCATENATE(C2706,E2706),Dato!$A$4:$I$218,7,0),\"\")","v":""},null,""]
[null,null,null,{"$f":"IF(C2707=\"\",\"\",VLOOKUP(C2707,Tabla_Regional[],3,0))","v":""},null,{"$f":"IF(E2707<>\"\",VLOOKUP(CONCATENATE(C2707,E2707),Dato!$A$4:$I$218,7,0),\"\")","v":""},null,""]
[null,null,null,{"$f":"IF(C2708=\"\",\"\",VLOOKUP(C2708,Tabla_Regional[],3,0))","v":""},null,{"$f":"IF(E2708<>\"\",VLOOKUP(CONCATENATE(C2708,E2708),Dato!$A$4:$I$218,7,0),\"\")","v":""},null,""]
[null,null,null,{"$f":"IF(C2709=\"\",\"\",VLOOKUP(C2709,Tabla_Regional[],3,0))","v":""},null,{"$f":"IF(E2709<>\"\",VLOOKUP(CONCATENATE(C2709,E2709),Dato!$A$4:$I$218,7,0),\"\")","v":""},null,""]
[null,null,null,{"$f":"IF(C2710=\"\",\"\",VLOOKUP(C2710,Tabla_Regional[],3,0))","v":""},null,{"$f":"IF(E2710<>\"\",VLOOKUP(CONCATENATE(C2710,E2710),Dato!$A$4:$I$218,7,0),\"\")","v":""},null,""]
[null,null,null,{"$f":"IF(C2711=\"\",\"\",VLOOKUP(C2711,Tabla_Regional[],3,0))","v":""},null,{"$f":"IF(E2711<>\"\",VLOOKUP(CONCATENATE(C2711,E2711),Dato!$A$4:$I$218,7,0),\"\")","v":""},null,""]
[null,null,null,{"$f":"IF(C2712=\"\",\"\",VLOOKUP(C2712,Tabla_Regional[],3,0))","v":""},null,{"$f":"IF(E2712<>\"\",VLOOKUP(CONCATENATE(C2712,E2712),Dato!$A$4:$I$218,7,0),\"\")","v":""},null,""]
[null,null,null,{"$f":"IF(C2713=\"\",\"\",VLOOKUP(C2713,Tabla_Regional[],3,0))","v":""},null,{"$f":"IF(E2713<>\"\",VLOOKUP(CONCATENATE(C2713,E2713),Dato!$A$4:$I$218,7,0),\"\")","v":""},null,""]
[null,null,null,{"$f":"IF(C2714=\"\",\"\",VLOOKUP(C2714,Tabla_Regional[],3,0))","v":""},null,{"$f":"IF(E2714<>\"\",VLOOKUP(CONCATENATE(C2714,E2714),Dato!$A$4:$I$218,7,0),\"\")","v":""},null,""]
[null,null,null,{"$f":"IF(C2715=\"\",\"\",VLOOKUP(C2715,Tabla_Regional[],3,0))","v":""},null,{"$f":"IF(E2715<>\"\",VLOOKUP(CONCATENATE(C2715,E2715),Dato!$A$4:$I$218,7,0),\"\")","v":""},null,""]
[null,null,null,{"$f":"IF(C2716=\"\",\"\",VLOOKUP(C2716,Tabla_Regional[],3,0))","v":""},null,{"$f":"IF(E2716<>\"\",VLOOKUP(CONCATENATE(C2716,E2716),Dato!$A$4:$I$218,7,0),\"\")","v":""},null,""]
[null,null,null,{"$f":"IF(C2717=\"\",\"\",VLOOKUP(C2717,Tabla_Regional[],3,0))","v":""},null,{"$f":"IF(E2717<>\"\",VLOOKUP(CONCATENATE(C2717,E2717),Dato!$A$4:$I$218,7,0),\"\")","v":""},null,""]
[null,null,null,{"$f":"IF(C2718=\"\",\"\",VLOOKUP(C2718,Tabla_Regional[],3,0))","v":""},null,{"$f":"IF(E2718<>\"\",VLOOKUP(CONCATENATE(C2718,E2718),Dato!$A$4:$I$218,7,0),\"\")","v":""},null,""]
[null,null,null,{"$f":"IF(C2719=\"\",\"\",VLOOKUP(C2719,Tabla_Regional[],3,0))","v":""},null,{"$f":"IF(E2719<>\"\",VLOOKUP(CONCATENATE(C2719,E2719),Dato!$A$4:$I$218,7,0),\"\")","v":""},null,""]
[null,null,null,{"$f":"IF(C2720=\"\",\"\",VLOOKUP(C2720,Tabla_Regional[],3,0))","v":""},null,{"$f":"IF(E2720<>\"\",VLOOKUP(CONCATENATE(C2720,E2720),Dato!$A$4:$I$218,7,0),\"\")","v":""},null,""]
[null,null,null,{"$f":"IF(C2721=\"\",\"\",VLOOKUP(C2721,Tabla_Regional[],3,0))","v":""},null,{"$f":"IF(E2721<>\"\",VLOOKUP(CONCATENATE(C2721,E2721),Dato!$A$4:$I$218,7,0),\"\")","v":""},null,""]
[null,null,null,{"$f":"IF(C2722=\"\",\"\",VLOOKUP(C2722,Tabla_Regional[],3,0))","v":""},null,{"$f":"IF(E2722<>\"\",VLOOKUP(CONCATENATE(C2722,E2722),Dato!$A$4:$I$218,7,0),\"\")","v":""},null,""]
[null,null,null,{"$f":"IF(C2723=\"\",\"\",VLOOKUP(C2723,Tabla_Regional[],3,0))","v":""},null,{"$f":"IF(E2723<>\"\",VLOOKUP(CONCATENATE(C2723,E2723),Dato!$A$4:$I$218,7,0),\"\")","v":""},null,""]
[null,null,null,{"$f":"IF(C2724=\"\",\"\",VLOOKUP(C2724,Tabla_Regional[],3,0))","v":""},null,{"$f":"IF(E2724<>\"\",VLOOKUP(CONCATENATE(C2724,E2724),Dato!$A$4:$I$218,7,0),\"\")","v":""},null,""]
[null,null,null,{"$f":"IF(C2725=\"\",\"\",VLOOKUP(C2725,Tabla_Regional[],3,0))","v":""},null,{"$f":"IF(E2725<>\"\",VLOOKUP(CONCATENATE(C2725,E2725),Dato!$A$4:$I$218,7,0),\"\")","v":""},null,""]
[null,null,null,{"$f":"IF(C2726=\"\",\"\",VLOOKUP(C2726,Tabla_Regional[],3,0))","v":""},null,{"$f":"IF(E2726<>\"\",VLOOKUP(CONCATENATE(C2726,E2726),Dato!$A$4:$I$218,7,0),\"\")","v":""},null,""]
[null,null,null,{"$f":"IF(C2727=\"\",\"\",VLOOKUP(C2727,Tabla_Regional[],3,0))","v":""},null,{"$f":"IF(E2727<>\"\",VLOOKUP(CONCATENATE(C2727,E2727),Dato!$A$4:$I$218,7,0),\"\")","v":""},null,""]
[null,null,null,{"$f":"IF(C2728=\"\",\"\",VLOOKUP(C2728,Tabla_Regional[],3,0))","v":""},null,{"$f":"IF(E2728<>\"\",VLOOKUP(CONCATENATE(C2728,E2728),Dato!$A$4:$I$218,7,0),\"\")","v":""},null,""]
[null,null,null,{"$f":"IF(C2729=\"\",\"\",VLOOKUP(C2729,Tabla_Regional[],3,0))","v":""},null,{"$f":"IF(E2729<>\"\",VLOOKUP(CONCATENATE(C2729,E2729),Dato!$A$4:$I$218,7,0),\"\")","v":""},null,""]
[null,null,null,{"$f":"IF(C2730=\"\",\"\",VLOOKUP(C2730,Tabla_Regional[],3,0))","v":""},null,{"$f":"IF(E2730<>\"\",VLOOKUP(CONCATENATE(C2730,E2730),Dato!$A$4:$I$218,7,0),\"\")","v":""},null,""]
[null,null,null,{"$f":"IF(C2731=\"\",\"\",VLOOKUP(C2731,Tabla_Regional[],3,0))","v":""},null,{"$f":"IF(E2731<>\"\",VLOOKUP(CONCATENATE(C2731,E2731),Dato!$A$4:$I$218,7,0),\"\")","v":""},null,""]
[null,null,null,{"$f":"IF(C2732=\"\",\"\",VLOOKUP(C2732,Tabla_Regional[],3,0))","v":""},null,{"$f":"IF(E2732<>\"\",VLOOKUP(CONCATENATE(C2732,E2732),Dato!$A$4:$I$218,7,0),\"\")","v":""},null,""]
[null,null,null,{"$f":"IF(C2733=\"\",\"\",VLOOKUP(C2733,Tabla_Regional[],3,0))","v":""},null,{"$f":"IF(E2733<>\"\",VLOOKUP(CONCATENATE(C2733,E2733),Dato!$A$4:$I$218,7,0),\"\")","v":""},null,""]
[null,null,null,{"$f":"IF(C2734=\"\",\"\",VLOOKUP(C2734,Tabla_Regional[],3,0))","v":""},null,{"$f":"IF(E2734<>\"\",VLOOKUP(CONCATENATE(C2734,E2734),Dato!$A$4:$I$218,7,0),\"\")","v":""},null,""]
[null,null,null,{"$f":"IF(C2735=\"\",\"\",VLOOKUP(C2735,Tabla_Regional[],3,0))","v":""},null,{"$f":"IF(E2735<>\"\",VLOOKUP(CONCATENATE(C2735,E2735),Dato!$A$4:$I$218,7,0),\"\")","v":""},null,""]
[null,null,null,{"$f":"IF(C2736=\"\",\"\",VLOOKUP(C2736,Tabla_Regional[],3,0))","v":""},null,{"$f":"IF(E2736<>\"\",VLOOKUP(CONCATENATE(C2736,E2736),Dato!$A$4:$I$218,7,0),\"\")","v":""},null,""]
[null,null,null,{"$f":"IF(C2737=\"\",\"\",VLOOKUP(C2737,Tabla_Regional[],3,0))","v":""},null,{"$f":"IF(E2737<>\"\",VLOOKUP(CONCATENATE(C2737,E2737),Dato!$A$4:$I$218,7,0),\"\")","v":""},null,""]
[null,null,null,{"$f":"IF(C2738=\"\",\"\",VLOOKUP(C2738,Tabla_Regional[],3,0))","v":""},null,{"$f":"IF(E2738<>\"\",VLOOKUP(CONCATENATE(C2738,E2738),Dato!$A$4:$I$218,7,0),\"\")","v":""},null,""]
[null,null,null,{"$f":"IF(C2739=\"\",\"\",VLOOKUP(C2739,Tabla_Regional[],3,0))","v":""},null,{"$f":"IF(E2739<>\"\",VLOOKUP(CONCATENATE(C2739,E2739),Dato!$A$4:$I$218,7,0),\"\")","v":""},null,""]
[null,null,null,{"$f":"IF(C2740=\"\",\"\",VLOOKUP(C2740,Tabla_Regional[],3,0))","v":""},null,{"$f":"IF(E2740<>\"\",VLOOKUP(CONCATENATE(C2740,E2740),Dato!$A$4:$I$218,7,0),\"\")","v":""},null,""]
[null,null,null,{"$f":"IF(C2741=\"\",\"\",VLOOKUP(C2741,Tabla_Regional[],3,0))","v":""},null,{"$f":"IF(E2741<>\"\",VLOOKUP(CONCATENATE(C2741,E2741),Dato!$A$4:$I$218,7,0),\"\")","v":""},null,""]
[null,null,null,{"$f":"IF(C2742=\"\",\"\",VLOOKUP(C2742,Tabla_Regional[],3,0))","v":""},null,{"$f":"IF(E2742<>\"\",VLOOKUP(CONCATENATE(C2742,E2742),Dato!$A$4:$I$218,7,0),\"\")","v":""},null,""]
[null,null,null,{"$f":"IF(C2743=\"\",\"\",VLOOKUP(C2743,Tabla_Regional[],3,0))","v":""},null,{"$f":"IF(E2743<>\"\",VLOOKUP(CONCATENATE(C2743,E2743),Dato!$A$4:$I$218,7,0),\"\")","v":""},null,""]
[null,null,null,{"$f":"IF(C2744=\"\",\"\",VLOOKUP(C2744,Tabla_Regional[],3,0))","v":""},null,{"$f":"IF(E2744<>\"\",VLOOKUP(CONCATENATE(C2744,E2744),Dato!$A$4:$I$218,7,0),\"\")","v":""},null,""]
[null,null,null,{"$f":"IF(C2745=\"\",\"\",VLOOKUP(C2745,Tabla_Regional[],3,0))","v":""},null,{"$f":"IF(E2745<>\"\",VLOOKUP(CONCATENATE(C2745,E2745),Dato!$A$4:$I$218,7,0),\"\")","v":""},null,""]
[null,null,null,{"$f":"IF(C2746=\"\",\"\",VLOOKUP(C2746,Tabla_Regional[],3,0))","v":""},null,{"$f":"IF(E2746<>\"\",VLOOKUP(CONCATENATE(C2746,E2746),Dato!$A$4:$I$218,7,0),\"\")","v":""},null,""]
[null,null,null,{"$f":"IF(C2747=\"\",\"\",VLOOKUP(C2747,Tabla_Regional[],3,0))","v":""},null,{"$f":"IF(E2747<>\"\",VLOOKUP(CONCATENATE(C2747,E2747),Dato!$A$4:$I$218,7,0),\"\")","v":""},null,""]
[null,null,null,{"$f":"IF(C2748=\"\",\"\",VLOOKUP(C2748,Tabla_Regional[],3,0))","v":""},null,{"$f":"IF(E2748<>\"\",VLOOKUP(CONCATENATE(C2748,E2748),Dato!$A$4:$I$218,7,0),\"\")","v":""},null,""]
[null,null,null,{"$f":"IF(C2749=\"\",\"\",VLOOKUP(C2749,Tabla_Regional[],3,0))","v":""},null,{"$f":"IF(E2749<>\"\",VLOOKUP(CONCATENATE(C2749,E2749),Dato!$A$4:$I$218,7,0),\"\")","v":""},null,""]
[null,null,null,{"$f":"IF(C2750=\"\",\"\",VLOOKUP(C2750,Tabla_Regional[],3,0))","v":""},null,{"$f":"IF(E2750<>\"\",VLOOKUP(CONCATENATE(C2750,E2750),Dato!$A$4:$I$218,7,0),\"\")","v":""},null,""]
[null,null,null,{"$f":"IF(C2751=\"\",\"\",VLOOKUP(C2751,Tabla_Regional[],3,0))","v":""},null,{"$f":"IF(E2751<>\"\",VLOOKUP(CONCATENATE(C2751,E2751),Dato!$A$4:$I$218,7,0),\"\")","v":""},null,""]
[null,null,null,{"$f":"IF(C2752=\"\",\"\",VLOOKUP(C2752,Tabla_Regional[],3,0))","v":""},null,{"$f":"IF(E2752<>\"\",VLOOKUP(CONCATENATE(C2752,E2752),Dato!$A$4:$I$218,7,0),\"\")","v":""},null,""]
[null,null,null,{"$f":"IF(C2753=\"\",\"\",VLOOKUP(C2753,Tabla_Regional[],3,0))","v":""},null,{"$f":"IF(E2753<>\"\",VLOOKUP(CONCATENATE(C2753,E2753),Dato!$A$4:$I$218,7,0),\"\")","v":""},null,""]
[null,null,null,{"$f":"IF(C2754=\"\",\"\",VLOOKUP(C2754,Tabla_Regional[],3,0))","v":""},null,{"$f":"IF(E2754<>\"\",VLOOKUP(CONCATENATE(C2754,E2754),Dato!$A$4:$I$218,7,0),\"\")","v":""},null,""]
[null,null,null,{"$f":"IF(C2755=\"\",\"\",VLOOKUP(C2755,Tabla_Regional[],3,0))","v":""},null,{"$f":"IF(E2755<>\"\",VLOOKUP(CONCATENATE(C2755,E2755),Dato!$A$4:$I$218,7,0),\"\")","v":""},null,""]
[null,null,null,{"$f":"IF(C2756=\"\",\"\",VLOOKUP(C2756,Tabla_Regional[],3,0))","v":""},null,{"$f":"IF(E2756<>\"\",VLOOKUP(CONCATENATE(C2756,E2756),Dato!$A$4:$I$218,7,0),\"\")","v":""},null,""]
[null,null,null,{"$f":"IF(C2757=\"\",\"\",VLOOKUP(C2757,Tabla_Regional[],3,0))","v":""},null,{"$f":"IF(E2757<>\"\",VLOOKUP(CONCATENATE(C2757,E2757),Dato!$A$4:$I$218,7,0),\"\")","v":""},null,""]
[null,null,null,{"$f":"IF(C2758=\"\",\"\",VLOOKUP(C2758,Tabla_Regional[],3,0))","v":""},null,{"$f":"IF(E2758<>\"\",VLOOKUP(CONCATENATE(C2758,E2758),Dato!$A$4:$I$218,7,0),\"\")","v":""},null,""]
[null,null,null,{"$f":"IF(C2759=\"\",\"\",VLOOKUP(C2759,Tabla_Regional[],3,0))","v":""},null,{"$f":"IF(E2759<>\"\",VLOOKUP(CONCATENATE(C2759,E2759),Dato!$A$4:$I$218,7,0),\"\")","v":""},null,""]
[null,null,null,{"$f":"IF(C2760=\"\",\"\",VLOOKUP(C2760,Tabla_Regional[],3,0))","v":""},null,{"$f":"IF(E2760<>\"\",VLOOKUP(CONCATENATE(C2760,E2760),Dato!$A$4:$I$218,7,0),\"\")","v":""},null,""]
[null,null,null,{"$f":"IF(C2761=\"\",\"\",VLOOKUP(C2761,Tabla_Regional[],3,0))","v":""},null,{"$f":"IF(E2761<>\"\",VLOOKUP(CONCATENATE(C2761,E2761),Dato!$A$4:$I$218,7,0),\"\")","v":""},null,""]
[null,null,null,{"$f":"IF(C2762=\"\",\"\",VLOOKUP(C2762,Tabla_Regional[],3,0))","v":""},null,{"$f":"IF(E2762<>\"\",VLOOKUP(CONCATENATE(C2762,E2762),Dato!$A$4:$I$218,7,0),\"\")","v":""},null,""]
[null,null,null,{"$f":"IF(C2763=\"\",\"\",VLOOKUP(C2763,Tabla_Regional[],3,0))","v":""},null,{"$f":"IF(E2763<>\"\",VLOOKUP(CONCATENATE(C2763,E2763),Dato!$A$4:$I$218,7,0),\"\")","v":""},null,""]
[null,null,null,{"$f":"IF(C2764=\"\",\"\",VLOOKUP(C2764,Tabla_Regional[],3,0))","v":""},null,{"$f":"IF(E2764<>\"\",VLOOKUP(CONCATENATE(C2764,E2764),Dato!$A$4:$I$218,7,0),\"\")","v":""},null,{"$f":"IF(G2764<>\"\",VLOOKUP(CONCATENATE(C2764,E2764,G2764),czmuni,7,0),\"\")","v":""}]
[null,null,null,{"$f":"IF(C2765=\"\",\"\",VLOOKUP(C2765,Tabla_Regional[],3,0))","v":""},null,{"$f":"IF(E2765<>\"\",VLOOKUP(CONCATENATE(C2765,E2765),Dato!$A$4:$I$218,7,0),\"\")","v":""},null,""]
[null,null,null,{"$f":"IF(C2766=\"\",\"\",VLOOKUP(C2766,Tabla_Regional[],3,0))","v":""},null,{"$f":"IF(E2766<>\"\",VLOOKUP(CONCATENATE(C2766,E2766),Dato!$A$4:$I$218,7,0),\"\")","v":""},null,""]
[null,null,null,{"$f":"IF(C2767=\"\",\"\",VLOOKUP(C2767,Tabla_Regional[],3,0))","v":""},null,{"$f":"IF(E2767<>\"\",VLOOKUP(CONCATENATE(C2767,E2767),Dato!$A$4:$I$218,7,0),\"\")","v":""},null,""]
[null,null,null,{"$f":"IF(C2768=\"\",\"\",VLOOKUP(C2768,Tabla_Regional[],3,0))","v":""},null,{"$f":"IF(E2768<>\"\",VLOOKUP(CONCATENATE(C2768,E2768),Dato!$A$4:$I$218,7,0),\"\")","v":""},null,""]
[null,null,null,{"$f":"IF(C2769=\"\",\"\",VLOOKUP(C2769,Tabla_Regional[],3,0))","v":""},null,{"$f":"IF(E2769<>\"\",VLOOKUP(CONCATENATE(C2769,E2769),Dato!$A$4:$I$218,7,0),\"\")","v":""},null,""]
[null,null,null,{"$f":"IF(C2770=\"\",\"\",VLOOKUP(C2770,Tabla_Regional[],3,0))","v":""},null,{"$f":"IF(E2770<>\"\",VLOOKUP(CONCATENATE(C2770,E2770),Dato!$A$4:$I$218,7,0),\"\")","v":""},null,""]
[null,null,null,{"$f":"IF(C2771=\"\",\"\",VLOOKUP(C2771,Tabla_Regional[],3,0))","v":""},null,{"$f":"IF(E2771<>\"\",VLOOKUP(CONCATENATE(C2771,E2771),Dato!$A$4:$I$218,7,0),\"\")","v":""},null,""]
[null,null,null,{"$f":"IF(C2772=\"\",\"\",VLOOKUP(C2772,Tabla_Regional[],3,0))","v":""},null,{"$f":"IF(E2772<>\"\",VLOOKUP(CONCATENATE(C2772,E2772),Dato!$A$4:$I$218,7,0),\"\")","v":""},null,""]
[null,null,null,{"$f":"IF(C2773=\"\",\"\",VLOOKUP(C2773,Tabla_Regional[],3,0))","v":""},null,{"$f":"IF(E2773<>\"\",VLOOKUP(CONCATENATE(C2773,E2773),Dato!$A$4:$I$218,7,0),\"\")","v":""},null,""]
[null,null,null,{"$f":"IF(C2774=\"\",\"\",VLOOKUP(C2774,Tabla_Regional[],3,0))","v":""},null,{"$f":"IF(E2774<>\"\",VLOOKUP(CONCATENATE(C2774,E2774),Dato!$A$4:$I$218,7,0),\"\")","v":""},null,""]
[null,null,null,{"$f":"IF(C2775=\"\",\"\",VLOOKUP(C2775,Tabla_Regional[],3,0))","v":""},null,{"$f":"IF(E2775<>\"\",VLOOKUP(CONCATENATE(C2775,E2775),Dato!$A$4:$I$218,7,0),\"\")","v":""},null,""]
[null,null,null,{"$f":"IF(C2776=\"\",\"\",VLOOKUP(C2776,Tabla_Regional[],3,0))","v":""},null,{"$f":"IF(E2776<>\"\",VLOOKUP(CONCATENATE(C2776,E2776),Dato!$A$4:$I$218,7,0),\"\")","v":""},null,""]
[null,null,null,{"$f":"IF(C2777=\"\",\"\",VLOOKUP(C2777,Tabla_Regional[],3,0))","v":""},null,{"$f":"IF(E2777<>\"\",VLOOKUP(CONCATENATE(C2777,E2777),Dato!$A$4:$I$218,7,0),\"\")","v":""},null,""]
[null,null,null,{"$f":"IF(C2778=\"\",\"\",VLOOKUP(C2778,Tabla_Regional[],3,0))","v":""},null,{"$f":"IF(E2778<>\"\",VLOOKUP(CONCATENATE(C2778,E2778),Dato!$A$4:$I$218,7,0),\"\")","v":""},null,""]
[null,null,null,{"$f":"IF(C2779=\"\",\"\",VLOOKUP(C2779,Tabla_Regional[],3,0))","v":""},null,{"$f":"IF(E2779<>\"\",VLOOKUP(CONCATENATE(C2779,E2779),Dato!$A$4:$I$218,7,0),\"\")","v":""},null,""]
[null,null,null,{"$f":"IF(C2780=\"\",\"\",VLOOKUP(C2780,Tabla_Regional[],3,0))","v":""},null,{"$f":"IF(E2780<>\"\",VLOOKUP(CONCATENATE(C2780,E2780),Dato!$A$4:$I$218,7,0),\"\")","v":""},null,""]
[null,null,null,{"$f":"IF(C2781=\"\",\"\",VLOOKUP(C2781,Tabla_Regional[],3,0))","v":""},null,{"$f":"IF(E2781<>\"\",VLOOKUP(CONCATENATE(C2781,E2781),Dato!$A$4:$I$218,7,0),\"\")","v":""},null,""]
[null,null,null,{"$f":"IF(C2782=\"\",\"\",VLOOKUP(C2782,Tabla_Regional[],3,0))","v":""},null,{"$f":"IF(E2782<>\"\",VLOOKUP(CONCATENATE(C2782,E2782),Dato!$A$4:$I$218,7,0),\"\")","v":""},null,""]
[null,null,null,{"$f":"IF(C2783=\"\",\"\",VLOOKUP(C2783,Tabla_Regional[],3,0))","v":""},null,{"$f":"IF(E2783<>\"\",VLOOKUP(CONCATENATE(C2783,E2783),Dato!$A$4:$I$218,7,0),\"\")","v":""},null,""]
[null,null,null,{"$f":"IF(C2784=\"\",\"\",VLOOKUP(C2784,Tabla_Regional[],3,0))","v":""},null,{"$f":"IF(E2784<>\"\",VLOOKUP(CONCATENATE(C2784,E2784),Dato!$A$4:$I$218,7,0),\"\")","v":""},null,""]
[null,null,null,{"$f":"IF(C2785=\"\",\"\",VLOOKUP(C2785,Tabla_Regional[],3,0))","v":""},null,{"$f":"IF(E2785<>\"\",VLOOKUP(CONCATENATE(C2785,E2785),Dato!$A$4:$I$218,7,0),\"\")","v":""},null,""]
[null,null,null,{"$f":"IF(C2786=\"\",\"\",VLOOKUP(C2786,Tabla_Regional[],3,0))","v":""},null,{"$f":"IF(E2786<>\"\",VLOOKUP(CONCATENATE(C2786,E2786),Dato!$A$4:$I$218,7,0),\"\")","v":""},null,""]
[null,null,null,{"$f":"IF(C2787=\"\",\"\",VLOOKUP(C2787,Tabla_Regional[],3,0))","v":""},null,{"$f":"IF(E2787<>\"\",VLOOKUP(CONCATENATE(C2787,E2787),Dato!$A$4:$I$218,7,0),\"\")","v":""},null,""]
[null,null,null,{"$f":"IF(C2788=\"\",\"\",VLOOKUP(C2788,Tabla_Regional[],3,0))","v":""},null,{"$f":"IF(E2788<>\"\",VLOOKUP(CONCATENATE(C2788,E2788),Dato!$A$4:$I$218,7,0),\"\")","v":""},null,""]
[null,null,null,{"$f":"IF(C2789=\"\",\"\",VLOOKUP(C2789,Tabla_Regional[],3,0))","v":""},null,{"$f":"IF(E2789<>\"\",VLOOKUP(CONCATENATE(C2789,E2789),Dato!$A$4:$I$218,7,0),\"\")","v":""},null,""]
[null,null,null,{"$f":"IF(C2790=\"\",\"\",VLOOKUP(C2790,Tabla_Regional[],3,0))","v":""},null,{"$f":"IF(E2790<>\"\",VLOOKUP(CONCATENATE(C2790,E2790),Dato!$A$4:$I$218,7,0),\"\")","v":""},null,""]
[null,null,null,{"$f":"IF(C2791=\"\",\"\",VLOOKUP(C2791,Tabla_Regional[],3,0))","v":""},null,{"$f":"IF(E2791<>\"\",VLOOKUP(CONCATENATE(C2791,E2791),Dato!$A$4:$I$218,7,0),\"\")","v":""},null,""]
[null,null,null,{"$f":"IF(C2792=\"\",\"\",VLOOKUP(C2792,Tabla_Regional[],3,0))","v":""},null,{"$f":"IF(E2792<>\"\",VLOOKUP(CONCATENATE(C2792,E2792),Dato!$A$4:$I$218,7,0),\"\")","v":""},null,""]
[null,null,null,{"$f":"IF(C2793=\"\",\"\",VLOOKUP(C2793,Tabla_Regional[],3,0))","v":""},null,{"$f":"IF(E2793<>\"\",VLOOKUP(CONCATENATE(C2793,E2793),Dato!$A$4:$I$218,7,0),\"\")","v":""},null,""]
[null,null,null,{"$f":"IF(C2794=\"\",\"\",VLOOKUP(C2794,Tabla_Regional[],3,0))","v":""},null,{"$f":"IF(E2794<>\"\",VLOOKUP(CONCATENATE(C2794,E2794),Dato!$A$4:$I$218,7,0),\"\")","v":""},null,""]
[null,null,null,{"$f":"IF(C2795=\"\",\"\",VLOOKUP(C2795,Tabla_Regional[],3,0))","v":""},null,{"$f":"IF(E2795<>\"\",VLOOKUP(CONCATENATE(C2795,E2795),Dato!$A$4:$I$218,7,0),\"\")","v":""},null,""]
[null,null,null,{"$f":"IF(C2796=\"\",\"\",VLOOKUP(C2796,Tabla_Regional[],3,0))","v":""},null,{"$f":"IF(E2796<>\"\",VLOOKUP(CONCATENATE(C2796,E2796),Dato!$A$4:$I$218,7,0),\"\")","v":""},null,""]
[null,null,null,{"$f":"IF(C2797=\"\",\"\",VLOOKUP(C2797,Tabla_Regional[],3,0))","v":""},null,{"$f":"IF(E2797<>\"\",VLOOKUP(CONCATENATE(C2797,E2797),Dato!$A$4:$I$218,7,0),\"\")","v":""},null,""]
[null,null,null,{"$f":"IF(C2798=\"\",\"\",VLOOKUP(C2798,Tabla_Regional[],3,0))","v":""},null,{"$f":"IF(E2798<>\"\",VLOOKUP(CONCATENATE(C2798,E2798),Dato!$A$4:$I$218,7,0),\"\")","v":""},null,""]
[null,null,null,{"$f":"IF(C2799=\"\",\"\",VLOOKUP(C2799,Tabla_Regional[],3,0))","v":""},null,{"$f":"IF(E2799<>\"\",VLOOKUP(CONCATENATE(C2799,E2799),Dato!$A$4:$I$218,7,0),\"\")","v":""},null,""]
[null,null,null,{"$f":"IF(C2800=\"\",\"\",VLOOKUP(C2800,Tabla_Regional[],3,0))","v":""},null,{"$f":"IF(E2800<>\"\",VLOOKUP(CONCATENATE(C2800,E2800),Dato!$A$4:$I$218,7,0),\"\")","v":""},null,""]
[null,null,null,{"$f":"IF(C2801=\"\",\"\",VLOOKUP(C2801,Tabla_Regional[],3,0))","v":""},null,{"$f":"IF(E2801<>\"\",VLOOKUP(CONCATENATE(C2801,E2801),Dato!$A$4:$I$218,7,0),\"\")","v":""},null,""]
[null,null,null,{"$f":"IF(C2802=\"\",\"\",VLOOKUP(C2802,Tabla_Regional[],3,0))","v":""},null,{"$f":"IF(E2802<>\"\",VLOOKUP(CONCATENATE(C2802,E2802),Dato!$A$4:$I$218,7,0),\"\")","v":""},null,""]
[null,null,null,{"$f":"IF(C2803=\"\",\"\",VLOOKUP(C2803,Tabla_Regional[],3,0))","v":""},null,{"$f":"IF(E2803<>\"\",VLOOKUP(CONCATENATE(C2803,E2803),Dato!$A$4:$I$218,7,0),\"\")","v":""},null,""]
[null,null,null,{"$f":"IF(C2804=\"\",\"\",VLOOKUP(C2804,Tabla_Regional[],3,0))","v":""},null,{"$f":"IF(E2804<>\"\",VLOOKUP(CONCATENATE(C2804,E2804),Dato!$A$4:$I$218,7,0),\"\")","v":""},null,""]
[null,null,null,{"$f":"IF(C2805=\"\",\"\",VLOOKUP(C2805,Tabla_Regional[],3,0))","v":""},null,{"$f":"IF(E2805<>\"\",VLOOKUP(CONCATENATE(C2805,E2805),Dato!$A$4:$I$218,7,0),\"\")","v":""},null,""]
[null,null,null,{"$f":"IF(C2806=\"\",\"\",VLOOKUP(C2806,Tabla_Regional[],3,0))","v":""},null,{"$f":"IF(E2806<>\"\",VLOOKUP(CONCATENATE(C2806,E2806),Dato!$A$4:$I$218,7,0),\"\")","v":""},null,""]
[null,null,null,{"$f":"IF(C2807=\"\",\"\",VLOOKUP(C2807,Tabla_Regional[],3,0))","v":""},null,{"$f":"IF(E2807<>\"\",VLOOKUP(CONCATENATE(C2807,E2807),Dato!$A$4:$I$218,7,0),\"\")","v":""},null,""]
[null,null,null,{"$f":"IF(C2808=\"\",\"\",VLOOKUP(C2808,Tabla_Regional[],3,0))","v":""},null,{"$f":"IF(E2808<>\"\",VLOOKUP(CONCATENATE(C2808,E2808),Dato!$A$4:$I$218,7,0),\"\")","v":""},null,""]
[null,null,null,{"$f":"IF(C2809=\"\",\"\",VLOOKUP(C2809,Tabla_Regional[],3,0))","v":""},null,{"$f":"IF(E2809<>\"\",VLOOKUP(CONCATENATE(C2809,E2809),Dato!$A$4:$I$218,7,0),\"\")","v":""},null,""]
[null,null,null,{"$f":"IF(C2810=\"\",\"\",VLOOKUP(C2810,Tabla_Regional[],3,0))","v":""},null,{"$f":"IF(E2810<>\"\",VLOOKUP(CONCATENATE(C2810,E2810),Dato!$A$4:$I$218,7,0),\"\")","v":""},null,""]
[null,null,null,{"$f":"IF(C2811=\"\",\"\",VLOOKUP(C2811,Tabla_Regional[],3,0))","v":""},null,{"$f":"IF(E2811<>\"\",VLOOKUP(CONCATENATE(C2811,E2811),Dato!$A$4:$I$218,7,0),\"\")","v":""},null,""]
[null,null,null,{"$f":"IF(C2812=\"\",\"\",VLOOKUP(C2812,Tabla_Regional[],3,0))","v":""},null,{"$f":"IF(E2812<>\"\",VLOOKUP(CONCATENATE(C2812,E2812),Dato!$A$4:$I$218,7,0),\"\")","v":""},null,""]
[null,null,null,{"$f":"IF(C2813=\"\",\"\",VLOOKUP(C2813,Tabla_Regional[],3,0))","v":""},null,{"$f":"IF(E2813<>\"\",VLOOKUP(CONCATENATE(C2813,E2813),Dato!$A$4:$I$218,7,0),\"\")","v":""},null,""]
[null,null,null,{"$f":"IF(C2814=\"\",\"\",VLOOKUP(C2814,Tabla_Regional[],3,0))","v":""},null,{"$f":"IF(E2814<>\"\",VLOOKUP(CONCATENATE(C2814,E2814),Dato!$A$4:$I$218,7,0),\"\")","v":""},null,""]
[null,null,null,{"$f":"IF(C2815=\"\",\"\",VLOOKUP(C2815,Tabla_Regional[],3,0))","v":""},null,{"$f":"IF(E2815<>\"\",VLOOKUP(CONCATENATE(C2815,E2815),Dato!$A$4:$I$218,7,0),\"\")","v":""},null,""]
[null,null,null,{"$f":"IF(C2816=\"\",\"\",VLOOKUP(C2816,Tabla_Regional[],3,0))","v":""},null,{"$f":"IF(E2816<>\"\",VLOOKUP(CONCATENATE(C2816,E2816),Dato!$A$4:$I$218,7,0),\"\")","v":""},null,""]
[null,null,null,{"$f":"IF(C2817=\"\",\"\",VLOOKUP(C2817,Tabla_Regional[],3,0))","v":""},null,{"$f":"IF(E2817<>\"\",VLOOKUP(CONCATENATE(C2817,E2817),Dato!$A$4:$I$218,7,0),\"\")","v":""},null,""]
[null,null,null,{"$f":"IF(C2818=\"\",\"\",VLOOKUP(C2818,Tabla_Regional[],3,0))","v":""},null,{"$f":"IF(E2818<>\"\",VLOOKUP(CONCATENATE(C2818,E2818),Dato!$A$4:$I$218,7,0),\"\")","v":""},null,""]
[null,null,null,{"$f":"IF(C2819=\"\",\"\",VLOOKUP(C2819,Tabla_Regional[],3,0))","v":""},null,{"$f":"IF(E2819<>\"\",VLOOKUP(CONCATENATE(C2819,E2819),Dato!$A$4:$I$218,7,0),\"\")","v":""},null,""]
[null,null,null,{"$f":"IF(C2820=\"\",\"\",VLOOKUP(C2820,Tabla_Regional[],3,0))","v":""},null,{"$f":"IF(E2820<>\"\",VLOOKUP(CONCATENATE(C2820,E2820),Dato!$A$4:$I$218,7,0),\"\")","v":""},null,""]
[null,null,null,{"$f":"IF(C2821=\"\",\"\",VLOOKUP(C2821,Tabla_Regional[],3,0))","v":""},null,{"$f":"IF(E2821<>\"\",VLOOKUP(CONCATENATE(C2821,E2821),Dato!$A$4:$I$218,7,0),\"\")","v":""},null,""]
[null,null,null,{"$f":"IF(C2822=\"\",\"\",VLOOKUP(C2822,Tabla_Regional[],3,0))","v":""},null,{"$f":"IF(E2822<>\"\",VLOOKUP(CONCATENATE(C2822,E2822),Dato!$A$4:$I$218,7,0),\"\")","v":""},null,""]
[null,null,null,{"$f":"IF(C2823=\"\",\"\",VLOOKUP(C2823,Tabla_Regional[],3,0))","v":""},null,{"$f":"IF(E2823<>\"\",VLOOKUP(CONCATENATE(C2823,E2823),Dato!$A$4:$I$218,7,0),\"\")","v":""},null,""]
[null,null,null,{"$f":"IF(C2824=\"\",\"\",VLOOKUP(C2824,Tabla_Regional[],3,0))","v":""},null,{"$f":"IF(E2824<>\"\",VLOOKUP(CONCATENATE(C2824,E2824),Dato!$A$4:$I$218,7,0),\"\")","v":""},null,""]
[null,null,null,{"$f":"IF(C2825=\"\",\"\",VLOOKUP(C2825,Tabla_Regional[],3,0))","v":""},null,{"$f":"IF(E2825<>\"\",VLOOKUP(CONCATENATE(C2825,E2825),Dato!$A$4:$I$218,7,0),\"\")","v":""},null,""]
[null,null,null,{"$f":"IF(C2826=\"\",\"\",VLOOKUP(C2826,Tabla_Regional[],3,0))","v":""},null,{"$f":"IF(E2826<>\"\",VLOOKUP(CONCATENATE(C2826,E2826),Dato!$A$4:$I$218,7,0),\"\")","v":""},null,""]
[null,null,null,{"$f":"IF(C2827=\"\",\"\",VLOOKUP(C2827,Tabla_Regional[],3,0))","v":""},null,{"$f":"IF(E2827<>\"\",VLOOKUP(CONCATENATE(C2827,E2827),Dato!$A$4:$I$218,7,0),\"\")","v":""},null,""]
[null,null,null,{"$f":"IF(C2828=\"\",\"\",VLOOKUP(C2828,Tabla_Regional[],3,0))","v":""},null,{"$f":"IF(E2828<>\"\",VLOOKUP(CONCATENATE(C2828,E2828),Dato!$A$4:$I$218,7,0),\"\")","v":""},null,{"$f":"IF(G2828<>\"\",VLOOKUP(CONCATENATE(C2828,E2828,G2828),czmuni,7,0),\"\")","v":""}]
[null,null,null,{"$f":"IF(C2829=\"\",\"\",VLOOKUP(C2829,Tabla_Regional[],3,0))","v":""},null,{"$f":"IF(E2829<>\"\",VLOOKUP(CONCATENATE(C2829,E2829),Dato!$A$4:$I$218,7,0),\"\")","v":""},null,""]
[null,null,null,{"$f":"IF(C2830=\"\",\"\",VLOOKUP(C2830,Tabla_Regional[],3,0))","v":""},null,{"$f":"IF(E2830<>\"\",VLOOKUP(CONCATENATE(C2830,E2830),Dato!$A$4:$I$218,7,0),\"\")","v":""},null,""]
[null,null,null,{"$f":"IF(C2831=\"\",\"\",VLOOKUP(C2831,Tabla_Regional[],3,0))","v":""},null,{"$f":"IF(E2831<>\"\",VLOOKUP(CONCATENATE(C2831,E2831),Dato!$A$4:$I$218,7,0),\"\")","v":""},null,""]
[null,null,null,{"$f":"IF(C2832=\"\",\"\",VLOOKUP(C2832,Tabla_Regional[],3,0))","v":""},null,{"$f":"IF(E2832<>\"\",VLOOKUP(CONCATENATE(C2832,E2832),Dato!$A$4:$I$218,7,0),\"\")","v":""},null,""]
[null,null,null,{"$f":"IF(C2833=\"\",\"\",VLOOKUP(C2833,Tabla_Regional[],3,0))","v":""},null,{"$f":"IF(E2833<>\"\",VLOOKUP(CONCATENATE(C2833,E2833),Dato!$A$4:$I$218,7,0),\"\")","v":""},null,""]
[null,null,null,{"$f":"IF(C2834=\"\",\"\",VLOOKUP(C2834,Tabla_Regional[],3,0))","v":""},null,{"$f":"IF(E2834<>\"\",VLOOKUP(CONCATENATE(C2834,E2834),Dato!$A$4:$I$218,7,0),\"\")","v":""},null,""]
[null,null,null,{"$f":"IF(C2835=\"\",\"\",VLOOKUP(C2835,Tabla_Regional[],3,0))","v":""},null,{"$f":"IF(E2835<>\"\",VLOOKUP(CONCATENATE(C2835,E2835),Dato!$A$4:$I$218,7,0),\"\")","v":""},null,""]
[null,null,null,{"$f":"IF(C2836=\"\",\"\",VLOOKUP(C2836,Tabla_Regional[],3,0))","v":""},null,{"$f":"IF(E2836<>\"\",VLOOKUP(CONCATENATE(C2836,E2836),Dato!$A$4:$I$218,7,0),\"\")","v":""},null,""]
[null,null,null,{"$f":"IF(C2837=\"\",\"\",VLOOKUP(C2837,Tabla_Regional[],3,0))","v":""},null,{"$f":"IF(E2837<>\"\",VLOOKUP(CONCATENATE(C2837,E2837),Dato!$A$4:$I$218,7,0),\"\")","v":""},null,""]
[null,null,null,{"$f":"IF(C2838=\"\",\"\",VLOOKUP(C2838,Tabla_Regional[],3,0))","v":""},null,{"$f":"IF(E2838<>\"\",VLOOKUP(CONCATENATE(C2838,E2838),Dato!$A$4:$I$218,7,0),\"\")","v":""},null,""]
[null,null,null,{"$f":"IF(C2839=\"\",\"\",VLOOKUP(C2839,Tabla_Regional[],3,0))","v":""},null,{"$f":"IF(E2839<>\"\",VLOOKUP(CONCATENATE(C2839,E2839),Dato!$A$4:$I$218,7,0),\"\")","v":""},null,""]
[null,null,null,{"$f":"IF(C2840=\"\",\"\",VLOOKUP(C2840,Tabla_Regional[],3,0))","v":""},null,{"$f":"IF(E2840<>\"\",VLOOKUP(CONCATENATE(C2840,E2840),Dato!$A$4:$I$218,7,0),\"\")","v":""},null,""]
[null,null,null,{"$f":"IF(C2841=\"\",\"\",VLOOKUP(C2841,Tabla_Regional[],3,0))","v":""},null,{"$f":"IF(E2841<>\"\",VLOOKUP(CONCATENATE(C2841,E2841),Dato!$A$4:$I$218,7,0),\"\")","v":""},null,""]
[null,null,null,{"$f":"IF(C2842=\"\",\"\",VLOOKUP(C2842,Tabla_Regional[],3,0))","v":""},null,{"$f":"IF(E2842<>\"\",VLOOKUP(CONCATENATE(C2842,E2842),Dato!$A$4:$I$218,7,0),\"\")","v":""},null,""]
[null,null,null,{"$f":"IF(C2843=\"\",\"\",VLOOKUP(C2843,Tabla_Regional[],3,0))","v":""},null,{"$f":"IF(E2843<>\"\",VLOOKUP(CONCATENATE(C2843,E2843),Dato!$A$4:$I$218,7,0),\"\")","v":""},null,""]
[null,null,null,{"$f":"IF(C2844=\"\",\"\",VLOOKUP(C2844,Tabla_Regional[],3,0))","v":""},null,{"$f":"IF(E2844<>\"\",VLOOKUP(CONCATENATE(C2844,E2844),Dato!$A$4:$I$218,7,0),\"\")","v":""},null,""]
[null,null,null,{"$f":"IF(C2845=\"\",\"\",VLOOKUP(C2845,Tabla_Regional[],3,0))","v":""},null,{"$f":"IF(E2845<>\"\",VLOOKUP(CONCATENATE(C2845,E2845),Dato!$A$4:$I$218,7,0),\"\")","v":""},null,""]
[null,null,null,{"$f":"IF(C2846=\"\",\"\",VLOOKUP(C2846,Tabla_Regional[],3,0))","v":""},null,{"$f":"IF(E2846<>\"\",VLOOKUP(CONCATENATE(C2846,E2846),Dato!$A$4:$I$218,7,0),\"\")","v":""},null,""]
[null,null,null,{"$f":"IF(C2847=\"\",\"\",VLOOKUP(C2847,Tabla_Regional[],3,0))","v":""},null,{"$f":"IF(E2847<>\"\",VLOOKUP(CONCATENATE(C2847,E2847),Dato!$A$4:$I$218,7,0),\"\")","v":""},null,""]
[null,null,null,{"$f":"IF(C2848=\"\",\"\",VLOOKUP(C2848,Tabla_Regional[],3,0))","v":""},null,{"$f":"IF(E2848<>\"\",VLOOKUP(CONCATENATE(C2848,E2848),Dato!$A$4:$I$218,7,0),\"\")","v":""},null,""]
[null,null,null,{"$f":"IF(C2849=\"\",\"\",VLOOKUP(C2849,Tabla_Regional[],3,0))","v":""},null,{"$f":"IF(E2849<>\"\",VLOOKUP(CONCATENATE(C2849,E2849),Dato!$A$4:$I$218,7,0),\"\")","v":""},null,""]
[null,null,null,{"$f":"IF(C2850=\"\",\"\",VLOOKUP(C2850,Tabla_Regional[],3,0))","v":""},null,{"$f":"IF(E2850<>\"\",VLOOKUP(CONCATENATE(C2850,E2850),Dato!$A$4:$I$218,7,0),\"\")","v":""},null,""]
[null,null,null,{"$f":"IF(C2851=\"\",\"\",VLOOKUP(C2851,Tabla_Regional[],3,0))","v":""},null,{"$f":"IF(E2851<>\"\",VLOOKUP(CONCATENATE(C2851,E2851),Dato!$A$4:$I$218,7,0),\"\")","v":""},null,""]
[null,null,null,{"$f":"IF(C2852=\"\",\"\",VLOOKUP(C2852,Tabla_Regional[],3,0))","v":""},null,{"$f":"IF(E2852<>\"\",VLOOKUP(CONCATENATE(C2852,E2852),Dato!$A$4:$I$218,7,0),\"\")","v":""},null,""]
[null,null,null,{"$f":"IF(C2853=\"\",\"\",VLOOKUP(C2853,Tabla_Regional[],3,0))","v":""},null,{"$f":"IF(E2853<>\"\",VLOOKUP(CONCATENATE(C2853,E2853),Dato!$A$4:$I$218,7,0),\"\")","v":""},null,""]
[null,null,null,{"$f":"IF(C2854=\"\",\"\",VLOOKUP(C2854,Tabla_Regional[],3,0))","v":""},null,{"$f":"IF(E2854<>\"\",VLOOKUP(CONCATENATE(C2854,E2854),Dato!$A$4:$I$218,7,0),\"\")","v":""},null,""]
[null,null,null,{"$f":"IF(C2855=\"\",\"\",VLOOKUP(C2855,Tabla_Regional[],3,0))","v":""},null,{"$f":"IF(E2855<>\"\",VLOOKUP(CONCATENATE(C2855,E2855),Dato!$A$4:$I$218,7,0),\"\")","v":""},null,""]
[null,null,null,{"$f":"IF(C2856=\"\",\"\",VLOOKUP(C2856,Tabla_Regional[],3,0))","v":""},null,{"$f":"IF(E2856<>\"\",VLOOKUP(CONCATENATE(C2856,E2856),Dato!$A$4:$I$218,7,0),\"\")","v":""},null,""]
[null,null,null,{"$f":"IF(C2857=\"\",\"\",VLOOKUP(C2857,Tabla_Regional[],3,0))","v":""},null,{"$f":"IF(E2857<>\"\",VLOOKUP(CONCATENATE(C2857,E2857),Dato!$A$4:$I$218,7,0),\"\")","v":""},null,""]
[null,null,null,{"$f":"IF(C2858=\"\",\"\",VLOOKUP(C2858,Tabla_Regional[],3,0))","v":""},null,{"$f":"IF(E2858<>\"\",VLOOKUP(CONCATENATE(C2858,E2858),Dato!$A$4:$I$218,7,0),\"\")","v":""},null,""]
[null,null,null,{"$f":"IF(C2859=\"\",\"\",VLOOKUP(C2859,Tabla_Regional[],3,0))","v":""},null,{"$f":"IF(E2859<>\"\",VLOOKUP(CONCATENATE(C2859,E2859),Dato!$A$4:$I$218,7,0),\"\")","v":""},null,""]
[null,null,null,{"$f":"IF(C2860=\"\",\"\",VLOOKUP(C2860,Tabla_Regional[],3,0))","v":""},null,{"$f":"IF(E2860<>\"\",VLOOKUP(CONCATENATE(C2860,E2860),Dato!$A$4:$I$218,7,0),\"\")","v":""},null,""]
[null,null,null,{"$f":"IF(C2861=\"\",\"\",VLOOKUP(C2861,Tabla_Regional[],3,0))","v":""},null,{"$f":"IF(E2861<>\"\",VLOOKUP(CONCATENATE(C2861,E2861),Dato!$A$4:$I$218,7,0),\"\")","v":""},null,""]
[null,null,null,{"$f":"IF(C2862=\"\",\"\",VLOOKUP(C2862,Tabla_Regional[],3,0))","v":""},null,{"$f":"IF(E2862<>\"\",VLOOKUP(CONCATENATE(C2862,E2862),Dato!$A$4:$I$218,7,0),\"\")","v":""},null,""]
[null,null,null,{"$f":"IF(C2863=\"\",\"\",VLOOKUP(C2863,Tabla_Regional[],3,0))","v":""},null,{"$f":"IF(E2863<>\"\",VLOOKUP(CONCATENATE(C2863,E2863),Dato!$A$4:$I$218,7,0),\"\")","v":""},null,""]
[null,null,null,{"$f":"IF(C2864=\"\",\"\",VLOOKUP(C2864,Tabla_Regional[],3,0))","v":""},null,{"$f":"IF(E2864<>\"\",VLOOKUP(CONCATENATE(C2864,E2864),Dato!$A$4:$I$218,7,0),\"\")","v":""},null,""]
[null,null,null,{"$f":"IF(C2865=\"\",\"\",VLOOKUP(C2865,Tabla_Regional[],3,0))","v":""},null,{"$f":"IF(E2865<>\"\",VLOOKUP(CONCATENATE(C2865,E2865),Dato!$A$4:$I$218,7,0),\"\")","v":""},null,""]
[null,null,null,{"$f":"IF(C2866=\"\",\"\",VLOOKUP(C2866,Tabla_Regional[],3,0))","v":""},null,{"$f":"IF(E2866<>\"\",VLOOKUP(CONCATENATE(C2866,E2866),Dato!$A$4:$I$218,7,0),\"\")","v":""},null,""]
[null,null,null,{"$f":"IF(C2867=\"\",\"\",VLOOKUP(C2867,Tabla_Regional[],3,0))","v":""},null,{"$f":"IF(E2867<>\"\",VLOOKUP(CONCATENATE(C2867,E2867),Dato!$A$4:$I$218,7,0),\"\")","v":""},null,""]
[null,null,null,{"$f":"IF(C2868=\"\",\"\",VLOOKUP(C2868,Tabla_Regional[],3,0))","v":""},null,{"$f":"IF(E2868<>\"\",VLOOKUP(CONCATENATE(C2868,E2868),Dato!$A$4:$I$218,7,0),\"\")","v":""},null,""]
[null,null,null,{"$f":"IF(C2869=\"\",\"\",VLOOKUP(C2869,Tabla_Regional[],3,0))","v":""},null,{"$f":"IF(E2869<>\"\",VLOOKUP(CONCATENATE(C2869,E2869),Dato!$A$4:$I$218,7,0),\"\")","v":""},null,""]
[null,null,null,{"$f":"IF(C2870=\"\",\"\",VLOOKUP(C2870,Tabla_Regional[],3,0))","v":""},null,{"$f":"IF(E2870<>\"\",VLOOKUP(CONCATENATE(C2870,E2870),Dato!$A$4:$I$218,7,0),\"\")","v":""},null,""]
[null,null,null,{"$f":"IF(C2871=\"\",\"\",VLOOKUP(C2871,Tabla_Regional[],3,0))","v":""},null,{"$f":"IF(E2871<>\"\",VLOOKUP(CONCATENATE(C2871,E2871),Dato!$A$4:$I$218,7,0),\"\")","v":""},null,""]
[null,null,null,{"$f":"IF(C2872=\"\",\"\",VLOOKUP(C2872,Tabla_Regional[],3,0))","v":""},null,{"$f":"IF(E2872<>\"\",VLOOKUP(CONCATENATE(C2872,E2872),Dato!$A$4:$I$218,7,0),\"\")","v":""},null,""]
[null,null,null,{"$f":"IF(C2873=\"\",\"\",VLOOKUP(C2873,Tabla_Regional[],3,0))","v":""},null,{"$f":"IF(E2873<>\"\",VLOOKUP(CONCATENATE(C2873,E2873),Dato!$A$4:$I$218,7,0),\"\")","v":""},null,""]
[null,null,null,{"$f":"IF(C2874=\"\",\"\",VLOOKUP(C2874,Tabla_Regional[],3,0))","v":""},null,{"$f":"IF(E2874<>\"\",VLOOKUP(CONCATENATE(C2874,E2874),Dato!$A$4:$I$218,7,0),\"\")","v":""},null,""]
[null,null,null,{"$f":"IF(C2875=\"\",\"\",VLOOKUP(C2875,Tabla_Regional[],3,0))","v":""},null,{"$f":"IF(E2875<>\"\",VLOOKUP(CONCATENATE(C2875,E2875),Dato!$A$4:$I$218,7,0),\"\")","v":""},null,""]
[null,null,null,{"$f":"IF(C2876=\"\",\"\",VLOOKUP(C2876,Tabla_Regional[],3,0))","v":""},null,{"$f":"IF(E2876<>\"\",VLOOKUP(CONCATENATE(C2876,E2876),Dato!$A$4:$I$218,7,0),\"\")","v":""},null,""]
[null,null,null,{"$f":"IF(C2877=\"\",\"\",VLOOKUP(C2877,Tabla_Regional[],3,0))","v":""},null,{"$f":"IF(E2877<>\"\",VLOOKUP(CONCATENATE(C2877,E2877),Dato!$A$4:$I$218,7,0),\"\")","v":""},null,""]
[null,null,null,{"$f":"IF(C2878=\"\",\"\",VLOOKUP(C2878,Tabla_Regional[],3,0))","v":""},null,{"$f":"IF(E2878<>\"\",VLOOKUP(CONCATENATE(C2878,E2878),Dato!$A$4:$I$218,7,0),\"\")","v":""},null,""]
[null,null,null,{"$f":"IF(C2879=\"\",\"\",VLOOKUP(C2879,Tabla_Regional[],3,0))","v":""},null,{"$f":"IF(E2879<>\"\",VLOOKUP(CONCATENATE(C2879,E2879),Dato!$A$4:$I$218,7,0),\"\")","v":""},null,""]
[null,null,null,{"$f":"IF(C2880=\"\",\"\",VLOOKUP(C2880,Tabla_Regional[],3,0))","v":""},null,{"$f":"IF(E2880<>\"\",VLOOKUP(CONCATENATE(C2880,E2880),Dato!$A$4:$I$218,7,0),\"\")","v":""},null,""]
[null,null,null,{"$f":"IF(C2881=\"\",\"\",VLOOKUP(C2881,Tabla_Regional[],3,0))","v":""},null,{"$f":"IF(E2881<>\"\",VLOOKUP(CONCATENATE(C2881,E2881),Dato!$A$4:$I$218,7,0),\"\")","v":""},null,""]
[null,null,null,{"$f":"IF(C2882=\"\",\"\",VLOOKUP(C2882,Tabla_Regional[],3,0))","v":""},null,{"$f":"IF(E2882<>\"\",VLOOKUP(CONCATENATE(C2882,E2882),Dato!$A$4:$I$218,7,0),\"\")","v":""},null,""]
[null,null,null,{"$f":"IF(C2883=\"\",\"\",VLOOKUP(C2883,Tabla_Regional[],3,0))","v":""},null,{"$f":"IF(E2883<>\"\",VLOOKUP(CONCATENATE(C2883,E2883),Dato!$A$4:$I$218,7,0),\"\")","v":""},null,""]
[null,null,null,{"$f":"IF(C2884=\"\",\"\",VLOOKUP(C2884,Tabla_Regional[],3,0))","v":""},null,{"$f":"IF(E2884<>\"\",VLOOKUP(CONCATENATE(C2884,E2884),Dato!$A$4:$I$218,7,0),\"\")","v":""},null,""]
[null,null,null,{"$f":"IF(C2885=\"\",\"\",VLOOKUP(C2885,Tabla_Regional[],3,0))","v":""},null,{"$f":"IF(E2885<>\"\",VLOOKUP(CONCATENATE(C2885,E2885),Dato!$A$4:$I$218,7,0),\"\")","v":""},null,""]
[null,null,null,{"$f":"IF(C2886=\"\",\"\",VLOOKUP(C2886,Tabla_Regional[],3,0))","v":""},null,{"$f":"IF(E2886<>\"\",VLOOKUP(CONCATENATE(C2886,E2886),Dato!$A$4:$I$218,7,0),\"\")","v":""},null,""]
[null,null,null,{"$f":"IF(C2887=\"\",\"\",VLOOKUP(C2887,Tabla_Regional[],3,0))","v":""},null,{"$f":"IF(E2887<>\"\",VLOOKUP(CONCATENATE(C2887,E2887),Dato!$A$4:$I$218,7,0),\"\")","v":""},null,""]
[null,null,null,{"$f":"IF(C2888=\"\",\"\",VLOOKUP(C2888,Tabla_Regional[],3,0))","v":""},null,{"$f":"IF(E2888<>\"\",VLOOKUP(CONCATENATE(C2888,E2888),Dato!$A$4:$I$218,7,0),\"\")","v":""},null,""]
[null,null,null,{"$f":"IF(C2889=\"\",\"\",VLOOKUP(C2889,Tabla_Regional[],3,0))","v":""},null,{"$f":"IF(E2889<>\"\",VLOOKUP(CONCATENATE(C2889,E2889),Dato!$A$4:$I$218,7,0),\"\")","v":""},null,""]
[null,null,null,{"$f":"IF(C2890=\"\",\"\",VLOOKUP(C2890,Tabla_Regional[],3,0))","v":""},null,{"$f":"IF(E2890<>\"\",VLOOKUP(CONCATENATE(C2890,E2890),Dato!$A$4:$I$218,7,0),\"\")","v":""},null,""]
[null,null,null,{"$f":"IF(C2891=\"\",\"\",VLOOKUP(C2891,Tabla_Regional[],3,0))","v":""},null,{"$f":"IF(E2891<>\"\",VLOOKUP(CONCATENATE(C2891,E2891),Dato!$A$4:$I$218,7,0),\"\")","v":""},null,""]
[null,null,null,{"$f":"IF(C2892=\"\",\"\",VLOOKUP(C2892,Tabla_Regional[],3,0))","v":""},null,{"$f":"IF(E2892<>\"\",VLOOKUP(CONCATENATE(C2892,E2892),Dato!$A$4:$I$218,7,0),\"\")","v":""},null,{"$f":"IF(G2892<>\"\",VLOOKUP(CONCATENATE(C2892,E2892,G2892),czmuni,7,0),\"\")","v":""}]
[null,null,null,{"$f":"IF(C2893=\"\",\"\",VLOOKUP(C2893,Tabla_Regional[],3,0))","v":""},null,{"$f":"IF(E2893<>\"\",VLOOKUP(CONCATENATE(C2893,E2893),Dato!$A$4:$I$218,7,0),\"\")","v":""},null,""]
[null,null,null,{"$f":"IF(C2894=\"\",\"\",VLOOKUP(C2894,Tabla_Regional[],3,0))","v":""},null,{"$f":"IF(E2894<>\"\",VLOOKUP(CONCATENATE(C2894,E2894),Dato!$A$4:$I$218,7,0),\"\")","v":""},null,""]
[null,null,null,{"$f":"IF(C2895=\"\",\"\",VLOOKUP(C2895,Tabla_Regional[],3,0))","v":""},null,{"$f":"IF(E2895<>\"\",VLOOKUP(CONCATENATE(C2895,E2895),Dato!$A$4:$I$218,7,0),\"\")","v":""},null,""]
[null,null,null,{"$f":"IF(C2896=\"\",\"\",VLOOKUP(C2896,Tabla_Regional[],3,0))","v":""},null,{"$f":"IF(E2896<>\"\",VLOOKUP(CONCATENATE(C2896,E2896),Dato!$A$4:$I$218,7,0),\"\")","v":""},null,""]
[null,null,null,{"$f":"IF(C2897=\"\",\"\",VLOOKUP(C2897,Tabla_Regional[],3,0))","v":""},null,{"$f":"IF(E2897<>\"\",VLOOKUP(CONCATENATE(C2897,E2897),Dato!$A$4:$I$218,7,0),\"\")","v":""},null,""]
[null,null,null,{"$f":"IF(C2898=\"\",\"\",VLOOKUP(C2898,Tabla_Regional[],3,0))","v":""},null,{"$f":"IF(E2898<>\"\",VLOOKUP(CONCATENATE(C2898,E2898),Dato!$A$4:$I$218,7,0),\"\")","v":""},null,""]
[null,null,null,{"$f":"IF(C2899=\"\",\"\",VLOOKUP(C2899,Tabla_Regional[],3,0))","v":""},null,{"$f":"IF(E2899<>\"\",VLOOKUP(CONCATENATE(C2899,E2899),Dato!$A$4:$I$218,7,0),\"\")","v":""},null,""]
[null,null,null,{"$f":"IF(C2900=\"\",\"\",VLOOKUP(C2900,Tabla_Regional[],3,0))","v":""},null,{"$f":"IF(E2900<>\"\",VLOOKUP(CONCATENATE(C2900,E2900),Dato!$A$4:$I$218,7,0),\"\")","v":""},null,""]
[null,null,null,{"$f":"IF(C2901=\"\",\"\",VLOOKUP(C2901,Tabla_Regional[],3,0))","v":""},null,{"$f":"IF(E2901<>\"\",VLOOKUP(CONCATENATE(C2901,E2901),Dato!$A$4:$I$218,7,0),\"\")","v":""},null,""]
[null,null,null,{"$f":"IF(C2902=\"\",\"\",VLOOKUP(C2902,Tabla_Regional[],3,0))","v":""},null,{"$f":"IF(E2902<>\"\",VLOOKUP(CONCATENATE(C2902,E2902),Dato!$A$4:$I$218,7,0),\"\")","v":""},null,""]
[null,null,null,{"$f":"IF(C2903=\"\",\"\",VLOOKUP(C2903,Tabla_Regional[],3,0))","v":""},null,{"$f":"IF(E2903<>\"\",VLOOKUP(CONCATENATE(C2903,E2903),Dato!$A$4:$I$218,7,0),\"\")","v":""},null,""]
[null,null,null,{"$f":"IF(C2904=\"\",\"\",VLOOKUP(C2904,Tabla_Regional[],3,0))","v":""},null,{"$f":"IF(E2904<>\"\",VLOOKUP(CONCATENATE(C2904,E2904),Dato!$A$4:$I$218,7,0),\"\")","v":""},null,""]
[null,null,null,{"$f":"IF(C2905=\"\",\"\",VLOOKUP(C2905,Tabla_Regional[],3,0))","v":""},null,{"$f":"IF(E2905<>\"\",VLOOKUP(CONCATENATE(C2905,E2905),Dato!$A$4:$I$218,7,0),\"\")","v":""},null,""]
[null,null,null,{"$f":"IF(C2906=\"\",\"\",VLOOKUP(C2906,Tabla_Regional[],3,0))","v":""},null,{"$f":"IF(E2906<>\"\",VLOOKUP(CONCATENATE(C2906,E2906),Dato!$A$4:$I$218,7,0),\"\")","v":""},null,""]
[null,null,null,{"$f":"IF(C2907=\"\",\"\",VLOOKUP(C2907,Tabla_Regional[],3,0))","v":""},null,{"$f":"IF(E2907<>\"\",VLOOKUP(CONCATENATE(C2907,E2907),Dato!$A$4:$I$218,7,0),\"\")","v":""},null,""]
[null,null,null,{"$f":"IF(C2908=\"\",\"\",VLOOKUP(C2908,Tabla_Regional[],3,0))","v":""},null,{"$f":"IF(E2908<>\"\",VLOOKUP(CONCATENATE(C2908,E2908),Dato!$A$4:$I$218,7,0),\"\")","v":""},null,""]
[null,null,null,{"$f":"IF(C2909=\"\",\"\",VLOOKUP(C2909,Tabla_Regional[],3,0))","v":""},null,{"$f":"IF(E2909<>\"\",VLOOKUP(CONCATENATE(C2909,E2909),Dato!$A$4:$I$218,7,0),\"\")","v":""},null,""]
[null,null,null,{"$f":"IF(C2910=\"\",\"\",VLOOKUP(C2910,Tabla_Regional[],3,0))","v":""},null,{"$f":"IF(E2910<>\"\",VLOOKUP(CONCATENATE(C2910,E2910),Dato!$A$4:$I$218,7,0),\"\")","v":""},null,""]
[null,null,null,{"$f":"IF(C2911=\"\",\"\",VLOOKUP(C2911,Tabla_Regional[],3,0))","v":""},null,{"$f":"IF(E2911<>\"\",VLOOKUP(CONCATENATE(C2911,E2911),Dato!$A$4:$I$218,7,0),\"\")","v":""},null,""]
[null,null,null,{"$f":"IF(C2912=\"\",\"\",VLOOKUP(C2912,Tabla_Regional[],3,0))","v":""},null,{"$f":"IF(E2912<>\"\",VLOOKUP(CONCATENATE(C2912,E2912),Dato!$A$4:$I$218,7,0),\"\")","v":""},null,""]
[null,null,null,{"$f":"IF(C2913=\"\",\"\",VLOOKUP(C2913,Tabla_Regional[],3,0))","v":""},null,{"$f":"IF(E2913<>\"\",VLOOKUP(CONCATENATE(C2913,E2913),Dato!$A$4:$I$218,7,0),\"\")","v":""},null,""]
[null,null,null,{"$f":"IF(C2914=\"\",\"\",VLOOKUP(C2914,Tabla_Regional[],3,0))","v":""},null,{"$f":"IF(E2914<>\"\",VLOOKUP(CONCATENATE(C2914,E2914),Dato!$A$4:$I$218,7,0),\"\")","v":""},null,""]
[null,null,null,{"$f":"IF(C2915=\"\",\"\",VLOOKUP(C2915,Tabla_Regional[],3,0))","v":""},null,{"$f":"IF(E2915<>\"\",VLOOKUP(CONCATENATE(C2915,E2915),Dato!$A$4:$I$218,7,0),\"\")","v":""},null,""]
[null,null,null,{"$f":"IF(C2916=\"\",\"\",VLOOKUP(C2916,Tabla_Regional[],3,0))","v":""},null,{"$f":"IF(E2916<>\"\",VLOOKUP(CONCATENATE(C2916,E2916),Dato!$A$4:$I$218,7,0),\"\")","v":""},null,""]
[null,null,null,{"$f":"IF(C2917=\"\",\"\",VLOOKUP(C2917,Tabla_Regional[],3,0))","v":""},null,{"$f":"IF(E2917<>\"\",VLOOKUP(CONCATENATE(C2917,E2917),Dato!$A$4:$I$218,7,0),\"\")","v":""},null,""]
[null,null,null,{"$f":"IF(C2918=\"\",\"\",VLOOKUP(C2918,Tabla_Regional[],3,0))","v":""},null,{"$f":"IF(E2918<>\"\",VLOOKUP(CONCATENATE(C2918,E2918),Dato!$A$4:$I$218,7,0),\"\")","v":""},null,""]
[null,null,null,{"$f":"IF(C2919=\"\",\"\",VLOOKUP(C2919,Tabla_Regional[],3,0))","v":""},null,{"$f":"IF(E2919<>\"\",VLOOKUP(CONCATENATE(C2919,E2919),Dato!$A$4:$I$218,7,0),\"\")","v":""},null,""]
[null,null,null,{"$f":"IF(C2920=\"\",\"\",VLOOKUP(C2920,Tabla_Regional[],3,0))","v":""},null,{"$f":"IF(E2920<>\"\",VLOOKUP(CONCATENATE(C2920,E2920),Dato!$A$4:$I$218,7,0),\"\")","v":""},null,""]
[null,null,null,{"$f":"IF(C2921=\"\",\"\",VLOOKUP(C2921,Tabla_Regional[],3,0))","v":""},null,{"$f":"IF(E2921<>\"\",VLOOKUP(CONCATENATE(C2921,E2921),Dato!$A$4:$I$218,7,0),\"\")","v":""},null,""]
[null,null,null,{"$f":"IF(C2922=\"\",\"\",VLOOKUP(C2922,Tabla_Regional[],3,0))","v":""},null,{"$f":"IF(E2922<>\"\",VLOOKUP(CONCATENATE(C2922,E2922),Dato!$A$4:$I$218,7,0),\"\")","v":""},null,""]
[null,null,null,{"$f":"IF(C2923=\"\",\"\",VLOOKUP(C2923,Tabla_Regional[],3,0))","v":""},null,{"$f":"IF(E2923<>\"\",VLOOKUP(CONCATENATE(C2923,E2923),Dato!$A$4:$I$218,7,0),\"\")","v":""},null,""]
[null,null,null,{"$f":"IF(C2924=\"\",\"\",VLOOKUP(C2924,Tabla_Regional[],3,0))","v":""},null,{"$f":"IF(E2924<>\"\",VLOOKUP(CONCATENATE(C2924,E2924),Dato!$A$4:$I$218,7,0),\"\")","v":""},null,""]
[null,null,null,{"$f":"IF(C2925=\"\",\"\",VLOOKUP(C2925,Tabla_Regional[],3,0))","v":""},null,{"$f":"IF(E2925<>\"\",VLOOKUP(CONCATENATE(C2925,E2925),Dato!$A$4:$I$218,7,0),\"\")","v":""},null,""]
[null,null,null,{"$f":"IF(C2926=\"\",\"\",VLOOKUP(C2926,Tabla_Regional[],3,0))","v":""},null,{"$f":"IF(E2926<>\"\",VLOOKUP(CONCATENATE(C2926,E2926),Dato!$A$4:$I$218,7,0),\"\")","v":""},null,""]
[null,null,null,{"$f":"IF(C2927=\"\",\"\",VLOOKUP(C2927,Tabla_Regional[],3,0))","v":""},null,{"$f":"IF(E2927<>\"\",VLOOKUP(CONCATENATE(C2927,E2927),Dato!$A$4:$I$218,7,0),\"\")","v":""},null,""]
[null,null,null,{"$f":"IF(C2928=\"\",\"\",VLOOKUP(C2928,Tabla_Regional[],3,0))","v":""},null,{"$f":"IF(E2928<>\"\",VLOOKUP(CONCATENATE(C2928,E2928),Dato!$A$4:$I$218,7,0),\"\")","v":""},null,""]
[null,null,null,{"$f":"IF(C2929=\"\",\"\",VLOOKUP(C2929,Tabla_Regional[],3,0))","v":""},null,{"$f":"IF(E2929<>\"\",VLOOKUP(CONCATENATE(C2929,E2929),Dato!$A$4:$I$218,7,0),\"\")","v":""},null,""]
[null,null,null,{"$f":"IF(C2930=\"\",\"\",VLOOKUP(C2930,Tabla_Regional[],3,0))","v":""},null,{"$f":"IF(E2930<>\"\",VLOOKUP(CONCATENATE(C2930,E2930),Dato!$A$4:$I$218,7,0),\"\")","v":""},null,""]
[null,null,null,{"$f":"IF(C2931=\"\",\"\",VLOOKUP(C2931,Tabla_Regional[],3,0))","v":""},null,{"$f":"IF(E2931<>\"\",VLOOKUP(CONCATENATE(C2931,E2931),Dato!$A$4:$I$218,7,0),\"\")","v":""},null,""]
[null,null,null,{"$f":"IF(C2932=\"\",\"\",VLOOKUP(C2932,Tabla_Regional[],3,0))","v":""},null,{"$f":"IF(E2932<>\"\",VLOOKUP(CONCATENATE(C2932,E2932),Dato!$A$4:$I$218,7,0),\"\")","v":""},null,""]
[null,null,null,{"$f":"IF(C2933=\"\",\"\",VLOOKUP(C2933,Tabla_Regional[],3,0))","v":""},null,{"$f":"IF(E2933<>\"\",VLOOKUP(CONCATENATE(C2933,E2933),Dato!$A$4:$I$218,7,0),\"\")","v":""},null,""]
[null,null,null,{"$f":"IF(C2934=\"\",\"\",VLOOKUP(C2934,Tabla_Regional[],3,0))","v":""},null,{"$f":"IF(E2934<>\"\",VLOOKUP(CONCATENATE(C2934,E2934),Dato!$A$4:$I$218,7,0),\"\")","v":""},null,""]
[null,null,null,{"$f":"IF(C2935=\"\",\"\",VLOOKUP(C2935,Tabla_Regional[],3,0))","v":""},null,{"$f":"IF(E2935<>\"\",VLOOKUP(CONCATENATE(C2935,E2935),Dato!$A$4:$I$218,7,0),\"\")","v":""},null,""]
[null,null,null,{"$f":"IF(C2936=\"\",\"\",VLOOKUP(C2936,Tabla_Regional[],3,0))","v":""},null,{"$f":"IF(E2936<>\"\",VLOOKUP(CONCATENATE(C2936,E2936),Dato!$A$4:$I$218,7,0),\"\")","v":""},null,""]
[null,null,null,{"$f":"IF(C2937=\"\",\"\",VLOOKUP(C2937,Tabla_Regional[],3,0))","v":""},null,{"$f":"IF(E2937<>\"\",VLOOKUP(CONCATENATE(C2937,E2937),Dato!$A$4:$I$218,7,0),\"\")","v":""},null,""]
[null,null,null,{"$f":"IF(C2938=\"\",\"\",VLOOKUP(C2938,Tabla_Regional[],3,0))","v":""},null,{"$f":"IF(E2938<>\"\",VLOOKUP(CONCATENATE(C2938,E2938),Dato!$A$4:$I$218,7,0),\"\")","v":""},null,""]
[null,null,null,{"$f":"IF(C2939=\"\",\"\",VLOOKUP(C2939,Tabla_Regional[],3,0))","v":""},null,{"$f":"IF(E2939<>\"\",VLOOKUP(CONCATENATE(C2939,E2939),Dato!$A$4:$I$218,7,0),\"\")","v":""},null,""]
[null,null,null,{"$f":"IF(C2940=\"\",\"\",VLOOKUP(C2940,Tabla_Regional[],3,0))","v":""},null,{"$f":"IF(E2940<>\"\",VLOOKUP(CONCATENATE(C2940,E2940),Dato!$A$4:$I$218,7,0),\"\")","v":""},null,""]
[null,null,null,{"$f":"IF(C2941=\"\",\"\",VLOOKUP(C2941,Tabla_Regional[],3,0))","v":""},null,{"$f":"IF(E2941<>\"\",VLOOKUP(CONCATENATE(C2941,E2941),Dato!$A$4:$I$218,7,0),\"\")","v":""},null,""]
[null,null,null,{"$f":"IF(C2942=\"\",\"\",VLOOKUP(C2942,Tabla_Regional[],3,0))","v":""},null,{"$f":"IF(E2942<>\"\",VLOOKUP(CONCATENATE(C2942,E2942),Dato!$A$4:$I$218,7,0),\"\")","v":""},null,""]
[null,null,null,{"$f":"IF(C2943=\"\",\"\",VLOOKUP(C2943,Tabla_Regional[],3,0))","v":""},null,{"$f":"IF(E2943<>\"\",VLOOKUP(CONCATENATE(C2943,E2943),Dato!$A$4:$I$218,7,0),\"\")","v":""},null,""]
[null,null,null,{"$f":"IF(C2944=\"\",\"\",VLOOKUP(C2944,Tabla_Regional[],3,0))","v":""},null,{"$f":"IF(E2944<>\"\",VLOOKUP(CONCATENATE(C2944,E2944),Dato!$A$4:$I$218,7,0),\"\")","v":""},null,""]
[null,null,null,{"$f":"IF(C2945=\"\",\"\",VLOOKUP(C2945,Tabla_Regional[],3,0))","v":""},null,{"$f":"IF(E2945<>\"\",VLOOKUP(CONCATENATE(C2945,E2945),Dato!$A$4:$I$218,7,0),\"\")","v":""},null,""]
[null,null,null,{"$f":"IF(C2946=\"\",\"\",VLOOKUP(C2946,Tabla_Regional[],3,0))","v":""},null,{"$f":"IF(E2946<>\"\",VLOOKUP(CONCATENATE(C2946,E2946),Dato!$A$4:$I$218,7,0),\"\")","v":""},null,""]
[null,null,null,{"$f":"IF(C2947=\"\",\"\",VLOOKUP(C2947,Tabla_Regional[],3,0))","v":""},null,{"$f":"IF(E2947<>\"\",VLOOKUP(CONCATENATE(C2947,E2947),Dato!$A$4:$I$218,7,0),\"\")","v":""},null,""]
[null,null,null,{"$f":"IF(C2948=\"\",\"\",VLOOKUP(C2948,Tabla_Regional[],3,0))","v":""},null,{"$f":"IF(E2948<>\"\",VLOOKUP(CONCATENATE(C2948,E2948),Dato!$A$4:$I$218,7,0),\"\")","v":""},null,""]
[null,null,null,{"$f":"IF(C2949=\"\",\"\",VLOOKUP(C2949,Tabla_Regional[],3,0))","v":""},null,{"$f":"IF(E2949<>\"\",VLOOKUP(CONCATENATE(C2949,E2949),Dato!$A$4:$I$218,7,0),\"\")","v":""},null,""]
[null,null,null,{"$f":"IF(C2950=\"\",\"\",VLOOKUP(C2950,Tabla_Regional[],3,0))","v":""},null,{"$f":"IF(E2950<>\"\",VLOOKUP(CONCATENATE(C2950,E2950),Dato!$A$4:$I$218,7,0),\"\")","v":""},null,""]
[null,null,null,{"$f":"IF(C2951=\"\",\"\",VLOOKUP(C2951,Tabla_Regional[],3,0))","v":""},null,{"$f":"IF(E2951<>\"\",VLOOKUP(CONCATENATE(C2951,E2951),Dato!$A$4:$I$218,7,0),\"\")","v":""},null,""]
[null,null,null,{"$f":"IF(C2952=\"\",\"\",VLOOKUP(C2952,Tabla_Regional[],3,0))","v":""},null,{"$f":"IF(E2952<>\"\",VLOOKUP(CONCATENATE(C2952,E2952),Dato!$A$4:$I$218,7,0),\"\")","v":""},null,""]
[null,null,null,{"$f":"IF(C2953=\"\",\"\",VLOOKUP(C2953,Tabla_Regional[],3,0))","v":""},null,{"$f":"IF(E2953<>\"\",VLOOKUP(CONCATENATE(C2953,E2953),Dato!$A$4:$I$218,7,0),\"\")","v":""},null,""]
[null,null,null,{"$f":"IF(C2954=\"\",\"\",VLOOKUP(C2954,Tabla_Regional[],3,0))","v":""},null,{"$f":"IF(E2954<>\"\",VLOOKUP(CONCATENATE(C2954,E2954),Dato!$A$4:$I$218,7,0),\"\")","v":""},null,""]
[null,null,null,{"$f":"IF(C2955=\"\",\"\",VLOOKUP(C2955,Tabla_Regional[],3,0))","v":""},null,{"$f":"IF(E2955<>\"\",VLOOKUP(CONCATENATE(C2955,E2955),Dato!$A$4:$I$218,7,0),\"\")","v":""},null,""]
[null,null,null,{"$f":"IF(C2956=\"\",\"\",VLOOKUP(C2956,Tabla_Regional[],3,0))","v":""},null,{"$f":"IF(E2956<>\"\",VLOOKUP(CONCATENATE(C2956,E2956),Dato!$A$4:$I$218,7,0),\"\")","v":""},null,{"$f":"IF(G2956<>\"\",VLOOKUP(CONCATENATE(C2956,E2956,G2956),czmuni,7,0),\"\")","v":""}]
[null,null,null,{"$f":"IF(C2957=\"\",\"\",VLOOKUP(C2957,Tabla_Regional[],3,0))","v":""},null,{"$f":"IF(E2957<>\"\",VLOOKUP(CONCATENATE(C2957,E2957),Dato!$A$4:$I$218,7,0),\"\")","v":""},null,""]
[null,null,null,{"$f":"IF(C2958=\"\",\"\",VLOOKUP(C2958,Tabla_Regional[],3,0))","v":""},null,{"$f":"IF(E2958<>\"\",VLOOKUP(CONCATENATE(C2958,E2958),Dato!$A$4:$I$218,7,0),\"\")","v":""},null,""]
[null,null,null,{"$f":"IF(C2959=\"\",\"\",VLOOKUP(C2959,Tabla_Regional[],3,0))","v":""},null,{"$f":"IF(E2959<>\"\",VLOOKUP(CONCATENATE(C2959,E2959),Dato!$A$4:$I$218,7,0),\"\")","v":""},null,""]
[null,null,null,{"$f":"IF(C2960=\"\",\"\",VLOOKUP(C2960,Tabla_Regional[],3,0))","v":""},null,{"$f":"IF(E2960<>\"\",VLOOKUP(CONCATENATE(C2960,E2960),Dato!$A$4:$I$218,7,0),\"\")","v":""},null,""]
[null,null,null,{"$f":"IF(C2961=\"\",\"\",VLOOKUP(C2961,Tabla_Regional[],3,0))","v":""},null,{"$f":"IF(E2961<>\"\",VLOOKUP(CONCATENATE(C2961,E2961),Dato!$A$4:$I$218,7,0),\"\")","v":""},null,""]
[null,null,null,{"$f":"IF(C2962=\"\",\"\",VLOOKUP(C2962,Tabla_Regional[],3,0))","v":""},null,{"$f":"IF(E2962<>\"\",VLOOKUP(CONCATENATE(C2962,E2962),Dato!$A$4:$I$218,7,0),\"\")","v":""},null,""]
[null,null,null,{"$f":"IF(C2963=\"\",\"\",VLOOKUP(C2963,Tabla_Regional[],3,0))","v":""},null,{"$f":"IF(E2963<>\"\",VLOOKUP(CONCATENATE(C2963,E2963),Dato!$A$4:$I$218,7,0),\"\")","v":""},null,""]
[null,null,null,{"$f":"IF(C2964=\"\",\"\",VLOOKUP(C2964,Tabla_Regional[],3,0))","v":""},null,{"$f":"IF(E2964<>\"\",VLOOKUP(CONCATENATE(C2964,E2964),Dato!$A$4:$I$218,7,0),\"\")","v":""},null,""]
[null,null,null,{"$f":"IF(C2965=\"\",\"\",VLOOKUP(C2965,Tabla_Regional[],3,0))","v":""},null,{"$f":"IF(E2965<>\"\",VLOOKUP(CONCATENATE(C2965,E2965),Dato!$A$4:$I$218,7,0),\"\")","v":""},null,""]
[null,null,null,{"$f":"IF(C2966=\"\",\"\",VLOOKUP(C2966,Tabla_Regional[],3,0))","v":""},null,{"$f":"IF(E2966<>\"\",VLOOKUP(CONCATENATE(C2966,E2966),Dato!$A$4:$I$218,7,0),\"\")","v":""},null,""]
[null,null,null,{"$f":"IF(C2967=\"\",\"\",VLOOKUP(C2967,Tabla_Regional[],3,0))","v":""},null,{"$f":"IF(E2967<>\"\",VLOOKUP(CONCATENATE(C2967,E2967),Dato!$A$4:$I$218,7,0),\"\")","v":""},null,""]
[null,null,null,{"$f":"IF(C2968=\"\",\"\",VLOOKUP(C2968,Tabla_Regional[],3,0))","v":""},null,{"$f":"IF(E2968<>\"\",VLOOKUP(CONCATENATE(C2968,E2968),Dato!$A$4:$I$218,7,0),\"\")","v":""},null,""]
[null,null,null,{"$f":"IF(C2969=\"\",\"\",VLOOKUP(C2969,Tabla_Regional[],3,0))","v":""},null,{"$f":"IF(E2969<>\"\",VLOOKUP(CONCATENATE(C2969,E2969),Dato!$A$4:$I$218,7,0),\"\")","v":""},null,""]
[null,null,null,{"$f":"IF(C2970=\"\",\"\",VLOOKUP(C2970,Tabla_Regional[],3,0))","v":""},null,{"$f":"IF(E2970<>\"\",VLOOKUP(CONCATENATE(C2970,E2970),Dato!$A$4:$I$218,7,0),\"\")","v":""},null,""]
[null,null,null,{"$f":"IF(C2971=\"\",\"\",VLOOKUP(C2971,Tabla_Regional[],3,0))","v":""},null,{"$f":"IF(E2971<>\"\",VLOOKUP(CONCATENATE(C2971,E2971),Dato!$A$4:$I$218,7,0),\"\")","v":""},null,""]
[null,null,null,{"$f":"IF(C2972=\"\",\"\",VLOOKUP(C2972,Tabla_Regional[],3,0))","v":""},null,{"$f":"IF(E2972<>\"\",VLOOKUP(CONCATENATE(C2972,E2972),Dato!$A$4:$I$218,7,0),\"\")","v":""},null,""]
[null,null,null,{"$f":"IF(C2973=\"\",\"\",VLOOKUP(C2973,Tabla_Regional[],3,0))","v":""},null,{"$f":"IF(E2973<>\"\",VLOOKUP(CONCATENATE(C2973,E2973),Dato!$A$4:$I$218,7,0),\"\")","v":""},null,""]
[null,null,null,{"$f":"IF(C2974=\"\",\"\",VLOOKUP(C2974,Tabla_Regional[],3,0))","v":""},null,{"$f":"IF(E2974<>\"\",VLOOKUP(CONCATENATE(C2974,E2974),Dato!$A$4:$I$218,7,0),\"\")","v":""},null,""]
[null,null,null,{"$f":"IF(C2975=\"\",\"\",VLOOKUP(C2975,Tabla_Regional[],3,0))","v":""},null,{"$f":"IF(E2975<>\"\",VLOOKUP(CONCATENATE(C2975,E2975),Dato!$A$4:$I$218,7,0),\"\")","v":""},null,""]
[null,null,null,{"$f":"IF(C2976=\"\",\"\",VLOOKUP(C2976,Tabla_Regional[],3,0))","v":""},null,{"$f":"IF(E2976<>\"\",VLOOKUP(CONCATENATE(C2976,E2976),Dato!$A$4:$I$218,7,0),\"\")","v":""},null,""]
[null,null,null,{"$f":"IF(C2977=\"\",\"\",VLOOKUP(C2977,Tabla_Regional[],3,0))","v":""},null,{"$f":"IF(E2977<>\"\",VLOOKUP(CONCATENATE(C2977,E2977),Dato!$A$4:$I$218,7,0),\"\")","v":""},null,""]
[null,null,null,{"$f":"IF(C2978=\"\",\"\",VLOOKUP(C2978,Tabla_Regional[],3,0))","v":""},null,{"$f":"IF(E2978<>\"\",VLOOKUP(CONCATENATE(C2978,E2978),Dato!$A$4:$I$218,7,0),\"\")","v":""},null,""]
[null,null,null,{"$f":"IF(C2979=\"\",\"\",VLOOKUP(C2979,Tabla_Regional[],3,0))","v":""},null,{"$f":"IF(E2979<>\"\",VLOOKUP(CONCATENATE(C2979,E2979),Dato!$A$4:$I$218,7,0),\"\")","v":""},null,""]
[null,null,null,{"$f":"IF(C2980=\"\",\"\",VLOOKUP(C2980,Tabla_Regional[],3,0))","v":""},null,{"$f":"IF(E2980<>\"\",VLOOKUP(CONCATENATE(C2980,E2980),Dato!$A$4:$I$218,7,0),\"\")","v":""},null,""]
[null,null,null,{"$f":"IF(C2981=\"\",\"\",VLOOKUP(C2981,Tabla_Regional[],3,0))","v":""},null,{"$f":"IF(E2981<>\"\",VLOOKUP(CONCATENATE(C2981,E2981),Dato!$A$4:$I$218,7,0),\"\")","v":""},null,""]
[null,null,null,{"$f":"IF(C2982=\"\",\"\",VLOOKUP(C2982,Tabla_Regional[],3,0))","v":""},null,{"$f":"IF(E2982<>\"\",VLOOKUP(CONCATENATE(C2982,E2982),Dato!$A$4:$I$218,7,0),\"\")","v":""},null,""]
[null,null,null,{"$f":"IF(C2983=\"\",\"\",VLOOKUP(C2983,Tabla_Regional[],3,0))","v":""},null,{"$f":"IF(E2983<>\"\",VLOOKUP(CONCATENATE(C2983,E2983),Dato!$A$4:$I$218,7,0),\"\")","v":""},null,""]
[null,null,null,{"$f":"IF(C2984=\"\",\"\",VLOOKUP(C2984,Tabla_Regional[],3,0))","v":""},null,{"$f":"IF(E2984<>\"\",VLOOKUP(CONCATENATE(C2984,E2984),Dato!$A$4:$I$218,7,0),\"\")","v":""},null,""]
[null,null,null,{"$f":"IF(C2985=\"\",\"\",VLOOKUP(C2985,Tabla_Regional[],3,0))","v":""},null,{"$f":"IF(E2985<>\"\",VLOOKUP(CONCATENATE(C2985,E2985),Dato!$A$4:$I$218,7,0),\"\")","v":""},null,""]
[null,null,null,{"$f":"IF(C2986=\"\",\"\",VLOOKUP(C2986,Tabla_Regional[],3,0))","v":""},null,{"$f":"IF(E2986<>\"\",VLOOKUP(CONCATENATE(C2986,E2986),Dato!$A$4:$I$218,7,0),\"\")","v":""},null,""]
[null,null,null,{"$f":"IF(C2987=\"\",\"\",VLOOKUP(C2987,Tabla_Regional[],3,0))","v":""},null,{"$f":"IF(E2987<>\"\",VLOOKUP(CONCATENATE(C2987,E2987),Dato!$A$4:$I$218,7,0),\"\")","v":""},null,""]
[null,null,null,{"$f":"IF(C2988=\"\",\"\",VLOOKUP(C2988,Tabla_Regional[],3,0))","v":""},null,{"$f":"IF(E2988<>\"\",VLOOKUP(CONCATENATE(C2988,E2988),Dato!$A$4:$I$218,7,0),\"\")","v":""},null,""]
[null,null,null,{"$f":"IF(C2989=\"\",\"\",VLOOKUP(C2989,Tabla_Regional[],3,0))","v":""},null,{"$f":"IF(E2989<>\"\",VLOOKUP(CONCATENATE(C2989,E2989),Dato!$A$4:$I$218,7,0),\"\")","v":""},null,""]
[null,null,null,{"$f":"IF(C2990=\"\",\"\",VLOOKUP(C2990,Tabla_Regional[],3,0))","v":""},null,{"$f":"IF(E2990<>\"\",VLOOKUP(CONCATENATE(C2990,E2990),Dato!$A$4:$I$218,7,0),\"\")","v":""},null,""]
[null,null,null,{"$f":"IF(C2991=\"\",\"\",VLOOKUP(C2991,Tabla_Regional[],3,0))","v":""},null,{"$f":"IF(E2991<>\"\",VLOOKUP(CONCATENATE(C2991,E2991),Dato!$A$4:$I$218,7,0),\"\")","v":""},null,""]
[null,null,null,{"$f":"IF(C2992=\"\",\"\",VLOOKUP(C2992,Tabla_Regional[],3,0))","v":""},null,{"$f":"IF(E2992<>\"\",VLOOKUP(CONCATENATE(C2992,E2992),Dato!$A$4:$I$218,7,0),\"\")","v":""},null,""]
[null,null,null,{"$f":"IF(C2993=\"\",\"\",VLOOKUP(C2993,Tabla_Regional[],3,0))","v":""},null,{"$f":"IF(E2993<>\"\",VLOOKUP(CONCATENATE(C2993,E2993),Dato!$A$4:$I$218,7,0),\"\")","v":""},null,""]
[null,null,null,{"$f":"IF(C2994=\"\",\"\",VLOOKUP(C2994,Tabla_Regional[],3,0))","v":""},null,{"$f":"IF(E2994<>\"\",VLOOKUP(CONCATENATE(C2994,E2994),Dato!$A$4:$I$218,7,0),\"\")","v":""},null,""]
[null,null,null,{"$f":"IF(C2995=\"\",\"\",VLOOKUP(C2995,Tabla_Regional[],3,0))","v":""},null,{"$f":"IF(E2995<>\"\",VLOOKUP(CONCATENATE(C2995,E2995),Dato!$A$4:$I$218,7,0),\"\")","v":""},null,""]
[null,null,null,{"$f":"IF(C2996=\"\",\"\",VLOOKUP(C2996,Tabla_Regional[],3,0))","v":""},null,{"$f":"IF(E2996<>\"\",VLOOKUP(CONCATENATE(C2996,E2996),Dato!$A$4:$I$218,7,0),\"\")","v":""},null,""]
[null,null,null,{"$f":"IF(C2997=\"\",\"\",VLOOKUP(C2997,Tabla_Regional[],3,0))","v":""},null,{"$f":"IF(E2997<>\"\",VLOOKUP(CONCATENATE(C2997,E2997),Dato!$A$4:$I$218,7,0),\"\")","v":""},null,""]
[null,null,null,{"$f":"IF(C2998=\"\",\"\",VLOOKUP(C2998,Tabla_Regional[],3,0))","v":""},null,{"$f":"IF(E2998<>\"\",VLOOKUP(CONCATENATE(C2998,E2998),Dato!$A$4:$I$218,7,0),\"\")","v":""},null,""]
[null,null,null,{"$f":"IF(C2999=\"\",\"\",VLOOKUP(C2999,Tabla_Regional[],3,0))","v":""},null,{"$f":"IF(E2999<>\"\",VLOOKUP(CONCATENATE(C2999,E2999),Dato!$A$4:$I$218,7,0),\"\")","v":""},null,""]
[null,null,null,{"$f":"IF(C3000=\"\",\"\",VLOOKUP(C3000,Tabla_Regional[],3,0))","v":""},null,{"$f":"IF(E3000<>\"\",VLOOKUP(CONCATENATE(C3000,E3000),Dato!$A$4:$I$218,7,0),\"\")","v":""},null,""]
[null,null,null,{"$f":"IF(C3001=\"\",\"\",VLOOKUP(C3001,Tabla_Regional[],3,0))","v":""},null,{"$f":"IF(E3001<>\"\",VLOOKUP(CONCATENATE(C3001,E3001),Dato!$A$4:$I$218,7,0),\"\")","v":""},null,""]
[null,null,null,{"$f":"IF(C3002=\"\",\"\",VLOOKUP(C3002,Tabla_Regional[],3,0))","v":""},null,{"$f":"IF(E3002<>\"\",VLOOKUP(CONCATENATE(C3002,E3002),Dato!$A$4:$I$218,7,0),\"\")","v":""},null,""]
[null,null,null,{"$f":"IF(C3003=\"\",\"\",VLOOKUP(C3003,Tabla_Regional[],3,0))","v":""},null,{"$f":"IF(E3003<>\"\",VLOOKUP(CONCATENATE(C3003,E3003),Dato!$A$4:$I$218,7,0),\"\")","v":""},null,""]
[null,null,null,{"$f":"IF(C3004=\"\",\"\",VLOOKUP(C3004,Tabla_Regional[],3,0))","v":""},null,{"$f":"IF(E3004<>\"\",VLOOKUP(CONCATENATE(C3004,E3004),Dato!$A$4:$I$218,7,0),\"\")","v":""},null,""]
[null,null,null,{"$f":"IF(C3005=\"\",\"\",VLOOKUP(C3005,Tabla_Regional[],3,0))","v":""},null,{"$f":"IF(E3005<>\"\",VLOOKUP(CONCATENATE(C3005,E3005),Dato!$A$4:$I$218,7,0),\"\")","v":""},null,""]
[null,null,null,{"$f":"IF(C3006=\"\",\"\",VLOOKUP(C3006,Tabla_Regional[],3,0))","v":""},null,{"$f":"IF(E3006<>\"\",VLOOKUP(CONCATENATE(C3006,E3006),Dato!$A$4:$I$218,7,0),\"\")","v":""},null,""]
[null,null,null,{"$f":"IF(C3007=\"\",\"\",VLOOKUP(C3007,Tabla_Regional[],3,0))","v":""},null,{"$f":"IF(E3007<>\"\",VLOOKUP(CONCATENATE(C3007,E3007),Dato!$A$4:$I$218,7,0),\"\")","v":""},null,""]
[null,null,null,{"$f":"IF(C3008=\"\",\"\",VLOOKUP(C3008,Tabla_Regional[],3,0))","v":""},null,{"$f":"IF(E3008<>\"\",VLOOKUP(CONCATENATE(C3008,E3008),Dato!$A$4:$I$218,7,0),\"\")","v":""},null,""]
[null,null,null,{"$f":"IF(C3009=\"\",\"\",VLOOKUP(C3009,Tabla_Regional[],3,0))","v":""},null,{"$f":"IF(E3009<>\"\",VLOOKUP(CONCATENATE(C3009,E3009),Dato!$A$4:$I$218,7,0),\"\")","v":""},null,""]
[null,null,null,{"$f":"IF(C3010=\"\",\"\",VLOOKUP(C3010,Tabla_Regional[],3,0))","v":""},null,{"$f":"IF(E3010<>\"\",VLOOKUP(CONCATENATE(C3010,E3010),Dato!$A$4:$I$218,7,0),\"\")","v":""},null,""]
[null,null,null,{"$f":"IF(C3011=\"\",\"\",VLOOKUP(C3011,Tabla_Regional[],3,0))","v":""},null,{"$f":"IF(E3011<>\"\",VLOOKUP(CONCATENATE(C3011,E3011),Dato!$A$4:$I$218,7,0),\"\")","v":""},null,""]
[null,null,null,{"$f":"IF(C3012=\"\",\"\",VLOOKUP(C3012,Tabla_Regional[],3,0))","v":""},null,{"$f":"IF(E3012<>\"\",VLOOKUP(CONCATENATE(C3012,E3012),Dato!$A$4:$I$218,7,0),\"\")","v":""},null,""]
[null,null,null,{"$f":"IF(C3013=\"\",\"\",VLOOKUP(C3013,Tabla_Regional[],3,0))","v":""},null,{"$f":"IF(E3013<>\"\",VLOOKUP(CONCATENATE(C3013,E3013),Dato!$A$4:$I$218,7,0),\"\")","v":""},null,""]
[null,null,null,{"$f":"IF(C3014=\"\",\"\",VLOOKUP(C3014,Tabla_Regional[],3,0))","v":""},null,{"$f":"IF(E3014<>\"\",VLOOKUP(CONCATENATE(C3014,E3014),Dato!$A$4:$I$218,7,0),\"\")","v":""},null,""]
[null,null,null,{"$f":"IF(C3015=\"\",\"\",VLOOKUP(C3015,Tabla_Regional[],3,0))","v":""},null,{"$f":"IF(E3015<>\"\",VLOOKUP(CONCATENATE(C3015,E3015),Dato!$A$4:$I$218,7,0),\"\")","v":""},null,""]
[null,null,null,{"$f":"IF(C3016=\"\",\"\",VLOOKUP(C3016,Tabla_Regional[],3,0))","v":""},null,{"$f":"IF(E3016<>\"\",VLOOKUP(CONCATENATE(C3016,E3016),Dato!$A$4:$I$218,7,0),\"\")","v":""},null,""]
[null,null,null,{"$f":"IF(C3017=\"\",\"\",VLOOKUP(C3017,Tabla_Regional[],3,0))","v":""},null,{"$f":"IF(E3017<>\"\",VLOOKUP(CONCATENATE(C3017,E3017),Dato!$A$4:$I$218,7,0),\"\")","v":""},null,""]
[null,null,null,{"$f":"IF(C3018=\"\",\"\",VLOOKUP(C3018,Tabla_Regional[],3,0))","v":""},null,{"$f":"IF(E3018<>\"\",VLOOKUP(CONCATENATE(C3018,E3018),Dato!$A$4:$I$218,7,0),\"\")","v":""},null,""]
[null,null,null,{"$f":"IF(C3019=\"\",\"\",VLOOKUP(C3019,Tabla_Regional[],3,0))","v":""},null,{"$f":"IF(E3019<>\"\",VLOOKUP(CONCATENATE(C3019,E3019),Dato!$A$4:$I$218,7,0),\"\")","v":""},null,""]
[null,null,null,{"$f":"IF(C3020=\"\",\"\",VLOOKUP(C3020,Tabla_Regional[],3,0))","v":""},null,{"$f":"IF(E3020<>\"\",VLOOKUP(CONCATENATE(C3020,E3020),Dato!$A$4:$I$218,7,0),\"\")","v":""},null,{"$f":"IF(G3020<>\"\",VLOOKUP(CONCATENATE(C3020,E3020,G3020),czmuni,7,0),\"\")","v":""}]
[null,null,null,{"$f":"IF(C3021=\"\",\"\",VLOOKUP(C3021,Tabla_Regional[],3,0))","v":""},null,{"$f":"IF(E3021<>\"\",VLOOKUP(CONCATENATE(C3021,E3021),Dato!$A$4:$I$218,7,0),\"\")","v":""},null,""]
[null,null,null,{"$f":"IF(C3022=\"\",\"\",VLOOKUP(C3022,Tabla_Regional[],3,0))","v":""},null,{"$f":"IF(E3022<>\"\",VLOOKUP(CONCATENATE(C3022,E3022),Dato!$A$4:$I$218,7,0),\"\")","v":""},null,""]
[null,null,null,{"$f":"IF(C3023=\"\",\"\",VLOOKUP(C3023,Tabla_Regional[],3,0))","v":""},null,{"$f":"IF(E3023<>\"\",VLOOKUP(CONCATENATE(C3023,E3023),Dato!$A$4:$I$218,7,0),\"\")","v":""},null,""]
[null,null,null,{"$f":"IF(C3024=\"\",\"\",VLOOKUP(C3024,Tabla_Regional[],3,0))","v":""},null,{"$f":"IF(E3024<>\"\",VLOOKUP(CONCATENATE(C3024,E3024),Dato!$A$4:$I$218,7,0),\"\")","v":""},null,""]
[null,null,null,{"$f":"IF(C3025=\"\",\"\",VLOOKUP(C3025,Tabla_Regional[],3,0))","v":""},null,{"$f":"IF(E3025<>\"\",VLOOKUP(CONCATENATE(C3025,E3025),Dato!$A$4:$I$218,7,0),\"\")","v":""},null,""]
[null,null,null,{"$f":"IF(C3026=\"\",\"\",VLOOKUP(C3026,Tabla_Regional[],3,0))","v":""},null,{"$f":"IF(E3026<>\"\",VLOOKUP(CONCATENATE(C3026,E3026),Dato!$A$4:$I$218,7,0),\"\")","v":""},null,""]
[null,null,null,{"$f":"IF(C3027=\"\",\"\",VLOOKUP(C3027,Tabla_Regional[],3,0))","v":""},null,{"$f":"IF(E3027<>\"\",VLOOKUP(CONCATENATE(C3027,E3027),Dato!$A$4:$I$218,7,0),\"\")","v":""},null,""]
[null,null,null,{"$f":"IF(C3028=\"\",\"\",VLOOKUP(C3028,Tabla_Regional[],3,0))","v":""},null,{"$f":"IF(E3028<>\"\",VLOOKUP(CONCATENATE(C3028,E3028),Dato!$A$4:$I$218,7,0),\"\")","v":""},null,""]
[null,null,null,{"$f":"IF(C3029=\"\",\"\",VLOOKUP(C3029,Tabla_Regional[],3,0))","v":""},null,{"$f":"IF(E3029<>\"\",VLOOKUP(CONCATENATE(C3029,E3029),Dato!$A$4:$I$218,7,0),\"\")","v":""},null,""]
[null,null,null,{"$f":"IF(C3030=\"\",\"\",VLOOKUP(C3030,Tabla_Regional[],3,0))","v":""},null,{"$f":"IF(E3030<>\"\",VLOOKUP(CONCATENATE(C3030,E3030),Dato!$A$4:$I$218,7,0),\"\")","v":""},null,""]
[null,null,null,{"$f":"IF(C3031=\"\",\"\",VLOOKUP(C3031,Tabla_Regional[],3,0))","v":""},null,{"$f":"IF(E3031<>\"\",VLOOKUP(CONCATENATE(C3031,E3031),Dato!$A$4:$I$218,7,0),\"\")","v":""},null,""]
[null,null,null,{"$f":"IF(C3032=\"\",\"\",VLOOKUP(C3032,Tabla_Regional[],3,0))","v":""},null,{"$f":"IF(E3032<>\"\",VLOOKUP(CONCATENATE(C3032,E3032),Dato!$A$4:$I$218,7,0),\"\")","v":""},null,""]
[null,null,null,{"$f":"IF(C3033=\"\",\"\",VLOOKUP(C3033,Tabla_Regional[],3,0))","v":""},null,{"$f":"IF(E3033<>\"\",VLOOKUP(CONCATENATE(C3033,E3033),Dato!$A$4:$I$218,7,0),\"\")","v":""},null,""]
[null,null,null,{"$f":"IF(C3034=\"\",\"\",VLOOKUP(C3034,Tabla_Regional[],3,0))","v":""},null,{"$f":"IF(E3034<>\"\",VLOOKUP(CONCATENATE(C3034,E3034),Dato!$A$4:$I$218,7,0),\"\")","v":""},null,""]
[null,null,null,{"$f":"IF(C3035=\"\",\"\",VLOOKUP(C3035,Tabla_Regional[],3,0))","v":""},null,{"$f":"IF(E3035<>\"\",VLOOKUP(CONCATENATE(C3035,E3035),Dato!$A$4:$I$218,7,0),\"\")","v":""},null,""]
[null,null,null,{"$f":"IF(C3036=\"\",\"\",VLOOKUP(C3036,Tabla_Regional[],3,0))","v":""},null,{"$f":"IF(E3036<>\"\",VLOOKUP(CONCATENATE(C3036,E3036),Dato!$A$4:$I$218,7,0),\"\")","v":""},null,""]
[null,null,null,{"$f":"IF(C3037=\"\",\"\",VLOOKUP(C3037,Tabla_Regional[],3,0))","v":""},null,{"$f":"IF(E3037<>\"\",VLOOKUP(CONCATENATE(C3037,E3037),Dato!$A$4:$I$218,7,0),\"\")","v":""},null,""]
[null,null,null,{"$f":"IF(C3038=\"\",\"\",VLOOKUP(C3038,Tabla_Regional[],3,0))","v":""},null,{"$f":"IF(E3038<>\"\",VLOOKUP(CONCATENATE(C3038,E3038),Dato!$A$4:$I$218,7,0),\"\")","v":""},null,""]
[null,null,null,{"$f":"IF(C3039=\"\",\"\",VLOOKUP(C3039,Tabla_Regional[],3,0))","v":""},null,{"$f":"IF(E3039<>\"\",VLOOKUP(CONCATENATE(C3039,E3039),Dato!$A$4:$I$218,7,0),\"\")","v":""},null,""]
[null,null,null,{"$f":"IF(C3040=\"\",\"\",VLOOKUP(C3040,Tabla_Regional[],3,0))","v":""},null,{"$f":"IF(E3040<>\"\",VLOOKUP(CONCATENATE(C3040,E3040),Dato!$A$4:$I$218,7,0),\"\")","v":""},null,""]
[null,null,null,{"$f":"IF(C3041=\"\",\"\",VLOOKUP(C3041,Tabla_Regional[],3,0))","v":""},null,{"$f":"IF(E3041<>\"\",VLOOKUP(CONCATENATE(C3041,E3041),Dato!$A$4:$I$218,7,0),\"\")","v":""},null,""]
[null,null,null,{"$f":"IF(C3042=\"\",\"\",VLOOKUP(C3042,Tabla_Regional[],3,0))","v":""},null,{"$f":"IF(E3042<>\"\",VLOOKUP(CONCATENATE(C3042,E3042),Dato!$A$4:$I$218,7,0),\"\")","v":""},null,""]
[null,null,null,{"$f":"IF(C3043=\"\",\"\",VLOOKUP(C3043,Tabla_Regional[],3,0))","v":""},null,{"$f":"IF(E3043<>\"\",VLOOKUP(CONCATENATE(C3043,E3043),Dato!$A$4:$I$218,7,0),\"\")","v":""},null,""]
[null,null,null,{"$f":"IF(C3044=\"\",\"\",VLOOKUP(C3044,Tabla_Regional[],3,0))","v":""},null,{"$f":"IF(E3044<>\"\",VLOOKUP(CONCATENATE(C3044,E3044),Dato!$A$4:$I$218,7,0),\"\")","v":""},null,""]
[null,null,null,{"$f":"IF(C3045=\"\",\"\",VLOOKUP(C3045,Tabla_Regional[],3,0))","v":""},null,{"$f":"IF(E3045<>\"\",VLOOKUP(CONCATENATE(C3045,E3045),Dato!$A$4:$I$218,7,0),\"\")","v":""},null,""]
[null,null,null,{"$f":"IF(C3046=\"\",\"\",VLOOKUP(C3046,Tabla_Regional[],3,0))","v":""},null,{"$f":"IF(E3046<>\"\",VLOOKUP(CONCATENATE(C3046,E3046),Dato!$A$4:$I$218,7,0),\"\")","v":""},null,""]
[null,null,null,{"$f":"IF(C3047=\"\",\"\",VLOOKUP(C3047,Tabla_Regional[],3,0))","v":""},null,{"$f":"IF(E3047<>\"\",VLOOKUP(CONCATENATE(C3047,E3047),Dato!$A$4:$I$218,7,0),\"\")","v":""},null,""]
[null,null,null,{"$f":"IF(C3048=\"\",\"\",VLOOKUP(C3048,Tabla_Regional[],3,0))","v":""},null,{"$f":"IF(E3048<>\"\",VLOOKUP(CONCATENATE(C3048,E3048),Dato!$A$4:$I$218,7,0),\"\")","v":""},null,""]
[null,null,null,{"$f":"IF(C3049=\"\",\"\",VLOOKUP(C3049,Tabla_Regional[],3,0))","v":""},null,{"$f":"IF(E3049<>\"\",VLOOKUP(CONCATENATE(C3049,E3049),Dato!$A$4:$I$218,7,0),\"\")","v":""},null,""]
[null,null,null,{"$f":"IF(C3050=\"\",\"\",VLOOKUP(C3050,Tabla_Regional[],3,0))","v":""},null,{"$f":"IF(E3050<>\"\",VLOOKUP(CONCATENATE(C3050,E3050),Dato!$A$4:$I$218,7,0),\"\")","v":""},null,""]
[null,null,null,{"$f":"IF(C3051=\"\",\"\",VLOOKUP(C3051,Tabla_Regional[],3,0))","v":""},null,{"$f":"IF(E3051<>\"\",VLOOKUP(CONCATENATE(C3051,E3051),Dato!$A$4:$I$218,7,0),\"\")","v":""},null,""]
[null,null,null,{"$f":"IF(C3052=\"\",\"\",VLOOKUP(C3052,Tabla_Regional[],3,0))","v":""},null,{"$f":"IF(E3052<>\"\",VLOOKUP(CONCATENATE(C3052,E3052),Dato!$A$4:$I$218,7,0),\"\")","v":""},null,""]
[null,null,null,{"$f":"IF(C3053=\"\",\"\",VLOOKUP(C3053,Tabla_Regional[],3,0))","v":""},null,{"$f":"IF(E3053<>\"\",VLOOKUP(CONCATENATE(C3053,E3053),Dato!$A$4:$I$218,7,0),\"\")","v":""},null,""]
[null,null,null,{"$f":"IF(C3054=\"\",\"\",VLOOKUP(C3054,Tabla_Regional[],3,0))","v":""},null,{"$f":"IF(E3054<>\"\",VLOOKUP(CONCATENATE(C3054,E3054),Dato!$A$4:$I$218,7,0),\"\")","v":""},null,""]
[null,null,null,{"$f":"IF(C3055=\"\",\"\",VLOOKUP(C3055,Tabla_Regional[],3,0))","v":""},null,{"$f":"IF(E3055<>\"\",VLOOKUP(CONCATENATE(C3055,E3055),Dato!$A$4:$I$218,7,0),\"\")","v":""},null,""]
[null,null,null,{"$f":"IF(C3056=\"\",\"\",VLOOKUP(C3056,Tabla_Regional[],3,0))","v":""},null,{"$f":"IF(E3056<>\"\",VLOOKUP(CONCATENATE(C3056,E3056),Dato!$A$4:$I$218,7,0),\"\")","v":""},null,""]
[null,null,null,{"$f":"IF(C3057=\"\",\"\",VLOOKUP(C3057,Tabla_Regional[],3,0))","v":""},null,{"$f":"IF(E3057<>\"\",VLOOKUP(CONCATENATE(C3057,E3057),Dato!$A$4:$I$218,7,0),\"\")","v":""},null,""]
[null,null,null,{"$f":"IF(C3058=\"\",\"\",VLOOKUP(C3058,Tabla_Regional[],3,0))","v":""},null,{"$f":"IF(E3058<>\"\",VLOOKUP(CONCATENATE(C3058,E3058),Dato!$A$4:$I$218,7,0),\"\")","v":""},null,""]
[null,null,null,{"$f":"IF(C3059=\"\",\"\",VLOOKUP(C3059,Tabla_Regional[],3,0))","v":""},null,{"$f":"IF(E3059<>\"\",VLOOKUP(CONCATENATE(C3059,E3059),Dato!$A$4:$I$218,7,0),\"\")","v":""},null,""]
[null,null,null,{"$f":"IF(C3060=\"\",\"\",VLOOKUP(C3060,Tabla_Regional[],3,0))","v":""},null,{"$f":"IF(E3060<>\"\",VLOOKUP(CONCATENATE(C3060,E3060),Dato!$A$4:$I$218,7,0),\"\")","v":""},null,""]
[null,null,null,{"$f":"IF(C3061=\"\",\"\",VLOOKUP(C3061,Tabla_Regional[],3,0))","v":""},null,{"$f":"IF(E3061<>\"\",VLOOKUP(CONCATENATE(C3061,E3061),Dato!$A$4:$I$218,7,0),\"\")","v":""},null,""]
[null,null,null,{"$f":"IF(C3062=\"\",\"\",VLOOKUP(C3062,Tabla_Regional[],3,0))","v":""},null,{"$f":"IF(E3062<>\"\",VLOOKUP(CONCATENATE(C3062,E3062),Dato!$A$4:$I$218,7,0),\"\")","v":""},null,""]
[null,null,null,{"$f":"IF(C3063=\"\",\"\",VLOOKUP(C3063,Tabla_Regional[],3,0))","v":""},null,{"$f":"IF(E3063<>\"\",VLOOKUP(CONCATENATE(C3063,E3063),Dato!$A$4:$I$218,7,0),\"\")","v":""},null,""]
[null,null,null,{"$f":"IF(C3064=\"\",\"\",VLOOKUP(C3064,Tabla_Regional[],3,0))","v":""},null,{"$f":"IF(E3064<>\"\",VLOOKUP(CONCATENATE(C3064,E3064),Dato!$A$4:$I$218,7,0),\"\")","v":""},null,""]
[null,null,null,{"$f":"IF(C3065=\"\",\"\",VLOOKUP(C3065,Tabla_Regional[],3,0))","v":""},null,{"$f":"IF(E3065<>\"\",VLOOKUP(CONCATENATE(C3065,E3065),Dato!$A$4:$I$218,7,0),\"\")","v":""},null,""]
[null,null,null,{"$f":"IF(C3066=\"\",\"\",VLOOKUP(C3066,Tabla_Regional[],3,0))","v":""},null,{"$f":"IF(E3066<>\"\",VLOOKUP(CONCATENATE(C3066,E3066),Dato!$A$4:$I$218,7,0),\"\")","v":""},null,""]
[null,null,null,{"$f":"IF(C3067=\"\",\"\",VLOOKUP(C3067,Tabla_Regional[],3,0))","v":""},null,{"$f":"IF(E3067<>\"\",VLOOKUP(CONCATENATE(C3067,E3067),Dato!$A$4:$I$218,7,0),\"\")","v":""},null,""]
[null,null,null,{"$f":"IF(C3068=\"\",\"\",VLOOKUP(C3068,Tabla_Regional[],3,0))","v":""},null,{"$f":"IF(E3068<>\"\",VLOOKUP(CONCATENATE(C3068,E3068),Dato!$A$4:$I$218,7,0),\"\")","v":""},null,""]
[null,null,null,{"$f":"IF(C3069=\"\",\"\",VLOOKUP(C3069,Tabla_Regional[],3,0))","v":""},null,{"$f":"IF(E3069<>\"\",VLOOKUP(CONCATENATE(C3069,E3069),Dato!$A$4:$I$218,7,0),\"\")","v":""},null,""]
[null,null,null,{"$f":"IF(C3070=\"\",\"\",VLOOKUP(C3070,Tabla_Regional[],3,0))","v":""},null,{"$f":"IF(E3070<>\"\",VLOOKUP(CONCATENATE(C3070,E3070),Dato!$A$4:$I$218,7,0),\"\")","v":""},null,""]
[null,null,null,{"$f":"IF(C3071=\"\",\"\",VLOOKUP(C3071,Tabla_Regional[],3,0))","v":""},null,{"$f":"IF(E3071<>\"\",VLOOKUP(CONCATENATE(C3071,E3071),Dato!$A$4:$I$218,7,0),\"\")","v":""},null,""]
[null,null,null,{"$f":"IF(C3072=\"\",\"\",VLOOKUP(C3072,Tabla_Regional[],3,0))","v":""},null,{"$f":"IF(E3072<>\"\",VLOOKUP(CONCATENATE(C3072,E3072),Dato!$A$4:$I$218,7,0),\"\")","v":""},null,""]
[null,null,null,{"$f":"IF(C3073=\"\",\"\",VLOOKUP(C3073,Tabla_Regional[],3,0))","v":""},null,{"$f":"IF(E3073<>\"\",VLOOKUP(CONCATENATE(C3073,E3073),Dato!$A$4:$I$218,7,0),\"\")","v":""},null,""]
[null,null,null,{"$f":"IF(C3074=\"\",\"\",VLOOKUP(C3074,Tabla_Regional[],3,0))","v":""},null,{"$f":"IF(E3074<>\"\",VLOOKUP(CONCATENATE(C3074,E3074),Dato!$A$4:$I$218,7,0),\"\")","v":""},null,""]
[null,null,null,{"$f":"IF(C3075=\"\",\"\",VLOOKUP(C3075,Tabla_Regional[],3,0))","v":""},null,{"$f":"IF(E3075<>\"\",VLOOKUP(CONCATENATE(C3075,E3075),Dato!$A$4:$I$218,7,0),\"\")","v":""},null,""]
[null,null,null,{"$f":"IF(C3076=\"\",\"\",VLOOKUP(C3076,Tabla_Regional[],3,0))","v":""},null,{"$f":"IF(E3076<>\"\",VLOOKUP(CONCATENATE(C3076,E3076),Dato!$A$4:$I$218,7,0),\"\")","v":""},null,""]
[null,null,null,{"$f":"IF(C3077=\"\",\"\",VLOOKUP(C3077,Tabla_Regional[],3,0))","v":""},null,{"$f":"IF(E3077<>\"\",VLOOKUP(CONCATENATE(C3077,E3077),Dato!$A$4:$I$218,7,0),\"\")","v":""},null,""]
[null,null,null,{"$f":"IF(C3078=\"\",\"\",VLOOKUP(C3078,Tabla_Regional[],3,0))","v":""},null,{"$f":"IF(E3078<>\"\",VLOOKUP(CONCATENATE(C3078,E3078),Dato!$A$4:$I$218,7,0),\"\")","v":""},null,""]
[null,null,null,{"$f":"IF(C3079=\"\",\"\",VLOOKUP(C3079,Tabla_Regional[],3,0))","v":""},null,{"$f":"IF(E3079<>\"\",VLOOKUP(CONCATENATE(C3079,E3079),Dato!$A$4:$I$218,7,0),\"\")","v":""},null,""]
[null,null,null,{"$f":"IF(C3080=\"\",\"\",VLOOKUP(C3080,Tabla_Regional[],3,0))","v":""},null,{"$f":"IF(E3080<>\"\",VLOOKUP(CONCATENATE(C3080,E3080),Dato!$A$4:$I$218,7,0),\"\")","v":""},null,""]
[null,null,null,{"$f":"IF(C3081=\"\",\"\",VLOOKUP(C3081,Tabla_Regional[],3,0))","v":""},null,{"$f":"IF(E3081<>\"\",VLOOKUP(CONCATENATE(C3081,E3081),Dato!$A$4:$I$218,7,0),\"\")","v":""},null,""]
[null,null,null,{"$f":"IF(C3082=\"\",\"\",VLOOKUP(C3082,Tabla_Regional[],3,0))","v":""},null,{"$f":"IF(E3082<>\"\",VLOOKUP(CONCATENATE(C3082,E3082),Dato!$A$4:$I$218,7,0),\"\")","v":""},null,""]
[null,null,null,{"$f":"IF(C3083=\"\",\"\",VLOOKUP(C3083,Tabla_Regional[],3,0))","v":""},null,{"$f":"IF(E3083<>\"\",VLOOKUP(CONCATENATE(C3083,E3083),Dato!$A$4:$I$218,7,0),\"\")","v":""},null,""]
[null,null,null,{"$f":"IF(C3084=\"\",\"\",VLOOKUP(C3084,Tabla_Regional[],3,0))","v":""},null,{"$f":"IF(E3084<>\"\",VLOOKUP(CONCATENATE(C3084,E3084),Dato!$A$4:$I$218,7,0),\"\")","v":""},null,{"$f":"IF(G3084<>\"\",VLOOKUP(CONCATENATE(C3084,E3084,G3084),czmuni,7,0),\"\")","v":""}]
[null,null,null,{"$f":"IF(C3085=\"\",\"\",VLOOKUP(C3085,Tabla_Regional[],3,0))","v":""},null,{"$f":"IF(E3085<>\"\",VLOOKUP(CONCATENATE(C3085,E3085),Dato!$A$4:$I$218,7,0),\"\")","v":""},null,""]
[null,null,null,{"$f":"IF(C3086=\"\",\"\",VLOOKUP(C3086,Tabla_Regional[],3,0))","v":""},null,{"$f":"IF(E3086<>\"\",VLOOKUP(CONCATENATE(C3086,E3086),Dato!$A$4:$I$218,7,0),\"\")","v":""},null,""]
[null,null,null,{"$f":"IF(C3087=\"\",\"\",VLOOKUP(C3087,Tabla_Regional[],3,0))","v":""},null,{"$f":"IF(E3087<>\"\",VLOOKUP(CONCATENATE(C3087,E3087),Dato!$A$4:$I$218,7,0),\"\")","v":""},null,""]
[null,null,null,{"$f":"IF(C3088=\"\",\"\",VLOOKUP(C3088,Tabla_Regional[],3,0))","v":""},null,{"$f":"IF(E3088<>\"\",VLOOKUP(CONCATENATE(C3088,E3088),Dato!$A$4:$I$218,7,0),\"\")","v":""},null,""]
[null,null,null,{"$f":"IF(C3089=\"\",\"\",VLOOKUP(C3089,Tabla_Regional[],3,0))","v":""},null,{"$f":"IF(E3089<>\"\",VLOOKUP(CONCATENATE(C3089,E3089),Dato!$A$4:$I$218,7,0),\"\")","v":""},null,""]
[null,null,null,{"$f":"IF(C3090=\"\",\"\",VLOOKUP(C3090,Tabla_Regional[],3,0))","v":""},null,{"$f":"IF(E3090<>\"\",VLOOKUP(CONCATENATE(C3090,E3090),Dato!$A$4:$I$218,7,0),\"\")","v":""},null,""]
[null,null,null,{"$f":"IF(C3091=\"\",\"\",VLOOKUP(C3091,Tabla_Regional[],3,0))","v":""},null,{"$f":"IF(E3091<>\"\",VLOOKUP(CONCATENATE(C3091,E3091),Dato!$A$4:$I$218,7,0),\"\")","v":""},null,""]
[null,null,null,{"$f":"IF(C3092=\"\",\"\",VLOOKUP(C3092,Tabla_Regional[],3,0))","v":""},null,{"$f":"IF(E3092<>\"\",VLOOKUP(CONCATENATE(C3092,E3092),Dato!$A$4:$I$218,7,0),\"\")","v":""},null,""]
[null,null,null,{"$f":"IF(C3093=\"\",\"\",VLOOKUP(C3093,Tabla_Regional[],3,0))","v":""},null,{"$f":"IF(E3093<>\"\",VLOOKUP(CONCATENATE(C3093,E3093),Dato!$A$4:$I$218,7,0),\"\")","v":""},null,""]
[null,null,null,{"$f":"IF(C3094=\"\",\"\",VLOOKUP(C3094,Tabla_Regional[],3,0))","v":""},null,{"$f":"IF(E3094<>\"\",VLOOKUP(CONCATENATE(C3094,E3094),Dato!$A$4:$I$218,7,0),\"\")","v":""},null,""]
[null,null,null,{"$f":"IF(C3095=\"\",\"\",VLOOKUP(C3095,Tabla_Regional[],3,0))","v":""},null,{"$f":"IF(E3095<>\"\",VLOOKUP(CONCATENATE(C3095,E3095),Dato!$A$4:$I$218,7,0),\"\")","v":""},null,""]
[null,null,null,{"$f":"IF(C3096=\"\",\"\",VLOOKUP(C3096,Tabla_Regional[],3,0))","v":""},null,{"$f":"IF(E3096<>\"\",VLOOKUP(CONCATENATE(C3096,E3096),Dato!$A$4:$I$218,7,0),\"\")","v":""},null,""]
[null,null,null,{"$f":"IF(C3097=\"\",\"\",VLOOKUP(C3097,Tabla_Regional[],3,0))","v":""},null,{"$f":"IF(E3097<>\"\",VLOOKUP(CONCATENATE(C3097,E3097),Dato!$A$4:$I$218,7,0),\"\")","v":""},null,""]
[null,null,null,{"$f":"IF(C3098=\"\",\"\",VLOOKUP(C3098,Tabla_Regional[],3,0))","v":""},null,{"$f":"IF(E3098<>\"\",VLOOKUP(CONCATENATE(C3098,E3098),Dato!$A$4:$I$218,7,0),\"\")","v":""},null,""]
[null,null,null,{"$f":"IF(C3099=\"\",\"\",VLOOKUP(C3099,Tabla_Regional[],3,0))","v":""},null,{"$f":"IF(E3099<>\"\",VLOOKUP(CONCATENATE(C3099,E3099),Dato!$A$4:$I$218,7,0),\"\")","v":""},null,""]
[null,null,null,{"$f":"IF(C3100=\"\",\"\",VLOOKUP(C3100,Tabla_Regional[],3,0))","v":""},null,{"$f":"IF(E3100<>\"\",VLOOKUP(CONCATENATE(C3100,E3100),Dato!$A$4:$I$218,7,0),\"\")","v":""},null,""]
[null,null,null,{"$f":"IF(C3101=\"\",\"\",VLOOKUP(C3101,Tabla_Regional[],3,0))","v":""},null,{"$f":"IF(E3101<>\"\",VLOOKUP(CONCATENATE(C3101,E3101),Dato!$A$4:$I$218,7,0),\"\")","v":""},null,""]
[null,null,null,{"$f":"IF(C3102=\"\",\"\",VLOOKUP(C3102,Tabla_Regional[],3,0))","v":""},null,{"$f":"IF(E3102<>\"\",VLOOKUP(CONCATENATE(C3102,E3102),Dato!$A$4:$I$218,7,0),\"\")","v":""},null,""]
[null,null,null,{"$f":"IF(C3103=\"\",\"\",VLOOKUP(C3103,Tabla_Regional[],3,0))","v":""},null,{"$f":"IF(E3103<>\"\",VLOOKUP(CONCATENATE(C3103,E3103),Dato!$A$4:$I$218,7,0),\"\")","v":""},null,""]
[null,null,null,{"$f":"IF(C3104=\"\",\"\",VLOOKUP(C3104,Tabla_Regional[],3,0))","v":""},null,{"$f":"IF(E3104<>\"\",VLOOKUP(CONCATENATE(C3104,E3104),Dato!$A$4:$I$218,7,0),\"\")","v":""},null,""]
[null,null,null,{"$f":"IF(C3105=\"\",\"\",VLOOKUP(C3105,Tabla_Regional[],3,0))","v":""},null,{"$f":"IF(E3105<>\"\",VLOOKUP(CONCATENATE(C3105,E3105),Dato!$A$4:$I$218,7,0),\"\")","v":""},null,""]
[null,null,null,{"$f":"IF(C3106=\"\",\"\",VLOOKUP(C3106,Tabla_Regional[],3,0))","v":""},null,{"$f":"IF(E3106<>\"\",VLOOKUP(CONCATENATE(C3106,E3106),Dato!$A$4:$I$218,7,0),\"\")","v":""},null,""]
[null,null,null,{"$f":"IF(C3107=\"\",\"\",VLOOKUP(C3107,Tabla_Regional[],3,0))","v":""},null,{"$f":"IF(E3107<>\"\",VLOOKUP(CONCATENATE(C3107,E3107),Dato!$A$4:$I$218,7,0),\"\")","v":""},null,""]
[null,null,null,{"$f":"IF(C3108=\"\",\"\",VLOOKUP(C3108,Tabla_Regional[],3,0))","v":""},null,{"$f":"IF(E3108<>\"\",VLOOKUP(CONCATENATE(C3108,E3108),Dato!$A$4:$I$218,7,0),\"\")","v":""},null,""]
[null,null,null,{"$f":"IF(C3109=\"\",\"\",VLOOKUP(C3109,Tabla_Regional[],3,0))","v":""},null,{"$f":"IF(E3109<>\"\",VLOOKUP(CONCATENATE(C3109,E3109),Dato!$A$4:$I$218,7,0),\"\")","v":""},null,""]
[null,null,null,{"$f":"IF(C3110=\"\",\"\",VLOOKUP(C3110,Tabla_Regional[],3,0))","v":""},null,{"$f":"IF(E3110<>\"\",VLOOKUP(CONCATENATE(C3110,E3110),Dato!$A$4:$I$218,7,0),\"\")","v":""},null,""]
[null,null,null,{"$f":"IF(C3111=\"\",\"\",VLOOKUP(C3111,Tabla_Regional[],3,0))","v":""},null,{"$f":"IF(E3111<>\"\",VLOOKUP(CONCATENATE(C3111,E3111),Dato!$A$4:$I$218,7,0),\"\")","v":""},null,""]
[null,null,null,{"$f":"IF(C3112=\"\",\"\",VLOOKUP(C3112,Tabla_Regional[],3,0))","v":""},null,{"$f":"IF(E3112<>\"\",VLOOKUP(CONCATENATE(C3112,E3112),Dato!$A$4:$I$218,7,0),\"\")","v":""},null,""]
[null,null,null,{"$f":"IF(C3113=\"\",\"\",VLOOKUP(C3113,Tabla_Regional[],3,0))","v":""},null,{"$f":"IF(E3113<>\"\",VLOOKUP(CONCATENATE(C3113,E3113),Dato!$A$4:$I$218,7,0),\"\")","v":""},null,""]
[null,null,null,{"$f":"IF(C3114=\"\",\"\",VLOOKUP(C3114,Tabla_Regional[],3,0))","v":""},null,{"$f":"IF(E3114<>\"\",VLOOKUP(CONCATENATE(C3114,E3114),Dato!$A$4:$I$218,7,0),\"\")","v":""},null,""]
[null,null,null,{"$f":"IF(C3115=\"\",\"\",VLOOKUP(C3115,Tabla_Regional[],3,0))","v":""},null,{"$f":"IF(E3115<>\"\",VLOOKUP(CONCATENATE(C3115,E3115),Dato!$A$4:$I$218,7,0),\"\")","v":""},null,""]
[null,null,null,{"$f":"IF(C3116=\"\",\"\",VLOOKUP(C3116,Tabla_Regional[],3,0))","v":""},null,{"$f":"IF(E3116<>\"\",VLOOKUP(CONCATENATE(C3116,E3116),Dato!$A$4:$I$218,7,0),\"\")","v":""},null,""]
[null,null,null,{"$f":"IF(C3117=\"\",\"\",VLOOKUP(C3117,Tabla_Regional[],3,0))","v":""},null,{"$f":"IF(E3117<>\"\",VLOOKUP(CONCATENATE(C3117,E3117),Dato!$A$4:$I$218,7,0),\"\")","v":""},null,""]
[null,null,null,{"$f":"IF(C3118=\"\",\"\",VLOOKUP(C3118,Tabla_Regional[],3,0))","v":""},null,{"$f":"IF(E3118<>\"\",VLOOKUP(CONCATENATE(C3118,E3118),Dato!$A$4:$I$218,7,0),\"\")","v":""},null,""]
[null,null,null,{"$f":"IF(C3119=\"\",\"\",VLOOKUP(C3119,Tabla_Regional[],3,0))","v":""},null,{"$f":"IF(E3119<>\"\",VLOOKUP(CONCATENATE(C3119,E3119),Dato!$A$4:$I$218,7,0),\"\")","v":""},null,""]
[null,null,null,{"$f":"IF(C3120=\"\",\"\",VLOOKUP(C3120,Tabla_Regional[],3,0))","v":""},null,{"$f":"IF(E3120<>\"\",VLOOKUP(CONCATENATE(C3120,E3120),Dato!$A$4:$I$218,7,0),\"\")","v":""},null,""]
[null,null,null,{"$f":"IF(C3121=\"\",\"\",VLOOKUP(C3121,Tabla_Regional[],3,0))","v":""},null,{"$f":"IF(E3121<>\"\",VLOOKUP(CONCATENATE(C3121,E3121),Dato!$A$4:$I$218,7,0),\"\")","v":""},null,""]
[null,null,null,{"$f":"IF(C3122=\"\",\"\",VLOOKUP(C3122,Tabla_Regional[],3,0))","v":""},null,{"$f":"IF(E3122<>\"\",VLOOKUP(CONCATENATE(C3122,E3122),Dato!$A$4:$I$218,7,0),\"\")","v":""},null,""]
[null,null,null,{"$f":"IF(C3123=\"\",\"\",VLOOKUP(C3123,Tabla_Regional[],3,0))","v":""},null,{"$f":"IF(E3123<>\"\",VLOOKUP(CONCATENATE(C3123,E3123),Dato!$A$4:$I$218,7,0),\"\")","v":""},null,""]
[null,null,null,{"$f":"IF(C3124=\"\",\"\",VLOOKUP(C3124,Tabla_Regional[],3,0))","v":""},null,{"$f":"IF(E3124<>\"\",VLOOKUP(CONCATENATE(C3124,E3124),Dato!$A$4:$I$218,7,0),\"\")","v":""},null,""]
[null,null,null,{"$f":"IF(C3125=\"\",\"\",VLOOKUP(C3125,Tabla_Regional[],3,0))","v":""},null,{"$f":"IF(E3125<>\"\",VLOOKUP(CONCATENATE(C3125,E3125),Dato!$A$4:$I$218,7,0),\"\")","v":""},null,""]
[null,null,null,{"$f":"IF(C3126=\"\",\"\",VLOOKUP(C3126,Tabla_Regional[],3,0))","v":""},null,{"$f":"IF(E3126<>\"\",VLOOKUP(CONCATENATE(C3126,E3126),Dato!$A$4:$I$218,7,0),\"\")","v":""},null,""]
[null,null,null,{"$f":"IF(C3127=\"\",\"\",VLOOKUP(C3127,Tabla_Regional[],3,0))","v":""},null,{"$f":"IF(E3127<>\"\",VLOOKUP(CONCATENATE(C3127,E3127),Dato!$A$4:$I$218,7,0),\"\")","v":""},null,""]
[null,null,null,{"$f":"IF(C3128=\"\",\"\",VLOOKUP(C3128,Tabla_Regional[],3,0))","v":""},null,{"$f":"IF(E3128<>\"\",VLOOKUP(CONCATENATE(C3128,E3128),Dato!$A$4:$I$218,7,0),\"\")","v":""},null,""]
[null,null,null,{"$f":"IF(C3129=\"\",\"\",VLOOKUP(C3129,Tabla_Regional[],3,0))","v":""},null,{"$f":"IF(E3129<>\"\",VLOOKUP(CONCATENATE(C3129,E3129),Dato!$A$4:$I$218,7,0),\"\")","v":""},null,""]
[null,null,null,{"$f":"IF(C3130=\"\",\"\",VLOOKUP(C3130,Tabla_Regional[],3,0))","v":""},null,{"$f":"IF(E3130<>\"\",VLOOKUP(CONCATENATE(C3130,E3130),Dato!$A$4:$I$218,7,0),\"\")","v":""},null,""]
[null,null,null,{"$f":"IF(C3131=\"\",\"\",VLOOKUP(C3131,Tabla_Regional[],3,0))","v":""},null,{"$f":"IF(E3131<>\"\",VLOOKUP(CONCATENATE(C3131,E3131),Dato!$A$4:$I$218,7,0),\"\")","v":""},null,""]
[null,null,null,{"$f":"IF(C3132=\"\",\"\",VLOOKUP(C3132,Tabla_Regional[],3,0))","v":""},null,{"$f":"IF(E3132<>\"\",VLOOKUP(CONCATENATE(C3132,E3132),Dato!$A$4:$I$218,7,0),\"\")","v":""},null,""]
[null,null,null,{"$f":"IF(C3133=\"\",\"\",VLOOKUP(C3133,Tabla_Regional[],3,0))","v":""},null,{"$f":"IF(E3133<>\"\",VLOOKUP(CONCATENATE(C3133,E3133),Dato!$A$4:$I$218,7,0),\"\")","v":""},null,""]
[null,null,null,{"$f":"IF(C3134=\"\",\"\",VLOOKUP(C3134,Tabla_Regional[],3,0))","v":""},null,{"$f":"IF(E3134<>\"\",VLOOKUP(CONCATENATE(C3134,E3134),Dato!$A$4:$I$218,7,0),\"\")","v":""},null,""]
[null,null,null,{"$f":"IF(C3135=\"\",\"\",VLOOKUP(C3135,Tabla_Regional[],3,0))","v":""},null,{"$f":"IF(E3135<>\"\",VLOOKUP(CONCATENATE(C3135,E3135),Dato!$A$4:$I$218,7,0),\"\")","v":""},null,""]
[null,null,null,{"$f":"IF(C3136=\"\",\"\",VLOOKUP(C3136,Tabla_Regional[],3,0))","v":""},null,{"$f":"IF(E3136<>\"\",VLOOKUP(CONCATENATE(C3136,E3136),Dato!$A$4:$I$218,7,0),\"\")","v":""},null,""]
[null,null,null,{"$f":"IF(C3137=\"\",\"\",VLOOKUP(C3137,Tabla_Regional[],3,0))","v":""},null,{"$f":"IF(E3137<>\"\",VLOOKUP(CONCATENATE(C3137,E3137),Dato!$A$4:$I$218,7,0),\"\")","v":""},null,""]
[null,null,null,{"$f":"IF(C3138=\"\",\"\",VLOOKUP(C3138,Tabla_Regional[],3,0))","v":""},null,{"$f":"IF(E3138<>\"\",VLOOKUP(CONCATENATE(C3138,E3138),Dato!$A$4:$I$218,7,0),\"\")","v":""},null,""]
[null,null,null,{"$f":"IF(C3139=\"\",\"\",VLOOKUP(C3139,Tabla_Regional[],3,0))","v":""},null,{"$f":"IF(E3139<>\"\",VLOOKUP(CONCATENATE(C3139,E3139),Dato!$A$4:$I$218,7,0),\"\")","v":""},null,""]
[null,null,null,{"$f":"IF(C3140=\"\",\"\",VLOOKUP(C3140,Tabla_Regional[],3,0))","v":""},null,{"$f":"IF(E3140<>\"\",VLOOKUP(CONCATENATE(C3140,E3140),Dato!$A$4:$I$218,7,0),\"\")","v":""},null,""]
[null,null,null,{"$f":"IF(C3141=\"\",\"\",VLOOKUP(C3141,Tabla_Regional[],3,0))","v":""},null,{"$f":"IF(E3141<>\"\",VLOOKUP(CONCATENATE(C3141,E3141),Dato!$A$4:$I$218,7,0),\"\")","v":""},null,""]
[null,null,null,{"$f":"IF(C3142=\"\",\"\",VLOOKUP(C3142,Tabla_Regional[],3,0))","v":""},null,{"$f":"IF(E3142<>\"\",VLOOKUP(CONCATENATE(C3142,E3142),Dato!$A$4:$I$218,7,0),\"\")","v":""},null,""]
[null,null,null,{"$f":"IF(C3143=\"\",\"\",VLOOKUP(C3143,Tabla_Regional[],3,0))","v":""},null,{"$f":"IF(E3143<>\"\",VLOOKUP(CONCATENATE(C3143,E3143),Dato!$A$4:$I$218,7,0),\"\")","v":""},null,""]
[null,null,null,{"$f":"IF(C3144=\"\",\"\",VLOOKUP(C3144,Tabla_Regional[],3,0))","v":""},null,{"$f":"IF(E3144<>\"\",VLOOKUP(CONCATENATE(C3144,E3144),Dato!$A$4:$I$218,7,0),\"\")","v":""},null,""]
[null,null,null,{"$f":"IF(C3145=\"\",\"\",VLOOKUP(C3145,Tabla_Regional[],3,0))","v":""},null,{"$f":"IF(E3145<>\"\",VLOOKUP(CONCATENATE(C3145,E3145),Dato!$A$4:$I$218,7,0),\"\")","v":""},null,""]
[null,null,null,{"$f":"IF(C3146=\"\",\"\",VLOOKUP(C3146,Tabla_Regional[],3,0))","v":""},null,{"$f":"IF(E3146<>\"\",VLOOKUP(CONCATENATE(C3146,E3146),Dato!$A$4:$I$218,7,0),\"\")","v":""},null,""]
[null,null,null,{"$f":"IF(C3147=\"\",\"\",VLOOKUP(C3147,Tabla_Regional[],3,0))","v":""},null,{"$f":"IF(E3147<>\"\",VLOOKUP(CONCATENATE(C3147,E3147),Dato!$A$4:$I$218,7,0),\"\")","v":""},null,""]
[null,null,null,{"$f":"IF(C3148=\"\",\"\",VLOOKUP(C3148,Tabla_Regional[],3,0))","v":""},null,{"$f":"IF(E3148<>\"\",VLOOKUP(CONCATENATE(C3148,E3148),Dato!$A$4:$I$218,7,0),\"\")","v":""},null,{"$f":"IF(G3148<>\"\",VLOOKUP(CONCATENATE(C3148,E3148,G3148),czmuni,7,0),\"\")","v":""}]
[null,null,null,{"$f":"IF(C3149=\"\",\"\",VLOOKUP(C3149,Tabla_Regional[],3,0))","v":""},null,{"$f":"IF(E3149<>\"\",VLOOKUP(CONCATENATE(C3149,E3149),Dato!$A$4:$I$218,7,0),\"\")","v":""},null,""]
[null,null,null,{"$f":"IF(C3150=\"\",\"\",VLOOKUP(C3150,Tabla_Regional[],3,0))","v":""},null,{"$f":"IF(E3150<>\"\",VLOOKUP(CONCATENATE(C3150,E3150),Dato!$A$4:$I$218,7,0),\"\")","v":""},null,""]
[null,null,null,{"$f":"IF(C3151=\"\",\"\",VLOOKUP(C3151,Tabla_Regional[],3,0))","v":""},null,{"$f":"IF(E3151<>\"\",VLOOKUP(CONCATENATE(C3151,E3151),Dato!$A$4:$I$218,7,0),\"\")","v":""},null,""]
[null,null,null,{"$f":"IF(C3152=\"\",\"\",VLOOKUP(C3152,Tabla_Regional[],3,0))","v":""},null,{"$f":"IF(E3152<>\"\",VLOOKUP(CONCATENATE(C3152,E3152),Dato!$A$4:$I$218,7,0),\"\")","v":""},null,""]
[null,null,null,{"$f":"IF(C3153=\"\",\"\",VLOOKUP(C3153,Tabla_Regional[],3,0))","v":""},null,{"$f":"IF(E3153<>\"\",VLOOKUP(CONCATENATE(C3153,E3153),Dato!$A$4:$I$218,7,0),\"\")","v":""},null,""]
[null,null,null,{"$f":"IF(C3154=\"\",\"\",VLOOKUP(C3154,Tabla_Regional[],3,0))","v":""},null,{"$f":"IF(E3154<>\"\",VLOOKUP(CONCATENATE(C3154,E3154),Dato!$A$4:$I$218,7,0),\"\")","v":""},null,""]
[null,null,null,{"$f":"IF(C3155=\"\",\"\",VLOOKUP(C3155,Tabla_Regional[],3,0))","v":""},null,{"$f":"IF(E3155<>\"\",VLOOKUP(CONCATENATE(C3155,E3155),Dato!$A$4:$I$218,7,0),\"\")","v":""},null,""]
[null,null,null,{"$f":"IF(C3156=\"\",\"\",VLOOKUP(C3156,Tabla_Regional[],3,0))","v":""},null,{"$f":"IF(E3156<>\"\",VLOOKUP(CONCATENATE(C3156,E3156),Dato!$A$4:$I$218,7,0),\"\")","v":""},null,""]
[null,null,null,{"$f":"IF(C3157=\"\",\"\",VLOOKUP(C3157,Tabla_Regional[],3,0))","v":""},null,{"$f":"IF(E3157<>\"\",VLOOKUP(CONCATENATE(C3157,E3157),Dato!$A$4:$I$218,7,0),\"\")","v":""},null,""]
[null,null,null,{"$f":"IF(C3158=\"\",\"\",VLOOKUP(C3158,Tabla_Regional[],3,0))","v":""},null,{"$f":"IF(E3158<>\"\",VLOOKUP(CONCATENATE(C3158,E3158),Dato!$A$4:$I$218,7,0),\"\")","v":""},null,""]
[null,null,null,{"$f":"IF(C3159=\"\",\"\",VLOOKUP(C3159,Tabla_Regional[],3,0))","v":""},null,{"$f":"IF(E3159<>\"\",VLOOKUP(CONCATENATE(C3159,E3159),Dato!$A$4:$I$218,7,0),\"\")","v":""},null,""]
[null,null,null,{"$f":"IF(C3160=\"\",\"\",VLOOKUP(C3160,Tabla_Regional[],3,0))","v":""},null,{"$f":"IF(E3160<>\"\",VLOOKUP(CONCATENATE(C3160,E3160),Dato!$A$4:$I$218,7,0),\"\")","v":""},null,""]
[null,null,null,{"$f":"IF(C3161=\"\",\"\",VLOOKUP(C3161,Tabla_Regional[],3,0))","v":""},null,{"$f":"IF(E3161<>\"\",VLOOKUP(CONCATENATE(C3161,E3161),Dato!$A$4:$I$218,7,0),\"\")","v":""},null,""]
[null,null,null,{"$f":"IF(C3162=\"\",\"\",VLOOKUP(C3162,Tabla_Regional[],3,0))","v":""},null,{"$f":"IF(E3162<>\"\",VLOOKUP(CONCATENATE(C3162,E3162),Dato!$A$4:$I$218,7,0),\"\")","v":""},null,""]
[null,null,null,{"$f":"IF(C3163=\"\",\"\",VLOOKUP(C3163,Tabla_Regional[],3,0))","v":""},null,{"$f":"IF(E3163<>\"\",VLOOKUP(CONCATENATE(C3163,E3163),Dato!$A$4:$I$218,7,0),\"\")","v":""},null,""]
[null,null,null,{"$f":"IF(C3164=\"\",\"\",VLOOKUP(C3164,Tabla_Regional[],3,0))","v":""},null,{"$f":"IF(E3164<>\"\",VLOOKUP(CONCATENATE(C3164,E3164),Dato!$A$4:$I$218,7,0),\"\")","v":""},null,""]
[null,null,null,{"$f":"IF(C3165=\"\",\"\",VLOOKUP(C3165,Tabla_Regional[],3,0))","v":""},null,{"$f":"IF(E3165<>\"\",VLOOKUP(CONCATENATE(C3165,E3165),Dato!$A$4:$I$218,7,0),\"\")","v":""},null,""]
[null,null,null,{"$f":"IF(C3166=\"\",\"\",VLOOKUP(C3166,Tabla_Regional[],3,0))","v":""},null,{"$f":"IF(E3166<>\"\",VLOOKUP(CONCATENATE(C3166,E3166),Dato!$A$4:$I$218,7,0),\"\")","v":""},null,""]
[null,null,null,{"$f":"IF(C3167=\"\",\"\",VLOOKUP(C3167,Tabla_Regional[],3,0))","v":""},null,{"$f":"IF(E3167<>\"\",VLOOKUP(CONCATENATE(C3167,E3167),Dato!$A$4:$I$218,7,0),\"\")","v":""},null,""]
[null,null,null,{"$f":"IF(C3168=\"\",\"\",VLOOKUP(C3168,Tabla_Regional[],3,0))","v":""},null,{"$f":"IF(E3168<>\"\",VLOOKUP(CONCATENATE(C3168,E3168),Dato!$A$4:$I$218,7,0),\"\")","v":""},null,""]
[null,null,null,{"$f":"IF(C3169=\"\",\"\",VLOOKUP(C3169,Tabla_Regional[],3,0))","v":""},null,{"$f":"IF(E3169<>\"\",VLOOKUP(CONCATENATE(C3169,E3169),Dato!$A$4:$I$218,7,0),\"\")","v":""},null,""]
[null,null,null,{"$f":"IF(C3170=\"\",\"\",VLOOKUP(C3170,Tabla_Regional[],3,0))","v":""},null,{"$f":"IF(E3170<>\"\",VLOOKUP(CONCATENATE(C3170,E3170),Dato!$A$4:$I$218,7,0),\"\")","v":""},null,""]
[null,null,null,{"$f":"IF(C3171=\"\",\"\",VLOOKUP(C3171,Tabla_Regional[],3,0))","v":""},null,{"$f":"IF(E3171<>\"\",VLOOKUP(CONCATENATE(C3171,E3171),Dato!$A$4:$I$218,7,0),\"\")","v":""},null,""]
[null,null,null,{"$f":"IF(C3172=\"\",\"\",VLOOKUP(C3172,Tabla_Regional[],3,0))","v":""},null,{"$f":"IF(E3172<>\"\",VLOOKUP(CONCATENATE(C3172,E3172),Dato!$A$4:$I$218,7,0),\"\")","v":""},null,""]
[null,null,null,{"$f":"IF(C3173=\"\",\"\",VLOOKUP(C3173,Tabla_Regional[],3,0))","v":""},null,{"$f":"IF(E3173<>\"\",VLOOKUP(CONCATENATE(C3173,E3173),Dato!$A$4:$I$218,7,0),\"\")","v":""},null,""]
[null,null,null,{"$f":"IF(C3174=\"\",\"\",VLOOKUP(C3174,Tabla_Regional[],3,0))","v":""},null,{"$f":"IF(E3174<>\"\",VLOOKUP(CONCATENATE(C3174,E3174),Dato!$A$4:$I$218,7,0),\"\")","v":""},null,""]
[null,null,null,{"$f":"IF(C3175=\"\",\"\",VLOOKUP(C3175,Tabla_Regional[],3,0))","v":""},null,{"$f":"IF(E3175<>\"\",VLOOKUP(CONCATENATE(C3175,E3175),Dato!$A$4:$I$218,7,0),\"\")","v":""},null,""]
[null,null,null,{"$f":"IF(C3176=\"\",\"\",VLOOKUP(C3176,Tabla_Regional[],3,0))","v":""},null,{"$f":"IF(E3176<>\"\",VLOOKUP(CONCATENATE(C3176,E3176),Dato!$A$4:$I$218,7,0),\"\")","v":""},null,""]
[null,null,null,{"$f":"IF(C3177=\"\",\"\",VLOOKUP(C3177,Tabla_Regional[],3,0))","v":""},null,{"$f":"IF(E3177<>\"\",VLOOKUP(CONCATENATE(C3177,E3177),Dato!$A$4:$I$218,7,0),\"\")","v":""},null,""]
[null,null,null,{"$f":"IF(C3178=\"\",\"\",VLOOKUP(C3178,Tabla_Regional[],3,0))","v":""},null,{"$f":"IF(E3178<>\"\",VLOOKUP(CONCATENATE(C3178,E3178),Dato!$A$4:$I$218,7,0),\"\")","v":""},null,""]
[null,null,null,{"$f":"IF(C3179=\"\",\"\",VLOOKUP(C3179,Tabla_Regional[],3,0))","v":""},null,{"$f":"IF(E3179<>\"\",VLOOKUP(CONCATENATE(C3179,E3179),Dato!$A$4:$I$218,7,0),\"\")","v":""},null,""]
[null,null,null,{"$f":"IF(C3180=\"\",\"\",VLOOKUP(C3180,Tabla_Regional[],3,0))","v":""},null,{"$f":"IF(E3180<>\"\",VLOOKUP(CONCATENATE(C3180,E3180),Dato!$A$4:$I$218,7,0),\"\")","v":""},null,""]
[null,null,null,{"$f":"IF(C3181=\"\",\"\",VLOOKUP(C3181,Tabla_Regional[],3,0))","v":""},null,{"$f":"IF(E3181<>\"\",VLOOKUP(CONCATENATE(C3181,E3181),Dato!$A$4:$I$218,7,0),\"\")","v":""},null,""]
[null,null,null,{"$f":"IF(C3182=\"\",\"\",VLOOKUP(C3182,Tabla_Regional[],3,0))","v":""},null,{"$f":"IF(E3182<>\"\",VLOOKUP(CONCATENATE(C3182,E3182),Dato!$A$4:$I$218,7,0),\"\")","v":""},null,""]
[null,null,null,{"$f":"IF(C3183=\"\",\"\",VLOOKUP(C3183,Tabla_Regional[],3,0))","v":""},null,{"$f":"IF(E3183<>\"\",VLOOKUP(CONCATENATE(C3183,E3183),Dato!$A$4:$I$218,7,0),\"\")","v":""},null,""]
[null,null,null,{"$f":"IF(C3184=\"\",\"\",VLOOKUP(C3184,Tabla_Regional[],3,0))","v":""},null,{"$f":"IF(E3184<>\"\",VLOOKUP(CONCATENATE(C3184,E3184),Dato!$A$4:$I$218,7,0),\"\")","v":""},null,""]
[null,null,null,{"$f":"IF(C3185=\"\",\"\",VLOOKUP(C3185,Tabla_Regional[],3,0))","v":""},null,{"$f":"IF(E3185<>\"\",VLOOKUP(CONCATENATE(C3185,E3185),Dato!$A$4:$I$218,7,0),\"\")","v":""},null,""]
[null,null,null,{"$f":"IF(C3186=\"\",\"\",VLOOKUP(C3186,Tabla_Regional[],3,0))","v":""},null,{"$f":"IF(E3186<>\"\",VLOOKUP(CONCATENATE(C3186,E3186),Dato!$A$4:$I$218,7,0),\"\")","v":""},null,""]
[null,null,null,{"$f":"IF(C3187=\"\",\"\",VLOOKUP(C3187,Tabla_Regional[],3,0))","v":""},null,{"$f":"IF(E3187<>\"\",VLOOKUP(CONCATENATE(C3187,E3187),Dato!$A$4:$I$218,7,0),\"\")","v":""},null,""]
[null,null,null,{"$f":"IF(C3188=\"\",\"\",VLOOKUP(C3188,Tabla_Regional[],3,0))","v":""},null,{"$f":"IF(E3188<>\"\",VLOOKUP(CONCATENATE(C3188,E3188),Dato!$A$4:$I$218,7,0),\"\")","v":""},null,""]
[null,null,null,{"$f":"IF(C3189=\"\",\"\",VLOOKUP(C3189,Tabla_Regional[],3,0))","v":""},null,{"$f":"IF(E3189<>\"\",VLOOKUP(CONCATENATE(C3189,E3189),Dato!$A$4:$I$218,7,0),\"\")","v":""},null,""]
[null,null,null,{"$f":"IF(C3190=\"\",\"\",VLOOKUP(C3190,Tabla_Regional[],3,0))","v":""},null,{"$f":"IF(E3190<>\"\",VLOOKUP(CONCATENATE(C3190,E3190),Dato!$A$4:$I$218,7,0),\"\")","v":""},null,""]
[null,null,null,{"$f":"IF(C3191=\"\",\"\",VLOOKUP(C3191,Tabla_Regional[],3,0))","v":""},null,{"$f":"IF(E3191<>\"\",VLOOKUP(CONCATENATE(C3191,E3191),Dato!$A$4:$I$218,7,0),\"\")","v":""},null,""]
[null,null,null,{"$f":"IF(C3192=\"\",\"\",VLOOKUP(C3192,Tabla_Regional[],3,0))","v":""},null,{"$f":"IF(E3192<>\"\",VLOOKUP(CONCATENATE(C3192,E3192),Dato!$A$4:$I$218,7,0),\"\")","v":""},null,""]
[null,null,null,{"$f":"IF(C3193=\"\",\"\",VLOOKUP(C3193,Tabla_Regional[],3,0))","v":""},null,{"$f":"IF(E3193<>\"\",VLOOKUP(CONCATENATE(C3193,E3193),Dato!$A$4:$I$218,7,0),\"\")","v":""},null,""]
[null,null,null,{"$f":"IF(C3194=\"\",\"\",VLOOKUP(C3194,Tabla_Regional[],3,0))","v":""},null,{"$f":"IF(E3194<>\"\",VLOOKUP(CONCATENATE(C3194,E3194),Dato!$A$4:$I$218,7,0),\"\")","v":""},null,""]
[null,null,null,{"$f":"IF(C3195=\"\",\"\",VLOOKUP(C3195,Tabla_Regional[],3,0))","v":""},null,{"$f":"IF(E3195<>\"\",VLOOKUP(CONCATENATE(C3195,E3195),Dato!$A$4:$I$218,7,0),\"\")","v":""},null,""]
[null,null,null,{"$f":"IF(C3196=\"\",\"\",VLOOKUP(C3196,Tabla_Regional[],3,0))","v":""},null,{"$f":"IF(E3196<>\"\",VLOOKUP(CONCATENATE(C3196,E3196),Dato!$A$4:$I$218,7,0),\"\")","v":""},null,""]
[null,null,null,{"$f":"IF(C3197=\"\",\"\",VLOOKUP(C3197,Tabla_Regional[],3,0))","v":""},null,{"$f":"IF(E3197<>\"\",VLOOKUP(CONCATENATE(C3197,E3197),Dato!$A$4:$I$218,7,0),\"\")","v":""},null,""]
[null,null,null,{"$f":"IF(C3198=\"\",\"\",VLOOKUP(C3198,Tabla_Regional[],3,0))","v":""},null,{"$f":"IF(E3198<>\"\",VLOOKUP(CONCATENATE(C3198,E3198),Dato!$A$4:$I$218,7,0),\"\")","v":""},null,""]
[null,null,null,{"$f":"IF(C3199=\"\",\"\",VLOOKUP(C3199,Tabla_Regional[],3,0))","v":""},null,{"$f":"IF(E3199<>\"\",VLOOKUP(CONCATENATE(C3199,E3199),Dato!$A$4:$I$218,7,0),\"\")","v":""},null,""]
[null,null,null,{"$f":"IF(C3200=\"\",\"\",VLOOKUP(C3200,Tabla_Regional[],3,0))","v":""},null,{"$f":"IF(E3200<>\"\",VLOOKUP(CONCATENATE(C3200,E3200),Dato!$A$4:$I$218,7,0),\"\")","v":""},null,""]
[null,null,null,{"$f":"IF(C3201=\"\",\"\",VLOOKUP(C3201,Tabla_Regional[],3,0))","v":""},null,{"$f":"IF(E3201<>\"\",VLOOKUP(CONCATENATE(C3201,E3201),Dato!$A$4:$I$218,7,0),\"\")","v":""},null,""]
[null,null,null,{"$f":"IF(C3202=\"\",\"\",VLOOKUP(C3202,Tabla_Regional[],3,0))","v":""},null,{"$f":"IF(E3202<>\"\",VLOOKUP(CONCATENATE(C3202,E3202),Dato!$A$4:$I$218,7,0),\"\")","v":""},null,""]
[null,null,null,{"$f":"IF(C3203=\"\",\"\",VLOOKUP(C3203,Tabla_Regional[],3,0))","v":""},null,{"$f":"IF(E3203<>\"\",VLOOKUP(CONCATENATE(C3203,E3203),Dato!$A$4:$I$218,7,0),\"\")","v":""},null,""]
[null,null,null,{"$f":"IF(C3204=\"\",\"\",VLOOKUP(C3204,Tabla_Regional[],3,0))","v":""},null,{"$f":"IF(E3204<>\"\",VLOOKUP(CONCATENATE(C3204,E3204),Dato!$A$4:$I$218,7,0),\"\")","v":""},null,""]
[null,null,null,{"$f":"IF(C3205=\"\",\"\",VLOOKUP(C3205,Tabla_Regional[],3,0))","v":""},null,{"$f":"IF(E3205<>\"\",VLOOKUP(CONCATENATE(C3205,E3205),Dato!$A$4:$I$218,7,0),\"\")","v":""},null,""]
[null,null,null,{"$f":"IF(C3206=\"\",\"\",VLOOKUP(C3206,Tabla_Regional[],3,0))","v":""},null,{"$f":"IF(E3206<>\"\",VLOOKUP(CONCATENATE(C3206,E3206),Dato!$A$4:$I$218,7,0),\"\")","v":""},null,""]
[null,null,null,{"$f":"IF(C3207=\"\",\"\",VLOOKUP(C3207,Tabla_Regional[],3,0))","v":""},null,{"$f":"IF(E3207<>\"\",VLOOKUP(CONCATENATE(C3207,E3207),Dato!$A$4:$I$218,7,0),\"\")","v":""},null,""]
[null,null,null,{"$f":"IF(C3208=\"\",\"\",VLOOKUP(C3208,Tabla_Regional[],3,0))","v":""},null,{"$f":"IF(E3208<>\"\",VLOOKUP(CONCATENATE(C3208,E3208),Dato!$A$4:$I$218,7,0),\"\")","v":""},null,""]
[null,null,null,{"$f":"IF(C3209=\"\",\"\",VLOOKUP(C3209,Tabla_Regional[],3,0))","v":""},null,{"$f":"IF(E3209<>\"\",VLOOKUP(CONCATENATE(C3209,E3209),Dato!$A$4:$I$218,7,0),\"\")","v":""},null,""]
[null,null,null,{"$f":"IF(C3210=\"\",\"\",VLOOKUP(C3210,Tabla_Regional[],3,0))","v":""},null,{"$f":"IF(E3210<>\"\",VLOOKUP(CONCATENATE(C3210,E3210),Dato!$A$4:$I$218,7,0),\"\")","v":""},null,""]
[null,null,null,{"$f":"IF(C3211=\"\",\"\",VLOOKUP(C3211,Tabla_Regional[],3,0))","v":""},null,{"$f":"IF(E3211<>\"\",VLOOKUP(CONCATENATE(C3211,E3211),Dato!$A$4:$I$218,7,0),\"\")","v":""},null,""]
[null,null,null,{"$f":"IF(C3212=\"\",\"\",VLOOKUP(C3212,Tabla_Regional[],3,0))","v":""},null,{"$f":"IF(E3212<>\"\",VLOOKUP(CONCATENATE(C3212,E3212),Dato!$A$4:$I$218,7,0),\"\")","v":""},null,{"$f":"IF(G3212<>\"\",VLOOKUP(CONCATENATE(C3212,E3212,G3212),czmuni,7,0),\"\")","v":""}]
[null,null,null,{"$f":"IF(C3213=\"\",\"\",VLOOKUP(C3213,Tabla_Regional[],3,0))","v":""},null,{"$f":"IF(E3213<>\"\",VLOOKUP(CONCATENATE(C3213,E3213),Dato!$A$4:$I$218,7,0),\"\")","v":""},null,""]
[null,null,null,{"$f":"IF(C3214=\"\",\"\",VLOOKUP(C3214,Tabla_Regional[],3,0))","v":""},null,{"$f":"IF(E3214<>\"\",VLOOKUP(CONCATENATE(C3214,E3214),Dato!$A$4:$I$218,7,0),\"\")","v":""},null,""]
[null,null,null,{"$f":"IF(C3215=\"\",\"\",VLOOKUP(C3215,Tabla_Regional[],3,0))","v":""},null,{"$f":"IF(E3215<>\"\",VLOOKUP(CONCATENATE(C3215,E3215),Dato!$A$4:$I$218,7,0),\"\")","v":""},null,""]
[null,null,null,{"$f":"IF(C3216=\"\",\"\",VLOOKUP(C3216,Tabla_Regional[],3,0))","v":""},null,{"$f":"IF(E3216<>\"\",VLOOKUP(CONCATENATE(C3216,E3216),Dato!$A$4:$I$218,7,0),\"\")","v":""},null,""]
[null,null,null,{"$f":"IF(C3217=\"\",\"\",VLOOKUP(C3217,Tabla_Regional[],3,0))","v":""},null,{"$f":"IF(E3217<>\"\",VLOOKUP(CONCATENATE(C3217,E3217),Dato!$A$4:$I$218,7,0),\"\")","v":""},null,""]
[null,null,null,{"$f":"IF(C3218=\"\",\"\",VLOOKUP(C3218,Tabla_Regional[],3,0))","v":""},null,{"$f":"IF(E3218<>\"\",VLOOKUP(CONCATENATE(C3218,E3218),Dato!$A$4:$I$218,7,0),\"\")","v":""},null,""]
[null,null,null,{"$f":"IF(C3219=\"\",\"\",VLOOKUP(C3219,Tabla_Regional[],3,0))","v":""},null,{"$f":"IF(E3219<>\"\",VLOOKUP(CONCATENATE(C3219,E3219),Dato!$A$4:$I$218,7,0),\"\")","v":""},null,""]
[null,null,null,{"$f":"IF(C3220=\"\",\"\",VLOOKUP(C3220,Tabla_Regional[],3,0))","v":""},null,{"$f":"IF(E3220<>\"\",VLOOKUP(CONCATENATE(C3220,E3220),Dato!$A$4:$I$218,7,0),\"\")","v":""},null,""]
[null,null,null,{"$f":"IF(C3221=\"\",\"\",VLOOKUP(C3221,Tabla_Regional[],3,0))","v":""},null,{"$f":"IF(E3221<>\"\",VLOOKUP(CONCATENATE(C3221,E3221),Dato!$A$4:$I$218,7,0),\"\")","v":""},null,""]
[null,null,null,{"$f":"IF(C3222=\"\",\"\",VLOOKUP(C3222,Tabla_Regional[],3,0))","v":""},null,{"$f":"IF(E3222<>\"\",VLOOKUP(CONCATENATE(C3222,E3222),Dato!$A$4:$I$218,7,0),\"\")","v":""},null,""]
[null,null,null,{"$f":"IF(C3223=\"\",\"\",VLOOKUP(C3223,Tabla_Regional[],3,0))","v":""},null,{"$f":"IF(E3223<>\"\",VLOOKUP(CONCATENATE(C3223,E3223),Dato!$A$4:$I$218,7,0),\"\")","v":""},null,""]
[null,null,null,{"$f":"IF(C3224=\"\",\"\",VLOOKUP(C3224,Tabla_Regional[],3,0))","v":""},null,{"$f":"IF(E3224<>\"\",VLOOKUP(CONCATENATE(C3224,E3224),Dato!$A$4:$I$218,7,0),\"\")","v":""},null,""]
[null,null,null,{"$f":"IF(C3225=\"\",\"\",VLOOKUP(C3225,Tabla_Regional[],3,0))","v":""},null,{"$f":"IF(E3225<>\"\",VLOOKUP(CONCATENATE(C3225,E3225),Dato!$A$4:$I$218,7,0),\"\")","v":""},null,""]
[null,null,null,{"$f":"IF(C3226=\"\",\"\",VLOOKUP(C3226,Tabla_Regional[],3,0))","v":""},null,{"$f":"IF(E3226<>\"\",VLOOKUP(CONCATENATE(C3226,E3226),Dato!$A$4:$I$218,7,0),\"\")","v":""},null,""]
[null,null,null,{"$f":"IF(C3227=\"\",\"\",VLOOKUP(C3227,Tabla_Regional[],3,0))","v":""},null,{"$f":"IF(E3227<>\"\",VLOOKUP(CONCATENATE(C3227,E3227),Dato!$A$4:$I$218,7,0),\"\")","v":""},null,""]
[null,null,null,{"$f":"IF(C3228=\"\",\"\",VLOOKUP(C3228,Tabla_Regional[],3,0))","v":""},null,{"$f":"IF(E3228<>\"\",VLOOKUP(CONCATENATE(C3228,E3228),Dato!$A$4:$I$218,7,0),\"\")","v":""},null,""]
[null,null,null,{"$f":"IF(C3229=\"\",\"\",VLOOKUP(C3229,Tabla_Regional[],3,0))","v":""},null,{"$f":"IF(E3229<>\"\",VLOOKUP(CONCATENATE(C3229,E3229),Dato!$A$4:$I$218,7,0),\"\")","v":""},null,""]
[null,null,null,{"$f":"IF(C3230=\"\",\"\",VLOOKUP(C3230,Tabla_Regional[],3,0))","v":""},null,{"$f":"IF(E3230<>\"\",VLOOKUP(CONCATENATE(C3230,E3230),Dato!$A$4:$I$218,7,0),\"\")","v":""},null,""]
[null,null,null,{"$f":"IF(C3231=\"\",\"\",VLOOKUP(C3231,Tabla_Regional[],3,0))","v":""},null,{"$f":"IF(E3231<>\"\",VLOOKUP(CONCATENATE(C3231,E3231),Dato!$A$4:$I$218,7,0),\"\")","v":""},null,""]
[null,null,null,{"$f":"IF(C3232=\"\",\"\",VLOOKUP(C3232,Tabla_Regional[],3,0))","v":""},null,{"$f":"IF(E3232<>\"\",VLOOKUP(CONCATENATE(C3232,E3232),Dato!$A$4:$I$218,7,0),\"\")","v":""},null,""]
[null,null,null,{"$f":"IF(C3233=\"\",\"\",VLOOKUP(C3233,Tabla_Regional[],3,0))","v":""},null,{"$f":"IF(E3233<>\"\",VLOOKUP(CONCATENATE(C3233,E3233),Dato!$A$4:$I$218,7,0),\"\")","v":""},null,""]
[null,null,null,{"$f":"IF(C3234=\"\",\"\",VLOOKUP(C3234,Tabla_Regional[],3,0))","v":""},null,{"$f":"IF(E3234<>\"\",VLOOKUP(CONCATENATE(C3234,E3234),Dato!$A$4:$I$218,7,0),\"\")","v":""},null,""]
[null,null,null,{"$f":"IF(C3235=\"\",\"\",VLOOKUP(C3235,Tabla_Regional[],3,0))","v":""},null,{"$f":"IF(E3235<>\"\",VLOOKUP(CONCATENATE(C3235,E3235),Dato!$A$4:$I$218,7,0),\"\")","v":""},null,""]
[null,null,null,{"$f":"IF(C3236=\"\",\"\",VLOOKUP(C3236,Tabla_Regional[],3,0))","v":""},null,{"$f":"IF(E3236<>\"\",VLOOKUP(CONCATENATE(C3236,E3236),Dato!$A$4:$I$218,7,0),\"\")","v":""},null,""]
[null,null,null,{"$f":"IF(C3237=\"\",\"\",VLOOKUP(C3237,Tabla_Regional[],3,0))","v":""},null,{"$f":"IF(E3237<>\"\",VLOOKUP(CONCATENATE(C3237,E3237),Dato!$A$4:$I$218,7,0),\"\")","v":""},null,""]
[null,null,null,{"$f":"IF(C3238=\"\",\"\",VLOOKUP(C3238,Tabla_Regional[],3,0))","v":""},null,{"$f":"IF(E3238<>\"\",VLOOKUP(CONCATENATE(C3238,E3238),Dato!$A$4:$I$218,7,0),\"\")","v":""},null,""]
[null,null,null,{"$f":"IF(C3239=\"\",\"\",VLOOKUP(C3239,Tabla_Regional[],3,0))","v":""},null,{"$f":"IF(E3239<>\"\",VLOOKUP(CONCATENATE(C3239,E3239),Dato!$A$4:$I$218,7,0),\"\")","v":""},null,""]
[null,null,null,{"$f":"IF(C3240=\"\",\"\",VLOOKUP(C3240,Tabla_Regional[],3,0))","v":""},null,{"$f":"IF(E3240<>\"\",VLOOKUP(CONCATENATE(C3240,E3240),Dato!$A$4:$I$218,7,0),\"\")","v":""},null,""]
[null,null,null,{"$f":"IF(C3241=\"\",\"\",VLOOKUP(C3241,Tabla_Regional[],3,0))","v":""},null,{"$f":"IF(E3241<>\"\",VLOOKUP(CONCATENATE(C3241,E3241),Dato!$A$4:$I$218,7,0),\"\")","v":""},null,""]
[null,null,null,{"$f":"IF(C3242=\"\",\"\",VLOOKUP(C3242,Tabla_Regional[],3,0))","v":""},null,{"$f":"IF(E3242<>\"\",VLOOKUP(CONCATENATE(C3242,E3242),Dato!$A$4:$I$218,7,0),\"\")","v":""},null,""]
[null,null,null,{"$f":"IF(C3243=\"\",\"\",VLOOKUP(C3243,Tabla_Regional[],3,0))","v":""},null,{"$f":"IF(E3243<>\"\",VLOOKUP(CONCATENATE(C3243,E3243),Dato!$A$4:$I$218,7,0),\"\")","v":""},null,""]
[null,null,null,{"$f":"IF(C3244=\"\",\"\",VLOOKUP(C3244,Tabla_Regional[],3,0))","v":""},null,{"$f":"IF(E3244<>\"\",VLOOKUP(CONCATENATE(C3244,E3244),Dato!$A$4:$I$218,7,0),\"\")","v":""},null,""]
[null,null,null,{"$f":"IF(C3245=\"\",\"\",VLOOKUP(C3245,Tabla_Regional[],3,0))","v":""},null,{"$f":"IF(E3245<>\"\",VLOOKUP(CONCATENATE(C3245,E3245),Dato!$A$4:$I$218,7,0),\"\")","v":""},null,""]
[null,null,null,{"$f":"IF(C3246=\"\",\"\",VLOOKUP(C3246,Tabla_Regional[],3,0))","v":""},null,{"$f":"IF(E3246<>\"\",VLOOKUP(CONCATENATE(C3246,E3246),Dato!$A$4:$I$218,7,0),\"\")","v":""},null,""]
[null,null,null,{"$f":"IF(C3247=\"\",\"\",VLOOKUP(C3247,Tabla_Regional[],3,0))","v":""},null,{"$f":"IF(E3247<>\"\",VLOOKUP(CONCATENATE(C3247,E3247),Dato!$A$4:$I$218,7,0),\"\")","v":""},null,""]
[null,null,null,{"$f":"IF(C3248=\"\",\"\",VLOOKUP(C3248,Tabla_Regional[],3,0))","v":""},null,{"$f":"IF(E3248<>\"\",VLOOKUP(CONCATENATE(C3248,E3248),Dato!$A$4:$I$218,7,0),\"\")","v":""},null,""]
[null,null,null,{"$f":"IF(C3249=\"\",\"\",VLOOKUP(C3249,Tabla_Regional[],3,0))","v":""},null,{"$f":"IF(E3249<>\"\",VLOOKUP(CONCATENATE(C3249,E3249),Dato!$A$4:$I$218,7,0),\"\")","v":""},null,""]
[null,null,null,{"$f":"IF(C3250=\"\",\"\",VLOOKUP(C3250,Tabla_Regional[],3,0))","v":""},null,{"$f":"IF(E3250<>\"\",VLOOKUP(CONCATENATE(C3250,E3250),Dato!$A$4:$I$218,7,0),\"\")","v":""},null,""]
[null,null,null,{"$f":"IF(C3251=\"\",\"\",VLOOKUP(C3251,Tabla_Regional[],3,0))","v":""},null,{"$f":"IF(E3251<>\"\",VLOOKUP(CONCATENATE(C3251,E3251),Dato!$A$4:$I$218,7,0),\"\")","v":""},null,""]
[null,null,null,{"$f":"IF(C3252=\"\",\"\",VLOOKUP(C3252,Tabla_Regional[],3,0))","v":""},null,{"$f":"IF(E3252<>\"\",VLOOKUP(CONCATENATE(C3252,E3252),Dato!$A$4:$I$218,7,0),\"\")","v":""},null,""]
[null,null,null,{"$f":"IF(C3253=\"\",\"\",VLOOKUP(C3253,Tabla_Regional[],3,0))","v":""},null,{"$f":"IF(E3253<>\"\",VLOOKUP(CONCATENATE(C3253,E3253),Dato!$A$4:$I$218,7,0),\"\")","v":""},null,""]
[null,null,null,{"$f":"IF(C3254=\"\",\"\",VLOOKUP(C3254,Tabla_Regional[],3,0))","v":""},null,{"$f":"IF(E3254<>\"\",VLOOKUP(CONCATENATE(C3254,E3254),Dato!$A$4:$I$218,7,0),\"\")","v":""},null,""]
[null,null,null,{"$f":"IF(C3255=\"\",\"\",VLOOKUP(C3255,Tabla_Regional[],3,0))","v":""},null,{"$f":"IF(E3255<>\"\",VLOOKUP(CONCATENATE(C3255,E3255),Dato!$A$4:$I$218,7,0),\"\")","v":""},null,""]
[null,null,null,{"$f":"IF(C3256=\"\",\"\",VLOOKUP(C3256,Tabla_Regional[],3,0))","v":""},null,{"$f":"IF(E3256<>\"\",VLOOKUP(CONCATENATE(C3256,E3256),Dato!$A$4:$I$218,7,0),\"\")","v":""},null,""]
[null,null,null,{"$f":"IF(C3257=\"\",\"\",VLOOKUP(C3257,Tabla_Regional[],3,0))","v":""},null,{"$f":"IF(E3257<>\"\",VLOOKUP(CONCATENATE(C3257,E3257),Dato!$A$4:$I$218,7,0),\"\")","v":""},null,""]
[null,null,null,{"$f":"IF(C3258=\"\",\"\",VLOOKUP(C3258,Tabla_Regional[],3,0))","v":""},null,{"$f":"IF(E3258<>\"\",VLOOKUP(CONCATENATE(C3258,E3258),Dato!$A$4:$I$218,7,0),\"\")","v":""},null,""]
[null,null,null,{"$f":"IF(C3259=\"\",\"\",VLOOKUP(C3259,Tabla_Regional[],3,0))","v":""},null,{"$f":"IF(E3259<>\"\",VLOOKUP(CONCATENATE(C3259,E3259),Dato!$A$4:$I$218,7,0),\"\")","v":""},null,""]
[null,null,null,{"$f":"IF(C3260=\"\",\"\",VLOOKUP(C3260,Tabla_Regional[],3,0))","v":""},null,{"$f":"IF(E3260<>\"\",VLOOKUP(CONCATENATE(C3260,E3260),Dato!$A$4:$I$218,7,0),\"\")","v":""},null,""]
[null,null,null,{"$f":"IF(C3261=\"\",\"\",VLOOKUP(C3261,Tabla_Regional[],3,0))","v":""},null,{"$f":"IF(E3261<>\"\",VLOOKUP(CONCATENATE(C3261,E3261),Dato!$A$4:$I$218,7,0),\"\")","v":""},null,""]
[null,null,null,{"$f":"IF(C3262=\"\",\"\",VLOOKUP(C3262,Tabla_Regional[],3,0))","v":""},null,{"$f":"IF(E3262<>\"\",VLOOKUP(CONCATENATE(C3262,E3262),Dato!$A$4:$I$218,7,0),\"\")","v":""},null,""]
[null,null,null,{"$f":"IF(C3263=\"\",\"\",VLOOKUP(C3263,Tabla_Regional[],3,0))","v":""},null,{"$f":"IF(E3263<>\"\",VLOOKUP(CONCATENATE(C3263,E3263),Dato!$A$4:$I$218,7,0),\"\")","v":""},null,""]
[null,null,null,{"$f":"IF(C3264=\"\",\"\",VLOOKUP(C3264,Tabla_Regional[],3,0))","v":""},null,{"$f":"IF(E3264<>\"\",VLOOKUP(CONCATENATE(C3264,E3264),Dato!$A$4:$I$218,7,0),\"\")","v":""},null,""]
[null,null,null,{"$f":"IF(C3265=\"\",\"\",VLOOKUP(C3265,Tabla_Regional[],3,0))","v":""},null,{"$f":"IF(E3265<>\"\",VLOOKUP(CONCATENATE(C3265,E3265),Dato!$A$4:$I$218,7,0),\"\")","v":""},null,""]
[null,null,null,{"$f":"IF(C3266=\"\",\"\",VLOOKUP(C3266,Tabla_Regional[],3,0))","v":""},null,{"$f":"IF(E3266<>\"\",VLOOKUP(CONCATENATE(C3266,E3266),Dato!$A$4:$I$218,7,0),\"\")","v":""},null,""]
[null,null,null,{"$f":"IF(C3267=\"\",\"\",VLOOKUP(C3267,Tabla_Regional[],3,0))","v":""},null,{"$f":"IF(E3267<>\"\",VLOOKUP(CONCATENATE(C3267,E3267),Dato!$A$4:$I$218,7,0),\"\")","v":""},null,""]
[null,null,null,{"$f":"IF(C3268=\"\",\"\",VLOOKUP(C3268,Tabla_Regional[],3,0))","v":""},null,{"$f":"IF(E3268<>\"\",VLOOKUP(CONCATENATE(C3268,E3268),Dato!$A$4:$I$218,7,0),\"\")","v":""},null,""]
[null,null,null,{"$f":"IF(C3269=\"\",\"\",VLOOKUP(C3269,Tabla_Regional[],3,0))","v":""},null,{"$f":"IF(E3269<>\"\",VLOOKUP(CONCATENATE(C3269,E3269),Dato!$A$4:$I$218,7,0),\"\")","v":""},null,""]
[null,null,null,{"$f":"IF(C3270=\"\",\"\",VLOOKUP(C3270,Tabla_Regional[],3,0))","v":""},null,{"$f":"IF(E3270<>\"\",VLOOKUP(CONCATENATE(C3270,E3270),Dato!$A$4:$I$218,7,0),\"\")","v":""},null,""]
[null,null,null,{"$f":"IF(C3271=\"\",\"\",VLOOKUP(C3271,Tabla_Regional[],3,0))","v":""},null,{"$f":"IF(E3271<>\"\",VLOOKUP(CONCATENATE(C3271,E3271),Dato!$A$4:$I$218,7,0),\"\")","v":""},null,""]
[null,null,null,{"$f":"IF(C3272=\"\",\"\",VLOOKUP(C3272,Tabla_Regional[],3,0))","v":""},null,{"$f":"IF(E3272<>\"\",VLOOKUP(CONCATENATE(C3272,E3272),Dato!$A$4:$I$218,7,0),\"\")","v":""},null,""]
[null,null,null,{"$f":"IF(C3273=\"\",\"\",VLOOKUP(C3273,Tabla_Regional[],3,0))","v":""},null,{"$f":"IF(E3273<>\"\",VLOOKUP(CONCATENATE(C3273,E3273),Dato!$A$4:$I$218,7,0),\"\")","v":""},null,""]
[null,null,null,{"$f":"IF(C3274=\"\",\"\",VLOOKUP(C3274,Tabla_Regional[],3,0))","v":""},null,{"$f":"IF(E3274<>\"\",VLOOKUP(CONCATENATE(C3274,E3274),Dato!$A$4:$I$218,7,0),\"\")","v":""},null,""]
[null,null,null,{"$f":"IF(C3275=\"\",\"\",VLOOKUP(C3275,Tabla_Regional[],3,0))","v":""},null,{"$f":"IF(E3275<>\"\",VLOOKUP(CONCATENATE(C3275,E3275),Dato!$A$4:$I$218,7,0),\"\")","v":""},null,""]
[null,null,null,{"$f":"IF(C3276=\"\",\"\",VLOOKUP(C3276,Tabla_Regional[],3,0))","v":""},null,{"$f":"IF(E3276<>\"\",VLOOKUP(CONCATENATE(C3276,E3276),Dato!$A$4:$I$218,7,0),\"\")","v":""},null,{"$f":"IF(G3276<>\"\",VLOOKUP(CONCATENATE(C3276,E3276,G3276),czmuni,7,0),\"\")","v":""}]
[null,null,null,{"$f":"IF(C3277=\"\",\"\",VLOOKUP(C3277,Tabla_Regional[],3,0))","v":""},null,{"$f":"IF(E3277<>\"\",VLOOKUP(CONCATENATE(C3277,E3277),Dato!$A$4:$I$218,7,0),\"\")","v":""},null,""]
[null,null,null,{"$f":"IF(C3278=\"\",\"\",VLOOKUP(C3278,Tabla_Regional[],3,0))","v":""},null,{"$f":"IF(E3278<>\"\",VLOOKUP(CONCATENATE(C3278,E3278),Dato!$A$4:$I$218,7,0),\"\")","v":""},null,""]
[null,null,null,{"$f":"IF(C3279=\"\",\"\",VLOOKUP(C3279,Tabla_Regional[],3,0))","v":""},null,{"$f":"IF(E3279<>\"\",VLOOKUP(CONCATENATE(C3279,E3279),Dato!$A$4:$I$218,7,0),\"\")","v":""},null,""]
[null,null,null,{"$f":"IF(C3280=\"\",\"\",VLOOKUP(C3280,Tabla_Regional[],3,0))","v":""},null,{"$f":"IF(E3280<>\"\",VLOOKUP(CONCATENATE(C3280,E3280),Dato!$A$4:$I$218,7,0),\"\")","v":""},null,""]
[null,null,null,{"$f":"IF(C3281=\"\",\"\",VLOOKUP(C3281,Tabla_Regional[],3,0))","v":""},null,{"$f":"IF(E3281<>\"\",VLOOKUP(CONCATENATE(C3281,E3281),Dato!$A$4:$I$218,7,0),\"\")","v":""},null,""]
[null,null,null,{"$f":"IF(C3282=\"\",\"\",VLOOKUP(C3282,Tabla_Regional[],3,0))","v":""},null,{"$f":"IF(E3282<>\"\",VLOOKUP(CONCATENATE(C3282,E3282),Dato!$A$4:$I$218,7,0),\"\")","v":""},null,""]
[null,null,null,{"$f":"IF(C3283=\"\",\"\",VLOOKUP(C3283,Tabla_Regional[],3,0))","v":""},null,{"$f":"IF(E3283<>\"\",VLOOKUP(CONCATENATE(C3283,E3283),Dato!$A$4:$I$218,7,0),\"\")","v":""},null,""]
[null,null,null,{"$f":"IF(C3284=\"\",\"\",VLOOKUP(C3284,Tabla_Regional[],3,0))","v":""},null,{"$f":"IF(E3284<>\"\",VLOOKUP(CONCATENATE(C3284,E3284),Dato!$A$4:$I$218,7,0),\"\")","v":""},null,""]
[null,null,null,{"$f":"IF(C3285=\"\",\"\",VLOOKUP(C3285,Tabla_Regional[],3,0))","v":""},null,{"$f":"IF(E3285<>\"\",VLOOKUP(CONCATENATE(C3285,E3285),Dato!$A$4:$I$218,7,0),\"\")","v":""},null,""]
[null,null,null,{"$f":"IF(C3286=\"\",\"\",VLOOKUP(C3286,Tabla_Regional[],3,0))","v":""},null,{"$f":"IF(E3286<>\"\",VLOOKUP(CONCATENATE(C3286,E3286),Dato!$A$4:$I$218,7,0),\"\")","v":""},null,""]
[null,null,null,{"$f":"IF(C3287=\"\",\"\",VLOOKUP(C3287,Tabla_Regional[],3,0))","v":""},null,{"$f":"IF(E3287<>\"\",VLOOKUP(CONCATENATE(C3287,E3287),Dato!$A$4:$I$218,7,0),\"\")","v":""},null,""]
[null,null,null,{"$f":"IF(C3288=\"\",\"\",VLOOKUP(C3288,Tabla_Regional[],3,0))","v":""},null,{"$f":"IF(E3288<>\"\",VLOOKUP(CONCATENATE(C3288,E3288),Dato!$A$4:$I$218,7,0),\"\")","v":""},null,""]
[null,null,null,{"$f":"IF(C3289=\"\",\"\",VLOOKUP(C3289,Tabla_Regional[],3,0))","v":""},null,{"$f":"IF(E3289<>\"\",VLOOKUP(CONCATENATE(C3289,E3289),Dato!$A$4:$I$218,7,0),\"\")","v":""},null,""]
[null,null,null,{"$f":"IF(C3290=\"\",\"\",VLOOKUP(C3290,Tabla_Regional[],3,0))","v":""},null,{"$f":"IF(E3290<>\"\",VLOOKUP(CONCATENATE(C3290,E3290),Dato!$A$4:$I$218,7,0),\"\")","v":""},null,""]
[null,null,null,{"$f":"IF(C3291=\"\",\"\",VLOOKUP(C3291,Tabla_Regional[],3,0))","v":""},null,{"$f":"IF(E3291<>\"\",VLOOKUP(CONCATENATE(C3291,E3291),Dato!$A$4:$I$218,7,0),\"\")","v":""},null,""]
[null,null,null,{"$f":"IF(C3292=\"\",\"\",VLOOKUP(C3292,Tabla_Regional[],3,0))","v":""},null,{"$f":"IF(E3292<>\"\",VLOOKUP(CONCATENATE(C3292,E3292),Dato!$A$4:$I$218,7,0),\"\")","v":""},null,""]
[null,null,null,{"$f":"IF(C3293=\"\",\"\",VLOOKUP(C3293,Tabla_Regional[],3,0))","v":""},null,{"$f":"IF(E3293<>\"\",VLOOKUP(CONCATENATE(C3293,E3293),Dato!$A$4:$I$218,7,0),\"\")","v":""},null,""]
[null,null,null,{"$f":"IF(C3294=\"\",\"\",VLOOKUP(C3294,Tabla_Regional[],3,0))","v":""},null,{"$f":"IF(E3294<>\"\",VLOOKUP(CONCATENATE(C3294,E3294),Dato!$A$4:$I$218,7,0),\"\")","v":""},null,""]
[null,null,null,{"$f":"IF(C3295=\"\",\"\",VLOOKUP(C3295,Tabla_Regional[],3,0))","v":""},null,{"$f":"IF(E3295<>\"\",VLOOKUP(CONCATENATE(C3295,E3295),Dato!$A$4:$I$218,7,0),\"\")","v":""},null,""]
[null,null,null,{"$f":"IF(C3296=\"\",\"\",VLOOKUP(C3296,Tabla_Regional[],3,0))","v":""},null,{"$f":"IF(E3296<>\"\",VLOOKUP(CONCATENATE(C3296,E3296),Dato!$A$4:$I$218,7,0),\"\")","v":""},null,""]
[null,null,null,{"$f":"IF(C3297=\"\",\"\",VLOOKUP(C3297,Tabla_Regional[],3,0))","v":""},null,{"$f":"IF(E3297<>\"\",VLOOKUP(CONCATENATE(C3297,E3297),Dato!$A$4:$I$218,7,0),\"\")","v":""},null,""]
[null,null,null,{"$f":"IF(C3298=\"\",\"\",VLOOKUP(C3298,Tabla_Regional[],3,0))","v":""},null,{"$f":"IF(E3298<>\"\",VLOOKUP(CONCATENATE(C3298,E3298),Dato!$A$4:$I$218,7,0),\"\")","v":""},null,""]
[null,null,null,{"$f":"IF(C3299=\"\",\"\",VLOOKUP(C3299,Tabla_Regional[],3,0))","v":""},null,{"$f":"IF(E3299<>\"\",VLOOKUP(CONCATENATE(C3299,E3299),Dato!$A$4:$I$218,7,0),\"\")","v":""},null,""]
[null,null,null,{"$f":"IF(C3300=\"\",\"\",VLOOKUP(C3300,Tabla_Regional[],3,0))","v":""},null,{"$f":"IF(E3300<>\"\",VLOOKUP(CONCATENATE(C3300,E3300),Dato!$A$4:$I$218,7,0),\"\")","v":""},null,""]
[null,null,null,{"$f":"IF(C3301=\"\",\"\",VLOOKUP(C3301,Tabla_Regional[],3,0))","v":""},null,{"$f":"IF(E3301<>\"\",VLOOKUP(CONCATENATE(C3301,E3301),Dato!$A$4:$I$218,7,0),\"\")","v":""},null,""]
[null,null,null,{"$f":"IF(C3302=\"\",\"\",VLOOKUP(C3302,Tabla_Regional[],3,0))","v":""},null,{"$f":"IF(E3302<>\"\",VLOOKUP(CONCATENATE(C3302,E3302),Dato!$A$4:$I$218,7,0),\"\")","v":""},null,""]
[null,null,null,{"$f":"IF(C3303=\"\",\"\",VLOOKUP(C3303,Tabla_Regional[],3,0))","v":""},null,{"$f":"IF(E3303<>\"\",VLOOKUP(CONCATENATE(C3303,E3303),Dato!$A$4:$I$218,7,0),\"\")","v":""},null,""]
[null,null,null,{"$f":"IF(C3304=\"\",\"\",VLOOKUP(C3304,Tabla_Regional[],3,0))","v":""},null,{"$f":"IF(E3304<>\"\",VLOOKUP(CONCATENATE(C3304,E3304),Dato!$A$4:$I$218,7,0),\"\")","v":""},null,""]
[null,null,null,{"$f":"IF(C3305=\"\",\"\",VLOOKUP(C3305,Tabla_Regional[],3,0))","v":""},null,{"$f":"IF(E3305<>\"\",VLOOKUP(CONCATENATE(C3305,E3305),Dato!$A$4:$I$218,7,0),\"\")","v":""},null,""]
[null,null,null,{"$f":"IF(C3306=\"\",\"\",VLOOKUP(C3306,Tabla_Regional[],3,0))","v":""},null,{"$f":"IF(E3306<>\"\",VLOOKUP(CONCATENATE(C3306,E3306),Dato!$A$4:$I$218,7,0),\"\")","v":""},null,""]
[null,null,null,{"$f":"IF(C3307=\"\",\"\",VLOOKUP(C3307,Tabla_Regional[],3,0))","v":""},null,{"$f":"IF(E3307<>\"\",VLOOKUP(CONCATENATE(C3307,E3307),Dato!$A$4:$I$218,7,0),\"\")","v":""},null,""]
[null,null,null,{"$f":"IF(C3308=\"\",\"\",VLOOKUP(C3308,Tabla_Regional[],3,0))","v":""},null,{"$f":"IF(E3308<>\"\",VLOOKUP(CONCATENATE(C3308,E3308),Dato!$A$4:$I$218,7,0),\"\")","v":""},null,""]
[null,null,null,{"$f":"IF(C3309=\"\",\"\",VLOOKUP(C3309,Tabla_Regional[],3,0))","v":""},null,{"$f":"IF(E3309<>\"\",VLOOKUP(CONCATENATE(C3309,E3309),Dato!$A$4:$I$218,7,0),\"\")","v":""},null,""]
[null,null,null,{"$f":"IF(C3310=\"\",\"\",VLOOKUP(C3310,Tabla_Regional[],3,0))","v":""},null,{"$f":"IF(E3310<>\"\",VLOOKUP(CONCATENATE(C3310,E3310),Dato!$A$4:$I$218,7,0),\"\")","v":""},null,""]
[null,null,null,{"$f":"IF(C3311=\"\",\"\",VLOOKUP(C3311,Tabla_Regional[],3,0))","v":""},null,{"$f":"IF(E3311<>\"\",VLOOKUP(CONCATENATE(C3311,E3311),Dato!$A$4:$I$218,7,0),\"\")","v":""},null,""]
[null,null,null,{"$f":"IF(C3312=\"\",\"\",VLOOKUP(C3312,Tabla_Regional[],3,0))","v":""},null,{"$f":"IF(E3312<>\"\",VLOOKUP(CONCATENATE(C3312,E3312),Dato!$A$4:$I$218,7,0),\"\")","v":""},null,""]
[null,null,null,{"$f":"IF(C3313=\"\",\"\",VLOOKUP(C3313,Tabla_Regional[],3,0))","v":""},null,{"$f":"IF(E3313<>\"\",VLOOKUP(CONCATENATE(C3313,E3313),Dato!$A$4:$I$218,7,0),\"\")","v":""},null,""]
[null,null,null,{"$f":"IF(C3314=\"\",\"\",VLOOKUP(C3314,Tabla_Regional[],3,0))","v":""},null,{"$f":"IF(E3314<>\"\",VLOOKUP(CONCATENATE(C3314,E3314),Dato!$A$4:$I$218,7,0),\"\")","v":""},null,""]
[null,null,null,{"$f":"IF(C3315=\"\",\"\",VLOOKUP(C3315,Tabla_Regional[],3,0))","v":""},null,{"$f":"IF(E3315<>\"\",VLOOKUP(CONCATENATE(C3315,E3315),Dato!$A$4:$I$218,7,0),\"\")","v":""},null,""]
[null,null,null,{"$f":"IF(C3316=\"\",\"\",VLOOKUP(C3316,Tabla_Regional[],3,0))","v":""},null,{"$f":"IF(E3316<>\"\",VLOOKUP(CONCATENATE(C3316,E3316),Dato!$A$4:$I$218,7,0),\"\")","v":""},null,""]
[null,null,null,{"$f":"IF(C3317=\"\",\"\",VLOOKUP(C3317,Tabla_Regional[],3,0))","v":""},null,{"$f":"IF(E3317<>\"\",VLOOKUP(CONCATENATE(C3317,E3317),Dato!$A$4:$I$218,7,0),\"\")","v":""},null,""]
[null,null,null,{"$f":"IF(C3318=\"\",\"\",VLOOKUP(C3318,Tabla_Regional[],3,0))","v":""},null,{"$f":"IF(E3318<>\"\",VLOOKUP(CONCATENATE(C3318,E3318),Dato!$A$4:$I$218,7,0),\"\")","v":""},null,""]
[null,null,null,{"$f":"IF(C3319=\"\",\"\",VLOOKUP(C3319,Tabla_Regional[],3,0))","v":""},null,{"$f":"IF(E3319<>\"\",VLOOKUP(CONCATENATE(C3319,E3319),Dato!$A$4:$I$218,7,0),\"\")","v":""},null,""]
[null,null,null,{"$f":"IF(C3320=\"\",\"\",VLOOKUP(C3320,Tabla_Regional[],3,0))","v":""},null,{"$f":"IF(E3320<>\"\",VLOOKUP(CONCATENATE(C3320,E3320),Dato!$A$4:$I$218,7,0),\"\")","v":""},null,""]
[null,null,null,{"$f":"IF(C3321=\"\",\"\",VLOOKUP(C3321,Tabla_Regional[],3,0))","v":""},null,{"$f":"IF(E3321<>\"\",VLOOKUP(CONCATENATE(C3321,E3321),Dato!$A$4:$I$218,7,0),\"\")","v":""},null,""]
[null,null,null,{"$f":"IF(C3322=\"\",\"\",VLOOKUP(C3322,Tabla_Regional[],3,0))","v":""},null,{"$f":"IF(E3322<>\"\",VLOOKUP(CONCATENATE(C3322,E3322),Dato!$A$4:$I$218,7,0),\"\")","v":""},null,""]
[null,null,null,{"$f":"IF(C3323=\"\",\"\",VLOOKUP(C3323,Tabla_Regional[],3,0))","v":""},null,{"$f":"IF(E3323<>\"\",VLOOKUP(CONCATENATE(C3323,E3323),Dato!$A$4:$I$218,7,0),\"\")","v":""},null,""]
[null,null,null,{"$f":"IF(C3324=\"\",\"\",VLOOKUP(C3324,Tabla_Regional[],3,0))","v":""},null,{"$f":"IF(E3324<>\"\",VLOOKUP(CONCATENATE(C3324,E3324),Dato!$A$4:$I$218,7,0),\"\")","v":""},null,""]
[null,null,null,{"$f":"IF(C3325=\"\",\"\",VLOOKUP(C3325,Tabla_Regional[],3,0))","v":""},null,{"$f":"IF(E3325<>\"\",VLOOKUP(CONCATENATE(C3325,E3325),Dato!$A$4:$I$218,7,0),\"\")","v":""},null,""]
[null,null,null,{"$f":"IF(C3326=\"\",\"\",VLOOKUP(C3326,Tabla_Regional[],3,0))","v":""},null,{"$f":"IF(E3326<>\"\",VLOOKUP(CONCATENATE(C3326,E3326),Dato!$A$4:$I$218,7,0),\"\")","v":""},null,""]
[null,null,null,{"$f":"IF(C3327=\"\",\"\",VLOOKUP(C3327,Tabla_Regional[],3,0))","v":""},null,{"$f":"IF(E3327<>\"\",VLOOKUP(CONCATENATE(C3327,E3327),Dato!$A$4:$I$218,7,0),\"\")","v":""},null,""]
[null,null,null,{"$f":"IF(C3328=\"\",\"\",VLOOKUP(C3328,Tabla_Regional[],3,0))","v":""},null,{"$f":"IF(E3328<>\"\",VLOOKUP(CONCATENATE(C3328,E3328),Dato!$A$4:$I$218,7,0),\"\")","v":""},null,""]
[null,null,null,{"$f":"IF(C3329=\"\",\"\",VLOOKUP(C3329,Tabla_Regional[],3,0))","v":""},null,{"$f":"IF(E3329<>\"\",VLOOKUP(CONCATENATE(C3329,E3329),Dato!$A$4:$I$218,7,0),\"\")","v":""},null,""]
[null,null,null,{"$f":"IF(C3330=\"\",\"\",VLOOKUP(C3330,Tabla_Regional[],3,0))","v":""},null,{"$f":"IF(E3330<>\"\",VLOOKUP(CONCATENATE(C3330,E3330),Dato!$A$4:$I$218,7,0),\"\")","v":""},null,""]
[null,null,null,{"$f":"IF(C3331=\"\",\"\",VLOOKUP(C3331,Tabla_Regional[],3,0))","v":""},null,{"$f":"IF(E3331<>\"\",VLOOKUP(CONCATENATE(C3331,E3331),Dato!$A$4:$I$218,7,0),\"\")","v":""},null,""]
[null,null,null,{"$f":"IF(C3332=\"\",\"\",VLOOKUP(C3332,Tabla_Regional[],3,0))","v":""},null,{"$f":"IF(E3332<>\"\",VLOOKUP(CONCATENATE(C3332,E3332),Dato!$A$4:$I$218,7,0),\"\")","v":""},null,""]
[null,null,null,{"$f":"IF(C3333=\"\",\"\",VLOOKUP(C3333,Tabla_Regional[],3,0))","v":""},null,{"$f":"IF(E3333<>\"\",VLOOKUP(CONCATENATE(C3333,E3333),Dato!$A$4:$I$218,7,0),\"\")","v":""},null,""]
[null,null,null,{"$f":"IF(C3334=\"\",\"\",VLOOKUP(C3334,Tabla_Regional[],3,0))","v":""},null,{"$f":"IF(E3334<>\"\",VLOOKUP(CONCATENATE(C3334,E3334),Dato!$A$4:$I$218,7,0),\"\")","v":""},null,""]
[null,null,null,{"$f":"IF(C3335=\"\",\"\",VLOOKUP(C3335,Tabla_Regional[],3,0))","v":""},null,{"$f":"IF(E3335<>\"\",VLOOKUP(CONCATENATE(C3335,E3335),Dato!$A$4:$I$218,7,0),\"\")","v":""},null,""]
[null,null,null,{"$f":"IF(C3336=\"\",\"\",VLOOKUP(C3336,Tabla_Regional[],3,0))","v":""},null,{"$f":"IF(E3336<>\"\",VLOOKUP(CONCATENATE(C3336,E3336),Dato!$A$4:$I$218,7,0),\"\")","v":""},null,""]
[null,null,null,{"$f":"IF(C3337=\"\",\"\",VLOOKUP(C3337,Tabla_Regional[],3,0))","v":""},null,{"$f":"IF(E3337<>\"\",VLOOKUP(CONCATENATE(C3337,E3337),Dato!$A$4:$I$218,7,0),\"\")","v":""},null,""]
[null,null,null,{"$f":"IF(C3338=\"\",\"\",VLOOKUP(C3338,Tabla_Regional[],3,0))","v":""},null,{"$f":"IF(E3338<>\"\",VLOOKUP(CONCATENATE(C3338,E3338),Dato!$A$4:$I$218,7,0),\"\")","v":""},null,""]
[null,null,null,{"$f":"IF(C3339=\"\",\"\",VLOOKUP(C3339,Tabla_Regional[],3,0))","v":""},null,{"$f":"IF(E3339<>\"\",VLOOKUP(CONCATENATE(C3339,E3339),Dato!$A$4:$I$218,7,0),\"\")","v":""},null,""]
[null,null,null,{"$f":"IF(C3340=\"\",\"\",VLOOKUP(C3340,Tabla_Regional[],3,0))","v":""},null,{"$f":"IF(E3340<>\"\",VLOOKUP(CONCATENATE(C3340,E3340),Dato!$A$4:$I$218,7,0),\"\")","v":""},null,{"$f":"IF(G3340<>\"\",VLOOKUP(CONCATENATE(C3340,E3340,G3340),czmuni,7,0),\"\")","v":""}]
[null,null,null,{"$f":"IF(C3341=\"\",\"\",VLOOKUP(C3341,Tabla_Regional[],3,0))","v":""},null,{"$f":"IF(E3341<>\"\",VLOOKUP(CONCATENATE(C3341,E3341),Dato!$A$4:$I$218,7,0),\"\")","v":""},null,""]
[null,null,null,{"$f":"IF(C3342=\"\",\"\",VLOOKUP(C3342,Tabla_Regional[],3,0))","v":""},null,{"$f":"IF(E3342<>\"\",VLOOKUP(CONCATENATE(C3342,E3342),Dato!$A$4:$I$218,7,0),\"\")","v":""},null,""]
[null,null,null,{"$f":"IF(C3343=\"\",\"\",VLOOKUP(C3343,Tabla_Regional[],3,0))","v":""},null,{"$f":"IF(E3343<>\"\",VLOOKUP(CONCATENATE(C3343,E3343),Dato!$A$4:$I$218,7,0),\"\")","v":""},null,""]
[null,null,null,{"$f":"IF(C3344=\"\",\"\",VLOOKUP(C3344,Tabla_Regional[],3,0))","v":""},null,{"$f":"IF(E3344<>\"\",VLOOKUP(CONCATENATE(C3344,E3344),Dato!$A$4:$I$218,7,0),\"\")","v":""},null,""]
[null,null,null,{"$f":"IF(C3345=\"\",\"\",VLOOKUP(C3345,Tabla_Regional[],3,0))","v":""},null,{"$f":"IF(E3345<>\"\",VLOOKUP(CONCATENATE(C3345,E3345),Dato!$A$4:$I$218,7,0),\"\")","v":""},null,""]
[null,null,null,{"$f":"IF(C3346=\"\",\"\",VLOOKUP(C3346,Tabla_Regional[],3,0))","v":""},null,{"$f":"IF(E3346<>\"\",VLOOKUP(CONCATENATE(C3346,E3346),Dato!$A$4:$I$218,7,0),\"\")","v":""},null,""]
[null,null,null,{"$f":"IF(C3347=\"\",\"\",VLOOKUP(C3347,Tabla_Regional[],3,0))","v":""},null,{"$f":"IF(E3347<>\"\",VLOOKUP(CONCATENATE(C3347,E3347),Dato!$A$4:$I$218,7,0),\"\")","v":""},null,""]
[null,null,null,{"$f":"IF(C3348=\"\",\"\",VLOOKUP(C3348,Tabla_Regional[],3,0))","v":""},null,{"$f":"IF(E3348<>\"\",VLOOKUP(CONCATENATE(C3348,E3348),Dato!$A$4:$I$218,7,0),\"\")","v":""},null,""]
[null,null,null,{"$f":"IF(C3349=\"\",\"\",VLOOKUP(C3349,Tabla_Regional[],3,0))","v":""},null,{"$f":"IF(E3349<>\"\",VLOOKUP(CONCATENATE(C3349,E3349),Dato!$A$4:$I$218,7,0),\"\")","v":""},null,""]
[null,null,null,{"$f":"IF(C3350=\"\",\"\",VLOOKUP(C3350,Tabla_Regional[],3,0))","v":""},null,{"$f":"IF(E3350<>\"\",VLOOKUP(CONCATENATE(C3350,E3350),Dato!$A$4:$I$218,7,0),\"\")","v":""},null,""]
[null,null,null,{"$f":"IF(C3351=\"\",\"\",VLOOKUP(C3351,Tabla_Regional[],3,0))","v":""},null,{"$f":"IF(E3351<>\"\",VLOOKUP(CONCATENATE(C3351,E3351),Dato!$A$4:$I$218,7,0),\"\")","v":""},null,""]
[null,null,null,{"$f":"IF(C3352=\"\",\"\",VLOOKUP(C3352,Tabla_Regional[],3,0))","v":""},null,{"$f":"IF(E3352<>\"\",VLOOKUP(CONCATENATE(C3352,E3352),Dato!$A$4:$I$218,7,0),\"\")","v":""},null,""]
[null,null,null,{"$f":"IF(C3353=\"\",\"\",VLOOKUP(C3353,Tabla_Regional[],3,0))","v":""},null,{"$f":"IF(E3353<>\"\",VLOOKUP(CONCATENATE(C3353,E3353),Dato!$A$4:$I$218,7,0),\"\")","v":""},null,""]
[null,null,null,{"$f":"IF(C3354=\"\",\"\",VLOOKUP(C3354,Tabla_Regional[],3,0))","v":""},null,{"$f":"IF(E3354<>\"\",VLOOKUP(CONCATENATE(C3354,E3354),Dato!$A$4:$I$218,7,0),\"\")","v":""},null,""]
[null,null,null,{"$f":"IF(C3355=\"\",\"\",VLOOKUP(C3355,Tabla_Regional[],3,0))","v":""},null,{"$f":"IF(E3355<>\"\",VLOOKUP(CONCATENATE(C3355,E3355),Dato!$A$4:$I$218,7,0),\"\")","v":""},null,""]
[null,null,null,{"$f":"IF(C3356=\"\",\"\",VLOOKUP(C3356,Tabla_Regional[],3,0))","v":""},null,{"$f":"IF(E3356<>\"\",VLOOKUP(CONCATENATE(C3356,E3356),Dato!$A$4:$I$218,7,0),\"\")","v":""},null,""]
[null,null,null,{"$f":"IF(C3357=\"\",\"\",VLOOKUP(C3357,Tabla_Regional[],3,0))","v":""},null,{"$f":"IF(E3357<>\"\",VLOOKUP(CONCATENATE(C3357,E3357),Dato!$A$4:$I$218,7,0),\"\")","v":""},null,""]
[null,null,null,{"$f":"IF(C3358=\"\",\"\",VLOOKUP(C3358,Tabla_Regional[],3,0))","v":""},null,{"$f":"IF(E3358<>\"\",VLOOKUP(CONCATENATE(C3358,E3358),Dato!$A$4:$I$218,7,0),\"\")","v":""},null,""]
[null,null,null,{"$f":"IF(C3359=\"\",\"\",VLOOKUP(C3359,Tabla_Regional[],3,0))","v":""},null,{"$f":"IF(E3359<>\"\",VLOOKUP(CONCATENATE(C3359,E3359),Dato!$A$4:$I$218,7,0),\"\")","v":""},null,""]
[null,null,null,{"$f":"IF(C3360=\"\",\"\",VLOOKUP(C3360,Tabla_Regional[],3,0))","v":""},null,{"$f":"IF(E3360<>\"\",VLOOKUP(CONCATENATE(C3360,E3360),Dato!$A$4:$I$218,7,0),\"\")","v":""},null,""]
[null,null,null,{"$f":"IF(C3361=\"\",\"\",VLOOKUP(C3361,Tabla_Regional[],3,0))","v":""},null,{"$f":"IF(E3361<>\"\",VLOOKUP(CONCATENATE(C3361,E3361),Dato!$A$4:$I$218,7,0),\"\")","v":""},null,""]
[null,null,null,{"$f":"IF(C3362=\"\",\"\",VLOOKUP(C3362,Tabla_Regional[],3,0))","v":""},null,{"$f":"IF(E3362<>\"\",VLOOKUP(CONCATENATE(C3362,E3362),Dato!$A$4:$I$218,7,0),\"\")","v":""},null,""]
[null,null,null,{"$f":"IF(C3363=\"\",\"\",VLOOKUP(C3363,Tabla_Regional[],3,0))","v":""},null,{"$f":"IF(E3363<>\"\",VLOOKUP(CONCATENATE(C3363,E3363),Dato!$A$4:$I$218,7,0),\"\")","v":""},null,""]
[null,null,null,{"$f":"IF(C3364=\"\",\"\",VLOOKUP(C3364,Tabla_Regional[],3,0))","v":""},null,{"$f":"IF(E3364<>\"\",VLOOKUP(CONCATENATE(C3364,E3364),Dato!$A$4:$I$218,7,0),\"\")","v":""},null,""]
[null,null,null,{"$f":"IF(C3365=\"\",\"\",VLOOKUP(C3365,Tabla_Regional[],3,0))","v":""},null,{"$f":"IF(E3365<>\"\",VLOOKUP(CONCATENATE(C3365,E3365),Dato!$A$4:$I$218,7,0),\"\")","v":""},null,""]
[null,null,null,{"$f":"IF(C3366=\"\",\"\",VLOOKUP(C3366,Tabla_Regional[],3,0))","v":""},null,{"$f":"IF(E3366<>\"\",VLOOKUP(CONCATENATE(C3366,E3366),Dato!$A$4:$I$218,7,0),\"\")","v":""},null,""]
[null,null,null,{"$f":"IF(C3367=\"\",\"\",VLOOKUP(C3367,Tabla_Regional[],3,0))","v":""},null,{"$f":"IF(E3367<>\"\",VLOOKUP(CONCATENATE(C3367,E3367),Dato!$A$4:$I$218,7,0),\"\")","v":""},null,""]
[null,null,null,{"$f":"IF(C3368=\"\",\"\",VLOOKUP(C3368,Tabla_Regional[],3,0))","v":""},null,{"$f":"IF(E3368<>\"\",VLOOKUP(CONCATENATE(C3368,E3368),Dato!$A$4:$I$218,7,0),\"\")","v":""},null,""]
[null,null,null,{"$f":"IF(C3369=\"\",\"\",VLOOKUP(C3369,Tabla_Regional[],3,0))","v":""},null,{"$f":"IF(E3369<>\"\",VLOOKUP(CONCATENATE(C3369,E3369),Dato!$A$4:$I$218,7,0),\"\")","v":""},null,""]
[null,null,null,{"$f":"IF(C3370=\"\",\"\",VLOOKUP(C3370,Tabla_Regional[],3,0))","v":""},null,{"$f":"IF(E3370<>\"\",VLOOKUP(CONCATENATE(C3370,E3370),Dato!$A$4:$I$218,7,0),\"\")","v":""},null,""]
[null,null,null,{"$f":"IF(C3371=\"\",\"\",VLOOKUP(C3371,Tabla_Regional[],3,0))","v":""},null,{"$f":"IF(E3371<>\"\",VLOOKUP(CONCATENATE(C3371,E3371),Dato!$A$4:$I$218,7,0),\"\")","v":""},null,""]
[null,null,null,{"$f":"IF(C3372=\"\",\"\",VLOOKUP(C3372,Tabla_Regional[],3,0))","v":""},null,{"$f":"IF(E3372<>\"\",VLOOKUP(CONCATENATE(C3372,E3372),Dato!$A$4:$I$218,7,0),\"\")","v":""},null,""]
[null,null,null,{"$f":"IF(C3373=\"\",\"\",VLOOKUP(C3373,Tabla_Regional[],3,0))","v":""},null,{"$f":"IF(E3373<>\"\",VLOOKUP(CONCATENATE(C3373,E3373),Dato!$A$4:$I$218,7,0),\"\")","v":""},null,""]
[null,null,null,{"$f":"IF(C3374=\"\",\"\",VLOOKUP(C3374,Tabla_Regional[],3,0))","v":""},null,{"$f":"IF(E3374<>\"\",VLOOKUP(CONCATENATE(C3374,E3374),Dato!$A$4:$I$218,7,0),\"\")","v":""},null,""]
[null,null,null,{"$f":"IF(C3375=\"\",\"\",VLOOKUP(C3375,Tabla_Regional[],3,0))","v":""},null,{"$f":"IF(E3375<>\"\",VLOOKUP(CONCATENATE(C3375,E3375),Dato!$A$4:$I$218,7,0),\"\")","v":""},null,""]
[null,null,null,{"$f":"IF(C3376=\"\",\"\",VLOOKUP(C3376,Tabla_Regional[],3,0))","v":""},null,{"$f":"IF(E3376<>\"\",VLOOKUP(CONCATENATE(C3376,E3376),Dato!$A$4:$I$218,7,0),\"\")","v":""},null,""]
[null,null,null,{"$f":"IF(C3377=\"\",\"\",VLOOKUP(C3377,Tabla_Regional[],3,0))","v":""},null,{"$f":"IF(E3377<>\"\",VLOOKUP(CONCATENATE(C3377,E3377),Dato!$A$4:$I$218,7,0),\"\")","v":""},null,""]
[null,null,null,{"$f":"IF(C3378=\"\",\"\",VLOOKUP(C3378,Tabla_Regional[],3,0))","v":""},null,{"$f":"IF(E3378<>\"\",VLOOKUP(CONCATENATE(C3378,E3378),Dato!$A$4:$I$218,7,0),\"\")","v":""},null,""]
[null,null,null,{"$f":"IF(C3379=\"\",\"\",VLOOKUP(C3379,Tabla_Regional[],3,0))","v":""},null,{"$f":"IF(E3379<>\"\",VLOOKUP(CONCATENATE(C3379,E3379),Dato!$A$4:$I$218,7,0),\"\")","v":""},null,""]
[null,null,null,{"$f":"IF(C3380=\"\",\"\",VLOOKUP(C3380,Tabla_Regional[],3,0))","v":""},null,{"$f":"IF(E3380<>\"\",VLOOKUP(CONCATENATE(C3380,E3380),Dato!$A$4:$I$218,7,0),\"\")","v":""},null,""]
[null,null,null,{"$f":"IF(C3381=\"\",\"\",VLOOKUP(C3381,Tabla_Regional[],3,0))","v":""},null,{"$f":"IF(E3381<>\"\",VLOOKUP(CONCATENATE(C3381,E3381),Dato!$A$4:$I$218,7,0),\"\")","v":""},null,""]
[null,null,null,{"$f":"IF(C3382=\"\",\"\",VLOOKUP(C3382,Tabla_Regional[],3,0))","v":""},null,{"$f":"IF(E3382<>\"\",VLOOKUP(CONCATENATE(C3382,E3382),Dato!$A$4:$I$218,7,0),\"\")","v":""},null,""]
[null,null,null,{"$f":"IF(C3383=\"\",\"\",VLOOKUP(C3383,Tabla_Regional[],3,0))","v":""},null,{"$f":"IF(E3383<>\"\",VLOOKUP(CONCATENATE(C3383,E3383),Dato!$A$4:$I$218,7,0),\"\")","v":""},null,""]
[null,null,null,{"$f":"IF(C3384=\"\",\"\",VLOOKUP(C3384,Tabla_Regional[],3,0))","v":""},null,{"$f":"IF(E3384<>\"\",VLOOKUP(CONCATENATE(C3384,E3384),Dato!$A$4:$I$218,7,0),\"\")","v":""},null,""]
[null,null,null,{"$f":"IF(C3385=\"\",\"\",VLOOKUP(C3385,Tabla_Regional[],3,0))","v":""},null,{"$f":"IF(E3385<>\"\",VLOOKUP(CONCATENATE(C3385,E3385),Dato!$A$4:$I$218,7,0),\"\")","v":""},null,""]
[null,null,null,{"$f":"IF(C3386=\"\",\"\",VLOOKUP(C3386,Tabla_Regional[],3,0))","v":""},null,{"$f":"IF(E3386<>\"\",VLOOKUP(CONCATENATE(C3386,E3386),Dato!$A$4:$I$218,7,0),\"\")","v":""},null,""]
[null,null,null,{"$f":"IF(C3387=\"\",\"\",VLOOKUP(C3387,Tabla_Regional[],3,0))","v":""},null,{"$f":"IF(E3387<>\"\",VLOOKUP(CONCATENATE(C3387,E3387),Dato!$A$4:$I$218,7,0),\"\")","v":""},null,""]
[null,null,null,{"$f":"IF(C3388=\"\",\"\",VLOOKUP(C3388,Tabla_Regional[],3,0))","v":""},null,{"$f":"IF(E3388<>\"\",VLOOKUP(CONCATENATE(C3388,E3388),Dato!$A$4:$I$218,7,0),\"\")","v":""},null,""]
[null,null,null,{"$f":"IF(C3389=\"\",\"\",VLOOKUP(C3389,Tabla_Regional[],3,0))","v":""},null,{"$f":"IF(E3389<>\"\",VLOOKUP(CONCATENATE(C3389,E3389),Dato!$A$4:$I$218,7,0),\"\")","v":""},null,""]
[null,null,null,{"$f":"IF(C3390=\"\",\"\",VLOOKUP(C3390,Tabla_Regional[],3,0))","v":""},null,{"$f":"IF(E3390<>\"\",VLOOKUP(CONCATENATE(C3390,E3390),Dato!$A$4:$I$218,7,0),\"\")","v":""},null,""]
[null,null,null,{"$f":"IF(C3391=\"\",\"\",VLOOKUP(C3391,Tabla_Regional[],3,0))","v":""},null,{"$f":"IF(E3391<>\"\",VLOOKUP(CONCATENATE(C3391,E3391),Dato!$A$4:$I$218,7,0),\"\")","v":""},null,""]
[null,null,null,{"$f":"IF(C3392=\"\",\"\",VLOOKUP(C3392,Tabla_Regional[],3,0))","v":""},null,{"$f":"IF(E3392<>\"\",VLOOKUP(CONCATENATE(C3392,E3392),Dato!$A$4:$I$218,7,0),\"\")","v":""},null,""]
[null,null,null,{"$f":"IF(C3393=\"\",\"\",VLOOKUP(C3393,Tabla_Regional[],3,0))","v":""},null,{"$f":"IF(E3393<>\"\",VLOOKUP(CONCATENATE(C3393,E3393),Dato!$A$4:$I$218,7,0),\"\")","v":""},null,""]
[null,null,null,{"$f":"IF(C3394=\"\",\"\",VLOOKUP(C3394,Tabla_Regional[],3,0))","v":""},null,{"$f":"IF(E3394<>\"\",VLOOKUP(CONCATENATE(C3394,E3394),Dato!$A$4:$I$218,7,0),\"\")","v":""},null,""]
[null,null,null,{"$f":"IF(C3395=\"\",\"\",VLOOKUP(C3395,Tabla_Regional[],3,0))","v":""},null,{"$f":"IF(E3395<>\"\",VLOOKUP(CONCATENATE(C3395,E3395),Dato!$A$4:$I$218,7,0),\"\")","v":""},null,""]
[null,null,null,{"$f":"IF(C3396=\"\",\"\",VLOOKUP(C3396,Tabla_Regional[],3,0))","v":""},null,{"$f":"IF(E3396<>\"\",VLOOKUP(CONCATENATE(C3396,E3396),Dato!$A$4:$I$218,7,0),\"\")","v":""},null,""]
[null,null,null,{"$f":"IF(C3397=\"\",\"\",VLOOKUP(C3397,Tabla_Regional[],3,0))","v":""},null,{"$f":"IF(E3397<>\"\",VLOOKUP(CONCATENATE(C3397,E3397),Dato!$A$4:$I$218,7,0),\"\")","v":""},null,""]
[null,null,null,{"$f":"IF(C3398=\"\",\"\",VLOOKUP(C3398,Tabla_Regional[],3,0))","v":""},null,{"$f":"IF(E3398<>\"\",VLOOKUP(CONCATENATE(C3398,E3398),Dato!$A$4:$I$218,7,0),\"\")","v":""},null,""]
[null,null,null,{"$f":"IF(C3399=\"\",\"\",VLOOKUP(C3399,Tabla_Regional[],3,0))","v":""},null,{"$f":"IF(E3399<>\"\",VLOOKUP(CONCATENATE(C3399,E3399),Dato!$A$4:$I$218,7,0),\"\")","v":""},null,""]
[null,null,null,{"$f":"IF(C3400=\"\",\"\",VLOOKUP(C3400,Tabla_Regional[],3,0))","v":""},null,{"$f":"IF(E3400<>\"\",VLOOKUP(CONCATENATE(C3400,E3400),Dato!$A$4:$I$218,7,0),\"\")","v":""},null,""]
[null,null,null,{"$f":"IF(C3401=\"\",\"\",VLOOKUP(C3401,Tabla_Regional[],3,0))","v":""},null,{"$f":"IF(E3401<>\"\",VLOOKUP(CONCATENATE(C3401,E3401),Dato!$A$4:$I$218,7,0),\"\")","v":""},null,""]
[null,null,null,{"$f":"IF(C3402=\"\",\"\",VLOOKUP(C3402,Tabla_Regional[],3,0))","v":""},null,{"$f":"IF(E3402<>\"\",VLOOKUP(CONCATENATE(C3402,E3402),Dato!$A$4:$I$218,7,0),\"\")","v":""},null,""]
[null,null,null,{"$f":"IF(C3403=\"\",\"\",VLOOKUP(C3403,Tabla_Regional[],3,0))","v":""},null,{"$f":"IF(E3403<>\"\",VLOOKUP(CONCATENATE(C3403,E3403),Dato!$A$4:$I$218,7,0),\"\")","v":""},null,""]
[null,null,null,{"$f":"IF(C3404=\"\",\"\",VLOOKUP(C3404,Tabla_Regional[],3,0))","v":""},null,{"$f":"IF(E3404<>\"\",VLOOKUP(CONCATENATE(C3404,E3404),Dato!$A$4:$I$218,7,0),\"\")","v":""},null,{"$f":"IF(G3404<>\"\",VLOOKUP(CONCATENATE(C3404,E3404,G3404),czmuni,7,0),\"\")","v":""}]
[null,null,null,{"$f":"IF(C3405=\"\",\"\",VLOOKUP(C3405,Tabla_Regional[],3,0))","v":""},null,{"$f":"IF(E3405<>\"\",VLOOKUP(CONCATENATE(C3405,E3405),Dato!$A$4:$I$218,7,0),\"\")","v":""},null,""]
[null,null,null,{"$f":"IF(C3406=\"\",\"\",VLOOKUP(C3406,Tabla_Regional[],3,0))","v":""},null,{"$f":"IF(E3406<>\"\",VLOOKUP(CONCATENATE(C3406,E3406),Dato!$A$4:$I$218,7,0),\"\")","v":""},null,""]
[null,null,null,{"$f":"IF(C3407=\"\",\"\",VLOOKUP(C3407,Tabla_Regional[],3,0))","v":""},null,{"$f":"IF(E3407<>\"\",VLOOKUP(CONCATENATE(C3407,E3407),Dato!$A$4:$I$218,7,0),\"\")","v":""},null,""]
[null,null,null,{"$f":"IF(C3408=\"\",\"\",VLOOKUP(C3408,Tabla_Regional[],3,0))","v":""},null,{"$f":"IF(E3408<>\"\",VLOOKUP(CONCATENATE(C3408,E3408),Dato!$A$4:$I$218,7,0),\"\")","v":""},null,""]
[null,null,null,{"$f":"IF(C3409=\"\",\"\",VLOOKUP(C3409,Tabla_Regional[],3,0))","v":""},null,{"$f":"IF(E3409<>\"\",VLOOKUP(CONCATENATE(C3409,E3409),Dato!$A$4:$I$218,7,0),\"\")","v":""},null,""]
[null,null,null,{"$f":"IF(C3410=\"\",\"\",VLOOKUP(C3410,Tabla_Regional[],3,0))","v":""},null,{"$f":"IF(E3410<>\"\",VLOOKUP(CONCATENATE(C3410,E3410),Dato!$A$4:$I$218,7,0),\"\")","v":""},null,""]
[null,null,null,{"$f":"IF(C3411=\"\",\"\",VLOOKUP(C3411,Tabla_Regional[],3,0))","v":""},null,{"$f":"IF(E3411<>\"\",VLOOKUP(CONCATENATE(C3411,E3411),Dato!$A$4:$I$218,7,0),\"\")","v":""},null,""]
[null,null,null,{"$f":"IF(C3412=\"\",\"\",VLOOKUP(C3412,Tabla_Regional[],3,0))","v":""},null,{"$f":"IF(E3412<>\"\",VLOOKUP(CONCATENATE(C3412,E3412),Dato!$A$4:$I$218,7,0),\"\")","v":""},null,""]
[null,null,null,{"$f":"IF(C3413=\"\",\"\",VLOOKUP(C3413,Tabla_Regional[],3,0))","v":""},null,{"$f":"IF(E3413<>\"\",VLOOKUP(CONCATENATE(C3413,E3413),Dato!$A$4:$I$218,7,0),\"\")","v":""},null,""]
[null,null,null,{"$f":"IF(C3414=\"\",\"\",VLOOKUP(C3414,Tabla_Regional[],3,0))","v":""},null,{"$f":"IF(E3414<>\"\",VLOOKUP(CONCATENATE(C3414,E3414),Dato!$A$4:$I$218,7,0),\"\")","v":""},null,""]
[null,null,null,{"$f":"IF(C3415=\"\",\"\",VLOOKUP(C3415,Tabla_Regional[],3,0))","v":""},null,{"$f":"IF(E3415<>\"\",VLOOKUP(CONCATENATE(C3415,E3415),Dato!$A$4:$I$218,7,0),\"\")","v":""},null,""]
[null,null,null,{"$f":"IF(C3416=\"\",\"\",VLOOKUP(C3416,Tabla_Regional[],3,0))","v":""},null,{"$f":"IF(E3416<>\"\",VLOOKUP(CONCATENATE(C3416,E3416),Dato!$A$4:$I$218,7,0),\"\")","v":""},null,""]
[null,null,null,{"$f":"IF(C3417=\"\",\"\",VLOOKUP(C3417,Tabla_Regional[],3,0))","v":""},null,{"$f":"IF(E3417<>\"\",VLOOKUP(CONCATENATE(C3417,E3417),Dato!$A$4:$I$218,7,0),\"\")","v":""},null,""]
[null,null,null,{"$f":"IF(C3418=\"\",\"\",VLOOKUP(C3418,Tabla_Regional[],3,0))","v":""},null,{"$f":"IF(E3418<>\"\",VLOOKUP(CONCATENATE(C3418,E3418),Dato!$A$4:$I$218,7,0),\"\")","v":""},null,""]
[null,null,null,{"$f":"IF(C3419=\"\",\"\",VLOOKUP(C3419,Tabla_Regional[],3,0))","v":""},null,{"$f":"IF(E3419<>\"\",VLOOKUP(CONCATENATE(C3419,E3419),Dato!$A$4:$I$218,7,0),\"\")","v":""},null,""]
[null,null,null,{"$f":"IF(C3420=\"\",\"\",VLOOKUP(C3420,Tabla_Regional[],3,0))","v":""},null,{"$f":"IF(E3420<>\"\",VLOOKUP(CONCATENATE(C3420,E3420),Dato!$A$4:$I$218,7,0),\"\")","v":""},null,""]
[null,null,null,{"$f":"IF(C3421=\"\",\"\",VLOOKUP(C3421,Tabla_Regional[],3,0))","v":""},null,{"$f":"IF(E3421<>\"\",VLOOKUP(CONCATENATE(C3421,E3421),Dato!$A$4:$I$218,7,0),\"\")","v":""},null,""]
[null,null,null,{"$f":"IF(C3422=\"\",\"\",VLOOKUP(C3422,Tabla_Regional[],3,0))","v":""},null,{"$f":"IF(E3422<>\"\",VLOOKUP(CONCATENATE(C3422,E3422),Dato!$A$4:$I$218,7,0),\"\")","v":""},null,""]
[null,null,null,{"$f":"IF(C3423=\"\",\"\",VLOOKUP(C3423,Tabla_Regional[],3,0))","v":""},null,{"$f":"IF(E3423<>\"\",VLOOKUP(CONCATENATE(C3423,E3423),Dato!$A$4:$I$218,7,0),\"\")","v":""},null,""]
[null,null,null,{"$f":"IF(C3424=\"\",\"\",VLOOKUP(C3424,Tabla_Regional[],3,0))","v":""},null,{"$f":"IF(E3424<>\"\",VLOOKUP(CONCATENATE(C3424,E3424),Dato!$A$4:$I$218,7,0),\"\")","v":""},null,""]
[null,null,null,{"$f":"IF(C3425=\"\",\"\",VLOOKUP(C3425,Tabla_Regional[],3,0))","v":""},null,{"$f":"IF(E3425<>\"\",VLOOKUP(CONCATENATE(C3425,E3425),Dato!$A$4:$I$218,7,0),\"\")","v":""},null,""]
[null,null,null,{"$f":"IF(C3426=\"\",\"\",VLOOKUP(C3426,Tabla_Regional[],3,0))","v":""},null,{"$f":"IF(E3426<>\"\",VLOOKUP(CONCATENATE(C3426,E3426),Dato!$A$4:$I$218,7,0),\"\")","v":""},null,""]
[null,null,null,{"$f":"IF(C3427=\"\",\"\",VLOOKUP(C3427,Tabla_Regional[],3,0))","v":""},null,{"$f":"IF(E3427<>\"\",VLOOKUP(CONCATENATE(C3427,E3427),Dato!$A$4:$I$218,7,0),\"\")","v":""},null,""]
[null,null,null,{"$f":"IF(C3428=\"\",\"\",VLOOKUP(C3428,Tabla_Regional[],3,0))","v":""},null,{"$f":"IF(E3428<>\"\",VLOOKUP(CONCATENATE(C3428,E3428),Dato!$A$4:$I$218,7,0),\"\")","v":""},null,""]
[null,null,null,{"$f":"IF(C3429=\"\",\"\",VLOOKUP(C3429,Tabla_Regional[],3,0))","v":""},null,{"$f":"IF(E3429<>\"\",VLOOKUP(CONCATENATE(C3429,E3429),Dato!$A$4:$I$218,7,0),\"\")","v":""},null,""]
[null,null,null,{"$f":"IF(C3430=\"\",\"\",VLOOKUP(C3430,Tabla_Regional[],3,0))","v":""},null,{"$f":"IF(E3430<>\"\",VLOOKUP(CONCATENATE(C3430,E3430),Dato!$A$4:$I$218,7,0),\"\")","v":""},null,""]
[null,null,null,{"$f":"IF(C3431=\"\",\"\",VLOOKUP(C3431,Tabla_Regional[],3,0))","v":""},null,{"$f":"IF(E3431<>\"\",VLOOKUP(CONCATENATE(C3431,E3431),Dato!$A$4:$I$218,7,0),\"\")","v":""},null,""]
[null,null,null,{"$f":"IF(C3432=\"\",\"\",VLOOKUP(C3432,Tabla_Regional[],3,0))","v":""},null,{"$f":"IF(E3432<>\"\",VLOOKUP(CONCATENATE(C3432,E3432),Dato!$A$4:$I$218,7,0),\"\")","v":""},null,""]
[null,null,null,{"$f":"IF(C3433=\"\",\"\",VLOOKUP(C3433,Tabla_Regional[],3,0))","v":""},null,{"$f":"IF(E3433<>\"\",VLOOKUP(CONCATENATE(C3433,E3433),Dato!$A$4:$I$218,7,0),\"\")","v":""},null,""]
[null,null,null,{"$f":"IF(C3434=\"\",\"\",VLOOKUP(C3434,Tabla_Regional[],3,0))","v":""},null,{"$f":"IF(E3434<>\"\",VLOOKUP(CONCATENATE(C3434,E3434),Dato!$A$4:$I$218,7,0),\"\")","v":""},null,""]
[null,null,null,{"$f":"IF(C3435=\"\",\"\",VLOOKUP(C3435,Tabla_Regional[],3,0))","v":""},null,{"$f":"IF(E3435<>\"\",VLOOKUP(CONCATENATE(C3435,E3435),Dato!$A$4:$I$218,7,0),\"\")","v":""},null,""]
[null,null,null,{"$f":"IF(C3436=\"\",\"\",VLOOKUP(C3436,Tabla_Regional[],3,0))","v":""},null,{"$f":"IF(E3436<>\"\",VLOOKUP(CONCATENATE(C3436,E3436),Dato!$A$4:$I$218,7,0),\"\")","v":""},null,""]
[null,null,null,{"$f":"IF(C3437=\"\",\"\",VLOOKUP(C3437,Tabla_Regional[],3,0))","v":""},null,{"$f":"IF(E3437<>\"\",VLOOKUP(CONCATENATE(C3437,E3437),Dato!$A$4:$I$218,7,0),\"\")","v":""},null,""]
[null,null,null,{"$f":"IF(C3438=\"\",\"\",VLOOKUP(C3438,Tabla_Regional[],3,0))","v":""},null,{"$f":"IF(E3438<>\"\",VLOOKUP(CONCATENATE(C3438,E3438),Dato!$A$4:$I$218,7,0),\"\")","v":""},null,""]
[null,null,null,{"$f":"IF(C3439=\"\",\"\",VLOOKUP(C3439,Tabla_Regional[],3,0))","v":""},null,{"$f":"IF(E3439<>\"\",VLOOKUP(CONCATENATE(C3439,E3439),Dato!$A$4:$I$218,7,0),\"\")","v":""},null,""]
[null,null,null,{"$f":"IF(C3440=\"\",\"\",VLOOKUP(C3440,Tabla_Regional[],3,0))","v":""},null,{"$f":"IF(E3440<>\"\",VLOOKUP(CONCATENATE(C3440,E3440),Dato!$A$4:$I$218,7,0),\"\")","v":""},null,""]
[null,null,null,{"$f":"IF(C3441=\"\",\"\",VLOOKUP(C3441,Tabla_Regional[],3,0))","v":""},null,{"$f":"IF(E3441<>\"\",VLOOKUP(CONCATENATE(C3441,E3441),Dato!$A$4:$I$218,7,0),\"\")","v":""},null,""]
[null,null,null,{"$f":"IF(C3442=\"\",\"\",VLOOKUP(C3442,Tabla_Regional[],3,0))","v":""},null,{"$f":"IF(E3442<>\"\",VLOOKUP(CONCATENATE(C3442,E3442),Dato!$A$4:$I$218,7,0),\"\")","v":""},null,""]
[null,null,null,{"$f":"IF(C3443=\"\",\"\",VLOOKUP(C3443,Tabla_Regional[],3,0))","v":""},null,{"$f":"IF(E3443<>\"\",VLOOKUP(CONCATENATE(C3443,E3443),Dato!$A$4:$I$218,7,0),\"\")","v":""},null,""]
[null,null,null,{"$f":"IF(C3444=\"\",\"\",VLOOKUP(C3444,Tabla_Regional[],3,0))","v":""},null,{"$f":"IF(E3444<>\"\",VLOOKUP(CONCATENATE(C3444,E3444),Dato!$A$4:$I$218,7,0),\"\")","v":""},null,""]
[null,null,null,{"$f":"IF(C3445=\"\",\"\",VLOOKUP(C3445,Tabla_Regional[],3,0))","v":""},null,{"$f":"IF(E3445<>\"\",VLOOKUP(CONCATENATE(C3445,E3445),Dato!$A$4:$I$218,7,0),\"\")","v":""},null,""]
[null,null,null,{"$f":"IF(C3446=\"\",\"\",VLOOKUP(C3446,Tabla_Regional[],3,0))","v":""},null,{"$f":"IF(E3446<>\"\",VLOOKUP(CONCATENATE(C3446,E3446),Dato!$A$4:$I$218,7,0),\"\")","v":""},null,""]
[null,null,null,{"$f":"IF(C3447=\"\",\"\",VLOOKUP(C3447,Tabla_Regional[],3,0))","v":""},null,{"$f":"IF(E3447<>\"\",VLOOKUP(CONCATENATE(C3447,E3447),Dato!$A$4:$I$218,7,0),\"\")","v":""},null,""]
[null,null,null,{"$f":"IF(C3448=\"\",\"\",VLOOKUP(C3448,Tabla_Regional[],3,0))","v":""},null,{"$f":"IF(E3448<>\"\",VLOOKUP(CONCATENATE(C3448,E3448),Dato!$A$4:$I$218,7,0),\"\")","v":""},null,""]
[null,null,null,{"$f":"IF(C3449=\"\",\"\",VLOOKUP(C3449,Tabla_Regional[],3,0))","v":""},null,{"$f":"IF(E3449<>\"\",VLOOKUP(CONCATENATE(C3449,E3449),Dato!$A$4:$I$218,7,0),\"\")","v":""},null,""]
[null,null,null,{"$f":"IF(C3450=\"\",\"\",VLOOKUP(C3450,Tabla_Regional[],3,0))","v":""},null,{"$f":"IF(E3450<>\"\",VLOOKUP(CONCATENATE(C3450,E3450),Dato!$A$4:$I$218,7,0),\"\")","v":""},null,""]
[null,null,null,{"$f":"IF(C3451=\"\",\"\",VLOOKUP(C3451,Tabla_Regional[],3,0))","v":""},null,{"$f":"IF(E3451<>\"\",VLOOKUP(CONCATENATE(C3451,E3451),Dato!$A$4:$I$218,7,0),\"\")","v":""},null,""]
[null,null,null,{"$f":"IF(C3452=\"\",\"\",VLOOKUP(C3452,Tabla_Regional[],3,0))","v":""},null,{"$f":"IF(E3452<>\"\",VLOOKUP(CONCATENATE(C3452,E3452),Dato!$A$4:$I$218,7,0),\"\")","v":""},null,""]
[null,null,null,{"$f":"IF(C3453=\"\",\"\",VLOOKUP(C3453,Tabla_Regional[],3,0))","v":""},null,{"$f":"IF(E3453<>\"\",VLOOKUP(CONCATENATE(C3453,E3453),Dato!$A$4:$I$218,7,0),\"\")","v":""},null,""]
[null,null,null,{"$f":"IF(C3454=\"\",\"\",VLOOKUP(C3454,Tabla_Regional[],3,0))","v":""},null,{"$f":"IF(E3454<>\"\",VLOOKUP(CONCATENATE(C3454,E3454),Dato!$A$4:$I$218,7,0),\"\")","v":""},null,""]
[null,null,null,{"$f":"IF(C3455=\"\",\"\",VLOOKUP(C3455,Tabla_Regional[],3,0))","v":""},null,{"$f":"IF(E3455<>\"\",VLOOKUP(CONCATENATE(C3455,E3455),Dato!$A$4:$I$218,7,0),\"\")","v":""},null,""]
[null,null,null,{"$f":"IF(C3456=\"\",\"\",VLOOKUP(C3456,Tabla_Regional[],3,0))","v":""},null,{"$f":"IF(E3456<>\"\",VLOOKUP(CONCATENATE(C3456,E3456),Dato!$A$4:$I$218,7,0),\"\")","v":""},null,""]
[null,null,null,{"$f":"IF(C3457=\"\",\"\",VLOOKUP(C3457,Tabla_Regional[],3,0))","v":""},null,{"$f":"IF(E3457<>\"\",VLOOKUP(CONCATENATE(C3457,E3457),Dato!$A$4:$I$218,7,0),\"\")","v":""},null,""]
[null,null,null,{"$f":"IF(C3458=\"\",\"\",VLOOKUP(C3458,Tabla_Regional[],3,0))","v":""},null,{"$f":"IF(E3458<>\"\",VLOOKUP(CONCATENATE(C3458,E3458),Dato!$A$4:$I$218,7,0),\"\")","v":""},null,""]
[null,null,null,{"$f":"IF(C3459=\"\",\"\",VLOOKUP(C3459,Tabla_Regional[],3,0))","v":""},null,{"$f":"IF(E3459<>\"\",VLOOKUP(CONCATENATE(C3459,E3459),Dato!$A$4:$I$218,7,0),\"\")","v":""},null,""]
[null,null,null,{"$f":"IF(C3460=\"\",\"\",VLOOKUP(C3460,Tabla_Regional[],3,0))","v":""},null,{"$f":"IF(E3460<>\"\",VLOOKUP(CONCATENATE(C3460,E3460),Dato!$A$4:$I$218,7,0),\"\")","v":""},null,""]
[null,null,null,{"$f":"IF(C3461=\"\",\"\",VLOOKUP(C3461,Tabla_Regional[],3,0))","v":""},null,{"$f":"IF(E3461<>\"\",VLOOKUP(CONCATENATE(C3461,E3461),Dato!$A$4:$I$218,7,0),\"\")","v":""},null,""]
[null,null,null,{"$f":"IF(C3462=\"\",\"\",VLOOKUP(C3462,Tabla_Regional[],3,0))","v":""},null,{"$f":"IF(E3462<>\"\",VLOOKUP(CONCATENATE(C3462,E3462),Dato!$A$4:$I$218,7,0),\"\")","v":""},null,""]
[null,null,null,{"$f":"IF(C3463=\"\",\"\",VLOOKUP(C3463,Tabla_Regional[],3,0))","v":""},null,{"$f":"IF(E3463<>\"\",VLOOKUP(CONCATENATE(C3463,E3463),Dato!$A$4:$I$218,7,0),\"\")","v":""},null,""]
[null,null,null,{"$f":"IF(C3464=\"\",\"\",VLOOKUP(C3464,Tabla_Regional[],3,0))","v":""},null,{"$f":"IF(E3464<>\"\",VLOOKUP(CONCATENATE(C3464,E3464),Dato!$A$4:$I$218,7,0),\"\")","v":""},null,""]
[null,null,null,{"$f":"IF(C3465=\"\",\"\",VLOOKUP(C3465,Tabla_Regional[],3,0))","v":""},null,{"$f":"IF(E3465<>\"\",VLOOKUP(CONCATENATE(C3465,E3465),Dato!$A$4:$I$218,7,0),\"\")","v":""},null,""]
[null,null,null,{"$f":"IF(C3466=\"\",\"\",VLOOKUP(C3466,Tabla_Regional[],3,0))","v":""},null,{"$f":"IF(E3466<>\"\",VLOOKUP(CONCATENATE(C3466,E3466),Dato!$A$4:$I$218,7,0),\"\")","v":""},null,""]
[null,null,null,{"$f":"IF(C3467=\"\",\"\",VLOOKUP(C3467,Tabla_Regional[],3,0))","v":""},null,{"$f":"IF(E3467<>\"\",VLOOKUP(CONCATENATE(C3467,E3467),Dato!$A$4:$I$218,7,0),\"\")","v":""},null,""]
[null,null,null,{"$f":"IF(C3468=\"\",\"\",VLOOKUP(C3468,Tabla_Regional[],3,0))","v":""},null,{"$f":"IF(E3468<>\"\",VLOOKUP(CONCATENATE(C3468,E3468),Dato!$A$4:$I$218,7,0),\"\")","v":""},null,{"$f":"IF(G3468<>\"\",VLOOKUP(CONCATENATE(C3468,E3468,G3468),czmuni,7,0),\"\")","v":""}]
[null,null,null,{"$f":"IF(C3469=\"\",\"\",VLOOKUP(C3469,Tabla_Regional[],3,0))","v":""},null,{"$f":"IF(E3469<>\"\",VLOOKUP(CONCATENATE(C3469,E3469),Dato!$A$4:$I$218,7,0),\"\")","v":""},null,""]
[null,null,null,{"$f":"IF(C3470=\"\",\"\",VLOOKUP(C3470,Tabla_Regional[],3,0))","v":""},null,{"$f":"IF(E3470<>\"\",VLOOKUP(CONCATENATE(C3470,E3470),Dato!$A$4:$I$218,7,0),\"\")","v":""},null,""]
[null,null,null,{"$f":"IF(C3471=\"\",\"\",VLOOKUP(C3471,Tabla_Regional[],3,0))","v":""},null,{"$f":"IF(E3471<>\"\",VLOOKUP(CONCATENATE(C3471,E3471),Dato!$A$4:$I$218,7,0),\"\")","v":""},null,""]
[null,null,null,{"$f":"IF(C3472=\"\",\"\",VLOOKUP(C3472,Tabla_Regional[],3,0))","v":""},null,{"$f":"IF(E3472<>\"\",VLOOKUP(CONCATENATE(C3472,E3472),Dato!$A$4:$I$218,7,0),\"\")","v":""},null,""]
[null,null,null,{"$f":"IF(C3473=\"\",\"\",VLOOKUP(C3473,Tabla_Regional[],3,0))","v":""},null,{"$f":"IF(E3473<>\"\",VLOOKUP(CONCATENATE(C3473,E3473),Dato!$A$4:$I$218,7,0),\"\")","v":""},null,""]
[null,null,null,{"$f":"IF(C3474=\"\",\"\",VLOOKUP(C3474,Tabla_Regional[],3,0))","v":""},null,{"$f":"IF(E3474<>\"\",VLOOKUP(CONCATENATE(C3474,E3474),Dato!$A$4:$I$218,7,0),\"\")","v":""},null,""]
[null,null,null,{"$f":"IF(C3475=\"\",\"\",VLOOKUP(C3475,Tabla_Regional[],3,0))","v":""},null,{"$f":"IF(E3475<>\"\",VLOOKUP(CONCATENATE(C3475,E3475),Dato!$A$4:$I$218,7,0),\"\")","v":""},null,""]
[null,null,null,{"$f":"IF(C3476=\"\",\"\",VLOOKUP(C3476,Tabla_Regional[],3,0))","v":""},null,{"$f":"IF(E3476<>\"\",VLOOKUP(CONCATENATE(C3476,E3476),Dato!$A$4:$I$218,7,0),\"\")","v":""},null,""]
[null,null,null,{"$f":"IF(C3477=\"\",\"\",VLOOKUP(C3477,Tabla_Regional[],3,0))","v":""},null,{"$f":"IF(E3477<>\"\",VLOOKUP(CONCATENATE(C3477,E3477),Dato!$A$4:$I$218,7,0),\"\")","v":""},null,""]
[null,null,null,{"$f":"IF(C3478=\"\",\"\",VLOOKUP(C3478,Tabla_Regional[],3,0))","v":""},null,{"$f":"IF(E3478<>\"\",VLOOKUP(CONCATENATE(C3478,E3478),Dato!$A$4:$I$218,7,0),\"\")","v":""},null,""]
[null,null,null,{"$f":"IF(C3479=\"\",\"\",VLOOKUP(C3479,Tabla_Regional[],3,0))","v":""},null,{"$f":"IF(E3479<>\"\",VLOOKUP(CONCATENATE(C3479,E3479),Dato!$A$4:$I$218,7,0),\"\")","v":""},null,""]
[null,null,null,{"$f":"IF(C3480=\"\",\"\",VLOOKUP(C3480,Tabla_Regional[],3,0))","v":""},null,{"$f":"IF(E3480<>\"\",VLOOKUP(CONCATENATE(C3480,E3480),Dato!$A$4:$I$218,7,0),\"\")","v":""},null,""]
[null,null,null,{"$f":"IF(C3481=\"\",\"\",VLOOKUP(C3481,Tabla_Regional[],3,0))","v":""},null,{"$f":"IF(E3481<>\"\",VLOOKUP(CONCATENATE(C3481,E3481),Dato!$A$4:$I$218,7,0),\"\")","v":""},null,""]
[null,null,null,{"$f":"IF(C3482=\"\",\"\",VLOOKUP(C3482,Tabla_Regional[],3,0))","v":""},null,{"$f":"IF(E3482<>\"\",VLOOKUP(CONCATENATE(C3482,E3482),Dato!$A$4:$I$218,7,0),\"\")","v":""},null,""]
[null,null,null,{"$f":"IF(C3483=\"\",\"\",VLOOKUP(C3483,Tabla_Regional[],3,0))","v":""},null,{"$f":"IF(E3483<>\"\",VLOOKUP(CONCATENATE(C3483,E3483),Dato!$A$4:$I$218,7,0),\"\")","v":""},null,""]
[null,null,null,{"$f":"IF(C3484=\"\",\"\",VLOOKUP(C3484,Tabla_Regional[],3,0))","v":""},null,{"$f":"IF(E3484<>\"\",VLOOKUP(CONCATENATE(C3484,E3484),Dato!$A$4:$I$218,7,0),\"\")","v":""},null,""]
[null,null,null,{"$f":"IF(C3485=\"\",\"\",VLOOKUP(C3485,Tabla_Regional[],3,0))","v":""},null,{"$f":"IF(E3485<>\"\",VLOOKUP(CONCATENATE(C3485,E3485),Dato!$A$4:$I$218,7,0),\"\")","v":""},null,""]
[null,null,null,{"$f":"IF(C3486=\"\",\"\",VLOOKUP(C3486,Tabla_Regional[],3,0))","v":""},null,{"$f":"IF(E3486<>\"\",VLOOKUP(CONCATENATE(C3486,E3486),Dato!$A$4:$I$218,7,0),\"\")","v":""},null,""]
[null,null,null,{"$f":"IF(C3487=\"\",\"\",VLOOKUP(C3487,Tabla_Regional[],3,0))","v":""},null,{"$f":"IF(E3487<>\"\",VLOOKUP(CONCATENATE(C3487,E3487),Dato!$A$4:$I$218,7,0),\"\")","v":""},null,""]
[null,null,null,{"$f":"IF(C3488=\"\",\"\",VLOOKUP(C3488,Tabla_Regional[],3,0))","v":""},null,{"$f":"IF(E3488<>\"\",VLOOKUP(CONCATENATE(C3488,E3488),Dato!$A$4:$I$218,7,0),\"\")","v":""},null,""]
[null,null,null,{"$f":"IF(C3489=\"\",\"\",VLOOKUP(C3489,Tabla_Regional[],3,0))","v":""},null,{"$f":"IF(E3489<>\"\",VLOOKUP(CONCATENATE(C3489,E3489),Dato!$A$4:$I$218,7,0),\"\")","v":""},null,""]
[null,null,null,{"$f":"IF(C3490=\"\",\"\",VLOOKUP(C3490,Tabla_Regional[],3,0))","v":""},null,{"$f":"IF(E3490<>\"\",VLOOKUP(CONCATENATE(C3490,E3490),Dato!$A$4:$I$218,7,0),\"\")","v":""},null,""]
[null,null,null,{"$f":"IF(C3491=\"\",\"\",VLOOKUP(C3491,Tabla_Regional[],3,0))","v":""},null,{"$f":"IF(E3491<>\"\",VLOOKUP(CONCATENATE(C3491,E3491),Dato!$A$4:$I$218,7,0),\"\")","v":""},null,""]
[null,null,null,{"$f":"IF(C3492=\"\",\"\",VLOOKUP(C3492,Tabla_Regional[],3,0))","v":""},null,{"$f":"IF(E3492<>\"\",VLOOKUP(CONCATENATE(C3492,E3492),Dato!$A$4:$I$218,7,0),\"\")","v":""},null,""]
[null,null,null,{"$f":"IF(C3493=\"\",\"\",VLOOKUP(C3493,Tabla_Regional[],3,0))","v":""},null,{"$f":"IF(E3493<>\"\",VLOOKUP(CONCATENATE(C3493,E3493),Dato!$A$4:$I$218,7,0),\"\")","v":""},null,""]
[null,null,null,{"$f":"IF(C3494=\"\",\"\",VLOOKUP(C3494,Tabla_Regional[],3,0))","v":""},null,{"$f":"IF(E3494<>\"\",VLOOKUP(CONCATENATE(C3494,E3494),Dato!$A$4:$I$218,7,0),\"\")","v":""},null,""]
[null,null,null,{"$f":"IF(C3495=\"\",\"\",VLOOKUP(C3495,Tabla_Regional[],3,0))","v":""},null,{"$f":"IF(E3495<>\"\",VLOOKUP(CONCATENATE(C3495,E3495),Dato!$A$4:$I$218,7,0),\"\")","v":""},null,""]
[null,null,null,{"$f":"IF(C3496=\"\",\"\",VLOOKUP(C3496,Tabla_Regional[],3,0))","v":""},null,{"$f":"IF(E3496<>\"\",VLOOKUP(CONCATENATE(C3496,E3496),Dato!$A$4:$I$218,7,0),\"\")","v":""},null,""]
[null,null,null,{"$f":"IF(C3497=\"\",\"\",VLOOKUP(C3497,Tabla_Regional[],3,0))","v":""},null,{"$f":"IF(E3497<>\"\",VLOOKUP(CONCATENATE(C3497,E3497),Dato!$A$4:$I$218,7,0),\"\")","v":""},null,""]
[null,null,null,{"$f":"IF(C3498=\"\",\"\",VLOOKUP(C3498,Tabla_Regional[],3,0))","v":""},null,{"$f":"IF(E3498<>\"\",VLOOKUP(CONCATENATE(C3498,E3498),Dato!$A$4:$I$218,7,0),\"\")","v":""},null,""]
[null,null,null,{"$f":"IF(C3499=\"\",\"\",VLOOKUP(C3499,Tabla_Regional[],3,0))","v":""},null,{"$f":"IF(E3499<>\"\",VLOOKUP(CONCATENATE(C3499,E3499),Dato!$A$4:$I$218,7,0),\"\")","v":""},null,""]
[null,null,null,{"$f":"IF(C3500=\"\",\"\",VLOOKUP(C3500,Tabla_Regional[],3,0))","v":""},null,{"$f":"IF(E3500<>\"\",VLOOKUP(CONCATENATE(C3500,E3500),Dato!$A$4:$I$218,7,0),\"\")","v":""},null,""]
[null,null,null,{"$f":"IF(C3501=\"\",\"\",VLOOKUP(C3501,Tabla_Regional[],3,0))","v":""},null,{"$f":"IF(E3501<>\"\",VLOOKUP(CONCATENATE(C3501,E3501),Dato!$A$4:$I$218,7,0),\"\")","v":""},null,""]
[null,null,null,{"$f":"IF(C3502=\"\",\"\",VLOOKUP(C3502,Tabla_Regional[],3,0))","v":""},null,{"$f":"IF(E3502<>\"\",VLOOKUP(CONCATENATE(C3502,E3502),Dato!$A$4:$I$218,7,0),\"\")","v":""},null,""]
[null,null,null,{"$f":"IF(C3503=\"\",\"\",VLOOKUP(C3503,Tabla_Regional[],3,0))","v":""},null,{"$f":"IF(E3503<>\"\",VLOOKUP(CONCATENATE(C3503,E3503),Dato!$A$4:$I$218,7,0),\"\")","v":""},null,""]
[null,null,null,{"$f":"IF(C3504=\"\",\"\",VLOOKUP(C3504,Tabla_Regional[],3,0))","v":""},null,{"$f":"IF(E3504<>\"\",VLOOKUP(CONCATENATE(C3504,E3504),Dato!$A$4:$I$218,7,0),\"\")","v":""},null,""]
[null,null,null,{"$f":"IF(C3505=\"\",\"\",VLOOKUP(C3505,Tabla_Regional[],3,0))","v":""},null,{"$f":"IF(E3505<>\"\",VLOOKUP(CONCATENATE(C3505,E3505),Dato!$A$4:$I$218,7,0),\"\")","v":""},null,""]
[null,null,null,{"$f":"IF(C3506=\"\",\"\",VLOOKUP(C3506,Tabla_Regional[],3,0))","v":""},null,{"$f":"IF(E3506<>\"\",VLOOKUP(CONCATENATE(C3506,E3506),Dato!$A$4:$I$218,7,0),\"\")","v":""},null,""]
[null,null,null,{"$f":"IF(C3507=\"\",\"\",VLOOKUP(C3507,Tabla_Regional[],3,0))","v":""},null,{"$f":"IF(E3507<>\"\",VLOOKUP(CONCATENATE(C3507,E3507),Dato!$A$4:$I$218,7,0),\"\")","v":""},null,""]
[null,null,null,{"$f":"IF(C3508=\"\",\"\",VLOOKUP(C3508,Tabla_Regional[],3,0))","v":""},null,{"$f":"IF(E3508<>\"\",VLOOKUP(CONCATENATE(C3508,E3508),Dato!$A$4:$I$218,7,0),\"\")","v":""},null,""]
[null,null,null,{"$f":"IF(C3509=\"\",\"\",VLOOKUP(C3509,Tabla_Regional[],3,0))","v":""},null,{"$f":"IF(E3509<>\"\",VLOOKUP(CONCATENATE(C3509,E3509),Dato!$A$4:$I$218,7,0),\"\")","v":""},null,""]
[null,null,null,{"$f":"IF(C3510=\"\",\"\",VLOOKUP(C3510,Tabla_Regional[],3,0))","v":""},null,{"$f":"IF(E3510<>\"\",VLOOKUP(CONCATENATE(C3510,E3510),Dato!$A$4:$I$218,7,0),\"\")","v":""},null,""]
[null,null,null,{"$f":"IF(C3511=\"\",\"\",VLOOKUP(C3511,Tabla_Regional[],3,0))","v":""},null,{"$f":"IF(E3511<>\"\",VLOOKUP(CONCATENATE(C3511,E3511),Dato!$A$4:$I$218,7,0),\"\")","v":""},null,""]
[null,null,null,{"$f":"IF(C3512=\"\",\"\",VLOOKUP(C3512,Tabla_Regional[],3,0))","v":""},null,{"$f":"IF(E3512<>\"\",VLOOKUP(CONCATENATE(C3512,E3512),Dato!$A$4:$I$218,7,0),\"\")","v":""},null,""]
[null,null,null,{"$f":"IF(C3513=\"\",\"\",VLOOKUP(C3513,Tabla_Regional[],3,0))","v":""},null,{"$f":"IF(E3513<>\"\",VLOOKUP(CONCATENATE(C3513,E3513),Dato!$A$4:$I$218,7,0),\"\")","v":""},null,""]
[null,null,null,{"$f":"IF(C3514=\"\",\"\",VLOOKUP(C3514,Tabla_Regional[],3,0))","v":""},null,{"$f":"IF(E3514<>\"\",VLOOKUP(CONCATENATE(C3514,E3514),Dato!$A$4:$I$218,7,0),\"\")","v":""},null,""]
[null,null,null,{"$f":"IF(C3515=\"\",\"\",VLOOKUP(C3515,Tabla_Regional[],3,0))","v":""},null,{"$f":"IF(E3515<>\"\",VLOOKUP(CONCATENATE(C3515,E3515),Dato!$A$4:$I$218,7,0),\"\")","v":""},null,""]
[null,null,null,{"$f":"IF(C3516=\"\",\"\",VLOOKUP(C3516,Tabla_Regional[],3,0))","v":""},null,{"$f":"IF(E3516<>\"\",VLOOKUP(CONCATENATE(C3516,E3516),Dato!$A$4:$I$218,7,0),\"\")","v":""},null,""]
[null,null,null,{"$f":"IF(C3517=\"\",\"\",VLOOKUP(C3517,Tabla_Regional[],3,0))","v":""},null,{"$f":"IF(E3517<>\"\",VLOOKUP(CONCATENATE(C3517,E3517),Dato!$A$4:$I$218,7,0),\"\")","v":""},null,""]
[null,null,null,{"$f":"IF(C3518=\"\",\"\",VLOOKUP(C3518,Tabla_Regional[],3,0))","v":""},null,{"$f":"IF(E3518<>\"\",VLOOKUP(CONCATENATE(C3518,E3518),Dato!$A$4:$I$218,7,0),\"\")","v":""},null,""]
[null,null,null,{"$f":"IF(C3519=\"\",\"\",VLOOKUP(C3519,Tabla_Regional[],3,0))","v":""},null,{"$f":"IF(E3519<>\"\",VLOOKUP(CONCATENATE(C3519,E3519),Dato!$A$4:$I$218,7,0),\"\")","v":""},null,""]
[null,null,null,{"$f":"IF(C3520=\"\",\"\",VLOOKUP(C3520,Tabla_Regional[],3,0))","v":""},null,{"$f":"IF(E3520<>\"\",VLOOKUP(CONCATENATE(C3520,E3520),Dato!$A$4:$I$218,7,0),\"\")","v":""},null,""]
[null,null,null,{"$f":"IF(C3521=\"\",\"\",VLOOKUP(C3521,Tabla_Regional[],3,0))","v":""},null,{"$f":"IF(E3521<>\"\",VLOOKUP(CONCATENATE(C3521,E3521),Dato!$A$4:$I$218,7,0),\"\")","v":""},null,""]
[null,null,null,{"$f":"IF(C3522=\"\",\"\",VLOOKUP(C3522,Tabla_Regional[],3,0))","v":""},null,{"$f":"IF(E3522<>\"\",VLOOKUP(CONCATENATE(C3522,E3522),Dato!$A$4:$I$218,7,0),\"\")","v":""},null,""]
[null,null,null,{"$f":"IF(C3523=\"\",\"\",VLOOKUP(C3523,Tabla_Regional[],3,0))","v":""},null,{"$f":"IF(E3523<>\"\",VLOOKUP(CONCATENATE(C3523,E3523),Dato!$A$4:$I$218,7,0),\"\")","v":""},null,""]
[null,null,null,{"$f":"IF(C3524=\"\",\"\",VLOOKUP(C3524,Tabla_Regional[],3,0))","v":""},null,{"$f":"IF(E3524<>\"\",VLOOKUP(CONCATENATE(C3524,E3524),Dato!$A$4:$I$218,7,0),\"\")","v":""},null,""]
[null,null,null,{"$f":"IF(C3525=\"\",\"\",VLOOKUP(C3525,Tabla_Regional[],3,0))","v":""},null,{"$f":"IF(E3525<>\"\",VLOOKUP(CONCATENATE(C3525,E3525),Dato!$A$4:$I$218,7,0),\"\")","v":""},null,""]
[null,null,null,{"$f":"IF(C3526=\"\",\"\",VLOOKUP(C3526,Tabla_Regional[],3,0))","v":""},null,{"$f":"IF(E3526<>\"\",VLOOKUP(CONCATENATE(C3526,E3526),Dato!$A$4:$I$218,7,0),\"\")","v":""},null,""]
[null,null,null,{"$f":"IF(C3527=\"\",\"\",VLOOKUP(C3527,Tabla_Regional[],3,0))","v":""},null,{"$f":"IF(E3527<>\"\",VLOOKUP(CONCATENATE(C3527,E3527),Dato!$A$4:$I$218,7,0),\"\")","v":""},null,""]
[null,null,null,{"$f":"IF(C3528=\"\",\"\",VLOOKUP(C3528,Tabla_Regional[],3,0))","v":""},null,{"$f":"IF(E3528<>\"\",VLOOKUP(CONCATENATE(C3528,E3528),Dato!$A$4:$I$218,7,0),\"\")","v":""},null,""]
[null,null,null,{"$f":"IF(C3529=\"\",\"\",VLOOKUP(C3529,Tabla_Regional[],3,0))","v":""},null,{"$f":"IF(E3529<>\"\",VLOOKUP(CONCATENATE(C3529,E3529),Dato!$A$4:$I$218,7,0),\"\")","v":""},null,""]
[null,null,null,{"$f":"IF(C3530=\"\",\"\",VLOOKUP(C3530,Tabla_Regional[],3,0))","v":""},null,{"$f":"IF(E3530<>\"\",VLOOKUP(CONCATENATE(C3530,E3530),Dato!$A$4:$I$218,7,0),\"\")","v":""},null,""]
[null,null,null,{"$f":"IF(C3531=\"\",\"\",VLOOKUP(C3531,Tabla_Regional[],3,0))","v":""},null,{"$f":"IF(E3531<>\"\",VLOOKUP(CONCATENATE(C3531,E3531),Dato!$A$4:$I$218,7,0),\"\")","v":""},null,""]
[null,null,null,{"$f":"IF(C3532=\"\",\"\",VLOOKUP(C3532,Tabla_Regional[],3,0))","v":""},null,{"$f":"IF(E3532<>\"\",VLOOKUP(CONCATENATE(C3532,E3532),Dato!$A$4:$I$218,7,0),\"\")","v":""},null,{"$f":"IF(G3532<>\"\",VLOOKUP(CONCATENATE(C3532,E3532,G3532),czmuni,7,0),\"\")","v":""}]
[null,null,null,{"$f":"IF(C3533=\"\",\"\",VLOOKUP(C3533,Tabla_Regional[],3,0))","v":""},null,{"$f":"IF(E3533<>\"\",VLOOKUP(CONCATENATE(C3533,E3533),Dato!$A$4:$I$218,7,0),\"\")","v":""},null,""]
[null,null,null,{"$f":"IF(C3534=\"\",\"\",VLOOKUP(C3534,Tabla_Regional[],3,0))","v":""},null,{"$f":"IF(E3534<>\"\",VLOOKUP(CONCATENATE(C3534,E3534),Dato!$A$4:$I$218,7,0),\"\")","v":""},null,""]
[null,null,null,{"$f":"IF(C3535=\"\",\"\",VLOOKUP(C3535,Tabla_Regional[],3,0))","v":""},null,{"$f":"IF(E3535<>\"\",VLOOKUP(CONCATENATE(C3535,E3535),Dato!$A$4:$I$218,7,0),\"\")","v":""},null,""]
[null,null,null,{"$f":"IF(C3536=\"\",\"\",VLOOKUP(C3536,Tabla_Regional[],3,0))","v":""},null,{"$f":"IF(E3536<>\"\",VLOOKUP(CONCATENATE(C3536,E3536),Dato!$A$4:$I$218,7,0),\"\")","v":""},null,""]
[null,null,null,{"$f":"IF(C3537=\"\",\"\",VLOOKUP(C3537,Tabla_Regional[],3,0))","v":""},null,{"$f":"IF(E3537<>\"\",VLOOKUP(CONCATENATE(C3537,E3537),Dato!$A$4:$I$218,7,0),\"\")","v":""},null,""]
[null,null,null,{"$f":"IF(C3538=\"\",\"\",VLOOKUP(C3538,Tabla_Regional[],3,0))","v":""},null,{"$f":"IF(E3538<>\"\",VLOOKUP(CONCATENATE(C3538,E3538),Dato!$A$4:$I$218,7,0),\"\")","v":""},null,""]
[null,null,null,{"$f":"IF(C3539=\"\",\"\",VLOOKUP(C3539,Tabla_Regional[],3,0))","v":""},null,{"$f":"IF(E3539<>\"\",VLOOKUP(CONCATENATE(C3539,E3539),Dato!$A$4:$I$218,7,0),\"\")","v":""},null,""]
[null,null,null,{"$f":"IF(C3540=\"\",\"\",VLOOKUP(C3540,Tabla_Regional[],3,0))","v":""},null,{"$f":"IF(E3540<>\"\",VLOOKUP(CONCATENATE(C3540,E3540),Dato!$A$4:$I$218,7,0),\"\")","v":""},null,""]
[null,null,null,{"$f":"IF(C3541=\"\",\"\",VLOOKUP(C3541,Tabla_Regional[],3,0))","v":""},null,{"$f":"IF(E3541<>\"\",VLOOKUP(CONCATENATE(C3541,E3541),Dato!$A$4:$I$218,7,0),\"\")","v":""},null,""]
[null,null,null,{"$f":"IF(C3542=\"\",\"\",VLOOKUP(C3542,Tabla_Regional[],3,0))","v":""},null,{"$f":"IF(E3542<>\"\",VLOOKUP(CONCATENATE(C3542,E3542),Dato!$A$4:$I$218,7,0),\"\")","v":""},null,""]
[null,null,null,{"$f":"IF(C3543=\"\",\"\",VLOOKUP(C3543,Tabla_Regional[],3,0))","v":""},null,{"$f":"IF(E3543<>\"\",VLOOKUP(CONCATENATE(C3543,E3543),Dato!$A$4:$I$218,7,0),\"\")","v":""},null,""]
[null,null,null,{"$f":"IF(C3544=\"\",\"\",VLOOKUP(C3544,Tabla_Regional[],3,0))","v":""},null,{"$f":"IF(E3544<>\"\",VLOOKUP(CONCATENATE(C3544,E3544),Dato!$A$4:$I$218,7,0),\"\")","v":""},null,""]
[null,null,null,{"$f":"IF(C3545=\"\",\"\",VLOOKUP(C3545,Tabla_Regional[],3,0))","v":""},null,{"$f":"IF(E3545<>\"\",VLOOKUP(CONCATENATE(C3545,E3545),Dato!$A$4:$I$218,7,0),\"\")","v":""},null,""]
[null,null,null,{"$f":"IF(C3546=\"\",\"\",VLOOKUP(C3546,Tabla_Regional[],3,0))","v":""},null,{"$f":"IF(E3546<>\"\",VLOOKUP(CONCATENATE(C3546,E3546),Dato!$A$4:$I$218,7,0),\"\")","v":""},null,""]
[null,null,null,{"$f":"IF(C3547=\"\",\"\",VLOOKUP(C3547,Tabla_Regional[],3,0))","v":""},null,{"$f":"IF(E3547<>\"\",VLOOKUP(CONCATENATE(C3547,E3547),Dato!$A$4:$I$218,7,0),\"\")","v":""},null,""]
[null,null,null,{"$f":"IF(C3548=\"\",\"\",VLOOKUP(C3548,Tabla_Regional[],3,0))","v":""},null,{"$f":"IF(E3548<>\"\",VLOOKUP(CONCATENATE(C3548,E3548),Dato!$A$4:$I$218,7,0),\"\")","v":""},null,""]
[null,null,null,{"$f":"IF(C3549=\"\",\"\",VLOOKUP(C3549,Tabla_Regional[],3,0))","v":""},null,{"$f":"IF(E3549<>\"\",VLOOKUP(CONCATENATE(C3549,E3549),Dato!$A$4:$I$218,7,0),\"\")","v":""},null,""]
[null,null,null,{"$f":"IF(C3550=\"\",\"\",VLOOKUP(C3550,Tabla_Regional[],3,0))","v":""},null,{"$f":"IF(E3550<>\"\",VLOOKUP(CONCATENATE(C3550,E3550),Dato!$A$4:$I$218,7,0),\"\")","v":""},null,""]
[null,null,null,{"$f":"IF(C3551=\"\",\"\",VLOOKUP(C3551,Tabla_Regional[],3,0))","v":""},null,{"$f":"IF(E3551<>\"\",VLOOKUP(CONCATENATE(C3551,E3551),Dato!$A$4:$I$218,7,0),\"\")","v":""},null,""]
[null,null,null,{"$f":"IF(C3552=\"\",\"\",VLOOKUP(C3552,Tabla_Regional[],3,0))","v":""},null,{"$f":"IF(E3552<>\"\",VLOOKUP(CONCATENATE(C3552,E3552),Dato!$A$4:$I$218,7,0),\"\")","v":""},null,""]
[null,null,null,{"$f":"IF(C3553=\"\",\"\",VLOOKUP(C3553,Tabla_Regional[],3,0))","v":""},null,{"$f":"IF(E3553<>\"\",VLOOKUP(CONCATENATE(C3553,E3553),Dato!$A$4:$I$218,7,0),\"\")","v":""},null,""]
[null,null,null,{"$f":"IF(C3554=\"\",\"\",VLOOKUP(C3554,Tabla_Regional[],3,0))","v":""},null,{"$f":"IF(E3554<>\"\",VLOOKUP(CONCATENATE(C3554,E3554),Dato!$A$4:$I$218,7,0),\"\")","v":""},null,""]
[null,null,null,{"$f":"IF(C3555=\"\",\"\",VLOOKUP(C3555,Tabla_Regional[],3,0))","v":""},null,{"$f":"IF(E3555<>\"\",VLOOKUP(CONCATENATE(C3555,E3555),Dato!$A$4:$I$218,7,0),\"\")","v":""},null,""]
[null,null,null,{"$f":"IF(C3556=\"\",\"\",VLOOKUP(C3556,Tabla_Regional[],3,0))","v":""},null,{"$f":"IF(E3556<>\"\",VLOOKUP(CONCATENATE(C3556,E3556),Dato!$A$4:$I$218,7,0),\"\")","v":""},null,""]
[null,null,null,{"$f":"IF(C3557=\"\",\"\",VLOOKUP(C3557,Tabla_Regional[],3,0))","v":""},null,{"$f":"IF(E3557<>\"\",VLOOKUP(CONCATENATE(C3557,E3557),Dato!$A$4:$I$218,7,0),\"\")","v":""},null,""]
[null,null,null,{"$f":"IF(C3558=\"\",\"\",VLOOKUP(C3558,Tabla_Regional[],3,0))","v":""},null,{"$f":"IF(E3558<>\"\",VLOOKUP(CONCATENATE(C3558,E3558),Dato!$A$4:$I$218,7,0),\"\")","v":""},null,""]
[null,null,null,{"$f":"IF(C3559=\"\",\"\",VLOOKUP(C3559,Tabla_Regional[],3,0))","v":""},null,{"$f":"IF(E3559<>\"\",VLOOKUP(CONCATENATE(C3559,E3559),Dato!$A$4:$I$218,7,0),\"\")","v":""},null,""]
[null,null,null,{"$f":"IF(C3560=\"\",\"\",VLOOKUP(C3560,Tabla_Regional[],3,0))","v":""},null,{"$f":"IF(E3560<>\"\",VLOOKUP(CONCATENATE(C3560,E3560),Dato!$A$4:$I$218,7,0),\"\")","v":""},null,""]
[null,null,null,{"$f":"IF(C3561=\"\",\"\",VLOOKUP(C3561,Tabla_Regional[],3,0))","v":""},null,{"$f":"IF(E3561<>\"\",VLOOKUP(CONCATENATE(C3561,E3561),Dato!$A$4:$I$218,7,0),\"\")","v":""},null,""]
[null,null,null,{"$f":"IF(C3562=\"\",\"\",VLOOKUP(C3562,Tabla_Regional[],3,0))","v":""},null,{"$f":"IF(E3562<>\"\",VLOOKUP(CONCATENATE(C3562,E3562),Dato!$A$4:$I$218,7,0),\"\")","v":""},null,""]
[null,null,null,{"$f":"IF(C3563=\"\",\"\",VLOOKUP(C3563,Tabla_Regional[],3,0))","v":""},null,{"$f":"IF(E3563<>\"\",VLOOKUP(CONCATENATE(C3563,E3563),Dato!$A$4:$I$218,7,0),\"\")","v":""},null,""]
[null,null,null,{"$f":"IF(C3564=\"\",\"\",VLOOKUP(C3564,Tabla_Regional[],3,0))","v":""},null,{"$f":"IF(E3564<>\"\",VLOOKUP(CONCATENATE(C3564,E3564),Dato!$A$4:$I$218,7,0),\"\")","v":""},null,""]
[null,null,null,{"$f":"IF(C3565=\"\",\"\",VLOOKUP(C3565,Tabla_Regional[],3,0))","v":""},null,{"$f":"IF(E3565<>\"\",VLOOKUP(CONCATENATE(C3565,E3565),Dato!$A$4:$I$218,7,0),\"\")","v":""},null,""]
[null,null,null,{"$f":"IF(C3566=\"\",\"\",VLOOKUP(C3566,Tabla_Regional[],3,0))","v":""},null,{"$f":"IF(E3566<>\"\",VLOOKUP(CONCATENATE(C3566,E3566),Dato!$A$4:$I$218,7,0),\"\")","v":""},null,""]
[null,null,null,{"$f":"IF(C3567=\"\",\"\",VLOOKUP(C3567,Tabla_Regional[],3,0))","v":""},null,{"$f":"IF(E3567<>\"\",VLOOKUP(CONCATENATE(C3567,E3567),Dato!$A$4:$I$218,7,0),\"\")","v":""},null,""]
[null,null,null,{"$f":"IF(C3568=\"\",\"\",VLOOKUP(C3568,Tabla_Regional[],3,0))","v":""},null,{"$f":"IF(E3568<>\"\",VLOOKUP(CONCATENATE(C3568,E3568),Dato!$A$4:$I$218,7,0),\"\")","v":""},null,""]
[null,null,null,{"$f":"IF(C3569=\"\",\"\",VLOOKUP(C3569,Tabla_Regional[],3,0))","v":""},null,{"$f":"IF(E3569<>\"\",VLOOKUP(CONCATENATE(C3569,E3569),Dato!$A$4:$I$218,7,0),\"\")","v":""},null,""]
[null,null,null,{"$f":"IF(C3570=\"\",\"\",VLOOKUP(C3570,Tabla_Regional[],3,0))","v":""},null,{"$f":"IF(E3570<>\"\",VLOOKUP(CONCATENATE(C3570,E3570),Dato!$A$4:$I$218,7,0),\"\")","v":""},null,""]
[null,null,null,{"$f":"IF(C3571=\"\",\"\",VLOOKUP(C3571,Tabla_Regional[],3,0))","v":""},null,{"$f":"IF(E3571<>\"\",VLOOKUP(CONCATENATE(C3571,E3571),Dato!$A$4:$I$218,7,0),\"\")","v":""},null,""]
[null,null,null,{"$f":"IF(C3572=\"\",\"\",VLOOKUP(C3572,Tabla_Regional[],3,0))","v":""},null,{"$f":"IF(E3572<>\"\",VLOOKUP(CONCATENATE(C3572,E3572),Dato!$A$4:$I$218,7,0),\"\")","v":""},null,""]
[null,null,null,{"$f":"IF(C3573=\"\",\"\",VLOOKUP(C3573,Tabla_Regional[],3,0))","v":""},null,{"$f":"IF(E3573<>\"\",VLOOKUP(CONCATENATE(C3573,E3573),Dato!$A$4:$I$218,7,0),\"\")","v":""},null,""]
[null,null,null,{"$f":"IF(C3574=\"\",\"\",VLOOKUP(C3574,Tabla_Regional[],3,0))","v":""},null,{"$f":"IF(E3574<>\"\",VLOOKUP(CONCATENATE(C3574,E3574),Dato!$A$4:$I$218,7,0),\"\")","v":""},null,""]
[null,null,null,{"$f":"IF(C3575=\"\",\"\",VLOOKUP(C3575,Tabla_Regional[],3,0))","v":""},null,{"$f":"IF(E3575<>\"\",VLOOKUP(CONCATENATE(C3575,E3575),Dato!$A$4:$I$218,7,0),\"\")","v":""},null,""]
[null,null,null,{"$f":"IF(C3576=\"\",\"\",VLOOKUP(C3576,Tabla_Regional[],3,0))","v":""},null,{"$f":"IF(E3576<>\"\",VLOOKUP(CONCATENATE(C3576,E3576),Dato!$A$4:$I$218,7,0),\"\")","v":""},null,""]
[null,null,null,{"$f":"IF(C3577=\"\",\"\",VLOOKUP(C3577,Tabla_Regional[],3,0))","v":""},null,{"$f":"IF(E3577<>\"\",VLOOKUP(CONCATENATE(C3577,E3577),Dato!$A$4:$I$218,7,0),\"\")","v":""},null,""]
[null,null,null,{"$f":"IF(C3578=\"\",\"\",VLOOKUP(C3578,Tabla_Regional[],3,0))","v":""},null,{"$f":"IF(E3578<>\"\",VLOOKUP(CONCATENATE(C3578,E3578),Dato!$A$4:$I$218,7,0),\"\")","v":""},null,""]
[null,null,null,{"$f":"IF(C3579=\"\",\"\",VLOOKUP(C3579,Tabla_Regional[],3,0))","v":""},null,{"$f":"IF(E3579<>\"\",VLOOKUP(CONCATENATE(C3579,E3579),Dato!$A$4:$I$218,7,0),\"\")","v":""},null,""]
[null,null,null,{"$f":"IF(C3580=\"\",\"\",VLOOKUP(C3580,Tabla_Regional[],3,0))","v":""},null,{"$f":"IF(E3580<>\"\",VLOOKUP(CONCATENATE(C3580,E3580),Dato!$A$4:$I$218,7,0),\"\")","v":""},null,""]
[null,null,null,{"$f":"IF(C3581=\"\",\"\",VLOOKUP(C3581,Tabla_Regional[],3,0))","v":""},null,{"$f":"IF(E3581<>\"\",VLOOKUP(CONCATENATE(C3581,E3581),Dato!$A$4:$I$218,7,0),\"\")","v":""},null,""]
[null,null,null,{"$f":"IF(C3582=\"\",\"\",VLOOKUP(C3582,Tabla_Regional[],3,0))","v":""},null,{"$f":"IF(E3582<>\"\",VLOOKUP(CONCATENATE(C3582,E3582),Dato!$A$4:$I$218,7,0),\"\")","v":""},null,""]
[null,null,null,{"$f":"IF(C3583=\"\",\"\",VLOOKUP(C3583,Tabla_Regional[],3,0))","v":""},null,{"$f":"IF(E3583<>\"\",VLOOKUP(CONCATENATE(C3583,E3583),Dato!$A$4:$I$218,7,0),\"\")","v":""},null,""]
[null,null,null,{"$f":"IF(C3584=\"\",\"\",VLOOKUP(C3584,Tabla_Regional[],3,0))","v":""},null,{"$f":"IF(E3584<>\"\",VLOOKUP(CONCATENATE(C3584,E3584),Dato!$A$4:$I$218,7,0),\"\")","v":""},null,""]
[null,null,null,{"$f":"IF(C3585=\"\",\"\",VLOOKUP(C3585,Tabla_Regional[],3,0))","v":""},null,{"$f":"IF(E3585<>\"\",VLOOKUP(CONCATENATE(C3585,E3585),Dato!$A$4:$I$218,7,0),\"\")","v":""},null,""]
[null,null,null,{"$f":"IF(C3586=\"\",\"\",VLOOKUP(C3586,Tabla_Regional[],3,0))","v":""},null,{"$f":"IF(E3586<>\"\",VLOOKUP(CONCATENATE(C3586,E3586),Dato!$A$4:$I$218,7,0),\"\")","v":""},null,""]
[null,null,null,{"$f":"IF(C3587=\"\",\"\",VLOOKUP(C3587,Tabla_Regional[],3,0))","v":""},null,{"$f":"IF(E3587<>\"\",VLOOKUP(CONCATENATE(C3587,E3587),Dato!$A$4:$I$218,7,0),\"\")","v":""},null,""]
[null,null,null,{"$f":"IF(C3588=\"\",\"\",VLOOKUP(C3588,Tabla_Regional[],3,0))","v":""},null,{"$f":"IF(E3588<>\"\",VLOOKUP(CONCATENATE(C3588,E3588),Dato!$A$4:$I$218,7,0),\"\")","v":""},null,""]
[null,null,null,{"$f":"IF(C3589=\"\",\"\",VLOOKUP(C3589,Tabla_Regional[],3,0))","v":""},null,{"$f":"IF(E3589<>\"\",VLOOKUP(CONCATENATE(C3589,E3589),Dato!$A$4:$I$218,7,0),\"\")","v":""},null,""]
[null,null,null,{"$f":"IF(C3590=\"\",\"\",VLOOKUP(C3590,Tabla_Regional[],3,0))","v":""},null,{"$f":"IF(E3590<>\"\",VLOOKUP(CONCATENATE(C3590,E3590),Dato!$A$4:$I$218,7,0),\"\")","v":""},null,""]
[null,null,null,{"$f":"IF(C3591=\"\",\"\",VLOOKUP(C3591,Tabla_Regional[],3,0))","v":""},null,{"$f":"IF(E3591<>\"\",VLOOKUP(CONCATENATE(C3591,E3591),Dato!$A$4:$I$218,7,0),\"\")","v":""},null,""]
[null,null,null,{"$f":"IF(C3592=\"\",\"\",VLOOKUP(C3592,Tabla_Regional[],3,0))","v":""},null,{"$f":"IF(E3592<>\"\",VLOOKUP(CONCATENATE(C3592,E3592),Dato!$A$4:$I$218,7,0),\"\")","v":""},null,""]
[null,null,null,{"$f":"IF(C3593=\"\",\"\",VLOOKUP(C3593,Tabla_Regional[],3,0))","v":""},null,{"$f":"IF(E3593<>\"\",VLOOKUP(CONCATENATE(C3593,E3593),Dato!$A$4:$I$218,7,0),\"\")","v":""},null,""]
[null,null,null,{"$f":"IF(C3594=\"\",\"\",VLOOKUP(C3594,Tabla_Regional[],3,0))","v":""},null,{"$f":"IF(E3594<>\"\",VLOOKUP(CONCATENATE(C3594,E3594),Dato!$A$4:$I$218,7,0),\"\")","v":""},null,""]
[null,null,null,{"$f":"IF(C3595=\"\",\"\",VLOOKUP(C3595,Tabla_Regional[],3,0))","v":""},null,{"$f":"IF(E3595<>\"\",VLOOKUP(CONCATENATE(C3595,E3595),Dato!$A$4:$I$218,7,0),\"\")","v":""},null,""]
[null,null,null,{"$f":"IF(C3596=\"\",\"\",VLOOKUP(C3596,Tabla_Regional[],3,0))","v":""},null,{"$f":"IF(E3596<>\"\",VLOOKUP(CONCATENATE(C3596,E3596),Dato!$A$4:$I$218,7,0),\"\")","v":""},null,{"$f":"IF(G3596<>\"\",VLOOKUP(CONCATENATE(C3596,E3596,G3596),czmuni,7,0),\"\")","v":""}]
[null,null,null,{"$f":"IF(C3597=\"\",\"\",VLOOKUP(C3597,Tabla_Regional[],3,0))","v":""},null,{"$f":"IF(E3597<>\"\",VLOOKUP(CONCATENATE(C3597,E3597),Dato!$A$4:$I$218,7,0),\"\")","v":""},null,""]
[null,null,null,{"$f":"IF(C3598=\"\",\"\",VLOOKUP(C3598,Tabla_Regional[],3,0))","v":""},null,{"$f":"IF(E3598<>\"\",VLOOKUP(CONCATENATE(C3598,E3598),Dato!$A$4:$I$218,7,0),\"\")","v":""},null,""]
[null,null,null,{"$f":"IF(C3599=\"\",\"\",VLOOKUP(C3599,Tabla_Regional[],3,0))","v":""},null,{"$f":"IF(E3599<>\"\",VLOOKUP(CONCATENATE(C3599,E3599),Dato!$A$4:$I$218,7,0),\"\")","v":""},null,""]
[null,null,null,{"$f":"IF(C3600=\"\",\"\",VLOOKUP(C3600,Tabla_Regional[],3,0))","v":""},null,{"$f":"IF(E3600<>\"\",VLOOKUP(CONCATENATE(C3600,E3600),Dato!$A$4:$I$218,7,0),\"\")","v":""},null,""]
[null,null,null,{"$f":"IF(C3601=\"\",\"\",VLOOKUP(C3601,Tabla_Regional[],3,0))","v":""},null,{"$f":"IF(E3601<>\"\",VLOOKUP(CONCATENATE(C3601,E3601),Dato!$A$4:$I$218,7,0),\"\")","v":""},null,""]
[null,null,null,{"$f":"IF(C3602=\"\",\"\",VLOOKUP(C3602,Tabla_Regional[],3,0))","v":""},null,{"$f":"IF(E3602<>\"\",VLOOKUP(CONCATENATE(C3602,E3602),Dato!$A$4:$I$218,7,0),\"\")","v":""},null,""]
[null,null,null,{"$f":"IF(C3603=\"\",\"\",VLOOKUP(C3603,Tabla_Regional[],3,0))","v":""},null,{"$f":"IF(E3603<>\"\",VLOOKUP(CONCATENATE(C3603,E3603),Dato!$A$4:$I$218,7,0),\"\")","v":""},null,""]
[null,null,null,{"$f":"IF(C3604=\"\",\"\",VLOOKUP(C3604,Tabla_Regional[],3,0))","v":""},null,{"$f":"IF(E3604<>\"\",VLOOKUP(CONCATENATE(C3604,E3604),Dato!$A$4:$I$218,7,0),\"\")","v":""},null,""]
[null,null,null,{"$f":"IF(C3605=\"\",\"\",VLOOKUP(C3605,Tabla_Regional[],3,0))","v":""},null,{"$f":"IF(E3605<>\"\",VLOOKUP(CONCATENATE(C3605,E3605),Dato!$A$4:$I$218,7,0),\"\")","v":""},null,""]
[null,null,null,{"$f":"IF(C3606=\"\",\"\",VLOOKUP(C3606,Tabla_Regional[],3,0))","v":""},null,{"$f":"IF(E3606<>\"\",VLOOKUP(CONCATENATE(C3606,E3606),Dato!$A$4:$I$218,7,0),\"\")","v":""},null,""]
[null,null,null,{"$f":"IF(C3607=\"\",\"\",VLOOKUP(C3607,Tabla_Regional[],3,0))","v":""},null,{"$f":"IF(E3607<>\"\",VLOOKUP(CONCATENATE(C3607,E3607),Dato!$A$4:$I$218,7,0),\"\")","v":""},null,""]
[null,null,null,{"$f":"IF(C3608=\"\",\"\",VLOOKUP(C3608,Tabla_Regional[],3,0))","v":""},null,{"$f":"IF(E3608<>\"\",VLOOKUP(CONCATENATE(C3608,E3608),Dato!$A$4:$I$218,7,0),\"\")","v":""},null,""]
[null,null,null,{"$f":"IF(C3609=\"\",\"\",VLOOKUP(C3609,Tabla_Regional[],3,0))","v":""},null,{"$f":"IF(E3609<>\"\",VLOOKUP(CONCATENATE(C3609,E3609),Dato!$A$4:$I$218,7,0),\"\")","v":""},null,""]
[null,null,null,{"$f":"IF(C3610=\"\",\"\",VLOOKUP(C3610,Tabla_Regional[],3,0))","v":""},null,{"$f":"IF(E3610<>\"\",VLOOKUP(CONCATENATE(C3610,E3610),Dato!$A$4:$I$218,7,0),\"\")","v":""},null,""]
[null,null,null,{"$f":"IF(C3611=\"\",\"\",VLOOKUP(C3611,Tabla_Regional[],3,0))","v":""},null,{"$f":"IF(E3611<>\"\",VLOOKUP(CONCATENATE(C3611,E3611),Dato!$A$4:$I$218,7,0),\"\")","v":""},null,""]
[null,null,null,{"$f":"IF(C3612=\"\",\"\",VLOOKUP(C3612,Tabla_Regional[],3,0))","v":""},null,{"$f":"IF(E3612<>\"\",VLOOKUP(CONCATENATE(C3612,E3612),Dato!$A$4:$I$218,7,0),\"\")","v":""},null,""]
[null,null,null,{"$f":"IF(C3613=\"\",\"\",VLOOKUP(C3613,Tabla_Regional[],3,0))","v":""},null,{"$f":"IF(E3613<>\"\",VLOOKUP(CONCATENATE(C3613,E3613),Dato!$A$4:$I$218,7,0),\"\")","v":""},null,""]
[null,null,null,{"$f":"IF(C3614=\"\",\"\",VLOOKUP(C3614,Tabla_Regional[],3,0))","v":""},null,{"$f":"IF(E3614<>\"\",VLOOKUP(CONCATENATE(C3614,E3614),Dato!$A$4:$I$218,7,0),\"\")","v":""},null,""]
[null,null,null,{"$f":"IF(C3615=\"\",\"\",VLOOKUP(C3615,Tabla_Regional[],3,0))","v":""},null,{"$f":"IF(E3615<>\"\",VLOOKUP(CONCATENATE(C3615,E3615),Dato!$A$4:$I$218,7,0),\"\")","v":""},null,""]
[null,null,null,{"$f":"IF(C3616=\"\",\"\",VLOOKUP(C3616,Tabla_Regional[],3,0))","v":""},null,{"$f":"IF(E3616<>\"\",VLOOKUP(CONCATENATE(C3616,E3616),Dato!$A$4:$I$218,7,0),\"\")","v":""},null,""]
[null,null,null,{"$f":"IF(C3617=\"\",\"\",VLOOKUP(C3617,Tabla_Regional[],3,0))","v":""},null,{"$f":"IF(E3617<>\"\",VLOOKUP(CONCATENATE(C3617,E3617),Dato!$A$4:$I$218,7,0),\"\")","v":""},null,""]
[null,null,null,{"$f":"IF(C3618=\"\",\"\",VLOOKUP(C3618,Tabla_Regional[],3,0))","v":""},null,{"$f":"IF(E3618<>\"\",VLOOKUP(CONCATENATE(C3618,E3618),Dato!$A$4:$I$218,7,0),\"\")","v":""},null,""]
[null,null,null,{"$f":"IF(C3619=\"\",\"\",VLOOKUP(C3619,Tabla_Regional[],3,0))","v":""},null,{"$f":"IF(E3619<>\"\",VLOOKUP(CONCATENATE(C3619,E3619),Dato!$A$4:$I$218,7,0),\"\")","v":""},null,""]
[null,null,null,{"$f":"IF(C3620=\"\",\"\",VLOOKUP(C3620,Tabla_Regional[],3,0))","v":""},null,{"$f":"IF(E3620<>\"\",VLOOKUP(CONCATENATE(C3620,E3620),Dato!$A$4:$I$218,7,0),\"\")","v":""},null,""]
[null,null,null,{"$f":"IF(C3621=\"\",\"\",VLOOKUP(C3621,Tabla_Regional[],3,0))","v":""},null,{"$f":"IF(E3621<>\"\",VLOOKUP(CONCATENATE(C3621,E3621),Dato!$A$4:$I$218,7,0),\"\")","v":""},null,""]
[null,null,null,{"$f":"IF(C3622=\"\",\"\",VLOOKUP(C3622,Tabla_Regional[],3,0))","v":""},null,{"$f":"IF(E3622<>\"\",VLOOKUP(CONCATENATE(C3622,E3622),Dato!$A$4:$I$218,7,0),\"\")","v":""},null,""]
[null,null,null,{"$f":"IF(C3623=\"\",\"\",VLOOKUP(C3623,Tabla_Regional[],3,0))","v":""},null,{"$f":"IF(E3623<>\"\",VLOOKUP(CONCATENATE(C3623,E3623),Dato!$A$4:$I$218,7,0),\"\")","v":""},null,""]
[null,null,null,{"$f":"IF(C3624=\"\",\"\",VLOOKUP(C3624,Tabla_Regional[],3,0))","v":""},null,{"$f":"IF(E3624<>\"\",VLOOKUP(CONCATENATE(C3624,E3624),Dato!$A$4:$I$218,7,0),\"\")","v":""},null,""]
[null,null,null,{"$f":"IF(C3625=\"\",\"\",VLOOKUP(C3625,Tabla_Regional[],3,0))","v":""},null,{"$f":"IF(E3625<>\"\",VLOOKUP(CONCATENATE(C3625,E3625),Dato!$A$4:$I$218,7,0),\"\")","v":""},null,""]
[null,null,null,{"$f":"IF(C3626=\"\",\"\",VLOOKUP(C3626,Tabla_Regional[],3,0))","v":""},null,{"$f":"IF(E3626<>\"\",VLOOKUP(CONCATENATE(C3626,E3626),Dato!$A$4:$I$218,7,0),\"\")","v":""},null,""]
[null,null,null,{"$f":"IF(C3627=\"\",\"\",VLOOKUP(C3627,Tabla_Regional[],3,0))","v":""},null,{"$f":"IF(E3627<>\"\",VLOOKUP(CONCATENATE(C3627,E3627),Dato!$A$4:$I$218,7,0),\"\")","v":""},null,""]
[null,null,null,{"$f":"IF(C3628=\"\",\"\",VLOOKUP(C3628,Tabla_Regional[],3,0))","v":""},null,{"$f":"IF(E3628<>\"\",VLOOKUP(CONCATENATE(C3628,E3628),Dato!$A$4:$I$218,7,0),\"\")","v":""},null,""]
[null,null,null,{"$f":"IF(C3629=\"\",\"\",VLOOKUP(C3629,Tabla_Regional[],3,0))","v":""},null,{"$f":"IF(E3629<>\"\",VLOOKUP(CONCATENATE(C3629,E3629),Dato!$A$4:$I$218,7,0),\"\")","v":""},null,""]
[null,null,null,{"$f":"IF(C3630=\"\",\"\",VLOOKUP(C3630,Tabla_Regional[],3,0))","v":""},null,{"$f":"IF(E3630<>\"\",VLOOKUP(CONCATENATE(C3630,E3630),Dato!$A$4:$I$218,7,0),\"\")","v":""},null,""]
[null,null,null,{"$f":"IF(C3631=\"\",\"\",VLOOKUP(C3631,Tabla_Regional[],3,0))","v":""},null,{"$f":"IF(E3631<>\"\",VLOOKUP(CONCATENATE(C3631,E3631),Dato!$A$4:$I$218,7,0),\"\")","v":""},null,""]
[null,null,null,{"$f":"IF(C3632=\"\",\"\",VLOOKUP(C3632,Tabla_Regional[],3,0))","v":""},null,{"$f":"IF(E3632<>\"\",VLOOKUP(CONCATENATE(C3632,E3632),Dato!$A$4:$I$218,7,0),\"\")","v":""},null,""]
[null,null,null,{"$f":"IF(C3633=\"\",\"\",VLOOKUP(C3633,Tabla_Regional[],3,0))","v":""},null,{"$f":"IF(E3633<>\"\",VLOOKUP(CONCATENATE(C3633,E3633),Dato!$A$4:$I$218,7,0),\"\")","v":""},null,""]
[null,null,null,{"$f":"IF(C3634=\"\",\"\",VLOOKUP(C3634,Tabla_Regional[],3,0))","v":""},null,{"$f":"IF(E3634<>\"\",VLOOKUP(CONCATENATE(C3634,E3634),Dato!$A$4:$I$218,7,0),\"\")","v":""},null,""]
[null,null,null,{"$f":"IF(C3635=\"\",\"\",VLOOKUP(C3635,Tabla_Regional[],3,0))","v":""},null,{"$f":"IF(E3635<>\"\",VLOOKUP(CONCATENATE(C3635,E3635),Dato!$A$4:$I$218,7,0),\"\")","v":""},null,""]
[null,null,null,{"$f":"IF(C3636=\"\",\"\",VLOOKUP(C3636,Tabla_Regional[],3,0))","v":""},null,{"$f":"IF(E3636<>\"\",VLOOKUP(CONCATENATE(C3636,E3636),Dato!$A$4:$I$218,7,0),\"\")","v":""},null,""]
[null,null,null,{"$f":"IF(C3637=\"\",\"\",VLOOKUP(C3637,Tabla_Regional[],3,0))","v":""},null,{"$f":"IF(E3637<>\"\",VLOOKUP(CONCATENATE(C3637,E3637),Dato!$A$4:$I$218,7,0),\"\")","v":""},null,""]
[null,null,null,{"$f":"IF(C3638=\"\",\"\",VLOOKUP(C3638,Tabla_Regional[],3,0))","v":""},null,{"$f":"IF(E3638<>\"\",VLOOKUP(CONCATENATE(C3638,E3638),Dato!$A$4:$I$218,7,0),\"\")","v":""},null,""]
[null,null,null,{"$f":"IF(C3639=\"\",\"\",VLOOKUP(C3639,Tabla_Regional[],3,0))","v":""},null,{"$f":"IF(E3639<>\"\",VLOOKUP(CONCATENATE(C3639,E3639),Dato!$A$4:$I$218,7,0),\"\")","v":""},null,""]
[null,null,null,{"$f":"IF(C3640=\"\",\"\",VLOOKUP(C3640,Tabla_Regional[],3,0))","v":""},null,{"$f":"IF(E3640<>\"\",VLOOKUP(CONCATENATE(C3640,E3640),Dato!$A$4:$I$218,7,0),\"\")","v":""},null,""]
[null,null,null,{"$f":"IF(C3641=\"\",\"\",VLOOKUP(C3641,Tabla_Regional[],3,0))","v":""},null,{"$f":"IF(E3641<>\"\",VLOOKUP(CONCATENATE(C3641,E3641),Dato!$A$4:$I$218,7,0),\"\")","v":""},null,""]
[null,null,null,{"$f":"IF(C3642=\"\",\"\",VLOOKUP(C3642,Tabla_Regional[],3,0))","v":""},null,{"$f":"IF(E3642<>\"\",VLOOKUP(CONCATENATE(C3642,E3642),Dato!$A$4:$I$218,7,0),\"\")","v":""},null,""]
[null,null,null,{"$f":"IF(C3643=\"\",\"\",VLOOKUP(C3643,Tabla_Regional[],3,0))","v":""},null,{"$f":"IF(E3643<>\"\",VLOOKUP(CONCATENATE(C3643,E3643),Dato!$A$4:$I$218,7,0),\"\")","v":""},null,""]
[null,null,null,{"$f":"IF(C3644=\"\",\"\",VLOOKUP(C3644,Tabla_Regional[],3,0))","v":""},null,{"$f":"IF(E3644<>\"\",VLOOKUP(CONCATENATE(C3644,E3644),Dato!$A$4:$I$218,7,0),\"\")","v":""},null,""]
[null,null,null,{"$f":"IF(C3645=\"\",\"\",VLOOKUP(C3645,Tabla_Regional[],3,0))","v":""},null,{"$f":"IF(E3645<>\"\",VLOOKUP(CONCATENATE(C3645,E3645),Dato!$A$4:$I$218,7,0),\"\")","v":""},null,""]
[null,null,null,{"$f":"IF(C3646=\"\",\"\",VLOOKUP(C3646,Tabla_Regional[],3,0))","v":""},null,{"$f":"IF(E3646<>\"\",VLOOKUP(CONCATENATE(C3646,E3646),Dato!$A$4:$I$218,7,0),\"\")","v":""},null,""]
[null,null,null,{"$f":"IF(C3647=\"\",\"\",VLOOKUP(C3647,Tabla_Regional[],3,0))","v":""},null,{"$f":"IF(E3647<>\"\",VLOOKUP(CONCATENATE(C3647,E3647),Dato!$A$4:$I$218,7,0),\"\")","v":""},null,""]
[null,null,null,{"$f":"IF(C3648=\"\",\"\",VLOOKUP(C3648,Tabla_Regional[],3,0))","v":""},null,{"$f":"IF(E3648<>\"\",VLOOKUP(CONCATENATE(C3648,E3648),Dato!$A$4:$I$218,7,0),\"\")","v":""},null,""]
[null,null,null,{"$f":"IF(C3649=\"\",\"\",VLOOKUP(C3649,Tabla_Regional[],3,0))","v":""},null,{"$f":"IF(E3649<>\"\",VLOOKUP(CONCATENATE(C3649,E3649),Dato!$A$4:$I$218,7,0),\"\")","v":""},null,""]
[null,null,null,{"$f":"IF(C3650=\"\",\"\",VLOOKUP(C3650,Tabla_Regional[],3,0))","v":""},null,{"$f":"IF(E3650<>\"\",VLOOKUP(CONCATENATE(C3650,E3650),Dato!$A$4:$I$218,7,0),\"\")","v":""},null,""]
[null,null,null,{"$f":"IF(C3651=\"\",\"\",VLOOKUP(C3651,Tabla_Regional[],3,0))","v":""},null,{"$f":"IF(E3651<>\"\",VLOOKUP(CONCATENATE(C3651,E3651),Dato!$A$4:$I$218,7,0),\"\")","v":""},null,""]
[null,null,null,{"$f":"IF(C3652=\"\",\"\",VLOOKUP(C3652,Tabla_Regional[],3,0))","v":""},null,{"$f":"IF(E3652<>\"\",VLOOKUP(CONCATENATE(C3652,E3652),Dato!$A$4:$I$218,7,0),\"\")","v":""},null,""]
[null,null,null,{"$f":"IF(C3653=\"\",\"\",VLOOKUP(C3653,Tabla_Regional[],3,0))","v":""},null,{"$f":"IF(E3653<>\"\",VLOOKUP(CONCATENATE(C3653,E3653),Dato!$A$4:$I$218,7,0),\"\")","v":""},null,""]
[null,null,null,{"$f":"IF(C3654=\"\",\"\",VLOOKUP(C3654,Tabla_Regional[],3,0))","v":""},null,{"$f":"IF(E3654<>\"\",VLOOKUP(CONCATENATE(C3654,E3654),Dato!$A$4:$I$218,7,0),\"\")","v":""},null,""]
[null,null,null,{"$f":"IF(C3655=\"\",\"\",VLOOKUP(C3655,Tabla_Regional[],3,0))","v":""},null,{"$f":"IF(E3655<>\"\",VLOOKUP(CONCATENATE(C3655,E3655),Dato!$A$4:$I$218,7,0),\"\")","v":""},null,""]
[null,null,null,{"$f":"IF(C3656=\"\",\"\",VLOOKUP(C3656,Tabla_Regional[],3,0))","v":""},null,{"$f":"IF(E3656<>\"\",VLOOKUP(CONCATENATE(C3656,E3656),Dato!$A$4:$I$218,7,0),\"\")","v":""},null,""]
[null,null,null,{"$f":"IF(C3657=\"\",\"\",VLOOKUP(C3657,Tabla_Regional[],3,0))","v":""},null,{"$f":"IF(E3657<>\"\",VLOOKUP(CONCATENATE(C3657,E3657),Dato!$A$4:$I$218,7,0),\"\")","v":""},null,""]
[null,null,null,{"$f":"IF(C3658=\"\",\"\",VLOOKUP(C3658,Tabla_Regional[],3,0))","v":""},null,{"$f":"IF(E3658<>\"\",VLOOKUP(CONCATENATE(C3658,E3658),Dato!$A$4:$I$218,7,0),\"\")","v":""},null,""]
[null,null,null,{"$f":"IF(C3659=\"\",\"\",VLOOKUP(C3659,Tabla_Regional[],3,0))","v":""},null,{"$f":"IF(E3659<>\"\",VLOOKUP(CONCATENATE(C3659,E3659),Dato!$A$4:$I$218,7,0),\"\")","v":""},null,""]
[null,null,null,{"$f":"IF(C3660=\"\",\"\",VLOOKUP(C3660,Tabla_Regional[],3,0))","v":""},null,{"$f":"IF(E3660<>\"\",VLOOKUP(CONCATENATE(C3660,E3660),Dato!$A$4:$I$218,7,0),\"\")","v":""},null,{"$f":"IF(G3660<>\"\",VLOOKUP(CONCATENATE(C3660,E3660,G3660),czmuni,7,0),\"\")","v":""}]
[null,null,null,{"$f":"IF(C3661=\"\",\"\",VLOOKUP(C3661,Tabla_Regional[],3,0))","v":""},null,{"$f":"IF(E3661<>\"\",VLOOKUP(CONCATENATE(C3661,E3661),Dato!$A$4:$I$218,7,0),\"\")","v":""},null,""]
[null,null,null,{"$f":"IF(C3662=\"\",\"\",VLOOKUP(C3662,Tabla_Regional[],3,0))","v":""},null,{"$f":"IF(E3662<>\"\",VLOOKUP(CONCATENATE(C3662,E3662),Dato!$A$4:$I$218,7,0),\"\")","v":""},null,""]
[null,null,null,{"$f":"IF(C3663=\"\",\"\",VLOOKUP(C3663,Tabla_Regional[],3,0))","v":""},null,{"$f":"IF(E3663<>\"\",VLOOKUP(CONCATENATE(C3663,E3663),Dato!$A$4:$I$218,7,0),\"\")","v":""},null,""]
[null,null,null,{"$f":"IF(C3664=\"\",\"\",VLOOKUP(C3664,Tabla_Regional[],3,0))","v":""},null,{"$f":"IF(E3664<>\"\",VLOOKUP(CONCATENATE(C3664,E3664),Dato!$A$4:$I$218,7,0),\"\")","v":""},null,""]
[null,null,null,{"$f":"IF(C3665=\"\",\"\",VLOOKUP(C3665,Tabla_Regional[],3,0))","v":""},null,{"$f":"IF(E3665<>\"\",VLOOKUP(CONCATENATE(C3665,E3665),Dato!$A$4:$I$218,7,0),\"\")","v":""},null,""]
[null,null,null,{"$f":"IF(C3666=\"\",\"\",VLOOKUP(C3666,Tabla_Regional[],3,0))","v":""},null,{"$f":"IF(E3666<>\"\",VLOOKUP(CONCATENATE(C3666,E3666),Dato!$A$4:$I$218,7,0),\"\")","v":""},null,""]
[null,null,null,{"$f":"IF(C3667=\"\",\"\",VLOOKUP(C3667,Tabla_Regional[],3,0))","v":""},null,{"$f":"IF(E3667<>\"\",VLOOKUP(CONCATENATE(C3667,E3667),Dato!$A$4:$I$218,7,0),\"\")","v":""},null,""]
[null,null,null,{"$f":"IF(C3668=\"\",\"\",VLOOKUP(C3668,Tabla_Regional[],3,0))","v":""},null,{"$f":"IF(E3668<>\"\",VLOOKUP(CONCATENATE(C3668,E3668),Dato!$A$4:$I$218,7,0),\"\")","v":""},null,""]
[null,null,null,{"$f":"IF(C3669=\"\",\"\",VLOOKUP(C3669,Tabla_Regional[],3,0))","v":""},null,{"$f":"IF(E3669<>\"\",VLOOKUP(CONCATENATE(C3669,E3669),Dato!$A$4:$I$218,7,0),\"\")","v":""},null,""]
[null,null,null,{"$f":"IF(C3670=\"\",\"\",VLOOKUP(C3670,Tabla_Regional[],3,0))","v":""},null,{"$f":"IF(E3670<>\"\",VLOOKUP(CONCATENATE(C3670,E3670),Dato!$A$4:$I$218,7,0),\"\")","v":""},null,""]
[null,null,null,{"$f":"IF(C3671=\"\",\"\",VLOOKUP(C3671,Tabla_Regional[],3,0))","v":""},null,{"$f":"IF(E3671<>\"\",VLOOKUP(CONCATENATE(C3671,E3671),Dato!$A$4:$I$218,7,0),\"\")","v":""},null,""]
[null,null,null,{"$f":"IF(C3672=\"\",\"\",VLOOKUP(C3672,Tabla_Regional[],3,0))","v":""},null,{"$f":"IF(E3672<>\"\",VLOOKUP(CONCATENATE(C3672,E3672),Dato!$A$4:$I$218,7,0),\"\")","v":""},null,""]
[null,null,null,{"$f":"IF(C3673=\"\",\"\",VLOOKUP(C3673,Tabla_Regional[],3,0))","v":""},null,{"$f":"IF(E3673<>\"\",VLOOKUP(CONCATENATE(C3673,E3673),Dato!$A$4:$I$218,7,0),\"\")","v":""},null,""]
[null,null,null,{"$f":"IF(C3674=\"\",\"\",VLOOKUP(C3674,Tabla_Regional[],3,0))","v":""},null,{"$f":"IF(E3674<>\"\",VLOOKUP(CONCATENATE(C3674,E3674),Dato!$A$4:$I$218,7,0),\"\")","v":""},null,""]
[null,null,null,{"$f":"IF(C3675=\"\",\"\",VLOOKUP(C3675,Tabla_Regional[],3,0))","v":""},null,{"$f":"IF(E3675<>\"\",VLOOKUP(CONCATENATE(C3675,E3675),Dato!$A$4:$I$218,7,0),\"\")","v":""},null,""]
[null,null,null,{"$f":"IF(C3676=\"\",\"\",VLOOKUP(C3676,Tabla_Regional[],3,0))","v":""},null,{"$f":"IF(E3676<>\"\",VLOOKUP(CONCATENATE(C3676,E3676),Dato!$A$4:$I$218,7,0),\"\")","v":""},null,""]
[null,null,null,{"$f":"IF(C3677=\"\",\"\",VLOOKUP(C3677,Tabla_Regional[],3,0))","v":""},null,{"$f":"IF(E3677<>\"\",VLOOKUP(CONCATENATE(C3677,E3677),Dato!$A$4:$I$218,7,0),\"\")","v":""},null,""]
[null,null,null,{"$f":"IF(C3678=\"\",\"\",VLOOKUP(C3678,Tabla_Regional[],3,0))","v":""},null,{"$f":"IF(E3678<>\"\",VLOOKUP(CONCATENATE(C3678,E3678),Dato!$A$4:$I$218,7,0),\"\")","v":""},null,""]
[null,null,null,{"$f":"IF(C3679=\"\",\"\",VLOOKUP(C3679,Tabla_Regional[],3,0))","v":""},null,{"$f":"IF(E3679<>\"\",VLOOKUP(CONCATENATE(C3679,E3679),Dato!$A$4:$I$218,7,0),\"\")","v":""},null,""]
[null,null,null,{"$f":"IF(C3680=\"\",\"\",VLOOKUP(C3680,Tabla_Regional[],3,0))","v":""},null,{"$f":"IF(E3680<>\"\",VLOOKUP(CONCATENATE(C3680,E3680),Dato!$A$4:$I$218,7,0),\"\")","v":""},null,""]
[null,null,null,{"$f":"IF(C3681=\"\",\"\",VLOOKUP(C3681,Tabla_Regional[],3,0))","v":""},null,{"$f":"IF(E3681<>\"\",VLOOKUP(CONCATENATE(C3681,E3681),Dato!$A$4:$I$218,7,0),\"\")","v":""},null,""]
[null,null,null,{"$f":"IF(C3682=\"\",\"\",VLOOKUP(C3682,Tabla_Regional[],3,0))","v":""},null,{"$f":"IF(E3682<>\"\",VLOOKUP(CONCATENATE(C3682,E3682),Dato!$A$4:$I$218,7,0),\"\")","v":""},null,""]
[null,null,null,{"$f":"IF(C3683=\"\",\"\",VLOOKUP(C3683,Tabla_Regional[],3,0))","v":""},null,{"$f":"IF(E3683<>\"\",VLOOKUP(CONCATENATE(C3683,E3683),Dato!$A$4:$I$218,7,0),\"\")","v":""},null,""]
[null,null,null,{"$f":"IF(C3684=\"\",\"\",VLOOKUP(C3684,Tabla_Regional[],3,0))","v":""},null,{"$f":"IF(E3684<>\"\",VLOOKUP(CONCATENATE(C3684,E3684),Dato!$A$4:$I$218,7,0),\"\")","v":""},null,""]
[null,null,null,{"$f":"IF(C3685=\"\",\"\",VLOOKUP(C3685,Tabla_Regional[],3,0))","v":""},null,{"$f":"IF(E3685<>\"\",VLOOKUP(CONCATENATE(C3685,E3685),Dato!$A$4:$I$218,7,0),\"\")","v":""},null,""]
[null,null,null,{"$f":"IF(C3686=\"\",\"\",VLOOKUP(C3686,Tabla_Regional[],3,0))","v":""},null,{"$f":"IF(E3686<>\"\",VLOOKUP(CONCATENATE(C3686,E3686),Dato!$A$4:$I$218,7,0),\"\")","v":""},null,""]
[null,null,null,{"$f":"IF(C3687=\"\",\"\",VLOOKUP(C3687,Tabla_Regional[],3,0))","v":""},null,{"$f":"IF(E3687<>\"\",VLOOKUP(CONCATENATE(C3687,E3687),Dato!$A$4:$I$218,7,0),\"\")","v":""},null,""]
[null,null,null,{"$f":"IF(C3688=\"\",\"\",VLOOKUP(C3688,Tabla_Regional[],3,0))","v":""},null,{"$f":"IF(E3688<>\"\",VLOOKUP(CONCATENATE(C3688,E3688),Dato!$A$4:$I$218,7,0),\"\")","v":""},null,""]
[null,null,null,{"$f":"IF(C3689=\"\",\"\",VLOOKUP(C3689,Tabla_Regional[],3,0))","v":""},null,{"$f":"IF(E3689<>\"\",VLOOKUP(CONCATENATE(C3689,E3689),Dato!$A$4:$I$218,7,0),\"\")","v":""},null,""]
[null,null,null,{"$f":"IF(C3690=\"\",\"\",VLOOKUP(C3690,Tabla_Regional[],3,0))","v":""},null,{"$f":"IF(E3690<>\"\",VLOOKUP(CONCATENATE(C3690,E3690),Dato!$A$4:$I$218,7,0),\"\")","v":""},null,""]
[null,null,null,{"$f":"IF(C3691=\"\",\"\",VLOOKUP(C3691,Tabla_Regional[],3,0))","v":""},null,{"$f":"IF(E3691<>\"\",VLOOKUP(CONCATENATE(C3691,E3691),Dato!$A$4:$I$218,7,0),\"\")","v":""},null,""]
[null,null,null,{"$f":"IF(C3692=\"\",\"\",VLOOKUP(C3692,Tabla_Regional[],3,0))","v":""},null,{"$f":"IF(E3692<>\"\",VLOOKUP(CONCATENATE(C3692,E3692),Dato!$A$4:$I$218,7,0),\"\")","v":""},null,""]
[null,null,null,{"$f":"IF(C3693=\"\",\"\",VLOOKUP(C3693,Tabla_Regional[],3,0))","v":""},null,{"$f":"IF(E3693<>\"\",VLOOKUP(CONCATENATE(C3693,E3693),Dato!$A$4:$I$218,7,0),\"\")","v":""},null,""]
[null,null,null,{"$f":"IF(C3694=\"\",\"\",VLOOKUP(C3694,Tabla_Regional[],3,0))","v":""},null,{"$f":"IF(E3694<>\"\",VLOOKUP(CONCATENATE(C3694,E3694),Dato!$A$4:$I$218,7,0),\"\")","v":""},null,""]
[null,null,null,{"$f":"IF(C3695=\"\",\"\",VLOOKUP(C3695,Tabla_Regional[],3,0))","v":""},null,{"$f":"IF(E3695<>\"\",VLOOKUP(CONCATENATE(C3695,E3695),Dato!$A$4:$I$218,7,0),\"\")","v":""},null,""]
[null,null,null,{"$f":"IF(C3696=\"\",\"\",VLOOKUP(C3696,Tabla_Regional[],3,0))","v":""},null,{"$f":"IF(E3696<>\"\",VLOOKUP(CONCATENATE(C3696,E3696),Dato!$A$4:$I$218,7,0),\"\")","v":""},null,""]
[null,null,null,{"$f":"IF(C3697=\"\",\"\",VLOOKUP(C3697,Tabla_Regional[],3,0))","v":""},null,{"$f":"IF(E3697<>\"\",VLOOKUP(CONCATENATE(C3697,E3697),Dato!$A$4:$I$218,7,0),\"\")","v":""},null,""]
[null,null,null,{"$f":"IF(C3698=\"\",\"\",VLOOKUP(C3698,Tabla_Regional[],3,0))","v":""},null,{"$f":"IF(E3698<>\"\",VLOOKUP(CONCATENATE(C3698,E3698),Dato!$A$4:$I$218,7,0),\"\")","v":""},null,""]
[null,null,null,{"$f":"IF(C3699=\"\",\"\",VLOOKUP(C3699,Tabla_Regional[],3,0))","v":""},null,{"$f":"IF(E3699<>\"\",VLOOKUP(CONCATENATE(C3699,E3699),Dato!$A$4:$I$218,7,0),\"\")","v":""},null,""]
[null,null,null,{"$f":"IF(C3700=\"\",\"\",VLOOKUP(C3700,Tabla_Regional[],3,0))","v":""},null,{"$f":"IF(E3700<>\"\",VLOOKUP(CONCATENATE(C3700,E3700),Dato!$A$4:$I$218,7,0),\"\")","v":""},null,""]
[null,null,null,{"$f":"IF(C3701=\"\",\"\",VLOOKUP(C3701,Tabla_Regional[],3,0))","v":""},null,{"$f":"IF(E3701<>\"\",VLOOKUP(CONCATENATE(C3701,E3701),Dato!$A$4:$I$218,7,0),\"\")","v":""},null,""]
[null,null,null,{"$f":"IF(C3702=\"\",\"\",VLOOKUP(C3702,Tabla_Regional[],3,0))","v":""},null,{"$f":"IF(E3702<>\"\",VLOOKUP(CONCATENATE(C3702,E3702),Dato!$A$4:$I$218,7,0),\"\")","v":""},null,""]
[null,null,null,{"$f":"IF(C3703=\"\",\"\",VLOOKUP(C3703,Tabla_Regional[],3,0))","v":""},null,{"$f":"IF(E3703<>\"\",VLOOKUP(CONCATENATE(C3703,E3703),Dato!$A$4:$I$218,7,0),\"\")","v":""},null,""]
[null,null,null,{"$f":"IF(C3704=\"\",\"\",VLOOKUP(C3704,Tabla_Regional[],3,0))","v":""},null,{"$f":"IF(E3704<>\"\",VLOOKUP(CONCATENATE(C3704,E3704),Dato!$A$4:$I$218,7,0),\"\")","v":""},null,""]
[null,null,null,{"$f":"IF(C3705=\"\",\"\",VLOOKUP(C3705,Tabla_Regional[],3,0))","v":""},null,{"$f":"IF(E3705<>\"\",VLOOKUP(CONCATENATE(C3705,E3705),Dato!$A$4:$I$218,7,0),\"\")","v":""},null,""]
[null,null,null,{"$f":"IF(C3706=\"\",\"\",VLOOKUP(C3706,Tabla_Regional[],3,0))","v":""},null,{"$f":"IF(E3706<>\"\",VLOOKUP(CONCATENATE(C3706,E3706),Dato!$A$4:$I$218,7,0),\"\")","v":""},null,""]
[null,null,null,{"$f":"IF(C3707=\"\",\"\",VLOOKUP(C3707,Tabla_Regional[],3,0))","v":""},null,{"$f":"IF(E3707<>\"\",VLOOKUP(CONCATENATE(C3707,E3707),Dato!$A$4:$I$218,7,0),\"\")","v":""},null,""]
[null,null,null,{"$f":"IF(C3708=\"\",\"\",VLOOKUP(C3708,Tabla_Regional[],3,0))","v":""},null,{"$f":"IF(E3708<>\"\",VLOOKUP(CONCATENATE(C3708,E3708),Dato!$A$4:$I$218,7,0),\"\")","v":""},null,""]
[null,null,null,{"$f":"IF(C3709=\"\",\"\",VLOOKUP(C3709,Tabla_Regional[],3,0))","v":""},null,{"$f":"IF(E3709<>\"\",VLOOKUP(CONCATENATE(C3709,E3709),Dato!$A$4:$I$218,7,0),\"\")","v":""},null,""]
[null,null,null,{"$f":"IF(C3710=\"\",\"\",VLOOKUP(C3710,Tabla_Regional[],3,0))","v":""},null,{"$f":"IF(E3710<>\"\",VLOOKUP(CONCATENATE(C3710,E3710),Dato!$A$4:$I$218,7,0),\"\")","v":""},null,""]
[null,null,null,{"$f":"IF(C3711=\"\",\"\",VLOOKUP(C3711,Tabla_Regional[],3,0))","v":""},null,{"$f":"IF(E3711<>\"\",VLOOKUP(CONCATENATE(C3711,E3711),Dato!$A$4:$I$218,7,0),\"\")","v":""},null,""]
[null,null,null,{"$f":"IF(C3712=\"\",\"\",VLOOKUP(C3712,Tabla_Regional[],3,0))","v":""},null,{"$f":"IF(E3712<>\"\",VLOOKUP(CONCATENATE(C3712,E3712),Dato!$A$4:$I$218,7,0),\"\")","v":""},null,""]
[null,null,null,{"$f":"IF(C3713=\"\",\"\",VLOOKUP(C3713,Tabla_Regional[],3,0))","v":""},null,{"$f":"IF(E3713<>\"\",VLOOKUP(CONCATENATE(C3713,E3713),Dato!$A$4:$I$218,7,0),\"\")","v":""},null,""]
[null,null,null,{"$f":"IF(C3714=\"\",\"\",VLOOKUP(C3714,Tabla_Regional[],3,0))","v":""},null,{"$f":"IF(E3714<>\"\",VLOOKUP(CONCATENATE(C3714,E3714),Dato!$A$4:$I$218,7,0),\"\")","v":""},null,""]
[null,null,null,{"$f":"IF(C3715=\"\",\"\",VLOOKUP(C3715,Tabla_Regional[],3,0))","v":""},null,{"$f":"IF(E3715<>\"\",VLOOKUP(CONCATENATE(C3715,E3715),Dato!$A$4:$I$218,7,0),\"\")","v":""},null,""]
[null,null,null,{"$f":"IF(C3716=\"\",\"\",VLOOKUP(C3716,Tabla_Regional[],3,0))","v":""},null,{"$f":"IF(E3716<>\"\",VLOOKUP(CONCATENATE(C3716,E3716),Dato!$A$4:$I$218,7,0),\"\")","v":""},null,""]
[null,null,null,{"$f":"IF(C3717=\"\",\"\",VLOOKUP(C3717,Tabla_Regional[],3,0))","v":""},null,{"$f":"IF(E3717<>\"\",VLOOKUP(CONCATENATE(C3717,E3717),Dato!$A$4:$I$218,7,0),\"\")","v":""},null,""]
[null,null,null,{"$f":"IF(C3718=\"\",\"\",VLOOKUP(C3718,Tabla_Regional[],3,0))","v":""},null,{"$f":"IF(E3718<>\"\",VLOOKUP(CONCATENATE(C3718,E3718),Dato!$A$4:$I$218,7,0),\"\")","v":""},null,""]
[null,null,null,{"$f":"IF(C3719=\"\",\"\",VLOOKUP(C3719,Tabla_Regional[],3,0))","v":""},null,{"$f":"IF(E3719<>\"\",VLOOKUP(CONCATENATE(C3719,E3719),Dato!$A$4:$I$218,7,0),\"\")","v":""},null,""]
[null,null,null,{"$f":"IF(C3720=\"\",\"\",VLOOKUP(C3720,Tabla_Regional[],3,0))","v":""},null,{"$f":"IF(E3720<>\"\",VLOOKUP(CONCATENATE(C3720,E3720),Dato!$A$4:$I$218,7,0),\"\")","v":""},null,""]
[null,null,null,{"$f":"IF(C3721=\"\",\"\",VLOOKUP(C3721,Tabla_Regional[],3,0))","v":""},null,{"$f":"IF(E3721<>\"\",VLOOKUP(CONCATENATE(C3721,E3721),Dato!$A$4:$I$218,7,0),\"\")","v":""},null,""]
[null,null,null,{"$f":"IF(C3722=\"\",\"\",VLOOKUP(C3722,Tabla_Regional[],3,0))","v":""},null,{"$f":"IF(E3722<>\"\",VLOOKUP(CONCATENATE(C3722,E3722),Dato!$A$4:$I$218,7,0),\"\")","v":""},null,""]
[null,null,null,{"$f":"IF(C3723=\"\",\"\",VLOOKUP(C3723,Tabla_Regional[],3,0))","v":""},null,{"$f":"IF(E3723<>\"\",VLOOKUP(CONCATENATE(C3723,E3723),Dato!$A$4:$I$218,7,0),\"\")","v":""},null,""]
[null,null,null,{"$f":"IF(C3724=\"\",\"\",VLOOKUP(C3724,Tabla_Regional[],3,0))","v":""},null,{"$f":"IF(E3724<>\"\",VLOOKUP(CONCATENATE(C3724,E3724),Dato!$A$4:$I$218,7,0),\"\")","v":""},null,{"$f":"IF(G3724<>\"\",VLOOKUP(CONCATENATE(C3724,E3724,G3724),czmuni,7,0),\"\")","v":""}]
[null,null,null,{"$f":"IF(C3725=\"\",\"\",VLOOKUP(C3725,Tabla_Regional[],3,0))","v":""},null,{"$f":"IF(E3725<>\"\",VLOOKUP(CONCATENATE(C3725,E3725),Dato!$A$4:$I$218,7,0),\"\")","v":""},null,""]
[null,null,null,{"$f":"IF(C3726=\"\",\"\",VLOOKUP(C3726,Tabla_Regional[],3,0))","v":""},null,{"$f":"IF(E3726<>\"\",VLOOKUP(CONCATENATE(C3726,E3726),Dato!$A$4:$I$218,7,0),\"\")","v":""},null,""]
[null,null,null,{"$f":"IF(C3727=\"\",\"\",VLOOKUP(C3727,Tabla_Regional[],3,0))","v":""},null,{"$f":"IF(E3727<>\"\",VLOOKUP(CONCATENATE(C3727,E3727),Dato!$A$4:$I$218,7,0),\"\")","v":""},null,""]
[null,null,null,{"$f":"IF(C3728=\"\",\"\",VLOOKUP(C3728,Tabla_Regional[],3,0))","v":""},null,{"$f":"IF(E3728<>\"\",VLOOKUP(CONCATENATE(C3728,E3728),Dato!$A$4:$I$218,7,0),\"\")","v":""},null,""]
[null,null,null,{"$f":"IF(C3729=\"\",\"\",VLOOKUP(C3729,Tabla_Regional[],3,0))","v":""},null,{"$f":"IF(E3729<>\"\",VLOOKUP(CONCATENATE(C3729,E3729),Dato!$A$4:$I$218,7,0),\"\")","v":""},null,""]
[null,null,null,{"$f":"IF(C3730=\"\",\"\",VLOOKUP(C3730,Tabla_Regional[],3,0))","v":""},null,{"$f":"IF(E3730<>\"\",VLOOKUP(CONCATENATE(C3730,E3730),Dato!$A$4:$I$218,7,0),\"\")","v":""},null,""]
[null,null,null,{"$f":"IF(C3731=\"\",\"\",VLOOKUP(C3731,Tabla_Regional[],3,0))","v":""},null,{"$f":"IF(E3731<>\"\",VLOOKUP(CONCATENATE(C3731,E3731),Dato!$A$4:$I$218,7,0),\"\")","v":""},null,""]
[null,null,null,{"$f":"IF(C3732=\"\",\"\",VLOOKUP(C3732,Tabla_Regional[],3,0))","v":""},null,{"$f":"IF(E3732<>\"\",VLOOKUP(CONCATENATE(C3732,E3732),Dato!$A$4:$I$218,7,0),\"\")","v":""},null,""]
[null,null,null,{"$f":"IF(C3733=\"\",\"\",VLOOKUP(C3733,Tabla_Regional[],3,0))","v":""},null,{"$f":"IF(E3733<>\"\",VLOOKUP(CONCATENATE(C3733,E3733),Dato!$A$4:$I$218,7,0),\"\")","v":""},null,""]
[null,null,null,{"$f":"IF(C3734=\"\",\"\",VLOOKUP(C3734,Tabla_Regional[],3,0))","v":""},null,{"$f":"IF(E3734<>\"\",VLOOKUP(CONCATENATE(C3734,E3734),Dato!$A$4:$I$218,7,0),\"\")","v":""},null,""]
[null,null,null,{"$f":"IF(C3735=\"\",\"\",VLOOKUP(C3735,Tabla_Regional[],3,0))","v":""},null,{"$f":"IF(E3735<>\"\",VLOOKUP(CONCATENATE(C3735,E3735),Dato!$A$4:$I$218,7,0),\"\")","v":""},null,""]
[null,null,null,{"$f":"IF(C3736=\"\",\"\",VLOOKUP(C3736,Tabla_Regional[],3,0))","v":""},null,{"$f":"IF(E3736<>\"\",VLOOKUP(CONCATENATE(C3736,E3736),Dato!$A$4:$I$218,7,0),\"\")","v":""},null,""]
[null,null,null,{"$f":"IF(C3737=\"\",\"\",VLOOKUP(C3737,Tabla_Regional[],3,0))","v":""},null,{"$f":"IF(E3737<>\"\",VLOOKUP(CONCATENATE(C3737,E3737),Dato!$A$4:$I$218,7,0),\"\")","v":""},null,""]
[null,null,null,{"$f":"IF(C3738=\"\",\"\",VLOOKUP(C3738,Tabla_Regional[],3,0))","v":""},null,{"$f":"IF(E3738<>\"\",VLOOKUP(CONCATENATE(C3738,E3738),Dato!$A$4:$I$218,7,0),\"\")","v":""},null,""]
[null,null,null,{"$f":"IF(C3739=\"\",\"\",VLOOKUP(C3739,Tabla_Regional[],3,0))","v":""},null,{"$f":"IF(E3739<>\"\",VLOOKUP(CONCATENATE(C3739,E3739),Dato!$A$4:$I$218,7,0),\"\")","v":""},null,""]
[null,null,null,{"$f":"IF(C3740=\"\",\"\",VLOOKUP(C3740,Tabla_Regional[],3,0))","v":""},null,{"$f":"IF(E3740<>\"\",VLOOKUP(CONCATENATE(C3740,E3740),Dato!$A$4:$I$218,7,0),\"\")","v":""},null,""]
[null,null,null,{"$f":"IF(C3741=\"\",\"\",VLOOKUP(C3741,Tabla_Regional[],3,0))","v":""},null,{"$f":"IF(E3741<>\"\",VLOOKUP(CONCATENATE(C3741,E3741),Dato!$A$4:$I$218,7,0),\"\")","v":""},null,""]
[null,null,null,{"$f":"IF(C3742=\"\",\"\",VLOOKUP(C3742,Tabla_Regional[],3,0))","v":""},null,{"$f":"IF(E3742<>\"\",VLOOKUP(CONCATENATE(C3742,E3742),Dato!$A$4:$I$218,7,0),\"\")","v":""},null,""]
[null,null,null,{"$f":"IF(C3743=\"\",\"\",VLOOKUP(C3743,Tabla_Regional[],3,0))","v":""},null,{"$f":"IF(E3743<>\"\",VLOOKUP(CONCATENATE(C3743,E3743),Dato!$A$4:$I$218,7,0),\"\")","v":""},null,""]
[null,null,null,{"$f":"IF(C3744=\"\",\"\",VLOOKUP(C3744,Tabla_Regional[],3,0))","v":""},null,{"$f":"IF(E3744<>\"\",VLOOKUP(CONCATENATE(C3744,E3744),Dato!$A$4:$I$218,7,0),\"\")","v":""},null,""]
[null,null,null,{"$f":"IF(C3745=\"\",\"\",VLOOKUP(C3745,Tabla_Regional[],3,0))","v":""},null,{"$f":"IF(E3745<>\"\",VLOOKUP(CONCATENATE(C3745,E3745),Dato!$A$4:$I$218,7,0),\"\")","v":""},null,""]
[null,null,null,{"$f":"IF(C3746=\"\",\"\",VLOOKUP(C3746,Tabla_Regional[],3,0))","v":""},null,{"$f":"IF(E3746<>\"\",VLOOKUP(CONCATENATE(C3746,E3746),Dato!$A$4:$I$218,7,0),\"\")","v":""},null,""]
[null,null,null,{"$f":"IF(C3747=\"\",\"\",VLOOKUP(C3747,Tabla_Regional[],3,0))","v":""},null,{"$f":"IF(E3747<>\"\",VLOOKUP(CONCATENATE(C3747,E3747),Dato!$A$4:$I$218,7,0),\"\")","v":""},null,""]
[null,null,null,{"$f":"IF(C3748=\"\",\"\",VLOOKUP(C3748,Tabla_Regional[],3,0))","v":""},null,{"$f":"IF(E3748<>\"\",VLOOKUP(CONCATENATE(C3748,E3748),Dato!$A$4:$I$218,7,0),\"\")","v":""},null,""]
[null,null,null,{"$f":"IF(C3749=\"\",\"\",VLOOKUP(C3749,Tabla_Regional[],3,0))","v":""},null,{"$f":"IF(E3749<>\"\",VLOOKUP(CONCATENATE(C3749,E3749),Dato!$A$4:$I$218,7,0),\"\")","v":""},null,""]
[null,null,null,{"$f":"IF(C3750=\"\",\"\",VLOOKUP(C3750,Tabla_Regional[],3,0))","v":""},null,{"$f":"IF(E3750<>\"\",VLOOKUP(CONCATENATE(C3750,E3750),Dato!$A$4:$I$218,7,0),\"\")","v":""},null,""]
[null,null,null,{"$f":"IF(C3751=\"\",\"\",VLOOKUP(C3751,Tabla_Regional[],3,0))","v":""},null,{"$f":"IF(E3751<>\"\",VLOOKUP(CONCATENATE(C3751,E3751),Dato!$A$4:$I$218,7,0),\"\")","v":""},null,""]
[null,null,null,{"$f":"IF(C3752=\"\",\"\",VLOOKUP(C3752,Tabla_Regional[],3,0))","v":""},null,{"$f":"IF(E3752<>\"\",VLOOKUP(CONCATENATE(C3752,E3752),Dato!$A$4:$I$218,7,0),\"\")","v":""},null,""]
[null,null,null,{"$f":"IF(C3753=\"\",\"\",VLOOKUP(C3753,Tabla_Regional[],3,0))","v":""},null,{"$f":"IF(E3753<>\"\",VLOOKUP(CONCATENATE(C3753,E3753),Dato!$A$4:$I$218,7,0),\"\")","v":""},null,""]
[null,null,null,{"$f":"IF(C3754=\"\",\"\",VLOOKUP(C3754,Tabla_Regional[],3,0))","v":""},null,{"$f":"IF(E3754<>\"\",VLOOKUP(CONCATENATE(C3754,E3754),Dato!$A$4:$I$218,7,0),\"\")","v":""},null,""]
[null,null,null,{"$f":"IF(C3755=\"\",\"\",VLOOKUP(C3755,Tabla_Regional[],3,0))","v":""},null,{"$f":"IF(E3755<>\"\",VLOOKUP(CONCATENATE(C3755,E3755),Dato!$A$4:$I$218,7,0),\"\")","v":""},null,""]
[null,null,null,{"$f":"IF(C3756=\"\",\"\",VLOOKUP(C3756,Tabla_Regional[],3,0))","v":""},null,{"$f":"IF(E3756<>\"\",VLOOKUP(CONCATENATE(C3756,E3756),Dato!$A$4:$I$218,7,0),\"\")","v":""},null,""]
[null,null,null,{"$f":"IF(C3757=\"\",\"\",VLOOKUP(C3757,Tabla_Regional[],3,0))","v":""},null,{"$f":"IF(E3757<>\"\",VLOOKUP(CONCATENATE(C3757,E3757),Dato!$A$4:$I$218,7,0),\"\")","v":""},null,""]
[null,null,null,{"$f":"IF(C3758=\"\",\"\",VLOOKUP(C3758,Tabla_Regional[],3,0))","v":""},null,{"$f":"IF(E3758<>\"\",VLOOKUP(CONCATENATE(C3758,E3758),Dato!$A$4:$I$218,7,0),\"\")","v":""},null,""]
[null,null,null,{"$f":"IF(C3759=\"\",\"\",VLOOKUP(C3759,Tabla_Regional[],3,0))","v":""},null,{"$f":"IF(E3759<>\"\",VLOOKUP(CONCATENATE(C3759,E3759),Dato!$A$4:$I$218,7,0),\"\")","v":""},null,""]
[null,null,null,{"$f":"IF(C3760=\"\",\"\",VLOOKUP(C3760,Tabla_Regional[],3,0))","v":""},null,{"$f":"IF(E3760<>\"\",VLOOKUP(CONCATENATE(C3760,E3760),Dato!$A$4:$I$218,7,0),\"\")","v":""},null,""]
[null,null,null,{"$f":"IF(C3761=\"\",\"\",VLOOKUP(C3761,Tabla_Regional[],3,0))","v":""},null,{"$f":"IF(E3761<>\"\",VLOOKUP(CONCATENATE(C3761,E3761),Dato!$A$4:$I$218,7,0),\"\")","v":""},null,""]
[null,null,null,{"$f":"IF(C3762=\"\",\"\",VLOOKUP(C3762,Tabla_Regional[],3,0))","v":""},null,{"$f":"IF(E3762<>\"\",VLOOKUP(CONCATENATE(C3762,E3762),Dato!$A$4:$I$218,7,0),\"\")","v":""},null,""]
[null,null,null,{"$f":"IF(C3763=\"\",\"\",VLOOKUP(C3763,Tabla_Regional[],3,0))","v":""},null,{"$f":"IF(E3763<>\"\",VLOOKUP(CONCATENATE(C3763,E3763),Dato!$A$4:$I$218,7,0),\"\")","v":""},null,""]
[null,null,null,{"$f":"IF(C3764=\"\",\"\",VLOOKUP(C3764,Tabla_Regional[],3,0))","v":""},null,{"$f":"IF(E3764<>\"\",VLOOKUP(CONCATENATE(C3764,E3764),Dato!$A$4:$I$218,7,0),\"\")","v":""},null,""]
[null,null,null,{"$f":"IF(C3765=\"\",\"\",VLOOKUP(C3765,Tabla_Regional[],3,0))","v":""},null,{"$f":"IF(E3765<>\"\",VLOOKUP(CONCATENATE(C3765,E3765),Dato!$A$4:$I$218,7,0),\"\")","v":""},null,""]
[null,null,null,{"$f":"IF(C3766=\"\",\"\",VLOOKUP(C3766,Tabla_Regional[],3,0))","v":""},null,{"$f":"IF(E3766<>\"\",VLOOKUP(CONCATENATE(C3766,E3766),Dato!$A$4:$I$218,7,0),\"\")","v":""},null,""]
[null,null,null,{"$f":"IF(C3767=\"\",\"\",VLOOKUP(C3767,Tabla_Regional[],3,0))","v":""},null,{"$f":"IF(E3767<>\"\",VLOOKUP(CONCATENATE(C3767,E3767),Dato!$A$4:$I$218,7,0),\"\")","v":""},null,""]
[null,null,null,{"$f":"IF(C3768=\"\",\"\",VLOOKUP(C3768,Tabla_Regional[],3,0))","v":""},null,{"$f":"IF(E3768<>\"\",VLOOKUP(CONCATENATE(C3768,E3768),Dato!$A$4:$I$218,7,0),\"\")","v":""},null,""]
[null,null,null,{"$f":"IF(C3769=\"\",\"\",VLOOKUP(C3769,Tabla_Regional[],3,0))","v":""},null,{"$f":"IF(E3769<>\"\",VLOOKUP(CONCATENATE(C3769,E3769),Dato!$A$4:$I$218,7,0),\"\")","v":""},null,""]
[null,null,null,{"$f":"IF(C3770=\"\",\"\",VLOOKUP(C3770,Tabla_Regional[],3,0))","v":""},null,{"$f":"IF(E3770<>\"\",VLOOKUP(CONCATENATE(C3770,E3770),Dato!$A$4:$I$218,7,0),\"\")","v":""},null,""]
[null,null,null,{"$f":"IF(C3771=\"\",\"\",VLOOKUP(C3771,Tabla_Regional[],3,0))","v":""},null,{"$f":"IF(E3771<>\"\",VLOOKUP(CONCATENATE(C3771,E3771),Dato!$A$4:$I$218,7,0),\"\")","v":""},null,""]
[null,null,null,{"$f":"IF(C3772=\"\",\"\",VLOOKUP(C3772,Tabla_Regional[],3,0))","v":""},null,{"$f":"IF(E3772<>\"\",VLOOKUP(CONCATENATE(C3772,E3772),Dato!$A$4:$I$218,7,0),\"\")","v":""},null,""]
[null,null,null,{"$f":"IF(C3773=\"\",\"\",VLOOKUP(C3773,Tabla_Regional[],3,0))","v":""},null,{"$f":"IF(E3773<>\"\",VLOOKUP(CONCATENATE(C3773,E3773),Dato!$A$4:$I$218,7,0),\"\")","v":""},null,""]
[null,null,null,{"$f":"IF(C3774=\"\",\"\",VLOOKUP(C3774,Tabla_Regional[],3,0))","v":""},null,{"$f":"IF(E3774<>\"\",VLOOKUP(CONCATENATE(C3774,E3774),Dato!$A$4:$I$218,7,0),\"\")","v":""},null,""]
[null,null,null,{"$f":"IF(C3775=\"\",\"\",VLOOKUP(C3775,Tabla_Regional[],3,0))","v":""},null,{"$f":"IF(E3775<>\"\",VLOOKUP(CONCATENATE(C3775,E3775),Dato!$A$4:$I$218,7,0),\"\")","v":""},null,""]
[null,null,null,{"$f":"IF(C3776=\"\",\"\",VLOOKUP(C3776,Tabla_Regional[],3,0))","v":""},null,{"$f":"IF(E3776<>\"\",VLOOKUP(CONCATENATE(C3776,E3776),Dato!$A$4:$I$218,7,0),\"\")","v":""},null,""]
[null,null,null,{"$f":"IF(C3777=\"\",\"\",VLOOKUP(C3777,Tabla_Regional[],3,0))","v":""},null,{"$f":"IF(E3777<>\"\",VLOOKUP(CONCATENATE(C3777,E3777),Dato!$A$4:$I$218,7,0),\"\")","v":""},null,""]
[null,null,null,{"$f":"IF(C3778=\"\",\"\",VLOOKUP(C3778,Tabla_Regional[],3,0))","v":""},null,{"$f":"IF(E3778<>\"\",VLOOKUP(CONCATENATE(C3778,E3778),Dato!$A$4:$I$218,7,0),\"\")","v":""},null,""]
[null,null,null,{"$f":"IF(C3779=\"\",\"\",VLOOKUP(C3779,Tabla_Regional[],3,0))","v":""},null,{"$f":"IF(E3779<>\"\",VLOOKUP(CONCATENATE(C3779,E3779),Dato!$A$4:$I$218,7,0),\"\")","v":""},null,""]
[null,null,null,{"$f":"IF(C3780=\"\",\"\",VLOOKUP(C3780,Tabla_Regional[],3,0))","v":""},null,{"$f":"IF(E3780<>\"\",VLOOKUP(CONCATENATE(C3780,E3780),Dato!$A$4:$I$218,7,0),\"\")","v":""},null,""]
[null,null,null,{"$f":"IF(C3781=\"\",\"\",VLOOKUP(C3781,Tabla_Regional[],3,0))","v":""},null,{"$f":"IF(E3781<>\"\",VLOOKUP(CONCATENATE(C3781,E3781),Dato!$A$4:$I$218,7,0),\"\")","v":""},null,""]
[null,null,null,{"$f":"IF(C3782=\"\",\"\",VLOOKUP(C3782,Tabla_Regional[],3,0))","v":""},null,{"$f":"IF(E3782<>\"\",VLOOKUP(CONCATENATE(C3782,E3782),Dato!$A$4:$I$218,7,0),\"\")","v":""},null,""]
[null,null,null,{"$f":"IF(C3783=\"\",\"\",VLOOKUP(C3783,Tabla_Regional[],3,0))","v":""},null,{"$f":"IF(E3783<>\"\",VLOOKUP(CONCATENATE(C3783,E3783),Dato!$A$4:$I$218,7,0),\"\")","v":""},null,""]
[null,null,null,{"$f":"IF(C3784=\"\",\"\",VLOOKUP(C3784,Tabla_Regional[],3,0))","v":""},null,{"$f":"IF(E3784<>\"\",VLOOKUP(CONCATENATE(C3784,E3784),Dato!$A$4:$I$218,7,0),\"\")","v":""},null,""]
[null,null,null,{"$f":"IF(C3785=\"\",\"\",VLOOKUP(C3785,Tabla_Regional[],3,0))","v":""},null,{"$f":"IF(E3785<>\"\",VLOOKUP(CONCATENATE(C3785,E3785),Dato!$A$4:$I$218,7,0),\"\")","v":""},null,""]
[null,null,null,{"$f":"IF(C3786=\"\",\"\",VLOOKUP(C3786,Tabla_Regional[],3,0))","v":""},null,{"$f":"IF(E3786<>\"\",VLOOKUP(CONCATENATE(C3786,E3786),Dato!$A$4:$I$218,7,0),\"\")","v":""},null,""]
[null,null,null,{"$f":"IF(C3787=\"\",\"\",VLOOKUP(C3787,Tabla_Regional[],3,0))","v":""},null,{"$f":"IF(E3787<>\"\",VLOOKUP(CONCATENATE(C3787,E3787),Dato!$A$4:$I$218,7,0),\"\")","v":""},null,""]
[null,null,null,{"$f":"IF(C3788=\"\",\"\",VLOOKUP(C3788,Tabla_Regional[],3,0))","v":""},null,{"$f":"IF(E3788<>\"\",VLOOKUP(CONCATENATE(C3788,E3788),Dato!$A$4:$I$218,7,0),\"\")","v":""},null,{"$f":"IF(G3788<>\"\",VLOOKUP(CONCATENATE(C3788,E3788,G3788),czmuni,7,0),\"\")","v":""}]
[null,null,null,{"$f":"IF(C3789=\"\",\"\",VLOOKUP(C3789,Tabla_Regional[],3,0))","v":""},null,{"$f":"IF(E3789<>\"\",VLOOKUP(CONCATENATE(C3789,E3789),Dato!$A$4:$I$218,7,0),\"\")","v":""},null,""]
[null,null,null,{"$f":"IF(C3790=\"\",\"\",VLOOKUP(C3790,Tabla_Regional[],3,0))","v":""},null,{"$f":"IF(E3790<>\"\",VLOOKUP(CONCATENATE(C3790,E3790),Dato!$A$4:$I$218,7,0),\"\")","v":""},null,""]
[null,null,null,{"$f":"IF(C3791=\"\",\"\",VLOOKUP(C3791,Tabla_Regional[],3,0))","v":""},null,{"$f":"IF(E3791<>\"\",VLOOKUP(CONCATENATE(C3791,E3791),Dato!$A$4:$I$218,7,0),\"\")","v":""},null,""]
[null,null,null,{"$f":"IF(C3792=\"\",\"\",VLOOKUP(C3792,Tabla_Regional[],3,0))","v":""},null,{"$f":"IF(E3792<>\"\",VLOOKUP(CONCATENATE(C3792,E3792),Dato!$A$4:$I$218,7,0),\"\")","v":""},null,""]
[null,null,null,{"$f":"IF(C3793=\"\",\"\",VLOOKUP(C3793,Tabla_Regional[],3,0))","v":""},null,{"$f":"IF(E3793<>\"\",VLOOKUP(CONCATENATE(C3793,E3793),Dato!$A$4:$I$218,7,0),\"\")","v":""},null,""]
[null,null,null,{"$f":"IF(C3794=\"\",\"\",VLOOKUP(C3794,Tabla_Regional[],3,0))","v":""},null,{"$f":"IF(E3794<>\"\",VLOOKUP(CONCATENATE(C3794,E3794),Dato!$A$4:$I$218,7,0),\"\")","v":""},null,""]
[null,null,null,{"$f":"IF(C3795=\"\",\"\",VLOOKUP(C3795,Tabla_Regional[],3,0))","v":""},null,{"$f":"IF(E3795<>\"\",VLOOKUP(CONCATENATE(C3795,E3795),Dato!$A$4:$I$218,7,0),\"\")","v":""},null,""]
[null,null,null,{"$f":"IF(C3796=\"\",\"\",VLOOKUP(C3796,Tabla_Regional[],3,0))","v":""},null,{"$f":"IF(E3796<>\"\",VLOOKUP(CONCATENATE(C3796,E3796),Dato!$A$4:$I$218,7,0),\"\")","v":""},null,""]
[null,null,null,{"$f":"IF(C3797=\"\",\"\",VLOOKUP(C3797,Tabla_Regional[],3,0))","v":""},null,{"$f":"IF(E3797<>\"\",VLOOKUP(CONCATENATE(C3797,E3797),Dato!$A$4:$I$218,7,0),\"\")","v":""},null,""]
[null,null,null,{"$f":"IF(C3798=\"\",\"\",VLOOKUP(C3798,Tabla_Regional[],3,0))","v":""},null,{"$f":"IF(E3798<>\"\",VLOOKUP(CONCATENATE(C3798,E3798),Dato!$A$4:$I$218,7,0),\"\")","v":""},null,""]
[null,null,null,{"$f":"IF(C3799=\"\",\"\",VLOOKUP(C3799,Tabla_Regional[],3,0))","v":""},null,{"$f":"IF(E3799<>\"\",VLOOKUP(CONCATENATE(C3799,E3799),Dato!$A$4:$I$218,7,0),\"\")","v":""},null,""]
[null,null,null,{"$f":"IF(C3800=\"\",\"\",VLOOKUP(C3800,Tabla_Regional[],3,0))","v":""},null,{"$f":"IF(E3800<>\"\",VLOOKUP(CONCATENATE(C3800,E3800),Dato!$A$4:$I$218,7,0),\"\")","v":""},null,""]
[null,null,null,{"$f":"IF(C3801=\"\",\"\",VLOOKUP(C3801,Tabla_Regional[],3,0))","v":""},null,{"$f":"IF(E3801<>\"\",VLOOKUP(CONCATENATE(C3801,E3801),Dato!$A$4:$I$218,7,0),\"\")","v":""},null,""]
[null,null,null,{"$f":"IF(C3802=\"\",\"\",VLOOKUP(C3802,Tabla_Regional[],3,0))","v":""},null,{"$f":"IF(E3802<>\"\",VLOOKUP(CONCATENATE(C3802,E3802),Dato!$A$4:$I$218,7,0),\"\")","v":""},null,""]
[null,null,null,{"$f":"IF(C3803=\"\",\"\",VLOOKUP(C3803,Tabla_Regional[],3,0))","v":""},null,{"$f":"IF(E3803<>\"\",VLOOKUP(CONCATENATE(C3803,E3803),Dato!$A$4:$I$218,7,0),\"\")","v":""},null,""]
[null,null,null,{"$f":"IF(C3804=\"\",\"\",VLOOKUP(C3804,Tabla_Regional[],3,0))","v":""},null,{"$f":"IF(E3804<>\"\",VLOOKUP(CONCATENATE(C3804,E3804),Dato!$A$4:$I$218,7,0),\"\")","v":""},null,""]
[null,null,null,{"$f":"IF(C3805=\"\",\"\",VLOOKUP(C3805,Tabla_Regional[],3,0))","v":""},null,{"$f":"IF(E3805<>\"\",VLOOKUP(CONCATENATE(C3805,E3805),Dato!$A$4:$I$218,7,0),\"\")","v":""},null,""]
[null,null,null,{"$f":"IF(C3806=\"\",\"\",VLOOKUP(C3806,Tabla_Regional[],3,0))","v":""},null,{"$f":"IF(E3806<>\"\",VLOOKUP(CONCATENATE(C3806,E3806),Dato!$A$4:$I$218,7,0),\"\")","v":""},null,""]
[null,null,null,{"$f":"IF(C3807=\"\",\"\",VLOOKUP(C3807,Tabla_Regional[],3,0))","v":""},null,{"$f":"IF(E3807<>\"\",VLOOKUP(CONCATENATE(C3807,E3807),Dato!$A$4:$I$218,7,0),\"\")","v":""},null,""]
[null,null,null,{"$f":"IF(C3808=\"\",\"\",VLOOKUP(C3808,Tabla_Regional[],3,0))","v":""},null,{"$f":"IF(E3808<>\"\",VLOOKUP(CONCATENATE(C3808,E3808),Dato!$A$4:$I$218,7,0),\"\")","v":""},null,""]
[null,null,null,{"$f":"IF(C3809=\"\",\"\",VLOOKUP(C3809,Tabla_Regional[],3,0))","v":""},null,{"$f":"IF(E3809<>\"\",VLOOKUP(CONCATENATE(C3809,E3809),Dato!$A$4:$I$218,7,0),\"\")","v":""},null,""]
[null,null,null,{"$f":"IF(C3810=\"\",\"\",VLOOKUP(C3810,Tabla_Regional[],3,0))","v":""},null,{"$f":"IF(E3810<>\"\",VLOOKUP(CONCATENATE(C3810,E3810),Dato!$A$4:$I$218,7,0),\"\")","v":""},null,""]
[null,null,null,{"$f":"IF(C3811=\"\",\"\",VLOOKUP(C3811,Tabla_Regional[],3,0))","v":""},null,{"$f":"IF(E3811<>\"\",VLOOKUP(CONCATENATE(C3811,E3811),Dato!$A$4:$I$218,7,0),\"\")","v":""},null,""]
[null,null,null,{"$f":"IF(C3812=\"\",\"\",VLOOKUP(C3812,Tabla_Regional[],3,0))","v":""},null,{"$f":"IF(E3812<>\"\",VLOOKUP(CONCATENATE(C3812,E3812),Dato!$A$4:$I$218,7,0),\"\")","v":""},null,""]
[null,null,null,{"$f":"IF(C3813=\"\",\"\",VLOOKUP(C3813,Tabla_Regional[],3,0))","v":""},null,{"$f":"IF(E3813<>\"\",VLOOKUP(CONCATENATE(C3813,E3813),Dato!$A$4:$I$218,7,0),\"\")","v":""},null,""]
[null,null,null,{"$f":"IF(C3814=\"\",\"\",VLOOKUP(C3814,Tabla_Regional[],3,0))","v":""},null,{"$f":"IF(E3814<>\"\",VLOOKUP(CONCATENATE(C3814,E3814),Dato!$A$4:$I$218,7,0),\"\")","v":""},null,""]
[null,null,null,{"$f":"IF(C3815=\"\",\"\",VLOOKUP(C3815,Tabla_Regional[],3,0))","v":""},null,{"$f":"IF(E3815<>\"\",VLOOKUP(CONCATENATE(C3815,E3815),Dato!$A$4:$I$218,7,0),\"\")","v":""},null,""]
[null,null,null,{"$f":"IF(C3816=\"\",\"\",VLOOKUP(C3816,Tabla_Regional[],3,0))","v":""},null,{"$f":"IF(E3816<>\"\",VLOOKUP(CONCATENATE(C3816,E3816),Dato!$A$4:$I$218,7,0),\"\")","v":""},null,""]
[null,null,null,{"$f":"IF(C3817=\"\",\"\",VLOOKUP(C3817,Tabla_Regional[],3,0))","v":""},null,{"$f":"IF(E3817<>\"\",VLOOKUP(CONCATENATE(C3817,E3817),Dato!$A$4:$I$218,7,0),\"\")","v":""},null,""]
[null,null,null,{"$f":"IF(C3818=\"\",\"\",VLOOKUP(C3818,Tabla_Regional[],3,0))","v":""},null,{"$f":"IF(E3818<>\"\",VLOOKUP(CONCATENATE(C3818,E3818),Dato!$A$4:$I$218,7,0),\"\")","v":""},null,""]
[null,null,null,{"$f":"IF(C3819=\"\",\"\",VLOOKUP(C3819,Tabla_Regional[],3,0))","v":""},null,{"$f":"IF(E3819<>\"\",VLOOKUP(CONCATENATE(C3819,E3819),Dato!$A$4:$I$218,7,0),\"\")","v":""},null,""]
[null,null,null,{"$f":"IF(C3820=\"\",\"\",VLOOKUP(C3820,Tabla_Regional[],3,0))","v":""},null,{"$f":"IF(E3820<>\"\",VLOOKUP(CONCATENATE(C3820,E3820),Dato!$A$4:$I$218,7,0),\"\")","v":""},null,""]
[null,null,null,{"$f":"IF(C3821=\"\",\"\",VLOOKUP(C3821,Tabla_Regional[],3,0))","v":""},null,{"$f":"IF(E3821<>\"\",VLOOKUP(CONCATENATE(C3821,E3821),Dato!$A$4:$I$218,7,0),\"\")","v":""},null,""]
[null,null,null,{"$f":"IF(C3822=\"\",\"\",VLOOKUP(C3822,Tabla_Regional[],3,0))","v":""},null,{"$f":"IF(E3822<>\"\",VLOOKUP(CONCATENATE(C3822,E3822),Dato!$A$4:$I$218,7,0),\"\")","v":""},null,""]
[null,null,null,{"$f":"IF(C3823=\"\",\"\",VLOOKUP(C3823,Tabla_Regional[],3,0))","v":""},null,{"$f":"IF(E3823<>\"\",VLOOKUP(CONCATENATE(C3823,E3823),Dato!$A$4:$I$218,7,0),\"\")","v":""},null,""]
[null,null,null,{"$f":"IF(C3824=\"\",\"\",VLOOKUP(C3824,Tabla_Regional[],3,0))","v":""},null,{"$f":"IF(E3824<>\"\",VLOOKUP(CONCATENATE(C3824,E3824),Dato!$A$4:$I$218,7,0),\"\")","v":""},null,""]
[null,null,null,{"$f":"IF(C3825=\"\",\"\",VLOOKUP(C3825,Tabla_Regional[],3,0))","v":""},null,{"$f":"IF(E3825<>\"\",VLOOKUP(CONCATENATE(C3825,E3825),Dato!$A$4:$I$218,7,0),\"\")","v":""},null,""]
[null,null,null,{"$f":"IF(C3826=\"\",\"\",VLOOKUP(C3826,Tabla_Regional[],3,0))","v":""},null,{"$f":"IF(E3826<>\"\",VLOOKUP(CONCATENATE(C3826,E3826),Dato!$A$4:$I$218,7,0),\"\")","v":""},null,""]
[null,null,null,{"$f":"IF(C3827=\"\",\"\",VLOOKUP(C3827,Tabla_Regional[],3,0))","v":""},null,{"$f":"IF(E3827<>\"\",VLOOKUP(CONCATENATE(C3827,E3827),Dato!$A$4:$I$218,7,0),\"\")","v":""},null,""]
[null,null,null,{"$f":"IF(C3828=\"\",\"\",VLOOKUP(C3828,Tabla_Regional[],3,0))","v":""},null,{"$f":"IF(E3828<>\"\",VLOOKUP(CONCATENATE(C3828,E3828),Dato!$A$4:$I$218,7,0),\"\")","v":""},null,""]
[null,null,null,{"$f":"IF(C3829=\"\",\"\",VLOOKUP(C3829,Tabla_Regional[],3,0))","v":""},null,{"$f":"IF(E3829<>\"\",VLOOKUP(CONCATENATE(C3829,E3829),Dato!$A$4:$I$218,7,0),\"\")","v":""},null,""]
[null,null,null,{"$f":"IF(C3830=\"\",\"\",VLOOKUP(C3830,Tabla_Regional[],3,0))","v":""},null,{"$f":"IF(E3830<>\"\",VLOOKUP(CONCATENATE(C3830,E3830),Dato!$A$4:$I$218,7,0),\"\")","v":""},null,""]
[null,null,null,{"$f":"IF(C3831=\"\",\"\",VLOOKUP(C3831,Tabla_Regional[],3,0))","v":""},null,{"$f":"IF(E3831<>\"\",VLOOKUP(CONCATENATE(C3831,E3831),Dato!$A$4:$I$218,7,0),\"\")","v":""},null,""]
[null,null,null,{"$f":"IF(C3832=\"\",\"\",VLOOKUP(C3832,Tabla_Regional[],3,0))","v":""},null,{"$f":"IF(E3832<>\"\",VLOOKUP(CONCATENATE(C3832,E3832),Dato!$A$4:$I$218,7,0),\"\")","v":""},null,""]
[null,null,null,{"$f":"IF(C3833=\"\",\"\",VLOOKUP(C3833,Tabla_Regional[],3,0))","v":""},null,{"$f":"IF(E3833<>\"\",VLOOKUP(CONCATENATE(C3833,E3833),Dato!$A$4:$I$218,7,0),\"\")","v":""},null,""]
[null,null,null,{"$f":"IF(C3834=\"\",\"\",VLOOKUP(C3834,Tabla_Regional[],3,0))","v":""},null,{"$f":"IF(E3834<>\"\",VLOOKUP(CONCATENATE(C3834,E3834),Dato!$A$4:$I$218,7,0),\"\")","v":""},null,""]
[null,null,null,{"$f":"IF(C3835=\"\",\"\",VLOOKUP(C3835,Tabla_Regional[],3,0))","v":""},null,{"$f":"IF(E3835<>\"\",VLOOKUP(CONCATENATE(C3835,E3835),Dato!$A$4:$I$218,7,0),\"\")","v":""},null,""]
[null,null,null,{"$f":"IF(C3836=\"\",\"\",VLOOKUP(C3836,Tabla_Regional[],3,0))","v":""},null,{"$f":"IF(E3836<>\"\",VLOOKUP(CONCATENATE(C3836,E3836),Dato!$A$4:$I$218,7,0),\"\")","v":""},null,""]
[null,null,null,{"$f":"IF(C3837=\"\",\"\",VLOOKUP(C3837,Tabla_Regional[],3,0))","v":""},null,{"$f":"IF(E3837<>\"\",VLOOKUP(CONCATENATE(C3837,E3837),Dato!$A$4:$I$218,7,0),\"\")","v":""},null,""]
[null,null,null,{"$f":"IF(C3838=\"\",\"\",VLOOKUP(C3838,Tabla_Regional[],3,0))","v":""},null,{"$f":"IF(E3838<>\"\",VLOOKUP(CONCATENATE(C3838,E3838),Dato!$A$4:$I$218,7,0),\"\")","v":""},null,""]
[null,null,null,{"$f":"IF(C3839=\"\",\"\",VLOOKUP(C3839,Tabla_Regional[],3,0))","v":""},null,{"$f":"IF(E3839<>\"\",VLOOKUP(CONCATENATE(C3839,E3839),Dato!$A$4:$I$218,7,0),\"\")","v":""},null,""]
[null,null,null,{"$f":"IF(C3840=\"\",\"\",VLOOKUP(C3840,Tabla_Regional[],3,0))","v":""},null,{"$f":"IF(E3840<>\"\",VLOOKUP(CONCATENATE(C3840,E3840),Dato!$A$4:$I$218,7,0),\"\")","v":""},null,""]
[null,null,null,{"$f":"IF(C3841=\"\",\"\",VLOOKUP(C3841,Tabla_Regional[],3,0))","v":""},null,{"$f":"IF(E3841<>\"\",VLOOKUP(CONCATENATE(C3841,E3841),Dato!$A$4:$I$218,7,0),\"\")","v":""},null,""]
[null,null,null,{"$f":"IF(C3842=\"\",\"\",VLOOKUP(C3842,Tabla_Regional[],3,0))","v":""},null,{"$f":"IF(E3842<>\"\",VLOOKUP(CONCATENATE(C3842,E3842),Dato!$A$4:$I$218,7,0),\"\")","v":""},null,""]
[null,null,null,{"$f":"IF(C3843=\"\",\"\",VLOOKUP(C3843,Tabla_Regional[],3,0))","v":""},null,{"$f":"IF(E3843<>\"\",VLOOKUP(CONCATENATE(C3843,E3843),Dato!$A$4:$I$218,7,0),\"\")","v":""},null,""]
[null,null,null,{"$f":"IF(C3844=\"\",\"\",VLOOKUP(C3844,Tabla_Regional[],3,0))","v":""},null,{"$f":"IF(E3844<>\"\",VLOOKUP(CONCATENATE(C3844,E3844),Dato!$A$4:$I$218,7,0),\"\")","v":""},null,""]
[null,null,null,{"$f":"IF(C3845=\"\",\"\",VLOOKUP(C3845,Tabla_Regional[],3,0))","v":""},null,{"$f":"IF(E3845<>\"\",VLOOKUP(CONCATENATE(C3845,E3845),Dato!$A$4:$I$218,7,0),\"\")","v":""},null,""]
[null,null,null,{"$f":"IF(C3846=\"\",\"\",VLOOKUP(C3846,Tabla_Regional[],3,0))","v":""},null,{"$f":"IF(E3846<>\"\",VLOOKUP(CONCATENATE(C3846,E3846),Dato!$A$4:$I$218,7,0),\"\")","v":""},null,""]
[null,null,null,{"$f":"IF(C3847=\"\",\"\",VLOOKUP(C3847,Tabla_Regional[],3,0))","v":""},null,{"$f":"IF(E3847<>\"\",VLOOKUP(CONCATENATE(C3847,E3847),Dato!$A$4:$I$218,7,0),\"\")","v":""},null,""]
[null,null,null,{"$f":"IF(C3848=\"\",\"\",VLOOKUP(C3848,Tabla_Regional[],3,0))","v":""},null,{"$f":"IF(E3848<>\"\",VLOOKUP(CONCATENATE(C3848,E3848),Dato!$A$4:$I$218,7,0),\"\")","v":""},null,""]
[null,null,null,{"$f":"IF(C3849=\"\",\"\",VLOOKUP(C3849,Tabla_Regional[],3,0))","v":""},null,{"$f":"IF(E3849<>\"\",VLOOKUP(CONCATENATE(C3849,E3849),Dato!$A$4:$I$218,7,0),\"\")","v":""},null,""]
[null,null,null,{"$f":"IF(C3850=\"\",\"\",VLOOKUP(C3850,Tabla_Regional[],3,0))","v":""},null,{"$f":"IF(E3850<>\"\",VLOOKUP(CONCATENATE(C3850,E3850),Dato!$A$4:$I$218,7,0),\"\")","v":""},null,""]
[null,null,null,{"$f":"IF(C3851=\"\",\"\",VLOOKUP(C3851,Tabla_Regional[],3,0))","v":""},null,{"$f":"IF(E3851<>\"\",VLOOKUP(CONCATENATE(C3851,E3851),Dato!$A$4:$I$218,7,0),\"\")","v":""},null,""]
[null,null,null,{"$f":"IF(C3852=\"\",\"\",VLOOKUP(C3852,Tabla_Regional[],3,0))","v":""},null,{"$f":"IF(E3852<>\"\",VLOOKUP(CONCATENATE(C3852,E3852),Dato!$A$4:$I$218,7,0),\"\")","v":""},null,{"$f":"IF(G3852<>\"\",VLOOKUP(CONCATENATE(C3852,E3852,G3852),czmuni,7,0),\"\")","v":""}]
[null,null,null,{"$f":"IF(C3853=\"\",\"\",VLOOKUP(C3853,Tabla_Regional[],3,0))","v":""},null,{"$f":"IF(E3853<>\"\",VLOOKUP(CONCATENATE(C3853,E3853),Dato!$A$4:$I$218,7,0),\"\")","v":""},null,""]
[null,null,null,{"$f":"IF(C3854=\"\",\"\",VLOOKUP(C3854,Tabla_Regional[],3,0))","v":""},null,{"$f":"IF(E3854<>\"\",VLOOKUP(CONCATENATE(C3854,E3854),Dato!$A$4:$I$218,7,0),\"\")","v":""},null,""]
[null,null,null,{"$f":"IF(C3855=\"\",\"\",VLOOKUP(C3855,Tabla_Regional[],3,0))","v":""},null,{"$f":"IF(E3855<>\"\",VLOOKUP(CONCATENATE(C3855,E3855),Dato!$A$4:$I$218,7,0),\"\")","v":""},null,""]
[null,null,null,{"$f":"IF(C3856=\"\",\"\",VLOOKUP(C3856,Tabla_Regional[],3,0))","v":""},null,{"$f":"IF(E3856<>\"\",VLOOKUP(CONCATENATE(C3856,E3856),Dato!$A$4:$I$218,7,0),\"\")","v":""},null,""]
[null,null,null,{"$f":"IF(C3857=\"\",\"\",VLOOKUP(C3857,Tabla_Regional[],3,0))","v":""},null,{"$f":"IF(E3857<>\"\",VLOOKUP(CONCATENATE(C3857,E3857),Dato!$A$4:$I$218,7,0),\"\")","v":""},null,""]
[null,null,null,{"$f":"IF(C3858=\"\",\"\",VLOOKUP(C3858,Tabla_Regional[],3,0))","v":""},null,{"$f":"IF(E3858<>\"\",VLOOKUP(CONCATENATE(C3858,E3858),Dato!$A$4:$I$218,7,0),\"\")","v":""},null,""]
[null,null,null,{"$f":"IF(C3859=\"\",\"\",VLOOKUP(C3859,Tabla_Regional[],3,0))","v":""},null,{"$f":"IF(E3859<>\"\",VLOOKUP(CONCATENATE(C3859,E3859),Dato!$A$4:$I$218,7,0),\"\")","v":""},null,""]
[null,null,null,{"$f":"IF(C3860=\"\",\"\",VLOOKUP(C3860,Tabla_Regional[],3,0))","v":""},null,{"$f":"IF(E3860<>\"\",VLOOKUP(CONCATENATE(C3860,E3860),Dato!$A$4:$I$218,7,0),\"\")","v":""},null,""]
[null,null,null,{"$f":"IF(C3861=\"\",\"\",VLOOKUP(C3861,Tabla_Regional[],3,0))","v":""},null,{"$f":"IF(E3861<>\"\",VLOOKUP(CONCATENATE(C3861,E3861),Dato!$A$4:$I$218,7,0),\"\")","v":""},null,""]
[null,null,null,{"$f":"IF(C3862=\"\",\"\",VLOOKUP(C3862,Tabla_Regional[],3,0))","v":""},null,{"$f":"IF(E3862<>\"\",VLOOKUP(CONCATENATE(C3862,E3862),Dato!$A$4:$I$218,7,0),\"\")","v":""},null,""]
[null,null,null,{"$f":"IF(C3863=\"\",\"\",VLOOKUP(C3863,Tabla_Regional[],3,0))","v":""},null,{"$f":"IF(E3863<>\"\",VLOOKUP(CONCATENATE(C3863,E3863),Dato!$A$4:$I$218,7,0),\"\")","v":""},null,""]
[null,null,null,{"$f":"IF(C3864=\"\",\"\",VLOOKUP(C3864,Tabla_Regional[],3,0))","v":""},null,{"$f":"IF(E3864<>\"\",VLOOKUP(CONCATENATE(C3864,E3864),Dato!$A$4:$I$218,7,0),\"\")","v":""},null,""]
[null,null,null,{"$f":"IF(C3865=\"\",\"\",VLOOKUP(C3865,Tabla_Regional[],3,0))","v":""},null,{"$f":"IF(E3865<>\"\",VLOOKUP(CONCATENATE(C3865,E3865),Dato!$A$4:$I$218,7,0),\"\")","v":""},null,""]
[null,null,null,{"$f":"IF(C3866=\"\",\"\",VLOOKUP(C3866,Tabla_Regional[],3,0))","v":""},null,{"$f":"IF(E3866<>\"\",VLOOKUP(CONCATENATE(C3866,E3866),Dato!$A$4:$I$218,7,0),\"\")","v":""},null,""]
[null,null,null,{"$f":"IF(C3867=\"\",\"\",VLOOKUP(C3867,Tabla_Regional[],3,0))","v":""},null,{"$f":"IF(E3867<>\"\",VLOOKUP(CONCATENATE(C3867,E3867),Dato!$A$4:$I$218,7,0),\"\")","v":""},null,""]
[null,null,null,{"$f":"IF(C3868=\"\",\"\",VLOOKUP(C3868,Tabla_Regional[],3,0))","v":""},null,{"$f":"IF(E3868<>\"\",VLOOKUP(CONCATENATE(C3868,E3868),Dato!$A$4:$I$218,7,0),\"\")","v":""},null,""]
[null,null,null,{"$f":"IF(C3869=\"\",\"\",VLOOKUP(C3869,Tabla_Regional[],3,0))","v":""},null,{"$f":"IF(E3869<>\"\",VLOOKUP(CONCATENATE(C3869,E3869),Dato!$A$4:$I$218,7,0),\"\")","v":""},null,""]
[null,null,null,{"$f":"IF(C3870=\"\",\"\",VLOOKUP(C3870,Tabla_Regional[],3,0))","v":""},null,{"$f":"IF(E3870<>\"\",VLOOKUP(CONCATENATE(C3870,E3870),Dato!$A$4:$I$218,7,0),\"\")","v":""},null,""]
[null,null,null,{"$f":"IF(C3871=\"\",\"\",VLOOKUP(C3871,Tabla_Regional[],3,0))","v":""},null,{"$f":"IF(E3871<>\"\",VLOOKUP(CONCATENATE(C3871,E3871),Dato!$A$4:$I$218,7,0),\"\")","v":""},null,""]
[null,null,null,{"$f":"IF(C3872=\"\",\"\",VLOOKUP(C3872,Tabla_Regional[],3,0))","v":""},null,{"$f":"IF(E3872<>\"\",VLOOKUP(CONCATENATE(C3872,E3872),Dato!$A$4:$I$218,7,0),\"\")","v":""},null,""]
[null,null,null,{"$f":"IF(C3873=\"\",\"\",VLOOKUP(C3873,Tabla_Regional[],3,0))","v":""},null,{"$f":"IF(E3873<>\"\",VLOOKUP(CONCATENATE(C3873,E3873),Dato!$A$4:$I$218,7,0),\"\")","v":""},null,""]
[null,null,null,{"$f":"IF(C3874=\"\",\"\",VLOOKUP(C3874,Tabla_Regional[],3,0))","v":""},null,{"$f":"IF(E3874<>\"\",VLOOKUP(CONCATENATE(C3874,E3874),Dato!$A$4:$I$218,7,0),\"\")","v":""},null,""]
[null,null,null,{"$f":"IF(C3875=\"\",\"\",VLOOKUP(C3875,Tabla_Regional[],3,0))","v":""},null,{"$f":"IF(E3875<>\"\",VLOOKUP(CONCATENATE(C3875,E3875),Dato!$A$4:$I$218,7,0),\"\")","v":""},null,""]
[null,null,null,{"$f":"IF(C3876=\"\",\"\",VLOOKUP(C3876,Tabla_Regional[],3,0))","v":""},null,{"$f":"IF(E3876<>\"\",VLOOKUP(CONCATENATE(C3876,E3876),Dato!$A$4:$I$218,7,0),\"\")","v":""},null,""]
[null,null,null,{"$f":"IF(C3877=\"\",\"\",VLOOKUP(C3877,Tabla_Regional[],3,0))","v":""},null,{"$f":"IF(E3877<>\"\",VLOOKUP(CONCATENATE(C3877,E3877),Dato!$A$4:$I$218,7,0),\"\")","v":""},null,""]
[null,null,null,{"$f":"IF(C3878=\"\",\"\",VLOOKUP(C3878,Tabla_Regional[],3,0))","v":""},null,{"$f":"IF(E3878<>\"\",VLOOKUP(CONCATENATE(C3878,E3878),Dato!$A$4:$I$218,7,0),\"\")","v":""},null,""]
[null,null,null,{"$f":"IF(C3879=\"\",\"\",VLOOKUP(C3879,Tabla_Regional[],3,0))","v":""},null,{"$f":"IF(E3879<>\"\",VLOOKUP(CONCATENATE(C3879,E3879),Dato!$A$4:$I$218,7,0),\"\")","v":""},null,""]
[null,null,null,{"$f":"IF(C3880=\"\",\"\",VLOOKUP(C3880,Tabla_Regional[],3,0))","v":""},null,{"$f":"IF(E3880<>\"\",VLOOKUP(CONCATENATE(C3880,E3880),Dato!$A$4:$I$218,7,0),\"\")","v":""},null,""]
[null,null,null,{"$f":"IF(C3881=\"\",\"\",VLOOKUP(C3881,Tabla_Regional[],3,0))","v":""},null,{"$f":"IF(E3881<>\"\",VLOOKUP(CONCATENATE(C3881,E3881),Dato!$A$4:$I$218,7,0),\"\")","v":""},null,""]
[null,null,null,{"$f":"IF(C3882=\"\",\"\",VLOOKUP(C3882,Tabla_Regional[],3,0))","v":""},null,{"$f":"IF(E3882<>\"\",VLOOKUP(CONCATENATE(C3882,E3882),Dato!$A$4:$I$218,7,0),\"\")","v":""},null,""]
[null,null,null,{"$f":"IF(C3883=\"\",\"\",VLOOKUP(C3883,Tabla_Regional[],3,0))","v":""},null,{"$f":"IF(E3883<>\"\",VLOOKUP(CONCATENATE(C3883,E3883),Dato!$A$4:$I$218,7,0),\"\")","v":""},null,""]
[null,null,null,{"$f":"IF(C3884=\"\",\"\",VLOOKUP(C3884,Tabla_Regional[],3,0))","v":""},null,{"$f":"IF(E3884<>\"\",VLOOKUP(CONCATENATE(C3884,E3884),Dato!$A$4:$I$218,7,0),\"\")","v":""},null,""]
[null,null,null,{"$f":"IF(C3885=\"\",\"\",VLOOKUP(C3885,Tabla_Regional[],3,0))","v":""},null,{"$f":"IF(E3885<>\"\",VLOOKUP(CONCATENATE(C3885,E3885),Dato!$A$4:$I$218,7,0),\"\")","v":""},null,""]
[null,null,null,{"$f":"IF(C3886=\"\",\"\",VLOOKUP(C3886,Tabla_Regional[],3,0))","v":""},null,{"$f":"IF(E3886<>\"\",VLOOKUP(CONCATENATE(C3886,E3886),Dato!$A$4:$I$218,7,0),\"\")","v":""},null,""]
[null,null,null,{"$f":"IF(C3887=\"\",\"\",VLOOKUP(C3887,Tabla_Regional[],3,0))","v":""},null,{"$f":"IF(E3887<>\"\",VLOOKUP(CONCATENATE(C3887,E3887),Dato!$A$4:$I$218,7,0),\"\")","v":""},null,""]
[null,null,null,{"$f":"IF(C3888=\"\",\"\",VLOOKUP(C3888,Tabla_Regional[],3,0))","v":""},null,{"$f":"IF(E3888<>\"\",VLOOKUP(CONCATENATE(C3888,E3888),Dato!$A$4:$I$218,7,0),\"\")","v":""},null,""]
[null,null,null,{"$f":"IF(C3889=\"\",\"\",VLOOKUP(C3889,Tabla_Regional[],3,0))","v":""},null,{"$f":"IF(E3889<>\"\",VLOOKUP(CONCATENATE(C3889,E3889),Dato!$A$4:$I$218,7,0),\"\")","v":""},null,""]
[null,null,null,{"$f":"IF(C3890=\"\",\"\",VLOOKUP(C3890,Tabla_Regional[],3,0))","v":""},null,{"$f":"IF(E3890<>\"\",VLOOKUP(CONCATENATE(C3890,E3890),Dato!$A$4:$I$218,7,0),\"\")","v":""},null,""]
[null,null,null,{"$f":"IF(C3891=\"\",\"\",VLOOKUP(C3891,Tabla_Regional[],3,0))","v":""},null,{"$f":"IF(E3891<>\"\",VLOOKUP(CONCATENATE(C3891,E3891),Dato!$A$4:$I$218,7,0),\"\")","v":""},null,""]
[null,null,null,{"$f":"IF(C3892=\"\",\"\",VLOOKUP(C3892,Tabla_Regional[],3,0))","v":""},null,{"$f":"IF(E3892<>\"\",VLOOKUP(CONCATENATE(C3892,E3892),Dato!$A$4:$I$218,7,0),\"\")","v":""},null,""]
[null,null,null,{"$f":"IF(C3893=\"\",\"\",VLOOKUP(C3893,Tabla_Regional[],3,0))","v":""},null,{"$f":"IF(E3893<>\"\",VLOOKUP(CONCATENATE(C3893,E3893),Dato!$A$4:$I$218,7,0),\"\")","v":""},null,""]
[null,null,null,{"$f":"IF(C3894=\"\",\"\",VLOOKUP(C3894,Tabla_Regional[],3,0))","v":""},null,{"$f":"IF(E3894<>\"\",VLOOKUP(CONCATENATE(C3894,E3894),Dato!$A$4:$I$218,7,0),\"\")","v":""},null,""]
[null,null,null,{"$f":"IF(C3895=\"\",\"\",VLOOKUP(C3895,Tabla_Regional[],3,0))","v":""},null,{"$f":"IF(E3895<>\"\",VLOOKUP(CONCATENATE(C3895,E3895),Dato!$A$4:$I$218,7,0),\"\")","v":""},null,""]
[null,null,null,{"$f":"IF(C3896=\"\",\"\",VLOOKUP(C3896,Tabla_Regional[],3,0))","v":""},null,{"$f":"IF(E3896<>\"\",VLOOKUP(CONCATENATE(C3896,E3896),Dato!$A$4:$I$218,7,0),\"\")","v":""},null,""]
[null,null,null,{"$f":"IF(C3897=\"\",\"\",VLOOKUP(C3897,Tabla_Regional[],3,0))","v":""},null,{"$f":"IF(E3897<>\"\",VLOOKUP(CONCATENATE(C3897,E3897),Dato!$A$4:$I$218,7,0),\"\")","v":""},null,""]
[null,null,null,{"$f":"IF(C3898=\"\",\"\",VLOOKUP(C3898,Tabla_Regional[],3,0))","v":""},null,{"$f":"IF(E3898<>\"\",VLOOKUP(CONCATENATE(C3898,E3898),Dato!$A$4:$I$218,7,0),\"\")","v":""},null,""]
[null,null,null,{"$f":"IF(C3899=\"\",\"\",VLOOKUP(C3899,Tabla_Regional[],3,0))","v":""},null,{"$f":"IF(E3899<>\"\",VLOOKUP(CONCATENATE(C3899,E3899),Dato!$A$4:$I$218,7,0),\"\")","v":""},null,""]
[null,null,null,{"$f":"IF(C3900=\"\",\"\",VLOOKUP(C3900,Tabla_Regional[],3,0))","v":""},null,{"$f":"IF(E3900<>\"\",VLOOKUP(CONCATENATE(C3900,E3900),Dato!$A$4:$I$218,7,0),\"\")","v":""},null,""]
[null,null,null,{"$f":"IF(C3901=\"\",\"\",VLOOKUP(C3901,Tabla_Regional[],3,0))","v":""},null,{"$f":"IF(E3901<>\"\",VLOOKUP(CONCATENATE(C3901,E3901),Dato!$A$4:$I$218,7,0),\"\")","v":""},null,""]
[null,null,null,{"$f":"IF(C3902=\"\",\"\",VLOOKUP(C3902,Tabla_Regional[],3,0))","v":""},null,{"$f":"IF(E3902<>\"\",VLOOKUP(CONCATENATE(C3902,E3902),Dato!$A$4:$I$218,7,0),\"\")","v":""},null,""]
[null,null,null,{"$f":"IF(C3903=\"\",\"\",VLOOKUP(C3903,Tabla_Regional[],3,0))","v":""},null,{"$f":"IF(E3903<>\"\",VLOOKUP(CONCATENATE(C3903,E3903),Dato!$A$4:$I$218,7,0),\"\")","v":""},null,""]
[null,null,null,{"$f":"IF(C3904=\"\",\"\",VLOOKUP(C3904,Tabla_Regional[],3,0))","v":""},null,{"$f":"IF(E3904<>\"\",VLOOKUP(CONCATENATE(C3904,E3904),Dato!$A$4:$I$218,7,0),\"\")","v":""},null,""]
[null,null,null,{"$f":"IF(C3905=\"\",\"\",VLOOKUP(C3905,Tabla_Regional[],3,0))","v":""},null,{"$f":"IF(E3905<>\"\",VLOOKUP(CONCATENATE(C3905,E3905),Dato!$A$4:$I$218,7,0),\"\")","v":""},null,""]
[null,null,null,{"$f":"IF(C3906=\"\",\"\",VLOOKUP(C3906,Tabla_Regional[],3,0))","v":""},null,{"$f":"IF(E3906<>\"\",VLOOKUP(CONCATENATE(C3906,E3906),Dato!$A$4:$I$218,7,0),\"\")","v":""},null,""]
[null,null,null,{"$f":"IF(C3907=\"\",\"\",VLOOKUP(C3907,Tabla_Regional[],3,0))","v":""},null,{"$f":"IF(E3907<>\"\",VLOOKUP(CONCATENATE(C3907,E3907),Dato!$A$4:$I$218,7,0),\"\")","v":""},null,""]
[null,null,null,{"$f":"IF(C3908=\"\",\"\",VLOOKUP(C3908,Tabla_Regional[],3,0))","v":""},null,{"$f":"IF(E3908<>\"\",VLOOKUP(CONCATENATE(C3908,E3908),Dato!$A$4:$I$218,7,0),\"\")","v":""},null,""]
[null,null,null,{"$f":"IF(C3909=\"\",\"\",VLOOKUP(C3909,Tabla_Regional[],3,0))","v":""},null,{"$f":"IF(E3909<>\"\",VLOOKUP(CONCATENATE(C3909,E3909),Dato!$A$4:$I$218,7,0),\"\")","v":""},null,""]
[null,null,null,{"$f":"IF(C3910=\"\",\"\",VLOOKUP(C3910,Tabla_Regional[],3,0))","v":""},null,{"$f":"IF(E3910<>\"\",VLOOKUP(CONCATENATE(C3910,E3910),Dato!$A$4:$I$218,7,0),\"\")","v":""},null,""]
[null,null,null,{"$f":"IF(C3911=\"\",\"\",VLOOKUP(C3911,Tabla_Regional[],3,0))","v":""},null,{"$f":"IF(E3911<>\"\",VLOOKUP(CONCATENATE(C3911,E3911),Dato!$A$4:$I$218,7,0),\"\")","v":""},null,""]
[null,null,null,{"$f":"IF(C3912=\"\",\"\",VLOOKUP(C3912,Tabla_Regional[],3,0))","v":""},null,{"$f":"IF(E3912<>\"\",VLOOKUP(CONCATENATE(C3912,E3912),Dato!$A$4:$I$218,7,0),\"\")","v":""},null,""]
[null,null,null,{"$f":"IF(C3913=\"\",\"\",VLOOKUP(C3913,Tabla_Regional[],3,0))","v":""},null,{"$f":"IF(E3913<>\"\",VLOOKUP(CONCATENATE(C3913,E3913),Dato!$A$4:$I$218,7,0),\"\")","v":""},null,""]
[null,null,null,{"$f":"IF(C3914=\"\",\"\",VLOOKUP(C3914,Tabla_Regional[],3,0))","v":""},null,{"$f":"IF(E3914<>\"\",VLOOKUP(CONCATENATE(C3914,E3914),Dato!$A$4:$I$218,7,0),\"\")","v":""},null,""]
[null,null,null,{"$f":"IF(C3915=\"\",\"\",VLOOKUP(C3915,Tabla_Regional[],3,0))","v":""},null,{"$f":"IF(E3915<>\"\",VLOOKUP(CONCATENATE(C3915,E3915),Dato!$A$4:$I$218,7,0),\"\")","v":""},null,""]
[null,null,null,{"$f":"IF(C3916=\"\",\"\",VLOOKUP(C3916,Tabla_Regional[],3,0))","v":""},null,{"$f":"IF(E3916<>\"\",VLOOKUP(CONCATENATE(C3916,E3916),Dato!$A$4:$I$218,7,0),\"\")","v":""},null,{"$f":"IF(G3916<>\"\",VLOOKUP(CONCATENATE(C3916,E3916,G3916),czmuni,7,0),\"\")","v":""}]
[null,null,null,{"$f":"IF(C3917=\"\",\"\",VLOOKUP(C3917,Tabla_Regional[],3,0))","v":""},null,{"$f":"IF(E3917<>\"\",VLOOKUP(CONCATENATE(C3917,E3917),Dato!$A$4:$I$218,7,0),\"\")","v":""},null,""]
[null,null,null,{"$f":"IF(C3918=\"\",\"\",VLOOKUP(C3918,Tabla_Regional[],3,0))","v":""},null,{"$f":"IF(E3918<>\"\",VLOOKUP(CONCATENATE(C3918,E3918),Dato!$A$4:$I$218,7,0),\"\")","v":""},null,""]
[null,null,null,{"$f":"IF(C3919=\"\",\"\",VLOOKUP(C3919,Tabla_Regional[],3,0))","v":""},null,{"$f":"IF(E3919<>\"\",VLOOKUP(CONCATENATE(C3919,E3919),Dato!$A$4:$I$218,7,0),\"\")","v":""},null,""]
[null,null,null,{"$f":"IF(C3920=\"\",\"\",VLOOKUP(C3920,Tabla_Regional[],3,0))","v":""},null,{"$f":"IF(E3920<>\"\",VLOOKUP(CONCATENATE(C3920,E3920),Dato!$A$4:$I$218,7,0),\"\")","v":""},null,""]
[null,null,null,{"$f":"IF(C3921=\"\",\"\",VLOOKUP(C3921,Tabla_Regional[],3,0))","v":""},null,{"$f":"IF(E3921<>\"\",VLOOKUP(CONCATENATE(C3921,E3921),Dato!$A$4:$I$218,7,0),\"\")","v":""},null,""]
[null,null,null,{"$f":"IF(C3922=\"\",\"\",VLOOKUP(C3922,Tabla_Regional[],3,0))","v":""},null,{"$f":"IF(E3922<>\"\",VLOOKUP(CONCATENATE(C3922,E3922),Dato!$A$4:$I$218,7,0),\"\")","v":""},null,""]
[null,null,null,{"$f":"IF(C3923=\"\",\"\",VLOOKUP(C3923,Tabla_Regional[],3,0))","v":""},null,{"$f":"IF(E3923<>\"\",VLOOKUP(CONCATENATE(C3923,E3923),Dato!$A$4:$I$218,7,0),\"\")","v":""},null,""]
[null,null,null,{"$f":"IF(C3924=\"\",\"\",VLOOKUP(C3924,Tabla_Regional[],3,0))","v":""},null,{"$f":"IF(E3924<>\"\",VLOOKUP(CONCATENATE(C3924,E3924),Dato!$A$4:$I$218,7,0),\"\")","v":""},null,""]
[null,null,null,{"$f":"IF(C3925=\"\",\"\",VLOOKUP(C3925,Tabla_Regional[],3,0))","v":""},null,{"$f":"IF(E3925<>\"\",VLOOKUP(CONCATENATE(C3925,E3925),Dato!$A$4:$I$218,7,0),\"\")","v":""},null,""]
[null,null,null,{"$f":"IF(C3926=\"\",\"\",VLOOKUP(C3926,Tabla_Regional[],3,0))","v":""},null,{"$f":"IF(E3926<>\"\",VLOOKUP(CONCATENATE(C3926,E3926),Dato!$A$4:$I$218,7,0),\"\")","v":""},null,""]
[null,null,null,{"$f":"IF(C3927=\"\",\"\",VLOOKUP(C3927,Tabla_Regional[],3,0))","v":""},null,{"$f":"IF(E3927<>\"\",VLOOKUP(CONCATENATE(C3927,E3927),Dato!$A$4:$I$218,7,0),\"\")","v":""},null,""]
[null,null,null,{"$f":"IF(C3928=\"\",\"\",VLOOKUP(C3928,Tabla_Regional[],3,0))","v":""},null,{"$f":"IF(E3928<>\"\",VLOOKUP(CONCATENATE(C3928,E3928),Dato!$A$4:$I$218,7,0),\"\")","v":""},null,""]
[null,null,null,{"$f":"IF(C3929=\"\",\"\",VLOOKUP(C3929,Tabla_Regional[],3,0))","v":""},null,{"$f":"IF(E3929<>\"\",VLOOKUP(CONCATENATE(C3929,E3929),Dato!$A$4:$I$218,7,0),\"\")","v":""},null,""]
[null,null,null,{"$f":"IF(C3930=\"\",\"\",VLOOKUP(C3930,Tabla_Regional[],3,0))","v":""},null,{"$f":"IF(E3930<>\"\",VLOOKUP(CONCATENATE(C3930,E3930),Dato!$A$4:$I$218,7,0),\"\")","v":""},null,""]
[null,null,null,{"$f":"IF(C3931=\"\",\"\",VLOOKUP(C3931,Tabla_Regional[],3,0))","v":""},null,{"$f":"IF(E3931<>\"\",VLOOKUP(CONCATENATE(C3931,E3931),Dato!$A$4:$I$218,7,0),\"\")","v":""},null,""]
[null,null,null,{"$f":"IF(C3932=\"\",\"\",VLOOKUP(C3932,Tabla_Regional[],3,0))","v":""},null,{"$f":"IF(E3932<>\"\",VLOOKUP(CONCATENATE(C3932,E3932),Dato!$A$4:$I$218,7,0),\"\")","v":""},null,""]
[null,null,null,{"$f":"IF(C3933=\"\",\"\",VLOOKUP(C3933,Tabla_Regional[],3,0))","v":""},null,{"$f":"IF(E3933<>\"\",VLOOKUP(CONCATENATE(C3933,E3933),Dato!$A$4:$I$218,7,0),\"\")","v":""},null,""]
[null,null,null,{"$f":"IF(C3934=\"\",\"\",VLOOKUP(C3934,Tabla_Regional[],3,0))","v":""},null,{"$f":"IF(E3934<>\"\",VLOOKUP(CONCATENATE(C3934,E3934),Dato!$A$4:$I$218,7,0),\"\")","v":""},null,""]
[null,null,null,{"$f":"IF(C3935=\"\",\"\",VLOOKUP(C3935,Tabla_Regional[],3,0))","v":""},null,{"$f":"IF(E3935<>\"\",VLOOKUP(CONCATENATE(C3935,E3935),Dato!$A$4:$I$218,7,0),\"\")","v":""},null,""]
[null,null,null,{"$f":"IF(C3936=\"\",\"\",VLOOKUP(C3936,Tabla_Regional[],3,0))","v":""},null,{"$f":"IF(E3936<>\"\",VLOOKUP(CONCATENATE(C3936,E3936),Dato!$A$4:$I$218,7,0),\"\")","v":""},null,""]
[null,null,null,{"$f":"IF(C3937=\"\",\"\",VLOOKUP(C3937,Tabla_Regional[],3,0))","v":""},null,{"$f":"IF(E3937<>\"\",VLOOKUP(CONCATENATE(C3937,E3937),Dato!$A$4:$I$218,7,0),\"\")","v":""},null,""]
[null,null,null,{"$f":"IF(C3938=\"\",\"\",VLOOKUP(C3938,Tabla_Regional[],3,0))","v":""},null,{"$f":"IF(E3938<>\"\",VLOOKUP(CONCATENATE(C3938,E3938),Dato!$A$4:$I$218,7,0),\"\")","v":""},null,""]
[null,null,null,{"$f":"IF(C3939=\"\",\"\",VLOOKUP(C3939,Tabla_Regional[],3,0))","v":""},null,{"$f":"IF(E3939<>\"\",VLOOKUP(CONCATENATE(C3939,E3939),Dato!$A$4:$I$218,7,0),\"\")","v":""},null,""]
[null,null,null,{"$f":"IF(C3940=\"\",\"\",VLOOKUP(C3940,Tabla_Regional[],3,0))","v":""},null,{"$f":"IF(E3940<>\"\",VLOOKUP(CONCATENATE(C3940,E3940),Dato!$A$4:$I$218,7,0),\"\")","v":""},null,""]
[null,null,null,{"$f":"IF(C3941=\"\",\"\",VLOOKUP(C3941,Tabla_Regional[],3,0))","v":""},null,{"$f":"IF(E3941<>\"\",VLOOKUP(CONCATENATE(C3941,E3941),Dato!$A$4:$I$218,7,0),\"\")","v":""},null,""]
[null,null,null,{"$f":"IF(C3942=\"\",\"\",VLOOKUP(C3942,Tabla_Regional[],3,0))","v":""},null,{"$f":"IF(E3942<>\"\",VLOOKUP(CONCATENATE(C3942,E3942),Dato!$A$4:$I$218,7,0),\"\")","v":""},null,""]
[null,null,null,{"$f":"IF(C3943=\"\",\"\",VLOOKUP(C3943,Tabla_Regional[],3,0))","v":""},null,{"$f":"IF(E3943<>\"\",VLOOKUP(CONCATENATE(C3943,E3943),Dato!$A$4:$I$218,7,0),\"\")","v":""},null,""]
[null,null,null,{"$f":"IF(C3944=\"\",\"\",VLOOKUP(C3944,Tabla_Regional[],3,0))","v":""},null,{"$f":"IF(E3944<>\"\",VLOOKUP(CONCATENATE(C3944,E3944),Dato!$A$4:$I$218,7,0),\"\")","v":""},null,""]
[null,null,null,{"$f":"IF(C3945=\"\",\"\",VLOOKUP(C3945,Tabla_Regional[],3,0))","v":""},null,{"$f":"IF(E3945<>\"\",VLOOKUP(CONCATENATE(C3945,E3945),Dato!$A$4:$I$218,7,0),\"\")","v":""},null,""]
[null,null,null,{"$f":"IF(C3946=\"\",\"\",VLOOKUP(C3946,Tabla_Regional[],3,0))","v":""},null,{"$f":"IF(E3946<>\"\",VLOOKUP(CONCATENATE(C3946,E3946),Dato!$A$4:$I$218,7,0),\"\")","v":""},null,""]
[null,null,null,{"$f":"IF(C3947=\"\",\"\",VLOOKUP(C3947,Tabla_Regional[],3,0))","v":""},null,{"$f":"IF(E3947<>\"\",VLOOKUP(CONCATENATE(C3947,E3947),Dato!$A$4:$I$218,7,0),\"\")","v":""},null,""]
[null,null,null,{"$f":"IF(C3948=\"\",\"\",VLOOKUP(C3948,Tabla_Regional[],3,0))","v":""},null,{"$f":"IF(E3948<>\"\",VLOOKUP(CONCATENATE(C3948,E3948),Dato!$A$4:$I$218,7,0),\"\")","v":""},null,""]
[null,null,null,{"$f":"IF(C3949=\"\",\"\",VLOOKUP(C3949,Tabla_Regional[],3,0))","v":""},null,{"$f":"IF(E3949<>\"\",VLOOKUP(CONCATENATE(C3949,E3949),Dato!$A$4:$I$218,7,0),\"\")","v":""},null,""]
[null,null,null,{"$f":"IF(C3950=\"\",\"\",VLOOKUP(C3950,Tabla_Regional[],3,0))","v":""},null,{"$f":"IF(E3950<>\"\",VLOOKUP(CONCATENATE(C3950,E3950),Dato!$A$4:$I$218,7,0),\"\")","v":""},null,""]
[null,null,null,{"$f":"IF(C3951=\"\",\"\",VLOOKUP(C3951,Tabla_Regional[],3,0))","v":""},null,{"$f":"IF(E3951<>\"\",VLOOKUP(CONCATENATE(C3951,E3951),Dato!$A$4:$I$218,7,0),\"\")","v":""},null,""]
[null,null,null,{"$f":"IF(C3952=\"\",\"\",VLOOKUP(C3952,Tabla_Regional[],3,0))","v":""},null,{"$f":"IF(E3952<>\"\",VLOOKUP(CONCATENATE(C3952,E3952),Dato!$A$4:$I$218,7,0),\"\")","v":""},null,""]
[null,null,null,{"$f":"IF(C3953=\"\",\"\",VLOOKUP(C3953,Tabla_Regional[],3,0))","v":""},null,{"$f":"IF(E3953<>\"\",VLOOKUP(CONCATENATE(C3953,E3953),Dato!$A$4:$I$218,7,0),\"\")","v":""},null,""]
[null,null,null,{"$f":"IF(C3954=\"\",\"\",VLOOKUP(C3954,Tabla_Regional[],3,0))","v":""},null,{"$f":"IF(E3954<>\"\",VLOOKUP(CONCATENATE(C3954,E3954),Dato!$A$4:$I$218,7,0),\"\")","v":""},null,""]
[null,null,null,{"$f":"IF(C3955=\"\",\"\",VLOOKUP(C3955,Tabla_Regional[],3,0))","v":""},null,{"$f":"IF(E3955<>\"\",VLOOKUP(CONCATENATE(C3955,E3955),Dato!$A$4:$I$218,7,0),\"\")","v":""},null,""]
[null,null,null,{"$f":"IF(C3956=\"\",\"\",VLOOKUP(C3956,Tabla_Regional[],3,0))","v":""},null,{"$f":"IF(E3956<>\"\",VLOOKUP(CONCATENATE(C3956,E3956),Dato!$A$4:$I$218,7,0),\"\")","v":""},null,""]
[null,null,null,{"$f":"IF(C3957=\"\",\"\",VLOOKUP(C3957,Tabla_Regional[],3,0))","v":""},null,{"$f":"IF(E3957<>\"\",VLOOKUP(CONCATENATE(C3957,E3957),Dato!$A$4:$I$218,7,0),\"\")","v":""},null,""]
[null,null,null,{"$f":"IF(C3958=\"\",\"\",VLOOKUP(C3958,Tabla_Regional[],3,0))","v":""},null,{"$f":"IF(E3958<>\"\",VLOOKUP(CONCATENATE(C3958,E3958),Dato!$A$4:$I$218,7,0),\"\")","v":""},null,""]
[null,null,null,{"$f":"IF(C3959=\"\",\"\",VLOOKUP(C3959,Tabla_Regional[],3,0))","v":""},null,{"$f":"IF(E3959<>\"\",VLOOKUP(CONCATENATE(C3959,E3959),Dato!$A$4:$I$218,7,0),\"\")","v":""},null,""]
[null,null,null,{"$f":"IF(C3960=\"\",\"\",VLOOKUP(C3960,Tabla_Regional[],3,0))","v":""},null,{"$f":"IF(E3960<>\"\",VLOOKUP(CONCATENATE(C3960,E3960),Dato!$A$4:$I$218,7,0),\"\")","v":""},null,""]
[null,null,null,{"$f":"IF(C3961=\"\",\"\",VLOOKUP(C3961,Tabla_Regional[],3,0))","v":""},null,{"$f":"IF(E3961<>\"\",VLOOKUP(CONCATENATE(C3961,E3961),Dato!$A$4:$I$218,7,0),\"\")","v":""},null,""]
[null,null,null,{"$f":"IF(C3962=\"\",\"\",VLOOKUP(C3962,Tabla_Regional[],3,0))","v":""},null,{"$f":"IF(E3962<>\"\",VLOOKUP(CONCATENATE(C3962,E3962),Dato!$A$4:$I$218,7,0),\"\")","v":""},null,""]
[null,null,null,{"$f":"IF(C3963=\"\",\"\",VLOOKUP(C3963,Tabla_Regional[],3,0))","v":""},null,{"$f":"IF(E3963<>\"\",VLOOKUP(CONCATENATE(C3963,E3963),Dato!$A$4:$I$218,7,0),\"\")","v":""},null,""]
[null,null,null,{"$f":"IF(C3964=\"\",\"\",VLOOKUP(C3964,Tabla_Regional[],3,0))","v":""},null,{"$f":"IF(E3964<>\"\",VLOOKUP(CONCATENATE(C3964,E3964),Dato!$A$4:$I$218,7,0),\"\")","v":""},null,""]
[null,null,null,{"$f":"IF(C3965=\"\",\"\",VLOOKUP(C3965,Tabla_Regional[],3,0))","v":""},null,{"$f":"IF(E3965<>\"\",VLOOKUP(CONCATENATE(C3965,E3965),Dato!$A$4:$I$218,7,0),\"\")","v":""},null,""]
[null,null,null,{"$f":"IF(C3966=\"\",\"\",VLOOKUP(C3966,Tabla_Regional[],3,0))","v":""},null,{"$f":"IF(E3966<>\"\",VLOOKUP(CONCATENATE(C3966,E3966),Dato!$A$4:$I$218,7,0),\"\")","v":""},null,""]
[null,null,null,{"$f":"IF(C3967=\"\",\"\",VLOOKUP(C3967,Tabla_Regional[],3,0))","v":""},null,{"$f":"IF(E3967<>\"\",VLOOKUP(CONCATENATE(C3967,E3967),Dato!$A$4:$I$218,7,0),\"\")","v":""},null,""]
[null,null,null,{"$f":"IF(C3968=\"\",\"\",VLOOKUP(C3968,Tabla_Regional[],3,0))","v":""},null,{"$f":"IF(E3968<>\"\",VLOOKUP(CONCATENATE(C3968,E3968),Dato!$A$4:$I$218,7,0),\"\")","v":""},null,""]
[null,null,null,{"$f":"IF(C3969=\"\",\"\",VLOOKUP(C3969,Tabla_Regional[],3,0))","v":""},null,{"$f":"IF(E3969<>\"\",VLOOKUP(CONCATENATE(C3969,E3969),Dato!$A$4:$I$218,7,0),\"\")","v":""},null,""]
[null,null,null,{"$f":"IF(C3970=\"\",\"\",VLOOKUP(C3970,Tabla_Regional[],3,0))","v":""},null,{"$f":"IF(E3970<>\"\",VLOOKUP(CONCATENATE(C3970,E3970),Dato!$A$4:$I$218,7,0),\"\")","v":""},null,""]
[null,null,null,{"$f":"IF(C3971=\"\",\"\",VLOOKUP(C3971,Tabla_Regional[],3,0))","v":""},null,{"$f":"IF(E3971<>\"\",VLOOKUP(CONCATENATE(C3971,E3971),Dato!$A$4:$I$218,7,0),\"\")","v":""},null,""]
[null,null,null,{"$f":"IF(C3972=\"\",\"\",VLOOKUP(C3972,Tabla_Regional[],3,0))","v":""},null,{"$f":"IF(E3972<>\"\",VLOOKUP(CONCATENATE(C3972,E3972),Dato!$A$4:$I$218,7,0),\"\")","v":""},null,""]
[null,null,null,{"$f":"IF(C3973=\"\",\"\",VLOOKUP(C3973,Tabla_Regional[],3,0))","v":""},null,{"$f":"IF(E3973<>\"\",VLOOKUP(CONCATENATE(C3973,E3973),Dato!$A$4:$I$218,7,0),\"\")","v":""},null,""]
[null,null,null,{"$f":"IF(C3974=\"\",\"\",VLOOKUP(C3974,Tabla_Regional[],3,0))","v":""},null,{"$f":"IF(E3974<>\"\",VLOOKUP(CONCATENATE(C3974,E3974),Dato!$A$4:$I$218,7,0),\"\")","v":""},null,""]
[null,null,null,{"$f":"IF(C3975=\"\",\"\",VLOOKUP(C3975,Tabla_Regional[],3,0))","v":""},null,{"$f":"IF(E3975<>\"\",VLOOKUP(CONCATENATE(C3975,E3975),Dato!$A$4:$I$218,7,0),\"\")","v":""},null,""]
[null,null,null,{"$f":"IF(C3976=\"\",\"\",VLOOKUP(C3976,Tabla_Regional[],3,0))","v":""},null,{"$f":"IF(E3976<>\"\",VLOOKUP(CONCATENATE(C3976,E3976),Dato!$A$4:$I$218,7,0),\"\")","v":""},null,""]
[null,null,null,{"$f":"IF(C3977=\"\",\"\",VLOOKUP(C3977,Tabla_Regional[],3,0))","v":""},null,{"$f":"IF(E3977<>\"\",VLOOKUP(CONCATENATE(C3977,E3977),Dato!$A$4:$I$218,7,0),\"\")","v":""},null,""]
[null,null,null,{"$f":"IF(C3978=\"\",\"\",VLOOKUP(C3978,Tabla_Regional[],3,0))","v":""},null,{"$f":"IF(E3978<>\"\",VLOOKUP(CONCATENATE(C3978,E3978),Dato!$A$4:$I$218,7,0),\"\")","v":""},null,""]
[null,null,null,{"$f":"IF(C3979=\"\",\"\",VLOOKUP(C3979,Tabla_Regional[],3,0))","v":""},null,{"$f":"IF(E3979<>\"\",VLOOKUP(CONCATENATE(C3979,E3979),Dato!$A$4:$I$218,7,0),\"\")","v":""},null,""]
[null,null,null,{"$f":"IF(C3980=\"\",\"\",VLOOKUP(C3980,Tabla_Regional[],3,0))","v":""},null,{"$f":"IF(E3980<>\"\",VLOOKUP(CONCATENATE(C3980,E3980),Dato!$A$4:$I$218,7,0),\"\")","v":""},null,{"$f":"IF(G3980<>\"\",VLOOKUP(CONCATENATE(C3980,E3980,G3980),czmuni,7,0),\"\")","v":""}]
[null,null,null,{"$f":"IF(C3981=\"\",\"\",VLOOKUP(C3981,Tabla_Regional[],3,0))","v":""},null,{"$f":"IF(E3981<>\"\",VLOOKUP(CONCATENATE(C3981,E3981),Dato!$A$4:$I$218,7,0),\"\")","v":""},null,""]
[null,null,null,{"$f":"IF(C3982=\"\",\"\",VLOOKUP(C3982,Tabla_Regional[],3,0))","v":""},null,{"$f":"IF(E3982<>\"\",VLOOKUP(CONCATENATE(C3982,E3982),Dato!$A$4:$I$218,7,0),\"\")","v":""},null,""]
[null,null,null,{"$f":"IF(C3983=\"\",\"\",VLOOKUP(C3983,Tabla_Regional[],3,0))","v":""},null,{"$f":"IF(E3983<>\"\",VLOOKUP(CONCATENATE(C3983,E3983),Dato!$A$4:$I$218,7,0),\"\")","v":""},null,""]
[null,null,null,{"$f":"IF(C3984=\"\",\"\",VLOOKUP(C3984,Tabla_Regional[],3,0))","v":""},null,{"$f":"IF(E3984<>\"\",VLOOKUP(CONCATENATE(C3984,E3984),Dato!$A$4:$I$218,7,0),\"\")","v":""},null,""]
[null,null,null,{"$f":"IF(C3985=\"\",\"\",VLOOKUP(C3985,Tabla_Regional[],3,0))","v":""},null,{"$f":"IF(E3985<>\"\",VLOOKUP(CONCATENATE(C3985,E3985),Dato!$A$4:$I$218,7,0),\"\")","v":""},null,""]
[null,null,null,{"$f":"IF(C3986=\"\",\"\",VLOOKUP(C3986,Tabla_Regional[],3,0))","v":""},null,{"$f":"IF(E3986<>\"\",VLOOKUP(CONCATENATE(C3986,E3986),Dato!$A$4:$I$218,7,0),\"\")","v":""},null,""]
[null,null,null,{"$f":"IF(C3987=\"\",\"\",VLOOKUP(C3987,Tabla_Regional[],3,0))","v":""},null,{"$f":"IF(E3987<>\"\",VLOOKUP(CONCATENATE(C3987,E3987),Dato!$A$4:$I$218,7,0),\"\")","v":""},null,""]
[null,null,null,{"$f":"IF(C3988=\"\",\"\",VLOOKUP(C3988,Tabla_Regional[],3,0))","v":""},null,{"$f":"IF(E3988<>\"\",VLOOKUP(CONCATENATE(C3988,E3988),Dato!$A$4:$I$218,7,0),\"\")","v":""},null,""]
[null,null,null,{"$f":"IF(C3989=\"\",\"\",VLOOKUP(C3989,Tabla_Regional[],3,0))","v":""},null,{"$f":"IF(E3989<>\"\",VLOOKUP(CONCATENATE(C3989,E3989),Dato!$A$4:$I$218,7,0),\"\")","v":""},null,""]
[null,null,null,{"$f":"IF(C3990=\"\",\"\",VLOOKUP(C3990,Tabla_Regional[],3,0))","v":""},null,{"$f":"IF(E3990<>\"\",VLOOKUP(CONCATENATE(C3990,E3990),Dato!$A$4:$I$218,7,0),\"\")","v":""},null,""]
[null,null,null,{"$f":"IF(C3991=\"\",\"\",VLOOKUP(C3991,Tabla_Regional[],3,0))","v":""},null,{"$f":"IF(E3991<>\"\",VLOOKUP(CONCATENATE(C3991,E3991),Dato!$A$4:$I$218,7,0),\"\")","v":""},null,""]
[null,null,null,{"$f":"IF(C3992=\"\",\"\",VLOOKUP(C3992,Tabla_Regional[],3,0))","v":""},null,{"$f":"IF(E3992<>\"\",VLOOKUP(CONCATENATE(C3992,E3992),Dato!$A$4:$I$218,7,0),\"\")","v":""},null,""]
[null,null,null,{"$f":"IF(C3993=\"\",\"\",VLOOKUP(C3993,Tabla_Regional[],3,0))","v":""},null,{"$f":"IF(E3993<>\"\",VLOOKUP(CONCATENATE(C3993,E3993),Dato!$A$4:$I$218,7,0),\"\")","v":""},null,""]
[null,null,null,{"$f":"IF(C3994=\"\",\"\",VLOOKUP(C3994,Tabla_Regional[],3,0))","v":""},null,{"$f":"IF(E3994<>\"\",VLOOKUP(CONCATENATE(C3994,E3994),Dato!$A$4:$I$218,7,0),\"\")","v":""},null,""]
[null,null,null,{"$f":"IF(C3995=\"\",\"\",VLOOKUP(C3995,Tabla_Regional[],3,0))","v":""},null,{"$f":"IF(E3995<>\"\",VLOOKUP(CONCATENATE(C3995,E3995),Dato!$A$4:$I$218,7,0),\"\")","v":""},null,""]
[null,null,null,{"$f":"IF(C3996=\"\",\"\",VLOOKUP(C3996,Tabla_Regional[],3,0))","v":""},null,{"$f":"IF(E3996<>\"\",VLOOKUP(CONCATENATE(C3996,E3996),Dato!$A$4:$I$218,7,0),\"\")","v":""},null,""]
[null,null,null,{"$f":"IF(C3997=\"\",\"\",VLOOKUP(C3997,Tabla_Regional[],3,0))","v":""},null,{"$f":"IF(E3997<>\"\",VLOOKUP(CONCATENATE(C3997,E3997),Dato!$A$4:$I$218,7,0),\"\")","v":""},null,""]
[null,null,null,{"$f":"IF(C3998=\"\",\"\",VLOOKUP(C3998,Tabla_Regional[],3,0))","v":""},null,{"$f":"IF(E3998<>\"\",VLOOKUP(CONCATENATE(C3998,E3998),Dato!$A$4:$I$218,7,0),\"\")","v":""},null,""]
[null,null,null,{"$f":"IF(C3999=\"\",\"\",VLOOKUP(C3999,Tabla_Regional[],3,0))","v":""},null,{"$f":"IF(E3999<>\"\",VLOOKUP(CONCATENATE(C3999,E3999),Dato!$A$4:$I$218,7,0),\"\")","v":""},null,""]
[null,null,null,{"$f":"IF(C4000=\"\",\"\",VLOOKUP(C4000,Tabla_Regional[],3,0))","v":""},null,{"$f":"IF(E4000<>\"\",VLOOKUP(CONCATENATE(C4000,E4000),Dato!$A$4:$I$218,7,0),\"\")","v":""},null,""]
[null,null,null,{"$f":"IF(C4001=\"\",\"\",VLOOKUP(C4001,Tabla_Regional[],3,0))","v":""},null,{"$f":"IF(E4001<>\"\",VLOOKUP(CONCATENATE(C4001,E4001),Dato!$A$4:$I$218,7,0),\"\")","v":""},null,""]
[null,null,null,{"$f":"IF(C4002=\"\",\"\",VLOOKUP(C4002,Tabla_Regional[],3,0))","v":""},null,{"$f":"IF(E4002<>\"\",VLOOKUP(CONCATENATE(C4002,E4002),Dato!$A$4:$I$218,7,0),\"\")","v":""},null,""]
[null,null,null,{"$f":"IF(C4003=\"\",\"\",VLOOKUP(C4003,Tabla_Regional[],3,0))","v":""},null,{"$f":"IF(E4003<>\"\",VLOOKUP(CONCATENATE(C4003,E4003),Dato!$A$4:$I$218,7,0),\"\")","v":""},null,""]
[null,null,null,{"$f":"IF(C4004=\"\",\"\",VLOOKUP(C4004,Tabla_Regional[],3,0))","v":""},null,{"$f":"IF(E4004<>\"\",VLOOKUP(CONCATENATE(C4004,E4004),Dato!$A$4:$I$218,7,0),\"\")","v":""},null,""]
[null,null,null,{"$f":"IF(C4005=\"\",\"\",VLOOKUP(C4005,Tabla_Regional[],3,0))","v":""},null,{"$f":"IF(E4005<>\"\",VLOOKUP(CONCATENATE(C4005,E4005),Dato!$A$4:$I$218,7,0),\"\")","v":""},null,""]
[null,null,null,{"$f":"IF(C4006=\"\",\"\",VLOOKUP(C4006,Tabla_Regional[],3,0))","v":""},null,{"$f":"IF(E4006<>\"\",VLOOKUP(CONCATENATE(C4006,E4006),Dato!$A$4:$I$218,7,0),\"\")","v":""},null,""]
[null,null,null,{"$f":"IF(C4007=\"\",\"\",VLOOKUP(C4007,Tabla_Regional[],3,0))","v":""},null,{"$f":"IF(E4007<>\"\",VLOOKUP(CONCATENATE(C4007,E4007),Dato!$A$4:$I$218,7,0),\"\")","v":""},null,""]
[null,null,null,{"$f":"IF(C4008=\"\",\"\",VLOOKUP(C4008,Tabla_Regional[],3,0))","v":""},null,{"$f":"IF(E4008<>\"\",VLOOKUP(CONCATENATE(C4008,E4008),Dato!$A$4:$I$218,7,0),\"\")","v":""},null,""]
[null,null,null,{"$f":"IF(C4009=\"\",\"\",VLOOKUP(C4009,Tabla_Regional[],3,0))","v":""},null,{"$f":"IF(E4009<>\"\",VLOOKUP(CONCATENATE(C4009,E4009),Dato!$A$4:$I$218,7,0),\"\")","v":""},null,""]
[null,null,null,{"$f":"IF(C4010=\"\",\"\",VLOOKUP(C4010,Tabla_Regional[],3,0))","v":""},null,{"$f":"IF(E4010<>\"\",VLOOKUP(CONCATENATE(C4010,E4010),Dato!$A$4:$I$218,7,0),\"\")","v":""},null,""]
[null,null,null,{"$f":"IF(C4011=\"\",\"\",VLOOKUP(C4011,Tabla_Regional[],3,0))","v":""},null,{"$f":"IF(E4011<>\"\",VLOOKUP(CONCATENATE(C4011,E4011),Dato!$A$4:$I$218,7,0),\"\")","v":""},null,""]
[null,null,null,{"$f":"IF(C4012=\"\",\"\",VLOOKUP(C4012,Tabla_Regional[],3,0))","v":""},null,{"$f":"IF(E4012<>\"\",VLOOKUP(CONCATENATE(C4012,E4012),Dato!$A$4:$I$218,7,0),\"\")","v":""},null,""]
[null,null,null,{"$f":"IF(C4013=\"\",\"\",VLOOKUP(C4013,Tabla_Regional[],3,0))","v":""},null,{"$f":"IF(E4013<>\"\",VLOOKUP(CONCATENATE(C4013,E4013),Dato!$A$4:$I$218,7,0),\"\")","v":""},null,""]
[null,null,null,{"$f":"IF(C4014=\"\",\"\",VLOOKUP(C4014,Tabla_Regional[],3,0))","v":""},null,{"$f":"IF(E4014<>\"\",VLOOKUP(CONCATENATE(C4014,E4014),Dato!$A$4:$I$218,7,0),\"\")","v":""},null,""]
[null,null,null,{"$f":"IF(C4015=\"\",\"\",VLOOKUP(C4015,Tabla_Regional[],3,0))","v":""},null,{"$f":"IF(E4015<>\"\",VLOOKUP(CONCATENATE(C4015,E4015),Dato!$A$4:$I$218,7,0),\"\")","v":""},null,""]
[null,null,null,{"$f":"IF(C4016=\"\",\"\",VLOOKUP(C4016,Tabla_Regional[],3,0))","v":""},null,{"$f":"IF(E4016<>\"\",VLOOKUP(CONCATENATE(C4016,E4016),Dato!$A$4:$I$218,7,0),\"\")","v":""},null,""]
[null,null,null,{"$f":"IF(C4017=\"\",\"\",VLOOKUP(C4017,Tabla_Regional[],3,0))","v":""},null,{"$f":"IF(E4017<>\"\",VLOOKUP(CONCATENATE(C4017,E4017),Dato!$A$4:$I$218,7,0),\"\")","v":""},null,""]
[null,null,null,{"$f":"IF(C4018=\"\",\"\",VLOOKUP(C4018,Tabla_Regional[],3,0))","v":""},null,{"$f":"IF(E4018<>\"\",VLOOKUP(CONCATENATE(C4018,E4018),Dato!$A$4:$I$218,7,0),\"\")","v":""},null,""]
[null,null,null,{"$f":"IF(C4019=\"\",\"\",VLOOKUP(C4019,Tabla_Regional[],3,0))","v":""},null,{"$f":"IF(E4019<>\"\",VLOOKUP(CONCATENATE(C4019,E4019),Dato!$A$4:$I$218,7,0),\"\")","v":""},null,""]
[null,null,null,{"$f":"IF(C4020=\"\",\"\",VLOOKUP(C4020,Tabla_Regional[],3,0))","v":""},null,{"$f":"IF(E4020<>\"\",VLOOKUP(CONCATENATE(C4020,E4020),Dato!$A$4:$I$218,7,0),\"\")","v":""},null,""]
[null,null,null,{"$f":"IF(C4021=\"\",\"\",VLOOKUP(C4021,Tabla_Regional[],3,0))","v":""},null,{"$f":"IF(E4021<>\"\",VLOOKUP(CONCATENATE(C4021,E4021),Dato!$A$4:$I$218,7,0),\"\")","v":""},null,""]
[null,null,null,{"$f":"IF(C4022=\"\",\"\",VLOOKUP(C4022,Tabla_Regional[],3,0))","v":""},null,{"$f":"IF(E4022<>\"\",VLOOKUP(CONCATENATE(C4022,E4022),Dato!$A$4:$I$218,7,0),\"\")","v":""},null,""]
[null,null,null,{"$f":"IF(C4023=\"\",\"\",VLOOKUP(C4023,Tabla_Regional[],3,0))","v":""},null,{"$f":"IF(E4023<>\"\",VLOOKUP(CONCATENATE(C4023,E4023),Dato!$A$4:$I$218,7,0),\"\")","v":""},null,""]
[null,null,null,{"$f":"IF(C4024=\"\",\"\",VLOOKUP(C4024,Tabla_Regional[],3,0))","v":""},null,{"$f":"IF(E4024<>\"\",VLOOKUP(CONCATENATE(C4024,E4024),Dato!$A$4:$I$218,7,0),\"\")","v":""},null,""]
[null,null,null,{"$f":"IF(C4025=\"\",\"\",VLOOKUP(C4025,Tabla_Regional[],3,0))","v":""},null,{"$f":"IF(E4025<>\"\",VLOOKUP(CONCATENATE(C4025,E4025),Dato!$A$4:$I$218,7,0),\"\")","v":""},null,""]
[null,null,null,{"$f":"IF(C4026=\"\",\"\",VLOOKUP(C4026,Tabla_Regional[],3,0))","v":""},null,{"$f":"IF(E4026<>\"\",VLOOKUP(CONCATENATE(C4026,E4026),Dato!$A$4:$I$218,7,0),\"\")","v":""},null,""]
[null,null,null,{"$f":"IF(C4027=\"\",\"\",VLOOKUP(C4027,Tabla_Regional[],3,0))","v":""},null,{"$f":"IF(E4027<>\"\",VLOOKUP(CONCATENATE(C4027,E4027),Dato!$A$4:$I$218,7,0),\"\")","v":""},null,""]
[null,null,null,{"$f":"IF(C4028=\"\",\"\",VLOOKUP(C4028,Tabla_Regional[],3,0))","v":""},null,{"$f":"IF(E4028<>\"\",VLOOKUP(CONCATENATE(C4028,E4028),Dato!$A$4:$I$218,7,0),\"\")","v":""},null,""]
[null,null,null,{"$f":"IF(C4029=\"\",\"\",VLOOKUP(C4029,Tabla_Regional[],3,0))","v":""},null,{"$f":"IF(E4029<>\"\",VLOOKUP(CONCATENATE(C4029,E4029),Dato!$A$4:$I$218,7,0),\"\")","v":""},null,""]
[null,null,null,{"$f":"IF(C4030=\"\",\"\",VLOOKUP(C4030,Tabla_Regional[],3,0))","v":""},null,{"$f":"IF(E4030<>\"\",VLOOKUP(CONCATENATE(C4030,E4030),Dato!$A$4:$I$218,7,0),\"\")","v":""},null,""]
[null,null,null,{"$f":"IF(C4031=\"\",\"\",VLOOKUP(C4031,Tabla_Regional[],3,0))","v":""},null,{"$f":"IF(E4031<>\"\",VLOOKUP(CONCATENATE(C4031,E4031),Dato!$A$4:$I$218,7,0),\"\")","v":""},null,""]
[null,null,null,{"$f":"IF(C4032=\"\",\"\",VLOOKUP(C4032,Tabla_Regional[],3,0))","v":""},null,{"$f":"IF(E4032<>\"\",VLOOKUP(CONCATENATE(C4032,E4032),Dato!$A$4:$I$218,7,0),\"\")","v":""},null,""]
[null,null,null,{"$f":"IF(C4033=\"\",\"\",VLOOKUP(C4033,Tabla_Regional[],3,0))","v":""},null,{"$f":"IF(E4033<>\"\",VLOOKUP(CONCATENATE(C4033,E4033),Dato!$A$4:$I$218,7,0),\"\")","v":""},null,""]
[null,null,null,{"$f":"IF(C4034=\"\",\"\",VLOOKUP(C4034,Tabla_Regional[],3,0))","v":""},null,{"$f":"IF(E4034<>\"\",VLOOKUP(CONCATENATE(C4034,E4034),Dato!$A$4:$I$218,7,0),\"\")","v":""},null,""]
[null,null,null,{"$f":"IF(C4035=\"\",\"\",VLOOKUP(C4035,Tabla_Regional[],3,0))","v":""},null,{"$f":"IF(E4035<>\"\",VLOOKUP(CONCATENATE(C4035,E4035),Dato!$A$4:$I$218,7,0),\"\")","v":""},null,""]
[null,null,null,{"$f":"IF(C4036=\"\",\"\",VLOOKUP(C4036,Tabla_Regional[],3,0))","v":""},null,{"$f":"IF(E4036<>\"\",VLOOKUP(CONCATENATE(C4036,E4036),Dato!$A$4:$I$218,7,0),\"\")","v":""},null,""]
[null,null,null,{"$f":"IF(C4037=\"\",\"\",VLOOKUP(C4037,Tabla_Regional[],3,0))","v":""},null,{"$f":"IF(E4037<>\"\",VLOOKUP(CONCATENATE(C4037,E4037),Dato!$A$4:$I$218,7,0),\"\")","v":""},null,""]
[null,null,null,{"$f":"IF(C4038=\"\",\"\",VLOOKUP(C4038,Tabla_Regional[],3,0))","v":""},null,{"$f":"IF(E4038<>\"\",VLOOKUP(CONCATENATE(C4038,E4038),Dato!$A$4:$I$218,7,0),\"\")","v":""},null,""]
[null,null,null,{"$f":"IF(C4039=\"\",\"\",VLOOKUP(C4039,Tabla_Regional[],3,0))","v":""},null,{"$f":"IF(E4039<>\"\",VLOOKUP(CONCATENATE(C4039,E4039),Dato!$A$4:$I$218,7,0),\"\")","v":""},null,""]
[null,null,null,{"$f":"IF(C4040=\"\",\"\",VLOOKUP(C4040,Tabla_Regional[],3,0))","v":""},null,{"$f":"IF(E4040<>\"\",VLOOKUP(CONCATENATE(C4040,E4040),Dato!$A$4:$I$218,7,0),\"\")","v":""},null,""]
[null,null,null,{"$f":"IF(C4041=\"\",\"\",VLOOKUP(C4041,Tabla_Regional[],3,0))","v":""},null,{"$f":"IF(E4041<>\"\",VLOOKUP(CONCATENATE(C4041,E4041),Dato!$A$4:$I$218,7,0),\"\")","v":""},null,""]
[null,null,null,{"$f":"IF(C4042=\"\",\"\",VLOOKUP(C4042,Tabla_Regional[],3,0))","v":""},null,{"$f":"IF(E4042<>\"\",VLOOKUP(CONCATENATE(C4042,E4042),Dato!$A$4:$I$218,7,0),\"\")","v":""},null,""]
[null,null,null,{"$f":"IF(C4043=\"\",\"\",VLOOKUP(C4043,Tabla_Regional[],3,0))","v":""},null,{"$f":"IF(E4043<>\"\",VLOOKUP(CONCATENATE(C4043,E4043),Dato!$A$4:$I$218,7,0),\"\")","v":""},null,""]
[null,null,null,{"$f":"IF(C4044=\"\",\"\",VLOOKUP(C4044,Tabla_Regional[],3,0))","v":""},null,{"$f":"IF(E4044<>\"\",VLOOKUP(CONCATENATE(C4044,E4044),Dato!$A$4:$I$218,7,0),\"\")","v":""},null,{"$f":"IF(G4044<>\"\",VLOOKUP(CONCATENATE(C4044,E4044,G4044),czmuni,7,0),\"\")","v":""}]
[null,null,null,{"$f":"IF(C4045=\"\",\"\",VLOOKUP(C4045,Tabla_Regional[],3,0))","v":""},null,{"$f":"IF(E4045<>\"\",VLOOKUP(CONCATENATE(C4045,E4045),Dato!$A$4:$I$218,7,0),\"\")","v":""},null,""]
[null,null,null,{"$f":"IF(C4046=\"\",\"\",VLOOKUP(C4046,Tabla_Regional[],3,0))","v":""},null,{"$f":"IF(E4046<>\"\",VLOOKUP(CONCATENATE(C4046,E4046),Dato!$A$4:$I$218,7,0),\"\")","v":""},null,""]
[null,null,null,{"$f":"IF(C4047=\"\",\"\",VLOOKUP(C4047,Tabla_Regional[],3,0))","v":""},null,{"$f":"IF(E4047<>\"\",VLOOKUP(CONCATENATE(C4047,E4047),Dato!$A$4:$I$218,7,0),\"\")","v":""},null,""]
[null,null,null,{"$f":"IF(C4048=\"\",\"\",VLOOKUP(C4048,Tabla_Regional[],3,0))","v":""},null,{"$f":"IF(E4048<>\"\",VLOOKUP(CONCATENATE(C4048,E4048),Dato!$A$4:$I$218,7,0),\"\")","v":""},null,""]
[null,null,null,{"$f":"IF(C4049=\"\",\"\",VLOOKUP(C4049,Tabla_Regional[],3,0))","v":""},null,{"$f":"IF(E4049<>\"\",VLOOKUP(CONCATENATE(C4049,E4049),Dato!$A$4:$I$218,7,0),\"\")","v":""},null,""]
[null,null,null,{"$f":"IF(C4050=\"\",\"\",VLOOKUP(C4050,Tabla_Regional[],3,0))","v":""},null,{"$f":"IF(E4050<>\"\",VLOOKUP(CONCATENATE(C4050,E4050),Dato!$A$4:$I$218,7,0),\"\")","v":""},null,""]
[null,null,null,{"$f":"IF(C4051=\"\",\"\",VLOOKUP(C4051,Tabla_Regional[],3,0))","v":""},null,{"$f":"IF(E4051<>\"\",VLOOKUP(CONCATENATE(C4051,E4051),Dato!$A$4:$I$218,7,0),\"\")","v":""},null,""]
[null,null,null,{"$f":"IF(C4052=\"\",\"\",VLOOKUP(C4052,Tabla_Regional[],3,0))","v":""},null,{"$f":"IF(E4052<>\"\",VLOOKUP(CONCATENATE(C4052,E4052),Dato!$A$4:$I$218,7,0),\"\")","v":""},null,""]
[null,null,null,{"$f":"IF(C4053=\"\",\"\",VLOOKUP(C4053,Tabla_Regional[],3,0))","v":""},null,{"$f":"IF(E4053<>\"\",VLOOKUP(CONCATENATE(C4053,E4053),Dato!$A$4:$I$218,7,0),\"\")","v":""},null,""]
[null,null,null,{"$f":"IF(C4054=\"\",\"\",VLOOKUP(C4054,Tabla_Regional[],3,0))","v":""},null,{"$f":"IF(E4054<>\"\",VLOOKUP(CONCATENATE(C4054,E4054),Dato!$A$4:$I$218,7,0),\"\")","v":""},null,""]
[null,null,null,{"$f":"IF(C4055=\"\",\"\",VLOOKUP(C4055,Tabla_Regional[],3,0))","v":""},null,{"$f":"IF(E4055<>\"\",VLOOKUP(CONCATENATE(C4055,E4055),Dato!$A$4:$I$218,7,0),\"\")","v":""},null,""]
[null,null,null,{"$f":"IF(C4056=\"\",\"\",VLOOKUP(C4056,Tabla_Regional[],3,0))","v":""},null,{"$f":"IF(E4056<>\"\",VLOOKUP(CONCATENATE(C4056,E4056),Dato!$A$4:$I$218,7,0),\"\")","v":""},null,""]
[null,null,null,{"$f":"IF(C4057=\"\",\"\",VLOOKUP(C4057,Tabla_Regional[],3,0))","v":""},null,{"$f":"IF(E4057<>\"\",VLOOKUP(CONCATENATE(C4057,E4057),Dato!$A$4:$I$218,7,0),\"\")","v":""},null,""]
[null,null,null,{"$f":"IF(C4058=\"\",\"\",VLOOKUP(C4058,Tabla_Regional[],3,0))","v":""},null,{"$f":"IF(E4058<>\"\",VLOOKUP(CONCATENATE(C4058,E4058),Dato!$A$4:$I$218,7,0),\"\")","v":""},null,""]
[null,null,null,{"$f":"IF(C4059=\"\",\"\",VLOOKUP(C4059,Tabla_Regional[],3,0))","v":""},null,{"$f":"IF(E4059<>\"\",VLOOKUP(CONCATENATE(C4059,E4059),Dato!$A$4:$I$218,7,0),\"\")","v":""},null,""]
[null,null,null,{"$f":"IF(C4060=\"\",\"\",VLOOKUP(C4060,Tabla_Regional[],3,0))","v":""},null,{"$f":"IF(E4060<>\"\",VLOOKUP(CONCATENATE(C4060,E4060),Dato!$A$4:$I$218,7,0),\"\")","v":""},null,""]
[null,null,null,{"$f":"IF(C4061=\"\",\"\",VLOOKUP(C4061,Tabla_Regional[],3,0))","v":""},null,{"$f":"IF(E4061<>\"\",VLOOKUP(CONCATENATE(C4061,E4061),Dato!$A$4:$I$218,7,0),\"\")","v":""},null,""]
[null,null,null,{"$f":"IF(C4062=\"\",\"\",VLOOKUP(C4062,Tabla_Regional[],3,0))","v":""},null,{"$f":"IF(E4062<>\"\",VLOOKUP(CONCATENATE(C4062,E4062),Dato!$A$4:$I$218,7,0),\"\")","v":""},null,""]
[null,null,null,{"$f":"IF(C4063=\"\",\"\",VLOOKUP(C4063,Tabla_Regional[],3,0))","v":""},null,{"$f":"IF(E4063<>\"\",VLOOKUP(CONCATENATE(C4063,E4063),Dato!$A$4:$I$218,7,0),\"\")","v":""},null,""]
[null,null,null,{"$f":"IF(C4064=\"\",\"\",VLOOKUP(C4064,Tabla_Regional[],3,0))","v":""},null,{"$f":"IF(E4064<>\"\",VLOOKUP(CONCATENATE(C4064,E4064),Dato!$A$4:$I$218,7,0),\"\")","v":""},null,""]
[null,null,null,{"$f":"IF(C4065=\"\",\"\",VLOOKUP(C4065,Tabla_Regional[],3,0))","v":""},null,{"$f":"IF(E4065<>\"\",VLOOKUP(CONCATENATE(C4065,E4065),Dato!$A$4:$I$218,7,0),\"\")","v":""},null,""]
[null,null,null,{"$f":"IF(C4066=\"\",\"\",VLOOKUP(C4066,Tabla_Regional[],3,0))","v":""},null,{"$f":"IF(E4066<>\"\",VLOOKUP(CONCATENATE(C4066,E4066),Dato!$A$4:$I$218,7,0),\"\")","v":""},null,""]
[null,null,null,{"$f":"IF(C4067=\"\",\"\",VLOOKUP(C4067,Tabla_Regional[],3,0))","v":""},null,{"$f":"IF(E4067<>\"\",VLOOKUP(CONCATENATE(C4067,E4067),Dato!$A$4:$I$218,7,0),\"\")","v":""},null,""]
[null,null,null,{"$f":"IF(C4068=\"\",\"\",VLOOKUP(C4068,Tabla_Regional[],3,0))","v":""},null,{"$f":"IF(E4068<>\"\",VLOOKUP(CONCATENATE(C4068,E4068),Dato!$A$4:$I$218,7,0),\"\")","v":""},null,""]
[null,null,null,{"$f":"IF(C4069=\"\",\"\",VLOOKUP(C4069,Tabla_Regional[],3,0))","v":""},null,{"$f":"IF(E4069<>\"\",VLOOKUP(CONCATENATE(C4069,E4069),Dato!$A$4:$I$218,7,0),\"\")","v":""},null,""]
[null,null,null,{"$f":"IF(C4070=\"\",\"\",VLOOKUP(C4070,Tabla_Regional[],3,0))","v":""},null,{"$f":"IF(E4070<>\"\",VLOOKUP(CONCATENATE(C4070,E4070),Dato!$A$4:$I$218,7,0),\"\")","v":""},null,""]
[null,null,null,{"$f":"IF(C4071=\"\",\"\",VLOOKUP(C4071,Tabla_Regional[],3,0))","v":""},null,{"$f":"IF(E4071<>\"\",VLOOKUP(CONCATENATE(C4071,E4071),Dato!$A$4:$I$218,7,0),\"\")","v":""},null,""]
[null,null,null,{"$f":"IF(C4072=\"\",\"\",VLOOKUP(C4072,Tabla_Regional[],3,0))","v":""},null,{"$f":"IF(E4072<>\"\",VLOOKUP(CONCATENATE(C4072,E4072),Dato!$A$4:$I$218,7,0),\"\")","v":""},null,""]
[null,null,null,{"$f":"IF(C4073=\"\",\"\",VLOOKUP(C4073,Tabla_Regional[],3,0))","v":""},null,{"$f":"IF(E4073<>\"\",VLOOKUP(CONCATENATE(C4073,E4073),Dato!$A$4:$I$218,7,0),\"\")","v":""},null,""]
[null,null,null,{"$f":"IF(C4074=\"\",\"\",VLOOKUP(C4074,Tabla_Regional[],3,0))","v":""},null,{"$f":"IF(E4074<>\"\",VLOOKUP(CONCATENATE(C4074,E4074),Dato!$A$4:$I$218,7,0),\"\")","v":""},null,""]
[null,null,null,{"$f":"IF(C4075=\"\",\"\",VLOOKUP(C4075,Tabla_Regional[],3,0))","v":""},null,{"$f":"IF(E4075<>\"\",VLOOKUP(CONCATENATE(C4075,E4075),Dato!$A$4:$I$218,7,0),\"\")","v":""},null,""]
[null,null,null,{"$f":"IF(C4076=\"\",\"\",VLOOKUP(C4076,Tabla_Regional[],3,0))","v":""},null,{"$f":"IF(E4076<>\"\",VLOOKUP(CONCATENATE(C4076,E4076),Dato!$A$4:$I$218,7,0),\"\")","v":""},null,""]
[null,null,null,{"$f":"IF(C4077=\"\",\"\",VLOOKUP(C4077,Tabla_Regional[],3,0))","v":""},null,{"$f":"IF(E4077<>\"\",VLOOKUP(CONCATENATE(C4077,E4077),Dato!$A$4:$I$218,7,0),\"\")","v":""},null,""]
[null,null,null,{"$f":"IF(C4078=\"\",\"\",VLOOKUP(C4078,Tabla_Regional[],3,0))","v":""},null,{"$f":"IF(E4078<>\"\",VLOOKUP(CONCATENATE(C4078,E4078),Dato!$A$4:$I$218,7,0),\"\")","v":""},null,""]
[null,null,null,{"$f":"IF(C4079=\"\",\"\",VLOOKUP(C4079,Tabla_Regional[],3,0))","v":""},null,{"$f":"IF(E4079<>\"\",VLOOKUP(CONCATENATE(C4079,E4079),Dato!$A$4:$I$218,7,0),\"\")","v":""},null,""]
[null,null,null,{"$f":"IF(C4080=\"\",\"\",VLOOKUP(C4080,Tabla_Regional[],3,0))","v":""},null,{"$f":"IF(E4080<>\"\",VLOOKUP(CONCATENATE(C4080,E4080),Dato!$A$4:$I$218,7,0),\"\")","v":""},null,""]
[null,null,null,{"$f":"IF(C4081=\"\",\"\",VLOOKUP(C4081,Tabla_Regional[],3,0))","v":""},null,{"$f":"IF(E4081<>\"\",VLOOKUP(CONCATENATE(C4081,E4081),Dato!$A$4:$I$218,7,0),\"\")","v":""},null,""]
[null,null,null,{"$f":"IF(C4082=\"\",\"\",VLOOKUP(C4082,Tabla_Regional[],3,0))","v":""},null,{"$f":"IF(E4082<>\"\",VLOOKUP(CONCATENATE(C4082,E4082),Dato!$A$4:$I$218,7,0),\"\")","v":""},null,""]
[null,null,null,{"$f":"IF(C4083=\"\",\"\",VLOOKUP(C4083,Tabla_Regional[],3,0))","v":""},null,{"$f":"IF(E4083<>\"\",VLOOKUP(CONCATENATE(C4083,E4083),Dato!$A$4:$I$218,7,0),\"\")","v":""},null,""]
[null,null,null,{"$f":"IF(C4084=\"\",\"\",VLOOKUP(C4084,Tabla_Regional[],3,0))","v":""},null,{"$f":"IF(E4084<>\"\",VLOOKUP(CONCATENATE(C4084,E4084),Dato!$A$4:$I$218,7,0),\"\")","v":""},null,""]
[null,null,null,{"$f":"IF(C4085=\"\",\"\",VLOOKUP(C4085,Tabla_Regional[],3,0))","v":""},null,{"$f":"IF(E4085<>\"\",VLOOKUP(CONCATENATE(C4085,E4085),Dato!$A$4:$I$218,7,0),\"\")","v":""},null,""]
[null,null,null,{"$f":"IF(C4086=\"\",\"\",VLOOKUP(C4086,Tabla_Regional[],3,0))","v":""},null,{"$f":"IF(E4086<>\"\",VLOOKUP(CONCATENATE(C4086,E4086),Dato!$A$4:$I$218,7,0),\"\")","v":""},null,""]
[null,null,null,{"$f":"IF(C4087=\"\",\"\",VLOOKUP(C4087,Tabla_Regional[],3,0))","v":""},null,{"$f":"IF(E4087<>\"\",VLOOKUP(CONCATENATE(C4087,E4087),Dato!$A$4:$I$218,7,0),\"\")","v":""},null,""]
[null,null,null,{"$f":"IF(C4088=\"\",\"\",VLOOKUP(C4088,Tabla_Regional[],3,0))","v":""},null,{"$f":"IF(E4088<>\"\",VLOOKUP(CONCATENATE(C4088,E4088),Dato!$A$4:$I$218,7,0),\"\")","v":""},null,""]
[null,null,null,{"$f":"IF(C4089=\"\",\"\",VLOOKUP(C4089,Tabla_Regional[],3,0))","v":""},null,{"$f":"IF(E4089<>\"\",VLOOKUP(CONCATENATE(C4089,E4089),Dato!$A$4:$I$218,7,0),\"\")","v":""},null,""]
[null,null,null,{"$f":"IF(C4090=\"\",\"\",VLOOKUP(C4090,Tabla_Regional[],3,0))","v":""},null,{"$f":"IF(E4090<>\"\",VLOOKUP(CONCATENATE(C4090,E4090),Dato!$A$4:$I$218,7,0),\"\")","v":""},null,""]
[null,null,null,{"$f":"IF(C4091=\"\",\"\",VLOOKUP(C4091,Tabla_Regional[],3,0))","v":""},null,{"$f":"IF(E4091<>\"\",VLOOKUP(CONCATENATE(C4091,E4091),Dato!$A$4:$I$218,7,0),\"\")","v":""},null,""]
[null,null,null,{"$f":"IF(C4092=\"\",\"\",VLOOKUP(C4092,Tabla_Regional[],3,0))","v":""},null,{"$f":"IF(E4092<>\"\",VLOOKUP(CONCATENATE(C4092,E4092),Dato!$A$4:$I$218,7,0),\"\")","v":""},null,""]
[null,null,null,{"$f":"IF(C4093=\"\",\"\",VLOOKUP(C4093,Tabla_Regional[],3,0))","v":""},null,{"$f":"IF(E4093<>\"\",VLOOKUP(CONCATENATE(C4093,E4093),Dato!$A$4:$I$218,7,0),\"\")","v":""},null,""]
[null,null,null,{"$f":"IF(C4094=\"\",\"\",VLOOKUP(C4094,Tabla_Regional[],3,0))","v":""},null,{"$f":"IF(E4094<>\"\",VLOOKUP(CONCATENATE(C4094,E4094),Dato!$A$4:$I$218,7,0),\"\")","v":""},null,""]
[null,null,null,{"$f":"IF(C4095=\"\",\"\",VLOOKUP(C4095,Tabla_Regional[],3,0))","v":""},null,{"$f":"IF(E4095<>\"\",VLOOKUP(CONCATENATE(C4095,E4095),Dato!$A$4:$I$218,7,0),\"\")","v":""},null,""]
[null,null,null,{"$f":"IF(C4096=\"\",\"\",VLOOKUP(C4096,Tabla_Regional[],3,0))","v":""},null,{"$f":"IF(E4096<>\"\",VLOOKUP(CONCATENATE(C4096,E4096),Dato!$A$4:$I$218,7,0),\"\")","v":""},null,""]
[null,null,null,{"$f":"IF(C4097=\"\",\"\",VLOOKUP(C4097,Tabla_Regional[],3,0))","v":""},null,{"$f":"IF(E4097<>\"\",VLOOKUP(CONCATENATE(C4097,E4097),Dato!$A$4:$I$218,7,0),\"\")","v":""},null,""]
[null,null,null,{"$f":"IF(C4098=\"\",\"\",VLOOKUP(C4098,Tabla_Regional[],3,0))","v":""},null,{"$f":"IF(E4098<>\"\",VLOOKUP(CONCATENATE(C4098,E4098),Dato!$A$4:$I$218,7,0),\"\")","v":""},null,""]
[null,null,null,{"$f":"IF(C4099=\"\",\"\",VLOOKUP(C4099,Tabla_Regional[],3,0))","v":""},null,{"$f":"IF(E4099<>\"\",VLOOKUP(CONCATENATE(C4099,E4099),Dato!$A$4:$I$218,7,0),\"\")","v":""},null,""]
[null,null,null,{"$f":"IF(C4100=\"\",\"\",VLOOKUP(C4100,Tabla_Regional[],3,0))","v":""},null,{"$f":"IF(E4100<>\"\",VLOOKUP(CONCATENATE(C4100,E4100),Dato!$A$4:$I$218,7,0),\"\")","v":""},null,""]
[null,null,null,{"$f":"IF(C4101=\"\",\"\",VLOOKUP(C4101,Tabla_Regional[],3,0))","v":""},null,{"$f":"IF(E4101<>\"\",VLOOKUP(CONCATENATE(C4101,E4101),Dato!$A$4:$I$218,7,0),\"\")","v":""},null,""]
[null,null,null,{"$f":"IF(C4102=\"\",\"\",VLOOKUP(C4102,Tabla_Regional[],3,0))","v":""},null,{"$f":"IF(E4102<>\"\",VLOOKUP(CONCATENATE(C4102,E4102),Dato!$A$4:$I$218,7,0),\"\")","v":""},null,""]
[null,null,null,{"$f":"IF(C4103=\"\",\"\",VLOOKUP(C4103,Tabla_Regional[],3,0))","v":""},null,{"$f":"IF(E4103<>\"\",VLOOKUP(CONCATENATE(C4103,E4103),Dato!$A$4:$I$218,7,0),\"\")","v":""},null,""]
[null,null,null,{"$f":"IF(C4104=\"\",\"\",VLOOKUP(C4104,Tabla_Regional[],3,0))","v":""},null,{"$f":"IF(E4104<>\"\",VLOOKUP(CONCATENATE(C4104,E4104),Dato!$A$4:$I$218,7,0),\"\")","v":""},null,""]
[null,null,null,{"$f":"IF(C4105=\"\",\"\",VLOOKUP(C4105,Tabla_Regional[],3,0))","v":""},null,{"$f":"IF(E4105<>\"\",VLOOKUP(CONCATENATE(C4105,E4105),Dato!$A$4:$I$218,7,0),\"\")","v":""},null,""]
[null,null,null,{"$f":"IF(C4106=\"\",\"\",VLOOKUP(C4106,Tabla_Regional[],3,0))","v":""},null,{"$f":"IF(E4106<>\"\",VLOOKUP(CONCATENATE(C4106,E4106),Dato!$A$4:$I$218,7,0),\"\")","v":""},null,""]
[null,null,null,{"$f":"IF(C4107=\"\",\"\",VLOOKUP(C4107,Tabla_Regional[],3,0))","v":""},null,{"$f":"IF(E4107<>\"\",VLOOKUP(CONCATENATE(C4107,E4107),Dato!$A$4:$I$218,7,0),\"\")","v":""},null,""]
[null,null,null,{"$f":"IF(C4108=\"\",\"\",VLOOKUP(C4108,Tabla_Regional[],3,0))","v":""},null,{"$f":"IF(E4108<>\"\",VLOOKUP(CONCATENATE(C4108,E4108),Dato!$A$4:$I$218,7,0),\"\")","v":""},null,{"$f":"IF(G4108<>\"\",VLOOKUP(CONCATENATE(C4108,E4108,G4108),czmuni,7,0),\"\")","v":""}]
[null,null,null,{"$f":"IF(C4109=\"\",\"\",VLOOKUP(C4109,Tabla_Regional[],3,0))","v":""},null,{"$f":"IF(E4109<>\"\",VLOOKUP(CONCATENATE(C4109,E4109),Dato!$A$4:$I$218,7,0),\"\")","v":""},null,""]
[null,null,null,{"$f":"IF(C4110=\"\",\"\",VLOOKUP(C4110,Tabla_Regional[],3,0))","v":""},null,{"$f":"IF(E4110<>\"\",VLOOKUP(CONCATENATE(C4110,E4110),Dato!$A$4:$I$218,7,0),\"\")","v":""},null,""]
[null,null,null,{"$f":"IF(C4111=\"\",\"\",VLOOKUP(C4111,Tabla_Regional[],3,0))","v":""},null,{"$f":"IF(E4111<>\"\",VLOOKUP(CONCATENATE(C4111,E4111),Dato!$A$4:$I$218,7,0),\"\")","v":""},null,""]
[null,null,null,{"$f":"IF(C4112=\"\",\"\",VLOOKUP(C4112,Tabla_Regional[],3,0))","v":""},null,{"$f":"IF(E4112<>\"\",VLOOKUP(CONCATENATE(C4112,E4112),Dato!$A$4:$I$218,7,0),\"\")","v":""},null,""]
[null,null,null,{"$f":"IF(C4113=\"\",\"\",VLOOKUP(C4113,Tabla_Regional[],3,0))","v":""},null,{"$f":"IF(E4113<>\"\",VLOOKUP(CONCATENATE(C4113,E4113),Dato!$A$4:$I$218,7,0),\"\")","v":""},null,""]
[null,null,null,{"$f":"IF(C4114=\"\",\"\",VLOOKUP(C4114,Tabla_Regional[],3,0))","v":""},null,{"$f":"IF(E4114<>\"\",VLOOKUP(CONCATENATE(C4114,E4114),Dato!$A$4:$I$218,7,0),\"\")","v":""},null,""]
[null,null,null,{"$f":"IF(C4115=\"\",\"\",VLOOKUP(C4115,Tabla_Regional[],3,0))","v":""},null,{"$f":"IF(E4115<>\"\",VLOOKUP(CONCATENATE(C4115,E4115),Dato!$A$4:$I$218,7,0),\"\")","v":""},null,""]
[null,null,null,{"$f":"IF(C4116=\"\",\"\",VLOOKUP(C4116,Tabla_Regional[],3,0))","v":""},null,{"$f":"IF(E4116<>\"\",VLOOKUP(CONCATENATE(C4116,E4116),Dato!$A$4:$I$218,7,0),\"\")","v":""},null,""]
[null,null,null,{"$f":"IF(C4117=\"\",\"\",VLOOKUP(C4117,Tabla_Regional[],3,0))","v":""},null,{"$f":"IF(E4117<>\"\",VLOOKUP(CONCATENATE(C4117,E4117),Dato!$A$4:$I$218,7,0),\"\")","v":""},null,""]
[null,null,null,{"$f":"IF(C4118=\"\",\"\",VLOOKUP(C4118,Tabla_Regional[],3,0))","v":""},null,{"$f":"IF(E4118<>\"\",VLOOKUP(CONCATENATE(C4118,E4118),Dato!$A$4:$I$218,7,0),\"\")","v":""},null,""]
[null,null,null,{"$f":"IF(C4119=\"\",\"\",VLOOKUP(C4119,Tabla_Regional[],3,0))","v":""},null,{"$f":"IF(E4119<>\"\",VLOOKUP(CONCATENATE(C4119,E4119),Dato!$A$4:$I$218,7,0),\"\")","v":""},null,""]
[null,null,null,{"$f":"IF(C4120=\"\",\"\",VLOOKUP(C4120,Tabla_Regional[],3,0))","v":""},null,{"$f":"IF(E4120<>\"\",VLOOKUP(CONCATENATE(C4120,E4120),Dato!$A$4:$I$218,7,0),\"\")","v":""},null,""]
[null,null,null,{"$f":"IF(C4121=\"\",\"\",VLOOKUP(C4121,Tabla_Regional[],3,0))","v":""},null,{"$f":"IF(E4121<>\"\",VLOOKUP(CONCATENATE(C4121,E4121),Dato!$A$4:$I$218,7,0),\"\")","v":""},null,""]
[null,null,null,{"$f":"IF(C4122=\"\",\"\",VLOOKUP(C4122,Tabla_Regional[],3,0))","v":""},null,{"$f":"IF(E4122<>\"\",VLOOKUP(CONCATENATE(C4122,E4122),Dato!$A$4:$I$218,7,0),\"\")","v":""},null,""]
[null,null,null,{"$f":"IF(C4123=\"\",\"\",VLOOKUP(C4123,Tabla_Regional[],3,0))","v":""},null,{"$f":"IF(E4123<>\"\",VLOOKUP(CONCATENATE(C4123,E4123),Dato!$A$4:$I$218,7,0),\"\")","v":""},null,""]
[null,null,null,{"$f":"IF(C4124=\"\",\"\",VLOOKUP(C4124,Tabla_Regional[],3,0))","v":""},null,{"$f":"IF(E4124<>\"\",VLOOKUP(CONCATENATE(C4124,E4124),Dato!$A$4:$I$218,7,0),\"\")","v":""},null,""]
[null,null,null,{"$f":"IF(C4125=\"\",\"\",VLOOKUP(C4125,Tabla_Regional[],3,0))","v":""},null,{"$f":"IF(E4125<>\"\",VLOOKUP(CONCATENATE(C4125,E4125),Dato!$A$4:$I$218,7,0),\"\")","v":""},null,""]
[null,null,null,{"$f":"IF(C4126=\"\",\"\",VLOOKUP(C4126,Tabla_Regional[],3,0))","v":""},null,{"$f":"IF(E4126<>\"\",VLOOKUP(CONCATENATE(C4126,E4126),Dato!$A$4:$I$218,7,0),\"\")","v":""},null,""]
[null,null,null,{"$f":"IF(C4127=\"\",\"\",VLOOKUP(C4127,Tabla_Regional[],3,0))","v":""},null,{"$f":"IF(E4127<>\"\",VLOOKUP(CONCATENATE(C4127,E4127),Dato!$A$4:$I$218,7,0),\"\")","v":""},null,""]
[null,null,null,{"$f":"IF(C4128=\"\",\"\",VLOOKUP(C4128,Tabla_Regional[],3,0))","v":""},null,{"$f":"IF(E4128<>\"\",VLOOKUP(CONCATENATE(C4128,E4128),Dato!$A$4:$I$218,7,0),\"\")","v":""},null,""]
[null,null,null,{"$f":"IF(C4129=\"\",\"\",VLOOKUP(C4129,Tabla_Regional[],3,0))","v":""},null,{"$f":"IF(E4129<>\"\",VLOOKUP(CONCATENATE(C4129,E4129),Dato!$A$4:$I$218,7,0),\"\")","v":""},null,""]
[null,null,null,{"$f":"IF(C4130=\"\",\"\",VLOOKUP(C4130,Tabla_Regional[],3,0))","v":""},null,{"$f":"IF(E4130<>\"\",VLOOKUP(CONCATENATE(C4130,E4130),Dato!$A$4:$I$218,7,0),\"\")","v":""},null,""]
[null,null,null,{"$f":"IF(C4131=\"\",\"\",VLOOKUP(C4131,Tabla_Regional[],3,0))","v":""},null,{"$f":"IF(E4131<>\"\",VLOOKUP(CONCATENATE(C4131,E4131),Dato!$A$4:$I$218,7,0),\"\")","v":""},null,""]
[null,null,null,{"$f":"IF(C4132=\"\",\"\",VLOOKUP(C4132,Tabla_Regional[],3,0))","v":""},null,{"$f":"IF(E4132<>\"\",VLOOKUP(CONCATENATE(C4132,E4132),Dato!$A$4:$I$218,7,0),\"\")","v":""},null,""]
[null,null,null,{"$f":"IF(C4133=\"\",\"\",VLOOKUP(C4133,Tabla_Regional[],3,0))","v":""},null,{"$f":"IF(E4133<>\"\",VLOOKUP(CONCATENATE(C4133,E4133),Dato!$A$4:$I$218,7,0),\"\")","v":""},null,""]
[null,null,null,{"$f":"IF(C4134=\"\",\"\",VLOOKUP(C4134,Tabla_Regional[],3,0))","v":""},null,{"$f":"IF(E4134<>\"\",VLOOKUP(CONCATENATE(C4134,E4134),Dato!$A$4:$I$218,7,0),\"\")","v":""},null,""]
[null,null,null,{"$f":"IF(C4135=\"\",\"\",VLOOKUP(C4135,Tabla_Regional[],3,0))","v":""},null,{"$f":"IF(E4135<>\"\",VLOOKUP(CONCATENATE(C4135,E4135),Dato!$A$4:$I$218,7,0),\"\")","v":""},null,""]
[null,null,null,{"$f":"IF(C4136=\"\",\"\",VLOOKUP(C4136,Tabla_Regional[],3,0))","v":""},null,{"$f":"IF(E4136<>\"\",VLOOKUP(CONCATENATE(C4136,E4136),Dato!$A$4:$I$218,7,0),\"\")","v":""},null,""]
[null,null,null,{"$f":"IF(C4137=\"\",\"\",VLOOKUP(C4137,Tabla_Regional[],3,0))","v":""},null,{"$f":"IF(E4137<>\"\",VLOOKUP(CONCATENATE(C4137,E4137),Dato!$A$4:$I$218,7,0),\"\")","v":""},null,""]
[null,null,null,{"$f":"IF(C4138=\"\",\"\",VLOOKUP(C4138,Tabla_Regional[],3,0))","v":""},null,{"$f":"IF(E4138<>\"\",VLOOKUP(CONCATENATE(C4138,E4138),Dato!$A$4:$I$218,7,0),\"\")","v":""},null,""]
[null,null,null,{"$f":"IF(C4139=\"\",\"\",VLOOKUP(C4139,Tabla_Regional[],3,0))","v":""},null,{"$f":"IF(E4139<>\"\",VLOOKUP(CONCATENATE(C4139,E4139),Dato!$A$4:$I$218,7,0),\"\")","v":""},null,""]
[null,null,null,{"$f":"IF(C4140=\"\",\"\",VLOOKUP(C4140,Tabla_Regional[],3,0))","v":""},null,{"$f":"IF(E4140<>\"\",VLOOKUP(CONCATENATE(C4140,E4140),Dato!$A$4:$I$218,7,0),\"\")","v":""},null,""]
[null,null,null,{"$f":"IF(C4141=\"\",\"\",VLOOKUP(C4141,Tabla_Regional[],3,0))","v":""},null,{"$f":"IF(E4141<>\"\",VLOOKUP(CONCATENATE(C4141,E4141),Dato!$A$4:$I$218,7,0),\"\")","v":""},null,""]
[null,null,null,{"$f":"IF(C4142=\"\",\"\",VLOOKUP(C4142,Tabla_Regional[],3,0))","v":""},null,{"$f":"IF(E4142<>\"\",VLOOKUP(CONCATENATE(C4142,E4142),Dato!$A$4:$I$218,7,0),\"\")","v":""},null,""]
[null,null,null,{"$f":"IF(C4143=\"\",\"\",VLOOKUP(C4143,Tabla_Regional[],3,0))","v":""},null,{"$f":"IF(E4143<>\"\",VLOOKUP(CONCATENATE(C4143,E4143),Dato!$A$4:$I$218,7,0),\"\")","v":""},null,""]
[null,null,null,{"$f":"IF(C4144=\"\",\"\",VLOOKUP(C4144,Tabla_Regional[],3,0))","v":""},null,{"$f":"IF(E4144<>\"\",VLOOKUP(CONCATENATE(C4144,E4144),Dato!$A$4:$I$218,7,0),\"\")","v":""},null,""]
[null,null,null,{"$f":"IF(C4145=\"\",\"\",VLOOKUP(C4145,Tabla_Regional[],3,0))","v":""},null,{"$f":"IF(E4145<>\"\",VLOOKUP(CONCATENATE(C4145,E4145),Dato!$A$4:$I$218,7,0),\"\")","v":""},null,""]
[null,null,null,{"$f":"IF(C4146=\"\",\"\",VLOOKUP(C4146,Tabla_Regional[],3,0))","v":""},null,{"$f":"IF(E4146<>\"\",VLOOKUP(CONCATENATE(C4146,E4146),Dato!$A$4:$I$218,7,0),\"\")","v":""},null,""]
[null,null,null,{"$f":"IF(C4147=\"\",\"\",VLOOKUP(C4147,Tabla_Regional[],3,0))","v":""},null,{"$f":"IF(E4147<>\"\",VLOOKUP(CONCATENATE(C4147,E4147),Dato!$A$4:$I$218,7,0),\"\")","v":""},null,""]
[null,null,null,{"$f":"IF(C4148=\"\",\"\",VLOOKUP(C4148,Tabla_Regional[],3,0))","v":""},null,{"$f":"IF(E4148<>\"\",VLOOKUP(CONCATENATE(C4148,E4148),Dato!$A$4:$I$218,7,0),\"\")","v":""},null,""]
[null,null,null,{"$f":"IF(C4149=\"\",\"\",VLOOKUP(C4149,Tabla_Regional[],3,0))","v":""},null,{"$f":"IF(E4149<>\"\",VLOOKUP(CONCATENATE(C4149,E4149),Dato!$A$4:$I$218,7,0),\"\")","v":""},null,""]
[null,null,null,{"$f":"IF(C4150=\"\",\"\",VLOOKUP(C4150,Tabla_Regional[],3,0))","v":""},null,{"$f":"IF(E4150<>\"\",VLOOKUP(CONCATENATE(C4150,E4150),Dato!$A$4:$I$218,7,0),\"\")","v":""},null,""]
[null,null,null,{"$f":"IF(C4151=\"\",\"\",VLOOKUP(C4151,Tabla_Regional[],3,0))","v":""},null,{"$f":"IF(E4151<>\"\",VLOOKUP(CONCATENATE(C4151,E4151),Dato!$A$4:$I$218,7,0),\"\")","v":""},null,""]
[null,null,null,{"$f":"IF(C4152=\"\",\"\",VLOOKUP(C4152,Tabla_Regional[],3,0))","v":""},null,{"$f":"IF(E4152<>\"\",VLOOKUP(CONCATENATE(C4152,E4152),Dato!$A$4:$I$218,7,0),\"\")","v":""},null,""]
[null,null,null,{"$f":"IF(C4153=\"\",\"\",VLOOKUP(C4153,Tabla_Regional[],3,0))","v":""},null,{"$f":"IF(E4153<>\"\",VLOOKUP(CONCATENATE(C4153,E4153),Dato!$A$4:$I$218,7,0),\"\")","v":""},null,""]
[null,null,null,{"$f":"IF(C4154=\"\",\"\",VLOOKUP(C4154,Tabla_Regional[],3,0))","v":""},null,{"$f":"IF(E4154<>\"\",VLOOKUP(CONCATENATE(C4154,E4154),Dato!$A$4:$I$218,7,0),\"\")","v":""},null,""]
[null,null,null,{"$f":"IF(C4155=\"\",\"\",VLOOKUP(C4155,Tabla_Regional[],3,0))","v":""},null,{"$f":"IF(E4155<>\"\",VLOOKUP(CONCATENATE(C4155,E4155),Dato!$A$4:$I$218,7,0),\"\")","v":""},null,""]
[null,null,null,{"$f":"IF(C4156=\"\",\"\",VLOOKUP(C4156,Tabla_Regional[],3,0))","v":""},null,{"$f":"IF(E4156<>\"\",VLOOKUP(CONCATENATE(C4156,E4156),Dato!$A$4:$I$218,7,0),\"\")","v":""},null,""]
[null,null,null,{"$f":"IF(C4157=\"\",\"\",VLOOKUP(C4157,Tabla_Regional[],3,0))","v":""},null,{"$f":"IF(E4157<>\"\",VLOOKUP(CONCATENATE(C4157,E4157),Dato!$A$4:$I$218,7,0),\"\")","v":""},null,""]
[null,null,null,{"$f":"IF(C4158=\"\",\"\",VLOOKUP(C4158,Tabla_Regional[],3,0))","v":""},null,{"$f":"IF(E4158<>\"\",VLOOKUP(CONCATENATE(C4158,E4158),Dato!$A$4:$I$218,7,0),\"\")","v":""},null,""]
[null,null,null,{"$f":"IF(C4159=\"\",\"\",VLOOKUP(C4159,Tabla_Regional[],3,0))","v":""},null,{"$f":"IF(E4159<>\"\",VLOOKUP(CONCATENATE(C4159,E4159),Dato!$A$4:$I$218,7,0),\"\")","v":""},null,""]
[null,null,null,{"$f":"IF(C4160=\"\",\"\",VLOOKUP(C4160,Tabla_Regional[],3,0))","v":""},null,{"$f":"IF(E4160<>\"\",VLOOKUP(CONCATENATE(C4160,E4160),Dato!$A$4:$I$218,7,0),\"\")","v":""},null,""]
[null,null,null,{"$f":"IF(C4161=\"\",\"\",VLOOKUP(C4161,Tabla_Regional[],3,0))","v":""},null,{"$f":"IF(E4161<>\"\",VLOOKUP(CONCATENATE(C4161,E4161),Dato!$A$4:$I$218,7,0),\"\")","v":""},null,""]
[null,null,null,{"$f":"IF(C4162=\"\",\"\",VLOOKUP(C4162,Tabla_Regional[],3,0))","v":""},null,{"$f":"IF(E4162<>\"\",VLOOKUP(CONCATENATE(C4162,E4162),Dato!$A$4:$I$218,7,0),\"\")","v":""},null,""]
[null,null,null,{"$f":"IF(C4163=\"\",\"\",VLOOKUP(C4163,Tabla_Regional[],3,0))","v":""},null,{"$f":"IF(E4163<>\"\",VLOOKUP(CONCATENATE(C4163,E4163),Dato!$A$4:$I$218,7,0),\"\")","v":""},null,""]
[null,null,null,{"$f":"IF(C4164=\"\",\"\",VLOOKUP(C4164,Tabla_Regional[],3,0))","v":""},null,{"$f":"IF(E4164<>\"\",VLOOKUP(CONCATENATE(C4164,E4164),Dato!$A$4:$I$218,7,0),\"\")","v":""},null,""]
[null,null,null,{"$f":"IF(C4165=\"\",\"\",VLOOKUP(C4165,Tabla_Regional[],3,0))","v":""},null,{"$f":"IF(E4165<>\"\",VLOOKUP(CONCATENATE(C4165,E4165),Dato!$A$4:$I$218,7,0),\"\")","v":""},null,""]
[null,null,null,{"$f":"IF(C4166=\"\",\"\",VLOOKUP(C4166,Tabla_Regional[],3,0))","v":""},null,{"$f":"IF(E4166<>\"\",VLOOKUP(CONCATENATE(C4166,E4166),Dato!$A$4:$I$218,7,0),\"\")","v":""},null,""]
[null,null,null,{"$f":"IF(C4167=\"\",\"\",VLOOKUP(C4167,Tabla_Regional[],3,0))","v":""},null,{"$f":"IF(E4167<>\"\",VLOOKUP(CONCATENATE(C4167,E4167),Dato!$A$4:$I$218,7,0),\"\")","v":""},null,""]
[null,null,null,{"$f":"IF(C4168=\"\",\"\",VLOOKUP(C4168,Tabla_Regional[],3,0))","v":""},null,{"$f":"IF(E4168<>\"\",VLOOKUP(CONCATENATE(C4168,E4168),Dato!$A$4:$I$218,7,0),\"\")","v":""},null,""]
[null,null,null,{"$f":"IF(C4169=\"\",\"\",VLOOKUP(C4169,Tabla_Regional[],3,0))","v":""},null,{"$f":"IF(E4169<>\"\",VLOOKUP(CONCATENATE(C4169,E4169),Dato!$A$4:$I$218,7,0),\"\")","v":""},null,""]
[null,null,null,{"$f":"IF(C4170=\"\",\"\",VLOOKUP(C4170,Tabla_Regional[],3,0))","v":""},null,{"$f":"IF(E4170<>\"\",VLOOKUP(CONCATENATE(C4170,E4170),Dato!$A$4:$I$218,7,0),\"\")","v":""},null,""]
[null,null,null,{"$f":"IF(C4171=\"\",\"\",VLOOKUP(C4171,Tabla_Regional[],3,0))","v":""},null,{"$f":"IF(E4171<>\"\",VLOOKUP(CONCATENATE(C4171,E4171),Dato!$A$4:$I$218,7,0),\"\")","v":""},null,""]
[null,null,null,{"$f":"IF(C4172=\"\",\"\",VLOOKUP(C4172,Tabla_Regional[],3,0))","v":""},null,{"$f":"IF(E4172<>\"\",VLOOKUP(CONCATENATE(C4172,E4172),Dato!$A$4:$I$218,7,0),\"\")","v":""},null,{"$f":"IF(G4172<>\"\",VLOOKUP(CONCATENATE(C4172,E4172,G4172),czmuni,7,0),\"\")","v":""}]
[null,null,null,{"$f":"IF(C4173=\"\",\"\",VLOOKUP(C4173,Tabla_Regional[],3,0))","v":""},null,{"$f":"IF(E4173<>\"\",VLOOKUP(CONCATENATE(C4173,E4173),Dato!$A$4:$I$218,7,0),\"\")","v":""},null,""]
[null,null,null,{"$f":"IF(C4174=\"\",\"\",VLOOKUP(C4174,Tabla_Regional[],3,0))","v":""},null,{"$f":"IF(E4174<>\"\",VLOOKUP(CONCATENATE(C4174,E4174),Dato!$A$4:$I$218,7,0),\"\")","v":""},null,""]
[null,null,null,{"$f":"IF(C4175=\"\",\"\",VLOOKUP(C4175,Tabla_Regional[],3,0))","v":""},null,{"$f":"IF(E4175<>\"\",VLOOKUP(CONCATENATE(C4175,E4175),Dato!$A$4:$I$218,7,0),\"\")","v":""},null,""]
[null,null,null,{"$f":"IF(C4176=\"\",\"\",VLOOKUP(C4176,Tabla_Regional[],3,0))","v":""},null,{"$f":"IF(E4176<>\"\",VLOOKUP(CONCATENATE(C4176,E4176),Dato!$A$4:$I$218,7,0),\"\")","v":""},null,""]
[null,null,null,{"$f":"IF(C4177=\"\",\"\",VLOOKUP(C4177,Tabla_Regional[],3,0))","v":""},null,{"$f":"IF(E4177<>\"\",VLOOKUP(CONCATENATE(C4177,E4177),Dato!$A$4:$I$218,7,0),\"\")","v":""},null,""]
[null,null,null,{"$f":"IF(C4178=\"\",\"\",VLOOKUP(C4178,Tabla_Regional[],3,0))","v":""},null,{"$f":"IF(E4178<>\"\",VLOOKUP(CONCATENATE(C4178,E4178),Dato!$A$4:$I$218,7,0),\"\")","v":""},null,""]
[null,null,null,{"$f":"IF(C4179=\"\",\"\",VLOOKUP(C4179,Tabla_Regional[],3,0))","v":""},null,{"$f":"IF(E4179<>\"\",VLOOKUP(CONCATENATE(C4179,E4179),Dato!$A$4:$I$218,7,0),\"\")","v":""},null,""]
[null,null,null,{"$f":"IF(C4180=\"\",\"\",VLOOKUP(C4180,Tabla_Regional[],3,0))","v":""},null,{"$f":"IF(E4180<>\"\",VLOOKUP(CONCATENATE(C4180,E4180),Dato!$A$4:$I$218,7,0),\"\")","v":""},null,""]
[null,null,null,{"$f":"IF(C4181=\"\",\"\",VLOOKUP(C4181,Tabla_Regional[],3,0))","v":""},null,{"$f":"IF(E4181<>\"\",VLOOKUP(CONCATENATE(C4181,E4181),Dato!$A$4:$I$218,7,0),\"\")","v":""},null,""]
[null,null,null,{"$f":"IF(C4182=\"\",\"\",VLOOKUP(C4182,Tabla_Regional[],3,0))","v":""},null,{"$f":"IF(E4182<>\"\",VLOOKUP(CONCATENATE(C4182,E4182),Dato!$A$4:$I$218,7,0),\"\")","v":""},null,""]
[null,null,null,{"$f":"IF(C4183=\"\",\"\",VLOOKUP(C4183,Tabla_Regional[],3,0))","v":""},null,{"$f":"IF(E4183<>\"\",VLOOKUP(CONCATENATE(C4183,E4183),Dato!$A$4:$I$218,7,0),\"\")","v":""},null,""]
[null,null,null,{"$f":"IF(C4184=\"\",\"\",VLOOKUP(C4184,Tabla_Regional[],3,0))","v":""},null,{"$f":"IF(E4184<>\"\",VLOOKUP(CONCATENATE(C4184,E4184),Dato!$A$4:$I$218,7,0),\"\")","v":""},null,""]
[null,null,null,{"$f":"IF(C4185=\"\",\"\",VLOOKUP(C4185,Tabla_Regional[],3,0))","v":""},null,{"$f":"IF(E4185<>\"\",VLOOKUP(CONCATENATE(C4185,E4185),Dato!$A$4:$I$218,7,0),\"\")","v":""},null,""]
[null,null,null,{"$f":"IF(C4186=\"\",\"\",VLOOKUP(C4186,Tabla_Regional[],3,0))","v":""},null,{"$f":"IF(E4186<>\"\",VLOOKUP(CONCATENATE(C4186,E4186),Dato!$A$4:$I$218,7,0),\"\")","v":""},null,""]
[null,null,null,{"$f":"IF(C4187=\"\",\"\",VLOOKUP(C4187,Tabla_Regional[],3,0))","v":""},null,{"$f":"IF(E4187<>\"\",VLOOKUP(CONCATENATE(C4187,E4187),Dato!$A$4:$I$218,7,0),\"\")","v":""},null,""]
[null,null,null,{"$f":"IF(C4188=\"\",\"\",VLOOKUP(C4188,Tabla_Regional[],3,0))","v":""},null,{"$f":"IF(E4188<>\"\",VLOOKUP(CONCATENATE(C4188,E4188),Dato!$A$4:$I$218,7,0),\"\")","v":""},null,""]
[null,null,null,{"$f":"IF(C4189=\"\",\"\",VLOOKUP(C4189,Tabla_Regional[],3,0))","v":""},null,{"$f":"IF(E4189<>\"\",VLOOKUP(CONCATENATE(C4189,E4189),Dato!$A$4:$I$218,7,0),\"\")","v":""},null,""]
[null,null,null,{"$f":"IF(C4190=\"\",\"\",VLOOKUP(C4190,Tabla_Regional[],3,0))","v":""},null,{"$f":"IF(E4190<>\"\",VLOOKUP(CONCATENATE(C4190,E4190),Dato!$A$4:$I$218,7,0),\"\")","v":""},null,""]
[null,null,null,{"$f":"IF(C4191=\"\",\"\",VLOOKUP(C4191,Tabla_Regional[],3,0))","v":""},null,{"$f":"IF(E4191<>\"\",VLOOKUP(CONCATENATE(C4191,E4191),Dato!$A$4:$I$218,7,0),\"\")","v":""},null,""]
[null,null,null,{"$f":"IF(C4192=\"\",\"\",VLOOKUP(C4192,Tabla_Regional[],3,0))","v":""},null,{"$f":"IF(E4192<>\"\",VLOOKUP(CONCATENATE(C4192,E4192),Dato!$A$4:$I$218,7,0),\"\")","v":""},null,""]
[null,null,null,{"$f":"IF(C4193=\"\",\"\",VLOOKUP(C4193,Tabla_Regional[],3,0))","v":""},null,{"$f":"IF(E4193<>\"\",VLOOKUP(CONCATENATE(C4193,E4193),Dato!$A$4:$I$218,7,0),\"\")","v":""},null,""]
[null,null,null,{"$f":"IF(C4194=\"\",\"\",VLOOKUP(C4194,Tabla_Regional[],3,0))","v":""},null,{"$f":"IF(E4194<>\"\",VLOOKUP(CONCATENATE(C4194,E4194),Dato!$A$4:$I$218,7,0),\"\")","v":""},null,""]
[null,null,null,{"$f":"IF(C4195=\"\",\"\",VLOOKUP(C4195,Tabla_Regional[],3,0))","v":""},null,{"$f":"IF(E4195<>\"\",VLOOKUP(CONCATENATE(C4195,E4195),Dato!$A$4:$I$218,7,0),\"\")","v":""},null,""]
[null,null,null,{"$f":"IF(C4196=\"\",\"\",VLOOKUP(C4196,Tabla_Regional[],3,0))","v":""},null,{"$f":"IF(E4196<>\"\",VLOOKUP(CONCATENATE(C4196,E4196),Dato!$A$4:$I$218,7,0),\"\")","v":""},null,""]
[null,null,null,{"$f":"IF(C4197=\"\",\"\",VLOOKUP(C4197,Tabla_Regional[],3,0))","v":""},null,{"$f":"IF(E4197<>\"\",VLOOKUP(CONCATENATE(C4197,E4197),Dato!$A$4:$I$218,7,0),\"\")","v":""},null,""]
[null,null,null,{"$f":"IF(C4198=\"\",\"\",VLOOKUP(C4198,Tabla_Regional[],3,0))","v":""},null,{"$f":"IF(E4198<>\"\",VLOOKUP(CONCATENATE(C4198,E4198),Dato!$A$4:$I$218,7,0),\"\")","v":""},null,""]
[null,null,null,{"$f":"IF(C4199=\"\",\"\",VLOOKUP(C4199,Tabla_Regional[],3,0))","v":""},null,{"$f":"IF(E4199<>\"\",VLOOKUP(CONCATENATE(C4199,E4199),Dato!$A$4:$I$218,7,0),\"\")","v":""},null,""]
[null,null,null,{"$f":"IF(C4200=\"\",\"\",VLOOKUP(C4200,Tabla_Regional[],3,0))","v":""},null,{"$f":"IF(E4200<>\"\",VLOOKUP(CONCATENATE(C4200,E4200),Dato!$A$4:$I$218,7,0),\"\")","v":""},null,""]
[null,null,null,{"$f":"IF(C4201=\"\",\"\",VLOOKUP(C4201,Tabla_Regional[],3,0))","v":""},null,{"$f":"IF(E4201<>\"\",VLOOKUP(CONCATENATE(C4201,E4201),Dato!$A$4:$I$218,7,0),\"\")","v":""},null,""]
[null,null,null,{"$f":"IF(C4202=\"\",\"\",VLOOKUP(C4202,Tabla_Regional[],3,0))","v":""},null,{"$f":"IF(E4202<>\"\",VLOOKUP(CONCATENATE(C4202,E4202),Dato!$A$4:$I$218,7,0),\"\")","v":""},null,""]
[null,null,null,{"$f":"IF(C4203=\"\",\"\",VLOOKUP(C4203,Tabla_Regional[],3,0))","v":""},null,{"$f":"IF(E4203<>\"\",VLOOKUP(CONCATENATE(C4203,E4203),Dato!$A$4:$I$218,7,0),\"\")","v":""},null,""]
[null,null,null,{"$f":"IF(C4204=\"\",\"\",VLOOKUP(C4204,Tabla_Regional[],3,0))","v":""},null,{"$f":"IF(E4204<>\"\",VLOOKUP(CONCATENATE(C4204,E4204),Dato!$A$4:$I$218,7,0),\"\")","v":""},null,""]
[null,null,null,{"$f":"IF(C4205=\"\",\"\",VLOOKUP(C4205,Tabla_Regional[],3,0))","v":""},null,{"$f":"IF(E4205<>\"\",VLOOKUP(CONCATENATE(C4205,E4205),Dato!$A$4:$I$218,7,0),\"\")","v":""},null,""]
[null,null,null,{"$f":"IF(C4206=\"\",\"\",VLOOKUP(C4206,Tabla_Regional[],3,0))","v":""},null,{"$f":"IF(E4206<>\"\",VLOOKUP(CONCATENATE(C4206,E4206),Dato!$A$4:$I$218,7,0),\"\")","v":""},null,""]
[null,null,null,{"$f":"IF(C4207=\"\",\"\",VLOOKUP(C4207,Tabla_Regional[],3,0))","v":""},null,{"$f":"IF(E4207<>\"\",VLOOKUP(CONCATENATE(C4207,E4207),Dato!$A$4:$I$218,7,0),\"\")","v":""},null,""]
[null,null,null,{"$f":"IF(C4208=\"\",\"\",VLOOKUP(C4208,Tabla_Regional[],3,0))","v":""},null,{"$f":"IF(E4208<>\"\",VLOOKUP(CONCATENATE(C4208,E4208),Dato!$A$4:$I$218,7,0),\"\")","v":""},null,""]
[null,null,null,{"$f":"IF(C4209=\"\",\"\",VLOOKUP(C4209,Tabla_Regional[],3,0))","v":""},null,{"$f":"IF(E4209<>\"\",VLOOKUP(CONCATENATE(C4209,E4209),Dato!$A$4:$I$218,7,0),\"\")","v":""},null,""]
[null,null,null,{"$f":"IF(C4210=\"\",\"\",VLOOKUP(C4210,Tabla_Regional[],3,0))","v":""},null,{"$f":"IF(E4210<>\"\",VLOOKUP(CONCATENATE(C4210,E4210),Dato!$A$4:$I$218,7,0),\"\")","v":""},null,""]
[null,null,null,{"$f":"IF(C4211=\"\",\"\",VLOOKUP(C4211,Tabla_Regional[],3,0))","v":""},null,{"$f":"IF(E4211<>\"\",VLOOKUP(CONCATENATE(C4211,E4211),Dato!$A$4:$I$218,7,0),\"\")","v":""},null,""]
[null,null,null,{"$f":"IF(C4212=\"\",\"\",VLOOKUP(C4212,Tabla_Regional[],3,0))","v":""},null,{"$f":"IF(E4212<>\"\",VLOOKUP(CONCATENATE(C4212,E4212),Dato!$A$4:$I$218,7,0),\"\")","v":""},null,""]
[null,null,null,{"$f":"IF(C4213=\"\",\"\",VLOOKUP(C4213,Tabla_Regional[],3,0))","v":""},null,{"$f":"IF(E4213<>\"\",VLOOKUP(CONCATENATE(C4213,E4213),Dato!$A$4:$I$218,7,0),\"\")","v":""},null,""]
[null,null,null,{"$f":"IF(C4214=\"\",\"\",VLOOKUP(C4214,Tabla_Regional[],3,0))","v":""},null,{"$f":"IF(E4214<>\"\",VLOOKUP(CONCATENATE(C4214,E4214),Dato!$A$4:$I$218,7,0),\"\")","v":""},null,""]
[null,null,null,{"$f":"IF(C4215=\"\",\"\",VLOOKUP(C4215,Tabla_Regional[],3,0))","v":""},null,{"$f":"IF(E4215<>\"\",VLOOKUP(CONCATENATE(C4215,E4215),Dato!$A$4:$I$218,7,0),\"\")","v":""},null,""]
[null,null,null,{"$f":"IF(C4216=\"\",\"\",VLOOKUP(C4216,Tabla_Regional[],3,0))","v":""},null,{"$f":"IF(E4216<>\"\",VLOOKUP(CONCATENATE(C4216,E4216),Dato!$A$4:$I$218,7,0),\"\")","v":""},null,""]
[null,null,null,{"$f":"IF(C4217=\"\",\"\",VLOOKUP(C4217,Tabla_Regional[],3,0))","v":""},null,{"$f":"IF(E4217<>\"\",VLOOKUP(CONCATENATE(C4217,E4217),Dato!$A$4:$I$218,7,0),\"\")","v":""},null,""]
[null,null,null,{"$f":"IF(C4218=\"\",\"\",VLOOKUP(C4218,Tabla_Regional[],3,0))","v":""},null,{"$f":"IF(E4218<>\"\",VLOOKUP(CONCATENATE(C4218,E4218),Dato!$A$4:$I$218,7,0),\"\")","v":""},null,""]
[null,null,null,{"$f":"IF(C4219=\"\",\"\",VLOOKUP(C4219,Tabla_Regional[],3,0))","v":""},null,{"$f":"IF(E4219<>\"\",VLOOKUP(CONCATENATE(C4219,E4219),Dato!$A$4:$I$218,7,0),\"\")","v":""},null,""]
[null,null,null,{"$f":"IF(C4220=\"\",\"\",VLOOKUP(C4220,Tabla_Regional[],3,0))","v":""},null,{"$f":"IF(E4220<>\"\",VLOOKUP(CONCATENATE(C4220,E4220),Dato!$A$4:$I$218,7,0),\"\")","v":""},null,""]
[null,null,null,{"$f":"IF(C4221=\"\",\"\",VLOOKUP(C4221,Tabla_Regional[],3,0))","v":""},null,{"$f":"IF(E4221<>\"\",VLOOKUP(CONCATENATE(C4221,E4221),Dato!$A$4:$I$218,7,0),\"\")","v":""},null,""]
[null,null,null,{"$f":"IF(C4222=\"\",\"\",VLOOKUP(C4222,Tabla_Regional[],3,0))","v":""},null,{"$f":"IF(E4222<>\"\",VLOOKUP(CONCATENATE(C4222,E4222),Dato!$A$4:$I$218,7,0),\"\")","v":""},null,""]
[null,null,null,{"$f":"IF(C4223=\"\",\"\",VLOOKUP(C4223,Tabla_Regional[],3,0))","v":""},null,{"$f":"IF(E4223<>\"\",VLOOKUP(CONCATENATE(C4223,E4223),Dato!$A$4:$I$218,7,0),\"\")","v":""},null,""]
[null,null,null,{"$f":"IF(C4224=\"\",\"\",VLOOKUP(C4224,Tabla_Regional[],3,0))","v":""},null,{"$f":"IF(E4224<>\"\",VLOOKUP(CONCATENATE(C4224,E4224),Dato!$A$4:$I$218,7,0),\"\")","v":""},null,""]
[null,null,null,{"$f":"IF(C4225=\"\",\"\",VLOOKUP(C4225,Tabla_Regional[],3,0))","v":""},null,{"$f":"IF(E4225<>\"\",VLOOKUP(CONCATENATE(C4225,E4225),Dato!$A$4:$I$218,7,0),\"\")","v":""},null,""]
[null,null,null,{"$f":"IF(C4226=\"\",\"\",VLOOKUP(C4226,Tabla_Regional[],3,0))","v":""},null,{"$f":"IF(E4226<>\"\",VLOOKUP(CONCATENATE(C4226,E4226),Dato!$A$4:$I$218,7,0),\"\")","v":""},null,""]
[null,null,null,{"$f":"IF(C4227=\"\",\"\",VLOOKUP(C4227,Tabla_Regional[],3,0))","v":""},null,{"$f":"IF(E4227<>\"\",VLOOKUP(CONCATENATE(C4227,E4227),Dato!$A$4:$I$218,7,0),\"\")","v":""},null,""]
[null,null,null,{"$f":"IF(C4228=\"\",\"\",VLOOKUP(C4228,Tabla_Regional[],3,0))","v":""},null,{"$f":"IF(E4228<>\"\",VLOOKUP(CONCATENATE(C4228,E4228),Dato!$A$4:$I$218,7,0),\"\")","v":""},null,""]
[null,null,null,{"$f":"IF(C4229=\"\",\"\",VLOOKUP(C4229,Tabla_Regional[],3,0))","v":""},null,{"$f":"IF(E4229<>\"\",VLOOKUP(CONCATENATE(C4229,E4229),Dato!$A$4:$I$218,7,0),\"\")","v":""},null,""]
[null,null,null,{"$f":"IF(C4230=\"\",\"\",VLOOKUP(C4230,Tabla_Regional[],3,0))","v":""},null,{"$f":"IF(E4230<>\"\",VLOOKUP(CONCATENATE(C4230,E4230),Dato!$A$4:$I$218,7,0),\"\")","v":""},null,""]
[null,null,null,{"$f":"IF(C4231=\"\",\"\",VLOOKUP(C4231,Tabla_Regional[],3,0))","v":""},null,{"$f":"IF(E4231<>\"\",VLOOKUP(CONCATENATE(C4231,E4231),Dato!$A$4:$I$218,7,0),\"\")","v":""},null,""]
[null,null,null,{"$f":"IF(C4232=\"\",\"\",VLOOKUP(C4232,Tabla_Regional[],3,0))","v":""},null,{"$f":"IF(E4232<>\"\",VLOOKUP(CONCATENATE(C4232,E4232),Dato!$A$4:$I$218,7,0),\"\")","v":""},null,""]
[null,null,null,{"$f":"IF(C4233=\"\",\"\",VLOOKUP(C4233,Tabla_Regional[],3,0))","v":""},null,{"$f":"IF(E4233<>\"\",VLOOKUP(CONCATENATE(C4233,E4233),Dato!$A$4:$I$218,7,0),\"\")","v":""},null,""]
[null,null,null,{"$f":"IF(C4234=\"\",\"\",VLOOKUP(C4234,Tabla_Regional[],3,0))","v":""},null,{"$f":"IF(E4234<>\"\",VLOOKUP(CONCATENATE(C4234,E4234),Dato!$A$4:$I$218,7,0),\"\")","v":""},null,""]
[null,null,null,{"$f":"IF(C4235=\"\",\"\",VLOOKUP(C4235,Tabla_Regional[],3,0))","v":""},null,{"$f":"IF(E4235<>\"\",VLOOKUP(CONCATENATE(C4235,E4235),Dato!$A$4:$I$218,7,0),\"\")","v":""},null,""]
[null,null,null,{"$f":"IF(C4236=\"\",\"\",VLOOKUP(C4236,Tabla_Regional[],3,0))","v":""},null,{"$f":"IF(E4236<>\"\",VLOOKUP(CONCATENATE(C4236,E4236),Dato!$A$4:$I$218,7,0),\"\")","v":""},null,{"$f":"IF(G4236<>\"\",VLOOKUP(CONCATENATE(C4236,E4236,G4236),czmuni,7,0),\"\")","v":""}]
[null,null,null,{"$f":"IF(C4237=\"\",\"\",VLOOKUP(C4237,Tabla_Regional[],3,0))","v":""},null,{"$f":"IF(E4237<>\"\",VLOOKUP(CONCATENATE(C4237,E4237),Dato!$A$4:$I$218,7,0),\"\")","v":""},null,""]
[null,null,null,{"$f":"IF(C4238=\"\",\"\",VLOOKUP(C4238,Tabla_Regional[],3,0))","v":""},null,{"$f":"IF(E4238<>\"\",VLOOKUP(CONCATENATE(C4238,E4238),Dato!$A$4:$I$218,7,0),\"\")","v":""},null,""]
[null,null,null,{"$f":"IF(C4239=\"\",\"\",VLOOKUP(C4239,Tabla_Regional[],3,0))","v":""},null,{"$f":"IF(E4239<>\"\",VLOOKUP(CONCATENATE(C4239,E4239),Dato!$A$4:$I$218,7,0),\"\")","v":""},null,""]
[null,null,null,{"$f":"IF(C4240=\"\",\"\",VLOOKUP(C4240,Tabla_Regional[],3,0))","v":""},null,{"$f":"IF(E4240<>\"\",VLOOKUP(CONCATENATE(C4240,E4240),Dato!$A$4:$I$218,7,0),\"\")","v":""},null,""]
[null,null,null,{"$f":"IF(C4241=\"\",\"\",VLOOKUP(C4241,Tabla_Regional[],3,0))","v":""},null,{"$f":"IF(E4241<>\"\",VLOOKUP(CONCATENATE(C4241,E4241),Dato!$A$4:$I$218,7,0),\"\")","v":""},null,""]
[null,null,null,{"$f":"IF(C4242=\"\",\"\",VLOOKUP(C4242,Tabla_Regional[],3,0))","v":""},null,{"$f":"IF(E4242<>\"\",VLOOKUP(CONCATENATE(C4242,E4242),Dato!$A$4:$I$218,7,0),\"\")","v":""},null,""]
[null,null,null,{"$f":"IF(C4243=\"\",\"\",VLOOKUP(C4243,Tabla_Regional[],3,0))","v":""},null,{"$f":"IF(E4243<>\"\",VLOOKUP(CONCATENATE(C4243,E4243),Dato!$A$4:$I$218,7,0),\"\")","v":""},null,""]
[null,null,null,{"$f":"IF(C4244=\"\",\"\",VLOOKUP(C4244,Tabla_Regional[],3,0))","v":""},null,{"$f":"IF(E4244<>\"\",VLOOKUP(CONCATENATE(C4244,E4244),Dato!$A$4:$I$218,7,0),\"\")","v":""},null,""]
[null,null,null,{"$f":"IF(C4245=\"\",\"\",VLOOKUP(C4245,Tabla_Regional[],3,0))","v":""},null,{"$f":"IF(E4245<>\"\",VLOOKUP(CONCATENATE(C4245,E4245),Dato!$A$4:$I$218,7,0),\"\")","v":""},null,""]
[null,null,null,{"$f":"IF(C4246=\"\",\"\",VLOOKUP(C4246,Tabla_Regional[],3,0))","v":""},null,{"$f":"IF(E4246<>\"\",VLOOKUP(CONCATENATE(C4246,E4246),Dato!$A$4:$I$218,7,0),\"\")","v":""},null,""]
[null,null,null,{"$f":"IF(C4247=\"\",\"\",VLOOKUP(C4247,Tabla_Regional[],3,0))","v":""},null,{"$f":"IF(E4247<>\"\",VLOOKUP(CONCATENATE(C4247,E4247),Dato!$A$4:$I$218,7,0),\"\")","v":""},null,""]
[null,null,null,{"$f":"IF(C4248=\"\",\"\",VLOOKUP(C4248,Tabla_Regional[],3,0))","v":""},null,{"$f":"IF(E4248<>\"\",VLOOKUP(CONCATENATE(C4248,E4248),Dato!$A$4:$I$218,7,0),\"\")","v":""},null,""]
[null,null,null,{"$f":"IF(C4249=\"\",\"\",VLOOKUP(C4249,Tabla_Regional[],3,0))","v":""},null,{"$f":"IF(E4249<>\"\",VLOOKUP(CONCATENATE(C4249,E4249),Dato!$A$4:$I$218,7,0),\"\")","v":""},null,""]
[null,null,null,{"$f":"IF(C4250=\"\",\"\",VLOOKUP(C4250,Tabla_Regional[],3,0))","v":""},null,{"$f":"IF(E4250<>\"\",VLOOKUP(CONCATENATE(C4250,E4250),Dato!$A$4:$I$218,7,0),\"\")","v":""},null,""]
[null,null,null,{"$f":"IF(C4251=\"\",\"\",VLOOKUP(C4251,Tabla_Regional[],3,0))","v":""},null,{"$f":"IF(E4251<>\"\",VLOOKUP(CONCATENATE(C4251,E4251),Dato!$A$4:$I$218,7,0),\"\")","v":""},null,""]
[null,null,null,{"$f":"IF(C4252=\"\",\"\",VLOOKUP(C4252,Tabla_Regional[],3,0))","v":""},null,{"$f":"IF(E4252<>\"\",VLOOKUP(CONCATENATE(C4252,E4252),Dato!$A$4:$I$218,7,0),\"\")","v":""},null,""]
[null,null,null,{"$f":"IF(C4253=\"\",\"\",VLOOKUP(C4253,Tabla_Regional[],3,0))","v":""},null,{"$f":"IF(E4253<>\"\",VLOOKUP(CONCATENATE(C4253,E4253),Dato!$A$4:$I$218,7,0),\"\")","v":""},null,""]
[null,null,null,{"$f":"IF(C4254=\"\",\"\",VLOOKUP(C4254,Tabla_Regional[],3,0))","v":""},null,{"$f":"IF(E4254<>\"\",VLOOKUP(CONCATENATE(C4254,E4254),Dato!$A$4:$I$218,7,0),\"\")","v":""},null,""]
[null,null,null,{"$f":"IF(C4255=\"\",\"\",VLOOKUP(C4255,Tabla_Regional[],3,0))","v":""},null,{"$f":"IF(E4255<>\"\",VLOOKUP(CONCATENATE(C4255,E4255),Dato!$A$4:$I$218,7,0),\"\")","v":""},null,""]
[null,null,null,{"$f":"IF(C4256=\"\",\"\",VLOOKUP(C4256,Tabla_Regional[],3,0))","v":""},null,{"$f":"IF(E4256<>\"\",VLOOKUP(CONCATENATE(C4256,E4256),Dato!$A$4:$I$218,7,0),\"\")","v":""},null,""]
[null,null,null,{"$f":"IF(C4257=\"\",\"\",VLOOKUP(C4257,Tabla_Regional[],3,0))","v":""},null,{"$f":"IF(E4257<>\"\",VLOOKUP(CONCATENATE(C4257,E4257),Dato!$A$4:$I$218,7,0),\"\")","v":""},null,""]
[null,null,null,{"$f":"IF(C4258=\"\",\"\",VLOOKUP(C4258,Tabla_Regional[],3,0))","v":""},null,{"$f":"IF(E4258<>\"\",VLOOKUP(CONCATENATE(C4258,E4258),Dato!$A$4:$I$218,7,0),\"\")","v":""},null,""]
[null,null,null,{"$f":"IF(C4259=\"\",\"\",VLOOKUP(C4259,Tabla_Regional[],3,0))","v":""},null,{"$f":"IF(E4259<>\"\",VLOOKUP(CONCATENATE(C4259,E4259),Dato!$A$4:$I$218,7,0),\"\")","v":""},null,""]
[null,null,null,{"$f":"IF(C4260=\"\",\"\",VLOOKUP(C4260,Tabla_Regional[],3,0))","v":""},null,{"$f":"IF(E4260<>\"\",VLOOKUP(CONCATENATE(C4260,E4260),Dato!$A$4:$I$218,7,0),\"\")","v":""},null,""]
[null,null,null,{"$f":"IF(C4261=\"\",\"\",VLOOKUP(C4261,Tabla_Regional[],3,0))","v":""},null,{"$f":"IF(E4261<>\"\",VLOOKUP(CONCATENATE(C4261,E4261),Dato!$A$4:$I$218,7,0),\"\")","v":""},null,""]
[null,null,null,{"$f":"IF(C4262=\"\",\"\",VLOOKUP(C4262,Tabla_Regional[],3,0))","v":""},null,{"$f":"IF(E4262<>\"\",VLOOKUP(CONCATENATE(C4262,E4262),Dato!$A$4:$I$218,7,0),\"\")","v":""},null,""]
[null,null,null,{"$f":"IF(C4263=\"\",\"\",VLOOKUP(C4263,Tabla_Regional[],3,0))","v":""},null,{"$f":"IF(E4263<>\"\",VLOOKUP(CONCATENATE(C4263,E4263),Dato!$A$4:$I$218,7,0),\"\")","v":""},null,""]
[null,null,null,{"$f":"IF(C4264=\"\",\"\",VLOOKUP(C4264,Tabla_Regional[],3,0))","v":""},null,{"$f":"IF(E4264<>\"\",VLOOKUP(CONCATENATE(C4264,E4264),Dato!$A$4:$I$218,7,0),\"\")","v":""},null,""]
[null,null,null,{"$f":"IF(C4265=\"\",\"\",VLOOKUP(C4265,Tabla_Regional[],3,0))","v":""},null,{"$f":"IF(E4265<>\"\",VLOOKUP(CONCATENATE(C4265,E4265),Dato!$A$4:$I$218,7,0),\"\")","v":""},null,""]
[null,null,null,{"$f":"IF(C4266=\"\",\"\",VLOOKUP(C4266,Tabla_Regional[],3,0))","v":""},null,{"$f":"IF(E4266<>\"\",VLOOKUP(CONCATENATE(C4266,E4266),Dato!$A$4:$I$218,7,0),\"\")","v":""},null,""]
[null,null,null,{"$f":"IF(C4267=\"\",\"\",VLOOKUP(C4267,Tabla_Regional[],3,0))","v":""},null,{"$f":"IF(E4267<>\"\",VLOOKUP(CONCATENATE(C4267,E4267),Dato!$A$4:$I$218,7,0),\"\")","v":""},null,""]
[null,null,null,{"$f":"IF(C4268=\"\",\"\",VLOOKUP(C4268,Tabla_Regional[],3,0))","v":""},null,{"$f":"IF(E4268<>\"\",VLOOKUP(CONCATENATE(C4268,E4268),Dato!$A$4:$I$218,7,0),\"\")","v":""},null,""]
[null,null,null,{"$f":"IF(C4269=\"\",\"\",VLOOKUP(C4269,Tabla_Regional[],3,0))","v":""},null,{"$f":"IF(E4269<>\"\",VLOOKUP(CONCATENATE(C4269,E4269),Dato!$A$4:$I$218,7,0),\"\")","v":""},null,""]
[null,null,null,{"$f":"IF(C4270=\"\",\"\",VLOOKUP(C4270,Tabla_Regional[],3,0))","v":""},null,{"$f":"IF(E4270<>\"\",VLOOKUP(CONCATENATE(C4270,E4270),Dato!$A$4:$I$218,7,0),\"\")","v":""},null,""]
[null,null,null,{"$f":"IF(C4271=\"\",\"\",VLOOKUP(C4271,Tabla_Regional[],3,0))","v":""},null,{"$f":"IF(E4271<>\"\",VLOOKUP(CONCATENATE(C4271,E4271),Dato!$A$4:$I$218,7,0),\"\")","v":""},null,""]
[null,null,null,{"$f":"IF(C4272=\"\",\"\",VLOOKUP(C4272,Tabla_Regional[],3,0))","v":""},null,{"$f":"IF(E4272<>\"\",VLOOKUP(CONCATENATE(C4272,E4272),Dato!$A$4:$I$218,7,0),\"\")","v":""},null,""]
[null,null,null,{"$f":"IF(C4273=\"\",\"\",VLOOKUP(C4273,Tabla_Regional[],3,0))","v":""},null,{"$f":"IF(E4273<>\"\",VLOOKUP(CONCATENATE(C4273,E4273),Dato!$A$4:$I$218,7,0),\"\")","v":""},null,""]
[null,null,null,{"$f":"IF(C4274=\"\",\"\",VLOOKUP(C4274,Tabla_Regional[],3,0))","v":""},null,{"$f":"IF(E4274<>\"\",VLOOKUP(CONCATENATE(C4274,E4274),Dato!$A$4:$I$218,7,0),\"\")","v":""},null,""]
[null,null,null,{"$f":"IF(C4275=\"\",\"\",VLOOKUP(C4275,Tabla_Regional[],3,0))","v":""},null,{"$f":"IF(E4275<>\"\",VLOOKUP(CONCATENATE(C4275,E4275),Dato!$A$4:$I$218,7,0),\"\")","v":""},null,""]
[null,null,null,{"$f":"IF(C4276=\"\",\"\",VLOOKUP(C4276,Tabla_Regional[],3,0))","v":""},null,{"$f":"IF(E4276<>\"\",VLOOKUP(CONCATENATE(C4276,E4276),Dato!$A$4:$I$218,7,0),\"\")","v":""},null,""]
[null,null,null,{"$f":"IF(C4277=\"\",\"\",VLOOKUP(C4277,Tabla_Regional[],3,0))","v":""},null,{"$f":"IF(E4277<>\"\",VLOOKUP(CONCATENATE(C4277,E4277),Dato!$A$4:$I$218,7,0),\"\")","v":""},null,""]
[null,null,null,{"$f":"IF(C4278=\"\",\"\",VLOOKUP(C4278,Tabla_Regional[],3,0))","v":""},null,{"$f":"IF(E4278<>\"\",VLOOKUP(CONCATENATE(C4278,E4278),Dato!$A$4:$I$218,7,0),\"\")","v":""},null,""]
[null,null,null,{"$f":"IF(C4279=\"\",\"\",VLOOKUP(C4279,Tabla_Regional[],3,0))","v":""},null,{"$f":"IF(E4279<>\"\",VLOOKUP(CONCATENATE(C4279,E4279),Dato!$A$4:$I$218,7,0),\"\")","v":""},null,""]
[null,null,null,{"$f":"IF(C4280=\"\",\"\",VLOOKUP(C4280,Tabla_Regional[],3,0))","v":""},null,{"$f":"IF(E4280<>\"\",VLOOKUP(CONCATENATE(C4280,E4280),Dato!$A$4:$I$218,7,0),\"\")","v":""},null,""]
[null,null,null,{"$f":"IF(C4281=\"\",\"\",VLOOKUP(C4281,Tabla_Regional[],3,0))","v":""},null,{"$f":"IF(E4281<>\"\",VLOOKUP(CONCATENATE(C4281,E4281),Dato!$A$4:$I$218,7,0),\"\")","v":""},null,""]
[null,null,null,{"$f":"IF(C4282=\"\",\"\",VLOOKUP(C4282,Tabla_Regional[],3,0))","v":""},null,{"$f":"IF(E4282<>\"\",VLOOKUP(CONCATENATE(C4282,E4282),Dato!$A$4:$I$218,7,0),\"\")","v":""},null,""]
[null,null,null,{"$f":"IF(C4283=\"\",\"\",VLOOKUP(C4283,Tabla_Regional[],3,0))","v":""},null,{"$f":"IF(E4283<>\"\",VLOOKUP(CONCATENATE(C4283,E4283),Dato!$A$4:$I$218,7,0),\"\")","v":""},null,""]
[null,null,null,{"$f":"IF(C4284=\"\",\"\",VLOOKUP(C4284,Tabla_Regional[],3,0))","v":""},null,{"$f":"IF(E4284<>\"\",VLOOKUP(CONCATENATE(C4284,E4284),Dato!$A$4:$I$218,7,0),\"\")","v":""},null,""]
[null,null,null,{"$f":"IF(C4285=\"\",\"\",VLOOKUP(C4285,Tabla_Regional[],3,0))","v":""},null,{"$f":"IF(E4285<>\"\",VLOOKUP(CONCATENATE(C4285,E4285),Dato!$A$4:$I$218,7,0),\"\")","v":""},null,""]
[null,null,null,{"$f":"IF(C4286=\"\",\"\",VLOOKUP(C4286,Tabla_Regional[],3,0))","v":""},null,{"$f":"IF(E4286<>\"\",VLOOKUP(CONCATENATE(C4286,E4286),Dato!$A$4:$I$218,7,0),\"\")","v":""},null,""]
[null,null,null,{"$f":"IF(C4287=\"\",\"\",VLOOKUP(C4287,Tabla_Regional[],3,0))","v":""},null,{"$f":"IF(E4287<>\"\",VLOOKUP(CONCATENATE(C4287,E4287),Dato!$A$4:$I$218,7,0),\"\")","v":""},null,""]
[null,null,null,{"$f":"IF(C4288=\"\",\"\",VLOOKUP(C4288,Tabla_Regional[],3,0))","v":""},null,{"$f":"IF(E4288<>\"\",VLOOKUP(CONCATENATE(C4288,E4288),Dato!$A$4:$I$218,7,0),\"\")","v":""},null,""]
[null,null,null,{"$f":"IF(C4289=\"\",\"\",VLOOKUP(C4289,Tabla_Regional[],3,0))","v":""},null,{"$f":"IF(E4289<>\"\",VLOOKUP(CONCATENATE(C4289,E4289),Dato!$A$4:$I$218,7,0),\"\")","v":""},null,""]
[null,null,null,{"$f":"IF(C4290=\"\",\"\",VLOOKUP(C4290,Tabla_Regional[],3,0))","v":""},null,{"$f":"IF(E4290<>\"\",VLOOKUP(CONCATENATE(C4290,E4290),Dato!$A$4:$I$218,7,0),\"\")","v":""},null,""]
[null,null,null,{"$f":"IF(C4291=\"\",\"\",VLOOKUP(C4291,Tabla_Regional[],3,0))","v":""},null,{"$f":"IF(E4291<>\"\",VLOOKUP(CONCATENATE(C4291,E4291),Dato!$A$4:$I$218,7,0),\"\")","v":""},null,""]
[null,null,null,{"$f":"IF(C4292=\"\",\"\",VLOOKUP(C4292,Tabla_Regional[],3,0))","v":""},null,{"$f":"IF(E4292<>\"\",VLOOKUP(CONCATENATE(C4292,E4292),Dato!$A$4:$I$218,7,0),\"\")","v":""},null,""]
[null,null,null,{"$f":"IF(C4293=\"\",\"\",VLOOKUP(C4293,Tabla_Regional[],3,0))","v":""},null,{"$f":"IF(E4293<>\"\",VLOOKUP(CONCATENATE(C4293,E4293),Dato!$A$4:$I$218,7,0),\"\")","v":""},null,""]
[null,null,null,{"$f":"IF(C4294=\"\",\"\",VLOOKUP(C4294,Tabla_Regional[],3,0))","v":""},null,{"$f":"IF(E4294<>\"\",VLOOKUP(CONCATENATE(C4294,E4294),Dato!$A$4:$I$218,7,0),\"\")","v":""},null,""]
[null,null,null,{"$f":"IF(C4295=\"\",\"\",VLOOKUP(C4295,Tabla_Regional[],3,0))","v":""},null,{"$f":"IF(E4295<>\"\",VLOOKUP(CONCATENATE(C4295,E4295),Dato!$A$4:$I$218,7,0),\"\")","v":""},null,""]
[null,null,null,{"$f":"IF(C4296=\"\",\"\",VLOOKUP(C4296,Tabla_Regional[],3,0))","v":""},null,{"$f":"IF(E4296<>\"\",VLOOKUP(CONCATENATE(C4296,E4296),Dato!$A$4:$I$218,7,0),\"\")","v":""},null,""]
[null,null,null,{"$f":"IF(C4297=\"\",\"\",VLOOKUP(C4297,Tabla_Regional[],3,0))","v":""},null,{"$f":"IF(E4297<>\"\",VLOOKUP(CONCATENATE(C4297,E4297),Dato!$A$4:$I$218,7,0),\"\")","v":""},null,""]
[null,null,null,{"$f":"IF(C4298=\"\",\"\",VLOOKUP(C4298,Tabla_Regional[],3,0))","v":""},null,{"$f":"IF(E4298<>\"\",VLOOKUP(CONCATENATE(C4298,E4298),Dato!$A$4:$I$218,7,0),\"\")","v":""},null,""]
[null,null,null,{"$f":"IF(C4299=\"\",\"\",VLOOKUP(C4299,Tabla_Regional[],3,0))","v":""},null,{"$f":"IF(E4299<>\"\",VLOOKUP(CONCATENATE(C4299,E4299),Dato!$A$4:$I$218,7,0),\"\")","v":""},null,""]
[null,null,null,{"$f":"IF(C4300=\"\",\"\",VLOOKUP(C4300,Tabla_Regional[],3,0))","v":""},null,{"$f":"IF(E4300<>\"\",VLOOKUP(CONCATENATE(C4300,E4300),Dato!$A$4:$I$218,7,0),\"\")","v":""},null,{"$f":"IF(G4300<>\"\",VLOOKUP(CONCATENATE(C4300,E4300,G4300),czmuni,7,0),\"\")","v":""}]
[null,null,null,{"$f":"IF(C4301=\"\",\"\",VLOOKUP(C4301,Tabla_Regional[],3,0))","v":""},null,{"$f":"IF(E4301<>\"\",VLOOKUP(CONCATENATE(C4301,E4301),Dato!$A$4:$I$218,7,0),\"\")","v":""},null,""]
[null,null,null,{"$f":"IF(C4302=\"\",\"\",VLOOKUP(C4302,Tabla_Regional[],3,0))","v":""},null,{"$f":"IF(E4302<>\"\",VLOOKUP(CONCATENATE(C4302,E4302),Dato!$A$4:$I$218,7,0),\"\")","v":""},null,""]
[null,null,null,{"$f":"IF(C4303=\"\",\"\",VLOOKUP(C4303,Tabla_Regional[],3,0))","v":""},null,{"$f":"IF(E4303<>\"\",VLOOKUP(CONCATENATE(C4303,E4303),Dato!$A$4:$I$218,7,0),\"\")","v":""},null,""]
[null,null,null,{"$f":"IF(C4304=\"\",\"\",VLOOKUP(C4304,Tabla_Regional[],3,0))","v":""},null,{"$f":"IF(E4304<>\"\",VLOOKUP(CONCATENATE(C4304,E4304),Dato!$A$4:$I$218,7,0),\"\")","v":""},null,""]
[null,null,null,{"$f":"IF(C4305=\"\",\"\",VLOOKUP(C4305,Tabla_Regional[],3,0))","v":""},null,{"$f":"IF(E4305<>\"\",VLOOKUP(CONCATENATE(C4305,E4305),Dato!$A$4:$I$218,7,0),\"\")","v":""},null,""]
[null,null,null,{"$f":"IF(C4306=\"\",\"\",VLOOKUP(C4306,Tabla_Regional[],3,0))","v":""},null,{"$f":"IF(E4306<>\"\",VLOOKUP(CONCATENATE(C4306,E4306),Dato!$A$4:$I$218,7,0),\"\")","v":""},null,""]
[null,null,null,{"$f":"IF(C4307=\"\",\"\",VLOOKUP(C4307,Tabla_Regional[],3,0))","v":""},null,{"$f":"IF(E4307<>\"\",VLOOKUP(CONCATENATE(C4307,E4307),Dato!$A$4:$I$218,7,0),\"\")","v":""},null,""]
[null,null,null,{"$f":"IF(C4308=\"\",\"\",VLOOKUP(C4308,Tabla_Regional[],3,0))","v":""},null,{"$f":"IF(E4308<>\"\",VLOOKUP(CONCATENATE(C4308,E4308),Dato!$A$4:$I$218,7,0),\"\")","v":""},null,""]
[null,null,null,{"$f":"IF(C4309=\"\",\"\",VLOOKUP(C4309,Tabla_Regional[],3,0))","v":""},null,{"$f":"IF(E4309<>\"\",VLOOKUP(CONCATENATE(C4309,E4309),Dato!$A$4:$I$218,7,0),\"\")","v":""},null,""]
[null,null,null,{"$f":"IF(C4310=\"\",\"\",VLOOKUP(C4310,Tabla_Regional[],3,0))","v":""},null,{"$f":"IF(E4310<>\"\",VLOOKUP(CONCATENATE(C4310,E4310),Dato!$A$4:$I$218,7,0),\"\")","v":""},null,""]
[null,null,null,{"$f":"IF(C4311=\"\",\"\",VLOOKUP(C4311,Tabla_Regional[],3,0))","v":""},null,{"$f":"IF(E4311<>\"\",VLOOKUP(CONCATENATE(C4311,E4311),Dato!$A$4:$I$218,7,0),\"\")","v":""},null,""]
[null,null,null,{"$f":"IF(C4312=\"\",\"\",VLOOKUP(C4312,Tabla_Regional[],3,0))","v":""},null,{"$f":"IF(E4312<>\"\",VLOOKUP(CONCATENATE(C4312,E4312),Dato!$A$4:$I$218,7,0),\"\")","v":""},null,""]
[null,null,null,{"$f":"IF(C4313=\"\",\"\",VLOOKUP(C4313,Tabla_Regional[],3,0))","v":""},null,{"$f":"IF(E4313<>\"\",VLOOKUP(CONCATENATE(C4313,E4313),Dato!$A$4:$I$218,7,0),\"\")","v":""},null,""]
[null,null,null,{"$f":"IF(C4314=\"\",\"\",VLOOKUP(C4314,Tabla_Regional[],3,0))","v":""},null,{"$f":"IF(E4314<>\"\",VLOOKUP(CONCATENATE(C4314,E4314),Dato!$A$4:$I$218,7,0),\"\")","v":""},null,""]
[null,null,null,{"$f":"IF(C4315=\"\",\"\",VLOOKUP(C4315,Tabla_Regional[],3,0))","v":""},null,{"$f":"IF(E4315<>\"\",VLOOKUP(CONCATENATE(C4315,E4315),Dato!$A$4:$I$218,7,0),\"\")","v":""},null,""]
[null,null,null,{"$f":"IF(C4316=\"\",\"\",VLOOKUP(C4316,Tabla_Regional[],3,0))","v":""},null,{"$f":"IF(E4316<>\"\",VLOOKUP(CONCATENATE(C4316,E4316),Dato!$A$4:$I$218,7,0),\"\")","v":""},null,""]
[null,null,null,{"$f":"IF(C4317=\"\",\"\",VLOOKUP(C4317,Tabla_Regional[],3,0))","v":""},null,{"$f":"IF(E4317<>\"\",VLOOKUP(CONCATENATE(C4317,E4317),Dato!$A$4:$I$218,7,0),\"\")","v":""},null,""]
[null,null,null,{"$f":"IF(C4318=\"\",\"\",VLOOKUP(C4318,Tabla_Regional[],3,0))","v":""},null,{"$f":"IF(E4318<>\"\",VLOOKUP(CONCATENATE(C4318,E4318),Dato!$A$4:$I$218,7,0),\"\")","v":""},null,""]
[null,null,null,{"$f":"IF(C4319=\"\",\"\",VLOOKUP(C4319,Tabla_Regional[],3,0))","v":""},null,{"$f":"IF(E4319<>\"\",VLOOKUP(CONCATENATE(C4319,E4319),Dato!$A$4:$I$218,7,0),\"\")","v":""},null,""]
[null,null,null,{"$f":"IF(C4320=\"\",\"\",VLOOKUP(C4320,Tabla_Regional[],3,0))","v":""},null,{"$f":"IF(E4320<>\"\",VLOOKUP(CONCATENATE(C4320,E4320),Dato!$A$4:$I$218,7,0),\"\")","v":""},null,""]
[null,null,null,{"$f":"IF(C4321=\"\",\"\",VLOOKUP(C4321,Tabla_Regional[],3,0))","v":""},null,{"$f":"IF(E4321<>\"\",VLOOKUP(CONCATENATE(C4321,E4321),Dato!$A$4:$I$218,7,0),\"\")","v":""},null,""]
[null,null,null,{"$f":"IF(C4322=\"\",\"\",VLOOKUP(C4322,Tabla_Regional[],3,0))","v":""},null,{"$f":"IF(E4322<>\"\",VLOOKUP(CONCATENATE(C4322,E4322),Dato!$A$4:$I$218,7,0),\"\")","v":""},null,""]
[null,null,null,{"$f":"IF(C4323=\"\",\"\",VLOOKUP(C4323,Tabla_Regional[],3,0))","v":""},null,{"$f":"IF(E4323<>\"\",VLOOKUP(CONCATENATE(C4323,E4323),Dato!$A$4:$I$218,7,0),\"\")","v":""},null,""]
[null,null,null,{"$f":"IF(C4324=\"\",\"\",VLOOKUP(C4324,Tabla_Regional[],3,0))","v":""},null,{"$f":"IF(E4324<>\"\",VLOOKUP(CONCATENATE(C4324,E4324),Dato!$A$4:$I$218,7,0),\"\")","v":""},null,""]
[null,null,null,{"$f":"IF(C4325=\"\",\"\",VLOOKUP(C4325,Tabla_Regional[],3,0))","v":""},null,{"$f":"IF(E4325<>\"\",VLOOKUP(CONCATENATE(C4325,E4325),Dato!$A$4:$I$218,7,0),\"\")","v":""},null,""]
[null,null,null,{"$f":"IF(C4326=\"\",\"\",VLOOKUP(C4326,Tabla_Regional[],3,0))","v":""},null,{"$f":"IF(E4326<>\"\",VLOOKUP(CONCATENATE(C4326,E4326),Dato!$A$4:$I$218,7,0),\"\")","v":""},null,""]
[null,null,null,{"$f":"IF(C4327=\"\",\"\",VLOOKUP(C4327,Tabla_Regional[],3,0))","v":""},null,{"$f":"IF(E4327<>\"\",VLOOKUP(CONCATENATE(C4327,E4327),Dato!$A$4:$I$218,7,0),\"\")","v":""},null,""]
[null,null,null,{"$f":"IF(C4328=\"\",\"\",VLOOKUP(C4328,Tabla_Regional[],3,0))","v":""},null,{"$f":"IF(E4328<>\"\",VLOOKUP(CONCATENATE(C4328,E4328),Dato!$A$4:$I$218,7,0),\"\")","v":""},null,""]
[null,null,null,{"$f":"IF(C4329=\"\",\"\",VLOOKUP(C4329,Tabla_Regional[],3,0))","v":""},null,{"$f":"IF(E4329<>\"\",VLOOKUP(CONCATENATE(C4329,E4329),Dato!$A$4:$I$218,7,0),\"\")","v":""},null,""]
[null,null,null,{"$f":"IF(C4330=\"\",\"\",VLOOKUP(C4330,Tabla_Regional[],3,0))","v":""},null,{"$f":"IF(E4330<>\"\",VLOOKUP(CONCATENATE(C4330,E4330),Dato!$A$4:$I$218,7,0),\"\")","v":""},null,""]
[null,null,null,{"$f":"IF(C4331=\"\",\"\",VLOOKUP(C4331,Tabla_Regional[],3,0))","v":""},null,{"$f":"IF(E4331<>\"\",VLOOKUP(CONCATENATE(C4331,E4331),Dato!$A$4:$I$218,7,0),\"\")","v":""},null,""]
[null,null,null,{"$f":"IF(C4332=\"\",\"\",VLOOKUP(C4332,Tabla_Regional[],3,0))","v":""},null,{"$f":"IF(E4332<>\"\",VLOOKUP(CONCATENATE(C4332,E4332),Dato!$A$4:$I$218,7,0),\"\")","v":""},null,""]
[null,null,null,{"$f":"IF(C4333=\"\",\"\",VLOOKUP(C4333,Tabla_Regional[],3,0))","v":""},null,{"$f":"IF(E4333<>\"\",VLOOKUP(CONCATENATE(C4333,E4333),Dato!$A$4:$I$218,7,0),\"\")","v":""},null,""]
[null,null,null,{"$f":"IF(C4334=\"\",\"\",VLOOKUP(C4334,Tabla_Regional[],3,0))","v":""},null,{"$f":"IF(E4334<>\"\",VLOOKUP(CONCATENATE(C4334,E4334),Dato!$A$4:$I$218,7,0),\"\")","v":""},null,""]
[null,null,null,{"$f":"IF(C4335=\"\",\"\",VLOOKUP(C4335,Tabla_Regional[],3,0))","v":""},null,{"$f":"IF(E4335<>\"\",VLOOKUP(CONCATENATE(C4335,E4335),Dato!$A$4:$I$218,7,0),\"\")","v":""},null,""]
[null,null,null,{"$f":"IF(C4336=\"\",\"\",VLOOKUP(C4336,Tabla_Regional[],3,0))","v":""},null,{"$f":"IF(E4336<>\"\",VLOOKUP(CONCATENATE(C4336,E4336),Dato!$A$4:$I$218,7,0),\"\")","v":""},null,""]
[null,null,null,{"$f":"IF(C4337=\"\",\"\",VLOOKUP(C4337,Tabla_Regional[],3,0))","v":""},null,{"$f":"IF(E4337<>\"\",VLOOKUP(CONCATENATE(C4337,E4337),Dato!$A$4:$I$218,7,0),\"\")","v":""},null,""]
[null,null,null,{"$f":"IF(C4338=\"\",\"\",VLOOKUP(C4338,Tabla_Regional[],3,0))","v":""},null,{"$f":"IF(E4338<>\"\",VLOOKUP(CONCATENATE(C4338,E4338),Dato!$A$4:$I$218,7,0),\"\")","v":""},null,""]
[null,null,null,{"$f":"IF(C4339=\"\",\"\",VLOOKUP(C4339,Tabla_Regional[],3,0))","v":""},null,{"$f":"IF(E4339<>\"\",VLOOKUP(CONCATENATE(C4339,E4339),Dato!$A$4:$I$218,7,0),\"\")","v":""},null,""]
[null,null,null,{"$f":"IF(C4340=\"\",\"\",VLOOKUP(C4340,Tabla_Regional[],3,0))","v":""},null,{"$f":"IF(E4340<>\"\",VLOOKUP(CONCATENATE(C4340,E4340),Dato!$A$4:$I$218,7,0),\"\")","v":""},null,""]
[null,null,null,{"$f":"IF(C4341=\"\",\"\",VLOOKUP(C4341,Tabla_Regional[],3,0))","v":""},null,{"$f":"IF(E4341<>\"\",VLOOKUP(CONCATENATE(C4341,E4341),Dato!$A$4:$I$218,7,0),\"\")","v":""},null,""]
[null,null,null,{"$f":"IF(C4342=\"\",\"\",VLOOKUP(C4342,Tabla_Regional[],3,0))","v":""},null,{"$f":"IF(E4342<>\"\",VLOOKUP(CONCATENATE(C4342,E4342),Dato!$A$4:$I$218,7,0),\"\")","v":""},null,""]
[null,null,null,{"$f":"IF(C4343=\"\",\"\",VLOOKUP(C4343,Tabla_Regional[],3,0))","v":""},null,{"$f":"IF(E4343<>\"\",VLOOKUP(CONCATENATE(C4343,E4343),Dato!$A$4:$I$218,7,0),\"\")","v":""},null,""]
[null,null,null,{"$f":"IF(C4344=\"\",\"\",VLOOKUP(C4344,Tabla_Regional[],3,0))","v":""},null,{"$f":"IF(E4344<>\"\",VLOOKUP(CONCATENATE(C4344,E4344),Dato!$A$4:$I$218,7,0),\"\")","v":""},null,""]
[null,null,null,{"$f":"IF(C4345=\"\",\"\",VLOOKUP(C4345,Tabla_Regional[],3,0))","v":""},null,{"$f":"IF(E4345<>\"\",VLOOKUP(CONCATENATE(C4345,E4345),Dato!$A$4:$I$218,7,0),\"\")","v":""},null,""]
[null,null,null,{"$f":"IF(C4346=\"\",\"\",VLOOKUP(C4346,Tabla_Regional[],3,0))","v":""},null,{"$f":"IF(E4346<>\"\",VLOOKUP(CONCATENATE(C4346,E4346),Dato!$A$4:$I$218,7,0),\"\")","v":""},null,""]
[null,null,null,{"$f":"IF(C4347=\"\",\"\",VLOOKUP(C4347,Tabla_Regional[],3,0))","v":""},null,{"$f":"IF(E4347<>\"\",VLOOKUP(CONCATENATE(C4347,E4347),Dato!$A$4:$I$218,7,0),\"\")","v":""},null,""]
[null,null,null,{"$f":"IF(C4348=\"\",\"\",VLOOKUP(C4348,Tabla_Regional[],3,0))","v":""},null,{"$f":"IF(E4348<>\"\",VLOOKUP(CONCATENATE(C4348,E4348),Dato!$A$4:$I$218,7,0),\"\")","v":""},null,""]
[null,null,null,{"$f":"IF(C4349=\"\",\"\",VLOOKUP(C4349,Tabla_Regional[],3,0))","v":""},null,{"$f":"IF(E4349<>\"\",VLOOKUP(CONCATENATE(C4349,E4349),Dato!$A$4:$I$218,7,0),\"\")","v":""},null,""]
[null,null,null,{"$f":"IF(C4350=\"\",\"\",VLOOKUP(C4350,Tabla_Regional[],3,0))","v":""},null,{"$f":"IF(E4350<>\"\",VLOOKUP(CONCATENATE(C4350,E4350),Dato!$A$4:$I$218,7,0),\"\")","v":""},null,""]
[null,null,null,{"$f":"IF(C4351=\"\",\"\",VLOOKUP(C4351,Tabla_Regional[],3,0))","v":""},null,{"$f":"IF(E4351<>\"\",VLOOKUP(CONCATENATE(C4351,E4351),Dato!$A$4:$I$218,7,0),\"\")","v":""},null,""]
[null,null,null,{"$f":"IF(C4352=\"\",\"\",VLOOKUP(C4352,Tabla_Regional[],3,0))","v":""},null,{"$f":"IF(E4352<>\"\",VLOOKUP(CONCATENATE(C4352,E4352),Dato!$A$4:$I$218,7,0),\"\")","v":""},null,""]
[null,null,null,{"$f":"IF(C4353=\"\",\"\",VLOOKUP(C4353,Tabla_Regional[],3,0))","v":""},null,{"$f":"IF(E4353<>\"\",VLOOKUP(CONCATENATE(C4353,E4353),Dato!$A$4:$I$218,7,0),\"\")","v":""},null,""]
[null,null,null,{"$f":"IF(C4354=\"\",\"\",VLOOKUP(C4354,Tabla_Regional[],3,0))","v":""},null,{"$f":"IF(E4354<>\"\",VLOOKUP(CONCATENATE(C4354,E4354),Dato!$A$4:$I$218,7,0),\"\")","v":""},null,""]
[null,null,null,{"$f":"IF(C4355=\"\",\"\",VLOOKUP(C4355,Tabla_Regional[],3,0))","v":""},null,{"$f":"IF(E4355<>\"\",VLOOKUP(CONCATENATE(C4355,E4355),Dato!$A$4:$I$218,7,0),\"\")","v":""},null,""]
[null,null,null,{"$f":"IF(C4356=\"\",\"\",VLOOKUP(C4356,Tabla_Regional[],3,0))","v":""},null,{"$f":"IF(E4356<>\"\",VLOOKUP(CONCATENATE(C4356,E4356),Dato!$A$4:$I$218,7,0),\"\")","v":""},null,""]
[null,null,null,{"$f":"IF(C4357=\"\",\"\",VLOOKUP(C4357,Tabla_Regional[],3,0))","v":""},null,{"$f":"IF(E4357<>\"\",VLOOKUP(CONCATENATE(C4357,E4357),Dato!$A$4:$I$218,7,0),\"\")","v":""},null,""]
[null,null,null,{"$f":"IF(C4358=\"\",\"\",VLOOKUP(C4358,Tabla_Regional[],3,0))","v":""},null,{"$f":"IF(E4358<>\"\",VLOOKUP(CONCATENATE(C4358,E4358),Dato!$A$4:$I$218,7,0),\"\")","v":""},null,""]
[null,null,null,{"$f":"IF(C4359=\"\",\"\",VLOOKUP(C4359,Tabla_Regional[],3,0))","v":""},null,{"$f":"IF(E4359<>\"\",VLOOKUP(CONCATENATE(C4359,E4359),Dato!$A$4:$I$218,7,0),\"\")","v":""},null,""]
[null,null,null,{"$f":"IF(C4360=\"\",\"\",VLOOKUP(C4360,Tabla_Regional[],3,0))","v":""},null,{"$f":"IF(E4360<>\"\",VLOOKUP(CONCATENATE(C4360,E4360),Dato!$A$4:$I$218,7,0),\"\")","v":""},null,""]
[null,null,null,{"$f":"IF(C4361=\"\",\"\",VLOOKUP(C4361,Tabla_Regional[],3,0))","v":""},null,{"$f":"IF(E4361<>\"\",VLOOKUP(CONCATENATE(C4361,E4361),Dato!$A$4:$I$218,7,0),\"\")","v":""},null,""]
[null,null,null,{"$f":"IF(C4362=\"\",\"\",VLOOKUP(C4362,Tabla_Regional[],3,0))","v":""},null,{"$f":"IF(E4362<>\"\",VLOOKUP(CONCATENATE(C4362,E4362),Dato!$A$4:$I$218,7,0),\"\")","v":""},null,""]
[null,null,null,{"$f":"IF(C4363=\"\",\"\",VLOOKUP(C4363,Tabla_Regional[],3,0))","v":""},null,{"$f":"IF(E4363<>\"\",VLOOKUP(CONCATENATE(C4363,E4363),Dato!$A$4:$I$218,7,0),\"\")","v":""},null,""]
[null,null,null,{"$f":"IF(C4364=\"\",\"\",VLOOKUP(C4364,Tabla_Regional[],3,0))","v":""},null,{"$f":"IF(E4364<>\"\",VLOOKUP(CONCATENATE(C4364,E4364),Dato!$A$4:$I$218,7,0),\"\")","v":""},null,{"$f":"IF(G4364<>\"\",VLOOKUP(CONCATENATE(C4364,E4364,G4364),czmuni,7,0),\"\")","v":""}]
[null,null,null,{"$f":"IF(C4365=\"\",\"\",VLOOKUP(C4365,Tabla_Regional[],3,0))","v":""},null,{"$f":"IF(E4365<>\"\",VLOOKUP(CONCATENATE(C4365,E4365),Dato!$A$4:$I$218,7,0),\"\")","v":""},null,""]
[null,null,null,{"$f":"IF(C4366=\"\",\"\",VLOOKUP(C4366,Tabla_Regional[],3,0))","v":""},null,{"$f":"IF(E4366<>\"\",VLOOKUP(CONCATENATE(C4366,E4366),Dato!$A$4:$I$218,7,0),\"\")","v":""},null,""]
[null,null,null,{"$f":"IF(C4367=\"\",\"\",VLOOKUP(C4367,Tabla_Regional[],3,0))","v":""},null,{"$f":"IF(E4367<>\"\",VLOOKUP(CONCATENATE(C4367,E4367),Dato!$A$4:$I$218,7,0),\"\")","v":""},null,""]
[null,null,null,{"$f":"IF(C4368=\"\",\"\",VLOOKUP(C4368,Tabla_Regional[],3,0))","v":""},null,{"$f":"IF(E4368<>\"\",VLOOKUP(CONCATENATE(C4368,E4368),Dato!$A$4:$I$218,7,0),\"\")","v":""},null,""]
[null,null,null,{"$f":"IF(C4369=\"\",\"\",VLOOKUP(C4369,Tabla_Regional[],3,0))","v":""},null,{"$f":"IF(E4369<>\"\",VLOOKUP(CONCATENATE(C4369,E4369),Dato!$A$4:$I$218,7,0),\"\")","v":""},null,""]
[null,null,null,{"$f":"IF(C4370=\"\",\"\",VLOOKUP(C4370,Tabla_Regional[],3,0))","v":""},null,{"$f":"IF(E4370<>\"\",VLOOKUP(CONCATENATE(C4370,E4370),Dato!$A$4:$I$218,7,0),\"\")","v":""},null,""]
[null,null,null,{"$f":"IF(C4371=\"\",\"\",VLOOKUP(C4371,Tabla_Regional[],3,0))","v":""},null,{"$f":"IF(E4371<>\"\",VLOOKUP(CONCATENATE(C4371,E4371),Dato!$A$4:$I$218,7,0),\"\")","v":""},null,""]
[null,null,null,{"$f":"IF(C4372=\"\",\"\",VLOOKUP(C4372,Tabla_Regional[],3,0))","v":""},null,{"$f":"IF(E4372<>\"\",VLOOKUP(CONCATENATE(C4372,E4372),Dato!$A$4:$I$218,7,0),\"\")","v":""},null,""]
[null,null,null,{"$f":"IF(C4373=\"\",\"\",VLOOKUP(C4373,Tabla_Regional[],3,0))","v":""},null,{"$f":"IF(E4373<>\"\",VLOOKUP(CONCATENATE(C4373,E4373),Dato!$A$4:$I$218,7,0),\"\")","v":""},null,""]
[null,null,null,{"$f":"IF(C4374=\"\",\"\",VLOOKUP(C4374,Tabla_Regional[],3,0))","v":""},null,{"$f":"IF(E4374<>\"\",VLOOKUP(CONCATENATE(C4374,E4374),Dato!$A$4:$I$218,7,0),\"\")","v":""},null,""]
[null,null,null,{"$f":"IF(C4375=\"\",\"\",VLOOKUP(C4375,Tabla_Regional[],3,0))","v":""},null,{"$f":"IF(E4375<>\"\",VLOOKUP(CONCATENATE(C4375,E4375),Dato!$A$4:$I$218,7,0),\"\")","v":""},null,""]
[null,null,null,{"$f":"IF(C4376=\"\",\"\",VLOOKUP(C4376,Tabla_Regional[],3,0))","v":""},null,{"$f":"IF(E4376<>\"\",VLOOKUP(CONCATENATE(C4376,E4376),Dato!$A$4:$I$218,7,0),\"\")","v":""},null,""]
[null,null,null,{"$f":"IF(C4377=\"\",\"\",VLOOKUP(C4377,Tabla_Regional[],3,0))","v":""},null,{"$f":"IF(E4377<>\"\",VLOOKUP(CONCATENATE(C4377,E4377),Dato!$A$4:$I$218,7,0),\"\")","v":""},null,""]
[null,null,null,{"$f":"IF(C4378=\"\",\"\",VLOOKUP(C4378,Tabla_Regional[],3,0))","v":""},null,{"$f":"IF(E4378<>\"\",VLOOKUP(CONCATENATE(C4378,E4378),Dato!$A$4:$I$218,7,0),\"\")","v":""},null,""]
[null,null,null,{"$f":"IF(C4379=\"\",\"\",VLOOKUP(C4379,Tabla_Regional[],3,0))","v":""},null,{"$f":"IF(E4379<>\"\",VLOOKUP(CONCATENATE(C4379,E4379),Dato!$A$4:$I$218,7,0),\"\")","v":""},null,""]
[null,null,null,{"$f":"IF(C4380=\"\",\"\",VLOOKUP(C4380,Tabla_Regional[],3,0))","v":""},null,{"$f":"IF(E4380<>\"\",VLOOKUP(CONCATENATE(C4380,E4380),Dato!$A$4:$I$218,7,0),\"\")","v":""},null,""]
[null,null,null,{"$f":"IF(C4381=\"\",\"\",VLOOKUP(C4381,Tabla_Regional[],3,0))","v":""},null,{"$f":"IF(E4381<>\"\",VLOOKUP(CONCATENATE(C4381,E4381),Dato!$A$4:$I$218,7,0),\"\")","v":""},null,""]
[null,null,null,{"$f":"IF(C4382=\"\",\"\",VLOOKUP(C4382,Tabla_Regional[],3,0))","v":""},null,{"$f":"IF(E4382<>\"\",VLOOKUP(CONCATENATE(C4382,E4382),Dato!$A$4:$I$218,7,0),\"\")","v":""},null,""]
[null,null,null,{"$f":"IF(C4383=\"\",\"\",VLOOKUP(C4383,Tabla_Regional[],3,0))","v":""},null,{"$f":"IF(E4383<>\"\",VLOOKUP(CONCATENATE(C4383,E4383),Dato!$A$4:$I$218,7,0),\"\")","v":""},null,""]
[null,null,null,{"$f":"IF(C4384=\"\",\"\",VLOOKUP(C4384,Tabla_Regional[],3,0))","v":""},null,{"$f":"IF(E4384<>\"\",VLOOKUP(CONCATENATE(C4384,E4384),Dato!$A$4:$I$218,7,0),\"\")","v":""},null,""]
[null,null,null,{"$f":"IF(C4385=\"\",\"\",VLOOKUP(C4385,Tabla_Regional[],3,0))","v":""},null,{"$f":"IF(E4385<>\"\",VLOOKUP(CONCATENATE(C4385,E4385),Dato!$A$4:$I$218,7,0),\"\")","v":""},null,""]
[null,null,null,{"$f":"IF(C4386=\"\",\"\",VLOOKUP(C4386,Tabla_Regional[],3,0))","v":""},null,{"$f":"IF(E4386<>\"\",VLOOKUP(CONCATENATE(C4386,E4386),Dato!$A$4:$I$218,7,0),\"\")","v":""},null,""]
[null,null,null,{"$f":"IF(C4387=\"\",\"\",VLOOKUP(C4387,Tabla_Regional[],3,0))","v":""},null,{"$f":"IF(E4387<>\"\",VLOOKUP(CONCATENATE(C4387,E4387),Dato!$A$4:$I$218,7,0),\"\")","v":""},null,""]
[null,null,null,{"$f":"IF(C4388=\"\",\"\",VLOOKUP(C4388,Tabla_Regional[],3,0))","v":""},null,{"$f":"IF(E4388<>\"\",VLOOKUP(CONCATENATE(C4388,E4388),Dato!$A$4:$I$218,7,0),\"\")","v":""},null,""]
[null,null,null,{"$f":"IF(C4389=\"\",\"\",VLOOKUP(C4389,Tabla_Regional[],3,0))","v":""},null,{"$f":"IF(E4389<>\"\",VLOOKUP(CONCATENATE(C4389,E4389),Dato!$A$4:$I$218,7,0),\"\")","v":""},null,""]
[null,null,null,{"$f":"IF(C4390=\"\",\"\",VLOOKUP(C4390,Tabla_Regional[],3,0))","v":""},null,{"$f":"IF(E4390<>\"\",VLOOKUP(CONCATENATE(C4390,E4390),Dato!$A$4:$I$218,7,0),\"\")","v":""},null,""]
[null,null,null,{"$f":"IF(C4391=\"\",\"\",VLOOKUP(C4391,Tabla_Regional[],3,0))","v":""},null,{"$f":"IF(E4391<>\"\",VLOOKUP(CONCATENATE(C4391,E4391),Dato!$A$4:$I$218,7,0),\"\")","v":""},null,""]
[null,null,null,{"$f":"IF(C4392=\"\",\"\",VLOOKUP(C4392,Tabla_Regional[],3,0))","v":""},null,{"$f":"IF(E4392<>\"\",VLOOKUP(CONCATENATE(C4392,E4392),Dato!$A$4:$I$218,7,0),\"\")","v":""},null,""]
[null,null,null,{"$f":"IF(C4393=\"\",\"\",VLOOKUP(C4393,Tabla_Regional[],3,0))","v":""},null,{"$f":"IF(E4393<>\"\",VLOOKUP(CONCATENATE(C4393,E4393),Dato!$A$4:$I$218,7,0),\"\")","v":""},null,""]
[null,null,null,{"$f":"IF(C4394=\"\",\"\",VLOOKUP(C4394,Tabla_Regional[],3,0))","v":""},null,{"$f":"IF(E4394<>\"\",VLOOKUP(CONCATENATE(C4394,E4394),Dato!$A$4:$I$218,7,0),\"\")","v":""},null,""]
[null,null,null,{"$f":"IF(C4395=\"\",\"\",VLOOKUP(C4395,Tabla_Regional[],3,0))","v":""},null,{"$f":"IF(E4395<>\"\",VLOOKUP(CONCATENATE(C4395,E4395),Dato!$A$4:$I$218,7,0),\"\")","v":""},null,""]
[null,null,null,{"$f":"IF(C4396=\"\",\"\",VLOOKUP(C4396,Tabla_Regional[],3,0))","v":""},null,{"$f":"IF(E4396<>\"\",VLOOKUP(CONCATENATE(C4396,E4396),Dato!$A$4:$I$218,7,0),\"\")","v":""},null,""]
[null,null,null,{"$f":"IF(C4397=\"\",\"\",VLOOKUP(C4397,Tabla_Regional[],3,0))","v":""},null,{"$f":"IF(E4397<>\"\",VLOOKUP(CONCATENATE(C4397,E4397),Dato!$A$4:$I$218,7,0),\"\")","v":""},null,""]
[null,null,null,{"$f":"IF(C4398=\"\",\"\",VLOOKUP(C4398,Tabla_Regional[],3,0))","v":""},null,{"$f":"IF(E4398<>\"\",VLOOKUP(CONCATENATE(C4398,E4398),Dato!$A$4:$I$218,7,0),\"\")","v":""},null,""]
[null,null,null,{"$f":"IF(C4399=\"\",\"\",VLOOKUP(C4399,Tabla_Regional[],3,0))","v":""},null,{"$f":"IF(E4399<>\"\",VLOOKUP(CONCATENATE(C4399,E4399),Dato!$A$4:$I$218,7,0),\"\")","v":""},null,""]
[null,null,null,{"$f":"IF(C4400=\"\",\"\",VLOOKUP(C4400,Tabla_Regional[],3,0))","v":""},null,{"$f":"IF(E4400<>\"\",VLOOKUP(CONCATENATE(C4400,E4400),Dato!$A$4:$I$218,7,0),\"\")","v":""},null,""]
[null,null,null,{"$f":"IF(C4401=\"\",\"\",VLOOKUP(C4401,Tabla_Regional[],3,0))","v":""},null,{"$f":"IF(E4401<>\"\",VLOOKUP(CONCATENATE(C4401,E4401),Dato!$A$4:$I$218,7,0),\"\")","v":""},null,""]
[null,null,null,{"$f":"IF(C4402=\"\",\"\",VLOOKUP(C4402,Tabla_Regional[],3,0))","v":""},null,{"$f":"IF(E4402<>\"\",VLOOKUP(CONCATENATE(C4402,E4402),Dato!$A$4:$I$218,7,0),\"\")","v":""},null,""]
[null,null,null,{"$f":"IF(C4403=\"\",\"\",VLOOKUP(C4403,Tabla_Regional[],3,0))","v":""},null,{"$f":"IF(E4403<>\"\",VLOOKUP(CONCATENATE(C4403,E4403),Dato!$A$4:$I$218,7,0),\"\")","v":""},null,""]
[null,null,null,{"$f":"IF(C4404=\"\",\"\",VLOOKUP(C4404,Tabla_Regional[],3,0))","v":""},null,{"$f":"IF(E4404<>\"\",VLOOKUP(CONCATENATE(C4404,E4404),Dato!$A$4:$I$218,7,0),\"\")","v":""},null,""]
[null,null,null,{"$f":"IF(C4405=\"\",\"\",VLOOKUP(C4405,Tabla_Regional[],3,0))","v":""},null,{"$f":"IF(E4405<>\"\",VLOOKUP(CONCATENATE(C4405,E4405),Dato!$A$4:$I$218,7,0),\"\")","v":""},null,""]
[null,null,null,{"$f":"IF(C4406=\"\",\"\",VLOOKUP(C4406,Tabla_Regional[],3,0))","v":""},null,{"$f":"IF(E4406<>\"\",VLOOKUP(CONCATENATE(C4406,E4406),Dato!$A$4:$I$218,7,0),\"\")","v":""},null,""]
[null,null,null,{"$f":"IF(C4407=\"\",\"\",VLOOKUP(C4407,Tabla_Regional[],3,0))","v":""},null,{"$f":"IF(E4407<>\"\",VLOOKUP(CONCATENATE(C4407,E4407),Dato!$A$4:$I$218,7,0),\"\")","v":""},null,""]
[null,null,null,{"$f":"IF(C4408=\"\",\"\",VLOOKUP(C4408,Tabla_Regional[],3,0))","v":""},null,{"$f":"IF(E4408<>\"\",VLOOKUP(CONCATENATE(C4408,E4408),Dato!$A$4:$I$218,7,0),\"\")","v":""},null,""]
[null,null,null,{"$f":"IF(C4409=\"\",\"\",VLOOKUP(C4409,Tabla_Regional[],3,0))","v":""},null,{"$f":"IF(E4409<>\"\",VLOOKUP(CONCATENATE(C4409,E4409),Dato!$A$4:$I$218,7,0),\"\")","v":""},null,""]
[null,null,null,{"$f":"IF(C4410=\"\",\"\",VLOOKUP(C4410,Tabla_Regional[],3,0))","v":""},null,{"$f":"IF(E4410<>\"\",VLOOKUP(CONCATENATE(C4410,E4410),Dato!$A$4:$I$218,7,0),\"\")","v":""},null,""]
[null,null,null,{"$f":"IF(C4411=\"\",\"\",VLOOKUP(C4411,Tabla_Regional[],3,0))","v":""},null,{"$f":"IF(E4411<>\"\",VLOOKUP(CONCATENATE(C4411,E4411),Dato!$A$4:$I$218,7,0),\"\")","v":""},null,""]
[null,null,null,{"$f":"IF(C4412=\"\",\"\",VLOOKUP(C4412,Tabla_Regional[],3,0))","v":""},null,{"$f":"IF(E4412<>\"\",VLOOKUP(CONCATENATE(C4412,E4412),Dato!$A$4:$I$218,7,0),\"\")","v":""},null,""]
[null,null,null,{"$f":"IF(C4413=\"\",\"\",VLOOKUP(C4413,Tabla_Regional[],3,0))","v":""},null,{"$f":"IF(E4413<>\"\",VLOOKUP(CONCATENATE(C4413,E4413),Dato!$A$4:$I$218,7,0),\"\")","v":""},null,""]
[null,null,null,{"$f":"IF(C4414=\"\",\"\",VLOOKUP(C4414,Tabla_Regional[],3,0))","v":""},null,{"$f":"IF(E4414<>\"\",VLOOKUP(CONCATENATE(C4414,E4414),Dato!$A$4:$I$218,7,0),\"\")","v":""},null,""]
[null,null,null,{"$f":"IF(C4415=\"\",\"\",VLOOKUP(C4415,Tabla_Regional[],3,0))","v":""},null,{"$f":"IF(E4415<>\"\",VLOOKUP(CONCATENATE(C4415,E4415),Dato!$A$4:$I$218,7,0),\"\")","v":""},null,""]
[null,null,null,{"$f":"IF(C4416=\"\",\"\",VLOOKUP(C4416,Tabla_Regional[],3,0))","v":""},null,{"$f":"IF(E4416<>\"\",VLOOKUP(CONCATENATE(C4416,E4416),Dato!$A$4:$I$218,7,0),\"\")","v":""},null,""]
[null,null,null,{"$f":"IF(C4417=\"\",\"\",VLOOKUP(C4417,Tabla_Regional[],3,0))","v":""},null,{"$f":"IF(E4417<>\"\",VLOOKUP(CONCATENATE(C4417,E4417),Dato!$A$4:$I$218,7,0),\"\")","v":""},null,""]
[null,null,null,{"$f":"IF(C4418=\"\",\"\",VLOOKUP(C4418,Tabla_Regional[],3,0))","v":""},null,{"$f":"IF(E4418<>\"\",VLOOKUP(CONCATENATE(C4418,E4418),Dato!$A$4:$I$218,7,0),\"\")","v":""},null,""]
[null,null,null,{"$f":"IF(C4419=\"\",\"\",VLOOKUP(C4419,Tabla_Regional[],3,0))","v":""},null,{"$f":"IF(E4419<>\"\",VLOOKUP(CONCATENATE(C4419,E4419),Dato!$A$4:$I$218,7,0),\"\")","v":""},null,""]
[null,null,null,{"$f":"IF(C4420=\"\",\"\",VLOOKUP(C4420,Tabla_Regional[],3,0))","v":""},null,{"$f":"IF(E4420<>\"\",VLOOKUP(CONCATENATE(C4420,E4420),Dato!$A$4:$I$218,7,0),\"\")","v":""},null,""]
[null,null,null,{"$f":"IF(C4421=\"\",\"\",VLOOKUP(C4421,Tabla_Regional[],3,0))","v":""},null,{"$f":"IF(E4421<>\"\",VLOOKUP(CONCATENATE(C4421,E4421),Dato!$A$4:$I$218,7,0),\"\")","v":""},null,""]
[null,null,null,{"$f":"IF(C4422=\"\",\"\",VLOOKUP(C4422,Tabla_Regional[],3,0))","v":""},null,{"$f":"IF(E4422<>\"\",VLOOKUP(CONCATENATE(C4422,E4422),Dato!$A$4:$I$218,7,0),\"\")","v":""},null,""]
[null,null,null,{"$f":"IF(C4423=\"\",\"\",VLOOKUP(C4423,Tabla_Regional[],3,0))","v":""},null,{"$f":"IF(E4423<>\"\",VLOOKUP(CONCATENATE(C4423,E4423),Dato!$A$4:$I$218,7,0),\"\")","v":""},null,""]
[null,null,null,{"$f":"IF(C4424=\"\",\"\",VLOOKUP(C4424,Tabla_Regional[],3,0))","v":""},null,{"$f":"IF(E4424<>\"\",VLOOKUP(CONCATENATE(C4424,E4424),Dato!$A$4:$I$218,7,0),\"\")","v":""},null,""]
[null,null,null,{"$f":"IF(C4425=\"\",\"\",VLOOKUP(C4425,Tabla_Regional[],3,0))","v":""},null,{"$f":"IF(E4425<>\"\",VLOOKUP(CONCATENATE(C4425,E4425),Dato!$A$4:$I$218,7,0),\"\")","v":""},null,""]
[null,null,null,{"$f":"IF(C4426=\"\",\"\",VLOOKUP(C4426,Tabla_Regional[],3,0))","v":""},null,{"$f":"IF(E4426<>\"\",VLOOKUP(CONCATENATE(C4426,E4426),Dato!$A$4:$I$218,7,0),\"\")","v":""},null,""]
[null,null,null,{"$f":"IF(C4427=\"\",\"\",VLOOKUP(C4427,Tabla_Regional[],3,0))","v":""},null,{"$f":"IF(E4427<>\"\",VLOOKUP(CONCATENATE(C4427,E4427),Dato!$A$4:$I$218,7,0),\"\")","v":""},null,""]
[null,null,null,{"$f":"IF(C4428=\"\",\"\",VLOOKUP(C4428,Tabla_Regional[],3,0))","v":""},null,{"$f":"IF(E4428<>\"\",VLOOKUP(CONCATENATE(C4428,E4428),Dato!$A$4:$I$218,7,0),\"\")","v":""},null,{"$f":"IF(G4428<>\"\",VLOOKUP(CONCATENATE(C4428,E4428,G4428),czmuni,7,0),\"\")","v":""}]
[null,null,null,{"$f":"IF(C4429=\"\",\"\",VLOOKUP(C4429,Tabla_Regional[],3,0))","v":""},null,{"$f":"IF(E4429<>\"\",VLOOKUP(CONCATENATE(C4429,E4429),Dato!$A$4:$I$218,7,0),\"\")","v":""},null,""]
[null,null,null,{"$f":"IF(C4430=\"\",\"\",VLOOKUP(C4430,Tabla_Regional[],3,0))","v":""},null,{"$f":"IF(E4430<>\"\",VLOOKUP(CONCATENATE(C4430,E4430),Dato!$A$4:$I$218,7,0),\"\")","v":""},null,""]
[null,null,null,{"$f":"IF(C4431=\"\",\"\",VLOOKUP(C4431,Tabla_Regional[],3,0))","v":""},null,{"$f":"IF(E4431<>\"\",VLOOKUP(CONCATENATE(C4431,E4431),Dato!$A$4:$I$218,7,0),\"\")","v":""},null,""]
[null,null,null,{"$f":"IF(C4432=\"\",\"\",VLOOKUP(C4432,Tabla_Regional[],3,0))","v":""},null,{"$f":"IF(E4432<>\"\",VLOOKUP(CONCATENATE(C4432,E4432),Dato!$A$4:$I$218,7,0),\"\")","v":""},null,""]
[null,null,null,{"$f":"IF(C4433=\"\",\"\",VLOOKUP(C4433,Tabla_Regional[],3,0))","v":""},null,{"$f":"IF(E4433<>\"\",VLOOKUP(CONCATENATE(C4433,E4433),Dato!$A$4:$I$218,7,0),\"\")","v":""},null,""]
[null,null,null,{"$f":"IF(C4434=\"\",\"\",VLOOKUP(C4434,Tabla_Regional[],3,0))","v":""},null,{"$f":"IF(E4434<>\"\",VLOOKUP(CONCATENATE(C4434,E4434),Dato!$A$4:$I$218,7,0),\"\")","v":""},null,""]
[null,null,null,{"$f":"IF(C4435=\"\",\"\",VLOOKUP(C4435,Tabla_Regional[],3,0))","v":""},null,{"$f":"IF(E4435<>\"\",VLOOKUP(CONCATENATE(C4435,E4435),Dato!$A$4:$I$218,7,0),\"\")","v":""},null,""]
[null,null,null,{"$f":"IF(C4436=\"\",\"\",VLOOKUP(C4436,Tabla_Regional[],3,0))","v":""},null,{"$f":"IF(E4436<>\"\",VLOOKUP(CONCATENATE(C4436,E4436),Dato!$A$4:$I$218,7,0),\"\")","v":""},null,""]
[null,null,null,{"$f":"IF(C4437=\"\",\"\",VLOOKUP(C4437,Tabla_Regional[],3,0))","v":""},null,{"$f":"IF(E4437<>\"\",VLOOKUP(CONCATENATE(C4437,E4437),Dato!$A$4:$I$218,7,0),\"\")","v":""},null,""]
[null,null,null,{"$f":"IF(C4438=\"\",\"\",VLOOKUP(C4438,Tabla_Regional[],3,0))","v":""},null,{"$f":"IF(E4438<>\"\",VLOOKUP(CONCATENATE(C4438,E4438),Dato!$A$4:$I$218,7,0),\"\")","v":""},null,""]
[null,null,null,{"$f":"IF(C4439=\"\",\"\",VLOOKUP(C4439,Tabla_Regional[],3,0))","v":""},null,{"$f":"IF(E4439<>\"\",VLOOKUP(CONCATENATE(C4439,E4439),Dato!$A$4:$I$218,7,0),\"\")","v":""},null,""]
[null,null,null,{"$f":"IF(C4440=\"\",\"\",VLOOKUP(C4440,Tabla_Regional[],3,0))","v":""},null,{"$f":"IF(E4440<>\"\",VLOOKUP(CONCATENATE(C4440,E4440),Dato!$A$4:$I$218,7,0),\"\")","v":""},null,""]
[null,null,null,{"$f":"IF(C4441=\"\",\"\",VLOOKUP(C4441,Tabla_Regional[],3,0))","v":""},null,{"$f":"IF(E4441<>\"\",VLOOKUP(CONCATENATE(C4441,E4441),Dato!$A$4:$I$218,7,0),\"\")","v":""},null,""]
[null,null,null,{"$f":"IF(C4442=\"\",\"\",VLOOKUP(C4442,Tabla_Regional[],3,0))","v":""},null,{"$f":"IF(E4442<>\"\",VLOOKUP(CONCATENATE(C4442,E4442),Dato!$A$4:$I$218,7,0),\"\")","v":""},null,""]
[null,null,null,{"$f":"IF(C4443=\"\",\"\",VLOOKUP(C4443,Tabla_Regional[],3,0))","v":""},null,{"$f":"IF(E4443<>\"\",VLOOKUP(CONCATENATE(C4443,E4443),Dato!$A$4:$I$218,7,0),\"\")","v":""},null,""]
[null,null,null,{"$f":"IF(C4444=\"\",\"\",VLOOKUP(C4444,Tabla_Regional[],3,0))","v":""},null,{"$f":"IF(E4444<>\"\",VLOOKUP(CONCATENATE(C4444,E4444),Dato!$A$4:$I$218,7,0),\"\")","v":""},null,""]
[null,null,null,{"$f":"IF(C4445=\"\",\"\",VLOOKUP(C4445,Tabla_Regional[],3,0))","v":""},null,{"$f":"IF(E4445<>\"\",VLOOKUP(CONCATENATE(C4445,E4445),Dato!$A$4:$I$218,7,0),\"\")","v":""},null,""]
[null,null,null,{"$f":"IF(C4446=\"\",\"\",VLOOKUP(C4446,Tabla_Regional[],3,0))","v":""},null,{"$f":"IF(E4446<>\"\",VLOOKUP(CONCATENATE(C4446,E4446),Dato!$A$4:$I$218,7,0),\"\")","v":""},null,""]
[null,null,null,{"$f":"IF(C4447=\"\",\"\",VLOOKUP(C4447,Tabla_Regional[],3,0))","v":""},null,{"$f":"IF(E4447<>\"\",VLOOKUP(CONCATENATE(C4447,E4447),Dato!$A$4:$I$218,7,0),\"\")","v":""},null,""]
[null,null,null,{"$f":"IF(C4448=\"\",\"\",VLOOKUP(C4448,Tabla_Regional[],3,0))","v":""},null,{"$f":"IF(E4448<>\"\",VLOOKUP(CONCATENATE(C4448,E4448),Dato!$A$4:$I$218,7,0),\"\")","v":""},null,""]
[null,null,null,{"$f":"IF(C4449=\"\",\"\",VLOOKUP(C4449,Tabla_Regional[],3,0))","v":""},null,{"$f":"IF(E4449<>\"\",VLOOKUP(CONCATENATE(C4449,E4449),Dato!$A$4:$I$218,7,0),\"\")","v":""},null,""]
[null,null,null,{"$f":"IF(C4450=\"\",\"\",VLOOKUP(C4450,Tabla_Regional[],3,0))","v":""},null,{"$f":"IF(E4450<>\"\",VLOOKUP(CONCATENATE(C4450,E4450),Dato!$A$4:$I$218,7,0),\"\")","v":""},null,""]
[null,null,null,{"$f":"IF(C4451=\"\",\"\",VLOOKUP(C4451,Tabla_Regional[],3,0))","v":""},null,{"$f":"IF(E4451<>\"\",VLOOKUP(CONCATENATE(C4451,E4451),Dato!$A$4:$I$218,7,0),\"\")","v":""},null,""]
[null,null,null,{"$f":"IF(C4452=\"\",\"\",VLOOKUP(C4452,Tabla_Regional[],3,0))","v":""},null,{"$f":"IF(E4452<>\"\",VLOOKUP(CONCATENATE(C4452,E4452),Dato!$A$4:$I$218,7,0),\"\")","v":""},null,""]
[null,null,null,{"$f":"IF(C4453=\"\",\"\",VLOOKUP(C4453,Tabla_Regional[],3,0))","v":""},null,{"$f":"IF(E4453<>\"\",VLOOKUP(CONCATENATE(C4453,E4453),Dato!$A$4:$I$218,7,0),\"\")","v":""},null,""]
[null,null,null,{"$f":"IF(C4454=\"\",\"\",VLOOKUP(C4454,Tabla_Regional[],3,0))","v":""},null,{"$f":"IF(E4454<>\"\",VLOOKUP(CONCATENATE(C4454,E4454),Dato!$A$4:$I$218,7,0),\"\")","v":""},null,""]
[null,null,null,{"$f":"IF(C4455=\"\",\"\",VLOOKUP(C4455,Tabla_Regional[],3,0))","v":""},null,{"$f":"IF(E4455<>\"\",VLOOKUP(CONCATENATE(C4455,E4455),Dato!$A$4:$I$218,7,0),\"\")","v":""},null,""]
[null,null,null,{"$f":"IF(C4456=\"\",\"\",VLOOKUP(C4456,Tabla_Regional[],3,0))","v":""},null,{"$f":"IF(E4456<>\"\",VLOOKUP(CONCATENATE(C4456,E4456),Dato!$A$4:$I$218,7,0),\"\")","v":""},null,""]
[null,null,null,{"$f":"IF(C4457=\"\",\"\",VLOOKUP(C4457,Tabla_Regional[],3,0))","v":""},null,{"$f":"IF(E4457<>\"\",VLOOKUP(CONCATENATE(C4457,E4457),Dato!$A$4:$I$218,7,0),\"\")","v":""},null,""]
[null,null,null,{"$f":"IF(C4458=\"\",\"\",VLOOKUP(C4458,Tabla_Regional[],3,0))","v":""},null,{"$f":"IF(E4458<>\"\",VLOOKUP(CONCATENATE(C4458,E4458),Dato!$A$4:$I$218,7,0),\"\")","v":""},null,""]
[null,null,null,{"$f":"IF(C4459=\"\",\"\",VLOOKUP(C4459,Tabla_Regional[],3,0))","v":""},null,{"$f":"IF(E4459<>\"\",VLOOKUP(CONCATENATE(C4459,E4459),Dato!$A$4:$I$218,7,0),\"\")","v":""},null,""]
[null,null,null,{"$f":"IF(C4460=\"\",\"\",VLOOKUP(C4460,Tabla_Regional[],3,0))","v":""},null,{"$f":"IF(E4460<>\"\",VLOOKUP(CONCATENATE(C4460,E4460),Dato!$A$4:$I$218,7,0),\"\")","v":""},null,""]
[null,null,null,{"$f":"IF(C4461=\"\",\"\",VLOOKUP(C4461,Tabla_Regional[],3,0))","v":""},null,{"$f":"IF(E4461<>\"\",VLOOKUP(CONCATENATE(C4461,E4461),Dato!$A$4:$I$218,7,0),\"\")","v":""},null,""]
[null,null,null,{"$f":"IF(C4462=\"\",\"\",VLOOKUP(C4462,Tabla_Regional[],3,0))","v":""},null,{"$f":"IF(E4462<>\"\",VLOOKUP(CONCATENATE(C4462,E4462),Dato!$A$4:$I$218,7,0),\"\")","v":""},null,""]
[null,null,null,{"$f":"IF(C4463=\"\",\"\",VLOOKUP(C4463,Tabla_Regional[],3,0))","v":""},null,{"$f":"IF(E4463<>\"\",VLOOKUP(CONCATENATE(C4463,E4463),Dato!$A$4:$I$218,7,0),\"\")","v":""},null,""]
[null,null,null,{"$f":"IF(C4464=\"\",\"\",VLOOKUP(C4464,Tabla_Regional[],3,0))","v":""},null,{"$f":"IF(E4464<>\"\",VLOOKUP(CONCATENATE(C4464,E4464),Dato!$A$4:$I$218,7,0),\"\")","v":""},null,""]
[null,null,null,{"$f":"IF(C4465=\"\",\"\",VLOOKUP(C4465,Tabla_Regional[],3,0))","v":""},null,{"$f":"IF(E4465<>\"\",VLOOKUP(CONCATENATE(C4465,E4465),Dato!$A$4:$I$218,7,0),\"\")","v":""},null,""]
[null,null,null,{"$f":"IF(C4466=\"\",\"\",VLOOKUP(C4466,Tabla_Regional[],3,0))","v":""},null,{"$f":"IF(E4466<>\"\",VLOOKUP(CONCATENATE(C4466,E4466),Dato!$A$4:$I$218,7,0),\"\")","v":""},null,""]
[null,null,null,{"$f":"IF(C4467=\"\",\"\",VLOOKUP(C4467,Tabla_Regional[],3,0))","v":""},null,{"$f":"IF(E4467<>\"\",VLOOKUP(CONCATENATE(C4467,E4467),Dato!$A$4:$I$218,7,0),\"\")","v":""},null,""]
[null,null,null,{"$f":"IF(C4468=\"\",\"\",VLOOKUP(C4468,Tabla_Regional[],3,0))","v":""},null,{"$f":"IF(E4468<>\"\",VLOOKUP(CONCATENATE(C4468,E4468),Dato!$A$4:$I$218,7,0),\"\")","v":""},null,""]
[null,null,null,{"$f":"IF(C4469=\"\",\"\",VLOOKUP(C4469,Tabla_Regional[],3,0))","v":""},null,{"$f":"IF(E4469<>\"\",VLOOKUP(CONCATENATE(C4469,E4469),Dato!$A$4:$I$218,7,0),\"\")","v":""},null,""]
[null,null,null,{"$f":"IF(C4470=\"\",\"\",VLOOKUP(C4470,Tabla_Regional[],3,0))","v":""},null,{"$f":"IF(E4470<>\"\",VLOOKUP(CONCATENATE(C4470,E4470),Dato!$A$4:$I$218,7,0),\"\")","v":""},null,""]
[null,null,null,{"$f":"IF(C4471=\"\",\"\",VLOOKUP(C4471,Tabla_Regional[],3,0))","v":""},null,{"$f":"IF(E4471<>\"\",VLOOKUP(CONCATENATE(C4471,E4471),Dato!$A$4:$I$218,7,0),\"\")","v":""},null,""]
[null,null,null,{"$f":"IF(C4472=\"\",\"\",VLOOKUP(C4472,Tabla_Regional[],3,0))","v":""},null,{"$f":"IF(E4472<>\"\",VLOOKUP(CONCATENATE(C4472,E4472),Dato!$A$4:$I$218,7,0),\"\")","v":""},null,""]
[null,null,null,{"$f":"IF(C4473=\"\",\"\",VLOOKUP(C4473,Tabla_Regional[],3,0))","v":""},null,{"$f":"IF(E4473<>\"\",VLOOKUP(CONCATENATE(C4473,E4473),Dato!$A$4:$I$218,7,0),\"\")","v":""},null,""]
[null,null,null,{"$f":"IF(C4474=\"\",\"\",VLOOKUP(C4474,Tabla_Regional[],3,0))","v":""},null,{"$f":"IF(E4474<>\"\",VLOOKUP(CONCATENATE(C4474,E4474),Dato!$A$4:$I$218,7,0),\"\")","v":""},null,""]
[null,null,null,{"$f":"IF(C4475=\"\",\"\",VLOOKUP(C4475,Tabla_Regional[],3,0))","v":""},null,{"$f":"IF(E4475<>\"\",VLOOKUP(CONCATENATE(C4475,E4475),Dato!$A$4:$I$218,7,0),\"\")","v":""},null,""]
[null,null,null,{"$f":"IF(C4476=\"\",\"\",VLOOKUP(C4476,Tabla_Regional[],3,0))","v":""},null,{"$f":"IF(E4476<>\"\",VLOOKUP(CONCATENATE(C4476,E4476),Dato!$A$4:$I$218,7,0),\"\")","v":""},null,""]
[null,null,null,{"$f":"IF(C4477=\"\",\"\",VLOOKUP(C4477,Tabla_Regional[],3,0))","v":""},null,{"$f":"IF(E4477<>\"\",VLOOKUP(CONCATENATE(C4477,E4477),Dato!$A$4:$I$218,7,0),\"\")","v":""},null,""]
[null,null,null,{"$f":"IF(C4478=\"\",\"\",VLOOKUP(C4478,Tabla_Regional[],3,0))","v":""},null,{"$f":"IF(E4478<>\"\",VLOOKUP(CONCATENATE(C4478,E4478),Dato!$A$4:$I$218,7,0),\"\")","v":""},null,""]
[null,null,null,{"$f":"IF(C4479=\"\",\"\",VLOOKUP(C4479,Tabla_Regional[],3,0))","v":""},null,{"$f":"IF(E4479<>\"\",VLOOKUP(CONCATENATE(C4479,E4479),Dato!$A$4:$I$218,7,0),\"\")","v":""},null,""]
[null,null,null,{"$f":"IF(C4480=\"\",\"\",VLOOKUP(C4480,Tabla_Regional[],3,0))","v":""},null,{"$f":"IF(E4480<>\"\",VLOOKUP(CONCATENATE(C4480,E4480),Dato!$A$4:$I$218,7,0),\"\")","v":""},null,""]
[null,null,null,{"$f":"IF(C4481=\"\",\"\",VLOOKUP(C4481,Tabla_Regional[],3,0))","v":""},null,{"$f":"IF(E4481<>\"\",VLOOKUP(CONCATENATE(C4481,E4481),Dato!$A$4:$I$218,7,0),\"\")","v":""},null,""]
[null,null,null,{"$f":"IF(C4482=\"\",\"\",VLOOKUP(C4482,Tabla_Regional[],3,0))","v":""},null,{"$f":"IF(E4482<>\"\",VLOOKUP(CONCATENATE(C4482,E4482),Dato!$A$4:$I$218,7,0),\"\")","v":""},null,""]
[null,null,null,{"$f":"IF(C4483=\"\",\"\",VLOOKUP(C4483,Tabla_Regional[],3,0))","v":""},null,{"$f":"IF(E4483<>\"\",VLOOKUP(CONCATENATE(C4483,E4483),Dato!$A$4:$I$218,7,0),\"\")","v":""},null,""]
[null,null,null,{"$f":"IF(C4484=\"\",\"\",VLOOKUP(C4484,Tabla_Regional[],3,0))","v":""},null,{"$f":"IF(E4484<>\"\",VLOOKUP(CONCATENATE(C4484,E4484),Dato!$A$4:$I$218,7,0),\"\")","v":""},null,""]
[null,null,null,{"$f":"IF(C4485=\"\",\"\",VLOOKUP(C4485,Tabla_Regional[],3,0))","v":""},null,{"$f":"IF(E4485<>\"\",VLOOKUP(CONCATENATE(C4485,E4485),Dato!$A$4:$I$218,7,0),\"\")","v":""},null,""]
[null,null,null,{"$f":"IF(C4486=\"\",\"\",VLOOKUP(C4486,Tabla_Regional[],3,0))","v":""},null,{"$f":"IF(E4486<>\"\",VLOOKUP(CONCATENATE(C4486,E4486),Dato!$A$4:$I$218,7,0),\"\")","v":""},null,""]
[null,null,null,{"$f":"IF(C4487=\"\",\"\",VLOOKUP(C4487,Tabla_Regional[],3,0))","v":""},null,{"$f":"IF(E4487<>\"\",VLOOKUP(CONCATENATE(C4487,E4487),Dato!$A$4:$I$218,7,0),\"\")","v":""},null,""]
[null,null,null,{"$f":"IF(C4488=\"\",\"\",VLOOKUP(C4488,Tabla_Regional[],3,0))","v":""},null,{"$f":"IF(E4488<>\"\",VLOOKUP(CONCATENATE(C4488,E4488),Dato!$A$4:$I$218,7,0),\"\")","v":""},null,""]
[null,null,null,{"$f":"IF(C4489=\"\",\"\",VLOOKUP(C4489,Tabla_Regional[],3,0))","v":""},null,{"$f":"IF(E4489<>\"\",VLOOKUP(CONCATENATE(C4489,E4489),Dato!$A$4:$I$218,7,0),\"\")","v":""},null,""]
[null,null,null,{"$f":"IF(C4490=\"\",\"\",VLOOKUP(C4490,Tabla_Regional[],3,0))","v":""},null,{"$f":"IF(E4490<>\"\",VLOOKUP(CONCATENATE(C4490,E4490),Dato!$A$4:$I$218,7,0),\"\")","v":""},null,""]
[null,null,null,{"$f":"IF(C4491=\"\",\"\",VLOOKUP(C4491,Tabla_Regional[],3,0))","v":""},null,{"$f":"IF(E4491<>\"\",VLOOKUP(CONCATENATE(C4491,E4491),Dato!$A$4:$I$218,7,0),\"\")","v":""},null,""]
[null,null,null,{"$f":"IF(C4492=\"\",\"\",VLOOKUP(C4492,Tabla_Regional[],3,0))","v":""},null,{"$f":"IF(E4492<>\"\",VLOOKUP(CONCATENATE(C4492,E4492),Dato!$A$4:$I$218,7,0),\"\")","v":""},null,{"$f":"IF(G4492<>\"\",VLOOKUP(CONCATENATE(C4492,E4492,G4492),czmuni,7,0),\"\")","v":""}]
[null,null,null,{"$f":"IF(C4493=\"\",\"\",VLOOKUP(C4493,Tabla_Regional[],3,0))","v":""},null,{"$f":"IF(E4493<>\"\",VLOOKUP(CONCATENATE(C4493,E4493),Dato!$A$4:$I$218,7,0),\"\")","v":""},null,""]
[null,null,null,{"$f":"IF(C4494=\"\",\"\",VLOOKUP(C4494,Tabla_Regional[],3,0))","v":""},null,{"$f":"IF(E4494<>\"\",VLOOKUP(CONCATENATE(C4494,E4494),Dato!$A$4:$I$218,7,0),\"\")","v":""},null,""]
[null,null,null,{"$f":"IF(C4495=\"\",\"\",VLOOKUP(C4495,Tabla_Regional[],3,0))","v":""},null,{"$f":"IF(E4495<>\"\",VLOOKUP(CONCATENATE(C4495,E4495),Dato!$A$4:$I$218,7,0),\"\")","v":""},null,""]
[null,null,null,{"$f":"IF(C4496=\"\",\"\",VLOOKUP(C4496,Tabla_Regional[],3,0))","v":""},null,{"$f":"IF(E4496<>\"\",VLOOKUP(CONCATENATE(C4496,E4496),Dato!$A$4:$I$218,7,0),\"\")","v":""},null,""]
[null,null,null,{"$f":"IF(C4497=\"\",\"\",VLOOKUP(C4497,Tabla_Regional[],3,0))","v":""},null,{"$f":"IF(E4497<>\"\",VLOOKUP(CONCATENATE(C4497,E4497),Dato!$A$4:$I$218,7,0),\"\")","v":""},null,""]
[null,null,null,{"$f":"IF(C4498=\"\",\"\",VLOOKUP(C4498,Tabla_Regional[],3,0))","v":""},null,{"$f":"IF(E4498<>\"\",VLOOKUP(CONCATENATE(C4498,E4498),Dato!$A$4:$I$218,7,0),\"\")","v":""},null,""]
[null,null,null,{"$f":"IF(C4499=\"\",\"\",VLOOKUP(C4499,Tabla_Regional[],3,0))","v":""},null,{"$f":"IF(E4499<>\"\",VLOOKUP(CONCATENATE(C4499,E4499),Dato!$A$4:$I$218,7,0),\"\")","v":""},null,""]
[null,null,null,{"$f":"IF(C4500=\"\",\"\",VLOOKUP(C4500,Tabla_Regional[],3,0))","v":""},null,{"$f":"IF(E4500<>\"\",VLOOKUP(CONCATENATE(C4500,E4500),Dato!$A$4:$I$218,7,0),\"\")","v":""},null,""]
[null,null,null,{"$f":"IF(C4501=\"\",\"\",VLOOKUP(C4501,Tabla_Regional[],3,0))","v":""},null,{"$f":"IF(E4501<>\"\",VLOOKUP(CONCATENATE(C4501,E4501),Dato!$A$4:$I$218,7,0),\"\")","v":""},null,""]
[null,null,null,{"$f":"IF(C4502=\"\",\"\",VLOOKUP(C4502,Tabla_Regional[],3,0))","v":""},null,{"$f":"IF(E4502<>\"\",VLOOKUP(CONCATENATE(C4502,E4502),Dato!$A$4:$I$218,7,0),\"\")","v":""},null,""]
[null,null,null,{"$f":"IF(C4503=\"\",\"\",VLOOKUP(C4503,Tabla_Regional[],3,0))","v":""},null,{"$f":"IF(E4503<>\"\",VLOOKUP(CONCATENATE(C4503,E4503),Dato!$A$4:$I$218,7,0),\"\")","v":""},null,""]
[null,null,null,{"$f":"IF(C4504=\"\",\"\",VLOOKUP(C4504,Tabla_Regional[],3,0))","v":""},null,{"$f":"IF(E4504<>\"\",VLOOKUP(CONCATENATE(C4504,E4504),Dato!$A$4:$I$218,7,0),\"\")","v":""},null,""]
[null,null,null,{"$f":"IF(C4505=\"\",\"\",VLOOKUP(C4505,Tabla_Regional[],3,0))","v":""},null,{"$f":"IF(E4505<>\"\",VLOOKUP(CONCATENATE(C4505,E4505),Dato!$A$4:$I$218,7,0),\"\")","v":""},null,""]
[null,null,null,{"$f":"IF(C4506=\"\",\"\",VLOOKUP(C4506,Tabla_Regional[],3,0))","v":""},null,{"$f":"IF(E4506<>\"\",VLOOKUP(CONCATENATE(C4506,E4506),Dato!$A$4:$I$218,7,0),\"\")","v":""},null,""]
[null,null,null,{"$f":"IF(C4507=\"\",\"\",VLOOKUP(C4507,Tabla_Regional[],3,0))","v":""},null,{"$f":"IF(E4507<>\"\",VLOOKUP(CONCATENATE(C4507,E4507),Dato!$A$4:$I$218,7,0),\"\")","v":""},null,""]
[null,null,null,{"$f":"IF(C4508=\"\",\"\",VLOOKUP(C4508,Tabla_Regional[],3,0))","v":""},null,{"$f":"IF(E4508<>\"\",VLOOKUP(CONCATENATE(C4508,E4508),Dato!$A$4:$I$218,7,0),\"\")","v":""},null,""]
[null,null,null,{"$f":"IF(C4509=\"\",\"\",VLOOKUP(C4509,Tabla_Regional[],3,0))","v":""},null,{"$f":"IF(E4509<>\"\",VLOOKUP(CONCATENATE(C4509,E4509),Dato!$A$4:$I$218,7,0),\"\")","v":""},null,""]
[null,null,null,{"$f":"IF(C4510=\"\",\"\",VLOOKUP(C4510,Tabla_Regional[],3,0))","v":""},null,{"$f":"IF(E4510<>\"\",VLOOKUP(CONCATENATE(C4510,E4510),Dato!$A$4:$I$218,7,0),\"\")","v":""},null,""]
[null,null,null,{"$f":"IF(C4511=\"\",\"\",VLOOKUP(C4511,Tabla_Regional[],3,0))","v":""},null,{"$f":"IF(E4511<>\"\",VLOOKUP(CONCATENATE(C4511,E4511),Dato!$A$4:$I$218,7,0),\"\")","v":""},null,""]
[null,null,null,{"$f":"IF(C4512=\"\",\"\",VLOOKUP(C4512,Tabla_Regional[],3,0))","v":""},null,{"$f":"IF(E4512<>\"\",VLOOKUP(CONCATENATE(C4512,E4512),Dato!$A$4:$I$218,7,0),\"\")","v":""},null,""]
[null,null,null,{"$f":"IF(C4513=\"\",\"\",VLOOKUP(C4513,Tabla_Regional[],3,0))","v":""},null,{"$f":"IF(E4513<>\"\",VLOOKUP(CONCATENATE(C4513,E4513),Dato!$A$4:$I$218,7,0),\"\")","v":""},null,""]
[null,null,null,{"$f":"IF(C4514=\"\",\"\",VLOOKUP(C4514,Tabla_Regional[],3,0))","v":""},null,{"$f":"IF(E4514<>\"\",VLOOKUP(CONCATENATE(C4514,E4514),Dato!$A$4:$I$218,7,0),\"\")","v":""},null,""]
[null,null,null,{"$f":"IF(C4515=\"\",\"\",VLOOKUP(C4515,Tabla_Regional[],3,0))","v":""},null,{"$f":"IF(E4515<>\"\",VLOOKUP(CONCATENATE(C4515,E4515),Dato!$A$4:$I$218,7,0),\"\")","v":""},null,""]
[null,null,null,{"$f":"IF(C4516=\"\",\"\",VLOOKUP(C4516,Tabla_Regional[],3,0))","v":""},null,{"$f":"IF(E4516<>\"\",VLOOKUP(CONCATENATE(C4516,E4516),Dato!$A$4:$I$218,7,0),\"\")","v":""},null,""]
[null,null,null,{"$f":"IF(C4517=\"\",\"\",VLOOKUP(C4517,Tabla_Regional[],3,0))","v":""},null,{"$f":"IF(E4517<>\"\",VLOOKUP(CONCATENATE(C4517,E4517),Dato!$A$4:$I$218,7,0),\"\")","v":""},null,""]
[null,null,null,{"$f":"IF(C4518=\"\",\"\",VLOOKUP(C4518,Tabla_Regional[],3,0))","v":""},null,{"$f":"IF(E4518<>\"\",VLOOKUP(CONCATENATE(C4518,E4518),Dato!$A$4:$I$218,7,0),\"\")","v":""},null,""]
[null,null,null,{"$f":"IF(C4519=\"\",\"\",VLOOKUP(C4519,Tabla_Regional[],3,0))","v":""},null,{"$f":"IF(E4519<>\"\",VLOOKUP(CONCATENATE(C4519,E4519),Dato!$A$4:$I$218,7,0),\"\")","v":""},null,""]
[null,null,null,{"$f":"IF(C4520=\"\",\"\",VLOOKUP(C4520,Tabla_Regional[],3,0))","v":""},null,{"$f":"IF(E4520<>\"\",VLOOKUP(CONCATENATE(C4520,E4520),Dato!$A$4:$I$218,7,0),\"\")","v":""},null,""]
[null,null,null,{"$f":"IF(C4521=\"\",\"\",VLOOKUP(C4521,Tabla_Regional[],3,0))","v":""},null,{"$f":"IF(E4521<>\"\",VLOOKUP(CONCATENATE(C4521,E4521),Dato!$A$4:$I$218,7,0),\"\")","v":""},null,""]
[null,null,null,{"$f":"IF(C4522=\"\",\"\",VLOOKUP(C4522,Tabla_Regional[],3,0))","v":""},null,{"$f":"IF(E4522<>\"\",VLOOKUP(CONCATENATE(C4522,E4522),Dato!$A$4:$I$218,7,0),\"\")","v":""},null,""]
[null,null,null,{"$f":"IF(C4523=\"\",\"\",VLOOKUP(C4523,Tabla_Regional[],3,0))","v":""},null,{"$f":"IF(E4523<>\"\",VLOOKUP(CONCATENATE(C4523,E4523),Dato!$A$4:$I$218,7,0),\"\")","v":""},null,""]
[null,null,null,{"$f":"IF(C4524=\"\",\"\",VLOOKUP(C4524,Tabla_Regional[],3,0))","v":""},null,{"$f":"IF(E4524<>\"\",VLOOKUP(CONCATENATE(C4524,E4524),Dato!$A$4:$I$218,7,0),\"\")","v":""},null,""]
[null,null,null,{"$f":"IF(C4525=\"\",\"\",VLOOKUP(C4525,Tabla_Regional[],3,0))","v":""},null,{"$f":"IF(E4525<>\"\",VLOOKUP(CONCATENATE(C4525,E4525),Dato!$A$4:$I$218,7,0),\"\")","v":""},null,""]
[null,null,null,{"$f":"IF(C4526=\"\",\"\",VLOOKUP(C4526,Tabla_Regional[],3,0))","v":""},null,{"$f":"IF(E4526<>\"\",VLOOKUP(CONCATENATE(C4526,E4526),Dato!$A$4:$I$218,7,0),\"\")","v":""},null,""]
[null,null,null,{"$f":"IF(C4527=\"\",\"\",VLOOKUP(C4527,Tabla_Regional[],3,0))","v":""},null,{"$f":"IF(E4527<>\"\",VLOOKUP(CONCATENATE(C4527,E4527),Dato!$A$4:$I$218,7,0),\"\")","v":""},null,""]
[null,null,null,{"$f":"IF(C4528=\"\",\"\",VLOOKUP(C4528,Tabla_Regional[],3,0))","v":""},null,{"$f":"IF(E4528<>\"\",VLOOKUP(CONCATENATE(C4528,E4528),Dato!$A$4:$I$218,7,0),\"\")","v":""},null,""]
[null,null,null,{"$f":"IF(C4529=\"\",\"\",VLOOKUP(C4529,Tabla_Regional[],3,0))","v":""},null,{"$f":"IF(E4529<>\"\",VLOOKUP(CONCATENATE(C4529,E4529),Dato!$A$4:$I$218,7,0),\"\")","v":""},null,""]
[null,null,null,{"$f":"IF(C4530=\"\",\"\",VLOOKUP(C4530,Tabla_Regional[],3,0))","v":""},null,{"$f":"IF(E4530<>\"\",VLOOKUP(CONCATENATE(C4530,E4530),Dato!$A$4:$I$218,7,0),\"\")","v":""},null,""]
[null,null,null,{"$f":"IF(C4531=\"\",\"\",VLOOKUP(C4531,Tabla_Regional[],3,0))","v":""},null,{"$f":"IF(E4531<>\"\",VLOOKUP(CONCATENATE(C4531,E4531),Dato!$A$4:$I$218,7,0),\"\")","v":""},null,""]
[null,null,null,{"$f":"IF(C4532=\"\",\"\",VLOOKUP(C4532,Tabla_Regional[],3,0))","v":""},null,{"$f":"IF(E4532<>\"\",VLOOKUP(CONCATENATE(C4532,E4532),Dato!$A$4:$I$218,7,0),\"\")","v":""},null,""]
[null,null,null,{"$f":"IF(C4533=\"\",\"\",VLOOKUP(C4533,Tabla_Regional[],3,0))","v":""},null,{"$f":"IF(E4533<>\"\",VLOOKUP(CONCATENATE(C4533,E4533),Dato!$A$4:$I$218,7,0),\"\")","v":""},null,""]
[null,null,null,{"$f":"IF(C4534=\"\",\"\",VLOOKUP(C4534,Tabla_Regional[],3,0))","v":""},null,{"$f":"IF(E4534<>\"\",VLOOKUP(CONCATENATE(C4534,E4534),Dato!$A$4:$I$218,7,0),\"\")","v":""},null,""]
[null,null,null,{"$f":"IF(C4535=\"\",\"\",VLOOKUP(C4535,Tabla_Regional[],3,0))","v":""},null,{"$f":"IF(E4535<>\"\",VLOOKUP(CONCATENATE(C4535,E4535),Dato!$A$4:$I$218,7,0),\"\")","v":""},null,""]
[null,null,null,{"$f":"IF(C4536=\"\",\"\",VLOOKUP(C4536,Tabla_Regional[],3,0))","v":""},null,{"$f":"IF(E4536<>\"\",VLOOKUP(CONCATENATE(C4536,E4536),Dato!$A$4:$I$218,7,0),\"\")","v":""},null,""]
[null,null,null,{"$f":"IF(C4537=\"\",\"\",VLOOKUP(C4537,Tabla_Regional[],3,0))","v":""},null,{"$f":"IF(E4537<>\"\",VLOOKUP(CONCATENATE(C4537,E4537),Dato!$A$4:$I$218,7,0),\"\")","v":""},null,""]
[null,null,null,{"$f":"IF(C4538=\"\",\"\",VLOOKUP(C4538,Tabla_Regional[],3,0))","v":""},null,{"$f":"IF(E4538<>\"\",VLOOKUP(CONCATENATE(C4538,E4538),Dato!$A$4:$I$218,7,0),\"\")","v":""},null,""]
[null,null,null,{"$f":"IF(C4539=\"\",\"\",VLOOKUP(C4539,Tabla_Regional[],3,0))","v":""},null,{"$f":"IF(E4539<>\"\",VLOOKUP(CONCATENATE(C4539,E4539),Dato!$A$4:$I$218,7,0),\"\")","v":""},null,""]
[null,null,null,{"$f":"IF(C4540=\"\",\"\",VLOOKUP(C4540,Tabla_Regional[],3,0))","v":""},null,{"$f":"IF(E4540<>\"\",VLOOKUP(CONCATENATE(C4540,E4540),Dato!$A$4:$I$218,7,0),\"\")","v":""},null,""]
[null,null,null,{"$f":"IF(C4541=\"\",\"\",VLOOKUP(C4541,Tabla_Regional[],3,0))","v":""},null,{"$f":"IF(E4541<>\"\",VLOOKUP(CONCATENATE(C4541,E4541),Dato!$A$4:$I$218,7,0),\"\")","v":""},null,""]
[null,null,null,{"$f":"IF(C4542=\"\",\"\",VLOOKUP(C4542,Tabla_Regional[],3,0))","v":""},null,{"$f":"IF(E4542<>\"\",VLOOKUP(CONCATENATE(C4542,E4542),Dato!$A$4:$I$218,7,0),\"\")","v":""},null,""]
[null,null,null,{"$f":"IF(C4543=\"\",\"\",VLOOKUP(C4543,Tabla_Regional[],3,0))","v":""},null,{"$f":"IF(E4543<>\"\",VLOOKUP(CONCATENATE(C4543,E4543),Dato!$A$4:$I$218,7,0),\"\")","v":""},null,""]
[null,null,null,{"$f":"IF(C4544=\"\",\"\",VLOOKUP(C4544,Tabla_Regional[],3,0))","v":""},null,{"$f":"IF(E4544<>\"\",VLOOKUP(CONCATENATE(C4544,E4544),Dato!$A$4:$I$218,7,0),\"\")","v":""},null,""]
[null,null,null,{"$f":"IF(C4545=\"\",\"\",VLOOKUP(C4545,Tabla_Regional[],3,0))","v":""},null,{"$f":"IF(E4545<>\"\",VLOOKUP(CONCATENATE(C4545,E4545),Dato!$A$4:$I$218,7,0),\"\")","v":""},null,""]
[null,null,null,{"$f":"IF(C4546=\"\",\"\",VLOOKUP(C4546,Tabla_Regional[],3,0))","v":""},null,{"$f":"IF(E4546<>\"\",VLOOKUP(CONCATENATE(C4546,E4546),Dato!$A$4:$I$218,7,0),\"\")","v":""},null,""]
[null,null,null,{"$f":"IF(C4547=\"\",\"\",VLOOKUP(C4547,Tabla_Regional[],3,0))","v":""},null,{"$f":"IF(E4547<>\"\",VLOOKUP(CONCATENATE(C4547,E4547),Dato!$A$4:$I$218,7,0),\"\")","v":""},null,""]
[null,null,null,{"$f":"IF(C4548=\"\",\"\",VLOOKUP(C4548,Tabla_Regional[],3,0))","v":""},null,{"$f":"IF(E4548<>\"\",VLOOKUP(CONCATENATE(C4548,E4548),Dato!$A$4:$I$218,7,0),\"\")","v":""},null,""]
[null,null,null,{"$f":"IF(C4549=\"\",\"\",VLOOKUP(C4549,Tabla_Regional[],3,0))","v":""},null,{"$f":"IF(E4549<>\"\",VLOOKUP(CONCATENATE(C4549,E4549),Dato!$A$4:$I$218,7,0),\"\")","v":""},null,""]
[null,null,null,{"$f":"IF(C4550=\"\",\"\",VLOOKUP(C4550,Tabla_Regional[],3,0))","v":""},null,{"$f":"IF(E4550<>\"\",VLOOKUP(CONCATENATE(C4550,E4550),Dato!$A$4:$I$218,7,0),\"\")","v":""},null,""]
[null,null,null,{"$f":"IF(C4551=\"\",\"\",VLOOKUP(C4551,Tabla_Regional[],3,0))","v":""},null,{"$f":"IF(E4551<>\"\",VLOOKUP(CONCATENATE(C4551,E4551),Dato!$A$4:$I$218,7,0),\"\")","v":""},null,""]
[null,null,null,{"$f":"IF(C4552=\"\",\"\",VLOOKUP(C4552,Tabla_Regional[],3,0))","v":""},null,{"$f":"IF(E4552<>\"\",VLOOKUP(CONCATENATE(C4552,E4552),Dato!$A$4:$I$218,7,0),\"\")","v":""},null,""]
[null,null,null,{"$f":"IF(C4553=\"\",\"\",VLOOKUP(C4553,Tabla_Regional[],3,0))","v":""},null,{"$f":"IF(E4553<>\"\",VLOOKUP(CONCATENATE(C4553,E4553),Dato!$A$4:$I$218,7,0),\"\")","v":""},null,""]
[null,null,null,{"$f":"IF(C4554=\"\",\"\",VLOOKUP(C4554,Tabla_Regional[],3,0))","v":""},null,{"$f":"IF(E4554<>\"\",VLOOKUP(CONCATENATE(C4554,E4554),Dato!$A$4:$I$218,7,0),\"\")","v":""},null,""]
[null,null,null,{"$f":"IF(C4555=\"\",\"\",VLOOKUP(C4555,Tabla_Regional[],3,0))","v":""},null,{"$f":"IF(E4555<>\"\",VLOOKUP(CONCATENATE(C4555,E4555),Dato!$A$4:$I$218,7,0),\"\")","v":""},null,""]
[null,null,null,{"$f":"IF(C4556=\"\",\"\",VLOOKUP(C4556,Tabla_Regional[],3,0))","v":""},null,{"$f":"IF(E4556<>\"\",VLOOKUP(CONCATENATE(C4556,E4556),Dato!$A$4:$I$218,7,0),\"\")","v":""},null,{"$f":"IF(G4556<>\"\",VLOOKUP(CONCATENATE(C4556,E4556,G4556),czmuni,7,0),\"\")","v":""}]
[null,null,null,{"$f":"IF(C4557=\"\",\"\",VLOOKUP(C4557,Tabla_Regional[],3,0))","v":""},null,{"$f":"IF(E4557<>\"\",VLOOKUP(CONCATENATE(C4557,E4557),Dato!$A$4:$I$218,7,0),\"\")","v":""},null,""]
[null,null,null,{"$f":"IF(C4558=\"\",\"\",VLOOKUP(C4558,Tabla_Regional[],3,0))","v":""},null,{"$f":"IF(E4558<>\"\",VLOOKUP(CONCATENATE(C4558,E4558),Dato!$A$4:$I$218,7,0),\"\")","v":""},null,""]
[null,null,null,{"$f":"IF(C4559=\"\",\"\",VLOOKUP(C4559,Tabla_Regional[],3,0))","v":""},null,{"$f":"IF(E4559<>\"\",VLOOKUP(CONCATENATE(C4559,E4559),Dato!$A$4:$I$218,7,0),\"\")","v":""},null,""]
[null,null,null,{"$f":"IF(C4560=\"\",\"\",VLOOKUP(C4560,Tabla_Regional[],3,0))","v":""},null,{"$f":"IF(E4560<>\"\",VLOOKUP(CONCATENATE(C4560,E4560),Dato!$A$4:$I$218,7,0),\"\")","v":""},null,""]
[null,null,null,{"$f":"IF(C4561=\"\",\"\",VLOOKUP(C4561,Tabla_Regional[],3,0))","v":""},null,{"$f":"IF(E4561<>\"\",VLOOKUP(CONCATENATE(C4561,E4561),Dato!$A$4:$I$218,7,0),\"\")","v":""},null,""]
[null,null,null,{"$f":"IF(C4562=\"\",\"\",VLOOKUP(C4562,Tabla_Regional[],3,0))","v":""},null,{"$f":"IF(E4562<>\"\",VLOOKUP(CONCATENATE(C4562,E4562),Dato!$A$4:$I$218,7,0),\"\")","v":""},null,""]
[null,null,null,{"$f":"IF(C4563=\"\",\"\",VLOOKUP(C4563,Tabla_Regional[],3,0))","v":""},null,{"$f":"IF(E4563<>\"\",VLOOKUP(CONCATENATE(C4563,E4563),Dato!$A$4:$I$218,7,0),\"\")","v":""},null,""]
[null,null,null,{"$f":"IF(C4564=\"\",\"\",VLOOKUP(C4564,Tabla_Regional[],3,0))","v":""},null,{"$f":"IF(E4564<>\"\",VLOOKUP(CONCATENATE(C4564,E4564),Dato!$A$4:$I$218,7,0),\"\")","v":""},null,""]
[null,null,null,{"$f":"IF(C4565=\"\",\"\",VLOOKUP(C4565,Tabla_Regional[],3,0))","v":""},null,{"$f":"IF(E4565<>\"\",VLOOKUP(CONCATENATE(C4565,E4565),Dato!$A$4:$I$218,7,0),\"\")","v":""},null,""]
[null,null,null,{"$f":"IF(C4566=\"\",\"\",VLOOKUP(C4566,Tabla_Regional[],3,0))","v":""},null,{"$f":"IF(E4566<>\"\",VLOOKUP(CONCATENATE(C4566,E4566),Dato!$A$4:$I$218,7,0),\"\")","v":""},null,""]
[null,null,null,{"$f":"IF(C4567=\"\",\"\",VLOOKUP(C4567,Tabla_Regional[],3,0))","v":""},null,{"$f":"IF(E4567<>\"\",VLOOKUP(CONCATENATE(C4567,E4567),Dato!$A$4:$I$218,7,0),\"\")","v":""},null,""]
[null,null,null,{"$f":"IF(C4568=\"\",\"\",VLOOKUP(C4568,Tabla_Regional[],3,0))","v":""},null,{"$f":"IF(E4568<>\"\",VLOOKUP(CONCATENATE(C4568,E4568),Dato!$A$4:$I$218,7,0),\"\")","v":""},null,""]
[null,null,null,{"$f":"IF(C4569=\"\",\"\",VLOOKUP(C4569,Tabla_Regional[],3,0))","v":""},null,{"$f":"IF(E4569<>\"\",VLOOKUP(CONCATENATE(C4569,E4569),Dato!$A$4:$I$218,7,0),\"\")","v":""},null,""]
[null,null,null,{"$f":"IF(C4570=\"\",\"\",VLOOKUP(C4570,Tabla_Regional[],3,0))","v":""},null,{"$f":"IF(E4570<>\"\",VLOOKUP(CONCATENATE(C4570,E4570),Dato!$A$4:$I$218,7,0),\"\")","v":""},null,""]
[null,null,null,{"$f":"IF(C4571=\"\",\"\",VLOOKUP(C4571,Tabla_Regional[],3,0))","v":""},null,{"$f":"IF(E4571<>\"\",VLOOKUP(CONCATENATE(C4571,E4571),Dato!$A$4:$I$218,7,0),\"\")","v":""},null,""]
[null,null,null,{"$f":"IF(C4572=\"\",\"\",VLOOKUP(C4572,Tabla_Regional[],3,0))","v":""},null,{"$f":"IF(E4572<>\"\",VLOOKUP(CONCATENATE(C4572,E4572),Dato!$A$4:$I$218,7,0),\"\")","v":""},null,""]
[null,null,null,{"$f":"IF(C4573=\"\",\"\",VLOOKUP(C4573,Tabla_Regional[],3,0))","v":""},null,{"$f":"IF(E4573<>\"\",VLOOKUP(CONCATENATE(C4573,E4573),Dato!$A$4:$I$218,7,0),\"\")","v":""},null,""]
[null,null,null,{"$f":"IF(C4574=\"\",\"\",VLOOKUP(C4574,Tabla_Regional[],3,0))","v":""},null,{"$f":"IF(E4574<>\"\",VLOOKUP(CONCATENATE(C4574,E4574),Dato!$A$4:$I$218,7,0),\"\")","v":""},null,""]
[null,null,null,{"$f":"IF(C4575=\"\",\"\",VLOOKUP(C4575,Tabla_Regional[],3,0))","v":""},null,{"$f":"IF(E4575<>\"\",VLOOKUP(CONCATENATE(C4575,E4575),Dato!$A$4:$I$218,7,0),\"\")","v":""},null,""]
[null,null,null,{"$f":"IF(C4576=\"\",\"\",VLOOKUP(C4576,Tabla_Regional[],3,0))","v":""},null,{"$f":"IF(E4576<>\"\",VLOOKUP(CONCATENATE(C4576,E4576),Dato!$A$4:$I$218,7,0),\"\")","v":""},null,""]
[null,null,null,{"$f":"IF(C4577=\"\",\"\",VLOOKUP(C4577,Tabla_Regional[],3,0))","v":""},null,{"$f":"IF(E4577<>\"\",VLOOKUP(CONCATENATE(C4577,E4577),Dato!$A$4:$I$218,7,0),\"\")","v":""},null,""]
[null,null,null,{"$f":"IF(C4578=\"\",\"\",VLOOKUP(C4578,Tabla_Regional[],3,0))","v":""},null,{"$f":"IF(E4578<>\"\",VLOOKUP(CONCATENATE(C4578,E4578),Dato!$A$4:$I$218,7,0),\"\")","v":""},null,""]
[null,null,null,{"$f":"IF(C4579=\"\",\"\",VLOOKUP(C4579,Tabla_Regional[],3,0))","v":""},null,{"$f":"IF(E4579<>\"\",VLOOKUP(CONCATENATE(C4579,E4579),Dato!$A$4:$I$218,7,0),\"\")","v":""},null,""]
[null,null,null,{"$f":"IF(C4580=\"\",\"\",VLOOKUP(C4580,Tabla_Regional[],3,0))","v":""},null,{"$f":"IF(E4580<>\"\",VLOOKUP(CONCATENATE(C4580,E4580),Dato!$A$4:$I$218,7,0),\"\")","v":""},null,""]
[null,null,null,{"$f":"IF(C4581=\"\",\"\",VLOOKUP(C4581,Tabla_Regional[],3,0))","v":""},null,{"$f":"IF(E4581<>\"\",VLOOKUP(CONCATENATE(C4581,E4581),Dato!$A$4:$I$218,7,0),\"\")","v":""},null,""]
[null,null,null,{"$f":"IF(C4582=\"\",\"\",VLOOKUP(C4582,Tabla_Regional[],3,0))","v":""},null,{"$f":"IF(E4582<>\"\",VLOOKUP(CONCATENATE(C4582,E4582),Dato!$A$4:$I$218,7,0),\"\")","v":""},null,""]
[null,null,null,{"$f":"IF(C4583=\"\",\"\",VLOOKUP(C4583,Tabla_Regional[],3,0))","v":""},null,{"$f":"IF(E4583<>\"\",VLOOKUP(CONCATENATE(C4583,E4583),Dato!$A$4:$I$218,7,0),\"\")","v":""},null,""]
[null,null,null,{"$f":"IF(C4584=\"\",\"\",VLOOKUP(C4584,Tabla_Regional[],3,0))","v":""},null,{"$f":"IF(E4584<>\"\",VLOOKUP(CONCATENATE(C4584,E4584),Dato!$A$4:$I$218,7,0),\"\")","v":""},null,""]
[null,null,null,{"$f":"IF(C4585=\"\",\"\",VLOOKUP(C4585,Tabla_Regional[],3,0))","v":""},null,{"$f":"IF(E4585<>\"\",VLOOKUP(CONCATENATE(C4585,E4585),Dato!$A$4:$I$218,7,0),\"\")","v":""},null,""]
[null,null,null,{"$f":"IF(C4586=\"\",\"\",VLOOKUP(C4586,Tabla_Regional[],3,0))","v":""},null,{"$f":"IF(E4586<>\"\",VLOOKUP(CONCATENATE(C4586,E4586),Dato!$A$4:$I$218,7,0),\"\")","v":""},null,""]
[null,null,null,{"$f":"IF(C4587=\"\",\"\",VLOOKUP(C4587,Tabla_Regional[],3,0))","v":""},null,{"$f":"IF(E4587<>\"\",VLOOKUP(CONCATENATE(C4587,E4587),Dato!$A$4:$I$218,7,0),\"\")","v":""},null,""]
[null,null,null,{"$f":"IF(C4588=\"\",\"\",VLOOKUP(C4588,Tabla_Regional[],3,0))","v":""},null,{"$f":"IF(E4588<>\"\",VLOOKUP(CONCATENATE(C4588,E4588),Dato!$A$4:$I$218,7,0),\"\")","v":""},null,""]
[null,null,null,{"$f":"IF(C4589=\"\",\"\",VLOOKUP(C4589,Tabla_Regional[],3,0))","v":""},null,{"$f":"IF(E4589<>\"\",VLOOKUP(CONCATENATE(C4589,E4589),Dato!$A$4:$I$218,7,0),\"\")","v":""},null,""]
[null,null,null,{"$f":"IF(C4590=\"\",\"\",VLOOKUP(C4590,Tabla_Regional[],3,0))","v":""},null,{"$f":"IF(E4590<>\"\",VLOOKUP(CONCATENATE(C4590,E4590),Dato!$A$4:$I$218,7,0),\"\")","v":""},null,""]
[null,null,null,{"$f":"IF(C4591=\"\",\"\",VLOOKUP(C4591,Tabla_Regional[],3,0))","v":""},null,{"$f":"IF(E4591<>\"\",VLOOKUP(CONCATENATE(C4591,E4591),Dato!$A$4:$I$218,7,0),\"\")","v":""},null,""]
[null,null,null,{"$f":"IF(C4592=\"\",\"\",VLOOKUP(C4592,Tabla_Regional[],3,0))","v":""},null,{"$f":"IF(E4592<>\"\",VLOOKUP(CONCATENATE(C4592,E4592),Dato!$A$4:$I$218,7,0),\"\")","v":""},null,""]
[null,null,null,{"$f":"IF(C4593=\"\",\"\",VLOOKUP(C4593,Tabla_Regional[],3,0))","v":""},null,{"$f":"IF(E4593<>\"\",VLOOKUP(CONCATENATE(C4593,E4593),Dato!$A$4:$I$218,7,0),\"\")","v":""},null,""]
[null,null,null,{"$f":"IF(C4594=\"\",\"\",VLOOKUP(C4594,Tabla_Regional[],3,0))","v":""},null,{"$f":"IF(E4594<>\"\",VLOOKUP(CONCATENATE(C4594,E4594),Dato!$A$4:$I$218,7,0),\"\")","v":""},null,""]
[null,null,null,{"$f":"IF(C4595=\"\",\"\",VLOOKUP(C4595,Tabla_Regional[],3,0))","v":""},null,{"$f":"IF(E4595<>\"\",VLOOKUP(CONCATENATE(C4595,E4595),Dato!$A$4:$I$218,7,0),\"\")","v":""},null,""]
[null,null,null,{"$f":"IF(C4596=\"\",\"\",VLOOKUP(C4596,Tabla_Regional[],3,0))","v":""},null,{"$f":"IF(E4596<>\"\",VLOOKUP(CONCATENATE(C4596,E4596),Dato!$A$4:$I$218,7,0),\"\")","v":""},null,""]
[null,null,null,{"$f":"IF(C4597=\"\",\"\",VLOOKUP(C4597,Tabla_Regional[],3,0))","v":""},null,{"$f":"IF(E4597<>\"\",VLOOKUP(CONCATENATE(C4597,E4597),Dato!$A$4:$I$218,7,0),\"\")","v":""},null,""]
[null,null,null,{"$f":"IF(C4598=\"\",\"\",VLOOKUP(C4598,Tabla_Regional[],3,0))","v":""},null,{"$f":"IF(E4598<>\"\",VLOOKUP(CONCATENATE(C4598,E4598),Dato!$A$4:$I$218,7,0),\"\")","v":""},null,""]
[null,null,null,{"$f":"IF(C4599=\"\",\"\",VLOOKUP(C4599,Tabla_Regional[],3,0))","v":""},null,{"$f":"IF(E4599<>\"\",VLOOKUP(CONCATENATE(C4599,E4599),Dato!$A$4:$I$218,7,0),\"\")","v":""},null,""]
[null,null,null,{"$f":"IF(C4600=\"\",\"\",VLOOKUP(C4600,Tabla_Regional[],3,0))","v":""},null,{"$f":"IF(E4600<>\"\",VLOOKUP(CONCATENATE(C4600,E4600),Dato!$A$4:$I$218,7,0),\"\")","v":""},null,""]
[null,null,null,{"$f":"IF(C4601=\"\",\"\",VLOOKUP(C4601,Tabla_Regional[],3,0))","v":""},null,{"$f":"IF(E4601<>\"\",VLOOKUP(CONCATENATE(C4601,E4601),Dato!$A$4:$I$218,7,0),\"\")","v":""},null,""]
[null,null,null,{"$f":"IF(C4602=\"\",\"\",VLOOKUP(C4602,Tabla_Regional[],3,0))","v":""},null,{"$f":"IF(E4602<>\"\",VLOOKUP(CONCATENATE(C4602,E4602),Dato!$A$4:$I$218,7,0),\"\")","v":""},null,""]
[null,null,null,{"$f":"IF(C4603=\"\",\"\",VLOOKUP(C4603,Tabla_Regional[],3,0))","v":""},null,{"$f":"IF(E4603<>\"\",VLOOKUP(CONCATENATE(C4603,E4603),Dato!$A$4:$I$218,7,0),\"\")","v":""},null,""]
[null,null,null,{"$f":"IF(C4604=\"\",\"\",VLOOKUP(C4604,Tabla_Regional[],3,0))","v":""},null,{"$f":"IF(E4604<>\"\",VLOOKUP(CONCATENATE(C4604,E4604),Dato!$A$4:$I$218,7,0),\"\")","v":""},null,""]
[null,null,null,{"$f":"IF(C4605=\"\",\"\",VLOOKUP(C4605,Tabla_Regional[],3,0))","v":""},null,{"$f":"IF(E4605<>\"\",VLOOKUP(CONCATENATE(C4605,E4605),Dato!$A$4:$I$218,7,0),\"\")","v":""},null,""]
[null,null,null,{"$f":"IF(C4606=\"\",\"\",VLOOKUP(C4606,Tabla_Regional[],3,0))","v":""},null,{"$f":"IF(E4606<>\"\",VLOOKUP(CONCATENATE(C4606,E4606),Dato!$A$4:$I$218,7,0),\"\")","v":""},null,""]
[null,null,null,{"$f":"IF(C4607=\"\",\"\",VLOOKUP(C4607,Tabla_Regional[],3,0))","v":""},null,{"$f":"IF(E4607<>\"\",VLOOKUP(CONCATENATE(C4607,E4607),Dato!$A$4:$I$218,7,0),\"\")","v":""},null,""]
[null,null,null,{"$f":"IF(C4608=\"\",\"\",VLOOKUP(C4608,Tabla_Regional[],3,0))","v":""},null,{"$f":"IF(E4608<>\"\",VLOOKUP(CONCATENATE(C4608,E4608),Dato!$A$4:$I$218,7,0),\"\")","v":""},null,""]
[null,null,null,{"$f":"IF(C4609=\"\",\"\",VLOOKUP(C4609,Tabla_Regional[],3,0))","v":""},null,{"$f":"IF(E4609<>\"\",VLOOKUP(CONCATENATE(C4609,E4609),Dato!$A$4:$I$218,7,0),\"\")","v":""},null,""]
[null,null,null,{"$f":"IF(C4610=\"\",\"\",VLOOKUP(C4610,Tabla_Regional[],3,0))","v":""},null,{"$f":"IF(E4610<>\"\",VLOOKUP(CONCATENATE(C4610,E4610),Dato!$A$4:$I$218,7,0),\"\")","v":""},null,""]
[null,null,null,{"$f":"IF(C4611=\"\",\"\",VLOOKUP(C4611,Tabla_Regional[],3,0))","v":""},null,{"$f":"IF(E4611<>\"\",VLOOKUP(CONCATENATE(C4611,E4611),Dato!$A$4:$I$218,7,0),\"\")","v":""},null,""]
[null,null,null,{"$f":"IF(C4612=\"\",\"\",VLOOKUP(C4612,Tabla_Regional[],3,0))","v":""},null,{"$f":"IF(E4612<>\"\",VLOOKUP(CONCATENATE(C4612,E4612),Dato!$A$4:$I$218,7,0),\"\")","v":""},null,""]
[null,null,null,{"$f":"IF(C4613=\"\",\"\",VLOOKUP(C4613,Tabla_Regional[],3,0))","v":""},null,{"$f":"IF(E4613<>\"\",VLOOKUP(CONCATENATE(C4613,E4613),Dato!$A$4:$I$218,7,0),\"\")","v":""},null,""]
[null,null,null,{"$f":"IF(C4614=\"\",\"\",VLOOKUP(C4614,Tabla_Regional[],3,0))","v":""},null,{"$f":"IF(E4614<>\"\",VLOOKUP(CONCATENATE(C4614,E4614),Dato!$A$4:$I$218,7,0),\"\")","v":""},null,""]
[null,null,null,{"$f":"IF(C4615=\"\",\"\",VLOOKUP(C4615,Tabla_Regional[],3,0))","v":""},null,{"$f":"IF(E4615<>\"\",VLOOKUP(CONCATENATE(C4615,E4615),Dato!$A$4:$I$218,7,0),\"\")","v":""},null,""]
[null,null,null,{"$f":"IF(C4616=\"\",\"\",VLOOKUP(C4616,Tabla_Regional[],3,0))","v":""},null,{"$f":"IF(E4616<>\"\",VLOOKUP(CONCATENATE(C4616,E4616),Dato!$A$4:$I$218,7,0),\"\")","v":""},null,""]
[null,null,null,{"$f":"IF(C4617=\"\",\"\",VLOOKUP(C4617,Tabla_Regional[],3,0))","v":""},null,{"$f":"IF(E4617<>\"\",VLOOKUP(CONCATENATE(C4617,E4617),Dato!$A$4:$I$218,7,0),\"\")","v":""},null,""]
[null,null,null,{"$f":"IF(C4618=\"\",\"\",VLOOKUP(C4618,Tabla_Regional[],3,0))","v":""},null,{"$f":"IF(E4618<>\"\",VLOOKUP(CONCATENATE(C4618,E4618),Dato!$A$4:$I$218,7,0),\"\")","v":""},null,""]
[null,null,null,{"$f":"IF(C4619=\"\",\"\",VLOOKUP(C4619,Tabla_Regional[],3,0))","v":""},null,{"$f":"IF(E4619<>\"\",VLOOKUP(CONCATENATE(C4619,E4619),Dato!$A$4:$I$218,7,0),\"\")","v":""},null,""]
[null,null,null,{"$f":"IF(C4620=\"\",\"\",VLOOKUP(C4620,Tabla_Regional[],3,0))","v":""},null,{"$f":"IF(E4620<>\"\",VLOOKUP(CONCATENATE(C4620,E4620),Dato!$A$4:$I$218,7,0),\"\")","v":""},null,{"$f":"IF(G4620<>\"\",VLOOKUP(CONCATENATE(C4620,E4620,G4620),czmuni,7,0),\"\")","v":""}]
[null,null,null,{"$f":"IF(C4621=\"\",\"\",VLOOKUP(C4621,Tabla_Regional[],3,0))","v":""},null,{"$f":"IF(E4621<>\"\",VLOOKUP(CONCATENATE(C4621,E4621),Dato!$A$4:$I$218,7,0),\"\")","v":""},null,""]
[null,null,null,{"$f":"IF(C4622=\"\",\"\",VLOOKUP(C4622,Tabla_Regional[],3,0))","v":""},null,{"$f":"IF(E4622<>\"\",VLOOKUP(CONCATENATE(C4622,E4622),Dato!$A$4:$I$218,7,0),\"\")","v":""},null,""]
[null,null,null,{"$f":"IF(C4623=\"\",\"\",VLOOKUP(C4623,Tabla_Regional[],3,0))","v":""},null,{"$f":"IF(E4623<>\"\",VLOOKUP(CONCATENATE(C4623,E4623),Dato!$A$4:$I$218,7,0),\"\")","v":""},null,""]
[null,null,null,{"$f":"IF(C4624=\"\",\"\",VLOOKUP(C4624,Tabla_Regional[],3,0))","v":""},null,{"$f":"IF(E4624<>\"\",VLOOKUP(CONCATENATE(C4624,E4624),Dato!$A$4:$I$218,7,0),\"\")","v":""},null,""]
[null,null,null,{"$f":"IF(C4625=\"\",\"\",VLOOKUP(C4625,Tabla_Regional[],3,0))","v":""},null,{"$f":"IF(E4625<>\"\",VLOOKUP(CONCATENATE(C4625,E4625),Dato!$A$4:$I$218,7,0),\"\")","v":""},null,""]
[null,null,null,{"$f":"IF(C4626=\"\",\"\",VLOOKUP(C4626,Tabla_Regional[],3,0))","v":""},null,{"$f":"IF(E4626<>\"\",VLOOKUP(CONCATENATE(C4626,E4626),Dato!$A$4:$I$218,7,0),\"\")","v":""},null,""]
[null,null,null,{"$f":"IF(C4627=\"\",\"\",VLOOKUP(C4627,Tabla_Regional[],3,0))","v":""},null,{"$f":"IF(E4627<>\"\",VLOOKUP(CONCATENATE(C4627,E4627),Dato!$A$4:$I$218,7,0),\"\")","v":""},null,""]
[null,null,null,{"$f":"IF(C4628=\"\",\"\",VLOOKUP(C4628,Tabla_Regional[],3,0))","v":""},null,{"$f":"IF(E4628<>\"\",VLOOKUP(CONCATENATE(C4628,E4628),Dato!$A$4:$I$218,7,0),\"\")","v":""},null,""]
[null,null,null,{"$f":"IF(C4629=\"\",\"\",VLOOKUP(C4629,Tabla_Regional[],3,0))","v":""},null,{"$f":"IF(E4629<>\"\",VLOOKUP(CONCATENATE(C4629,E4629),Dato!$A$4:$I$218,7,0),\"\")","v":""},null,""]
[null,null,null,{"$f":"IF(C4630=\"\",\"\",VLOOKUP(C4630,Tabla_Regional[],3,0))","v":""},null,{"$f":"IF(E4630<>\"\",VLOOKUP(CONCATENATE(C4630,E4630),Dato!$A$4:$I$218,7,0),\"\")","v":""},null,""]
[null,null,null,{"$f":"IF(C4631=\"\",\"\",VLOOKUP(C4631,Tabla_Regional[],3,0))","v":""},null,{"$f":"IF(E4631<>\"\",VLOOKUP(CONCATENATE(C4631,E4631),Dato!$A$4:$I$218,7,0),\"\")","v":""},null,""]
[null,null,null,{"$f":"IF(C4632=\"\",\"\",VLOOKUP(C4632,Tabla_Regional[],3,0))","v":""},null,{"$f":"IF(E4632<>\"\",VLOOKUP(CONCATENATE(C4632,E4632),Dato!$A$4:$I$218,7,0),\"\")","v":""},null,""]
[null,null,null,{"$f":"IF(C4633=\"\",\"\",VLOOKUP(C4633,Tabla_Regional[],3,0))","v":""},null,{"$f":"IF(E4633<>\"\",VLOOKUP(CONCATENATE(C4633,E4633),Dato!$A$4:$I$218,7,0),\"\")","v":""},null,""]
[null,null,null,{"$f":"IF(C4634=\"\",\"\",VLOOKUP(C4634,Tabla_Regional[],3,0))","v":""},null,{"$f":"IF(E4634<>\"\",VLOOKUP(CONCATENATE(C4634,E4634),Dato!$A$4:$I$218,7,0),\"\")","v":""},null,""]
[null,null,null,{"$f":"IF(C4635=\"\",\"\",VLOOKUP(C4635,Tabla_Regional[],3,0))","v":""},null,{"$f":"IF(E4635<>\"\",VLOOKUP(CONCATENATE(C4635,E4635),Dato!$A$4:$I$218,7,0),\"\")","v":""},null,""]
[null,null,null,{"$f":"IF(C4636=\"\",\"\",VLOOKUP(C4636,Tabla_Regional[],3,0))","v":""},null,{"$f":"IF(E4636<>\"\",VLOOKUP(CONCATENATE(C4636,E4636),Dato!$A$4:$I$218,7,0),\"\")","v":""},null,""]
[null,null,null,{"$f":"IF(C4637=\"\",\"\",VLOOKUP(C4637,Tabla_Regional[],3,0))","v":""},null,{"$f":"IF(E4637<>\"\",VLOOKUP(CONCATENATE(C4637,E4637),Dato!$A$4:$I$218,7,0),\"\")","v":""},null,""]
[null,null,null,{"$f":"IF(C4638=\"\",\"\",VLOOKUP(C4638,Tabla_Regional[],3,0))","v":""},null,{"$f":"IF(E4638<>\"\",VLOOKUP(CONCATENATE(C4638,E4638),Dato!$A$4:$I$218,7,0),\"\")","v":""},null,""]
[null,null,null,{"$f":"IF(C4639=\"\",\"\",VLOOKUP(C4639,Tabla_Regional[],3,0))","v":""},null,{"$f":"IF(E4639<>\"\",VLOOKUP(CONCATENATE(C4639,E4639),Dato!$A$4:$I$218,7,0),\"\")","v":""},null,""]
[null,null,null,{"$f":"IF(C4640=\"\",\"\",VLOOKUP(C4640,Tabla_Regional[],3,0))","v":""},null,{"$f":"IF(E4640<>\"\",VLOOKUP(CONCATENATE(C4640,E4640),Dato!$A$4:$I$218,7,0),\"\")","v":""},null,""]
[null,null,null,{"$f":"IF(C4641=\"\",\"\",VLOOKUP(C4641,Tabla_Regional[],3,0))","v":""},null,{"$f":"IF(E4641<>\"\",VLOOKUP(CONCATENATE(C4641,E4641),Dato!$A$4:$I$218,7,0),\"\")","v":""},null,""]
[null,null,null,{"$f":"IF(C4642=\"\",\"\",VLOOKUP(C4642,Tabla_Regional[],3,0))","v":""},null,{"$f":"IF(E4642<>\"\",VLOOKUP(CONCATENATE(C4642,E4642),Dato!$A$4:$I$218,7,0),\"\")","v":""},null,""]
[null,null,null,{"$f":"IF(C4643=\"\",\"\",VLOOKUP(C4643,Tabla_Regional[],3,0))","v":""},null,{"$f":"IF(E4643<>\"\",VLOOKUP(CONCATENATE(C4643,E4643),Dato!$A$4:$I$218,7,0),\"\")","v":""},null,""]
[null,null,null,{"$f":"IF(C4644=\"\",\"\",VLOOKUP(C4644,Tabla_Regional[],3,0))","v":""},null,{"$f":"IF(E4644<>\"\",VLOOKUP(CONCATENATE(C4644,E4644),Dato!$A$4:$I$218,7,0),\"\")","v":""},null,""]
[null,null,null,{"$f":"IF(C4645=\"\",\"\",VLOOKUP(C4645,Tabla_Regional[],3,0))","v":""},null,{"$f":"IF(E4645<>\"\",VLOOKUP(CONCATENATE(C4645,E4645),Dato!$A$4:$I$218,7,0),\"\")","v":""},null,""]
[null,null,null,{"$f":"IF(C4646=\"\",\"\",VLOOKUP(C4646,Tabla_Regional[],3,0))","v":""},null,{"$f":"IF(E4646<>\"\",VLOOKUP(CONCATENATE(C4646,E4646),Dato!$A$4:$I$218,7,0),\"\")","v":""},null,""]
[null,null,null,{"$f":"IF(C4647=\"\",\"\",VLOOKUP(C4647,Tabla_Regional[],3,0))","v":""},null,{"$f":"IF(E4647<>\"\",VLOOKUP(CONCATENATE(C4647,E4647),Dato!$A$4:$I$218,7,0),\"\")","v":""},null,""]
[null,null,null,{"$f":"IF(C4648=\"\",\"\",VLOOKUP(C4648,Tabla_Regional[],3,0))","v":""},null,{"$f":"IF(E4648<>\"\",VLOOKUP(CONCATENATE(C4648,E4648),Dato!$A$4:$I$218,7,0),\"\")","v":""},null,""]
[null,null,null,{"$f":"IF(C4649=\"\",\"\",VLOOKUP(C4649,Tabla_Regional[],3,0))","v":""},null,{"$f":"IF(E4649<>\"\",VLOOKUP(CONCATENATE(C4649,E4649),Dato!$A$4:$I$218,7,0),\"\")","v":""},null,""]
[null,null,null,{"$f":"IF(C4650=\"\",\"\",VLOOKUP(C4650,Tabla_Regional[],3,0))","v":""},null,{"$f":"IF(E4650<>\"\",VLOOKUP(CONCATENATE(C4650,E4650),Dato!$A$4:$I$218,7,0),\"\")","v":""},null,""]
[null,null,null,{"$f":"IF(C4651=\"\",\"\",VLOOKUP(C4651,Tabla_Regional[],3,0))","v":""},null,{"$f":"IF(E4651<>\"\",VLOOKUP(CONCATENATE(C4651,E4651),Dato!$A$4:$I$218,7,0),\"\")","v":""},null,""]
[null,null,null,{"$f":"IF(C4652=\"\",\"\",VLOOKUP(C4652,Tabla_Regional[],3,0))","v":""},null,{"$f":"IF(E4652<>\"\",VLOOKUP(CONCATENATE(C4652,E4652),Dato!$A$4:$I$218,7,0),\"\")","v":""},null,""]
[null,null,null,{"$f":"IF(C4653=\"\",\"\",VLOOKUP(C4653,Tabla_Regional[],3,0))","v":""},null,{"$f":"IF(E4653<>\"\",VLOOKUP(CONCATENATE(C4653,E4653),Dato!$A$4:$I$218,7,0),\"\")","v":""},null,""]
[null,null,null,{"$f":"IF(C4654=\"\",\"\",VLOOKUP(C4654,Tabla_Regional[],3,0))","v":""},null,{"$f":"IF(E4654<>\"\",VLOOKUP(CONCATENATE(C4654,E4654),Dato!$A$4:$I$218,7,0),\"\")","v":""},null,""]
[null,null,null,{"$f":"IF(C4655=\"\",\"\",VLOOKUP(C4655,Tabla_Regional[],3,0))","v":""},null,{"$f":"IF(E4655<>\"\",VLOOKUP(CONCATENATE(C4655,E4655),Dato!$A$4:$I$218,7,0),\"\")","v":""},null,""]
[null,null,null,{"$f":"IF(C4656=\"\",\"\",VLOOKUP(C4656,Tabla_Regional[],3,0))","v":""},null,{"$f":"IF(E4656<>\"\",VLOOKUP(CONCATENATE(C4656,E4656),Dato!$A$4:$I$218,7,0),\"\")","v":""},null,""]
[null,null,null,{"$f":"IF(C4657=\"\",\"\",VLOOKUP(C4657,Tabla_Regional[],3,0))","v":""},null,{"$f":"IF(E4657<>\"\",VLOOKUP(CONCATENATE(C4657,E4657),Dato!$A$4:$I$218,7,0),\"\")","v":""},null,""]
[null,null,null,{"$f":"IF(C4658=\"\",\"\",VLOOKUP(C4658,Tabla_Regional[],3,0))","v":""},null,{"$f":"IF(E4658<>\"\",VLOOKUP(CONCATENATE(C4658,E4658),Dato!$A$4:$I$218,7,0),\"\")","v":""},null,""]
[null,null,null,{"$f":"IF(C4659=\"\",\"\",VLOOKUP(C4659,Tabla_Regional[],3,0))","v":""},null,{"$f":"IF(E4659<>\"\",VLOOKUP(CONCATENATE(C4659,E4659),Dato!$A$4:$I$218,7,0),\"\")","v":""},null,""]
[null,null,null,{"$f":"IF(C4660=\"\",\"\",VLOOKUP(C4660,Tabla_Regional[],3,0))","v":""},null,{"$f":"IF(E4660<>\"\",VLOOKUP(CONCATENATE(C4660,E4660),Dato!$A$4:$I$218,7,0),\"\")","v":""},null,""]
[null,null,null,{"$f":"IF(C4661=\"\",\"\",VLOOKUP(C4661,Tabla_Regional[],3,0))","v":""},null,{"$f":"IF(E4661<>\"\",VLOOKUP(CONCATENATE(C4661,E4661),Dato!$A$4:$I$218,7,0),\"\")","v":""},null,""]
[null,null,null,{"$f":"IF(C4662=\"\",\"\",VLOOKUP(C4662,Tabla_Regional[],3,0))","v":""},null,{"$f":"IF(E4662<>\"\",VLOOKUP(CONCATENATE(C4662,E4662),Dato!$A$4:$I$218,7,0),\"\")","v":""},null,""]
[null,null,null,{"$f":"IF(C4663=\"\",\"\",VLOOKUP(C4663,Tabla_Regional[],3,0))","v":""},null,{"$f":"IF(E4663<>\"\",VLOOKUP(CONCATENATE(C4663,E4663),Dato!$A$4:$I$218,7,0),\"\")","v":""},null,""]
[null,null,null,{"$f":"IF(C4664=\"\",\"\",VLOOKUP(C4664,Tabla_Regional[],3,0))","v":""},null,{"$f":"IF(E4664<>\"\",VLOOKUP(CONCATENATE(C4664,E4664),Dato!$A$4:$I$218,7,0),\"\")","v":""},null,""]
[null,null,null,{"$f":"IF(C4665=\"\",\"\",VLOOKUP(C4665,Tabla_Regional[],3,0))","v":""},null,{"$f":"IF(E4665<>\"\",VLOOKUP(CONCATENATE(C4665,E4665),Dato!$A$4:$I$218,7,0),\"\")","v":""},null,""]
[null,null,null,{"$f":"IF(C4666=\"\",\"\",VLOOKUP(C4666,Tabla_Regional[],3,0))","v":""},null,{"$f":"IF(E4666<>\"\",VLOOKUP(CONCATENATE(C4666,E4666),Dato!$A$4:$I$218,7,0),\"\")","v":""},null,""]
[null,null,null,{"$f":"IF(C4667=\"\",\"\",VLOOKUP(C4667,Tabla_Regional[],3,0))","v":""},null,{"$f":"IF(E4667<>\"\",VLOOKUP(CONCATENATE(C4667,E4667),Dato!$A$4:$I$218,7,0),\"\")","v":""},null,""]
[null,null,null,{"$f":"IF(C4668=\"\",\"\",VLOOKUP(C4668,Tabla_Regional[],3,0))","v":""},null,{"$f":"IF(E4668<>\"\",VLOOKUP(CONCATENATE(C4668,E4668),Dato!$A$4:$I$218,7,0),\"\")","v":""},null,""]
[null,null,null,{"$f":"IF(C4669=\"\",\"\",VLOOKUP(C4669,Tabla_Regional[],3,0))","v":""},null,{"$f":"IF(E4669<>\"\",VLOOKUP(CONCATENATE(C4669,E4669),Dato!$A$4:$I$218,7,0),\"\")","v":""},null,""]
[null,null,null,{"$f":"IF(C4670=\"\",\"\",VLOOKUP(C4670,Tabla_Regional[],3,0))","v":""},null,{"$f":"IF(E4670<>\"\",VLOOKUP(CONCATENATE(C4670,E4670),Dato!$A$4:$I$218,7,0),\"\")","v":""},null,""]
[null,null,null,{"$f":"IF(C4671=\"\",\"\",VLOOKUP(C4671,Tabla_Regional[],3,0))","v":""},null,{"$f":"IF(E4671<>\"\",VLOOKUP(CONCATENATE(C4671,E4671),Dato!$A$4:$I$218,7,0),\"\")","v":""},null,""]
[null,null,null,{"$f":"IF(C4672=\"\",\"\",VLOOKUP(C4672,Tabla_Regional[],3,0))","v":""},null,{"$f":"IF(E4672<>\"\",VLOOKUP(CONCATENATE(C4672,E4672),Dato!$A$4:$I$218,7,0),\"\")","v":""},null,""]
[null,null,null,{"$f":"IF(C4673=\"\",\"\",VLOOKUP(C4673,Tabla_Regional[],3,0))","v":""},null,{"$f":"IF(E4673<>\"\",VLOOKUP(CONCATENATE(C4673,E4673),Dato!$A$4:$I$218,7,0),\"\")","v":""},null,""]
[null,null,null,{"$f":"IF(C4674=\"\",\"\",VLOOKUP(C4674,Tabla_Regional[],3,0))","v":""},null,{"$f":"IF(E4674<>\"\",VLOOKUP(CONCATENATE(C4674,E4674),Dato!$A$4:$I$218,7,0),\"\")","v":""},null,""]
[null,null,null,{"$f":"IF(C4675=\"\",\"\",VLOOKUP(C4675,Tabla_Regional[],3,0))","v":""},null,{"$f":"IF(E4675<>\"\",VLOOKUP(CONCATENATE(C4675,E4675),Dato!$A$4:$I$218,7,0),\"\")","v":""},null,""]
[null,null,null,{"$f":"IF(C4676=\"\",\"\",VLOOKUP(C4676,Tabla_Regional[],3,0))","v":""},null,{"$f":"IF(E4676<>\"\",VLOOKUP(CONCATENATE(C4676,E4676),Dato!$A$4:$I$218,7,0),\"\")","v":""},null,""]
[null,null,null,{"$f":"IF(C4677=\"\",\"\",VLOOKUP(C4677,Tabla_Regional[],3,0))","v":""},null,{"$f":"IF(E4677<>\"\",VLOOKUP(CONCATENATE(C4677,E4677),Dato!$A$4:$I$218,7,0),\"\")","v":""},null,""]
[null,null,null,{"$f":"IF(C4678=\"\",\"\",VLOOKUP(C4678,Tabla_Regional[],3,0))","v":""},null,{"$f":"IF(E4678<>\"\",VLOOKUP(CONCATENATE(C4678,E4678),Dato!$A$4:$I$218,7,0),\"\")","v":""},null,""]
[null,null,null,{"$f":"IF(C4679=\"\",\"\",VLOOKUP(C4679,Tabla_Regional[],3,0))","v":""},null,{"$f":"IF(E4679<>\"\",VLOOKUP(CONCATENATE(C4679,E4679),Dato!$A$4:$I$218,7,0),\"\")","v":""},null,""]
[null,null,null,{"$f":"IF(C4680=\"\",\"\",VLOOKUP(C4680,Tabla_Regional[],3,0))","v":""},null,{"$f":"IF(E4680<>\"\",VLOOKUP(CONCATENATE(C4680,E4680),Dato!$A$4:$I$218,7,0),\"\")","v":""},null,""]
[null,null,null,{"$f":"IF(C4681=\"\",\"\",VLOOKUP(C4681,Tabla_Regional[],3,0))","v":""},null,{"$f":"IF(E4681<>\"\",VLOOKUP(CONCATENATE(C4681,E4681),Dato!$A$4:$I$218,7,0),\"\")","v":""},null,""]
[null,null,null,{"$f":"IF(C4682=\"\",\"\",VLOOKUP(C4682,Tabla_Regional[],3,0))","v":""},null,{"$f":"IF(E4682<>\"\",VLOOKUP(CONCATENATE(C4682,E4682),Dato!$A$4:$I$218,7,0),\"\")","v":""},null,""]
[null,null,null,{"$f":"IF(C4683=\"\",\"\",VLOOKUP(C4683,Tabla_Regional[],3,0))","v":""},null,{"$f":"IF(E4683<>\"\",VLOOKUP(CONCATENATE(C4683,E4683),Dato!$A$4:$I$218,7,0),\"\")","v":""},null,""]
[null,null,null,{"$f":"IF(C4684=\"\",\"\",VLOOKUP(C4684,Tabla_Regional[],3,0))","v":""},null,{"$f":"IF(E4684<>\"\",VLOOKUP(CONCATENATE(C4684,E4684),Dato!$A$4:$I$218,7,0),\"\")","v":""},null,{"$f":"IF(G4684<>\"\",VLOOKUP(CONCATENATE(C4684,E4684,G4684),czmuni,7,0),\"\")","v":""}]
[null,null,null,{"$f":"IF(C4685=\"\",\"\",VLOOKUP(C4685,Tabla_Regional[],3,0))","v":""},null,{"$f":"IF(E4685<>\"\",VLOOKUP(CONCATENATE(C4685,E4685),Dato!$A$4:$I$218,7,0),\"\")","v":""},null,""]
[null,null,null,{"$f":"IF(C4686=\"\",\"\",VLOOKUP(C4686,Tabla_Regional[],3,0))","v":""},null,{"$f":"IF(E4686<>\"\",VLOOKUP(CONCATENATE(C4686,E4686),Dato!$A$4:$I$218,7,0),\"\")","v":""},null,""]
[null,null,null,{"$f":"IF(C4687=\"\",\"\",VLOOKUP(C4687,Tabla_Regional[],3,0))","v":""},null,{"$f":"IF(E4687<>\"\",VLOOKUP(CONCATENATE(C4687,E4687),Dato!$A$4:$I$218,7,0),\"\")","v":""},null,""]
[null,null,null,{"$f":"IF(C4688=\"\",\"\",VLOOKUP(C4688,Tabla_Regional[],3,0))","v":""},null,{"$f":"IF(E4688<>\"\",VLOOKUP(CONCATENATE(C4688,E4688),Dato!$A$4:$I$218,7,0),\"\")","v":""},null,""]
[null,null,null,{"$f":"IF(C4689=\"\",\"\",VLOOKUP(C4689,Tabla_Regional[],3,0))","v":""},null,{"$f":"IF(E4689<>\"\",VLOOKUP(CONCATENATE(C4689,E4689),Dato!$A$4:$I$218,7,0),\"\")","v":""},null,""]
[null,null,null,{"$f":"IF(C4690=\"\",\"\",VLOOKUP(C4690,Tabla_Regional[],3,0))","v":""},null,{"$f":"IF(E4690<>\"\",VLOOKUP(CONCATENATE(C4690,E4690),Dato!$A$4:$I$218,7,0),\"\")","v":""},null,""]
[null,null,null,{"$f":"IF(C4691=\"\",\"\",VLOOKUP(C4691,Tabla_Regional[],3,0))","v":""},null,{"$f":"IF(E4691<>\"\",VLOOKUP(CONCATENATE(C4691,E4691),Dato!$A$4:$I$218,7,0),\"\")","v":""},null,""]
[null,null,null,{"$f":"IF(C4692=\"\",\"\",VLOOKUP(C4692,Tabla_Regional[],3,0))","v":""},null,{"$f":"IF(E4692<>\"\",VLOOKUP(CONCATENATE(C4692,E4692),Dato!$A$4:$I$218,7,0),\"\")","v":""},null,""]
[null,null,null,{"$f":"IF(C4693=\"\",\"\",VLOOKUP(C4693,Tabla_Regional[],3,0))","v":""},null,{"$f":"IF(E4693<>\"\",VLOOKUP(CONCATENATE(C4693,E4693),Dato!$A$4:$I$218,7,0),\"\")","v":""},null,""]
[null,null,null,{"$f":"IF(C4694=\"\",\"\",VLOOKUP(C4694,Tabla_Regional[],3,0))","v":""},null,{"$f":"IF(E4694<>\"\",VLOOKUP(CONCATENATE(C4694,E4694),Dato!$A$4:$I$218,7,0),\"\")","v":""},null,""]
[null,null,null,{"$f":"IF(C4695=\"\",\"\",VLOOKUP(C4695,Tabla_Regional[],3,0))","v":""},null,{"$f":"IF(E4695<>\"\",VLOOKUP(CONCATENATE(C4695,E4695),Dato!$A$4:$I$218,7,0),\"\")","v":""},null,""]
[null,null,null,{"$f":"IF(C4696=\"\",\"\",VLOOKUP(C4696,Tabla_Regional[],3,0))","v":""},null,{"$f":"IF(E4696<>\"\",VLOOKUP(CONCATENATE(C4696,E4696),Dato!$A$4:$I$218,7,0),\"\")","v":""},null,""]
[null,null,null,{"$f":"IF(C4697=\"\",\"\",VLOOKUP(C4697,Tabla_Regional[],3,0))","v":""},null,{"$f":"IF(E4697<>\"\",VLOOKUP(CONCATENATE(C4697,E4697),Dato!$A$4:$I$218,7,0),\"\")","v":""},null,""]
[null,null,null,{"$f":"IF(C4698=\"\",\"\",VLOOKUP(C4698,Tabla_Regional[],3,0))","v":""},null,{"$f":"IF(E4698<>\"\",VLOOKUP(CONCATENATE(C4698,E4698),Dato!$A$4:$I$218,7,0),\"\")","v":""},null,""]
[null,null,null,{"$f":"IF(C4699=\"\",\"\",VLOOKUP(C4699,Tabla_Regional[],3,0))","v":""},null,{"$f":"IF(E4699<>\"\",VLOOKUP(CONCATENATE(C4699,E4699),Dato!$A$4:$I$218,7,0),\"\")","v":""},null,""]
[null,null,null,{"$f":"IF(C4700=\"\",\"\",VLOOKUP(C4700,Tabla_Regional[],3,0))","v":""},null,{"$f":"IF(E4700<>\"\",VLOOKUP(CONCATENATE(C4700,E4700),Dato!$A$4:$I$218,7,0),\"\")","v":""},null,""]
[null,null,null,{"$f":"IF(C4701=\"\",\"\",VLOOKUP(C4701,Tabla_Regional[],3,0))","v":""},null,{"$f":"IF(E4701<>\"\",VLOOKUP(CONCATENATE(C4701,E4701),Dato!$A$4:$I$218,7,0),\"\")","v":""},null,""]
[null,null,null,{"$f":"IF(C4702=\"\",\"\",VLOOKUP(C4702,Tabla_Regional[],3,0))","v":""},null,{"$f":"IF(E4702<>\"\",VLOOKUP(CONCATENATE(C4702,E4702),Dato!$A$4:$I$218,7,0),\"\")","v":""},null,""]
[null,null,null,{"$f":"IF(C4703=\"\",\"\",VLOOKUP(C4703,Tabla_Regional[],3,0))","v":""},null,{"$f":"IF(E4703<>\"\",VLOOKUP(CONCATENATE(C4703,E4703),Dato!$A$4:$I$218,7,0),\"\")","v":""},null,""]
[null,null,null,{"$f":"IF(C4704=\"\",\"\",VLOOKUP(C4704,Tabla_Regional[],3,0))","v":""},null,{"$f":"IF(E4704<>\"\",VLOOKUP(CONCATENATE(C4704,E4704),Dato!$A$4:$I$218,7,0),\"\")","v":""},null,""]
[null,null,null,{"$f":"IF(C4705=\"\",\"\",VLOOKUP(C4705,Tabla_Regional[],3,0))","v":""},null,{"$f":"IF(E4705<>\"\",VLOOKUP(CONCATENATE(C4705,E4705),Dato!$A$4:$I$218,7,0),\"\")","v":""},null,""]
[null,null,null,{"$f":"IF(C4706=\"\",\"\",VLOOKUP(C4706,Tabla_Regional[],3,0))","v":""},null,{"$f":"IF(E4706<>\"\",VLOOKUP(CONCATENATE(C4706,E4706),Dato!$A$4:$I$218,7,0),\"\")","v":""},null,""]
[null,null,null,{"$f":"IF(C4707=\"\",\"\",VLOOKUP(C4707,Tabla_Regional[],3,0))","v":""},null,{"$f":"IF(E4707<>\"\",VLOOKUP(CONCATENATE(C4707,E4707),Dato!$A$4:$I$218,7,0),\"\")","v":""},null,""]
[null,null,null,{"$f":"IF(C4708=\"\",\"\",VLOOKUP(C4708,Tabla_Regional[],3,0))","v":""},null,{"$f":"IF(E4708<>\"\",VLOOKUP(CONCATENATE(C4708,E4708),Dato!$A$4:$I$218,7,0),\"\")","v":""},null,""]
[null,null,null,{"$f":"IF(C4709=\"\",\"\",VLOOKUP(C4709,Tabla_Regional[],3,0))","v":""},null,{"$f":"IF(E4709<>\"\",VLOOKUP(CONCATENATE(C4709,E4709),Dato!$A$4:$I$218,7,0),\"\")","v":""},null,""]
[null,null,null,{"$f":"IF(C4710=\"\",\"\",VLOOKUP(C4710,Tabla_Regional[],3,0))","v":""},null,{"$f":"IF(E4710<>\"\",VLOOKUP(CONCATENATE(C4710,E4710),Dato!$A$4:$I$218,7,0),\"\")","v":""},null,""]
[null,null,null,{"$f":"IF(C4711=\"\",\"\",VLOOKUP(C4711,Tabla_Regional[],3,0))","v":""},null,{"$f":"IF(E4711<>\"\",VLOOKUP(CONCATENATE(C4711,E4711),Dato!$A$4:$I$218,7,0),\"\")","v":""},null,""]
[null,null,null,{"$f":"IF(C4712=\"\",\"\",VLOOKUP(C4712,Tabla_Regional[],3,0))","v":""},null,{"$f":"IF(E4712<>\"\",VLOOKUP(CONCATENATE(C4712,E4712),Dato!$A$4:$I$218,7,0),\"\")","v":""},null,""]
[null,null,null,{"$f":"IF(C4713=\"\",\"\",VLOOKUP(C4713,Tabla_Regional[],3,0))","v":""},null,{"$f":"IF(E4713<>\"\",VLOOKUP(CONCATENATE(C4713,E4713),Dato!$A$4:$I$218,7,0),\"\")","v":""},null,""]
[null,null,null,{"$f":"IF(C4714=\"\",\"\",VLOOKUP(C4714,Tabla_Regional[],3,0))","v":""},null,{"$f":"IF(E4714<>\"\",VLOOKUP(CONCATENATE(C4714,E4714),Dato!$A$4:$I$218,7,0),\"\")","v":""},null,""]
[null,null,null,{"$f":"IF(C4715=\"\",\"\",VLOOKUP(C4715,Tabla_Regional[],3,0))","v":""},null,{"$f":"IF(E4715<>\"\",VLOOKUP(CONCATENATE(C4715,E4715),Dato!$A$4:$I$218,7,0),\"\")","v":""},null,""]
[null,null,null,{"$f":"IF(C4716=\"\",\"\",VLOOKUP(C4716,Tabla_Regional[],3,0))","v":""},null,{"$f":"IF(E4716<>\"\",VLOOKUP(CONCATENATE(C4716,E4716),Dato!$A$4:$I$218,7,0),\"\")","v":""},null,""]
[null,null,null,{"$f":"IF(C4717=\"\",\"\",VLOOKUP(C4717,Tabla_Regional[],3,0))","v":""},null,{"$f":"IF(E4717<>\"\",VLOOKUP(CONCATENATE(C4717,E4717),Dato!$A$4:$I$218,7,0),\"\")","v":""},null,""]
[null,null,null,{"$f":"IF(C4718=\"\",\"\",VLOOKUP(C4718,Tabla_Regional[],3,0))","v":""},null,{"$f":"IF(E4718<>\"\",VLOOKUP(CONCATENATE(C4718,E4718),Dato!$A$4:$I$218,7,0),\"\")","v":""},null,""]
[null,null,null,{"$f":"IF(C4719=\"\",\"\",VLOOKUP(C4719,Tabla_Regional[],3,0))","v":""},null,{"$f":"IF(E4719<>\"\",VLOOKUP(CONCATENATE(C4719,E4719),Dato!$A$4:$I$218,7,0),\"\")","v":""},null,""]
[null,null,null,{"$f":"IF(C4720=\"\",\"\",VLOOKUP(C4720,Tabla_Regional[],3,0))","v":""},null,{"$f":"IF(E4720<>\"\",VLOOKUP(CONCATENATE(C4720,E4720),Dato!$A$4:$I$218,7,0),\"\")","v":""},null,""]
[null,null,null,{"$f":"IF(C4721=\"\",\"\",VLOOKUP(C4721,Tabla_Regional[],3,0))","v":""},null,{"$f":"IF(E4721<>\"\",VLOOKUP(CONCATENATE(C4721,E4721),Dato!$A$4:$I$218,7,0),\"\")","v":""},null,""]
[null,null,null,{"$f":"IF(C4722=\"\",\"\",VLOOKUP(C4722,Tabla_Regional[],3,0))","v":""},null,{"$f":"IF(E4722<>\"\",VLOOKUP(CONCATENATE(C4722,E4722),Dato!$A$4:$I$218,7,0),\"\")","v":""},null,""]
[null,null,null,{"$f":"IF(C4723=\"\",\"\",VLOOKUP(C4723,Tabla_Regional[],3,0))","v":""},null,{"$f":"IF(E4723<>\"\",VLOOKUP(CONCATENATE(C4723,E4723),Dato!$A$4:$I$218,7,0),\"\")","v":""},null,""]
[null,null,null,{"$f":"IF(C4724=\"\",\"\",VLOOKUP(C4724,Tabla_Regional[],3,0))","v":""},null,{"$f":"IF(E4724<>\"\",VLOOKUP(CONCATENATE(C4724,E4724),Dato!$A$4:$I$218,7,0),\"\")","v":""},null,""]
[null,null,null,{"$f":"IF(C4725=\"\",\"\",VLOOKUP(C4725,Tabla_Regional[],3,0))","v":""},null,{"$f":"IF(E4725<>\"\",VLOOKUP(CONCATENATE(C4725,E4725),Dato!$A$4:$I$218,7,0),\"\")","v":""},null,""]
[null,null,null,{"$f":"IF(C4726=\"\",\"\",VLOOKUP(C4726,Tabla_Regional[],3,0))","v":""},null,{"$f":"IF(E4726<>\"\",VLOOKUP(CONCATENATE(C4726,E4726),Dato!$A$4:$I$218,7,0),\"\")","v":""},null,""]
[null,null,null,{"$f":"IF(C4727=\"\",\"\",VLOOKUP(C4727,Tabla_Regional[],3,0))","v":""},null,{"$f":"IF(E4727<>\"\",VLOOKUP(CONCATENATE(C4727,E4727),Dato!$A$4:$I$218,7,0),\"\")","v":""},null,""]
[null,null,null,{"$f":"IF(C4728=\"\",\"\",VLOOKUP(C4728,Tabla_Regional[],3,0))","v":""},null,{"$f":"IF(E4728<>\"\",VLOOKUP(CONCATENATE(C4728,E4728),Dato!$A$4:$I$218,7,0),\"\")","v":""},null,""]
[null,null,null,{"$f":"IF(C4729=\"\",\"\",VLOOKUP(C4729,Tabla_Regional[],3,0))","v":""},null,{"$f":"IF(E4729<>\"\",VLOOKUP(CONCATENATE(C4729,E4729),Dato!$A$4:$I$218,7,0),\"\")","v":""},null,""]
[null,null,null,{"$f":"IF(C4730=\"\",\"\",VLOOKUP(C4730,Tabla_Regional[],3,0))","v":""},null,{"$f":"IF(E4730<>\"\",VLOOKUP(CONCATENATE(C4730,E4730),Dato!$A$4:$I$218,7,0),\"\")","v":""},null,""]
[null,null,null,{"$f":"IF(C4731=\"\",\"\",VLOOKUP(C4731,Tabla_Regional[],3,0))","v":""},null,{"$f":"IF(E4731<>\"\",VLOOKUP(CONCATENATE(C4731,E4731),Dato!$A$4:$I$218,7,0),\"\")","v":""},null,""]
[null,null,null,{"$f":"IF(C4732=\"\",\"\",VLOOKUP(C4732,Tabla_Regional[],3,0))","v":""},null,{"$f":"IF(E4732<>\"\",VLOOKUP(CONCATENATE(C4732,E4732),Dato!$A$4:$I$218,7,0),\"\")","v":""},null,""]
[null,null,null,{"$f":"IF(C4733=\"\",\"\",VLOOKUP(C4733,Tabla_Regional[],3,0))","v":""},null,{"$f":"IF(E4733<>\"\",VLOOKUP(CONCATENATE(C4733,E4733),Dato!$A$4:$I$218,7,0),\"\")","v":""},null,""]
[null,null,null,{"$f":"IF(C4734=\"\",\"\",VLOOKUP(C4734,Tabla_Regional[],3,0))","v":""},null,{"$f":"IF(E4734<>\"\",VLOOKUP(CONCATENATE(C4734,E4734),Dato!$A$4:$I$218,7,0),\"\")","v":""},null,""]
[null,null,null,{"$f":"IF(C4735=\"\",\"\",VLOOKUP(C4735,Tabla_Regional[],3,0))","v":""},null,{"$f":"IF(E4735<>\"\",VLOOKUP(CONCATENATE(C4735,E4735),Dato!$A$4:$I$218,7,0),\"\")","v":""},null,""]
[null,null,null,{"$f":"IF(C4736=\"\",\"\",VLOOKUP(C4736,Tabla_Regional[],3,0))","v":""},null,{"$f":"IF(E4736<>\"\",VLOOKUP(CONCATENATE(C4736,E4736),Dato!$A$4:$I$218,7,0),\"\")","v":""},null,""]
[null,null,null,{"$f":"IF(C4737=\"\",\"\",VLOOKUP(C4737,Tabla_Regional[],3,0))","v":""},null,{"$f":"IF(E4737<>\"\",VLOOKUP(CONCATENATE(C4737,E4737),Dato!$A$4:$I$218,7,0),\"\")","v":""},null,""]
[null,null,null,{"$f":"IF(C4738=\"\",\"\",VLOOKUP(C4738,Tabla_Regional[],3,0))","v":""},null,{"$f":"IF(E4738<>\"\",VLOOKUP(CONCATENATE(C4738,E4738),Dato!$A$4:$I$218,7,0),\"\")","v":""},null,""]
[null,null,null,{"$f":"IF(C4739=\"\",\"\",VLOOKUP(C4739,Tabla_Regional[],3,0))","v":""},null,{"$f":"IF(E4739<>\"\",VLOOKUP(CONCATENATE(C4739,E4739),Dato!$A$4:$I$218,7,0),\"\")","v":""},null,""]
[null,null,null,{"$f":"IF(C4740=\"\",\"\",VLOOKUP(C4740,Tabla_Regional[],3,0))","v":""},null,{"$f":"IF(E4740<>\"\",VLOOKUP(CONCATENATE(C4740,E4740),Dato!$A$4:$I$218,7,0),\"\")","v":""},null,""]
[null,null,null,{"$f":"IF(C4741=\"\",\"\",VLOOKUP(C4741,Tabla_Regional[],3,0))","v":""},null,{"$f":"IF(E4741<>\"\",VLOOKUP(CONCATENATE(C4741,E4741),Dato!$A$4:$I$218,7,0),\"\")","v":""},null,""]
[null,null,null,{"$f":"IF(C4742=\"\",\"\",VLOOKUP(C4742,Tabla_Regional[],3,0))","v":""},null,{"$f":"IF(E4742<>\"\",VLOOKUP(CONCATENATE(C4742,E4742),Dato!$A$4:$I$218,7,0),\"\")","v":""},null,""]
[null,null,null,{"$f":"IF(C4743=\"\",\"\",VLOOKUP(C4743,Tabla_Regional[],3,0))","v":""},null,{"$f":"IF(E4743<>\"\",VLOOKUP(CONCATENATE(C4743,E4743),Dato!$A$4:$I$218,7,0),\"\")","v":""},null,""]
[null,null,null,{"$f":"IF(C4744=\"\",\"\",VLOOKUP(C4744,Tabla_Regional[],3,0))","v":""},null,{"$f":"IF(E4744<>\"\",VLOOKUP(CONCATENATE(C4744,E4744),Dato!$A$4:$I$218,7,0),\"\")","v":""},null,""]
[null,null,null,{"$f":"IF(C4745=\"\",\"\",VLOOKUP(C4745,Tabla_Regional[],3,0))","v":""},null,{"$f":"IF(E4745<>\"\",VLOOKUP(CONCATENATE(C4745,E4745),Dato!$A$4:$I$218,7,0),\"\")","v":""},null,""]
[null,null,null,{"$f":"IF(C4746=\"\",\"\",VLOOKUP(C4746,Tabla_Regional[],3,0))","v":""},null,{"$f":"IF(E4746<>\"\",VLOOKUP(CONCATENATE(C4746,E4746),Dato!$A$4:$I$218,7,0),\"\")","v":""},null,""]
[null,null,null,{"$f":"IF(C4747=\"\",\"\",VLOOKUP(C4747,Tabla_Regional[],3,0))","v":""},null,{"$f":"IF(E4747<>\"\",VLOOKUP(CONCATENATE(C4747,E4747),Dato!$A$4:$I$218,7,0),\"\")","v":""},null,""]
[null,null,null,{"$f":"IF(C4748=\"\",\"\",VLOOKUP(C4748,Tabla_Regional[],3,0))","v":""},null,{"$f":"IF(E4748<>\"\",VLOOKUP(CONCATENATE(C4748,E4748),Dato!$A$4:$I$218,7,0),\"\")","v":""},null,{"$f":"IF(G4748<>\"\",VLOOKUP(CONCATENATE(C4748,E4748,G4748),czmuni,7,0),\"\")","v":""}]
[null,null,null,{"$f":"IF(C4749=\"\",\"\",VLOOKUP(C4749,Tabla_Regional[],3,0))","v":""},null,{"$f":"IF(E4749<>\"\",VLOOKUP(CONCATENATE(C4749,E4749),Dato!$A$4:$I$218,7,0),\"\")","v":""},null,""]
[null,null,null,{"$f":"IF(C4750=\"\",\"\",VLOOKUP(C4750,Tabla_Regional[],3,0))","v":""},null,{"$f":"IF(E4750<>\"\",VLOOKUP(CONCATENATE(C4750,E4750),Dato!$A$4:$I$218,7,0),\"\")","v":""},null,""]
[null,null,null,{"$f":"IF(C4751=\"\",\"\",VLOOKUP(C4751,Tabla_Regional[],3,0))","v":""},null,{"$f":"IF(E4751<>\"\",VLOOKUP(CONCATENATE(C4751,E4751),Dato!$A$4:$I$218,7,0),\"\")","v":""},null,""]
[null,null,null,{"$f":"IF(C4752=\"\",\"\",VLOOKUP(C4752,Tabla_Regional[],3,0))","v":""},null,{"$f":"IF(E4752<>\"\",VLOOKUP(CONCATENATE(C4752,E4752),Dato!$A$4:$I$218,7,0),\"\")","v":""},null,""]
[null,null,null,{"$f":"IF(C4753=\"\",\"\",VLOOKUP(C4753,Tabla_Regional[],3,0))","v":""},null,{"$f":"IF(E4753<>\"\",VLOOKUP(CONCATENATE(C4753,E4753),Dato!$A$4:$I$218,7,0),\"\")","v":""},null,""]
[null,null,null,{"$f":"IF(C4754=\"\",\"\",VLOOKUP(C4754,Tabla_Regional[],3,0))","v":""},null,{"$f":"IF(E4754<>\"\",VLOOKUP(CONCATENATE(C4754,E4754),Dato!$A$4:$I$218,7,0),\"\")","v":""},null,""]
[null,null,null,{"$f":"IF(C4755=\"\",\"\",VLOOKUP(C4755,Tabla_Regional[],3,0))","v":""},null,{"$f":"IF(E4755<>\"\",VLOOKUP(CONCATENATE(C4755,E4755),Dato!$A$4:$I$218,7,0),\"\")","v":""},null,""]
[null,null,null,{"$f":"IF(C4756=\"\",\"\",VLOOKUP(C4756,Tabla_Regional[],3,0))","v":""},null,{"$f":"IF(E4756<>\"\",VLOOKUP(CONCATENATE(C4756,E4756),Dato!$A$4:$I$218,7,0),\"\")","v":""},null,""]
[null,null,null,{"$f":"IF(C4757=\"\",\"\",VLOOKUP(C4757,Tabla_Regional[],3,0))","v":""},null,{"$f":"IF(E4757<>\"\",VLOOKUP(CONCATENATE(C4757,E4757),Dato!$A$4:$I$218,7,0),\"\")","v":""},null,""]
[null,null,null,{"$f":"IF(C4758=\"\",\"\",VLOOKUP(C4758,Tabla_Regional[],3,0))","v":""},null,{"$f":"IF(E4758<>\"\",VLOOKUP(CONCATENATE(C4758,E4758),Dato!$A$4:$I$218,7,0),\"\")","v":""},null,""]
[null,null,null,{"$f":"IF(C4759=\"\",\"\",VLOOKUP(C4759,Tabla_Regional[],3,0))","v":""},null,{"$f":"IF(E4759<>\"\",VLOOKUP(CONCATENATE(C4759,E4759),Dato!$A$4:$I$218,7,0),\"\")","v":""},null,""]
[null,null,null,{"$f":"IF(C4760=\"\",\"\",VLOOKUP(C4760,Tabla_Regional[],3,0))","v":""},null,{"$f":"IF(E4760<>\"\",VLOOKUP(CONCATENATE(C4760,E4760),Dato!$A$4:$I$218,7,0),\"\")","v":""},null,""]
[null,null,null,{"$f":"IF(C4761=\"\",\"\",VLOOKUP(C4761,Tabla_Regional[],3,0))","v":""},null,{"$f":"IF(E4761<>\"\",VLOOKUP(CONCATENATE(C4761,E4761),Dato!$A$4:$I$218,7,0),\"\")","v":""},null,""]
[null,null,null,{"$f":"IF(C4762=\"\",\"\",VLOOKUP(C4762,Tabla_Regional[],3,0))","v":""},null,{"$f":"IF(E4762<>\"\",VLOOKUP(CONCATENATE(C4762,E4762),Dato!$A$4:$I$218,7,0),\"\")","v":""},null,""]
[null,null,null,{"$f":"IF(C4763=\"\",\"\",VLOOKUP(C4763,Tabla_Regional[],3,0))","v":""},null,{"$f":"IF(E4763<>\"\",VLOOKUP(CONCATENATE(C4763,E4763),Dato!$A$4:$I$218,7,0),\"\")","v":""},null,""]
[null,null,null,{"$f":"IF(C4764=\"\",\"\",VLOOKUP(C4764,Tabla_Regional[],3,0))","v":""},null,{"$f":"IF(E4764<>\"\",VLOOKUP(CONCATENATE(C4764,E4764),Dato!$A$4:$I$218,7,0),\"\")","v":""},null,""]
[null,null,null,{"$f":"IF(C4765=\"\",\"\",VLOOKUP(C4765,Tabla_Regional[],3,0))","v":""},null,{"$f":"IF(E4765<>\"\",VLOOKUP(CONCATENATE(C4765,E4765),Dato!$A$4:$I$218,7,0),\"\")","v":""},null,""]
[null,null,null,{"$f":"IF(C4766=\"\",\"\",VLOOKUP(C4766,Tabla_Regional[],3,0))","v":""},null,{"$f":"IF(E4766<>\"\",VLOOKUP(CONCATENATE(C4766,E4766),Dato!$A$4:$I$218,7,0),\"\")","v":""},null,""]
[null,null,null,{"$f":"IF(C4767=\"\",\"\",VLOOKUP(C4767,Tabla_Regional[],3,0))","v":""},null,{"$f":"IF(E4767<>\"\",VLOOKUP(CONCATENATE(C4767,E4767),Dato!$A$4:$I$218,7,0),\"\")","v":""},null,""]
[null,null,null,{"$f":"IF(C4768=\"\",\"\",VLOOKUP(C4768,Tabla_Regional[],3,0))","v":""},null,{"$f":"IF(E4768<>\"\",VLOOKUP(CONCATENATE(C4768,E4768),Dato!$A$4:$I$218,7,0),\"\")","v":""},null,""]
[null,null,null,{"$f":"IF(C4769=\"\",\"\",VLOOKUP(C4769,Tabla_Regional[],3,0))","v":""},null,{"$f":"IF(E4769<>\"\",VLOOKUP(CONCATENATE(C4769,E4769),Dato!$A$4:$I$218,7,0),\"\")","v":""},null,""]
[null,null,null,{"$f":"IF(C4770=\"\",\"\",VLOOKUP(C4770,Tabla_Regional[],3,0))","v":""},null,{"$f":"IF(E4770<>\"\",VLOOKUP(CONCATENATE(C4770,E4770),Dato!$A$4:$I$218,7,0),\"\")","v":""},null,""]
[null,null,null,{"$f":"IF(C4771=\"\",\"\",VLOOKUP(C4771,Tabla_Regional[],3,0))","v":""},null,{"$f":"IF(E4771<>\"\",VLOOKUP(CONCATENATE(C4771,E4771),Dato!$A$4:$I$218,7,0),\"\")","v":""},null,""]
[null,null,null,{"$f":"IF(C4772=\"\",\"\",VLOOKUP(C4772,Tabla_Regional[],3,0))","v":""},null,{"$f":"IF(E4772<>\"\",VLOOKUP(CONCATENATE(C4772,E4772),Dato!$A$4:$I$218,7,0),\"\")","v":""},null,""]
[null,null,null,{"$f":"IF(C4773=\"\",\"\",VLOOKUP(C4773,Tabla_Regional[],3,0))","v":""},null,{"$f":"IF(E4773<>\"\",VLOOKUP(CONCATENATE(C4773,E4773),Dato!$A$4:$I$218,7,0),\"\")","v":""},null,""]
[null,null,null,{"$f":"IF(C4774=\"\",\"\",VLOOKUP(C4774,Tabla_Regional[],3,0))","v":""},null,{"$f":"IF(E4774<>\"\",VLOOKUP(CONCATENATE(C4774,E4774),Dato!$A$4:$I$218,7,0),\"\")","v":""},null,""]
[null,null,null,{"$f":"IF(C4775=\"\",\"\",VLOOKUP(C4775,Tabla_Regional[],3,0))","v":""},null,{"$f":"IF(E4775<>\"\",VLOOKUP(CONCATENATE(C4775,E4775),Dato!$A$4:$I$218,7,0),\"\")","v":""},null,""]
[null,null,null,{"$f":"IF(C4776=\"\",\"\",VLOOKUP(C4776,Tabla_Regional[],3,0))","v":""},null,{"$f":"IF(E4776<>\"\",VLOOKUP(CONCATENATE(C4776,E4776),Dato!$A$4:$I$218,7,0),\"\")","v":""},null,""]
[null,null,null,{"$f":"IF(C4777=\"\",\"\",VLOOKUP(C4777,Tabla_Regional[],3,0))","v":""},null,{"$f":"IF(E4777<>\"\",VLOOKUP(CONCATENATE(C4777,E4777),Dato!$A$4:$I$218,7,0),\"\")","v":""},null,""]
[null,null,null,{"$f":"IF(C4778=\"\",\"\",VLOOKUP(C4778,Tabla_Regional[],3,0))","v":""},null,{"$f":"IF(E4778<>\"\",VLOOKUP(CONCATENATE(C4778,E4778),Dato!$A$4:$I$218,7,0),\"\")","v":""},null,""]
[null,null,null,{"$f":"IF(C4779=\"\",\"\",VLOOKUP(C4779,Tabla_Regional[],3,0))","v":""},null,{"$f":"IF(E4779<>\"\",VLOOKUP(CONCATENATE(C4779,E4779),Dato!$A$4:$I$218,7,0),\"\")","v":""},null,""]
[null,null,null,{"$f":"IF(C4780=\"\",\"\",VLOOKUP(C4780,Tabla_Regional[],3,0))","v":""},null,{"$f":"IF(E4780<>\"\",VLOOKUP(CONCATENATE(C4780,E4780),Dato!$A$4:$I$218,7,0),\"\")","v":""},null,""]
[null,null,null,{"$f":"IF(C4781=\"\",\"\",VLOOKUP(C4781,Tabla_Regional[],3,0))","v":""},null,{"$f":"IF(E4781<>\"\",VLOOKUP(CONCATENATE(C4781,E4781),Dato!$A$4:$I$218,7,0),\"\")","v":""},null,""]
[null,null,null,{"$f":"IF(C4782=\"\",\"\",VLOOKUP(C4782,Tabla_Regional[],3,0))","v":""},null,{"$f":"IF(E4782<>\"\",VLOOKUP(CONCATENATE(C4782,E4782),Dato!$A$4:$I$218,7,0),\"\")","v":""},null,""]
[null,null,null,{"$f":"IF(C4783=\"\",\"\",VLOOKUP(C4783,Tabla_Regional[],3,0))","v":""},null,{"$f":"IF(E4783<>\"\",VLOOKUP(CONCATENATE(C4783,E4783),Dato!$A$4:$I$218,7,0),\"\")","v":""},null,""]
[null,null,null,{"$f":"IF(C4784=\"\",\"\",VLOOKUP(C4784,Tabla_Regional[],3,0))","v":""},null,{"$f":"IF(E4784<>\"\",VLOOKUP(CONCATENATE(C4784,E4784),Dato!$A$4:$I$218,7,0),\"\")","v":""},null,""]
[null,null,null,{"$f":"IF(C4785=\"\",\"\",VLOOKUP(C4785,Tabla_Regional[],3,0))","v":""},null,{"$f":"IF(E4785<>\"\",VLOOKUP(CONCATENATE(C4785,E4785),Dato!$A$4:$I$218,7,0),\"\")","v":""},null,""]
[null,null,null,{"$f":"IF(C4786=\"\",\"\",VLOOKUP(C4786,Tabla_Regional[],3,0))","v":""},null,{"$f":"IF(E4786<>\"\",VLOOKUP(CONCATENATE(C4786,E4786),Dato!$A$4:$I$218,7,0),\"\")","v":""},null,""]
[null,null,null,{"$f":"IF(C4787=\"\",\"\",VLOOKUP(C4787,Tabla_Regional[],3,0))","v":""},null,{"$f":"IF(E4787<>\"\",VLOOKUP(CONCATENATE(C4787,E4787),Dato!$A$4:$I$218,7,0),\"\")","v":""},null,""]
[null,null,null,{"$f":"IF(C4788=\"\",\"\",VLOOKUP(C4788,Tabla_Regional[],3,0))","v":""},null,{"$f":"IF(E4788<>\"\",VLOOKUP(CONCATENATE(C4788,E4788),Dato!$A$4:$I$218,7,0),\"\")","v":""},null,""]
[null,null,null,{"$f":"IF(C4789=\"\",\"\",VLOOKUP(C4789,Tabla_Regional[],3,0))","v":""},null,{"$f":"IF(E4789<>\"\",VLOOKUP(CONCATENATE(C4789,E4789),Dato!$A$4:$I$218,7,0),\"\")","v":""},null,""]
[null,null,null,{"$f":"IF(C4790=\"\",\"\",VLOOKUP(C4790,Tabla_Regional[],3,0))","v":""},null,{"$f":"IF(E4790<>\"\",VLOOKUP(CONCATENATE(C4790,E4790),Dato!$A$4:$I$218,7,0),\"\")","v":""},null,""]
[null,null,null,{"$f":"IF(C4791=\"\",\"\",VLOOKUP(C4791,Tabla_Regional[],3,0))","v":""},null,{"$f":"IF(E4791<>\"\",VLOOKUP(CONCATENATE(C4791,E4791),Dato!$A$4:$I$218,7,0),\"\")","v":""},null,""]
[null,null,null,{"$f":"IF(C4792=\"\",\"\",VLOOKUP(C4792,Tabla_Regional[],3,0))","v":""},null,{"$f":"IF(E4792<>\"\",VLOOKUP(CONCATENATE(C4792,E4792),Dato!$A$4:$I$218,7,0),\"\")","v":""},null,""]
[null,null,null,{"$f":"IF(C4793=\"\",\"\",VLOOKUP(C4793,Tabla_Regional[],3,0))","v":""},null,{"$f":"IF(E4793<>\"\",VLOOKUP(CONCATENATE(C4793,E4793),Dato!$A$4:$I$218,7,0),\"\")","v":""},null,""]
[null,null,null,{"$f":"IF(C4794=\"\",\"\",VLOOKUP(C4794,Tabla_Regional[],3,0))","v":""},null,{"$f":"IF(E4794<>\"\",VLOOKUP(CONCATENATE(C4794,E4794),Dato!$A$4:$I$218,7,0),\"\")","v":""},null,""]
[null,null,null,{"$f":"IF(C4795=\"\",\"\",VLOOKUP(C4795,Tabla_Regional[],3,0))","v":""},null,{"$f":"IF(E4795<>\"\",VLOOKUP(CONCATENATE(C4795,E4795),Dato!$A$4:$I$218,7,0),\"\")","v":""},null,""]
[null,null,null,{"$f":"IF(C4796=\"\",\"\",VLOOKUP(C4796,Tabla_Regional[],3,0))","v":""},null,{"$f":"IF(E4796<>\"\",VLOOKUP(CONCATENATE(C4796,E4796),Dato!$A$4:$I$218,7,0),\"\")","v":""},null,""]
[null,null,null,{"$f":"IF(C4797=\"\",\"\",VLOOKUP(C4797,Tabla_Regional[],3,0))","v":""},null,{"$f":"IF(E4797<>\"\",VLOOKUP(CONCATENATE(C4797,E4797),Dato!$A$4:$I$218,7,0),\"\")","v":""},null,""]
[null,null,null,{"$f":"IF(C4798=\"\",\"\",VLOOKUP(C4798,Tabla_Regional[],3,0))","v":""},null,{"$f":"IF(E4798<>\"\",VLOOKUP(CONCATENATE(C4798,E4798),Dato!$A$4:$I$218,7,0),\"\")","v":""},null,""]
[null,null,null,{"$f":"IF(C4799=\"\",\"\",VLOOKUP(C4799,Tabla_Regional[],3,0))","v":""},null,{"$f":"IF(E4799<>\"\",VLOOKUP(CONCATENATE(C4799,E4799),Dato!$A$4:$I$218,7,0),\"\")","v":""},null,""]
[null,null,null,{"$f":"IF(C4800=\"\",\"\",VLOOKUP(C4800,Tabla_Regional[],3,0))","v":""},null,{"$f":"IF(E4800<>\"\",VLOOKUP(CONCATENATE(C4800,E4800),Dato!$A$4:$I$218,7,0),\"\")","v":""},null,""]
[null,null,null,{"$f":"IF(C4801=\"\",\"\",VLOOKUP(C4801,Tabla_Regional[],3,0))","v":""},null,{"$f":"IF(E4801<>\"\",VLOOKUP(CONCATENATE(C4801,E4801),Dato!$A$4:$I$218,7,0),\"\")","v":""},null,""]
[null,null,null,{"$f":"IF(C4802=\"\",\"\",VLOOKUP(C4802,Tabla_Regional[],3,0))","v":""},null,{"$f":"IF(E4802<>\"\",VLOOKUP(CONCATENATE(C4802,E4802),Dato!$A$4:$I$218,7,0),\"\")","v":""},null,""]
[null,null,null,{"$f":"IF(C4803=\"\",\"\",VLOOKUP(C4803,Tabla_Regional[],3,0))","v":""},null,{"$f":"IF(E4803<>\"\",VLOOKUP(CONCATENATE(C4803,E4803),Dato!$A$4:$I$218,7,0),\"\")","v":""},null,""]
[null,null,null,{"$f":"IF(C4804=\"\",\"\",VLOOKUP(C4804,Tabla_Regional[],3,0))","v":""},null,{"$f":"IF(E4804<>\"\",VLOOKUP(CONCATENATE(C4804,E4804),Dato!$A$4:$I$218,7,0),\"\")","v":""},null,""]
[null,null,null,{"$f":"IF(C4805=\"\",\"\",VLOOKUP(C4805,Tabla_Regional[],3,0))","v":""},null,{"$f":"IF(E4805<>\"\",VLOOKUP(CONCATENATE(C4805,E4805),Dato!$A$4:$I$218,7,0),\"\")","v":""},null,""]
[null,null,null,{"$f":"IF(C4806=\"\",\"\",VLOOKUP(C4806,Tabla_Regional[],3,0))","v":""},null,{"$f":"IF(E4806<>\"\",VLOOKUP(CONCATENATE(C4806,E4806),Dato!$A$4:$I$218,7,0),\"\")","v":""},null,""]
[null,null,null,{"$f":"IF(C4807=\"\",\"\",VLOOKUP(C4807,Tabla_Regional[],3,0))","v":""},null,{"$f":"IF(E4807<>\"\",VLOOKUP(CONCATENATE(C4807,E4807),Dato!$A$4:$I$218,7,0),\"\")","v":""},null,""]
[null,null,null,{"$f":"IF(C4808=\"\",\"\",VLOOKUP(C4808,Tabla_Regional[],3,0))","v":""},null,{"$f":"IF(E4808<>\"\",VLOOKUP(CONCATENATE(C4808,E4808),Dato!$A$4:$I$218,7,0),\"\")","v":""},null,""]
[null,null,null,{"$f":"IF(C4809=\"\",\"\",VLOOKUP(C4809,Tabla_Regional[],3,0))","v":""},null,{"$f":"IF(E4809<>\"\",VLOOKUP(CONCATENATE(C4809,E4809),Dato!$A$4:$I$218,7,0),\"\")","v":""},null,""]
[null,null,null,{"$f":"IF(C4810=\"\",\"\",VLOOKUP(C4810,Tabla_Regional[],3,0))","v":""},null,{"$f":"IF(E4810<>\"\",VLOOKUP(CONCATENATE(C4810,E4810),Dato!$A$4:$I$218,7,0),\"\")","v":""},null,""]
[null,null,null,{"$f":"IF(C4811=\"\",\"\",VLOOKUP(C4811,Tabla_Regional[],3,0))","v":""},null,{"$f":"IF(E4811<>\"\",VLOOKUP(CONCATENATE(C4811,E4811),Dato!$A$4:$I$218,7,0),\"\")","v":""},null,""]
[null,null,null,{"$f":"IF(C4812=\"\",\"\",VLOOKUP(C4812,Tabla_Regional[],3,0))","v":""},null,{"$f":"IF(E4812<>\"\",VLOOKUP(CONCATENATE(C4812,E4812),Dato!$A$4:$I$218,7,0),\"\")","v":""},null,{"$f":"IF(G4812<>\"\",VLOOKUP(CONCATENATE(C4812,E4812,G4812),czmuni,7,0),\"\")","v":""}]
[null,null,null,{"$f":"IF(C4813=\"\",\"\",VLOOKUP(C4813,Tabla_Regional[],3,0))","v":""},null,{"$f":"IF(E4813<>\"\",VLOOKUP(CONCATENATE(C4813,E4813),Dato!$A$4:$I$218,7,0),\"\")","v":""},null,""]
[null,null,null,{"$f":"IF(C4814=\"\",\"\",VLOOKUP(C4814,Tabla_Regional[],3,0))","v":""},null,{"$f":"IF(E4814<>\"\",VLOOKUP(CONCATENATE(C4814,E4814),Dato!$A$4:$I$218,7,0),\"\")","v":""},null,""]
[null,null,null,{"$f":"IF(C4815=\"\",\"\",VLOOKUP(C4815,Tabla_Regional[],3,0))","v":""},null,{"$f":"IF(E4815<>\"\",VLOOKUP(CONCATENATE(C4815,E4815),Dato!$A$4:$I$218,7,0),\"\")","v":""},null,""]
[null,null,null,{"$f":"IF(C4816=\"\",\"\",VLOOKUP(C4816,Tabla_Regional[],3,0))","v":""},null,{"$f":"IF(E4816<>\"\",VLOOKUP(CONCATENATE(C4816,E4816),Dato!$A$4:$I$218,7,0),\"\")","v":""},null,""]
[null,null,null,{"$f":"IF(C4817=\"\",\"\",VLOOKUP(C4817,Tabla_Regional[],3,0))","v":""},null,{"$f":"IF(E4817<>\"\",VLOOKUP(CONCATENATE(C4817,E4817),Dato!$A$4:$I$218,7,0),\"\")","v":""},null,""]
[null,null,null,{"$f":"IF(C4818=\"\",\"\",VLOOKUP(C4818,Tabla_Regional[],3,0))","v":""},null,{"$f":"IF(E4818<>\"\",VLOOKUP(CONCATENATE(C4818,E4818),Dato!$A$4:$I$218,7,0),\"\")","v":""},null,""]
[null,null,null,{"$f":"IF(C4819=\"\",\"\",VLOOKUP(C4819,Tabla_Regional[],3,0))","v":""},null,{"$f":"IF(E4819<>\"\",VLOOKUP(CONCATENATE(C4819,E4819),Dato!$A$4:$I$218,7,0),\"\")","v":""},null,""]
[null,null,null,{"$f":"IF(C4820=\"\",\"\",VLOOKUP(C4820,Tabla_Regional[],3,0))","v":""},null,{"$f":"IF(E4820<>\"\",VLOOKUP(CONCATENATE(C4820,E4820),Dato!$A$4:$I$218,7,0),\"\")","v":""},null,""]
[null,null,null,{"$f":"IF(C4821=\"\",\"\",VLOOKUP(C4821,Tabla_Regional[],3,0))","v":""},null,{"$f":"IF(E4821<>\"\",VLOOKUP(CONCATENATE(C4821,E4821),Dato!$A$4:$I$218,7,0),\"\")","v":""},null,""]
[null,null,null,{"$f":"IF(C4822=\"\",\"\",VLOOKUP(C4822,Tabla_Regional[],3,0))","v":""},null,{"$f":"IF(E4822<>\"\",VLOOKUP(CONCATENATE(C4822,E4822),Dato!$A$4:$I$218,7,0),\"\")","v":""},null,""]
[null,null,null,{"$f":"IF(C4823=\"\",\"\",VLOOKUP(C4823,Tabla_Regional[],3,0))","v":""},null,{"$f":"IF(E4823<>\"\",VLOOKUP(CONCATENATE(C4823,E4823),Dato!$A$4:$I$218,7,0),\"\")","v":""},null,""]
[null,null,null,{"$f":"IF(C4824=\"\",\"\",VLOOKUP(C4824,Tabla_Regional[],3,0))","v":""},null,{"$f":"IF(E4824<>\"\",VLOOKUP(CONCATENATE(C4824,E4824),Dato!$A$4:$I$218,7,0),\"\")","v":""},null,""]
[null,null,null,{"$f":"IF(C4825=\"\",\"\",VLOOKUP(C4825,Tabla_Regional[],3,0))","v":""},null,{"$f":"IF(E4825<>\"\",VLOOKUP(CONCATENATE(C4825,E4825),Dato!$A$4:$I$218,7,0),\"\")","v":""},null,""]
[null,null,null,{"$f":"IF(C4826=\"\",\"\",VLOOKUP(C4826,Tabla_Regional[],3,0))","v":""},null,{"$f":"IF(E4826<>\"\",VLOOKUP(CONCATENATE(C4826,E4826),Dato!$A$4:$I$218,7,0),\"\")","v":""},null,""]
[null,null,null,{"$f":"IF(C4827=\"\",\"\",VLOOKUP(C4827,Tabla_Regional[],3,0))","v":""},null,{"$f":"IF(E4827<>\"\",VLOOKUP(CONCATENATE(C4827,E4827),Dato!$A$4:$I$218,7,0),\"\")","v":""},null,""]
[null,null,null,{"$f":"IF(C4828=\"\",\"\",VLOOKUP(C4828,Tabla_Regional[],3,0))","v":""},null,{"$f":"IF(E4828<>\"\",VLOOKUP(CONCATENATE(C4828,E4828),Dato!$A$4:$I$218,7,0),\"\")","v":""},null,""]
[null,null,null,{"$f":"IF(C4829=\"\",\"\",VLOOKUP(C4829,Tabla_Regional[],3,0))","v":""},null,{"$f":"IF(E4829<>\"\",VLOOKUP(CONCATENATE(C4829,E4829),Dato!$A$4:$I$218,7,0),\"\")","v":""},null,""]
[null,null,null,{"$f":"IF(C4830=\"\",\"\",VLOOKUP(C4830,Tabla_Regional[],3,0))","v":""},null,{"$f":"IF(E4830<>\"\",VLOOKUP(CONCATENATE(C4830,E4830),Dato!$A$4:$I$218,7,0),\"\")","v":""},null,""]
[null,null,null,{"$f":"IF(C4831=\"\",\"\",VLOOKUP(C4831,Tabla_Regional[],3,0))","v":""},null,{"$f":"IF(E4831<>\"\",VLOOKUP(CONCATENATE(C4831,E4831),Dato!$A$4:$I$218,7,0),\"\")","v":""},null,""]
[null,null,null,{"$f":"IF(C4832=\"\",\"\",VLOOKUP(C4832,Tabla_Regional[],3,0))","v":""},null,{"$f":"IF(E4832<>\"\",VLOOKUP(CONCATENATE(C4832,E4832),Dato!$A$4:$I$218,7,0),\"\")","v":""},null,""]
[null,null,null,{"$f":"IF(C4833=\"\",\"\",VLOOKUP(C4833,Tabla_Regional[],3,0))","v":""},null,{"$f":"IF(E4833<>\"\",VLOOKUP(CONCATENATE(C4833,E4833),Dato!$A$4:$I$218,7,0),\"\")","v":""},null,""]
[null,null,null,{"$f":"IF(C4834=\"\",\"\",VLOOKUP(C4834,Tabla_Regional[],3,0))","v":""},null,{"$f":"IF(E4834<>\"\",VLOOKUP(CONCATENATE(C4834,E4834),Dato!$A$4:$I$218,7,0),\"\")","v":""},null,""]
[null,null,null,{"$f":"IF(C4835=\"\",\"\",VLOOKUP(C4835,Tabla_Regional[],3,0))","v":""},null,{"$f":"IF(E4835<>\"\",VLOOKUP(CONCATENATE(C4835,E4835),Dato!$A$4:$I$218,7,0),\"\")","v":""},null,""]
[null,null,null,{"$f":"IF(C4836=\"\",\"\",VLOOKUP(C4836,Tabla_Regional[],3,0))","v":""},null,{"$f":"IF(E4836<>\"\",VLOOKUP(CONCATENATE(C4836,E4836),Dato!$A$4:$I$218,7,0),\"\")","v":""},null,""]
[null,null,null,{"$f":"IF(C4837=\"\",\"\",VLOOKUP(C4837,Tabla_Regional[],3,0))","v":""},null,{"$f":"IF(E4837<>\"\",VLOOKUP(CONCATENATE(C4837,E4837),Dato!$A$4:$I$218,7,0),\"\")","v":""},null,""]
[null,null,null,{"$f":"IF(C4838=\"\",\"\",VLOOKUP(C4838,Tabla_Regional[],3,0))","v":""},null,{"$f":"IF(E4838<>\"\",VLOOKUP(CONCATENATE(C4838,E4838),Dato!$A$4:$I$218,7,0),\"\")","v":""},null,""]
[null,null,null,{"$f":"IF(C4839=\"\",\"\",VLOOKUP(C4839,Tabla_Regional[],3,0))","v":""},null,{"$f":"IF(E4839<>\"\",VLOOKUP(CONCATENATE(C4839,E4839),Dato!$A$4:$I$218,7,0),\"\")","v":""},null,""]
[null,null,null,{"$f":"IF(C4840=\"\",\"\",VLOOKUP(C4840,Tabla_Regional[],3,0))","v":""},null,{"$f":"IF(E4840<>\"\",VLOOKUP(CONCATENATE(C4840,E4840),Dato!$A$4:$I$218,7,0),\"\")","v":""},null,""]
[null,null,null,{"$f":"IF(C4841=\"\",\"\",VLOOKUP(C4841,Tabla_Regional[],3,0))","v":""},null,{"$f":"IF(E4841<>\"\",VLOOKUP(CONCATENATE(C4841,E4841),Dato!$A$4:$I$218,7,0),\"\")","v":""},null,""]
[null,null,null,{"$f":"IF(C4842=\"\",\"\",VLOOKUP(C4842,Tabla_Regional[],3,0))","v":""},null,{"$f":"IF(E4842<>\"\",VLOOKUP(CONCATENATE(C4842,E4842),Dato!$A$4:$I$218,7,0),\"\")","v":""},null,""]
[null,null,null,{"$f":"IF(C4843=\"\",\"\",VLOOKUP(C4843,Tabla_Regional[],3,0))","v":""},null,{"$f":"IF(E4843<>\"\",VLOOKUP(CONCATENATE(C4843,E4843),Dato!$A$4:$I$218,7,0),\"\")","v":""},null,""]
[null,null,null,{"$f":"IF(C4844=\"\",\"\",VLOOKUP(C4844,Tabla_Regional[],3,0))","v":""},null,{"$f":"IF(E4844<>\"\",VLOOKUP(CONCATENATE(C4844,E4844),Dato!$A$4:$I$218,7,0),\"\")","v":""},null,""]
[null,null,null,{"$f":"IF(C4845=\"\",\"\",VLOOKUP(C4845,Tabla_Regional[],3,0))","v":""},null,{"$f":"IF(E4845<>\"\",VLOOKUP(CONCATENATE(C4845,E4845),Dato!$A$4:$I$218,7,0),\"\")","v":""},null,""]
[null,null,null,{"$f":"IF(C4846=\"\",\"\",VLOOKUP(C4846,Tabla_Regional[],3,0))","v":""},null,{"$f":"IF(E4846<>\"\",VLOOKUP(CONCATENATE(C4846,E4846),Dato!$A$4:$I$218,7,0),\"\")","v":""},null,""]
[null,null,null,{"$f":"IF(C4847=\"\",\"\",VLOOKUP(C4847,Tabla_Regional[],3,0))","v":""},null,{"$f":"IF(E4847<>\"\",VLOOKUP(CONCATENATE(C4847,E4847),Dato!$A$4:$I$218,7,0),\"\")","v":""},null,""]
[null,null,null,{"$f":"IF(C4848=\"\",\"\",VLOOKUP(C4848,Tabla_Regional[],3,0))","v":""},null,{"$f":"IF(E4848<>\"\",VLOOKUP(CONCATENATE(C4848,E4848),Dato!$A$4:$I$218,7,0),\"\")","v":""},null,""]
[null,null,null,{"$f":"IF(C4849=\"\",\"\",VLOOKUP(C4849,Tabla_Regional[],3,0))","v":""},null,{"$f":"IF(E4849<>\"\",VLOOKUP(CONCATENATE(C4849,E4849),Dato!$A$4:$I$218,7,0),\"\")","v":""},null,""]
[null,null,null,{"$f":"IF(C4850=\"\",\"\",VLOOKUP(C4850,Tabla_Regional[],3,0))","v":""},null,{"$f":"IF(E4850<>\"\",VLOOKUP(CONCATENATE(C4850,E4850),Dato!$A$4:$I$218,7,0),\"\")","v":""},null,""]
[null,null,null,{"$f":"IF(C4851=\"\",\"\",VLOOKUP(C4851,Tabla_Regional[],3,0))","v":""},null,{"$f":"IF(E4851<>\"\",VLOOKUP(CONCATENATE(C4851,E4851),Dato!$A$4:$I$218,7,0),\"\")","v":""},null,""]
[null,null,null,{"$f":"IF(C4852=\"\",\"\",VLOOKUP(C4852,Tabla_Regional[],3,0))","v":""},null,{"$f":"IF(E4852<>\"\",VLOOKUP(CONCATENATE(C4852,E4852),Dato!$A$4:$I$218,7,0),\"\")","v":""},null,""]
[null,null,null,{"$f":"IF(C4853=\"\",\"\",VLOOKUP(C4853,Tabla_Regional[],3,0))","v":""},null,{"$f":"IF(E4853<>\"\",VLOOKUP(CONCATENATE(C4853,E4853),Dato!$A$4:$I$218,7,0),\"\")","v":""},null,""]
[null,null,null,{"$f":"IF(C4854=\"\",\"\",VLOOKUP(C4854,Tabla_Regional[],3,0))","v":""},null,{"$f":"IF(E4854<>\"\",VLOOKUP(CONCATENATE(C4854,E4854),Dato!$A$4:$I$218,7,0),\"\")","v":""},null,""]
[null,null,null,{"$f":"IF(C4855=\"\",\"\",VLOOKUP(C4855,Tabla_Regional[],3,0))","v":""},null,{"$f":"IF(E4855<>\"\",VLOOKUP(CONCATENATE(C4855,E4855),Dato!$A$4:$I$218,7,0),\"\")","v":""},null,""]
[null,null,null,{"$f":"IF(C4856=\"\",\"\",VLOOKUP(C4856,Tabla_Regional[],3,0))","v":""},null,{"$f":"IF(E4856<>\"\",VLOOKUP(CONCATENATE(C4856,E4856),Dato!$A$4:$I$218,7,0),\"\")","v":""},null,""]
[null,null,null,{"$f":"IF(C4857=\"\",\"\",VLOOKUP(C4857,Tabla_Regional[],3,0))","v":""},null,{"$f":"IF(E4857<>\"\",VLOOKUP(CONCATENATE(C4857,E4857),Dato!$A$4:$I$218,7,0),\"\")","v":""},null,""]
[null,null,null,{"$f":"IF(C4858=\"\",\"\",VLOOKUP(C4858,Tabla_Regional[],3,0))","v":""},null,{"$f":"IF(E4858<>\"\",VLOOKUP(CONCATENATE(C4858,E4858),Dato!$A$4:$I$218,7,0),\"\")","v":""},null,""]
[null,null,null,{"$f":"IF(C4859=\"\",\"\",VLOOKUP(C4859,Tabla_Regional[],3,0))","v":""},null,{"$f":"IF(E4859<>\"\",VLOOKUP(CONCATENATE(C4859,E4859),Dato!$A$4:$I$218,7,0),\"\")","v":""},null,""]
[null,null,null,{"$f":"IF(C4860=\"\",\"\",VLOOKUP(C4860,Tabla_Regional[],3,0))","v":""},null,{"$f":"IF(E4860<>\"\",VLOOKUP(CONCATENATE(C4860,E4860),Dato!$A$4:$I$218,7,0),\"\")","v":""},null,""]
[null,null,null,{"$f":"IF(C4861=\"\",\"\",VLOOKUP(C4861,Tabla_Regional[],3,0))","v":""},null,{"$f":"IF(E4861<>\"\",VLOOKUP(CONCATENATE(C4861,E4861),Dato!$A$4:$I$218,7,0),\"\")","v":""},null,""]
[null,null,null,{"$f":"IF(C4862=\"\",\"\",VLOOKUP(C4862,Tabla_Regional[],3,0))","v":""},null,{"$f":"IF(E4862<>\"\",VLOOKUP(CONCATENATE(C4862,E4862),Dato!$A$4:$I$218,7,0),\"\")","v":""},null,""]
[null,null,null,{"$f":"IF(C4863=\"\",\"\",VLOOKUP(C4863,Tabla_Regional[],3,0))","v":""},null,{"$f":"IF(E4863<>\"\",VLOOKUP(CONCATENATE(C4863,E4863),Dato!$A$4:$I$218,7,0),\"\")","v":""},null,""]
[null,null,null,{"$f":"IF(C4864=\"\",\"\",VLOOKUP(C4864,Tabla_Regional[],3,0))","v":""},null,{"$f":"IF(E4864<>\"\",VLOOKUP(CONCATENATE(C4864,E4864),Dato!$A$4:$I$218,7,0),\"\")","v":""},null,""]
[null,null,null,{"$f":"IF(C4865=\"\",\"\",VLOOKUP(C4865,Tabla_Regional[],3,0))","v":""},null,{"$f":"IF(E4865<>\"\",VLOOKUP(CONCATENATE(C4865,E4865),Dato!$A$4:$I$218,7,0),\"\")","v":""},null,""]
[null,null,null,{"$f":"IF(C4866=\"\",\"\",VLOOKUP(C4866,Tabla_Regional[],3,0))","v":""},null,{"$f":"IF(E4866<>\"\",VLOOKUP(CONCATENATE(C4866,E4866),Dato!$A$4:$I$218,7,0),\"\")","v":""},null,""]
[null,null,null,{"$f":"IF(C4867=\"\",\"\",VLOOKUP(C4867,Tabla_Regional[],3,0))","v":""},null,{"$f":"IF(E4867<>\"\",VLOOKUP(CONCATENATE(C4867,E4867),Dato!$A$4:$I$218,7,0),\"\")","v":""},null,""]
[null,null,null,{"$f":"IF(C4868=\"\",\"\",VLOOKUP(C4868,Tabla_Regional[],3,0))","v":""},null,{"$f":"IF(E4868<>\"\",VLOOKUP(CONCATENATE(C4868,E4868),Dato!$A$4:$I$218,7,0),\"\")","v":""},null,""]
[null,null,null,{"$f":"IF(C4869=\"\",\"\",VLOOKUP(C4869,Tabla_Regional[],3,0))","v":""},null,{"$f":"IF(E4869<>\"\",VLOOKUP(CONCATENATE(C4869,E4869),Dato!$A$4:$I$218,7,0),\"\")","v":""},null,""]
[null,null,null,{"$f":"IF(C4870=\"\",\"\",VLOOKUP(C4870,Tabla_Regional[],3,0))","v":""},null,{"$f":"IF(E4870<>\"\",VLOOKUP(CONCATENATE(C4870,E4870),Dato!$A$4:$I$218,7,0),\"\")","v":""},null,""]
[null,null,null,{"$f":"IF(C4871=\"\",\"\",VLOOKUP(C4871,Tabla_Regional[],3,0))","v":""},null,{"$f":"IF(E4871<>\"\",VLOOKUP(CONCATENATE(C4871,E4871),Dato!$A$4:$I$218,7,0),\"\")","v":""},null,""]
[null,null,null,{"$f":"IF(C4872=\"\",\"\",VLOOKUP(C4872,Tabla_Regional[],3,0))","v":""},null,{"$f":"IF(E4872<>\"\",VLOOKUP(CONCATENATE(C4872,E4872),Dato!$A$4:$I$218,7,0),\"\")","v":""},null,""]
[null,null,null,{"$f":"IF(C4873=\"\",\"\",VLOOKUP(C4873,Tabla_Regional[],3,0))","v":""},null,{"$f":"IF(E4873<>\"\",VLOOKUP(CONCATENATE(C4873,E4873),Dato!$A$4:$I$218,7,0),\"\")","v":""},null,""]
[null,null,null,{"$f":"IF(C4874=\"\",\"\",VLOOKUP(C4874,Tabla_Regional[],3,0))","v":""},null,{"$f":"IF(E4874<>\"\",VLOOKUP(CONCATENATE(C4874,E4874),Dato!$A$4:$I$218,7,0),\"\")","v":""},null,""]
[null,null,null,{"$f":"IF(C4875=\"\",\"\",VLOOKUP(C4875,Tabla_Regional[],3,0))","v":""},null,{"$f":"IF(E4875<>\"\",VLOOKUP(CONCATENATE(C4875,E4875),Dato!$A$4:$I$218,7,0),\"\")","v":""},null,""]
[null,null,null,{"$f":"IF(C4876=\"\",\"\",VLOOKUP(C4876,Tabla_Regional[],3,0))","v":""},null,{"$f":"IF(E4876<>\"\",VLOOKUP(CONCATENATE(C4876,E4876),Dato!$A$4:$I$218,7,0),\"\")","v":""},null,{"$f":"IF(G4876<>\"\",VLOOKUP(CONCATENATE(C4876,E4876,G4876),czmuni,7,0),\"\")","v":""}]
[null,null,null,{"$f":"IF(C4877=\"\",\"\",VLOOKUP(C4877,Tabla_Regional[],3,0))","v":""},null,{"$f":"IF(E4877<>\"\",VLOOKUP(CONCATENATE(C4877,E4877),Dato!$A$4:$I$218,7,0),\"\")","v":""},null,""]
[null,null,null,{"$f":"IF(C4878=\"\",\"\",VLOOKUP(C4878,Tabla_Regional[],3,0))","v":""},null,{"$f":"IF(E4878<>\"\",VLOOKUP(CONCATENATE(C4878,E4878),Dato!$A$4:$I$218,7,0),\"\")","v":""},null,""]
[null,null,null,{"$f":"IF(C4879=\"\",\"\",VLOOKUP(C4879,Tabla_Regional[],3,0))","v":""},null,{"$f":"IF(E4879<>\"\",VLOOKUP(CONCATENATE(C4879,E4879),Dato!$A$4:$I$218,7,0),\"\")","v":""},null,""]
[null,null,null,{"$f":"IF(C4880=\"\",\"\",VLOOKUP(C4880,Tabla_Regional[],3,0))","v":""},null,{"$f":"IF(E4880<>\"\",VLOOKUP(CONCATENATE(C4880,E4880),Dato!$A$4:$I$218,7,0),\"\")","v":""},null,""]
[null,null,null,{"$f":"IF(C4881=\"\",\"\",VLOOKUP(C4881,Tabla_Regional[],3,0))","v":""},null,{"$f":"IF(E4881<>\"\",VLOOKUP(CONCATENATE(C4881,E4881),Dato!$A$4:$I$218,7,0),\"\")","v":""},null,""]
[null,null,null,{"$f":"IF(C4882=\"\",\"\",VLOOKUP(C4882,Tabla_Regional[],3,0))","v":""},null,{"$f":"IF(E4882<>\"\",VLOOKUP(CONCATENATE(C4882,E4882),Dato!$A$4:$I$218,7,0),\"\")","v":""},null,""]
[null,null,null,{"$f":"IF(C4883=\"\",\"\",VLOOKUP(C4883,Tabla_Regional[],3,0))","v":""},null,{"$f":"IF(E4883<>\"\",VLOOKUP(CONCATENATE(C4883,E4883),Dato!$A$4:$I$218,7,0),\"\")","v":""},null,""]
[null,null,null,{"$f":"IF(C4884=\"\",\"\",VLOOKUP(C4884,Tabla_Regional[],3,0))","v":""},null,{"$f":"IF(E4884<>\"\",VLOOKUP(CONCATENATE(C4884,E4884),Dato!$A$4:$I$218,7,0),\"\")","v":""},null,""]
[null,null,null,{"$f":"IF(C4885=\"\",\"\",VLOOKUP(C4885,Tabla_Regional[],3,0))","v":""},null,{"$f":"IF(E4885<>\"\",VLOOKUP(CONCATENATE(C4885,E4885),Dato!$A$4:$I$218,7,0),\"\")","v":""},null,""]
[null,null,null,{"$f":"IF(C4886=\"\",\"\",VLOOKUP(C4886,Tabla_Regional[],3,0))","v":""},null,{"$f":"IF(E4886<>\"\",VLOOKUP(CONCATENATE(C4886,E4886),Dato!$A$4:$I$218,7,0),\"\")","v":""},null,""]
[null,null,null,{"$f":"IF(C4887=\"\",\"\",VLOOKUP(C4887,Tabla_Regional[],3,0))","v":""},null,{"$f":"IF(E4887<>\"\",VLOOKUP(CONCATENATE(C4887,E4887),Dato!$A$4:$I$218,7,0),\"\")","v":""},null,""]
[null,null,null,{"$f":"IF(C4888=\"\",\"\",VLOOKUP(C4888,Tabla_Regional[],3,0))","v":""},null,{"$f":"IF(E4888<>\"\",VLOOKUP(CONCATENATE(C4888,E4888),Dato!$A$4:$I$218,7,0),\"\")","v":""},null,""]
[null,null,null,{"$f":"IF(C4889=\"\",\"\",VLOOKUP(C4889,Tabla_Regional[],3,0))","v":""},null,{"$f":"IF(E4889<>\"\",VLOOKUP(CONCATENATE(C4889,E4889),Dato!$A$4:$I$218,7,0),\"\")","v":""},null,""]
[null,null,null,{"$f":"IF(C4890=\"\",\"\",VLOOKUP(C4890,Tabla_Regional[],3,0))","v":""},null,{"$f":"IF(E4890<>\"\",VLOOKUP(CONCATENATE(C4890,E4890),Dato!$A$4:$I$218,7,0),\"\")","v":""},null,""]
[null,null,null,{"$f":"IF(C4891=\"\",\"\",VLOOKUP(C4891,Tabla_Regional[],3,0))","v":""},null,{"$f":"IF(E4891<>\"\",VLOOKUP(CONCATENATE(C4891,E4891),Dato!$A$4:$I$218,7,0),\"\")","v":""},null,""]
[null,null,null,{"$f":"IF(C4892=\"\",\"\",VLOOKUP(C4892,Tabla_Regional[],3,0))","v":""},null,{"$f":"IF(E4892<>\"\",VLOOKUP(CONCATENATE(C4892,E4892),Dato!$A$4:$I$218,7,0),\"\")","v":""},null,""]
[null,null,null,{"$f":"IF(C4893=\"\",\"\",VLOOKUP(C4893,Tabla_Regional[],3,0))","v":""},null,{"$f":"IF(E4893<>\"\",VLOOKUP(CONCATENATE(C4893,E4893),Dato!$A$4:$I$218,7,0),\"\")","v":""},null,""]
[null,null,null,{"$f":"IF(C4894=\"\",\"\",VLOOKUP(C4894,Tabla_Regional[],3,0))","v":""},null,{"$f":"IF(E4894<>\"\",VLOOKUP(CONCATENATE(C4894,E4894),Dato!$A$4:$I$218,7,0),\"\")","v":""},null,""]
[null,null,null,{"$f":"IF(C4895=\"\",\"\",VLOOKUP(C4895,Tabla_Regional[],3,0))","v":""},null,{"$f":"IF(E4895<>\"\",VLOOKUP(CONCATENATE(C4895,E4895),Dato!$A$4:$I$218,7,0),\"\")","v":""},null,""]
[null,null,null,{"$f":"IF(C4896=\"\",\"\",VLOOKUP(C4896,Tabla_Regional[],3,0))","v":""},null,{"$f":"IF(E4896<>\"\",VLOOKUP(CONCATENATE(C4896,E4896),Dato!$A$4:$I$218,7,0),\"\")","v":""},null,""]
[null,null,null,{"$f":"IF(C4897=\"\",\"\",VLOOKUP(C4897,Tabla_Regional[],3,0))","v":""},null,{"$f":"IF(E4897<>\"\",VLOOKUP(CONCATENATE(C4897,E4897),Dato!$A$4:$I$218,7,0),\"\")","v":""},null,""]
[null,null,null,{"$f":"IF(C4898=\"\",\"\",VLOOKUP(C4898,Tabla_Regional[],3,0))","v":""},null,{"$f":"IF(E4898<>\"\",VLOOKUP(CONCATENATE(C4898,E4898),Dato!$A$4:$I$218,7,0),\"\")","v":""},null,""]
[null,null,null,{"$f":"IF(C4899=\"\",\"\",VLOOKUP(C4899,Tabla_Regional[],3,0))","v":""},null,{"$f":"IF(E4899<>\"\",VLOOKUP(CONCATENATE(C4899,E4899),Dato!$A$4:$I$218,7,0),\"\")","v":""},null,""]
[null,null,null,{"$f":"IF(C4900=\"\",\"\",VLOOKUP(C4900,Tabla_Regional[],3,0))","v":""},null,{"$f":"IF(E4900<>\"\",VLOOKUP(CONCATENATE(C4900,E4900),Dato!$A$4:$I$218,7,0),\"\")","v":""},null,""]
[null,null,null,{"$f":"IF(C4901=\"\",\"\",VLOOKUP(C4901,Tabla_Regional[],3,0))","v":""},null,{"$f":"IF(E4901<>\"\",VLOOKUP(CONCATENATE(C4901,E4901),Dato!$A$4:$I$218,7,0),\"\")","v":""},null,""]
[null,null,null,{"$f":"IF(C4902=\"\",\"\",VLOOKUP(C4902,Tabla_Regional[],3,0))","v":""},null,{"$f":"IF(E4902<>\"\",VLOOKUP(CONCATENATE(C4902,E4902),Dato!$A$4:$I$218,7,0),\"\")","v":""},null,""]
[null,null,null,{"$f":"IF(C4903=\"\",\"\",VLOOKUP(C4903,Tabla_Regional[],3,0))","v":""},null,{"$f":"IF(E4903<>\"\",VLOOKUP(CONCATENATE(C4903,E4903),Dato!$A$4:$I$218,7,0),\"\")","v":""},null,""]
[null,null,null,{"$f":"IF(C4904=\"\",\"\",VLOOKUP(C4904,Tabla_Regional[],3,0))","v":""},null,{"$f":"IF(E4904<>\"\",VLOOKUP(CONCATENATE(C4904,E4904),Dato!$A$4:$I$218,7,0),\"\")","v":""},null,""]
[null,null,null,{"$f":"IF(C4905=\"\",\"\",VLOOKUP(C4905,Tabla_Regional[],3,0))","v":""},null,{"$f":"IF(E4905<>\"\",VLOOKUP(CONCATENATE(C4905,E4905),Dato!$A$4:$I$218,7,0),\"\")","v":""},null,""]
[null,null,null,{"$f":"IF(C4906=\"\",\"\",VLOOKUP(C4906,Tabla_Regional[],3,0))","v":""},null,{"$f":"IF(E4906<>\"\",VLOOKUP(CONCATENATE(C4906,E4906),Dato!$A$4:$I$218,7,0),\"\")","v":""},null,""]
[null,null,null,{"$f":"IF(C4907=\"\",\"\",VLOOKUP(C4907,Tabla_Regional[],3,0))","v":""},null,{"$f":"IF(E4907<>\"\",VLOOKUP(CONCATENATE(C4907,E4907),Dato!$A$4:$I$218,7,0),\"\")","v":""},null,""]
[null,null,null,{"$f":"IF(C4908=\"\",\"\",VLOOKUP(C4908,Tabla_Regional[],3,0))","v":""},null,{"$f":"IF(E4908<>\"\",VLOOKUP(CONCATENATE(C4908,E4908),Dato!$A$4:$I$218,7,0),\"\")","v":""},null,""]
[null,null,null,{"$f":"IF(C4909=\"\",\"\",VLOOKUP(C4909,Tabla_Regional[],3,0))","v":""},null,{"$f":"IF(E4909<>\"\",VLOOKUP(CONCATENATE(C4909,E4909),Dato!$A$4:$I$218,7,0),\"\")","v":""},null,""]
[null,null,null,{"$f":"IF(C4910=\"\",\"\",VLOOKUP(C4910,Tabla_Regional[],3,0))","v":""},null,{"$f":"IF(E4910<>\"\",VLOOKUP(CONCATENATE(C4910,E4910),Dato!$A$4:$I$218,7,0),\"\")","v":""},null,""]
[null,null,null,{"$f":"IF(C4911=\"\",\"\",VLOOKUP(C4911,Tabla_Regional[],3,0))","v":""},null,{"$f":"IF(E4911<>\"\",VLOOKUP(CONCATENATE(C4911,E4911),Dato!$A$4:$I$218,7,0),\"\")","v":""},null,""]
[null,null,null,{"$f":"IF(C4912=\"\",\"\",VLOOKUP(C4912,Tabla_Regional[],3,0))","v":""},null,{"$f":"IF(E4912<>\"\",VLOOKUP(CONCATENATE(C4912,E4912),Dato!$A$4:$I$218,7,0),\"\")","v":""},null,""]
[null,null,null,{"$f":"IF(C4913=\"\",\"\",VLOOKUP(C4913,Tabla_Regional[],3,0))","v":""},null,{"$f":"IF(E4913<>\"\",VLOOKUP(CONCATENATE(C4913,E4913),Dato!$A$4:$I$218,7,0),\"\")","v":""},null,""]
[null,null,null,{"$f":"IF(C4914=\"\",\"\",VLOOKUP(C4914,Tabla_Regional[],3,0))","v":""},null,{"$f":"IF(E4914<>\"\",VLOOKUP(CONCATENATE(C4914,E4914),Dato!$A$4:$I$218,7,0),\"\")","v":""},null,""]
[null,null,null,{"$f":"IF(C4915=\"\",\"\",VLOOKUP(C4915,Tabla_Regional[],3,0))","v":""},null,{"$f":"IF(E4915<>\"\",VLOOKUP(CONCATENATE(C4915,E4915),Dato!$A$4:$I$218,7,0),\"\")","v":""},null,""]
[null,null,null,{"$f":"IF(C4916=\"\",\"\",VLOOKUP(C4916,Tabla_Regional[],3,0))","v":""},null,{"$f":"IF(E4916<>\"\",VLOOKUP(CONCATENATE(C4916,E4916),Dato!$A$4:$I$218,7,0),\"\")","v":""},null,""]
[null,null,null,{"$f":"IF(C4917=\"\",\"\",VLOOKUP(C4917,Tabla_Regional[],3,0))","v":""},null,{"$f":"IF(E4917<>\"\",VLOOKUP(CONCATENATE(C4917,E4917),Dato!$A$4:$I$218,7,0),\"\")","v":""},null,""]
[null,null,null,{"$f":"IF(C4918=\"\",\"\",VLOOKUP(C4918,Tabla_Regional[],3,0))","v":""},null,{"$f":"IF(E4918<>\"\",VLOOKUP(CONCATENATE(C4918,E4918),Dato!$A$4:$I$218,7,0),\"\")","v":""},null,""]
[null,null,null,{"$f":"IF(C4919=\"\",\"\",VLOOKUP(C4919,Tabla_Regional[],3,0))","v":""},null,{"$f":"IF(E4919<>\"\",VLOOKUP(CONCATENATE(C4919,E4919),Dato!$A$4:$I$218,7,0),\"\")","v":""},null,""]
[null,null,null,{"$f":"IF(C4920=\"\",\"\",VLOOKUP(C4920,Tabla_Regional[],3,0))","v":""},null,{"$f":"IF(E4920<>\"\",VLOOKUP(CONCATENATE(C4920,E4920),Dato!$A$4:$I$218,7,0),\"\")","v":""},null,""]
[null,null,null,{"$f":"IF(C4921=\"\",\"\",VLOOKUP(C4921,Tabla_Regional[],3,0))","v":""},null,{"$f":"IF(E4921<>\"\",VLOOKUP(CONCATENATE(C4921,E4921),Dato!$A$4:$I$218,7,0),\"\")","v":""},null,""]
[null,null,null,{"$f":"IF(C4922=\"\",\"\",VLOOKUP(C4922,Tabla_Regional[],3,0))","v":""},null,{"$f":"IF(E4922<>\"\",VLOOKUP(CONCATENATE(C4922,E4922),Dato!$A$4:$I$218,7,0),\"\")","v":""},null,""]
[null,null,null,{"$f":"IF(C4923=\"\",\"\",VLOOKUP(C4923,Tabla_Regional[],3,0))","v":""},null,{"$f":"IF(E4923<>\"\",VLOOKUP(CONCATENATE(C4923,E4923),Dato!$A$4:$I$218,7,0),\"\")","v":""},null,""]
[null,null,null,{"$f":"IF(C4924=\"\",\"\",VLOOKUP(C4924,Tabla_Regional[],3,0))","v":""},null,{"$f":"IF(E4924<>\"\",VLOOKUP(CONCATENATE(C4924,E4924),Dato!$A$4:$I$218,7,0),\"\")","v":""},null,""]
[null,null,null,{"$f":"IF(C4925=\"\",\"\",VLOOKUP(C4925,Tabla_Regional[],3,0))","v":""},null,{"$f":"IF(E4925<>\"\",VLOOKUP(CONCATENATE(C4925,E4925),Dato!$A$4:$I$218,7,0),\"\")","v":""},null,""]
[null,null,null,{"$f":"IF(C4926=\"\",\"\",VLOOKUP(C4926,Tabla_Regional[],3,0))","v":""},null,{"$f":"IF(E4926<>\"\",VLOOKUP(CONCATENATE(C4926,E4926),Dato!$A$4:$I$218,7,0),\"\")","v":""},null,""]
[null,null,null,{"$f":"IF(C4927=\"\",\"\",VLOOKUP(C4927,Tabla_Regional[],3,0))","v":""},null,{"$f":"IF(E4927<>\"\",VLOOKUP(CONCATENATE(C4927,E4927),Dato!$A$4:$I$218,7,0),\"\")","v":""},null,""]
[null,null,null,{"$f":"IF(C4928=\"\",\"\",VLOOKUP(C4928,Tabla_Regional[],3,0))","v":""},null,{"$f":"IF(E4928<>\"\",VLOOKUP(CONCATENATE(C4928,E4928),Dato!$A$4:$I$218,7,0),\"\")","v":""},null,""]
[null,null,null,{"$f":"IF(C4929=\"\",\"\",VLOOKUP(C4929,Tabla_Regional[],3,0))","v":""},null,{"$f":"IF(E4929<>\"\",VLOOKUP(CONCATENATE(C4929,E4929),Dato!$A$4:$I$218,7,0),\"\")","v":""},null,""]
[null,null,null,{"$f":"IF(C4930=\"\",\"\",VLOOKUP(C4930,Tabla_Regional[],3,0))","v":""},null,{"$f":"IF(E4930<>\"\",VLOOKUP(CONCATENATE(C4930,E4930),Dato!$A$4:$I$218,7,0),\"\")","v":""},null,""]
[null,null,null,{"$f":"IF(C4931=\"\",\"\",VLOOKUP(C4931,Tabla_Regional[],3,0))","v":""},null,{"$f":"IF(E4931<>\"\",VLOOKUP(CONCATENATE(C4931,E4931),Dato!$A$4:$I$218,7,0),\"\")","v":""},null,""]
[null,null,null,{"$f":"IF(C4932=\"\",\"\",VLOOKUP(C4932,Tabla_Regional[],3,0))","v":""},null,{"$f":"IF(E4932<>\"\",VLOOKUP(CONCATENATE(C4932,E4932),Dato!$A$4:$I$218,7,0),\"\")","v":""},null,""]
[null,null,null,{"$f":"IF(C4933=\"\",\"\",VLOOKUP(C4933,Tabla_Regional[],3,0))","v":""},null,{"$f":"IF(E4933<>\"\",VLOOKUP(CONCATENATE(C4933,E4933),Dato!$A$4:$I$218,7,0),\"\")","v":""},null,""]
[null,null,null,{"$f":"IF(C4934=\"\",\"\",VLOOKUP(C4934,Tabla_Regional[],3,0))","v":""},null,{"$f":"IF(E4934<>\"\",VLOOKUP(CONCATENATE(C4934,E4934),Dato!$A$4:$I$218,7,0),\"\")","v":""},null,""]
[null,null,null,{"$f":"IF(C4935=\"\",\"\",VLOOKUP(C4935,Tabla_Regional[],3,0))","v":""},null,{"$f":"IF(E4935<>\"\",VLOOKUP(CONCATENATE(C4935,E4935),Dato!$A$4:$I$218,7,0),\"\")","v":""},null,""]
[null,null,null,{"$f":"IF(C4936=\"\",\"\",VLOOKUP(C4936,Tabla_Regional[],3,0))","v":""},null,{"$f":"IF(E4936<>\"\",VLOOKUP(CONCATENATE(C4936,E4936),Dato!$A$4:$I$218,7,0),\"\")","v":""},null,""]
[null,null,null,{"$f":"IF(C4937=\"\",\"\",VLOOKUP(C4937,Tabla_Regional[],3,0))","v":""},null,{"$f":"IF(E4937<>\"\",VLOOKUP(CONCATENATE(C4937,E4937),Dato!$A$4:$I$218,7,0),\"\")","v":""},null,""]
[null,null,null,{"$f":"IF(C4938=\"\",\"\",VLOOKUP(C4938,Tabla_Regional[],3,0))","v":""},null,{"$f":"IF(E4938<>\"\",VLOOKUP(CONCATENATE(C4938,E4938),Dato!$A$4:$I$218,7,0),\"\")","v":""},null,""]
[null,null,null,{"$f":"IF(C4939=\"\",\"\",VLOOKUP(C4939,Tabla_Regional[],3,0))","v":""},null,{"$f":"IF(E4939<>\"\",VLOOKUP(CONCATENATE(C4939,E4939),Dato!$A$4:$I$218,7,0),\"\")","v":""},null,""]
[null,null,null,{"$f":"IF(C4940=\"\",\"\",VLOOKUP(C4940,Tabla_Regional[],3,0))","v":""},null,{"$f":"IF(E4940<>\"\",VLOOKUP(CONCATENATE(C4940,E4940),Dato!$A$4:$I$218,7,0),\"\")","v":""},null,{"$f":"IF(G4940<>\"\",VLOOKUP(CONCATENATE(C4940,E4940,G4940),czmuni,7,0),\"\")","v":""}]
[null,null,null,{"$f":"IF(C4941=\"\",\"\",VLOOKUP(C4941,Tabla_Regional[],3,0))","v":""},null,{"$f":"IF(E4941<>\"\",VLOOKUP(CONCATENATE(C4941,E4941),Dato!$A$4:$I$218,7,0),\"\")","v":""},null,""]
[null,null,null,{"$f":"IF(C4942=\"\",\"\",VLOOKUP(C4942,Tabla_Regional[],3,0))","v":""},null,{"$f":"IF(E4942<>\"\",VLOOKUP(CONCATENATE(C4942,E4942),Dato!$A$4:$I$218,7,0),\"\")","v":""},null,""]
[null,null,null,{"$f":"IF(C4943=\"\",\"\",VLOOKUP(C4943,Tabla_Regional[],3,0))","v":""},null,{"$f":"IF(E4943<>\"\",VLOOKUP(CONCATENATE(C4943,E4943),Dato!$A$4:$I$218,7,0),\"\")","v":""},null,""]
[null,null,null,{"$f":"IF(C4944=\"\",\"\",VLOOKUP(C4944,Tabla_Regional[],3,0))","v":""},null,{"$f":"IF(E4944<>\"\",VLOOKUP(CONCATENATE(C4944,E4944),Dato!$A$4:$I$218,7,0),\"\")","v":""},null,""]
[null,null,null,{"$f":"IF(C4945=\"\",\"\",VLOOKUP(C4945,Tabla_Regional[],3,0))","v":""},null,{"$f":"IF(E4945<>\"\",VLOOKUP(CONCATENATE(C4945,E4945),Dato!$A$4:$I$218,7,0),\"\")","v":""},null,""]
[null,null,null,{"$f":"IF(C4946=\"\",\"\",VLOOKUP(C4946,Tabla_Regional[],3,0))","v":""},null,{"$f":"IF(E4946<>\"\",VLOOKUP(CONCATENATE(C4946,E4946),Dato!$A$4:$I$218,7,0),\"\")","v":""},null,""]
[null,null,null,{"$f":"IF(C4947=\"\",\"\",VLOOKUP(C4947,Tabla_Regional[],3,0))","v":""},null,{"$f":"IF(E4947<>\"\",VLOOKUP(CONCATENATE(C4947,E4947),Dato!$A$4:$I$218,7,0),\"\")","v":""},null,""]
[null,null,null,{"$f":"IF(C4948=\"\",\"\",VLOOKUP(C4948,Tabla_Regional[],3,0))","v":""},null,{"$f":"IF(E4948<>\"\",VLOOKUP(CONCATENATE(C4948,E4948),Dato!$A$4:$I$218,7,0),\"\")","v":""},null,""]
[null,null,null,{"$f":"IF(C4949=\"\",\"\",VLOOKUP(C4949,Tabla_Regional[],3,0))","v":""},null,{"$f":"IF(E4949<>\"\",VLOOKUP(CONCATENATE(C4949,E4949),Dato!$A$4:$I$218,7,0),\"\")","v":""},null,""]
[null,null,null,{"$f":"IF(C4950=\"\",\"\",VLOOKUP(C4950,Tabla_Regional[],3,0))","v":""},null,{"$f":"IF(E4950<>\"\",VLOOKUP(CONCATENATE(C4950,E4950),Dato!$A$4:$I$218,7,0),\"\")","v":""},null,""]
[null,null,null,{"$f":"IF(C4951=\"\",\"\",VLOOKUP(C4951,Tabla_Regional[],3,0))","v":""},null,{"$f":"IF(E4951<>\"\",VLOOKUP(CONCATENATE(C4951,E4951),Dato!$A$4:$I$218,7,0),\"\")","v":""},null,""]
[null,null,null,{"$f":"IF(C4952=\"\",\"\",VLOOKUP(C4952,Tabla_Regional[],3,0))","v":""},null,{"$f":"IF(E4952<>\"\",VLOOKUP(CONCATENATE(C4952,E4952),Dato!$A$4:$I$218,7,0),\"\")","v":""},null,""]
[null,null,null,{"$f":"IF(C4953=\"\",\"\",VLOOKUP(C4953,Tabla_Regional[],3,0))","v":""},null,{"$f":"IF(E4953<>\"\",VLOOKUP(CONCATENATE(C4953,E4953),Dato!$A$4:$I$218,7,0),\"\")","v":""},null,""]
[null,null,null,{"$f":"IF(C4954=\"\",\"\",VLOOKUP(C4954,Tabla_Regional[],3,0))","v":""},null,{"$f":"IF(E4954<>\"\",VLOOKUP(CONCATENATE(C4954,E4954),Dato!$A$4:$I$218,7,0),\"\")","v":""},null,""]
[null,null,null,{"$f":"IF(C4955=\"\",\"\",VLOOKUP(C4955,Tabla_Regional[],3,0))","v":""},null,{"$f":"IF(E4955<>\"\",VLOOKUP(CONCATENATE(C4955,E4955),Dato!$A$4:$I$218,7,0),\"\")","v":""},null,""]
[null,null,null,{"$f":"IF(C4956=\"\",\"\",VLOOKUP(C4956,Tabla_Regional[],3,0))","v":""},null,{"$f":"IF(E4956<>\"\",VLOOKUP(CONCATENATE(C4956,E4956),Dato!$A$4:$I$218,7,0),\"\")","v":""},null,""]
[null,null,null,{"$f":"IF(C4957=\"\",\"\",VLOOKUP(C4957,Tabla_Regional[],3,0))","v":""},null,{"$f":"IF(E4957<>\"\",VLOOKUP(CONCATENATE(C4957,E4957),Dato!$A$4:$I$218,7,0),\"\")","v":""},null,""]
[null,null,null,{"$f":"IF(C4958=\"\",\"\",VLOOKUP(C4958,Tabla_Regional[],3,0))","v":""},null,{"$f":"IF(E4958<>\"\",VLOOKUP(CONCATENATE(C4958,E4958),Dato!$A$4:$I$218,7,0),\"\")","v":""},null,""]
[null,null,null,{"$f":"IF(C4959=\"\",\"\",VLOOKUP(C4959,Tabla_Regional[],3,0))","v":""},null,{"$f":"IF(E4959<>\"\",VLOOKUP(CONCATENATE(C4959,E4959),Dato!$A$4:$I$218,7,0),\"\")","v":""},null,""]
[null,null,null,{"$f":"IF(C4960=\"\",\"\",VLOOKUP(C4960,Tabla_Regional[],3,0))","v":""},null,{"$f":"IF(E4960<>\"\",VLOOKUP(CONCATENATE(C4960,E4960),Dato!$A$4:$I$218,7,0),\"\")","v":""},null,""]
[null,null,null,{"$f":"IF(C4961=\"\",\"\",VLOOKUP(C4961,Tabla_Regional[],3,0))","v":""},null,{"$f":"IF(E4961<>\"\",VLOOKUP(CONCATENATE(C4961,E4961),Dato!$A$4:$I$218,7,0),\"\")","v":""},null,""]
[null,null,null,{"$f":"IF(C4962=\"\",\"\",VLOOKUP(C4962,Tabla_Regional[],3,0))","v":""},null,{"$f":"IF(E4962<>\"\",VLOOKUP(CONCATENATE(C4962,E4962),Dato!$A$4:$I$218,7,0),\"\")","v":""},null,""]
[null,null,null,{"$f":"IF(C4963=\"\",\"\",VLOOKUP(C4963,Tabla_Regional[],3,0))","v":""},null,{"$f":"IF(E4963<>\"\",VLOOKUP(CONCATENATE(C4963,E4963),Dato!$A$4:$I$218,7,0),\"\")","v":""},null,""]
[null,null,null,{"$f":"IF(C4964=\"\",\"\",VLOOKUP(C4964,Tabla_Regional[],3,0))","v":""},null,{"$f":"IF(E4964<>\"\",VLOOKUP(CONCATENATE(C4964,E4964),Dato!$A$4:$I$218,7,0),\"\")","v":""},null,""]
[null,null,null,{"$f":"IF(C4965=\"\",\"\",VLOOKUP(C4965,Tabla_Regional[],3,0))","v":""},null,{"$f":"IF(E4965<>\"\",VLOOKUP(CONCATENATE(C4965,E4965),Dato!$A$4:$I$218,7,0),\"\")","v":""},null,""]
[null,null,null,{"$f":"IF(C4966=\"\",\"\",VLOOKUP(C4966,Tabla_Regional[],3,0))","v":""},null,{"$f":"IF(E4966<>\"\",VLOOKUP(CONCATENATE(C4966,E4966),Dato!$A$4:$I$218,7,0),\"\")","v":""},null,""]
[null,null,null,{"$f":"IF(C4967=\"\",\"\",VLOOKUP(C4967,Tabla_Regional[],3,0))","v":""},null,{"$f":"IF(E4967<>\"\",VLOOKUP(CONCATENATE(C4967,E4967),Dato!$A$4:$I$218,7,0),\"\")","v":""},null,""]
[null,null,null,{"$f":"IF(C4968=\"\",\"\",VLOOKUP(C4968,Tabla_Regional[],3,0))","v":""},null,{"$f":"IF(E4968<>\"\",VLOOKUP(CONCATENATE(C4968,E4968),Dato!$A$4:$I$218,7,0),\"\")","v":""},null,""]
[null,null,null,{"$f":"IF(C4969=\"\",\"\",VLOOKUP(C4969,Tabla_Regional[],3,0))","v":""},null,{"$f":"IF(E4969<>\"\",VLOOKUP(CONCATENATE(C4969,E4969),Dato!$A$4:$I$218,7,0),\"\")","v":""},null,""]
[null,null,null,{"$f":"IF(C4970=\"\",\"\",VLOOKUP(C4970,Tabla_Regional[],3,0))","v":""},null,{"$f":"IF(E4970<>\"\",VLOOKUP(CONCATENATE(C4970,E4970),Dato!$A$4:$I$218,7,0),\"\")","v":""},null,""]
[null,null,null,{"$f":"IF(C4971=\"\",\"\",VLOOKUP(C4971,Tabla_Regional[],3,0))","v":""},null,{"$f":"IF(E4971<>\"\",VLOOKUP(CONCATENATE(C4971,E4971),Dato!$A$4:$I$218,7,0),\"\")","v":""},null,""]
[null,null,null,{"$f":"IF(C4972=\"\",\"\",VLOOKUP(C4972,Tabla_Regional[],3,0))","v":""},null,{"$f":"IF(E4972<>\"\",VLOOKUP(CONCATENATE(C4972,E4972),Dato!$A$4:$I$218,7,0),\"\")","v":""},null,""]
[null,null,null,{"$f":"IF(C4973=\"\",\"\",VLOOKUP(C4973,Tabla_Regional[],3,0))","v":""},null,{"$f":"IF(E4973<>\"\",VLOOKUP(CONCATENATE(C4973,E4973),Dato!$A$4:$I$218,7,0),\"\")","v":""},null,""]
[null,null,null,{"$f":"IF(C4974=\"\",\"\",VLOOKUP(C4974,Tabla_Regional[],3,0))","v":""},null,{"$f":"IF(E4974<>\"\",VLOOKUP(CONCATENATE(C4974,E4974),Dato!$A$4:$I$218,7,0),\"\")","v":""},null,""]
[null,null,null,{"$f":"IF(C4975=\"\",\"\",VLOOKUP(C4975,Tabla_Regional[],3,0))","v":""},null,{"$f":"IF(E4975<>\"\",VLOOKUP(CONCATENATE(C4975,E4975),Dato!$A$4:$I$218,7,0),\"\")","v":""},null,""]
[null,null,null,{"$f":"IF(C4976=\"\",\"\",VLOOKUP(C4976,Tabla_Regional[],3,0))","v":""},null,{"$f":"IF(E4976<>\"\",VLOOKUP(CONCATENATE(C4976,E4976),Dato!$A$4:$I$218,7,0),\"\")","v":""},null,""]
[null,null,null,{"$f":"IF(C4977=\"\",\"\",VLOOKUP(C4977,Tabla_Regional[],3,0))","v":""},null,{"$f":"IF(E4977<>\"\",VLOOKUP(CONCATENATE(C4977,E4977),Dato!$A$4:$I$218,7,0),\"\")","v":""},null,""]
[null,null,null,{"$f":"IF(C4978=\"\",\"\",VLOOKUP(C4978,Tabla_Regional[],3,0))","v":""},null,{"$f":"IF(E4978<>\"\",VLOOKUP(CONCATENATE(C4978,E4978),Dato!$A$4:$I$218,7,0),\"\")","v":""},null,""]
[null,null,null,{"$f":"IF(C4979=\"\",\"\",VLOOKUP(C4979,Tabla_Regional[],3,0))","v":""},null,{"$f":"IF(E4979<>\"\",VLOOKUP(CONCATENATE(C4979,E4979),Dato!$A$4:$I$218,7,0),\"\")","v":""},null,""]
[null,null,null,{"$f":"IF(C4980=\"\",\"\",VLOOKUP(C4980,Tabla_Regional[],3,0))","v":""},null,{"$f":"IF(E4980<>\"\",VLOOKUP(CONCATENATE(C4980,E4980),Dato!$A$4:$I$218,7,0),\"\")","v":""},null,""]
[null,null,null,{"$f":"IF(C4981=\"\",\"\",VLOOKUP(C4981,Tabla_Regional[],3,0))","v":""},null,{"$f":"IF(E4981<>\"\",VLOOKUP(CONCATENATE(C4981,E4981),Dato!$A$4:$I$218,7,0),\"\")","v":""},null,""]
[null,null,null,{"$f":"IF(C4982=\"\",\"\",VLOOKUP(C4982,Tabla_Regional[],3,0))","v":""},null,{"$f":"IF(E4982<>\"\",VLOOKUP(CONCATENATE(C4982,E4982),Dato!$A$4:$I$218,7,0),\"\")","v":""},null,""]
[null,null,null,{"$f":"IF(C4983=\"\",\"\",VLOOKUP(C4983,Tabla_Regional[],3,0))","v":""},null,{"$f":"IF(E4983<>\"\",VLOOKUP(CONCATENATE(C4983,E4983),Dato!$A$4:$I$218,7,0),\"\")","v":""},null,""]
[null,null,null,{"$f":"IF(C4984=\"\",\"\",VLOOKUP(C4984,Tabla_Regional[],3,0))","v":""},null,{"$f":"IF(E4984<>\"\",VLOOKUP(CONCATENATE(C4984,E4984),Dato!$A$4:$I$218,7,0),\"\")","v":""},null,""]
[null,null,null,{"$f":"IF(C4985=\"\",\"\",VLOOKUP(C4985,Tabla_Regional[],3,0))","v":""},null,{"$f":"IF(E4985<>\"\",VLOOKUP(CONCATENATE(C4985,E4985),Dato!$A$4:$I$218,7,0),\"\")","v":""},null,""]
[null,null,null,{"$f":"IF(C4986=\"\",\"\",VLOOKUP(C4986,Tabla_Regional[],3,0))","v":""},null,{"$f":"IF(E4986<>\"\",VLOOKUP(CONCATENATE(C4986,E4986),Dato!$A$4:$I$218,7,0),\"\")","v":""},null,""]
[null,null,null,{"$f":"IF(C4987=\"\",\"\",VLOOKUP(C4987,Tabla_Regional[],3,0))","v":""},null,{"$f":"IF(E4987<>\"\",VLOOKUP(CONCATENATE(C4987,E4987),Dato!$A$4:$I$218,7,0),\"\")","v":""},null,""]
[null,null,null,{"$f":"IF(C4988=\"\",\"\",VLOOKUP(C4988,Tabla_Regional[],3,0))","v":""},null,{"$f":"IF(E4988<>\"\",VLOOKUP(CONCATENATE(C4988,E4988),Dato!$A$4:$I$218,7,0),\"\")","v":""},null,""]
[null,null,null,{"$f":"IF(C4989=\"\",\"\",VLOOKUP(C4989,Tabla_Regional[],3,0))","v":""},null,{"$f":"IF(E4989<>\"\",VLOOKUP(CONCATENATE(C4989,E4989),Dato!$A$4:$I$218,7,0),\"\")","v":""},null,""]
[null,null,null,{"$f":"IF(C4990=\"\",\"\",VLOOKUP(C4990,Tabla_Regional[],3,0))","v":""},null,{"$f":"IF(E4990<>\"\",VLOOKUP(CONCATENATE(C4990,E4990),Dato!$A$4:$I$218,7,0),\"\")","v":""},null,""]
[null,null,null,{"$f":"IF(C4991=\"\",\"\",VLOOKUP(C4991,Tabla_Regional[],3,0))","v":""},null,{"$f":"IF(E4991<>\"\",VLOOKUP(CONCATENATE(C4991,E4991),Dato!$A$4:$I$218,7,0),\"\")","v":""},null,""]
[null,null,null,{"$f":"IF(C4992=\"\",\"\",VLOOKUP(C4992,Tabla_Regional[],3,0))","v":""},null,{"$f":"IF(E4992<>\"\",VLOOKUP(CONCATENATE(C4992,E4992),Dato!$A$4:$I$218,7,0),\"\")","v":""},null,""]
[null,null,null,{"$f":"IF(C4993=\"\",\"\",VLOOKUP(C4993,Tabla_Regional[],3,0))","v":""},null,{"$f":"IF(E4993<>\"\",VLOOKUP(CONCATENATE(C4993,E4993),Dato!$A$4:$I$218,7,0),\"\")","v":""},null,""]
[null,null,null,{"$f":"IF(C4994=\"\",\"\",VLOOKUP(C4994,Tabla_Regional[],3,0))","v":""},null,{"$f":"IF(E4994<>\"\",VLOOKUP(CONCATENATE(C4994,E4994),Dato!$A$4:$I$218,7,0),\"\")","v":""},null,""]
[null,null,null,{"$f":"IF(C4995=\"\",\"\",VLOOKUP(C4995,Tabla_Regional[],3,0))","v":""},null,{"$f":"IF(E4995<>\"\",VLOOKUP(CONCATENATE(C4995,E4995),Dato!$A$4:$I$218,7,0),\"\")","v":""},null,""]
[null,null,null,{"$f":"IF(C4996=\"\",\"\",VLOOKUP(C4996,Tabla_Regional[],3,0))","v":""},null,{"$f":"IF(E4996<>\"\",VLOOKUP(CONCATENATE(C4996,E4996),Dato!$A$4:$I$218,7,0),\"\")","v":""},null,""]
[null,null,null,{"$f":"IF(C4997=\"\",\"\",VLOOKUP(C4997,Tabla_Regional[],3,0))","v":""},null,{"$f":"IF(E4997<>\"\",VLOOKUP(CONCATENATE(C4997,E4997),Dato!$A$4:$I$218,7,0),\"\")","v":""},null,""]
[null,null,null,{"$f":"IF(C4998=\"\",\"\",VLOOKUP(C4998,Tabla_Regional[],3,0))","v":""},null,{"$f":"IF(E4998<>\"\",VLOOKUP(CONCATENATE(C4998,E4998),Dato!$A$4:$I$218,7,0),\"\")","v":""},null,""]
[null,null,null,{"$f":"IF(C4999=\"\",\"\",VLOOKUP(C4999,Tabla_Regional[],3,0))","v":""},null,{"$f":"IF(E4999<>\"\",VLOOKUP(CONCATENATE(C4999,E4999),Dato!$A$4:$I$218,7,0),\"\")","v":""},null,""]
[null,null,null,{"$f":"IF(C5000=\"\",\"\",VLOOKUP(C5000,Tabla_Regional[],3,0))","v":""},null,{"$f":"IF(E5000<>\"\",VLOOKUP(CONCATENATE(C5000,E5000),Dato!$A$4:$I$218,7,0),\"\")","v":""},null,""]
[null,null,null,{"$f":"IF(C5001=\"\",\"\",VLOOKUP(C5001,Tabla_Regional[],3,0))","v":""},null,{"$f":"IF(E5001<>\"\",VLOOKUP(CONCATENATE(C5001,E5001),Dato!$A$4:$I$218,7,0),\"\")","v":""},null,""]
[null,null,null,{"$f":"IF(C5002=\"\",\"\",VLOOKUP(C5002,Tabla_Regional[],3,0))","v":""},null,{"$f":"IF(E5002<>\"\",VLOOKUP(CONCATENATE(C5002,E5002),Dato!$A$4:$I$218,7,0),\"\")","v":""},null,""]
[null,null,null,{"$f":"IF(C5003=\"\",\"\",VLOOKUP(C5003,Tabla_Regional[],3,0))","v":""},null,{"$f":"IF(E5003<>\"\",VLOOKUP(CONCATENATE(C5003,E5003),Dato!$A$4:$I$218,7,0),\"\")","v":""},null,""]
[null,null,null,{"$f":"IF(C5004=\"\",\"\",VLOOKUP(C5004,Tabla_Regional[],3,0))","v":""},null,{"$f":"IF(E5004<>\"\",VLOOKUP(CONCATENATE(C5004,E5004),Dato!$A$4:$I$218,7,0),\"\")","v":""},null,{"$f":"IF(G5004<>\"\",VLOOKUP(CONCATENATE(C5004,E5004,G5004),czmuni,7,0),\"\")","v":""}]
[null,null,null,{"$f":"IF(C5005=\"\",\"\",VLOOKUP(C5005,Tabla_Regional[],3,0))","v":""},null,{"$f":"IF(E5005<>\"\",VLOOKUP(CONCATENATE(C5005,E5005),Dato!$A$4:$I$218,7,0),\"\")","v":""},null,""]
[null,null,null,{"$f":"IF(C5006=\"\",\"\",VLOOKUP(C5006,Tabla_Regional[],3,0))","v":""},null,{"$f":"IF(E5006<>\"\",VLOOKUP(CONCATENATE(C5006,E5006),Dato!$A$4:$I$218,7,0),\"\")","v":""},null,""]
[null,null,null,{"$f":"IF(C5007=\"\",\"\",VLOOKUP(C5007,Tabla_Regional[],3,0))","v":""},null,{"$f":"IF(E5007<>\"\",VLOOKUP(CONCATENATE(C5007,E5007),Dato!$A$4:$I$218,7,0),\"\")","v":""},null,""]
[null,null,null,{"$f":"IF(C5008=\"\",\"\",VLOOKUP(C5008,Tabla_Regional[],3,0))","v":""},null,{"$f":"IF(E5008<>\"\",VLOOKUP(CONCATENATE(C5008,E5008),Dato!$A$4:$I$218,7,0),\"\")","v":""},null,""]
[null,null,null,{"$f":"IF(C5009=\"\",\"\",VLOOKUP(C5009,Tabla_Regional[],3,0))","v":""},null,{"$f":"IF(E5009<>\"\",VLOOKUP(CONCATENATE(C5009,E5009),Dato!$A$4:$I$218,7,0),\"\")","v":""},null,""]

{"sheet":"Listas","index":1,"n_rows":34,"n_cols":20,"rows_kept":34,"cut":false,"hidden":true,"merged":[]}
["REGIONAL","DEPTO","CodigoDepartamento",null,"REGIONAL","DEPTO","MODALIDAD","TIPO_DOC_JEFE","NRO. INTEGRANTES","RESPUESTA","PROCESO_ICBF","PROTECCION_PARD","PROTECCION_SRPA","PROTECCION_OTRAS","MANERA_REALIZACION","MEDIO_VIRTUAL","TEMATICAS_ENCUENTROS","NIVELACION","CANT_LLAMADAS","TEMATICAS_VISITAS"]
["AMAZONAS","AMAZONAS",91,null,"AMAZONAS"," ","MI FAMILIA URBANA","CC",1,"SI","PARD","ACOGIMIENTO RESIDENCIAL: CASA HOGAR","EXTERNADO JORNADA COMPLETA RESTABLECIMIENTO EN ADMINISTRACIÓN DE JUSTICIA","UBICACIÓN EN MEDIO FAMILIAR O FAMILIA EXTENSA","VIRTUAL","LLAMADA TELEFÓNICA","Tejiendo redes de apoyo y fortalecimiento",0,0,"Zarpando a la aventura: Encuentro inicial"]
["ANTIOQUIA","ANTIOQUIA","05",null,"ANTIOQUIA","ANTIOQUIA","MI FAMILIA RURAL","TI",2,"NO","SRPA","EXTERNADO (MEDIA JORNADA Y JORNADA COMPLETA)","EXTERNADO MEDIA JORNADA RESTABLECIMIENTO EN ADMINISTRACIÓN DE JUSTICIA","EQUIPOS MÓVILES DE PROTECCIÓN INTEGRAL (EMPI)","PRESENCIAL","CHAT WHATSAPP","Relaciones democráticas en las familias",1,1,"Asumir nuestra transformación: Cultivo de vínculos familiares"]
["ARAUCA","ARAUCA",81,null,"ARAUCA","ARAUCA",null,"RC",3,null,"OTRAS MEDIDAS","HOGAR GESTOR - DISCAPACIDAD","INTERVENCIÓN DE APOYO RESTABLECIMIENTO EN ADMINISTRACIÓN DE JUSTICIA","ASISTENCIA Y ASESORÍA A LA FAMILIA","VIRTUAL Y PRESENCIAL","FACEBOOK LIVE","Crear riqueza familiar y social",2,2,"Reconciliación familiar: Transformación de las violencias"]
["ATLÁNTICO","ATLÁNTICO","08",null,"ATLÁNTICO","ATLÁNTICO",null,"CE",4,null,null,"ACOGIMIENTO FAMILIAR: HOGAR SUSTITUTO","MODALIDAD DE ATENCIÓN NO PRIVATIVA (PRESTACIÓN DE SERVICIOS A LA COMUNIDAD)",null,null,"MICROSOFT TEAMS","Cuidar lo público",3,3,"Cuidar las nuevas generaciones: Cultivar el propósito de las nuevas generaciones"]
["BOGOTÁ D.C.","BOGOTÁ D.C.",11,null,"BOGOTA D.C.","BOGOTA D.C.",null,"PA",5,null,null,"ACOGIMIENTO RESIDENCIAL: INTERNADO","INTERNADO RESTABLECIMIENTO EN ADMINISTRACIÓN DE JUSTICA",null,null,"ZOOM","Cuidar la vida",4,4,"Vínculos de cuidado a través del alimento"]
["BOLÍVAR","BOLÍVAR",13,null,"BOLÍVAR","BOLÍVAR",null,"PPT",6,null,null,"INTERVENCIÓN DE APOYO - APOYO PSICOSOCIAL","CENTROS DE ATENCIÓN ESPECIALIZADA (CETRA)",null,null,"GOOGLE MEET","Capacidad de agencia de las familias",5,5,"Vínculos de cuidado y juego en familia"]
["BOYACÁ","BOYACÁ",15,null,"BOYACÁ","BOYACÁ",null,"PEP",7,null,null,"CENTRO DE EMERGENCIA","CENTRO DE INTERNAMIENTO PREVENTIVO (CIP)",null,null,null,"Iniciativas comunitarias",6,6,"Vínculos de cuidado y contacto corporal respetuoso"]
["CALDAS","CALDAS",17,null,"CALDAS","CALDAS",null,"TMF",8,null,null,"HOGAR DE PASO","INTERNACIÓN EN MEDIDA SEMICERRADA",null,null,null,"Otros",7,7,"Proyectar nuestro futuro"]
["CAQUETÁ","CAQUETÁ",18,null,"CAQUETÁ","CAQUETÁ",null,null,9,null,null,"CASA DE PROTECCIÓN","APOYO POST-INSTITUCIONAL",null,null,null,null,8,8,"Regulación emocional"]
["CASANARE","CASANARE",85,null,"CASANARE","CASANARE",null,null,10,null,null,"HOGAR SUSTITUTO TUTOR",null,null,null,null,null,null,9,"Comunicación y resolución de conflictos en familia"]
["CAUCA","CAUCA",19,null,"CAUCA","CAUCA",null,null,11,null,null,"HOGAR GESTOR VÍCTIMAS CON DISCAPACIDAD Y/O ENFERMEDAD DE CUIDADO ESPECIAL",null,null,null,null,null,null,10,"Crianza positiva"]
["CESAR","CESAR",20,null,"CESAR","CESAR",null,null,12,null,null,"HOGAR GESTOR VÍCTIMAS SIN DISCAPACIDAD Y/O ENFERMEDAD DE CUIDADO ESPECIAL",null,null,null,null,null,null,null,"Convivencia democrática, participación en familia y distribución del cuidado"]
["CHOCÓ","CHOCÓ",27,null,"CHOCÓ","CHOCÓ",null,null,13,null,null,"LAS DEMÁS EN LAS QUE SE ENCUENTREN NIÑOS, NIÑAS Y ADOLESCENTES VÍCTIMAS DEL CONFLICTO ARMADO",null,null,null,null,null,null,null,"Cuidado al cuidador y autocuidado de personas con discapacidad"]
["CÓRDOBA","CÓRDOBA",23,null,"CÓRDOBA","CÓRDOBA",null,null,14,null,null,null,null,null,null,null,null,null,null,"Proyecto de vida familiar acorde a las necesidades de sus integrantes"]
["CUNDINAMARCA","CUNDINAMARCA",25,null,"CUNDINAMARCA","CUNDINAMARCA",null,null,15,null,null,null,null,null,null,null,null,null,null,"Involucramiento parental, monitoreo, calidez emocional y vínculos positivos"]
["GUAINÍA","GUAINÍA",94,null,"GUAINÍA","GUAINÍA",null,null,null,null,null,null,null,null,null,null,null,null,null,"Sexualidad como forma de expresión"]
["GUAVIARE","GUAVIARE",95,null,"GUAVIARE","GUAVIARE",null,null,null,null,null,null,null,null,null,null,null,null,null,"Seguridad en el hogar"]
["HUILA","HUILA",41,null,"HUILA","HUILA",null,null,null,null,null,null,null,null,null,null,null,null,null,"Prevención de la violencia sexual"]
["LA GUAJIRA","LA GUAJIRA",44,null,"LA GUAJIRA","LA GUAJIRA",null,null,null,null,null,null,null,null,null,null,null,null,null,"Educación sexual para niños, niñas adolescentes, jóvenes adultos y adultos mayores en la familia"]
["MAGDALENA","MAGDALENA",47,null,"MAGDALENA","MAGDALENA",null,null,null,null,null,null,null,null,null,null,null,null,null,"Otros"]
["META","META",50,null,"META","META"]
["NARIÑO","NARIÑO",52,null,"NARIÑO","NARIÑO"]
["NORTE DE SANTANDER","NORTE DE SANTANDER",54,null,"NORTE DE SANTANDER","NORTE DE SANTANDER"]
["PUTUMAYO","PUTUMAYO",86,null,"PUTUMAYO","PUTUMAYO"]
["QUINDIO","QUINDIO",63,null,"QUINDIO","QUINDIO"]
["RISARALDA","RISARALDA",66,null,"RISARALDA","RISARALDA"]
["SAN ANDRÉS","SAN ANDRÉS",88,null,"SAN ANDRÉS","SAN ANDRÉS"]
["SANTANDER","SANTANDER",68,null,"SANTANDER","SANTANDER"]
["SUCRE","SUCRE",70,null,"SUCRE","SUCRE"]
["TOLIMA","TOLIMA",73,null,"TOLIMA","TOLIMA"]
["VALLE DEL CAUCA","VALLE DEL CAUCA",76,null,"VALLE DEL CAUCA","VALLE DEL CAUCA"]
["VAUPÉS","VAUPÉS",97,null,"VAUPÉS","VAUPÉS"]
["VICHADA","VICHADA",99,null,"VICHADA","VICHADA"]

{"sheet":"CZ_MUNICIPIO","index":2,"n_rows":1403,"n_cols":14,"rows_kept":1403,"cut":false,"hidden":true,"merged":[[0,1,0,13],[1,1,1,13]]}
[null,"Instituto Colombiano de Bienestar Familiar\nCecilia De la Fuente de Lleras \nDirección de Planeación y Control de Gestión\nSubdirección de Programación"]
[null,"CUBRIMIENTO GEOGRÁFICO ICBF - 2021\nFuente: SIM - Cubrimiento geográfico - DANE, actualizado marzo 2021"]
[null,"Vigencia","Cód. \nDpto.","Regional","Cód.. \nCZ","Centro Zonal","Cód..\n Municipio","Municipio","Tipo - DANE","Nombre - DANE","Cód. DANE","Dpto. DANE","LATITUD","LONGITUD"]
["ANTIOQUIAREGIONAL ANTIOQUIAMEDELLÍN",2021,"05","ANTIOQUIA","0500","REGIONAL ANTIOQUIA","05001","MEDELLÍN","Municipio","MEDELLÍN","05","ANTIOQUIA",6.2575902589999997,-75.611031065000006]
["ANTIOQUIAREGIONAL ANTIOQUIASEDE REGIONAL",2021,"05","ANTIOQUIA","0500","REGIONAL ANTIOQUIA","05900","SEDE REGIONAL","N/A","N/A","05","ANTIOQUIA","N/A","N/A"]
["ANTIOQUIACZ INTEGRAL NORORIENTALMEDELLÍN",2021,"05","ANTIOQUIA","0501","CZ INTEGRAL NORORIENTAL","05001","MEDELLÍN","Municipio","MEDELLÍN","05","ANTIOQUIA",6.2575902589999997,-75.611031065000006]
["ANTIOQUIACZ INTEGRAL NOROCCIDENTALMEDELLÍN",2021,"05","ANTIOQUIA","0502","CZ INTEGRAL NOROCCIDENTAL","05001","MEDELLÍN","Municipio","MEDELLÍN","05","ANTIOQUIA",6.2575902589999997,-75.611031065000006]
["ANTIOQUIACZ SUR ORIENTEMEDELLÍN",2021,"05","ANTIOQUIA","0504","CZ SUR ORIENTE","05001","MEDELLÍN","Municipio","MEDELLÍN","05","ANTIOQUIA",6.2575902589999997,-75.611031065000006]
["ANTIOQUIACZ ABURRA NORTEBARBOSA",2021,"05","ANTIOQUIA","0505","CZ ABURRA NORTE","05079","BARBOSA","Municipio","BARBOSA","05","ANTIOQUIA",6.4434179350000003,-75.329240854000005]
["ANTIOQUIACZ ABURRA NORTEBELMIRA",2021,"05","ANTIOQUIA","0505","CZ ABURRA NORTE","05086","BELMIRA","Municipio","BELMIRA","05","ANTIOQUIA",6.6658539530000001,-75.686216590000001]
["ANTIOQUIACZ ABURRA NORTEBELLO",2021,"05","ANTIOQUIA","0505","CZ ABURRA NORTE","05088","BELLO","Municipio","BELLO","05","ANTIOQUIA",6.358841086,-75.589735877999999]
["ANTIOQUIACZ ABURRA NORTECOPACABANA",2021,"05","ANTIOQUIA","0505","CZ ABURRA NORTE","05212","COPACABANA","Municipio","COPACABANA","05","ANTIOQUIA",6.351882893,-75.500756330000002]
["ANTIOQUIACZ ABURRA NORTEDON MATÍAS",2021,"05","ANTIOQUIA","0505","CZ ABURRA NORTE","05237","DON MATÍAS","Municipio","DONMATÍAS","05","ANTIOQUIA",6.4924039049999998,-75.422276871999998]
["ANTIOQUIACZ ABURRA NORTEENTRERRIOS",2021,"05","ANTIOQUIA","0505","CZ ABURRA NORTE","05264","ENTRERRIOS","Municipio","ENTRERRÍOS","05","ANTIOQUIA",6.594656004,-75.559130832999998]
["ANTIOQUIACZ ABURRA NORTEGIRARDOTA",2021,"05","ANTIOQUIA","0505","CZ ABURRA NORTE","05308","GIRARDOTA","Municipio","GIRARDOTA","05","ANTIOQUIA",6.3797458950000001,-75.447957442000003]
["ANTIOQUIACZ ABURRA NORTESAN PEDRO DE LOS MILAGROS",2021,"05","ANTIOQUIA","0505","CZ ABURRA NORTE","05664","SAN PEDRO DE LOS MILAGROS","Municipio","SAN PEDRO DE LOS MILAGROS","05","ANTIOQUIA",6.4586663079999997,-75.562483897999996]
["ANTIOQUIACZ ABURRA SURAMAGÁ",2021,"05","ANTIOQUIA","0506","CZ ABURRA SUR","05030","AMAGÁ","Municipio","AMAGÁ","05","ANTIOQUIA",6.0329219939999996,-75.708003098000006]
["ANTIOQUIACZ ABURRA SURANGELÓPOLIS",2021,"05","ANTIOQUIA","0506","CZ ABURRA SUR","05036","ANGELÓPOLIS","Municipio","ANGELÓPOLIS","05","ANTIOQUIA",6.1214303030000004,-75.715949663000004]
["ANTIOQUIACZ ABURRA SURARMENIA",2021,"05","ANTIOQUIA","0506","CZ ABURRA SUR","05059","ARMENIA","Municipio","ARMENIA","05","ANTIOQUIA",6.1636837580000003,-75.809955281000001]
["ANTIOQUIACZ ABURRA SURCALDAS",2021,"05","ANTIOQUIA","0506","CZ ABURRA SUR","05129","CALDAS","Municipio","CALDAS","05","ANTIOQUIA",6.0544468409999999,-75.626426742999996]
["ANTIOQUIACZ ABURRA SURENVIGADO",2021,"05","ANTIOQUIA","0506","CZ ABURRA SUR","05266","ENVIGADO","Municipio","ENVIGADO","05","ANTIOQUIA",6.1543949219999998,-75.546867788]
["ANTIOQUIACZ ABURRA SURFREDONIA",2021,"05","ANTIOQUIA","0506","CZ ABURRA SUR","05282","FREDONIA","Municipio","FREDONIA","05","ANTIOQUIA",5.887702934,-75.679262418999997]
["ANTIOQUIACZ ABURRA SURHELICONIA",2021,"05","ANTIOQUIA","0506","CZ ABURRA SUR","05347","HELICONIA","Municipio","HELICONIA","05","ANTIOQUIA",6.2145117880000003,-75.749710019000005]
["ANTIOQUIACZ ABURRA SURITAGUI",2021,"05","ANTIOQUIA","0506","CZ ABURRA SUR","05360","ITAGUI","Municipio","ITAGÜÍ","05","ANTIOQUIA",6.179279438,-75.614203699000001]
["ANTIOQUIACZ ABURRA SURLA ESTRELLA",2021,"05","ANTIOQUIA","0506","CZ ABURRA SUR","05380","LA ESTRELLA","Municipio","LA ESTRELLA","05","ANTIOQUIA",6.1375958830000004,-75.648954990999997]
["ANTIOQUIACZ ABURRA SURLA PINTADA",2021,"05","ANTIOQUIA","0506","CZ ABURRA SUR","05390","LA PINTADA","Municipio","LA PINTADA","05","ANTIOQUIA",5.7465839580000004,-75.602202059999996]
["ANTIOQUIACZ ABURRA SURMONTEBELLO",2021,"05","ANTIOQUIA","0506","CZ ABURRA SUR","05467","MONTEBELLO","Municipio","MONTEBELLO","05","ANTIOQUIA",5.9168539029999998,-75.519726926000004]
["ANTIOQUIACZ ABURRA SURSABANETA",2021,"05","ANTIOQUIA","0506","CZ ABURRA SUR","05631","SABANETA","Municipio","SABANETA","05","ANTIOQUIA",6.1383051829999999,-75.608805993000004]
["ANTIOQUIACZ ABURRA SURSANTA BÁRBARA",2021,"05","ANTIOQUIA","0506","CZ ABURRA SUR","05679","SANTA BÁRBARA","Municipio","SANTA BÁRBARA","05","ANTIOQUIA",5.878984956,-75.583303710999999]
["ANTIOQUIACZ ABURRA SURTITIRIBÍ",2021,"05","ANTIOQUIA","0506","CZ ABURRA SUR","05809","TITIRIBÍ","Municipio","TITIRIBÍ","05","ANTIOQUIA",6.0583499710000002,-75.799660047000003]
["ANTIOQUIACZ ABURRA SURVENECIA",2021,"05","ANTIOQUIA","0506","CZ ABURRA SUR","05861","VENECIA","Municipio","VENECIA","05","ANTIOQUIA",5.9565763550000002,-75.777224226000001]
["ANTIOQUIACZ BAJO CAUCACÁCERES",2021,"05","ANTIOQUIA","0507","CZ BAJO CAUCA","05120","CÁCERES","Municipio","CÁCERES","05","ANTIOQUIA",7.6651551050000002,-75.223697440999999]
["ANTIOQUIACZ BAJO CAUCACAUCASIA",2021,"05","ANTIOQUIA","0507","CZ BAJO CAUCA","05154","CAUCASIA","Municipio","CAUCASIA","05","ANTIOQUIA",7.8679417919999999,-75.035018238999996]
["ANTIOQUIACZ BAJO CAUCAEL BAGRE",2021,"05","ANTIOQUIA","0507","CZ BAJO CAUCA","05250","EL BAGRE","Municipio","EL BAGRE","05","ANTIOQUIA",7.704633351,-74.664277263000002]
["ANTIOQUIACZ BAJO CAUCANECHÍ",2021,"05","ANTIOQUIA","0507","CZ BAJO CAUCA","05495","NECHÍ","Municipio","NECHÍ","05","ANTIOQUIA",7.9834773940000003,-74.658441859999996]
["ANTIOQUIACZ BAJO CAUCATARAZÁ",2021,"05","ANTIOQUIA","0507","CZ BAJO CAUCA","05790","TARAZÁ","Municipio","TARAZÁ","05","ANTIOQUIA",7.4888759980000001,-75.401894377000005]
["ANTIOQUIACZ BAJO CAUCAZARAGOZA",2021,"05","ANTIOQUIA","0507","CZ BAJO CAUCA","05895","ZARAGOZA","Municipio","ZARAGOZA","05","ANTIOQUIA",7.4740040060000004,-74.858483258000007]
["ANTIOQUIACZ LA MESETAANGOSTURA",2021,"05","ANTIOQUIA","0508","CZ LA MESETA","05038","ANGOSTURA","Municipio","ANGOSTURA","05","ANTIOQUIA",6.8614987640000003,-75.358315997000005]
["ANTIOQUIACZ LA MESETABRICEÑO",2021,"05","ANTIOQUIA","0508","CZ LA MESETA","05107","BRICEÑO","Municipio","BRICEÑO","05","ANTIOQUIA",7.1117884619999998,-75.562234738000001]
["ANTIOQUIACZ LA MESETACAMPAMENTO",2021,"05","ANTIOQUIA","0508","CZ LA MESETA","05134","CAMPAMENTO","Municipio","CAMPAMENTO","05","ANTIOQUIA",7.0360174779999998,-75.287661778]
["ANTIOQUIACZ LA MESETACAROLINA",2021,"05","ANTIOQUIA","0508","CZ LA MESETA","05150","CAROLINA","Municipio","CAROLINA","05","ANTIOQUIA",6.7548214419999999,-75.305906539000006]
["ANTIOQUIACZ LA MESETAGÓMEZ PLATA",2021,"05","ANTIOQUIA","0508","CZ LA MESETA","05310","GÓMEZ PLATA","Municipio","GÓMEZ PLATA","05","ANTIOQUIA",6.7095628390000002,-75.192702912000001]
["ANTIOQUIACZ LA MESETAGUADALUPE",2021,"05","ANTIOQUIA","0508","CZ LA MESETA","05315","GUADALUPE","Municipio","GUADALUPE","05","ANTIOQUIA",6.8615763249999997,-75.225913027000004]
["ANTIOQUIACZ LA MESETAITUANGO",2021,"05","ANTIOQUIA","0508","CZ LA MESETA","05361","ITUANGO","Municipio","ITUANGO","05","ANTIOQUIA",7.3415497179999996,-75.678422772999994]
["ANTIOQUIACZ LA MESETASAN ANDRÉS DE CUERQUÍA",2021,"05","ANTIOQUIA","0508","CZ LA MESETA","05647","SAN ANDRÉS DE CUERQUÍA","Municipio","SAN ANDRÉS DE CUERQUÍA","05","ANTIOQUIA",6.9184272330000001,-75.665775800000006]
["ANTIOQUIACZ LA MESETASAN JOSÉ DE LA MONTAÑA",2021,"05","ANTIOQUIA","0508","CZ LA MESETA","05658","SAN JOSÉ DE LA MONTAÑA","Municipio","SAN JOSÉ DE LA MONTAÑA","05","ANTIOQUIA",6.8232589130000001,-75.677708261999996]
["ANTIOQUIACZ LA MESETASANTA ROSA DE OSOS",2021,"05","ANTIOQUIA","0508","CZ LA MESETA","05686","SANTA ROSA DE OSOS","Municipio","SANTA ROSA DE OSOS","05","ANTIOQUIA",6.6758278249999998,-75.438143331999996]
["ANTIOQUIACZ LA MESETATOLEDO",2021,"05","ANTIOQUIA","0508","CZ LA MESETA","05819","TOLEDO","Municipio","TOLEDO","05","ANTIOQUIA",7.0163970689999999,-75.713633819999998]
["ANTIOQUIACZ LA MESETAVALDIVIA",2021,"05","ANTIOQUIA","0508","CZ LA MESETA","05854","VALDIVIA","Municipio","VALDIVIA","05","ANTIOQUIA",7.2654042130000001,-75.400945015000005]
["ANTIOQUIACZ LA MESETAYARUMAL",2021,"05","ANTIOQUIA","0508","CZ LA MESETA","05887","YARUMAL","Municipio","YARUMAL","05","ANTIOQUIA",6.9881308999999998,-75.454399574000007]
["ANTIOQUIACZ MAGDALENA MEDIOCARACOLÍ",2021,"05","ANTIOQUIA","0509","CZ MAGDALENA MEDIO","05142","CARACOLÍ","Municipio","CARACOLÍ","05","ANTIOQUIA",6.3379738799999998,-74.733548173000003]
["ANTIOQUIACZ MAGDALENA MEDIOMACEO",2021,"05","ANTIOQUIA","0509","CZ MAGDALENA MEDIO","05425","MACEO","Municipio","MACEO","05","ANTIOQUIA",6.5345735850000004,-74.714108541000002]
["ANTIOQUIACZ MAGDALENA MEDIOPUERTO BERRÍO",2021,"05","ANTIOQUIA","0509","CZ MAGDALENA MEDIO","05579","PUERTO BERRÍO","Municipio","PUERTO BERRÍO","05","ANTIOQUIA",6.4819222669999998,-74.528742101000006]
["ANTIOQUIACZ MAGDALENA MEDIOPUERTO NARE",2021,"05","ANTIOQUIA","0509","CZ MAGDALENA MEDIO","05585","PUERTO NARE","Municipio","PUERTO NARE","05","ANTIOQUIA",6.1265391390000001,-74.703177217000004]
["ANTIOQUIACZ MAGDALENA MEDIOPUERTO TRIUNFO",2021,"05","ANTIOQUIA","0509","CZ MAGDALENA MEDIO","05591","PUERTO TRIUNFO","Municipio","PUERTO TRIUNFO","05","ANTIOQUIA",5.9548301510000003,-74.686191797999996]
["ANTIOQUIACZ MAGDALENA MEDIOYONDÓ",2021,"05","ANTIOQUIA","0509","CZ MAGDALENA MEDIO","05893","YONDÓ","Municipio","YONDÓ","05","ANTIOQUIA",6.9251593180000004,-74.158240414000005]
["ANTIOQUIACZ OCCIDENTESANTA FÉ DE ANTIOQUIA",2021,"05","ANTIOQUIA","0510","CZ OCCIDENTE","05042","SANTA FÉ DE ANTIOQUIA","Municipio","SANTA FÉ DE ANTIOQUIA","05","ANTIOQUIA",6.5357115759999997,-75.904266578999994]
["ANTIOQUIACZ OCCIDENTEANZA",2021,"05","ANTIOQUIA","0510","CZ OCCIDENTE","05044","ANZA","Municipio","ANZÁ","05","ANTIOQUIA",6.2935466130000002,-75.917369269000005]
["ANTIOQUIACZ OCCIDENTEBURITICÁ",2021,"05","ANTIOQUIA","0510","CZ OCCIDENTE","05113","BURITICÁ","Municipio","BURITICÁ","05","ANTIOQUIA",6.8090648900000001,-75.912065947000002]
["ANTIOQUIACZ OCCIDENTEEBÉJICO",2021,"05","ANTIOQUIA","0510","CZ OCCIDENTE","05240","EBÉJICO","Municipio","EBÉJICO","05","ANTIOQUIA",6.3264449220000003,-75.783311748000003]
["ANTIOQUIACZ OCCIDENTEGIRALDO",2021,"05","ANTIOQUIA","0510","CZ OCCIDENTE","05306","GIRALDO","Municipio","GIRALDO","05","ANTIOQUIA",6.6630958629999997,-75.948046628]
["ANTIOQUIACZ OCCIDENTELIBORINA",2021,"05","ANTIOQUIA","0510","CZ OCCIDENTE","05411","LIBORINA","Municipio","LIBORINA","05","ANTIOQUIA",6.7239909349999998,-75.783000458000004]
["ANTIOQUIACZ OCCIDENTEOLAYA",2021,"05","ANTIOQUIA","0510","CZ OCCIDENTE","05501","OLAYA","Municipio","OLAYA","05","ANTIOQUIA",6.6114180830000002,-75.775670969000004]
["ANTIOQUIACZ OCCIDENTESABANALARGA",2021,"05","ANTIOQUIA","0510","CZ OCCIDENTE","05628","SABANALARGA","Municipio","SABANALARGA","05","ANTIOQUIA",6.9010005059999999,-75.792227534999995]
["ANTIOQUIACZ OCCIDENTESAN JERÓNIMO",2021,"05","ANTIOQUIA","0510","CZ OCCIDENTE","05656","SAN JERÓNIMO","Municipio","SAN JERÓNIMO","05","ANTIOQUIA",6.438300409,-75.703107271999997]
["ANTIOQUIACZ OCCIDENTESOPETRÁN",2021,"05","ANTIOQUIA","0510","CZ OCCIDENTE","05761","SOPETRÁN","Municipio","SOPETRÁN","05","ANTIOQUIA",6.5201645519999998,-75.745809033]
["ANTIOQUIACZ OCCIDENTE MEDIOABRIAQUÍ",2021,"05","ANTIOQUIA","0511","CZ OCCIDENTE MEDIO","05004","ABRIAQUÍ","Municipio","ABRIAQUÍ","05","ANTIOQUIA",6.6275693779999996,-76.085977561000007]
["ANTIOQUIACZ OCCIDENTE MEDIOCAÑASGORDAS",2021,"05","ANTIOQUIA","0511","CZ OCCIDENTE MEDIO","05138","CAÑASGORDAS","Municipio","CAÑASGORDAS","05","ANTIOQUIA",6.8149500229999997,-76.026896320000006]
["ANTIOQUIACZ OCCIDENTE MEDIODABEIBA",2021,"05","ANTIOQUIA","0511","CZ OCCIDENTE MEDIO","05234","DABEIBA","Municipio","DABEIBA","05","ANTIOQUIA",6.9922437820000001,-76.314263284000006]
["ANTIOQUIACZ OCCIDENTE MEDIOFRONTINO",2021,"05","ANTIOQUIA","0511","CZ OCCIDENTE MEDIO","05284","FRONTINO","Municipio","FRONTINO","05","ANTIOQUIA",6.6913647730000001,-76.331996559999993]
["ANTIOQUIACZ OCCIDENTE MEDIOPEQUE",2021,"05","ANTIOQUIA","0511","CZ OCCIDENTE MEDIO","05543","PEQUE","Municipio","PEQUE","05","ANTIOQUIA",7.0441800580000002,-75.889688434000007]
["ANTIOQUIACZ OCCIDENTE MEDIOURAMITA",2021,"05","ANTIOQUIA","0511","CZ OCCIDENTE MEDIO","05842","URAMITA","Municipio","URAMITA","05","ANTIOQUIA",6.9139169239999996,-76.133185135999994]
["ANTIOQUIACZ ORIENTEABEJORRAL",2021,"05","ANTIOQUIA","0512","CZ ORIENTE","05002","ABEJORRAL","Municipio","ABEJORRAL","05","ANTIOQUIA",5.8037281539999999,-75.438473525000006]
["ANTIOQUIACZ ORIENTEALEJANDRÍA",2021,"05","ANTIOQUIA","0512","CZ ORIENTE","05021","ALEJANDRÍA","Municipio","ALEJANDRÍA","05","ANTIOQUIA",6.3655341249999999,-75.090597021999997]
["ANTIOQUIACZ ORIENTEARGELIA",2021,"05","ANTIOQUIA","0512","CZ ORIENTE","05055","ARGELIA","Municipio","ARGELIA","05","ANTIOQUIA",5.708114524,-75.094697953999997]
["ANTIOQUIACZ ORIENTEEL CARMEN DE VIBORAL",2021,"05","ANTIOQUIA","0512","CZ ORIENTE","05148","EL CARMEN DE VIBORAL","Municipio","EL CARMEN DE VIBORAL","05","ANTIOQUIA",5.9780788410000003,-75.263536102000003]
["ANTIOQUIACZ ORIENTECONCEPCIÓN",2021,"05","ANTIOQUIA","0512","CZ ORIENTE","05206","CONCEPCIÓN","Municipio","CONCEPCIÓN","05","ANTIOQUIA",6.3761061870000004,-75.217859013999998]
["ANTIOQUIACZ ORIENTEGUARNE",2021,"05","ANTIOQUIA","0512","CZ ORIENTE","05318","GUARNE","Municipio","GUARNE","05","ANTIOQUIA",6.2666257029999999,-75.437308008000002]
["ANTIOQUIACZ ORIENTEGUATAPE",2021,"05","ANTIOQUIA","0512","CZ ORIENTE","05321","GUATAPE","Municipio","GUATAPÉ","05","ANTIOQUIA",6.2363298260000004,-75.156512723000006]
["ANTIOQUIACZ ORIENTELA CEJA",2021,"05","ANTIOQUIA","0512","CZ ORIENTE","05376","LA CEJA","Municipio","LA CEJA","05","ANTIOQUIA",5.992524843,-75.430869346999998]
["ANTIOQUIACZ ORIENTELA UNIÓN",2021,"05","ANTIOQUIA","0512","CZ ORIENTE","05400","LA UNIÓN","Municipio","LA UNIÓN","05","ANTIOQUIA",5.9404346849999996,-75.354290227000007]
["ANTIOQUIACZ ORIENTEMARINILLA",2021,"05","ANTIOQUIA","0512","CZ ORIENTE","05440","MARINILLA","Municipio","MARINILLA","05","ANTIOQUIA",6.1852051499999998,-75.304879329000002]
["ANTIOQUIACZ ORIENTENARIÑO",2021,"05","ANTIOQUIA","0512","CZ ORIENTE","05483","NARIÑO","Municipio","NARIÑO","05","ANTIOQUIA",5.5812753119999998,-75.194570185000003]
["ANTIOQUIACZ ORIENTEPEÑOL",2021,"05","ANTIOQUIA","0512","CZ ORIENTE","05541","PEÑOL","Municipio","PEÑOL","05","ANTIOQUIA",6.2323963679999999,-75.223509054999994]
["ANTIOQUIACZ ORIENTERETIRO",2021,"05","ANTIOQUIA","0512","CZ ORIENTE","05607","RETIRO","Municipio","RETIRO","05","ANTIOQUIA",6.0534442540000004,-75.515738045000006]
["ANTIOQUIACZ ORIENTERIONEGRO",2021,"05","ANTIOQUIA","0512","CZ ORIENTE","05615","RIONEGRO","Municipio","RIONEGRO","05","ANTIOQUIA",6.1507858070000001,-75.410760523999997]
["ANTIOQUIACZ ORIENTESAN VICENTE FERRER",2021,"05","ANTIOQUIA","0512","CZ ORIENTE","05674","SAN VICENTE FERRER","Municipio","SAN VICENTE FERRER","05","ANTIOQUIA",6.3103875220000001,-75.327401628000004]
["ANTIOQUIACZ ORIENTESONSON",2021,"05","ANTIOQUIA","0512","CZ ORIENTE","05756","SONSON","Municipio","SONSÓN","05","ANTIOQUIA",5.8263887790000002,-74.836376224999995]
["ANTIOQUIACZ PORCE NUSAMALFI",2021,"05","ANTIOQUIA","0513","CZ PORCE NUS","05031","AMALFI","Municipio","AMALFI","05","ANTIOQUIA",6.9777888429999999,-74.981239298000006]
["ANTIOQUIACZ PORCE NUSANORÍ",2021,"05","ANTIOQUIA","0513","CZ PORCE NUS","05040","ANORÍ","Municipio","ANORÍ","05","ANTIOQUIA",7.1931107780000003,-75.108489539000004]
["ANTIOQUIACZ PORCE NUSCISNEROS",2021,"05","ANTIOQUIA","0513","CZ PORCE NUS","05190","CISNEROS","Municipio","CISNEROS","05","ANTIOQUIA",6.5500654310000002,-75.082541160000005]
["ANTIOQUIACZ PORCE NUSREMEDIOS",2021,"05","ANTIOQUIA","0513","CZ PORCE NUS","05604","REMEDIOS","Municipio","REMEDIOS","05","ANTIOQUIA",6.9972673749999998,-74.558656518000006]
["ANTIOQUIACZ PORCE NUSSAN ROQUE",2021,"05","ANTIOQUIA","0513","CZ PORCE NUS","05670","SAN ROQUE","Municipio","SAN ROQUE","05","ANTIOQUIA",6.4661652109999999,-74.945073195999996]
["ANTIOQUIACZ PORCE NUSSANTO DOMINGO",2021,"05","ANTIOQUIA","0513","CZ PORCE NUS","05690","SANTO DOMINGO","Municipio","SANTO DOMINGO","05","ANTIOQUIA",6.4810441320000001,-75.142600967999996]
["ANTIOQUIACZ PORCE NUSSEGOVIA",2021,"05","ANTIOQUIA","0513","CZ PORCE NUS","05736","SEGOVIA","Municipio","SEGOVIA","05","ANTIOQUIA",7.2669233899999996,-74.621639263000006]
["ANTIOQUIACZ PORCE NUSVEGACHÍ",2021,"05","ANTIOQUIA","0513","CZ PORCE NUS","05858","VEGACHÍ","Municipio","VEGACHÍ","05","ANTIOQUIA",6.8365351219999999,-74.754030202999999]
["ANTIOQUIACZ PORCE NUSYALÍ",2021,"05","ANTIOQUIA","0513","CZ PORCE NUS","05885","YALÍ","Municipio","YALÍ","05","ANTIOQUIA",6.7168706790000003,-74.755650020000004]
["ANTIOQUIACZ PORCE NUSYOLOMBÓ",2021,"05","ANTIOQUIA","0513","CZ PORCE NUS","05890","YOLOMBÓ","Municipio","YOLOMBÓ","05","ANTIOQUIA",6.6444278600000004,-75.029902657999997]
["ANTIOQUIACZ SUROESTEANDES",2021,"05","ANTIOQUIA","0514","CZ SUROESTE","05034","ANDES","Municipio","ANDES","05","ANTIOQUIA",5.6049932480000004,-75.941283908000003]
["ANTIOQUIACZ SUROESTEBETANIA",2021,"05","ANTIOQUIA","0514","CZ SUROESTE","05091","BETANIA","Municipio","BETANIA","05","ANTIOQUIA",5.7270812849999997,-75.986891073999999]
["ANTIOQUIACZ SUROESTECIUDAD BOLÍVAR",2021,"05","ANTIOQUIA","0514","CZ SUROESTE","05101","CIUDAD BOLÍVAR","Municipio","CIUDAD BOLÍVAR","05","ANTIOQUIA",5.8409956660000004,-76.010652526000001]
["ANTIOQUIACZ SUROESTECARAMANTA",2021,"05","ANTIOQUIA","0514","CZ SUROESTE","05145","CARAMANTA","Municipio","CARAMANTA","05","ANTIOQUIA",5.5552752959999996,-75.630820963999994]
["ANTIOQUIACZ SUROESTEHISPANIA",2021,"05","ANTIOQUIA","0514","CZ SUROESTE","05353","HISPANIA","Municipio","HISPANIA","05","ANTIOQUIA",5.797039002,-75.906692027999995]
["ANTIOQUIACZ SUROESTEJARDÍN",2021,"05","ANTIOQUIA","0514","CZ SUROESTE","05364","JARDÍN","Municipio","JARDÍN","05","ANTIOQUIA",5.5744443390000002,-75.818425747999996]
["ANTIOQUIACZ SUROESTEJERICÓ",2021,"05","ANTIOQUIA","0514","CZ SUROESTE","05368","JERICÓ","Municipio","JERICÓ","05","ANTIOQUIA",5.7698205360000001,-75.764882556000003]
["ANTIOQUIACZ SUROESTEPUEBLORRICO",2021,"05","ANTIOQUIA","0514","CZ SUROESTE","05576","PUEBLORRICO","Municipio","PUEBLORRICO","05","ANTIOQUIA",5.8097018599999997,-75.860766666000004]
["ANTIOQUIACZ SUROESTESALGAR",2021,"05","ANTIOQUIA","0514","CZ SUROESTE","05642","SALGAR","Municipio","SALGAR","05","ANTIOQUIA",5.9705023339999999,-75.981372511000004]
["ANTIOQUIACZ SUROESTETÁMESIS",2021,"05","ANTIOQUIA","0514","CZ SUROESTE","05789","TÁMESIS","Municipio","TÁMESIS","05","ANTIOQUIA",5.6737585709999996,-75.709799743000005]
["ANTIOQUIACZ SUROESTETARSO",2021,"05","ANTIOQUIA","0514","CZ SUROESTE","05792","TARSO","Municipio","TARSO","05","ANTIOQUIA",5.8710645570000004,-75.828711443000003]
["ANTIOQUIACZ SUROESTEVALPARAÍSO",2021,"05","ANTIOQUIA","0514","CZ SUROESTE","05856","VALPARAÍSO","Municipio","VALPARAÍSO","05","ANTIOQUIA",5.651937802,-75.630834123]
["ANTIOQUIACZ PENDERISCOBETULIA",2021,"05","ANTIOQUIA","0515","CZ PENDERISCO","05093","BETULIA","Municipio","BETULIA","05","ANTIOQUIA",6.1857836119999998,-75.956492463000004]
["ANTIOQUIACZ PENDERISCOCAICEDO",2021,"05","ANTIOQUIA","0515","CZ PENDERISCO","05125","CAICEDO","Municipio","CAICEDO","05","ANTIOQUIA",6.4234636390000004,-75.99351498]
["ANTIOQUIACZ PENDERISCOCONCORDIA",2021,"05","ANTIOQUIA","0515","CZ PENDERISCO","05209","CONCORDIA","Municipio","CONCORDIA","05","ANTIOQUIA",6.0574686780000002,-75.900146782999997]
["ANTIOQUIACZ PENDERISCOURRAO",2021,"05","ANTIOQUIA","0515","CZ PENDERISCO","05847","URRAO","Municipio","URRAO","05","ANTIOQUIA",6.3353413400000003,-76.259064819000002]
["ANTIOQUIACZ URABAAPARTADÓ",2021,"05","ANTIOQUIA","0516","CZ URABA","05045","APARTADÓ","Municipio","APARTADÓ","05","ANTIOQUIA",7.8604781499999996,-76.582362642999996]
["ANTIOQUIACZ URABAARBOLETES",2021,"05","ANTIOQUIA","0516","CZ URABA","05051","ARBOLETES","Municipio","ARBOLETES","05","ANTIOQUIA",8.6113952620000003,-76.414783173000004]
["ANTIOQUIACZ URABACAREPA",2021,"05","ANTIOQUIA","0516","CZ URABA","05147","CAREPA","Municipio","CAREPA","05","ANTIOQUIA",7.7579674369999996,-76.643746573000001]
["ANTIOQUIACZ URABACHIGORODÓ",2021,"05","ANTIOQUIA","0516","CZ URABA","05172","CHIGORODÓ","Municipio","CHIGORODÓ","05","ANTIOQUIA",7.6316656439999999,-76.639642127000002]
["ANTIOQUIACZ URABAMURINDÓ",2021,"05","ANTIOQUIA","0516","CZ URABA","05475","MURINDÓ","Municipio","MURINDÓ","05","ANTIOQUIA",6.8287738549999997,-76.708613490999994]
["ANTIOQUIACZ URABAMUTATÁ",2021,"05","ANTIOQUIA","0516","CZ URABA","05480","MUTATÁ","Municipio","MUTATÁ","05","ANTIOQUIA",7.3295578480000003,-76.463065694999997]
["ANTIOQUIACZ URABANECOCLÍ",2021,"05","ANTIOQUIA","0516","CZ URABA","05490","NECOCLÍ","Municipio","NECOCLÍ","05","ANTIOQUIA",8.4937285510000002,-76.676995883999993]
["ANTIOQUIACZ URABASAN JUAN DE URABÁ",2021,"05","ANTIOQUIA","0516","CZ URABA","05659","SAN JUAN DE URABÁ","Municipio","SAN JUAN DE URABÁ","05","ANTIOQUIA",8.7071415830000003,-76.532482342999998]
["ANTIOQUIACZ URABASAN PEDRO DE URABA",2021,"05","ANTIOQUIA","0516","CZ URABA","05665","SAN PEDRO DE URABA","Municipio","SAN PEDRO DE URABÁ","05","ANTIOQUIA",8.3791569500000005,-76.316642333999994]
["ANTIOQUIACZ URABATURBO",2021,"05","ANTIOQUIA","0516","CZ URABA","05837","TURBO","Municipio","TURBO","05","ANTIOQUIA",8.1738517450000003,-76.574037700999995]
["ANTIOQUIACZ URABAVIGÍA DEL FUERTE",2021,"05","ANTIOQUIA","0516","CZ URABA","05873","VIGÍA DEL FUERTE","Municipio","VIGÍA DEL FUERTE","05","ANTIOQUIA",6.4533513339999997,-76.695048017000005]
["ANTIOQUIACZ ORIENTE MEDIOCOCORNÁ",2021,"05","ANTIOQUIA","0517","CZ ORIENTE MEDIO","05197","COCORNÁ","Municipio","COCORNÁ","05","ANTIOQUIA",6.0055930740000001,-75.160154032999998]
["ANTIOQUIACZ ORIENTE MEDIOGRANADA",2021,"05","ANTIOQUIA","0517","CZ ORIENTE MEDIO","05313","GRANADA","Municipio","GRANADA","05","ANTIOQUIA",6.1233807210000002,-75.127636463000002]
["ANTIOQUIACZ ORIENTE MEDIOSAN CARLOS",2021,"05","ANTIOQUIA","0517","CZ ORIENTE MEDIO","05649","SAN CARLOS","Municipio","SAN CARLOS","05","ANTIOQUIA",6.1937896590000001,-74.907327690000002]
["ANTIOQUIACZ ORIENTE MEDIOSAN FRANCISCO",2021,"05","ANTIOQUIA","0517","CZ ORIENTE MEDIO","05652","SAN FRANCISCO","Municipio","SAN FRANCISCO","05","ANTIOQUIA",5.8400937309999996,-74.981763340000001]
["ANTIOQUIACZ ORIENTE MEDIOSAN LUIS",2021,"05","ANTIOQUIA","0517","CZ ORIENTE MEDIO","05660","SAN LUIS","Municipio","SAN LUIS","05","ANTIOQUIA",6.0242059560000003,-75.007667402999999]
["ANTIOQUIACZ ORIENTE MEDIOSAN RAFAEL",2021,"05","ANTIOQUIA","0517","CZ ORIENTE MEDIO","05667","SAN RAFAEL","Municipio","SAN RAFAEL","05","ANTIOQUIA",6.31074453,-74.998586516000003]
["ANTIOQUIACZ ORIENTE MEDIOEL SANTUARIO",2021,"05","ANTIOQUIA","0517","CZ ORIENTE MEDIO","05697","EL SANTUARIO","Municipio","EL SANTUARIO","05","ANTIOQUIA",6.1242094949999997,-75.252122775999993]
["ANTIOQUIACZ LA FLORESTAMEDELLÍN",2021,"05","ANTIOQUIA","0535","CZ LA FLORESTA","05001","MEDELLÍN","Municipio","MEDELLÍN","05","ANTIOQUIA",6.2575902589999997,-75.611031065000006]
["ANTIOQUIACZ LA FLORESTAANGELÓPOLIS",2021,"05","ANTIOQUIA","0535","CZ LA FLORESTA","05036","ANGELÓPOLIS","Municipio","ANGELÓPOLIS","05","ANTIOQUIA",6.1214303030000004,-75.715949663000004]
["ANTIOQUIACZ LA FLORESTAARMENIA",2021,"05","ANTIOQUIA","0535","CZ LA FLORESTA","05059","ARMENIA","Municipio","ARMENIA","05","ANTIOQUIA",6.1636837580000003,-75.809955281000001]
["ANTIOQUIACZ LA FLORESTABARBOSA",2021,"05","ANTIOQUIA","0535","CZ LA FLORESTA","05079","BARBOSA","Municipio","BARBOSA","05","ANTIOQUIA",6.4434179350000003,-75.329240854000005]
["ANTIOQUIACZ LA FLORESTABELLO",2021,"05","ANTIOQUIA","0535","CZ LA FLORESTA","05088","BELLO","Municipio","BELLO","05","ANTIOQUIA",6.358841086,-75.589735877999999]
["ANTIOQUIACZ LA FLORESTACALDAS",2021,"05","ANTIOQUIA","0535","CZ LA FLORESTA","05129","CALDAS","Municipio","CALDAS","05","ANTIOQUIA",6.0544468409999999,-75.626426742999996]
["ANTIOQUIACZ LA FLORESTACOPACABANA",2021,"05","ANTIOQUIA","0535","CZ LA FLORESTA","05212","COPACABANA","Municipio","COPACABANA","05","ANTIOQUIA",6.351882893,-75.500756330000002]
["ANTIOQUIACZ LA FLORESTAENVIGADO",2021,"05","ANTIOQUIA","0535","CZ LA FLORESTA","05266","ENVIGADO","Municipio","ENVIGADO","05","ANTIOQUIA",6.1543949219999998,-75.546867788]
["ANTIOQUIACZ LA FLORESTAGIRARDOTA",2021,"05","ANTIOQUIA","0535","CZ LA FLORESTA","05308","GIRARDOTA","Municipio","GIRARDOTA","05","ANTIOQUIA",6.3797458950000001,-75.447957442000003]
["ANTIOQUIACZ LA FLORESTAHELICONIA",2021,"05","ANTIOQUIA","0535","CZ LA FLORESTA","05347","HELICONIA","Municipio","HELICONIA","05","ANTIOQUIA",6.2145117880000003,-75.749710019000005]
["ANTIOQUIACZ LA FLORESTAITAGUI",2021,"05","ANTIOQUIA","0535","CZ LA FLORESTA","05360","ITAGUI","Municipio","ITAGÜÍ","05","ANTIOQUIA",6.179279438,-75.614203699000001]
["ANTIOQUIACZ LA FLORESTALA ESTRELLA",2021,"05","ANTIOQUIA","0535","CZ LA FLORESTA","05380","LA ESTRELLA","Municipio","LA ESTRELLA","05","ANTIOQUIA",6.1375958830000004,-75.648954990999997]
["ANTIOQUIACZ LA FLORESTASABANETA",2021,"05","ANTIOQUIA","0535","CZ LA FLORESTA","05631","SABANETA","Municipio","SABANETA","05","ANTIOQUIA",6.1383051829999999,-75.608805993000004]
["ANTIOQUIACZ ROSALESMEDELLÍN",2021,"05","ANTIOQUIA","0536","CZ ROSALES","05001","MEDELLÍN","Municipio","MEDELLÍN","05","ANTIOQUIA",6.2575902589999997,-75.611031065000006]
["ATLÁNTICOREGIONAL ATLANTICOSEDE REGIONAL",2021,"08","ATLÁNTICO","0800","REGIONAL ATLANTICO","08900","SEDE REGIONAL","N/A","N/A","08","ATLÁNTICO","N/A","N/A"]
["ATLÁNTICOCZ NORTE CENTRO HISTORICOBARRANQUILLA",2021,"08","ATLÁNTICO","0801","CZ NORTE CENTRO HISTORICO","08001","BARRANQUILLA","Municipio","BARRANQUILLA","08","ATLÁNTICO",10.981520509999999,-74.827715439000002]
["ATLÁNTICOCZ NORTE CENTRO HISTORICOPUERTO COLOMBIA",2021,"08","ATLÁNTICO","0801","CZ NORTE CENTRO HISTORICO","08573","PUERTO COLOMBIA","Municipio","PUERTO COLOMBIA","08","ATLÁNTICO",11.004422597,-74.907405804000007]
["ATLÁNTICOCZ SUROCCIDENTEBARRANQUILLA",2021,"08","ATLÁNTICO","0802","CZ SUROCCIDENTE","08001","BARRANQUILLA","Municipio","BARRANQUILLA","08","ATLÁNTICO",10.981520509999999,-74.827715439000002]
["ATLÁNTICOCZ BARANOABARANOA",2021,"08","ATLÁNTICO","0803","CZ BARANOA","08078","BARANOA","Municipio","BARANOA","08","ATLÁNTICO",10.793293019,-74.922194906000001]
["ATLÁNTICOCZ BARANOAGALAPA",2021,"08","ATLÁNTICO","0803","CZ BARANOA","08296","GALAPA","Municipio","GALAPA","08","ATLÁNTICO",10.897719907000001,-74.887087875999995]
["ATLÁNTICOCZ BARANOAJUAN DE ACOSTA",2021,"08","ATLÁNTICO","0803","CZ BARANOA","08372","JUAN DE ACOSTA","Municipio","JUAN DE ACOSTA","08","ATLÁNTICO",10.823065032000001,-75.078419038999996]
["ATLÁNTICOCZ BARANOAPIOJÓ",2021,"08","ATLÁNTICO","0803","CZ BARANOA","08549","PIOJÓ","Municipio","PIOJÓ","08","ATLÁNTICO",10.740789594000001,-75.143660335000007]
["ATLÁNTICOCZ BARANOAPOLONUEVO",2021,"08","ATLÁNTICO","0803","CZ BARANOA","08558","POLONUEVO","Municipio","POLONUEVO","08","ATLÁNTICO",10.767401414,-74.854148436000003]
["ATLÁNTICOCZ BARANOATUBARÁ",2021,"08","ATLÁNTICO","0803","CZ BARANOA","08832","TUBARÁ","Municipio","TUBARÁ","08","ATLÁNTICO",10.907219383999999,-74.984232930000005]
["ATLÁNTICOCZ BARANOAUSIACURÍ",2021,"08","ATLÁNTICO","0803","CZ BARANOA","08849","USIACURÍ","Municipio","USIACURÍ","08","ATLÁNTICO",10.740522657,-74.982674126000006]
["ATLÁNTICOCZ SABANALARGACANDELARIA",2021,"08","ATLÁNTICO","0804","CZ SABANALARGA","08141","CANDELARIA","Municipio","CANDELARIA","08","ATLÁNTICO",10.489020471,-74.877566267999995]
["ATLÁNTICOCZ SABANALARGALURUACO",2021,"08","ATLÁNTICO","0804","CZ SABANALARGA","08421","LURUACO","Municipio","LURUACO","08","ATLÁNTICO",10.635031161000001,-75.154027409999998]
["ATLÁNTICOCZ SABANALARGAMANATÍ",2021,"08","ATLÁNTICO","0804","CZ SABANALARGA","08436","MANATÍ","Municipio","MANATÍ","08","ATLÁNTICO",10.454145545999999,-74.984773669000006]
["ATLÁNTICOCZ SABANALARGAREPELÓN",2021,"08","ATLÁNTICO","0804","CZ SABANALARGA","08606","REPELÓN","Municipio","REPELÓN","08","ATLÁNTICO",10.507570512999999,-75.121880527000002]
["ATLÁNTICOCZ SABANALARGASABANALARGA",2021,"08","ATLÁNTICO","0804","CZ SABANALARGA","08638","SABANALARGA","Municipio","SABANALARGA","08","ATLÁNTICO",10.622507773000001,-74.955105415999995]
["ATLÁNTICOCZ SABANAGRANDECAMPO DE LA CRUZ",2021,"08","ATLÁNTICO","0805","CZ SABANAGRANDE","08137","CAMPO DE LA CRUZ","Municipio","CAMPO DE LA CRUZ","08","ATLÁNTICO",10.38405079,-74.884660393000004]
["ATLÁNTICOCZ SABANAGRANDEPALMAR DE VARELA",2021,"08","ATLÁNTICO","0805","CZ SABANAGRANDE","08520","PALMAR DE VARELA","Municipio","PALMAR DE VARELA","08","ATLÁNTICO",10.694812078,-74.770150903000001]
["ATLÁNTICOCZ SABANAGRANDEPONEDERA",2021,"08","ATLÁNTICO","0805","CZ SABANAGRANDE","08560","PONEDERA","Municipio","PONEDERA","08","ATLÁNTICO",10.594651021000001,-74.798473157999993]
["ATLÁNTICOCZ SABANAGRANDESABANAGRANDE",2021,"08","ATLÁNTICO","0805","CZ SABANAGRANDE","08634","SABANAGRANDE","Municipio","SABANAGRANDE","08","ATLÁNTICO",10.798940151,-74.768796602999998]
["ATLÁNTICOCZ SABANAGRANDESANTA LUCÍA",2021,"08","ATLÁNTICO","0805","CZ SABANAGRANDE","08675","SANTA LUCÍA","Municipio","SANTA LUCÍA","08","ATLÁNTICO",10.353641919999999,-74.965411786999994]
["ATLÁNTICOCZ SABANAGRANDESANTO TOMÁS",2021,"08","ATLÁNTICO","0805","CZ SABANAGRANDE","08685","SANTO TOMÁS","Municipio","SANTO TOMÁS","08","ATLÁNTICO",10.755626561,-74.787264680000007]
["ATLÁNTICOCZ SABANAGRANDESUAN",2021,"08","ATLÁNTICO","0805","CZ SABANAGRANDE","08770","SUAN","Municipio","SUAN","08","ATLÁNTICO",10.310850347000001,-74.907133083999994]
["ATLÁNTICOCZ HIPODROMOMALAMBO",2021,"08","ATLÁNTICO","0806","CZ HIPODROMO","08433","MALAMBO","Municipio","MALAMBO","08","ATLÁNTICO",10.848288642,-74.806175549000002]
["ATLÁNTICOCZ HIPODROMOSOLEDAD",2021,"08","ATLÁNTICO","0806","CZ HIPODROMO","08758","SOLEDAD","Municipio","SOLEDAD","08","ATLÁNTICO",10.906906595000001,-74.778424903000001]
["ATLÁNTICOCZ SURORIENTEBARRANQUILLA",2021,"08","ATLÁNTICO","0807","CZ SURORIENTE","08001","BARRANQUILLA","Municipio","BARRANQUILLA","08","ATLÁNTICO",10.981520509999999,-74.827715439000002]
["BOGOTÁ D.C.REGIONAL BOGOTABOGOTÁ DC",2021,"11","BOGOTÁ D.C.","1100","REGIONAL BOGOTA","11001","BOGOTÁ DC","Municipio","BOGOTÁ, D.C.","11","BOGOTÁ, D.C.",4.3161076979999997,-74.181072701999994]
["BOGOTÁ D.C.REGIONAL BOGOTASEDE REGIONAL",2021,"11","BOGOTÁ D.C.","1100","REGIONAL BOGOTA","11900","SEDE REGIONAL","N/A","N/A","11","BOGOTÁ, D.C.","N/A","N/A"]
["BOGOTÁ D.C.CZ CIUDAD BOLIVARCIUDAD BOLIVAR",2021,"11","BOGOTÁ D.C.","1101","CZ CIUDAD BOLIVAR","11019","CIUDAD BOLIVAR","Localidad","LOCALIDAD","11","BOGOTÁ, D.C.","N/A","N/A"]
["BOGOTÁ D.C.CZ TUNJUELITOTUNJUELITO",2021,"11","BOGOTÁ D.C.","1102","CZ TUNJUELITO","11006","TUNJUELITO","Localidad","LOCALIDAD","11","BOGOTÁ, D.C.","N/A","N/A"]
["BOGOTÁ D.C.CZ USMEUSME",2021,"11","BOGOTÁ D.C.","1103","CZ USME","11005","USME","Localidad","LOCALIDAD","11","BOGOTÁ, D.C.","N/A","N/A"]
["BOGOTÁ D.C.CZ USMESUMAPAZ",2021,"11","BOGOTÁ D.C.","1103","CZ USME","11020","SUMAPAZ","Localidad","LOCALIDAD","11","BOGOTÁ, D.C.","N/A","N/A"]
["BOGOTÁ D.C.CZ SAN CRISTOBAL SURSAN CRISTOBAL SUR",2021,"11","BOGOTÁ D.C.","1104","CZ SAN CRISTOBAL SUR","11004","SAN CRISTOBAL SUR","Localidad","LOCALIDAD","11","BOGOTÁ, D.C.","N/A","N/A"]
["BOGOTÁ D.C.CZ KENNEDY CENTRALKENNEDY",2021,"11","BOGOTÁ D.C.","1131","CZ KENNEDY CENTRAL","11008","KENNEDY","Localidad","LOCALIDAD","11","BOGOTÁ, D.C.","N/A","N/A"]
["BOGOTÁ D.C.CZ KENNEDYKENNEDY",2021,"11","BOGOTÁ D.C.","1105","CZ KENNEDY","11008","KENNEDY","Localidad","LOCALIDAD","11","BOGOTÁ, D.C.","N/A","N/A"]
["BOGOTÁ D.C.CZ REVIVIRTEUSAQUILLO",2021,"11","BOGOTÁ D.C.","1106","CZ REVIVIR","11013","TEUSAQUILLO","Localidad","LOCALIDAD","11","BOGOTÁ, D.C.","N/A","N/A"]
["BOGOTÁ D.C.CZ PUENTE ARANDAPUENTE ARANDA",2021,"11","BOGOTÁ D.C.","1107","CZ PUENTE ARANDA","11016","PUENTE ARANDA","Localidad","LOCALIDAD","11","BOGOTÁ, D.C.","N/A","N/A"]
["BOGOTÁ D.C.CZ BOSABOSA",2021,"11","BOGOTÁ D.C.","1108","CZ BOSA","11007","BOSA","Localidad","LOCALIDAD","11","BOGOTÁ, D.C.","N/A","N/A"]
["BOGOTÁ D.C.CZ RAFAEL URIBEANTONIO NARIÑO",2021,"11","BOGOTÁ D.C.","1109","CZ RAFAEL URIBE","11015","ANTONIO NARIÑO","Localidad","LOCALIDAD","11","BOGOTÁ, D.C.","N/A","N/A"]
["BOGOTÁ D.C.CZ RAFAEL URIBERAFAEL URIBE",2021,"11","BOGOTÁ D.C.","1109","CZ RAFAEL URIBE","11018","RAFAEL URIBE","Localidad","LOCALIDAD","11","BOGOTÁ, D.C.","N/A","N/A"]
["BOGOTÁ D.C.CZ SANTA FESANTA FE",2021,"11","BOGOTÁ D.C.","1110","CZ SANTA FE","11003","SANTA FE","Localidad","LOCALIDAD","11","BOGOTÁ, D.C.","N/A","N/A"]
["BOGOTÁ D.C.CZ SANTA FELA CANDELARIA",2021,"11","BOGOTÁ D.C.","1110","CZ SANTA FE","11017","LA CANDELARIA","Localidad","LOCALIDAD","11","BOGOTÁ, D.C.","N/A","N/A"]
["BOGOTÁ D.C.CZ FONTIBONFONTIBON",2021,"11","BOGOTÁ D.C.","1111","CZ FONTIBON","11009","FONTIBON","Localidad","LOCALIDAD","11","BOGOTÁ, D.C.","N/A","N/A"]
["BOGOTÁ D.C.CZ BARRIOS UNIDOSCHAPINERO",2021,"11","BOGOTÁ D.C.","1112","CZ BARRIOS UNIDOS","11002","CHAPINERO","Localidad","LOCALIDAD","11","BOGOTÁ, D.C.","N/A","N/A"]
["BOGOTÁ D.C.CZ BARRIOS UNIDOSBARRIOS UNIDOS",2021,"11","BOGOTÁ D.C.","1112","CZ BARRIOS UNIDOS","11012","BARRIOS UNIDOS","Localidad","LOCALIDAD","11","BOGOTÁ, D.C.","N/A","N/A"]
["BOGOTÁ D.C.CZ BARRIOS UNIDOSTEUSAQUILLO",2021,"11","BOGOTÁ D.C.","1112","CZ BARRIOS UNIDOS","11013","TEUSAQUILLO","Localidad","LOCALIDAD","11","BOGOTÁ, D.C.","N/A","N/A"]
["BOGOTÁ D.C.CZ ENGATIVAENGATIVA",2021,"11","BOGOTÁ D.C.","1113","CZ ENGATIVA","11010","ENGATIVA","Localidad","LOCALIDAD","11","BOGOTÁ, D.C.","N/A","N/A"]
["BOGOTÁ D.C.CZ SUBASUBA",2021,"11","BOGOTÁ D.C.","1114","CZ SUBA","11011","SUBA","Localidad","LOCALIDAD","11","BOGOTÁ, D.C.","N/A","N/A"]
["BOGOTÁ D.C.CZ USAQUENUSAQUEN",2021,"11","BOGOTÁ D.C.","1115","CZ USAQUEN","11021","USAQUEN","Localidad","LOCALIDAD","11","BOGOTÁ, D.C.","N/A","N/A"]
["BOGOTÁ D.C.CZ MARTIRESMARTIRES",2021,"11","BOGOTÁ D.C.","1116","CZ MARTIRES","11014","MARTIRES","Localidad","LOCALIDAD","11","BOGOTÁ, D.C.","N/A","N/A"]
["BOGOTÁ D.C.CZ MARTIRESPUENTE ARANDA",2021,"11","BOGOTÁ D.C.","1116","CZ MARTIRES","11016","PUENTE ARANDA","Localidad","LOCALIDAD","11","BOGOTÁ, D.C.","N/A","N/A"]
["BOGOTÁ D.C.CZ CREERBOGOTÁ DC",2021,"11","BOGOTÁ D.C.","1130","CZ CREER","11001","BOGOTÁ DC","Municipio","BOGOTÁ, D.C.","11","BOGOTÁ, D.C.",4.3161076979999997,-74.181072701999994]
["BOLÍVARREGIONAL BOLIVARSEDE REGIONAL",2021,"13","BOLÍVAR","1300","REGIONAL BOLIVAR","13900","SEDE REGIONAL","N/A","N/A","13","BOLÍVAR","N/A","N/A"]
["BOLÍVARCZ HISTORICO Y DEL CARIBE NORTECARTAGENA DE INDIAS",2021,"13","BOLÍVAR","1301","CZ HISTORICO Y DEL CARIBE NORTE","13001","CARTAGENA DE INDIAS","Municipio","CARTAGENA DE INDIAS","13","BOLÍVAR",10.463433617,-75.458899149999993]
["BOLÍVARCZ DE LA VIRGEN Y TURISTICOCARTAGENA DE INDIAS",2021,"13","BOLÍVAR","1302","CZ DE LA VIRGEN Y TURISTICO","13001","CARTAGENA DE INDIAS","Municipio","CARTAGENA DE INDIAS","13","BOLÍVAR",10.463433617,-75.458899149999993]
["BOLÍVARCZ DE LA VIRGEN Y TURISTICOCLEMENCIA",2021,"13","BOLÍVAR","1302","CZ DE LA VIRGEN Y TURISTICO","13222","CLEMENCIA","Municipio","CLEMENCIA","13","BOLÍVAR",10.556636955,-75.314466527999997]
["BOLÍVARCZ DE LA VIRGEN Y TURISTICOSANTA CATALINA",2021,"13","BOLÍVAR","1302","CZ DE LA VIRGEN Y TURISTICO","13673","SANTA CATALINA","Municipio","SANTA CATALINA","13","BOLÍVAR",10.649812775999999,-75.265484630000003]
["BOLÍVARCZ INDUSTRIAL DE LA BAHIACARTAGENA DE INDIAS",2021,"13","BOLÍVAR","1303","CZ INDUSTRIAL DE LA BAHIA","13001","CARTAGENA DE INDIAS","Municipio","CARTAGENA DE INDIAS","13","BOLÍVAR",10.463433617,-75.458899149999993]
["BOLÍVARCZ INDUSTRIAL DE LA BAHIASAN CRISTÓBAL",2021,"13","BOLÍVAR","1303","CZ INDUSTRIAL DE LA BAHIA","13620","SAN CRISTÓBAL","Municipio","SAN CRISTÓBAL","13","BOLÍVAR",10.369720871,-75.073338351999993]
["BOLÍVARCZ INDUSTRIAL DE LA BAHIASAN ESTANISLAO",2021,"13","BOLÍVAR","1303","CZ INDUSTRIAL DE LA BAHIA","13647","SAN ESTANISLAO","Municipio","SAN ESTANISLAO","13","BOLÍVAR",10.364681919000001,-75.205234868000005]
["BOLÍVARCZ INDUSTRIAL DE LA BAHIASANTA ROSA",2021,"13","BOLÍVAR","1303","CZ INDUSTRIAL DE LA BAHIA","13683","SANTA ROSA","Municipio","SANTA ROSA","13","BOLÍVAR",10.469207257000001,-75.361160526999996]
["BOLÍVARCZ INDUSTRIAL DE LA BAHIASOPLAVIENTO",2021,"13","BOLÍVAR","1303","CZ INDUSTRIAL DE LA BAHIA","13760","SOPLAVIENTO","Municipio","SOPLAVIENTO","13","BOLÍVAR",10.332090314,-75.116992257000007]
["BOLÍVARCZ INDUSTRIAL DE LA BAHIAVILLANUEVA",2021,"13","BOLÍVAR","1303","CZ INDUSTRIAL DE LA BAHIA","13873","VILLANUEVA","Municipio","VILLANUEVA","13","BOLÍVAR",10.444913198,-75.267362754000004]
["BOLÍVARCZ TURBACOARJONA",2021,"13","BOLÍVAR","1304","CZ TURBACO","13052","ARJONA","Municipio","ARJONA","13","BOLÍVAR",10.164221225,-75.371217884000004]
["BOLÍVARCZ TURBACOARROYOHONDO",2021,"13","BOLÍVAR","1304","CZ TURBACO","13062","ARROYOHONDO","Municipio","ARROYOHONDO","13","BOLÍVAR",10.241718047000001,-75.026904215000002]
["BOLÍVARCZ TURBACOCALAMAR",2021,"13","BOLÍVAR","1304","CZ TURBACO","13140","CALAMAR","Municipio","CALAMAR","13","BOLÍVAR",10.155170976999999,-74.999959492000002]
["BOLÍVARCZ TURBACOMAHATES",2021,"13","BOLÍVAR","1304","CZ TURBACO","13433","MAHATES","Municipio","MAHATES","13","BOLÍVAR",10.178213908,-75.179781610000006]
["BOLÍVARCZ TURBACOMARÍA LA BAJA",2021,"13","BOLÍVAR","1304","CZ TURBACO","13442","MARÍA LA BAJA","Municipio","MARÍA LA BAJA","13","BOLÍVAR",9.9760171680000003,-75.343802648999997]
["BOLÍVARCZ TURBACOTURBACO",2021,"13","BOLÍVAR","1304","CZ TURBACO","13836","TURBACO","Municipio","TURBACO","13","BOLÍVAR",10.353107564,-75.379715411000006]
["BOLÍVARCZ TURBACOTURBANÁ",2021,"13","BOLÍVAR","1304","CZ TURBACO","13838","TURBANÁ","Municipio","TURBANÁ","13","BOLÍVAR",10.252769289,-75.432702985000006]
["BOLÍVARCZ EL CARMEN DE BOLIVARCÓRDOBA",2021,"13","BOLÍVAR","1305","CZ EL CARMEN DE BOLIVAR","13212","CÓRDOBA","Municipio","CÓRDOBA","13","BOLÍVAR",9.5400475149999995,-74.894456345999998]
["BOLÍVARCZ EL CARMEN DE BOLIVAREL CARMEN DE BOLÍVAR",2021,"13","BOLÍVAR","1305","CZ EL CARMEN DE BOLIVAR","13244","EL CARMEN DE BOLÍVAR","Municipio","EL CARMEN DE BOLÍVAR","13","BOLÍVAR",9.6998198759999994,-75.157935726000005]
["BOLÍVARCZ EL CARMEN DE BOLIVAREL GUAMO",2021,"13","BOLÍVAR","1305","CZ EL CARMEN DE BOLIVAR","13248","EL GUAMO","Municipio","EL GUAMO","13","BOLÍVAR",10.034836723,-74.928110716999996]
["BOLÍVARCZ EL CARMEN DE BOLIVARSAN JACINTO",2021,"13","BOLÍVAR","1305","CZ EL CARMEN DE BOLIVAR","13654","SAN JACINTO","Municipio","SAN JACINTO","13","BOLÍVAR",9.8353620110000008,-75.106092008999994]
["BOLÍVARCZ EL CARMEN DE BOLIVARSAN JUAN NEPOMUCENO",2021,"13","BOLÍVAR","1305","CZ EL CARMEN DE BOLIVAR","13657","SAN JUAN NEPOMUCENO","Municipio","SAN JUAN NEPOMUCENO","13","BOLÍVAR",9.9679578230000008,-75.065719587000004]
["BOLÍVARCZ EL CARMEN DE BOLIVARZAMBRANO",2021,"13","BOLÍVAR","1305","CZ EL CARMEN DE BOLIVAR","13894","ZAMBRANO","Municipio","ZAMBRANO","13","BOLÍVAR",9.7451470209999993,-74.880670366999993]
["BOLÍVARCZ MAGANGUEACHÍ",2021,"13","BOLÍVAR","1306","CZ MAGANGUE","13006","ACHÍ","Municipio","ACHÍ","13","BOLÍVAR",8.6229432619999997,-74.478059447999996]
["BOLÍVARCZ MAGANGUEMAGANGUÉ",2021,"13","BOLÍVAR","1306","CZ MAGANGUE","13430","MAGANGUÉ","Municipio","MAGANGUÉ","13","BOLÍVAR",9.0531358950000005,-74.705393181000005]
["BOLÍVARCZ MAGANGUEMONTECRISTO",2021,"13","BOLÍVAR","1306","CZ MAGANGUE","13458","MONTECRISTO","Municipio","MONTECRISTO","13","BOLÍVAR",8.0171002399999995,-74.463429112]
["BOLÍVARCZ MAGANGUEPINILLOS",2021,"13","BOLÍVAR","1306","CZ MAGANGUE","13549","PINILLOS","Municipio","PINILLOS","13","BOLÍVAR",8.8863155109999994,-74.408884757999999]
["BOLÍVARCZ MAGANGUESAN JACINTO DEL CAUCA",2021,"13","BOLÍVAR","1306","CZ MAGANGUE","13655","SAN JACINTO DEL CAUCA","Municipio","SAN JACINTO DEL CAUCA","13","BOLÍVAR",8.2124632020000004,-74.750820000000004]
["BOLÍVARCZ MAGANGUETIQUISIO",2021,"13","BOLÍVAR","1306","CZ MAGANGUE","13810","TIQUISIO","Municipio","TIQUISIO","13","BOLÍVAR",8.4923451760000006,-74.296761387000004]
["BOLÍVARCZ MOMPOXALTOS DEL ROSARIO",2021,"13","BOLÍVAR","1307","CZ MOMPOX","13030","ALTOS DEL ROSARIO","Municipio","ALTOS DEL ROSARIO","13","BOLÍVAR",8.7574688629999997,-74.195158105999994]
["BOLÍVARCZ MOMPOXBARRANCO DE LOBA",2021,"13","BOLÍVAR","1307","CZ MOMPOX","13074","BARRANCO DE LOBA","Municipio","BARRANCO DE LOBA","13","BOLÍVAR",8.8370776539999998,-74.279665304999995]
["BOLÍVARCZ MOMPOXCICUCO",2021,"13","BOLÍVAR","1307","CZ MOMPOX","13188","CICUCO","Municipio","CICUCO","13","BOLÍVAR",9.2352685979999993,-74.688409614999998]
["BOLÍVARCZ MOMPOXEL PEÑÓN",2021,"13","BOLÍVAR","1307","CZ MOMPOX","13268","EL PEÑÓN","Municipio","EL PEÑÓN","13","BOLÍVAR",8.8648187860000007,-73.912301471999996]
["BOLÍVARCZ MOMPOXHATILLO DE LOBA",2021,"13","BOLÍVAR","1307","CZ MOMPOX","13300","HATILLO DE LOBA","Municipio","HATILLO DE LOBA","13","BOLÍVAR",8.9817171330000001,-74.090719015999994]
["BOLÍVARCZ MOMPOXMARGARITA",2021,"13","BOLÍVAR","1307","CZ MOMPOX","13440","MARGARITA","Municipio","MARGARITA","13","BOLÍVAR",9.0546018890000006,-74.225847059000003]
["BOLÍVARCZ MOMPOXSANTA CRUZ DE MOMPOX",2021,"13","BOLÍVAR","1307","CZ MOMPOX","13468","SANTA CRUZ DE MOMPOX","Municipio","SANTA CRUZ DE MOMPOX","13","BOLÍVAR",9.1425120639999999,-74.545199057000005]
["BOLÍVARCZ MOMPOXSAN FERNANDO",2021,"13","BOLÍVAR","1307","CZ MOMPOX","13650","SAN FERNANDO","Municipio","SAN FERNANDO","13","BOLÍVAR",9.0814831429999998,-74.371866466]
["BOLÍVARCZ MOMPOXSAN MARTÍN DE LOBA",2021,"13","BOLÍVAR","1307","CZ MOMPOX","13667","SAN MARTÍN DE LOBA","Municipio","SAN MARTÍN DE LOBA","13","BOLÍVAR",8.816088444,-74.005999668000001]
["BOLÍVARCZ MOMPOXTALAIGUA NUEVO",2021,"13","BOLÍVAR","1307","CZ MOMPOX","13780","TALAIGUA NUEVO","Municipio","TALAIGUA NUEVO","13","BOLÍVAR",9.2695167049999991,-74.586952326000002]
["BOLÍVARCZ SIMITIARENAL",2021,"13","BOLÍVAR","1308","CZ SIMITI","13042","ARENAL","Municipio","ARENAL","13","BOLÍVAR",8.3629961579999996,-74.103019048999997]
["BOLÍVARCZ SIMITICANTAGALLO",2021,"13","BOLÍVAR","1308","CZ SIMITI","13160","CANTAGALLO","Municipio","CANTAGALLO","13","BOLÍVAR",7.2392291459999996,-74.100140429000007]
["BOLÍVARCZ SIMITIMORALES",2021,"13","BOLÍVAR","1308","CZ SIMITI","13473","MORALES","Municipio","MORALES","13","BOLÍVAR",8.253700061,-73.971345898999999]
["BOLÍVARCZ SIMITINOROSI",2021,"13","BOLÍVAR","1308","CZ SIMITI","13490","NOROSI","Municipio","NOROSÍ","13","BOLÍVAR",8.5061347600000001,-74.115889115000002]
["BOLÍVARCZ SIMITIREGIDOR",2021,"13","BOLÍVAR","1308","CZ SIMITI","13580","REGIDOR","Municipio","REGIDOR","13","BOLÍVAR",8.6726285579999995,-73.914506787999997]
["BOLÍVARCZ SIMITIRÍO VIEJO",2021,"13","BOLÍVAR","1308","CZ SIMITI","13600","RÍO VIEJO","Municipio","RÍO VIEJO","13","BOLÍVAR",8.5599824649999992,-73.902986677000001]
["BOLÍVARCZ SIMITISAN PABLO",2021,"13","BOLÍVAR","1308","CZ SIMITI","13670","SAN PABLO","Municipio","SAN PABLO","13","BOLÍVAR",7.5079226119999998,-74.103569773999993]
["BOLÍVARCZ SIMITISANTA ROSA DEL SUR",2021,"13","BOLÍVAR","1308","CZ SIMITI","13688","SANTA ROSA DEL SUR","Municipio","SANTA ROSA DEL SUR","13","BOLÍVAR",7.7725191730000001,-74.262728425999995]
["BOLÍVARCZ SIMITISIMITÍ",2021,"13","BOLÍVAR","1308","CZ SIMITI","13744","SIMITÍ","Municipio","SIMITÍ","13","BOLÍVAR",7.8513155340000003,-73.983716091000005]
["BOYACÁREGIONAL BOYACASEDE REGIONAL",2021,"15","BOYACÁ","1500","REGIONAL BOYACA","15900","SEDE REGIONAL","N/A","N/A","15","BOYACÁ","N/A","N/A"]
["BOYACÁCZ TUNJA 1TUNJA",2021,"15","BOYACÁ","1501","CZ TUNJA 1","15001","TUNJA","Municipio","TUNJA","15","BOYACÁ",5.5184726150000003,-73.378018556000001]
["BOYACÁCZ TUNJA 1BOYACÁ",2021,"15","BOYACÁ","1501","CZ TUNJA 1","15104","BOYACÁ","Municipio","BOYACÁ","15","BOYACÁ",5.4398562159999999,-73.381369938000006]
["BOYACÁCZ TUNJA 1CHIVATÁ",2021,"15","BOYACÁ","1501","CZ TUNJA 1","15187","CHIVATÁ","Municipio","CHIVATÁ","15","BOYACÁ",5.556830465,-73.260617152999998]
["BOYACÁCZ TUNJA 1CIÉNEGA",2021,"15","BOYACÁ","1501","CZ TUNJA 1","15189","CIÉNEGA","Municipio","CIÉNEGA","15","BOYACÁ",5.393059633,-73.282057715999997]
["BOYACÁCZ TUNJA 1CÓMBITA",2021,"15","BOYACÁ","1501","CZ TUNJA 1","15204","CÓMBITA","Municipio","CÓMBITA","15","BOYACÁ",5.6678223660000002,-73.321370490999996]
["BOYACÁCZ TUNJA 1CUCAITA",2021,"15","BOYACÁ","1501","CZ TUNJA 1","15224","CUCAITA","Municipio","CUCAITA","15","BOYACÁ",5.5271041089999997,-73.445986458999997]
["BOYACÁCZ TUNJA 1CHÍQUIZA",2021,"15","BOYACÁ","1501","CZ TUNJA 1","15232","CHÍQUIZA","Municipio","CHÍQUIZA","15","BOYACÁ",5.6430756479999999,-73.445623906999998]
["BOYACÁCZ TUNJA 1JENESANO",2021,"15","BOYACÁ","1501","CZ TUNJA 1","15367","JENESANO","Municipio","JENESANO","15","BOYACÁ",5.3891627199999999,-73.400870206999997]
["BOYACÁCZ TUNJA 1VILLA DE LEYVA",2021,"15","BOYACÁ","1501","CZ TUNJA 1","15407","VILLA DE LEYVA","Municipio","VILLA DE LEYVA","15","BOYACÁ",5.6657624240000004,-73.514948003000001]
["BOYACÁCZ TUNJA 1MOTAVITA",2021,"15","BOYACÁ","1501","CZ TUNJA 1","15476","MOTAVITA","Municipio","MOTAVITA","15","BOYACÁ",5.6061924489999999,-73.377342665]
["BOYACÁCZ TUNJA 1NUEVO COLÓN",2021,"15","BOYACÁ","1501","CZ TUNJA 1","15494","NUEVO COLÓN","Municipio","NUEVO COLÓN","15","BOYACÁ",5.3547014849999996,-73.448734240999997]
["BOYACÁCZ TUNJA 1OICATÁ",2021,"15","BOYACÁ","1501","CZ TUNJA 1","15500","OICATÁ","Municipio","OICATÁ","15","BOYACÁ",5.6107878439999999,-73.279919053]
["BOYACÁCZ TUNJA 1RAMIRIQUÍ",2021,"15","BOYACÁ","1501","CZ TUNJA 1","15599","RAMIRIQUÍ","Municipio","RAMIRIQUÍ","15","BOYACÁ",5.3199340919999996,-73.310778995999996]
["BOYACÁCZ TUNJA 1RONDÓN",2021,"15","BOYACÁ","1501","CZ TUNJA 1","15621","RONDÓN","Municipio","RONDÓN","15","BOYACÁ",5.3799478790000004,-73.196509946999996]
["BOYACÁCZ TUNJA 1SÁCHICA",2021,"15","BOYACÁ","1501","CZ TUNJA 1","15638","SÁCHICA","Municipio","SÁCHICA","15","BOYACÁ",5.5734648819999997,-73.543102003000001]
["BOYACÁCZ TUNJA 1SAMACÁ",2021,"15","BOYACÁ","1501","CZ TUNJA 1","15646","SAMACÁ","Municipio","SAMACÁ","15","BOYACÁ",5.4705399699999999,-73.521175604000007]
["BOYACÁCZ TUNJA 1SIACHOQUE",2021,"15","BOYACÁ","1501","CZ TUNJA 1","15740","SIACHOQUE","Municipio","SIACHOQUE","15","BOYACÁ",5.4987477010000001,-73.216817778000006]
["BOYACÁCZ TUNJA 1SORA",2021,"15","BOYACÁ","1501","CZ TUNJA 1","15762","SORA","Municipio","SORA","15","BOYACÁ",5.580573191,-73.443718375000003]
["BOYACÁCZ TUNJA 1SOTAQUIRÁ",2021,"15","BOYACÁ","1501","CZ TUNJA 1","15763","SOTAQUIRÁ","Municipio","SOTAQUIRÁ","15","BOYACÁ",5.763010553,-73.243522319999997]
["BOYACÁCZ TUNJA 1SORACÁ",2021,"15","BOYACÁ","1501","CZ TUNJA 1","15764","SORACÁ","Municipio","SORACÁ","15","BOYACÁ",5.4948904609999998,-73.318999965000003]
["BOYACÁCZ TUNJA 1TIBANÁ",2021,"15","BOYACÁ","1501","CZ TUNJA 1","15804","TIBANÁ","Municipio","TIBANÁ","15","BOYACÁ",5.3011166489999999,-73.393252094999994]
["BOYACÁCZ TUNJA 1TOCA",2021,"15","BOYACÁ","1501","CZ TUNJA 1","15814","TOCA","Municipio","TOCA","15","BOYACÁ",5.5802542869999998,-73.160696901999998]
["BOYACÁCZ TUNJA 1TURMEQUÉ",2021,"15","BOYACÁ","1501","CZ TUNJA 1","15835","TURMEQUÉ","Municipio","TURMEQUÉ","15","BOYACÁ",5.3056974180000003,-73.509087137999998]
["BOYACÁCZ TUNJA 1TUTA",2021,"15","BOYACÁ","1501","CZ TUNJA 1","15837","TUTA","Municipio","TUTA","15","BOYACÁ",5.6781269979999998,-73.173430534000005]
["BOYACÁCZ TUNJA 1UMBITA",2021,"15","BOYACÁ","1501","CZ TUNJA 1","15842","UMBITA","Municipio","ÚMBITA","15","BOYACÁ",5.2172413679999998,-73.463384767999997]
["BOYACÁCZ TUNJA 1VENTAQUEMADA",2021,"15","BOYACÁ","1501","CZ TUNJA 1","15861","VENTAQUEMADA","Municipio","VENTAQUEMADA","15","BOYACÁ",5.3833854810000004,-73.520979424000004]
["BOYACÁCZ TUNJA 1VIRACACHÁ",2021,"15","BOYACÁ","1501","CZ TUNJA 1","15879","VIRACACHÁ","Municipio","VIRACACHÁ","15","BOYACÁ",5.4405582160000003,-73.266274555999999]
["BOYACÁCZ TUNJA 2TUNJA",2021,"15","BOYACÁ","1502","CZ TUNJA 2","15001","TUNJA","Municipio","TUNJA","15","BOYACÁ",5.5184726150000003,-73.378018556000001]
["BOYACÁCZ TUNJA 2BOYACÁ",2021,"15","BOYACÁ","1502","CZ TUNJA 2","15104","BOYACÁ","Municipio","BOYACÁ","15","BOYACÁ",5.4398562159999999,-73.381369938000006]
["BOYACÁCZ TUNJA 2CHIVATÁ",2021,"15","BOYACÁ","1502","CZ TUNJA 2","15187","CHIVATÁ","Municipio","CHIVATÁ","15","BOYACÁ",5.556830465,-73.260617152999998]
["BOYACÁCZ TUNJA 2CIÉNEGA",2021,"15","BOYACÁ","1502","CZ TUNJA 2","15189","CIÉNEGA","Municipio","CIÉNEGA","15","BOYACÁ",5.393059633,-73.282057715999997]
["BOYACÁCZ TUNJA 2CÓMBITA",2021,"15","BOYACÁ","1502","CZ TUNJA 2","15204","CÓMBITA","Municipio","CÓMBITA","15","BOYACÁ",5.6678223660000002,-73.321370490999996]
["BOYACÁCZ TUNJA 2CUCAITA",2021,"15","BOYACÁ","1502","CZ TUNJA 2","15224","CUCAITA","Municipio","CUCAITA","15","BOYACÁ",5.5271041089999997,-73.445986458999997]
["BOYACÁCZ TUNJA 2CHÍQUIZA",2021,"15","BOYACÁ","1502","CZ TUNJA 2","15232","CHÍQUIZA","Municipio","CHÍQUIZA","15","BOYACÁ",5.6430756479999999,-73.445623906999998]
["BOYACÁCZ TUNJA 2JENESANO",2021,"15","BOYACÁ","1502","CZ TUNJA 2","15367","JENESANO","Municipio","JENESANO","15","BOYACÁ",5.3891627199999999,-73.400870206999997]
["BOYACÁCZ TUNJA 2VILLA DE LEYVA",2021,"15","BOYACÁ","1502","CZ TUNJA 2","15407","VILLA DE LEYVA","Municipio","VILLA DE LEYVA","15","BOYACÁ",5.6657624240000004,-73.514948003000001]
["BOYACÁCZ TUNJA 2MOTAVITA",2021,"15","BOYACÁ","1502","CZ TUNJA 2","15476","MOTAVITA","Municipio","MOTAVITA","15","BOYACÁ",5.6061924489999999,-73.377342665]
["BOYACÁCZ TUNJA 2NUEVO COLÓN",2021,"15","BOYACÁ","1502","CZ TUNJA 2","15494","NUEVO COLÓN","Municipio","NUEVO COLÓN","15","BOYACÁ",5.3547014849999996,-73.448734240999997]
["BOYACÁCZ TUNJA 2OICATÁ",2021,"15","BOYACÁ","1502","CZ TUNJA 2","15500","OICATÁ","Municipio","OICATÁ","15","BOYACÁ",5.6107878439999999,-73.279919053]
["BOYACÁCZ TUNJA 2RAMIRIQUÍ",2021,"15","BOYACÁ","1502","CZ TUNJA 2","15599","RAMIRIQUÍ","Municipio","RAMIRIQUÍ","15","BOYACÁ",5.3199340919999996,-73.310778995999996]
["BOYACÁCZ TUNJA 2RONDÓN",2021,"15","BOYACÁ","1502","CZ TUNJA 2","15621","RONDÓN","Municipio","RONDÓN","15","BOYACÁ",5.3799478790000004,-73.196509946999996]
["BOYACÁCZ TUNJA 2SÁCHICA",2021,"15","BOYACÁ","1502","CZ TUNJA 2","15638","SÁCHICA","Municipio","SÁCHICA","15","BOYACÁ",5.5734648819999997,-73.543102003000001]
["BOYACÁCZ TUNJA 2SAMACÁ",2021,"15","BOYACÁ","1502","CZ TUNJA 2","15646","SAMACÁ","Municipio","SAMACÁ","15","BOYACÁ",5.4705399699999999,-73.521175604000007]
["BOYACÁCZ TUNJA 2SIACHOQUE",2021,"15","BOYACÁ","1502","CZ TUNJA 2","15740","SIACHOQUE","Municipio","SIACHOQUE","15","BOYACÁ",5.4987477010000001,-73.216817778000006]
["BOYACÁCZ TUNJA 2SORA",2021,"15","BOYACÁ","1502","CZ TUNJA 2","15762","SORA","Municipio","SORA","15","BOYACÁ",5.580573191,-73.443718375000003]
["BOYACÁCZ TUNJA 2SOTAQUIRÁ",2021,"15","BOYACÁ","1502","CZ TUNJA 2","15763","SOTAQUIRÁ","Municipio","SOTAQUIRÁ","15","BOYACÁ",5.763010553,-73.243522319999997]
["BOYACÁCZ TUNJA 2SORACÁ",2021,"15","BOYACÁ","1502","CZ TUNJA 2","15764","SORACÁ","Municipio","SORACÁ","15","BOYACÁ",5.4948904609999998,-73.318999965000003]
["BOYACÁCZ TUNJA 2TIBANÁ",2021,"15","BOYACÁ","1502","CZ TUNJA 2","15804","TIBANÁ","Municipio","TIBANÁ","15","BOYACÁ",5.3011166489999999,-73.393252094999994]
["BOYACÁCZ TUNJA 2TOCA",2021,"15","BOYACÁ","1502","CZ TUNJA 2","15814","TOCA","Municipio","TOCA","15","BOYACÁ",5.5802542869999998,-73.160696901999998]
["BOYACÁCZ TUNJA 2TURMEQUÉ",2021,"15","BOYACÁ","1502","CZ TUNJA 2","15835","TURMEQUÉ","Municipio","TURMEQUÉ","15","BOYACÁ",5.3056974180000003,-73.509087137999998]
["BOYACÁCZ TUNJA 2TUTA",2021,"15","BOYACÁ","1502","CZ TUNJA 2","15837","TUTA","Municipio","TUTA","15","BOYACÁ",5.6781269979999998,-73.173430534000005]
["BOYACÁCZ TUNJA 2UMBITA",2021,"15","BOYACÁ","1502","CZ TUNJA 2","15842","UMBITA","Municipio","ÚMBITA","15","BOYACÁ",5.2172413679999998,-73.463384767999997]
["BOYACÁCZ TUNJA 2VENTAQUEMADA",2021,"15","BOYACÁ","1502","CZ TUNJA 2","15861","VENTAQUEMADA","Municipio","VENTAQUEMADA","15","BOYACÁ",5.3833854810000004,-73.520979424000004]
["BOYACÁCZ TUNJA 2VIRACACHÁ",2021,"15","BOYACÁ","1502","CZ TUNJA 2","15879","VIRACACHÁ","Municipio","VIRACACHÁ","15","BOYACÁ",5.4405582160000003,-73.266274555999999]
["BOYACÁCZ SOGAMOSOAQUITANIA",2021,"15","BOYACÁ","1503","CZ SOGAMOSO","15047","AQUITANIA","Municipio","AQUITANIA","15","BOYACÁ",5.4374163729999996,-72.871494710999997]
["BOYACÁCZ SOGAMOSOCUÍTIVA",2021,"15","BOYACÁ","1503","CZ SOGAMOSO","15226","CUÍTIVA","Municipio","CUÍTIVA","15","BOYACÁ",5.58775449,-72.939536863000001]
["BOYACÁCZ SOGAMOSOFIRAVITOBA",2021,"15","BOYACÁ","1503","CZ SOGAMOSO","15272","FIRAVITOBA","Municipio","FIRAVITOBA","15","BOYACÁ",5.6736765900000004,-73.019833516000006]
["BOYACÁCZ SOGAMOSOGAMEZA",2021,"15","BOYACÁ","1503","CZ SOGAMOSO","15296","GAMEZA","Municipio","GÁMEZA","15","BOYACÁ",5.7990502560000001,-72.729647650999993]
["BOYACÁCZ SOGAMOSOIZA",2021,"15","BOYACÁ","1503","CZ SOGAMOSO","15362","IZA","Municipio","IZA","15","BOYACÁ",5.6173660160000001,-72.969865044000002]
["BOYACÁCZ SOGAMOSOLABRANZAGRANDE",2021,"15","BOYACÁ","1503","CZ SOGAMOSO","15377","LABRANZAGRANDE","Municipio","LABRANZAGRANDE","15","BOYACÁ",5.5413781320000002,-72.590384600999997]
["BOYACÁCZ SOGAMOSOMONGUA",2021,"15","BOYACÁ","1503","CZ SOGAMOSO","15464","MONGUA","Municipio","MONGUA","15","BOYACÁ",5.7109379809999998,-72.634028752000006]
["BOYACÁCZ SOGAMOSOMONGUÍ",2021,"15","BOYACÁ","1503","CZ SOGAMOSO","15466","MONGUÍ","Municipio","MONGUÍ","15","BOYACÁ",5.6973522279999997,-72.832986641999995]
["BOYACÁCZ SOGAMOSOPAJARITO",2021,"15","BOYACÁ","1503","CZ SOGAMOSO","15518","PAJARITO","Municipio","PAJARITO","15","BOYACÁ",5.3823289489999997,-72.696726741999996]
["BOYACÁCZ SOGAMOSOPAYA",2021,"15","BOYACÁ","1503","CZ SOGAMOSO","15533","PAYA","Municipio","PAYA","15","BOYACÁ",5.6212427419999997,-72.369290598000006]
["BOYACÁCZ SOGAMOSOPESCA",2021,"15","BOYACÁ","1503","CZ SOGAMOSO","15542","PESCA","Municipio","PESCA","15","BOYACÁ",5.4984833240000004,-73.078379929999997]
["BOYACÁCZ SOGAMOSOPISBA",2021,"15","BOYACÁ","1503","CZ SOGAMOSO","15550","PISBA","Municipio","PISBA","15","BOYACÁ",5.768131812,-72.439932321000001]
["BOYACÁCZ SOGAMOSOSOGAMOSO",2021,"15","BOYACÁ","1503","CZ SOGAMOSO","15759","SOGAMOSO","Municipio","SOGAMOSO","15","BOYACÁ",5.6466720529999996,-72.870956503000002]
["BOYACÁCZ SOGAMOSOTÓPAGA",2021,"15","BOYACÁ","1503","CZ SOGAMOSO","15820","TÓPAGA","Municipio","TÓPAGA","15","BOYACÁ",5.765350303,-72.836729575999996]
["BOYACÁCZ SOGAMOSOTOTA",2021,"15","BOYACÁ","1503","CZ SOGAMOSO","15822","TOTA","Municipio","TOTA","15","BOYACÁ",5.5012972150000001,-72.996332968999994]
["BOYACÁCZ DUITAMABELÉN",2021,"15","BOYACÁ","1504","CZ DUITAMA","15087","BELÉN","Municipio","BELÉN","15","BOYACÁ",6.0050592649999999,-72.893698873000005]
["BOYACÁCZ DUITAMABETÉITIVA",2021,"15","BOYACÁ","1504","CZ DUITAMA","15092","BETÉITIVA","Municipio","BETÉITIVA","15","BOYACÁ",5.9208589329999999,-72.848578763000006]
["BOYACÁCZ DUITAMABUSBANZÁ",2021,"15","BOYACÁ","1504","CZ DUITAMA","15114","BUSBANZÁ","Municipio","BUSBANZÁ","15","BOYACÁ",5.8434837310000001,-72.875746230000004]
["BOYACÁCZ DUITAMACERINZA",2021,"15","BOYACÁ","1504","CZ DUITAMA","15162","CERINZA","Municipio","CERINZA","15","BOYACÁ",5.9620136979999998,-72.964472884000003]
["BOYACÁCZ DUITAMACORRALES",2021,"15","BOYACÁ","1504","CZ DUITAMA","15215","CORRALES","Municipio","CORRALES","15","BOYACÁ",5.82454582,-72.845448447999999]
["BOYACÁCZ DUITAMADUITAMA",2021,"15","BOYACÁ","1504","CZ DUITAMA","15238","DUITAMA","Municipio","DUITAMA","15","BOYACÁ",5.8906025150000003,-73.067094843000007]
["BOYACÁCZ DUITAMAFLORESTA",2021,"15","BOYACÁ","1504","CZ DUITAMA","15276","FLORESTA","Municipio","FLORESTA","15","BOYACÁ",5.85899211,-72.924998264999999]
["BOYACÁCZ DUITAMAJERICÓ",2021,"15","BOYACÁ","1504","CZ DUITAMA","15368","JERICÓ","Municipio","JERICÓ","15","BOYACÁ",6.1556336619999996,-72.585230925999994]
["BOYACÁCZ DUITAMANOBSA",2021,"15","BOYACÁ","1504","CZ DUITAMA","15491","NOBSA","Municipio","NOBSA","15","BOYACÁ",5.7787598510000002,-72.932683237000006]
["BOYACÁCZ DUITAMAPAIPA",2021,"15","BOYACÁ","1504","CZ DUITAMA","15516","PAIPA","Municipio","PAIPA","15","BOYACÁ",5.762027786,-73.137774422999996]
["BOYACÁCZ DUITAMAPAZ DE RÍO",2021,"15","BOYACÁ","1504","CZ DUITAMA","15537","PAZ DE RÍO","Municipio","PAZ DE RÍO","15","BOYACÁ",6.0300085609999998,-72.759880176999999]
["BOYACÁCZ DUITAMASANTA ROSA DE VITERBO",2021,"15","BOYACÁ","1504","CZ DUITAMA","15693","SANTA ROSA DE VITERBO","Municipio","SANTA ROSA DE VITERBO","15","BOYACÁ",5.8929503009999999,-72.991727804000007]
["BOYACÁCZ DUITAMASOCOTÁ",2021,"15","BOYACÁ","1504","CZ DUITAMA","15755","SOCOTÁ","Municipio","SOCOTÁ","15","BOYACÁ",5.9065137720000003,-72.536463604999994]
["BOYACÁCZ DUITAMASOCHA",2021,"15","BOYACÁ","1504","CZ DUITAMA","15757","SOCHA","Municipio","SOCHA","15","BOYACÁ",5.9604988360000002,-72.682397840999997]
["BOYACÁCZ DUITAMATASCO",2021,"15","BOYACÁ","1504","CZ DUITAMA","15790","TASCO","Municipio","TASCO","15","BOYACÁ",5.8822943130000001,-72.726268172999994]
["BOYACÁCZ DUITAMATIBASOSA",2021,"15","BOYACÁ","1504","CZ DUITAMA","15806","TIBASOSA","Municipio","TIBASOSA","15","BOYACÁ",5.7473293889999999,-73.011147244]
["BOYACÁCZ DUITAMATUTAZÁ",2021,"15","BOYACÁ","1504","CZ DUITAMA","15839","TUTAZÁ","Municipio","TUTAZÁ","15","BOYACÁ",6.0780519030000004,-72.857078318999996]
["BOYACÁCZ CHIQUINQUIRABUENAVISTA",2021,"15","BOYACÁ","1505","CZ CHIQUINQUIRA","15109","BUENAVISTA","Municipio","BUENAVISTA","15","BOYACÁ",5.4893994189999997,-73.950662546000004]
["BOYACÁCZ CHIQUINQUIRACALDAS",2021,"15","BOYACÁ","1505","CZ CHIQUINQUIRA","15131","CALDAS","Municipio","CALDAS","15","BOYACÁ",5.5759906690000003,-73.880575077000003]
["BOYACÁCZ CHIQUINQUIRACHIQUINQUIRÁ",2021,"15","BOYACÁ","1505","CZ CHIQUINQUIRA","15176","CHIQUINQUIRÁ","Municipio","CHIQUINQUIRÁ","15","BOYACÁ",5.6224880239999999,-73.804245312000006]
["BOYACÁCZ CHIQUINQUIRACOPER",2021,"15","BOYACÁ","1505","CZ CHIQUINQUIRA","15212","COPER","Municipio","COPER","15","BOYACÁ",5.4524610720000002,-74.059965781000002]
["BOYACÁCZ CHIQUINQUIRALA VICTORIA",2021,"15","BOYACÁ","1505","CZ CHIQUINQUIRA","15401","LA VICTORIA","Municipio","LA VICTORIA","15","BOYACÁ",5.5070081210000001,-74.241627269000006]
["BOYACÁCZ CHIQUINQUIRAMARIPÍ",2021,"15","BOYACÁ","1505","CZ CHIQUINQUIRA","15442","MARIPÍ","Municipio","MARIPÍ","15","BOYACÁ",5.5698106330000003,-74.020031271999997]
["BOYACÁCZ CHIQUINQUIRAMUZO",2021,"15","BOYACÁ","1505","CZ CHIQUINQUIRA","15480","MUZO","Municipio","MUZO","15","BOYACÁ",5.5394292719999996,-74.111771391000005]
["BOYACÁCZ CHIQUINQUIRAQUÍPAMA",2021,"15","BOYACÁ","1505","CZ CHIQUINQUIRA","15580","QUÍPAMA","Municipio","QUÍPAMA","15","BOYACÁ",5.5957298309999999,-74.268570671000006]
["BOYACÁCZ CHIQUINQUIRARÁQUIRA",2021,"15","BOYACÁ","1505","CZ CHIQUINQUIRA","15600","RÁQUIRA","Municipio","RÁQUIRA","15","BOYACÁ",5.4962686209999996,-73.628944376000007]
["BOYACÁCZ CHIQUINQUIRASABOYÁ",2021,"15","BOYACÁ","1505","CZ CHIQUINQUIRA","15632","SABOYÁ","Municipio","SABOYÁ","15","BOYACÁ",5.6999260510000003,-73.747994656000003]
["BOYACÁCZ CHIQUINQUIRASAN MIGUEL DE SEMA",2021,"15","BOYACÁ","1505","CZ CHIQUINQUIRA","15676","SAN MIGUEL DE SEMA","Municipio","SAN MIGUEL DE SEMA","15","BOYACÁ",5.5323269220000002,-73.747158978000002]
["BOYACÁCZ CHIQUINQUIRASUTAMARCHÁN",2021,"15","BOYACÁ","1505","CZ CHIQUINQUIRA","15776","SUTAMARCHÁN","Municipio","SUTAMARCHÁN","15","BOYACÁ",5.6400307590000001,-73.625987726999995]
["BOYACÁCZ CHIQUINQUIRATINJACÁ",2021,"15","BOYACÁ","1505","CZ CHIQUINQUIRA","15808","TINJACÁ","Municipio","TINJACÁ","15","BOYACÁ",5.5775664970000003,-73.676145720999997]
["BOYACÁCZ GARAGOAALMEIDA",2021,"15","BOYACÁ","1506","CZ GARAGOA","15022","ALMEIDA","Municipio","ALMEIDA","15","BOYACÁ",4.9548250810000001,-73.388134245000003]
["BOYACÁCZ GARAGOACHINAVITA",2021,"15","BOYACÁ","1506","CZ GARAGOA","15172","CHINAVITA","Municipio","CHINAVITA","15","BOYACÁ",5.2029716390000003,-73.340480736000004]
["BOYACÁCZ GARAGOACHIVOR",2021,"15","BOYACÁ","1506","CZ GARAGOA","15236","CHIVOR","Municipio","CHIVOR","15","BOYACÁ",4.8711816060000004,-73.361423791999997]
["BOYACÁCZ GARAGOAGARAGOA",2021,"15","BOYACÁ","1506","CZ GARAGOA","15299","GARAGOA","Municipio","GARAGOA","15","BOYACÁ",5.0894666510000004,-73.314302721999994]
["BOYACÁCZ GARAGOAGUATEQUE",2021,"15","BOYACÁ","1506","CZ GARAGOA","15322","GUATEQUE","Municipio","GUATEQUE","15","BOYACÁ",5.0145083100000001,-73.488123516000002]
["BOYACÁCZ GARAGOAGUAYATÁ",2021,"15","BOYACÁ","1506","CZ GARAGOA","15325","GUAYATÁ","Municipio","GUAYATÁ","15","BOYACÁ",4.9314243409999996,-73.496633724000006]
["BOYACÁCZ GARAGOALA CAPILLA",2021,"15","BOYACÁ","1506","CZ GARAGOA","15380","LA CAPILLA","Municipio","LA CAPILLA","15","BOYACÁ",5.1131671020000002,-73.459237076999997]
["BOYACÁCZ GARAGOAMACANAL",2021,"15","BOYACÁ","1506","CZ GARAGOA","15425","MACANAL","Municipio","MACANAL","15","BOYACÁ",4.9801764950000003,-73.294136945999995]
["BOYACÁCZ GARAGOAPACHAVITA",2021,"15","BOYACÁ","1506","CZ GARAGOA","15511","PACHAVITA","Municipio","PACHAVITA","15","BOYACÁ",5.1483238770000002,-73.399512192000003]
["BOYACÁCZ GARAGOASAN LUIS DE GACENO",2021,"15","BOYACÁ","1506","CZ GARAGOA","15667","SAN LUIS DE GACENO","Municipio","SAN LUIS DE GACENO","15","BOYACÁ",4.7982035429999996,-73.133970184000006]
["BOYACÁCZ GARAGOASANTA MARÍA",2021,"15","BOYACÁ","1506","CZ GARAGOA","15690","SANTA MARÍA","Municipio","SANTA MARÍA","15","BOYACÁ",4.8230025559999996,-73.253775062000003]
["BOYACÁCZ GARAGOASOMONDOCO",2021,"15","BOYACÁ","1506","CZ GARAGOA","15761","SOMONDOCO","Municipio","SOMONDOCO","15","BOYACÁ",4.970974064,-73.428787851999999]
["BOYACÁCZ GARAGOASUTATENZA",2021,"15","BOYACÁ","1506","CZ GARAGOA","15778","SUTATENZA","Municipio","SUTATENZA","15","BOYACÁ",5.0307113350000003,-73.412244005000005]
["BOYACÁCZ GARAGOATENZA",2021,"15","BOYACÁ","1506","CZ GARAGOA","15798","TENZA","Municipio","TENZA","15","BOYACÁ",5.0714131389999997,-73.424796987999997]
["BOYACÁCZ PUERTO BOYACAPUERTO BOYACÁ",2021,"15","BOYACÁ","1507","CZ PUERTO BOYACA","15572","PUERTO BOYACÁ","Municipio","PUERTO BOYACÁ","15","BOYACÁ",5.9534666539999996,-74.452858101999993]
["BOYACÁCZ SOATABOAVITA",2021,"15","BOYACÁ","1508","CZ SOATA","15097","BOAVITA","Municipio","BOAVITA","15","BOYACÁ",6.3375156260000001,-72.620212390000006]
["BOYACÁCZ SOATACHITA",2021,"15","BOYACÁ","1508","CZ SOATA","15183","CHITA","Municipio","CHITA","15","BOYACÁ",6.091468485,-72.439031737999997]
["BOYACÁCZ SOATACOVARACHÍA",2021,"15","BOYACÁ","1508","CZ SOATA","15218","COVARACHÍA","Municipio","COVARACHÍA","15","BOYACÁ",6.5195214760000004,-72.740204208999998]
["BOYACÁCZ SOATALA UVITA",2021,"15","BOYACÁ","1508","CZ SOATA","15403","LA UVITA","Municipio","LA UVITA","15","BOYACÁ",6.2651261910000002,-72.555510847999997]
["BOYACÁCZ SOATASATIVANORTE",2021,"15","BOYACÁ","1508","CZ SOATA","15720","SATIVANORTE","Municipio","SATIVANORTE","15","BOYACÁ",6.1321179299999997,-72.730324154000002]
["BOYACÁCZ SOATASATIVASUR",2021,"15","BOYACÁ","1508","CZ SOATA","15723","SATIVASUR","Municipio","SATIVASUR","15","BOYACÁ",6.083405978,-72.724108145000002]
["BOYACÁCZ SOATASOATÁ",2021,"15","BOYACÁ","1508","CZ SOATA","15753","SOATÁ","Municipio","SOATÁ","15","BOYACÁ",6.3230880450000004,-72.696040893000003]
["BOYACÁCZ SOATASUSACÓN",2021,"15","BOYACÁ","1508","CZ SOATA","15774","SUSACÓN","Municipio","SUSACÓN","15","BOYACÁ",6.2152005780000001,-72.715756341000002]
["BOYACÁCZ SOATATIPACOQUE",2021,"15","BOYACÁ","1508","CZ SOATA","15810","TIPACOQUE","Municipio","TIPACOQUE","15","BOYACÁ",6.4203534900000001,-72.694635833999996]
["BOYACÁCZ EL COCUYCHISCAS",2021,"15","BOYACÁ","1509","CZ EL COCUY","15180","CHISCAS","Municipio","CHISCAS","15","BOYACÁ",6.6891180600000002,-72.417956747999995]
["BOYACÁCZ EL COCUYEL COCUY",2021,"15","BOYACÁ","1509","CZ EL COCUY","15244","EL COCUY","Municipio","EL COCUY","15","BOYACÁ",6.3533631770000003,-72.419237519000006]
["BOYACÁCZ EL COCUYEL ESPINO",2021,"15","BOYACÁ","1509","CZ EL COCUY","15248","EL ESPINO","Municipio","EL ESPINO","15","BOYACÁ",6.5082405559999996,-72.480496247000005]
["BOYACÁCZ EL COCUYGUACAMAYAS",2021,"15","BOYACÁ","1509","CZ EL COCUY","15317","GUACAMAYAS","Municipio","GUACAMAYAS","15","BOYACÁ",6.4454385460000001,-72.516353323000004]
["BOYACÁCZ EL COCUYGÜICÁN DE LA SIERRA",2021,"15","BOYACÁ","1509","CZ EL COCUY","15332","GÜICÁN DE LA SIERRA","Municipio","GÜICÁN DE LA SIERRA","15","BOYACÁ",6.566991765,-72.255993334999999]
["BOYACÁCZ EL COCUYPANQUEBA",2021,"15","BOYACÁ","1509","CZ EL COCUY","15522","PANQUEBA","Municipio","PANQUEBA","15","BOYACÁ",6.4432997580000002,-72.461824312000005]
["BOYACÁCZ EL COCUYSAN MATEO",2021,"15","BOYACÁ","1509","CZ EL COCUY","15673","SAN MATEO","Municipio","SAN MATEO","15","BOYACÁ",6.3953888120000002,-72.551848622999998]
["BOYACÁCZ MIRAFLORESBERBEO",2021,"15","BOYACÁ","1510","CZ MIRAFLORES","15090","BERBEO","Municipio","BERBEO","15","BOYACÁ",5.230936356,-73.127319436999997]
["BOYACÁCZ MIRAFLORESCAMPOHERMOSO",2021,"15","BOYACÁ","1510","CZ MIRAFLORES","15135","CAMPOHERMOSO","Municipio","CAMPOHERMOSO","15","BOYACÁ",5.0068625359999999,-73.144670301999994]
["BOYACÁCZ MIRAFLORESMIRAFLORES",2021,"15","BOYACÁ","1510","CZ MIRAFLORES","15455","MIRAFLORES","Municipio","MIRAFLORES","15","BOYACÁ",5.150953297,-73.178967216999993]
["BOYACÁCZ MIRAFLORESPÁEZ",2021,"15","BOYACÁ","1510","CZ MIRAFLORES","15514","PÁEZ","Municipio","PÁEZ","15","BOYACÁ",5.0952110350000002,-73.004358625999998]
["BOYACÁCZ MIRAFLORESSAN EDUARDO",2021,"15","BOYACÁ","1510","CZ MIRAFLORES","15660","SAN EDUARDO","Municipio","SAN EDUARDO","15","BOYACÁ",5.2346146859999996,-73.049140668999996]
["BOYACÁCZ MIRAFLORESZETAQUIRA",2021,"15","BOYACÁ","1510","CZ MIRAFLORES","15897","ZETAQUIRA","Municipio","ZETAQUIRA","15","BOYACÁ",5.2856359829999997,-73.167630912000007]
["BOYACÁCZ MONIQUIRAARCABUCO",2021,"15","BOYACÁ","1511","CZ MONIQUIRA","15051","ARCABUCO","Municipio","ARCABUCO","15","BOYACÁ",5.7352642400000002,-73.427931091000005]
["BOYACÁCZ MONIQUIRACHITARAQUE",2021,"15","BOYACÁ","1511","CZ MONIQUIRA","15185","CHITARAQUE","Municipio","CHITARAQUE","15","BOYACÁ",5.9843946250000002,-73.425823750999996]
["BOYACÁCZ MONIQUIRAGACHANTIVÁ",2021,"15","BOYACÁ","1511","CZ MONIQUIRA","15293","GACHANTIVÁ","Municipio","GACHANTIVÁ","15","BOYACÁ",5.7441059750000001,-73.542655195999998]
["BOYACÁCZ MONIQUIRAMONIQUIRÁ",2021,"15","BOYACÁ","1511","CZ MONIQUIRA","15469","MONIQUIRÁ","Municipio","MONIQUIRÁ","15","BOYACÁ",5.8633704849999999,-73.558525377999999]
["BOYACÁCZ MONIQUIRASAN JOSÉ DE PARE",2021,"15","BOYACÁ","1511","CZ MONIQUIRA","15664","SAN JOSÉ DE PARE","Municipio","SAN JOSÉ DE PARE","15","BOYACÁ",5.9941540880000002,-73.543865224000001]
["BOYACÁCZ MONIQUIRASANTANA",2021,"15","BOYACÁ","1511","CZ MONIQUIRA","15686","SANTANA","Municipio","SANTANA","15","BOYACÁ",6.0576149709999996,-73.489748281999994]
["BOYACÁCZ MONIQUIRASANTA SOFÍA",2021,"15","BOYACÁ","1511","CZ MONIQUIRA","15696","SANTA SOFÍA","Municipio","SANTA SOFÍA","15","BOYACÁ",5.7316027160000003,-73.603662869000004]
["BOYACÁCZ MONIQUIRATOGÜÍ",2021,"15","BOYACÁ","1511","CZ MONIQUIRA","15816","TOGÜÍ","Municipio","TOGÜÍ","15","BOYACÁ",5.9218300619999997,-73.489218054999995]
["BOYACÁCZ OTANCHEBRICEÑO",2021,"15","BOYACÁ","1512","CZ OTANCHE","15106","BRICEÑO","Municipio","BRICEÑO","15","BOYACÁ",5.6732292649999998,-73.926607047000005]
["BOYACÁCZ OTANCHEOTANCHE",2021,"15","BOYACÁ","1512","CZ OTANCHE","15507","OTANCHE","Municipio","OTANCHE","15","BOYACÁ",5.7537877870000003,-74.197194225999993]
["BOYACÁCZ OTANCHEPAUNA",2021,"15","BOYACÁ","1512","CZ OTANCHE","15531","PAUNA","Municipio","PAUNA","15","BOYACÁ",5.6888015589999998,-74.005041215000006]
["BOYACÁCZ OTANCHESAN PABLO DE BORBUR",2021,"15","BOYACÁ","1512","CZ OTANCHE","15681","SAN PABLO DE BORBUR","Municipio","SAN PABLO DE BORBUR","15","BOYACÁ",5.677345066,-74.114037486000001]
["BOYACÁCZ OTANCHETUNUNGUÁ",2021,"15","BOYACÁ","1512","CZ OTANCHE","15832","TUNUNGUÁ","Municipio","TUNUNGUÁ","15","BOYACÁ",5.7203015160000001,-73.943309264999996]
["CALDASREGIONAL CALDASSEDE REGIONAL",2021,"17","CALDAS","1700","REGIONAL CALDAS","17900","SEDE REGIONAL","N/A","N/A","17","CALDAS","N/A","N/A"]
["CALDASCZ MANIZALES 1MANIZALES",2021,"17","CALDAS","1701","CZ MANIZALES 1","17001","MANIZALES","Municipio","MANIZALES","17","CALDAS",5.0834330100000003,-75.507278810000003]
["CALDASCZ MANIZALES 1FILADELFIA",2021,"17","CALDAS","1701","CZ MANIZALES 1","17272","FILADELFIA","Municipio","FILADELFIA","17","CALDAS",5.2857437770000004,-75.589787838999996]
["CALDASCZ MANIZALES 1NEIRA",2021,"17","CALDAS","1701","CZ MANIZALES 1","17486","NEIRA","Municipio","NEIRA","17","CALDAS",5.183358589,-75.506929774]
["CALDASCZ MANIZALES 1VILLAMARÍA",2021,"17","CALDAS","1701","CZ MANIZALES 1","17873","VILLAMARÍA","Municipio","VILLAMARÍA","17","CALDAS",4.9402115909999997,-75.435440137000001]
["CALDASCZ MANIZALES 2MANIZALES",2021,"17","CALDAS","1702","CZ MANIZALES 2","17001","MANIZALES","Municipio","MANIZALES","17","CALDAS",5.0834330100000003,-75.507278810000003]
["CALDASCZ MANIZALES 2FILADELFIA",2021,"17","CALDAS","1702","CZ MANIZALES 2","17272","FILADELFIA","Municipio","FILADELFIA","17","CALDAS",5.2857437770000004,-75.589787838999996]
["CALDASCZ MANIZALES 2NEIRA",2021,"17","CALDAS","1702","CZ MANIZALES 2","17486","NEIRA","Municipio","NEIRA","17","CALDAS",5.183358589,-75.506929774]
["CALDASCZ MANIZALES 2VILLAMARÍA",2021,"17","CALDAS","1702","CZ MANIZALES 2","17873","VILLAMARÍA","Municipio","VILLAMARÍA","17","CALDAS",4.9402115909999997,-75.435440137000001]
["CALDASCZ OCCIDENTEANSERMA",2021,"17","CALDAS","1703","CZ OCCIDENTE","17042","ANSERMA","Municipio","ANSERMA","17","CALDAS",5.2002992199999998,-75.752890778999998]
["CALDASCZ OCCIDENTEMARMATO",2021,"17","CALDAS","1703","CZ OCCIDENTE","17442","MARMATO","Municipio","MARMATO","17","CALDAS",5.4926320290000001,-75.602099550000005]
["CALDASCZ OCCIDENTERIOSUCIO",2021,"17","CALDAS","1703","CZ OCCIDENTE","17614","RIOSUCIO","Municipio","RIOSUCIO","17","CALDAS",5.4422754180000004,-75.752204989999996]
["CALDASCZ OCCIDENTERISARALDA",2021,"17","CALDAS","1703","CZ OCCIDENTE","17616","RISARALDA","Municipio","RISARALDA","17","CALDAS",5.0975638160000001,-75.733351662000004]
["CALDASCZ OCCIDENTESUPÍA",2021,"17","CALDAS","1703","CZ OCCIDENTE","17777","SUPÍA","Municipio","SUPÍA","17","CALDAS",5.4529580199999996,-75.640357045000002]
["CALDASCZ OCCIDENTEVITERBO",2021,"17","CALDAS","1703","CZ OCCIDENTE","17877","VITERBO","Municipio","VITERBO","17","CALDAS",5.0478220540000001,-75.879296999999994]
["CALDASCZ ORIENTELA DORADA",2021,"17","CALDAS","1704","CZ ORIENTE","17380","LA DORADA","Municipio","LA DORADA","17","CALDAS",5.4105156909999996,-74.721142619999995]
["CALDASCZ ORIENTENORCASIA",2021,"17","CALDAS","1704","CZ ORIENTE","17495","NORCASIA","Municipio","NORCASIA","17","CALDAS",5.6380623490000001,-74.854927071999995]
["CALDASCZ ORIENTESAMANÁ",2021,"17","CALDAS","1704","CZ ORIENTE","17662","SAMANÁ","Municipio","SAMANÁ","17","CALDAS",5.5196928730000003,-74.997185770000002]
["CALDASCZ ORIENTEVICTORIA",2021,"17","CALDAS","1704","CZ ORIENTE","17867","VICTORIA","Municipio","VICTORIA","17","CALDAS",5.4475428590000003,-74.836225017000004]
["CALDASCZ NORTEAGUADAS",2021,"17","CALDAS","1705","CZ NORTE","17013","AGUADAS","Municipio","AGUADAS","17","CALDAS",5.6162040060000002,-75.455447104000001]
["CALDASCZ NORTEARANZAZU",2021,"17","CALDAS","1705","CZ NORTE","17050","ARANZAZU","Municipio","ARANZAZU","17","CALDAS",5.2655399689999998,-75.473926194000001]
["CALDASCZ NORTELA MERCED",2021,"17","CALDAS","1705","CZ NORTE","17388","LA MERCED","Municipio","LA MERCED","17","CALDAS",5.3931857159999996,-75.557910707000005]
["CALDASCZ NORTEPÁCORA",2021,"17","CALDAS","1705","CZ NORTE","17513","PÁCORA","Municipio","PÁCORA","17","CALDAS",5.5000350349999998,-75.482450564999994]
["CALDASCZ NORTESALAMINA",2021,"17","CALDAS","1705","CZ NORTE","17653","SALAMINA","Municipio","SALAMINA","17","CALDAS",5.370332425,-75.409621766000001]
["CALDASCZ SUR ORIENTEMANZANARES",2021,"17","CALDAS","1706","CZ SUR ORIENTE","17433","MANZANARES","Municipio","MANZANARES","17","CALDAS",5.23295391,-75.152634472000003]
["CALDASCZ SUR ORIENTEMARQUETALIA",2021,"17","CALDAS","1706","CZ SUR ORIENTE","17444","MARQUETALIA","Municipio","MARQUETALIA","17","CALDAS",5.3091424910000002,-75.041178923000004]
["CALDASCZ SUR ORIENTEMARULANDA",2021,"17","CALDAS","1706","CZ SUR ORIENTE","17446","MARULANDA","Municipio","MARULANDA","17","CALDAS",5.2355852440000001,-75.283166479000002]
["CALDASCZ SUR ORIENTEPENSILVANIA",2021,"17","CALDAS","1706","CZ SUR ORIENTE","17541","PENSILVANIA","Municipio","PENSILVANIA","17","CALDAS",5.4071878360000003,-75.166839961999997]
["CALDASCZ DEL CAFEBELALCÁZAR",2021,"17","CALDAS","1709","CZ DEL CAFE","17088","BELALCÁZAR","Municipio","BELALCÁZAR","17","CALDAS",4.9946772800000003,-75.812259892]
["CALDASCZ DEL CAFECHINCHINÁ",2021,"17","CALDAS","1709","CZ DEL CAFE","17174","CHINCHINÁ","Municipio","CHINCHINÁ","17","CALDAS",4.9743405689999998,-75.659546860999995]
["CALDASCZ DEL CAFEPALESTINA",2021,"17","CALDAS","1709","CZ DEL CAFE","17524","PALESTINA","Municipio","PALESTINA","17","CALDAS",5.0503425430000002,-75.661762659000004]
["CALDASCZ DEL CAFESAN JOSÉ",2021,"17","CALDAS","1709","CZ DEL CAFE","17665","SAN JOSÉ","Municipio","SAN JOSÉ","17","CALDAS",5.0834245129999998,-75.810178903999997]
["CAQUETÁREGIONAL CAQUETASEDE REGIONAL",2021,"18","CAQUETÁ","1800","REGIONAL CAQUETA","18900","SEDE REGIONAL","N/A","N/A","18","CAQUETÁ","N/A","N/A"]
["CAQUETÁCZ FLORENCIA 1FLORENCIA",2021,"18","CAQUETÁ","1801","CZ FLORENCIA 1","18001","FLORENCIA","Municipio","FLORENCIA","18","CAQUETÁ",1.7491387039999999,-75.558239064000006]
["CAQUETÁCZ FLORENCIA 1LA MONTAÑITA",2021,"18","CAQUETÁ","1801","CZ FLORENCIA 1","18410","LA MONTAÑITA","Municipio","LA MONTAÑITA","18","CAQUETÁ",1.3028604420000001,-75.235727319000006]
["CAQUETÁCZ FLORENCIA 1MORELIA",2021,"18","CAQUETÁ","1801","CZ FLORENCIA 1","18479","MORELIA","Municipio","MORELIA","18","CAQUETÁ",1.3829961099999999,-75.673811233999999]
["CAQUETÁCZ FLORENCIA 2FLORENCIA",2021,"18","CAQUETÁ","1802","CZ FLORENCIA 2","18001","FLORENCIA","Municipio","FLORENCIA","18","CAQUETÁ",1.7491387039999999,-75.558239064000006]
["CAQUETÁCZ FLORENCIA 2MILÁN",2021,"18","CAQUETÁ","1802","CZ FLORENCIA 2","18460","MILÁN","Municipio","MILÁN","18","CAQUETÁ",1.1466925539999999,-75.386647637999999]
["CAQUETÁCZ FLORENCIA 2SOLANO",2021,"18","CAQUETÁ","1802","CZ FLORENCIA 2","18756","SOLANO","Municipio","SOLANO","18","CAQUETÁ",9.6131861999999998E-2,-72.320364018999996]
["CAQUETÁCZ PUERTO RICOCARTAGENA DEL CHAIRÁ",2021,"18","CAQUETÁ","1803","CZ PUERTO RICO","18150","CARTAGENA DEL CHAIRÁ","Municipio","CARTAGENA DEL CHAIRÁ","18","CAQUETÁ",0.647693081,-74.272354991]
["CAQUETÁCZ PUERTO RICOEL DONCELLO",2021,"18","CAQUETÁ","1803","CZ PUERTO RICO","18247","EL DONCELLO","Municipio","EL DONCELLO","18","CAQUETÁ",1.713734697,-75.268781091999998]
["CAQUETÁCZ PUERTO RICOEL PAUJIL",2021,"18","CAQUETÁ","1803","CZ PUERTO RICO","18256","EL PAUJIL","Municipio","EL PAUJÍL","18","CAQUETÁ",1.4766300160000001,-75.202318246000004]
["CAQUETÁCZ PUERTO RICOPUERTO RICO",2021,"18","CAQUETÁ","1803","CZ PUERTO RICO","18592","PUERTO RICO","Municipio","PUERTO RICO","18","CAQUETÁ",2.0189408910000002,-75.073086266999994]
["CAQUETÁCZ PUERTO RICOSAN VICENTE DEL CAGUÁN",2021,"18","CAQUETÁ","1803","CZ PUERTO RICO","18753","SAN VICENTE DEL CAGUÁN","Municipio","SAN VICENTE DEL CAGUÁN","18","CAQUETÁ",1.3084650609999999,-74.197469706000007]
["CAQUETÁCZ BELEN DE LOS ANDAQUIESALBANIA",2021,"18","CAQUETÁ","1804","CZ BELEN DE LOS ANDAQUIES","18029","ALBANIA","Municipio","ALBANIA","18","CAQUETÁ",1.2278654899999999,-75.882326508000006]
["CAQUETÁCZ BELEN DE LOS ANDAQUIESBELÉN DE LOS ANDAQUIES",2021,"18","CAQUETÁ","1804","CZ BELEN DE LOS ANDAQUIES","18094","BELÉN DE LOS ANDAQUIES","Municipio","BELÉN DE LOS ANDAQUÍES","18","CAQUETÁ",1.5361746570000001,-75.909475036000003]
["CAQUETÁCZ BELEN DE LOS ANDAQUIESCURILLO",2021,"18","CAQUETÁ","1804","CZ BELEN DE LOS ANDAQUIES","18205","CURILLO","Municipio","CURILLO","18","CAQUETÁ",1.1153792920000001,-75.973284516999996]
["CAQUETÁCZ BELEN DE LOS ANDAQUIESSAN JOSÉ DEL FRAGUA",2021,"18","CAQUETÁ","1804","CZ BELEN DE LOS ANDAQUIES","18610","SAN JOSÉ DEL FRAGUA","Municipio","SAN JOSÉ DEL FRAGUA","18","CAQUETÁ",1.304702314,-76.110005942000001]
["CAQUETÁCZ BELEN DE LOS ANDAQUIESSOLITA",2021,"18","CAQUETÁ","1804","CZ BELEN DE LOS ANDAQUIES","18785","SOLITA","Municipio","SOLITA","18","CAQUETÁ",0.94393945400000001,-75.646685441000002]
["CAQUETÁCZ BELEN DE LOS ANDAQUIESVALPARAÍSO",2021,"18","CAQUETÁ","1804","CZ BELEN DE LOS ANDAQUIES","18860","VALPARAÍSO","Municipio","VALPARAÍSO","18","CAQUETÁ",1.0753491500000001,-75.737790038]
["CAUCAREGIONAL CAUCASEDE REGIONAL",2021,"19","CAUCA","1900","REGIONAL CAUCA","19900","SEDE REGIONAL","N/A","N/A","19","CAUCA","N/A","N/A"]
["CAUCACZ POPAYANPOPAYÁN",2021,"19","CAUCA","1901","CZ POPAYAN","19001","POPAYÁN","Municipio","POPAYÁN","19","CAUCA",2.4717043620000001,-76.591944190999996]
["CAUCACZ CENTROCAJIBÍO",2021,"19","CAUCA","1902","CZ CENTRO","19130","CAJIBÍO","Municipio","CAJIBÍO","19","CAUCA",2.6432098480000001,-76.701389144000004]
["CAUCACZ CENTROEL TAMBO",2021,"19","CAUCA","1902","CZ CENTRO","19256","EL TAMBO","Municipio","EL TAMBO","19","CAUCA",2.5344883120000001,-77.005112065000006]
["CAUCACZ CENTROLA SIERRA",2021,"19","CAUCA","1902","CZ CENTRO","19392","LA SIERRA","Municipio","LA SIERRA","19","CAUCA",2.187473572,-76.782280319999998]
["CAUCACZ CENTROLA VEGA",2021,"19","CAUCA","1902","CZ CENTRO","19397","LA VEGA","Municipio","LA VEGA","19","CAUCA",2.053933426,-76.758806203999995]
["CAUCACZ CENTROMORALES",2021,"19","CAUCA","1902","CZ CENTRO","19473","MORALES","Municipio","MORALES","19","CAUCA",2.7736639809999999,-76.746051522000002]
["CAUCACZ CENTROPIENDAMÓ - TUNÍA",2021,"19","CAUCA","1902","CZ CENTRO","19548","PIENDAMÓ - TUNÍA","Municipio","PIENDAMÓ - TUNÍA","19","CAUCA",2.702420026,-76.537704551000004]
["CAUCACZ CENTROROSAS",2021,"19","CAUCA","1902","CZ CENTRO","19622","ROSAS","Municipio","ROSAS","19","CAUCA",2.2604219539999999,-76.745820330000001]
["CAUCACZ CENTROSOTARÁ PAISPAMBA",2021,"19","CAUCA","1902","CZ CENTRO","19760","SOTARÁ PAISPAMBA","Municipio","SOTARÁ PAISPAMBA","19","CAUCA",2.2318205409999998,-76.611466325999999]
["CAUCACZ CENTROTIMBÍO",2021,"19","CAUCA","1902","CZ CENTRO","19807","TIMBÍO","Municipio","TIMBÍO","19","CAUCA",2.3696253120000002,-76.710519323]
["CAUCACZ INDIGENACALDONO",2021,"19","CAUCA","1903","CZ INDIGENA","19137","CALDONO","Municipio","CALDONO","19","CAUCA",2.8038456909999998,-76.427193766000002]
["CAUCACZ INDIGENAINZÁ",2021,"19","CAUCA","1903","CZ INDIGENA","19355","INZÁ","Municipio","INZÁ","19","CAUCA",2.4990587830000002,-76.137625311999997]
["CAUCACZ INDIGENAJAMBALÓ",2021,"19","CAUCA","1903","CZ INDIGENA","19364","JAMBALÓ","Municipio","JAMBALÓ","19","CAUCA",2.8498101299999998,-76.311249189999998]
["CAUCACZ INDIGENAPAEZ",2021,"19","CAUCA","1903","CZ INDIGENA","19517","PAEZ","Municipio","PÁEZ","19","CAUCA",2.7338877020000001,-75.993682637999996]
["CAUCACZ INDIGENAPIAMONTE",2021,"19","CAUCA","1903","CZ INDIGENA","19533","PIAMONTE","Municipio","PIAMONTE","19","CAUCA",1.054128816,-76.444327103000006]
["CAUCACZ INDIGENAPURACÉ",2021,"19","CAUCA","1903","CZ INDIGENA","19585","PURACÉ","Municipio","PURACÉ","19","CAUCA",2.2621536180000001,-76.448269377000003]
["CAUCACZ INDIGENASANTA ROSA",2021,"19","CAUCA","1903","CZ INDIGENA","19701","SANTA ROSA","Municipio","SANTA ROSA","19","CAUCA",1.5200217899999999,-76.538762805999994]
["CAUCACZ INDIGENASILVIA",2021,"19","CAUCA","1903","CZ INDIGENA","19743","SILVIA","Municipio","SILVIA","19","CAUCA",2.6512918939999999,-76.350573562999998]
["CAUCACZ INDIGENASOTARÁ PAISPAMBA",2021,"19","CAUCA","1903","CZ INDIGENA","19760","SOTARÁ PAISPAMBA","Municipio","SOTARÁ PAISPAMBA","19","CAUCA",2.2318205409999998,-76.611466325999999]
["CAUCACZ INDIGENATOTORÒ",2021,"19","CAUCA","1903","CZ INDIGENA","19824","TOTORÒ","Municipio","TOTORÓ","19","CAUCA",2.475213085,-76.396759369999998]
["CAUCACZ SURARGELIA",2021,"19","CAUCA","1904","CZ SUR","19050","ARGELIA","Municipio","ARGELIA","19","CAUCA",2.3293372830000001,-77.263149060000003]
["CAUCACZ SURBALBOA",2021,"19","CAUCA","1904","CZ SUR","19075","BALBOA","Municipio","BALBOA","19","CAUCA",2.0847329449999998,-77.208813301999996]
["CAUCACZ SURFLORENCIA",2021,"19","CAUCA","1904","CZ SUR","19290","FLORENCIA","Municipio","FLORENCIA","19","CAUCA",1.6945347399999999,-77.087357233999995]
["CAUCACZ SURMERCADERES",2021,"19","CAUCA","1904","CZ SUR","19450","MERCADERES","Municipio","MERCADERES","19","CAUCA",1.793825164,-77.180603812000001]
["CAUCACZ SURPATÍA",2021,"19","CAUCA","1904","CZ SUR","19532","PATÍA","Municipio","PATÍA","19","CAUCA",2.1579839060000001,-77.046576199]
["CAUCACZ SURSUCRE",2021,"19","CAUCA","1904","CZ SUR","19785","SUCRE","Municipio","SUCRE","19","CAUCA",2.0577351840000002,-76.909939647000002]
["CAUCACZ NORTEBUENOS AIRES",2021,"19","CAUCA","1905","CZ NORTE","19110","BUENOS AIRES","Municipio","BUENOS AIRES","19","CAUCA",2.9889238850000002,-76.621589509000003]
["CAUCACZ NORTECALOTO",2021,"19","CAUCA","1905","CZ NORTE","19142","CALOTO","Municipio","CALOTO","19","CAUCA",3.0628755569999999,-76.321279770999993]
["CAUCACZ NORTECORINTO",2021,"19","CAUCA","1905","CZ NORTE","19212","CORINTO","Municipio","CORINTO","19","CAUCA",3.1367536060000001,-76.209645691999995]
["CAUCACZ NORTEGUACHENE",2021,"19","CAUCA","1905","CZ NORTE","19300","GUACHENE","Municipio","GUACHENÉ","19","CAUCA",3.1443899929999999,-76.392348107000004]
["CAUCACZ NORTEMIRANDA",2021,"19","CAUCA","1905","CZ NORTE","19455","MIRANDA","Municipio","MIRANDA","19","CAUCA",3.228235212,-76.216708273999998]
["CAUCACZ NORTEPADILLA",2021,"19","CAUCA","1905","CZ NORTE","19513","PADILLA","Municipio","PADILLA","19","CAUCA",3.1947306179999999,-76.336241802999993]
["CAUCACZ NORTEPUERTO TEJADA",2021,"19","CAUCA","1905","CZ NORTE","19573","PUERTO TEJADA","Municipio","PUERTO TEJADA","19","CAUCA",3.266724205,-76.418463529999997]
["CAUCACZ NORTESANTANDER DE QUILICHAO",2021,"19","CAUCA","1905","CZ NORTE","19698","SANTANDER DE QUILICHAO","Municipio","SANTANDER DE QUILICHAO","19","CAUCA",2.984467338,-76.498731453000005]
["CAUCACZ NORTESUÁREZ",2021,"19","CAUCA","1905","CZ NORTE","19780","SUÁREZ","Municipio","SUÁREZ","19","CAUCA",2.936865997,-76.745824295999995]
["CAUCACZ NORTETORIBIO",2021,"19","CAUCA","1905","CZ NORTE","19821","TORIBIO","Municipio","TORIBÍO","19","CAUCA",2.975771999,-76.203315664000002]
["CAUCACZ NORTEVILLA RICA",2021,"19","CAUCA","1905","CZ NORTE","19845","VILLA RICA","Municipio","VILLA RICA","19","CAUCA",3.1806273169999999,-76.464455580999996]
["CAUCACZ MACIZO COLOMBIANOALMAGUER",2021,"19","CAUCA","1906","CZ MACIZO COLOMBIANO","19022","ALMAGUER","Municipio","ALMAGUER","19","CAUCA",1.9124405209999999,-76.834945193999999]
["CAUCACZ MACIZO COLOMBIANOBOLÍVAR",2021,"19","CAUCA","1906","CZ MACIZO COLOMBIANO","19100","BOLÍVAR","Municipio","BOLÍVAR","19","CAUCA",1.853951938,-76.963374537999997]
["CAUCACZ MACIZO COLOMBIANOLA VEGA",2021,"19","CAUCA","1906","CZ MACIZO COLOMBIANO","19397","LA VEGA","Municipio","LA VEGA","19","CAUCA",2.053933426,-76.758806203999995]
["CAUCACZ MACIZO COLOMBIANOSAN SEBASTIÁN",2021,"19","CAUCA","1906","CZ MACIZO COLOMBIANO","19693","SAN SEBASTIÁN","Municipio","SAN SEBASTIÁN","19","CAUCA",1.8562618150000001,-76.716524235999998]
["CAUCACZ MACIZO COLOMBIANOSANTA ROSA",2021,"19","CAUCA","1906","CZ MACIZO COLOMBIANO","19701","SANTA ROSA","Municipio","SANTA ROSA","19","CAUCA",1.5200217899999999,-76.538762805999994]
["CAUCACZ COSTA PACIFICAGUAPI",2021,"19","CAUCA","1907","CZ COSTA PACIFICA","19318","GUAPI","Municipio","GUAPI","19","CAUCA",2.4132669600000001,-77.690475305000007]
["CAUCACZ COSTA PACIFICALÓPEZ DE MICAY",2021,"19","CAUCA","1907","CZ COSTA PACIFICA","19418","LÓPEZ DE MICAY","Municipio","LÓPEZ DE MICAY","19","CAUCA",2.9581987700000001,-77.242121574999999]
["CAUCACZ COSTA PACIFICATIMBIQUÍ",2021,"19","CAUCA","1907","CZ COSTA PACIFICA","19809","TIMBIQUÍ","Municipio","TIMBIQUÍ","19","CAUCA",2.6994751269999999,-77.491315764999996]
["CAUCACZ COSTA PACIFICASANTA BÁRBARA",2021,"19","CAUCA","1907","CZ COSTA PACIFICA","52696","SANTA BÁRBARA","Municipio","SANTA BÁRBARA*","52","NARIÑO",2.4944204110000001,-77.982564611000001]
["CESARREGIONAL CESARSEDE REGIONAL",2021,"20","CESAR","2000","REGIONAL CESAR","20900","SEDE REGIONAL","N/A","N/A","20","CESAR","N/A","N/A"]
["CESARCZ VALLEDUPAR 1VALLEDUPAR",2021,"20","CESAR","2001","CZ VALLEDUPAR 1","20001","VALLEDUPAR","Municipio","VALLEDUPAR","20","CESAR",10.218902768,-73.457847638000004]
["CESARCZ VALLEDUPAR 1BOSCONIA",2021,"20","CESAR","2001","CZ VALLEDUPAR 1","20060","BOSCONIA","Municipio","BOSCONIA","20","CESAR",9.9463913089999991,-73.866288152999999]
["CESARCZ VALLEDUPAR 1EL COPEY",2021,"20","CESAR","2001","CZ VALLEDUPAR 1","20238","EL COPEY","Municipio","EL COPEY","20","CESAR",10.199953562999999,-73.912820636000006]
["CESARCZ VALLEDUPAR 1MANAURE BALCÓN DEL CESAR",2021,"20","CESAR","2001","CZ VALLEDUPAR 1","20443","MANAURE BALCÓN DEL CESAR","Municipio","MANAURE BALCÓN DEL CESAR","20","CESAR",10.380278519999999,-73.007062754000003]
["CESARCZ VALLEDUPAR 1PUEBLO BELLO",2021,"20","CESAR","2001","CZ VALLEDUPAR 1","20570","PUEBLO BELLO","Municipio","PUEBLO BELLO","20","CESAR",10.417368738,-73.614506323000001]
["CESARCZ VALLEDUPAR 1LA PAZ",2021,"20","CESAR","2001","CZ VALLEDUPAR 1","20621","LA PAZ","Municipio","LA PAZ","20","CESAR",10.244405624000001,-73.078245691999996]
["CESARCZ VALLEDUPAR 2VALLEDUPAR",2021,"20","CESAR","2002","CZ VALLEDUPAR 2","20001","VALLEDUPAR","Municipio","VALLEDUPAR","20","CESAR",10.218902768,-73.457847638000004]
["CESARCZ VALLEDUPAR 2BOSCONIA",2021,"20","CESAR","2002","CZ VALLEDUPAR 2","20060","BOSCONIA","Municipio","BOSCONIA","20","CESAR",9.9463913089999991,-73.866288152999999]
["CESARCZ VALLEDUPAR 2EL COPEY",2021,"20","CESAR","2002","CZ VALLEDUPAR 2","20238","EL COPEY","Municipio","EL COPEY","20","CESAR",10.199953562999999,-73.912820636000006]
["CESARCZ VALLEDUPAR 2MANAURE BALCÓN DEL CESAR",2021,"20","CESAR","2002","CZ VALLEDUPAR 2","20443","MANAURE BALCÓN DEL CESAR","Municipio","MANAURE BALCÓN DEL CESAR","20","CESAR",10.380278519999999,-73.007062754000003]
["CESARCZ VALLEDUPAR 2PUEBLO BELLO",2021,"20","CESAR","2002","CZ VALLEDUPAR 2","20570","PUEBLO BELLO","Municipio","PUEBLO BELLO","20","CESAR",10.417368738,-73.614506323000001]
["CESARCZ VALLEDUPAR 2LA PAZ",2021,"20","CESAR","2002","CZ VALLEDUPAR 2","20621","LA PAZ","Municipio","LA PAZ","20","CESAR",10.244405624000001,-73.078245691999996]
["CESARCZ CHIRIGUANAASTREA",2021,"20","CESAR","2003","CZ CHIRIGUANA","20032","ASTREA","Municipio","ASTREA","20","CESAR",9.5107279249999994,-73.942146410999996]
["CESARCZ CHIRIGUANACHIMICHAGUA",2021,"20","CESAR","2003","CZ CHIRIGUANA","20175","CHIMICHAGUA","Municipio","CHIMICHAGUA","20","CESAR",9.2779776500000004,-73.846979027000003]
["CESARCZ CHIRIGUANACHIRIGUANÁ",2021,"20","CESAR","2003","CZ CHIRIGUANA","20178","CHIRIGUANÁ","Municipio","CHIRIGUANÁ","20","CESAR",9.4266483539999992,-73.547978943999993]
["CESARCZ CHIRIGUANACURUMANÍ",2021,"20","CESAR","2003","CZ CHIRIGUANA","20228","CURUMANÍ","Municipio","CURUMANÍ","20","CESAR",9.2387713320000007,-73.488108612000005]
["CESARCZ CHIRIGUANAEL PASO",2021,"20","CESAR","2003","CZ CHIRIGUANA","20250","EL PASO","Municipio","EL PASO","20","CESAR",9.6834746809999999,-73.738337782000002]
["CESARCZ AGUACHICAAGUACHICA",2021,"20","CESAR","2004","CZ AGUACHICA","20011","AGUACHICA","Municipio","AGUACHICA","20","CESAR",8.2487352190000003,-73.622740500000006]
["CESARCZ AGUACHICAGAMARRA",2021,"20","CESAR","2004","CZ AGUACHICA","20295","GAMARRA","Municipio","GAMARRA","20","CESAR",8.3377266219999999,-73.706491986000003]
["CESARCZ AGUACHICAGONZÁLEZ",2021,"20","CESAR","2004","CZ AGUACHICA","20310","GONZÁLEZ","Municipio","GONZÁLEZ","20","CESAR",8.4055165219999992,-73.375373085000007]
["CESARCZ AGUACHICALA GLORIA",2021,"20","CESAR","2004","CZ AGUACHICA","20383","LA GLORIA","Municipio","LA GLORIA","20","CESAR",8.5880022470000004,-73.616023835999997]
["CESARCZ AGUACHICAPAILITAS",2021,"20","CESAR","2004","CZ AGUACHICA","20517","PAILITAS","Municipio","PAILITAS","20","CESAR",8.9389161430000001,-73.572472125000004]
["CESARCZ AGUACHICAPELAYA",2021,"20","CESAR","2004","CZ AGUACHICA","20550","PELAYA","Municipio","PELAYA","20","CESAR",8.7641167339999999,-73.632955464000005]
["CESARCZ AGUACHICARÍO DE ORO",2021,"20","CESAR","2004","CZ AGUACHICA","20614","RÍO DE ORO","Municipio","RÍO DE ORO","20","CESAR",8.2010702450000004,-73.487501265000006]
["CESARCZ AGUACHICASAN ALBERTO",2021,"20","CESAR","2004","CZ AGUACHICA","20710","SAN ALBERTO","Municipio","SAN ALBERTO","20","CESAR",7.7698159870000003,-73.472188879000001]
["CESARCZ AGUACHICASAN MARTÍN",2021,"20","CESAR","2004","CZ AGUACHICA","20770","SAN MARTÍN","Municipio","SAN MARTÍN","20","CESAR",7.9377884539999997,-73.544363121000004]
["CESARCZ AGUACHICATAMALAMEQUE",2021,"20","CESAR","2004","CZ AGUACHICA","20787","TAMALAMEQUE","Municipio","TAMALAMEQUE","20","CESAR",8.9020750119999992,-73.763396197000006]
["CESARCZ AGUSTIN CODAZZIAGUSTÍN CODAZZI",2021,"20","CESAR","2005","CZ AGUSTIN CODAZZI","20013","AGUSTÍN CODAZZI","Municipio","AGUSTÍN CODAZZI","20","CESAR",9.9492159079999993,-73.223582441000005]
["CESARCZ AGUSTIN CODAZZIBECERRIL",2021,"20","CESAR","2005","CZ AGUSTIN CODAZZI","20045","BECERRIL","Municipio","BECERRIL","20","CESAR",9.7277329389999991,-73.252505221999996]
["CESARCZ AGUSTIN CODAZZILA JAGUA DE IBIRICO",2021,"20","CESAR","2005","CZ AGUSTIN CODAZZI","20400","LA JAGUA DE IBIRICO","Municipio","LA JAGUA DE IBIRICO","20","CESAR",9.52099808,-73.322493378999994]
["CESARCZ AGUSTIN CODAZZISAN DIEGO",2021,"20","CESAR","2005","CZ AGUSTIN CODAZZI","20750","SAN DIEGO","Municipio","SAN DIEGO","20","CESAR",10.169527121,-73.287982701999994]
["CÓRDOBAREGIONAL CORDOBASEDE REGIONAL",2021,"23","CÓRDOBA","2300","REGIONAL CORDOBA","23900","SEDE REGIONAL","N/A","N/A","23","CÓRDOBA","N/A","N/A"]
["CÓRDOBACZ 1 MONTERIAMONTERÍA",2021,"23","CÓRDOBA","2301","CZ 1 MONTERIA","23001","MONTERÍA","Municipio","MONTERÍA","23","CÓRDOBA",8.5846980160000008,-75.950550788000001]
["CÓRDOBACZ 1 MONTERIACANALETE",2021,"23","CÓRDOBA","2301","CZ 1 MONTERIA","23090","CANALETE","Municipio","CANALETE","23","CÓRDOBA",8.7240958000000006,-76.237790806999996]
["CÓRDOBACZ 1 MONTERIALOS CÓRDOBAS",2021,"23","CÓRDOBA","2301","CZ 1 MONTERIA","23419","LOS CÓRDOBAS","Municipio","LOS CÓRDOBAS","23","CÓRDOBA",8.8233070629999997,-76.343055200999999]
["CÓRDOBACZ 1 MONTERIAPUERTO ESCONDIDO",2021,"23","CÓRDOBA","2301","CZ 1 MONTERIA","23574","PUERTO ESCONDIDO","Municipio","PUERTO ESCONDIDO","23","CÓRDOBA",8.9886677309999996,-76.194059124000006]
["CÓRDOBACZ CERETECERETÉ",2021,"23","CÓRDOBA","2302","CZ CERETE","23162","CERETÉ","Municipio","CERETÉ","23","CÓRDOBA",8.8956670510000002,-75.878423912000002]
["CÓRDOBACZ CERETECIÉNAGA DE ORO",2021,"23","CÓRDOBA","2302","CZ CERETE","23189","CIÉNAGA DE ORO","Municipio","CIÉNAGA DE ORO","23","CÓRDOBA",8.8418118939999992,-75.607798291999998]
["CÓRDOBACZ CERETECOTORRA",2021,"23","CÓRDOBA","2302","CZ CERETE","23300","COTORRA","Municipio","COTORRA","23","CÓRDOBA",9.0714602190000004,-75.754592755000004]
["CÓRDOBACZ CERETESAN CARLOS",2021,"23","CÓRDOBA","2302","CZ CERETE","23678","SAN CARLOS","Municipio","SAN CARLOS","23","CÓRDOBA",8.7064642630000009,-75.692518245000002]
["CÓRDOBACZ CERETESAN PELAYO",2021,"23","CÓRDOBA","2302","CZ CERETE","23686","SAN PELAYO","Municipio","SAN PELAYO","23","CÓRDOBA",8.9877773919999999,-75.909587708000004]
["CÓRDOBACZ PLANETARICABUENAVISTA",2021,"23","CÓRDOBA","2303","CZ PLANETARICA","23079","BUENAVISTA","Municipio","BUENAVISTA","23","CÓRDOBA",8.1913979529999992,-75.433825318999993]
["CÓRDOBACZ PLANETARICAPLANETA RICA",2021,"23","CÓRDOBA","2303","CZ PLANETARICA","23555","PLANETA RICA","Municipio","PLANETA RICA","23","CÓRDOBA",8.1811084879999996,-75.689238029999999]
["CÓRDOBACZ PLANETARICAPUEBLO NUEVO",2021,"23","CÓRDOBA","2303","CZ PLANETARICA","23570","PUEBLO NUEVO","Municipio","PUEBLO NUEVO","23","CÓRDOBA",8.4813395679999992,-75.405161542000002]
["CÓRDOBACZ TIERRALTATIERRALTA",2021,"23","CÓRDOBA","2304","CZ TIERRALTA","23807","TIERRALTA","Municipio","TIERRALTA","23","CÓRDOBA",7.8138968289999999,-76.168466780000003]
["CÓRDOBACZ TIERRALTAVALENCIA",2021,"23","CÓRDOBA","2304","CZ TIERRALTA","23855","VALENCIA","Municipio","VALENCIA","23","CÓRDOBA",8.2199041279999996,-76.221328600000007]
["CÓRDOBACZ MONTELIBANOAYAPEL",2021,"23","CÓRDOBA","2305","CZ MONTELIBANO","23068","AYAPEL","Municipio","AYAPEL","23","CÓRDOBA",8.2657686879999996,-75.048684356999999]
["CÓRDOBACZ MONTELIBANOLA APARTADA",2021,"23","CÓRDOBA","2305","CZ MONTELIBANO","23350","LA APARTADA","Municipio","LA APARTADA","23","CÓRDOBA",8.0522184219999993,-75.288160219999995]
["CÓRDOBACZ MONTELIBANOMONTELÍBANO",2021,"23","CÓRDOBA","2305","CZ MONTELIBANO","23466","MONTELÍBANO","Municipio","MONTELÍBANO","23","CÓRDOBA",7.8664326349999998,-75.875339255]
["CÓRDOBACZ MONTELIBANOPUERTO LIBERTADOR",2021,"23","CÓRDOBA","2305","CZ MONTELIBANO","23580","PUERTO LIBERTADOR","Municipio","PUERTO LIBERTADOR","23","CÓRDOBA",7.711515736,-75.771232237999996]
["CÓRDOBACZ MONTELIBANOSAN JOSE DE URE",2021,"23","CÓRDOBA","2305","CZ MONTELIBANO","23682","SAN JOSE DE URE","Municipio","SAN JOSÉ DE URÉ","23","CÓRDOBA",7.7530543950000004,-75.567247397000003]
["CÓRDOBACZ LORICALORICA",2021,"23","CÓRDOBA","2306","CZ LORICA","23417","LORICA","Municipio","LORICA","23","CÓRDOBA",9.1650349979999994,-75.909781236000001]
["CÓRDOBACZ LORICAMOMIL",2021,"23","CÓRDOBA","2306","CZ LORICA","23464","MOMIL","Municipio","MOMIL","23","CÓRDOBA",9.265461621,-75.650908762]
["CÓRDOBACZ LORICAMOÑITOS",2021,"23","CÓRDOBA","2306","CZ LORICA","23500","MOÑITOS","Municipio","MOÑITOS","23","CÓRDOBA",9.1905153429999995,-76.119317093999996]
["CÓRDOBACZ LORICAPURÍSIMA DE LA CONCEPCIÓN",2021,"23","CÓRDOBA","2306","CZ LORICA","23586","PURÍSIMA DE LA CONCEPCIÓN","Municipio","PURÍSIMA DE LA CONCEPCIÓN","23","CÓRDOBA",9.2823861270000005,-75.721293920999997]
["CÓRDOBACZ LORICASAN ANTERO",2021,"23","CÓRDOBA","2306","CZ LORICA","23672","SAN ANTERO","Municipio","SAN ANTERO","23","CÓRDOBA",9.3596674889999996,-75.787002521000005]
["CÓRDOBACZ LORICASAN BERNARDO DEL VIENTO",2021,"23","CÓRDOBA","2306","CZ LORICA","23675","SAN BERNARDO DEL VIENTO","Municipio","SAN BERNARDO DEL VIENTO","23","CÓRDOBA",9.3300983290000001,-75.976238577999993]
["CÓRDOBACZ SAHAGUNCHINÚ",2021,"23","CÓRDOBA","2307","CZ SAHAGUN","23182","CHINÚ","Municipio","CHINÚ","23","CÓRDOBA",9.0532871040000007,-75.373873626000005]
["CÓRDOBACZ SAHAGUNSAHAGÚN",2021,"23","CÓRDOBA","2307","CZ SAHAGUN","23660","SAHAGÚN","Municipio","SAHAGÚN","23","CÓRDOBA",8.7990070159999991,-75.429256639000002]
["CÓRDOBACZ SAN ANDRES DE SOTAVENTOCHIMÁ",2021,"23","CÓRDOBA","2308","CZ SAN ANDRES DE SOTAVENTO","23168","CHIMÁ","Municipio","CHIMÁ","23","CÓRDOBA",9.1102494099999998,-75.652373510999993]
["CÓRDOBACZ SAN ANDRES DE SOTAVENTOSAN ANDRÉS DE SOTAVENTO",2021,"23","CÓRDOBA","2308","CZ SAN ANDRES DE SOTAVENTO","23670","SAN ANDRÉS DE SOTAVENTO","Municipio","SAN ANDRÉS DE SOTAVENTO","23","CÓRDOBA",9.121296353,-75.520917112999996]
["CÓRDOBACZ SAN ANDRES DE SOTAVENTOTUCHIN",2021,"23","CÓRDOBA","2308","CZ SAN ANDRES DE SOTAVENTO","23815","TUCHIN","Municipio","TUCHÍN","23","CÓRDOBA",9.2246308030000002,-75.544105924999997]
["CUNDINAMARCAREGIONAL CUNDINAMARCASEDE REGIONAL",2021,"25","CUNDINAMARCA","2500","REGIONAL CUNDINAMARCA","25900","SEDE REGIONAL","N/A","N/A","25","CUNDINAMARCA","N/A","N/A"]
["CUNDINAMARCACZ SOACHASOACHA",2021,"25","CUNDINAMARCA","2501","CZ SOACHA","25754","SOACHA","Municipio","SOACHA","25","CUNDINAMARCA",4.5818662669999997,-74.240296958000002]
["CUNDINAMARCACZ ZIPAQUIRACAJICÁ",2021,"25","CUNDINAMARCA","2502","CZ ZIPAQUIRA","25126","CAJICÁ","Municipio","CAJICÁ","25","CUNDINAMARCA",4.9304027789999996,-74.029851152000006]
["CUNDINAMARCACZ ZIPAQUIRACHÍA",2021,"25","CUNDINAMARCA","2502","CZ ZIPAQUIRA","25175","CHÍA","Municipio","CHÍA","25","CUNDINAMARCA",4.8578236710000002,-74.038095385000005]
["CUNDINAMARCACZ ZIPAQUIRACOGUA",2021,"25","CUNDINAMARCA","2502","CZ ZIPAQUIRA","25200","COGUA","Municipio","COGUA","25","CUNDINAMARCA",5.1031275320000002,-73.975365589999996]
["CUNDINAMARCACZ ZIPAQUIRACOTA",2021,"25","CUNDINAMARCA","2502","CZ ZIPAQUIRA","25214","COTA","Municipio","COTA","25","CUNDINAMARCA",4.7675467400000002,-74.141558294999996]
["CUNDINAMARCACZ ZIPAQUIRAGACHANCIPÁ",2021,"25","CUNDINAMARCA","2502","CZ ZIPAQUIRA","25295","GACHANCIPÁ","Municipio","GACHANCIPÁ","25","CUNDINAMARCA",5.0100195300000001,-73.876717589999998]
["CUNDINAMARCACZ ZIPAQUIRALA CALERA",2021,"25","CUNDINAMARCA","2502","CZ ZIPAQUIRA","25377","LA CALERA","Municipio","LA CALERA","25","CUNDINAMARCA",4.700785443,-73.929399208000007]
["CUNDINAMARCACZ ZIPAQUIRANEMOCÓN",2021,"25","CUNDINAMARCA","2502","CZ ZIPAQUIRA","25486","NEMOCÓN","Municipio","NEMOCÓN","25","CUNDINAMARCA",5.0937053580000002,-73.883802375000002]
["CUNDINAMARCACZ ZIPAQUIRASAN CAYETANO",2021,"25","CUNDINAMARCA","2502","CZ ZIPAQUIRA","25653","SAN CAYETANO","Municipio","SAN CAYETANO","25","CUNDINAMARCA",5.3146004229999999,-74.072320770999994]
["CUNDINAMARCACZ ZIPAQUIRASOPÓ",2021,"25","CUNDINAMARCA","2502","CZ ZIPAQUIRA","25758","SOPÓ","Municipio","SOPÓ","25","CUNDINAMARCA",4.8880601119999998,-73.965875276999995]
["CUNDINAMARCACZ ZIPAQUIRATABIO",2021,"25","CUNDINAMARCA","2502","CZ ZIPAQUIRA","25785","TABIO","Municipio","TABIO","25","CUNDINAMARCA",4.9515200459999997,-74.084496479999999]
["CUNDINAMARCACZ ZIPAQUIRATENJO",2021,"25","CUNDINAMARCA","2502","CZ ZIPAQUIRA","25799","TENJO","Municipio","TENJO","25","CUNDINAMARCA",4.8385486010000003,-74.146802871999995]
["CUNDINAMARCACZ ZIPAQUIRATOCANCIPÁ",2021,"25","CUNDINAMARCA","2502","CZ ZIPAQUIRA","25817","TOCANCIPÁ","Municipio","TOCANCIPÁ","25","CUNDINAMARCA",4.9688529130000001,-73.928870204999996]
["CUNDINAMARCACZ ZIPAQUIRAZIPAQUIRÁ",2021,"25","CUNDINAMARCA","2502","CZ ZIPAQUIRA","25899","ZIPAQUIRÁ","Municipio","ZIPAQUIRÁ","25","CUNDINAMARCA",5.0663168499999998,-74.049603234000003]
["CUNDINAMARCACZ CHOCONTACHOCONTÁ",2021,"25","CUNDINAMARCA","2503","CZ CHOCONTA","25183","CHOCONTÁ","Municipio","CHOCONTÁ","25","CUNDINAMARCA",5.1184192709999996,-73.680685831000005]
["CUNDINAMARCACZ CHOCONTAGUATAVITA",2021,"25","CUNDINAMARCA","2503","CZ CHOCONTA","25326","GUATAVITA","Municipio","GUATAVITA","25","CUNDINAMARCA",4.9115871699999998,-73.786485643999995]
["CUNDINAMARCACZ CHOCONTAMACHETA",2021,"25","CUNDINAMARCA","2503","CZ CHOCONTA","25426","MACHETA","Municipio","MACHETÁ","25","CUNDINAMARCA",5.0403491980000004,-73.617382409000001]
["CUNDINAMARCACZ CHOCONTAMANTA",2021,"25","CUNDINAMARCA","2503","CZ CHOCONTA","25436","MANTA","Municipio","MANTA","25","CUNDINAMARCA",4.9768811509999997,-73.563137405999996]
["CUNDINAMARCACZ CHOCONTASESQUILÉ",2021,"25","CUNDINAMARCA","2503","CZ CHOCONTA","25736","SESQUILÉ","Municipio","SESQUILÉ","25","CUNDINAMARCA",5.0006338750000001,-73.772065443000002]
["CUNDINAMARCACZ CHOCONTASUESCA",2021,"25","CUNDINAMARCA","2503","CZ CHOCONTA","25772","SUESCA","Municipio","SUESCA","25","CUNDINAMARCA",5.1227284610000003,-73.824273125000005]
["CUNDINAMARCACZ CHOCONTATIBIRITA",2021,"25","CUNDINAMARCA","2503","CZ CHOCONTA","25807","TIBIRITA","Municipio","TIBIRITA","25","CUNDINAMARCA",5.0841026820000002,-73.513625457000003]
["CUNDINAMARCACZ CHOCONTAVILLAPINZÓN",2021,"25","CUNDINAMARCA","2503","CZ CHOCONTA","25873","VILLAPINZÓN","Municipio","VILLAPINZÓN","25","CUNDINAMARCA",5.2272987090000003,-73.577259209000005]
["CUNDINAMARCACZ PACHOCAPARRAPÍ",2021,"25","CUNDINAMARCA","2504","CZ PACHO","25148","CAPARRAPÍ","Municipio","CAPARRAPÍ","25","CUNDINAMARCA",5.3815013990000002,-74.521235946999994]
["CUNDINAMARCACZ PACHOEL PEÑÓN",2021,"25","CUNDINAMARCA","2504","CZ PACHO","25258","EL PEÑÓN","Municipio","EL PEÑÓN","25","CUNDINAMARCA",5.2617282440000004,-74.308305638999997]
["CUNDINAMARCACZ PACHOLA PALMA",2021,"25","CUNDINAMARCA","2504","CZ PACHO","25394","LA PALMA","Municipio","LA PALMA","25","CUNDINAMARCA",5.3334006460000003,-74.408078630000006]
["CUNDINAMARCACZ PACHOPACHO",2021,"25","CUNDINAMARCA","2504","CZ PACHO","25513","PACHO","Municipio","PACHO","25","CUNDINAMARCA",5.168367634,-74.163365443000004]
["CUNDINAMARCACZ PACHOPAIME",2021,"25","CUNDINAMARCA","2504","CZ PACHO","25518","PAIME","Municipio","PAIME","25","CUNDINAMARCA",5.3876473450000004,-74.163956956000007]
["CUNDINAMARCACZ PACHOSUPATÁ",2021,"25","CUNDINAMARCA","2504","CZ PACHO","25777","SUPATÁ","Municipio","SUPATÁ","25","CUNDINAMARCA",5.0616927030000003,-74.231383276000003]
["CUNDINAMARCACZ PACHOTOPAIPÍ",2021,"25","CUNDINAMARCA","2504","CZ PACHO","25823","TOPAIPÍ","Municipio","TOPAIPÍ","25","CUNDINAMARCA",5.3556883859999997,-74.289639942999997]
["CUNDINAMARCACZ PACHOVILLAGÓMEZ",2021,"25","CUNDINAMARCA","2504","CZ PACHO","25871","VILLAGÓMEZ","Municipio","VILLAGÓMEZ","25","CUNDINAMARCA",5.270694636,-74.190743750999999]
["CUNDINAMARCACZ PACHOYACOPÍ",2021,"25","CUNDINAMARCA","2504","CZ PACHO","25885","YACOPÍ","Municipio","YACOPÍ","25","CUNDINAMARCA",5.591910157,-74.364808652999997]
["CUNDINAMARCACZ VILLETAGUADUAS",2021,"25","CUNDINAMARCA","2505","CZ VILLETA","25320","GUADUAS","Municipio","GUADUAS","25","CUNDINAMARCA",5.1735547640000004,-74.640146506999997]
["CUNDINAMARCACZ VILLETALA PEÑA",2021,"25","CUNDINAMARCA","2505","CZ VILLETA","25398","LA PEÑA","Municipio","LA PEÑA","25","CUNDINAMARCA",5.2045988200000002,-74.407866108999997]
["CUNDINAMARCACZ VILLETALA VEGA",2021,"25","CUNDINAMARCA","2505","CZ VILLETA","25402","LA VEGA","Municipio","LA VEGA","25","CUNDINAMARCA",4.9786198419999996,-74.339360611000004]
["CUNDINAMARCACZ VILLETANIMAIMA",2021,"25","CUNDINAMARCA","2505","CZ VILLETA","25489","NIMAIMA","Municipio","NIMAIMA","25","CUNDINAMARCA",5.1214453249999998,-74.397370483000003]
["CUNDINAMARCACZ VILLETANOCAIMA",2021,"25","CUNDINAMARCA","2505","CZ VILLETA","25491","NOCAIMA","Municipio","NOCAIMA","25","CUNDINAMARCA",5.066110761,-74.389754757999995]
["CUNDINAMARCACZ VILLETAPUERTO SALGAR",2021,"25","CUNDINAMARCA","2505","CZ VILLETA","25572","PUERTO SALGAR","Municipio","PUERTO SALGAR","25","CUNDINAMARCA",5.6197527479999998,-74.580192303000004]
["CUNDINAMARCACZ VILLETAQUEBRADANEGRA",2021,"25","CUNDINAMARCA","2505","CZ VILLETA","25592","QUEBRADANEGRA","Municipio","QUEBRADANEGRA","25","CUNDINAMARCA",5.0999810300000004,-74.494510696999996]
["CUNDINAMARCACZ VILLETASAN FRANCISCO",2021,"25","CUNDINAMARCA","2505","CZ VILLETA","25658","SAN FRANCISCO","Municipio","SAN FRANCISCO","25","CUNDINAMARCA",4.9641007029999997,-74.272171286000003]
["CUNDINAMARCACZ VILLETASASAIMA",2021,"25","CUNDINAMARCA","2505","CZ VILLETA","25718","SASAIMA","Municipio","SASAIMA","25","CUNDINAMARCA",4.9468052629999999,-74.412309211999997]
["CUNDINAMARCACZ VILLETAÚTICA",2021,"25","CUNDINAMARCA","2505","CZ VILLETA","25851","ÚTICA","Municipio","ÚTICA","25","CUNDINAMARCA",5.1927957080000002,-74.477800028999994]
["CUNDINAMARCACZ VILLETAVERGARA",2021,"25","CUNDINAMARCA","2505","CZ VILLETA","25862","VERGARA","Municipio","VERGARA","25","CUNDINAMARCA",5.1312675419999998,-74.309792286999993]
["CUNDINAMARCACZ VILLETAVILLETA",2021,"25","CUNDINAMARCA","2505","CZ VILLETA","25875","VILLETA","Municipio","VILLETA","25","CUNDINAMARCA",5.011670402,-74.487647455000001]
["CUNDINAMARCACZ FACATATIVAALBÁN",2021,"25","CUNDINAMARCA","2506","CZ FACATATIVA","25019","ALBÁN","Municipio","ALBÁN","25","CUNDINAMARCA",4.8911216380000004,-74.442784317000005]
["CUNDINAMARCACZ FACATATIVAANOLAIMA",2021,"25","CUNDINAMARCA","2506","CZ FACATATIVA","25040","ANOLAIMA","Municipio","ANOLAIMA","25","CUNDINAMARCA",4.7893136140000001,-74.461942562999994]
["CUNDINAMARCACZ FACATATIVABOJACÁ",2021,"25","CUNDINAMARCA","2506","CZ FACATATIVA","25099","BOJACÁ","Municipio","BOJACÁ","25","CUNDINAMARCA",4.7055762520000002,-74.335407699000001]
["CUNDINAMARCACZ FACATATIVAEL ROSAL",2021,"25","CUNDINAMARCA","2506","CZ FACATATIVA","25260","EL ROSAL","Municipio","EL ROSAL","25","CUNDINAMARCA",4.8797230159999998,-74.238022728999994]
["CUNDINAMARCACZ FACATATIVAFACATATIVÁ",2021,"25","CUNDINAMARCA","2506","CZ FACATATIVA","25269","FACATATIVÁ","Municipio","FACATATIVÁ","25","CUNDINAMARCA",4.8340523339999999,-74.338022898000006]
["CUNDINAMARCACZ FACATATIVAFUNZA",2021,"25","CUNDINAMARCA","2506","CZ FACATATIVA","25286","FUNZA","Municipio","FUNZA","25","CUNDINAMARCA",4.7439967110000003,-74.198659922999994]
["CUNDINAMARCACZ FACATATIVAGUAYABAL DE SIQUIMA",2021,"25","CUNDINAMARCA","2506","CZ FACATATIVA","25328","GUAYABAL DE SIQUIMA","Municipio","GUAYABAL DE SÍQUIMA","25","CUNDINAMARCA",4.8663102540000001,-74.476770895000001]
["CUNDINAMARCACZ FACATATIVAMADRID",2021,"25","CUNDINAMARCA","2506","CZ FACATATIVA","25430","MADRID","Municipio","MADRID","25","CUNDINAMARCA",4.7515675100000001,-74.289630496000001]
["CUNDINAMARCACZ FACATATIVAMOSQUERA",2021,"25","CUNDINAMARCA","2506","CZ FACATATIVA","25473","MOSQUERA","Municipio","MOSQUERA","25","CUNDINAMARCA",4.6727142229999998,-74.235731935000004]
["CUNDINAMARCACZ FACATATIVASUBACHOQUE",2021,"25","CUNDINAMARCA","2506","CZ FACATATIVA","25769","SUBACHOQUE","Municipio","SUBACHOQUE","25","CUNDINAMARCA",4.9703580340000002,-74.156899233999994]
["CUNDINAMARCACZ FACATATIVAZIPACÓN",2021,"25","CUNDINAMARCA","2506","CZ FACATATIVA","25898","ZIPACÓN","Municipio","ZIPACÓN","25","CUNDINAMARCA",4.75432173,-74.386734442999995]
["CUNDINAMARCACZ FUSAGASUGAARBELÁEZ",2021,"25","CUNDINAMARCA","2507","CZ FUSAGASUGA","25053","ARBELÁEZ","Municipio","ARBELÁEZ","25","CUNDINAMARCA",4.2327869849999997,-74.395762911000006]
["CUNDINAMARCACZ FUSAGASUGACABRERA",2021,"25","CUNDINAMARCA","2507","CZ FUSAGASUGA","25120","CABRERA","Municipio","CABRERA","25","CUNDINAMARCA",3.9186192399999999,-74.446156060000007]
["CUNDINAMARCACZ FUSAGASUGAFUSAGASUGÁ",2021,"25","CUNDINAMARCA","2507","CZ FUSAGASUGA","25290","FUSAGASUGÁ","Municipio","FUSAGASUGÁ","25","CUNDINAMARCA",4.3235340280000001,-74.388591138999999]
["CUNDINAMARCACZ FUSAGASUGAGRANADA",2021,"25","CUNDINAMARCA","2507","CZ FUSAGASUGA","25312","GRANADA","Municipio","GRANADA","25","CUNDINAMARCA",4.5234848840000002,-74.337246191999995]
["CUNDINAMARCACZ FUSAGASUGAVENECIA",2021,"25","CUNDINAMARCA","2507","CZ FUSAGASUGA","25506","VENECIA","Municipio","VENECIA","25","CUNDINAMARCA",4.0633420740000004,-74.452597955000002]
["CUNDINAMARCACZ FUSAGASUGAPANDI",2021,"25","CUNDINAMARCA","2507","CZ FUSAGASUGA","25524","PANDI","Municipio","PANDI","25","CUNDINAMARCA",4.1804972679999999,-74.471121296999996]
["CUNDINAMARCACZ FUSAGASUGAPASCA",2021,"25","CUNDINAMARCA","2507","CZ FUSAGASUGA","25535","PASCA","Municipio","PASCA","25","CUNDINAMARCA",4.2937336110000004,-74.27396924]
["CUNDINAMARCACZ FUSAGASUGASAN BERNARDO",2021,"25","CUNDINAMARCA","2507","CZ FUSAGASUGA","25649","SAN BERNARDO","Municipio","SAN BERNARDO","25","CUNDINAMARCA",4.1409584639999997,-74.353976920999997]
["CUNDINAMARCACZ FUSAGASUGASILVANIA",2021,"25","CUNDINAMARCA","2507","CZ FUSAGASUGA","25743","SILVANIA","Municipio","SILVANIA","25","CUNDINAMARCA",4.4369671410000002,-74.370509029999994]
["CUNDINAMARCACZ FUSAGASUGATIBACUY",2021,"25","CUNDINAMARCA","2507","CZ FUSAGASUGA","25805","TIBACUY","Municipio","TIBACUY","25","CUNDINAMARCA",4.3213578989999997,-74.486672741000007]
["CUNDINAMARCACZ CAQUEZACAQUEZA",2021,"25","CUNDINAMARCA","2508","CZ CAQUEZA","25151","CAQUEZA","Municipio","CÁQUEZA","25","CUNDINAMARCA",4.4022594570000004,-73.944824350000005]
["CUNDINAMARCACZ CAQUEZACHIPAQUE",2021,"25","CUNDINAMARCA","2508","CZ CAQUEZA","25178","CHIPAQUE","Municipio","CHIPAQUE","25","CUNDINAMARCA",4.4637466290000001,-74.046052459999999]
["CUNDINAMARCACZ CAQUEZACHOACHÍ",2021,"25","CUNDINAMARCA","2508","CZ CAQUEZA","25181","CHOACHÍ","Municipio","CHOACHÍ","25","CUNDINAMARCA",4.5781838959999996,-73.952900544000002]
["CUNDINAMARCACZ CAQUEZAFOMEQUE",2021,"25","CUNDINAMARCA","2508","CZ CAQUEZA","25279","FOMEQUE","Municipio","FÓMEQUE","25","CUNDINAMARCA",4.528568462,-73.797052665999999]
["CUNDINAMARCACZ CAQUEZAFOSCA",2021,"25","CUNDINAMARCA","2508","CZ CAQUEZA","25281","FOSCA","Municipio","FOSCA","25","CUNDINAMARCA",4.3162800719999996,-73.952867838000003]
["CUNDINAMARCACZ CAQUEZAGUAYABETAL",2021,"25","CUNDINAMARCA","2508","CZ CAQUEZA","25335","GUAYABETAL","Municipio","GUAYABETAL","25","CUNDINAMARCA",4.2318759449999996,-73.835439807]
["CUNDINAMARCACZ CAQUEZAGUTIÉRREZ",2021,"25","CUNDINAMARCA","2508","CZ CAQUEZA","25339","GUTIÉRREZ","Municipio","GUTIÉRREZ","25","CUNDINAMARCA",4.1660895629999999,-74.024652701999997]
["CUNDINAMARCACZ CAQUEZAMEDINA",2021,"25","CUNDINAMARCA","2508","CZ CAQUEZA","25438","MEDINA","Municipio","MEDINA","25","CUNDINAMARCA",4.4844379190000003,-73.405984868000004]
["CUNDINAMARCACZ CAQUEZAPARATEBUENO",2021,"25","CUNDINAMARCA","2508","CZ CAQUEZA","25530","PARATEBUENO","Municipio","PARATEBUENO","25","CUNDINAMARCA",4.3681589589999996,-73.241661397000001]
["CUNDINAMARCACZ CAQUEZAQUETAME",2021,"25","CUNDINAMARCA","2508","CZ CAQUEZA","25594","QUETAME","Municipio","QUETAME","25","CUNDINAMARCA",4.3345890440000003,-73.852645609999996]
["CUNDINAMARCACZ CAQUEZAUBAQUE",2021,"25","CUNDINAMARCA","2508","CZ CAQUEZA","25841","UBAQUE","Municipio","UBAQUE","25","CUNDINAMARCA",4.5007541819999997,-73.975645447000005]
["CUNDINAMARCACZ CAQUEZAUNE",2021,"25","CUNDINAMARCA","2508","CZ CAQUEZA","25845","UNE","Municipio","UNE","25","CUNDINAMARCA",4.2446111630000001,-74.111873040000006]
["CUNDINAMARCACZ GACHETAGACHALA",2021,"25","CUNDINAMARCA","2509","CZ GACHETA","25293","GACHALA","Municipio","GACHALÁ","25","CUNDINAMARCA",4.6549551300000003,-73.510553814000005]
["CUNDINAMARCACZ GACHETAGACHETÁ",2021,"25","CUNDINAMARCA","2509","CZ GACHETA","25297","GACHETÁ","Municipio","GACHETÁ","25","CUNDINAMARCA",4.8675511340000002,-73.617732872000005]
["CUNDINAMARCACZ GACHETAGAMA",2021,"25","CUNDINAMARCA","2509","CZ GACHETA","25299","GAMA","Municipio","GAMA","25","CUNDINAMARCA",4.7235734640000002,-73.600544413999998]
["CUNDINAMARCACZ GACHETAGUASCA",2021,"25","CUNDINAMARCA","2509","CZ GACHETA","25322","GUASCA","Municipio","GUASCA","25","CUNDINAMARCA",4.8012768320000001,-73.846434852000002]
["CUNDINAMARCACZ GACHETAJUNÍN",2021,"25","CUNDINAMARCA","2509","CZ GACHETA","25372","JUNÍN","Municipio","JUNÍN","25","CUNDINAMARCA",4.7051707890000003,-73.692478731999998]
["CUNDINAMARCACZ GACHETAUBALÁ",2021,"25","CUNDINAMARCA","2509","CZ GACHETA","25839","UBALÁ","Municipio","UBALÁ","25","CUNDINAMARCA",4.8038051819999996,-73.476546040000002]
["CUNDINAMARCACZ GIRARDOTAGUA DE DIOS",2021,"25","CUNDINAMARCA","2510","CZ GIRARDOT","25001","AGUA DE DIOS","Municipio","AGUA DE DIOS","25","CUNDINAMARCA",4.3727446759999999,-74.671110509000002]
["CUNDINAMARCACZ GIRARDOTGIRARDOT",2021,"25","CUNDINAMARCA","2510","CZ GIRARDOT","25307","GIRARDOT","Municipio","GIRARDOT","25","CUNDINAMARCA",4.3381545179999996,-74.811439221000001]
["CUNDINAMARCACZ GIRARDOTGUATAQUÍ",2021,"25","CUNDINAMARCA","2510","CZ GIRARDOT","25324","GUATAQUÍ","Municipio","GUATAQUÍ","25","CUNDINAMARCA",4.516381655,-74.782577880999995]
["CUNDINAMARCACZ GIRARDOTJERUSALÉN",2021,"25","CUNDINAMARCA","2510","CZ GIRARDOT","25368","JERUSALÉN","Municipio","JERUSALÉN","25","CUNDINAMARCA",4.5713502540000004,-74.689158535999994]
["CUNDINAMARCACZ GIRARDOTNARIÑO",2021,"25","CUNDINAMARCA","2510","CZ GIRARDOT","25483","NARIÑO","Municipio","NARIÑO","25","CUNDINAMARCA",4.4079520150000002,-74.805653169999999]
["CUNDINAMARCACZ GIRARDOTNILO",2021,"25","CUNDINAMARCA","2510","CZ GIRARDOT","25488","NILO","Municipio","NILO","25","CUNDINAMARCA",4.2947809330000002,-74.614694997000001]
["CUNDINAMARCACZ GIRARDOTRICAURTE",2021,"25","CUNDINAMARCA","2510","CZ GIRARDOT","25612","RICAURTE","Municipio","RICAURTE","25","CUNDINAMARCA",4.3073634890000001,-74.729434033999993]
["CUNDINAMARCACZ GIRARDOTTOCAIMA",2021,"25","CUNDINAMARCA","2510","CZ GIRARDOT","25815","TOCAIMA","Municipio","TOCAIMA","25","CUNDINAMARCA",4.452072974,-74.648644062000002]
["CUNDINAMARCACZ GIRARDOTVIOTÁ",2021,"25","CUNDINAMARCA","2510","CZ GIRARDOT","25878","VIOTÁ","Municipio","VIOTÁ","25","CUNDINAMARCA",4.4360541050000002,-74.485433391000001]
["CUNDINAMARCACZ LA MESAANAPOIMA",2021,"25","CUNDINAMARCA","2511","CZ LA MESA","25035","ANAPOIMA","Municipio","ANAPOIMA","25","CUNDINAMARCA",4.5599628809999997,-74.525695298000002]
["CUNDINAMARCACZ LA MESACACHIPAY",2021,"25","CUNDINAMARCA","2511","CZ LA MESA","25123","CACHIPAY","Municipio","CACHIPAY","25","CUNDINAMARCA",4.7230633409999996,-74.459195283]
["CUNDINAMARCACZ LA MESAEL COLEGIO",2021,"25","CUNDINAMARCA","2511","CZ LA MESA","25245","EL COLEGIO","Municipio","EL COLEGIO","25","CUNDINAMARCA",4.556947085,-74.426584775999999]
["CUNDINAMARCACZ LA MESALA MESA",2021,"25","CUNDINAMARCA","2511","CZ LA MESA","25386","LA MESA","Municipio","LA MESA","25","CUNDINAMARCA",4.6507731669999997,-74.473217168999994]
["CUNDINAMARCACZ LA MESAQUIPILE",2021,"25","CUNDINAMARCA","2511","CZ LA MESA","25596","QUIPILE","Municipio","QUIPILE","25","CUNDINAMARCA",4.7269079759999997,-74.553599262000006]
["CUNDINAMARCACZ LA MESAAPULO",2021,"25","CUNDINAMARCA","2511","CZ LA MESA","25599","APULO","Municipio","APULO","25","CUNDINAMARCA",4.5377116190000004,-74.591246562999999]
["CUNDINAMARCACZ LA MESASAN ANTONIO DEL TEQUENDAMA",2021,"25","CUNDINAMARCA","2511","CZ LA MESA","25645","SAN ANTONIO DEL TEQUENDAMA","Municipio","SAN ANTONIO DEL TEQUENDAMA","25","CUNDINAMARCA",4.5997413570000001,-74.344903415999994]
["CUNDINAMARCACZ LA MESATENA",2021,"25","CUNDINAMARCA","2511","CZ LA MESA","25797","TENA","Municipio","TENA","25","CUNDINAMARCA",4.666608192,-74.367649557999997]
["CUNDINAMARCACZ UBATECARMEN DE CARUPA",2021,"25","CUNDINAMARCA","2512","CZ UBATE","25154","CARMEN DE CARUPA","Municipio","CARMEN DE CARUPA","25","CUNDINAMARCA",5.3388565559999996,-73.926148171999998]
["CUNDINAMARCACZ UBATECUCUNUBÁ",2021,"25","CUNDINAMARCA","2512","CZ UBATE","25224","CUCUNUBÁ","Municipio","CUCUNUBÁ","25","CUNDINAMARCA",5.2303081049999998,-73.780018849000001]
["CUNDINAMARCACZ UBATEFÚQUENE",2021,"25","CUNDINAMARCA","2512","CZ UBATE","25288","FÚQUENE","Municipio","FÚQUENE","25","CUNDINAMARCA",5.4162889019999998,-73.770598289000006]
["CUNDINAMARCACZ UBATEGUACHETÁ",2021,"25","CUNDINAMARCA","2512","CZ UBATE","25317","GUACHETÁ","Municipio","GUACHETÁ","25","CUNDINAMARCA",5.3872915419999998,-73.693282341]
["CUNDINAMARCACZ UBATELENGUAZAQUE",2021,"25","CUNDINAMARCA","2512","CZ UBATE","25407","LENGUAZAQUE","Municipio","LENGUAZAQUE","25","CUNDINAMARCA",5.3036371710000001,-73.681532277000002]
["CUNDINAMARCACZ UBATESIMIJACA",2021,"25","CUNDINAMARCA","2512","CZ UBATE","25745","SIMIJACA","Municipio","SIMIJACA","25","CUNDINAMARCA",5.509773128,-73.845191643999996]
["CUNDINAMARCACZ UBATESUSA",2021,"25","CUNDINAMARCA","2512","CZ UBATE","25779","SUSA","Municipio","SUSA","25","CUNDINAMARCA",5.4400923580000002,-73.823925286000005]
["CUNDINAMARCACZ UBATESUTATAUSA",2021,"25","CUNDINAMARCA","2512","CZ UBATE","25781","SUTATAUSA","Municipio","SUTATAUSA","25","CUNDINAMARCA",5.2429093470000003,-73.855403428000002]
["CUNDINAMARCACZ UBATETAUSA",2021,"25","CUNDINAMARCA","2512","CZ UBATE","25793","TAUSA","Municipio","TAUSA","25","CUNDINAMARCA",5.1705272119999997,-73.958195935000006]
["CUNDINAMARCACZ UBATEVILLA DE SAN DIEGO DE UBATÉ",2021,"25","CUNDINAMARCA","2512","CZ UBATE","25843","VILLA DE SAN DIEGO DE UBATÉ","Municipio","VILLA DE SAN DIEGO DE UBATÉ","25","CUNDINAMARCA",5.3160806520000001,-73.820105663000007]
["CUNDINAMARCACZ SAN JUAN DE RIOSECOBELTRÁN",2021,"25","CUNDINAMARCA","2513","CZ SAN JUAN DE RIOSECO","25086","BELTRÁN","Municipio","BELTRÁN","25","CUNDINAMARCA",4.7917211049999997,-74.714913985999999]
["CUNDINAMARCACZ SAN JUAN DE RIOSECOBITUIMA",2021,"25","CUNDINAMARCA","2513","CZ SAN JUAN DE RIOSECO","25095","BITUIMA","Municipio","BITUIMA","25","CUNDINAMARCA",4.8478210910000001,-74.528627661000002]
["CUNDINAMARCACZ SAN JUAN DE RIOSECOCHAGUANÍ",2021,"25","CUNDINAMARCA","2513","CZ SAN JUAN DE RIOSECO","25168","CHAGUANÍ","Municipio","CHAGUANÍ","25","CUNDINAMARCA",4.9542517500000001,-74.630901385000001]
["CUNDINAMARCACZ SAN JUAN DE RIOSECOPULÍ",2021,"25","CUNDINAMARCA","2513","CZ SAN JUAN DE RIOSECO","25580","PULÍ","Municipio","PULÍ","25","CUNDINAMARCA",4.6913362530000002,-74.680744035999993]
["CUNDINAMARCACZ SAN JUAN DE RIOSECOSAN JUAN DE RIOSECO",2021,"25","CUNDINAMARCA","2513","CZ SAN JUAN DE RIOSECO","25662","SAN JUAN DE RIOSECO","Municipio","SAN JUAN DE RIOSECO","25","CUNDINAMARCA",4.814537831,-74.615259848999997]
["CUNDINAMARCACZ SAN JUAN DE RIOSECOVIANÍ",2021,"25","CUNDINAMARCA","2513","CZ SAN JUAN DE RIOSECO","25867","VIANÍ","Municipio","VIANÍ","25","CUNDINAMARCA",4.9140406189999997,-74.549366547999995]
["CUNDINAMARCACZ SOACHA CENTROSIBATÉ",2021,"25","CUNDINAMARCA","2518","CZ SOACHA CENTRO","25740","SIBATÉ","Municipio","SIBATÉ","25","CUNDINAMARCA",4.4659700039999999,-74.263289627000006]
["CUNDINAMARCACZ SOACHA CENTROSOACHA",2021,"25","CUNDINAMARCA","2518","CZ SOACHA CENTRO","25754","SOACHA","Municipio","SOACHA","25","CUNDINAMARCA",4.5818662669999997,-74.240296958000002]
["CHOCÓREGIONAL CHOCOSEDE REGIONAL",2021,"27","CHOCÓ","2700","REGIONAL CHOCO","27900","SEDE REGIONAL","N/A","N/A","27","CHOCÓ","N/A","N/A"]
["CHOCÓCZ QUIBDOQUIBDÓ",2021,"27","CHOCÓ","2701","CZ QUIBDO","27001","QUIBDÓ","Municipio","QUIBDÓ","27","CHOCÓ",5.7543229,-76.650151469999997]
["CHOCÓCZ QUIBDOATRATO",2021,"27","CHOCÓ","2701","CZ QUIBDO","27050","ATRATO","Municipio","ATRATO","27","CHOCÓ",5.5258250840000001,-76.650643568999996]
["CHOCÓCZ QUIBDOBOJAYA",2021,"27","CHOCÓ","2701","CZ QUIBDO","27099","BOJAYA","Municipio","BOJAYÁ","27","CHOCÓ",6.4746668850000004,-77.099330249999994]
["CHOCÓCZ QUIBDOEL CARMEN DE ATRATO",2021,"27","CHOCÓ","2701","CZ QUIBDO","27245","EL CARMEN DE ATRATO","Municipio","EL CARMEN DE ATRATO","27","CHOCÓ",5.8109383640000001,-76.191894423999997]
["CHOCÓCZ QUIBDOLLORÓ",2021,"27","CHOCÓ","2701","CZ QUIBDO","27413","LLORÓ","Municipio","LLORÓ","27","CHOCÓ",5.5851011789999996,-76.385444488000005]
["CHOCÓCZ QUIBDOMEDIO ATRATO",2021,"27","CHOCÓ","2701","CZ QUIBDO","27425","MEDIO ATRATO","Municipio","MEDIO ATRATO","27","CHOCÓ",6.033880098,-76.673469702999995]
["CHOCÓCZ QUIBDORÍO QUITO",2021,"27","CHOCÓ","2701","CZ QUIBDO","27600","RÍO QUITO","Municipio","RÍO QUITO","27","CHOCÓ",5.5675333370000004,-76.811570844000002]
["CHOCÓCZ ISTMINAALTO BAUDO",2021,"27","CHOCÓ","2702","CZ ISTMINA","27025","ALTO BAUDO","Municipio","ALTO BAUDÓ","27","CHOCÓ",5.6367409889999998,-77.084215399000001]
["CHOCÓCZ ISTMINABAJO BAUDÓ",2021,"27","CHOCÓ","2702","CZ ISTMINA","27077","BAJO BAUDÓ","Municipio","BAJO BAUDÓ","27","CHOCÓ",4.4928654349999997,-77.082713523999999]
["CHOCÓCZ ISTMINACONDOTO",2021,"27","CHOCÓ","2702","CZ ISTMINA","27205","CONDOTO","Municipio","CONDOTO","27","CHOCÓ",5.070586101,-76.507017509999997]
["CHOCÓCZ ISTMINALITORAL DEL SAN JUAN",2021,"27","CHOCÓ","2702","CZ ISTMINA","27250","LITORAL DEL SAN JUAN","Municipio","EL LITORAL DEL SAN JUAN","27","CHOCÓ",4.272940191,-76.987858278999994]
["CHOCÓCZ ISTMINAISTMINA",2021,"27","CHOCÓ","2702","CZ ISTMINA","27361","ISTMINA","Municipio","ISTMINA","27","CHOCÓ",4.586818665,-77.000907373999993]
["CHOCÓCZ ISTMINAMEDIO BAUDÓ",2021,"27","CHOCÓ","2702","CZ ISTMINA","27430","MEDIO BAUDÓ","Municipio","MEDIO BAUDÓ","27","CHOCÓ",5.1103922429999997,-76.995930752000007]
["CHOCÓCZ ISTMINAMEDIO SAN JUAN",2021,"27","CHOCÓ","2702","CZ ISTMINA","27450","MEDIO SAN JUAN","Municipio","MEDIO SAN JUAN","27","CHOCÓ",4.621182739,-76.808618426999999]
["CHOCÓCZ ISTMINANÓVITA",2021,"27","CHOCÓ","2702","CZ ISTMINA","27491","NÓVITA","Municipio","NÓVITA","27","CHOCÓ",4.8533866269999999,-76.618236684999999]
["CHOCÓCZ ISTMINARÍO IRO",2021,"27","CHOCÓ","2702","CZ ISTMINA","27580","RÍO IRO","Municipio","RÍO IRÓ","27","CHOCÓ",5.1909950150000004,-76.419961509999993]
["CHOCÓCZ ISTMINASIPÍ",2021,"27","CHOCÓ","2702","CZ ISTMINA","27745","SIPÍ","Municipio","SIPÍ","27","CHOCÓ",4.5944151570000002,-76.541944592999997]
["CHOCÓCZ BAHIA SOLANOBAHÍA SOLANO",2021,"27","CHOCÓ","2703","CZ BAHIA SOLANO","27075","BAHÍA SOLANO","Municipio","BAHÍA SOLANO","27","CHOCÓ",6.162762775,-77.416535343999996]
["CHOCÓCZ BAHIA SOLANOJURADÓ",2021,"27","CHOCÓ","2703","CZ BAHIA SOLANO","27372","JURADÓ","Municipio","JURADÓ","27","CHOCÓ",7.1033388679999998,-77.679736621000004]
["CHOCÓCZ BAHIA SOLANONUQUÍ",2021,"27","CHOCÓ","2703","CZ BAHIA SOLANO","27495","NUQUÍ","Municipio","NUQUÍ","27","CHOCÓ",5.5913598440000003,-77.330574385999995]
["CHOCÓCZ RIOSUCIOACANDÍ",2021,"27","CHOCÓ","2704","CZ RIOSUCIO","27006","ACANDÍ","Municipio","ACANDÍ","27","CHOCÓ",8.3839384989999992,-77.265602560999994]
["CHOCÓCZ RIOSUCIOBELÉN DE BAJIRÁ",2021,"27","CHOCÓ","2704","CZ RIOSUCIO","27086","BELÉN DE BAJIRÁ","Cabecera municipal","BELÉN DE BAJIRÁ","27","CHOCÓ",7.3705648000000004,-76.716756153000006]
["CHOCÓCZ RIOSUCIOCARMEN DEL DARIEN",2021,"27","CHOCÓ","2704","CZ RIOSUCIO","27150","CARMEN DEL DARIEN","Municipio","CARMEN DEL DARIÉN","27","CHOCÓ",7.0336465410000004,-76.974230164000005]
["CHOCÓCZ RIOSUCIORIOSUCIO",2021,"27","CHOCÓ","2704","CZ RIOSUCIO","27615","RIOSUCIO","Municipio","RIOSUCIO","27","CHOCÓ",7.3898879370000001,-77.240674833]
["CHOCÓCZ RIOSUCIOUNGUÍA",2021,"27","CHOCÓ","2704","CZ RIOSUCIO","27800","UNGUÍA","Municipio","UNGUÍA","27","CHOCÓ",8.1172810789999996,-77.103727230000004]
["CHOCÓCZ TADOBAGADÓ",2021,"27","CHOCÓ","2705","CZ TADO","27073","BAGADÓ","Municipio","BAGADÓ","27","CHOCÓ",5.5031197719999998,-76.197969064999995]
["CHOCÓCZ TADOEL CANTÓN DEL SAN PABLO",2021,"27","CHOCÓ","2705","CZ TADO","27135","EL CANTÓN DEL SAN PABLO","Municipio","EL CANTÓN DEL SAN PABLO","27","CHOCÓ",5.3596619670000001,-76.772556244]
["CHOCÓCZ TADOCÉRTEGUI",2021,"27","CHOCÓ","2705","CZ TADO","27160","CÉRTEGUI","Municipio","CÉRTEGUI","27","CHOCÓ",5.3898282289999999,-76.522642368000007]
["CHOCÓCZ TADOSAN JOSÉ DEL PALMAR",2021,"27","CHOCÓ","2705","CZ TADO","27660","SAN JOSÉ DEL PALMAR","Municipio","SAN JOSÉ DEL PALMAR","27","CHOCÓ",4.958741345,-76.280023606]
["CHOCÓCZ TADOTADÓ",2021,"27","CHOCÓ","2705","CZ TADO","27787","TADÓ","Municipio","TADÓ","27","CHOCÓ",5.2661015799999999,-76.331095472000001]
["CHOCÓCZ TADOUNIÓN PANAMERICANA",2021,"27","CHOCÓ","2705","CZ TADO","27810","UNIÓN PANAMERICANA","Municipio","UNIÓN PANAMERICANA","27","CHOCÓ",5.281599258,-76.619627455]
["HUILAREGIONAL HUILASEDE REGIONAL",2021,"41","HUILA","4100","REGIONAL HUILA","41900","SEDE REGIONAL","N/A","N/A","41","HUILA","N/A","N/A"]
["HUILACZ NEIVANEIVA",2021,"41","HUILA","4101","CZ NEIVA","41001","NEIVA","Municipio","NEIVA","41","HUILA",2.9933600459999998,-75.272362322000006]
["HUILACZ NEIVAAIPE",2021,"41","HUILA","4101","CZ NEIVA","41016","AIPE","Municipio","AIPE","41","HUILA",3.2434419229999998,-75.276706551999993]
["HUILACZ NEIVAIQUIRA",2021,"41","HUILA","4101","CZ NEIVA","41357","IQUIRA","Municipio","ÍQUIRA","41","HUILA",2.6915177730000002,-75.673831406000005]
["HUILACZ NEIVAPALERMO",2021,"41","HUILA","4101","CZ NEIVA","41524","PALERMO","Municipio","PALERMO","41","HUILA",2.914491967,-75.440661176999996]
["HUILACZ NEIVASANTA MARÍA",2021,"41","HUILA","4101","CZ NEIVA","41676","SANTA MARÍA","Municipio","SANTA MARÍA","41","HUILA",2.9262659370000002,-75.633597855000005]
["HUILACZ NEIVATERUEL",2021,"41","HUILA","4101","CZ NEIVA","41801","TERUEL","Municipio","TERUEL","41","HUILA",2.851852692,-75.759889336000001]
["HUILACZ NEIVAVILLAVIEJA",2021,"41","HUILA","4101","CZ NEIVA","41872","VILLAVIEJA","Municipio","VILLAVIEJA","41","HUILA",3.2870578749999999,-75.138382919999998]
["HUILACZ NEIVAYAGUARÁ",2021,"41","HUILA","4101","CZ NEIVA","41885","YAGUARÁ","Municipio","YAGUARÁ","41","HUILA",2.6465633390000001,-75.515926448000002]
["HUILACZ GARZONAGRADO",2021,"41","HUILA","4102","CZ GARZON","41013","AGRADO","Municipio","AGRADO","41","HUILA",2.2697504199999998,-75.716322355000003]
["HUILACZ GARZONALTAMIRA",2021,"41","HUILA","4102","CZ GARZON","41026","ALTAMIRA","Municipio","ALTAMIRA","41","HUILA",2.07922808,-75.768582878000004]
["HUILACZ GARZONGARZÓN",2021,"41","HUILA","4102","CZ GARZON","41298","GARZÓN","Municipio","GARZÓN","41","HUILA",2.1724414959999998,-75.571312425000002]
["HUILACZ GARZONGIGANTE",2021,"41","HUILA","4102","CZ GARZON","41306","GIGANTE","Municipio","GIGANTE","41","HUILA",2.3717815390000001,-75.516997536000005]
["HUILACZ GARZONGUADALUPE",2021,"41","HUILA","4102","CZ GARZON","41319","GUADALUPE","Municipio","GUADALUPE","41","HUILA",1.984394016,-75.696935487999994]
["HUILACZ GARZONPITAL",2021,"41","HUILA","4102","CZ GARZON","41548","PITAL","Municipio","PITAL","41","HUILA",2.259601773,-75.831951603999997]
["HUILACZ GARZONSUAZA",2021,"41","HUILA","4102","CZ GARZON","41770","SUAZA","Municipio","SUAZA","41","HUILA",1.8709920950000001,-75.807984705999999]
["HUILACZ GARZONTARQUI",2021,"41","HUILA","4102","CZ GARZON","41791","TARQUI","Municipio","TARQUI","41","HUILA",2.1302805440000001,-75.875348449000001]
["HUILACZ LA PLATALA ARGENTINA",2021,"41","HUILA","4103","CZ LA PLATA","41378","LA ARGENTINA","Municipio","LA ARGENTINA","41","HUILA",2.156287619,-76.006794510999995]
["HUILACZ LA PLATALA PLATA",2021,"41","HUILA","4103","CZ LA PLATA","41396","LA PLATA","Municipio","LA PLATA","41","HUILA",2.3280765859999999,-76.001172987999993]
["HUILACZ LA PLATANÁTAGA",2021,"41","HUILA","4103","CZ LA PLATA","41483","NÁTAGA","Municipio","NÁTAGA","41","HUILA",2.576066285,-75.786937574000007]
["HUILACZ LA PLATAPAICOL",2021,"41","HUILA","4103","CZ LA PLATA","41518","PAICOL","Municipio","PAICOL","41","HUILA",2.4068982700000001,-75.728030270000005]
["HUILACZ LA PLATATESALIA",2021,"41","HUILA","4103","CZ LA PLATA","41797","TESALIA","Municipio","TESALIA","41","HUILA",2.5268551320000001,-75.682596419999996]
["HUILACZ PITALITOACEVEDO",2021,"41","HUILA","4104","CZ PITALITO","41006","ACEVEDO","Municipio","ACEVEDO","41","HUILA",1.7091144460000001,-75.996641843999996]
["HUILACZ PITALITOELÍAS",2021,"41","HUILA","4104","CZ PITALITO","41244","ELÍAS","Municipio","ELÍAS","41","HUILA",2.022053305,-75.944305206999999]
["HUILACZ PITALITOISNOS",2021,"41","HUILA","4104","CZ PITALITO","41359","ISNOS","Municipio","ISNOS","41","HUILA",1.945591321,-76.182047216000001]
["HUILACZ PITALITOOPORAPA",2021,"41","HUILA","4104","CZ PITALITO","41503","OPORAPA","Municipio","OPORAPA","41","HUILA",2.0611913620000002,-76.041102890000005]
["HUILACZ PITALITOPALESTINA",2021,"41","HUILA","4104","CZ PITALITO","41530","PALESTINA","Municipio","PALESTINA","41","HUILA",1.68458076,-76.147855896999999]
["HUILACZ PITALITOPITALITO",2021,"41","HUILA","4104","CZ PITALITO","41551","PITALITO","Municipio","PITALITO","41","HUILA",1.848217185,-76.052176430000003]
["HUILACZ PITALITOSALADOBLANCO",2021,"41","HUILA","4104","CZ PITALITO","41660","SALADOBLANCO","Municipio","SALADOBLANCO","41","HUILA",2.1003828489999998,-76.228978708]
["HUILACZ PITALITOSAN AGUSTÍN",2021,"41","HUILA","4104","CZ PITALITO","41668","SAN AGUSTÍN","Municipio","SAN AGUSTÍN","41","HUILA",1.9241654930000001,-76.416565503000001]
["HUILACZ PITALITOTIMANÁ",2021,"41","HUILA","4104","CZ PITALITO","41807","TIMANÁ","Municipio","TIMANÁ","41","HUILA",1.950715226,-75.917576487000005]
["HUILACZ LA GAITANANEIVA",2021,"41","HUILA","4105","CZ LA GAITANA","41001","NEIVA","Municipio","NEIVA","41","HUILA",2.9933600459999998,-75.272362322000006]
["HUILACZ LA GAITANAALGECIRAS",2021,"41","HUILA","4105","CZ LA GAITANA","41020","ALGECIRAS","Municipio","ALGECIRAS","41","HUILA",2.49785068,-75.291349456999995]
["HUILACZ LA GAITANABARAYA",2021,"41","HUILA","4105","CZ LA GAITANA","41078","BARAYA","Municipio","BARAYA","41","HUILA",3.1354236339999999,-74.957977963999994]
["HUILACZ LA GAITANACAMPOALEGRE",2021,"41","HUILA","4105","CZ LA GAITANA","41132","CAMPOALEGRE","Municipio","CAMPOALEGRE","41","HUILA",2.6586666750000001,-75.329438026000005]
["HUILACZ LA GAITANACOLOMBIA",2021,"41","HUILA","4105","CZ LA GAITANA","41206","COLOMBIA","Municipio","COLOMBIA","41","HUILA",3.2627635640000001,-74.785161172000002]
["HUILACZ LA GAITANAHOBO",2021,"41","HUILA","4105","CZ LA GAITANA","41349","HOBO","Municipio","HOBO","41","HUILA",2.5416541609999999,-75.447810830999998]
["HUILACZ LA GAITANARIVERA",2021,"41","HUILA","4105","CZ LA GAITANA","41615","RIVERA","Municipio","RIVERA","41","HUILA",2.7928611499999998,-75.235368675000004]
["HUILACZ LA GAITANATELLO",2021,"41","HUILA","4105","CZ LA GAITANA","41799","TELLO","Municipio","TELLO","41","HUILA",3.0306117769999998,-75.085365530000004]
["LA GUAJIRAREGIONAL LA GUAJIRASEDE REGIONAL",2021,"44","LA GUAJIRA","4400","REGIONAL LA GUAJIRA","44900","SEDE REGIONAL","N/A","N/A","44","LA GUAJIRA","N/A","N/A"]
["LA GUAJIRACZ RIOHACHA 1RIOHACHA",2021,"44","LA GUAJIRA","4401","CZ RIOHACHA 1","44001","RIOHACHA","Municipio","RIOHACHA","44","LA GUAJIRA",11.242972140999999,-72.958763152000003]
["LA GUAJIRACZ RIOHACHA 1DIBULLA",2021,"44","LA GUAJIRA","4401","CZ RIOHACHA 1","44090","DIBULLA","Municipio","DIBULLA","44","LA GUAJIRA",11.090297146999999,-73.435687876000003]
["LA GUAJIRACZ RIOHACHA 2RIOHACHA",2021,"44","LA GUAJIRA","4402","CZ RIOHACHA 2","44001","RIOHACHA","Municipio","RIOHACHA","44","LA GUAJIRA",11.242972140999999,-72.958763152000003]
["LA GUAJIRACZ RIOHACHA 2DIBULLA",2021,"44","LA GUAJIRA","4402","CZ RIOHACHA 2","44090","DIBULLA","Municipio","DIBULLA","44","LA GUAJIRA",11.090297146999999,-73.435687876000003]
["LA GUAJIRACZ FONSECABARRANCAS",2021,"44","LA GUAJIRA","4403","CZ FONSECA","44078","BARRANCAS","Municipio","BARRANCAS","44","LA GUAJIRA",10.948716767000001,-72.696968794]
["LA GUAJIRACZ FONSECADISTRACCIÓN",2021,"44","LA GUAJIRA","4403","CZ FONSECA","44098","DISTRACCIÓN","Municipio","DISTRACCIÓN","44","LA GUAJIRA",10.925051067,-72.944440272999998]
["LA GUAJIRACZ FONSECAEL MOLINO",2021,"44","LA GUAJIRA","4403","CZ FONSECA","44110","EL MOLINO","Municipio","EL MOLINO","44","LA GUAJIRA",10.636696454999999,-72.885843100000002]
["LA GUAJIRACZ FONSECAFONSECA",2021,"44","LA GUAJIRA","4403","CZ FONSECA","44279","FONSECA","Municipio","FONSECA","44","LA GUAJIRA",10.828371600000001,-72.801817799000005]
["LA GUAJIRACZ FONSECAHATONUEVO",2021,"44","LA GUAJIRA","4403","CZ FONSECA","44378","HATONUEVO","Municipio","HATONUEVO","44","LA GUAJIRA",11.099055817,-72.738424272000003]
["LA GUAJIRACZ FONSECALA JAGUA DEL PILAR",2021,"44","LA GUAJIRA","4403","CZ FONSECA","44420","LA JAGUA DEL PILAR","Municipio","LA JAGUA DEL PILAR","44","LA GUAJIRA",10.4580941,-73.072091927000002]
["LA GUAJIRACZ FONSECASAN JUAN DEL CESAR",2021,"44","LA GUAJIRA","4403","CZ FONSECA","44650","SAN JUAN DEL CESAR","Municipio","SAN JUAN DEL CESAR","44","LA GUAJIRA",10.81311496,-73.086599863999993]
["LA GUAJIRACZ FONSECAURUMITA",2021,"44","LA GUAJIRA","4403","CZ FONSECA","44855","URUMITA","Municipio","URUMITA","44","LA GUAJIRA",10.494702101,-72.986239905999994]
["LA GUAJIRACZ FONSECAVILLANUEVA",2021,"44","LA GUAJIRA","4403","CZ FONSECA","44874","VILLANUEVA","Municipio","VILLANUEVA","44","LA GUAJIRA",10.583647554000001,-72.975202862000003]
["LA GUAJIRACZ MANAUREMANAURE",2021,"44","LA GUAJIRA","4404","CZ MANAURE","44560","MANAURE","Municipio","MANAURE","44","LA GUAJIRA",11.605542633000001,-72.571603921999994]
["LA GUAJIRACZ MANAUREURIBIA",2021,"44","LA GUAJIRA","4404","CZ MANAURE","44847","URIBIA","Municipio","URIBIA","44","LA GUAJIRA",11.999719855,-71.748826616000002]
["LA GUAJIRACZ MAICAOALBANIA",2021,"44","LA GUAJIRA","4405","CZ MAICAO","44035","ALBANIA","Municipio","ALBANIA","44","LA GUAJIRA",11.228690485,-72.532096573999993]
["LA GUAJIRACZ MAICAOMAICAO",2021,"44","LA GUAJIRA","4405","CZ MAICAO","44430","MAICAO","Municipio","MAICAO","44","LA GUAJIRA",11.381577644,-72.295008177]
["LA GUAJIRACZ NAZARETHURIBIA",2021,"44","LA GUAJIRA","4408","CZ NAZARETH","44847","URIBIA","Municipio","URIBIA","44","LA GUAJIRA",11.999719855,-71.748826616000002]
["MAGDALENAREGIONAL MAGDALENASEDE REGIONAL",2021,"47","MAGDALENA","4700","REGIONAL MAGDALENA","47900","SEDE REGIONAL","N/A","N/A","47","MAGDALENA","N/A","N/A"]
["MAGDALENACZ SANTA MARTA 1SANTA MARTA",2021,"47","MAGDALENA","4701","CZ SANTA MARTA 1","47001","SANTA MARTA","Municipio","SANTA MARTA","47","MAGDALENA",11.121894357,-73.885278550999999]
["MAGDALENACZ SANTA MARTA 2SANTA MARTA",2021,"47","MAGDALENA","4702","CZ SANTA MARTA 2","47001","SANTA MARTA","Municipio","SANTA MARTA","47","MAGDALENA",11.121894357,-73.885278550999999]
["MAGDALENACZ DEL RIOCERRO DE SAN ANTONIO",2021,"47","MAGDALENA","4703","CZ DEL RIO","47161","CERRO DE SAN ANTONIO","Municipio","CERRO DE SAN ANTONIO","47","MAGDALENA",10.313293299,-74.808344129999995]
["MAGDALENACZ DEL RIOCONCORDIA",2021,"47","MAGDALENA","4703","CZ DEL RIO","47205","CONCORDIA","Municipio","CONCORDIA","47","MAGDALENA",10.232848013,-74.778101753000001]
["MAGDALENACZ DEL RIOEL PIÑON",2021,"47","MAGDALENA","4703","CZ DEL RIO","47258","EL PIÑON","Municipio","EL PIÑÓN","47","MAGDALENA",10.343109882,-74.678177555000005]
["MAGDALENACZ DEL RIOPIVIJAY",2021,"47","MAGDALENA","4703","CZ DEL RIO","47551","PIVIJAY","Municipio","PIVIJAY","47","MAGDALENA",10.433033993,-74.412511965999997]
["MAGDALENACZ DEL RIOSALAMINA",2021,"47","MAGDALENA","4703","CZ DEL RIO","47675","SALAMINA","Municipio","SALAMINA","47","MAGDALENA",10.51538178,-74.722969715999994]
["MAGDALENACZ CIENAGACIÉNAGA",2021,"47","MAGDALENA","4704","CZ CIENAGA","47189","CIÉNAGA","Municipio","CIÉNAGA","47","MAGDALENA",10.857545516,-74.025004933999995]
["MAGDALENACZ CIENAGAPUEBLOVIEJO",2021,"47","MAGDALENA","4704","CZ CIENAGA","47570","PUEBLOVIEJO","Municipio","PUEBLOVIEJO","47","MAGDALENA",10.847589014,-74.360579422000001]
["MAGDALENACZ CIENAGAREMOLINO",2021,"47","MAGDALENA","4704","CZ CIENAGA","47605","REMOLINO","Municipio","REMOLINO","47","MAGDALENA",10.648603506000001,-74.581068225999999]
["MAGDALENACZ CIENAGASITIONUEVO",2021,"47","MAGDALENA","4704","CZ CIENAGA","47745","SITIONUEVO","Municipio","SITIONUEVO","47","MAGDALENA",10.890276160000001,-74.629660377999997]
["MAGDALENACZ CIENAGAZONA BANANERA",2021,"47","MAGDALENA","4704","CZ CIENAGA","47980","ZONA BANANERA","Municipio","ZONA BANANERA","47","MAGDALENA",10.796346583,-74.177983167999997]
["MAGDALENACZ FUNDACIÓNALGARROBO",2021,"47","MAGDALENA","4705","CZ FUNDACIÓN","47030","ALGARROBO","Municipio","ALGARROBO","47","MAGDALENA",10.253564748000001,-74.103230272000005]
["MAGDALENACZ FUNDACIÓNARACATACA",2021,"47","MAGDALENA","4705","CZ FUNDACIÓN","47053","ARACATACA","Municipio","ARACATACA","47","MAGDALENA",10.644908765,-73.879722568000005]
["MAGDALENACZ FUNDACIÓNEL RETÉN",2021,"47","MAGDALENA","4705","CZ FUNDACIÓN","47268","EL RETÉN","Municipio","EL RETÉN","47","MAGDALENA",10.659616964,-74.325159701999993]
["MAGDALENACZ FUNDACIÓNFUNDACIÓN",2021,"47","MAGDALENA","4705","CZ FUNDACIÓN","47288","FUNDACIÓN","Municipio","FUNDACIÓN","47","MAGDALENA",10.459378178,-73.884065179000004]
["MAGDALENACZ FUNDACIÓNSABANAS DE SAN ANGEL",2021,"47","MAGDALENA","4705","CZ FUNDACIÓN","47660","SABANAS DE SAN ANGEL","Municipio","SABANAS DE SAN ÁNGEL","47","MAGDALENA",10.105330275,-74.264439202000005]
["MAGDALENACZ PLATOARIGUANÍ",2021,"47","MAGDALENA","4706","CZ PLATO","47058","ARIGUANÍ","Municipio","ARIGUANÍ","47","MAGDALENA",9.8342649550000001,-74.084600846000001]
["MAGDALENACZ PLATOCHIVOLO",2021,"47","MAGDALENA","4706","CZ PLATO","47170","CHIVOLO","Municipio","CHIVOLO","47","MAGDALENA",10.099519608,-74.526066666000006]
["MAGDALENACZ PLATONUEVA GRANADA",2021,"47","MAGDALENA","4706","CZ PLATO","47460","NUEVA GRANADA","Municipio","NUEVA GRANADA","47","MAGDALENA",9.7359981340000008,-74.328402220000001]
["MAGDALENACZ PLATOPEDRAZA",2021,"47","MAGDALENA","4706","CZ PLATO","47541","PEDRAZA","Municipio","PEDRAZA","47","MAGDALENA",10.154295459,-74.831780906000006]
["MAGDALENACZ PLATOPLATO",2021,"47","MAGDALENA","4706","CZ PLATO","47555","PLATO","Municipio","PLATO","47","MAGDALENA",9.7694561100000001,-74.601815758000001]
["MAGDALENACZ PLATOTENERIFE",2021,"47","MAGDALENA","4706","CZ PLATO","47798","TENERIFE","Municipio","TENERIFE","47","MAGDALENA",9.9247012669999997,-74.732630010999998]
["MAGDALENACZ PLATOZAPAYÁN",2021,"47","MAGDALENA","4706","CZ PLATO","47960","ZAPAYÁN","Municipio","ZAPAYÁN","47","MAGDALENA",10.117798927999999,-74.691154561999994]
["MAGDALENACZ EL BANCOEL BANCO",2021,"47","MAGDALENA","4707","CZ EL BANCO","47245","EL BANCO","Municipio","EL BANCO","47","MAGDALENA",9.1149306350000003,-73.981054904999993]
["MAGDALENACZ EL BANCOGUAMAL",2021,"47","MAGDALENA","4707","CZ EL BANCO","47318","GUAMAL","Municipio","GUAMAL","47","MAGDALENA",9.2480046730000005,-74.139680846999994]
["MAGDALENACZ EL BANCOSAN SEBASTIÁN DE BUENAVISTA",2021,"47","MAGDALENA","4707","CZ EL BANCO","47692","SAN SEBASTIÁN DE BUENAVISTA","Municipio","SAN SEBASTIÁN DE BUENAVISTA","47","MAGDALENA",9.3806802719999993,-74.197979884000006]
["MAGDALENACZ SANTA ANAPIJIÑO DEL CARMEN",2021,"47","MAGDALENA","4708","CZ SANTA ANA","47545","PIJIÑO DEL CARMEN","Municipio","PIJIÑO DEL CARMEN","47","MAGDALENA",9.5307486539999999,-74.144765702000001]
["MAGDALENACZ SANTA ANASAN ZENÓN",2021,"47","MAGDALENA","4708","CZ SANTA ANA","47703","SAN ZENÓN","Municipio","SAN ZENÓN","47","MAGDALENA",9.3068695479999999,-74.358516442999999]
["MAGDALENACZ SANTA ANASANTA ANA",2021,"47","MAGDALENA","4708","CZ SANTA ANA","47707","SANTA ANA","Municipio","SANTA ANA","47","MAGDALENA",9.5030972150000004,-74.444193806000001]
["MAGDALENACZ SANTA ANASANTA BÁRBARA DE PINTO",2021,"47","MAGDALENA","4708","CZ SANTA ANA","47720","SANTA BÁRBARA DE PINTO","Municipio","SANTA BÁRBARA DE PINTO","47","MAGDALENA",9.4843881349999997,-74.665211779000003]
["METAREGIONAL METASEDE REGIONAL",2021,"50","META","5000","REGIONAL META","50900","SEDE REGIONAL","N/A","N/A","50","META","N/A","N/A"]
["METACZ VILLAVICENCIO 1VILLAVICENCIO",2021,"50","META","5001","CZ VILLAVICENCIO 1","50001","VILLAVICENCIO","Municipio","VILLAVICENCIO","50","META",4.0916687700000001,-73.492915944999993]
["METACZ VILLAVICENCIO 1BARRANCA DE UPÍA",2021,"50","META","5001","CZ VILLAVICENCIO 1","50110","BARRANCA DE UPÍA","Municipio","BARRANCA DE UPÍA","50","META",4.5190761269999999,-72.995489813000006]
["METACZ VILLAVICENCIO 1CUMARAL",2021,"50","META","5001","CZ VILLAVICENCIO 1","50226","CUMARAL","Municipio","CUMARAL","50","META",4.2325263890000002,-73.314775392000001]
["METACZ VILLAVICENCIO 1EL CALVARIO",2021,"50","META","5001","CZ VILLAVICENCIO 1","50245","EL CALVARIO","Municipio","EL CALVARIO","50","META",4.3537698880000004,-73.714416843999999]
["METACZ VILLAVICENCIO 1MAPIRIPÁN",2021,"50","META","5001","CZ VILLAVICENCIO 1","50325","MAPIRIPÁN","Municipio","MAPIRIPÁN","50","META",3.1175233609999999,-71.938056915999994]
["METACZ VILLAVICENCIO 1LA MACARENA",2021,"50","META","5001","CZ VILLAVICENCIO 1","50350","LA MACARENA","Municipio","LA MACARENA","50","META",2.1618639169999998,-74.094880755999995]
["METACZ VILLAVICENCIO 1RESTREPO",2021,"50","META","5001","CZ VILLAVICENCIO 1","50606","RESTREPO","Municipio","RESTREPO","50","META",4.2043109769999996,-73.502260368999998]
["METACZ VILLAVICENCIO 1SAN JUANITO",2021,"50","META","5001","CZ VILLAVICENCIO 1","50686","SAN JUANITO","Municipio","SAN JUANITO","50","META",4.4713463219999996,-73.660413554000002]
["METACZ VILLAVICENCIO 2VILLAVICENCIO",2021,"50","META","5002","CZ VILLAVICENCIO 2","50001","VILLAVICENCIO","Municipio","VILLAVICENCIO","50","META",4.0916687700000001,-73.492915944999993]
["METACZ VILLAVICENCIO 2BARRANCA DE UPÍA",2021,"50","META","5002","CZ VILLAVICENCIO 2","50110","BARRANCA DE UPÍA","Municipio","BARRANCA DE UPÍA","50","META",4.5190761269999999,-72.995489813000006]
["METACZ VILLAVICENCIO 2CUMARAL",2021,"50","META","5002","CZ VILLAVICENCIO 2","50226","CUMARAL","Municipio","CUMARAL","50","META",4.2325263890000002,-73.314775392000001]
["METACZ VILLAVICENCIO 2EL CALVARIO",2021,"50","META","5002","CZ VILLAVICENCIO 2","50245","EL CALVARIO","Municipio","EL CALVARIO","50","META",4.3537698880000004,-73.714416843999999]
["METACZ VILLAVICENCIO 2MAPIRIPÁN",2021,"50","META","5002","CZ VILLAVICENCIO 2","50325","MAPIRIPÁN","Municipio","MAPIRIPÁN","50","META",3.1175233609999999,-71.938056915999994]
["METACZ VILLAVICENCIO 2LA MACARENA",2021,"50","META","5002","CZ VILLAVICENCIO 2","50350","LA MACARENA","Municipio","LA MACARENA","50","META",2.1618639169999998,-74.094880755999995]
["METACZ VILLAVICENCIO 2RESTREPO",2021,"50","META","5002","CZ VILLAVICENCIO 2","50606","RESTREPO","Municipio","RESTREPO","50","META",4.2043109769999996,-73.502260368999998]
["METACZ VILLAVICENCIO 2SAN JUANITO",2021,"50","META","5002","CZ VILLAVICENCIO 2","50686","SAN JUANITO","Municipio","SAN JUANITO","50","META",4.4713463219999996,-73.660413554000002]
["METACZ GRANADAFUENTE DE ORO",2021,"50","META","5003","CZ GRANADA","50287","FUENTE DE ORO","Municipio","FUENTE DE ORO","50","META",3.3823701239999999,-73.596254293000001]
["METACZ GRANADAGRANADA",2021,"50","META","5003","CZ GRANADA","50313","GRANADA","Municipio","GRANADA","50","META",3.441051399,-73.761154704000006]
["METACZ GRANADAMESETAS",2021,"50","META","5003","CZ GRANADA","50330","MESETAS","Municipio","MESETAS","50","META",3.154771201,-74.124548242000003]
["METACZ GRANADAURIBE",2021,"50","META","5003","CZ GRANADA","50370","URIBE","Municipio","URIBE","50","META",3.0477268579999999,-74.430661338999997]
["METACZ GRANADALEJANÍAS",2021,"50","META","5003","CZ GRANADA","50400","LEJANÍAS","Municipio","LEJANÍAS","50","META",3.6147148730000001,-74.096284667000006]
["METACZ GRANADAPUERTO CONCORDIA",2021,"50","META","5003","CZ GRANADA","50450","PUERTO CONCORDIA","Municipio","PUERTO CONCORDIA","50","META",2.7522601120000001,-72.721094101999995]
["METACZ GRANADAPUERTO LLERAS",2021,"50","META","5003","CZ GRANADA","50577","PUERTO LLERAS","Municipio","PUERTO LLERAS","50","META",3.1930929250000002,-73.236714363999994]
["METACZ GRANADAPUERTO RICO",2021,"50","META","5003","CZ GRANADA","50590","PUERTO RICO","Municipio","PUERTO RICO","50","META",2.7580836569999998,-73.137801709000001]
["METACZ GRANADASAN JUAN DE ARAMA",2021,"50","META","5003","CZ GRANADA","50683","SAN JUAN DE ARAMA","Municipio","SAN JUAN DE ARAMA","50","META",3.289851171,-73.816352433999995]
["METACZ GRANADAVISTAHERMOSA",2021,"50","META","5003","CZ GRANADA","50711","VISTAHERMOSA","Municipio","VISTAHERMOSA","50","META",2.8116166979999999,-73.666522336]
["METACZ ACACIASACACÍAS",2021,"50","META","5004","CZ ACACIAS","50006","ACACÍAS","Municipio","ACACÍAS","50","META",3.9433830080000001,-73.571351617000005]
["METACZ ACACIASCASTILLA LA NUEVA",2021,"50","META","5004","CZ ACACIAS","50150","CASTILLA LA NUEVA","Municipio","CASTILLA LA NUEVA","50","META",3.8051540890000002,-73.538866677000001]
["METACZ ACACIASCUBARRAL",2021,"50","META","5004","CZ ACACIAS","50223","CUBARRAL","Municipio","CUBARRAL","50","META",3.834631516,-74.062324942999993]
["METACZ ACACIASEL CASTILLO",2021,"50","META","5004","CZ ACACIAS","50251","EL CASTILLO","Municipio","EL CASTILLO","50","META",3.6028263300000001,-73.894452375]
["METACZ ACACIASEL DORADO",2021,"50","META","5004","CZ ACACIAS","50270","EL DORADO","Municipio","EL DORADO","50","META",3.7069697850000001,-73.831618922000004]
["METACZ ACACIASGUAMAL",2021,"50","META","5004","CZ ACACIAS","50318","GUAMAL","Municipio","GUAMAL","50","META",3.947775585,-73.959838637999994]
["METACZ ACACIASSAN CARLOS DE GUAROA",2021,"50","META","5004","CZ ACACIAS","50680","SAN CARLOS DE GUAROA","Municipio","SAN CARLOS DE GUAROA","50","META",3.8476167800000001,-73.275834013999997]
["METACZ ACACIASSAN MARTÍN",2021,"50","META","5004","CZ ACACIAS","50689","SAN MARTÍN","Municipio","SAN MARTÍN","50","META",3.5158609620000001,-72.656727423999996]
["METACZ PUERTO LOPEZCABUYARO",2021,"50","META","5005","CZ PUERTO LOPEZ","50124","CABUYARO","Municipio","CABUYARO","50","META",4.3152447589999996,-72.952688956000003]
["METACZ PUERTO LOPEZPUERTO GAITÁN",2021,"50","META","5005","CZ PUERTO LOPEZ","50568","PUERTO GAITÁN","Municipio","PUERTO GAITÁN","50","META",4.0050344669999998,-71.631574284999999]
["METACZ PUERTO LOPEZPUERTO LÓPEZ",2021,"50","META","5005","CZ PUERTO LOPEZ","50573","PUERTO LÓPEZ","Municipio","PUERTO LÓPEZ","50","META",4.014298921,-72.645704992000006]
["NARIÑOREGIONAL NARIÑOSEDE REGIONAL",2021,"52","NARIÑO","5200","REGIONAL NARIÑO","52900","SEDE REGIONAL","N/A","N/A","52","NARIÑO","N/A","N/A"]
["NARIÑOCZ PASTO 1PASTO",2021,"52","NARIÑO","5201","CZ PASTO 1","52001","PASTO","Municipio","PASTO","52","NARIÑO",1.083605497,-77.206100742999993]
["NARIÑOCZ PASTO 1ALBÁN",2021,"52","NARIÑO","5201","CZ PASTO 1","52019","ALBÁN","Municipio","ALBÁN","52","NARIÑO",1.4698540840000001,-77.068809471999998]
["NARIÑOCZ PASTO 1BUESACO",2021,"52","NARIÑO","5201","CZ PASTO 1","52110","BUESACO","Municipio","BUESACO","52","NARIÑO",1.315215636,-77.116366395]
["NARIÑOCZ PASTO 1CHACHAGUÍ",2021,"52","NARIÑO","5201","CZ PASTO 1","52240","CHACHAGUÍ","Municipio","CHACHAGÜÍ","52","NARIÑO",1.386497844,-77.269690220000001]
["NARIÑOCZ PASTO 1EL TABLÓN DE GÓMEZ",2021,"52","NARIÑO","5201","CZ PASTO 1","52258","EL TABLÓN DE GÓMEZ","Municipio","EL TABLÓN DE GÓMEZ","52","NARIÑO",1.409430207,-76.985269587999994]
["NARIÑOCZ PASTO 1FUNES",2021,"52","NARIÑO","5201","CZ PASTO 1","52287","FUNES","Municipio","FUNES","52","NARIÑO",0.95778642899999999,-77.395327804999994]
["NARIÑOCZ PASTO 1SAN BERNARDO",2021,"52","NARIÑO","5201","CZ PASTO 1","52685","SAN BERNARDO","Municipio","SAN BERNARDO","52","NARIÑO",1.5297824849999999,-77.020706625000003]
["NARIÑOCZ PASTO 1TANGUA",2021,"52","NARIÑO","5201","CZ PASTO 1","52788","TANGUA","Municipio","TANGUA","52","NARIÑO",1.0640781109999999,-77.350634907]
["NARIÑOCZ PASTO 1YACUANQUER",2021,"52","NARIÑO","5201","CZ PASTO 1","52885","YACUANQUER","Municipio","YACUANQUER","52","NARIÑO",1.1255479159999999,-77.424675687999994]
["NARIÑOCZ PASTO 2PASTO",2021,"52","NARIÑO","5202","CZ PASTO 2","52001","PASTO","Municipio","PASTO","52","NARIÑO",1.083605497,-77.206100742999993]
["NARIÑOCZ PASTO 2ANCUYÁ",2021,"52","NARIÑO","5202","CZ PASTO 2","52036","ANCUYÁ","Municipio","ANCUYA","52","NARIÑO",1.245254077,-77.531157769999993]
["NARIÑOCZ PASTO 2CONSACA",2021,"52","NARIÑO","5202","CZ PASTO 2","52207","CONSACA","Municipio","CONSACÁ","52","NARIÑO",1.2090667319999999,-77.440639207000004]
["NARIÑOCZ PASTO 2EL PEÑOL",2021,"52","NARIÑO","5202","CZ PASTO 2","52254","EL PEÑOL","Municipio","EL PEÑOL","52","NARIÑO",1.5122839669999999,-77.430509341999993]
["NARIÑOCZ PASTO 2EL TAMBO",2021,"52","NARIÑO","5202","CZ PASTO 2","52260","EL TAMBO","Municipio","EL TAMBO","52","NARIÑO",1.4302637600000001,-77.383115973000002]
["NARIÑOCZ PASTO 2LA FLORIDA",2021,"52","NARIÑO","5202","CZ PASTO 2","52381","LA FLORIDA","Municipio","LA FLORIDA","52","NARIÑO",1.338034371,-77.422930411999999]
["NARIÑOCZ PASTO 2LINARES",2021,"52","NARIÑO","5202","CZ PASTO 2","52411","LINARES","Municipio","LINARES","52","NARIÑO",1.3951730840000001,-77.520937738000001]
["NARIÑOCZ PASTO 2LOS ANDES",2021,"52","NARIÑO","5202","CZ PASTO 2","52418","LOS ANDES","Municipio","LOS ANDES","52","NARIÑO",1.6726012690000001,-77.710544487000007]
["NARIÑOCZ PASTO 2NARIÑO",2021,"52","NARIÑO","5202","CZ PASTO 2","52480","NARIÑO","Municipio","NARIÑO","52","NARIÑO",1.2867752729999999,-77.352203665000005]
["NARIÑOCZ PASTO 2SANDONÁ",2021,"52","NARIÑO","5202","CZ PASTO 2","52683","SANDONÁ","Municipio","SANDONÁ","52","NARIÑO",1.2881054089999999,-77.456700682999994]
["NARIÑOCZ TUMACOEL CHARCO",2021,"52","NARIÑO","5203","CZ TUMACO","52250","EL CHARCO","Municipio","EL CHARCO","52","NARIÑO",2.2163822949999998,-77.995332339000001]
["NARIÑOCZ TUMACOLA TOLA",2021,"52","NARIÑO","5203","CZ TUMACO","52390","LA TOLA","Municipio","LA TOLA","52","NARIÑO",2.5602733299999998,-78.235066940999999]
["NARIÑOCZ TUMACOMOSQUERA",2021,"52","NARIÑO","5203","CZ TUMACO","52473","MOSQUERA","Municipio","MOSQUERA","52","NARIÑO",2.4424936979999998,-78.438827004000004]
["NARIÑOCZ TUMACOOLAYA HERRERA",2021,"52","NARIÑO","5203","CZ TUMACO","52490","OLAYA HERRERA","Municipio","OLAYA HERRERA","52","NARIÑO",2.2878565470000001,-78.312190240000007]
["NARIÑOCZ TUMACOFRANCISCO PIZARRO",2021,"52","NARIÑO","5203","CZ TUMACO","52520","FRANCISCO PIZARRO","Municipio","FRANCISCO PIZARRO","52","NARIÑO",2.0885319249999998,-78.591930986999998]
["NARIÑOCZ TUMACOSANTA BÁRBARA",2021,"52","NARIÑO","5203","CZ TUMACO","52696","SANTA BÁRBARA","Municipio","SANTA BÁRBARA","52","NARIÑO",2.4944204110000001,-77.982564611000001]
["NARIÑOCZ TUMACOSAN ANDRÉS DE TUMACO",2021,"52","NARIÑO","5203","CZ TUMACO","52835","SAN ANDRÉS DE TUMACO","Municipio","SAN ANDRÉS DE TUMACO","52","NARIÑO",1.5745506380000001,-78.615409628999998]
["NARIÑOCZ IPIALESALDANA",2021,"52","NARIÑO","5204","CZ IPIALES","52022","ALDANA","Municipio","ALDANA","52","NARIÑO",0.91343191599999995,-77.695387307000004]
["NARIÑOCZ IPIALESCONTADERO",2021,"52","NARIÑO","5204","CZ IPIALES","52210","CONTADERO","Municipio","CONTADERO","52","NARIÑO",0.93266745799999995,-77.528087314000004]
["NARIÑOCZ IPIALESCÓRDOBA",2021,"52","NARIÑO","5204","CZ IPIALES","52215","CÓRDOBA","Municipio","CÓRDOBA","52","NARIÑO",0.78274688000000003,-77.368059033999998]
["NARIÑOCZ IPIALESCUASPUD CARLOSAMA",2021,"52","NARIÑO","5204","CZ IPIALES","52224","CUASPUD CARLOSAMA","Municipio","CUASPUD CARLOSAMA","52","NARIÑO",0.87542699899999998,-77.735916005000007]
["NARIÑOCZ IPIALESCUMBAL",2021,"52","NARIÑO","5204","CZ IPIALES","52227","CUMBAL","Municipio","CUMBAL","52","NARIÑO",0.94422327399999995,-77.959584454999998]
["NARIÑOCZ IPIALESGUACHUCAL",2021,"52","NARIÑO","5204","CZ IPIALES","52317","GUACHUCAL","Municipio","GUACHUCAL","52","NARIÑO",0.97503790400000001,-77.737589413999999]
["NARIÑOCZ IPIALESGUALMATÁN",2021,"52","NARIÑO","5204","CZ IPIALES","52323","GUALMATÁN","Municipio","GUALMATÁN","52","NARIÑO",0.928642623,-77.582618827000005]
["NARIÑOCZ IPIALESILES",2021,"52","NARIÑO","5204","CZ IPIALES","52352","ILES","Municipio","ILES","52","NARIÑO",0.98053403699999997,-77.518657294999997]
["NARIÑOCZ IPIALESIPIALES",2021,"52","NARIÑO","5204","CZ IPIALES","52356","IPIALES","Municipio","IPIALES","52","NARIÑO",0.49770846499999999,-77.240476251999993]
["NARIÑOCZ IPIALESPOTOSÍ",2021,"52","NARIÑO","5204","CZ IPIALES","52560","POTOSÍ","Municipio","POTOSÍ","52","NARIÑO",0.78584108799999997,-77.528704073]
["NARIÑOCZ IPIALESPUERRES",2021,"52","NARIÑO","5204","CZ IPIALES","52573","PUERRES","Municipio","PUERRES","52","NARIÑO",0.85435165099999999,-77.350325233999996]
["NARIÑOCZ IPIALESPUPIALES",2021,"52","NARIÑO","5204","CZ IPIALES","52585","PUPIALES","Municipio","PUPIALES","52","NARIÑO",0.91676983099999998,-77.633369536999993]
["NARIÑOCZ TUQUERRESGUAITARILLA",2021,"52","NARIÑO","5205","CZ TUQUERRES","52320","GUAITARILLA","Municipio","GUAITARILLA","52","NARIÑO",1.1513666579999999,-77.530113361999994]
["NARIÑOCZ TUQUERRESIMUÉS",2021,"52","NARIÑO","5205","CZ TUQUERRES","52354","IMUÉS","Municipio","IMUÉS","52","NARIÑO",1.07287697,-77.501508643999998]
["NARIÑOCZ TUQUERRESLA LLANADA",2021,"52","NARIÑO","5205","CZ TUQUERRES","52385","LA LLANADA","Municipio","LA LLANADA","52","NARIÑO",1.5418478470000001,-77.617816079999997]
["NARIÑOCZ TUQUERRESMALLAMA",2021,"52","NARIÑO","5205","CZ TUQUERRES","52435","MALLAMA","Municipio","MALLAMA","52","NARIÑO",1.155947016,-77.846646464000003]
["NARIÑOCZ TUQUERRESOSPINA",2021,"52","NARIÑO","5205","CZ TUQUERRES","52506","OSPINA","Municipio","OSPINA","52","NARIÑO",1.029815854,-77.552349434999996]
["NARIÑOCZ TUQUERRESPROVIDENCIA",2021,"52","NARIÑO","5205","CZ TUQUERRES","52565","PROVIDENCIA","Municipio","PROVIDENCIA","52","NARIÑO",1.2328648209999999,-77.598442122999998]
["NARIÑOCZ TUQUERRESRICAURTE",2021,"52","NARIÑO","5205","CZ TUQUERRES","52612","RICAURTE","Municipio","RICAURTE","52","NARIÑO",1.1476718480000001,-78.058111179999997]
["NARIÑOCZ TUQUERRESSAMANIEGO",2021,"52","NARIÑO","5205","CZ TUQUERRES","52678","SAMANIEGO","Municipio","SAMANIEGO","52","NARIÑO",1.4305552619999999,-77.691795591000002]
["NARIÑOCZ TUQUERRESSANTACRUZ",2021,"52","NARIÑO","5205","CZ TUQUERRES","52699","SANTACRUZ","Municipio","SANTACRUZ","52","NARIÑO",1.2851793760000001,-77.744574404000005]
["NARIÑOCZ TUQUERRESSAPUYES",2021,"52","NARIÑO","5205","CZ TUQUERRES","52720","SAPUYES","Municipio","SAPUYES","52","NARIÑO",1.0452874750000001,-77.71810954]
["NARIÑOCZ TUQUERRESTÚQUERRES",2021,"52","NARIÑO","5205","CZ TUQUERRES","52838","TÚQUERRES","Municipio","TÚQUERRES","52","NARIÑO",1.1344405230000001,-77.630732379999998]
["NARIÑOCZ LA UNIONARBOLEDA",2021,"52","NARIÑO","5206","CZ LA UNION","52051","ARBOLEDA","Municipio","ARBOLEDA","52","NARIÑO",1.480051172,-77.129850005999998]
["NARIÑOCZ LA UNIONBELÉN",2021,"52","NARIÑO","5206","CZ LA UNION","52083","BELÉN","Municipio","BELÉN","52","NARIÑO",1.593645287,-77.019993658999994]
["NARIÑOCZ LA UNIONCOLÓN",2021,"52","NARIÑO","5206","CZ LA UNION","52203","COLÓN","Municipio","COLÓN","52","NARIÑO",1.636334379,-77.047315600000005]
["NARIÑOCZ LA UNIONLA CRUZ",2021,"52","NARIÑO","5206","CZ LA UNION","52378","LA CRUZ","Municipio","LA CRUZ","52","NARIÑO",1.5841759980000001,-76.923352621000006]
["NARIÑOCZ LA UNIONLA UNIÓN",2021,"52","NARIÑO","5206","CZ LA UNION","52399","LA UNIÓN","Municipio","LA UNIÓN","52","NARIÑO",1.619697376,-77.142846218000003]
["NARIÑOCZ LA UNIONSAN LORENZO",2021,"52","NARIÑO","5206","CZ LA UNION","52687","SAN LORENZO","Municipio","SAN LORENZO","52","NARIÑO",1.5421395819999999,-77.218726924999999]
["NARIÑOCZ LA UNIONSAN PABLO",2021,"52","NARIÑO","5206","CZ LA UNION","52693","SAN PABLO","Municipio","SAN PABLO","52","NARIÑO",1.6815766270000001,-76.975279792999999]
["NARIÑOCZ LA UNIONSAN PEDRO DE CARTAGO",2021,"52","NARIÑO","5206","CZ LA UNION","52694","SAN PEDRO DE CARTAGO","Municipio","SAN PEDRO DE CARTAGO","52","NARIÑO",1.5368234940000001,-77.101403249000001]
["NARIÑOCZ BARBACOASBARBACOAS",2021,"52","NARIÑO","5207","CZ BARBACOAS","52079","BARBACOAS","Municipio","BARBACOAS","52","NARIÑO",1.44563774,-78.156210724000005]
["NARIÑOCZ BARBACOASMAGUÍ",2021,"52","NARIÑO","5207","CZ BARBACOAS","52427","MAGUÍ","Municipio","MAGÜÍ","52","NARIÑO",1.9068584289999999,-78.044736438000001]
["NARIÑOCZ BARBACOASROBERTO PAYÁN",2021,"52","NARIÑO","5207","CZ BARBACOAS","52621","ROBERTO PAYÁN","Municipio","ROBERTO PAYÁN","52","NARIÑO",1.897581156,-78.381116300000002]
["NARIÑOCZ REMOLINOCUMBITARA",2021,"52","NARIÑO","5208","CZ REMOLINO","52233","CUMBITARA","Municipio","CUMBITARA","52","NARIÑO",1.72559011,-77.592816372000001]
["NARIÑOCZ REMOLINOEL ROSARIO",2021,"52","NARIÑO","5208","CZ REMOLINO","52256","EL ROSARIO","Municipio","EL ROSARIO","52","NARIÑO",1.8876894369999999,-77.483195889000001]
["NARIÑOCZ REMOLINOLEIVA",2021,"52","NARIÑO","5208","CZ REMOLINO","52405","LEIVA","Municipio","LEIVA","52","NARIÑO",1.9008623609999999,-77.312200730000001]
["NARIÑOCZ REMOLINOPOLICARPA",2021,"52","NARIÑO","5208","CZ REMOLINO","52540","POLICARPA","Municipio","POLICARPA","52","NARIÑO",1.7353542019999999,-77.481343589999994]
["NARIÑOCZ REMOLINOTAMINANGO",2021,"52","NARIÑO","5208","CZ REMOLINO","52786","TAMINANGO","Municipio","TAMINANGO","52","NARIÑO",1.591661392,-77.325253154999999]
["NORTE DE SANTANDERREGIONAL NORTE DE SANTANDERSEDE REGIONAL",2021,"54","NORTE DE SANTANDER","5400","REGIONAL NORTE DE SANTANDER","54900","SEDE REGIONAL","N/A","N/A","54","NORTE DE SANTANDER","N/A","N/A"]
["NORTE DE SANTANDERCZ CUCUTA 1SAN JOSÉ DE CÚCUTA",2021,"54","NORTE DE SANTANDER","5401","CZ CUCUTA 1","54001","SAN JOSÉ DE CÚCUTA","Municipio","SAN JOSÉ DE CÚCUTA","54","NORTE DE SANTANDER",8.1120418109999992,-72.488626408000002]
["NORTE DE SANTANDERCZ CUCUTA 1ARBOLEDAS",2021,"54","NORTE DE SANTANDER","5401","CZ CUCUTA 1","54051","ARBOLEDAS","Municipio","ARBOLEDAS","54","NORTE DE SANTANDER",7.5860481640000001,-72.917053151999994]
["NORTE DE SANTANDERCZ CUCUTA 1DURANIA",2021,"54","NORTE DE SANTANDER","5401","CZ CUCUTA 1","54239","DURANIA","Municipio","DURANIA","54","NORTE DE SANTANDER",7.746993206,-72.672080718999993]
["NORTE DE SANTANDERCZ CUCUTA 1EL ZULIA",2021,"54","NORTE DE SANTANDER","5401","CZ CUCUTA 1","54261","EL ZULIA","Municipio","EL ZULIA","54","NORTE DE SANTANDER",8.0812000919999996,-72.631521176000007]
["NORTE DE SANTANDERCZ CUCUTA 1LOS PATIOS",2021,"54","NORTE DE SANTANDER","5401","CZ CUCUTA 1","54405","LOS PATIOS","Municipio","LOS PATIOS","54","NORTE DE SANTANDER",7.7422910939999996,-72.526807835]
["NORTE DE SANTANDERCZ CUCUTA 1SALAZAR",2021,"54","NORTE DE SANTANDER","5401","CZ CUCUTA 1","54660","SALAZAR","Municipio","SALAZAR","54","NORTE DE SANTANDER",7.7727478239999996,-72.867699587000004]
["NORTE DE SANTANDERCZ CUCUTA 1SAN CAYETANO",2021,"54","NORTE DE SANTANDER","5401","CZ CUCUTA 1","54673","SAN CAYETANO","Municipio","SAN CAYETANO","54","NORTE DE SANTANDER",7.8478721949999999,-72.609712033999998]
["NORTE DE SANTANDERCZ CUCUTA 2SAN JOSÉ DE CÚCUTA",2021,"54","NORTE DE SANTANDER","5402","CZ CUCUTA 2","54001","SAN JOSÉ DE CÚCUTA","Municipio","SAN JOSÉ DE CÚCUTA","54","NORTE DE SANTANDER",8.1120418109999992,-72.488626408000002]
["NORTE DE SANTANDERCZ CUCUTA 2BUCARASICA",2021,"54","NORTE DE SANTANDER","5402","CZ CUCUTA 2","54109","BUCARASICA","Municipio","BUCARASICA","54","NORTE DE SANTANDER",8.0798022389999993,-72.929199255]
["NORTE DE SANTANDERCZ CUCUTA 2GRAMALOTE",2021,"54","NORTE DE SANTANDER","5402","CZ CUCUTA 2","54313","GRAMALOTE","Municipio","GRAMALOTE","54","NORTE DE SANTANDER",7.9065229910000001,-72.807055814999998]
["NORTE DE SANTANDERCZ CUCUTA 2LOURDES",2021,"54","NORTE DE SANTANDER","5402","CZ CUCUTA 2","54418","LOURDES","Municipio","LOURDES","54","NORTE DE SANTANDER",7.9637127589999999,-72.846702902999994]
["NORTE DE SANTANDERCZ CUCUTA 2SANTIAGO",2021,"54","NORTE DE SANTANDER","5402","CZ CUCUTA 2","54680","SANTIAGO","Municipio","SANTIAGO","54","NORTE DE SANTANDER",7.8892344540000003,-72.718254103999996]
["NORTE DE SANTANDERCZ CUCUTA 2SARDINATA",2021,"54","NORTE DE SANTANDER","5402","CZ CUCUTA 2","54720","SARDINATA","Municipio","SARDINATA","54","NORTE DE SANTANDER",8.2150807669999999,-72.795809609000003]
["NORTE DE SANTANDERCZ CUCUTA 2VILLA CARO",2021,"54","NORTE DE SANTANDER","5402","CZ CUCUTA 2","54871","VILLA CARO","Municipio","VILLA CARO","54","NORTE DE SANTANDER",7.9362931730000001,-72.987594181999995]
["NORTE DE SANTANDERCZ CUCUTA 3SAN JOSÉ DE CÚCUTA",2021,"54","NORTE DE SANTANDER","5403","CZ CUCUTA 3","54001","SAN JOSÉ DE CÚCUTA","Municipio","SAN JOSÉ DE CÚCUTA","54","NORTE DE SANTANDER",8.1120418109999992,-72.488626408000002]
["NORTE DE SANTANDERCZ CUCUTA 3BOCHALEMA",2021,"54","NORTE DE SANTANDER","5403","CZ CUCUTA 3","54099","BOCHALEMA","Municipio","BOCHALEMA","54","NORTE DE SANTANDER",7.6085093390000003,-72.659519091999996]
["NORTE DE SANTANDERCZ CUCUTA 3CHINÁCOTA",2021,"54","NORTE DE SANTANDER","5403","CZ CUCUTA 3","54172","CHINÁCOTA","Municipio","CHINÁCOTA","54","NORTE DE SANTANDER",7.5833531360000004,-72.583909778999995]
["NORTE DE SANTANDERCZ CUCUTA 3HERRÁN",2021,"54","NORTE DE SANTANDER","5403","CZ CUCUTA 3","54347","HERRÁN","Municipio","HERRÁN","54","NORTE DE SANTANDER",7.4939557810000004,-72.492699981000001]
["NORTE DE SANTANDERCZ CUCUTA 3PUERTO SANTANDER",2021,"54","NORTE DE SANTANDER","5403","CZ CUCUTA 3","54553","PUERTO SANTANDER","Municipio","PUERTO SANTANDER","54","NORTE DE SANTANDER",8.3291386420000002,-72.411190654999999]
["NORTE DE SANTANDERCZ CUCUTA 3RAGONVALIA",2021,"54","NORTE DE SANTANDER","5403","CZ CUCUTA 3","54599","RAGONVALIA","Municipio","RAGONVALIA","54","NORTE DE SANTANDER",7.5953559740000003,-72.507566221000005]
["NORTE DE SANTANDERCZ CUCUTA 3VILLA DEL ROSARIO",2021,"54","NORTE DE SANTANDER","5403","CZ CUCUTA 3","54874","VILLA DEL ROSARIO","Municipio","VILLA DEL ROSARIO","54","NORTE DE SANTANDER",7.7186358630000003,-72.483611757999995]
["NORTE DE SANTANDERCZ OCAÑAABREGO",2021,"54","NORTE DE SANTANDER","5404","CZ OCAÑA","54003","ABREGO","Municipio","ÁBREGO","54","NORTE DE SANTANDER",8.0198344810000002,-73.158504846]
["NORTE DE SANTANDERCZ OCAÑACACHIRÁ",2021,"54","NORTE DE SANTANDER","5404","CZ OCAÑA","54128","CACHIRÁ","Municipio","CÁCHIRA","54","NORTE DE SANTANDER",7.6841888960000002,-73.129394812000001]
["NORTE DE SANTANDERCZ OCAÑACONVENCIÓN",2021,"54","NORTE DE SANTANDER","5404","CZ OCAÑA","54206","CONVENCIÓN","Municipio","CONVENCIÓN","54","NORTE DE SANTANDER",8.8731598950000006,-73.200077686]
["NORTE DE SANTANDERCZ OCAÑAEL CARMEN",2021,"54","NORTE DE SANTANDER","5404","CZ OCAÑA","54245","EL CARMEN","Municipio","EL CARMEN","54","NORTE DE SANTANDER",8.867990035,-73.345859215999994]
["NORTE DE SANTANDERCZ OCAÑAHACARÍ",2021,"54","NORTE DE SANTANDER","5404","CZ OCAÑA","54344","HACARÍ","Municipio","HACARÍ","54","NORTE DE SANTANDER",8.3618319870000004,-73.078263297999996]
["NORTE DE SANTANDERCZ OCAÑALA ESPERANZA",2021,"54","NORTE DE SANTANDER","5404","CZ OCAÑA","54385","LA ESPERANZA","Municipio","LA ESPERANZA","54","NORTE DE SANTANDER",7.6952335930000002,-73.361396722999999]
["NORTE DE SANTANDERCZ OCAÑALA PLAYA",2021,"54","NORTE DE SANTANDER","5404","CZ OCAÑA","54398","LA PLAYA","Municipio","LA PLAYA","54","NORTE DE SANTANDER",8.2567578749999999,-73.187893266000003]
["NORTE DE SANTANDERCZ OCAÑAOCAÑA",2021,"54","NORTE DE SANTANDER","5404","CZ OCAÑA","54498","OCAÑA","Municipio","OCAÑA","54","NORTE DE SANTANDER",8.2066375269999998,-73.337650331999996]
["NORTE DE SANTANDERCZ OCAÑASAN CALIXTO",2021,"54","NORTE DE SANTANDER","5404","CZ OCAÑA","54670","SAN CALIXTO","Municipio","SAN CALIXTO","54","NORTE DE SANTANDER",8.4144414039999997,-73.217603803000003]
["NORTE DE SANTANDERCZ OCAÑATEORAMA",2021,"54","NORTE DE SANTANDER","5404","CZ OCAÑA","54800","TEORAMA","Municipio","TEORAMA","54","NORTE DE SANTANDER",8.7600137940000007,-73.157140966]
["NORTE DE SANTANDERCZ PAMPLONACÁCOTA",2021,"54","NORTE DE SANTANDER","5405","CZ PAMPLONA","54125","CÁCOTA","Municipio","CÁCOTA","54","NORTE DE SANTANDER",7.2705600879999999,-72.652121526000002]
["NORTE DE SANTANDERCZ PAMPLONACHINÁCOTA",2021,"54","NORTE DE SANTANDER","5405","CZ PAMPLONA","54172","CHINÁCOTA","Municipio","CHINÁCOTA","54","NORTE DE SANTANDER",7.5833531360000004,-72.583909778999995]
["NORTE DE SANTANDERCZ PAMPLONACHITAGÁ",2021,"54","NORTE DE SANTANDER","5405","CZ PAMPLONA","54174","CHITAGÁ","Municipio","CHITAGÁ","54","NORTE DE SANTANDER",7.0516167699999999,-72.525447458000002]
["NORTE DE SANTANDERCZ PAMPLONACUCUTILLA",2021,"54","NORTE DE SANTANDER","5405","CZ PAMPLONA","54223","CUCUTILLA","Municipio","CUCUTILLA","54","NORTE DE SANTANDER",7.5021823660000004,-72.797034471000003]
["NORTE DE SANTANDERCZ PAMPLONAHERRÁN",2021,"54","NORTE DE SANTANDER","5405","CZ PAMPLONA","54347","HERRÁN","Municipio","HERRÁN","54","NORTE DE SANTANDER",7.4939557810000004,-72.492699981000001]
["NORTE DE SANTANDERCZ PAMPLONALABATECA",2021,"54","NORTE DE SANTANDER","5405","CZ PAMPLONA","54377","LABATECA","Municipio","LABATECA","54","NORTE DE SANTANDER",7.2183724739999997,-72.482815141000003]
["NORTE DE SANTANDERCZ PAMPLONAMUTISCUA",2021,"54","NORTE DE SANTANDER","5405","CZ PAMPLONA","54480","MUTISCUA","Municipio","MUTISCUA","54","NORTE DE SANTANDER",7.3169499699999996,-72.768345835000005]
["NORTE DE SANTANDERCZ PAMPLONAPAMPLONA",2021,"54","NORTE DE SANTANDER","5405","CZ PAMPLONA","54518","PAMPLONA","Municipio","PAMPLONA","54","NORTE DE SANTANDER",7.3790576229999996,-72.675903474999998]
["NORTE DE SANTANDERCZ PAMPLONAPAMPLONITA",2021,"54","NORTE DE SANTANDER","5405","CZ PAMPLONA","54520","PAMPLONITA","Municipio","PAMPLONITA","54","NORTE DE SANTANDER",7.4828788599999996,-72.635154009000004]
["NORTE DE SANTANDERCZ PAMPLONARAGONVALIA",2021,"54","NORTE DE SANTANDER","5405","CZ PAMPLONA","54599","RAGONVALIA","Municipio","RAGONVALIA","54","NORTE DE SANTANDER",7.5953559740000003,-72.507566221000005]
["NORTE DE SANTANDERCZ PAMPLONASILOS",2021,"54","NORTE DE SANTANDER","5405","CZ PAMPLONA","54743","SILOS","Municipio","SILOS","54","NORTE DE SANTANDER",7.1809918789999996,-72.786178840999995]
["NORTE DE SANTANDERCZ PAMPLONATOLEDO",2021,"54","NORTE DE SANTANDER","5405","CZ PAMPLONA","54820","TOLEDO","Municipio","TOLEDO","54","NORTE DE SANTANDER",7.2258649610000001,-72.305934176999997]
["NORTE DE SANTANDERCZ TIBUEL TARRA",2021,"54","NORTE DE SANTANDER","5406","CZ TIBU","54250","EL TARRA","Municipio","EL TARRA","54","NORTE DE SANTANDER",8.6782636709999998,-73.031759698000002]
["NORTE DE SANTANDERCZ TIBUTIBÚ",2021,"54","NORTE DE SANTANDER","5406","CZ TIBU","54810","TIBÚ","Municipio","TIBÚ","54","NORTE DE SANTANDER",8.713507237,-72.799258550000005]
["QUINDIOREGIONAL QUINDIOSEDE REGIONAL",2021,"63","QUINDIO","6300","REGIONAL QUINDIO","63900","SEDE REGIONAL","N/A","N/A","63","QUINDÍO","N/A","N/A"]
["QUINDIOCZ ARMENIA SURARMENIA",2021,"63","QUINDIO","6301","CZ ARMENIA SUR","63001","ARMENIA","Municipio","ARMENIA","63","QUINDÍO",4.4995011280000003,-75.724899851999993]
["QUINDIOCZ ARMENIA SURCIRCASIA",2021,"63","QUINDIO","6301","CZ ARMENIA SUR","63190","CIRCASIA","Municipio","CIRCASIA","63","QUINDÍO",4.6048453440000001,-75.666884494000001]
["QUINDIOCZ ARMENIA SURFILANDIA",2021,"63","QUINDIO","6301","CZ ARMENIA SUR","63272","FILANDIA","Municipio","FILANDIA","63","QUINDÍO",4.669325347,-75.671469407000004]
["QUINDIOCZ ARMENIA SURLA TEBAIDA",2021,"63","QUINDIO","6301","CZ ARMENIA SUR","63401","LA TEBAIDA","Municipio","LA TEBAIDA","63","QUINDÍO",4.4268848490000003,-75.819273353]
["QUINDIOCZ ARMENIA SURSALENTO",2021,"63","QUINDIO","6301","CZ ARMENIA SUR","63690","SALENTO","Municipio","SALENTO","63","QUINDÍO",4.6113146540000001,-75.530921121999995]
["QUINDIOCZ ARMENIA NORTEARMENIA",2021,"63","QUINDIO","6302","CZ ARMENIA NORTE","63001","ARMENIA","Municipio","ARMENIA","63","QUINDÍO",4.4995011280000003,-75.724899851999993]
["QUINDIOCZ ARMENIA NORTEMONTENEGRO",2021,"63","QUINDIO","6302","CZ ARMENIA NORTE","63470","MONTENEGRO","Municipio","MONTENEGRO","63","QUINDÍO",4.521890945,-75.818065942000004]
["QUINDIOCZ ARMENIA NORTEQUIMBAYA",2021,"63","QUINDIO","6302","CZ ARMENIA NORTE","63594","QUIMBAYA","Municipio","QUIMBAYA","63","QUINDÍO",4.6102734969999997,-75.792050868999993]
["QUINDIOCZ CALARCABUENAVISTA",2021,"63","QUINDIO","6303","CZ CALARCA","63111","BUENAVISTA","Municipio","BUENAVISTA","63","QUINDÍO",4.3666323819999997,-75.744037340000006]
["QUINDIOCZ CALARCACALARCA",2021,"63","QUINDIO","6303","CZ CALARCA","63130","CALARCA","Municipio","CALARCÁ","63","QUINDÍO",4.4678794279999998,-75.656747190000004]
["QUINDIOCZ CALARCACÓRDOBA",2021,"63","QUINDIO","6303","CZ CALARCA","63212","CÓRDOBA","Municipio","CÓRDOBA","63","QUINDÍO",4.3959751760000003,-75.651323077000001]
["QUINDIOCZ CALARCAGÉNOVA",2021,"63","QUINDIO","6303","CZ CALARCA","63302","GÉNOVA","Municipio","GÉNOVA","63","QUINDÍO",4.1801077729999996,-75.760566947000001]
["QUINDIOCZ CALARCAPIJAO",2021,"63","QUINDIO","6303","CZ CALARCA","63548","PIJAO","Municipio","PIJAO","63","QUINDÍO",4.3039793399999997,-75.683304171000003]
["RISARALDAREGIONAL RISARALDASEDE REGIONAL",2021,"66","RISARALDA","6600","REGIONAL RISARALDA","66900","SEDE REGIONAL","N/A","N/A","66","RISARALDA","N/A","N/A"]
["RISARALDACZ PEREIRAPEREIRA",2021,"66","RISARALDA","6601","CZ PEREIRA","66001","PEREIRA","Municipio","PEREIRA","66","RISARALDA",4.8036627730000001,-75.795790933999996]
["RISARALDACZ LA VIRGINIAAPÍA",2021,"66","RISARALDA","6602","CZ LA VIRGINIA","66045","APÍA","Municipio","APÍA","66","RISARALDA",5.1396353570000004,-75.953538705]
["RISARALDACZ LA VIRGINIABALBOA",2021,"66","RISARALDA","6602","CZ LA VIRGINIA","66075","BALBOA","Municipio","BALBOA","66","RISARALDA",4.9183496760000001,-75.942753858000003]
["RISARALDACZ LA VIRGINIALA CELIA",2021,"66","RISARALDA","6602","CZ LA VIRGINIA","66383","LA CELIA","Municipio","LA CELIA","66","RISARALDA",4.9881276789999998,-76.008226781999994]
["RISARALDACZ LA VIRGINIALA VIRGINIA",2021,"66","RISARALDA","6602","CZ LA VIRGINIA","66400","LA VIRGINIA","Municipio","LA VIRGINIA","66","RISARALDA",4.9047041870000001,-75.852081623000004]
["RISARALDACZ LA VIRGINIAPUEBLO RICO",2021,"66","RISARALDA","6602","CZ LA VIRGINIA","66572","PUEBLO RICO","Municipio","PUEBLO RICO","66","RISARALDA",5.286295408,-76.073594212000003]
["RISARALDACZ LA VIRGINIASANTUARIO",2021,"66","RISARALDA","6602","CZ LA VIRGINIA","66687","SANTUARIO","Municipio","SANTUARIO","66","RISARALDA",5.0761003130000004,-76.022869459999995]
["RISARALDACZ DOS QUEBRADASDOSQUEBRADAS",2021,"66","RISARALDA","6603","CZ DOS QUEBRADAS","66170","DOSQUEBRADAS","Municipio","DOSQUEBRADAS","66","RISARALDA",4.8420211440000003,-75.669936548999999]
["RISARALDACZ BELEN DE UMBRIABELÉN DE UMBRÍA",2021,"66","RISARALDA","6604","CZ BELEN DE UMBRIA","66088","BELÉN DE UMBRÍA","Municipio","BELÉN DE UMBRÍA","66","RISARALDA",5.2003986959999997,-75.867938933000005]
["RISARALDACZ BELEN DE UMBRIAGUÁTICA",2021,"66","RISARALDA","6604","CZ BELEN DE UMBRIA","66318","GUÁTICA","Municipio","GUÁTICA","66","RISARALDA",5.3202959659999998,-75.804366588999997]
["RISARALDACZ BELEN DE UMBRIAMISTRATÓ",2021,"66","RISARALDA","6604","CZ BELEN DE UMBRIA","66456","MISTRATÓ","Municipio","MISTRATÓ","66","RISARALDA",5.4140781410000001,-75.961353865999996]
["RISARALDACZ BELEN DE UMBRIAQUINCHÍA",2021,"66","RISARALDA","6604","CZ BELEN DE UMBRIA","66594","QUINCHÍA","Municipio","QUINCHÍA","66","RISARALDA",5.3239068639999996,-75.713396832000001]
["RISARALDACZ SANTA ROSA DE CABALMARSELLA",2021,"66","RISARALDA","6605","CZ SANTA ROSA DE CABAL","66440","MARSELLA","Municipio","MARSELLA","66","RISARALDA",4.9429361849999998,-75.753213896000005]
["RISARALDACZ SANTA ROSA DE CABALSANTA ROSA DE CABAL",2021,"66","RISARALDA","6605","CZ SANTA ROSA DE CABAL","66682","SANTA ROSA DE CABAL","Municipio","SANTA ROSA DE CABAL","66","RISARALDA",4.8337898279999996,-75.549501743999997]
["SANTANDERREGIONAL SANTANDERSEDE REGIONAL",2021,"68","SANTANDER","6800","REGIONAL SANTANDER","68900","SEDE REGIONAL","N/A","N/A","68","SANTANDER","N/A","N/A"]
["SANTANDERCZ ANTONIA SANTOSCALIFORNIA",2021,"68","SANTANDER","6801","CZ ANTONIA SANTOS","68132","CALIFORNIA","Municipio","CALIFORNIA","68","SANTANDER",7.3315654429999997,-72.951318254]
["SANTANDERCZ ANTONIA SANTOSCHARTA",2021,"68","SANTANDER","6801","CZ ANTONIA SANTOS","68169","CHARTA","Municipio","CHARTA","68","SANTANDER",7.2829730010000002,-72.978290564999995]
["SANTANDERCZ ANTONIA SANTOSEL PLAYÓN",2021,"68","SANTANDER","6801","CZ ANTONIA SANTOS","68255","EL PLAYÓN","Municipio","EL PLAYÓN","68","SANTANDER",7.5242847209999999,-73.181581915999999]
["SANTANDERCZ ANTONIA SANTOSGIRÓN",2021,"68","SANTANDER","6801","CZ ANTONIA SANTOS","68307","GIRÓN","Municipio","GIRÓN","68","SANTANDER",6.9767341270000003,-73.205267004000007]
["SANTANDERCZ ANTONIA SANTOSLEBRÍJA",2021,"68","SANTANDER","6801","CZ ANTONIA SANTOS","68406","LEBRÍJA","Municipio","LEBRIJA","68","SANTANDER",7.204060063,-73.291380974000006]
["SANTANDERCZ ANTONIA SANTOSMATANZA",2021,"68","SANTANDER","6801","CZ ANTONIA SANTOS","68444","MATANZA","Municipio","MATANZA","68","SANTANDER",7.348778319,-73.054389972999999]
["SANTANDERCZ ANTONIA SANTOSRIONEGRO",2021,"68","SANTANDER","6801","CZ ANTONIA SANTOS","68615","RIONEGRO","Municipio","RIONEGRO","68","SANTANDER",7.4742260849999997,-73.372464171999994]
["SANTANDERCZ ANTONIA SANTOSSAN VICENTE DE CHUCURÍ",2021,"68","SANTANDER","6801","CZ ANTONIA SANTOS","68689","SAN VICENTE DE CHUCURÍ","Municipio","SAN VICENTE DE CHUCURÍ","68","SANTANDER",6.8942923460000003,-73.539003335999993]
["SANTANDERCZ ANTONIA SANTOSSURATÁ",2021,"68","SANTANDER","6801","CZ ANTONIA SANTOS","68780","SURATÁ","Municipio","SURATÁ","68","SANTANDER",7.4754020629999998,-72.987799659000004]
["SANTANDERCZ BUCARAMANGA SURBETULIA",2021,"68","SANTANDER","6802","CZ BUCARAMANGA SUR","68092","BETULIA","Municipio","BETULIA","68","SANTANDER",7.0332558860000001,-73.378723879000006]
["SANTANDERCZ BUCARAMANGA SURFLORIDABLANCA",2021,"68","SANTANDER","6802","CZ BUCARAMANGA SUR","68276","FLORIDABLANCA","Municipio","FLORIDABLANCA","68","SANTANDER",7.0797045980000002,-73.067992502999999]
["SANTANDERCZ BUCARAMANGA SURLOS SANTOS",2021,"68","SANTANDER","6802","CZ BUCARAMANGA SUR","68418","LOS SANTOS","Municipio","LOS SANTOS","68","SANTANDER",6.8121629339999998,-73.107850857000003]
["SANTANDERCZ BUCARAMANGA SURPIEDECUESTA",2021,"68","SANTANDER","6802","CZ BUCARAMANGA SUR","68547","PIEDECUESTA","Municipio","PIEDECUESTA","68","SANTANDER",6.9708210399999997,-73.014811964000003]
["SANTANDERCZ BUCARAMANGA SURSANTA BÁRBARA",2021,"68","SANTANDER","6802","CZ BUCARAMANGA SUR","68705","SANTA BÁRBARA","Municipio","SANTA BÁRBARA","68","SANTANDER",6.9880847109999999,-72.896089333999996]
["SANTANDERCZ BUCARAMANGA SURTONA",2021,"68","SANTANDER","6802","CZ BUCARAMANGA SUR","68820","TONA","Municipio","TONA","68","SANTANDER",7.1708910990000003,-72.939704433000003]
["SANTANDERCZ BUCARAMANGA SURVETAS",2021,"68","SANTANDER","6802","CZ BUCARAMANGA SUR","68867","VETAS","Municipio","VETAS","68","SANTANDER",7.322219563,-72.881569005000003]
["SANTANDERCZ BUCARAMANGA SURZAPATOCA",2021,"68","SANTANDER","6802","CZ BUCARAMANGA SUR","68895","ZAPATOCA","Municipio","ZAPATOCA","68","SANTANDER",6.8137255659999996,-73.309750442999999]
["SANTANDERCZ CARLOS LLERAS RESTREPOBUCARAMANGA",2021,"68","SANTANDER","6803","CZ CARLOS LLERAS RESTREPO","68001","BUCARAMANGA","Municipio","BUCARAMANGA","68","SANTANDER",7.155833544,-73.111569970999994]
["SANTANDERCZ LUIS CARLOS GALÁN SARMIENTOBUCARAMANGA",2021,"68","SANTANDER","6804","CZ LUIS CARLOS GALÁN SARMIENTO","68001","BUCARAMANGA","Municipio","BUCARAMANGA","68","SANTANDER",7.155833544,-73.111569970999994]
["SANTANDERCZ LUIS CARLOS GALÁN SARMIENTOBETULIA",2021,"68","SANTANDER","6804","CZ LUIS CARLOS GALÁN SARMIENTO","68092","BETULIA","Municipio","BETULIA","68","SANTANDER",7.0332558860000001,-73.378723879000006]
["SANTANDERCZ LUIS CARLOS GALÁN SARMIENTOCALIFORNIA",2021,"68","SANTANDER","6804","CZ LUIS CARLOS GALÁN SARMIENTO","68132","CALIFORNIA","Municipio","CALIFORNIA","68","SANTANDER",7.3315654429999997,-72.951318254]
["SANTANDERCZ LUIS CARLOS GALÁN SARMIENTOCHARTA",2021,"68","SANTANDER","6804","CZ LUIS CARLOS GALÁN SARMIENTO","68169","CHARTA","Municipio","CHARTA","68","SANTANDER",7.2829730010000002,-72.978290564999995]
["SANTANDERCZ LUIS CARLOS GALÁN SARMIENTOEL PLAYÓN",2021,"68","SANTANDER","6804","CZ LUIS CARLOS GALÁN SARMIENTO","68255","EL PLAYÓN","Municipio","EL PLAYÓN","68","SANTANDER",7.5242847209999999,-73.181581915999999]
["SANTANDERCZ LUIS CARLOS GALÁN SARMIENTOFLORIDABLANCA",2021,"68","SANTANDER","6804","CZ LUIS CARLOS GALÁN SARMIENTO","68276","FLORIDABLANCA","Municipio","FLORIDABLANCA","68","SANTANDER",7.0797045980000002,-73.067992502999999]
["SANTANDERCZ LUIS CARLOS GALÁN SARMIENTOGIRÓN",2021,"68","SANTANDER","6804","CZ LUIS CARLOS GALÁN SARMIENTO","68307","GIRÓN","Municipio","GIRÓN","68","SANTANDER",6.9767341270000003,-73.205267004000007]
["SANTANDERCZ LUIS CARLOS GALÁN SARMIENTOLEBRÍJA",2021,"68","SANTANDER","6804","CZ LUIS CARLOS GALÁN SARMIENTO","68406","LEBRÍJA","Municipio","LEBRIJA","68","SANTANDER",7.204060063,-73.291380974000006]
["SANTANDERCZ LUIS CARLOS GALÁN SARMIENTOLOS SANTOS",2021,"68","SANTANDER","6804","CZ LUIS CARLOS GALÁN SARMIENTO","68418","LOS SANTOS","Municipio","LOS SANTOS","68","SANTANDER",6.8121629339999998,-73.107850857000003]
["SANTANDERCZ LUIS CARLOS GALÁN SARMIENTOMATANZA",2021,"68","SANTANDER","6804","CZ LUIS CARLOS GALÁN SARMIENTO","68444","MATANZA","Municipio","MATANZA","68","SANTANDER",7.348778319,-73.054389972999999]
["SANTANDERCZ LUIS CARLOS GALÁN SARMIENTOPIEDECUESTA",2021,"68","SANTANDER","6804","CZ LUIS CARLOS GALÁN SARMIENTO","68547","PIEDECUESTA","Municipio","PIEDECUESTA","68","SANTANDER",6.9708210399999997,-73.014811964000003]
["SANTANDERCZ LUIS CARLOS GALÁN SARMIENTORIONEGRO",2021,"68","SANTANDER","6804","CZ LUIS CARLOS GALÁN SARMIENTO","68615","RIONEGRO","Municipio","RIONEGRO","68","SANTANDER",7.4742260849999997,-73.372464171999994]
["SANTANDERCZ LUIS CARLOS GALÁN SARMIENTOSAN VICENTE DE CHUCURÍ",2021,"68","SANTANDER","6804","CZ LUIS CARLOS GALÁN SARMIENTO","68689","SAN VICENTE DE CHUCURÍ","Municipio","SAN VICENTE DE CHUCURÍ","68","SANTANDER",6.8942923460000003,-73.539003335999993]
["SANTANDERCZ LUIS CARLOS GALÁN SARMIENTOSANTA BÁRBARA",2021,"68","SANTANDER","6804","CZ LUIS CARLOS GALÁN SARMIENTO","68705","SANTA BÁRBARA","Municipio","SANTA BÁRBARA","68","SANTANDER",6.9880847109999999,-72.896089333999996]
["SANTANDERCZ LUIS CARLOS GALÁN SARMIENTOSURATÁ",2021,"68","SANTANDER","6804","CZ LUIS CARLOS GALÁN SARMIENTO","68780","SURATÁ","Municipio","SURATÁ","68","SANTANDER",7.4754020629999998,-72.987799659000004]
["SANTANDERCZ LUIS CARLOS GALÁN SARMIENTOTONA",2021,"68","SANTANDER","6804","CZ LUIS CARLOS GALÁN SARMIENTO","68820","TONA","Municipio","TONA","68","SANTANDER",7.1708910990000003,-72.939704433000003]
["SANTANDERCZ LUIS CARLOS GALÁN SARMIENTOVETAS",2021,"68","SANTANDER","6804","CZ LUIS CARLOS GALÁN SARMIENTO","68867","VETAS","Municipio","VETAS","68","SANTANDER",7.322219563,-72.881569005000003]
["SANTANDERCZ LUIS CARLOS GALÁN SARMIENTOZAPATOCA",2021,"68","SANTANDER","6804","CZ LUIS CARLOS GALÁN SARMIENTO","68895","ZAPATOCA","Municipio","ZAPATOCA","68","SANTANDER",6.8137255659999996,-73.309750442999999]
["SANTANDERCZ YARIQUIESBARRANCABERMEJA",2021,"68","SANTANDER","6805","CZ YARIQUIES","68081","BARRANCABERMEJA","Municipio","BARRANCABERMEJA","68","SANTANDER",7.0540745579999999,-73.782116461000001]
["SANTANDERCZ YARIQUIESCIMITARRA",2021,"68","SANTANDER","6805","CZ YARIQUIES","68190","CIMITARRA","Municipio","CIMITARRA","68","SANTANDER",6.4097296100000003,-74.170304268999999]
["SANTANDERCZ YARIQUIESEL CARMEN DE CHUCURÍ",2021,"68","SANTANDER","6805","CZ YARIQUIES","68235","EL CARMEN DE CHUCURÍ","Municipio","EL CARMEN DE CHUCURI","68","SANTANDER",6.6642600019999998,-73.564752876]
["SANTANDERCZ YARIQUIESPUERTO PARRA",2021,"68","SANTANDER","6805","CZ YARIQUIES","68573","PUERTO PARRA","Municipio","PUERTO PARRA","68","SANTANDER",6.685278856,-73.957612557999994]
["SANTANDERCZ YARIQUIESPUERTO WILCHES",2021,"68","SANTANDER","6805","CZ YARIQUIES","68575","PUERTO WILCHES","Municipio","PUERTO WILCHES","68","SANTANDER",7.3981982569999998,-73.835469603999996]
["SANTANDERCZ YARIQUIESSABANA DE TORRES",2021,"68","SANTANDER","6805","CZ YARIQUIES","68655","SABANA DE TORRES","Municipio","SABANA DE TORRES","68","SANTANDER",7.4065421999999996,-73.571318074000004]
["SANTANDERCZ YARIQUIESSIMACOTA",2021,"68","SANTANDER","6805","CZ YARIQUIES","68745","SIMACOTA","Municipio","SIMACOTA","68","SANTANDER",6.4942315510000004,-73.459109916000003]
["SANTANDERCZ LA FLORESTABARRANCABERMEJA",2021,"68","SANTANDER","6806","CZ LA FLORESTA","68081","BARRANCABERMEJA","Municipio","BARRANCABERMEJA","68","SANTANDER",7.0540745579999999,-73.782116461000001]
["SANTANDERCZ LA FLORESTAEL CARMEN DE CHUCURÍ",2021,"68","SANTANDER","6806","CZ LA FLORESTA","68235","EL CARMEN DE CHUCURÍ","Municipio","EL CARMEN DE CHUCURI","68","SANTANDER",6.6642600019999998,-73.564752876]
["SANTANDERCZ LA FLORESTAPUERTO PARRA",2021,"68","SANTANDER","6806","CZ LA FLORESTA","68573","PUERTO PARRA","Municipio","PUERTO PARRA","68","SANTANDER",6.685278856,-73.957612557999994]
["SANTANDERCZ LA FLORESTAPUERTO WILCHES",2021,"68","SANTANDER","6806","CZ LA FLORESTA","68575","PUERTO WILCHES","Municipio","PUERTO WILCHES","68","SANTANDER",7.3981982569999998,-73.835469603999996]
["SANTANDERCZ LA FLORESTASABANA DE TORRES",2021,"68","SANTANDER","6806","CZ LA FLORESTA","68655","SABANA DE TORRES","Municipio","SABANA DE TORRES","68","SANTANDER",7.4065421999999996,-73.571318074000004]
["SANTANDERCZ SAN GILARATOCA",2021,"68","SANTANDER","6807","CZ SAN GIL","68051","ARATOCA","Municipio","ARATOCA","68","SANTANDER",6.7167665850000002,-73.011626969999995]
["SANTANDERCZ SAN GILBARICHARA",2021,"68","SANTANDER","6807","CZ SAN GIL","68079","BARICHARA","Municipio","BARICHARA","68","SANTANDER",6.6470625429999997,-73.215184663000002]
["SANTANDERCZ SAN GILCABRERA",2021,"68","SANTANDER","6807","CZ SAN GIL","68121","CABRERA","Municipio","CABRERA","68","SANTANDER",6.5625436730000004,-73.250348922000001]
["SANTANDERCZ SAN GILCEPITÁ",2021,"68","SANTANDER","6807","CZ SAN GIL","68160","CEPITÁ","Municipio","CEPITÁ","68","SANTANDER",6.7524655329999996,-72.929246289999995]
["SANTANDERCZ SAN GILCHARALÁ",2021,"68","SANTANDER","6807","CZ SAN GIL","68167","CHARALÁ","Municipio","CHARALÁ","68","SANTANDER",6.3509981900000003,-73.061013821000003]
["SANTANDERCZ SAN GILCOROMORO",2021,"68","SANTANDER","6807","CZ SAN GIL","68217","COROMORO","Municipio","COROMORO","68","SANTANDER",6.2347357790000002,-72.981768024999994]
["SANTANDERCZ SAN GILCURITÍ",2021,"68","SANTANDER","6807","CZ SAN GIL","68229","CURITÍ","Municipio","CURITÍ","68","SANTANDER",6.6089664829999997,-73.058978879999998]
["SANTANDERCZ SAN GILENCINO",2021,"68","SANTANDER","6807","CZ SAN GIL","68264","ENCINO","Municipio","ENCINO","68","SANTANDER",6.0790612240000002,-73.062066649000002]
["SANTANDERCZ SAN GILJORDÁN",2021,"68","SANTANDER","6807","CZ SAN GIL","68370","JORDÁN","Municipio","JORDÁN","68","SANTANDER",6.7108148459999999,-73.121123601999997]
["SANTANDERCZ SAN GILMOGOTES",2021,"68","SANTANDER","6807","CZ SAN GIL","68464","MOGOTES","Municipio","MOGOTES","68","SANTANDER",6.4925323150000001,-72.958347724000006]
["SANTANDERCZ SAN GILOCAMONTE",2021,"68","SANTANDER","6807","CZ SAN GIL","68498","OCAMONTE","Municipio","OCAMONTE","68","SANTANDER",6.3553688580000003,-73.122118330999996]
["SANTANDERCZ SAN GILONZAGA",2021,"68","SANTANDER","6807","CZ SAN GIL","68502","ONZAGA","Municipio","ONZAGA","68","SANTANDER",6.3351945479999996,-72.812058375999996]
["SANTANDERCZ SAN GILPÁRAMO",2021,"68","SANTANDER","6807","CZ SAN GIL","68533","PÁRAMO","Municipio","PÁRAMO","68","SANTANDER",6.4166311309999999,-73.171482319000006]
["SANTANDERCZ SAN GILPINCHOTE",2021,"68","SANTANDER","6807","CZ SAN GIL","68549","PINCHOTE","Municipio","PINCHOTE","68","SANTANDER",6.5138926259999996,-73.175709862999994]
["SANTANDERCZ SAN GILSAN GIL",2021,"68","SANTANDER","6807","CZ SAN GIL","68679","SAN GIL","Municipio","SAN GIL","68","SANTANDER",6.5507787649999996,-73.118879110999998]
["SANTANDERCZ SAN GILSAN JOAQUÍN",2021,"68","SANTANDER","6807","CZ SAN GIL","68682","SAN JOAQUÍN","Municipio","SAN JOAQUÍN","68","SANTANDER",6.4598798229999996,-72.854718829999996]
["SANTANDERCZ SAN GILVALLE DE SAN JOSÉ",2021,"68","SANTANDER","6807","CZ SAN GIL","68855","VALLE DE SAN JOSÉ","Municipio","VALLE DE SAN JOSÉ","68","SANTANDER",6.4345789189999998,-73.109971709999996]
["SANTANDERCZ SAN GILVILLANUEVA",2021,"68","SANTANDER","6807","CZ SAN GIL","68872","VILLANUEVA","Municipio","VILLANUEVA","68","SANTANDER",6.6858673260000003,-73.163969159999994]
["SANTANDERCZ SOCORROCHIMA",2021,"68","SANTANDER","6808","CZ SOCORRO","68176","CHIMA","Municipio","CHIMA","68","SANTANDER",6.3616276410000001,-73.401721444000003]
["SANTANDERCZ SOCORROCONFINES",2021,"68","SANTANDER","6808","CZ SOCORRO","68209","CONFINES","Municipio","CONFINES","68","SANTANDER",6.3423144430000002,-73.250140130000005]
["SANTANDERCZ SOCORROCONTRATACION",2021,"68","SANTANDER","6808","CZ SOCORRO","68211","CONTRATACION","Municipio","CONTRATACIÓN","68","SANTANDER",6.3031166110000001,-73.502115273000001]
["SANTANDERCZ SOCORROEL GUACAMAYO",2021,"68","SANTANDER","6808","CZ SOCORRO","68245","EL GUACAMAYO","Municipio","EL GUACAMAYO","68","SANTANDER",6.236115743,-73.497760502000006]
["SANTANDERCZ SOCORROGALÁN",2021,"68","SANTANDER","6808","CZ SOCORRO","68296","GALÁN","Municipio","GALÁN","68","SANTANDER",6.6718109940000003,-73.324671242999997]
["SANTANDERCZ SOCORROGAMBITA",2021,"68","SANTANDER","6808","CZ SOCORRO","68298","GAMBITA","Municipio","GÁMBITA","68","SANTANDER",5.9243835579999997,-73.319399336000004]
["SANTANDERCZ SOCORROGUADALUPE",2021,"68","SANTANDER","6808","CZ SOCORRO","68320","GUADALUPE","Municipio","GUADALUPE","68","SANTANDER",6.2332782480000004,-73.409774452999997]
["SANTANDERCZ SOCORROGUAPOTÁ",2021,"68","SANTANDER","6808","CZ SOCORRO","68322","GUAPOTÁ","Municipio","GUAPOTÁ","68","SANTANDER",6.3192998649999996,-73.331152751999994]
["SANTANDERCZ SOCORROHATO",2021,"68","SANTANDER","6808","CZ SOCORRO","68344","HATO","Municipio","HATO","68","SANTANDER",6.5598782990000002,-73.361788404999999]
["SANTANDERCZ SOCORROOIBA",2021,"68","SANTANDER","6808","CZ SOCORRO","68500","OIBA","Municipio","OIBA","68","SANTANDER",6.2255962159999996,-73.279615152999995]
["SANTANDERCZ SOCORROPALMAR",2021,"68","SANTANDER","6808","CZ SOCORRO","68522","PALMAR","Municipio","PALMAR","68","SANTANDER",6.5258769640000001,-73.282473370999995]
["SANTANDERCZ SOCORROPALMAS DEL SOCORRO",2021,"68","SANTANDER","6808","CZ SOCORRO","68524","PALMAS DEL SOCORRO","Municipio","PALMAS DEL SOCORRO","68","SANTANDER",6.391750107,-73.282731742999999]
["SANTANDERCZ SOCORROSIMACOTA",2021,"68","SANTANDER","6808","CZ SOCORRO","68745","SIMACOTA","Municipio","SIMACOTA","68","SANTANDER",6.4942315510000004,-73.459109916000003]
["SANTANDERCZ SOCORROSOCORRO",2021,"68","SANTANDER","6808","CZ SOCORRO","68755","SOCORRO","Municipio","SOCORRO","68","SANTANDER",6.462088241,-73.244360009000005]
["SANTANDERCZ SOCORROSUAITA",2021,"68","SANTANDER","6808","CZ SOCORRO","68770","SUAITA","Municipio","SUAITA","68","SANTANDER",6.1014997390000003,-73.362257946]
["SANTANDERCZ VELEZAGUADA",2021,"68","SANTANDER","6809","CZ VELEZ","68013","AGUADA","Municipio","AGUADA","68","SANTANDER",6.1822084759999996,-73.530385409000004]
["SANTANDERCZ VELEZALBANIA",2021,"68","SANTANDER","6809","CZ VELEZ","68020","ALBANIA","Municipio","ALBANIA","68","SANTANDER",5.7881905189999996,-73.792369285000007]
["SANTANDERCZ VELEZBARBOSA",2021,"68","SANTANDER","6809","CZ VELEZ","68077","BARBOSA","Municipio","BARBOSA","68","SANTANDER",5.9556173269999997,-73.623452291999996]
["SANTANDERCZ VELEZBOLÍVAR",2021,"68","SANTANDER","6809","CZ VELEZ","68101","BOLÍVAR","Municipio","BOLÍVAR","68","SANTANDER",6.1817155860000002,-73.920657034000001]
["SANTANDERCZ VELEZCHIPATA",2021,"68","SANTANDER","6809","CZ VELEZ","68179","CHIPATA","Municipio","CHIPATÁ","68","SANTANDER",6.067944658,-73.632391317]
["SANTANDERCZ VELEZCIMITARRA",2021,"68","SANTANDER","6809","CZ VELEZ","68190","CIMITARRA","Municipio","CIMITARRA","68","SANTANDER",6.4097296100000003,-74.170304268999999]
["SANTANDERCZ VELEZEL PEÑÓN",2021,"68","SANTANDER","6809","CZ VELEZ","68250","EL PEÑÓN","Municipio","EL PEÑÓN","68","SANTANDER",6.1233896909999999,-74.000403973000004]
["SANTANDERCZ VELEZFLORIÁN",2021,"68","SANTANDER","6809","CZ VELEZ","68271","FLORIÁN","Municipio","FLORIÁN","68","SANTANDER",5.801106291,-73.955249308000006]
["SANTANDERCZ VELEZGUAVATÁ",2021,"68","SANTANDER","6809","CZ VELEZ","68324","GUAVATÁ","Municipio","GUAVATÁ","68","SANTANDER",5.9448948440000002,-73.721736707000005]
["SANTANDERCZ VELEZGUEPSA",2021,"68","SANTANDER","6809","CZ VELEZ","68327","GUEPSA","Municipio","GÜEPSA","68","SANTANDER",6.0465614800000003,-73.578478539000002]
["SANTANDERCZ VELEZJESÚS MARÍA",2021,"68","SANTANDER","6809","CZ VELEZ","68368","JESÚS MARÍA","Municipio","JESÚS MARÍA","68","SANTANDER",5.8727058960000003,-73.789974185999995]
["SANTANDERCZ VELEZLA BELLEZA",2021,"68","SANTANDER","6809","CZ VELEZ","68377","LA BELLEZA","Municipio","LA BELLEZA","68","SANTANDER",5.8957243410000002,-74.046765754000006]
["SANTANDERCZ VELEZLANDÁZURI",2021,"68","SANTANDER","6809","CZ VELEZ","68385","LANDÁZURI","Municipio","LANDÁZURI","68","SANTANDER",6.3852348140000004,-73.787608989999995]
["SANTANDERCZ VELEZLA PAZ",2021,"68","SANTANDER","6809","CZ VELEZ","68397","LA PAZ","Municipio","LA PAZ","68","SANTANDER",6.2173743699999999,-73.629771950999995]
["SANTANDERCZ VELEZPUENTE NACIONAL",2021,"68","SANTANDER","6809","CZ VELEZ","68572","PUENTE NACIONAL","Municipio","PUENTE NACIONAL","68","SANTANDER",5.8311299060000001,-73.678418152999996]
["SANTANDERCZ VELEZSAN BENITO",2021,"68","SANTANDER","6809","CZ VELEZ","68673","SAN BENITO","Municipio","SAN BENITO","68","SANTANDER",6.0765253550000002,-73.552953017999997]
["SANTANDERCZ VELEZSANTA HELENA DEL OPÓN",2021,"68","SANTANDER","6809","CZ VELEZ","68720","SANTA HELENA DEL OPÓN","Municipio","SANTA HELENA DEL OPÓN","68","SANTANDER",6.4089073399999998,-73.582066088999994]
["SANTANDERCZ VELEZSUCRE",2021,"68","SANTANDER","6809","CZ VELEZ","68773","SUCRE","Municipio","SUCRE","68","SANTANDER",5.9832037339999999,-73.959362354000007]
["SANTANDERCZ VELEZVÉLEZ",2021,"68","SANTANDER","6809","CZ VELEZ","68861","VÉLEZ","Municipio","VÉLEZ","68","SANTANDER",6.0074104300000002,-73.690572558]
["SANTANDERCZ MALAGACAPITANEJO",2021,"68","SANTANDER","6810","CZ MALAGA","68147","CAPITANEJO","Municipio","CAPITANEJO","68","SANTANDER",6.5202000949999999,-72.674352025999994]
["SANTANDERCZ MALAGACARCASÍ",2021,"68","SANTANDER","6810","CZ MALAGA","68152","CARCASÍ","Municipio","CARCASÍ","68","SANTANDER",6.6596752739999996,-72.569684339000005]
["SANTANDERCZ MALAGACERRITO",2021,"68","SANTANDER","6810","CZ MALAGA","68162","CERRITO","Municipio","CERRITO","68","SANTANDER",6.9039231729999999,-72.645363243999995]
["SANTANDERCZ MALAGACONCEPCIÓN",2021,"68","SANTANDER","6810","CZ MALAGA","68207","CONCEPCIÓN","Municipio","CONCEPCIÓN","68","SANTANDER",6.7606233700000002,-72.618157346999993]
["SANTANDERCZ MALAGAENCISO",2021,"68","SANTANDER","6810","CZ MALAGA","68266","ENCISO","Municipio","ENCISO","68","SANTANDER",6.6582411500000003,-72.680279389000006]
["SANTANDERCZ MALAGAGUACA",2021,"68","SANTANDER","6810","CZ MALAGA","68318","GUACA","Municipio","GUACA","68","SANTANDER",6.9434341000000002,-72.823698733000001]
["SANTANDERCZ MALAGAMACARAVITA",2021,"68","SANTANDER","6810","CZ MALAGA","68425","MACARAVITA","Municipio","MACARAVITA","68","SANTANDER",6.5137453030000003,-72.585364919]
["SANTANDERCZ MALAGAMÁLAGA",2021,"68","SANTANDER","6810","CZ MALAGA","68432","MÁLAGA","Municipio","MÁLAGA","68","SANTANDER",6.7202223490000002,-72.738410913999999]
["SANTANDERCZ MALAGAMOLAGAVITA",2021,"68","SANTANDER","6810","CZ MALAGA","68468","MOLAGAVITA","Municipio","MOLAGAVITA","68","SANTANDER",6.6432905590000004,-72.819162739000006]
["SANTANDERCZ MALAGASAN ANDRÉS",2021,"68","SANTANDER","6810","CZ MALAGA","68669","SAN ANDRÉS","Municipio","SAN ANDRÉS","68","SANTANDER",6.7964830630000002,-72.816132022999994]
["SANTANDERCZ MALAGASAN JOSÉ DE MIRANDA",2021,"68","SANTANDER","6810","CZ MALAGA","68684","SAN JOSÉ DE MIRANDA","Municipio","SAN JOSÉ DE MIRANDA","68","SANTANDER",6.6294001849999997,-72.739764226999995]
["SANTANDERCZ MALAGASAN MIGUEL",2021,"68","SANTANDER","6810","CZ MALAGA","68686","SAN MIGUEL","Municipio","SAN MIGUEL","68","SANTANDER",6.568121541,-72.643224967999998]
["SANTANDERCZ RESURGIRBUCARAMANGA",2021,"68","SANTANDER","6815","CZ RESURGIR","68001","BUCARAMANGA","Municipio","BUCARAMANGA","68","SANTANDER",7.155833544,-73.111569970999994]
["SANTANDERCZ RESURGIRAGUADA",2021,"68","SANTANDER","6815","CZ RESURGIR","68013","AGUADA","Municipio","AGUADA","68","SANTANDER",6.1822084759999996,-73.530385409000004]
["SANTANDERCZ RESURGIRALBANIA",2021,"68","SANTANDER","6815","CZ RESURGIR","68020","ALBANIA","Municipio","ALBANIA","68","SANTANDER",5.7881905189999996,-73.792369285000007]
["SANTANDERCZ RESURGIRARATOCA",2021,"68","SANTANDER","6815","CZ RESURGIR","68051","ARATOCA","Municipio","ARATOCA","68","SANTANDER",6.7167665850000002,-73.011626969999995]
["SANTANDERCZ RESURGIRBARBOSA",2021,"68","SANTANDER","6815","CZ RESURGIR","68077","BARBOSA","Municipio","BARBOSA","68","SANTANDER",5.9556173269999997,-73.623452291999996]
["SANTANDERCZ RESURGIRBARICHARA",2021,"68","SANTANDER","6815","CZ RESURGIR","68079","BARICHARA","Municipio","BARICHARA","68","SANTANDER",6.6470625429999997,-73.215184663000002]
["SANTANDERCZ RESURGIRBARRANCABERMEJA",2021,"68","SANTANDER","6815","CZ RESURGIR","68081","BARRANCABERMEJA","Municipio","BARRANCABERMEJA","68","SANTANDER",7.0540745579999999,-73.782116461000001]
["SANTANDERCZ RESURGIRBETULIA",2021,"68","SANTANDER","6815","CZ RESURGIR","68092","BETULIA","Municipio","BETULIA","68","SANTANDER",7.0332558860000001,-73.378723879000006]
["SANTANDERCZ RESURGIRBOLÍVAR",2021,"68","SANTANDER","6815","CZ RESURGIR","68101","BOLÍVAR","Municipio","BOLÍVAR","68","SANTANDER",6.1817155860000002,-73.920657034000001]
["SANTANDERCZ RESURGIRCABRERA",2021,"68","SANTANDER","6815","CZ RESURGIR","68121","CABRERA","Municipio","CABRERA","68","SANTANDER",6.5625436730000004,-73.250348922000001]
["SANTANDERCZ RESURGIRCALIFORNIA",2021,"68","SANTANDER","6815","CZ RESURGIR","68132","CALIFORNIA","Municipio","CALIFORNIA","68","SANTANDER",7.3315654429999997,-72.951318254]
["SANTANDERCZ RESURGIRCAPITANEJO",2021,"68","SANTANDER","6815","CZ RESURGIR","68147","CAPITANEJO","Municipio","CAPITANEJO","68","SANTANDER",6.5202000949999999,-72.674352025999994]
["SANTANDERCZ RESURGIRCARCASÍ",2021,"68","SANTANDER","6815","CZ RESURGIR","68152","CARCASÍ","Municipio","CARCASÍ","68","SANTANDER",6.6596752739999996,-72.569684339000005]
["SANTANDERCZ RESURGIRCEPITÁ",2021,"68","SANTANDER","6815","CZ RESURGIR","68160","CEPITÁ","Municipio","CEPITÁ","68","SANTANDER",6.7524655329999996,-72.929246289999995]
["SANTANDERCZ RESURGIRCERRITO",2021,"68","SANTANDER","6815","CZ RESURGIR","68162","CERRITO","Municipio","CERRITO","68","SANTANDER",6.9039231729999999,-72.645363243999995]
["SANTANDERCZ RESURGIRCHARALÁ",2021,"68","SANTANDER","6815","CZ RESURGIR","68167","CHARALÁ","Municipio","CHARALÁ","68","SANTANDER",6.3509981900000003,-73.061013821000003]
["SANTANDERCZ RESURGIRCHARTA",2021,"68","SANTANDER","6815","CZ RESURGIR","68169","CHARTA","Municipio","CHARTA","68","SANTANDER",7.2829730010000002,-72.978290564999995]
["SANTANDERCZ RESURGIRCHIMA",2021,"68","SANTANDER","6815","CZ RESURGIR","68176","CHIMA","Municipio","CHIMA","68","SANTANDER",6.3616276410000001,-73.401721444000003]
["SANTANDERCZ RESURGIRCHIPATA",2021,"68","SANTANDER","6815","CZ RESURGIR","68179","CHIPATA","Municipio","CHIPATÁ","68","SANTANDER",6.067944658,-73.632391317]
["SANTANDERCZ RESURGIRCIMITARRA",2021,"68","SANTANDER","6815","CZ RESURGIR","68190","CIMITARRA","Municipio","CIMITARRA","68","SANTANDER",6.4097296100000003,-74.170304268999999]
["SANTANDERCZ RESURGIRCONCEPCIÓN",2021,"68","SANTANDER","6815","CZ RESURGIR","68207","CONCEPCIÓN","Municipio","CONCEPCIÓN","68","SANTANDER",6.7606233700000002,-72.618157346999993]
["SANTANDERCZ RESURGIRCONFINES",2021,"68","SANTANDER","6815","CZ RESURGIR","68209","CONFINES","Municipio","CONFINES","68","SANTANDER",6.3423144430000002,-73.250140130000005]
["SANTANDERCZ RESURGIRCONTRATACION",2021,"68","SANTANDER","6815","CZ RESURGIR","68211","CONTRATACION","Municipio","CONTRATACIÓN","68","SANTANDER",6.3031166110000001,-73.502115273000001]
["SANTANDERCZ RESURGIRCOROMORO",2021,"68","SANTANDER","6815","CZ RESURGIR","68217","COROMORO","Municipio","COROMORO","68","SANTANDER",6.2347357790000002,-72.981768024999994]
["SANTANDERCZ RESURGIRCURITÍ",2021,"68","SANTANDER","6815","CZ RESURGIR","68229","CURITÍ","Municipio","CURITÍ","68","SANTANDER",6.6089664829999997,-73.058978879999998]
["SANTANDERCZ RESURGIREL CARMEN DE CHUCURÍ",2021,"68","SANTANDER","6815","CZ RESURGIR","68235","EL CARMEN DE CHUCURÍ","Municipio","EL CARMEN DE CHUCURI","68","SANTANDER",6.6642600019999998,-73.564752876]
["SANTANDERCZ RESURGIREL GUACAMAYO",2021,"68","SANTANDER","6815","CZ RESURGIR","68245","EL GUACAMAYO","Municipio","EL GUACAMAYO","68","SANTANDER",6.236115743,-73.497760502000006]
["SANTANDERCZ RESURGIREL PEÑÓN",2021,"68","SANTANDER","6815","CZ RESURGIR","68250","EL PEÑÓN","Municipio","EL PEÑÓN","68","SANTANDER",6.1233896909999999,-74.000403973000004]
["SANTANDERCZ RESURGIREL PLAYÓN",2021,"68","SANTANDER","6815","CZ RESURGIR","68255","EL PLAYÓN","Municipio","EL PLAYÓN","68","SANTANDER",7.5242847209999999,-73.181581915999999]
["SANTANDERCZ RESURGIRENCINO",2021,"68","SANTANDER","6815","CZ RESURGIR","68264","ENCINO","Municipio","ENCINO","68","SANTANDER",6.0790612240000002,-73.062066649000002]
["SANTANDERCZ RESURGIRENCISO",2021,"68","SANTANDER","6815","CZ RESURGIR","68266","ENCISO","Municipio","ENCISO","68","SANTANDER",6.6582411500000003,-72.680279389000006]
["SANTANDERCZ RESURGIRFLORIÁN",2021,"68","SANTANDER","6815","CZ RESURGIR","68271","FLORIÁN","Municipio","FLORIÁN","68","SANTANDER",5.801106291,-73.955249308000006]
["SANTANDERCZ RESURGIRFLORIDABLANCA",2021,"68","SANTANDER","6815","CZ RESURGIR","68276","FLORIDABLANCA","Municipio","FLORIDABLANCA","68","SANTANDER",7.0797045980000002,-73.067992502999999]
["SANTANDERCZ RESURGIRGALÁN",2021,"68","SANTANDER","6815","CZ RESURGIR","68296","GALÁN","Municipio","GALÁN","68","SANTANDER",6.6718109940000003,-73.324671242999997]
["SANTANDERCZ RESURGIRGAMBITA",2021,"68","SANTANDER","6815","CZ RESURGIR","68298","GAMBITA","Municipio","GÁMBITA","68","SANTANDER",5.9243835579999997,-73.319399336000004]
["SANTANDERCZ RESURGIRGIRÓN",2021,"68","SANTANDER","6815","CZ RESURGIR","68307","GIRÓN","Municipio","GIRÓN","68","SANTANDER",6.9767341270000003,-73.205267004000007]
["SANTANDERCZ RESURGIRGUACA",2021,"68","SANTANDER","6815","CZ RESURGIR","68318","GUACA","Municipio","GUACA","68","SANTANDER",6.9434341000000002,-72.823698733000001]
["SANTANDERCZ RESURGIRGUADALUPE",2021,"68","SANTANDER","6815","CZ RESURGIR","68320","GUADALUPE","Municipio","GUADALUPE","68","SANTANDER",6.2332782480000004,-73.409774452999997]
["SANTANDERCZ RESURGIRGUAPOTÁ",2021,"68","SANTANDER","6815","CZ RESURGIR","68322","GUAPOTÁ","Municipio","GUAPOTÁ","68","SANTANDER",6.3192998649999996,-73.331152751999994]
["SANTANDERCZ RESURGIRGUAVATÁ",2021,"68","SANTANDER","6815","CZ RESURGIR","68324","GUAVATÁ","Municipio","GUAVATÁ","68","SANTANDER",5.9448948440000002,-73.721736707000005]
["SANTANDERCZ RESURGIRGUEPSA",2021,"68","SANTANDER","6815","CZ RESURGIR","68327","GUEPSA","Municipio","GÜEPSA","68","SANTANDER",6.0465614800000003,-73.578478539000002]
["SANTANDERCZ RESURGIRHATO",2021,"68","SANTANDER","6815","CZ RESURGIR","68344","HATO","Municipio","HATO","68","SANTANDER",6.5598782990000002,-73.361788404999999]
["SANTANDERCZ RESURGIRJESÚS MARÍA",2021,"68","SANTANDER","6815","CZ RESURGIR","68368","JESÚS MARÍA","Municipio","JESÚS MARÍA","68","SANTANDER",5.8727058960000003,-73.789974185999995]
["SANTANDERCZ RESURGIRJORDÁN",2021,"68","SANTANDER","6815","CZ RESURGIR","68370","JORDÁN","Municipio","JORDÁN","68","SANTANDER",6.7108148459999999,-73.121123601999997]
["SANTANDERCZ RESURGIRLA BELLEZA",2021,"68","SANTANDER","6815","CZ RESURGIR","68377","LA BELLEZA","Municipio","LA BELLEZA","68","SANTANDER",5.8957243410000002,-74.046765754000006]
["SANTANDERCZ RESURGIRLANDÁZURI",2021,"68","SANTANDER","6815","CZ RESURGIR","68385","LANDÁZURI","Municipio","LANDÁZURI","68","SANTANDER",6.3852348140000004,-73.787608989999995]
["SANTANDERCZ RESURGIRLA PAZ",2021,"68","SANTANDER","6815","CZ RESURGIR","68397","LA PAZ","Municipio","LA PAZ","68","SANTANDER",6.2173743699999999,-73.629771950999995]
["SANTANDERCZ RESURGIRLEBRÍJA",2021,"68","SANTANDER","6815","CZ RESURGIR","68406","LEBRÍJA","Municipio","LEBRIJA","68","SANTANDER",7.204060063,-73.291380974000006]
["SANTANDERCZ RESURGIRLOS SANTOS",2021,"68","SANTANDER","6815","CZ RESURGIR","68418","LOS SANTOS","Municipio","LOS SANTOS","68","SANTANDER",6.8121629339999998,-73.107850857000003]
["SANTANDERCZ RESURGIRMACARAVITA",2021,"68","SANTANDER","6815","CZ RESURGIR","68425","MACARAVITA","Municipio","MACARAVITA","68","SANTANDER",6.5137453030000003,-72.585364919]
["SANTANDERCZ RESURGIRMÁLAGA",2021,"68","SANTANDER","6815","CZ RESURGIR","68432","MÁLAGA","Municipio","MÁLAGA","68","SANTANDER",6.7202223490000002,-72.738410913999999]
["SANTANDERCZ RESURGIRMATANZA",2021,"68","SANTANDER","6815","CZ RESURGIR","68444","MATANZA","Municipio","MATANZA","68","SANTANDER",7.348778319,-73.054389972999999]
["SANTANDERCZ RESURGIRMOGOTES",2021,"68","SANTANDER","6815","CZ RESURGIR","68464","MOGOTES","Municipio","MOGOTES","68","SANTANDER",6.4925323150000001,-72.958347724000006]
["SANTANDERCZ RESURGIRMOLAGAVITA",2021,"68","SANTANDER","6815","CZ RESURGIR","68468","MOLAGAVITA","Municipio","MOLAGAVITA","68","SANTANDER",6.6432905590000004,-72.819162739000006]
["SANTANDERCZ RESURGIROCAMONTE",2021,"68","SANTANDER","6815","CZ RESURGIR","68498","OCAMONTE","Municipio","OCAMONTE","68","SANTANDER",6.3553688580000003,-73.122118330999996]
["SANTANDERCZ RESURGIROIBA",2021,"68","SANTANDER","6815","CZ RESURGIR","68500","OIBA","Municipio","OIBA","68","SANTANDER",6.2255962159999996,-73.279615152999995]
["SANTANDERCZ RESURGIRONZAGA",2021,"68","SANTANDER","6815","CZ RESURGIR","68502","ONZAGA","Municipio","ONZAGA","68","SANTANDER",6.3351945479999996,-72.812058375999996]
["SANTANDERCZ RESURGIRPALMAR",2021,"68","SANTANDER","6815","CZ RESURGIR","68522","PALMAR","Municipio","PALMAR","68","SANTANDER",6.5258769640000001,-73.282473370999995]
["SANTANDERCZ RESURGIRPALMAS DEL SOCORRO",2021,"68","SANTANDER","6815","CZ RESURGIR","68524","PALMAS DEL SOCORRO","Municipio","PALMAS DEL SOCORRO","68","SANTANDER",6.391750107,-73.282731742999999]
["SANTANDERCZ RESURGIRPÁRAMO",2021,"68","SANTANDER","6815","CZ RESURGIR","68533","PÁRAMO","Municipio","PÁRAMO","68","SANTANDER",6.4166311309999999,-73.171482319000006]
["SANTANDERCZ RESURGIRPIEDECUESTA",2021,"68","SANTANDER","6815","CZ RESURGIR","68547","PIEDECUESTA","Municipio","PIEDECUESTA","68","SANTANDER",6.9708210399999997,-73.014811964000003]
["SANTANDERCZ RESURGIRPINCHOTE",2021,"68","SANTANDER","6815","CZ RESURGIR","68549","PINCHOTE","Municipio","PINCHOTE","68","SANTANDER",6.5138926259999996,-73.175709862999994]
["SANTANDERCZ RESURGIRPUENTE NACIONAL",2021,"68","SANTANDER","6815","CZ RESURGIR","68572","PUENTE NACIONAL","Municipio","PUENTE NACIONAL","68","SANTANDER",5.8311299060000001,-73.678418152999996]
["SANTANDERCZ RESURGIRPUERTO PARRA",2021,"68","SANTANDER","6815","CZ RESURGIR","68573","PUERTO PARRA","Municipio","PUERTO PARRA","68","SANTANDER",6.685278856,-73.957612557999994]
["SANTANDERCZ RESURGIRPUERTO WILCHES",2021,"68","SANTANDER","6815","CZ RESURGIR","68575","PUERTO WILCHES","Municipio","PUERTO WILCHES","68","SANTANDER",7.3981982569999998,-73.835469603999996]
["SANTANDERCZ RESURGIRRIONEGRO",2021,"68","SANTANDER","6815","CZ RESURGIR","68615","RIONEGRO","Municipio","RIONEGRO","68","SANTANDER",7.4742260849999997,-73.372464171999994]
["SANTANDERCZ RESURGIRSABANA DE TORRES",2021,"68","SANTANDER","6815","CZ RESURGIR","68655","SABANA DE TORRES","Municipio","SABANA DE TORRES","68","SANTANDER",7.4065421999999996,-73.571318074000004]
["SANTANDERCZ RESURGIRSAN ANDRÉS",2021,"68","SANTANDER","6815","CZ RESURGIR","68669","SAN ANDRÉS","Municipio","SAN ANDRÉS","68","SANTANDER",6.7964830630000002,-72.816132022999994]
["SANTANDERCZ RESURGIRSAN BENITO",2021,"68","SANTANDER","6815","CZ RESURGIR","68673","SAN BENITO","Municipio","SAN BENITO","68","SANTANDER",6.0765253550000002,-73.552953017999997]
["SANTANDERCZ RESURGIRSAN GIL",2021,"68","SANTANDER","6815","CZ RESURGIR","68679","SAN GIL","Municipio","SAN GIL","68","SANTANDER",6.5507787649999996,-73.118879110999998]
["SANTANDERCZ RESURGIRSAN JOAQUÍN",2021,"68","SANTANDER","6815","CZ RESURGIR","68682","SAN JOAQUÍN","Municipio","SAN JOAQUÍN","68","SANTANDER",6.4598798229999996,-72.854718829999996]
["SANTANDERCZ RESURGIRSAN JOSÉ DE MIRANDA",2021,"68","SANTANDER","6815","CZ RESURGIR","68684","SAN JOSÉ DE MIRANDA","Municipio","SAN JOSÉ DE MIRANDA","68","SANTANDER",6.6294001849999997,-72.739764226999995]
["SANTANDERCZ RESURGIRSAN MIGUEL",2021,"68","SANTANDER","6815","CZ RESURGIR","68686","SAN MIGUEL","Municipio","SAN MIGUEL","68","SANTANDER",6.568121541,-72.643224967999998]
["SANTANDERCZ RESURGIRSAN VICENTE DE CHUCURÍ",2021,"68","SANTANDER","6815","CZ RESURGIR","68689","SAN VICENTE DE CHUCURÍ","Municipio","SAN VICENTE DE CHUCURÍ","68","SANTANDER",6.8942923460000003,-73.539003335999993]
["SANTANDERCZ RESURGIRSANTA BÁRBARA",2021,"68","SANTANDER","6815","CZ RESURGIR","68705","SANTA BÁRBARA","Municipio","SANTA BÁRBARA","68","SANTANDER",6.9880847109999999,-72.896089333999996]
["SANTANDERCZ RESURGIRSANTA HELENA DEL OPÓN",2021,"68","SANTANDER","6815","CZ RESURGIR","68720","SANTA HELENA DEL OPÓN","Municipio","SANTA HELENA DEL OPÓN","68","SANTANDER",6.4089073399999998,-73.582066088999994]
["SANTANDERCZ RESURGIRSIMACOTA",2021,"68","SANTANDER","6815","CZ RESURGIR","68745","SIMACOTA","Municipio","SIMACOTA","68","SANTANDER",6.4942315510000004,-73.459109916000003]
["SANTANDERCZ RESURGIRSOCORRO",2021,"68","SANTANDER","6815","CZ RESURGIR","68755","SOCORRO","Municipio","SOCORRO","68","SANTANDER",6.462088241,-73.244360009000005]
["SANTANDERCZ RESURGIRSUAITA",2021,"68","SANTANDER","6815","CZ RESURGIR","68770","SUAITA","Municipio","SUAITA","68","SANTANDER",6.1014997390000003,-73.362257946]
["SANTANDERCZ RESURGIRSUCRE",2021,"68","SANTANDER","6815","CZ RESURGIR","68773","SUCRE","Municipio","SUCRE","68","SANTANDER",5.9832037339999999,-73.959362354000007]
["SANTANDERCZ RESURGIRSURATÁ",2021,"68","SANTANDER","6815","CZ RESURGIR","68780","SURATÁ","Municipio","SURATÁ","68","SANTANDER",7.4754020629999998,-72.987799659000004]
["SANTANDERCZ RESURGIRTONA",2021,"68","SANTANDER","6815","CZ RESURGIR","68820","TONA","Municipio","TONA","68","SANTANDER",7.1708910990000003,-72.939704433000003]
["SANTANDERCZ RESURGIRVALLE DE SAN JOSÉ",2021,"68","SANTANDER","6815","CZ RESURGIR","68855","VALLE DE SAN JOSÉ","Municipio","VALLE DE SAN JOSÉ","68","SANTANDER",6.4345789189999998,-73.109971709999996]
["SANTANDERCZ RESURGIRVÉLEZ",2021,"68","SANTANDER","6815","CZ RESURGIR","68861","VÉLEZ","Municipio","VÉLEZ","68","SANTANDER",6.0074104300000002,-73.690572558]
["SANTANDERCZ RESURGIRVETAS",2021,"68","SANTANDER","6815","CZ RESURGIR","68867","VETAS","Municipio","VETAS","68","SANTANDER",7.322219563,-72.881569005000003]
["SANTANDERCZ RESURGIRVILLANUEVA",2021,"68","SANTANDER","6815","CZ RESURGIR","68872","VILLANUEVA","Municipio","VILLANUEVA","68","SANTANDER",6.6858673260000003,-73.163969159999994]
["SANTANDERCZ RESURGIRZAPATOCA",2021,"68","SANTANDER","6815","CZ RESURGIR","68895","ZAPATOCA","Municipio","ZAPATOCA","68","SANTANDER",6.8137255659999996,-73.309750442999999]
["SUCREREGIONAL SUCRESEDE REGIONAL",2021,"70","SUCRE","7000","REGIONAL SUCRE","70900","SEDE REGIONAL","N/A","N/A","70","SUCRE","N/A","N/A"]
["SUCRECZ BOSTONBUENAVISTA",2021,"70","SUCRE","7001","CZ BOSTON","70110","BUENAVISTA","Municipio","BUENAVISTA","70","SUCRE",9.3149722819999994,-74.980140573]
["SUCRECZ BOSTONCOROZAL",2021,"70","SUCRE","7001","CZ BOSTON","70215","COROZAL","Municipio","COROZAL","70","SUCRE",9.1606242830000006,-75.238581776999993]
["SUCRECZ BOSTONEL ROBLE",2021,"70","SUCRE","7001","CZ BOSTON","70233","EL ROBLE","Municipio","EL ROBLE","70","SUCRE",9.036231591,-75.145750378000002]
["SUCRECZ BOSTONGALERAS",2021,"70","SUCRE","7001","CZ BOSTON","70235","GALERAS","Municipio","GALERAS","70","SUCRE",9.1351690960000003,-74.981347056999994]
["SUCRECZ BOSTONLOS PALMITOS",2021,"70","SUCRE","7001","CZ BOSTON","70418","LOS PALMITOS","Municipio","LOS PALMITOS","70","SUCRE",9.4223801169999994,-75.213021909999995]
["SUCRECZ BOSTONMORROA",2021,"70","SUCRE","7001","CZ BOSTON","70473","MORROA","Municipio","MORROA","70","SUCRE",9.3924966849999993,-75.327187441999996]
["SUCRECZ BOSTONOVEJAS",2021,"70","SUCRE","7001","CZ BOSTON","70508","OVEJAS","Municipio","OVEJAS","70","SUCRE",9.5496552710000007,-75.188559161000001]
["SUCRECZ BOSTONSAMPUÉS",2021,"70","SUCRE","7001","CZ BOSTON","70670","SAMPUÉS","Municipio","SAMPUÉS","70","SUCRE",9.1651886489999992,-75.360274216999997]
["SUCRECZ BOSTONSAN JUAN DE BETULIA",2021,"70","SUCRE","7001","CZ BOSTON","70702","SAN JUAN DE BETULIA","Municipio","SAN JUAN DE BETULIA","70","SUCRE",9.2920190710000004,-75.213635784999994]
["SUCRECZ BOSTONSAN PEDRO",2021,"70","SUCRE","7001","CZ BOSTON","70717","SAN PEDRO","Municipio","SAN PEDRO","70","SUCRE",9.3968356380000007,-75.037418148]
["SUCRECZ BOSTONSAN LUIS DE SINCÉ",2021,"70","SUCRE","7001","CZ BOSTON","70742","SAN LUIS DE SINCÉ","Municipio","SAN LUIS DE SINCÉ","70","SUCRE",9.2562990470000006,-75.093970889000005]
["SUCRECZ NORTECAIMITO",2021,"70","SUCRE","7002","CZ NORTE","70124","CAIMITO","Municipio","CAIMITO","70","SUCRE",8.7923115989999996,-75.131910629000004]
["SUCRECZ NORTECOLOSO",2021,"70","SUCRE","7002","CZ NORTE","70204","COLOSO","Municipio","COLOSÓ","70","SUCRE",9.4940434269999994,-75.345286931000004]
["SUCRECZ NORTECOVEÑAS",2021,"70","SUCRE","7002","CZ NORTE","70221","COVEÑAS","Municipio","COVEÑAS","70","SUCRE",9.3944498020000005,-75.657491500000006]
["SUCRECZ NORTECHALÁN",2021,"70","SUCRE","7002","CZ NORTE","70230","CHALÁN","Municipio","CHALÁN","70","SUCRE",9.5695845980000005,-75.324209074999999]
["SUCRECZ NORTELA UNIÓN",2021,"70","SUCRE","7002","CZ NORTE","70400","LA UNIÓN","Municipio","LA UNIÓN","70","SUCRE",8.8119977990000002,-75.283222116000005]
["SUCRECZ NORTEPALMITO",2021,"70","SUCRE","7002","CZ NORTE","70523","PALMITO","Municipio","PALMITO","70","SUCRE",9.3349402930000007,-75.561990273000006]
["SUCRECZ NORTESAN BENITO ABAD",2021,"70","SUCRE","7002","CZ NORTE","70678","SAN BENITO ABAD","Municipio","SAN BENITO ABAD","70","SUCRE",8.8356349190000003,-74.964693983000004]
["SUCRECZ NORTESAN MARCOS",2021,"70","SUCRE","7002","CZ NORTE","70708","SAN MARCOS","Municipio","SAN MARCOS","70","SUCRE",8.5892201020000005,-75.172499548999994]
["SUCRECZ NORTESAN ONOFRE",2021,"70","SUCRE","7002","CZ NORTE","70713","SAN ONOFRE","Municipio","SAN ONOFRE","70","SUCRE",9.8145995359999993,-75.505229192000002]
["SUCRECZ NORTESANTIAGO DE TOLÚ",2021,"70","SUCRE","7002","CZ NORTE","70820","SANTIAGO DE TOLÚ","Municipio","SANTIAGO DE TOLÚ","70","SUCRE",9.5338105669999997,-75.535434694000003]
["SUCRECZ NORTESAN JOSÉ DE TOLUVIEJO",2021,"70","SUCRE","7002","CZ NORTE","70823","SAN JOSÉ DE TOLUVIEJO","Municipio","SAN JOSÉ DE TOLUVIEJO","70","SUCRE",9.4902977160000006,-75.444511153999997]
["SUCRECZ SINCELEJOSINCELEJO",2021,"70","SUCRE","7003","CZ SINCELEJO","70001","SINCELEJO","Municipio","SINCELEJO","70","SUCRE",9.3166739280000002,-75.431749664999998]
["SUCRECZ LA MOJANAGUARANDA",2021,"70","SUCRE","7004","CZ LA MOJANA","70265","GUARANDA","Municipio","GUARANDA","70","SUCRE",8.3378285230000007,-74.687349255000001]
["SUCRECZ LA MOJANAMAJAGUAL",2021,"70","SUCRE","7004","CZ LA MOJANA","70429","MAJAGUAL","Municipio","MAJAGUAL","70","SUCRE",8.5461481339999992,-74.710378833999997]
["SUCRECZ LA MOJANASUCRE",2021,"70","SUCRE","7004","CZ LA MOJANA","70771","SUCRE","Municipio","SUCRE","70","SUCRE",8.8143334769999999,-74.747531312000007]
["TOLIMAREGIONAL TOLIMASEDE REGIONAL",2021,"73","TOLIMA","7300","REGIONAL TOLIMA","73900","SEDE REGIONAL","N/A","N/A","73","TOLIMA","N/A","N/A"]
["TOLIMACZ JORDANIBAGUÉ",2021,"73","TOLIMA","7301","CZ JORDAN","73001","IBAGUÉ","Municipio","IBAGUÉ","73","TOLIMA",4.4519214270000003,-75.252590995000006]
["TOLIMACZ JORDANALVARADO",2021,"73","TOLIMA","7301","CZ JORDAN","73026","ALVARADO","Municipio","ALVARADO","73","TOLIMA",4.5826257840000002,-74.986306855999999]
["TOLIMACZ JORDANPIEDRAS",2021,"73","TOLIMA","7301","CZ JORDAN","73547","PIEDRAS","Municipio","PIEDRAS","73","TOLIMA",4.4337644459999996,-74.998799379999994]
["TOLIMACZ JORDANSAN LUIS",2021,"73","TOLIMA","7301","CZ JORDAN","73678","SAN LUIS","Municipio","SAN LUIS","73","TOLIMA",4.0572716839999998,-75.163208054999998]
["TOLIMACZ JORDANVALLE DE SAN JUAN",2021,"73","TOLIMA","7301","CZ JORDAN","73854","VALLE DE SAN JUAN","Municipio","VALLE DE SAN JUAN","73","TOLIMA",4.1821256470000003,-75.171482367999999]
["TOLIMACZ JORDANCAJAMARCA",2021,"73","TOLIMA","7301","CZ JORDAN","73124","CAJAMARCA","Municipio","CAJAMARCA","73","TOLIMA",4.4069712829999999,-75.497459183000004]
["TOLIMACZ JORDANROVIRA",2021,"73","TOLIMA","7301","CZ JORDAN","73624","ROVIRA","Municipio","ROVIRA","73","TOLIMA",4.216730954,-75.347583635000007]
["TOLIMACZ GALANIBAGUÉ",2021,"73","TOLIMA","7302","CZ GALAN","73001","IBAGUÉ","Municipio","IBAGUÉ","73","TOLIMA",4.4519214270000003,-75.252590995000006]
["TOLIMACZ GALANCAJAMARCA",2021,"73","TOLIMA","7302","CZ GALAN","73124","CAJAMARCA","Municipio","CAJAMARCA","73","TOLIMA",4.4069712829999999,-75.497459183000004]
["TOLIMACZ GALANRONCESVALLES",2021,"73","TOLIMA","7302","CZ GALAN","73622","RONCESVALLES","Municipio","RONCESVALLES","73","TOLIMA",4.0978611809999999,-75.594280268000006]
["TOLIMACZ GALANROVIRA",2021,"73","TOLIMA","7302","CZ GALAN","73624","ROVIRA","Municipio","ROVIRA","73","TOLIMA",4.216730954,-75.347583635000007]
["TOLIMACZ IBAGUEIBAGUÉ",2021,"73","TOLIMA","7303","CZ IBAGUE","73001","IBAGUÉ","Municipio","IBAGUÉ","73","TOLIMA",4.4519214270000003,-75.252590995000006]
["TOLIMACZ IBAGUEALVARADO",2021,"73","TOLIMA","7303","CZ IBAGUE","73026","ALVARADO","Municipio","ALVARADO","73","TOLIMA",4.5826257840000002,-74.986306855999999]
["TOLIMACZ IBAGUECAJAMARCA",2021,"73","TOLIMA","7303","CZ IBAGUE","73124","CAJAMARCA","Municipio","CAJAMARCA","73","TOLIMA",4.4069712829999999,-75.497459183000004]
["TOLIMACZ IBAGUEPIEDRAS",2021,"73","TOLIMA","7303","CZ IBAGUE","73547","PIEDRAS","Municipio","PIEDRAS","73","TOLIMA",4.4337644459999996,-74.998799379999994]
["TOLIMACZ IBAGUERONCESVALLES",2021,"73","TOLIMA","7303","CZ IBAGUE","73622","RONCESVALLES","Municipio","RONCESVALLES","73","TOLIMA",4.0978611809999999,-75.594280268000006]
["TOLIMACZ IBAGUEROVIRA",2021,"73","TOLIMA","7303","CZ IBAGUE","73624","ROVIRA","Municipio","ROVIRA","73","TOLIMA",4.216730954,-75.347583635000007]
["TOLIMACZ IBAGUESAN LUIS",2021,"73","TOLIMA","7303","CZ IBAGUE","73678","SAN LUIS","Municipio","SAN LUIS","73","TOLIMA",4.0572716839999998,-75.163208054999998]
["TOLIMACZ IBAGUEVALLE DE SAN JUAN",2021,"73","TOLIMA","7303","CZ IBAGUE","73854","VALLE DE SAN JUAN","Municipio","VALLE DE SAN JUAN","73","TOLIMA",4.1821256470000003,-75.171482367999999]
["TOLIMACZ LIBANOCASABIANCA",2021,"73","TOLIMA","7304","CZ LIBANO","73152","CASABIANCA","Municipio","CASABIANCA","73","TOLIMA",5.0070039480000004,-75.194577026999994]
["TOLIMACZ LIBANOLÍBANO",2021,"73","TOLIMA","7304","CZ LIBANO","73411","LÍBANO","Municipio","LÍBANO","73","TOLIMA",4.8779367550000003,-75.047630756999993]
["TOLIMACZ LIBANOMURILLO",2021,"73","TOLIMA","7304","CZ LIBANO","73461","MURILLO","Municipio","MURILLO","73","TOLIMA",4.8267344679999997,-75.219939865000001]
["TOLIMACZ LIBANOVILLAHERMOSA",2021,"73","TOLIMA","7304","CZ LIBANO","73870","VILLAHERMOSA","Municipio","VILLAHERMOSA","73","TOLIMA",4.9657534610000003,-75.155929690999997]
["TOLIMACZ LERIDAAMBALEMA",2021,"73","TOLIMA","7305","CZ LERIDA","73030","AMBALEMA","Municipio","AMBALEMA","73","TOLIMA",4.8033652460000003,-74.809986760000001]
["TOLIMACZ LERIDAANZOÁTEGUI",2021,"73","TOLIMA","7305","CZ LERIDA","73043","ANZOÁTEGUI","Municipio","ANZOÁTEGUI","73","TOLIMA",4.6233904539999999,-75.201654227000006]
["TOLIMACZ LERIDAARMERO",2021,"73","TOLIMA","7305","CZ LERIDA","73055","ARMERO","Municipio","ARMERO","73","TOLIMA",5.0067589559999996,-74.847500948999993]
["TOLIMACZ LERIDALÉRIDA",2021,"73","TOLIMA","7305","CZ LERIDA","73408","LÉRIDA","Municipio","LÉRIDA","73","TOLIMA",4.8660345920000001,-74.923371783999997]
["TOLIMACZ LERIDASANTA ISABEL",2021,"73","TOLIMA","7305","CZ LERIDA","73686","SANTA ISABEL","Municipio","SANTA ISABEL","73","TOLIMA",4.7408276220000003,-75.200699463000007]
["TOLIMACZ LERIDAVENADILLO",2021,"73","TOLIMA","7305","CZ LERIDA","73861","VENADILLO","Municipio","VENADILLO","73","TOLIMA",4.7098817200000003,-74.920898856999997]
["TOLIMACZ HONDAFALAN",2021,"73","TOLIMA","7306","CZ HONDA","73270","FALAN","Municipio","FALAN","73","TOLIMA",5.0792565979999997,-74.957033717000002]
["TOLIMACZ HONDAFRESNO",2021,"73","TOLIMA","7306","CZ HONDA","73283","FRESNO","Municipio","FRESNO","73","TOLIMA",5.1866948119999998,-75.052289947000006]
["TOLIMACZ HONDAHERVEO",2021,"73","TOLIMA","7306","CZ HONDA","73347","HERVEO","Municipio","HERVEO","73","TOLIMA",5.0685537829999996,-75.243229587000002]
["TOLIMACZ HONDAHONDA",2021,"73","TOLIMA","7306","CZ HONDA","73349","HONDA","Municipio","HONDA","73","TOLIMA",5.179416561,-74.783030937999996]
["TOLIMACZ HONDASAN SEBASTIÁN DE MARIQUITA",2021,"73","TOLIMA","7306","CZ HONDA","73443","SAN SEBASTIÁN DE MARIQUITA","Municipio","SAN SEBASTIÁN DE MARIQUITA","73","TOLIMA",5.2353225930000002,-74.906680890999993]
["TOLIMACZ HONDAPALOCABILDO",2021,"73","TOLIMA","7306","CZ HONDA","73520","PALOCABILDO","Municipio","PALOCABILDO","73","TOLIMA",5.0940357369999996,-75.018450494999996]
["TOLIMACZ ESPINALCOELLO",2021,"73","TOLIMA","7307","CZ ESPINAL","73200","COELLO","Municipio","COELLO","73","TOLIMA",4.3156038670000001,-74.914702556999998]
["TOLIMACZ ESPINALESPINAL",2021,"73","TOLIMA","7307","CZ ESPINAL","73268","ESPINAL","Municipio","ESPINAL","73","TOLIMA",4.1664769689999996,-74.893529408000006]
["TOLIMACZ ESPINALFLANDES",2021,"73","TOLIMA","7307","CZ ESPINAL","73275","FLANDES","Municipio","FLANDES","73","TOLIMA",4.2428132569999999,-74.837086378999999]
["TOLIMACZ ESPINALGUAMO",2021,"73","TOLIMA","7307","CZ ESPINAL","73319","GUAMO","Municipio","GUAMO","73","TOLIMA",4.0765013410000002,-74.976572869999998]
["TOLIMACZ ESPINALORTEGA",2021,"73","TOLIMA","7307","CZ ESPINAL","73504","ORTEGA","Municipio","ORTEGA","73","TOLIMA",3.9377939620000002,-75.278243144000001]
["TOLIMACZ ESPINALSUÁREZ",2021,"73","TOLIMA","7307","CZ ESPINAL","73770","SUÁREZ","Municipio","SUÁREZ","73","TOLIMA",3.969210629,-74.844487379]
["TOLIMACZ CHAPARRALATACO",2021,"73","TOLIMA","7308","CZ CHAPARRAL","73067","ATACO","Municipio","ATACO","73","TOLIMA",3.37749064,-75.613732571]
["TOLIMACZ CHAPARRALCHAPARRAL",2021,"73","TOLIMA","7308","CZ CHAPARRAL","73168","CHAPARRAL","Municipio","CHAPARRAL","73","TOLIMA",3.7436930839999998,-75.589866341999993]
["TOLIMACZ CHAPARRALPLANADAS",2021,"73","TOLIMA","7308","CZ CHAPARRAL","73555","PLANADAS","Municipio","PLANADAS","73","TOLIMA",3.09897343,-75.816844130000007]
["TOLIMACZ CHAPARRALRIOBLANCO",2021,"73","TOLIMA","7308","CZ CHAPARRAL","73616","RIOBLANCO","Municipio","RIOBLANCO","73","TOLIMA",3.4680775480000001,-75.854811025000004]
["TOLIMACZ CHAPARRALSAN ANTONIO",2021,"73","TOLIMA","7308","CZ CHAPARRAL","73675","SAN ANTONIO","Municipio","SAN ANTONIO","73","TOLIMA",3.926088268,-75.509910040999998]
["TOLIMACZ PURIFICACIONALPUJARRA",2021,"73","TOLIMA","7309","CZ PURIFICACION","73024","ALPUJARRA","Municipio","ALPUJARRA","73","TOLIMA",3.390015064,-74.940782325000001]
["TOLIMACZ PURIFICACIONCOYAIMA",2021,"73","TOLIMA","7309","CZ PURIFICACION","73217","COYAIMA","Municipio","COYAIMA","73","TOLIMA",3.7754902709999998,-75.147202131]
["TOLIMACZ PURIFICACIONDOLORES",2021,"73","TOLIMA","7309","CZ PURIFICACION","73236","DOLORES","Municipio","DOLORES","73","TOLIMA",3.5978632739999998,-74.802566734999999]
["TOLIMACZ PURIFICACIONNATAGAIMA",2021,"73","TOLIMA","7309","CZ PURIFICACION","73483","NATAGAIMA","Municipio","NATAGAIMA","73","TOLIMA",3.540518203,-75.122009993999995]
["TOLIMACZ PURIFICACIONPRADO",2021,"73","TOLIMA","7309","CZ PURIFICACION","73563","PRADO","Municipio","PRADO","73","TOLIMA",3.7291666490000002,-74.872477055999994]
["TOLIMACZ PURIFICACIONPURIFICACIÓN",2021,"73","TOLIMA","7309","CZ PURIFICACION","73585","PURIFICACIÓN","Municipio","PURIFICACIÓN","73","TOLIMA",3.854281614,-74.874511546999997]
["TOLIMACZ PURIFICACIONSALDAÑA",2021,"73","TOLIMA","7309","CZ PURIFICACION","73671","SALDAÑA","Municipio","SALDAÑA","73","TOLIMA",3.912542787,-75.018597615000004]
["TOLIMACZ MELGARCARMEN DE APICALÁ",2021,"73","TOLIMA","7312","CZ MELGAR","73148","CARMEN DE APICALÁ","Municipio","CARMEN DE APICALÁ","73","TOLIMA",4.1234167949999998,-74.747002456999994]
["TOLIMACZ MELGARCUNDAY",2021,"73","TOLIMA","7312","CZ MELGAR","73226","CUNDAY","Municipio","CUNDAY","73","TOLIMA",3.98252395,-74.689369076999995]
["TOLIMACZ MELGARICONONZO",2021,"73","TOLIMA","7312","CZ MELGAR","73352","ICONONZO","Municipio","ICONONZO","73","TOLIMA",4.1332763689999998,-74.539642568999994]
["TOLIMACZ MELGARMELGAR",2021,"73","TOLIMA","7312","CZ MELGAR","73449","MELGAR","Municipio","MELGAR","73","TOLIMA",4.1932154979999998,-74.605174973999993]
["TOLIMACZ MELGARVILLARRICA",2021,"73","TOLIMA","7312","CZ MELGAR","73873","VILLARRICA","Municipio","VILLARRICA","73","TOLIMA",3.8543840970000001,-74.618966231000002]
["VALLE DEL CAUCAREGIONAL VALLESEDE REGIONAL",2021,"76","VALLE DEL CAUCA","7600","REGIONAL VALLE","76900","SEDE REGIONAL","N/A","N/A","76","VALLE DEL CAUCA","N/A","N/A"]
["VALLE DEL CAUCACZ SURORIENTALCALI",2021,"76","VALLE DEL CAUCA","7601","CZ SURORIENTAL","76001","CALI","Municipio","CALI","76","VALLE DEL CAUCA",3.3990437230000001,-76.576492588999997]
["VALLE DEL CAUCACZ NORORIENTALCALI",2021,"76","VALLE DEL CAUCA","7602","CZ NORORIENTAL","76001","CALI","Municipio","CALI","76","VALLE DEL CAUCA",3.3990437230000001,-76.576492588999997]
["VALLE DEL CAUCACZ LADERACALI",2021,"76","VALLE DEL CAUCA","7603","CZ LADERA","76001","CALI","Municipio","CALI","76","VALLE DEL CAUCA",3.3990437230000001,-76.576492588999997]
["VALLE DEL CAUCACZ LADERADAGUA",2021,"76","VALLE DEL CAUCA","7603","CZ LADERA","76233","DAGUA","Municipio","DAGUA","76","VALLE DEL CAUCA",3.6498222180000002,-76.720393465000001]
["VALLE DEL CAUCACZ CENTROCALI",2021,"76","VALLE DEL CAUCA","7604","CZ CENTRO","76001","CALI","Municipio","CALI","76","VALLE DEL CAUCA",3.3990437230000001,-76.576492588999997]
["VALLE DEL CAUCACZ CENTRODAGUA",2021,"76","VALLE DEL CAUCA","7604","CZ CENTRO","76233","DAGUA","Municipio","DAGUA","76","VALLE DEL CAUCA",3.6498222180000002,-76.720393465000001]
["VALLE DEL CAUCACZ SURCALI",2021,"76","VALLE DEL CAUCA","7605","CZ SUR","76001","CALI","Municipio","CALI","76","VALLE DEL CAUCA",3.3990437230000001,-76.576492588999997]
["VALLE DEL CAUCACZ JAMUNDIJAMUNDÍ",2021,"76","VALLE DEL CAUCA","7606","CZ JAMUNDI","76364","JAMUNDÍ","Municipio","JAMUNDÍ","76","VALLE DEL CAUCA",3.2138923890000002,-76.627604177999999]
["VALLE DEL CAUCACZ YUMBOLA CUMBRE",2021,"76","VALLE DEL CAUCA","7607","CZ YUMBO","76377","LA CUMBRE","Municipio","LA CUMBRE","76","VALLE DEL CAUCA",3.694303106,-76.589899052000007]
["VALLE DEL CAUCACZ YUMBOVIJES",2021,"76","VALLE DEL CAUCA","7607","CZ YUMBO","76869","VIJES","Municipio","VIJES","76","VALLE DEL CAUCA",3.7436588899999999,-76.470647174999996]
["VALLE DEL CAUCACZ YUMBOYUMBO",2021,"76","VALLE DEL CAUCA","7607","CZ YUMBO","76892","YUMBO","Municipio","YUMBO","76","VALLE DEL CAUCA",3.5959136690000002,-76.510987900000003]
["VALLE DEL CAUCACZ PALMIRACANDELARIA",2021,"76","VALLE DEL CAUCA","7608","CZ PALMIRA","76130","CANDELARIA","Municipio","CANDELARIA","76","VALLE DEL CAUCA",3.382091564,-76.383176630999998]
["VALLE DEL CAUCACZ PALMIRAEL CERRITO",2021,"76","VALLE DEL CAUCA","7608","CZ PALMIRA","76248","EL CERRITO","Municipio","EL CERRITO","76","VALLE DEL CAUCA",3.6560728729999998,-76.308417836999993]
["VALLE DEL CAUCACZ PALMIRAFLORIDA",2021,"76","VALLE DEL CAUCA","7608","CZ PALMIRA","76275","FLORIDA","Municipio","FLORIDA","76","VALLE DEL CAUCA",3.3041042950000001,-76.164773066999999]
["VALLE DEL CAUCACZ PALMIRAGINEBRA",2021,"76","VALLE DEL CAUCA","7608","CZ PALMIRA","76306","GINEBRA","Municipio","GINEBRA","76","VALLE DEL CAUCA",3.7441044099999998,-76.190820040000006]
["VALLE DEL CAUCACZ PALMIRAPALMIRA",2021,"76","VALLE DEL CAUCA","7608","CZ PALMIRA","76520","PALMIRA","Municipio","PALMIRA","76","VALLE DEL CAUCA",3.5583928760000001,-76.227799720999997]
["VALLE DEL CAUCACZ PALMIRAPRADERA",2021,"76","VALLE DEL CAUCA","7608","CZ PALMIRA","76563","PRADERA","Municipio","PRADERA","76","VALLE DEL CAUCA",3.4206366500000001,-76.178418411999999]
["VALLE DEL CAUCACZ BUGAGUADALAJARA DE BUGA",2021,"76","VALLE DEL CAUCA","7609","CZ BUGA","76111","GUADALAJARA DE BUGA","Municipio","GUADALAJARA DE BUGA","76","VALLE DEL CAUCA",3.819854318,-75.983124184999994]
["VALLE DEL CAUCACZ BUGACALIMA",2021,"76","VALLE DEL CAUCA","7609","CZ BUGA","76126","CALIMA","Municipio","CALIMA","76","VALLE DEL CAUCA",3.9232716189999999,-76.642604837999997]
["VALLE DEL CAUCACZ BUGAGUACARÍ",2021,"76","VALLE DEL CAUCA","7609","CZ BUGA","76318","GUACARÍ","Municipio","GUACARÍ","76","VALLE DEL CAUCA",3.7594149909999999,-76.345182773000005]
["VALLE DEL CAUCACZ BUGARESTREPO",2021,"76","VALLE DEL CAUCA","7609","CZ BUGA","76606","RESTREPO","Municipio","RESTREPO","76","VALLE DEL CAUCA",3.8064949729999999,-76.534898533000003]
["VALLE DEL CAUCACZ BUGASAN PEDRO",2021,"76","VALLE DEL CAUCA","7609","CZ BUGA","76670","SAN PEDRO","Municipio","SAN PEDRO","76","VALLE DEL CAUCA",3.9814324399999999,-76.208361678000003]
["VALLE DEL CAUCACZ BUGAYOTOCO",2021,"76","VALLE DEL CAUCA","7609","CZ BUGA","76890","YOTOCO","Municipio","YOTOCO","76","VALLE DEL CAUCA",3.9041303539999999,-76.390804349000007]
["VALLE DEL CAUCACZ TULUAANDALUCÍA",2021,"76","VALLE DEL CAUCA","7610","CZ TULUA","76036","ANDALUCÍA","Municipio","ANDALUCÍA","76","VALLE DEL CAUCA",4.1533142280000002,-76.160633411000006]
["VALLE DEL CAUCACZ TULUABUGALAGRANDE",2021,"76","VALLE DEL CAUCA","7610","CZ TULUA","76113","BUGALAGRANDE","Municipio","BUGALAGRANDE","76","VALLE DEL CAUCA",4.1968529910000001,-76.089610303000001]
["VALLE DEL CAUCACZ TULUARIOFRÍO",2021,"76","VALLE DEL CAUCA","7610","CZ TULUA","76616","RIOFRÍO","Municipio","RIOFRÍO","76","VALLE DEL CAUCA",4.1095002980000004,-76.371054432999998]
["VALLE DEL CAUCACZ TULUATRUJILLO",2021,"76","VALLE DEL CAUCA","7610","CZ TULUA","76828","TRUJILLO","Municipio","TRUJILLO","76","VALLE DEL CAUCA",4.2332681159999996,-76.342926988000002]
["VALLE DEL CAUCACZ TULUATULUÁ",2021,"76","VALLE DEL CAUCA","7610","CZ TULUA","76834","TULUÁ","Municipio","TULUÁ","76","VALLE DEL CAUCA",4.0284079699999999,-76.032503793000004]
["VALLE DEL CAUCACZ SEVILLACAICEDONIA",2021,"76","VALLE DEL CAUCA","7611","CZ SEVILLA","76122","CAICEDONIA","Municipio","CAICEDONIA","76","VALLE DEL CAUCA",4.3089979730000003,-75.836725668]
["VALLE DEL CAUCACZ SEVILLASEVILLA",2021,"76","VALLE DEL CAUCA","7611","CZ SEVILLA","76736","SEVILLA","Municipio","SEVILLA","76","VALLE DEL CAUCA",4.1934119189999999,-75.888181633000002]
["VALLE DEL CAUCACZ ROLDANILLOBOLÍVAR",2021,"76","VALLE DEL CAUCA","7612","CZ ROLDANILLO","76100","BOLÍVAR","Municipio","BOLÍVAR","76","VALLE DEL CAUCA",4.3931188609999996,-76.349820385000001]
["VALLE DEL CAUCACZ ROLDANILLOEL DOVIO",2021,"76","VALLE DEL CAUCA","7612","CZ ROLDANILLO","76250","EL DOVIO","Municipio","EL DOVIO","76","VALLE DEL CAUCA",4.5399797289999997,-76.287627013000005]
["VALLE DEL CAUCACZ ROLDANILLOLA UNIÓN",2021,"76","VALLE DEL CAUCA","7612","CZ ROLDANILLO","76400","LA UNIÓN","Municipio","LA UNIÓN","76","VALLE DEL CAUCA",4.5379373909999998,-76.103289826999998]
["VALLE DEL CAUCACZ ROLDANILLOROLDANILLO",2021,"76","VALLE DEL CAUCA","7612","CZ ROLDANILLO","76622","ROLDANILLO","Municipio","ROLDANILLO","76","VALLE DEL CAUCA",4.4435718480000004,-76.168242492999994]
["VALLE DEL CAUCACZ ROLDANILLOTORO",2021,"76","VALLE DEL CAUCA","7612","CZ ROLDANILLO","76823","TORO","Municipio","TORO","76","VALLE DEL CAUCA",4.6384212790000001,-76.081061761000001]
["VALLE DEL CAUCACZ ROLDANILLOVERSALLES",2021,"76","VALLE DEL CAUCA","7612","CZ ROLDANILLO","76863","VERSALLES","Municipio","VERSALLES","76","VALLE DEL CAUCA",4.6442426409999999,-76.259244824999996]
["VALLE DEL CAUCACZ ROLDANILLOZARZAL",2021,"76","VALLE DEL CAUCA","7612","CZ ROLDANILLO","76895","ZARZAL","Municipio","ZARZAL","76","VALLE DEL CAUCA",4.3535987499999997,-76.050653362999995]
["VALLE DEL CAUCACZ CARTAGOALCALÁ",2021,"76","VALLE DEL CAUCA","7613","CZ CARTAGO","76020","ALCALÁ","Municipio","ALCALÁ","76","VALLE DEL CAUCA",4.6788971000000004,-75.782979316999999]
["VALLE DEL CAUCACZ CARTAGOANSERMANUEVO",2021,"76","VALLE DEL CAUCA","7613","CZ CARTAGO","76041","ANSERMANUEVO","Municipio","ANSERMANUEVO","76","VALLE DEL CAUCA",4.795927292,-76.029630487999995]
["VALLE DEL CAUCACZ CARTAGOARGELIA",2021,"76","VALLE DEL CAUCA","7613","CZ CARTAGO","76054","ARGELIA","Municipio","ARGELIA","76","VALLE DEL CAUCA",4.7042878640000003,-76.141649985000001]
["VALLE DEL CAUCACZ CARTAGOCARTAGO",2021,"76","VALLE DEL CAUCA","7613","CZ CARTAGO","76147","CARTAGO","Municipio","CARTAGO","76","VALLE DEL CAUCA",4.7068471599999997,-75.917908459000003]
["VALLE DEL CAUCACZ CARTAGOEL ÁGUILA",2021,"76","VALLE DEL CAUCA","7613","CZ CARTAGO","76243","EL ÁGUILA","Municipio","EL ÁGUILA","76","VALLE DEL CAUCA",4.9175628729999996,-76.066010008000006]
["VALLE DEL CAUCACZ CARTAGOEL CAIRO",2021,"76","VALLE DEL CAUCA","7613","CZ CARTAGO","76246","EL CAIRO","Municipio","EL CAIRO","76","VALLE DEL CAUCA",4.7560637010000004,-76.215028258000004]
["VALLE DEL CAUCACZ CARTAGOLA VICTORIA",2021,"76","VALLE DEL CAUCA","7613","CZ CARTAGO","76403","LA VICTORIA","Municipio","LA VICTORIA","76","VALLE DEL CAUCA",4.4835111420000002,-75.966773027000002]
["VALLE DEL CAUCACZ CARTAGOOBANDO",2021,"76","VALLE DEL CAUCA","7613","CZ CARTAGO","76497","OBANDO","Municipio","OBANDO","76","VALLE DEL CAUCA",4.597588666,-75.949199698000001]
["VALLE DEL CAUCACZ CARTAGOULLOA",2021,"76","VALLE DEL CAUCA","7613","CZ CARTAGO","76845","ULLOA","Municipio","ULLOA","76","VALLE DEL CAUCA",4.707718947,-75.778359026000004]
["VALLE DEL CAUCACZ BUENAVENTURABUENAVENTURA",2021,"76","VALLE DEL CAUCA","7614","CZ BUENAVENTURA","76109","BUENAVENTURA","Municipio","BUENAVENTURA","76","VALLE DEL CAUCA",3.4933407660000002,-77.118728314999998]
["VALLE DEL CAUCACZ RESTAURARCALI",2021,"76","VALLE DEL CAUCA","7620","CZ RESTAURAR","76001","CALI","Municipio","CALI","76","VALLE DEL CAUCA",3.3990437230000001,-76.576492588999997]
["ARAUCAREGIONAL ARAUCASEDE REGIONAL",2021,"81","ARAUCA","8100","REGIONAL ARAUCA","81900","SEDE REGIONAL","N/A","N/A","81","ARAUCA","N/A","N/A"]
["ARAUCACZ ARAUCAARAUCA",2021,"81","ARAUCA","8101","CZ ARAUCA","81001","ARAUCA","Municipio","ARAUCA","81","ARAUCA",6.7962808250000002,-70.509211528999998]
["ARAUCACZ ARAUCACRAVO NORTE",2021,"81","ARAUCA","8101","CZ ARAUCA","81220","CRAVO NORTE","Municipio","CRAVO NORTE","81","ARAUCA",6.39654349,-70.073811965999994]
["ARAUCACZ SARAVENACUBARÁ",2021,"81","ARAUCA","8102","CZ SARAVENA","15223","CUBARÁ","Municipio","CUBARÁ*","15","BOYACÁ",6.8869548780000001,-72.181562849000002]
["ARAUCACZ SARAVENAARAUQUITA",2021,"81","ARAUCA","8102","CZ SARAVENA","81065","ARAUQUITA","Municipio","ARAUQUITA","81","ARAUCA",6.7993383940000003,-71.298274293000006]
["ARAUCACZ SARAVENAFORTUL",2021,"81","ARAUCA","8102","CZ SARAVENA","81300","FORTUL","Municipio","FORTUL","81","ARAUCA",6.7509072339999996,-71.791242408000002]
["ARAUCACZ SARAVENASARAVENA",2021,"81","ARAUCA","8102","CZ SARAVENA","81736","SARAVENA","Municipio","SARAVENA","81","ARAUCA",6.9069417140000002,-71.850707567000001]
["ARAUCACZ TAMEPUERTO RONDÓN",2021,"81","ARAUCA","8103","CZ TAME","81591","PUERTO RONDÓN","Municipio","PUERTO RONDÓN","81","ARAUCA",6.4117618289999996,-70.966789641999995]
["ARAUCACZ TAMETAME",2021,"81","ARAUCA","8103","CZ TAME","81794","TAME","Municipio","TAME","81","ARAUCA",6.3906504789999996,-71.791786467999998]
["CASANAREREGIONAL CASANARESEDE REGIONAL",2021,"85","CASANARE","8500","REGIONAL CASANARE","85900","SEDE REGIONAL","N/A","N/A","85","CASANARE","N/A","N/A"]
["CASANARECZ YOPALYOPAL",2021,"85","CASANARE","8501","CZ YOPAL","85001","YOPAL","Municipio","YOPAL","85","CASANARE",5.242744761,-72.258028569999993]
["CASANARECZ YOPALAGUAZUL",2021,"85","CASANARE","8501","CZ YOPAL","85010","AGUAZUL","Municipio","AGUAZUL","85","CASANARE",5.126121886,-72.548210166999993]
["CASANARECZ YOPALCHAMEZA",2021,"85","CASANARE","8501","CZ YOPAL","85015","CHAMEZA","Municipio","CHÁMEZA","85","CASANARE",5.2284534039999997,-72.864968035999993]
["CASANARECZ YOPALMANÍ",2021,"85","CASANARE","8501","CZ YOPAL","85139","MANÍ","Municipio","MANÍ","85","CASANARE",4.6757694880000003,-72.212802726999996]
["CASANARECZ YOPALNUNCHÍA",2021,"85","CASANARE","8501","CZ YOPAL","85225","NUNCHÍA","Municipio","NUNCHÍA","85","CASANARE",5.5291812350000002,-72.092519370999995]
["CASANARECZ YOPALOROCUÉ",2021,"85","CASANARE","8501","CZ YOPAL","85230","OROCUÉ","Municipio","OROCUÉ","85","CASANARE",4.9151391330000003,-71.598739656999996]
["CASANARECZ YOPALRECETOR",2021,"85","CASANARE","8501","CZ YOPAL","85279","RECETOR","Municipio","RECETOR","85","CASANARE",5.2630685069999998,-72.770818306999999]
["CASANARECZ YOPALSAN LUIS DE PALENQUE",2021,"85","CASANARE","8501","CZ YOPAL","85325","SAN LUIS DE PALENQUE","Municipio","SAN LUIS DE PALENQUE","85","CASANARE",5.2749556650000002,-71.817492756999997]
["CASANARECZ PAZ DE ARIPOROHATO COROZAL",2021,"85","CASANARE","8502","CZ PAZ DE ARIPORO","85125","HATO COROZAL","Municipio","HATO COROZAL","85","CASANARE",6.03948032,-71.524457518000006]
["CASANARECZ PAZ DE ARIPOROLA SALINA",2021,"85","CASANARE","8502","CZ PAZ DE ARIPORO","85136","LA SALINA","Municipio","LA SALINA","85","CASANARE",6.178282373,-72.346933772]
["CASANARECZ PAZ DE ARIPOROPAZ DE ARIPORO",2021,"85","CASANARE","8502","CZ PAZ DE ARIPORO","85250","PAZ DE ARIPORO","Municipio","PAZ DE ARIPORO","85","CASANARE",5.7799152810000001,-70.869470370000002]
["CASANARECZ PAZ DE ARIPOROPORE",2021,"85","CASANARE","8502","CZ PAZ DE ARIPORO","85263","PORE","Municipio","PORE","85","CASANARE",5.6631949529999996,-71.925808058000001]
["CASANARECZ PAZ DE ARIPOROSÁCAMA",2021,"85","CASANARE","8502","CZ PAZ DE ARIPORO","85315","SÁCAMA","Municipio","SÁCAMA","85","CASANARE",6.0499064349999996,-72.210761632000001]
["CASANARECZ PAZ DE ARIPOROTÁMARA",2021,"85","CASANARE","8502","CZ PAZ DE ARIPORO","85400","TÁMARA","Municipio","TÁMARA","85","CASANARE",5.8789274239999996,-72.200678221000004]
["CASANARECZ PAZ DE ARIPOROTRINIDAD",2021,"85","CASANARE","8502","CZ PAZ DE ARIPORO","85430","TRINIDAD","Municipio","TRINIDAD","85","CASANARE",5.3545270909999996,-71.254795185999996]
["CASANARECZ VILLANUEVAMONTERREY",2021,"85","CASANARE","8503","CZ VILLANUEVA","85162","MONTERREY","Municipio","MONTERREY","85","CASANARE",4.8413086420000004,-72.847343398000007]
["CASANARECZ VILLANUEVASABANALARGA",2021,"85","CASANARE","8503","CZ VILLANUEVA","85300","SABANALARGA","Municipio","SABANALARGA","85","CASANARE",4.8111901100000001,-72.995806549999998]
["CASANARECZ VILLANUEVATAURAMENA",2021,"85","CASANARE","8503","CZ VILLANUEVA","85410","TAURAMENA","Municipio","TAURAMENA","85","CASANARE",4.6974636910000003,-72.629224356999998]
["CASANARECZ VILLANUEVAVILLANUEVA",2021,"85","CASANARE","8503","CZ VILLANUEVA","85440","VILLANUEVA","Municipio","VILLANUEVA","85","CASANARE",4.5283077189999998,-72.823142809999993]
["PUTUMAYOREGIONAL PUTUMAYOSEDE REGIONAL",2021,"86","PUTUMAYO","8600","REGIONAL PUTUMAYO","86900","SEDE REGIONAL","N/A","N/A","86","PUTUMAYO","N/A","N/A"]
["PUTUMAYOCZ MOCOAPIAMONTE",2021,"86","PUTUMAYO","8601","CZ MOCOA","19533","PIAMONTE","Municipio","PIAMONTE*","19","CAUCA",1.054128816,-76.444327103000006]
["PUTUMAYOCZ MOCOAMOCOA",2021,"86","PUTUMAYO","8601","CZ MOCOA","86001","MOCOA","Municipio","MOCOA","86","PUTUMAYO",1.2607091500000001,-76.665843491000004]
["PUTUMAYOCZ MOCOAPUERTO GUZMÁN",2021,"86","PUTUMAYO","8601","CZ MOCOA","86571","PUERTO GUZMÁN","Municipio","PUERTO GUZMÁN","86","PUTUMAYO",0.74643221500000001,-75.880229784999997]
["PUTUMAYOCZ MOCOAVILLAGARZON",2021,"86","PUTUMAYO","8601","CZ MOCOA","86885","VILLAGARZON","Municipio","VILLAGARZÓN","86","PUTUMAYO",0.91114951499999997,-76.744954473000007]
["PUTUMAYOCZ SIBUNDOYCOLÓN",2021,"86","PUTUMAYO","8602","CZ SIBUNDOY","86219","COLÓN","Municipio","COLÓN","86","PUTUMAYO",1.2048158760000001,-76.973768046999993]
["PUTUMAYOCZ SIBUNDOYSIBUNDOY",2021,"86","PUTUMAYO","8602","CZ SIBUNDOY","86749","SIBUNDOY","Municipio","SIBUNDOY","86","PUTUMAYO",1.228746922,-76.913075853999999]
["PUTUMAYOCZ SIBUNDOYSAN FRANCISCO",2021,"86","PUTUMAYO","8602","CZ SIBUNDOY","86755","SAN FRANCISCO","Municipio","SAN FRANCISCO","86","PUTUMAYO",1.136071096,-76.847266606000005]
["PUTUMAYOCZ SIBUNDOYSANTIAGO",2021,"86","PUTUMAYO","8602","CZ SIBUNDOY","86760","SANTIAGO","Municipio","SANTIAGO","86","PUTUMAYO",1.036021482,-76.977516835000003]
["PUTUMAYOCZ PUERTO ASISPUERTO ASÍS",2021,"86","PUTUMAYO","8603","CZ PUERTO ASIS","86568","PUERTO ASÍS","Municipio","PUERTO ASÍS","86","PUTUMAYO",0.43388453900000001,-76.521582034000005]
["PUTUMAYOCZ PUERTO ASISPUERTO CAICEDO",2021,"86","PUTUMAYO","8603","CZ PUERTO ASIS","86569","PUERTO CAICEDO","Municipio","PUERTO CAICEDO","86","PUTUMAYO",0.70416860999999997,-76.498644147999997]
["PUTUMAYOCZ PUERTO ASISPUERTO LEGUÍZAMO",2021,"86","PUTUMAYO","8603","CZ PUERTO ASIS","86573","PUERTO LEGUÍZAMO","Municipio","PUERTO LEGUÍZAMO","86","PUTUMAYO",5.9471970000100002E-2,-75.064793270999999]
["PUTUMAYOCZ LA HORMIGAORITO",2021,"86","PUTUMAYO","8604","CZ LA HORMIGA","86320","ORITO","Municipio","ORITO","86","PUTUMAYO",0.67375632299999999,-76.943139228999996]
["PUTUMAYOCZ LA HORMIGASAN MIGUEL",2021,"86","PUTUMAYO","8604","CZ LA HORMIGA","86757","SAN MIGUEL","Municipio","SAN MIGUEL","86","PUTUMAYO",0.27244904800000003,-76.845104586000005]
["PUTUMAYOCZ LA HORMIGAVALLE DEL GUAMUEZ",2021,"86","PUTUMAYO","8604","CZ LA HORMIGA","86865","VALLE DEL GUAMUEZ","Municipio","VALLE DEL GUAMUEZ","86","PUTUMAYO",0.42012589,-76.770670261999996]
["SAN ANDRÉSREGIONAL SAN ANDRESSEDE REGIONAL",2021,"88","SAN ANDRÉS","8800","REGIONAL SAN ANDRES","88900","SEDE REGIONAL","N/A","N/A","88","ARCHIPIÉLAGO DE SAN ANDRÉS, PROVIDENCIA Y SANTA CATALINA","N/A","N/A"]
["SAN ANDRÉSCZ LOS ALMENDROSSAN ANDRÉS",2021,"88","SAN ANDRÉS","8801","CZ LOS ALMENDROS","88001","SAN ANDRÉS","Isla","SAN ANDRÉS","88","ARCHIPIÉLAGO DE SAN ANDRÉS, PROVIDENCIA Y SANTA CATALINA",12.543115115999999,-81.717623824]
["SAN ANDRÉSCZ LOS ALMENDROSPROVIDENCIA",2021,"88","SAN ANDRÉS","8801","CZ LOS ALMENDROS","88564","PROVIDENCIA","Municipio","PROVIDENCIA","88","ARCHIPIÉLAGO DE SAN ANDRÉS, PROVIDENCIA Y SANTA CATALINA",13.351109599999999,-81.373885489000003]
["AMAZONASREGIONAL AMAZONASSEDE REGIONAL",2021,"91","AMAZONAS","9100","REGIONAL AMAZONAS","91900","SEDE REGIONAL","N/A","N/A","91","AMAZONAS","N/A","N/A"]
["AMAZONASCZ LETICIALETICIA",2021,"91","AMAZONAS","9102","CZ LETICIA","91001","LETICIA","Municipio","LETICIA","91","AMAZONAS",-3.5300587839999999,-70.045136909999997]
["AMAZONASCZ LETICIAEL ENCANTO",2021,"91","AMAZONAS","9102","CZ LETICIA","91263","EL ENCANTO","Área no municipalizada","EL ENCANTO","91","AMAZONAS",-1.997234795,-72.723615655000003]
["AMAZONASCZ LETICIALA CHORRERA",2021,"91","AMAZONAS","9102","CZ LETICIA","91405","LA CHORRERA","Área no municipalizada","LA CHORRERA","91","AMAZONAS",-1.509799605,-72.444429654999993]
["AMAZONASCZ LETICIALA PEDRERA",2021,"91","AMAZONAS","9102","CZ LETICIA","91407","LA PEDRERA","Área no municipalizada","LA PEDRERA","91","AMAZONAS",-1.550256503,-69.946028145]
["AMAZONASCZ LETICIALA VICTORIA",2021,"91","AMAZONAS","9102","CZ LETICIA","91430","LA VICTORIA","Área no municipalizada","LA VICTORIA","91","AMAZONAS",-0.12501638100000001,-71.104878047]
["AMAZONASCZ LETICIAMIRITI - PARANA",2021,"91","AMAZONAS","9102","CZ LETICIA","91460","MIRITI - PARANA","Área no municipalizada","MIRITÍ - PARANÁ","91","AMAZONAS",-0.68703755300000002,-71.185504597999994]
["AMAZONASCZ LETICIAPUERTO ALEGRIA",2021,"91","AMAZONAS","9102","CZ LETICIA","91530","PUERTO ALEGRIA","Área no municipalizada","PUERTO ALEGRÍA","91","AMAZONAS",-0.95214507299999995,-73.757227478000004]
["AMAZONASCZ LETICIAPUERTO ARICA",2021,"91","AMAZONAS","9102","CZ LETICIA","91536","PUERTO ARICA","Área no municipalizada","PUERTO ARICA","91","AMAZONAS",-1.9108540599999999,-71.148404894999999]
["AMAZONASCZ LETICIAPUERTO NARIÑO",2021,"91","AMAZONAS","9102","CZ LETICIA","91540","PUERTO NARIÑO","Municipio","PUERTO NARIÑO","91","AMAZONAS",-3.6313232219999998,-70.471990392999999]
["AMAZONASCZ LETICIAPUERTO SANTANDER",2021,"91","AMAZONAS","9102","CZ LETICIA","91669","PUERTO SANTANDER","Área no municipalizada","PUERTO SANTANDER","91","AMAZONAS",-1.1010326239999999,-71.938933582000004]
["AMAZONASCZ LETICIATARAPACA",2021,"91","AMAZONAS","9102","CZ LETICIA","91798","TARAPACA","Área no municipalizada","TARAPACÁ","91","AMAZONAS",-2.4517942640000001,-70.006515352999998]
["GUAINÍAREGIONAL GUAINIASEDE REGIONAL",2021,"94","GUAINÍA","9400","REGIONAL GUAINIA","94900","SEDE REGIONAL","N/A","N/A","94","GUAINÍA","N/A","N/A"]
["GUAINÍACZ INIRIDAINÍRIDA",2021,"94","GUAINÍA","9403","CZ INIRIDA","94001","INÍRIDA","Municipio","INÍRIDA","94","GUAINÍA",3.516363079,-68.008347279000006]
["GUAINÍACZ INIRIDABARRANCOMINAS",2021,"94","GUAINÍA","9403","CZ INIRIDA","94343","BARRANCOMINAS","Municipio","BARRANCOMINAS*","94","GUAINÍA",3.1405584540000002,-69.697134231000007]
["GUAINÍACZ INIRIDAMAPIRIPANA",2021,"94","GUAINÍA","9403","CZ INIRIDA","94663","MAPIRIPANA","Cabecera municipal","MAPIRIPANA*","94","GUAINÍA",2.8121411890000001,-70.476194559999996]
["GUAINÍACZ INIRIDASAN FELIPE",2021,"94","GUAINÍA","9403","CZ INIRIDA","94883","SAN FELIPE","Área no municipalizada","SAN FELIPE","94","GUAINÍA",2.3121797819999999,-67.520605688000003]
["GUAINÍACZ INIRIDAPUERTO COLOMBIA",2021,"94","GUAINÍA","9403","CZ INIRIDA","94884","PUERTO COLOMBIA","Área no municipalizada","PUERTO COLOMBIA","94","GUAINÍA",2.5828295419999998,-68.257990327000002]
["GUAINÍACZ INIRIDALA GUADALUPE",2021,"94","GUAINÍA","9403","CZ INIRIDA","94885","LA GUADALUPE","Área no municipalizada","LA GUADALUPE","94","GUAINÍA",1.4045402730000001,-67.001518000999994]
["GUAINÍACZ INIRIDACACAHUAL",2021,"94","GUAINÍA","9403","CZ INIRIDA","94886","CACAHUAL","Área no municipalizada","CACAHUAL","94","GUAINÍA",3.38616245,-67.585079984000004]
["GUAINÍACZ INIRIDAPANA PANA",2021,"94","GUAINÍA","9403","CZ INIRIDA","94887","PANA PANA","Área no municipalizada","PANA PANA","94","GUAINÍA",1.9810552939999999,-69.114400356000004]
["GUAINÍACZ INIRIDAMORICHAL",2021,"94","GUAINÍA","9403","CZ INIRIDA","94888","MORICHAL","Área no municipalizada","MORICHAL","94","GUAINÍA",2.4214448059999998,-69.84001585]
["GUAINÍACZ INIRIDACUMARIBO",2021,94,"GUAINÍA",9403,"CZ INIRIDA","99773","CUMARIBO","Municipio","CUMARIBO","99","VICHADA",4.2624547460000004,-69.521404834999998]
["GUAVIAREREGIONAL GUAVIARESEDE REGIONAL",2021,"95","GUAVIARE","9500","REGIONAL GUAVIARE","95900","SEDE REGIONAL","N/A","N/A","95","GUAVIARE","N/A","N/A"]
["GUAVIARECZ SAN JOSE DE GUAVIARESAN JOSÉ DEL GUAVIARE",2021,"95","GUAVIARE","9505","CZ SAN JOSE DE GUAVIARE","95001","SAN JOSÉ DEL GUAVIARE","Municipio","SAN JOSÉ DEL GUAVIARE","95","GUAVIARE",2.484286091,-71.919169925999995]
["GUAVIARECZ SAN JOSE DE GUAVIARECALAMAR",2021,"95","GUAVIARE","9505","CZ SAN JOSE DE GUAVIARE","95015","CALAMAR","Municipio","CALAMAR","95","GUAVIARE",1.613634284,-73.034263899999999]
["GUAVIARECZ SAN JOSE DE GUAVIAREEL RETORNO",2021,"95","GUAVIARE","9505","CZ SAN JOSE DE GUAVIARE","95025","EL RETORNO","Municipio","EL RETORNO","95","GUAVIARE",2.1434473619999999,-72.243648687000004]
["GUAVIARECZ SAN JOSE DE GUAVIAREMIRAFLORES",2021,"95","GUAVIARE","9505","CZ SAN JOSE DE GUAVIARE","95200","MIRAFLORES","Municipio","MIRAFLORES","95","GUAVIARE",1.3639749320000001,-72.018109504999998]
["VAUPÉSREGIONAL VAUPESSEDE REGIONAL",2021,"97","VAUPÉS","9700","REGIONAL VAUPES","97900","SEDE REGIONAL","N/A","N/A","97","VAUPÉS","N/A","N/A"]
["VAUPÉSCZ MITUMITÚ",2021,"97","VAUPÉS","9704","CZ MITU","97001","MITÚ","Municipio","MITÚ","97","VAUPÉS",1.0614823099999999,-70.466884010000001]
["VAUPÉSCZ MITUCARURU",2021,"97","VAUPÉS","9704","CZ MITU","97161","CARURU","Municipio","CARURÚ","97","VAUPÉS",1.052762314,-71.330930350000003]
["VAUPÉSCZ MITUPACOA",2021,"97","VAUPÉS","9704","CZ MITU","97511","PACOA","Área no municipalizada","PACOA","97","VAUPÉS",-8.3436399999600001E-3,-70.543306099000006]
["VAUPÉSCZ MITUTARAIRA",2021,"97","VAUPÉS","9704","CZ MITU","97666","TARAIRA","Municipio","TARAIRA","97","VAUPÉS",-0.71982220900000005,-69.907762015000003]
["VAUPÉSCZ MITUPAPUNAHUA",2021,"97","VAUPÉS","9704","CZ MITU","97777","PAPUNAHUA","Área no municipalizada","PAPUNAHUA","97","VAUPÉS",1.569312273,-70.911663146999999]
["VAUPÉSCZ MITUYAVARATE",2021,"97","VAUPÉS","9704","CZ MITU","97889","YAVARATE","Área no municipalizada","YAVARATÉ","97","VAUPÉS",0.83331224100000001,-69.618677543999993]
["VICHADAREGIONAL VICHADASEDE REGIONAL",2021,"99","VICHADA","9900","REGIONAL VICHADA","99900","SEDE REGIONAL","N/A","N/A","99","VICHADA","N/A","N/A"]
["VICHADACZ PUERTO CARREÑOPUERTO CARREÑO",2021,"99","VICHADA","9902","CZ PUERTO CARREÑO","99001","PUERTO CARREÑO","Municipio","PUERTO CARREÑO","99","VICHADA",5.8365296689999999,-68.141222335999998]
["VICHADACZ PUERTO CARREÑOLA PRIMAVERA",2021,"99","VICHADA","9902","CZ PUERTO CARREÑO","99524","LA PRIMAVERA","Municipio","LA PRIMAVERA","99","VICHADA",5.5175936070000002,-69.620440535]
["VICHADACZ PUERTO CARREÑOSANTA ROSALÍA",2021,"99","VICHADA","9902","CZ PUERTO CARREÑO","99624","SANTA ROSALÍA","Municipio","SANTA ROSALÍA","99","VICHADA",4.9685810119999996,-70.659970967999996]
["VICHADACZ PUERTO CARREÑOCUMARIBO",2021,"99","VICHADA","9902","CZ PUERTO CARREÑO","99773","CUMARIBO","Municipio","CUMARIBO","99","VICHADA",4.2624547460000004,-69.521404834999998]
[]
[null,"En la actualidad el país se compone de 1.102 municipios, 18 Áreas no municipalizadas y la Isla de San Andrés(1)."]
[null,"*En la actualidad el país se divide en 32 departamentos, adicionalmente para fines estadísticos se codifica como departamento y regional ICBF el Distrito Capital de Bogotá."]
[null,"*Por ubicación geográfica los municipios: Cubará (Boyacá) es atendido por Arauca, Santa Bárbara (Nariño) comparte atención con Cauca, lo mismo ocurre con Piamonte (Cauca) quien también es atendido por Putumayo."]
[null,"DANE: *Desde el 1 de diciembre de 2019 comenzó a regir la Ordenanza 248 de 2019 de la Asamblea Departamental de Guainía que crea el municipio de Barrancominas.\nconformado por las áreas no municipalizadas de Barrancominas y Mapiripana. Se incorporó en la DIVIPOLA en Mayo de 2020 una vez definida la información geográfica por el IGAC."]

{"sheet":"Reg_Cz","index":3,"n_rows":33,"n_cols":19,"rows_kept":33,"cut":false,"hidden":true,"merged":[]}
["ANTIOQUIACZ","CZ INTEGRAL NORORIENTAL","CZ INTEGRAL NOROCCIDENTAL","CZ SUR ORIENTE","CZ ABURRA NORTE","CZ ABURRA SUR","CZ BAJO CAUCA","CZ LA MESETA","CZ MAGDALENA MEDIO","CZ OCCIDENTE","CZ OCCIDENTE MEDIO","CZ ORIENTE","CZ PORCE NUS","CZ SUROESTE","CZ PENDERISCO","CZ URABA","CZ ORIENTE MEDIO","CZ LA FLORESTA","CZ ROSALES"]
["ATLÁNTICOCZ","CZ NORTE CENTRO HISTORICO","CZ SUROCCIDENTE","CZ BARANOA","CZ SABANALARGA","CZ SABANAGRANDE","CZ HIPODROMO","CZ SURORIENTE"]
["BOGOTÁ_D.C.CZ","CZ CIUDAD BOLIVAR","CZ TUNJUELITO","CZ USME","CZ SAN CRISTOBAL SUR","CZ KENNEDY","CZ REVIVIR","CZ PUENTE ARANDA","CZ BOSA","CZ RAFAEL URIBE","CZ SANTA FE","CZ FONTIBON","CZ BARRIOS UNIDOS","CZ ENGATIVA","CZ SUBA","CZ USAQUEN","CZ MARTIRES","CZ CREER","CZ KENNEDY CENTRAL"]
["BOLÍVARCZ","CZ HISTORICO Y DEL CARIBE NORTE","CZ DE LA VIRGEN Y TURISTICO","CZ INDUSTRIAL DE LA BAHIA","CZ TURBACO","CZ EL CARMEN DE BOLIVAR","CZ MAGANGUE","CZ MOMPOX","CZ SIMITI"]
["BOYACÁCZ","CZ TUNJA 1","CZ TUNJA 2","CZ SOGAMOSO","CZ DUITAMA","CZ CHIQUINQUIRA","CZ GARAGOA","CZ PUERTO BOYACA","CZ SOATA","CZ EL COCUY","CZ MIRAFLORES","CZ MONIQUIRA","CZ OTANCHE"]
["CALDASCZ","CZ MANIZALES 1","CZ MANIZALES 2","CZ OCCIDENTE","CZ ORIENTE","CZ NORTE","CZ SUR ORIENTE","CZ DEL CAFE"]
["CAQUETÁCZ","CZ FLORENCIA 1","CZ FLORENCIA 2","CZ PUERTO RICO","CZ BELEN DE LOS ANDAQUIES"]
["CAUCACZ","CZ POPAYAN","CZ CENTRO","CZ INDIGENA","CZ SUR","CZ NORTE","CZ MACIZO COLOMBIANO","CZ COSTA PACIFICA"]
["CESARCZ","CZ VALLEDUPAR 1","CZ VALLEDUPAR 2","CZ CHIRIGUANA","CZ AGUACHICA","CZ AGUSTIN CODAZZI"]
["CÓRDOBACZ","CZ 1 MONTERIA","CZ CERETE","CZ PLANETARICA","CZ TIERRALTA","CZ MONTELIBANO","CZ LORICA","CZ SAHAGUN","CZ SAN ANDRES DE SOTAVENTO"]
["CUNDINAMARCACZ","CZ SOACHA","CZ ZIPAQUIRA","CZ CHOCONTA","CZ PACHO","CZ VILLETA","CZ FACATATIVA","CZ FUSAGASUGA","CZ CAQUEZA","CZ GACHETA","CZ GIRARDOT","CZ LA MESA","CZ UBATE","CZ SAN JUAN DE RIOSECO","CZ SOACHA CENTRO"]
["CHOCÓCZ","CZ QUIBDO","CZ ISTMINA","CZ BAHIA SOLANO","CZ RIOSUCIO","CZ TADO"]
["HUILACZ","CZ NEIVA","CZ GARZON","CZ LA PLATA","CZ PITALITO","CZ LA GAITANA"]
["LA_GUAJIRACZ","CZ RIOHACHA 1","CZ RIOHACHA 2","CZ FONSECA","CZ MANAURE","CZ MAICAO","CZ NAZARETH"]
["MAGDALENACZ","CZ SANTA MARTA 1","CZ SANTA MARTA 2","CZ DEL RIO","CZ CIENAGA","CZ FUNDACIÓN","CZ PLATO","CZ EL BANCO","CZ SANTA ANA"]
["METACZ","CZ VILLAVICENCIO 1","CZ VILLAVICENCIO 2","CZ GRANADA","CZ ACACIAS","CZ PUERTO LOPEZ"]
["NARIÑOCZ","CZ PASTO 1","CZ PASTO 2","CZ TUMACO","CZ IPIALES","CZ TUQUERRES","CZ LA UNION","CZ BARBACOAS","CZ REMOLINO"]
["NORTE_DE_SANTANDERCZ","CZ CUCUTA 1","CZ CUCUTA 2","CZ CUCUTA 3","CZ OCAÑA","CZ PAMPLONA","CZ TIBU"]
["QUINDIOCZ","CZ ARMENIA SUR","CZ ARMENIA NORTE","CZ CALARCA"]
["RISARALDACZ","CZ PEREIRA","CZ LA VIRGINIA","CZ DOS QUEBRADAS","CZ BELEN DE UMBRIA","CZ SANTA ROSA DE CABAL"]
["SANTANDERCZ","CZ ANTONIA SANTOS","CZ BUCARAMANGA SUR","CZ CARLOS LLERAS RESTREPO","CZ LUIS CARLOS GALÁN SARMIENTO","CZ YARIQUIES","CZ LA FLORESTA","CZ SAN GIL","CZ SOCORRO","CZ VELEZ","CZ MALAGA","CZ RESURGIR"]
["SUCRECZ","CZ BOSTON","CZ NORTE","CZ SINCELEJO","CZ LA MOJANA"]
["TOLIMACZ","CZ JORDAN","CZ GALAN","CZ IBAGUE","CZ LIBANO","CZ LERIDA","CZ HONDA","CZ ESPINAL","CZ CHAPARRAL","CZ PURIFICACION","CZ MELGAR"]
["VALLE_DEL_CAUCACZ","CZ SURORIENTAL","CZ NORORIENTAL","CZ LADERA","CZ CENTRO","CZ SUR","CZ JAMUNDI","CZ YUMBO","CZ PALMIRA","CZ BUGA","CZ TULUA","CZ SEVILLA","CZ ROLDANILLO","CZ CARTAGO","CZ BUENAVENTURA","CZ RESTAURAR"]
["ARAUCACZ","CZ ARAUCA","CZ SARAVENA","CZ TAME"]
["CASANARECZ","CZ YOPAL","CZ PAZ DE ARIPORO","CZ VILLANUEVA"]
["PUTUMAYOCZ","CZ MOCOA","CZ SIBUNDOY","CZ PUERTO ASIS","CZ LA HORMIGA"]
["SAN_ANDRÉSCZ","CZ LOS ALMENDROS"]
["AMAZONASCZ","CZ LETICIA"]
["GUAINÍACZ","CZ INIRIDA"]
["GUAVIARECZ","CZ SAN JOSE DE GUAVIARE"]
["VAUPÉSCZ","CZ MITU"]
["VICHADACZ","CZ PUERTO CARREÑO"]

{"sheet":"Reg_CzMun","index":4,"n_rows":215,"n_cols":88,"rows_kept":215,"cut":false,"hidden":true,"merged":[]}
["ANTIOQUIACZ_INTEGRAL_NORORIENTALMUNI","MEDELLÍN"]
["ANTIOQUIACZ_INTEGRAL_NOROCCIDENTALMUNI","MEDELLÍN"]
["ANTIOQUIACZ_SUR_ORIENTEMUNI","MEDELLÍN"]
["ANTIOQUIACZ_ABURRA_NORTEMUNI","BARBOSA","BELMIRA","BELLO","COPACABANA","DON MATÍAS","ENTRERRIOS","GIRARDOTA","SAN PEDRO DE LOS MILAGROS"]
["ANTIOQUIACZ_ABURRA_SURMUNI","AMAGÁ","ANGELÓPOLIS","ARMENIA","CALDAS","ENVIGADO","FREDONIA","HELICONIA","ITAGUI","LA ESTRELLA","LA PINTADA","MONTEBELLO","SABANETA","SANTA BÁRBARA","TITIRIBÍ","VENECIA"]
["ANTIOQUIACZ_BAJO_CAUCAMUNI","CÁCERES","CAUCASIA","EL BAGRE","NECHÍ","TARAZÁ","ZARAGOZA"]
["ANTIOQUIACZ_LA_MESETAMUNI","ANGOSTURA","BRICEÑO","CAMPAMENTO","CAROLINA","GÓMEZ PLATA","GUADALUPE","ITUANGO","SAN ANDRÉS DE CUERQUÍA","SAN JOSÉ DE LA MONTAÑA","SANTA ROSA DE OSOS","TOLEDO","VALDIVIA","YARUMAL"]
["ANTIOQUIACZ_MAGDALENA_MEDIOMUNI","CARACOLÍ","MACEO","PUERTO BERRÍO","PUERTO NARE","PUERTO TRIUNFO","YONDÓ"]
["ANTIOQUIACZ_OCCIDENTEMUNI","SANTA FÉ DE ANTIOQUIA","ANZA","BURITICÁ","EBÉJICO","GIRALDO","LIBORINA","OLAYA","SABANALARGA","SAN JERÓNIMO","SOPETRÁN"]
["ANTIOQUIACZ_OCCIDENTE_MEDIOMUNI","ABRIAQUÍ","CAÑASGORDAS","DABEIBA","FRONTINO","PEQUE","URAMITA"]
["ANTIOQUIACZ_ORIENTEMUNI","ABEJORRAL","ALEJANDRÍA","ARGELIA","EL CARMEN DE VIBORAL","CONCEPCIÓN","GUARNE","GUATAPE","LA CEJA","LA UNIÓN","MARINILLA","NARIÑO","PEÑOL","RETIRO","RIONEGRO","SAN VICENTE FERRER","SONSON"]
["ANTIOQUIACZ_PORCE_NUSMUNI","AMALFI","ANORÍ","CISNEROS","REMEDIOS","SAN ROQUE","SANTO DOMINGO","SEGOVIA","VEGACHÍ","YALÍ","YOLOMBÓ"]
["ANTIOQUIACZ_SUROESTEMUNI","ANDES","BETANIA","CIUDAD BOLÍVAR","CARAMANTA","HISPANIA","JARDÍN","JERICÓ","PUEBLORRICO","SALGAR","TÁMESIS","TARSO","VALPARAÍSO"]
["ANTIOQUIACZ_PENDERISCOMUNI","BETULIA","CAICEDO","CONCORDIA","URRAO"]
["ANTIOQUIACZ_URABAMUNI","APARTADÓ","ARBOLETES","CAREPA","CHIGORODÓ","MURINDÓ","MUTATÁ","NECOCLÍ","SAN JUAN DE URABÁ","SAN PEDRO DE URABA","TURBO","VIGÍA DEL FUERTE"]
["ANTIOQUIACZ_ORIENTE_MEDIOMUNI","COCORNÁ","GRANADA","SAN CARLOS","SAN FRANCISCO","SAN LUIS","SAN RAFAEL","EL SANTUARIO"]
["ANTIOQUIACZ_LA_FLORESTAMUNI","MEDELLÍN","ANGELÓPOLIS","ARMENIA","BARBOSA","BELLO","CALDAS","COPACABANA","ENVIGADO","GIRARDOTA","HELICONIA","ITAGUI","LA ESTRELLA","SABANETA"]
["ANTIOQUIACZ_ROSALESMUNI","MEDELLÍN"]
["ATLÁNTICOCZ_NORTE_CENTRO_HISTORICOMUNI","BARRANQUILLA","PUERTO COLOMBIA"]
["ATLÁNTICOCZ_SUROCCIDENTEMUNI","BARRANQUILLA"]
["ATLÁNTICOCZ_BARANOAMUNI","BARANOA","GALAPA","JUAN DE ACOSTA","PIOJÓ","POLONUEVO","TUBARÁ","USIACURÍ"]
["ATLÁNTICOCZ_SABANALARGAMUNI","CANDELARIA","LURUACO","MANATÍ","REPELÓN","SABANALARGA"]
["ATLÁNTICOCZ_SABANAGRANDEMUNI","CAMPO DE LA CRUZ","PALMAR DE VARELA","PONEDERA","SABANAGRANDE","SANTA LUCÍA","SANTO TOMÁS","SUAN"]
["ATLÁNTICOCZ_HIPODROMOMUNI","MALAMBO","SOLEDAD"]
["ATLÁNTICOCZ_SURORIENTEMUNI","BARRANQUILLA"]
["BOGOTÁ_D.C.CZ_CIUDAD_BOLIVARMUNI","CIUDAD BOLIVAR"]
["BOGOTÁ_D.C.CZ_TUNJUELITOMUNI","TUNJUELITO"]
["BOGOTÁ_D.C.CZ_USMEMUNI","USME","SUMAPAZ"]
["BOGOTÁ_D.C.CZ_SAN_CRISTOBAL_SURMUNI","SAN CRISTOBAL SUR"]
["BOGOTÁ_D.C.CZ_KENNEDY_CENTRALMUNI","KENNEDY"]
["BOGOTÁ_D.C.CZ_KENNEDYMUNI","KENNEDY"]
["BOGOTÁ_D.C.CZ_REVIVIRMUNI","TEUSAQUILLO"]
["BOGOTÁ_D.C.CZ_PUENTE_ARANDAMUNI","PUENTE ARANDA"]
["BOGOTÁ_D.C.CZ_BOSAMUNI","BOSA"]
["BOGOTÁ_D.C.CZ_RAFAEL_URIBEMUNI","ANTONIO NARIÑO","RAFAEL URIBE"]
["BOGOTÁ_D.C.CZ_SANTA_FEMUNI","SANTA FE","LA CANDELARIA"]
["BOGOTÁ_D.C.CZ_FONTIBONMUNI","FONTIBON"]
["BOGOTÁ_D.C.CZ_BARRIOS_UNIDOSMUNI","CHAPINERO","BARRIOS UNIDOS","TEUSAQUILLO"]
["BOGOTÁ_D.C.CZ_ENGATIVAMUNI","ENGATIVA"]
["BOGOTÁ_D.C.CZ_SUBAMUNI","SUBA"]
["BOGOTÁ_D.C.CZ_USAQUENMUNI","USAQUEN"]
["BOGOTÁ_D.C.CZ_MARTIRESMUNI","MARTIRES","PUENTE ARANDA"]
["BOGOTÁ_D.C.CZ_CREERMUNI","BOGOTÁ DC"]
["BOLÍVARCZ_HISTORICO_Y_DEL_CARIBE_NORTEMUNI","CARTAGENA DE INDIAS"]
["BOLÍVARCZ_DE_LA_VIRGEN_Y_TURISTICOMUNI","CARTAGENA DE INDIAS","CLEMENCIA","SANTA CATALINA"]
["BOLÍVARCZ_INDUSTRIAL_DE_LA_BAHIAMUNI","CARTAGENA DE INDIAS","SAN CRISTÓBAL","SAN ESTANISLAO","SANTA ROSA","SOPLAVIENTO","VILLANUEVA"]
["BOLÍVARCZ_TURBACOMUNI","ARJONA","ARROYOHONDO","CALAMAR","MAHATES","MARÍA LA BAJA","TURBACO","TURBANÁ"]
["BOLÍVARCZ_EL_CARMEN_DE_BOLIVARMUNI","CÓRDOBA","EL CARMEN DE BOLÍVAR","EL GUAMO","SAN JACINTO","SAN JUAN NEPOMUCENO","ZAMBRANO"]
["BOLÍVARCZ_MAGANGUEMUNI","ACHÍ","MAGANGUÉ","MONTECRISTO","PINILLOS","SAN JACINTO DEL CAUCA","TIQUISIO"]
["BOLÍVARCZ_MOMPOXMUNI","ALTOS DEL ROSARIO","BARRANCO DE LOBA","CICUCO","EL PEÑÓN","HATILLO DE LOBA","MARGARITA","SANTA CRUZ DE MOMPOX","SAN FERNANDO","SAN MARTÍN DE LOBA","TALAIGUA NUEVO"]
["BOLÍVARCZ_SIMITIMUNI","ARENAL","CANTAGALLO","MORALES","NOROSI","REGIDOR","RÍO VIEJO","SAN PABLO","SANTA ROSA DEL SUR","SIMITÍ"]
["BOYACÁCZ_TUNJA_1MUNI","TUNJA","BOYACÁ","CHIVATÁ","CIÉNEGA","CÓMBITA","CUCAITA","CHÍQUIZA","JENESANO","VILLA DE LEYVA","MOTAVITA","NUEVO COLÓN","OICATÁ","RAMIRIQUÍ","RONDÓN","SÁCHICA","SAMACÁ","SIACHOQUE","SORA","SOTAQUIRÁ","SORACÁ","TIBANÁ","TOCA","TURMEQUÉ","TUTA","UMBITA","VENTAQUEMADA","VIRACACHÁ"]
["BOYACÁCZ_TUNJA_2MUNI","TUNJA","BOYACÁ","CHIVATÁ","CIÉNEGA","CÓMBITA","CUCAITA","CHÍQUIZA","JENESANO","VILLA DE LEYVA","MOTAVITA","NUEVO COLÓN","OICATÁ","RAMIRIQUÍ","RONDÓN","SÁCHICA","SAMACÁ","SIACHOQUE","SORA","SOTAQUIRÁ","SORACÁ","TIBANÁ","TOCA","TURMEQUÉ","TUTA","UMBITA","VENTAQUEMADA","VIRACACHÁ"]
["BOYACÁCZ_SOGAMOSOMUNI","AQUITANIA","CUÍTIVA","FIRAVITOBA","GAMEZA","IZA","LABRANZAGRANDE","MONGUA","MONGUÍ","PAJARITO","PAYA","PESCA","PISBA","SOGAMOSO","TÓPAGA","TOTA"]
["BOYACÁCZ_DUITAMAMUNI","BELÉN","BETÉITIVA","BUSBANZÁ","CERINZA","CORRALES","DUITAMA","FLORESTA","JERICÓ","NOBSA","PAIPA","PAZ DE RÍO","SANTA ROSA DE VITERBO","SOCOTÁ","SOCHA","TASCO","TIBASOSA","TUTAZÁ"]
["BOYACÁCZ_CHIQUINQUIRAMUNI","BUENAVISTA","CALDAS","CHIQUINQUIRÁ","COPER","LA VICTORIA","MARIPÍ","MUZO","QUÍPAMA","RÁQUIRA","SABOYÁ","SAN MIGUEL DE SEMA","SUTAMARCHÁN","TINJACÁ"]
["BOYACÁCZ_GARAGOAMUNI","ALMEIDA","CHINAVITA","CHIVOR","GARAGOA","GUATEQUE","GUAYATÁ","LA CAPILLA","MACANAL","PACHAVITA","SAN LUIS DE GACENO","SANTA MARÍA","SOMONDOCO","SUTATENZA","TENZA"]
["BOYACÁCZ_PUERTO_BOYACAMUNI","PUERTO BOYACÁ"]
["BOYACÁCZ_SOATAMUNI","BOAVITA","CHITA","COVARACHÍA","LA UVITA","SATIVANORTE","SATIVASUR","SOATÁ","SUSACÓN","TIPACOQUE"]
["BOYACÁCZ_EL_COCUYMUNI","CHISCAS","EL COCUY","EL ESPINO","GUACAMAYAS","GÜICÁN DE LA SIERRA","PANQUEBA","SAN MATEO"]
["BOYACÁCZ_MIRAFLORESMUNI","BERBEO","CAMPOHERMOSO","MIRAFLORES","PÁEZ","SAN EDUARDO","ZETAQUIRA"]
["BOYACÁCZ_MONIQUIRAMUNI","ARCABUCO","CHITARAQUE","GACHANTIVÁ","MONIQUIRÁ","SAN JOSÉ DE PARE","SANTANA","SANTA SOFÍA","TOGÜÍ"]
["BOYACÁCZ_OTANCHEMUNI","BRICEÑO","OTANCHE","PAUNA","SAN PABLO DE BORBUR","TUNUNGUÁ"]
["CALDASCZ_MANIZALES_1MUNI","MANIZALES","FILADELFIA","NEIRA","VILLAMARÍA"]
["CALDASCZ_MANIZALES_2MUNI","MANIZALES","FILADELFIA","NEIRA","VILLAMARÍA"]
["CALDASCZ_OCCIDENTEMUNI","ANSERMA","MARMATO","RIOSUCIO","RISARALDA","SUPÍA","VITERBO"]
["CALDASCZ_ORIENTEMUNI","LA DORADA","NORCASIA","SAMANÁ","VICTORIA"]
["CALDASCZ_NORTEMUNI","AGUADAS","ARANZAZU","LA MERCED","PÁCORA","SALAMINA"]
["CALDASCZ_SUR_ORIENTEMUNI","MANZANARES","MARQUETALIA","MARULANDA","PENSILVANIA"]
["CALDASCZ_DEL_CAFEMUNI","BELALCÁZAR","CHINCHINÁ","PALESTINA","SAN JOSÉ"]
["CAQUETÁCZ_FLORENCIA_1MUNI","FLORENCIA","LA MONTAÑITA","MORELIA"]
["CAQUETÁCZ_FLORENCIA_2MUNI","FLORENCIA","MILÁN","SOLANO"]
["CAQUETÁCZ_PUERTO_RICOMUNI","CARTAGENA DEL CHAIRÁ","EL DONCELLO","EL PAUJIL","PUERTO RICO","SAN VICENTE DEL CAGUÁN"]
["CAQUETÁCZ_BELEN_DE_LOS_ANDAQUIESMUNI","ALBANIA","BELÉN DE LOS ANDAQUIES","CURILLO","SAN JOSÉ DEL FRAGUA","SOLITA","VALPARAÍSO"]
["CAUCACZ_POPAYANMUNI","POPAYÁN"]
["CAUCACZ_CENTROMUNI","CAJIBÍO","EL TAMBO","LA SIERRA","LA VEGA","MORALES","PIENDAMÓ - TUNÍA","ROSAS","SOTARÁ PAISPAMBA","TIMBÍO"]
["CAUCACZ_INDIGENAMUNI","CALDONO","INZÁ","JAMBALÓ","PAEZ","PIAMONTE","PURACÉ","SANTA ROSA","SILVIA","SOTARÁ PAISPAMBA","TOTORÒ"]
["CAUCACZ_SURMUNI","ARGELIA","BALBOA","FLORENCIA","MERCADERES","PATÍA","SUCRE"]
["CAUCACZ_NORTEMUNI","BUENOS AIRES","CALOTO","CORINTO","GUACHENE","MIRANDA","PADILLA","PUERTO TEJADA","SANTANDER DE QUILICHAO","SUÁREZ","TORIBIO","VILLA RICA"]
["CAUCACZ_MACIZO_COLOMBIANOMUNI","ALMAGUER","BOLÍVAR","LA VEGA","SAN SEBASTIÁN","SANTA ROSA"]
["CAUCACZ_COSTA_PACIFICAMUNI","GUAPI","LÓPEZ DE MICAY","TIMBIQUÍ","SANTA BÁRBARA"]
["CESARCZ_VALLEDUPAR_1MUNI","VALLEDUPAR","BOSCONIA","EL COPEY","MANAURE BALCÓN DEL CESAR","PUEBLO BELLO","LA PAZ"]
["CESARCZ_VALLEDUPAR_2MUNI","VALLEDUPAR","BOSCONIA","EL COPEY","MANAURE BALCÓN DEL CESAR","PUEBLO BELLO","LA PAZ"]
["CESARCZ_CHIRIGUANAMUNI","ASTREA","CHIMICHAGUA","CHIRIGUANÁ","CURUMANÍ","EL PASO"]
["CESARCZ_AGUACHICAMUNI","AGUACHICA","GAMARRA","GONZÁLEZ","LA GLORIA","PAILITAS","PELAYA","RÍO DE ORO","SAN ALBERTO","SAN MARTÍN","TAMALAMEQUE"]
["CESARCZ_AGUSTIN_CODAZZIMUNI","AGUSTÍN CODAZZI","BECERRIL","LA JAGUA DE IBIRICO","SAN DIEGO"]
["CÓRDOBACZ_1_MONTERIAMUNI","MONTERÍA","CANALETE","LOS CÓRDOBAS","PUERTO ESCONDIDO"]
["CÓRDOBACZ_CERETEMUNI","CERETÉ","CIÉNAGA DE ORO","COTORRA","SAN CARLOS","SAN PELAYO"]
["CÓRDOBACZ_PLANETARICAMUNI","BUENAVISTA","PLANETA RICA","PUEBLO NUEVO"]
["CÓRDOBACZ_TIERRALTAMUNI","TIERRALTA","VALENCIA"]
["CÓRDOBACZ_MONTELIBANOMUNI","AYAPEL","LA APARTADA","MONTELÍBANO","PUERTO LIBERTADOR","SAN JOSE DE URE"]
["CÓRDOBACZ_LORICAMUNI","LORICA","MOMIL","MOÑITOS","PURÍSIMA DE LA CONCEPCIÓN","SAN ANTERO","SAN BERNARDO DEL VIENTO"]
["CÓRDOBACZ_SAHAGUNMUNI","CHINÚ","SAHAGÚN"]
["CÓRDOBACZ_SAN_ANDRES_DE_SOTAVENTOMUNI","CHIMÁ","SAN ANDRÉS DE SOTAVENTO","TUCHIN"]
["CUNDINAMARCACZ_SOACHAMUNI","SOACHA"]
["CUNDINAMARCACZ_ZIPAQUIRAMUNI","CAJICÁ","CHÍA","COGUA","COTA","GACHANCIPÁ","LA CALERA","NEMOCÓN","SAN CAYETANO","SOPÓ","TABIO","TENJO","TOCANCIPÁ","ZIPAQUIRÁ"]
["CUNDINAMARCACZ_CHOCONTAMUNI","CHOCONTÁ","GUATAVITA","MACHETA","MANTA","SESQUILÉ","SUESCA","TIBIRITA","VILLAPINZÓN"]
["CUNDINAMARCACZ_PACHOMUNI","CAPARRAPÍ","EL PEÑÓN","LA PALMA","PACHO","PAIME","SUPATÁ","TOPAIPÍ","VILLAGÓMEZ","YACOPÍ"]
["CUNDINAMARCACZ_VILLETAMUNI","GUADUAS","LA PEÑA","LA VEGA","NIMAIMA","NOCAIMA","PUERTO SALGAR","QUEBRADANEGRA","SAN FRANCISCO","SASAIMA","ÚTICA","VERGARA","VILLETA"]
["CUNDINAMARCACZ_FACATATIVAMUNI","ALBÁN","ANOLAIMA","BOJACÁ","EL ROSAL","FACATATIVÁ","FUNZA","GUAYABAL DE SIQUIMA","MADRID","MOSQUERA","SUBACHOQUE","ZIPACÓN"]
["CUNDINAMARCACZ_FUSAGASUGAMUNI","ARBELÁEZ","CABRERA","FUSAGASUGÁ","GRANADA","VENECIA","PANDI","PASCA","SAN BERNARDO","SILVANIA","TIBACUY"]
["CUNDINAMARCACZ_CAQUEZAMUNI","CAQUEZA","CHIPAQUE","CHOACHÍ","FOMEQUE","FOSCA","GUAYABETAL","GUTIÉRREZ","MEDINA","PARATEBUENO","QUETAME","UBAQUE","UNE"]
["CUNDINAMARCACZ_GACHETAMUNI","GACHALA","GACHETÁ","GAMA","GUASCA","JUNÍN","UBALÁ"]
["CUNDINAMARCACZ_GIRARDOTMUNI","AGUA DE DIOS","GIRARDOT","GUATAQUÍ","JERUSALÉN","NARIÑO","NILO","RICAURTE","TOCAIMA","VIOTÁ"]
["CUNDINAMARCACZ_LA_MESAMUNI","ANAPOIMA","CACHIPAY","EL COLEGIO","LA MESA","QUIPILE","APULO","SAN ANTONIO DEL TEQUENDAMA","TENA"]
["CUNDINAMARCACZ_UBATEMUNI","CARMEN DE CARUPA","CUCUNUBÁ","FÚQUENE","GUACHETÁ","LENGUAZAQUE","SIMIJACA","SUSA","SUTATAUSA","TAUSA","VILLA DE SAN DIEGO DE UBATÉ"]
["CUNDINAMARCACZ_SAN_JUAN_DE_RIOSECOMUNI","BELTRÁN","BITUIMA","CHAGUANÍ","PULÍ","SAN JUAN DE RIOSECO","VIANÍ"]
["CUNDINAMARCACZ_SOACHA_CENTROMUNI","SIBATÉ","SOACHA"]
["CHOCÓCZ_QUIBDOMUNI","QUIBDÓ","ATRATO","BOJAYA","EL CARMEN DE ATRATO","LLORÓ","MEDIO ATRATO","RÍO QUITO"]
["CHOCÓCZ_ISTMINAMUNI","ALTO BAUDO","BAJO BAUDÓ","CONDOTO","LITORAL DEL SAN JUAN","ISTMINA","MEDIO BAUDÓ","MEDIO SAN JUAN","NÓVITA","RÍO IRO","SIPÍ"]
["CHOCÓCZ_BAHIA_SOLANOMUNI","BAHÍA SOLANO","JURADÓ","NUQUÍ"]
["CHOCÓCZ_RIOSUCIOMUNI","ACANDÍ","BELÉN DE BAJIRÁ","CARMEN DEL DARIEN","RIOSUCIO","UNGUÍA"]
["CHOCÓCZ_TADOMUNI","BAGADÓ","EL CANTÓN DEL SAN PABLO","CÉRTEGUI","SAN JOSÉ DEL PALMAR","TADÓ","UNIÓN PANAMERICANA"]
["HUILACZ_NEIVAMUNI","NEIVA","AIPE","IQUIRA","PALERMO","SANTA MARÍA","TERUEL","VILLAVIEJA","YAGUARÁ"]
["HUILACZ_GARZONMUNI","AGRADO","ALTAMIRA","GARZÓN","GIGANTE","GUADALUPE","PITAL","SUAZA","TARQUI"]
["HUILACZ_LA_PLATAMUNI","LA ARGENTINA","LA PLATA","NÁTAGA","PAICOL","TESALIA"]
["HUILACZ_PITALITOMUNI","ACEVEDO","ELÍAS","ISNOS","OPORAPA","PALESTINA","PITALITO","SALADOBLANCO","SAN AGUSTÍN","TIMANÁ"]
["HUILACZ_LA_GAITANAMUNI","NEIVA","ALGECIRAS","BARAYA","CAMPOALEGRE","COLOMBIA","HOBO","RIVERA","TELLO"]
["LA_GUAJIRACZ_RIOHACHA_1MUNI","RIOHACHA","DIBULLA"]
["LA_GUAJIRACZ_RIOHACHA_2MUNI","RIOHACHA","DIBULLA"]
["LA_GUAJIRACZ_FONSECAMUNI","BARRANCAS","DISTRACCIÓN","EL MOLINO","FONSECA","HATONUEVO","LA JAGUA DEL PILAR","SAN JUAN DEL CESAR","URUMITA","VILLANUEVA"]
["LA_GUAJIRACZ_MANAUREMUNI","MANAURE","URIBIA"]
["LA_GUAJIRACZ_MAICAOMUNI","ALBANIA","MAICAO"]
["LA_GUAJIRACZ_NAZARETHMUNI","URIBIA"]
["MAGDALENACZ_SANTA_MARTA_1MUNI","SANTA MARTA"]
["MAGDALENACZ_SANTA_MARTA_2MUNI","SANTA MARTA"]
["MAGDALENACZ_DEL_RIOMUNI","CERRO DE SAN ANTONIO","CONCORDIA","EL PIÑON","PIVIJAY","SALAMINA"]
["MAGDALENACZ_CIENAGAMUNI","CIÉNAGA","PUEBLOVIEJO","REMOLINO","SITIONUEVO","ZONA BANANERA"]
["MAGDALENACZ_FUNDACIÓNMUNI","ALGARROBO","ARACATACA","EL RETÉN","FUNDACIÓN","SABANAS DE SAN ANGEL"]
["MAGDALENACZ_PLATOMUNI","ARIGUANÍ","CHIVOLO","NUEVA GRANADA","PEDRAZA","PLATO","TENERIFE","ZAPAYÁN"]
["MAGDALENACZ_EL_BANCOMUNI","EL BANCO","GUAMAL","SAN SEBASTIÁN DE BUENAVISTA"]
["MAGDALENACZ_SANTA_ANAMUNI","PIJIÑO DEL CARMEN","SAN ZENÓN","SANTA ANA","SANTA BÁRBARA DE PINTO"]
["METACZ_VILLAVICENCIO_1MUNI","VILLAVICENCIO","BARRANCA DE UPÍA","CUMARAL","EL CALVARIO","MAPIRIPÁN","LA MACARENA","RESTREPO","SAN JUANITO"]
["METACZ_VILLAVICENCIO_2MUNI","VILLAVICENCIO","BARRANCA DE UPÍA","CUMARAL","EL CALVARIO","MAPIRIPÁN","LA MACARENA","RESTREPO","SAN JUANITO"]
["METACZ_GRANADAMUNI","FUENTE DE ORO","GRANADA","MESETAS","URIBE","LEJANÍAS","PUERTO CONCORDIA","PUERTO LLERAS","PUERTO RICO","SAN JUAN DE ARAMA","VISTAHERMOSA"]
["METACZ_ACACIASMUNI","ACACÍAS","CASTILLA LA NUEVA","CUBARRAL","EL CASTILLO","EL DORADO","GUAMAL","SAN CARLOS DE GUAROA","SAN MARTÍN"]
["METACZ_PUERTO_LOPEZMUNI","CABUYARO","PUERTO GAITÁN","PUERTO LÓPEZ"]
["NARIÑOCZ_PASTO_1MUNI","PASTO","ALBÁN","BUESACO","CHACHAGUÍ","EL TABLÓN DE GÓMEZ","FUNES","SAN BERNARDO","TANGUA","YACUANQUER"]
["NARIÑOCZ_PASTO_2MUNI","PASTO","ANCUYÁ","CONSACA","EL PEÑOL","EL TAMBO","LA FLORIDA","LINARES","LOS ANDES","NARIÑO","SANDONÁ"]
["NARIÑOCZ_TUMACOMUNI","EL CHARCO","LA TOLA","MOSQUERA","OLAYA HERRERA","FRANCISCO PIZARRO","SANTA BÁRBARA","SAN ANDRÉS DE TUMACO"]
["NARIÑOCZ_IPIALESMUNI","ALDANA","CONTADERO","CÓRDOBA","CUASPUD CARLOSAMA","CUMBAL","GUACHUCAL","GUALMATÁN","ILES","IPIALES","POTOSÍ","PUERRES","PUPIALES"]
["NARIÑOCZ_TUQUERRESMUNI","GUAITARILLA","IMUÉS","LA LLANADA","MALLAMA","OSPINA","PROVIDENCIA","RICAURTE","SAMANIEGO","SANTACRUZ","SAPUYES","TÚQUERRES"]
["NARIÑOCZ_LA_UNIONMUNI","ARBOLEDA","BELÉN","COLÓN","LA CRUZ","LA UNIÓN","SAN LORENZO","SAN PABLO","SAN PEDRO DE CARTAGO"]
["NARIÑOCZ_BARBACOASMUNI","BARBACOAS","MAGUÍ","ROBERTO PAYÁN"]
["NARIÑOCZ_REMOLINOMUNI","CUMBITARA","EL ROSARIO","LEIVA","POLICARPA","TAMINANGO"]
["NORTE_DE_SANTANDERCZ_CUCUTA_1MUNI","SAN JOSÉ DE CÚCUTA","ARBOLEDAS","DURANIA","EL ZULIA","LOS PATIOS","SALAZAR","SAN CAYETANO"]
["NORTE_DE_SANTANDERCZ_CUCUTA_2MUNI","SAN JOSÉ DE CÚCUTA","BUCARASICA","GRAMALOTE","LOURDES","SANTIAGO","SARDINATA","VILLA CARO"]
["NORTE_DE_SANTANDERCZ_CUCUTA_3MUNI","SAN JOSÉ DE CÚCUTA","BOCHALEMA","CHINÁCOTA","HERRÁN","PUERTO SANTANDER","RAGONVALIA","VILLA DEL ROSARIO"]
["NORTE_DE_SANTANDERCZ_OCAÑAMUNI","ABREGO","CACHIRÁ","CONVENCIÓN","EL CARMEN","HACARÍ","LA ESPERANZA","LA PLAYA","OCAÑA","SAN CALIXTO","TEORAMA"]
["NORTE_DE_SANTANDERCZ_PAMPLONAMUNI","CÁCOTA","CHINÁCOTA","CHITAGÁ","CUCUTILLA","HERRÁN","LABATECA","MUTISCUA","PAMPLONA","PAMPLONITA","RAGONVALIA","SILOS","TOLEDO"]
["NORTE_DE_SANTANDERCZ_TIBUMUNI","EL TARRA","TIBÚ"]
["QUINDIOCZ_ARMENIA_SURMUNI","ARMENIA","CIRCASIA","FILANDIA","LA TEBAIDA","SALENTO"]
["QUINDIOCZ_ARMENIA_NORTEMUNI","ARMENIA","MONTENEGRO","QUIMBAYA"]
["QUINDIOCZ_CALARCAMUNI","BUENAVISTA","CALARCA","CÓRDOBA","GÉNOVA","PIJAO"]
["RISARALDACZ_PEREIRAMUNI","PEREIRA"]
["RISARALDACZ_LA_VIRGINIAMUNI","APÍA","BALBOA","LA CELIA","LA VIRGINIA","PUEBLO RICO","SANTUARIO"]
["RISARALDACZ_DOS_QUEBRADASMUNI","DOSQUEBRADAS"]
["RISARALDACZ_BELEN_DE_UMBRIAMUNI","BELÉN DE UMBRÍA","GUÁTICA","MISTRATÓ","QUINCHÍA"]
["RISARALDACZ_SANTA_ROSA_DE_CABALMUNI","MARSELLA","SANTA ROSA DE CABAL"]
["SANTANDERCZ_ANTONIA_SANTOSMUNI","CALIFORNIA","CHARTA","EL PLAYÓN","GIRÓN","LEBRÍJA","MATANZA","RIONEGRO","SAN VICENTE DE CHUCURÍ","SURATÁ"]
["SANTANDERCZ_BUCARAMANGA_SURMUNI","BETULIA","FLORIDABLANCA","LOS SANTOS","PIEDECUESTA","SANTA BÁRBARA","TONA","VETAS","ZAPATOCA"]
["SANTANDERCZ_CARLOS_LLERAS_RESTREPOMUNI","BUCARAMANGA"]
["SANTANDERCZ_LUIS_CARLOS_GALÁN_SARMIENTOMUNI","BUCARAMANGA","BETULIA","CALIFORNIA","CHARTA","EL PLAYÓN","FLORIDABLANCA","GIRÓN","LEBRÍJA","LOS SANTOS","MATANZA","PIEDECUESTA","RIONEGRO","SAN VICENTE DE CHUCURÍ","SANTA BÁRBARA","SURATÁ","TONA","VETAS","ZAPATOCA"]
["SANTANDERCZ_YARIQUIESMUNI","BARRANCABERMEJA","CIMITARRA","EL CARMEN DE CHUCURÍ","PUERTO PARRA","PUERTO WILCHES","SABANA DE TORRES","SIMACOTA"]
["SANTANDERCZ_LA_FLORESTAMUNI","BARRANCABERMEJA","EL CARMEN DE CHUCURÍ","PUERTO PARRA","PUERTO WILCHES","SABANA DE TORRES"]
["SANTANDERCZ_SAN_GILMUNI","ARATOCA","BARICHARA","CABRERA","CEPITÁ","CHARALÁ","COROMORO","CURITÍ","ENCINO","JORDÁN","MOGOTES","OCAMONTE","ONZAGA","PÁRAMO","PINCHOTE","SAN GIL","SAN JOAQUÍN","VALLE DE SAN JOSÉ","VILLANUEVA"]
["SANTANDERCZ_SOCORROMUNI","CHIMA","CONFINES","CONTRATACION","EL GUACAMAYO","GALÁN","GAMBITA","GUADALUPE","GUAPOTÁ","HATO","OIBA","PALMAR","PALMAS DEL SOCORRO","SIMACOTA","SOCORRO","SUAITA"]
["SANTANDERCZ_VELEZMUNI","AGUADA","ALBANIA","BARBOSA","BOLÍVAR","CHIPATA","CIMITARRA","EL PEÑÓN","FLORIÁN","GUAVATÁ","GUEPSA","JESÚS MARÍA","LA BELLEZA","LANDÁZURI","LA PAZ","PUENTE NACIONAL","SAN BENITO","SANTA HELENA DEL OPÓN","SUCRE","VÉLEZ"]
["SANTANDERCZ_MALAGAMUNI","CAPITANEJO","CARCASÍ","CERRITO","CONCEPCIÓN","ENCISO","GUACA","MACARAVITA","MÁLAGA","MOLAGAVITA","SAN ANDRÉS","SAN JOSÉ DE MIRANDA","SAN MIGUEL"]
["SANTANDERCZ_RESURGIRMUNI","BUCARAMANGA","AGUADA","ALBANIA","ARATOCA","BARBOSA","BARICHARA","BARRANCABERMEJA","BETULIA","BOLÍVAR","CABRERA","CALIFORNIA","CAPITANEJO","CARCASÍ","CEPITÁ","CERRITO","CHARALÁ","CHARTA","CHIMA","CHIPATA","CIMITARRA","CONCEPCIÓN","CONFINES","CONTRATACION","COROMORO","CURITÍ","EL CARMEN DE CHUCURÍ","EL GUACAMAYO","EL PEÑÓN","EL PLAYÓN","ENCINO","ENCISO","FLORIÁN","FLORIDABLANCA","GALÁN","GAMBITA","GIRÓN","GUACA","GUADALUPE","GUAPOTÁ","GUAVATÁ","GUEPSA","HATO","JESÚS MARÍA","JORDÁN","LA BELLEZA","LANDÁZURI","LA PAZ","LEBRÍJA","LOS SANTOS","MACARAVITA","MÁLAGA","MATANZA","MOGOTES","MOLAGAVITA","OCAMONTE","OIBA","ONZAGA","PALMAR","PALMAS DEL SOCORRO","PÁRAMO","PIEDECUESTA","PINCHOTE","PUENTE NACIONAL","PUERTO PARRA","PUERTO WILCHES","RIONEGRO","SABANA DE TORRES","SAN ANDRÉS","SAN BENITO","SAN GIL","SAN JOAQUÍN","SAN JOSÉ DE MIRANDA","SAN MIGUEL","SAN VICENTE DE CHUCURÍ","SANTA BÁRBARA","SANTA HELENA DEL OPÓN","SIMACOTA","SOCORRO","SUAITA","SUCRE","SURATÁ","TONA","VALLE DE SAN JOSÉ","VÉLEZ","VETAS","VILLANUEVA","ZAPATOCA"]
["SUCRECZ_BOSTONMUNI","BUENAVISTA","COROZAL","EL ROBLE","GALERAS","LOS PALMITOS","MORROA","OVEJAS","SAMPUÉS","SAN JUAN DE BETULIA","SAN PEDRO","SAN LUIS DE SINCÉ"]
["SUCRECZ_NORTEMUNI","CAIMITO","COLOSO","COVEÑAS","CHALÁN","LA UNIÓN","PALMITO","SAN BENITO ABAD","SAN MARCOS","SAN ONOFRE","SANTIAGO DE TOLÚ","SAN JOSÉ DE TOLUVIEJO"]
["SUCRECZ_SINCELEJOMUNI","SINCELEJO"]
["SUCRECZ_LA_MOJANAMUNI","GUARANDA","MAJAGUAL","SUCRE"]
["TOLIMACZ_JORDANMUNI","IBAGUÉ","ALVARADO","PIEDRAS","SAN LUIS","VALLE DE SAN JUAN","CAJAMARCA","ROVIRA"]
["TOLIMACZ_GALANMUNI","IBAGUÉ","CAJAMARCA","RONCESVALLES","ROVIRA"]
["TOLIMACZ_IBAGUEMUNI","IBAGUÉ","ALVARADO","CAJAMARCA","PIEDRAS","RONCESVALLES","ROVIRA","SAN LUIS","VALLE DE SAN JUAN"]
["TOLIMACZ_LIBANOMUNI","CASABIANCA","LÍBANO","MURILLO","VILLAHERMOSA"]
["TOLIMACZ_LERIDAMUNI","AMBALEMA","ANZOÁTEGUI","ARMERO","LÉRIDA","SANTA ISABEL","VENADILLO"]
["TOLIMACZ_HONDAMUNI","FALAN","FRESNO","HERVEO","HONDA","SAN SEBASTIÁN DE MARIQUITA","PALOCABILDO"]
["TOLIMACZ_ESPINALMUNI","COELLO","ESPINAL","FLANDES","GUAMO","ORTEGA","SUÁREZ"]
["TOLIMACZ_CHAPARRALMUNI","ATACO","CHAPARRAL","PLANADAS","RIOBLANCO","SAN ANTONIO"]
["TOLIMACZ_PURIFICACIONMUNI","ALPUJARRA","COYAIMA","DOLORES","NATAGAIMA","PRADO","PURIFICACIÓN","SALDAÑA"]
["TOLIMACZ_MELGARMUNI","CARMEN DE APICALÁ","CUNDAY","ICONONZO","MELGAR","VILLARRICA"]
["VALLE_DEL_CAUCACZ_SURORIENTALMUNI","CALI"]
["VALLE_DEL_CAUCACZ_NORORIENTALMUNI","CALI"]
["VALLE_DEL_CAUCACZ_LADERAMUNI","CALI","DAGUA"]
["VALLE_DEL_CAUCACZ_CENTROMUNI","CALI","DAGUA"]
["VALLE_DEL_CAUCACZ_SURMUNI","CALI"]
["VALLE_DEL_CAUCACZ_JAMUNDIMUNI","JAMUNDÍ"]
["VALLE_DEL_CAUCACZ_YUMBOMUNI","LA CUMBRE","VIJES","YUMBO"]
["VALLE_DEL_CAUCACZ_PALMIRAMUNI","CANDELARIA","EL CERRITO","FLORIDA","GINEBRA","PALMIRA","PRADERA"]
["VALLE_DEL_CAUCACZ_BUGAMUNI","GUADALAJARA DE BUGA","CALIMA","GUACARÍ","RESTREPO","SAN PEDRO","YOTOCO"]
["VALLE_DEL_CAUCACZ_TULUAMUNI","ANDALUCÍA","BUGALAGRANDE","RIOFRÍO","TRUJILLO","TULUÁ"]
["VALLE_DEL_CAUCACZ_SEVILLAMUNI","CAICEDONIA","SEVILLA"]
["VALLE_DEL_CAUCACZ_ROLDANILLOMUNI","BOLÍVAR","EL DOVIO","LA UNIÓN","ROLDANILLO","TORO","VERSALLES","ZARZAL"]
["VALLE_DEL_CAUCACZ_CARTAGOMUNI","ALCALÁ","ANSERMANUEVO","ARGELIA","CARTAGO","EL ÁGUILA","EL CAIRO","LA VICTORIA","OBANDO","ULLOA"]
["VALLE_DEL_CAUCACZ_BUENAVENTURAMUNI","BUENAVENTURA"]
["VALLE_DEL_CAUCACZ_RESTAURARMUNI","CALI"]
["ARAUCACZ_ARAUCAMUNI","ARAUCA","CRAVO NORTE"]
["ARAUCACZ_SARAVENAMUNI","CUBARÁ","ARAUQUITA","FORTUL","SARAVENA"]
["ARAUCACZ_TAMEMUNI","PUERTO RONDÓN","TAME"]
["CASANARECZ_YOPALMUNI","YOPAL","AGUAZUL","CHAMEZA","MANÍ","NUNCHÍA","OROCUÉ","RECETOR","SAN LUIS DE PALENQUE"]
["CASANARECZ_PAZ_DE_ARIPOROMUNI","HATO COROZAL","LA SALINA","PAZ DE ARIPORO","PORE","SÁCAMA","TÁMARA","TRINIDAD"]
["CASANARECZ_VILLANUEVAMUNI","MONTERREY","SABANALARGA","TAURAMENA","VILLANUEVA"]
["PUTUMAYOCZ_MOCOAMUNI","PIAMONTE","MOCOA","PUERTO GUZMÁN","VILLAGARZON"]
["PUTUMAYOCZ_SIBUNDOYMUNI","COLÓN","SIBUNDOY","SAN FRANCISCO","SANTIAGO"]
["PUTUMAYOCZ_PUERTO_ASISMUNI","PUERTO ASÍS","PUERTO CAICEDO","PUERTO LEGUÍZAMO"]
["PUTUMAYOCZ_LA_HORMIGAMUNI","ORITO","SAN MIGUEL","VALLE DEL GUAMUEZ"]
["SAN_ANDRÉSCZ_LOS_ALMENDROSMUNI","SAN ANDRÉS","PROVIDENCIA"]
["AMAZONASCZ_LETICIAMUNI","LETICIA","EL ENCANTO","LA CHORRERA","LA PEDRERA","LA VICTORIA","MIRITI - PARANA","PUERTO ALEGRIA","PUERTO ARICA","PUERTO NARIÑO","PUERTO SANTANDER","TARAPACA"]
["GUAINÍACZ_INIRIDAMUNI","INÍRIDA","BARRANCOMINAS","MAPIRIPANA","SAN FELIPE","PUERTO COLOMBIA","LA GUADALUPE","CACAHUAL","PANA PANA","MORICHAL","CUMARIBO"]
["GUAVIARECZ_SAN_JOSE_DE_GUAVIAREMUNI","SAN JOSÉ DEL GUAVIARE","CALAMAR","EL RETORNO","MIRAFLORES"]
["VAUPÉSCZ_MITUMUNI","MITÚ","CARURU","PACOA","TARAIRA","PAPUNAHUA","YAVARATE"]
["VICHADACZ_PUERTO_CARREÑOMUNI","PUERTO CARREÑO","LA PRIMAVERA","SANTA ROSALÍA","CUMARIBO"]

{"sheet":"Dato","index":5,"n_rows":218,"n_cols":14,"rows_kept":218,"cut":false,"hidden":true,"merged":[[0,1,0,8],[1,1,1,8]]}
[null,"Instituto Colombiano de Bienestar Familiar\nCecilia De la Fuente de Lleras \nDirección de Planeación y Control de Gestión\nSubdirección de Programación"]
[null,"COBERTURA GEOGRÁFICA ICBF - 2021\nFuente: SIM - Cubrimiento geográfico"]
[null,"Vigencia","Cód Dpto","Departamento","Cod \nCentro Zonal","Centro Zonal","Cód","Municipio Sede","DIRECCIÓN "]
["ANTIOQUIACZ INTEGRAL NORORIENTAL",2021,"05","ANTIOQUIA","0501","CZ INTEGRAL NORORIENTAL","05001","MEDELLÍN","Calle 51 # 51 - 59",null,null,"Cód Dpto","Regional","No. CZ"]
["ANTIOQUIACZ INTEGRAL NOROCCIDENTAL",2021,"05","ANTIOQUIA","0502","CZ INTEGRAL NOROCCIDENTAL","05001","MEDELLÍN","Calle 45 # 79 - 49",null,null,"05","ANTIOQUIA",18]
["ANTIOQUIACZ SUR ORIENTE",2021,"05","ANTIOQUIA","0504","CZ SUR ORIENTE","05001","MEDELLÍN","Carrera 70 # 42 - 37",null,null,"08","ATLÁNTICO",7]
["ANTIOQUIACZ ABURRA NORTE",2021,"05","ANTIOQUIA","0505","CZ ABURRA NORTE","05088","BELLO","Diagonal 54 # 42 B - 19",null,null,"11","BOGOTÁ DC",18]
["ANTIOQUIACZ ABURRA SUR",2021,"05","ANTIOQUIA","0506","CZ ABURRA SUR","05360","ITAGUI","Carrera 51 # 52 - 19",null,null,"13","BOLÍVAR",8]
["ANTIOQUIACZ BAJO CAUCA",2021,"05","ANTIOQUIA","0507","CZ BAJO CAUCA","05154","CAUCASIA","Transversal 13 # 14 C - 36",null,null,"15","BOYACÁ",12]
["ANTIOQUIACZ LA MESETA",2021,"05","ANTIOQUIA","0508","CZ LA MESETA","05887","YARUMAL","Calle 21 # 18 - 45 ",null,null,"17","CALDAS",7]
["ANTIOQUIACZ MAGDALENA MEDIO",2021,"05","ANTIOQUIA","0509","CZ MAGDALENA MEDIO","05579","PUERTO BERRÍO","Calle 10 con Carrera 10",null,null,"18","CAQUETÁ",4]
["ANTIOQUIACZ OCCIDENTE",2021,"05","ANTIOQUIA","0510","CZ OCCIDENTE","05042","SANTA FÉ DE ANTIOQUIA","Calle 9 # 8 - 34",null,null,"19","CAUCA",7]
["ANTIOQUIACZ OCCIDENTE MEDIO",2021,"05","ANTIOQUIA","0511","CZ OCCIDENTE MEDIO","05234","DABEIBA","Carrera Uribe Uribe # 10 - 86",null,null,"20","CESAR",5]
["ANTIOQUIACZ ORIENTE",2021,"05","ANTIOQUIA","0512","CZ ORIENTE","05615","RIONEGRO","Calle 61 B # 44 - 21 Piso 2",null,null,"23","CÓRDOBA",8]
["ANTIOQUIACZ PORCE NUS",2021,"05","ANTIOQUIA","0513","CZ PORCE NUS","05890","YOLOMBÓ","Carrera 18 # 19 - 97",null,null,"25","CUNDINAMARCA",14]
["ANTIOQUIACZ SUROESTE",2021,"05","ANTIOQUIA","0514","CZ SUROESTE","05034","ANDES","Calle 49 # 49 A - 39",null,null,"27","CHOCÓ",5]
["ANTIOQUIACZ PENDERISCO",2021,"05","ANTIOQUIA","0515","CZ PENDERISCO","05847","URRAO","Calle 29 # 29 - 43",null,null,"41","HUILA",5]
["ANTIOQUIACZ URABA",2021,"05","ANTIOQUIA","0516","CZ URABA","05045","APARTADÓ","Carrera 100 # 105 - 0 Kilometro 1 Vía Turbo",null,null,"44","LA GUAJIRA",6]
["ANTIOQUIACZ ORIENTE MEDIO",2021,"05","ANTIOQUIA","0517","CZ ORIENTE MEDIO","05697","EL SANTUARIO","Calle 49 # 47 - 23 Piso 1",null,null,"47","MAGDALENA",8]
["ANTIOQUIACZ LA FLORESTA",2021,"05","ANTIOQUIA","0535","CZ LA FLORESTA","05001","MEDELLÍN","Carrera 83 # 47 A - 47",null,null,"50","META",5]
["ANTIOQUIACZ ROSALES",2021,"05","ANTIOQUIA","0536","CZ ROSALES","05001","MEDELLÍN","Calle 32 # 72 A - 20",null,null,"52","NARIÑO",8]
["ATLÁNTICOCZ NORTE CENTRO HISTORICO",2021,"08","ATLÁNTICO","0801","CZ NORTE CENTRO HISTORICO","08001","BARRANQUILLA","Carrera 47 # 75 - 100",null,null,"54","NORTE DE SANTANDER",6]
["ATLÁNTICOCZ SUROCCIDENTE",2021,"08","ATLÁNTICO","0802","CZ SUROCCIDENTE","08001","BARRANQUILLA","Carrera 38 B # 66 - 77 Piso 2",null,null,"63","QUINDIO",3]
["ATLÁNTICOCZ BARANOA",2021,"08","ATLÁNTICO","0803","CZ BARANOA","08078","BARANOA","Carrera 18 # 19 - 20",null,null,"66","RISARALDA",5]
["ATLÁNTICOCZ SABANALARGA",2021,"08","ATLÁNTICO","0804","CZ SABANALARGA","08638","SABANALARGA","Carrera 18 # 22 A - 14",null,null,"68","SANTANDER",11]
["ATLÁNTICOCZ SABANAGRANDE",2021,"08","ATLÁNTICO","0805","CZ SABANAGRANDE","08634","SABANAGRANDE","Carrera 1 B # 2 A - 25",null,null,"70","SUCRE",4]
["ATLÁNTICOCZ HIPODROMO",2021,"08","ATLÁNTICO","0806","CZ HIPODROMO","08758","SOLEDAD","Calle 26 Carrera 30 Esquina",null,null,"73","TOLIMA",10]
["ATLÁNTICOCZ SURORIENTE",2021,"08","ATLÁNTICO","0807","CZ SURORIENTE","08001","BARRANQUILLA","Calle 45 # 10 C - 17 - Calle Murillo",null,null,"76","VALLE DEL CAUCA",15]
["BOGOTÁ D.C.CZ CIUDAD BOLIVAR",2021,"11","BOGOTÁ D.C.","1101","CZ CIUDAD BOLIVAR","11001","BOGOTÁ DC","Av. Boyacá # 60 A - 23 Sur",null,null,"81","ARAUCA",3]
["BOGOTÁ D.C.CZ TUNJUELITO",2021,"11","BOGOTÁ D.C.","1102","CZ TUNJUELITO","11001","BOGOTÁ DC","Carrera 19 A # 56 - 08 Sur",null,null,"85","CASANARE",3]
["BOGOTÁ D.C.CZ USME",2021,"11","BOGOTÁ D.C.","1103","CZ USME","11001","BOGOTÁ DC","Calle 72 Sur # 12 - 18, Diagonal al Colegio Orlando Fals Borda",null,null,"86","PUTUMAYO",4]
["BOGOTÁ D.C.CZ SAN CRISTOBAL SUR",2021,"11","BOGOTÁ D.C.","1104","CZ SAN CRISTOBAL SUR","11001","BOGOTÁ DC","Carrera 6 # 5 B - 04 Sur",null,null,"88","SAN ANDRÉS",1]
["BOGOTÁ D.C.CZ KENNEDY",2021,"11","BOGOTÁ D.C.","1105","CZ KENNEDY","11001","BOGOTÁ DC","Calle 38 C Sur # 72 A - 12",null,null,"91","AMAZONAS",1]
["BOGOTÁ D.C.CZ REVIVIR",2021,"11","BOGOTÁ D.C.","1106","CZ REVIVIR","11001","BOGOTÁ DC","Calle 53 # 66 C - 45",null,null,"94","GUAINÍA",1]
["BOGOTÁ D.C.CZ PUENTE ARANDA",2021,"11","BOGOTÁ D.C.","1107","CZ PUENTE ARANDA","11001","BOGOTÁ DC","Calle 12 # 30 - 35 Piso 3",null,null,"95","GUAVIARE",1]
["BOGOTÁ D.C.CZ BOSA",2021,"11","BOGOTÁ D.C.","1108","CZ BOSA","11001","BOGOTÁ DC","Calle 65 Sur # 80 C - 56",null,null,"97","VAUPÉS",1]
["BOGOTÁ D.C.CZ RAFAEL URIBE",2021,"11","BOGOTÁ D.C.","1109","CZ RAFAEL URIBE","11001","BOGOTÁ DC","Carrera 21 # 24 - 18 Sur",null,null,"99","VICHADA",1]
["BOGOTÁ D.C.CZ SANTA FE",2021,"11","BOGOTÁ D.C.","1110","CZ SANTA FE","11001","BOGOTÁ DC","Calle 22 A # 2 - 26",null,null,"Total general",null,215]
["BOGOTÁ D.C.CZ FONTIBON",2021,"11","BOGOTÁ D.C.","1111","CZ FONTIBON","11001","BOGOTÁ DC","Calle 23 D # 100 - 26"]
["BOGOTÁ D.C.CZ BARRIOS UNIDOS",2021,"11","BOGOTÁ D.C.","1112","CZ BARRIOS UNIDOS","11001","BOGOTÁ DC","Carrera 16 # 63 - 81"]
["BOGOTÁ D.C.CZ ENGATIVA",2021,"11","BOGOTÁ D.C.","1113","CZ ENGATIVA","11001","BOGOTÁ DC","Carrera 103 # 73 - 13"]
["BOGOTÁ D.C.CZ SUBA",2021,"11","BOGOTÁ D.C.","1114","CZ SUBA","11001","BOGOTÁ DC","Av. Carrera 58 # 128 B - 94 Pisos 2, 3 y 4"]
["BOGOTÁ D.C.CZ USAQUEN",2021,"11","BOGOTÁ D.C.","1115","CZ USAQUEN","11001","BOGOTÁ DC","Calle 163 A # 13 B - 50"]
["BOGOTÁ D.C.CZ MARTIRES",2021,"11","BOGOTÁ D.C.","1116","CZ MARTIRES","11001","BOGOTÁ DC","Calle 13 # 31 - 04"]
["BOGOTÁ D.C.CZ CREER",2021,"11","BOGOTÁ D.C.","1130","CZ CREER","11001","BOGOTÁ DC","Calle 12 # 30 - 35 Piso 3"]
["BOGOTÁ D.C.CZ KENNEDY CENTRAL",2021,"11","BOGOTÁ D.C.","1131","CZ KENNEDY CENTRAL","11001","BOGOTÁ DC","SIN DATO"]
["BOLÍVARCZ HISTORICO Y DEL CARIBE NORTE",2021,"13","BOLÍVAR","1301","CZ HISTORICO Y DEL CARIBE NORTE","13001","CARTAGENA DE INDIAS","Calle 43 # 14 A - 34"]
["BOLÍVARCZ DE LA VIRGEN Y TURISTICO",2021,"13","BOLÍVAR","1302","CZ DE LA VIRGEN Y TURISTICO","13001","CARTAGENA DE INDIAS","Calle 31 B con Carrera 56 - 58 Plaza Estadio 11 de Noviembre"]
["BOLÍVARCZ INDUSTRIAL DE LA BAHIA",2021,"13","BOLÍVAR","1303","CZ INDUSTRIAL DE LA BAHIA","13001","CARTAGENA DE INDIAS","Calle 31 D # 69 A - 04 Manzana E Lote 35"]
["BOLÍVARCZ TURBACO",2021,"13","BOLÍVAR","1304","CZ TURBACO","13836","TURBACO","Plan Parejo Carretera - Troncal de Occidente"]
["BOLÍVARCZ EL CARMEN DE BOLIVAR",2021,"13","BOLÍVAR","1305","CZ EL CARMEN DE BOLIVAR","13244","EL CARMEN DE BOLÍVAR","Calle 25 # 47 - 17"]
["BOLÍVARCZ MAGANGUE",2021,"13","BOLÍVAR","1306","CZ MAGANGUE","13430","MAGANGUÉ","Avenida Colombia # 6 - 36"]
["BOLÍVARCZ MOMPOX",2021,"13","BOLÍVAR","1307","CZ MOMPOX","13468","SANTA CRUZ DE MOMPOX","Calle 19 # 1 A - 15"]
["BOLÍVARCZ SIMITI",2021,"13","BOLÍVAR","1308","CZ SIMITI","13744","SIMITÍ","Calle 11 Libertador # 8 - 35"]
["BOYACÁCZ TUNJA 1",2021,"15","BOYACÁ","1501","CZ TUNJA 1","15001","TUNJA","Carrera 11 # 7 - 39 Sur Piso 2"]
["BOYACÁCZ TUNJA 2",2021,"15","BOYACÁ","1502","CZ TUNJA 2","15001","TUNJA","Calle 22 # 9 - 08"]
["BOYACÁCZ SOGAMOSO",2021,"15","BOYACÁ","1503","CZ SOGAMOSO","15759","SOGAMOSO","Carrera 9 # 11 - 41"]
["BOYACÁCZ DUITAMA",2021,"15","BOYACÁ","1504","CZ DUITAMA","15238","DUITAMA","Calle 22 # 17 A - 07"]
["BOYACÁCZ CHIQUINQUIRA",2021,"15","BOYACÁ","1505","CZ CHIQUINQUIRA","15176","CHIQUINQUIRÁ","Calle 17 # 8 - 46 Piso 2"]
["BOYACÁCZ GARAGOA",2021,"15","BOYACÁ","1506","CZ GARAGOA","15299","GARAGOA","Calle 8 # 8 - 42"]
["BOYACÁCZ PUERTO BOYACA",2021,"15","BOYACÁ","1507","CZ PUERTO BOYACA","15572","PUERTO BOYACÁ","Carrera 3 Calle 16 Esquina"]
["BOYACÁCZ SOATA",2021,"15","BOYACÁ","1508","CZ SOATA","15753","SOATÁ","Carrera 2 Calle 9 Esquina"]
["BOYACÁCZ EL COCUY",2021,"15","BOYACÁ","1509","CZ EL COCUY","15244","EL COCUY","Carrera 4 # 7 - 39"]
["BOYACÁCZ MIRAFLORES",2021,"15","BOYACÁ","1510","CZ MIRAFLORES","15455","MIRAFLORES","Carrera 6 # 5 - 13"]
["BOYACÁCZ MONIQUIRA",2021,"15","BOYACÁ","1511","CZ MONIQUIRA","15469","MONIQUIRÁ","Carrera 12 # 18 - 80"]
["BOYACÁCZ OTANCHE",2021,"15","BOYACÁ","1512","CZ OTANCHE","15507","OTANCHE","Carrera 5 # 4 - 13"]
["CALDASCZ MANIZALES 1",2021,"17","CALDAS","1701","CZ MANIZALES 1","17001","MANIZALES","Carrera 23 # 62 - 85 Edifico Riviera"]
["CALDASCZ MANIZALES 2",2021,"17","CALDAS","1702","CZ MANIZALES 2","17001","MANIZALES","Avenida Santander # 39 - 60"]
["CALDASCZ OCCIDENTE",2021,"17","CALDAS","1703","CZ OCCIDENTE","17614","RIOSUCIO","Carrera 6 # 6 - 46"]
["CALDASCZ ORIENTE",2021,"17","CALDAS","1704","CZ ORIENTE","17380","LA DORADA","Calle 5 # 5 - 06"]
["CALDASCZ NORTE",2021,"17","CALDAS","1705","CZ NORTE","17653","SALAMINA","Carrera 6 # 6 - 40"]
["CALDASCZ SUR ORIENTE",2021,"17","CALDAS","1706","CZ SUR ORIENTE","17433","MANZANARES","Carrera 5 # 7 - 12 Esquina"]
["CALDASCZ DEL CAFE",2021,"17","CALDAS","1709","CZ DEL CAFE","17174","CHINCHINÁ","Carrera 2 # 14 - 15"]
["CAQUETÁCZ FLORENCIA 1",2021,"18","CAQUETÁ","1801","CZ FLORENCIA 1","18001","FLORENCIA","Calle 3 # 12 - 25"]
["CAQUETÁCZ FLORENCIA 2",2021,"18","CAQUETÁ","1802","CZ FLORENCIA 2","18001","FLORENCIA","Transversal 6 Av. Circunvalar Piso 1"]
["CAQUETÁCZ PUERTO RICO",2021,"18","CAQUETÁ","1803","CZ PUERTO RICO","18592","PUERTO RICO","Sede 1: Carrera 7 # 5 - 50 Barrio Las Américas\nSede 2: Calle 7 # 7 - 25 Barrio Las Damas "]
["CAQUETÁCZ BELEN DE LOS ANDAQUIES",2021,"18","CAQUETÁ","1804","CZ BELEN DE LOS ANDAQUIES","18094","BELÉN DE LOS ANDAQUIES","Calle 7 Carrera 7 Esquina"]
["CAUCACZ POPAYAN",2021,"19","CAUCA","1901","CZ POPAYAN","19001","POPAYÁN","Calle 7 # 24 - 25"]
["CAUCACZ CENTRO",2021,"19","CAUCA","1902","CZ CENTRO","19001","POPAYÁN","Calle 6 Carrera 26 Esquina"]
["CAUCACZ INDIGENA",2021,"19","CAUCA","1903","CZ INDIGENA","19001","POPAYÁN","Calle 6 Carrera 26 Esquina"]
["CAUCACZ SUR",2021,"19","CAUCA","1904","CZ SUR","19532","PATÍA","Calle 6 # 6 - 18"]
["CAUCACZ NORTE",2021,"19","CAUCA","1905","CZ NORTE","19698","SANTANDER DE QUILICHAO","Carrera 9 # 15 - 35"]
["CAUCACZ MACIZO COLOMBIANO",2021,"19","CAUCA","1906","CZ MACIZO COLOMBIANO","19100","BOLÍVAR","Carrera 5 # 9 - 45"]
["CAUCACZ COSTA PACIFICA",2021,"19","CAUCA","1907","CZ COSTA PACIFICA","19318","GUAPI","Carrera 2 con Calle 5 Esquina "]
["CESARCZ VALLEDUPAR 1",2021,"20","CESAR","2001","CZ VALLEDUPAR 1","20001","VALLEDUPAR","Carrera 7 # 25 A - 160"]
["CESARCZ VALLEDUPAR 2",2021,"20","CESAR","2002","CZ VALLEDUPAR 2","20001","VALLEDUPAR","Calle 16 A # 11 - 15 Piso 2"]
["CESARCZ CHIRIGUANA",2021,"20","CESAR","2003","CZ CHIRIGUANA","20178","CHIRIGUANÁ","Calle 8 # 8 - 95"]
["CESARCZ AGUACHICA",2021,"20","CESAR","2004","CZ AGUACHICA","20011","AGUACHICA","Carrera 7 # 4 - 59 Piso 2"]
["CESARCZ AGUSTIN CODAZZI",2021,"20","CESAR","2005","CZ AGUSTIN CODAZZI","20013","AGUSTÍN CODAZZI","Calle 22 # 15 - 27"]
["CÓRDOBACZ 1 MONTERIA",2021,"23","CÓRDOBA","2301","CZ 1 MONTERIA","23001","MONTERÍA","Calle 43 # 3 - 24 Esquina"]
["CÓRDOBACZ CERETE",2021,"23","CÓRDOBA","2302","CZ CERETE","23162","CERETÉ","Calle 12 # 10 B - 34"]
["CÓRDOBACZ PLANETARICA",2021,"23","CÓRDOBA","2303","CZ PLANETARICA","23555","PLANETA RICA","Carrera 10 # 20 - 54"]
["CÓRDOBACZ TIERRALTA",2021,"23","CÓRDOBA","2304","CZ TIERRALTA","23807","TIERRALTA","Calle 7 # 12 - 56"]
["CÓRDOBACZ MONTELIBANO",2021,"23","CÓRDOBA","2305","CZ MONTELIBANO","23466","MONTELÍBANO","Calle 14 # 4 - 30"]
["CÓRDOBACZ LORICA",2021,"23","CÓRDOBA","2306","CZ LORICA","23417","LORICA","Carrera 13 # 1 - 75"]
["CÓRDOBACZ SAHAGUN",2021,"23","CÓRDOBA","2307","CZ SAHAGUN","23660","SAHAGÚN","Calle 15 # 13 - 31 Esquina"]
["CÓRDOBACZ SAN ANDRES DE SOTAVENTO",2021,"23","CÓRDOBA","2308","CZ SAN ANDRES DE SOTAVENTO","23670","SAN ANDRÉS DE SOTAVENTO","Transversal 7 # 7 - 10 Diagonal Estacion de Policía"]
["CUNDINAMARCACZ SOACHA",2021,"25","CUNDINAMARCA","2501","CZ SOACHA","25754","SOACHA","Diagonal 34 # 15 A - 55"]
["CUNDINAMARCACZ ZIPAQUIRA",2021,"25","CUNDINAMARCA","2502","CZ ZIPAQUIRA","25899","ZIPAQUIRÁ","Calle 7 # 1 - 80 "]
["CUNDINAMARCACZ CHOCONTA",2021,"25","CUNDINAMARCA","2503","CZ CHOCONTA","25183","CHOCONTÁ","Calle 6 # 5 - 53"]
["CUNDINAMARCACZ PACHO",2021,"25","CUNDINAMARCA","2504","CZ PACHO","25513","PACHO","Carrera 16 # 6 - 52 Piso 2 y 3 "]
["CUNDINAMARCACZ VILLETA",2021,"25","CUNDINAMARCA","2505","CZ VILLETA","25875","VILLETA","Diagonal 3 A # 9 - 02"]
["CUNDINAMARCACZ FACATATIVA",2021,"25","CUNDINAMARCA","2506","CZ FACATATIVA","25269","FACATATIVÁ","Carrera 6 # 3 - 28"]
["CUNDINAMARCACZ FUSAGASUGA",2021,"25","CUNDINAMARCA","2507","CZ FUSAGASUGA","25290","FUSAGASUGÁ","Calle 7 A # 3 - 03 Este "]
["CUNDINAMARCACZ CAQUEZA",2021,"25","CUNDINAMARCA","2508","CZ CAQUEZA","25151","CAQUEZA","Avenida 4 # 1 - 66/74 Diagonal a la Iglesía"]
["CUNDINAMARCACZ GACHETA",2021,"25","CUNDINAMARCA","2509","CZ GACHETA","25297","GACHETÁ","Carrera 4 # 4 - 27 Piso 2"]
["CUNDINAMARCACZ GIRARDOT",2021,"25","CUNDINAMARCA","2510","CZ GIRARDOT","25307","GIRARDOT","Carrera 7 A # 20 - 26 "]
["CUNDINAMARCACZ LA MESA",2021,"25","CUNDINAMARCA","2511","CZ LA MESA","25386","LA MESA","Calle 4 # 27 - 47"]
["CUNDINAMARCACZ UBATE",2021,"25","CUNDINAMARCA","2512","CZ UBATE","25843","VILLA DE SAN DIEGO DE UBATÉ","Calle 6 # 9 - 13"]
["CUNDINAMARCACZ SAN JUAN DE RIOSECO",2021,"25","CUNDINAMARCA","2513","CZ SAN JUAN DE RIOSECO","25662","SAN JUAN DE RIOSECO","Carrera 7 # 5 - 67"]
["CUNDINAMARCACZ SOACHA CENTRO",2021,"25","CUNDINAMARCA","2518","CZ SOACHA CENTRO","25754","SOACHA","Carrera 7 A # 22 - 01"]
["CHOCÓCZ QUIBDO",2021,"27","CHOCÓ","2701","CZ QUIBDO","27001","QUIBDÓ","Calle 26 # 7 - 07"]
["CHOCÓCZ ISTMINA",2021,"27","CHOCÓ","2702","CZ ISTMINA","27361","ISTMINA","Calle 10 # 9 - 68 "]
["CHOCÓCZ BAHIA SOLANO",2021,"27","CHOCÓ","2703","CZ BAHIA SOLANO","27075","BAHÍA SOLANO","Carrera 2 # 4 - 98"]
["CHOCÓCZ RIOSUCIO",2021,"27","CHOCÓ","2704","CZ RIOSUCIO","27615","RIOSUCIO","Maken"]
["CHOCÓCZ TADO",2021,"27","CHOCÓ","2705","CZ TADO","27787","TADÓ","Carrera 18 # 9 A - 34"]
["HUILACZ NEIVA",2021,"41","HUILA","4101","CZ NEIVA","41001","NEIVA","Av. Circunvalar Calle 21 # 1 E- 40"]
["HUILACZ GARZON",2021,"41","HUILA","4102","CZ GARZON","41298","GARZÓN","Calle 8 # 6 - 38"]
["HUILACZ LA PLATA",2021,"41","HUILA","4103","CZ LA PLATA","41396","LA PLATA","Calle 5 B # 9 A - 05"]
["HUILACZ PITALITO",2021,"41","HUILA","4104","CZ PITALITO","41551","PITALITO","Carrera 15 # 1 - 84"]
["HUILACZ LA GAITANA",2021,"41","HUILA","4105","CZ LA GAITANA","41001","NEIVA","Carrera 10 # 6 A - 37"]
["LA GUAJIRACZ RIOHACHA 1",2021,"44","LA GUAJIRA","4401","CZ RIOHACHA 1","44001","RIOHACHA","Calle 15 Carrera 15 Esquina"]
["LA GUAJIRACZ RIOHACHA 2",2021,"44","LA GUAJIRA","4402","CZ RIOHACHA 2","44001","RIOHACHA","Calle 15 Carrera 15 Esquina"]
["LA GUAJIRACZ FONSECA",2021,"44","LA GUAJIRA","4403","CZ FONSECA","44279","FONSECA","Carretera principal"]
["LA GUAJIRACZ MANAURE",2021,"44","LA GUAJIRA","4404","CZ MANAURE","44560","MANAURE","Carrera 10 Calle 5"]
["LA GUAJIRACZ MAICAO",2021,"44","LA GUAJIRA","4405","CZ MAICAO","44430","MAICAO","Calle 3 Carrera 19 Esquina"]
["LA GUAJIRACZ NAZARETH",2021,"44","LA GUAJIRA","4408","CZ NAZARETH","44847","URIBIA","Diagonal a la Biblioteca Pública"]
["MAGDALENACZ SANTA MARTA 1",2021,"47","MAGDALENA","4701","CZ SANTA MARTA 1","47001","SANTA MARTA","Calle 22 # 20 - 103"]
["MAGDALENACZ SANTA MARTA 2",2021,"47","MAGDALENA","4702","CZ SANTA MARTA 2","47001","SANTA MARTA","Avenida de Los Estudiantes # 17 - 66"]
["MAGDALENACZ DEL RIO",2021,"47","MAGDALENA","4703","CZ DEL RIO","47551","PIVIJAY","Calle 10 # 13 - 62"]
["MAGDALENACZ CIENAGA",2021,"47","MAGDALENA","4704","CZ CIENAGA","47189","CIÉNAGA","Calle 12 # 13 - 04"]
["MAGDALENACZ FUNDACIÓN",2021,"47","MAGDALENA","4705","CZ FUNDACIÓN","47288","FUNDACIÓN","Calle 11 # 7 B - 04"]
["MAGDALENACZ PLATO",2021,"47","MAGDALENA","4706","CZ PLATO","47555","PLATO","Carrera 15 # 14 Vía Cementerio"]
["MAGDALENACZ EL BANCO",2021,"47","MAGDALENA","4707","CZ EL BANCO","47245","EL BANCO","Calle 5 # 9 - 60"]
["MAGDALENACZ SANTA ANA",2021,"47","MAGDALENA","4708","CZ SANTA ANA","47707","SANTA ANA","Carrera 5 A # 4 A - 115"]
["METACZ VILLAVICENCIO 1",2021,"50","META","5001","CZ VILLAVICENCIO 1","50001","VILLAVICENCIO","Carrera 37 # 32 - 41"]
["METACZ VILLAVICENCIO 2",2021,"50","META","5002","CZ VILLAVICENCIO 2","50001","VILLAVICENCIO","Carrera 22 # 10 - 73 / 89 Piso 2"]
["METACZ GRANADA",2021,"50","META","5003","CZ GRANADA","50313","GRANADA","Calle 10 # 14 Bis - 75"]
["METACZ ACACIAS",2021,"50","META","5004","CZ ACACIAS","50006","ACACÍAS","Carrera 20 # 18 - 43"]
["METACZ PUERTO LOPEZ",2021,"50","META","5005","CZ PUERTO LOPEZ","50573","PUERTO LÓPEZ","Carrera 6 # 8 - 90"]
["NARIÑOCZ PASTO 1",2021,"52","NARIÑO","5201","CZ PASTO 1","52001","PASTO","Carrera 24 # 16 -19  "]
["NARIÑOCZ PASTO 2",2021,"52","NARIÑO","5202","CZ PASTO 2","52001","PASTO","Calle 20 # 38 - 63"]
["NARIÑOCZ TUMACO",2021,"52","NARIÑO","5203","CZ TUMACO","52835","SAN ANDRÉS DE TUMACO","Parque Colón"]
["NARIÑOCZ IPIALES",2021,"52","NARIÑO","5204","CZ IPIALES","52356","IPIALES","Carrera 3 # 10 - 21 Sector La Laguna"]
["NARIÑOCZ TUQUERRES",2021,"52","NARIÑO","5205","CZ TUQUERRES","52838","TÚQUERRES","Calle 14 # 15 - 26"]
["NARIÑOCZ LA UNION",2021,"52","NARIÑO","5206","CZ LA UNION","52399","LA UNIÓN","Carrera 1 # 11 - 37"]
["NARIÑOCZ BARBACOAS",2021,"52","NARIÑO","5207","CZ BARBACOAS","52079","BARBACOAS","Calle El Guabo frente al Banco Agrario"]
["NARIÑOCZ REMOLINO",2021,"52","NARIÑO","5208","CZ REMOLINO","52786","TAMINANGO","Via Panamericana Norte Sector Las Palmas Kilometro 4 Corregimiento del Remolino"]
["NORTE DE SANTANDERCZ CUCUTA 1",2021,"54","NORTE DE SANTANDER","5401","CZ CUCUTA 1","54001","SAN JOSÉ DE CÚCUTA","Avenida 1 # 7 - 45"]
["NORTE DE SANTANDERCZ CUCUTA 2",2021,"54","NORTE DE SANTANDER","5402","CZ CUCUTA 2","54001","SAN JOSÉ DE CÚCUTA","Avenida 6 # 1 A - 105 "]
["NORTE DE SANTANDERCZ CUCUTA 3",2021,"54","NORTE DE SANTANDER","5403","CZ CUCUTA 3","54001","SAN JOSÉ DE CÚCUTA","Calle 5 AN # 15 AN - 70"]
["NORTE DE SANTANDERCZ OCAÑA",2021,"54","NORTE DE SANTANDER","5404","CZ OCAÑA","54498","OCAÑA","Calle 7 # 23 - 63"]
["NORTE DE SANTANDERCZ PAMPLONA",2021,"54","NORTE DE SANTANDER","5405","CZ PAMPLONA","54518","PAMPLONA","Carrera 5 # 7 - 85"]
["NORTE DE SANTANDERCZ TIBU",2021,"54","NORTE DE SANTANDER","5406","CZ TIBU","54810","TIBÚ","Carrera 7 # 2 - 30"]
["QUINDIOCZ ARMENIA SUR",2021,"63","QUINDIO","6301","CZ ARMENIA SUR","63001","ARMENIA","Carrera 23 Calles 3 y 4"]
["QUINDIOCZ ARMENIA NORTE",2021,"63","QUINDIO","6302","CZ ARMENIA NORTE","63001","ARMENIA","Carrera 23 Calles 3 y 4"]
["QUINDIOCZ CALARCA",2021,"63","QUINDIO","6303","CZ CALARCA","63130","CALARCA","Carrera 25 Calle 38 Esquina"]
["RISARALDACZ PEREIRA",2021,"66","RISARALDA","6601","CZ PEREIRA","66001","PEREIRA","Carrera 8 A BIS # 35 - 11"]
["RISARALDACZ LA VIRGINIA",2021,"66","RISARALDA","6602","CZ LA VIRGINIA","66400","LA VIRGINIA","Carrera 6 # 10 - 38"]
["RISARALDACZ DOS QUEBRADAS",2021,"66","RISARALDA","6603","CZ DOS QUEBRADAS","66170","DOSQUEBRADAS","Calle 18 # 19 - 69"]
["RISARALDACZ BELEN DE UMBRIA",2021,"66","RISARALDA","6604","CZ BELEN DE UMBRIA","66088","BELÉN DE UMBRÍA","Calle 9 # 8 - 39"]
["RISARALDACZ SANTA ROSA DE CABAL",2021,"66","RISARALDA","6605","CZ SANTA ROSA DE CABAL","66682","SANTA ROSA DE CABAL","Calle 12 # 11 - 51"]
["SANTANDERCZ ANTONIA SANTOS",2021,"68","SANTANDER","6801","CZ ANTONIA SANTOS","68001","BUCARAMANGA","Calle 34 # 26 - 31"]
["SANTANDERCZ BUCARAMANGA SUR",2021,"68","SANTANDER","6802","CZ BUCARAMANGA SUR","68001","BUCARAMANGA","Carrera 6 # 3 - 04"]
["SANTANDERCZ CARLOS LLERAS RESTREPO",2021,"68","SANTANDER","6803","CZ CARLOS LLERAS RESTREPO","68001","BUCARAMANGA","Carrera 13 # 42 - 12"]
["SANTANDERCZ LUIS CARLOS GALÁN SARMIENTO",2021,"68","SANTANDER","6804","CZ LUIS CARLOS GALÁN SARMIENTO","68001","BUCARAMANGA","Calle 41 # 4 - 19"]
["SANTANDERCZ YARIQUIES",2021,"68","SANTANDER","6805","CZ YARIQUIES","68081","BARRANCABERMEJA","Calle 57 # 27 - 105"]
["SANTANDERCZ LA FLORESTA",2021,"68","SANTANDER","6806","CZ LA FLORESTA","68081","BARRANCABERMEJA","Carrera 32 # 75 - 50"]
["SANTANDERCZ SAN GIL",2021,"68","SANTANDER","6807","CZ SAN GIL","68679","SAN GIL","Carrera 10 # 13 - 78 Piso 3"]
["SANTANDERCZ SOCORRO",2021,"68","SANTANDER","6808","CZ SOCORRO","68755","SOCORRO","Calle 9 # 8 - 20"]
["SANTANDERCZ VELEZ",2021,"68","SANTANDER","6809","CZ VELEZ","68861","VÉLEZ","Carrera 3 # 9 - 31"]
["SANTANDERCZ MALAGA",2021,"68","SANTANDER","6810","CZ MALAGA","68432","MÁLAGA","Carrera 8 # 12 - 30"]
["SANTANDERCZ RESURGIR",2021,"68","SANTANDER","6815","CZ RESURGIR","68001","BUCARAMANGA","Carrera 15 # 30 - 13"]
["SUCRECZ BOSTON",2021,"70","SUCRE","7001","CZ BOSTON","70001","SINCELEJO","Transversal 27 C # 27 A - 21 "]
["SUCRECZ NORTE",2021,"70","SUCRE","7002","CZ NORTE","70001","SINCELEJO","Calle 25 # 25 - 138 "]
["SUCRECZ SINCELEJO",2021,"70","SUCRE","7003","CZ SINCELEJO","70001","SINCELEJO","Calle 32 # 28 - 121"]
["SUCRECZ LA MOJANA",2021,"70","SUCRE","7004","CZ LA MOJANA","70771","SUCRE","Calle 11 # 4 - 59 "]
["TOLIMACZ JORDAN",2021,"73","TOLIMA","7301","CZ JORDAN","73001","IBAGUÉ","Carrera 11 # 77 - 20 Edificio Frontera Piso 6 y 7"]
["TOLIMACZ GALAN",2021,"73","TOLIMA","7302","CZ GALAN","73001","IBAGUÉ","Carrera 3 # 12 - 54 Centro Comercial Combeima Piso 9"]
["TOLIMACZ IBAGUE",2021,"73","TOLIMA","7303","CZ IBAGUE","73001","IBAGUÉ","Carrera 5 # 43 - 23 Piso 1"]
["TOLIMACZ LIBANO",2021,"73","TOLIMA","7304","CZ LIBANO","73411","LÍBANO","Calle 6 # 14 - 86"]
["TOLIMACZ LERIDA",2021,"73","TOLIMA","7305","CZ LERIDA","73408","LÉRIDA","Avenida Circunvalar Frente al Hospital Reina Sofía"]
["TOLIMACZ HONDA",2021,"73","TOLIMA","7306","CZ HONDA","73349","HONDA","Carrera 14 # 7 - 31 Antiguas Oficinas de Telecom "]
["TOLIMACZ ESPINAL",2021,"73","TOLIMA","7307","CZ ESPINAL","73268","ESPINAL","Calle 19 # 8 - 38"]
["TOLIMACZ CHAPARRAL",2021,"73","TOLIMA","7308","CZ CHAPARRAL","73168","CHAPARRAL","Avenida el Estudiante Vía Rioblanco - Edificio ICA"]
["TOLIMACZ PURIFICACION",2021,"73","TOLIMA","7309","CZ PURIFICACION","73585","PURIFICACIÓN","Calle 7 # 7 A - 24"]
["TOLIMACZ MELGAR",2021,"73","TOLIMA","7312","CZ MELGAR","73449","MELGAR","Calle 8 # 19 - 10 Piso 2 C.C. Ulloa Plaza - Avenida Cafam"]
["VALLE DEL CAUCACZ SURORIENTAL",2021,"76","VALLE DEL CAUCA","7601","CZ SURORIENTAL","76001","CALI","Calle 73 # 8 A - 35"]
["VALLE DEL CAUCACZ NORORIENTAL",2021,"76","VALLE DEL CAUCA","7602","CZ NORORIENTAL","76001","CALI","Carrera 3 Norte # 39 N - 23"]
["VALLE DEL CAUCACZ LADERA",2021,"76","VALLE DEL CAUCA","7603","CZ LADERA","76001","CALI","Carrera 43 # 5 A - 17"]
["VALLE DEL CAUCACZ CENTRO",2021,"76","VALLE DEL CAUCA","7604","CZ CENTRO","76001","CALI","Avenida 1 Norte # 7 N - 41"]
["VALLE DEL CAUCACZ SUR",2021,"76","VALLE DEL CAUCA","7605","CZ SUR","76001","CALI","Carrera 42 # 5 C - 48"]
["VALLE DEL CAUCACZ JAMUNDI",2021,"76","VALLE DEL CAUCA","7606","CZ JAMUNDI","76364","JAMUNDÍ","Carrera 13 # 10 - 21 "]
["VALLE DEL CAUCACZ YUMBO",2021,"76","VALLE DEL CAUCA","7607","CZ YUMBO","76892","YUMBO","Carrera 4 Oeste # 1 B - 07"]
["VALLE DEL CAUCACZ PALMIRA",2021,"76","VALLE DEL CAUCA","7608","CZ PALMIRA","76520","PALMIRA","Carrera 31 # 23 - 52"]
["VALLE DEL CAUCACZ BUGA",2021,"76","VALLE DEL CAUCA","7609","CZ BUGA","76111","GUADALAJARA DE BUGA","Carrera 8 Carretera Central"]
["VALLE DEL CAUCACZ TULUA",2021,"76","VALLE DEL CAUCA","7610","CZ TULUA","76834","TULUÁ","Calle 25 # 26 - 62"]
["VALLE DEL CAUCACZ SEVILLA",2021,"76","VALLE DEL CAUCA","7611","CZ SEVILLA","76736","SEVILLA","Calle 49 # 48 - 42 "]
["VALLE DEL CAUCACZ ROLDANILLO",2021,"76","VALLE DEL CAUCA","7612","CZ ROLDANILLO","76622","ROLDANILLO","Carrera 6 # 9 - 103"]
["VALLE DEL CAUCACZ CARTAGO",2021,"76","VALLE DEL CAUCA","7613","CZ CARTAGO","76147","CARTAGO","Carrera 6 # 9 - 61"]
["VALLE DEL CAUCACZ BUENAVENTURA",2021,"76","VALLE DEL CAUCA","7614","CZ BUENAVENTURA","76109","BUENAVENTURA","Avenida Simón Bolívar Km. 9"]
["VALLE DEL CAUCACZ RESTAURAR",2021,"76","VALLE DEL CAUCA","7620","CZ RESTAURAR","76001","CALI","Calle 11 # 6 - 24 Piso 8"]
["ARAUCACZ ARAUCA",2021,"81","ARAUCA","8101","CZ ARAUCA","81001","ARAUCA","Carrera 21 # 1 - 24"]
["ARAUCACZ SARAVENA",2021,"81","ARAUCA","8102","CZ SARAVENA","81736","SARAVENA","Carrera 16 # 28 - 09"]
["ARAUCACZ TAME",2021,"81","ARAUCA","8103","CZ TAME","81794","TAME","Carrera 14 # 15 - 57"]
["CASANARECZ YOPAL",2021,"85","CASANARE","8501","CZ YOPAL","85001","YOPAL","Diagonal 9 # 8 - 85"]
["CASANARECZ PAZ DE ARIPORO",2021,"85","CASANARE","8502","CZ PAZ DE ARIPORO","85250","PAZ DE ARIPORO","Calle 7 # 10 - 46"]
["CASANARECZ VILLANUEVA",2021,"85","CASANARE","8503","CZ VILLANUEVA","85440","VILLANUEVA","Calle 9 # 12 - 10"]
["PUTUMAYOCZ MOCOA",2021,"86","PUTUMAYO","8601","CZ MOCOA","86001","MOCOA","Calle 14 # 9 - 100"]
["PUTUMAYOCZ SIBUNDOY",2021,"86","PUTUMAYO","8602","CZ SIBUNDOY","86749","SIBUNDOY","Carrera 12 # 14 - 59"]
["PUTUMAYOCZ PUERTO ASIS",2021,"86","PUTUMAYO","8603","CZ PUERTO ASIS","86568","PUERTO ASÍS","Calle 11 # 16 - 91"]
["PUTUMAYOCZ LA HORMIGA",2021,"86","PUTUMAYO","8604","CZ LA HORMIGA","86865","VALLE DEL GUAMUEZ","Carrera 7 # 5 - 171"]
["SAN ANDRÉSCZ LOS ALMENDROS",2021,"88","SAN ANDRÉS","8801","CZ LOS ALMENDROS","88001","SAN ANDRÉS","Calle 6 # 1 - 82 Av Francisco Newball"]
["AMAZONASCZ LETICIA",2021,"91","AMAZONAS","9102","CZ LETICIA","91001","LETICIA","Carrera 11 # 3 - 90 Lote 1B"]
["GUAINÍACZ INIRIDA",2021,"94","GUAINÍA","9403","CZ INIRIDA","94001","INÍRIDA","Calle 15 # 8 - 86"]
["GUAVIARECZ SAN JOSE DE GUAVIARE",2021,"95","GUAVIARE","9505","CZ SAN JOSE DE GUAVIARE","95001","SAN JOSÉ DEL GUAVIARE","Av. Los Colonizadores # 23 - 106 "]
["VAUPÉSCZ MITU",2021,"97","VAUPÉS","9704","CZ MITU","97001","MITÚ","Calle 14 # 15 - 07"]
["VICHADACZ PUERTO CARREÑO",2021,"99","VICHADA","9902","CZ PUERTO CARREÑO","99001","PUERTO CARREÑO","Carrera 11 # 14 - 70"]