{"text_format":"1","workbook":"xlsx","n_sheets":4,"sheets":["MENÚ","Listado de instancias","Actores participantes","Funciones de las instancias"],"not_rendered":{"charts":0,"images":0,"macros":1,"external_links":1,"defined_names":3,"comments":0,"pivot_tables":0},"unopened":[],"bounds":{"document_bytes":16777216,"sheet_cells":100000,"rows_first":2000,"rows_last":500,"rows_between":2000,"halvings":0,"cell_chars":16384,"cell_head_chars":4096},"cells_cut":0,"cells_raw":0,"read":"whole","date_system":"1900"}

{"sheet":"MENÚ","index":0,"n_rows":18,"n_cols":14,"rows_kept":18,"cut":false,"hidden":false,"merged":[[5,3,5,14]]}
[]
[]
[]
[]
[]
[null,null,null,"INSTANCIAS DE PARTICIPACION CUIDADANA "]
[]
[null,null,null,"* Al dar click sobre  INST ID podrá visualizar la información correspondiente de cada una de las instancias."]
[]
[null,null,null,"INSTANCIA DE PARTICIPACIÓN","INST ID ",null,"INSTANCIA DE PARTICIPACIÓN","INST ID ",null,"INSTANCIA DE PARTICIPACIÓN","INST ID ",null,"INSTANCIA DE PARTICIPACIÓN","INST ID "]
[null,null,null,"Consejo Nacional de Apoyo a la Lactancia Materna",null,null,"Comité Interinstitucional Consultivo para la Prevención de la Violencia Sexual y Atención Integral de los Niños, Niñas y Adolescentes Víctimas del Abuso Sexual",null,null,"Comité Nacional de Convivencia Escolar",null,null,"Mesa Técnica Nacional de Familias del Sistema Nacional de Bienestar Familiar"]
[]
[null,null,null,"Comité Interinstitucional para la Erradicación del Trabajo Infantil y la Protección del Menor Trabajador",null,null,"Comisión Nacional Intersectorial para la Promoción y Garantía de los Derechos Sexuales y Reproductivos",null,null,"Consejo Nacional de Políticas Públicas de la Juventud",null,null,"Comisión Nacional de Mujeres Indígenas"]
[]
[null,null,null,"Consejo Nacional de SIDA",null,null,"Subcomités Técnicos del Sistema Nacional de Atención y Reparación a las Víctimas",null,null,"Mesa Técnica de Seguimiento a la Situación de la Niñez, Fortalecimiento familiar y comunitario indígena en Colombia"]
[]
[]
[null,null,null,"*La información aquí registrada se obtiene desde el aplicativo clicParticipativo del DNP https://www.dnp.gov.co/DNPN/Clic-Participativo/Paginas/default.aspx y las instancias que registran según DNP son resorte del ICBF. "]

{"sheet":"Listado de instancias","index":1,"n_rows":127,"n_cols":11,"rows_kept":127,"cut":false,"hidden":false,"merged":[[2,2,2,5]]}
[]
[]
[null,null,"LISTADOS DE INTANCIAS"]
[]
[null,"Instancia de participación","Instancia ID","Año de la norma","Tipo de norma de creación","Norma","Objeto","Caracter","Categoría","Subcategoría","Portal web de la instancia de participación"]
[null,"Comité Nacional de Urgencias","INST01",1992,"Decreto","Decreto 412 de 1992. \"Por el cual se reglementa parcialmente los servicios\nde urgencias y se dictan otras disposiciones. \"\nDecreto 780 de 2016","Organismo asesor del subsector oficial del sector salud en lo concerniente a la prevención y manejo de las urgencias médicas.","Mixto","Sectorial","Salud","https://www.minsalud.gov.co/Paginas/default.aspx"]
[null,"Consejo Nacional de Apoyo a la Lactancia Materna","INST02",1992,"Decreto","Decreto 1396 de 1992 Por el cual se crea el Consejo Nacional de Apoyo a la Lactancia Materna y se dictan otras disposiciones","Instancia cuyo objeto es orientar e impulsar la política sobre lactancia materna y alimentación complementaria, promoción de información al respecto, impulsar la inclusión del Plan de lactancia materna en los componentes del Plan de desarrollo.","Mixto","Sectorial","Salud","www.minsalud.gov.co"]
[null,"Consejo Nacional de Educación Superior","INST03",1992,"Ley","Ley 30 de 1992 “Por el cual se organiza el servicio público de la Educación Superior.”","Reglamentar la presentación de las instituciones de educación superior de economía solidaria en los comités asesores, de conformidad con su crecimiento y desarrollo académico.","Mixto","Sectorial","Educación","www.mineducacion.gov.co"]
[null,"Consejo Nacional de Integración y Desarrollo de la Comunidad","INST04",1992,"Decreto","Decreto 0646 de 1992 “Por el cual se reglamentan los artículos 20, 21 y 24 y 24 de la ley 52 de l990 y se determina la constitución, composición y funciones del Consejo Nacional de Integración y Desarrollo de la Comunidad.”","Órgano de consulta, asesoría y coordinación del Ministerio de Gobierno para la promoción y fomento de las organizaciones comunitarias con finalidades de convivencia ciudadana, participación y desarrollo.","Mixto","Sectorial","Política social y Desarrollo comunitario","https://www.mininterior.gov.co/"]
[null,"Comisión Consultiva de Alto Nivel para las Comunidades Negras, Afrocolombianas, Raizales y Palenqueras","INST05",1993,"Ley","Ley 70 de 1993 \"Por la cual se desarrolla el artículo transitorio 55 de la Constitución Política. El Congreso de Colombia\"\nDecreto 1371 de 1994\nDecreto 1066 de 2015","Espacio de interlocución permanente para la atención de los asuntos de carácter regional y nacional que interesan a las comunidades negras beneficiarias de la Ley 70 de 1993.","Mixto","Poblacional","Grupos y comunidades étnicas: Negras, Afrocolombianos, Raizales, Palenqueras, Indígenas, Rom o Gitana.","https://www.mininterior.gov.co/comision-consultiva-de-alto-nivel-de-las-comunidades-negras-afrocolombianas-raizales-y-palenqueras"]
[null,"Comisión de Estudios para la Formulación del Plan de Desarrollo de las Comunidades Negras","INST06",1993,"Ley","Ley 70 de 1993 \"Por la cual se desarrolla el artículo transitorio 55 de la Constitución Política”. Decreto 3050 de 2002, \nDecreto 4007 de 2006.\nCompilado Decreto 1082 de 2015","Espacio responsable de la formulación y la consolidación del Plan de Desarrollo de las Comunidades Negras, como insumo para el Plan Nacional de Desarrollo. Esta es una debe ser comisión técnica con un amplio conocimiento de las realidades de las comunidades negras.","Mixto","Poblacional","Grupos y comunidades étnicas: Negras, Afrocolombianos, Raizales, Palenqueras, Indígenas, Rom o Gitana.","https://dacn.mininterior.gov.co/sala-de-prensa/noticias/mininterior-instalo-la-comision-consultiva-de-alto-nivel"]
[null,"Comisión Nacional de Policía y Participación Ciudadana","INST07",1993,"Ley","Ley 62 de 1993 \"Por la cual se expiden normas sobre la Policía Nacional, se crea un establecimiento público de seguridad social y bienestar para la Policía Nacional, se crea la Superintendencia de Vigilancia y Seguridad Privada y se reviste de facultades extraordinarias al Presidente de la República\"\nDecreto Nacional 1028 de 1994\nDecreto 1070 de 2015","Tiene por objeto atender las necesidades de distintos grupos sociales en relación con los asuntos de Policía, emitir opiniones sobre el conjunto de normas procedimentales y de comportamiento que regulan los servicios de la institución y promoverlas investigaciones a que haya lugar.","Mixto","Sectorial","Seguridad y Convivencia","https://www.mindefensa.gov.co"]
[null,"Consejo Asesor del Servicio de Radioaficionado","INST08",1993,"Ley","Ley 94 de 1993 “Por la cual se fomenta el desarrollo de la radio experimentación a nivel aficionado y la Nación se asocia al sexagésimo aniversario de la fundación de la Liga Colombina de Radioaficionados.”\nDecreto 963 DE 2009","Espacio legalmente constituido por el cual se asesora al Ministerio de Comunicaciones y propone como también recomienda medidas para el funcionamiento óptimo del servicio de radioaficionados.","Mixto","Sectorial","Innovación y tecnologías de la información y las comunicaciones","https://www.mintic.gov.co"]
[null,"Consejo Nacional Ambiental","INST09",1993,"Ley","Ley 99 de 1993 “por la cual se crea el Ministerio del Medio Ambiente, se reordena el Sector Público encargado de la gestión y conservación del medio ambiente y los recursos naturales renovables, se organiza el Sistema Nacional Ambiental, SINA, y se dictan otras disposiciones”.\nModificado por el Decreto Nacional 1124 de 1999\nDecreto 3570 de 2011","Asegurar la coordinación intersectorial a nivel público de las políticas, planes y programas en materia ambiental y de recursos naturales renovables.","Mixto","Sectorial","Ambiente y Desarrollo Sostenible","https://www.minambiente.gov.co/"]
[null,"Consejo Técnico Asesor de Política Ambiental","INST10",1993,"Ley","Ley 99 de 1993, “Por la cual se crea el Ministerio del Medio Ambiente, se reordena el Sector Público encargado de la gestión y conservación del medio ambiente y los recursos naturales renovables, se organiza el Sistema Nacional Ambiental, SINA, y se dictan otras disposiciones.”\nDecreto 707 de 2005\nDECRETO 2600 DE 2009","Órgano asesor del Ministerio de Ambiente, Vivienda y Desarrollo Territorial","Mixto","Sectorial","Ambiente y Desarrollo Sostenible","https://www.minambiente.gov.co/"]
[null,"Consejo Nacional de Seguridad Social en Salud","INST11",1993,"Ley","Ley 100 de 1993 Por la cual se crea el sistema de seguridad social integral y se dictan otras disposiciones.\nAcuerdo 001 de 1994 \"Por el cual se adopta el Reglamento del Consejo Nacional de Seguridad Social en Salud\"","El Consejo Nacional de Seguridad Social en Salud tendrá como función principal adoptar las determinaciones que corresponden en ejercicio de sus funciones como órgano de dirección del Sistema de Seguridad Social en Salud, adscrito al Ministerio de Salud.","Mixto","Sectorial","Salud","https://www.minsalud.gov.co/Paginas/default.aspx"]
[null,"Consejo Nacional de Planeación","INST12",1994,"Ley","Ley 152 de 1994 “Por la cual se establece la Ley Orgánica del Plan de Desarrollo” Decreto 2284 de 1994","Espacio en donde confluyen los representantes de las entidades territoriales y de los distintos sectores que integran la sociedad civil, siendo un espacio de participación ciudadana.","Mixto","Gestión pública","Planeación","https://www.cnp.gov.co/"]
[null,"Consejo Nacional de Riesgos Laborales (antes Riesgos Profesionales)","INST13",1994,"Decreto","Decreto Ley 1295 de 1994 creó el Consejo Nacional de Riesgos Profesionales como un órgano de dirección del Sistema General de Riesgos Profesionales.","Espacio legalmente constituido como un órgano de dirección del Sistema General de Riesgos Laborales de carácter permanente","Mixto","Sectorial","Trabajo","www.mintrabajo.gov.co"]
[null,"Junta Nacional de Educación","INST14",1994,"Ley","Ley 115 de 1994 “Por la cual se expide la ley general de educación.”\nDecreto 1075 de 2015","Espacio legalmente constituido como órgano científico, con el carácter de consultor permanente del Ministerio de Educación Nacional, para la planeación y diseño de las políticas educativas del Estado.","Mixto","Sectorial","Educación","www.mineducacion.gov.co"]
[null,"Comisión Nacional Ciudadana para la Lucha contra la Corrupción","INST15",1995,"Ley","Ley 190 de 1995 “Por la cual se dictan normas tendientes a preservar la moralidad en la Administración Pública y se fijan disposiciones con el fin de erradicar la corrupción administrativa.”\nLey 1474 de 2011 “Por la cual se dictan normas orientadas a fortalecer los mecanismos de prevención, investigación y sanción de actos de corrupción y la efectividad del control de la gestión pública.”","Espacio legalmente constituido por el cual se fortalecen los mecanismos de prevención, investigación y sanción de actos de corrupción y efectividad del control de la gestión pública.","Social","Gestión pública","Transparencia","www.anticorrupcion.gov.co"]
[null,"Comisión Pedagógica Nacional","INST16",1995,"Decreto","Ley 70 de 1993.\nDecreto 2249 de 1995. “Por el cual se conforma la Comisión Pedagógica de Comunidades Negras de que trata el artículo 42 de la Ley 70 de 1993.”\nDecreto 851 de 1996","Espacio encargado de asesorar la formulación y ejecución de una política de etnoeducación para las comunidades negras.","Mixto","Poblacional","Grupos y comunidades étnicas: Negras, Afrocolombianos, Raizales, Palenqueras, Indígenas, Rom o Gitana.","www.mineducacion.gov.co"]
[null,"Comité Interinstitucional para la Erradicación del Trabajo Infantil y la Protección del Menor Trabajador","INST17",1995,"Decreto","Decreto 859 de 1995 “Por el cual se crea el Comité Interinstitucional para la erradicación del Trabajo Infantil y la Protección del Menor Trabajador”","Espacio encargado de asesorar, elaborar y fortalecer la coordinación entre las instituciones públicas y privadas, cuyo fin es el proponer políticas y programas tendientes a mejorar la condición social laboral del menor trabajador.","Mixto","Poblacional","Grupo etario: Adulto Mayor, juventud, infancia","https://www.mintrabajo.gov.co"]
[null,"Comisión de Derechos Humanos de los Pueblos Indígenas","INST18",1996,"Decreto","Decreto 1396 de 1996 “Por medio del cual se crea la Comisión de Derechos Humanos de los pueblos Indígenas y se crea el programa especial de atención a los Pueblos Indígenas.”","Instancia encargada de velar por la protección y promoción de los derechos de los pueblos indígenas y de los miembros de dichos pueblos, y especialmente de sus derechos a la vida, a la integridad personal y a la libertad; diseñar y definir medidas tendientes a la prevención, reducción y eliminación de las violaciones graves de los derechos humanos y el DIH, propender por su aplicación; hacer seguimiento; diseñar un programa especial de atención de indígenas víctimas de la violencia.","Mixto","Poblacional","Grupos y comunidades étnicas: Negras, Afrocolombianos, Raizales, Palenqueras, Indígenas, Rom o Gitana.","https://comisionddhhpi.com/"]
[null,"Comisión Nacional de Territorios Indígenas","INST19",1996,"Decreto","Decreto 1397 de 1996 “por el cual se crea la Comisión Nacional de Territorios Indígenas y la Mesa Permanente con los pueblos y organizaciones indígenas y se dictan otras disposiciones”.","Instancia encargada de informar y actualizar la información sobre las necesidades de las comunidades indígenas, proponer y presentar presupuestos para la ejecución de programas para las vigencias fiscales, realizar recomendaciones para dar cumplimiento a la protección de la diversidad étnica y cultural de la Nación, hacer seguimiento a la ejecución del ordenamiento territorial.","Mixto","Poblacional","Grupos y comunidades étnicas: Negras, Afrocolombianos, Raizales, Palenqueras, Indígenas, Rom o Gitana.","http://cntindigena.org/"]
[null,"Comisión Permanente de Concertación de Políticas Salariales y Laborales","INST20",1996,"Ley","Ley 278 de 1996 “Por la cual se modifica el Sistema de Riesgos Laborales y se dictan otras disposiciones en materia de salud ocupacional” \nLey 990 de 2005","Espacio legalmente constituido creada por el artículo 56 de la Constitución Política, cuya comisión permanente a la cual se refiere este artículo se denominará \"comisión permanente de concertación de políticas salariales y laborales\" y se encontrara adscrita al Ministerio de Trabajo y Seguridad Social.","Mixto","Sectorial","Trabajo","https://www.mintrabajo.gov.co/relaciones-laborales/comision-permanente-de-concertacion"]
[null,"Consejo Nacional Agropecuario y Agroindustrial","INST21",1996,"Ley","Ley 301 de 1996 “Por la cual se crea el Consejo Nacional Agropecuario y Agroindustrial.”\nLey 1152 de 2007","Organismo consultivo y asesor del Gobierno Nacional que servirá como mecanismo de participación y concertación gubernamental, gremial y ciudadana para la planificación y el desarrollo de la política agropecuaria.","Mixto","Sectorial","Agropecuario, Pesquero y de Desarrollo Rural","https://www.minagricultura.gov.co"]
[null,"Mesa Permanente de Concertación con los Pueblos y Organizaciones Indígenas","INST22",1996,"Decreto","Decreto 1397 de 1996 “por el cual se crea la Comisión Nacional de Territorios Indígenas y la Mesa Permanente con los pueblos y organizaciones indígenas y se dictan otras disposiciones”.\nDecreto 1772 de 2007","Espacio cuyo objeto será concertar entre los pueblos y organizaciones indígenas, y el Estado todas las decisiones administrativas y legislativas susceptibles de afectarlos, evaluar la ejecución de la política indígena del Estado, sin perjuicio de las funciones del mismo, y hacerle seguimiento al cumplimiento de los acuerdos que allí se lleguen.","Mixto","Poblacional","Grupos y comunidades étnicas: Negras, Afrocolombianos, Raizales, Palenqueras, Indígenas, Rom o Gitana.","https://www.mpcindigena.org/"]
[null,"Comité Nacional de Salud Ocupacional","INST23",1997,"Decreto","Decreto 16 de 1997 por medio del cual se reglamenta la integración, el funcionamiento y la red de los Comités Nacionales, Seccionales y Locales de Salud Ocupacional.","El Comité Nacional de Salud Ocupacional tendrá dentro de sus funciones la de asesorar y servir como órgano consultivo a la dirección técnica de riesgos profesionales del Ministerio de Trabajo y Seguridad Social y al consejo nacional de riesgos profesionales, en materia de elaboración de políticas en salud ocupacional e implementación del plan nacional de salud ocupacional.","Mixto","Sectorial","Trabajo","https://www.minsalud.gov.co/riesgosProfesionales/Paginas/Comit%C3%A9s%20de%20Salud%20Ocupacional.aspx"]
[null,"Consejo Nacional de Cultura","INST24",1997,"Ley","Ley 397 de 1997 “por la cual se desarrollan los artículos 70, 71 y 72 y demás artículos concordantes de la Constitución Política y se dictan normas sobre patrimonio cultural, fomentos y estímulos a la cultura, se crea el Ministerio de la Cultura y se trasladan algunas dependencias”","Organismo asesor del Ministerio de Cultura.","Mixto","Sectorial","Cultura","http://www.sinic.gov.co/"]
[null,"Consejo Nacional de SIDA","INST25",1997,"Decreto","Decreto 1543 de 1997 Por el cual se reglamenta el manejo de la infección por el Virus de Inmunodeficiencia Humana (VIH), el Síndrome de la Inmunodeficiencia Adquirida (SIDA) y las otras Enfermedades de Transmisión Sexual (ETS).\nDecreto 780 de 2016.","El Consejo Nacional de SIDA tendrá por objeto fomentar y respaldar las acciones que se lleven a cabo en el país para la promoción, prevención y control de la infección por el Virus de Inmunodeficiencia Humana (VIH), el Síndrome de Inmunodeficiencia Adquirida (SIDA) y las otras Enfermedades de Transmisión Sexual (ETS), y asesorar al Ministerio de Salud en la toma de decisiones sobre la materia (artículo 47).","Mixto","Sectorial","Salud","www.minsalud.gov.co"]
[null,"Consejos Nacionales de las Artes y la Cultura","INST26",1997,"Ley","Ley 397 de 1997 \"Por la cual se desarrollan los Artículos 70, 71 y 72 y demás Artículos concordantes de la Constitución Política y se dictan normas sobre patrimonio cultural, fomentos y estímulos a la cultura, se crea el Ministerio de la Cultura y se trasladan algunas dependencias.\"\nLey 1185 de 2008 \nDecreto 3600 de 2004\nDecreto 1080 de 2015","En cada una de las manifestaciones artísticas y culturales, serán entes asesores del Ministerio de Cultura para las políticas, planes y programas en su área respectiva, correspondiéndole al Gobierno Nacional determinar su composición y funciones.","Mixto","Sectorial","Cultura","http://www.sinic.gov.co"]
[null,"Consejo Nacional de Economía Solidaria","INST27",1998,"Ley","Ley 454 de 1998, “Por la cual se determina el marco conceptual que regula la economía solidaria (…)” Decreto 1714 de 2012 Por medio del cual se reglamenta la Ley 454 de 1998 en lo referente al Consejo Nacional de la Economía Solidaria (CONES).","Organismo que al interior del sector solidario tiene la capacidad de formular y coordinar a nivel nacional las políticas, estrategias, planes, programas y proyectos generales pertinentes al sistema de la economía solidaria.","Mixto","Sectorial","Política social y Desarrollo comunitario","https://www.orgsolidarias.gov.co/"]
[null,"Comisión Colombiana del Océano","INST28",2000,"Decreto","Decreto 347 de 2000 “Por el cual se modifica la comisión colombiana de oceanografía y se dictan otras disposiciones.”\nDecreto 249 de 2015 “Por el cual se modifica el Decreto número 347 de 2000.”\nDecreto 2214 de 2013\nDecreto 1714 de 2018","Órgano intersectorial de asesoría, consulta, planificación y coordinación del Gobierno Nacional en materia de Política Nacional del Océano y de los Espacios Costeros y sus diferentes temas conexos estratégicos, científicos, tecnológicos, económicos y ambientales relacionados con el desarrollo sostenible de los mares colombianos y sus recursos.","Mixto","Sectorial","Ambiente y Desarrollo Sostenible","http://www.cco.gov.co/                                        "]
[null,"Consejo Superior de Pequeña y Mediana Empresa","INST29",2000,"Ley","Ley 590 de 2000 “Por la cual se dictan disposiciones para promover el desarrollo de las micro, pequeñas y medianas empresa\"\nAcuerdo 1 de 2012 Consejo Superior PYME\nAcuerdo 2 de 2013 Consejo Superior PYME","Servir como mecanismo de apoyo para la definición, articulación, ejecución, coordinación y consolidación de las políticas y los programas de promoción de las pequeñas y medianas empresas.","Mixto","Sectorial","Pequeña y Mediana Empresa","http://www.mipymes.gov.co/coordinacion-con-entidades-publico-privadas-para-a/consejos-superiores-de-micro-empresa-consejos-1"]
[null,"Consejo Asesor de Política Minera","INST30",2001,"Ley","Ley 685 de 2001 \"Por la cual se expide el Código de Minas y se dictan otras disposiciones.\"","Créase el Consejo Asesor de Política Minera, con funciones de carácter consultivo sobre decisiones que afecten o involucren el sector minero.","Mixto","Sectorial","Industrias Extractivas","https://www.minenergia.gov.co/sistema-de-informacion-minera"]
[null,"Comisión Consultiva de las Mujeres Indígenas Rurales","INST31",2002,"Ley","Ley 731 de 2002 “Por la cual se dictan normas para favorecer a las mujeres rurales”","Comisión encargada de la identificación, formulación, evaluación y seguimiento de planes, programas y proyectos relacionados con el desarrollo económico, social, cultural, político y ambiental de los pueblos indígenas de Colombia, conformada en forma democrática por mujeres indígenas rurales de diferentes etnias.","Social","Poblacional","Mujeres","http://adc.org.co/wp-content/uploads/2017/06/CARTILLA-LEY-MUJER-RURAL.pdf"]
[null,"Comisión de Seguimiento y Verificación de las Políticas de Generación de Empleo","INST32",2002,"Ley","Ley 789 de 2002 “Por la cual se dictan normas para apoyar el empleo y ampliar la protección social y se modifican algunos artículos del Código Sustantivo de Trabajo.”","Espacio legalmente constituido el cual solicita, recomienda, rinde informes y da a conocer aquellas empresas generadoras de empleo.","Mixto","Sectorial","Trabajo","www.mintrabajo.gov.co"]
[null,"Consejo Nacional de las Artes y la Cultura en Cinematografía","INST33",2003,"Ley","Ley 814 de 2003; \"Por la cual se dictan normas para el fomento de la actividad cinematográfica en Colombia\"\nDecreto 2291 de 2003; Art. 69, \nDecreto 763 de 2009 modifica la composición del Consejo.\nDecreto 1080 de 2015","Asignará directamente los recursos del Fondo para el Desarrollo Cinematográfico o podrá establecer subcomités de evaluación y selección y fijar su remuneración y gastos.","Mixto","Sectorial","Cultura","http://www.sinic.gov.co"]
[null,"Comisión Nacional Intersectorial de Vigilancia en Salud Pública","INST34",2006,"Decreto","Decreto 3518 de 2006 “Por el cual se crea y reglamenta el Sistema de Vigilancia en Salud Pública y se dictan otras disposiciones”.","Instancia asesora del Ministerio de la Protección Social en la definición de lineamientos para las acciones de vigilancia en salud pública, reglamentaciones y normas técnicas y la formulación de planes, programas y proyectos destinados a garantizar la gestión y operación del Sistema de Vigilancia en Salud Pública.","Mixto","Sectorial","Salud","https://www.minsalud.gov.co/salud/publica/epidemiologia/Paginas/comision-intersectorial-de-salud-publica.aspx#:~:text=La%20Comisi%C3%B3n%20Intersectorial%20de%20Salud,de%20Salud%20y%20Protecci%C3%B3n%20Social."]
[null,"Consejo Nacional de Política Social","INST35",2006,"Ley","Ley 1098 de 2006 “Por la cual se expide el Código de la Infancia y la Adolescencia”\nDecreto 936 de 2013","El Consejo Nacional de Política Social es el ente responsable de diseñar la política pública, movilizar y apropiar los recursos presupuestales y dictar las líneas de acción para garantizar los derechos de los niños, las niñas y los adolescentes y asegurar su protección y restablecimiento en todo el territorio nacional. En todos los departamentos, municipios y distritos deberán sesionar Consejos de Política Social, espacios responsables de la articulación funcional entre las Entidades Nacionales y las Territoriales, deberán tener participación de la sociedad civil organizada y definirán su propio reglamento y composición. En todo caso deberán formar parte del Consejo las autoridades competentes para el restablecimiento de los derechos y el Ministerio Público.","Mixto","Sectorial","Política social y Desarrollo comunitario","https://www.icbf.gov.co/sites/default/files/politica_nacional_de_infancia_y_adolescencia_2018_-_2030.pdf"]
[null,"Red Nacional para el Emprendimiento","INST36",2006,"Ley","Ley 1014 de 2006, “De fomento a la cultura del emprendimiento” \nDecreto 1192 de 2009 “Por el cual se reglamenta la Ley 1014 de 2006 sobre el fomento a la cultura del emprendimiento y se dictan otras disposiciones.”","Instancia que articula un conjunto de entidades, instituciones privadas y organizaciones de la sociedad civil, con el objetivo de establecer políticas y directrices, formular un plan estratégico y desarrollar acciones conjuntas para fomentar la cultura del emprendimiento.","Mixto","Sectorial","Trabajo","www.mincit.gov.co"]
[null,"Comisión Nacional de Trabajo y Concertación de la Educación para los Pueblos Indígenas","INST37",2007,"Decreto","Decreto 2406 de 2007, “Por el cual se crea la Comisión Nacional Trabajo y Concertación de la Educación para los Pueblos Indígenas en desarrollo del artículo 13 del Decreto 1397 de 1.996”.","Instancia cuyo objeto consiste en la formulación, seguimiento y evaluación de las políticas públicas educativas, de manera concertada y basada en las necesidades educativas de los mismos, articulada a la construcción de la política pública integral de Estado para los Pueblos Indígenas.","Mixto","Sectorial","Educación","https://www.mpcindigena.org/"]
[null,"Comité Interinstitucional Consultivo para la Prevención de la Violencia Sexual y Atención Integral de los Niños, Niñas y Adolescentes Víctimas del Abuso Sexual","INST38",2007,"Ley","Ley 1146 de 2007, “Por medio de la cual se expiden normas para la prevención de la violencia sexual y atención integral de los niños, niñas y adolescentes abusados sexualmente.”","Mecanismo consultivo de coordinación interinstitucional y de interacción con la sociedad civil organizada, en el cual se hacen recomendaciones sobre adopción de medidas para la coordinación interinstitucional e intersectorial para garantizar la detección, prevención y atención integral respecto a la violencia sexual en NNA, y evaluar la situación de NNA y los programas de educación sexual y reproductiva.","Mixto","Poblacional","Grupo etario: Adulto Mayor, juventud, infancia","https://www.icbf.gov.co/"]
[null,"Consejo Nacional de Discapacidad","INST39",2007,"Ley","Ley 1145 de 2007 “Por medio de la cual se organiza el sistema nacional de discapacidad y se dictan otras disposiciones”\nDECRETO 2107 DE 2016","Organismo consultor, asesor, institucional y de verificación, seguimiento y evaluación del Sistema y de la Política Pública Nacional de Discapacidad.","Mixto","Poblacional","Personas con discapacidad","https://www.minsalud.gov.co/proteccionsocial/promocion-social/Discapacidad/Paginas/Discapacidad-CND.aspx"]
[null,"Consejo Nacional del Talento Humano en Salud","INST40",2007,"Ley","Ley 1164 de 2007 Por la cual se dictan disposiciones en materia del Talento Humano en Salud. Decreto 1730 de 2008 Por medio del cual se reglamentan los mecanismos de escogencia de los representantes al Consejo Nacional de Talento Humano en Salud.","Organismo asesor del Gobierno Nacional, de carácter y consulta permanente, para la definición de políticas encaminadas al desarrollo del Talento Humano en Salud.","Mixto","Sectorial","Salud","https://www.minsalud.gov.co/Paginas/Convocatoria-para-comites-de-apoyo-a-Consejo-Nacional-de-Talento-Humano-.aspx"]
[null,"Comisión Intersectorial para el Talento Humano en Salud","INST41",2008,"Decreto","Decreto número 2006 de 2008 Por el cual se crea la Comisión Intersectorial para el Talento Humano en Salud.\nDecreto 1298 de 2018","Órgano responsable de la toma de decisiones derivadas de las funciones públicas relacionadas con la formación, el ejercicio y el desempeño del talento humano en salud que requieran acciones conjuntas de los Ministerios de la Protección Social y de Educación Nacional.","Mixto","Sectorial","Salud","https://www.minsalud.gov.co/salud/Paginas/Formaci%C3%B3n-Talento-Humano-en-Salud.aspx"]
[null,"Comité de Clasificación de Películas como Órgano Adscrito al Ministerio de Cultura","INST42",2008,"Ley","Ley 1185 de 2008. \"Por la cual se modifica y adiciona la Ley 397 de 1997 –Ley General de Cultura– y se dictan otras disposiciones.\"","Órgano adscrito al Ministerio de Cultura, encargado de asesorar al Gobierno Nacional en la materia.","Social","Sectorial","Cultura","https://www.mincultura.gov.co/areas/cinematografia/Produccion/Paginas/ClasificacionPeliculas.aspx"]
[null,"Comité de Seguimiento a la Ley 1257","INST43",2008,"Ley","Ley 1257 de 2008 \"Por la cual se dictan normas de sensibilización, prevención y sanción de formas de violencia y discriminación contra las mujeres, se reforman los Códigos Penal, de Procedimiento Penal, la Ley 294 de 1996 y se dictan otras disposiciones\"\nLey 1719 de 2014 “Por la cual se modifican algunos artículos de las Leyes 599 de 2000, 906 de 2004 y se adoptan medidas para garantizar el acceso a la justicia de las víctimas de violencia sexual, en especial la violencia sexual con ocasión del conflicto armado, y se dictan otras disposiciones”","Espacio delegado para realizar acciones de seguimiento a la implementación y cumplimiento de la Ley 1257 de 2008 y de acuerdo con las funciones establecidas en la Ley 1719 de 2014, que deberá contar con la participación de organizaciones de mujeres.","Mixto","Poblacional","Mujeres","http://www.equidadmujer.gov.co/ejes/Paginas/Comite-Nacional-Seguimiento-Ley-1257.aspx"]
[null,"Consejo Nacional de Patrimonio Cultural","INST44",2008,"Ley","Ley 1185 de 2008 “por la cual se modifica y adiciona la Ley 397 de 1997 –Ley General de Cultura– y se dictan otras disposiciones”\nDecreto 1313 de 2008\nDecreto 1080 de 2015","Órgano encargado de asesorar al Gobierno Nacional en cuanto a la protección y manejo del Patrimonio cultural de la Nación.","Mixto","Sectorial","Cultura","https://www.mincultura.gov.co/areas/patrimonio/secretaria-tecnica-del-consejo-nacional-de-patrimonio-cultural/Paginas/default.aspx"]
[null,"Comisión del Proceso Oral y Justicia Pronta","INST45",2009,"Ley","Ley 1285 de 2009 “Por medio de la cual se reforma la Ley 270 de 1996 Estatutaria de la Administración de Justicia.”\nDecreto 0020 de 2013","Ofrecer  un  espacio  de  diálogo  entre  las  distintas  ramas  del poder  público  para  lograr  su  correcta  implementación  y  la descongestión judicial.","Mixto","Sectorial","Justicia y paz","www.ramajudicial.gov.co"]
[null,"Comisión Nacional para la Seguridad, Comodidad y Convivencia en el Fútbol","INST46",2009,"Ley","Ley 1270 de 2009 \"Por la cual se crea la Comisión Nacional para la Seguridad, Comodidad y Convivencia en el Fútbol y se dictan otras disposiciones\"","Organismo asesor del Gobierno Nacional en la implementación de políticas, planes y programas, así como en la ejecución de estrategias dirigidas a mantener la seguridad, comodidad y convivencia en la organización y práctica de este espectáculo deportivo. La Comisión tendrá su sede en Bogotá D.C., estará bajo   la dirección del Ministerio del Interior y de Justicia, quien contará con la asesoría y asistencia técnica del Instituto Colombiano del Deporte -Coldeportes-.","Mixto","Sectorial","Seguridad y Convivencia","www.mininterior.gov.co"]
[null,"Consejo Asesor de Ciencia, Tecnología e Innovación","INST47",2009,"Ley","Ley 1286 de 2009 “Por la cual se modifica la Ley 29 de 1990, se transforma a Colciencias en Departamento Administrativo, se fortalece el Sistema Nacional de Ciencia, Tecnología e Innovación en Colombia y se dictan otras disposiciones.”","Instancia encargada de Asesorar al Departamento Administrativo de Ciencia, Tecnología e Innovación -Colciencias- en el diseño de la política pública relativa a ciencia, tecnología e innovación; Sugerir los criterios para la calificación de programas y proyectos en materia de ciencia, tecnología e innovación con base en los planes de desarrollo, en los documentos Conpes y en las orientaciones trazadas por el Gobierno Nacional; Proponer herramientas para el diseño, seguimiento y evaluación de la Política Nacional de Ciencia, Tecnología e Innovación.","Mixto","Sectorial","Innovación y tecnologías de la información y las comunicaciones","https://minciencias.gov.co/"]
[null,"Comisión de Regulación de Comunicaciones","INST48",2009,"Ley","Ley 1341 de 2009 \"por la cual se definen principios y conceptos sobre la sociedad de la información y la organización de las Tecnologías de la Información y las Comunicaciones –TIC–, se crea la Agencia Nacional de Espectro y se dictan otras disposiciones.\"\nLey 1978 de 2019\nRESOLUCIÓN NÚMERO 5917 DE 2020","Órgano encargado de promover la competencia en los mercados, promover el pluralismo informativo, evitar el abuso de posición dominante, regular los mercados de las redes y los servicios de comunicaciones y garantizar la protección de los derechos de los usuarios; con el fin que la prestación de los servicios sea económicamente eficiente, y refleje altos niveles de calidad, de las redes y los servicios de comunicaciones, incluidos los servicios de televisión abierta radiodifundida y de radiodifusión sonora. ","Mixto","Sectorial","Innovación y tecnologías de la información y las comunicaciones","https://www.crcom.gov.co/es/pagina/inicio"]
[null,"Comisión Nacional de Diálogo: Grupo Étnico ROM o Gitano","INST49",2010,"Decreto","Decreto 2957 de 2010 “Por el cual se expide un marco normativo para la protección integral de los derechos del grupo étnico Rom o Gitano”","Instancia de diálogo, concertación e interlocución entre el grupo étnico Rom o Gitano y el Gobierno Nacional.","Mixto","Poblacional","Grupos y comunidades étnicas: Negras, Afrocolombianos, Raizales, Palenqueras, Indígenas, Rom o Gitana.","www.mininterior.gov.co"]
[null,"Comisión Nacional Intersectorial para la Promoción y Garantía de los Derechos Sexuales y Reproductivos","INST50",2010,"Decreto","Decreto 2968 de 2010 “Por el cual se crea la Comisión Nacional Intersectorial para la Promoción y Garantía de los Derechos Sexuales y Reproductivos.”","Promoción y Garantía de los Derechos Sexuales y Reproductivos con el fin de armonizar las políticas orientadas a la formulación e implementación de planes programas y acciones necesarias para la ejecución de las políticas relacionadas con la promoción y garantía de los derechos sexuales y reproductivos.","Mixto","Sectorial","Educación","https://www.comminit.com/content/comisi%C3%B3n-nacional-intersectorial-para-la-promoci%C3%B3n-y-garant%C3%ADa-de-los-derechos-sexuales-y"]
[null,"Comité Técnico Nacional de Bibliotecas Públicas","INST51",2010,"Ley","Ley 1379 de 2010 “Por la cual se organiza la red nacional de bibliotecas públicas y se dictan otras disposiciones”\nRESOLUCIÓN 0422 DE 2010 \"Por la cual se reglamenta el funcionamiento y otros aspectos del Comité Técnico Nacional de Bibliotecas Públicas.\"","Organismo asesor del Ministerio de Cultura, para la coordinación e impulso del desarrollo de la Red Nacional de Bibliotecas Públicas.","Mixto","Sectorial","Cultura","https://bibliotecanacional.gov.co/"]
[null,"Consejo Nacional Asesor de Lenguas Nativas","INST52",2010,"Ley","Ley 1381 de 2010 “Por la cual se desarrollan los artículos 7o, 8o, 10 y 70 de la Constitución Política, y los artículos 4o, 5o y 28 de la Ley 21 de 1991 (que aprueba el Convenio 169 de la OIT sobre pueblos indígenas y tribales), y se dictan normas sobre reconocimiento, fomento, protección, uso, preservación y fortalecimiento de las lenguas de los grupos étnicos de Colombia y sobre sus derechos lingüísticos y los de sus hablantes”\nDecreto 1003 de 2012.\nDecreto 1080 de 2015.","Organismo técnico encargado de asesorar al Ministerio de Cultura en la definición, adopción y orientación de los planes de protección y fortalecimiento de las lenguas de grupos étnicos presentes en el territorio nacional.","Mixto","Sectorial","Cultura","www.mincultura.gov.co"]
[null,"Consejo Nacional de Bioética","INST53",2010,"Ley","Ley 1374 de 2010 “Por medio de la cual se crea el Consejo Nacional de Bioética y se dictan otras disposiciones”\nDecreto 1954 de 2019","Organismo asesor y consultivo del Gobierno Nacional, que propenderá por establecer un diálogo interdisciplinario para formular, articular y resolver los dilemas que plantea la investigación y la intervención sobre la vida, la salud y el medio ambiente, así como la construcción e implementación de políticas en los asuntos referentes a la Bioética","Social","Sectorial","Salud","https://minciencias.gov.co/files/consejo-nacional-bioetica"]
[null,"Comisión de Seguimiento y Monitoreo a la Ley de Víctimas","INST54",2011,"Ley","Ley 1448 de 2011 “Por la cual se dictan medidas de atención, asistencia y reparación integral a las víctimas del conflicto armado interno y se dictan otras disposiciones.”\nDecreto 4800 de 2011","Mecanismo de seguimiento y monitoreo de la Ley; hace el seguimiento al proceso de diseño, implementación, ejecución y cumplimiento de las medidas contenidas en esta ley.|","Mixto","Poblacional","Víctimas","https://www.defensoria.gov.co"]
[null,"Comisión de Ordenamiento Territorial","INST55",2011,"Ley","Ley 1454 de 2011 “Por la cual se dictan normas orgánicas sobre ordenamiento territorial y se modifican otras disposiciones”\nDecreto 3680 de 2011","Organismo de carácter técnico asesor que tiene como función evaluar, revisar y sugerir al Gobierno Nacional y a las Comisiones Especiales de Seguimiento al Proceso de Descentralización y Ordenamiento Territorial del Senado de la República y de la Cámara de Representantes, la adopción de políticas, desarrollos legislativos y criterios para la mejor organización del Estado en el territorio.","Mixto","Gestión pública","Planeación","https://www.dnp.gov.co/programas/desarrollo-territorial/secretaria-tecnica-de-la-comision-de-ordenamiento-territorial/Paginas/plan-de-accion-de-la-comision-de-ordenamiento-territorial.aspx"]
[null,"Comité de Evaluación de Riesgo y Recomendación de Medidas","INST56",2011,"Decreto","Decreto 4912 de 2011 \"por el cual se organiza el Programa de Prevención y Protección de los derechos a la vida, la libertad, la integridad y la seguridad de personas, grupos y comunidades del Ministerio del Interior y de la Unidad Nacional de Protección.\"\nResolución 805 de 2012","Espacio que tiene por objeto la valoración integral del riesgo, la recomendación de medidas de protección y complementarias.","Mixto","Poblacional","Mujeres","www.unp.gov.co"]
[null,"Comité de Seguimiento de la Alianza de Gobierno Abierto","INST57",2011,"Declaración","Declaración de Gobierno Abierto adoptada por Colombia con la Carta No. 55177 del año 2011.\n2010 Plan de Acción AGA Colombia, Modificado por el Tercer Plan de Acción AGA Colombia","Definir la estrategia para la elaboración, desarrollo, seguimiento y divulgación del Plan de Acción del Gobierno en el marco de la Alianza para Gobierno Abierto.","Mixto","Gestión pública","Transparencia","https://www.urnadecristal.gov.co/participa-en-comite-aga"]
[null,"Comité Ejecutivo para la Atención y Reparación a las Víctimas","INST58",2011,"Ley","Ley 1448 de 2011. “Por la cual se dictan medidas de atención, asistencia y reparación integral a las víctimas del conflicto armado interno y se dictan otras disposiciones.”\nDecreto 4800 de 2011\nResolución 0388 de 2013 Unidad para las Víctimas","Máxima instancia de decisión del Sistema de Atención y Reparación Integral a las Víctimas; adopta las políticas, estrategias e instrumentos de planificación, gestión, seguimiento y evaluación, con el fin de materializar las medidas para garantizar la atención, asistencia y reparación integral a las víctimas.","Mixto","Poblacional","Víctimas","http://www.portalsnariv.gov.co/node/94"]
[null,"Consejo Directivo de la Unidad Administrativa Especial de Gestión de Restitución de Tierras Despojadas","INST59",2011,"Ley","Ley 1448 de 2011 “Por la cual se dictan medidas de atención, asistencia y reparación integral a las víctimas del conflicto armado interno y se dictan otras disposiciones.”\nDecreto 4800 y 4801 de 2011","Espacio legalmente constituido en cual se adoptan decisiones de política pública y donde las víctimas intervienen, mediante sus voceros o representantes para formular, aprobar, proponer y definir política, planes y programas para el proceso de restitución de tierras despojadas.","Mixto","Poblacional","Víctimas","https://www.restituciondetierras.gov.co"]
[null,"Consejo Directivo del Centro de Memoria Histórica","INST60",2011,"Ley","Ley 1448 de 2011. “Por la cual se dictan medidas de atención, asistencia y reparación integral a las víctimas del conflicto armado interno y se dictan otras disposiciones.”\nDecreto 4803 de 2011\nDecreto 502 de 2017 \"Modifica la composición\"","Espacio legalmente constituido en cual se adoptan decisiones de política pública y donde las víctimas intervienen, mediante sus voceros o representantes para formular, aprobar, proponer, definir y adoptar política, planes y programas para la construcción de memoria y el manejo de información relacionada con violaciones ocurridas en el conflicto armado interno.","Mixto","Poblacional","Víctimas","www.centrodememoriahistorica.gov.co"]
[null,"Mesa Nacional de Participación Efectiva de las Víctimas","INST61",2011,"Ley","Ley 1448 de 2011 “Por la cual se dictan medidas de atención, asistencia y reparación integral a las víctimas del conflicto armado interno y se dictan otras disposiciones”.\nDecreto 4800 de 2011.\nResolución 388 de 2013 \"Por la cual se adopta el Protocolo de Participación Efectiva de las Víctimas del Conflicto Armado.\"Funciones \nResolución 677 de 2017 “Por el cual se modifica la composición de las mesas de participación”\nResolución 250 de 2019","Espacio de trabajo temático y de participación efectiva de las víctimas, de orden nacional, elegidos y designados por las mismas víctimas y sus organizaciones y destinados para la discusión, interlocución, retroalimentación, capacitación y seguimiento de las disposiciones contenidas en la Ley 1448 de 2011.","Mixto","Poblacional","Víctimas","https://mesanacionaldevictimas.org/"]
[null,"Subcomités Técnicos del Sistema Nacional de Atención y Reparación a las Víctimas","INST62",2011,"Ley","Ley 1448 de 2011 “Por la cual se dictan medidas de atención, asistencia y reparación integral a las víctimas del conflicto armado interno y se dictan otras disposiciones.”\nDecreto 4800 de 2011\nResolución 388 de 2013\nDecreto Único Reglamentario 1084 de 2015","Instancias encargadas del diseño e implementación de la política pública de prevención, asistencia, atención y reparación integral a las víctimas.","Mixto","Poblacional","Víctimas","http://www.portalsnariv.gov.co/node/95#:~:text=%C2%BFQu%C3%A9%20son%20los%20subcomit%C3%A9s%20t%C3%A9cnicos,orientaci%C3%B3n%20a%20las%20entidades%20territoriales."]
[null,"Comisión Nacional de Competitividad e Innovación","INST63",2012,"Decreto","Decreto 1500 de 2012, “Por medio del cual se dictan medidas para la organización, articulación y funcionamiento del Sistema Administrativo Nacional de Competitividad e Innovación”\nDecreto 1651 de 2019","Órgano asesor del Gobierno Nacional y de concertación entre éste, las entidades territoriales y la sociedad civil en temas relacionados con la productividad y competitividad del país y de sus regiones, con el fin de promover el desarrollo económico.\n","Mixto","Sectorial","Innovación y tecnologías de la información y las comunicaciones","http://www.colombiacompetitiva.gov.co/snci/el-sistema/quienes-somos"]
[null,"Consejo Nacional de Salud Mental","INST64",2012,"Ley","Ley 1566 de 2012 Por la cual se dictan normas para garantizar la atención integral a personas que consumen sustancias psicoactivas y se crea el premio nacional \"entidad comprometida con la prevención del consumo, abuso y adicción a sustancias psicoactivas (artículo 10).\nLey 1616 de 2013 Por medio de la cual se expide la ley de salud mental y se dictan otras disposiciones.","Instancia responsable de hacer el seguimiento y evaluación a las ordenes consignadas en la ley 1566 de 2012 y la presente ley, Política Nacional de Salud Mental, Política Nacional para la reducción del consumo de sustancias estupefacientes o psicotrópicas y su impacto, Política Pública Nacional de Prevención y Atención a la adicción de sustancias psicoactivas y el Plan Decenal para la Salud pública en lo relativo a la salud mental.\nEste Consejo tendrá carácter consultivo bajo la coordinación del Ministerio de Salud y Protección Social a través de la Dirección de Salud Pública, la cual ejercerá la secretaría técnica del mismo y lo convocará mínimo dos (2) veces al año","Mixto","Sectorial","Salud","www.minsalud.gov.co"]
[null,"Comité Consultivo para la Regla Fiscal","INST65",2012,"Decreto","DECRETO 1790 DE 2012 \"por el cual se reglamenta el Comité Consultivo para la Regla Fiscal\"\nDECRETO 370 DE 2020 \"por el cual se modifica el Decreto 1790 de 2012 en lo relacionado con el Comité Consultivo para la Regla Fiscal y se dictan otras disposiciones.\"","Instancia carácter técnico independiente que se pronunciará sobre la metodología y definición de parámetros básicos requeridos para la operación de la Regla Fiscal; las propuestas que formule el Gobierno Nacional sobre cambios metodológicos para la definición de a regla fiscal; el informe de cumplimiento de la regla fiscal que el Gobierno debe presentar ante las Comisiones Económicas del Congreso de la República y la suspensión de la misma, de conformidad con lo previsto en el artículo 11 de la ley","Mixto","Sectorial","Planeación","https://www.minhacienda.gov.co/webcenter/portal/Minhacienda"]
[null,"Comité Promoción Fílmica Colombia","INST66",2012,"Ley","Ley 1556 de 2012 \"Por la cual se fomenta el territorio nacional como escenario para el rodaje de obras cinematográficas.\"","Órgano directivo del Fondo Fílmico Colombia (FFC)","Mixto","Sectorial","Cultura","https://www.mincultura.gov.co/areas/cinematografia/herramientas-y-utilidades/normatividad/Documents/Manual%20de%20Asignaci%C3%B3n%20de%20Recursos%20de%20Fondo%20Filmaci%C3%B3n%20Colombia.pdf"]
[null,"Comisión Nacional del Sistema Nacional de Identificación, Información y Trazabilidad Animal","INST67",2013,"Ley","Ley 1659 de 2013 “por la cual se crea el sistema nacional de Identificación, información y trazabilidad animal” \nResolución 464 de 2015 reglamenta los procedimientos y requisitos para la elección del representante de las asociaciones y organizaciones campesinas del orden nacional ante la comisión.","Instancia de carácter consultivo que aprobará los sistemas de identificación para generar y mantener la trazabilidad en las especies de interés económico y la reglamentación de la presente ley.","Mixto","Sectorial","Agropecuario, Pesquero y de Desarrollo Rural","www.minagricultura.gov.co"]
[null,"Comité Nacional de Convivencia Escolar","INST68",2013,"Ley","Ley 1620 de 2013 “Por la cual se crea el Sistema Nacional de Convivencia Escolar y Formación para el Ejercicio de los Derechos Humanos, la Educación para la Sexualidad y la Prevención y Mitigación de la Violencia Escolar.”","Instancia para la definición, coordinación, gestión, articulación y promoción de estrategias para la convivencia escolar y garantizar la Ruta de Atención integral para la Convivencia Escolar.","Mixto","Poblacional","Grupo etario: Adulto Mayor, juventud, infancia","www.mineducacion.gov.co"]
[null,"Comité Nacional de Residuos de Aparatos Eléctricos y Electrónicos","INST69",2013,"Ley","Ley 1672 de 2013 \"Por la cual se establecen los lineamientos para la adopción de una política pública de gestión integral de residuos de aparatos eléctricos y electrónicos (RAEE), y se dictan otras disposiciones\"","Órgano consultor del Ministerio de Ambiente, Vivienda y Desarrollo Territorial para fomentar y fortalecer la política de manejo de Residuos Eléctricos y Electrónicos; promover planes y programas intersectoriales que contribuyan a la divulgación de los riesgos para la salud humana de los desechos electrónicos y su manejo; así como impulsar la investigación y la innovación tecnológica en lo relacionado con una mejor gestión integral.","Mixto","Sectorial","Ambiente y Desarrollo Sostenible","https://quimicos.minambiente.gov.co/index.php/residuos-de-aparatos-electricos-y-electronicos/politica-y-normativa-raee/comite-nacional-para-formulacion-de-la-politica-de-gestion-de-los-raee"]
[null,"Consejo Nacional de Mitigación del Desempleo","INST70",2013,"Ley","Ley 1636 de 2013 “Por medio de la cual se crea el mecanismo de protección al cesante en Colombia.”","Espacio legalmente constituido el cual estará integrado por el Ministerio de Trabajo o su delegado, Ministerio de Hacienda o su delegado, el Director del Departamento Nacional de Planeación o su delegado, un representante de los empresarios y un representante de los trabajadores, con el fin de establecer criterios de gestión, hacer recomendaciones realizar estudios y establecer lineamientos.","Mixto","Sectorial","Trabajo","www.mintrabajo.gov.co"]
[null,"Plataforma Nacional de Juventudes","INST71",2013,"Ley","Ley 1885 de 2018\nLey 1622 de 2013 \"Por medio de la cual se expide el estatuto de ciudadanía juvenil y se dictan otras disposiciones.\"","Escenario de encuentro, articulación, coordinación e interlocución de las juventudes, de carácter autónomo y obligatorio. Deberá participar en las Comisiones de decisiones y concertación con voz, pero sin voto.","Social","Poblacional","Grupo etario: Adulto Mayor, juventud, infancia","https://www.monteria.gov.co/publicaciones/2114/plataforma-municipal-de-juventudes/"]
[null,"Comité Tripartita Nacional","INST72",2014,"Acuerdo","Acuerdo Internacional. Acuerdo de adhesión a la Iniciativa para la transparencia de las industrias extractivas (EITI) para promover la claridad en los pagos y los ingresos de la industria en el país.","Diseñar y liderar la Implementación del Plan de Acción Nacional, revisar acciones, tomar decisiones ejecutivas de manera proactiva y eficaz, presentar recomendaciones propuestas sobre aspectos relacionados con la preparación de la candidatura de Colombia para la Iniciativa de Transparencia para las Industrias Extractivas (EITI) y de ser aceptada como País Candidato, continuar con la implementación del Estandar de acuerdo a las normas que lo rigen.","Mixto","Sectorial","Industrias Extractivas","www.minenergia.gov.co"]
[null,"Consejo Directivo del Establecimiento Público de Educación Superior - Conocimiento e Innovación para la Justicia (CIJ)","INST73",2014,"Decreto","Decreto ley 36 de 2014 “Por el cual se crea un establecimiento público de educación superior del orden nacional.”","Máximo órgano de dirección y administración de la institución de establecimiento público de educación superior.","Mixto","Sectorial","Educación","https://www.fiscalia.gov.co/colombia/la-entidad/institucion-universitaria-conocimiento-e-innovacion-para-la-justicia-cij/"]
[null,"Instancia de Coordinación y Asesoría Dentro del Sistema General de Seguridad Social en Salud","INST74",2014,"Decreto","Decreto 2478 de 2014 Por el cual se crea y determinan las funciones de una Instancia de coordinación y asesoría dentro del Sistema General de Seguridad Social en Salud\nResolución 304 de 2015 Minsalud","“instancia de coordinación y asesoría y promoverá la participación entidades públicas nacionales y territoriales, entidades promotoras de salud, las instituciones prestadoras de servicios de salud, los empleadores, los empresarios sectoriales, los profesionales y trabajadores de salud, los usuarios de los servicios de salud; como de las instituciones y investigación que puedan aportar al desarrollo y fortalecimiento del Sistema General de Seguridad Social en Salud.”","Mixto","Sectorial","Salud","www.minsalud.gov.co"]
[null,"Consejo Nacional de Participación Ciudadana","INST75",2015,"Ley","Ley 1757 de 2015 “Por la cual se dictan disposiciones en materia de promoción y protección del derecho a la participación democrática.”","Promover, proteger y garantizar modalidades del derecho a participar en la vida política, administrativa, económica, social y cultural, y así mismo a controlar el poder político.\nRegula la iniciativa popular y normativa ante las corporaciones públicas, el referendo, la consulta popular, la revocatoria del mandato, el plebiscito y el cabildo abierto; y establece las normas fundamentales por las que se regirá la participación democrática de las organizaciones civiles. La regulación de estos mecanismos no impedirá el desarrollo de otras formas de participación democrática en la vida política, económica, social y cultural, ni el ejercicio de otros derechos políticos no mencionados en esta ley.","Mixto","Gestión pública","Participación Ciudadana","https://participacion.mininterior.gov.co/participacion/consejo-nacional-de-participacion-ciudadana"]
[null,"Comisión de Seguimiento, Impulso y Verificación a la Implementación del Acuerdo Final","INST76",2016,"Decreto","Decreto 1995 de 2016, “por el cual se crea la Comisión de seguimiento impulso y verificación a la implementación del Acuerdo Final, suscrito entre el Gobierno Nacional y las FARC- EP el 24 de noviembre 2016”\n","Instancia conjunta entre el Gobierno Nacional y las FARC-EP en proceso de reincorporación a la vida legal, encargada del seguimiento, impulso y verificación conjunta de la implementación del Acuerdo final para la terminación del conflicto y la construcción de una paz estable y duradera, y de la resolución de las diferencias que puedan surgir entre las partes firmantes del mencionado Acuerdo","Mixto","Sectorial","Justicia y paz","https://cepdipo.org/csivi/"]
[null,"Instancia Especial de Alto Nivel de los Pueblos Étnicos","INST77",2016,"Decreto","Decreto 1995 de 2016, “por el cual se crea la Comisión de seguimiento impulso y verificación a la implementación del Acuerdo Final, suscrito entre el Gobierno Nacional y las FARC- EP el 24 de noviembre 2016”\nComunicado Conjunto No 13. 15 de marzo de 2017","Órgano de alto nivel para el seguimiento de la implementación del Acuerdo Final, que actuará como consultora, representante e interlocutora de primer orden de la CSIVI.","Mixto","Poblacional","Grupos y comunidades étnicas: Negras, Afrocolombianos, Raizales, Palenqueras, Indígenas, Rom o Gitana.","https://www.mindefensa.gov.co"]
[null,"Instancia Especial para el Seguimiento al Enfoque de Género y Garantía de los Derechos de las Mujeres en la Implementación del Acuerdo Final","INST78",2016,"Decreto","Decreto 1995 de 2016, “por el cual se crea la Comisión de seguimiento impulso y verificación a la implementación del Acuerdo Final, suscrito entre el Gobierno Nacional y las FARC- EP el 24 de noviembre 2016”","Instancia encargada de asesorar y contribuir a garantizar la incorporación del enfoque de género, dar insumos, hacer sugerencias en relación a los derechos de las mujeres en la implementación del Acuerdo Final y rendir informes sobre su labor.","Mixto","Poblacional","Mujeres","www.instanciagenero.org"]
[null,"Mesa Permanente de Concertación con las Centrales Sindicales CUT, CGT, CTC y Fecode para la Reparación Colectiva al Movimiento Sindical","INST79",2016,"Decreto","Decreto 624 de 2016, “Por el cual se crea y reglamenta la Mesa Permanente de Concertación con las Centrales Sindicales CUT, CGT, CTC y la Fecode para la Reparación al Movimiento Sindical","Instancia encargada de evaluar las condiciones institucionales necesarias y servir de espacio de interlocución y negociación para que el proceso de reparación colectiva al Movimiento Sindical sea sólido, sostenible y duradero y las medidas de reparación integral contribuyan de manera efectiva al goce efectivo de los derechos y libertades sindicales.","Mixto","Poblacional","Víctimas","www.mintrabajo.gov.co"]
[null,"Consejo Nacional de Reincorporación","INST80",2016,"Decreto","Decreto 2027 de 2016 Por cual se crea el Consejo Nacional de Reincorporación","Créase el Consejo Nacional de la Reincorporación (CNIR), como una instancia con la función de definir las actividades, establecer el cronograma y adelantar el seguimiento del proceso de reincorporación de los integrantes de las FARC-EP a la vida legal, en lo económico, lo social y lo político, según sus intereses, de acuerdo a lo establecido en el Acuerdo final para la terminación del conflicto y la construcción de una paz estable y duradera.","Mixto","Sectorial","Justicia y paz","http://www.reincorporacion.gov.co/es/reincorporacion/Paginas/Consejo-Nacional-de-Reincorporacion.aspx"]
[null,"Comisión de Búsqueda de Personas Desaparecidas","INST81",2017,"Decreto","Decreto 589 de 2017 “Por el cual se organiza la Unidad de Búsqueda de Personas dadas por desaparecidas en el contexto y en razón del conflicto armado”\nLey 589 de 2000 “Por medio de la cual se tipifica el genocidio, la desaparición forzada, el desplazamiento forzado y la tortura; y se dictan otras disposiciones.”\nDecreto 1862 de 2014 “por el cual se establece el reglamento de la Comisión de Búsqueda de Personas Desaparecidas creada por la Ley 589 de 2000.”","Instancia encargada de diseñar, evaluar y apoyar la ejecución de los planes de búsqueda de personas desaparecidas y conformará grupos de trabajo para casos específicos. Este espacio es permanente, cuyo fin es apoyar y promover la investigación del delito de desaparición forzada en los casos que no se enmarquen en el contexto y en razón del conflicto armado, con pleno respeto de las competencias institucionales y de las facultades de los sujetos procesales.","Mixto","Sectorial","Justicia y paz","http://www.comisiondebusqueda.gov.co/"]
[null,"Comisión Nacional de Garantías de Seguridad","INST82",2017,"Decreto","Decreto Ley 154 de 2017 “Por el cual se crea la Comisión Nacional de Garantías de Seguridad en el marco del Acuerdo Final, suscrito entre el Gobierno Nacional y las FARC- EP el 24 de noviembre de 2016.”","Comisión cuyo objeto es el diseño y seguimiento de la política pública y criminal en materia de desmantelamiento de las organizaciones o conductas criminales responsables homicidios y masacres, que atenten contra defensores/as derechos humanos, movimientos sociales o movimientos políticos, o que amenacen o atenten contra las personas que participen en la implementación los Acuerdos y construcción de la paz, incluyendo las organizaciones criminales que hayan sido denominadas como sucesoras del paramilitarismo y sus redes de apoyo. La Comisión también armonizará dichas políticas para garantizar su ejecución.","Mixto","Sectorial","Justicia y paz","http://www.altocomisionadoparalapaz.gov.co/"]
[null,"Comité Interinstitucional de Seguimiento al Plan de Revisión, Evaluación y Seguimiento de los Programas y Leyes que favorecen a las Mujeres Rurales","INST83",2017,"Decreto","Ley 731 de 2002 “Por la cual se dictan normas para favorecer a las mujeres rurales” Decreto 2145 de 2017 “Por el cual se adopta el Plan de Revisión, Evaluación y Seguimiento de los programas y leyes que favorecen a las mujeres rurales y se crea el Comité Interinstitucional de seguimiento al Plan”","Espacio encargado de coordinar, armonizar, impulsar la ejecución, y adoptar las modificaciones y ajustes que fueren necesarios al Plan de Revisión, Evaluación y Seguimiento de los programas y leyes que favorecen a las mujeres rurales, por de entidades miembros del mismo, acorde a sus competencias, siendo la instancia de concertación entre los diferentes sectores involucrados.","Mixto","Poblacional","Mujeres","https://www.minagricultura.gov.co"]
[null,"Consejo Asesor de la Unidad de Búsqueda de Personas dadas por Desaparecidas","INST84",2017,"Decreto","Decreto 589 de 2017 “Por el cual se organiza la Unidad de Búsqueda de Personas dadas por desaparecidas en el contexto y en razón del conflicto armado”","Instancia asesora de la Unidad de Búsqueda de personas dadas por desaparecidas.","Mixto","Sectorial","Justicia y paz","https://www.ubpdbusquedadesaparecidos.co/"]
[null,"Consejo Nacional de Paz, Reconciliación y Convivencia","INST85",2017,"Decreto","Decreto Ley 885 de 2017, \"Por medio del cual se modifica la Ley 434 de 1998 y se crea el Consejo Nacional de Paz, Reconciliación y Convivencia\"\nLey 434 de 1998 “por la cual se crea el Consejo Nacional de Paz, se otorgan funciones y se dictan otras disposiciones”\nDecreto Nacional 352 de 1998","Órgano asesor y consultivo del Gobierno Nacional. Su misión será propender por el logro y mantenimiento de la paz generar una cultura de reconciliación, tolerancia, convivencia, y no estigmatización y facilitar la colaboración armónica de las entidades y órganos del Estado, otorgando prioridad a las alternativas políticas de negociación del conflicto armado interno, en orden a alcanzar relaciones sociales que aseguren una paz integral permanente.","Mixto","Sectorial","Justicia y paz","http://www.altocomisionadoparalapaz.gov.co/"]
[null,"Consejo Superior del Sistema Nacional de Innovación Agropecuaria","INST86",2017,"Ley","Ley 1876 de 2017 “Por medio de la cual se crea el Sistema Nacional de Innovación Agropecuaria y se dictan otras disposiciones, Artículo 8","Créase el Consejo Superior de Sistema Nacional de Innovación Agropecuaria SNIA como el organismo asesor del Ministerio de Agricultura y Desarrollo Rural en todos aquellos aspectos que se relacionen con el SNIA, articulado con el Consejo Asesor de Ciencia, Tecnología e Innovación.","Mixto","Sectorial","Agropecuario, Pesquero y de Desarrollo Rural","https://www.minagricultura.gov.co"]
[null,"Mesa Técnica de Seguridad y Protección","INST87",2017,"Decreto","DECRETO 299 DE 2017 por el cual se adiciona el Capítulo 4 al Título 1, de la Parte 4 del Libro 2 del Decreto número 1066 de 2015, en lo que hace referencia a un programa de protección.","Crear el Programa de Protección Especializada de Seguridad y Protección, en virtud del cual la Unidad Nacional de Protección, el Ministerio del Interior y demás entidades, dentro del ámbito de sus competencias, incluirán como población objeto de protección, a las y los integrantes, del nuevo movimiento o partido político que surja del tránsito de las FARC-EP a la actividad política legal, sus actividades y sedes, a las y los antiguos integrantes de las FARC-EP que se reincorporen a la vida civil, así como a las familias de todos los anteriores de acuerdo con el nivel de riesgo.","Mixto","Sectorial","Justicia y paz","https://www.unp.gov.co/instalada-mesa-tecnica-de-seguridad-y-proteccion%E2%80%8B%E2%80%8B%E2%80%8B/"]
[null,"Comisión Nacional de Concertación y Decisión del Sistema Nacional de las Juventudes","INST88",2018,"Ley","Ley 1885 de 2018\nLey 1622 de 2013 \"Por medio de la cual se expide el estatuto de ciudadanía juvenil y se dictan otras disposiciones.\"","Instancia de concertación y decisión Nacional, Departamental y Municipal que tendrán funciones de planeación y concertación de agendas públicas y generación de mecanismos de ejecución de las mismas en cada territorio","Mixto","Poblacional","Grupo etario: Adulto Mayor, juventud, infancia","http://www.colombiajoven.gov.co/"]
[null,"Comité Nacional de Humedales","INST89",2018,"Resolución","Resolución 1497 de 2018 Por la cual se modifica la Resolución N° 301 del 11 de febrero de 2010, por medio de la cual se crea el Comité Nacional de Humedales CNH, y se adoptan otras determinaciones.","Organismo asesor del Ministerio de Ambiente y Desarrollo Sostenible, en la formulación, concertación, implementación, evaluación y seguimiento de las acciones de conservación y uso racional de humedales en el marco de la Política Nacional de Humedales Interiores y la aplicación de la Convención Ramsar.","Mixto","Sectorial","Ambiente y Desarrollo Sostenible","www.minanbiente.gov.co"]
[null,"Consejo Nacional de Juventud","INST90",2018,"Ley","Ley 1885 de 2018\nLey 1622 de 2013 \"Por medio de la cual se expide el estatuto de ciudadanía juvenil y se dictan otras disposiciones.\"","Mecanismo de interlocución y concertación ante la administración y entidades públicas, así como propender por la inclusión de la agenda juvenil en los planes, políticas, programas y proyectos e implementar ejercicios de veeduría y control social, impulsar la creación de procesos y prácticas organizativas, elegir representantes ante las instancias que traten asuntos de juventud, y cuyas regulaciones o estatutos así lo dispongan.","Social","Poblacional","Grupo etario: Adulto Mayor, juventud, infancia","http://obs.colombiajoven.gov.co/"]
[null,"Consejo Nacional de Políticas Públicas de la Juventud","INST91",2018,"Ley","Ley 1885 de 2018 “Por la cual se modifica la Ley Estatutaria 1622 de 2013 y se dictan otras disposiciones”\nLey 1622 de 2013 “Por medio de la cual se expide el estatuto de ciudadanía juvenil y se dictan otras disposiciones”","Instancia encargada de articular la definición, seguimiento y evaluación de las políticas de prevención, protección, promoción y garantía de los derechos de los y las jóvenes a nivel Nacional.","Mixto","Poblacional","Grupo etario: Adulto Mayor, juventud, infancia","http://obs.colombiajoven.gov.co/"]
[null,"Consejo Permanente de Dirección","INST92",2018,"Decreto","DECRETO 362 DE 2018 \"Por el cual se adiciona el Título 5 a la Parte 2 del Libro 2 al Decreto 1081 de 2015, Reglamentario Único del Sector Presidencia de la República, con el fin de reglamentar el Decreto Ley 896 de 2017\"","Instancia de apoyo a la Dirección General del PNIS","Mixto","Sectorial","Justicia y paz","http://www.portalparalapaz.gov.co/"]
[null,"Mesa Intersectorial para la Democracia Ambiental","INST93",2018,"Resolución","Resolución 1496 de 2018 Por el cual se crea la Comisión Intersectorial denominada Mesa Intersectorial para la Democracia Ambiental MIDA.","Instancia participativa de diálogo en materia ambiental, que busca aportar insumos al diseño y seguimiento de políticas, planes, programas, estrategias y proyectos para la garantía y promoción en todos los niveles y sectores del Sistema Nacional Ambiental SINA de los derechos de acceso a la información, a la participación y a la justicia en asuntos ambientales en Colombia.","Mixto","Sectorial","Ambiente y Desarrollo Sostenible","www.minambiente.gov.co"]
[null,"Comité Nacional de Cogestión para las Capturas Incidentales en Colombia","INST94",2018,"Resolución","Resolución número 1970 de 2018, “por la cual se crea y reglamenta el Comité Nacional de Cogestión para las Capturas Incidentales en Colombia”\nRESOLUCIÓN NÚMERO 35 DE 2020 \"por el cual se modifican los artículos tercero y quinto la Resolución número 1970 de 2018","Órgano asesor, consultivo y de apoyo a la Dirección General de la Aunap en relación con las acciones orientadas a la gestión efectiva de las capturas incidentales y la reducción de los descartes en Colombia, originados por los diferentes artes y métodos de pesca usados en ambas costas Caribe y Pacífico.","Mixto","Sectorial","Agropecuario, Pesquero y de Desarrollo Rural","https://www.aunap.gov.co/"]
[null,"Comité Técnico de los componentes de medidas integrales de prevención, seguridad y protección, y del protocolo de protección para territorios rurales","INST95",2018,"Decreto","DECRETO 660 DE 2018 \"por el cual se adiciona el Capítulo 7, del Título 1, de la Parte 4, del Libro 2 del Decreto 1066 de 2015, Único Reglamentario del Sector Administrativo del Interior, para crear y reglamentar el Programa Integral de Seguridad y Protección para Comunidades y Organizaciones en los Territorios; y se dictan otras disposiciones.\"","La gestión técnica y operativa para la implementación del presente Programa, en los componentes de medidas integrales de prevención, seguridad y protección, y de protocolo de protección para territorios, estará a cargo de un Comité Técnico","Mixto","Sectorial","Justicia y paz","https://www.defensoria.gov.co/public/pdf/Plegable-Seguridad-Proteccion-Comunidades-Organizaciones.pdf"]
[null,"Comité Técnico de los componentes de Promotores/as Comunitarios de Paz y Convivencia, y de Apoyo a la Actividad de Denuncia","INST96",2018,"Decreto","DECRETO 660 DE 2018 \"por el cual se adiciona el Capítulo 7, del Título 1, de la Parte 4, del Libro 2 del Decreto 1066 de 2015, Único Reglamentario del Sector Administrativo del Interior, para crear y reglamentar el Programa Integral de Seguridad y Protección para Comunidades y Organizaciones en los Territorios; y se dictan otras disposiciones.\"","La gestión técnica y operativa para la implementación del componente de Promotores/as Comunitarios de Paz y Convivencia y del componente de Apoyo a la Actividad de Denuncia estará a cargo de un Comité Técnico","Mixto","Sectorial","Justicia y paz","https://www.defensoria.gov.co/public/pdf/Plegable-Seguridad-Proteccion-Comunidades-Organizaciones.pdf"]
[null,"Consejo Nacional de Bienestar Animal","INST97",2019,"Resolución","RESOLUCIÓN NÚMERO 000153 DE 2019 \"por la cual se crea y se reglamenta el Consejo Nacional de Bienestar Animal y el Comité Técnico Nacional de Bienestar Animal.\"","Instancia asesora del Gobierno nacional en todos los aspectos relacionados con el bienestar animal en la producción.","Mixto","Sectorial","Agropecuario, Pesquero y de Desarrollo Rural","https://www.ica.gov.co/noticias/crean-consejo-nacional-tecnico-bienestar-animal"]
[null,"Comité Técnico Nacional de Bienestar Animal","INST98",2019,"Resolución","RESOLUCIÓN NÚMERO 000153 DE 2019 \"por la cual se crea y se reglamenta el Consejo Nacional de Bienestar Animal y el Comité Técnico Nacional de Bienestar Animal.\"","Órgano consultivo del Consejo Nacional de Bienestar Animal e instancia para la coordinación y orientación en la ejecución de las actividades de bienestar animal del país.","Mixto","Sectorial","Agropecuario, Pesquero y de Desarrollo Rural","https://www.ica.gov.co/noticias/crean-consejo-nacional-tecnico-bienestar-animal"]
[null,"Comisión Nacional para la Sustitución del Asbesto","INST99",2019,"Ley","LEY 1968 DE 2019 \"por el cual se prohíbe el uso de asbesto en el territorio nacional y se establecen garantías de protección a la salud de los colombianos.\"","Instancia encargada de supervisar y hacer seguimiento a las medidas establecidas para la sustitución del asbesto en todas sus formas.","Mixto","Sectorial","Ambiente y Desarrollo Sostenible","https://id.presidencia.gov.co/Documents/190711-Sancionada-Ley-prohibe-uso-asbesto.pdf"]
[null,"Mesa Técnica de Seguimiento a la Situación de la Niñez, Fortalecimiento familiar y comunitario indígena en Colombia","INST100",2019,"Resolución","RESOLUCIÓN NÚMERO 5666 DE 2019 \"por la cual se crea y reglamenta la Mesa Técnica de Seguimiento a la Situación de la Niñez, Fortalecimiento Familiar y Comunitario Indígena en Colombia.\"","Instancia de desarrollo técnico del Sistema Nacional de Bienestar Familiar en el ámbito nacional, de acuerdo con lo establecido en la Parte 4, Título 1, numeral 3 del artículo 2.4.1.15 del Decreto Único Reglamentario número 1084 de 2015 del Sector de la Inclusión Social y Reconciliación.","Mixto","Poblacional","Grupos y comunidades étnicas: Negras, Afrocolombianos, Raizales, Palenqueras, Indígenas, Rom o Gitana.","https://www.icbf.gov.co/"]
[null,"Comisión Nacional Técnica del Fondo Emprender","INST101",2019,"Acuerdo","ACUERDO NÚMERO 0010 DE 2019 \"por el cual se establece el Reglamento Interno del Fondo Emprender (FE) y deroga en su totalidad el acuerdo 00006 de 2017.\"","Instancia encargada de priorizar y jerarquizar planes de negocios atendiendo los criterios señalados en el artículo 2.2.6.4.2 del Decreto número 1072 de 2015. ","Mixto","Sectorial","Pequeña y Mediana Empresa","http://www.fondoemprender.com/SitePages/Home.aspx#"]
[null,"Comité de Apoyo del Sistema de Medicina Legal y Ciencias Forenses","INST102",2019,"Resolución","RESOLUCIÓN NÚMERO 000631 DE 2019 \"por la cual se reestructura el Sistema de Medicina Legal y Ciencias Forenses.\"","Instancia encargada de ","Mixto","Sectorial","Salud","https://www.medicinalegal.gov.co/comites"]
[null,"Comisión Asesora para la enseñanza de la historia de Colombia","INST103",2019,"Decreto","DECRETO NÚMERO 1660 DE 2019 \"por el cual se reglamenta la composición y funcionamiento de la Comisión Asesora del Ministerio de Educación Nacional para la enseñanza de la Historia de Colombia, y se adiciona un artículo al Título 3, Parte 1, Libro 1 del Decreto número 1075 de 2015.\"","Órgano consultivo del Ministerio de Educación Nacional que realizará recomendaciones para la construcción de los documentos que orientan el diseño curricular de las Ciencias Sociales, con la historia de Colombia como disciplina integrada para los establecimientos educativos del país, correlacionada con la ética y la ciudadanía.","Mixto","Sectorial","Educación","https://www.mineducacion.gov.co/1759/w3-article-388402.html?_noredirect=1#:~:text=La%20Comisi%C3%B3n%20Asesora%20para%20la,disciplina%20integrada%20para%20los%20establecimientos"]
[null,"Comisión Nacional de Seguridad y Salud en el Trabajo del Sector Público","INST104",2019,"Resolución","RESOLUCIÓN NÚMERO 3710 DE 2019 \"por la cual se reestructuran las Comisiones Nacionales Sectoriales de Seguridad y Salud en el Trabajo, se crean otras y se dictan disposiciones generales para su funcionamiento.\"","Organismo técnico y operativo de las políticas y orientaciones del Sistema General de Riesgos Laborales, para el desarrollo e implementación de los diferentes programas, acciones, planes y actividades de prevención de riesgos laborales y promoción de la salud, con el fin de consolidar la correcta ejecución de los programas de Seguridad y Salud en el Trabajo, las medidas preventivas y sistemas de vigilancia epidemiológica para dicho sector.","Mixto","Sectorial","Trabajo","https://www.funcionpublica.gov.co/-/la-comision-nacional-de-salud-y-seguridad-en-el-trabajo-analizo-la-salud-mental-de-los-servidores-publicos"]
[null,"Comisión Nacional de Seguridad y Salud en el Trabajo del Sector Agropecuario","INST105",2019,"Resolución","RESOLUCIÓN NÚMERO 3710 DE 2019 \"por la cual se reestructuran las Comisiones Nacionales Sectoriales de Seguridad y Salud en el Trabajo, se crean otras y se dictan disposiciones generales para su funcionamiento.\"","Organismo técnico y operativo de las políticas y orientaciones del Sistema General de Riesgos Laborales, para el desarrollo e implementación de los diferentes programas, acciones, planes y actividades de prevención de riesgos laborales y promoción de la salud, con el fin de consolidar la correcta ejecución de los programas de Seguridad y Salud en el Trabajo, las medidas preventivas y sistemas de vigilancia epidemiológica para dicho sector.","Mixto","Sectorial","Trabajo","https://www.mintrabajo.gov.co/web/guest/inicio"]
[null,"Comisión Nacional de Seguridad y Salud en el Trabajo del Sector Salud","INST106",2019,"Resolución","RESOLUCIÓN NÚMERO 3710 DE 2019 \"por la cual se reestructuran las Comisiones Nacionales Sectoriales de Seguridad y Salud en el Trabajo, se crean otras y se dictan disposiciones generales para su funcionamiento.\"","Organismo técnico y operativo de las políticas y orientaciones del Sistema General de Riesgos Laborales, para el desarrollo e implementación de los diferentes programas, acciones, planes y actividades de prevención de riesgos laborales y promoción de la salud, con el fin de consolidar la correcta ejecución de los programas de Seguridad y Salud en el Trabajo, las medidas preventivas y sistemas de vigilancia epidemiológica para dicho sector.","Mixto","Sectorial","Trabajo","https://www.mintrabajo.gov.co/web/guest/inicio"]
[null,"Comisión Nacional de Seguridad y Salud en el Trabajo del Sector Construcción","INST107",2019,"Resolución","RESOLUCIÓN NÚMERO 3710 DE 2019 \"por la cual se reestructuran las Comisiones Nacionales Sectoriales de Seguridad y Salud en el Trabajo, se crean otras y se dictan disposiciones generales para su funcionamiento.\"","Organismo técnico y operativo de las políticas y orientaciones del Sistema General de Riesgos Laborales, para el desarrollo e implementación de los diferentes programas, acciones, planes y actividades de prevención de riesgos laborales y promoción de la salud, con el fin de consolidar la correcta ejecución de los programas de Seguridad y Salud en el Trabajo, las medidas preventivas y sistemas de vigilancia epidemiológica para dicho sector.","Mixto","Sectorial","Trabajo","https://www.mintrabajo.gov.co/web/guest/inicio"]
[null,"Comisión Nacional de Seguridad y Salud en el Trabajo de Agentes Neumoconióticos","INST108",2019,"Resolución","RESOLUCIÓN NÚMERO 3710 DE 2019 \"por la cual se reestructuran las Comisiones Nacionales Sectoriales de Seguridad y Salud en el Trabajo, se crean otras y se dictan disposiciones generales para su funcionamiento.\"","Organismo técnico y operativo de las políticas y orientaciones del Sistema General de Riesgos Laborales, para el desarrollo e implementación de los diferentes programas, acciones, planes y actividades de prevención de riesgos laborales y promoción de la salud, con el fin de consolidar la correcta ejecución de los programas de Seguridad y Salud en el Trabajo, las medidas preventivas y sistemas de vigilancia epidemiológica para dicho sector.","Mixto","Sectorial","Trabajo","https://www.mintrabajo.gov.co/web/guest/inicio"]
[null,"Comisión Nacional de Seguridad y Salud en el Trabajo del Sector Hidrocarburos","INST109",2019,"Resolución","RESOLUCIÓN NÚMERO 3710 DE 2019 \"por la cual se reestructuran las Comisiones Nacionales Sectoriales de Seguridad y Salud en el Trabajo, se crean otras y se dictan disposiciones generales para su funcionamiento.\"","Organismo técnico y operativo de las políticas y orientaciones del Sistema General de Riesgos Laborales, para el desarrollo e implementación de los diferentes programas, acciones, planes y actividades de prevención de riesgos laborales y promoción de la salud, con el fin de consolidar la correcta ejecución de los programas de Seguridad y Salud en el Trabajo, las medidas preventivas y sistemas de vigilancia epidemiológica para dicho sector.","Mixto","Sectorial","Trabajo","https://www.mintrabajo.gov.co/web/guest/inicio"]
[null,"Comisión Nacional de Seguridad y Salud en el Trabajo del Sector Minero","INST110",2019,"Resolución","RESOLUCIÓN NÚMERO 3710 DE 2019 \"por la cual se reestructuran las Comisiones Nacionales Sectoriales de Seguridad y Salud en el Trabajo, se crean otras y se dictan disposiciones generales para su funcionamiento.\"","Organismo técnico y operativo de las políticas y orientaciones del Sistema General de Riesgos Laborales, para el desarrollo e implementación de los diferentes programas, acciones, planes y actividades de prevención de riesgos laborales y promoción de la salud, con el fin de consolidar la correcta ejecución de los programas de Seguridad y Salud en el Trabajo, las medidas preventivas y sistemas de vigilancia epidemiológica para dicho sector.","Mixto","Sectorial","Trabajo","https://www.mintrabajo.gov.co/web/guest/inicio"]
[null,"Comisión Nacional de Seguridad y Salud en el Trabajo del Sector Eléctrico","INST111",2019,"Resolución","RESOLUCIÓN NÚMERO 3710 DE 2019 \"por la cual se reestructuran las Comisiones Nacionales Sectoriales de Seguridad y Salud en el Trabajo, se crean otras y se dictan disposiciones generales para su funcionamiento.\"","Organismo técnico y operativo de las políticas y orientaciones del Sistema General de Riesgos Laborales, para el desarrollo e implementación de los diferentes programas, acciones, planes y actividades de prevención de riesgos laborales y promoción de la salud, con el fin de consolidar la correcta ejecución de los programas de Seguridad y Salud en el Trabajo, las medidas preventivas y sistemas de vigilancia epidemiológica para dicho sector.","Mixto","Sectorial","Trabajo","https://www.mintrabajo.gov.co/web/guest/inicio"]
[null,"Comisión Nacional de Seguridad y Salud en el Trabajo del Sector Transporte","INST112",2019,"Resolución","RESOLUCIÓN NÚMERO 3710 DE 2019 \"por la cual se reestructuran las Comisiones Nacionales Sectoriales de Seguridad y Salud en el Trabajo, se crean otras y se dictan disposiciones generales para su funcionamiento.\"","Organismo técnico y operativo de las políticas y orientaciones del Sistema General de Riesgos Laborales, para el desarrollo e implementación de los diferentes programas, acciones, planes y actividades de prevención de riesgos laborales y promoción de la salud, con el fin de consolidar la correcta ejecución de los programas de Seguridad y Salud en el Trabajo, las medidas preventivas y sistemas de vigilancia epidemiológica para dicho sector.","Mixto","Sectorial","Trabajo","https://www.mintrabajo.gov.co/web/guest/inicio"]
[null,"Comisión Nacional de Seguridad y Salud en el Trabajo del Sector de las Tecnologías de la Información y las Comunicaciones","INST113",2019,"Resolución","RESOLUCIÓN NÚMERO 3710 DE 2019 \"por la cual se reestructuran las Comisiones Nacionales Sectoriales de Seguridad y Salud en el Trabajo, se crean otras y se dictan disposiciones generales para su funcionamiento.\"","Organismo técnico y operativo de las políticas y orientaciones del Sistema General de Riesgos Laborales, para el desarrollo e implementación de los diferentes programas, acciones, planes y actividades de prevención de riesgos laborales y promoción de la salud, con el fin de consolidar la correcta ejecución de los programas de Seguridad y Salud en el Trabajo, las medidas preventivas y sistemas de vigilancia epidemiológica para dicho sector.","Mixto","Sectorial","Trabajo","https://www.mintrabajo.gov.co/web/guest/inicio"]
[null,"Comisión Nacional de Seguridad y Salud en el Trabajo de la Pequeña y Mediana Empresa","INST114",2019,"Resolución","RESOLUCIÓN NÚMERO 3710 DE 2019 \"por la cual se reestructuran las Comisiones Nacionales Sectoriales de Seguridad y Salud en el Trabajo, se crean otras y se dictan disposiciones generales para su funcionamiento.\"","Organismo técnico y operativo de las políticas y orientaciones del Sistema General de Riesgos Laborales, para el desarrollo e implementación de los diferentes programas, acciones, planes y actividades de prevención de riesgos laborales y promoción de la salud, con el fin de consolidar la correcta ejecución de los programas de Seguridad y Salud en el Trabajo, las medidas preventivas y sistemas de vigilancia epidemiológica para dicho sector.","Mixto","Sectorial","Trabajo","https://www.mintrabajo.gov.co/web/guest/inicio"]
[null,"Mesa por el empleo público","INST115",2019,"Decreto","DECRETO NÚMERO 1800 DE 2019 \"por el cual se adiciona el Capítulo 4 al Título 1 de la Parte 2 del Libro 2 del Decreto 1083 de 2015, Reglamentario Único del Sector de Función Pública, en lo relacionado con la actualización de las plantas globales de empleo.\"","La Mesa tendrá por objeto identificar las entidades y organismos de la Rama Ejecutiva del orden nacional que presentan un número significativo de contratos de prestación de servicios con el fin de adoptar un cronograma con tareas, responsabilidades y fechas precisas, para que en el término de tres (3) años, en forma progresiva, se continúe dando cumplimiento a los acuerdos colectivos sindicales suscritos en el año de 2013 (punto 17), 2015 (punto 1) y 2017 (punto 1.1), en materia de actualización/ampliación de plantas de empleo.","Mixto","Sectorial","Trabajo","https://www.mintrabajo.gov.co/prensa/comunicados/2019/noviembre/instalada-mesa-de-formalizacion-de-empleo-publico"]
[null,"Mesa Técnica Nacional de Familias del Sistema Nacional de Bienestar Familiar","INST116",2019,"Resolución","RESOLUCIÓN NÚMERO 11736 DE 2019 \"por la cual se crea y reglamenta la Mesa Técnica Nacional de Familias del Sistema Nacional de Bienestar Familiar.\"","Instancia de desarrollo técnico del Sistema Nacional de Bienestar Familiar en el ámbito nacional, cuyo objeto es generar las orientaciones para coordinar, armonizar e impulsar la implementación, seguimiento y ajuste de la Política Pública Nacional de Apoyo y Fortalecimiento a las Familias (PPNAFF).","Mixto","Sectorial","Política social y Desarrollo comunitario","https://www.icbf.gov.co/bienestar/sistema-nacional-bienestar-familiar"]
[null,"Comité Ambiental Interinstitucional","INST117",2019,"Resolución","RESOLUCIÓN NÚMERO 0106 DE 2019 por la cual se deroga la Resolución número 0903 del 21 de mayo de 2018 y se crea el Comité Ambiental Interinstitucional de apoyo a la Autoridad Nacional de Licencias Ambientales (ANLA) para el Seguimiento y Monitoreo de los Impactos Ambientales generados por la construcción del Proyecto Hidroeléctrico Hidroituango","El Comité Ambiental Interinstitucional tendrá como objetivo dar soporte técnico a la ANLA en el seguimiento y monitoreo de los aspectos ambientales generados por las acciones adelantadas por el Proyecto Hidroeléctrico Hidroituango, a través de la emisión de información técnica y científica que permita tomar decisiones para prevenir, corregir y mitigar los impactos ambientales del Proyecto Hidroeléctrico Hidroituango en el marco de la contingencia. ","Mixto","Sectorial","Ambiente y Desarrollo Sostenible","https://www.minambiente.gov.co/index.php/noticias-minambiente/3886-se-crea-comite-ambiental-interinstitucional-para-identificar-areas-ambientalmente-sensibles-afectadas-por-hidroituango"]
[null,"Comisión Nacional de Mujeres Indígenas","INST118",2020,"Decreto","DECRETO 1097 DE 2020 \"Por el cual se crea la Comisión Nacional de Mujeres Indígenas en desarrollo del artículo 13 del Decreto 1397 de 1996\"","Instancia de trabajo encargada de orientar y contribuir técnicamente a la formulación, implementación, seguimiento y evaluación de políticas públicas, planes y proyectos que desarrollen los derechos de las mujeres, familias y generaciones indígenas.","Mixto","Poblacional","Grupos y comunidades étnicas: Negras, Afrocolombianos, Raizales, Palenqueras, Indígenas, Rom o Gitana.","https://www.mininterior.gov.co/sala-de-prensa/noticias/ministra-del-interior-alicia-arango-olmos-presento-decreto-comision-nacional-de-mujeres-indigenas"]
[null,"Comité Técnico de Autocontrol y Gestión del Riesgo del Sistema de Subsidio Familiar","INST119",2020,"Resolución","RESOLUCIÓN NÚMERO 0051 DE 2020 \"por medio de la cual se crea el Comité Técnico de Autocontrol y Gestión del Riesgo del Sistema de Subsidio Familiar y se reglamenta su funcionamiento.\"","Instancia que permita apoyar la actividad de los auditores internos permitiendo dar aplicación a los preceptos de seguridad, transparencia, eficacia razonable y mejora continua dentro de las prácticas aplicables al sistema de control interno de las Cajas de Compensación Familiar, mediante el análisis e investigación del marco normativo y de las buenas prácticas de autocontrol bajo estándares locales e internacionales","Mixto","Sectorial","Política social y Desarrollo comunitario","https://www.ssf.gov.co/sala-de-prensa/ultimas-noticias/-/asset_publisher/Ru1pj7K5NMWM/content/creado-comit%25C3%25A9-t%25C3%25A9cnico-de-autocontrol-y-gesti%25C3%25B3n-del-riesgo-del-sistema-de-subsidio-familiar"]
[null,"Comité evaluador de los Proyectos Piloto de Investigación Integral","INST120",2020,"Decreto","Decreto 328 de 2020 \"Por el cual se fijan lineamientos para adelantar Proyectos Piloto de Investigación Integral -PPII sobre Yacimientos No Convencionales - YNC de hidrocarburos con la utilización de la técnica de Fracturamiento Hidráulico Multietapa con Perforación Horizontal - FH-PH, y se dictan otras disposiciones\"","Instancia encargada de evaluar, (i) la información generada y las necesidades de fortalecimiento institucional que resulte durante la ejecución de los Proyectos Piloto de Investigación Integral - PPll; y, (ii) los resultados de los Proyectos Piloto de Investigación Integral - PPll, con el fin de determinar, desde una perspectiva general, si se cumplen las condiciones que permitan proceder con la exploración comercial en Yacimientos No Convencionales - YNC mediante la técnica Fracturamiento Hidráulico Multietapa con Perforación Horizontal - FH-PH.","Mixto","Sectorial","Ambiente y Desarrollo Sostenible","https://www.minenergia.gov.co/web/guest/historico-de-noticias?idNoticia=24277389"]
[null,"Comisión Intersectorial de Acompañamiento Técnico y Científico","INST121",2020,"Decreto","Decreto 328 de 2020 \"Por el cual se fijan lineamientos para adelantar Proyectos Piloto de Investigación Integral -PPII sobre Yacimientos No Convencionales - YNC de hidrocarburos con la utilización de la técnica de Fracturamiento Hidráulico Multietapa con Perforación Horizontal - FH-PH, y se dictan otras disposiciones\"","Instancia encargada de de orientar y coordinar el seguimiento a la ejecución de los Proyectos Piloto de Investigación Integral (PPII), con base en la información y alertas que se reciban de los Subcomités Intersectoriales Técnicos y Científicos.","Mixto","Sectorial","Ambiente y Desarrollo Sostenible","https://www.minenergia.gov.co/web/guest/historico-de-noticias?idNoticia=24249947"]
[null,"Consejo Nacional de Planeación Lingüística de la Lengua de Señas Colombiana","INST122",2020,"Ley","LEY 2049 DE 2020 \"por la cual se crea el Consejo Nacional de Planeación Lingüística de la Lengua de Señas Colombiana (LSC) con el objetivo de concertar la política pública para sordos del país.\"","El Consejo Nacional de Planeación Lingüística de la LSC, que tendrá como objetivo el diseño de una política pública que asesore la definición, adopción y estructuración de una lengua de señas estandarizada y moderna, y su divulgación, a partir de la cooperación entre la academia, el sector público, privado y la sociedad civil del país","Mixto","Poblacional","Personas con discapacidad","https://www.insor.gov.co/home/"]

{"sheet":"Actores participantes","index":2,"n_rows":1380,"n_cols":8,"rows_kept":1380,"cut":false,"hidden":false,"merged":[[2,3,2,6]]}
[]
[]
[null,null,null,"ACTORES PARTICIPANTES"]
[]
[null,"Instancia ID","Instancia de participación","Número de asientos","Actor ID","Actor","Sector","Subsector"]
[null,{"$f":"VLOOKUP(C6,[1]instancias_objetos!A:B,2,FALSE)","v":"INST01"},"Comité Nacional de Urgencias",1,{"$f":"VLOOKUP(F6,[1]Hoja4!C:D,2,FALSE)","v":"ACT61"},"Colegio Colombiano de Médicos de Urgencias","Organización de la Sociedad Civil","Salud"]
[null,{"$f":"VLOOKUP(C7,[1]instancias_objetos!A:B,2,FALSE)","v":"INST01"},"Comité Nacional de Urgencias",1,{"$f":"VLOOKUP(F7,[1]Hoja4!C:D,2,FALSE)","v":"ACT117"},"Cruz Roja Colombiana","Organización de la Sociedad Civil","Salud"]
[null,{"$f":"VLOOKUP(C8,[1]instancias_objetos!A:B,2,FALSE)","v":"INST01"},"Comité Nacional de Urgencias",1,{"$f":"VLOOKUP(F8,[1]Hoja4!C:D,2,FALSE)","v":"ACT137"},"Federación de Aseguradores Colombianos","Organización de la Sociedad Civil","Trabajo"]
[null,{"$f":"VLOOKUP(C9,[1]instancias_objetos!A:B,2,FALSE)","v":"INST01"},"Comité Nacional de Urgencias",1,{"$f":"VLOOKUP(F9,[1]Hoja4!C:D,2,FALSE)","v":"ACT184"},"Ministerio de Salud y Protección Social","Sector Público - Nacional","N/A"]
[null,{"$f":"VLOOKUP(C10,[1]instancias_objetos!A:B,2,FALSE)","v":"INST01"},"Comité Nacional de Urgencias",1,{"$f":"VLOOKUP(F10,[1]Hoja4!C:D,2,FALSE)","v":"ACT300"},"Representante de las Facultades o Escuelas de Medicina","Delegado Sectorial de la Sociedad Civil","Educación"]
[null,{"$f":"VLOOKUP(C11,[1]instancias_objetos!A:B,2,FALSE)","v":"INST01"},"Comité Nacional de Urgencias",1,{"$f":"VLOOKUP(F11,[1]Hoja4!C:D,2,FALSE)","v":"ACT494"},"Superintendencia Nacional de Salud","Sector Público - Nacional","N/A"]
[null,{"$f":"VLOOKUP(C12,[1]instancias_objetos!A:B,2,FALSE)","v":"INST01"},"Comité Nacional de Urgencias",1,{"$f":"VLOOKUP(F12,[1]Hoja4!C:D,2,FALSE)","v":"ACT500"},"Unidad Nacional para la Gestión del Riesgo de Desastres","Sector Público - Nacional","N/A"]
[null,{"$f":"VLOOKUP(C13,[1]instancias_objetos!A:B,2,FALSE)","v":"INST02"},"Consejo Nacional de Apoyo a la Lactancia Materna",1,{"$f":"VLOOKUP(F13,[1]Hoja4!C:D,2,FALSE)","v":"ACT145"},"Fondo de las Naciones Unidas para la Infancia","Organismo Multilateral","N/A"]
[null,{"$f":"VLOOKUP(C14,[1]instancias_objetos!A:B,2,FALSE)","v":"INST02"},"Consejo Nacional de Apoyo a la Lactancia Materna",1,{"$f":"VLOOKUP(F14,[1]Hoja4!C:D,2,FALSE)","v":"ACT157"},"Instituto Colombiano de Bienestar Familiar","Sector Público - Nacional","N/A"]
[null,{"$f":"VLOOKUP(C15,[1]instancias_objetos!A:B,2,FALSE)","v":"INST02"},"Consejo Nacional de Apoyo a la Lactancia Materna",1,{"$f":"VLOOKUP(F15,[1]Hoja4!C:D,2,FALSE)","v":"ACT163"},"Instituto de Seguros Sociales","Sector Público - Nacional","N/A"]
[null,{"$f":"VLOOKUP(C16,[1]instancias_objetos!A:B,2,FALSE)","v":"INST02"},"Consejo Nacional de Apoyo a la Lactancia Materna",1,{"$f":"VLOOKUP(F16,[1]Hoja4!C:D,2,FALSE)","v":"ACT171"},"Liga de la Leche Internacional","Organización de la Sociedad Civil","Poblacional y Género (Niñez, Jóvenes, Mujeres, Adulto Mayor, LGBTI)"]
[null,{"$f":"VLOOKUP(C17,[1]instancias_objetos!A:B,2,FALSE)","v":"INST02"},"Consejo Nacional de Apoyo a la Lactancia Materna",1,{"$f":"VLOOKUP(F17,[1]Hoja4!C:D,2,FALSE)","v":"ACT184"},"Ministerio de Salud y Protección Social","Sector Público - Nacional","N/A"]
[null,{"$f":"VLOOKUP(C18,[1]instancias_objetos!A:B,2,FALSE)","v":"INST02"},"Consejo Nacional de Apoyo a la Lactancia Materna",1,{"$f":"VLOOKUP(F18,[1]Hoja4!C:D,2,FALSE)","v":"ACT184"},"Ministerio de Salud y Protección Social","Sector Público - Nacional","N/A"]
[null,{"$f":"VLOOKUP(C19,[1]instancias_objetos!A:B,2,FALSE)","v":"INST02"},"Consejo Nacional de Apoyo a la Lactancia Materna",1,{"$f":"VLOOKUP(F19,[1]Hoja4!C:D,2,FALSE)","v":"ACT201"},"Organización Panamericana de la Salud","Organismo Multilateral","N/A"]
[null,{"$f":"VLOOKUP(C20,[1]instancias_objetos!A:B,2,FALSE)","v":"INST02"},"Consejo Nacional de Apoyo a la Lactancia Materna",1,{"$f":"VLOOKUP(F20,[1]Hoja4!C:D,2,FALSE)","v":"ACT210"},"Presidencia de la República","Sector Público - Nacional","N/A"]
[null,{"$f":"VLOOKUP(C21,[1]instancias_objetos!A:B,2,FALSE)","v":"INST02"},"Consejo Nacional de Apoyo a la Lactancia Materna",1,{"$f":"VLOOKUP(F21,[1]Hoja4!C:D,2,FALSE)","v":"ACT231"},"Representante de cada una de las Asociaciones de Facultades de las Ciencias de la Salud","Delegado Sectorial de la Sociedad Civil","Educación"]
[null,{"$f":"VLOOKUP(C22,[1]instancias_objetos!A:B,2,FALSE)","v":"INST02"},"Consejo Nacional de Apoyo a la Lactancia Materna",1,{"$f":"VLOOKUP(F22,[1]Hoja4!C:D,2,FALSE)","v":"ACT232"},"Representante de cada una de las Asociaciones profesionales de ciencias de la salud","Delegado Sectorial de la Sociedad Civil","Salud"]
[null,{"$f":"VLOOKUP(C23,[1]instancias_objetos!A:B,2,FALSE)","v":"INST02"},"Consejo Nacional de Apoyo a la Lactancia Materna",1,{"$f":"VLOOKUP(F23,[1]Hoja4!C:D,2,FALSE)","v":"ACT440"},"Representante del Sector Agricultura","Delegado Sectorial de la Sociedad Civil","Agricultura y Ruralidad"]
[null,{"$f":"VLOOKUP(C24,[1]instancias_objetos!A:B,2,FALSE)","v":"INST03"},"Consejo Nacional de Educación Superior",1,{"$f":"VLOOKUP(F24,[1]Hoja4!C:D,2,FALSE)","v":"ACT126"},"Departamento Nacional de Planeación","Sector Público - Nacional","N/A"]
[null,{"$f":"VLOOKUP(C25,[1]instancias_objetos!A:B,2,FALSE)","v":"INST03"},"Consejo Nacional de Educación Superior",1,{"$f":"VLOOKUP(F25,[1]Hoja4!C:D,2,FALSE)","v":"ACT159"},"Instituto Colombiano para la Evaluación de la Educación","Sector Público - Nacional","N/A"]
[null,{"$f":"VLOOKUP(C26,[1]instancias_objetos!A:B,2,FALSE)","v":"INST03"},"Consejo Nacional de Educación Superior",1,{"$f":"VLOOKUP(F26,[1]Hoja4!C:D,2,FALSE)","v":"ACT175"},"Ministerio de Ciencia, Tecnología e Innovación","Sector Público - Nacional","N/A"]
[null,{"$f":"VLOOKUP(C27,[1]instancias_objetos!A:B,2,FALSE)","v":"INST03"},"Consejo Nacional de Educación Superior",1,{"$f":"VLOOKUP(F27,[1]Hoja4!C:D,2,FALSE)","v":"ACT179"},"Ministerio de Educación Nacional","Sector Público - Nacional","N/A"]
[null,{"$f":"VLOOKUP(C28,[1]instancias_objetos!A:B,2,FALSE)","v":"INST03"},"Consejo Nacional de Educación Superior",1,{"$f":"VLOOKUP(F28,[1]Hoja4!C:D,2,FALSE)","v":"ACT243"},"Representante de Estudiantes Universitarios","Delegado Sectorial de la Sociedad Civil","Educación"]
[null,{"$f":"VLOOKUP(C29,[1]instancias_objetos!A:B,2,FALSE)","v":"INST03"},"Consejo Nacional de Educación Superior",1,{"$f":"VLOOKUP(F29,[1]Hoja4!C:D,2,FALSE)","v":"ACT359"},"Representante de las Universidades Públicas","Delegado Sectorial de la Sociedad Civil","Educación"]
[null,{"$f":"VLOOKUP(C30,[1]instancias_objetos!A:B,2,FALSE)","v":"INST03"},"Consejo Nacional de Educación Superior",1,{"$f":"VLOOKUP(F30,[1]Hoja4!C:D,2,FALSE)","v":"ACT406"},"Representante de los rectores de instituciones técnicas públicas","Delegado Sectorial de la Sociedad Civil","Educación"]
[null,{"$f":"VLOOKUP(C31,[1]instancias_objetos!A:B,2,FALSE)","v":"INST03"},"Consejo Nacional de Educación Superior",2,{"$f":"VLOOKUP(F31,[1]Hoja4!C:D,2,FALSE)","v":"ACT407"},"Representante de los rectores de las Universidades Privadas","Delegado Sectorial de la Sociedad Civil","Educación"]
[null,{"$f":"VLOOKUP(C32,[1]instancias_objetos!A:B,2,FALSE)","v":"INST03"},"Consejo Nacional de Educación Superior",1,{"$f":"VLOOKUP(F32,[1]Hoja4!C:D,2,FALSE)","v":"ACT408"},"Representante de los rectores de las Universidades Públicas","Sector Público - Nacional","N/A"]
[null,{"$f":"VLOOKUP(C33,[1]instancias_objetos!A:B,2,FALSE)","v":"INST03"},"Consejo Nacional de Educación Superior",1,{"$f":"VLOOKUP(F33,[1]Hoja4!C:D,2,FALSE)","v":"ACT408"},"Representante de los rectores de las Universidades Públicas","Sector Público - Nacional","N/A"]
[null,{"$f":"VLOOKUP(C34,[1]instancias_objetos!A:B,2,FALSE)","v":"INST03"},"Consejo Nacional de Educación Superior",1,{"$f":"VLOOKUP(F34,[1]Hoja4!C:D,2,FALSE)","v":"ACT424"},"Representante de Profesores Universitarios","Delegado Sectorial de la Sociedad Civil","Educación"]
[null,{"$f":"VLOOKUP(C35,[1]instancias_objetos!A:B,2,FALSE)","v":"INST03"},"Consejo Nacional de Educación Superior",1,{"$f":"VLOOKUP(F35,[1]Hoja4!C:D,2,FALSE)","v":"ACT457"},"Representante del Sector Educativo","Delegado Sectorial de la Sociedad Civil","Educación"]
[null,{"$f":"VLOOKUP(C36,[1]instancias_objetos!A:B,2,FALSE)","v":"INST03"},"Consejo Nacional de Educación Superior",2,{"$f":"VLOOKUP(F36,[1]Hoja4!C:D,2,FALSE)","v":"ACT464"},"Representante del Sector Minero-Energético y Productivo","Delegado Sectorial de la Sociedad Civil","Agricultura y Ruralidad"]
[null,{"$f":"VLOOKUP(C37,[1]instancias_objetos!A:B,2,FALSE)","v":"INST03"},"Consejo Nacional de Educación Superior",1,{"$f":"VLOOKUP(F37,[1]Hoja4!C:D,2,FALSE)","v":"ACT503"},"Universidad Nacional de Colombia","Sector Público - Nacional","N/A"]
[null,{"$f":"VLOOKUP(C38,[1]instancias_objetos!A:B,2,FALSE)","v":"INST04"},"Consejo Nacional de Integración y Desarrollo de la Comunidad",1,{"$f":"VLOOKUP(F38,[1]Hoja4!C:D,2,FALSE)","v":"ACT50"},"Autoridades Locales","Sector Público - Territorial","N/A"]
[null,{"$f":"VLOOKUP(C39,[1]instancias_objetos!A:B,2,FALSE)","v":"INST04"},"Consejo Nacional de Integración y Desarrollo de la Comunidad",1,{"$f":"VLOOKUP(F39,[1]Hoja4!C:D,2,FALSE)","v":"ACT77"},"Confederación Nacional de Acción Comunal","Organización de la Sociedad Civil","Control Social, Transparencia, Comunitario y Veedurías"]
[null,{"$f":"VLOOKUP(C40,[1]instancias_objetos!A:B,2,FALSE)","v":"INST04"},"Consejo Nacional de Integración y Desarrollo de la Comunidad",1,{"$f":"VLOOKUP(F40,[1]Hoja4!C:D,2,FALSE)","v":"ACT87"},"Consejeros Presidenciales para la promoción y desarrollo comunitario","Sector Público - Nacional","N/A"]
[null,{"$f":"VLOOKUP(C41,[1]instancias_objetos!A:B,2,FALSE)","v":"INST04"},"Consejo Nacional de Integración y Desarrollo de la Comunidad",1,{"$f":"VLOOKUP(F41,[1]Hoja4!C:D,2,FALSE)","v":"ACT126"},"Departamento Nacional de Planeación","Sector Público - Nacional","N/A"]
[null,{"$f":"VLOOKUP(C42,[1]instancias_objetos!A:B,2,FALSE)","v":"INST04"},"Consejo Nacional de Integración y Desarrollo de la Comunidad",1,{"$f":"VLOOKUP(F42,[1]Hoja4!C:D,2,FALSE)","v":"ACT135"},"Federación Colombiana de Municipios","Sector Privado","Control Social, Transparencia, Comunitario y Veedurías"]
[null,{"$f":"VLOOKUP(C43,[1]instancias_objetos!A:B,2,FALSE)","v":"INST04"},"Consejo Nacional de Integración y Desarrollo de la Comunidad",2,{"$f":"VLOOKUP(F43,[1]Hoja4!C:D,2,FALSE)","v":"ACT189"},"Ministerio del Interior","Sector Público - Nacional","N/A"]
[null,{"$f":"VLOOKUP(C44,[1]instancias_objetos!A:B,2,FALSE)","v":"INST04"},"Consejo Nacional de Integración y Desarrollo de la Comunidad",5,{"$f":"VLOOKUP(F44,[1]Hoja4!C:D,2,FALSE)","v":"ACT328"},"Representante de las Organizaciones Comumitarias de Consumidores","Delegado Sectorial de la Sociedad Civil","Comercio"]
[null,{"$f":"VLOOKUP(C45,[1]instancias_objetos!A:B,2,FALSE)","v":"INST04"},"Consejo Nacional de Integración y Desarrollo de la Comunidad",5,{"$f":"VLOOKUP(F45,[1]Hoja4!C:D,2,FALSE)","v":"ACT330"},"Representante de las Organizaciones Comunitarias Agropecuarias","Delegado Sectorial de la Sociedad Civil","Agricultura y Ruralidad"]
[null,{"$f":"VLOOKUP(C46,[1]instancias_objetos!A:B,2,FALSE)","v":"INST04"},"Consejo Nacional de Integración y Desarrollo de la Comunidad",5,{"$f":"VLOOKUP(F46,[1]Hoja4!C:D,2,FALSE)","v":"ACT331"},"Representante de las Organizaciones Comunitarias de las Minorías Étnicas y Raciales no Indígenas","Delegado Sectorial de la Sociedad Civil","Grupos Étnicos (Afros, Indígenas, Raizales, Palenqueros y ROM)"]
[null,{"$f":"VLOOKUP(C47,[1]instancias_objetos!A:B,2,FALSE)","v":"INST04"},"Consejo Nacional de Integración y Desarrollo de la Comunidad",5,{"$f":"VLOOKUP(F47,[1]Hoja4!C:D,2,FALSE)","v":"ACT332"},"Representante de las Organizaciones Comunitarias de Mujeres","Delegado Sectorial de la Sociedad Civil","Poblacional y Género (Niñez, Jóvenes, Mujeres, Adulto Mayor, LGBTI)"]
[null,{"$f":"VLOOKUP(C48,[1]instancias_objetos!A:B,2,FALSE)","v":"INST04"},"Consejo Nacional de Integración y Desarrollo de la Comunidad",5,{"$f":"VLOOKUP(F48,[1]Hoja4!C:D,2,FALSE)","v":"ACT333"},"Representante de las Organizaciones Comunitarias de Viviendistas","Delegado Sectorial de la Sociedad Civil","Vivienda"]
[null,{"$f":"VLOOKUP(C49,[1]instancias_objetos!A:B,2,FALSE)","v":"INST04"},"Consejo Nacional de Integración y Desarrollo de la Comunidad",5,{"$f":"VLOOKUP(F49,[1]Hoja4!C:D,2,FALSE)","v":"ACT334"},"Representante de las Organizaciones Comunitarias Ecologistas","Delegado Sectorial de la Sociedad Civil","Ambiente"]
[null,{"$f":"VLOOKUP(C50,[1]instancias_objetos!A:B,2,FALSE)","v":"INST04"},"Consejo Nacional de Integración y Desarrollo de la Comunidad",5,{"$f":"VLOOKUP(F50,[1]Hoja4!C:D,2,FALSE)","v":"ACT339"},"Representante de las Organizaciones de Madres Comunitarias","Delegado Sectorial de la Sociedad Civil","Poblacional y Género (Niñez, Jóvenes, Mujeres, Adulto Mayor, LGBTI)"]
[null,{"$f":"VLOOKUP(C51,[1]instancias_objetos!A:B,2,FALSE)","v":"INST04"},"Consejo Nacional de Integración y Desarrollo de la Comunidad",5,{"$f":"VLOOKUP(F51,[1]Hoja4!C:D,2,FALSE)","v":"ACT350"},"Representante de las Organizaciones Juveniles Comunitarias","Delegado Sectorial de la Sociedad Civil","Poblacional y Género (Niñez, Jóvenes, Mujeres, Adulto Mayor, LGBTI)"]
[null,{"$f":"VLOOKUP(C52,[1]instancias_objetos!A:B,2,FALSE)","v":"INST04"},"Consejo Nacional de Integración y Desarrollo de la Comunidad",5,{"$f":"VLOOKUP(F52,[1]Hoja4!C:D,2,FALSE)","v":"ACT412"},"Representante de Organizaciones Comunitarias de la economía solidaria","Delegado Sectorial de la Sociedad Civil","Solidario"]
[null,{"$f":"VLOOKUP(C53,[1]instancias_objetos!A:B,2,FALSE)","v":"INST05"},"Comisión Consultiva de Alto Nivel para las Comunidades Negras, Afrocolombianas, Raizales y Palenqueras",1,{"$f":"VLOOKUP(F53,[1]Hoja4!C:D,2,FALSE)","v":"ACT125"},"Departamento Administrativo para la Prosperidad Social","Sector Público - Nacional","N/A"]
[null,{"$f":"VLOOKUP(C54,[1]instancias_objetos!A:B,2,FALSE)","v":"INST05"},"Comisión Consultiva de Alto Nivel para las Comunidades Negras, Afrocolombianas, Raizales y Palenqueras",1,{"$f":"VLOOKUP(F54,[1]Hoja4!C:D,2,FALSE)","v":"ACT126"},"Departamento Nacional de Planeación","Sector Público - Nacional","N/A"]
[null,{"$f":"VLOOKUP(C55,[1]instancias_objetos!A:B,2,FALSE)","v":"INST05"},"Comisión Consultiva de Alto Nivel para las Comunidades Negras, Afrocolombianas, Raizales y Palenqueras",1,{"$f":"VLOOKUP(F55,[1]Hoja4!C:D,2,FALSE)","v":"ACT156"},"Instituto Colombiano de Antropología e Historia","Sector Público - Nacional","N/A"]
[null,{"$f":"VLOOKUP(C56,[1]instancias_objetos!A:B,2,FALSE)","v":"INST05"},"Comisión Consultiva de Alto Nivel para las Comunidades Negras, Afrocolombianas, Raizales y Palenqueras",1,{"$f":"VLOOKUP(F56,[1]Hoja4!C:D,2,FALSE)","v":"ACT158"},"Instituto Colombiano de Desarrollo Rural","Sector Público - Nacional","N/A"]
[null,{"$f":"VLOOKUP(C57,[1]instancias_objetos!A:B,2,FALSE)","v":"INST05"},"Comisión Consultiva de Alto Nivel para las Comunidades Negras, Afrocolombianas, Raizales y Palenqueras",1,{"$f":"VLOOKUP(F57,[1]Hoja4!C:D,2,FALSE)","v":"ACT164"},"Instituto Geográfico Agustín Codazzi","Sector Público - Nacional","N/A"]
[null,{"$f":"VLOOKUP(C58,[1]instancias_objetos!A:B,2,FALSE)","v":"INST05"},"Comisión Consultiva de Alto Nivel para las Comunidades Negras, Afrocolombianas, Raizales y Palenqueras",1,{"$f":"VLOOKUP(F58,[1]Hoja4!C:D,2,FALSE)","v":"ACT173"},"Ministerio de Agricultura y Desarrollo Rural","Sector Público - Nacional","N/A"]
[null,{"$f":"VLOOKUP(C59,[1]instancias_objetos!A:B,2,FALSE)","v":"INST05"},"Comisión Consultiva de Alto Nivel para las Comunidades Negras, Afrocolombianas, Raizales y Palenqueras",1,{"$f":"VLOOKUP(F59,[1]Hoja4!C:D,2,FALSE)","v":"ACT174"},"Ministerio de Ambiente y Desarrollo Sostenible","Sector Público - Nacional","N/A"]
[null,{"$f":"VLOOKUP(C60,[1]instancias_objetos!A:B,2,FALSE)","v":"INST05"},"Comisión Consultiva de Alto Nivel para las Comunidades Negras, Afrocolombianas, Raizales y Palenqueras",1,{"$f":"VLOOKUP(F60,[1]Hoja4!C:D,2,FALSE)","v":"ACT179"},"Ministerio de Educación Nacional","Sector Público - Nacional","N/A"]
[null,{"$f":"VLOOKUP(C61,[1]instancias_objetos!A:B,2,FALSE)","v":"INST05"},"Comisión Consultiva de Alto Nivel para las Comunidades Negras, Afrocolombianas, Raizales y Palenqueras",1,{"$f":"VLOOKUP(F61,[1]Hoja4!C:D,2,FALSE)","v":"ACT182"},"Ministerio de Minas y Energía","Sector Público - Nacional","N/A"]
[null,{"$f":"VLOOKUP(C62,[1]instancias_objetos!A:B,2,FALSE)","v":"INST05"},"Comisión Consultiva de Alto Nivel para las Comunidades Negras, Afrocolombianas, Raizales y Palenqueras",1,{"$f":"VLOOKUP(F62,[1]Hoja4!C:D,2,FALSE)","v":"ACT189"},"Ministerio del Interior","Sector Público - Nacional","N/A"]
[null,{"$f":"VLOOKUP(C63,[1]instancias_objetos!A:B,2,FALSE)","v":"INST05"},"Comisión Consultiva de Alto Nivel para las Comunidades Negras, Afrocolombianas, Raizales y Palenqueras",2,{"$f":"VLOOKUP(F63,[1]Hoja4!C:D,2,FALSE)","v":"ACT225"},"Representante a la Cámara elegido por cincunscripción especial para las Comunidades Negras, Afrocolombianas, Raizales y Palenqueras","Sector Público - Nacional","N/A"]
[null,{"$f":"VLOOKUP(C64,[1]instancias_objetos!A:B,2,FALSE)","v":"INST05"},"Comisión Consultiva de Alto Nivel para las Comunidades Negras, Afrocolombianas, Raizales y Palenqueras",2,{"$f":"VLOOKUP(F64,[1]Hoja4!C:D,2,FALSE)","v":"ACT290"},"Representante de las Comunidades Negras","Delegado Sectorial de la Sociedad Civil","Grupos Étnicos (Afros, Indígenas, Raizales, Palenqueros y ROM)"]
[null,{"$f":"VLOOKUP(C65,[1]instancias_objetos!A:B,2,FALSE)","v":"INST05"},"Comisión Consultiva de Alto Nivel para las Comunidades Negras, Afrocolombianas, Raizales y Palenqueras",32,{"$f":"VLOOKUP(F65,[1]Hoja4!C:D,2,FALSE)","v":"ACT370"},"Representante de los Consejos Comunitarios de las Comunidades Negras, Afrocolombianas, Raizales y Palenqueras","Delegado Sectorial de la Sociedad Civil","Grupos Étnicos (Afros, Indígenas, Raizales, Palenqueros y ROM)"]
[null,{"$f":"VLOOKUP(C66,[1]instancias_objetos!A:B,2,FALSE)","v":"INST05"},"Comisión Consultiva de Alto Nivel para las Comunidades Negras, Afrocolombianas, Raizales y Palenqueras",1,{"$f":"VLOOKUP(F66,[1]Hoja4!C:D,2,FALSE)","v":"ACT497"},"Unidad de Planificación de Tierras Rurales, Adecuación de Tierras y Usos Agropecuarios","Sector Público - Nacional","N/A"]
[null,{"$f":"VLOOKUP(C67,[1]instancias_objetos!A:B,2,FALSE)","v":"INST06"},"Comisión de Estudios para la Formulación del Plan de Desarrollo de las Comunidades Negras",1,{"$f":"VLOOKUP(F67,[1]Hoja4!C:D,2,FALSE)","v":"ACT126"},"Departamento Nacional de Planeación","Sector Público - Nacional","N/A"]
[null,{"$f":"VLOOKUP(C68,[1]instancias_objetos!A:B,2,FALSE)","v":"INST06"},"Comisión de Estudios para la Formulación del Plan de Desarrollo de las Comunidades Negras",1,{"$f":"VLOOKUP(F68,[1]Hoja4!C:D,2,FALSE)","v":"ACT181"},"Ministerio de Justicia y del Derecho","Sector Público - Nacional","N/A"]
[null,{"$f":"VLOOKUP(C69,[1]instancias_objetos!A:B,2,FALSE)","v":"INST06"},"Comisión de Estudios para la Formulación del Plan de Desarrollo de las Comunidades Negras",1,{"$f":"VLOOKUP(F69,[1]Hoja4!C:D,2,FALSE)","v":"ACT189"},"Ministerio del Interior","Sector Público - Nacional","N/A"]
[null,{"$f":"VLOOKUP(C70,[1]instancias_objetos!A:B,2,FALSE)","v":"INST06"},"Comisión de Estudios para la Formulación del Plan de Desarrollo de las Comunidades Negras",2,{"$f":"VLOOKUP(F70,[1]Hoja4!C:D,2,FALSE)","v":"ACT290"},"Representante de las Comunidades Negras","Delegado Sectorial de la Sociedad Civil","Grupos Étnicos (Afros, Indígenas, Raizales, Palenqueros y ROM)"]
[null,{"$f":"VLOOKUP(C71,[1]instancias_objetos!A:B,2,FALSE)","v":"INST07"},"Comisión Nacional de Policía y Participación Ciudadana",1,{"$f":"VLOOKUP(F71,[1]Hoja4!C:D,2,FALSE)","v":"ACT72"},"Confederación Colombiana de Organizaciones No Gubernamentales","Organización de la Sociedad Civil","Control Social, Transparencia, Comunitario y Veedurías"]
[null,{"$f":"VLOOKUP(C72,[1]instancias_objetos!A:B,2,FALSE)","v":"INST07"},"Comisión Nacional de Policía y Participación Ciudadana",1,{"$f":"VLOOKUP(F72,[1]Hoja4!C:D,2,FALSE)","v":"ACT77"},"Confederación Nacional de Acción Comunal","Organización de la Sociedad Civil","Control Social, Transparencia, Comunitario y Veedurías"]
[null,{"$f":"VLOOKUP(C73,[1]instancias_objetos!A:B,2,FALSE)","v":"INST07"},"Comisión Nacional de Policía y Participación Ciudadana",1,{"$f":"VLOOKUP(F73,[1]Hoja4!C:D,2,FALSE)","v":"ACT121"},"Defensoría del Pueblo","Sector Público - Nacional","N/A"]
[null,{"$f":"VLOOKUP(C74,[1]instancias_objetos!A:B,2,FALSE)","v":"INST07"},"Comisión Nacional de Policía y Participación Ciudadana",1,{"$f":"VLOOKUP(F74,[1]Hoja4!C:D,2,FALSE)","v":"ACT135"},"Federación Colombiana de Municipios","Sector Privado","Control Social, Transparencia, Comunitario y Veedurías"]
[null,{"$f":"VLOOKUP(C75,[1]instancias_objetos!A:B,2,FALSE)","v":"INST07"},"Comisión Nacional de Policía y Participación Ciudadana",1,{"$f":"VLOOKUP(F75,[1]Hoja4!C:D,2,FALSE)","v":"ACT141"},"Federación Nacional de Departamentos","Sector Público - Territorial","N/A"]
[null,{"$f":"VLOOKUP(C76,[1]instancias_objetos!A:B,2,FALSE)","v":"INST07"},"Comisión Nacional de Policía y Participación Ciudadana",1,{"$f":"VLOOKUP(F76,[1]Hoja4!C:D,2,FALSE)","v":"ACT178"},"Ministerio de Defensa Nacional","Sector Público - Nacional","N/A"]
[null,{"$f":"VLOOKUP(C77,[1]instancias_objetos!A:B,2,FALSE)","v":"INST07"},"Comisión Nacional de Policía y Participación Ciudadana",1,{"$f":"VLOOKUP(F77,[1]Hoja4!C:D,2,FALSE)","v":"ACT209"},"Policía Nacional","Sector Público - Nacional","N/A"]
[null,{"$f":"VLOOKUP(C78,[1]instancias_objetos!A:B,2,FALSE)","v":"INST07"},"Comisión Nacional de Policía y Participación Ciudadana",1,{"$f":"VLOOKUP(F78,[1]Hoja4!C:D,2,FALSE)","v":"ACT209"},"Policía Nacional","Sector Público - Nacional","N/A"]
[null,{"$f":"VLOOKUP(C79,[1]instancias_objetos!A:B,2,FALSE)","v":"INST07"},"Comisión Nacional de Policía y Participación Ciudadana",1,{"$f":"VLOOKUP(F79,[1]Hoja4!C:D,2,FALSE)","v":"ACT264"},"Representante de las Agremiaciones de Retirados de la Policía","Delegado Sectorial de la Sociedad Civil","Seguridad y Defensa"]
[null,{"$f":"VLOOKUP(C80,[1]instancias_objetos!A:B,2,FALSE)","v":"INST07"},"Comisión Nacional de Policía y Participación Ciudadana",1,{"$f":"VLOOKUP(F80,[1]Hoja4!C:D,2,FALSE)","v":"ACT290"},"Representante de las Comunidades Negras","Delegado Sectorial de la Sociedad Civil","Grupos Étnicos (Afros, Indígenas, Raizales, Palenqueros y ROM)"]
[null,{"$f":"VLOOKUP(C81,[1]instancias_objetos!A:B,2,FALSE)","v":"INST07"},"Comisión Nacional de Policía y Participación Ciudadana",1,{"$f":"VLOOKUP(F81,[1]Hoja4!C:D,2,FALSE)","v":"ACT335"},"Representante de las Organizaciones de Derechos Humanos","Delegado Sectorial de la Sociedad Civil","Derechos Humanos"]
[null,{"$f":"VLOOKUP(C82,[1]instancias_objetos!A:B,2,FALSE)","v":"INST07"},"Comisión Nacional de Policía y Participación Ciudadana",1,{"$f":"VLOOKUP(F82,[1]Hoja4!C:D,2,FALSE)","v":"ACT356"},"Representante de las Universidades","Delegado Sectorial de la Sociedad Civil","Educación"]
[null,{"$f":"VLOOKUP(C83,[1]instancias_objetos!A:B,2,FALSE)","v":"INST07"},"Comisión Nacional de Policía y Participación Ciudadana",1,{"$f":"VLOOKUP(F83,[1]Hoja4!C:D,2,FALSE)","v":"ACT367"},"Representante de los Adultos Mayores","Delegado Sectorial de la Sociedad Civil","Poblacional y Género (Niñez, Jóvenes, Mujeres, Adulto Mayor, LGBTI)"]
[null,{"$f":"VLOOKUP(C84,[1]instancias_objetos!A:B,2,FALSE)","v":"INST07"},"Comisión Nacional de Policía y Participación Ciudadana",1,{"$f":"VLOOKUP(F84,[1]Hoja4!C:D,2,FALSE)","v":"ACT369"},"Representante de los Campesinos","Delegado Sectorial de la Sociedad Civil","Agricultura y Ruralidad"]
[null,{"$f":"VLOOKUP(C85,[1]instancias_objetos!A:B,2,FALSE)","v":"INST07"},"Comisión Nacional de Policía y Participación Ciudadana",1,{"$f":"VLOOKUP(F85,[1]Hoja4!C:D,2,FALSE)","v":"ACT389"},"Representante de los Gremios Económicos y Empresariales","Sector Privado","Agricultura y Ruralidad"]
[null,{"$f":"VLOOKUP(C86,[1]instancias_objetos!A:B,2,FALSE)","v":"INST07"},"Comisión Nacional de Policía y Participación Ciudadana",1,{"$f":"VLOOKUP(F86,[1]Hoja4!C:D,2,FALSE)","v":"ACT389"},"Representante de los Gremios Económicos y Empresariales","Sector Privado","Comercio"]
[null,{"$f":"VLOOKUP(C87,[1]instancias_objetos!A:B,2,FALSE)","v":"INST07"},"Comisión Nacional de Policía y Participación Ciudadana",1,{"$f":"VLOOKUP(F87,[1]Hoja4!C:D,2,FALSE)","v":"ACT389"},"Representante de los Gremios Económicos y Empresariales","Sector Privado","Transporte"]
[null,{"$f":"VLOOKUP(C88,[1]instancias_objetos!A:B,2,FALSE)","v":"INST07"},"Comisión Nacional de Policía y Participación Ciudadana",1,{"$f":"VLOOKUP(F88,[1]Hoja4!C:D,2,FALSE)","v":"ACT392"},"Representante de los Jóvenes","Delegado Sectorial de la Sociedad Civil","Poblacional y Género (Niñez, Jóvenes, Mujeres, Adulto Mayor, LGBTI)"]
[null,{"$f":"VLOOKUP(C89,[1]instancias_objetos!A:B,2,FALSE)","v":"INST07"},"Comisión Nacional de Policía y Participación Ciudadana",1,{"$f":"VLOOKUP(F89,[1]Hoja4!C:D,2,FALSE)","v":"ACT396"},"Representante de los Medios de Comunicación masivos","Delegado Sectorial de la Sociedad Civil","Comunicaciones e Información"]
[null,{"$f":"VLOOKUP(C90,[1]instancias_objetos!A:B,2,FALSE)","v":"INST07"},"Comisión Nacional de Policía y Participación Ciudadana",1,{"$f":"VLOOKUP(F90,[1]Hoja4!C:D,2,FALSE)","v":"ACT436"},"Representante del Pueblo Indígena","Delegado Sectorial de la Sociedad Civil","Grupos Étnicos (Afros, Indígenas, Raizales, Palenqueros y ROM)"]
[null,{"$f":"VLOOKUP(C91,[1]instancias_objetos!A:B,2,FALSE)","v":"INST07"},"Comisión Nacional de Policía y Participación Ciudadana",1,{"$f":"VLOOKUP(F91,[1]Hoja4!C:D,2,FALSE)","v":"ACT455"},"Representante del Sector Discapacidad","Delegado Sectorial de la Sociedad Civil","Discapacidad"]
[null,{"$f":"VLOOKUP(C92,[1]instancias_objetos!A:B,2,FALSE)","v":"INST07"},"Comisión Nacional de Policía y Participación Ciudadana",1,{"$f":"VLOOKUP(F92,[1]Hoja4!C:D,2,FALSE)","v":"ACT457"},"Representante del Sector Educativo","Delegado Sectorial de la Sociedad Civil","Educación"]
[null,{"$f":"VLOOKUP(C93,[1]instancias_objetos!A:B,2,FALSE)","v":"INST07"},"Comisión Nacional de Policía y Participación Ciudadana",1,{"$f":"VLOOKUP(F93,[1]Hoja4!C:D,2,FALSE)","v":"ACT465"},"Representante del Sector Mujeres","Delegado Sectorial de la Sociedad Civil","Poblacional y Género (Niñez, Jóvenes, Mujeres, Adulto Mayor, LGBTI)"]
[null,{"$f":"VLOOKUP(C94,[1]instancias_objetos!A:B,2,FALSE)","v":"INST07"},"Comisión Nacional de Policía y Participación Ciudadana",1,{"$f":"VLOOKUP(F94,[1]Hoja4!C:D,2,FALSE)","v":"ACT469"},"Representante del Sector Sindical","Delegado Sectorial de la Sociedad Civil","Trabajo"]
[null,{"$f":"VLOOKUP(C95,[1]instancias_objetos!A:B,2,FALSE)","v":"INST08"},"Consejo Asesor del Servicio de Radioaficionado",1,{"$f":"VLOOKUP(F95,[1]Hoja4!C:D,2,FALSE)","v":"ACT185"},"Ministerio de Tecnologías de la Información y las Comunicaciones","Sector Público - Nacional","N/A"]
[null,{"$f":"VLOOKUP(C96,[1]instancias_objetos!A:B,2,FALSE)","v":"INST08"},"Consejo Asesor del Servicio de Radioaficionado",1,{"$f":"VLOOKUP(F96,[1]Hoja4!C:D,2,FALSE)","v":"ACT185"},"Ministerio de Tecnologías de la Información y las Comunicaciones","Sector Público - Nacional","N/A"]
[null,{"$f":"VLOOKUP(C97,[1]instancias_objetos!A:B,2,FALSE)","v":"INST08"},"Consejo Asesor del Servicio de Radioaficionado",1,{"$f":"VLOOKUP(F97,[1]Hoja4!C:D,2,FALSE)","v":"ACT185"},"Ministerio de Tecnologías de la Información y las Comunicaciones","Sector Público - Nacional","N/A"]
[null,{"$f":"VLOOKUP(C98,[1]instancias_objetos!A:B,2,FALSE)","v":"INST08"},"Consejo Asesor del Servicio de Radioaficionado",1,{"$f":"VLOOKUP(F98,[1]Hoja4!C:D,2,FALSE)","v":"ACT185"},"Ministerio de Tecnologías de la Información y las Comunicaciones","Sector Público - Nacional","N/A"]
[null,{"$f":"VLOOKUP(C99,[1]instancias_objetos!A:B,2,FALSE)","v":"INST08"},"Consejo Asesor del Servicio de Radioaficionado",2,{"$f":"VLOOKUP(F99,[1]Hoja4!C:D,2,FALSE)","v":"ACT281"},"Representante de las Asociaciones Nacionales de Radioaficionados","Delegado Sectorial de la Sociedad Civil","Comunicaciones e Información"]
[null,{"$f":"VLOOKUP(C100,[1]instancias_objetos!A:B,2,FALSE)","v":"INST08"},"Consejo Asesor del Servicio de Radioaficionado",1,{"$f":"VLOOKUP(F100,[1]Hoja4!C:D,2,FALSE)","v":"ACT283"},"Representante de las Asociaciones Regionales de Radioaficionados","Delegado Sectorial de la Sociedad Civil","Comunicaciones e Información"]
[null,{"$f":"VLOOKUP(C101,[1]instancias_objetos!A:B,2,FALSE)","v":"INST09"},"Consejo Nacional Ambiental",1,{"$f":"VLOOKUP(F101,[1]Hoja4!C:D,2,FALSE)","v":"ACT01"},"Academia Colombiana de Ciencias Exactas, Fisicas y Naturales","Organización de la Sociedad Civil","Educación"]
[null,{"$f":"VLOOKUP(C102,[1]instancias_objetos!A:B,2,FALSE)","v":"INST09"},"Consejo Nacional Ambiental",1,{"$f":"VLOOKUP(F102,[1]Hoja4!C:D,2,FALSE)","v":"ACT64"},"Comisión Colombiana del Océano","Sector Público - Nacional","N/A"]
[null,{"$f":"VLOOKUP(C103,[1]instancias_objetos!A:B,2,FALSE)","v":"INST09"},"Consejo Nacional Ambiental",1,{"$f":"VLOOKUP(F103,[1]Hoja4!C:D,2,FALSE)","v":"ACT90"},"Consejo Nacional de Educación Superior","Organización de la Sociedad Civil","Educación"]
[null,{"$f":"VLOOKUP(C104,[1]instancias_objetos!A:B,2,FALSE)","v":"INST09"},"Consejo Nacional Ambiental",1,{"$f":"VLOOKUP(F104,[1]Hoja4!C:D,2,FALSE)","v":"ACT114"},"Corporaciones Autónomas Regionales y de Desarrollo Sostenible","Sector Público - Territorial","N/A"]
[null,{"$f":"VLOOKUP(C105,[1]instancias_objetos!A:B,2,FALSE)","v":"INST09"},"Consejo Nacional Ambiental",1,{"$f":"VLOOKUP(F105,[1]Hoja4!C:D,2,FALSE)","v":"ACT126"},"Departamento Nacional de Planeación","Sector Público - Nacional","N/A"]
[null,{"$f":"VLOOKUP(C106,[1]instancias_objetos!A:B,2,FALSE)","v":"INST09"},"Consejo Nacional Ambiental",1,{"$f":"VLOOKUP(F106,[1]Hoja4!C:D,2,FALSE)","v":"ACT131"},"Ecopetrol","Sector Público - Nacional","N/A"]
[null,{"$f":"VLOOKUP(C107,[1]instancias_objetos!A:B,2,FALSE)","v":"INST09"},"Consejo Nacional Ambiental",1,{"$f":"VLOOKUP(F107,[1]Hoja4!C:D,2,FALSE)","v":"ACT135"},"Federación Colombiana de Municipios","Sector Privado","Control Social, Transparencia, Comunitario y Veedurías"]
[null,{"$f":"VLOOKUP(C108,[1]instancias_objetos!A:B,2,FALSE)","v":"INST09"},"Consejo Nacional Ambiental",1,{"$f":"VLOOKUP(F108,[1]Hoja4!C:D,2,FALSE)","v":"ACT141"},"Federación Nacional de Departamentos","Sector Público - Territorial","N/A"]
[null,{"$f":"VLOOKUP(C109,[1]instancias_objetos!A:B,2,FALSE)","v":"INST09"},"Consejo Nacional Ambiental",1,{"$f":"VLOOKUP(F109,[1]Hoja4!C:D,2,FALSE)","v":"ACT173"},"Ministerio de Agricultura y Desarrollo Rural","Sector Público - Nacional","N/A"]
[null,{"$f":"VLOOKUP(C110,[1]instancias_objetos!A:B,2,FALSE)","v":"INST09"},"Consejo Nacional Ambiental",1,{"$f":"VLOOKUP(F110,[1]Hoja4!C:D,2,FALSE)","v":"ACT174"},"Ministerio de Ambiente y Desarrollo Sostenible","Sector Público - Nacional","N/A"]
[null,{"$f":"VLOOKUP(C111,[1]instancias_objetos!A:B,2,FALSE)","v":"INST09"},"Consejo Nacional Ambiental",1,{"$f":"VLOOKUP(F111,[1]Hoja4!C:D,2,FALSE)","v":"ACT176"},"Ministerio de Comercio, Industria y Turismo","Sector Público - Nacional","N/A"]
[null,{"$f":"VLOOKUP(C112,[1]instancias_objetos!A:B,2,FALSE)","v":"INST09"},"Consejo Nacional Ambiental",1,{"$f":"VLOOKUP(F112,[1]Hoja4!C:D,2,FALSE)","v":"ACT178"},"Ministerio de Defensa Nacional","Sector Público - Nacional","N/A"]
[null,{"$f":"VLOOKUP(C113,[1]instancias_objetos!A:B,2,FALSE)","v":"INST09"},"Consejo Nacional Ambiental",1,{"$f":"VLOOKUP(F113,[1]Hoja4!C:D,2,FALSE)","v":"ACT179"},"Ministerio de Educación Nacional","Sector Público - Nacional","N/A"]
[null,{"$f":"VLOOKUP(C114,[1]instancias_objetos!A:B,2,FALSE)","v":"INST09"},"Consejo Nacional Ambiental",1,{"$f":"VLOOKUP(F114,[1]Hoja4!C:D,2,FALSE)","v":"ACT182"},"Ministerio de Minas y Energía","Sector Público - Nacional","N/A"]
[null,{"$f":"VLOOKUP(C115,[1]instancias_objetos!A:B,2,FALSE)","v":"INST09"},"Consejo Nacional Ambiental",1,{"$f":"VLOOKUP(F115,[1]Hoja4!C:D,2,FALSE)","v":"ACT184"},"Ministerio de Salud y Protección Social","Sector Público - Nacional","N/A"]
[null,{"$f":"VLOOKUP(C116,[1]instancias_objetos!A:B,2,FALSE)","v":"INST09"},"Consejo Nacional Ambiental",1,{"$f":"VLOOKUP(F116,[1]Hoja4!C:D,2,FALSE)","v":"ACT186"},"Ministerio de Transporte","Sector Público - Nacional","N/A"]
[null,{"$f":"VLOOKUP(C117,[1]instancias_objetos!A:B,2,FALSE)","v":"INST09"},"Consejo Nacional Ambiental",1,{"$f":"VLOOKUP(F117,[1]Hoja4!C:D,2,FALSE)","v":"ACT187"},"Ministerio de Vivienda, Ciudad y Territorio","Sector Público - Nacional","N/A"]
[null,{"$f":"VLOOKUP(C118,[1]instancias_objetos!A:B,2,FALSE)","v":"INST09"},"Consejo Nacional Ambiental",1,{"$f":"VLOOKUP(F118,[1]Hoja4!C:D,2,FALSE)","v":"ACT205"},"Organizaciones Ambientales no gubernamentales","Organización de la Sociedad Civil","Ambiente"]
[null,{"$f":"VLOOKUP(C119,[1]instancias_objetos!A:B,2,FALSE)","v":"INST09"},"Consejo Nacional Ambiental",1,{"$f":"VLOOKUP(F119,[1]Hoja4!C:D,2,FALSE)","v":"ACT290"},"Representante de las Comunidades Negras","Delegado Sectorial de la Sociedad Civil","Grupos Étnicos (Afros, Indígenas, Raizales, Palenqueros y ROM)"]
[null,{"$f":"VLOOKUP(C120,[1]instancias_objetos!A:B,2,FALSE)","v":"INST09"},"Consejo Nacional Ambiental",4,{"$f":"VLOOKUP(F120,[1]Hoja4!C:D,2,FALSE)","v":"ACT389"},"Representante de los Gremios Económicos y Empresariales","Sector Privado","Ambiente"]
[null,{"$f":"VLOOKUP(C121,[1]instancias_objetos!A:B,2,FALSE)","v":"INST09"},"Consejo Nacional Ambiental",1,{"$f":"VLOOKUP(F121,[1]Hoja4!C:D,2,FALSE)","v":"ACT436"},"Representante del Pueblo Indígena","Delegado Sectorial de la Sociedad Civil","Grupos Étnicos (Afros, Indígenas, Raizales, Palenqueros y ROM)"]
[null,{"$f":"VLOOKUP(C122,[1]instancias_objetos!A:B,2,FALSE)","v":"INST10"},"Consejo Técnico Asesor de Política Ambiental",1,{"$f":"VLOOKUP(F122,[1]Hoja4!C:D,2,FALSE)","v":"ACT174"},"Ministerio de Ambiente y Desarrollo Sostenible","Sector Público - Nacional","N/A"]
[null,{"$f":"VLOOKUP(C123,[1]instancias_objetos!A:B,2,FALSE)","v":"INST10"},"Consejo Técnico Asesor de Política Ambiental",1,{"$f":"VLOOKUP(F123,[1]Hoja4!C:D,2,FALSE)","v":"ACT358"},"Representante de las Universidades Privadas","Sector Privado","Educación"]
[null,{"$f":"VLOOKUP(C124,[1]instancias_objetos!A:B,2,FALSE)","v":"INST10"},"Consejo Técnico Asesor de Política Ambiental",1,{"$f":"VLOOKUP(F124,[1]Hoja4!C:D,2,FALSE)","v":"ACT359"},"Representante de las Universidades Públicas","Delegado Sectorial de la Sociedad Civil","Educación"]
[null,{"$f":"VLOOKUP(C125,[1]instancias_objetos!A:B,2,FALSE)","v":"INST10"},"Consejo Técnico Asesor de Política Ambiental",1,{"$f":"VLOOKUP(F125,[1]Hoja4!C:D,2,FALSE)","v":"ACT389"},"Representante de los Gremios Económicos y Empresariales","Sector Privado","Producción Industrial"]
[null,{"$f":"VLOOKUP(C126,[1]instancias_objetos!A:B,2,FALSE)","v":"INST10"},"Consejo Técnico Asesor de Política Ambiental",1,{"$f":"VLOOKUP(F126,[1]Hoja4!C:D,2,FALSE)","v":"ACT389"},"Representante de los Gremios Económicos y Empresariales","Sector Privado","Agricultura y Ruralidad"]
[null,{"$f":"VLOOKUP(C127,[1]instancias_objetos!A:B,2,FALSE)","v":"INST10"},"Consejo Técnico Asesor de Política Ambiental",1,{"$f":"VLOOKUP(F127,[1]Hoja4!C:D,2,FALSE)","v":"ACT389"},"Representante de los Gremios Económicos y Empresariales","Sector Privado","Minas y Energía"]
[null,{"$f":"VLOOKUP(C128,[1]instancias_objetos!A:B,2,FALSE)","v":"INST100"},"Mesa Técnica de Seguimiento a la Situación de la Niñez, Fortalecimiento familiar y comunitario indígena en Colombia",1,{"$f":"VLOOKUP(F128,[1]Hoja4!C:D,2,FALSE)","v":"ACT49"},"Autoridades Indígenas de Colombia","Organización de la Sociedad Civil","Grupos Étnicos (Afros, Indígenas, Raizales, Palenqueros y ROM)"]
[null,{"$f":"VLOOKUP(C129,[1]instancias_objetos!A:B,2,FALSE)","v":"INST100"},"Mesa Técnica de Seguimiento a la Situación de la Niñez, Fortalecimiento familiar y comunitario indígena en Colombia",1,{"$f":"VLOOKUP(F129,[1]Hoja4!C:D,2,FALSE)","v":"ACT52"},"Autoridades Tradicionales Indígenas de Colombia Gobierno Mayor","Organización de la Sociedad Civil","Grupos Étnicos (Afros, Indígenas, Raizales, Palenqueros y ROM)"]
[null,{"$f":"VLOOKUP(C130,[1]instancias_objetos!A:B,2,FALSE)","v":"INST100"},"Mesa Técnica de Seguimiento a la Situación de la Niñez, Fortalecimiento familiar y comunitario indígena en Colombia",1,{"$f":"VLOOKUP(F130,[1]Hoja4!C:D,2,FALSE)","v":"ACT76"},"Confederación Indígena Tairona","Organización de la Sociedad Civil","Grupos Étnicos (Afros, Indígenas, Raizales, Palenqueros y ROM)"]
[null,{"$f":"VLOOKUP(C131,[1]instancias_objetos!A:B,2,FALSE)","v":"INST100"},"Mesa Técnica de Seguimiento a la Situación de la Niñez, Fortalecimiento familiar y comunitario indígena en Colombia",1,{"$f":"VLOOKUP(F131,[1]Hoja4!C:D,2,FALSE)","v":"ACT125"},"Departamento Administrativo para la Prosperidad Social","Sector Público - Nacional","N/A"]
[null,{"$f":"VLOOKUP(C132,[1]instancias_objetos!A:B,2,FALSE)","v":"INST100"},"Mesa Técnica de Seguimiento a la Situación de la Niñez, Fortalecimiento familiar y comunitario indígena en Colombia",1,{"$f":"VLOOKUP(F132,[1]Hoja4!C:D,2,FALSE)","v":"ACT126"},"Departamento Nacional de Planeación","Sector Público - Nacional","N/A"]
[null,{"$f":"VLOOKUP(C133,[1]instancias_objetos!A:B,2,FALSE)","v":"INST100"},"Mesa Técnica de Seguimiento a la Situación de la Niñez, Fortalecimiento familiar y comunitario indígena en Colombia",1,{"$f":"VLOOKUP(F133,[1]Hoja4!C:D,2,FALSE)","v":"ACT157"},"Instituto Colombiano de Bienestar Familiar","Sector Público - Nacional","N/A"]
[null,{"$f":"VLOOKUP(C134,[1]instancias_objetos!A:B,2,FALSE)","v":"INST100"},"Mesa Técnica de Seguimiento a la Situación de la Niñez, Fortalecimiento familiar y comunitario indígena en Colombia",1,{"$f":"VLOOKUP(F134,[1]Hoja4!C:D,2,FALSE)","v":"ACT174"},"Ministerio de Ambiente y Desarrollo Sostenible","Sector Público - Nacional","N/A"]
[null,{"$f":"VLOOKUP(C135,[1]instancias_objetos!A:B,2,FALSE)","v":"INST100"},"Mesa Técnica de Seguimiento a la Situación de la Niñez, Fortalecimiento familiar y comunitario indígena en Colombia",1,{"$f":"VLOOKUP(F135,[1]Hoja4!C:D,2,FALSE)","v":"ACT177"},"Ministerio de Cultura de Colombia","Sector Público - Nacional","N/A"]
[null,{"$f":"VLOOKUP(C136,[1]instancias_objetos!A:B,2,FALSE)","v":"INST100"},"Mesa Técnica de Seguimiento a la Situación de la Niñez, Fortalecimiento familiar y comunitario indígena en Colombia",1,{"$f":"VLOOKUP(F136,[1]Hoja4!C:D,2,FALSE)","v":"ACT179"},"Ministerio de Educación Nacional","Sector Público - Nacional","N/A"]
[null,{"$f":"VLOOKUP(C137,[1]instancias_objetos!A:B,2,FALSE)","v":"INST100"},"Mesa Técnica de Seguimiento a la Situación de la Niñez, Fortalecimiento familiar y comunitario indígena en Colombia",1,{"$f":"VLOOKUP(F137,[1]Hoja4!C:D,2,FALSE)","v":"ACT181"},"Ministerio de Justicia y del Derecho","Sector Público - Nacional","N/A"]
[null,{"$f":"VLOOKUP(C138,[1]instancias_objetos!A:B,2,FALSE)","v":"INST100"},"Mesa Técnica de Seguimiento a la Situación de la Niñez, Fortalecimiento familiar y comunitario indígena en Colombia",1,{"$f":"VLOOKUP(F138,[1]Hoja4!C:D,2,FALSE)","v":"ACT184"},"Ministerio de Salud y Protección Social","Sector Público - Nacional","N/A"]
[null,{"$f":"VLOOKUP(C139,[1]instancias_objetos!A:B,2,FALSE)","v":"INST100"},"Mesa Técnica de Seguimiento a la Situación de la Niñez, Fortalecimiento familiar y comunitario indígena en Colombia",1,{"$f":"VLOOKUP(F139,[1]Hoja4!C:D,2,FALSE)","v":"ACT188"},"Ministerio del Deporte","Sector Público - Nacional","N/A"]
[null,{"$f":"VLOOKUP(C140,[1]instancias_objetos!A:B,2,FALSE)","v":"INST100"},"Mesa Técnica de Seguimiento a la Situación de la Niñez, Fortalecimiento familiar y comunitario indígena en Colombia",1,{"$f":"VLOOKUP(F140,[1]Hoja4!C:D,2,FALSE)","v":"ACT189"},"Ministerio del Interior","Sector Público - Nacional","N/A"]
[null,{"$f":"VLOOKUP(C141,[1]instancias_objetos!A:B,2,FALSE)","v":"INST100"},"Mesa Técnica de Seguimiento a la Situación de la Niñez, Fortalecimiento familiar y comunitario indígena en Colombia",1,{"$f":"VLOOKUP(F141,[1]Hoja4!C:D,2,FALSE)","v":"ACT190"},"Ministerio del Trabajo","Sector Público - Nacional","N/A"]
[null,{"$f":"VLOOKUP(C142,[1]instancias_objetos!A:B,2,FALSE)","v":"INST100"},"Mesa Técnica de Seguimiento a la Situación de la Niñez, Fortalecimiento familiar y comunitario indígena en Colombia",1,{"$f":"VLOOKUP(F142,[1]Hoja4!C:D,2,FALSE)","v":"ACT199"},"Organización Nacional de los Pueblos Indígenas de la Amazonía Colombiana","Organización de la Sociedad Civil","Grupos Étnicos (Afros, Indígenas, Raizales, Palenqueros y ROM)"]
[null,{"$f":"VLOOKUP(C143,[1]instancias_objetos!A:B,2,FALSE)","v":"INST100"},"Mesa Técnica de Seguimiento a la Situación de la Niñez, Fortalecimiento familiar y comunitario indígena en Colombia",1,{"$f":"VLOOKUP(F143,[1]Hoja4!C:D,2,FALSE)","v":"ACT210"},"Presidencia de la República","Sector Público - Nacional","N/A"]
[null,{"$f":"VLOOKUP(C144,[1]instancias_objetos!A:B,2,FALSE)","v":"INST100"},"Mesa Técnica de Seguimiento a la Situación de la Niñez, Fortalecimiento familiar y comunitario indígena en Colombia",1,{"$f":"VLOOKUP(F144,[1]Hoja4!C:D,2,FALSE)","v":"ACT223"},"Registraduría Nacional del Estado Civil","Sector Público - Nacional","N/A"]
[null,{"$f":"VLOOKUP(C145,[1]instancias_objetos!A:B,2,FALSE)","v":"INST100"},"Mesa Técnica de Seguimiento a la Situación de la Niñez, Fortalecimiento familiar y comunitario indígena en Colombia",1,{"$f":"VLOOKUP(F145,[1]Hoja4!C:D,2,FALSE)","v":"ACT495"},"Unidad Administrativa Especial de Atención y Reparación Integral a la Víctimas","Sector Público - Nacional","N/A"]
[null,{"$f":"VLOOKUP(C146,[1]instancias_objetos!A:B,2,FALSE)","v":"INST101"},"Comisión Nacional Técnica del Fondo Emprender",1,{"$f":"VLOOKUP(F146,[1]Hoja4!C:D,2,FALSE)","v":"ACT175"},"Ministerio de Ciencia, Tecnología e Innovación","Sector Público - Nacional","N/A"]
[null,{"$f":"VLOOKUP(C147,[1]instancias_objetos!A:B,2,FALSE)","v":"INST101"},"Comisión Nacional Técnica del Fondo Emprender",1,{"$f":"VLOOKUP(F147,[1]Hoja4!C:D,2,FALSE)","v":"ACT176"},"Ministerio de Comercio, Industria y Turismo","Sector Público - Nacional","N/A"]
[null,{"$f":"VLOOKUP(C148,[1]instancias_objetos!A:B,2,FALSE)","v":"INST101"},"Comisión Nacional Técnica del Fondo Emprender",1,{"$f":"VLOOKUP(F148,[1]Hoja4!C:D,2,FALSE)","v":"ACT190"},"Ministerio del Trabajo","Sector Público - Nacional","N/A"]
[null,{"$f":"VLOOKUP(C149,[1]instancias_objetos!A:B,2,FALSE)","v":"INST101"},"Comisión Nacional Técnica del Fondo Emprender",1,{"$f":"VLOOKUP(F149,[1]Hoja4!C:D,2,FALSE)","v":"ACT369"},"Representante de los Campesinos","Delegado Sectorial de la Sociedad Civil","Agricultura y Ruralidad"]
[null,{"$f":"VLOOKUP(C150,[1]instancias_objetos!A:B,2,FALSE)","v":"INST101"},"Comisión Nacional Técnica del Fondo Emprender",1,{"$f":"VLOOKUP(F150,[1]Hoja4!C:D,2,FALSE)","v":"ACT389"},"Representante de los Gremios Económicos y Empresariales","Sector Privado","Producción Industrial"]
[null,{"$f":"VLOOKUP(C151,[1]instancias_objetos!A:B,2,FALSE)","v":"INST101"},"Comisión Nacional Técnica del Fondo Emprender",1,{"$f":"VLOOKUP(F151,[1]Hoja4!C:D,2,FALSE)","v":"ACT486"},"Servicio Nacional de Aprendizaje","Sector Público - Nacional","N/A"]
[null,{"$f":"VLOOKUP(C152,[1]instancias_objetos!A:B,2,FALSE)","v":"INST102"},"Comité de Apoyo del Sistema de Medicina Legal y Ciencias Forenses",1,{"$f":"VLOOKUP(F152,[1]Hoja4!C:D,2,FALSE)","v":"ACT24"},"Asociación Colombiana de Facultades de Medicina","Organización de la Sociedad Civil","Salud"]
[null,{"$f":"VLOOKUP(C153,[1]instancias_objetos!A:B,2,FALSE)","v":"INST102"},"Comité de Apoyo del Sistema de Medicina Legal y Ciencias Forenses",1,{"$f":"VLOOKUP(F153,[1]Hoja4!C:D,2,FALSE)","v":"ACT121"},"Defensoría del Pueblo","Sector Público - Nacional","N/A"]
[null,{"$f":"VLOOKUP(C154,[1]instancias_objetos!A:B,2,FALSE)","v":"INST102"},"Comité de Apoyo del Sistema de Medicina Legal y Ciencias Forenses",1,{"$f":"VLOOKUP(F154,[1]Hoja4!C:D,2,FALSE)","v":"ACT144"},"Fiscalía General de la Nación","Sector Público - Nacional","N/A"]
[null,{"$f":"VLOOKUP(C155,[1]instancias_objetos!A:B,2,FALSE)","v":"INST102"},"Comité de Apoyo del Sistema de Medicina Legal y Ciencias Forenses",1,{"$f":"VLOOKUP(F155,[1]Hoja4!C:D,2,FALSE)","v":"ACT166"},"Instituto Nacional de Medicina Legal y Ciencias Forenses","Sector Público - Nacional","N/A"]
[null,{"$f":"VLOOKUP(C156,[1]instancias_objetos!A:B,2,FALSE)","v":"INST102"},"Comité de Apoyo del Sistema de Medicina Legal y Ciencias Forenses",1,{"$f":"VLOOKUP(F156,[1]Hoja4!C:D,2,FALSE)","v":"ACT184"},"Ministerio de Salud y Protección Social","Sector Público - Nacional","N/A"]
[null,{"$f":"VLOOKUP(C157,[1]instancias_objetos!A:B,2,FALSE)","v":"INST102"},"Comité de Apoyo del Sistema de Medicina Legal y Ciencias Forenses",1,{"$f":"VLOOKUP(F157,[1]Hoja4!C:D,2,FALSE)","v":"ACT209"},"Policía Nacional","Sector Público - Nacional","N/A"]
[null,{"$f":"VLOOKUP(C158,[1]instancias_objetos!A:B,2,FALSE)","v":"INST102"},"Comité de Apoyo del Sistema de Medicina Legal y Ciencias Forenses",1,{"$f":"VLOOKUP(F158,[1]Hoja4!C:D,2,FALSE)","v":"ACT299"},"Representante de las Facultades de Medicina Legal y Ciencias Forenses","Delegado Sectorial de la Sociedad Civil","Educación"]
[null,{"$f":"VLOOKUP(C159,[1]instancias_objetos!A:B,2,FALSE)","v":"INST102"},"Comité de Apoyo del Sistema de Medicina Legal y Ciencias Forenses",1,{"$f":"VLOOKUP(F159,[1]Hoja4!C:D,2,FALSE)","v":"ACT327"},"Representante de las ONGs que ejerzan funciones en medicina legal y ciencias forenses","Delegado Sectorial de la Sociedad Civil","Salud"]
[null,{"$f":"VLOOKUP(C160,[1]instancias_objetos!A:B,2,FALSE)","v":"INST102"},"Comité de Apoyo del Sistema de Medicina Legal y Ciencias Forenses",1,{"$f":"VLOOKUP(F160,[1]Hoja4!C:D,2,FALSE)","v":"ACT352"},"Representante de las Organizaciones Privadas que ejerzan funciones en medicina legal y ciencias forenses","Delegado Sectorial de la Sociedad Civil","Salud"]
[null,{"$f":"VLOOKUP(C161,[1]instancias_objetos!A:B,2,FALSE)","v":"INST102"},"Comité de Apoyo del Sistema de Medicina Legal y Ciencias Forenses",1,{"$f":"VLOOKUP(F161,[1]Hoja4!C:D,2,FALSE)","v":"ACT353"},"Representante de las personas naturales que ejerzan funciones en medicina legal y ciencias forenses","Delegado Sectorial de la Sociedad Civil","Salud"]
[null,{"$f":"VLOOKUP(C162,[1]instancias_objetos!A:B,2,FALSE)","v":"INST103"},"Comisión Asesora para la enseñanza de la historia de Colombia",1,{"$f":"VLOOKUP(F162,[1]Hoja4!C:D,2,FALSE)","v":"ACT179"},"Ministerio de Educación Nacional","Sector Público - Nacional","N/A"]
[null,{"$f":"VLOOKUP(C163,[1]instancias_objetos!A:B,2,FALSE)","v":"INST103"},"Comisión Asesora para la enseñanza de la historia de Colombia",1,{"$f":"VLOOKUP(F163,[1]Hoja4!C:D,2,FALSE)","v":"ACT259"},"Representante de las academias de historia","Delegado Sectorial de la Sociedad Civil","Cultura"]
[null,{"$f":"VLOOKUP(C164,[1]instancias_objetos!A:B,2,FALSE)","v":"INST103"},"Comisión Asesora para la enseñanza de la historia de Colombia",1,{"$f":"VLOOKUP(F164,[1]Hoja4!C:D,2,FALSE)","v":"ACT272"},"Representante de las asociaciones de historiadores ","Delegado Sectorial de la Sociedad Civil","Cultura"]
[null,{"$f":"VLOOKUP(C165,[1]instancias_objetos!A:B,2,FALSE)","v":"INST103"},"Comisión Asesora para la enseñanza de la historia de Colombia",1,{"$f":"VLOOKUP(F165,[1]Hoja4!C:D,2,FALSE)","v":"ACT296"},"Representante de las facultades de educación en ciencias sociales","Delegado Sectorial de la Sociedad Civil","Educación"]
[null,{"$f":"VLOOKUP(C166,[1]instancias_objetos!A:B,2,FALSE)","v":"INST103"},"Comisión Asesora para la enseñanza de la historia de Colombia",1,{"$f":"VLOOKUP(F166,[1]Hoja4!C:D,2,FALSE)","v":"ACT297"},"Representante de las facultades de historia en insituciones de eduación superior","Delegado Sectorial de la Sociedad Civil","Educación"]
[null,{"$f":"VLOOKUP(C167,[1]instancias_objetos!A:B,2,FALSE)","v":"INST103"},"Comisión Asesora para la enseñanza de la historia de Colombia",1,{"$f":"VLOOKUP(F167,[1]Hoja4!C:D,2,FALSE)","v":"ACT405"},"Representante de los profesores de ciencias sociales en instituciones de educación básica y media","Delegado Sectorial de la Sociedad Civil","Educación"]
[null,{"$f":"VLOOKUP(C168,[1]instancias_objetos!A:B,2,FALSE)","v":"INST104"},"Comisión Nacional de Seguridad y Salud en el Trabajo del Sector Público",1,{"$f":"VLOOKUP(F168,[1]Hoja4!C:D,2,FALSE)","v":"ACT06"},"Administradora de Riesgos Laborales Pública","Sector Público - Nacional","N/A"]
[null,{"$f":"VLOOKUP(C169,[1]instancias_objetos!A:B,2,FALSE)","v":"INST104"},"Comisión Nacional de Seguridad y Salud en el Trabajo del Sector Público",2,{"$f":"VLOOKUP(F169,[1]Hoja4!C:D,2,FALSE)","v":"ACT51"},"Autoridades Nacionales","Sector Público - Nacional","N/A"]
[null,{"$f":"VLOOKUP(C170,[1]instancias_objetos!A:B,2,FALSE)","v":"INST104"},"Comisión Nacional de Seguridad y Salud en el Trabajo del Sector Público",1,{"$f":"VLOOKUP(F170,[1]Hoja4!C:D,2,FALSE)","v":"ACT122"},"Departamento Administrativo de la Función Pública","Sector Público - Nacional","N/A"]
[null,{"$f":"VLOOKUP(C171,[1]instancias_objetos!A:B,2,FALSE)","v":"INST104"},"Comisión Nacional de Seguridad y Salud en el Trabajo del Sector Público",1,{"$f":"VLOOKUP(F171,[1]Hoja4!C:D,2,FALSE)","v":"ACT184"},"Ministerio de Salud y Protección Social","Sector Público - Nacional","N/A"]
[null,{"$f":"VLOOKUP(C172,[1]instancias_objetos!A:B,2,FALSE)","v":"INST104"},"Comisión Nacional de Seguridad y Salud en el Trabajo del Sector Público",1,{"$f":"VLOOKUP(F172,[1]Hoja4!C:D,2,FALSE)","v":"ACT190"},"Ministerio del Trabajo","Sector Público - Nacional","N/A"]
[null,{"$f":"VLOOKUP(C173,[1]instancias_objetos!A:B,2,FALSE)","v":"INST104"},"Comisión Nacional de Seguridad y Salud en el Trabajo del Sector Público",1,{"$f":"VLOOKUP(F173,[1]Hoja4!C:D,2,FALSE)","v":"ACT260"},"Representante de las Administradoras de Riesgos Laborales Privadas","Sector Privado","Trabajo"]
[null,{"$f":"VLOOKUP(C174,[1]instancias_objetos!A:B,2,FALSE)","v":"INST104"},"Comisión Nacional de Seguridad y Salud en el Trabajo del Sector Público",1,{"$f":"VLOOKUP(F174,[1]Hoja4!C:D,2,FALSE)","v":"ACT262"},"Representante de las agremiaciones cientificas de seguridad y salud en el trabajo","Delegado Sectorial de la Sociedad Civil","Ciencia y Tecnología"]
[null,{"$f":"VLOOKUP(C175,[1]instancias_objetos!A:B,2,FALSE)","v":"INST104"},"Comisión Nacional de Seguridad y Salud en el Trabajo del Sector Público",1,{"$f":"VLOOKUP(F175,[1]Hoja4!C:D,2,FALSE)","v":"ACT307"},"Representante de las instituciones de educación superior con programas de seguridad y salud en el trabajo","Delegado Sectorial de la Sociedad Civil","Educación"]
[null,{"$f":"VLOOKUP(C176,[1]instancias_objetos!A:B,2,FALSE)","v":"INST104"},"Comisión Nacional de Seguridad y Salud en el Trabajo del Sector Público",3,{"$f":"VLOOKUP(F176,[1]Hoja4!C:D,2,FALSE)","v":"ACT469"},"Representante del Sector Sindical","Delegado Sectorial de la Sociedad Civil","Trabajo"]
[null,{"$f":"VLOOKUP(C177,[1]instancias_objetos!A:B,2,FALSE)","v":"INST105"},"Comisión Nacional de Seguridad y Salud en el Trabajo del Sector Agropecuario",1,{"$f":"VLOOKUP(F177,[1]Hoja4!C:D,2,FALSE)","v":"ACT06"},"Administradora de Riesgos Laborales Pública","Sector Público - Nacional","N/A"]
[null,{"$f":"VLOOKUP(C178,[1]instancias_objetos!A:B,2,FALSE)","v":"INST105"},"Comisión Nacional de Seguridad y Salud en el Trabajo del Sector Agropecuario",1,{"$f":"VLOOKUP(F178,[1]Hoja4!C:D,2,FALSE)","v":"ACT22"},"Asociación Colombiana de Exportadores de Flores","Organización de la Sociedad Civil","Agricultura y Ruralidad"]
[null,{"$f":"VLOOKUP(C179,[1]instancias_objetos!A:B,2,FALSE)","v":"INST105"},"Comisión Nacional de Seguridad y Salud en el Trabajo del Sector Agropecuario",1,{"$f":"VLOOKUP(F179,[1]Hoja4!C:D,2,FALSE)","v":"ACT134"},"Federación Colombiana de Ganaderos","Organización de la Sociedad Civil","Agricultura y Ruralidad"]
[null,{"$f":"VLOOKUP(C180,[1]instancias_objetos!A:B,2,FALSE)","v":"INST105"},"Comisión Nacional de Seguridad y Salud en el Trabajo del Sector Agropecuario",1,{"$f":"VLOOKUP(F180,[1]Hoja4!C:D,2,FALSE)","v":"ACT173"},"Ministerio de Agricultura y Desarrollo Rural","Sector Público - Nacional","N/A"]
[null,{"$f":"VLOOKUP(C181,[1]instancias_objetos!A:B,2,FALSE)","v":"INST105"},"Comisión Nacional de Seguridad y Salud en el Trabajo del Sector Agropecuario",1,{"$f":"VLOOKUP(F181,[1]Hoja4!C:D,2,FALSE)","v":"ACT190"},"Ministerio del Trabajo","Sector Público - Nacional","N/A"]
[null,{"$f":"VLOOKUP(C182,[1]instancias_objetos!A:B,2,FALSE)","v":"INST105"},"Comisión Nacional de Seguridad y Salud en el Trabajo del Sector Agropecuario",1,{"$f":"VLOOKUP(F182,[1]Hoja4!C:D,2,FALSE)","v":"ACT260"},"Representante de las Administradoras de Riesgos Laborales Privadas","Sector Privado","Trabajo"]
[null,{"$f":"VLOOKUP(C183,[1]instancias_objetos!A:B,2,FALSE)","v":"INST105"},"Comisión Nacional de Seguridad y Salud en el Trabajo del Sector Agropecuario",1,{"$f":"VLOOKUP(F183,[1]Hoja4!C:D,2,FALSE)","v":"ACT262"},"Representante de las agremiaciones cientificas de seguridad y salud en el trabajo","Delegado Sectorial de la Sociedad Civil","Ciencia y Tecnología"]
[null,{"$f":"VLOOKUP(C184,[1]instancias_objetos!A:B,2,FALSE)","v":"INST105"},"Comisión Nacional de Seguridad y Salud en el Trabajo del Sector Agropecuario",1,{"$f":"VLOOKUP(F184,[1]Hoja4!C:D,2,FALSE)","v":"ACT307"},"Representante de las instituciones de educación superior con programas de seguridad y salud en el trabajo","Delegado Sectorial de la Sociedad Civil","Educación"]
[null,{"$f":"VLOOKUP(C185,[1]instancias_objetos!A:B,2,FALSE)","v":"INST105"},"Comisión Nacional de Seguridad y Salud en el Trabajo del Sector Agropecuario",1,{"$f":"VLOOKUP(F185,[1]Hoja4!C:D,2,FALSE)","v":"ACT441"},"Representante del Sector Agropecuario","Delegado Sectorial de la Sociedad Civil","Agricultura y Ruralidad"]
[null,{"$f":"VLOOKUP(C186,[1]instancias_objetos!A:B,2,FALSE)","v":"INST105"},"Comisión Nacional de Seguridad y Salud en el Trabajo del Sector Agropecuario",4,{"$f":"VLOOKUP(F186,[1]Hoja4!C:D,2,FALSE)","v":"ACT469"},"Representante del Sector Sindical","Delegado Sectorial de la Sociedad Civil","Trabajo"]
[null,{"$f":"VLOOKUP(C187,[1]instancias_objetos!A:B,2,FALSE)","v":"INST105"},"Comisión Nacional de Seguridad y Salud en el Trabajo del Sector Agropecuario",1,{"$f":"VLOOKUP(F187,[1]Hoja4!C:D,2,FALSE)","v":"ACT488"},"Sociedad de Agricultores de Colombia","Organización de la Sociedad Civil","Agricultura y Ruralidad"]
[null,{"$f":"VLOOKUP(C188,[1]instancias_objetos!A:B,2,FALSE)","v":"INST106"},"Comisión Nacional de Seguridad y Salud en el Trabajo del Sector Salud",1,{"$f":"VLOOKUP(F188,[1]Hoja4!C:D,2,FALSE)","v":"ACT06"},"Administradora de Riesgos Laborales Pública","Sector Público - Nacional","N/A"]
[null,{"$f":"VLOOKUP(C189,[1]instancias_objetos!A:B,2,FALSE)","v":"INST106"},"Comisión Nacional de Seguridad y Salud en el Trabajo del Sector Salud",1,{"$f":"VLOOKUP(F189,[1]Hoja4!C:D,2,FALSE)","v":"ACT184"},"Ministerio de Salud y Protección Social","Sector Público - Nacional","N/A"]
[null,{"$f":"VLOOKUP(C190,[1]instancias_objetos!A:B,2,FALSE)","v":"INST106"},"Comisión Nacional de Seguridad y Salud en el Trabajo del Sector Salud",1,{"$f":"VLOOKUP(F190,[1]Hoja4!C:D,2,FALSE)","v":"ACT190"},"Ministerio del Trabajo","Sector Público - Nacional","N/A"]
[null,{"$f":"VLOOKUP(C191,[1]instancias_objetos!A:B,2,FALSE)","v":"INST106"},"Comisión Nacional de Seguridad y Salud en el Trabajo del Sector Salud",1,{"$f":"VLOOKUP(F191,[1]Hoja4!C:D,2,FALSE)","v":"ACT260"},"Representante de las Administradoras de Riesgos Laborales Privadas","Sector Privado","Trabajo"]
[null,{"$f":"VLOOKUP(C192,[1]instancias_objetos!A:B,2,FALSE)","v":"INST106"},"Comisión Nacional de Seguridad y Salud en el Trabajo del Sector Salud",1,{"$f":"VLOOKUP(F192,[1]Hoja4!C:D,2,FALSE)","v":"ACT262"},"Representante de las agremiaciones cientificas de seguridad y salud en el trabajo","Delegado Sectorial de la Sociedad Civil","Ciencia y Tecnología"]
[null,{"$f":"VLOOKUP(C193,[1]instancias_objetos!A:B,2,FALSE)","v":"INST106"},"Comisión Nacional de Seguridad y Salud en el Trabajo del Sector Salud",3,{"$f":"VLOOKUP(F193,[1]Hoja4!C:D,2,FALSE)","v":"ACT269"},"Representante de las Asociaciones de empleadores del Sector Salud","Delegado Sectorial de la Sociedad Civil","Trabajo"]
[null,{"$f":"VLOOKUP(C194,[1]instancias_objetos!A:B,2,FALSE)","v":"INST106"},"Comisión Nacional de Seguridad y Salud en el Trabajo del Sector Salud",1,{"$f":"VLOOKUP(F194,[1]Hoja4!C:D,2,FALSE)","v":"ACT307"},"Representante de las instituciones de educación superior con programas de seguridad y salud en el trabajo","Delegado Sectorial de la Sociedad Civil","Educación"]
[null,{"$f":"VLOOKUP(C195,[1]instancias_objetos!A:B,2,FALSE)","v":"INST106"},"Comisión Nacional de Seguridad y Salud en el Trabajo del Sector Salud",3,{"$f":"VLOOKUP(F195,[1]Hoja4!C:D,2,FALSE)","v":"ACT469"},"Representante del Sector Sindical","Delegado Sectorial de la Sociedad Civil","Trabajo"]
[null,{"$f":"VLOOKUP(C196,[1]instancias_objetos!A:B,2,FALSE)","v":"INST107"},"Comisión Nacional de Seguridad y Salud en el Trabajo del Sector Construcción",1,{"$f":"VLOOKUP(F196,[1]Hoja4!C:D,2,FALSE)","v":"ACT06"},"Administradora de Riesgos Laborales Pública","Sector Público - Nacional","N/A"]
[null,{"$f":"VLOOKUP(C197,[1]instancias_objetos!A:B,2,FALSE)","v":"INST107"},"Comisión Nacional de Seguridad y Salud en el Trabajo del Sector Construcción",1,{"$f":"VLOOKUP(F197,[1]Hoja4!C:D,2,FALSE)","v":"ACT09"},"Agencia Nacional de Infraestructura","Sector Público - Nacional","N/A"]
[null,{"$f":"VLOOKUP(C198,[1]instancias_objetos!A:B,2,FALSE)","v":"INST107"},"Comisión Nacional de Seguridad y Salud en el Trabajo del Sector Construcción",1,{"$f":"VLOOKUP(F198,[1]Hoja4!C:D,2,FALSE)","v":"ACT58"},"Cámara Colombiana de la Construcción","Organización de la Sociedad Civil","Infraestructura"]
[null,{"$f":"VLOOKUP(C199,[1]instancias_objetos!A:B,2,FALSE)","v":"INST107"},"Comisión Nacional de Seguridad y Salud en el Trabajo del Sector Construcción",1,{"$f":"VLOOKUP(F199,[1]Hoja4!C:D,2,FALSE)","v":"ACT184"},"Ministerio de Salud y Protección Social","Sector Público - Nacional","N/A"]
[null,{"$f":"VLOOKUP(C200,[1]instancias_objetos!A:B,2,FALSE)","v":"INST107"},"Comisión Nacional de Seguridad y Salud en el Trabajo del Sector Construcción",1,{"$f":"VLOOKUP(F200,[1]Hoja4!C:D,2,FALSE)","v":"ACT187"},"Ministerio de Vivienda, Ciudad y Territorio","Sector Público - Nacional","N/A"]
[null,{"$f":"VLOOKUP(C201,[1]instancias_objetos!A:B,2,FALSE)","v":"INST107"},"Comisión Nacional de Seguridad y Salud en el Trabajo del Sector Construcción",1,{"$f":"VLOOKUP(F201,[1]Hoja4!C:D,2,FALSE)","v":"ACT190"},"Ministerio del Trabajo","Sector Público - Nacional","N/A"]
[null,{"$f":"VLOOKUP(C202,[1]instancias_objetos!A:B,2,FALSE)","v":"INST107"},"Comisión Nacional de Seguridad y Salud en el Trabajo del Sector Construcción",1,{"$f":"VLOOKUP(F202,[1]Hoja4!C:D,2,FALSE)","v":"ACT260"},"Representante de las Administradoras de Riesgos Laborales Privadas","Sector Privado","Trabajo"]
[null,{"$f":"VLOOKUP(C203,[1]instancias_objetos!A:B,2,FALSE)","v":"INST107"},"Comisión Nacional de Seguridad y Salud en el Trabajo del Sector Construcción",1,{"$f":"VLOOKUP(F203,[1]Hoja4!C:D,2,FALSE)","v":"ACT262"},"Representante de las agremiaciones cientificas de seguridad y salud en el trabajo","Delegado Sectorial de la Sociedad Civil","Ciencia y Tecnología"]
[null,{"$f":"VLOOKUP(C204,[1]instancias_objetos!A:B,2,FALSE)","v":"INST107"},"Comisión Nacional de Seguridad y Salud en el Trabajo del Sector Construcción",1,{"$f":"VLOOKUP(F204,[1]Hoja4!C:D,2,FALSE)","v":"ACT307"},"Representante de las instituciones de educación superior con programas de seguridad y salud en el trabajo","Delegado Sectorial de la Sociedad Civil","Educación"]
[null,{"$f":"VLOOKUP(C205,[1]instancias_objetos!A:B,2,FALSE)","v":"INST107"},"Comisión Nacional de Seguridad y Salud en el Trabajo del Sector Construcción",2,{"$f":"VLOOKUP(F205,[1]Hoja4!C:D,2,FALSE)","v":"ACT448"},"Representante del Sector Construcción","Delegado Sectorial de la Sociedad Civil","Infraestructura"]
[null,{"$f":"VLOOKUP(C206,[1]instancias_objetos!A:B,2,FALSE)","v":"INST107"},"Comisión Nacional de Seguridad y Salud en el Trabajo del Sector Construcción",3,{"$f":"VLOOKUP(F206,[1]Hoja4!C:D,2,FALSE)","v":"ACT469"},"Representante del Sector Sindical","Delegado Sectorial de la Sociedad Civil","Trabajo"]
[null,{"$f":"VLOOKUP(C207,[1]instancias_objetos!A:B,2,FALSE)","v":"INST108"},"Comisión Nacional de Seguridad y Salud en el Trabajo de Agentes Neumoconióticos",1,{"$f":"VLOOKUP(F207,[1]Hoja4!C:D,2,FALSE)","v":"ACT06"},"Administradora de Riesgos Laborales Pública","Sector Público - Nacional","N/A"]
[null,{"$f":"VLOOKUP(C208,[1]instancias_objetos!A:B,2,FALSE)","v":"INST108"},"Comisión Nacional de Seguridad y Salud en el Trabajo de Agentes Neumoconióticos",1,{"$f":"VLOOKUP(F208,[1]Hoja4!C:D,2,FALSE)","v":"ACT10"},"Agencia Nacional de Minería","Sector Público - Nacional","N/A"]
[null,{"$f":"VLOOKUP(C209,[1]instancias_objetos!A:B,2,FALSE)","v":"INST108"},"Comisión Nacional de Seguridad y Salud en el Trabajo de Agentes Neumoconióticos",1,{"$f":"VLOOKUP(F209,[1]Hoja4!C:D,2,FALSE)","v":"ACT26"},"Asociación Colombiana de Fibras","Organización de la Sociedad Civil","Producción Industrial"]
[null,{"$f":"VLOOKUP(C210,[1]instancias_objetos!A:B,2,FALSE)","v":"INST108"},"Comisión Nacional de Seguridad y Salud en el Trabajo de Agentes Neumoconióticos",1,{"$f":"VLOOKUP(F210,[1]Hoja4!C:D,2,FALSE)","v":"ACT50"},"Autoridades Locales","Sector Público - Territorial","N/A"]
[null,{"$f":"VLOOKUP(C211,[1]instancias_objetos!A:B,2,FALSE)","v":"INST108"},"Comisión Nacional de Seguridad y Salud en el Trabajo de Agentes Neumoconióticos",1,{"$f":"VLOOKUP(F211,[1]Hoja4!C:D,2,FALSE)","v":"ACT165"},"Instituto Nacional de Cancerología","Sector Público - Nacional","N/A"]
[null,{"$f":"VLOOKUP(C212,[1]instancias_objetos!A:B,2,FALSE)","v":"INST108"},"Comisión Nacional de Seguridad y Salud en el Trabajo de Agentes Neumoconióticos",1,{"$f":"VLOOKUP(F212,[1]Hoja4!C:D,2,FALSE)","v":"ACT174"},"Ministerio de Ambiente y Desarrollo Sostenible","Sector Público - Nacional","N/A"]
[null,{"$f":"VLOOKUP(C213,[1]instancias_objetos!A:B,2,FALSE)","v":"INST108"},"Comisión Nacional de Seguridad y Salud en el Trabajo de Agentes Neumoconióticos",1,{"$f":"VLOOKUP(F213,[1]Hoja4!C:D,2,FALSE)","v":"ACT184"},"Ministerio de Salud y Protección Social","Sector Público - Nacional","N/A"]
[null,{"$f":"VLOOKUP(C214,[1]instancias_objetos!A:B,2,FALSE)","v":"INST108"},"Comisión Nacional de Seguridad y Salud en el Trabajo de Agentes Neumoconióticos",1,{"$f":"VLOOKUP(F214,[1]Hoja4!C:D,2,FALSE)","v":"ACT190"},"Ministerio del Trabajo","Sector Público - Nacional","N/A"]
[null,{"$f":"VLOOKUP(C215,[1]instancias_objetos!A:B,2,FALSE)","v":"INST108"},"Comisión Nacional de Seguridad y Salud en el Trabajo de Agentes Neumoconióticos",1,{"$f":"VLOOKUP(F215,[1]Hoja4!C:D,2,FALSE)","v":"ACT260"},"Representante de las Administradoras de Riesgos Laborales Privadas","Sector Privado","Trabajo"]
[null,{"$f":"VLOOKUP(C216,[1]instancias_objetos!A:B,2,FALSE)","v":"INST108"},"Comisión Nacional de Seguridad y Salud en el Trabajo de Agentes Neumoconióticos",1,{"$f":"VLOOKUP(F216,[1]Hoja4!C:D,2,FALSE)","v":"ACT261"},"Representante de las agremiaciones cientificas de neumología","Delegado Sectorial de la Sociedad Civil","Salud"]
[null,{"$f":"VLOOKUP(C217,[1]instancias_objetos!A:B,2,FALSE)","v":"INST108"},"Comisión Nacional de Seguridad y Salud en el Trabajo de Agentes Neumoconióticos",1,{"$f":"VLOOKUP(F217,[1]Hoja4!C:D,2,FALSE)","v":"ACT262"},"Representante de las agremiaciones cientificas de seguridad y salud en el trabajo","Delegado Sectorial de la Sociedad Civil","Ciencia y Tecnología"]
[null,{"$f":"VLOOKUP(C218,[1]instancias_objetos!A:B,2,FALSE)","v":"INST108"},"Comisión Nacional de Seguridad y Salud en el Trabajo de Agentes Neumoconióticos",1,{"$f":"VLOOKUP(F218,[1]Hoja4!C:D,2,FALSE)","v":"ACT307"},"Representante de las instituciones de educación superior con programas de seguridad y salud en el trabajo","Delegado Sectorial de la Sociedad Civil","Educación"]
[null,{"$f":"VLOOKUP(C219,[1]instancias_objetos!A:B,2,FALSE)","v":"INST108"},"Comisión Nacional de Seguridad y Salud en el Trabajo de Agentes Neumoconióticos",2,{"$f":"VLOOKUP(F219,[1]Hoja4!C:D,2,FALSE)","v":"ACT460"},"Representante del Sector Industrial","Delegado Sectorial de la Sociedad Civil","Producción Industrial"]
[null,{"$f":"VLOOKUP(C220,[1]instancias_objetos!A:B,2,FALSE)","v":"INST108"},"Comisión Nacional de Seguridad y Salud en el Trabajo de Agentes Neumoconióticos",3,{"$f":"VLOOKUP(F220,[1]Hoja4!C:D,2,FALSE)","v":"ACT469"},"Representante del Sector Sindical","Delegado Sectorial de la Sociedad Civil","Trabajo"]
[null,{"$f":"VLOOKUP(C221,[1]instancias_objetos!A:B,2,FALSE)","v":"INST109"},"Comisión Nacional de Seguridad y Salud en el Trabajo del Sector Hidrocarburos",1,{"$f":"VLOOKUP(F221,[1]Hoja4!C:D,2,FALSE)","v":"ACT06"},"Administradora de Riesgos Laborales Pública","Sector Público - Nacional","N/A"]
[null,{"$f":"VLOOKUP(C222,[1]instancias_objetos!A:B,2,FALSE)","v":"INST109"},"Comisión Nacional de Seguridad y Salud en el Trabajo del Sector Hidrocarburos",1,{"$f":"VLOOKUP(F222,[1]Hoja4!C:D,2,FALSE)","v":"ACT08"},"Agencia Nacional de Hidrocarburos","Sector Público - Nacional","N/A"]
[null,{"$f":"VLOOKUP(C223,[1]instancias_objetos!A:B,2,FALSE)","v":"INST109"},"Comisión Nacional de Seguridad y Salud en el Trabajo del Sector Hidrocarburos",1,{"$f":"VLOOKUP(F223,[1]Hoja4!C:D,2,FALSE)","v":"ACT182"},"Ministerio de Minas y Energía","Sector Público - Nacional","N/A"]
[null,{"$f":"VLOOKUP(C224,[1]instancias_objetos!A:B,2,FALSE)","v":"INST109"},"Comisión Nacional de Seguridad y Salud en el Trabajo del Sector Hidrocarburos",1,{"$f":"VLOOKUP(F224,[1]Hoja4!C:D,2,FALSE)","v":"ACT190"},"Ministerio del Trabajo","Sector Público - Nacional","N/A"]
[null,{"$f":"VLOOKUP(C225,[1]instancias_objetos!A:B,2,FALSE)","v":"INST109"},"Comisión Nacional de Seguridad y Salud en el Trabajo del Sector Hidrocarburos",1,{"$f":"VLOOKUP(F225,[1]Hoja4!C:D,2,FALSE)","v":"ACT260"},"Representante de las Administradoras de Riesgos Laborales Privadas","Sector Privado","Trabajo"]
[null,{"$f":"VLOOKUP(C226,[1]instancias_objetos!A:B,2,FALSE)","v":"INST109"},"Comisión Nacional de Seguridad y Salud en el Trabajo del Sector Hidrocarburos",1,{"$f":"VLOOKUP(F226,[1]Hoja4!C:D,2,FALSE)","v":"ACT262"},"Representante de las agremiaciones cientificas de seguridad y salud en el trabajo","Delegado Sectorial de la Sociedad Civil","Ciencia y Tecnología"]
[null,{"$f":"VLOOKUP(C227,[1]instancias_objetos!A:B,2,FALSE)","v":"INST109"},"Comisión Nacional de Seguridad y Salud en el Trabajo del Sector Hidrocarburos",1,{"$f":"VLOOKUP(F227,[1]Hoja4!C:D,2,FALSE)","v":"ACT307"},"Representante de las instituciones de educación superior con programas de seguridad y salud en el trabajo","Delegado Sectorial de la Sociedad Civil","Educación"]
[null,{"$f":"VLOOKUP(C228,[1]instancias_objetos!A:B,2,FALSE)","v":"INST109"},"Comisión Nacional de Seguridad y Salud en el Trabajo del Sector Hidrocarburos",3,{"$f":"VLOOKUP(F228,[1]Hoja4!C:D,2,FALSE)","v":"ACT451"},"Representante del Sector de Hidrocarburos","Delegado Sectorial de la Sociedad Civil","Minas y Energía"]
[null,{"$f":"VLOOKUP(C229,[1]instancias_objetos!A:B,2,FALSE)","v":"INST109"},"Comisión Nacional de Seguridad y Salud en el Trabajo del Sector Hidrocarburos",3,{"$f":"VLOOKUP(F229,[1]Hoja4!C:D,2,FALSE)","v":"ACT469"},"Representante del Sector Sindical","Delegado Sectorial de la Sociedad Civil","Trabajo"]
[null,{"$f":"VLOOKUP(C230,[1]instancias_objetos!A:B,2,FALSE)","v":"INST11"},"Consejo Nacional de Seguridad Social en Salud",1,{"$f":"VLOOKUP(F230,[1]Hoja4!C:D,2,FALSE)","v":"ACT163"},"Instituto de Seguros Sociales","Sector Público - Nacional","N/A"]
[null,{"$f":"VLOOKUP(C231,[1]instancias_objetos!A:B,2,FALSE)","v":"INST11"},"Consejo Nacional de Seguridad Social en Salud",1,{"$f":"VLOOKUP(F231,[1]Hoja4!C:D,2,FALSE)","v":"ACT180"},"Ministerio de Hacienda y Crédito Público","Sector Público - Nacional","N/A"]
[null,{"$f":"VLOOKUP(C232,[1]instancias_objetos!A:B,2,FALSE)","v":"INST11"},"Consejo Nacional de Seguridad Social en Salud",1,{"$f":"VLOOKUP(F232,[1]Hoja4!C:D,2,FALSE)","v":"ACT184"},"Ministerio de Salud y Protección Social","Sector Público - Nacional","N/A"]
[null,{"$f":"VLOOKUP(C233,[1]instancias_objetos!A:B,2,FALSE)","v":"INST11"},"Consejo Nacional de Seguridad Social en Salud",1,{"$f":"VLOOKUP(F233,[1]Hoja4!C:D,2,FALSE)","v":"ACT190"},"Ministerio del Trabajo","Sector Público - Nacional","N/A"]
[null,{"$f":"VLOOKUP(C234,[1]instancias_objetos!A:B,2,FALSE)","v":"INST11"},"Consejo Nacional de Seguridad Social en Salud",1,{"$f":"VLOOKUP(F234,[1]Hoja4!C:D,2,FALSE)","v":"ACT280"},"Representante de las Asociaciones de usuarios de servicios de salud del sector rural","Delegado Sectorial de la Sociedad Civil","Control Social, Transparencia, Comunitario y Veedurías"]
[null,{"$f":"VLOOKUP(C235,[1]instancias_objetos!A:B,2,FALSE)","v":"INST11"},"Consejo Nacional de Seguridad Social en Salud",1,{"$f":"VLOOKUP(F235,[1]Hoja4!C:D,2,FALSE)","v":"ACT292"},"Representante de las Entidades Promotoras de Salud","Sector Privado","Salud"]
[null,{"$f":"VLOOKUP(C236,[1]instancias_objetos!A:B,2,FALSE)","v":"INST11"},"Consejo Nacional de Seguridad Social en Salud",1,{"$f":"VLOOKUP(F236,[1]Hoja4!C:D,2,FALSE)","v":"ACT310"},"Representante de las Instituciones Prestadoras de Servicios de Salud","Sector Privado","Salud"]
[null,{"$f":"VLOOKUP(C237,[1]instancias_objetos!A:B,2,FALSE)","v":"INST11"},"Consejo Nacional de Seguridad Social en Salud",2,{"$f":"VLOOKUP(F237,[1]Hoja4!C:D,2,FALSE)","v":"ACT382"},"Representante de los Empleadores","Delegado Sectorial de la Sociedad Civil","Trabajo"]
[null,{"$f":"VLOOKUP(C238,[1]instancias_objetos!A:B,2,FALSE)","v":"INST11"},"Consejo Nacional de Seguridad Social en Salud",1,{"$f":"VLOOKUP(F238,[1]Hoja4!C:D,2,FALSE)","v":"ACT403"},"Representante de los profesionales del área de la salud","Delegado Sectorial de la Sociedad Civil","Salud"]
[null,{"$f":"VLOOKUP(C239,[1]instancias_objetos!A:B,2,FALSE)","v":"INST11"},"Consejo Nacional de Seguridad Social en Salud",2,{"$f":"VLOOKUP(F239,[1]Hoja4!C:D,2,FALSE)","v":"ACT410"},"Representante de los Trabajadores","Delegado Sectorial de la Sociedad Civil","Trabajo"]
[null,{"$f":"VLOOKUP(C240,[1]instancias_objetos!A:B,2,FALSE)","v":"INST11"},"Consejo Nacional de Seguridad Social en Salud",1,{"$f":"VLOOKUP(F240,[1]Hoja4!C:D,2,FALSE)","v":"ACT474"},"Representante por cada una de las entidades departamentales y municipales de salud","Sector Público - Territorial","N/A"]
[null,{"$f":"VLOOKUP(C241,[1]instancias_objetos!A:B,2,FALSE)","v":"INST110"},"Comisión Nacional de Seguridad y Salud en el Trabajo del Sector Minero",1,{"$f":"VLOOKUP(F241,[1]Hoja4!C:D,2,FALSE)","v":"ACT06"},"Administradora de Riesgos Laborales Pública","Sector Público - Nacional","N/A"]
[null,{"$f":"VLOOKUP(C242,[1]instancias_objetos!A:B,2,FALSE)","v":"INST110"},"Comisión Nacional de Seguridad y Salud en el Trabajo del Sector Minero",1,{"$f":"VLOOKUP(F242,[1]Hoja4!C:D,2,FALSE)","v":"ACT10"},"Agencia Nacional de Minería","Sector Público - Nacional","N/A"]
[null,{"$f":"VLOOKUP(C243,[1]instancias_objetos!A:B,2,FALSE)","v":"INST110"},"Comisión Nacional de Seguridad y Salud en el Trabajo del Sector Minero",1,{"$f":"VLOOKUP(F243,[1]Hoja4!C:D,2,FALSE)","v":"ACT182"},"Ministerio de Minas y Energía","Sector Público - Nacional","N/A"]
[null,{"$f":"VLOOKUP(C244,[1]instancias_objetos!A:B,2,FALSE)","v":"INST110"},"Comisión Nacional de Seguridad y Salud en el Trabajo del Sector Minero",1,{"$f":"VLOOKUP(F244,[1]Hoja4!C:D,2,FALSE)","v":"ACT190"},"Ministerio del Trabajo","Sector Público - Nacional","N/A"]
[null,{"$f":"VLOOKUP(C245,[1]instancias_objetos!A:B,2,FALSE)","v":"INST110"},"Comisión Nacional de Seguridad y Salud en el Trabajo del Sector Minero",1,{"$f":"VLOOKUP(F245,[1]Hoja4!C:D,2,FALSE)","v":"ACT260"},"Representante de las Administradoras de Riesgos Laborales Privadas","Sector Privado","Trabajo"]
[null,{"$f":"VLOOKUP(C246,[1]instancias_objetos!A:B,2,FALSE)","v":"INST110"},"Comisión Nacional de Seguridad y Salud en el Trabajo del Sector Minero",1,{"$f":"VLOOKUP(F246,[1]Hoja4!C:D,2,FALSE)","v":"ACT262"},"Representante de las agremiaciones cientificas de seguridad y salud en el trabajo","Delegado Sectorial de la Sociedad Civil","Ciencia y Tecnología"]
[null,{"$f":"VLOOKUP(C247,[1]instancias_objetos!A:B,2,FALSE)","v":"INST110"},"Comisión Nacional de Seguridad y Salud en el Trabajo del Sector Minero",1,{"$f":"VLOOKUP(F247,[1]Hoja4!C:D,2,FALSE)","v":"ACT306"},"Representante de las instituciones de educación superior con programas de ciencias agropecuarias","Delegado Sectorial de la Sociedad Civil","Educación"]
[null,{"$f":"VLOOKUP(C248,[1]instancias_objetos!A:B,2,FALSE)","v":"INST110"},"Comisión Nacional de Seguridad y Salud en el Trabajo del Sector Minero",1,{"$f":"VLOOKUP(F248,[1]Hoja4!C:D,2,FALSE)","v":"ACT307"},"Representante de las instituciones de educación superior con programas de seguridad y salud en el trabajo","Delegado Sectorial de la Sociedad Civil","Educación"]
[null,{"$f":"VLOOKUP(C249,[1]instancias_objetos!A:B,2,FALSE)","v":"INST110"},"Comisión Nacional de Seguridad y Salud en el Trabajo del Sector Minero",3,{"$f":"VLOOKUP(F249,[1]Hoja4!C:D,2,FALSE)","v":"ACT464"},"Representante del Sector Minero-Energético y Productivo","Delegado Sectorial de la Sociedad Civil","Minas y Energía"]
[null,{"$f":"VLOOKUP(C250,[1]instancias_objetos!A:B,2,FALSE)","v":"INST110"},"Comisión Nacional de Seguridad y Salud en el Trabajo del Sector Minero",3,{"$f":"VLOOKUP(F250,[1]Hoja4!C:D,2,FALSE)","v":"ACT469"},"Representante del Sector Sindical","Delegado Sectorial de la Sociedad Civil","Trabajo"]
[null,{"$f":"VLOOKUP(C251,[1]instancias_objetos!A:B,2,FALSE)","v":"INST111"},"Comisión Nacional de Seguridad y Salud en el Trabajo del Sector Eléctrico",1,{"$f":"VLOOKUP(F251,[1]Hoja4!C:D,2,FALSE)","v":"ACT182"},"Ministerio de Minas y Energía","Sector Público - Nacional","N/A"]
[null,{"$f":"VLOOKUP(C252,[1]instancias_objetos!A:B,2,FALSE)","v":"INST111"},"Comisión Nacional de Seguridad y Salud en el Trabajo del Sector Eléctrico",1,{"$f":"VLOOKUP(F252,[1]Hoja4!C:D,2,FALSE)","v":"ACT190"},"Ministerio del Trabajo","Sector Público - Nacional","N/A"]
[null,{"$f":"VLOOKUP(C253,[1]instancias_objetos!A:B,2,FALSE)","v":"INST111"},"Comisión Nacional de Seguridad y Salud en el Trabajo del Sector Eléctrico",1,{"$f":"VLOOKUP(F253,[1]Hoja4!C:D,2,FALSE)","v":"ACT262"},"Representante de las agremiaciones cientificas de seguridad y salud en el trabajo","Delegado Sectorial de la Sociedad Civil","Ciencia y Tecnología"]
[null,{"$f":"VLOOKUP(C254,[1]instancias_objetos!A:B,2,FALSE)","v":"INST111"},"Comisión Nacional de Seguridad y Salud en el Trabajo del Sector Eléctrico",1,{"$f":"VLOOKUP(F254,[1]Hoja4!C:D,2,FALSE)","v":"ACT307"},"Representante de las instituciones de educación superior con programas de seguridad y salud en el trabajo","Delegado Sectorial de la Sociedad Civil","Educación"]
[null,{"$f":"VLOOKUP(C255,[1]instancias_objetos!A:B,2,FALSE)","v":"INST111"},"Comisión Nacional de Seguridad y Salud en el Trabajo del Sector Eléctrico",3,{"$f":"VLOOKUP(F255,[1]Hoja4!C:D,2,FALSE)","v":"ACT458"},"Representante del Sector Electrico","Delegado Sectorial de la Sociedad Civil","Minas y Energía"]
[null,{"$f":"VLOOKUP(C256,[1]instancias_objetos!A:B,2,FALSE)","v":"INST111"},"Comisión Nacional de Seguridad y Salud en el Trabajo del Sector Eléctrico",3,{"$f":"VLOOKUP(F256,[1]Hoja4!C:D,2,FALSE)","v":"ACT469"},"Representante del Sector Sindical","Delegado Sectorial de la Sociedad Civil","Trabajo"]
[null,{"$f":"VLOOKUP(C257,[1]instancias_objetos!A:B,2,FALSE)","v":"INST112"},"Comisión Nacional de Seguridad y Salud en el Trabajo del Sector Transporte",1,{"$f":"VLOOKUP(F257,[1]Hoja4!C:D,2,FALSE)","v":"ACT06"},"Administradora de Riesgos Laborales Pública","Sector Público - Nacional","N/A"]
[null,{"$f":"VLOOKUP(C258,[1]instancias_objetos!A:B,2,FALSE)","v":"INST112"},"Comisión Nacional de Seguridad y Salud en el Trabajo del Sector Transporte",1,{"$f":"VLOOKUP(F258,[1]Hoja4!C:D,2,FALSE)","v":"ACT11"},"Agencia Nacional de Seguridad Vial","Sector Público - Nacional","N/A"]
[null,{"$f":"VLOOKUP(C259,[1]instancias_objetos!A:B,2,FALSE)","v":"INST112"},"Comisión Nacional de Seguridad y Salud en el Trabajo del Sector Transporte",1,{"$f":"VLOOKUP(F259,[1]Hoja4!C:D,2,FALSE)","v":"ACT44"},"Asociación Nacional de Empresas Transportadoras de Carga Carretera","Organización de la Sociedad Civil","Transporte"]
[null,{"$f":"VLOOKUP(C260,[1]instancias_objetos!A:B,2,FALSE)","v":"INST112"},"Comisión Nacional de Seguridad y Salud en el Trabajo del Sector Transporte",1,{"$f":"VLOOKUP(F260,[1]Hoja4!C:D,2,FALSE)","v":"ACT186"},"Ministerio de Transporte","Sector Público - Nacional","N/A"]
[null,{"$f":"VLOOKUP(C261,[1]instancias_objetos!A:B,2,FALSE)","v":"INST112"},"Comisión Nacional de Seguridad y Salud en el Trabajo del Sector Transporte",1,{"$f":"VLOOKUP(F261,[1]Hoja4!C:D,2,FALSE)","v":"ACT190"},"Ministerio del Trabajo","Sector Público - Nacional","N/A"]
[null,{"$f":"VLOOKUP(C262,[1]instancias_objetos!A:B,2,FALSE)","v":"INST112"},"Comisión Nacional de Seguridad y Salud en el Trabajo del Sector Transporte",1,{"$f":"VLOOKUP(F262,[1]Hoja4!C:D,2,FALSE)","v":"ACT260"},"Representante de las Administradoras de Riesgos Laborales Privadas","Sector Privado","Trabajo"]
[null,{"$f":"VLOOKUP(C263,[1]instancias_objetos!A:B,2,FALSE)","v":"INST112"},"Comisión Nacional de Seguridad y Salud en el Trabajo del Sector Transporte",1,{"$f":"VLOOKUP(F263,[1]Hoja4!C:D,2,FALSE)","v":"ACT262"},"Representante de las agremiaciones cientificas de seguridad y salud en el trabajo","Delegado Sectorial de la Sociedad Civil","Ciencia y Tecnología"]
[null,{"$f":"VLOOKUP(C264,[1]instancias_objetos!A:B,2,FALSE)","v":"INST112"},"Comisión Nacional de Seguridad y Salud en el Trabajo del Sector Transporte",1,{"$f":"VLOOKUP(F264,[1]Hoja4!C:D,2,FALSE)","v":"ACT307"},"Representante de las instituciones de educación superior con programas de seguridad y salud en el trabajo","Delegado Sectorial de la Sociedad Civil","Educación"]
[null,{"$f":"VLOOKUP(C265,[1]instancias_objetos!A:B,2,FALSE)","v":"INST112"},"Comisión Nacional de Seguridad y Salud en el Trabajo del Sector Transporte",3,{"$f":"VLOOKUP(F265,[1]Hoja4!C:D,2,FALSE)","v":"ACT469"},"Representante del Sector Sindical","Delegado Sectorial de la Sociedad Civil","Trabajo"]
[null,{"$f":"VLOOKUP(C266,[1]instancias_objetos!A:B,2,FALSE)","v":"INST112"},"Comisión Nacional de Seguridad y Salud en el Trabajo del Sector Transporte",2,{"$f":"VLOOKUP(F266,[1]Hoja4!C:D,2,FALSE)","v":"ACT471"},"Representante del Sector Transporte","Delegado Sectorial de la Sociedad Civil","Transporte"]
[null,{"$f":"VLOOKUP(C267,[1]instancias_objetos!A:B,2,FALSE)","v":"INST113"},"Comisión Nacional de Seguridad y Salud en el Trabajo del Sector de las Tecnologías de la Información y las Comunicaciones",1,{"$f":"VLOOKUP(F267,[1]Hoja4!C:D,2,FALSE)","v":"ACT06"},"Administradora de Riesgos Laborales Pública","Sector Público - Nacional","N/A"]
[null,{"$f":"VLOOKUP(C268,[1]instancias_objetos!A:B,2,FALSE)","v":"INST113"},"Comisión Nacional de Seguridad y Salud en el Trabajo del Sector de las Tecnologías de la Información y las Comunicaciones",1,{"$f":"VLOOKUP(F268,[1]Hoja4!C:D,2,FALSE)","v":"ACT13"},"Agencia Nacional del Espectro","Sector Público - Nacional","N/A"]
[null,{"$f":"VLOOKUP(C269,[1]instancias_objetos!A:B,2,FALSE)","v":"INST113"},"Comisión Nacional de Seguridad y Salud en el Trabajo del Sector de las Tecnologías de la Información y las Comunicaciones",1,{"$f":"VLOOKUP(F269,[1]Hoja4!C:D,2,FALSE)","v":"ACT185"},"Ministerio de Tecnologías de la Información y las Comunicaciones","Sector Público - Nacional","N/A"]
[null,{"$f":"VLOOKUP(C270,[1]instancias_objetos!A:B,2,FALSE)","v":"INST113"},"Comisión Nacional de Seguridad y Salud en el Trabajo del Sector de las Tecnologías de la Información y las Comunicaciones",1,{"$f":"VLOOKUP(F270,[1]Hoja4!C:D,2,FALSE)","v":"ACT190"},"Ministerio del Trabajo","Sector Público - Nacional","N/A"]
[null,{"$f":"VLOOKUP(C271,[1]instancias_objetos!A:B,2,FALSE)","v":"INST113"},"Comisión Nacional de Seguridad y Salud en el Trabajo del Sector de las Tecnologías de la Información y las Comunicaciones",1,{"$f":"VLOOKUP(F271,[1]Hoja4!C:D,2,FALSE)","v":"ACT260"},"Representante de las Administradoras de Riesgos Laborales Privadas","Sector Privado","Trabajo"]
[null,{"$f":"VLOOKUP(C272,[1]instancias_objetos!A:B,2,FALSE)","v":"INST113"},"Comisión Nacional de Seguridad y Salud en el Trabajo del Sector de las Tecnologías de la Información y las Comunicaciones",1,{"$f":"VLOOKUP(F272,[1]Hoja4!C:D,2,FALSE)","v":"ACT262"},"Representante de las agremiaciones cientificas de seguridad y salud en el trabajo","Delegado Sectorial de la Sociedad Civil","Ciencia y Tecnología"]
[null,{"$f":"VLOOKUP(C273,[1]instancias_objetos!A:B,2,FALSE)","v":"INST113"},"Comisión Nacional de Seguridad y Salud en el Trabajo del Sector de las Tecnologías de la Información y las Comunicaciones",1,{"$f":"VLOOKUP(F273,[1]Hoja4!C:D,2,FALSE)","v":"ACT307"},"Representante de las instituciones de educación superior con programas de seguridad y salud en el trabajo","Delegado Sectorial de la Sociedad Civil","Educación"]
[null,{"$f":"VLOOKUP(C274,[1]instancias_objetos!A:B,2,FALSE)","v":"INST113"},"Comisión Nacional de Seguridad y Salud en el Trabajo del Sector de las Tecnologías de la Información y las Comunicaciones",3,{"$f":"VLOOKUP(F274,[1]Hoja4!C:D,2,FALSE)","v":"ACT453"},"Representante del Sector de las TIC","Delegado Sectorial de la Sociedad Civil","Comunicaciones e Información"]
[null,{"$f":"VLOOKUP(C275,[1]instancias_objetos!A:B,2,FALSE)","v":"INST113"},"Comisión Nacional de Seguridad y Salud en el Trabajo del Sector de las Tecnologías de la Información y las Comunicaciones",3,{"$f":"VLOOKUP(F275,[1]Hoja4!C:D,2,FALSE)","v":"ACT469"},"Representante del Sector Sindical","Delegado Sectorial de la Sociedad Civil","Trabajo"]
[null,{"$f":"VLOOKUP(C276,[1]instancias_objetos!A:B,2,FALSE)","v":"INST114"},"Comisión Nacional de Seguridad y Salud en el Trabajo de la Pequeña y Mediana Empresa",1,{"$f":"VLOOKUP(F276,[1]Hoja4!C:D,2,FALSE)","v":"ACT06"},"Administradora de Riesgos Laborales Pública","Sector Público - Nacional","N/A"]
[null,{"$f":"VLOOKUP(C277,[1]instancias_objetos!A:B,2,FALSE)","v":"INST114"},"Comisión Nacional de Seguridad y Salud en el Trabajo de la Pequeña y Mediana Empresa",1,{"$f":"VLOOKUP(F277,[1]Hoja4!C:D,2,FALSE)","v":"ACT30"},"Asociación Colombiana de Pequeños Industriales","Organización de la Sociedad Civil","Producción Industrial"]
[null,{"$f":"VLOOKUP(C278,[1]instancias_objetos!A:B,2,FALSE)","v":"INST114"},"Comisión Nacional de Seguridad y Salud en el Trabajo de la Pequeña y Mediana Empresa",1,{"$f":"VLOOKUP(F278,[1]Hoja4!C:D,2,FALSE)","v":"ACT140"},"Federación Nacional de Comerciantes","Organización de la Sociedad Civil","Comercio"]
[null,{"$f":"VLOOKUP(C279,[1]instancias_objetos!A:B,2,FALSE)","v":"INST114"},"Comisión Nacional de Seguridad y Salud en el Trabajo de la Pequeña y Mediana Empresa",1,{"$f":"VLOOKUP(F279,[1]Hoja4!C:D,2,FALSE)","v":"ACT173"},"Ministerio de Agricultura y Desarrollo Rural","Sector Público - Nacional","N/A"]
[null,{"$f":"VLOOKUP(C280,[1]instancias_objetos!A:B,2,FALSE)","v":"INST114"},"Comisión Nacional de Seguridad y Salud en el Trabajo de la Pequeña y Mediana Empresa",1,{"$f":"VLOOKUP(F280,[1]Hoja4!C:D,2,FALSE)","v":"ACT176"},"Ministerio de Comercio, Industria y Turismo","Sector Público - Nacional","N/A"]
[null,{"$f":"VLOOKUP(C281,[1]instancias_objetos!A:B,2,FALSE)","v":"INST114"},"Comisión Nacional de Seguridad y Salud en el Trabajo de la Pequeña y Mediana Empresa",1,{"$f":"VLOOKUP(F281,[1]Hoja4!C:D,2,FALSE)","v":"ACT190"},"Ministerio del Trabajo","Sector Público - Nacional","N/A"]
[null,{"$f":"VLOOKUP(C282,[1]instancias_objetos!A:B,2,FALSE)","v":"INST114"},"Comisión Nacional de Seguridad y Salud en el Trabajo de la Pequeña y Mediana Empresa",1,{"$f":"VLOOKUP(F282,[1]Hoja4!C:D,2,FALSE)","v":"ACT260"},"Representante de las Administradoras de Riesgos Laborales Privadas","Sector Privado","Trabajo"]
[null,{"$f":"VLOOKUP(C283,[1]instancias_objetos!A:B,2,FALSE)","v":"INST114"},"Comisión Nacional de Seguridad y Salud en el Trabajo de la Pequeña y Mediana Empresa",1,{"$f":"VLOOKUP(F283,[1]Hoja4!C:D,2,FALSE)","v":"ACT262"},"Representante de las agremiaciones cientificas de seguridad y salud en el trabajo","Delegado Sectorial de la Sociedad Civil","Ciencia y Tecnología"]
[null,{"$f":"VLOOKUP(C284,[1]instancias_objetos!A:B,2,FALSE)","v":"INST114"},"Comisión Nacional de Seguridad y Salud en el Trabajo de la Pequeña y Mediana Empresa",1,{"$f":"VLOOKUP(F284,[1]Hoja4!C:D,2,FALSE)","v":"ACT307"},"Representante de las instituciones de educación superior con programas de seguridad y salud en el trabajo","Delegado Sectorial de la Sociedad Civil","Educación"]
[null,{"$f":"VLOOKUP(C285,[1]instancias_objetos!A:B,2,FALSE)","v":"INST114"},"Comisión Nacional de Seguridad y Salud en el Trabajo de la Pequeña y Mediana Empresa",3,{"$f":"VLOOKUP(F285,[1]Hoja4!C:D,2,FALSE)","v":"ACT469"},"Representante del Sector Sindical","Delegado Sectorial de la Sociedad Civil","Trabajo"]
[null,{"$f":"VLOOKUP(C286,[1]instancias_objetos!A:B,2,FALSE)","v":"INST114"},"Comisión Nacional de Seguridad y Salud en el Trabajo de la Pequeña y Mediana Empresa",1,{"$f":"VLOOKUP(F286,[1]Hoja4!C:D,2,FALSE)","v":"ACT488"},"Sociedad de Agricultores de Colombia","Organización de la Sociedad Civil","Agricultura y Ruralidad"]
[null,{"$f":"VLOOKUP(C287,[1]instancias_objetos!A:B,2,FALSE)","v":"INST115"},"Mesa por el empleo público",1,{"$f":"VLOOKUP(F287,[1]Hoja4!C:D,2,FALSE)","v":"ACT59"},"Central Unitaria de Trabajadores","Organización de la Sociedad Civil","Trabajo"]
[null,{"$f":"VLOOKUP(C288,[1]instancias_objetos!A:B,2,FALSE)","v":"INST115"},"Mesa por el empleo público",1,{"$f":"VLOOKUP(F288,[1]Hoja4!C:D,2,FALSE)","v":"ACT73"},"Confederación de Servidores Públicos y de los Servicios Públicos de Colombia","Organización de la Sociedad Civil","Trabajo"]
[null,{"$f":"VLOOKUP(C289,[1]instancias_objetos!A:B,2,FALSE)","v":"INST115"},"Mesa por el empleo público",1,{"$f":"VLOOKUP(F289,[1]Hoja4!C:D,2,FALSE)","v":"ACT74"},"Confederación de Trabajadores Colombia","Organización de la Sociedad Civil","Trabajo"]
[null,{"$f":"VLOOKUP(C290,[1]instancias_objetos!A:B,2,FALSE)","v":"INST115"},"Mesa por el empleo público",1,{"$f":"VLOOKUP(F290,[1]Hoja4!C:D,2,FALSE)","v":"ACT75"},"Confederación General del Trabajo","Organización de la Sociedad Civil","Trabajo"]
[null,{"$f":"VLOOKUP(C291,[1]instancias_objetos!A:B,2,FALSE)","v":"INST115"},"Mesa por el empleo público",1,{"$f":"VLOOKUP(F291,[1]Hoja4!C:D,2,FALSE)","v":"ACT78"},"Confederación Nacional del Trabajo","Organización de la Sociedad Civil","Trabajo"]
[null,{"$f":"VLOOKUP(C292,[1]instancias_objetos!A:B,2,FALSE)","v":"INST115"},"Mesa por el empleo público",1,{"$f":"VLOOKUP(F292,[1]Hoja4!C:D,2,FALSE)","v":"ACT118"},"CTU Usctrab","Organización de la Sociedad Civil","Trabajo"]
[null,{"$f":"VLOOKUP(C293,[1]instancias_objetos!A:B,2,FALSE)","v":"INST115"},"Mesa por el empleo público",1,{"$f":"VLOOKUP(F293,[1]Hoja4!C:D,2,FALSE)","v":"ACT122"},"Departamento Administrativo de la Función Pública","Sector Público - Nacional","N/A"]
[null,{"$f":"VLOOKUP(C294,[1]instancias_objetos!A:B,2,FALSE)","v":"INST115"},"Mesa por el empleo público",1,{"$f":"VLOOKUP(F294,[1]Hoja4!C:D,2,FALSE)","v":"ACT126"},"Departamento Nacional de Planeación","Sector Público - Nacional","N/A"]
[null,{"$f":"VLOOKUP(C295,[1]instancias_objetos!A:B,2,FALSE)","v":"INST115"},"Mesa por el empleo público",1,{"$f":"VLOOKUP(F295,[1]Hoja4!C:D,2,FALSE)","v":"ACT143"},"Federación Unión Nacional de Trabajadores del Estado, los Servicios Públicos y la Comunidad","Organización de la Sociedad Civil","Trabajo"]
[null,{"$f":"VLOOKUP(C296,[1]instancias_objetos!A:B,2,FALSE)","v":"INST115"},"Mesa por el empleo público",1,{"$f":"VLOOKUP(F296,[1]Hoja4!C:D,2,FALSE)","v":"ACT180"},"Ministerio de Hacienda y Crédito Público","Sector Público - Nacional","N/A"]
[null,{"$f":"VLOOKUP(C297,[1]instancias_objetos!A:B,2,FALSE)","v":"INST115"},"Mesa por el empleo público",1,{"$f":"VLOOKUP(F297,[1]Hoja4!C:D,2,FALSE)","v":"ACT190"},"Ministerio del Trabajo","Sector Público - Nacional","N/A"]
[null,{"$f":"VLOOKUP(C298,[1]instancias_objetos!A:B,2,FALSE)","v":"INST115"},"Mesa por el empleo público",1,{"$f":"VLOOKUP(F298,[1]Hoja4!C:D,2,FALSE)","v":"ACT501"},"Unión de Trabajadores de Colombia","Organización de la Sociedad Civil","Trabajo"]
[null,{"$f":"VLOOKUP(C299,[1]instancias_objetos!A:B,2,FALSE)","v":"INST116"},"Mesa Técnica Nacional de Familias del Sistema Nacional de Bienestar Familiar",1,{"$f":"VLOOKUP(F299,[1]Hoja4!C:D,2,FALSE)","v":"ACT123"},"Departamento Administrativo de la Presidencia de la República","Sector Público - Nacional","N/A"]
[null,{"$f":"VLOOKUP(C300,[1]instancias_objetos!A:B,2,FALSE)","v":"INST116"},"Mesa Técnica Nacional de Familias del Sistema Nacional de Bienestar Familiar",1,{"$f":"VLOOKUP(F300,[1]Hoja4!C:D,2,FALSE)","v":"ACT124"},"Departamento Administrativo Nacional de Estadística","Sector Público - Nacional","N/A"]
[null,{"$f":"VLOOKUP(C301,[1]instancias_objetos!A:B,2,FALSE)","v":"INST116"},"Mesa Técnica Nacional de Familias del Sistema Nacional de Bienestar Familiar",1,{"$f":"VLOOKUP(F301,[1]Hoja4!C:D,2,FALSE)","v":"ACT125"},"Departamento Administrativo para la Prosperidad Social","Sector Público - Nacional","N/A"]
[null,{"$f":"VLOOKUP(C302,[1]instancias_objetos!A:B,2,FALSE)","v":"INST116"},"Mesa Técnica Nacional de Familias del Sistema Nacional de Bienestar Familiar",1,{"$f":"VLOOKUP(F302,[1]Hoja4!C:D,2,FALSE)","v":"ACT126"},"Departamento Nacional de Planeación","Sector Público - Nacional","N/A"]
[null,{"$f":"VLOOKUP(C303,[1]instancias_objetos!A:B,2,FALSE)","v":"INST116"},"Mesa Técnica Nacional de Familias del Sistema Nacional de Bienestar Familiar",1,{"$f":"VLOOKUP(F303,[1]Hoja4!C:D,2,FALSE)","v":"ACT157"},"Instituto Colombiano de Bienestar Familiar","Sector Público - Nacional","N/A"]
[null,{"$f":"VLOOKUP(C304,[1]instancias_objetos!A:B,2,FALSE)","v":"INST116"},"Mesa Técnica Nacional de Familias del Sistema Nacional de Bienestar Familiar",1,{"$f":"VLOOKUP(F304,[1]Hoja4!C:D,2,FALSE)","v":"ACT173"},"Ministerio de Agricultura y Desarrollo Rural","Sector Público - Nacional","N/A"]
[null,{"$f":"VLOOKUP(C305,[1]instancias_objetos!A:B,2,FALSE)","v":"INST116"},"Mesa Técnica Nacional de Familias del Sistema Nacional de Bienestar Familiar",1,{"$f":"VLOOKUP(F305,[1]Hoja4!C:D,2,FALSE)","v":"ACT175"},"Ministerio de Ciencia, Tecnología e Innovación","Sector Público - Nacional","N/A"]
[null,{"$f":"VLOOKUP(C306,[1]instancias_objetos!A:B,2,FALSE)","v":"INST116"},"Mesa Técnica Nacional de Familias del Sistema Nacional de Bienestar Familiar",1,{"$f":"VLOOKUP(F306,[1]Hoja4!C:D,2,FALSE)","v":"ACT177"},"Ministerio de Cultura de Colombia","Sector Público - Nacional","N/A"]
[null,{"$f":"VLOOKUP(C307,[1]instancias_objetos!A:B,2,FALSE)","v":"INST116"},"Mesa Técnica Nacional de Familias del Sistema Nacional de Bienestar Familiar",1,{"$f":"VLOOKUP(F307,[1]Hoja4!C:D,2,FALSE)","v":"ACT179"},"Ministerio de Educación Nacional","Sector Público - Nacional","N/A"]
[null,{"$f":"VLOOKUP(C308,[1]instancias_objetos!A:B,2,FALSE)","v":"INST116"},"Mesa Técnica Nacional de Familias del Sistema Nacional de Bienestar Familiar",1,{"$f":"VLOOKUP(F308,[1]Hoja4!C:D,2,FALSE)","v":"ACT181"},"Ministerio de Justicia y del Derecho","Sector Público - Nacional","N/A"]
[null,{"$f":"VLOOKUP(C309,[1]instancias_objetos!A:B,2,FALSE)","v":"INST116"},"Mesa Técnica Nacional de Familias del Sistema Nacional de Bienestar Familiar",1,{"$f":"VLOOKUP(F309,[1]Hoja4!C:D,2,FALSE)","v":"ACT184"},"Ministerio de Salud y Protección Social","Sector Público - Nacional","N/A"]
[null,{"$f":"VLOOKUP(C310,[1]instancias_objetos!A:B,2,FALSE)","v":"INST116"},"Mesa Técnica Nacional de Familias del Sistema Nacional de Bienestar Familiar",1,{"$f":"VLOOKUP(F310,[1]Hoja4!C:D,2,FALSE)","v":"ACT185"},"Ministerio de Tecnologías de la Información y las Comunicaciones","Sector Público - Nacional","N/A"]
[null,{"$f":"VLOOKUP(C311,[1]instancias_objetos!A:B,2,FALSE)","v":"INST116"},"Mesa Técnica Nacional de Familias del Sistema Nacional de Bienestar Familiar",1,{"$f":"VLOOKUP(F311,[1]Hoja4!C:D,2,FALSE)","v":"ACT187"},"Ministerio de Vivienda, Ciudad y Territorio","Sector Público - Nacional","N/A"]
[null,{"$f":"VLOOKUP(C312,[1]instancias_objetos!A:B,2,FALSE)","v":"INST116"},"Mesa Técnica Nacional de Familias del Sistema Nacional de Bienestar Familiar",1,{"$f":"VLOOKUP(F312,[1]Hoja4!C:D,2,FALSE)","v":"ACT188"},"Ministerio del Deporte","Sector Público - Nacional","N/A"]
[null,{"$f":"VLOOKUP(C313,[1]instancias_objetos!A:B,2,FALSE)","v":"INST116"},"Mesa Técnica Nacional de Familias del Sistema Nacional de Bienestar Familiar",1,{"$f":"VLOOKUP(F313,[1]Hoja4!C:D,2,FALSE)","v":"ACT189"},"Ministerio del Interior","Sector Público - Nacional","N/A"]
[null,{"$f":"VLOOKUP(C314,[1]instancias_objetos!A:B,2,FALSE)","v":"INST116"},"Mesa Técnica Nacional de Familias del Sistema Nacional de Bienestar Familiar",1,{"$f":"VLOOKUP(F314,[1]Hoja4!C:D,2,FALSE)","v":"ACT190"},"Ministerio del Trabajo","Sector Público - Nacional","N/A"]
[null,{"$f":"VLOOKUP(C315,[1]instancias_objetos!A:B,2,FALSE)","v":"INST116"},"Mesa Técnica Nacional de Familias del Sistema Nacional de Bienestar Familiar",1,{"$f":"VLOOKUP(F315,[1]Hoja4!C:D,2,FALSE)","v":"ACT338"},"Representante de las Organizaciones de la Sociedad Civil que trabajan por la garantía de derechos para las familias","Delegado Sectorial de la Sociedad Civil","Control Social, Transparencia, Comunitario y Veedurías"]
[null,{"$f":"VLOOKUP(C316,[1]instancias_objetos!A:B,2,FALSE)","v":"INST116"},"Mesa Técnica Nacional de Familias del Sistema Nacional de Bienestar Familiar",1,{"$f":"VLOOKUP(F316,[1]Hoja4!C:D,2,FALSE)","v":"ACT486"},"Servicio Nacional de Aprendizaje","Sector Público - Nacional","N/A"]
[null,{"$f":"VLOOKUP(C317,[1]instancias_objetos!A:B,2,FALSE)","v":"INST117"},"Comité Ambiental Interinstitucional",1,{"$f":"VLOOKUP(F317,[1]Hoja4!C:D,2,FALSE)","v":"ACT48"},"Autoridad Nacional de Licencias Ambientales","Sector Público - Nacional","N/A"]
[null,{"$f":"VLOOKUP(C318,[1]instancias_objetos!A:B,2,FALSE)","v":"INST117"},"Comité Ambiental Interinstitucional",1,{"$f":"VLOOKUP(F318,[1]Hoja4!C:D,2,FALSE)","v":"ACT106"},"Corporación Autónoma Regional de los Valles del Sinú y del San Jorge","Sector Público - Territorial","N/A"]
[null,{"$f":"VLOOKUP(C319,[1]instancias_objetos!A:B,2,FALSE)","v":"INST117"},"Comité Ambiental Interinstitucional",1,{"$f":"VLOOKUP(F319,[1]Hoja4!C:D,2,FALSE)","v":"ACT107"},"Corporación Autónoma Regional de Sucre","Sector Público - Territorial","N/A"]
[null,{"$f":"VLOOKUP(C320,[1]instancias_objetos!A:B,2,FALSE)","v":"INST117"},"Comité Ambiental Interinstitucional",1,{"$f":"VLOOKUP(F320,[1]Hoja4!C:D,2,FALSE)","v":"ACT108"},"Corporación Autonoma Regional del Centro de Antioquia","Sector Público - Territorial","N/A"]
[null,{"$f":"VLOOKUP(C321,[1]instancias_objetos!A:B,2,FALSE)","v":"INST117"},"Comité Ambiental Interinstitucional",1,{"$f":"VLOOKUP(F321,[1]Hoja4!C:D,2,FALSE)","v":"ACT109"},"Corporación Autónoma Regional del Sur de Bolívar","Sector Público - Territorial","N/A"]
[null,{"$f":"VLOOKUP(C322,[1]instancias_objetos!A:B,2,FALSE)","v":"INST117"},"Comité Ambiental Interinstitucional",1,{"$f":"VLOOKUP(F322,[1]Hoja4!C:D,2,FALSE)","v":"ACT111"},"Corporación de Desarrollo Sostenible para el San Jorge y la Mojana","Sector Público - Territorial","N/A"]
[null,{"$f":"VLOOKUP(C323,[1]instancias_objetos!A:B,2,FALSE)","v":"INST117"},"Comité Ambiental Interinstitucional",1,{"$f":"VLOOKUP(F323,[1]Hoja4!C:D,2,FALSE)","v":"ACT112"},"Corporación para el Desarrollo Sostenible del Urabá","Sector Público - Territorial","N/A"]
[null,{"$f":"VLOOKUP(C324,[1]instancias_objetos!A:B,2,FALSE)","v":"INST117"},"Comité Ambiental Interinstitucional",1,{"$f":"VLOOKUP(F324,[1]Hoja4!C:D,2,FALSE)","v":"ACT160"},"Instituto de Hidrología, Meteorología y Estudios Ambientales","Sector Público - Nacional","N/A"]
[null,{"$f":"VLOOKUP(C325,[1]instancias_objetos!A:B,2,FALSE)","v":"INST117"},"Comité Ambiental Interinstitucional",1,{"$f":"VLOOKUP(F325,[1]Hoja4!C:D,2,FALSE)","v":"ACT161"},"Instituto de Investigación de Recursos Biológicos Alexander von Humboldt","Organización de la Sociedad Civil","Ambiente"]
[null,{"$f":"VLOOKUP(C326,[1]instancias_objetos!A:B,2,FALSE)","v":"INST117"},"Comité Ambiental Interinstitucional",1,{"$f":"VLOOKUP(F326,[1]Hoja4!C:D,2,FALSE)","v":"ACT174"},"Ministerio de Ambiente y Desarrollo Sostenible","Sector Público - Nacional","N/A"]
[null,{"$f":"VLOOKUP(C327,[1]instancias_objetos!A:B,2,FALSE)","v":"INST118"},"Comisión Nacional de Mujeres indígenas",3,{"$f":"VLOOKUP(F327,[1]Hoja4!C:D,2,FALSE)","v":"ACT49"},"Autoridades Indígenas de Colombia","Organización de la Sociedad Civil","Grupos Étnicos (Afros, Indígenas, Raizales, Palenqueros y ROM)"]
[null,{"$f":"VLOOKUP(C328,[1]instancias_objetos!A:B,2,FALSE)","v":"INST118"},"Comisión Nacional de Mujeres indígenas",3,{"$f":"VLOOKUP(F328,[1]Hoja4!C:D,2,FALSE)","v":"ACT52"},"Autoridades Tradicionales Indígenas de Colombia Gobierno Mayor","Organización de la Sociedad Civil","Grupos Étnicos (Afros, Indígenas, Raizales, Palenqueros y ROM)"]
[null,{"$f":"VLOOKUP(C329,[1]instancias_objetos!A:B,2,FALSE)","v":"INST118"},"Comisión Nacional de Mujeres indígenas",3,{"$f":"VLOOKUP(F329,[1]Hoja4!C:D,2,FALSE)","v":"ACT76"},"Confederación Indígena Tairona","Organización de la Sociedad Civil","Grupos Étnicos (Afros, Indígenas, Raizales, Palenqueros y ROM)"]
[null,{"$f":"VLOOKUP(C330,[1]instancias_objetos!A:B,2,FALSE)","v":"INST118"},"Comisión Nacional de Mujeres indígenas",1,{"$f":"VLOOKUP(F330,[1]Hoja4!C:D,2,FALSE)","v":"ACT123"},"Departamento Administrativo de la Presidencia de la República","Sector Público - Nacional","N/A"]
[null,{"$f":"VLOOKUP(C331,[1]instancias_objetos!A:B,2,FALSE)","v":"INST118"},"Comisión Nacional de Mujeres indígenas",1,{"$f":"VLOOKUP(F331,[1]Hoja4!C:D,2,FALSE)","v":"ACT126"},"Departamento Nacional de Planeación","Sector Público - Nacional","N/A"]
[null,{"$f":"VLOOKUP(C332,[1]instancias_objetos!A:B,2,FALSE)","v":"INST118"},"Comisión Nacional de Mujeres indígenas",1,{"$f":"VLOOKUP(F332,[1]Hoja4!C:D,2,FALSE)","v":"ACT157"},"Instituto Colombiano de Bienestar Familiar","Sector Público - Nacional","N/A"]
[null,{"$f":"VLOOKUP(C333,[1]instancias_objetos!A:B,2,FALSE)","v":"INST118"},"Comisión Nacional de Mujeres indígenas",1,{"$f":"VLOOKUP(F333,[1]Hoja4!C:D,2,FALSE)","v":"ACT189"},"Ministerio del Interior","Sector Público - Nacional","N/A"]
[null,{"$f":"VLOOKUP(C334,[1]instancias_objetos!A:B,2,FALSE)","v":"INST118"},"Comisión Nacional de Mujeres indígenas",6,{"$f":"VLOOKUP(F334,[1]Hoja4!C:D,2,FALSE)","v":"ACT199"},"Organización Nacional de los Pueblos Indígenas de la Amazonía Colombiana","Organización de la Sociedad Civil","Grupos Étnicos (Afros, Indígenas, Raizales, Palenqueros y ROM)"]
[null,{"$f":"VLOOKUP(C335,[1]instancias_objetos!A:B,2,FALSE)","v":"INST118"},"Comisión Nacional de Mujeres indígenas",7,{"$f":"VLOOKUP(F335,[1]Hoja4!C:D,2,FALSE)","v":"ACT200"},"Organización Nacional Indígena de Colombia","Organización de la Sociedad Civil","Grupos Étnicos (Afros, Indígenas, Raizales, Palenqueros y ROM)"]
[null,{"$f":"VLOOKUP(C336,[1]instancias_objetos!A:B,2,FALSE)","v":"INST119"},"Comité Técnico de Autocontrol y Gestión del Riesgo del Sistema de Subsidio Familiar",7,{"$f":"VLOOKUP(F336,[1]Hoja4!C:D,2,FALSE)","v":"ACT287"},"Representante de las Cajas de Compensación Familiar","Sector Privado","Trabajo"]
[null,{"$f":"VLOOKUP(C337,[1]instancias_objetos!A:B,2,FALSE)","v":"INST119"},"Comité Técnico de Autocontrol y Gestión del Riesgo del Sistema de Subsidio Familiar",9,{"$f":"VLOOKUP(F337,[1]Hoja4!C:D,2,FALSE)","v":"ACT492"},"Superintendencia del Subsidio Familiar","Sector Público - Nacional","N/A"]
[null,{"$f":"VLOOKUP(C338,[1]instancias_objetos!A:B,2,FALSE)","v":"INST12"},"Consejo Nacional de Planeación",5,{"$f":"VLOOKUP(F338,[1]Hoja4!C:D,2,FALSE)","v":"ACT50"},"Autoridades Locales","Sector Público - Territorial","N/A"]
[null,{"$f":"VLOOKUP(C339,[1]instancias_objetos!A:B,2,FALSE)","v":"INST12"},"Consejo Nacional de Planeación",4,{"$f":"VLOOKUP(F339,[1]Hoja4!C:D,2,FALSE)","v":"ACT50"},"Autoridades Locales","Sector Público - Territorial","N/A"]
[null,{"$f":"VLOOKUP(C340,[1]instancias_objetos!A:B,2,FALSE)","v":"INST12"},"Consejo Nacional de Planeación",4,{"$f":"VLOOKUP(F340,[1]Hoja4!C:D,2,FALSE)","v":"ACT50"},"Autoridades Locales","Sector Público - Territorial","N/A"]
[null,{"$f":"VLOOKUP(C341,[1]instancias_objetos!A:B,2,FALSE)","v":"INST12"},"Consejo Nacional de Planeación",1,{"$f":"VLOOKUP(F341,[1]Hoja4!C:D,2,FALSE)","v":"ACT50"},"Autoridades Locales","Sector Público - Territorial","N/A"]
[null,{"$f":"VLOOKUP(C342,[1]instancias_objetos!A:B,2,FALSE)","v":"INST12"},"Consejo Nacional de Planeación",1,{"$f":"VLOOKUP(F342,[1]Hoja4!C:D,2,FALSE)","v":"ACT50"},"Autoridades Locales","Sector Público - Territorial","N/A"]
[null,{"$f":"VLOOKUP(C343,[1]instancias_objetos!A:B,2,FALSE)","v":"INST12"},"Consejo Nacional de Planeación",4,{"$f":"VLOOKUP(F343,[1]Hoja4!C:D,2,FALSE)","v":"ACT258"},"Representante de la Sociedad Civil","Delegado Sectorial de la Sociedad Civil","Control Social, Transparencia, Comunitario y Veedurías"]
[null,{"$f":"VLOOKUP(C344,[1]instancias_objetos!A:B,2,FALSE)","v":"INST12"},"Consejo Nacional de Planeación",1,{"$f":"VLOOKUP(F344,[1]Hoja4!C:D,2,FALSE)","v":"ACT290"},"Representante de las Comunidades Negras","Delegado Sectorial de la Sociedad Civil","Grupos Étnicos (Afros, Indígenas, Raizales, Palenqueros y ROM)"]
[null,{"$f":"VLOOKUP(C345,[1]instancias_objetos!A:B,2,FALSE)","v":"INST12"},"Consejo Nacional de Planeación",1,{"$f":"VLOOKUP(F345,[1]Hoja4!C:D,2,FALSE)","v":"ACT356"},"Representante de las Universidades","Delegado Sectorial de la Sociedad Civil","Educación"]
[null,{"$f":"VLOOKUP(C346,[1]instancias_objetos!A:B,2,FALSE)","v":"INST12"},"Consejo Nacional de Planeación",4,{"$f":"VLOOKUP(F346,[1]Hoja4!C:D,2,FALSE)","v":"ACT409"},"Representante de los Sectores Económicos","Delegado Sectorial de la Sociedad Civil","Competitividad, Financiero y Sector Privado"]
[null,{"$f":"VLOOKUP(C347,[1]instancias_objetos!A:B,2,FALSE)","v":"INST12"},"Consejo Nacional de Planeación",1,{"$f":"VLOOKUP(F347,[1]Hoja4!C:D,2,FALSE)","v":"ACT436"},"Representante del Pueblo Indígena","Delegado Sectorial de la Sociedad Civil","Grupos Étnicos (Afros, Indígenas, Raizales, Palenqueros y ROM)"]
[null,{"$f":"VLOOKUP(C348,[1]instancias_objetos!A:B,2,FALSE)","v":"INST12"},"Consejo Nacional de Planeación",1,{"$f":"VLOOKUP(F348,[1]Hoja4!C:D,2,FALSE)","v":"ACT437"},"Representante del Pueblo Raizal","Delegado Sectorial de la Sociedad Civil","Grupos Étnicos (Afros, Indígenas, Raizales, Palenqueros y ROM)"]
[null,{"$f":"VLOOKUP(C349,[1]instancias_objetos!A:B,2,FALSE)","v":"INST12"},"Consejo Nacional de Planeación",1,{"$f":"VLOOKUP(F349,[1]Hoja4!C:D,2,FALSE)","v":"ACT447"},"Representante del Sector Comunitario","Delegado Sectorial de la Sociedad Civil","Control Social, Transparencia, Comunitario y Veedurías"]
[null,{"$f":"VLOOKUP(C350,[1]instancias_objetos!A:B,2,FALSE)","v":"INST12"},"Consejo Nacional de Planeación",1,{"$f":"VLOOKUP(F350,[1]Hoja4!C:D,2,FALSE)","v":"ACT456"},"Representante del Sector Ecológico","Delegado Sectorial de la Sociedad Civil","Ambiente"]
[null,{"$f":"VLOOKUP(C351,[1]instancias_objetos!A:B,2,FALSE)","v":"INST12"},"Consejo Nacional de Planeación",2,{"$f":"VLOOKUP(F351,[1]Hoja4!C:D,2,FALSE)","v":"ACT457"},"Representante del Sector Educativo","Delegado Sectorial de la Sociedad Civil","Educación"]
[null,{"$f":"VLOOKUP(C352,[1]instancias_objetos!A:B,2,FALSE)","v":"INST12"},"Consejo Nacional de Planeación",2,{"$f":"VLOOKUP(F352,[1]Hoja4!C:D,2,FALSE)","v":"ACT465"},"Representante del Sector Mujeres","Delegado Sectorial de la Sociedad Civil","Poblacional y Género (Niñez, Jóvenes, Mujeres, Adulto Mayor, LGBTI)"]
[null,{"$f":"VLOOKUP(C353,[1]instancias_objetos!A:B,2,FALSE)","v":"INST120"},"Comité evaluador de los Proyectos Piloto de Investigación Integral",1,{"$f":"VLOOKUP(F353,[1]Hoja4!C:D,2,FALSE)","v":"ACT174"},"Ministerio de Ambiente y Desarrollo Sostenible","Sector Público - Nacional","N/A"]
[null,{"$f":"VLOOKUP(C354,[1]instancias_objetos!A:B,2,FALSE)","v":"INST120"},"Comité evaluador de los Proyectos Piloto de Investigación Integral",1,{"$f":"VLOOKUP(F354,[1]Hoja4!C:D,2,FALSE)","v":"ACT180"},"Ministerio de Hacienda y Crédito Público","Sector Público - Nacional","N/A"]
[null,{"$f":"VLOOKUP(C355,[1]instancias_objetos!A:B,2,FALSE)","v":"INST120"},"Comité evaluador de los Proyectos Piloto de Investigación Integral",1,{"$f":"VLOOKUP(F355,[1]Hoja4!C:D,2,FALSE)","v":"ACT182"},"Ministerio de Minas y Energía","Sector Público - Nacional","N/A"]
[null,{"$f":"VLOOKUP(C356,[1]instancias_objetos!A:B,2,FALSE)","v":"INST120"},"Comité evaluador de los Proyectos Piloto de Investigación Integral",1,{"$f":"VLOOKUP(F356,[1]Hoja4!C:D,2,FALSE)","v":"ACT184"},"Ministerio de Salud y Protección Social","Sector Público - Nacional","N/A"]
[null,{"$f":"VLOOKUP(C357,[1]instancias_objetos!A:B,2,FALSE)","v":"INST120"},"Comité evaluador de los Proyectos Piloto de Investigación Integral",1,{"$f":"VLOOKUP(F357,[1]Hoja4!C:D,2,FALSE)","v":"ACT337"},"Representante de las Organizaciones de la Sociedad Civil","Delegado Sectorial de la Sociedad Civil","Control Social, Transparencia, Comunitario y Veedurías"]
[null,{"$f":"VLOOKUP(C358,[1]instancias_objetos!A:B,2,FALSE)","v":"INST120"},"Comité evaluador de los Proyectos Piloto de Investigación Integral",1,{"$f":"VLOOKUP(F358,[1]Hoja4!C:D,2,FALSE)","v":"ACT443"},"Representante del Sector Ambiente vinculado a una universidad acreditada","Delegado Sectorial de la Sociedad Civil","Ambiente"]
[null,{"$f":"VLOOKUP(C359,[1]instancias_objetos!A:B,2,FALSE)","v":"INST120"},"Comité evaluador de los Proyectos Piloto de Investigación Integral",1,{"$f":"VLOOKUP(F359,[1]Hoja4!C:D,2,FALSE)","v":"ACT452"},"Representante del Sector de Hidrocarburos vinculado a una universidad acreditada","Delegado Sectorial de la Sociedad Civil","Ambiente"]
[null,{"$f":"VLOOKUP(C360,[1]instancias_objetos!A:B,2,FALSE)","v":"INST121"},"Comisión Intersectorial de Acompañamiento Técnico y Científico",1,{"$f":"VLOOKUP(F360,[1]Hoja4!C:D,2,FALSE)","v":"ACT08"},"Agencia Nacional de Hidrocarburos","Sector Público - Nacional","N/A"]
[null,{"$f":"VLOOKUP(C361,[1]instancias_objetos!A:B,2,FALSE)","v":"INST121"},"Comisión Intersectorial de Acompañamiento Técnico y Científico",1,{"$f":"VLOOKUP(F361,[1]Hoja4!C:D,2,FALSE)","v":"ACT48"},"Autoridad Nacional de Licencias Ambientales","Sector Público - Nacional","N/A"]
[null,{"$f":"VLOOKUP(C362,[1]instancias_objetos!A:B,2,FALSE)","v":"INST121"},"Comisión Intersectorial de Acompañamiento Técnico y Científico",1,{"$f":"VLOOKUP(F362,[1]Hoja4!C:D,2,FALSE)","v":"ACT160"},"Instituto de Hidrología, Meteorología y Estudios Ambientales","Sector Público - Nacional","N/A"]
[null,{"$f":"VLOOKUP(C363,[1]instancias_objetos!A:B,2,FALSE)","v":"INST121"},"Comisión Intersectorial de Acompañamiento Técnico y Científico",1,{"$f":"VLOOKUP(F363,[1]Hoja4!C:D,2,FALSE)","v":"ACT161"},"Instituto de Investigación de Recursos Biológicos Alexander von Humboldt","Organización de la Sociedad Civil","Ambiente"]
[null,{"$f":"VLOOKUP(C364,[1]instancias_objetos!A:B,2,FALSE)","v":"INST121"},"Comisión Intersectorial de Acompañamiento Técnico y Científico",1,{"$f":"VLOOKUP(F364,[1]Hoja4!C:D,2,FALSE)","v":"ACT174"},"Ministerio de Ambiente y Desarrollo Sostenible","Sector Público - Nacional","N/A"]
[null,{"$f":"VLOOKUP(C365,[1]instancias_objetos!A:B,2,FALSE)","v":"INST121"},"Comisión Intersectorial de Acompañamiento Técnico y Científico",1,{"$f":"VLOOKUP(F365,[1]Hoja4!C:D,2,FALSE)","v":"ACT175"},"Ministerio de Ciencia, Tecnología e Innovación","Sector Público - Nacional","N/A"]
[null,{"$f":"VLOOKUP(C366,[1]instancias_objetos!A:B,2,FALSE)","v":"INST121"},"Comisión Intersectorial de Acompañamiento Técnico y Científico",1,{"$f":"VLOOKUP(F366,[1]Hoja4!C:D,2,FALSE)","v":"ACT180"},"Ministerio de Hacienda y Crédito Público","Sector Público - Nacional","N/A"]
[null,{"$f":"VLOOKUP(C367,[1]instancias_objetos!A:B,2,FALSE)","v":"INST121"},"Comisión Intersectorial de Acompañamiento Técnico y Científico",1,{"$f":"VLOOKUP(F367,[1]Hoja4!C:D,2,FALSE)","v":"ACT182"},"Ministerio de Minas y Energía","Sector Público - Nacional","N/A"]
[null,{"$f":"VLOOKUP(C368,[1]instancias_objetos!A:B,2,FALSE)","v":"INST121"},"Comisión Intersectorial de Acompañamiento Técnico y Científico",1,{"$f":"VLOOKUP(F368,[1]Hoja4!C:D,2,FALSE)","v":"ACT184"},"Ministerio de Salud y Protección Social","Sector Público - Nacional","N/A"]
[null,{"$f":"VLOOKUP(C369,[1]instancias_objetos!A:B,2,FALSE)","v":"INST121"},"Comisión Intersectorial de Acompañamiento Técnico y Científico",1,{"$f":"VLOOKUP(F369,[1]Hoja4!C:D,2,FALSE)","v":"ACT189"},"Ministerio del Interior","Sector Público - Nacional","N/A"]
[null,{"$f":"VLOOKUP(C370,[1]instancias_objetos!A:B,2,FALSE)","v":"INST121"},"Comisión Intersectorial de Acompañamiento Técnico y Científico",1,{"$f":"VLOOKUP(F370,[1]Hoja4!C:D,2,FALSE)","v":"ACT210"},"Presidencia de la República","Sector Público - Nacional","N/A"]
[null,{"$f":"VLOOKUP(C371,[1]instancias_objetos!A:B,2,FALSE)","v":"INST121"},"Comisión Intersectorial de Acompañamiento Técnico y Científico",2,{"$f":"VLOOKUP(F371,[1]Hoja4!C:D,2,FALSE)","v":"ACT439"},"Representante del Sector Académico y Cientifico","Delegado Sectorial de la Sociedad Civil","Ciencia y Tecnología"]
[null,{"$f":"VLOOKUP(C372,[1]instancias_objetos!A:B,2,FALSE)","v":"INST121"},"Comisión Intersectorial de Acompañamiento Técnico y Científico",1,{"$f":"VLOOKUP(F372,[1]Hoja4!C:D,2,FALSE)","v":"ACT485"},"Servicio Geológico Colombiano","Sector Público - Nacional","N/A"]
[null,{"$f":"VLOOKUP(C373,[1]instancias_objetos!A:B,2,FALSE)","v":"INST122"},"Consejo Nacional de Planeación Lingüística de la Lengua de Señas Colombiana",1,{"$f":"VLOOKUP(F373,[1]Hoja4!C:D,2,FALSE)","v":"ACT142"},"Federación Nacional de Interpretes de Colombia","Organización de la Sociedad Civil","Discapacidad"]
[null,{"$f":"VLOOKUP(C374,[1]instancias_objetos!A:B,2,FALSE)","v":"INST122"},"Consejo Nacional de Planeación Lingüística de la Lengua de Señas Colombiana",1,{"$f":"VLOOKUP(F374,[1]Hoja4!C:D,2,FALSE)","v":"ACT153"},"Instituto Caro y Cuervo","Sector Público - Nacional","N/A"]
[null,{"$f":"VLOOKUP(C375,[1]instancias_objetos!A:B,2,FALSE)","v":"INST122"},"Consejo Nacional de Planeación Lingüística de la Lengua de Señas Colombiana",1,{"$f":"VLOOKUP(F375,[1]Hoja4!C:D,2,FALSE)","v":"ACT169"},"Instituto Nacional para Sordos","Sector Público - Nacional","N/A"]
[null,{"$f":"VLOOKUP(C376,[1]instancias_objetos!A:B,2,FALSE)","v":"INST122"},"Consejo Nacional de Planeación Lingüística de la Lengua de Señas Colombiana",1,{"$f":"VLOOKUP(F376,[1]Hoja4!C:D,2,FALSE)","v":"ACT177"},"Ministerio de Cultura de Colombia","Sector Público - Nacional","N/A"]
[null,{"$f":"VLOOKUP(C377,[1]instancias_objetos!A:B,2,FALSE)","v":"INST122"},"Consejo Nacional de Planeación Lingüística de la Lengua de Señas Colombiana",1,{"$f":"VLOOKUP(F377,[1]Hoja4!C:D,2,FALSE)","v":"ACT179"},"Ministerio de Educación Nacional","Sector Público - Nacional","N/A"]
[null,{"$f":"VLOOKUP(C378,[1]instancias_objetos!A:B,2,FALSE)","v":"INST122"},"Consejo Nacional de Planeación Lingüística de la Lengua de Señas Colombiana",1,{"$f":"VLOOKUP(F378,[1]Hoja4!C:D,2,FALSE)","v":"ACT185"},"Ministerio de Tecnologías de la Información y las Comunicaciones","Sector Público - Nacional","N/A"]
[null,{"$f":"VLOOKUP(C379,[1]instancias_objetos!A:B,2,FALSE)","v":"INST122"},"Consejo Nacional de Planeación Lingüística de la Lengua de Señas Colombiana",1,{"$f":"VLOOKUP(F379,[1]Hoja4!C:D,2,FALSE)","v":"ACT190"},"Ministerio del Trabajo","Sector Público - Nacional","N/A"]
[null,{"$f":"VLOOKUP(C380,[1]instancias_objetos!A:B,2,FALSE)","v":"INST122"},"Consejo Nacional de Planeación Lingüística de la Lengua de Señas Colombiana",2,{"$f":"VLOOKUP(F380,[1]Hoja4!C:D,2,FALSE)","v":"ACT242"},"Representante de estudiantes sordos de instituciones de educación superior","Delegado Sectorial de la Sociedad Civil","Educación"]
[null,{"$f":"VLOOKUP(C381,[1]instancias_objetos!A:B,2,FALSE)","v":"INST122"},"Consejo Nacional de Planeación Lingüística de la Lengua de Señas Colombiana",1,{"$f":"VLOOKUP(F381,[1]Hoja4!C:D,2,FALSE)","v":"ACT245"},"Representante de Grupos Étnicos que manejen lenguaje de señas","Delegado Sectorial de la Sociedad Civil","Grupos Étnicos (Afros, Indígenas, Raizales, Palenqueros y ROM)"]
[null,{"$f":"VLOOKUP(C382,[1]instancias_objetos!A:B,2,FALSE)","v":"INST122"},"Consejo Nacional de Planeación Lingüística de la Lengua de Señas Colombiana",2,{"$f":"VLOOKUP(F382,[1]Hoja4!C:D,2,FALSE)","v":"ACT305"},"Representante de las Instituciones de Educación Superior con investigación en LSC","Delegado Sectorial de la Sociedad Civil","Educación"]
[null,{"$f":"VLOOKUP(C383,[1]instancias_objetos!A:B,2,FALSE)","v":"INST122"},"Consejo Nacional de Planeación Lingüística de la Lengua de Señas Colombiana",1,{"$f":"VLOOKUP(F383,[1]Hoja4!C:D,2,FALSE)","v":"ACT308"},"Representante de las Instituciones de Educación Superior donde se enseñe LSC como complemento al proceso de formación","Delegado Sectorial de la Sociedad Civil","Educación"]
[null,{"$f":"VLOOKUP(C384,[1]instancias_objetos!A:B,2,FALSE)","v":"INST122"},"Consejo Nacional de Planeación Lingüística de la Lengua de Señas Colombiana",2,{"$f":"VLOOKUP(F384,[1]Hoja4!C:D,2,FALSE)","v":"ACT342"},"Representante de las Organizaciones de personas con discapacidad auditiva","Delegado Sectorial de la Sociedad Civil","Discapacidad"]
[null,{"$f":"VLOOKUP(C385,[1]instancias_objetos!A:B,2,FALSE)","v":"INST122"},"Consejo Nacional de Planeación Lingüística de la Lengua de Señas Colombiana",1,{"$f":"VLOOKUP(F385,[1]Hoja4!C:D,2,FALSE)","v":"ACT381"},"Representante de los egresados sordos de instituciones de educación superior","Delegado Sectorial de la Sociedad Civil","Discapacidad"]
[null,{"$f":"VLOOKUP(C386,[1]instancias_objetos!A:B,2,FALSE)","v":"INST13"},"Consejo Nacional de Riesgos Laborales (antes Riesgos Profesionales)",1,{"$f":"VLOOKUP(F386,[1]Hoja4!C:D,2,FALSE)","v":"ACT19"},"Aseguradoras de Riesgos Profesionales","Sector Privado","Trabajo"]
[null,{"$f":"VLOOKUP(C387,[1]instancias_objetos!A:B,2,FALSE)","v":"INST13"},"Consejo Nacional de Riesgos Laborales (antes Riesgos Profesionales)",1,{"$f":"VLOOKUP(F387,[1]Hoja4!C:D,2,FALSE)","v":"ACT163"},"Instituto de Seguros Sociales","Sector Público - Nacional","N/A"]
[null,{"$f":"VLOOKUP(C388,[1]instancias_objetos!A:B,2,FALSE)","v":"INST13"},"Consejo Nacional de Riesgos Laborales (antes Riesgos Profesionales)",1,{"$f":"VLOOKUP(F388,[1]Hoja4!C:D,2,FALSE)","v":"ACT184"},"Ministerio de Salud y Protección Social","Sector Público - Nacional","N/A"]
[null,{"$f":"VLOOKUP(C389,[1]instancias_objetos!A:B,2,FALSE)","v":"INST13"},"Consejo Nacional de Riesgos Laborales (antes Riesgos Profesionales)",1,{"$f":"VLOOKUP(F389,[1]Hoja4!C:D,2,FALSE)","v":"ACT190"},"Ministerio del Trabajo","Sector Público - Nacional","N/A"]
[null,{"$f":"VLOOKUP(C390,[1]instancias_objetos!A:B,2,FALSE)","v":"INST13"},"Consejo Nacional de Riesgos Laborales (antes Riesgos Profesionales)",1,{"$f":"VLOOKUP(F390,[1]Hoja4!C:D,2,FALSE)","v":"ACT210"},"Presidencia de la República","Sector Público - Nacional","N/A"]
[null,{"$f":"VLOOKUP(C391,[1]instancias_objetos!A:B,2,FALSE)","v":"INST13"},"Consejo Nacional de Riesgos Laborales (antes Riesgos Profesionales)",1,{"$f":"VLOOKUP(F391,[1]Hoja4!C:D,2,FALSE)","v":"ACT265"},"Representante de las Asociaciones Científicas de Salud Ocupacional","Delegado Sectorial de la Sociedad Civil","Salud"]
[null,{"$f":"VLOOKUP(C392,[1]instancias_objetos!A:B,2,FALSE)","v":"INST13"},"Consejo Nacional de Riesgos Laborales (antes Riesgos Profesionales)",2,{"$f":"VLOOKUP(F392,[1]Hoja4!C:D,2,FALSE)","v":"ACT382"},"Representante de los Empleadores","Delegado Sectorial de la Sociedad Civil","Comercio"]
[null,{"$f":"VLOOKUP(C393,[1]instancias_objetos!A:B,2,FALSE)","v":"INST13"},"Consejo Nacional de Riesgos Laborales (antes Riesgos Profesionales)",2,{"$f":"VLOOKUP(F393,[1]Hoja4!C:D,2,FALSE)","v":"ACT410"},"Representante de los Trabajadores","Delegado Sectorial de la Sociedad Civil","Comercio"]
[null,{"$f":"VLOOKUP(C394,[1]instancias_objetos!A:B,2,FALSE)","v":"INST14"},"Junta Nacional de Educación",1,{"$f":"VLOOKUP(F394,[1]Hoja4!C:D,2,FALSE)","v":"ACT50"},"Autoridades Locales","Sector Público - Territorial","N/A"]
[null,{"$f":"VLOOKUP(C395,[1]instancias_objetos!A:B,2,FALSE)","v":"INST14"},"Junta Nacional de Educación",1,{"$f":"VLOOKUP(F395,[1]Hoja4!C:D,2,FALSE)","v":"ACT50"},"Autoridades Locales","Sector Público - Territorial","N/A"]
[null,{"$f":"VLOOKUP(C396,[1]instancias_objetos!A:B,2,FALSE)","v":"INST14"},"Junta Nacional de Educación",1,{"$f":"VLOOKUP(F396,[1]Hoja4!C:D,2,FALSE)","v":"ACT179"},"Ministerio de Educación Nacional","Sector Público - Nacional","N/A"]
[null,{"$f":"VLOOKUP(C397,[1]instancias_objetos!A:B,2,FALSE)","v":"INST14"},"Junta Nacional de Educación",1,{"$f":"VLOOKUP(F397,[1]Hoja4!C:D,2,FALSE)","v":"ACT309"},"Representante de las Instituciones dedicadas a la Investigación Educativa","Delegado Sectorial de la Sociedad Civil","Educación"]
[null,{"$f":"VLOOKUP(C398,[1]instancias_objetos!A:B,2,FALSE)","v":"INST14"},"Junta Nacional de Educación",2,{"$f":"VLOOKUP(F398,[1]Hoja4!C:D,2,FALSE)","v":"ACT439"},"Representante del Sector Académico y Cientifico","Delegado Sectorial de la Sociedad Civil","Educación"]
[null,{"$f":"VLOOKUP(C399,[1]instancias_objetos!A:B,2,FALSE)","v":"INST15"},"Comisión Nacional Ciudadana para la Lucha contra la Corrupción",1,{"$f":"VLOOKUP(F399,[1]Hoja4!C:D,2,FALSE)","v":"ACT71"},"Confederación Colombiana de Libertad Religiosa, Conciencia y Culto","Organización de la Sociedad Civil","Iglesias"]
[null,{"$f":"VLOOKUP(C400,[1]instancias_objetos!A:B,2,FALSE)","v":"INST15"},"Comisión Nacional Ciudadana para la Lucha contra la Corrupción",1,{"$f":"VLOOKUP(F400,[1]Hoja4!C:D,2,FALSE)","v":"ACT324"},"Representante de las ONGs dedicadas a la lucha contra la corrupción","Delegado Sectorial de la Sociedad Civil","Control Social, Transparencia, Comunitario y Veedurías"]
[null,{"$f":"VLOOKUP(C401,[1]instancias_objetos!A:B,2,FALSE)","v":"INST15"},"Comisión Nacional Ciudadana para la Lucha contra la Corrupción",1,{"$f":"VLOOKUP(F401,[1]Hoja4!C:D,2,FALSE)","v":"ACT356"},"Representante de las Universidades","Delegado Sectorial de la Sociedad Civil","Educación"]
[null,{"$f":"VLOOKUP(C402,[1]instancias_objetos!A:B,2,FALSE)","v":"INST15"},"Comisión Nacional Ciudadana para la Lucha contra la Corrupción",1,{"$f":"VLOOKUP(F402,[1]Hoja4!C:D,2,FALSE)","v":"ACT360"},"Representante de las Veedurías Ciudadanas","Delegado Sectorial de la Sociedad Civil","Control Social, Transparencia, Comunitario y Veedurías"]
[null,{"$f":"VLOOKUP(C403,[1]instancias_objetos!A:B,2,FALSE)","v":"INST15"},"Comisión Nacional Ciudadana para la Lucha contra la Corrupción",1,{"$f":"VLOOKUP(F403,[1]Hoja4!C:D,2,FALSE)","v":"ACT389"},"Representante de los Gremios Económicos y Empresariales","Sector Privado","Comercio"]
[null,{"$f":"VLOOKUP(C404,[1]instancias_objetos!A:B,2,FALSE)","v":"INST15"},"Comisión Nacional Ciudadana para la Lucha contra la Corrupción",1,{"$f":"VLOOKUP(F404,[1]Hoja4!C:D,2,FALSE)","v":"ACT396"},"Representante de los Medios de Comunicación masivos","Delegado Sectorial de la Sociedad Civil","Comunicaciones e Información"]
[null,{"$f":"VLOOKUP(C405,[1]instancias_objetos!A:B,2,FALSE)","v":"INST15"},"Comisión Nacional Ciudadana para la Lucha contra la Corrupción",1,{"$f":"VLOOKUP(F405,[1]Hoja4!C:D,2,FALSE)","v":"ACT429"},"Representante del Consejo Nacional de Planeación","Delegado Sectorial de la Sociedad Civil","Planeación y Presupuestación"]
[null,{"$f":"VLOOKUP(C406,[1]instancias_objetos!A:B,2,FALSE)","v":"INST15"},"Comisión Nacional Ciudadana para la Lucha contra la Corrupción",1,{"$f":"VLOOKUP(F406,[1]Hoja4!C:D,2,FALSE)","v":"ACT469"},"Representante del Sector Sindical","Delegado Sectorial de la Sociedad Civil","Trabajo"]
[null,{"$f":"VLOOKUP(C407,[1]instancias_objetos!A:B,2,FALSE)","v":"INST16"},"Comisión Pedagógica Nacional",12,{"$f":"VLOOKUP(F407,[1]Hoja4!C:D,2,FALSE)","v":"ACT50"},"Autoridades Locales","Sector Público - Territorial","N/A"]
[null,{"$f":"VLOOKUP(C408,[1]instancias_objetos!A:B,2,FALSE)","v":"INST16"},"Comisión Pedagógica Nacional",1,{"$f":"VLOOKUP(F408,[1]Hoja4!C:D,2,FALSE)","v":"ACT50"},"Autoridades Locales","Sector Público - Territorial","N/A"]
[null,{"$f":"VLOOKUP(C409,[1]instancias_objetos!A:B,2,FALSE)","v":"INST16"},"Comisión Pedagógica Nacional",1,{"$f":"VLOOKUP(F409,[1]Hoja4!C:D,2,FALSE)","v":"ACT90"},"Consejo Nacional de Educación Superior","Organización de la Sociedad Civil","Educación"]
[null,{"$f":"VLOOKUP(C410,[1]instancias_objetos!A:B,2,FALSE)","v":"INST16"},"Comisión Pedagógica Nacional",1,{"$f":"VLOOKUP(F410,[1]Hoja4!C:D,2,FALSE)","v":"ACT177"},"Ministerio de Cultura de Colombia","Sector Público - Nacional","N/A"]
[null,{"$f":"VLOOKUP(C411,[1]instancias_objetos!A:B,2,FALSE)","v":"INST16"},"Comisión Pedagógica Nacional",1,{"$f":"VLOOKUP(F411,[1]Hoja4!C:D,2,FALSE)","v":"ACT179"},"Ministerio de Educación Nacional","Sector Público - Nacional","N/A"]
[null,{"$f":"VLOOKUP(C412,[1]instancias_objetos!A:B,2,FALSE)","v":"INST16"},"Comisión Pedagógica Nacional",1,{"$f":"VLOOKUP(F412,[1]Hoja4!C:D,2,FALSE)","v":"ACT179"},"Ministerio de Educación Nacional","Sector Público - Nacional","N/A"]
[null,{"$f":"VLOOKUP(C413,[1]instancias_objetos!A:B,2,FALSE)","v":"INST16"},"Comisión Pedagógica Nacional",1,{"$f":"VLOOKUP(F413,[1]Hoja4!C:D,2,FALSE)","v":"ACT189"},"Ministerio del Interior","Sector Público - Nacional","N/A"]
[null,{"$f":"VLOOKUP(C414,[1]instancias_objetos!A:B,2,FALSE)","v":"INST16"},"Comisión Pedagógica Nacional",3,{"$f":"VLOOKUP(F414,[1]Hoja4!C:D,2,FALSE)","v":"ACT258"},"Representante de la Sociedad Civil","Delegado Sectorial de la Sociedad Civil","Control Social, Transparencia, Comunitario y Veedurías"]
[null,{"$f":"VLOOKUP(C415,[1]instancias_objetos!A:B,2,FALSE)","v":"INST17"},"Comité Interinstitucional para la Erradicación del Trabajo Infantil y la Protección del Menor Trabajador",1,{"$f":"VLOOKUP(F415,[1]Hoja4!C:D,2,FALSE)","v":"ACT89"},"Consejo Gremial Nacional","Sector Privado","Competitividad, Financiero y Sector Privado"]
[null,{"$f":"VLOOKUP(C416,[1]instancias_objetos!A:B,2,FALSE)","v":"INST17"},"Comité Interinstitucional para la Erradicación del Trabajo Infantil y la Protección del Menor Trabajador",1,{"$f":"VLOOKUP(F416,[1]Hoja4!C:D,2,FALSE)","v":"ACT126"},"Departamento Nacional de Planeación","Sector Público - Nacional","N/A"]
[null,{"$f":"VLOOKUP(C417,[1]instancias_objetos!A:B,2,FALSE)","v":"INST17"},"Comité Interinstitucional para la Erradicación del Trabajo Infantil y la Protección del Menor Trabajador",1,{"$f":"VLOOKUP(F417,[1]Hoja4!C:D,2,FALSE)","v":"ACT157"},"Instituto Colombiano de Bienestar Familiar","Sector Público - Nacional","N/A"]
[null,{"$f":"VLOOKUP(C418,[1]instancias_objetos!A:B,2,FALSE)","v":"INST17"},"Comité Interinstitucional para la Erradicación del Trabajo Infantil y la Protección del Menor Trabajador",1,{"$f":"VLOOKUP(F418,[1]Hoja4!C:D,2,FALSE)","v":"ACT179"},"Ministerio de Educación Nacional","Sector Público - Nacional","N/A"]
[null,{"$f":"VLOOKUP(C419,[1]instancias_objetos!A:B,2,FALSE)","v":"INST17"},"Comité Interinstitucional para la Erradicación del Trabajo Infantil y la Protección del Menor Trabajador",1,{"$f":"VLOOKUP(F419,[1]Hoja4!C:D,2,FALSE)","v":"ACT184"},"Ministerio de Salud y Protección Social","Sector Público - Nacional","N/A"]
[null,{"$f":"VLOOKUP(C420,[1]instancias_objetos!A:B,2,FALSE)","v":"INST17"},"Comité Interinstitucional para la Erradicación del Trabajo Infantil y la Protección del Menor Trabajador",1,{"$f":"VLOOKUP(F420,[1]Hoja4!C:D,2,FALSE)","v":"ACT185"},"Ministerio de Tecnologías de la Información y las Comunicaciones","Sector Público - Nacional","N/A"]
[null,{"$f":"VLOOKUP(C421,[1]instancias_objetos!A:B,2,FALSE)","v":"INST17"},"Comité Interinstitucional para la Erradicación del Trabajo Infantil y la Protección del Menor Trabajador",1,{"$f":"VLOOKUP(F421,[1]Hoja4!C:D,2,FALSE)","v":"ACT188"},"Ministerio del Deporte","Sector Público - Nacional","N/A"]
[null,{"$f":"VLOOKUP(C422,[1]instancias_objetos!A:B,2,FALSE)","v":"INST17"},"Comité Interinstitucional para la Erradicación del Trabajo Infantil y la Protección del Menor Trabajador",1,{"$f":"VLOOKUP(F422,[1]Hoja4!C:D,2,FALSE)","v":"ACT190"},"Ministerio del Trabajo","Sector Público - Nacional","N/A"]
[null,{"$f":"VLOOKUP(C423,[1]instancias_objetos!A:B,2,FALSE)","v":"INST17"},"Comité Interinstitucional para la Erradicación del Trabajo Infantil y la Protección del Menor Trabajador",1,{"$f":"VLOOKUP(F423,[1]Hoja4!C:D,2,FALSE)","v":"ACT198"},"Organización Internacional del Trabajo ","Organismo Multilateral","N/A"]
[null,{"$f":"VLOOKUP(C424,[1]instancias_objetos!A:B,2,FALSE)","v":"INST17"},"Comité Interinstitucional para la Erradicación del Trabajo Infantil y la Protección del Menor Trabajador",1,{"$f":"VLOOKUP(F424,[1]Hoja4!C:D,2,FALSE)","v":"ACT210"},"Presidencia de la República","Sector Público - Nacional","N/A"]
[null,{"$f":"VLOOKUP(C425,[1]instancias_objetos!A:B,2,FALSE)","v":"INST17"},"Comité Interinstitucional para la Erradicación del Trabajo Infantil y la Protección del Menor Trabajador",1,{"$f":"VLOOKUP(F425,[1]Hoja4!C:D,2,FALSE)","v":"ACT288"},"Representante de las Centrales Obreras","Delegado Sectorial de la Sociedad Civil","Comercio"]
[null,{"$f":"VLOOKUP(C426,[1]instancias_objetos!A:B,2,FALSE)","v":"INST17"},"Comité Interinstitucional para la Erradicación del Trabajo Infantil y la Protección del Menor Trabajador",1,{"$f":"VLOOKUP(F426,[1]Hoja4!C:D,2,FALSE)","v":"ACT486"},"Servicio Nacional de Aprendizaje","Sector Público - Nacional","N/A"]
[null,{"$f":"VLOOKUP(C427,[1]instancias_objetos!A:B,2,FALSE)","v":"INST18"},"Comisión de Derechos Humanos de los Pueblos Indígenas",1,{"$f":"VLOOKUP(F427,[1]Hoja4!C:D,2,FALSE)","v":"ACT76"},"Confederación Indígena Tairona","Organización de la Sociedad Civil","Grupos Étnicos (Afros, Indígenas, Raizales, Palenqueros y ROM)"]
[null,{"$f":"VLOOKUP(C428,[1]instancias_objetos!A:B,2,FALSE)","v":"INST18"},"Comisión de Derechos Humanos de los Pueblos Indígenas",1,{"$f":"VLOOKUP(F428,[1]Hoja4!C:D,2,FALSE)","v":"ACT86"},"Consejería Presidencial para los Derechos Humanos","Sector Público - Nacional","N/A"]
[null,{"$f":"VLOOKUP(C429,[1]instancias_objetos!A:B,2,FALSE)","v":"INST18"},"Comisión de Derechos Humanos de los Pueblos Indígenas",1,{"$f":"VLOOKUP(F429,[1]Hoja4!C:D,2,FALSE)","v":"ACT121"},"Defensoría del Pueblo","Sector Público - Nacional","N/A"]
[null,{"$f":"VLOOKUP(C430,[1]instancias_objetos!A:B,2,FALSE)","v":"INST18"},"Comisión de Derechos Humanos de los Pueblos Indígenas",1,{"$f":"VLOOKUP(F430,[1]Hoja4!C:D,2,FALSE)","v":"ACT144"},"Fiscalía General de la Nación","Sector Público - Nacional","N/A"]
[null,{"$f":"VLOOKUP(C431,[1]instancias_objetos!A:B,2,FALSE)","v":"INST18"},"Comisión de Derechos Humanos de los Pueblos Indígenas",1,{"$f":"VLOOKUP(F431,[1]Hoja4!C:D,2,FALSE)","v":"ACT178"},"Ministerio de Defensa Nacional","Sector Público - Nacional","N/A"]
[null,{"$f":"VLOOKUP(C432,[1]instancias_objetos!A:B,2,FALSE)","v":"INST18"},"Comisión de Derechos Humanos de los Pueblos Indígenas",1,{"$f":"VLOOKUP(F432,[1]Hoja4!C:D,2,FALSE)","v":"ACT181"},"Ministerio de Justicia y del Derecho","Sector Público - Nacional","N/A"]
[null,{"$f":"VLOOKUP(C433,[1]instancias_objetos!A:B,2,FALSE)","v":"INST18"},"Comisión de Derechos Humanos de los Pueblos Indígenas",1,{"$f":"VLOOKUP(F433,[1]Hoja4!C:D,2,FALSE)","v":"ACT189"},"Ministerio del Interior","Sector Público - Nacional","N/A"]
[null,{"$f":"VLOOKUP(C434,[1]instancias_objetos!A:B,2,FALSE)","v":"INST18"},"Comisión de Derechos Humanos de los Pueblos Indígenas",1,{"$f":"VLOOKUP(F434,[1]Hoja4!C:D,2,FALSE)","v":"ACT199"},"Organización Nacional de los Pueblos Indígenas de la Amazonía Colombiana","Organización de la Sociedad Civil","Grupos Étnicos (Afros, Indígenas, Raizales, Palenqueros y ROM)"]
[null,{"$f":"VLOOKUP(C435,[1]instancias_objetos!A:B,2,FALSE)","v":"INST18"},"Comisión de Derechos Humanos de los Pueblos Indígenas",1,{"$f":"VLOOKUP(F435,[1]Hoja4!C:D,2,FALSE)","v":"ACT200"},"Organización Nacional Indígena de Colombia","Organización de la Sociedad Civil","Grupos Étnicos (Afros, Indígenas, Raizales, Palenqueros y ROM)"]
[null,{"$f":"VLOOKUP(C436,[1]instancias_objetos!A:B,2,FALSE)","v":"INST18"},"Comisión de Derechos Humanos de los Pueblos Indígenas",1,{"$f":"VLOOKUP(F436,[1]Hoja4!C:D,2,FALSE)","v":"ACT214"},"Procuraduría General de la Nación","Sector Público - Nacional","N/A"]
[null,{"$f":"VLOOKUP(C437,[1]instancias_objetos!A:B,2,FALSE)","v":"INST18"},"Comisión de Derechos Humanos de los Pueblos Indígenas",1,{"$f":"VLOOKUP(F437,[1]Hoja4!C:D,2,FALSE)","v":"ACT436"},"Representante del Pueblo Indígena","Delegado Sectorial de la Sociedad Civil","Grupos Étnicos (Afros, Indígenas, Raizales, Palenqueros y ROM)"]
[null,{"$f":"VLOOKUP(C438,[1]instancias_objetos!A:B,2,FALSE)","v":"INST18"},"Comisión de Derechos Humanos de los Pueblos Indígenas",2,{"$f":"VLOOKUP(F438,[1]Hoja4!C:D,2,FALSE)","v":"ACT484"},"Senador Indígena","Sector Público - Nacional","N/A"]
[null,{"$f":"VLOOKUP(C439,[1]instancias_objetos!A:B,2,FALSE)","v":"INST19"},"Comisión Nacional de Territorios Indígenas",3,{"$f":"VLOOKUP(F439,[1]Hoja4!C:D,2,FALSE)","v":"ACT12"},"Agencia Nacional de Tierras","Sector Público - Nacional","N/A"]
[null,{"$f":"VLOOKUP(C440,[1]instancias_objetos!A:B,2,FALSE)","v":"INST19"},"Comisión Nacional de Territorios Indígenas",1,{"$f":"VLOOKUP(F440,[1]Hoja4!C:D,2,FALSE)","v":"ACT76"},"Confederación Indígena Tairona","Organización de la Sociedad Civil","Grupos Étnicos (Afros, Indígenas, Raizales, Palenqueros y ROM)"]
[null,{"$f":"VLOOKUP(C441,[1]instancias_objetos!A:B,2,FALSE)","v":"INST19"},"Comisión Nacional de Territorios Indígenas",1,{"$f":"VLOOKUP(F441,[1]Hoja4!C:D,2,FALSE)","v":"ACT126"},"Departamento Nacional de Planeación","Sector Público - Nacional","N/A"]
[null,{"$f":"VLOOKUP(C442,[1]instancias_objetos!A:B,2,FALSE)","v":"INST19"},"Comisión Nacional de Territorios Indígenas",1,{"$f":"VLOOKUP(F442,[1]Hoja4!C:D,2,FALSE)","v":"ACT173"},"Ministerio de Agricultura y Desarrollo Rural","Sector Público - Nacional","N/A"]
[null,{"$f":"VLOOKUP(C443,[1]instancias_objetos!A:B,2,FALSE)","v":"INST19"},"Comisión Nacional de Territorios Indígenas",1,{"$f":"VLOOKUP(F443,[1]Hoja4!C:D,2,FALSE)","v":"ACT180"},"Ministerio de Hacienda y Crédito Público","Sector Público - Nacional","N/A"]
[null,{"$f":"VLOOKUP(C444,[1]instancias_objetos!A:B,2,FALSE)","v":"INST19"},"Comisión Nacional de Territorios Indígenas",1,{"$f":"VLOOKUP(F444,[1]Hoja4!C:D,2,FALSE)","v":"ACT189"},"Ministerio del Interior","Sector Público - Nacional","N/A"]
[null,{"$f":"VLOOKUP(C445,[1]instancias_objetos!A:B,2,FALSE)","v":"INST19"},"Comisión Nacional de Territorios Indígenas",1,{"$f":"VLOOKUP(F445,[1]Hoja4!C:D,2,FALSE)","v":"ACT199"},"Organización Nacional de los Pueblos Indígenas de la Amazonía Colombiana","Organización de la Sociedad Civil","Grupos Étnicos (Afros, Indígenas, Raizales, Palenqueros y ROM)"]
[null,{"$f":"VLOOKUP(C446,[1]instancias_objetos!A:B,2,FALSE)","v":"INST19"},"Comisión Nacional de Territorios Indígenas",1,{"$f":"VLOOKUP(F446,[1]Hoja4!C:D,2,FALSE)","v":"ACT200"},"Organización Nacional Indígena de Colombia","Organización de la Sociedad Civil","Grupos Étnicos (Afros, Indígenas, Raizales, Palenqueros y ROM)"]
[null,{"$f":"VLOOKUP(C447,[1]instancias_objetos!A:B,2,FALSE)","v":"INST19"},"Comisión Nacional de Territorios Indígenas",5,{"$f":"VLOOKUP(F447,[1]Hoja4!C:D,2,FALSE)","v":"ACT481"},"Representante por macrorregión CORPES","Sector Público - Territorial","N/A"]
[null,{"$f":"VLOOKUP(C448,[1]instancias_objetos!A:B,2,FALSE)","v":"INST19"},"Comisión Nacional de Territorios Indígenas",2,{"$f":"VLOOKUP(F448,[1]Hoja4!C:D,2,FALSE)","v":"ACT484"},"Senador Indígena","Sector Público - Nacional","N/A"]
[null,{"$f":"VLOOKUP(C449,[1]instancias_objetos!A:B,2,FALSE)","v":"INST20"},"Comisión Permanente de Concertación de Políticas Salariales y Laborales",1,{"$f":"VLOOKUP(F449,[1]Hoja4!C:D,2,FALSE)","v":"ACT126"},"Departamento Nacional de Planeación","Sector Público - Nacional","N/A"]
[null,{"$f":"VLOOKUP(C450,[1]instancias_objetos!A:B,2,FALSE)","v":"INST20"},"Comisión Permanente de Concertación de Políticas Salariales y Laborales",1,{"$f":"VLOOKUP(F450,[1]Hoja4!C:D,2,FALSE)","v":"ACT173"},"Ministerio de Agricultura y Desarrollo Rural","Sector Público - Nacional","N/A"]
[null,{"$f":"VLOOKUP(C451,[1]instancias_objetos!A:B,2,FALSE)","v":"INST20"},"Comisión Permanente de Concertación de Políticas Salariales y Laborales",1,{"$f":"VLOOKUP(F451,[1]Hoja4!C:D,2,FALSE)","v":"ACT176"},"Ministerio de Comercio, Industria y Turismo","Sector Público - Nacional","N/A"]
[null,{"$f":"VLOOKUP(C452,[1]instancias_objetos!A:B,2,FALSE)","v":"INST20"},"Comisión Permanente de Concertación de Políticas Salariales y Laborales",1,{"$f":"VLOOKUP(F452,[1]Hoja4!C:D,2,FALSE)","v":"ACT180"},"Ministerio de Hacienda y Crédito Público","Sector Público - Nacional","N/A"]
[null,{"$f":"VLOOKUP(C453,[1]instancias_objetos!A:B,2,FALSE)","v":"INST20"},"Comisión Permanente de Concertación de Políticas Salariales y Laborales",1,{"$f":"VLOOKUP(F453,[1]Hoja4!C:D,2,FALSE)","v":"ACT190"},"Ministerio del Trabajo","Sector Público - Nacional","N/A"]
[null,{"$f":"VLOOKUP(C454,[1]instancias_objetos!A:B,2,FALSE)","v":"INST20"},"Comisión Permanente de Concertación de Políticas Salariales y Laborales",1,{"$f":"VLOOKUP(F454,[1]Hoja4!C:D,2,FALSE)","v":"ACT268"},"Representante de las Asociaciones de Desempleados en Colombia","Delegado Sectorial de la Sociedad Civil","Competitividad, Financiero y Sector Privado"]
[null,{"$f":"VLOOKUP(C455,[1]instancias_objetos!A:B,2,FALSE)","v":"INST20"},"Comisión Permanente de Concertación de Políticas Salariales y Laborales",5,{"$f":"VLOOKUP(F455,[1]Hoja4!C:D,2,FALSE)","v":"ACT282"},"Representante de las Asociaciones Nacionales Gremiales de Empleadores","Delegado Sectorial de la Sociedad Civil","Competitividad, Financiero y Sector Privado"]
[null,{"$f":"VLOOKUP(C456,[1]instancias_objetos!A:B,2,FALSE)","v":"INST20"},"Comisión Permanente de Concertación de Políticas Salariales y Laborales",1,{"$f":"VLOOKUP(F456,[1]Hoja4!C:D,2,FALSE)","v":"ACT291"},"Representante de las Confederaciones de Pensionados","Delegado Sectorial de la Sociedad Civil","Trabajo"]
[null,{"$f":"VLOOKUP(C457,[1]instancias_objetos!A:B,2,FALSE)","v":"INST20"},"Comisión Permanente de Concertación de Políticas Salariales y Laborales",3,{"$f":"VLOOKUP(F457,[1]Hoja4!C:D,2,FALSE)","v":"ACT469"},"Representante del Sector Sindical","Delegado Sectorial de la Sociedad Civil","Trabajo"]
[null,{"$f":"VLOOKUP(C458,[1]instancias_objetos!A:B,2,FALSE)","v":"INST21"},"Consejo Nacional Agropecuario y Agroindustrial",1,{"$f":"VLOOKUP(F458,[1]Hoja4!C:D,2,FALSE)","v":"ACT43"},"Asociación Nacional de Empresarios de Colombia","Organización de la Sociedad Civil","Comercio"]
[null,{"$f":"VLOOKUP(C459,[1]instancias_objetos!A:B,2,FALSE)","v":"INST21"},"Consejo Nacional Agropecuario y Agroindustrial",1,{"$f":"VLOOKUP(F459,[1]Hoja4!C:D,2,FALSE)","v":"ACT53"},"Banco Agrario","Sector Público - Nacional","N/A"]
[null,{"$f":"VLOOKUP(C460,[1]instancias_objetos!A:B,2,FALSE)","v":"INST21"},"Consejo Nacional Agropecuario y Agroindustrial",1,{"$f":"VLOOKUP(F460,[1]Hoja4!C:D,2,FALSE)","v":"ACT94"},"Consejo Nacional de Secretarios de Agricultura","Sector Público - Territorial","N/A"]
[null,{"$f":"VLOOKUP(C461,[1]instancias_objetos!A:B,2,FALSE)","v":"INST21"},"Consejo Nacional Agropecuario y Agroindustrial",1,{"$f":"VLOOKUP(F461,[1]Hoja4!C:D,2,FALSE)","v":"ACT126"},"Departamento Nacional de Planeación","Sector Público - Nacional","N/A"]
[null,{"$f":"VLOOKUP(C462,[1]instancias_objetos!A:B,2,FALSE)","v":"INST21"},"Consejo Nacional Agropecuario y Agroindustrial",1,{"$f":"VLOOKUP(F462,[1]Hoja4!C:D,2,FALSE)","v":"ACT135"},"Federación Colombiana de Municipios","Sector Privado","Control Social, Transparencia, Comunitario y Veedurías"]
[null,{"$f":"VLOOKUP(C463,[1]instancias_objetos!A:B,2,FALSE)","v":"INST21"},"Consejo Nacional Agropecuario y Agroindustrial",1,{"$f":"VLOOKUP(F463,[1]Hoja4!C:D,2,FALSE)","v":"ACT141"},"Federación Nacional de Departamentos","Sector Público - Territorial","N/A"]
[null,{"$f":"VLOOKUP(C464,[1]instancias_objetos!A:B,2,FALSE)","v":"INST21"},"Consejo Nacional Agropecuario y Agroindustrial",1,{"$f":"VLOOKUP(F464,[1]Hoja4!C:D,2,FALSE)","v":"ACT147"},"Fondo para el Financiamiento del Sector Agropecuario","Sector Público - Nacional","N/A"]
[null,{"$f":"VLOOKUP(C465,[1]instancias_objetos!A:B,2,FALSE)","v":"INST21"},"Consejo Nacional Agropecuario y Agroindustrial",1,{"$f":"VLOOKUP(F465,[1]Hoja4!C:D,2,FALSE)","v":"ACT173"},"Ministerio de Agricultura y Desarrollo Rural","Sector Público - Nacional","N/A"]
[null,{"$f":"VLOOKUP(C466,[1]instancias_objetos!A:B,2,FALSE)","v":"INST21"},"Consejo Nacional Agropecuario y Agroindustrial",1,{"$f":"VLOOKUP(F466,[1]Hoja4!C:D,2,FALSE)","v":"ACT173"},"Ministerio de Agricultura y Desarrollo Rural","Sector Público - Nacional","N/A"]
[null,{"$f":"VLOOKUP(C467,[1]instancias_objetos!A:B,2,FALSE)","v":"INST21"},"Consejo Nacional Agropecuario y Agroindustrial",1,{"$f":"VLOOKUP(F467,[1]Hoja4!C:D,2,FALSE)","v":"ACT174"},"Ministerio de Ambiente y Desarrollo Sostenible","Sector Público - Nacional","N/A"]
[null,{"$f":"VLOOKUP(C468,[1]instancias_objetos!A:B,2,FALSE)","v":"INST21"},"Consejo Nacional Agropecuario y Agroindustrial",1,{"$f":"VLOOKUP(F468,[1]Hoja4!C:D,2,FALSE)","v":"ACT176"},"Ministerio de Comercio, Industria y Turismo","Sector Público - Nacional","N/A"]
[null,{"$f":"VLOOKUP(C469,[1]instancias_objetos!A:B,2,FALSE)","v":"INST21"},"Consejo Nacional Agropecuario y Agroindustrial",1,{"$f":"VLOOKUP(F469,[1]Hoja4!C:D,2,FALSE)","v":"ACT179"},"Ministerio de Educación Nacional","Sector Público - Nacional","N/A"]
[null,{"$f":"VLOOKUP(C470,[1]instancias_objetos!A:B,2,FALSE)","v":"INST21"},"Consejo Nacional Agropecuario y Agroindustrial",1,{"$f":"VLOOKUP(F470,[1]Hoja4!C:D,2,FALSE)","v":"ACT180"},"Ministerio de Hacienda y Crédito Público","Sector Público - Nacional","N/A"]
[null,{"$f":"VLOOKUP(C471,[1]instancias_objetos!A:B,2,FALSE)","v":"INST21"},"Consejo Nacional Agropecuario y Agroindustrial",1,{"$f":"VLOOKUP(F471,[1]Hoja4!C:D,2,FALSE)","v":"ACT182"},"Ministerio de Minas y Energía","Sector Público - Nacional","N/A"]
[null,{"$f":"VLOOKUP(C472,[1]instancias_objetos!A:B,2,FALSE)","v":"INST21"},"Consejo Nacional Agropecuario y Agroindustrial",1,{"$f":"VLOOKUP(F472,[1]Hoja4!C:D,2,FALSE)","v":"ACT184"},"Ministerio de Salud y Protección Social","Sector Público - Nacional","N/A"]
[null,{"$f":"VLOOKUP(C473,[1]instancias_objetos!A:B,2,FALSE)","v":"INST21"},"Consejo Nacional Agropecuario y Agroindustrial",1,{"$f":"VLOOKUP(F473,[1]Hoja4!C:D,2,FALSE)","v":"ACT187"},"Ministerio de Vivienda, Ciudad y Territorio","Sector Público - Nacional","N/A"]
[null,{"$f":"VLOOKUP(C474,[1]instancias_objetos!A:B,2,FALSE)","v":"INST21"},"Consejo Nacional Agropecuario y Agroindustrial",1,{"$f":"VLOOKUP(F474,[1]Hoja4!C:D,2,FALSE)","v":"ACT210"},"Presidencia de la República","Sector Público - Nacional","N/A"]
[null,{"$f":"VLOOKUP(C475,[1]instancias_objetos!A:B,2,FALSE)","v":"INST21"},"Consejo Nacional Agropecuario y Agroindustrial",1,{"$f":"VLOOKUP(F475,[1]Hoja4!C:D,2,FALSE)","v":"ACT290"},"Representante de las Comunidades Negras","Delegado Sectorial de la Sociedad Civil","Grupos Étnicos (Afros, Indígenas, Raizales, Palenqueros y ROM)"]
[null,{"$f":"VLOOKUP(C476,[1]instancias_objetos!A:B,2,FALSE)","v":"INST21"},"Consejo Nacional Agropecuario y Agroindustrial",1,{"$f":"VLOOKUP(F476,[1]Hoja4!C:D,2,FALSE)","v":"ACT314"},"Representante de las Mujeres Campesinas","Delegado Sectorial de la Sociedad Civil","Poblacional y Género (Niñez, Jóvenes, Mujeres, Adulto Mayor, LGBTI)"]
[null,{"$f":"VLOOKUP(C477,[1]instancias_objetos!A:B,2,FALSE)","v":"INST21"},"Consejo Nacional Agropecuario y Agroindustrial",1,{"$f":"VLOOKUP(F477,[1]Hoja4!C:D,2,FALSE)","v":"ACT369"},"Representante de los Campesinos","Delegado Sectorial de la Sociedad Civil","Agricultura y Ruralidad"]
[null,{"$f":"VLOOKUP(C478,[1]instancias_objetos!A:B,2,FALSE)","v":"INST21"},"Consejo Nacional Agropecuario y Agroindustrial",1,{"$f":"VLOOKUP(F478,[1]Hoja4!C:D,2,FALSE)","v":"ACT488"},"Sociedad de Agricultores de Colombia","Organización de la Sociedad Civil","Agricultura y Ruralidad"]
[null,{"$f":"VLOOKUP(C479,[1]instancias_objetos!A:B,2,FALSE)","v":"INST22"},"Mesa Permanente de Concertación con los Pueblos y Organizaciones Indígenas",1,{"$f":"VLOOKUP(F479,[1]Hoja4!C:D,2,FALSE)","v":"ACT76"},"Confederación Indígena Tairona","Organización de la Sociedad Civil","Grupos Étnicos (Afros, Indígenas, Raizales, Palenqueros y ROM)"]
[null,{"$f":"VLOOKUP(C480,[1]instancias_objetos!A:B,2,FALSE)","v":"INST22"},"Mesa Permanente de Concertación con los Pueblos y Organizaciones Indígenas",1,{"$f":"VLOOKUP(F480,[1]Hoja4!C:D,2,FALSE)","v":"ACT126"},"Departamento Nacional de Planeación","Sector Público - Nacional","N/A"]
[null,{"$f":"VLOOKUP(C481,[1]instancias_objetos!A:B,2,FALSE)","v":"INST22"},"Mesa Permanente de Concertación con los Pueblos y Organizaciones Indígenas",1,{"$f":"VLOOKUP(F481,[1]Hoja4!C:D,2,FALSE)","v":"ACT173"},"Ministerio de Agricultura y Desarrollo Rural","Sector Público - Nacional","N/A"]
[null,{"$f":"VLOOKUP(C482,[1]instancias_objetos!A:B,2,FALSE)","v":"INST22"},"Mesa Permanente de Concertación con los Pueblos y Organizaciones Indígenas",1,{"$f":"VLOOKUP(F482,[1]Hoja4!C:D,2,FALSE)","v":"ACT174"},"Ministerio de Ambiente y Desarrollo Sostenible","Sector Público - Nacional","N/A"]
[null,{"$f":"VLOOKUP(C483,[1]instancias_objetos!A:B,2,FALSE)","v":"INST22"},"Mesa Permanente de Concertación con los Pueblos y Organizaciones Indígenas",1,{"$f":"VLOOKUP(F483,[1]Hoja4!C:D,2,FALSE)","v":"ACT176"},"Ministerio de Comercio, Industria y Turismo","Sector Público - Nacional","N/A"]
[null,{"$f":"VLOOKUP(C484,[1]instancias_objetos!A:B,2,FALSE)","v":"INST22"},"Mesa Permanente de Concertación con los Pueblos y Organizaciones Indígenas",1,{"$f":"VLOOKUP(F484,[1]Hoja4!C:D,2,FALSE)","v":"ACT177"},"Ministerio de Cultura de Colombia","Sector Público - Nacional","N/A"]
[null,{"$f":"VLOOKUP(C485,[1]instancias_objetos!A:B,2,FALSE)","v":"INST22"},"Mesa Permanente de Concertación con los Pueblos y Organizaciones Indígenas",1,{"$f":"VLOOKUP(F485,[1]Hoja4!C:D,2,FALSE)","v":"ACT179"},"Ministerio de Educación Nacional","Sector Público - Nacional","N/A"]
[null,{"$f":"VLOOKUP(C486,[1]instancias_objetos!A:B,2,FALSE)","v":"INST22"},"Mesa Permanente de Concertación con los Pueblos y Organizaciones Indígenas",1,{"$f":"VLOOKUP(F486,[1]Hoja4!C:D,2,FALSE)","v":"ACT180"},"Ministerio de Hacienda y Crédito Público","Sector Público - Nacional","N/A"]
[null,{"$f":"VLOOKUP(C487,[1]instancias_objetos!A:B,2,FALSE)","v":"INST22"},"Mesa Permanente de Concertación con los Pueblos y Organizaciones Indígenas",1,{"$f":"VLOOKUP(F487,[1]Hoja4!C:D,2,FALSE)","v":"ACT182"},"Ministerio de Minas y Energía","Sector Público - Nacional","N/A"]
[null,{"$f":"VLOOKUP(C488,[1]instancias_objetos!A:B,2,FALSE)","v":"INST22"},"Mesa Permanente de Concertación con los Pueblos y Organizaciones Indígenas",1,{"$f":"VLOOKUP(F488,[1]Hoja4!C:D,2,FALSE)","v":"ACT184"},"Ministerio de Salud y Protección Social","Sector Público - Nacional","N/A"]
[null,{"$f":"VLOOKUP(C489,[1]instancias_objetos!A:B,2,FALSE)","v":"INST22"},"Mesa Permanente de Concertación con los Pueblos y Organizaciones Indígenas",1,{"$f":"VLOOKUP(F489,[1]Hoja4!C:D,2,FALSE)","v":"ACT189"},"Ministerio del Interior","Sector Público - Nacional","N/A"]
[null,{"$f":"VLOOKUP(C490,[1]instancias_objetos!A:B,2,FALSE)","v":"INST22"},"Mesa Permanente de Concertación con los Pueblos y Organizaciones Indígenas",1,{"$f":"VLOOKUP(F490,[1]Hoja4!C:D,2,FALSE)","v":"ACT199"},"Organización Nacional de los Pueblos Indígenas de la Amazonía Colombiana","Organización de la Sociedad Civil","Grupos Étnicos (Afros, Indígenas, Raizales, Palenqueros y ROM)"]
[null,{"$f":"VLOOKUP(C491,[1]instancias_objetos!A:B,2,FALSE)","v":"INST22"},"Mesa Permanente de Concertación con los Pueblos y Organizaciones Indígenas",1,{"$f":"VLOOKUP(F491,[1]Hoja4!C:D,2,FALSE)","v":"ACT200"},"Organización Nacional Indígena de Colombia","Organización de la Sociedad Civil","Grupos Étnicos (Afros, Indígenas, Raizales, Palenqueros y ROM)"]
[null,{"$f":"VLOOKUP(C492,[1]instancias_objetos!A:B,2,FALSE)","v":"INST22"},"Mesa Permanente de Concertación con los Pueblos y Organizaciones Indígenas",1,{"$f":"VLOOKUP(F492,[1]Hoja4!C:D,2,FALSE)","v":"ACT210"},"Presidencia de la República","Sector Público - Nacional","N/A"]
[null,{"$f":"VLOOKUP(C493,[1]instancias_objetos!A:B,2,FALSE)","v":"INST22"},"Mesa Permanente de Concertación con los Pueblos y Organizaciones Indígenas",1,{"$f":"VLOOKUP(F493,[1]Hoja4!C:D,2,FALSE)","v":"ACT210"},"Presidencia de la República","Sector Público - Nacional","N/A"]
[null,{"$f":"VLOOKUP(C494,[1]instancias_objetos!A:B,2,FALSE)","v":"INST22"},"Mesa Permanente de Concertación con los Pueblos y Organizaciones Indígenas",1,{"$f":"VLOOKUP(F494,[1]Hoja4!C:D,2,FALSE)","v":"ACT383"},"Representante de los exconstituyentes indígenas","Delegado Sectorial de la Sociedad Civil","Grupos Étnicos (Afros, Indígenas, Raizales, Palenqueros y ROM)"]
[null,{"$f":"VLOOKUP(C495,[1]instancias_objetos!A:B,2,FALSE)","v":"INST22"},"Mesa Permanente de Concertación con los Pueblos y Organizaciones Indígenas",5,{"$f":"VLOOKUP(F495,[1]Hoja4!C:D,2,FALSE)","v":"ACT481"},"Representante por macrorregión CORPES","Sector Público - Territorial","N/A"]
[null,{"$f":"VLOOKUP(C496,[1]instancias_objetos!A:B,2,FALSE)","v":"INST22"},"Mesa Permanente de Concertación con los Pueblos y Organizaciones Indígenas",2,{"$f":"VLOOKUP(F496,[1]Hoja4!C:D,2,FALSE)","v":"ACT484"},"Senador Indígena","Sector Público - Nacional","N/A"]
[null,{"$f":"VLOOKUP(C497,[1]instancias_objetos!A:B,2,FALSE)","v":"INST23"},"Comité Nacional de Salud Ocupacional",1,{"$f":"VLOOKUP(F497,[1]Hoja4!C:D,2,FALSE)","v":"ACT19"},"Aseguradoras de Riesgos Profesionales","Sector Privado","Trabajo"]
[null,{"$f":"VLOOKUP(C498,[1]instancias_objetos!A:B,2,FALSE)","v":"INST23"},"Comité Nacional de Salud Ocupacional",1,{"$f":"VLOOKUP(F498,[1]Hoja4!C:D,2,FALSE)","v":"ACT163"},"Instituto de Seguros Sociales","Sector Público - Nacional","N/A"]
[null,{"$f":"VLOOKUP(C499,[1]instancias_objetos!A:B,2,FALSE)","v":"INST23"},"Comité Nacional de Salud Ocupacional",1,{"$f":"VLOOKUP(F499,[1]Hoja4!C:D,2,FALSE)","v":"ACT167"},"Instituto Nacional de Salud","Sector Público - Nacional","N/A"]
[null,{"$f":"VLOOKUP(C500,[1]instancias_objetos!A:B,2,FALSE)","v":"INST23"},"Comité Nacional de Salud Ocupacional",1,{"$f":"VLOOKUP(F500,[1]Hoja4!C:D,2,FALSE)","v":"ACT184"},"Ministerio de Salud y Protección Social","Sector Público - Nacional","N/A"]
[null,{"$f":"VLOOKUP(C501,[1]instancias_objetos!A:B,2,FALSE)","v":"INST23"},"Comité Nacional de Salud Ocupacional",1,{"$f":"VLOOKUP(F501,[1]Hoja4!C:D,2,FALSE)","v":"ACT190"},"Ministerio del Trabajo","Sector Público - Nacional","N/A"]
[null,{"$f":"VLOOKUP(C502,[1]instancias_objetos!A:B,2,FALSE)","v":"INST23"},"Comité Nacional de Salud Ocupacional",2,{"$f":"VLOOKUP(F502,[1]Hoja4!C:D,2,FALSE)","v":"ACT382"},"Representante de los Empleadores","Delegado Sectorial de la Sociedad Civil","Comercio"]
[null,{"$f":"VLOOKUP(C503,[1]instancias_objetos!A:B,2,FALSE)","v":"INST23"},"Comité Nacional de Salud Ocupacional",2,{"$f":"VLOOKUP(F503,[1]Hoja4!C:D,2,FALSE)","v":"ACT410"},"Representante de los Trabajadores","Delegado Sectorial de la Sociedad Civil","Comercio"]
[null,{"$f":"VLOOKUP(C504,[1]instancias_objetos!A:B,2,FALSE)","v":"INST24"},"Consejo Nacional de Cultura",1,{"$f":"VLOOKUP(F504,[1]Hoja4!C:D,2,FALSE)","v":"ACT63"},"Colegio Máximo de las Academias","Organización de la Sociedad Civil","Educación"]
[null,{"$f":"VLOOKUP(C505,[1]instancias_objetos!A:B,2,FALSE)","v":"INST24"},"Consejo Nacional de Cultura",1,{"$f":"VLOOKUP(F505,[1]Hoja4!C:D,2,FALSE)","v":"ACT91"},"Consejo Nacional de las Artes y la Cultura en Cinematografía","Sector Público - Nacional","N/A"]
[null,{"$f":"VLOOKUP(C506,[1]instancias_objetos!A:B,2,FALSE)","v":"INST24"},"Consejo Nacional de Cultura",1,{"$f":"VLOOKUP(F506,[1]Hoja4!C:D,2,FALSE)","v":"ACT126"},"Departamento Nacional de Planeación","Sector Público - Nacional","N/A"]
[null,{"$f":"VLOOKUP(C507,[1]instancias_objetos!A:B,2,FALSE)","v":"INST24"},"Consejo Nacional de Cultura",1,{"$f":"VLOOKUP(F507,[1]Hoja4!C:D,2,FALSE)","v":"ACT151"},"Fundación Manuel Cepeda Vargas para la Paz, la Justicia Social y la Cultura","Organización de la Sociedad Civil","Víctimas y Construcción de Paz"]
[null,{"$f":"VLOOKUP(C508,[1]instancias_objetos!A:B,2,FALSE)","v":"INST24"},"Consejo Nacional de Cultura",1,{"$f":"VLOOKUP(F508,[1]Hoja4!C:D,2,FALSE)","v":"ACT177"},"Ministerio de Cultura de Colombia","Sector Público - Nacional","N/A"]
[null,{"$f":"VLOOKUP(C509,[1]instancias_objetos!A:B,2,FALSE)","v":"INST24"},"Consejo Nacional de Cultura",1,{"$f":"VLOOKUP(F509,[1]Hoja4!C:D,2,FALSE)","v":"ACT179"},"Ministerio de Educación Nacional","Sector Público - Nacional","N/A"]
[null,{"$f":"VLOOKUP(C510,[1]instancias_objetos!A:B,2,FALSE)","v":"INST24"},"Consejo Nacional de Cultura",1,{"$f":"VLOOKUP(F510,[1]Hoja4!C:D,2,FALSE)","v":"ACT263"},"Representante de las Agremiaciones Culturales de Discapacitados Físicos, Psíquicos y Sensoriales","Delegado Sectorial de la Sociedad Civil","Discapacidad"]
[null,{"$f":"VLOOKUP(C511,[1]instancias_objetos!A:B,2,FALSE)","v":"INST24"},"Consejo Nacional de Cultura",1,{"$f":"VLOOKUP(F511,[1]Hoja4!C:D,2,FALSE)","v":"ACT267"},"Representante de las Asociaciones de Casas de la Cultura","Delegado Sectorial de la Sociedad Civil","Cultura"]
[null,{"$f":"VLOOKUP(C512,[1]instancias_objetos!A:B,2,FALSE)","v":"INST24"},"Consejo Nacional de Cultura",1,{"$f":"VLOOKUP(F512,[1]Hoja4!C:D,2,FALSE)","v":"ACT290"},"Representante de las Comunidades Negras","Delegado Sectorial de la Sociedad Civil","Grupos Étnicos (Afros, Indígenas, Raizales, Palenqueros y ROM)"]
[null,{"$f":"VLOOKUP(C513,[1]instancias_objetos!A:B,2,FALSE)","v":"INST24"},"Consejo Nacional de Cultura",1,{"$f":"VLOOKUP(F513,[1]Hoja4!C:D,2,FALSE)","v":"ACT372"},"Representante de los Consejos Departamentales de Cultura","Delegado Sectorial de la Sociedad Civil","Cultura"]
[null,{"$f":"VLOOKUP(C514,[1]instancias_objetos!A:B,2,FALSE)","v":"INST24"},"Consejo Nacional de Cultura",1,{"$f":"VLOOKUP(F514,[1]Hoja4!C:D,2,FALSE)","v":"ACT374"},"Representante de los Consejos Distritales de Cultura","Delegado Sectorial de la Sociedad Civil","Cultura"]
[null,{"$f":"VLOOKUP(C515,[1]instancias_objetos!A:B,2,FALSE)","v":"INST24"},"Consejo Nacional de Cultura",1,{"$f":"VLOOKUP(F515,[1]Hoja4!C:D,2,FALSE)","v":"ACT384"},"Representante de los fondos mixtos territoriales de promoción de la cultura y las artes","Sector Público - Territorial","N/A"]
[null,{"$f":"VLOOKUP(C516,[1]instancias_objetos!A:B,2,FALSE)","v":"INST24"},"Consejo Nacional de Cultura",1,{"$f":"VLOOKUP(F516,[1]Hoja4!C:D,2,FALSE)","v":"ACT436"},"Representante del Pueblo Indígena","Delegado Sectorial de la Sociedad Civil","Grupos Étnicos (Afros, Indígenas, Raizales, Palenqueros y ROM)"]
[null,{"$f":"VLOOKUP(C517,[1]instancias_objetos!A:B,2,FALSE)","v":"INST24"},"Consejo Nacional de Cultura",2,{"$f":"VLOOKUP(F517,[1]Hoja4!C:D,2,FALSE)","v":"ACT449"},"Representante del Sector Cultura","Delegado Sectorial de la Sociedad Civil","Cultura"]
[null,{"$f":"VLOOKUP(C518,[1]instancias_objetos!A:B,2,FALSE)","v":"INST24"},"Consejo Nacional de Cultura",1,{"$f":"VLOOKUP(F518,[1]Hoja4!C:D,2,FALSE)","v":"ACT449"},"Representante del Sector Cultura","Delegado Sectorial de la Sociedad Civil","Cultura"]
[null,{"$f":"VLOOKUP(C519,[1]instancias_objetos!A:B,2,FALSE)","v":"INST24"},"Consejo Nacional de Cultura",1,{"$f":"VLOOKUP(F519,[1]Hoja4!C:D,2,FALSE)","v":"ACT457"},"Representante del Sector Educativo","Delegado Sectorial de la Sociedad Civil","Educación"]
[null,{"$f":"VLOOKUP(C520,[1]instancias_objetos!A:B,2,FALSE)","v":"INST25"},"Consejo Nacional de SIDA",1,{"$f":"VLOOKUP(F520,[1]Hoja4!C:D,2,FALSE)","v":"ACT65"},"Comisión Nacional de Televisión","Sector Público - Nacional","N/A"]
[null,{"$f":"VLOOKUP(C521,[1]instancias_objetos!A:B,2,FALSE)","v":"INST25"},"Consejo Nacional de SIDA",1,{"$f":"VLOOKUP(F521,[1]Hoja4!C:D,2,FALSE)","v":"ACT121"},"Defensoría del Pueblo","Sector Público - Nacional","N/A"]
[null,{"$f":"VLOOKUP(C522,[1]instancias_objetos!A:B,2,FALSE)","v":"INST25"},"Consejo Nacional de SIDA",1,{"$f":"VLOOKUP(F522,[1]Hoja4!C:D,2,FALSE)","v":"ACT157"},"Instituto Colombiano de Bienestar Familiar","Sector Público - Nacional","N/A"]
[null,{"$f":"VLOOKUP(C523,[1]instancias_objetos!A:B,2,FALSE)","v":"INST25"},"Consejo Nacional de SIDA",1,{"$f":"VLOOKUP(F523,[1]Hoja4!C:D,2,FALSE)","v":"ACT167"},"Instituto Nacional de Salud","Sector Público - Nacional","N/A"]
[null,{"$f":"VLOOKUP(C524,[1]instancias_objetos!A:B,2,FALSE)","v":"INST25"},"Consejo Nacional de SIDA",1,{"$f":"VLOOKUP(F524,[1]Hoja4!C:D,2,FALSE)","v":"ACT168"},"Instituto Nacional de Vigilancia de Medicamentos y Alimentos","Sector Público - Nacional","N/A"]
[null,{"$f":"VLOOKUP(C525,[1]instancias_objetos!A:B,2,FALSE)","v":"INST25"},"Consejo Nacional de SIDA",1,{"$f":"VLOOKUP(F525,[1]Hoja4!C:D,2,FALSE)","v":"ACT179"},"Ministerio de Educación Nacional","Sector Público - Nacional","N/A"]
[null,{"$f":"VLOOKUP(C526,[1]instancias_objetos!A:B,2,FALSE)","v":"INST25"},"Consejo Nacional de SIDA",1,{"$f":"VLOOKUP(F526,[1]Hoja4!C:D,2,FALSE)","v":"ACT179"},"Ministerio de Educación Nacional","Sector Público - Nacional","N/A"]
[null,{"$f":"VLOOKUP(C527,[1]instancias_objetos!A:B,2,FALSE)","v":"INST25"},"Consejo Nacional de SIDA",1,{"$f":"VLOOKUP(F527,[1]Hoja4!C:D,2,FALSE)","v":"ACT184"},"Ministerio de Salud y Protección Social","Sector Público - Nacional","N/A"]
[null,{"$f":"VLOOKUP(C528,[1]instancias_objetos!A:B,2,FALSE)","v":"INST25"},"Consejo Nacional de SIDA",1,{"$f":"VLOOKUP(F528,[1]Hoja4!C:D,2,FALSE)","v":"ACT184"},"Ministerio de Salud y Protección Social","Sector Público - Nacional","N/A"]
[null,{"$f":"VLOOKUP(C529,[1]instancias_objetos!A:B,2,FALSE)","v":"INST25"},"Consejo Nacional de SIDA",1,{"$f":"VLOOKUP(F529,[1]Hoja4!C:D,2,FALSE)","v":"ACT184"},"Ministerio de Salud y Protección Social","Sector Público - Nacional","N/A"]
[null,{"$f":"VLOOKUP(C530,[1]instancias_objetos!A:B,2,FALSE)","v":"INST25"},"Consejo Nacional de SIDA",1,{"$f":"VLOOKUP(F530,[1]Hoja4!C:D,2,FALSE)","v":"ACT185"},"Ministerio de Tecnologías de la Información y las Comunicaciones","Sector Público - Nacional","N/A"]
[null,{"$f":"VLOOKUP(C531,[1]instancias_objetos!A:B,2,FALSE)","v":"INST25"},"Consejo Nacional de SIDA",1,{"$f":"VLOOKUP(F531,[1]Hoja4!C:D,2,FALSE)","v":"ACT190"},"Ministerio del Trabajo","Sector Público - Nacional","N/A"]
[null,{"$f":"VLOOKUP(C532,[1]instancias_objetos!A:B,2,FALSE)","v":"INST25"},"Consejo Nacional de SIDA",1,{"$f":"VLOOKUP(F532,[1]Hoja4!C:D,2,FALSE)","v":"ACT194"},"Organización de las Naciones Unidas","Organismo Multilateral","N/A"]
[null,{"$f":"VLOOKUP(C533,[1]instancias_objetos!A:B,2,FALSE)","v":"INST25"},"Consejo Nacional de SIDA",1,{"$f":"VLOOKUP(F533,[1]Hoja4!C:D,2,FALSE)","v":"ACT221"},"Red Nacional de Bancos de Sangre","Sector Público - Nacional","N/A"]
[null,{"$f":"VLOOKUP(C534,[1]instancias_objetos!A:B,2,FALSE)","v":"INST25"},"Consejo Nacional de SIDA",1,{"$f":"VLOOKUP(F534,[1]Hoja4!C:D,2,FALSE)","v":"ACT292"},"Representante de las Entidades Promotoras de Salud","Sector Privado","Salud"]
[null,{"$f":"VLOOKUP(C535,[1]instancias_objetos!A:B,2,FALSE)","v":"INST25"},"Consejo Nacional de SIDA",2,{"$f":"VLOOKUP(F535,[1]Hoja4!C:D,2,FALSE)","v":"ACT322"},"Representante de las ONGs de lucha contra el SIDA","Delegado Sectorial de la Sociedad Civil","Salud"]
[null,{"$f":"VLOOKUP(C536,[1]instancias_objetos!A:B,2,FALSE)","v":"INST25"},"Consejo Nacional de SIDA",2,{"$f":"VLOOKUP(F536,[1]Hoja4!C:D,2,FALSE)","v":"ACT390"},"Representante de los Grupos de Apoyo y Autoapoyo de SIDA","Delegado Sectorial de la Sociedad Civil","Salud"]
[null,{"$f":"VLOOKUP(C537,[1]instancias_objetos!A:B,2,FALSE)","v":"INST26"},"Consejos Nacionales de las Artes y la Cultura",1,{"$f":"VLOOKUP(F537,[1]Hoja4!C:D,2,FALSE)","v":"ACT177"},"Ministerio de Cultura de Colombia","Sector Público - Nacional","N/A"]
[null,{"$f":"VLOOKUP(C538,[1]instancias_objetos!A:B,2,FALSE)","v":"INST26"},"Consejos Nacionales de las Artes y la Cultura",1,{"$f":"VLOOKUP(F538,[1]Hoja4!C:D,2,FALSE)","v":"ACT226"},"Representante con trayectoria en las artes y la cultura de la región Amazonía y Orinoquía","Delegado Sectorial de la Sociedad Civil","Cultura"]
[null,{"$f":"VLOOKUP(C539,[1]instancias_objetos!A:B,2,FALSE)","v":"INST26"},"Consejos Nacionales de las Artes y la Cultura",1,{"$f":"VLOOKUP(F539,[1]Hoja4!C:D,2,FALSE)","v":"ACT227"},"Representante con trayectoria en las artes y la cultura de la región Caribe","Delegado Sectorial de la Sociedad Civil","Cultura"]
[null,{"$f":"VLOOKUP(C540,[1]instancias_objetos!A:B,2,FALSE)","v":"INST26"},"Consejos Nacionales de las Artes y la Cultura",1,{"$f":"VLOOKUP(F540,[1]Hoja4!C:D,2,FALSE)","v":"ACT228"},"Representante con trayectoria en las artes y la cultura de la región Centro Oriente","Delegado Sectorial de la Sociedad Civil","Cultura"]
[null,{"$f":"VLOOKUP(C541,[1]instancias_objetos!A:B,2,FALSE)","v":"INST26"},"Consejos Nacionales de las Artes y la Cultura",1,{"$f":"VLOOKUP(F541,[1]Hoja4!C:D,2,FALSE)","v":"ACT229"},"Representante con trayectoria en las artes y la cultura de la región Occidente","Delegado Sectorial de la Sociedad Civil","Cultura"]
[null,{"$f":"VLOOKUP(C542,[1]instancias_objetos!A:B,2,FALSE)","v":"INST26"},"Consejos Nacionales de las Artes y la Cultura",1,{"$f":"VLOOKUP(F542,[1]Hoja4!C:D,2,FALSE)","v":"ACT230"},"Representante con trayectoria en las artes y la cultura de la región Sur","Delegado Sectorial de la Sociedad Civil","Cultura"]
[null,{"$f":"VLOOKUP(C543,[1]instancias_objetos!A:B,2,FALSE)","v":"INST26"},"Consejos Nacionales de las Artes y la Cultura",2,{"$f":"VLOOKUP(F543,[1]Hoja4!C:D,2,FALSE)","v":"ACT450"},"Representante del Sector Cultura en representación de Presidencia de la República","Sector Público - Nacional","N/A"]
[null,{"$f":"VLOOKUP(C544,[1]instancias_objetos!A:B,2,FALSE)","v":"INST27"},"Consejo Nacional de Economía Solidaria",1,{"$f":"VLOOKUP(F544,[1]Hoja4!C:D,2,FALSE)","v":"ACT237"},"Representante de cada uno de los organismos de tercer grado de economías solidarias","Delegado Sectorial de la Sociedad Civil","Solidario"]
[null,{"$f":"VLOOKUP(C545,[1]instancias_objetos!A:B,2,FALSE)","v":"INST27"},"Consejo Nacional de Economía Solidaria",1,{"$f":"VLOOKUP(F545,[1]Hoja4!C:D,2,FALSE)","v":"ACT238"},"Representante de cada uno de los sistemas territoriales de economía solidaria","Delegado Sectorial de la Sociedad Civil","Solidario"]
[null,{"$f":"VLOOKUP(C546,[1]instancias_objetos!A:B,2,FALSE)","v":"INST27"},"Consejo Nacional de Economía Solidaria",1,{"$f":"VLOOKUP(F546,[1]Hoja4!C:D,2,FALSE)","v":"ACT496"},"Unidad Administrativa Especial de Organizaciones Solidarias","Sector Público - Nacional","N/A"]
[null,{"$f":"VLOOKUP(C547,[1]instancias_objetos!A:B,2,FALSE)","v":"INST28"},"Comisión Colombiana del Océano",1,{"$f":"VLOOKUP(F547,[1]Hoja4!C:D,2,FALSE)","v":"ACT15"},"Agencia Presidencial de Cooperación Internacional Colombia","Sector Público - Nacional","N/A"]
[null,{"$f":"VLOOKUP(C548,[1]instancias_objetos!A:B,2,FALSE)","v":"INST28"},"Comisión Colombiana del Océano",1,{"$f":"VLOOKUP(F548,[1]Hoja4!C:D,2,FALSE)","v":"ACT18"},"Armada Nacional","Sector Público - Nacional","N/A"]
[null,{"$f":"VLOOKUP(C549,[1]instancias_objetos!A:B,2,FALSE)","v":"INST28"},"Comisión Colombiana del Océano",1,{"$f":"VLOOKUP(F549,[1]Hoja4!C:D,2,FALSE)","v":"ACT34"},"Asociación Colombiana de Universidades","Organización de la Sociedad Civil","Educación"]
[null,{"$f":"VLOOKUP(C550,[1]instancias_objetos!A:B,2,FALSE)","v":"INST28"},"Comisión Colombiana del Océano",1,{"$f":"VLOOKUP(F550,[1]Hoja4!C:D,2,FALSE)","v":"ACT126"},"Departamento Nacional de Planeación","Sector Público - Nacional","N/A"]
[null,{"$f":"VLOOKUP(C551,[1]instancias_objetos!A:B,2,FALSE)","v":"INST28"},"Comisión Colombiana del Océano",1,{"$f":"VLOOKUP(F551,[1]Hoja4!C:D,2,FALSE)","v":"ACT129"},"Dirección General Marítima","Sector Público - Nacional","N/A"]
[null,{"$f":"VLOOKUP(C552,[1]instancias_objetos!A:B,2,FALSE)","v":"INST28"},"Comisión Colombiana del Océano",1,{"$f":"VLOOKUP(F552,[1]Hoja4!C:D,2,FALSE)","v":"ACT162"},"Instituto de Investigaciones Marinas y Costeras José Benito Vives de Andréis","Organización de la Sociedad Civil","Ciencia y Tecnología"]
[null,{"$f":"VLOOKUP(C553,[1]instancias_objetos!A:B,2,FALSE)","v":"INST28"},"Comisión Colombiana del Océano",1,{"$f":"VLOOKUP(F553,[1]Hoja4!C:D,2,FALSE)","v":"ACT173"},"Ministerio de Agricultura y Desarrollo Rural","Sector Público - Nacional","N/A"]
[null,{"$f":"VLOOKUP(C554,[1]instancias_objetos!A:B,2,FALSE)","v":"INST28"},"Comisión Colombiana del Océano",1,{"$f":"VLOOKUP(F554,[1]Hoja4!C:D,2,FALSE)","v":"ACT174"},"Ministerio de Ambiente y Desarrollo Sostenible","Sector Público - Nacional","N/A"]
[null,{"$f":"VLOOKUP(C555,[1]instancias_objetos!A:B,2,FALSE)","v":"INST28"},"Comisión Colombiana del Océano",1,{"$f":"VLOOKUP(F555,[1]Hoja4!C:D,2,FALSE)","v":"ACT175"},"Ministerio de Ciencia, Tecnología e Innovación","Sector Público - Nacional","N/A"]
[null,{"$f":"VLOOKUP(C556,[1]instancias_objetos!A:B,2,FALSE)","v":"INST28"},"Comisión Colombiana del Océano",1,{"$f":"VLOOKUP(F556,[1]Hoja4!C:D,2,FALSE)","v":"ACT176"},"Ministerio de Comercio, Industria y Turismo","Sector Público - Nacional","N/A"]
[null,{"$f":"VLOOKUP(C557,[1]instancias_objetos!A:B,2,FALSE)","v":"INST28"},"Comisión Colombiana del Océano",1,{"$f":"VLOOKUP(F557,[1]Hoja4!C:D,2,FALSE)","v":"ACT178"},"Ministerio de Defensa Nacional","Sector Público - Nacional","N/A"]
[null,{"$f":"VLOOKUP(C558,[1]instancias_objetos!A:B,2,FALSE)","v":"INST28"},"Comisión Colombiana del Océano",1,{"$f":"VLOOKUP(F558,[1]Hoja4!C:D,2,FALSE)","v":"ACT179"},"Ministerio de Educación Nacional","Sector Público - Nacional","N/A"]
[null,{"$f":"VLOOKUP(C559,[1]instancias_objetos!A:B,2,FALSE)","v":"INST28"},"Comisión Colombiana del Océano",1,{"$f":"VLOOKUP(F559,[1]Hoja4!C:D,2,FALSE)","v":"ACT182"},"Ministerio de Minas y Energía","Sector Público - Nacional","N/A"]
[null,{"$f":"VLOOKUP(C560,[1]instancias_objetos!A:B,2,FALSE)","v":"INST28"},"Comisión Colombiana del Océano",1,{"$f":"VLOOKUP(F560,[1]Hoja4!C:D,2,FALSE)","v":"ACT183"},"Ministerio de Relaciones Exteriores","Sector Público - Nacional","N/A"]
[null,{"$f":"VLOOKUP(C561,[1]instancias_objetos!A:B,2,FALSE)","v":"INST28"},"Comisión Colombiana del Océano",1,{"$f":"VLOOKUP(F561,[1]Hoja4!C:D,2,FALSE)","v":"ACT186"},"Ministerio de Transporte","Sector Público - Nacional","N/A"]
[null,{"$f":"VLOOKUP(C562,[1]instancias_objetos!A:B,2,FALSE)","v":"INST28"},"Comisión Colombiana del Océano",1,{"$f":"VLOOKUP(F562,[1]Hoja4!C:D,2,FALSE)","v":"ACT210"},"Presidencia de la República","Sector Público - Nacional","N/A"]
[null,{"$f":"VLOOKUP(C563,[1]instancias_objetos!A:B,2,FALSE)","v":"INST28"},"Comisión Colombiana del Océano",1,{"$f":"VLOOKUP(F563,[1]Hoja4!C:D,2,FALSE)","v":"ACT210"},"Presidencia de la República","Sector Público - Nacional","N/A"]
[null,{"$f":"VLOOKUP(C564,[1]instancias_objetos!A:B,2,FALSE)","v":"INST29"},"Consejo Superior de Pequeña y Mediana Empresa",3,{"$f":"VLOOKUP(F564,[1]Hoja4!C:D,2,FALSE)","v":"ACT28"},"Asociación Colombiana de Instituciones de Educación Superior con Formación Técnica Profesional y/o Tecnológica","Organización de la Sociedad Civil","Educación"]
[null,{"$f":"VLOOKUP(C565,[1]instancias_objetos!A:B,2,FALSE)","v":"INST29"},"Consejo Superior de Pequeña y Mediana Empresa",1,{"$f":"VLOOKUP(F565,[1]Hoja4!C:D,2,FALSE)","v":"ACT29"},"Asociación Colombiana de Pequeñas y Medianas Empresas","Organización de la Sociedad Civil","Competitividad, Financiero y Sector Privado"]
[null,{"$f":"VLOOKUP(C566,[1]instancias_objetos!A:B,2,FALSE)","v":"INST29"},"Consejo Superior de Pequeña y Mediana Empresa",3,{"$f":"VLOOKUP(F566,[1]Hoja4!C:D,2,FALSE)","v":"ACT34"},"Asociación Colombiana de Universidades","Organización de la Sociedad Civil","Educación"]
[null,{"$f":"VLOOKUP(C567,[1]instancias_objetos!A:B,2,FALSE)","v":"INST29"},"Consejo Superior de Pequeña y Mediana Empresa",1,{"$f":"VLOOKUP(F567,[1]Hoja4!C:D,2,FALSE)","v":"ACT54"},"Banco de Comercio Exterior de Colombia","Sector Público - Nacional","N/A"]
[null,{"$f":"VLOOKUP(C568,[1]instancias_objetos!A:B,2,FALSE)","v":"INST29"},"Consejo Superior de Pequeña y Mediana Empresa",1,{"$f":"VLOOKUP(F568,[1]Hoja4!C:D,2,FALSE)","v":"ACT70"},"Confederación Colombiana de Cámaras de Comercio","Sector Público - Nacional","N/A"]
[null,{"$f":"VLOOKUP(C569,[1]instancias_objetos!A:B,2,FALSE)","v":"INST29"},"Consejo Superior de Pequeña y Mediana Empresa",1,{"$f":"VLOOKUP(F569,[1]Hoja4!C:D,2,FALSE)","v":"ACT126"},"Departamento Nacional de Planeación","Sector Público - Nacional","N/A"]
[null,{"$f":"VLOOKUP(C570,[1]instancias_objetos!A:B,2,FALSE)","v":"INST29"},"Consejo Superior de Pequeña y Mediana Empresa",1,{"$f":"VLOOKUP(F570,[1]Hoja4!C:D,2,FALSE)","v":"ACT135"},"Federación Colombiana de Municipios","Sector Privado","Control Social, Transparencia, Comunitario y Veedurías"]
[null,{"$f":"VLOOKUP(C571,[1]instancias_objetos!A:B,2,FALSE)","v":"INST29"},"Consejo Superior de Pequeña y Mediana Empresa",1,{"$f":"VLOOKUP(F571,[1]Hoja4!C:D,2,FALSE)","v":"ACT140"},"Federación Nacional de Comerciantes","Organización de la Sociedad Civil","Comercio"]
[null,{"$f":"VLOOKUP(C572,[1]instancias_objetos!A:B,2,FALSE)","v":"INST29"},"Consejo Superior de Pequeña y Mediana Empresa",1,{"$f":"VLOOKUP(F572,[1]Hoja4!C:D,2,FALSE)","v":"ACT141"},"Federación Nacional de Departamentos","Sector Público - Territorial","N/A"]
[null,{"$f":"VLOOKUP(C573,[1]instancias_objetos!A:B,2,FALSE)","v":"INST29"},"Consejo Superior de Pequeña y Mediana Empresa",1,{"$f":"VLOOKUP(F573,[1]Hoja4!C:D,2,FALSE)","v":"ACT146"},"Fondo Nacional de Garantías","Sector Público - Nacional","N/A"]
[null,{"$f":"VLOOKUP(C574,[1]instancias_objetos!A:B,2,FALSE)","v":"INST29"},"Consejo Superior de Pequeña y Mediana Empresa",1,{"$f":"VLOOKUP(F574,[1]Hoja4!C:D,2,FALSE)","v":"ACT173"},"Ministerio de Agricultura y Desarrollo Rural","Sector Público - Nacional","N/A"]
[null,{"$f":"VLOOKUP(C575,[1]instancias_objetos!A:B,2,FALSE)","v":"INST29"},"Consejo Superior de Pequeña y Mediana Empresa",1,{"$f":"VLOOKUP(F575,[1]Hoja4!C:D,2,FALSE)","v":"ACT174"},"Ministerio de Ambiente y Desarrollo Sostenible","Sector Público - Nacional","N/A"]
[null,{"$f":"VLOOKUP(C576,[1]instancias_objetos!A:B,2,FALSE)","v":"INST29"},"Consejo Superior de Pequeña y Mediana Empresa",1,{"$f":"VLOOKUP(F576,[1]Hoja4!C:D,2,FALSE)","v":"ACT175"},"Ministerio de Ciencia, Tecnología e Innovación","Sector Público - Nacional","N/A"]
[null,{"$f":"VLOOKUP(C577,[1]instancias_objetos!A:B,2,FALSE)","v":"INST29"},"Consejo Superior de Pequeña y Mediana Empresa",1,{"$f":"VLOOKUP(F577,[1]Hoja4!C:D,2,FALSE)","v":"ACT176"},"Ministerio de Comercio, Industria y Turismo","Sector Público - Nacional","N/A"]
[null,{"$f":"VLOOKUP(C578,[1]instancias_objetos!A:B,2,FALSE)","v":"INST29"},"Consejo Superior de Pequeña y Mediana Empresa",1,{"$f":"VLOOKUP(F578,[1]Hoja4!C:D,2,FALSE)","v":"ACT184"},"Ministerio de Salud y Protección Social","Sector Público - Nacional","N/A"]
[null,{"$f":"VLOOKUP(C579,[1]instancias_objetos!A:B,2,FALSE)","v":"INST29"},"Consejo Superior de Pequeña y Mediana Empresa",1,{"$f":"VLOOKUP(F579,[1]Hoja4!C:D,2,FALSE)","v":"ACT187"},"Ministerio de Vivienda, Ciudad y Territorio","Sector Público - Nacional","N/A"]
[null,{"$f":"VLOOKUP(C580,[1]instancias_objetos!A:B,2,FALSE)","v":"INST29"},"Consejo Superior de Pequeña y Mediana Empresa",1,{"$f":"VLOOKUP(F580,[1]Hoja4!C:D,2,FALSE)","v":"ACT247"},"Representante de la Banca de Desarrollo y Microcrédito","Sector Privado","Competitividad, Financiero y Sector Privado"]
[null,{"$f":"VLOOKUP(C581,[1]instancias_objetos!A:B,2,FALSE)","v":"INST29"},"Consejo Superior de Pequeña y Mediana Empresa",3,{"$f":"VLOOKUP(F581,[1]Hoja4!C:D,2,FALSE)","v":"ACT304"},"Representante de las Instituciones de Educación Superior","Delegado Sectorial de la Sociedad Civil","Educación"]
[null,{"$f":"VLOOKUP(C582,[1]instancias_objetos!A:B,2,FALSE)","v":"INST29"},"Consejo Superior de Pequeña y Mediana Empresa",3,{"$f":"VLOOKUP(F582,[1]Hoja4!C:D,2,FALSE)","v":"ACT311"},"Representante de las Instituciones Técnicas Profesionales","Delegado Sectorial de la Sociedad Civil","Educación"]
[null,{"$f":"VLOOKUP(C583,[1]instancias_objetos!A:B,2,FALSE)","v":"INST29"},"Consejo Superior de Pequeña y Mediana Empresa",1,{"$f":"VLOOKUP(F583,[1]Hoja4!C:D,2,FALSE)","v":"ACT323"},"Representante de las ONGs dedicadas a la investigación y desarrollo tecnológico de las PYMES","Delegado Sectorial de la Sociedad Civil","Educación"]
[null,{"$f":"VLOOKUP(C584,[1]instancias_objetos!A:B,2,FALSE)","v":"INST29"},"Consejo Superior de Pequeña y Mediana Empresa",1,{"$f":"VLOOKUP(F584,[1]Hoja4!C:D,2,FALSE)","v":"ACT375"},"Representante de los Consejos Regionales de Pequeña y Mediana Empresa","Delegado Sectorial de la Sociedad Civil","Comercio"]
[null,{"$f":"VLOOKUP(C585,[1]instancias_objetos!A:B,2,FALSE)","v":"INST29"},"Consejo Superior de Pequeña y Mediana Empresa",2,{"$f":"VLOOKUP(F585,[1]Hoja4!C:D,2,FALSE)","v":"ACT459"},"Representante del Sector Empresarial","Delegado Sectorial de la Sociedad Civil","Comercio"]
[null,{"$f":"VLOOKUP(C586,[1]instancias_objetos!A:B,2,FALSE)","v":"INST29"},"Consejo Superior de Pequeña y Mediana Empresa",1,{"$f":"VLOOKUP(F586,[1]Hoja4!C:D,2,FALSE)","v":"ACT486"},"Servicio Nacional de Aprendizaje","Sector Público - Nacional","N/A"]
[null,{"$f":"VLOOKUP(C587,[1]instancias_objetos!A:B,2,FALSE)","v":"INST30"},"Consejo Asesor de Política Minera",1,{"$f":"VLOOKUP(F587,[1]Hoja4!C:D,2,FALSE)","v":"ACT10"},"Agencia Nacional de Minería","Sector Público - Nacional","N/A"]
[null,{"$f":"VLOOKUP(C588,[1]instancias_objetos!A:B,2,FALSE)","v":"INST30"},"Consejo Asesor de Política Minera",1,{"$f":"VLOOKUP(F588,[1]Hoja4!C:D,2,FALSE)","v":"ACT174"},"Ministerio de Ambiente y Desarrollo Sostenible","Sector Público - Nacional","N/A"]
[null,{"$f":"VLOOKUP(C589,[1]instancias_objetos!A:B,2,FALSE)","v":"INST30"},"Consejo Asesor de Política Minera",1,{"$f":"VLOOKUP(F589,[1]Hoja4!C:D,2,FALSE)","v":"ACT182"},"Ministerio de Minas y Energía","Sector Público - Nacional","N/A"]
[null,{"$f":"VLOOKUP(C590,[1]instancias_objetos!A:B,2,FALSE)","v":"INST30"},"Consejo Asesor de Política Minera",1,{"$f":"VLOOKUP(F590,[1]Hoja4!C:D,2,FALSE)","v":"ACT457"},"Representante del Sector Educativo","Delegado Sectorial de la Sociedad Civil","Educación"]
[null,{"$f":"VLOOKUP(C591,[1]instancias_objetos!A:B,2,FALSE)","v":"INST30"},"Consejo Asesor de Política Minera",2,{"$f":"VLOOKUP(F591,[1]Hoja4!C:D,2,FALSE)","v":"ACT464"},"Representante del Sector Minero-Energético y Productivo","Delegado Sectorial de la Sociedad Civil","Agricultura y Ruralidad"]
[null,{"$f":"VLOOKUP(C592,[1]instancias_objetos!A:B,2,FALSE)","v":"INST30"},"Consejo Asesor de Política Minera",1,{"$f":"VLOOKUP(F592,[1]Hoja4!C:D,2,FALSE)","v":"ACT464"},"Representante del Sector Minero-Energético y Productivo","Delegado Sectorial de la Sociedad Civil","Agricultura y Ruralidad"]
[null,{"$f":"VLOOKUP(C593,[1]instancias_objetos!A:B,2,FALSE)","v":"INST31"},"Comisión Consultiva de las Mujeres Indígenas Rurales",1,{"$f":"VLOOKUP(F593,[1]Hoja4!C:D,2,FALSE)","v":"ACT319"},"Representante de las Mujeres Indígenas Rurales","Delegado Sectorial de la Sociedad Civil","Grupos Étnicos (Afros, Indígenas, Raizales, Palenqueros y ROM)"]
[null,{"$f":"VLOOKUP(C594,[1]instancias_objetos!A:B,2,FALSE)","v":"INST32"},"Comisión de Seguimiento y Verificación de las Políticas de Generación de Empleo",1,{"$f":"VLOOKUP(F594,[1]Hoja4!C:D,2,FALSE)","v":"ACT124"},"Departamento Administrativo Nacional de Estadística","Sector Público - Nacional","N/A"]
[null,{"$f":"VLOOKUP(C595,[1]instancias_objetos!A:B,2,FALSE)","v":"INST32"},"Comisión de Seguimiento y Verificación de las Políticas de Generación de Empleo",1,{"$f":"VLOOKUP(F595,[1]Hoja4!C:D,2,FALSE)","v":"ACT126"},"Departamento Nacional de Planeación","Sector Público - Nacional","N/A"]
[null,{"$f":"VLOOKUP(C596,[1]instancias_objetos!A:B,2,FALSE)","v":"INST32"},"Comisión de Seguimiento y Verificación de las Políticas de Generación de Empleo",1,{"$f":"VLOOKUP(F596,[1]Hoja4!C:D,2,FALSE)","v":"ACT190"},"Ministerio del Trabajo","Sector Público - Nacional","N/A"]
[null,{"$f":"VLOOKUP(C597,[1]instancias_objetos!A:B,2,FALSE)","v":"INST32"},"Comisión de Seguimiento y Verificación de las Políticas de Generación de Empleo",2,{"$f":"VLOOKUP(F597,[1]Hoja4!C:D,2,FALSE)","v":"ACT224"},"Representante a la Cámara","Sector Público - Nacional","N/A"]
[null,{"$f":"VLOOKUP(C598,[1]instancias_objetos!A:B,2,FALSE)","v":"INST32"},"Comisión de Seguimiento y Verificación de las Políticas de Generación de Empleo",1,{"$f":"VLOOKUP(F598,[1]Hoja4!C:D,2,FALSE)","v":"ACT288"},"Representante de las Centrales Obreras","Delegado Sectorial de la Sociedad Civil","Trabajo"]
[null,{"$f":"VLOOKUP(C599,[1]instancias_objetos!A:B,2,FALSE)","v":"INST32"},"Comisión de Seguimiento y Verificación de las Políticas de Generación de Empleo",1,{"$f":"VLOOKUP(F599,[1]Hoja4!C:D,2,FALSE)","v":"ACT382"},"Representante de los Empleadores","Delegado Sectorial de la Sociedad Civil","Trabajo"]
[null,{"$f":"VLOOKUP(C600,[1]instancias_objetos!A:B,2,FALSE)","v":"INST32"},"Comisión de Seguimiento y Verificación de las Políticas de Generación de Empleo",2,{"$f":"VLOOKUP(F600,[1]Hoja4!C:D,2,FALSE)","v":"ACT482"},"Senador de la República","Sector Público - Nacional","N/A"]
[null,{"$f":"VLOOKUP(C601,[1]instancias_objetos!A:B,2,FALSE)","v":"INST33"},"Consejo Nacional de las Artes y la Cultura en Cinematografía",1,{"$f":"VLOOKUP(F601,[1]Hoja4!C:D,2,FALSE)","v":"ACT177"},"Ministerio de Cultura de Colombia","Sector Público - Nacional","N/A"]
[null,{"$f":"VLOOKUP(C602,[1]instancias_objetos!A:B,2,FALSE)","v":"INST33"},"Consejo Nacional de las Artes y la Cultura en Cinematografía",1,{"$f":"VLOOKUP(F602,[1]Hoja4!C:D,2,FALSE)","v":"ACT177"},"Ministerio de Cultura de Colombia","Sector Público - Nacional","N/A"]
[null,{"$f":"VLOOKUP(C603,[1]instancias_objetos!A:B,2,FALSE)","v":"INST33"},"Consejo Nacional de las Artes y la Cultura en Cinematografía",1,{"$f":"VLOOKUP(F603,[1]Hoja4!C:D,2,FALSE)","v":"ACT373"},"Representante de los Consejos Departamentales y Distritales en Cinematografía","Delegado Sectorial de la Sociedad Civil","Cultura"]
[null,{"$f":"VLOOKUP(C604,[1]instancias_objetos!A:B,2,FALSE)","v":"INST33"},"Consejo Nacional de las Artes y la Cultura en Cinematografía",1,{"$f":"VLOOKUP(F604,[1]Hoja4!C:D,2,FALSE)","v":"ACT377"},"Representante de los Directores de Cinematografía","Delegado Sectorial de la Sociedad Civil","Cultura"]
[null,{"$f":"VLOOKUP(C605,[1]instancias_objetos!A:B,2,FALSE)","v":"INST33"},"Consejo Nacional de las Artes y la Cultura en Cinematografía",1,{"$f":"VLOOKUP(F605,[1]Hoja4!C:D,2,FALSE)","v":"ACT378"},"Representante de los Distribuidores de Largometraje","Delegado Sectorial de la Sociedad Civil","Comercio"]
[null,{"$f":"VLOOKUP(C606,[1]instancias_objetos!A:B,2,FALSE)","v":"INST33"},"Consejo Nacional de las Artes y la Cultura en Cinematografía",1,{"$f":"VLOOKUP(F606,[1]Hoja4!C:D,2,FALSE)","v":"ACT401"},"Representante de los Productores de Largometraje","Delegado Sectorial de la Sociedad Civil","Comercio"]
[null,{"$f":"VLOOKUP(C607,[1]instancias_objetos!A:B,2,FALSE)","v":"INST33"},"Consejo Nacional de las Artes y la Cultura en Cinematografía",2,{"$f":"VLOOKUP(F607,[1]Hoja4!C:D,2,FALSE)","v":"ACT446"},"Representante del Sector Cinematográfico","Delegado Sectorial de la Sociedad Civil","Cultura"]
[null,{"$f":"VLOOKUP(C608,[1]instancias_objetos!A:B,2,FALSE)","v":"INST34"},"Comisión Nacional Intersectorial de Vigilancia en Salud Pública",1,{"$f":"VLOOKUP(F608,[1]Hoja4!C:D,2,FALSE)","v":"ACT126"},"Departamento Nacional de Planeación","Sector Público - Nacional","N/A"]
[null,{"$f":"VLOOKUP(C609,[1]instancias_objetos!A:B,2,FALSE)","v":"INST34"},"Comisión Nacional Intersectorial de Vigilancia en Salud Pública",1,{"$f":"VLOOKUP(F609,[1]Hoja4!C:D,2,FALSE)","v":"ACT173"},"Ministerio de Agricultura y Desarrollo Rural","Sector Público - Nacional","N/A"]
[null,{"$f":"VLOOKUP(C610,[1]instancias_objetos!A:B,2,FALSE)","v":"INST34"},"Comisión Nacional Intersectorial de Vigilancia en Salud Pública",1,{"$f":"VLOOKUP(F610,[1]Hoja4!C:D,2,FALSE)","v":"ACT174"},"Ministerio de Ambiente y Desarrollo Sostenible","Sector Público - Nacional","N/A"]
[null,{"$f":"VLOOKUP(C611,[1]instancias_objetos!A:B,2,FALSE)","v":"INST34"},"Comisión Nacional Intersectorial de Vigilancia en Salud Pública",1,{"$f":"VLOOKUP(F611,[1]Hoja4!C:D,2,FALSE)","v":"ACT176"},"Ministerio de Comercio, Industria y Turismo","Sector Público - Nacional","N/A"]
[null,{"$f":"VLOOKUP(C612,[1]instancias_objetos!A:B,2,FALSE)","v":"INST34"},"Comisión Nacional Intersectorial de Vigilancia en Salud Pública",1,{"$f":"VLOOKUP(F612,[1]Hoja4!C:D,2,FALSE)","v":"ACT184"},"Ministerio de Salud y Protección Social","Sector Público - Nacional","N/A"]
[null,{"$f":"VLOOKUP(C613,[1]instancias_objetos!A:B,2,FALSE)","v":"INST34"},"Comisión Nacional Intersectorial de Vigilancia en Salud Pública",1,{"$f":"VLOOKUP(F613,[1]Hoja4!C:D,2,FALSE)","v":"ACT186"},"Ministerio de Transporte","Sector Público - Nacional","N/A"]
[null,{"$f":"VLOOKUP(C614,[1]instancias_objetos!A:B,2,FALSE)","v":"INST34"},"Comisión Nacional Intersectorial de Vigilancia en Salud Pública",1,{"$f":"VLOOKUP(F614,[1]Hoja4!C:D,2,FALSE)","v":"ACT189"},"Ministerio del Interior","Sector Público - Nacional","N/A"]
[null,{"$f":"VLOOKUP(C615,[1]instancias_objetos!A:B,2,FALSE)","v":"INST34"},"Comisión Nacional Intersectorial de Vigilancia en Salud Pública",1,{"$f":"VLOOKUP(F615,[1]Hoja4!C:D,2,FALSE)","v":"ACT295"},"Representante de las Facultades de Ciencias de la Salud","Delegado Sectorial de la Sociedad Civil","Salud"]
[null,{"$f":"VLOOKUP(C616,[1]instancias_objetos!A:B,2,FALSE)","v":"INST35"},"Consejo Nacional de Política Social",1,{"$f":"VLOOKUP(F616,[1]Hoja4!C:D,2,FALSE)","v":"ACT49"},"Autoridades Indígenas de Colombia","Organización de la Sociedad Civil","Grupos Étnicos (Afros, Indígenas, Raizales, Palenqueros y ROM)"]
[null,{"$f":"VLOOKUP(C617,[1]instancias_objetos!A:B,2,FALSE)","v":"INST35"},"Consejo Nacional de Política Social",1,{"$f":"VLOOKUP(F617,[1]Hoja4!C:D,2,FALSE)","v":"ACT50"},"Autoridades Locales","Sector Público - Territorial","N/A"]
[null,{"$f":"VLOOKUP(C618,[1]instancias_objetos!A:B,2,FALSE)","v":"INST35"},"Consejo Nacional de Política Social",1,{"$f":"VLOOKUP(F618,[1]Hoja4!C:D,2,FALSE)","v":"ACT50"},"Autoridades Locales","Sector Público - Territorial","N/A"]
[null,{"$f":"VLOOKUP(C619,[1]instancias_objetos!A:B,2,FALSE)","v":"INST35"},"Consejo Nacional de Política Social",1,{"$f":"VLOOKUP(F619,[1]Hoja4!C:D,2,FALSE)","v":"ACT126"},"Departamento Nacional de Planeación","Sector Público - Nacional","N/A"]
[null,{"$f":"VLOOKUP(C620,[1]instancias_objetos!A:B,2,FALSE)","v":"INST35"},"Consejo Nacional de Política Social",1,{"$f":"VLOOKUP(F620,[1]Hoja4!C:D,2,FALSE)","v":"ACT157"},"Instituto Colombiano de Bienestar Familiar","Sector Público - Nacional","N/A"]
[null,{"$f":"VLOOKUP(C621,[1]instancias_objetos!A:B,2,FALSE)","v":"INST35"},"Consejo Nacional de Política Social",1,{"$f":"VLOOKUP(F621,[1]Hoja4!C:D,2,FALSE)","v":"ACT174"},"Ministerio de Ambiente y Desarrollo Sostenible","Sector Público - Nacional","N/A"]
[null,{"$f":"VLOOKUP(C622,[1]instancias_objetos!A:B,2,FALSE)","v":"INST35"},"Consejo Nacional de Política Social",1,{"$f":"VLOOKUP(F622,[1]Hoja4!C:D,2,FALSE)","v":"ACT177"},"Ministerio de Cultura de Colombia","Sector Público - Nacional","N/A"]
[null,{"$f":"VLOOKUP(C623,[1]instancias_objetos!A:B,2,FALSE)","v":"INST35"},"Consejo Nacional de Política Social",1,{"$f":"VLOOKUP(F623,[1]Hoja4!C:D,2,FALSE)","v":"ACT179"},"Ministerio de Educación Nacional","Sector Público - Nacional","N/A"]
[null,{"$f":"VLOOKUP(C624,[1]instancias_objetos!A:B,2,FALSE)","v":"INST35"},"Consejo Nacional de Política Social",1,{"$f":"VLOOKUP(F624,[1]Hoja4!C:D,2,FALSE)","v":"ACT180"},"Ministerio de Hacienda y Crédito Público","Sector Público - Nacional","N/A"]
[null,{"$f":"VLOOKUP(C625,[1]instancias_objetos!A:B,2,FALSE)","v":"INST35"},"Consejo Nacional de Política Social",1,{"$f":"VLOOKUP(F625,[1]Hoja4!C:D,2,FALSE)","v":"ACT181"},"Ministerio de Justicia y del Derecho","Sector Público - Nacional","N/A"]
[null,{"$f":"VLOOKUP(C626,[1]instancias_objetos!A:B,2,FALSE)","v":"INST35"},"Consejo Nacional de Política Social",1,{"$f":"VLOOKUP(F626,[1]Hoja4!C:D,2,FALSE)","v":"ACT184"},"Ministerio de Salud y Protección Social","Sector Público - Nacional","N/A"]
[null,{"$f":"VLOOKUP(C627,[1]instancias_objetos!A:B,2,FALSE)","v":"INST35"},"Consejo Nacional de Política Social",1,{"$f":"VLOOKUP(F627,[1]Hoja4!C:D,2,FALSE)","v":"ACT185"},"Ministerio de Tecnologías de la Información y las Comunicaciones","Sector Público - Nacional","N/A"]
[null,{"$f":"VLOOKUP(C628,[1]instancias_objetos!A:B,2,FALSE)","v":"INST35"},"Consejo Nacional de Política Social",1,{"$f":"VLOOKUP(F628,[1]Hoja4!C:D,2,FALSE)","v":"ACT187"},"Ministerio de Vivienda, Ciudad y Territorio","Sector Público - Nacional","N/A"]
[null,{"$f":"VLOOKUP(C629,[1]instancias_objetos!A:B,2,FALSE)","v":"INST35"},"Consejo Nacional de Política Social",1,{"$f":"VLOOKUP(F629,[1]Hoja4!C:D,2,FALSE)","v":"ACT189"},"Ministerio del Interior","Sector Público - Nacional","N/A"]
[null,{"$f":"VLOOKUP(C630,[1]instancias_objetos!A:B,2,FALSE)","v":"INST35"},"Consejo Nacional de Política Social",1,{"$f":"VLOOKUP(F630,[1]Hoja4!C:D,2,FALSE)","v":"ACT210"},"Presidencia de la República","Sector Público - Nacional","N/A"]
[null,{"$f":"VLOOKUP(C631,[1]instancias_objetos!A:B,2,FALSE)","v":"INST36"},"Red Nacional para el Emprendimiento",1,{"$f":"VLOOKUP(F631,[1]Hoja4!C:D,2,FALSE)","v":"ACT28"},"Asociación Colombiana de Instituciones de Educación Superior con Formación Técnica Profesional y/o Tecnológica","Organización de la Sociedad Civil","Educación"]
[null,{"$f":"VLOOKUP(C632,[1]instancias_objetos!A:B,2,FALSE)","v":"INST36"},"Red Nacional para el Emprendimiento",1,{"$f":"VLOOKUP(F632,[1]Hoja4!C:D,2,FALSE)","v":"ACT29"},"Asociación Colombiana de Pequeñas y Medianas Empresas","Organización de la Sociedad Civil","Competitividad, Financiero y Sector Privado"]
[null,{"$f":"VLOOKUP(C633,[1]instancias_objetos!A:B,2,FALSE)","v":"INST36"},"Red Nacional para el Emprendimiento",1,{"$f":"VLOOKUP(F633,[1]Hoja4!C:D,2,FALSE)","v":"ACT34"},"Asociación Colombiana de Universidades","Organización de la Sociedad Civil","Educación"]
[null,{"$f":"VLOOKUP(C634,[1]instancias_objetos!A:B,2,FALSE)","v":"INST36"},"Red Nacional para el Emprendimiento",1,{"$f":"VLOOKUP(F634,[1]Hoja4!C:D,2,FALSE)","v":"ACT84"},"Consejería Presidencial para la Juventud","Sector Público - Nacional","N/A"]
[null,{"$f":"VLOOKUP(C635,[1]instancias_objetos!A:B,2,FALSE)","v":"INST36"},"Red Nacional para el Emprendimiento",1,{"$f":"VLOOKUP(F635,[1]Hoja4!C:D,2,FALSE)","v":"ACT126"},"Departamento Nacional de Planeación","Sector Público - Nacional","N/A"]
[null,{"$f":"VLOOKUP(C636,[1]instancias_objetos!A:B,2,FALSE)","v":"INST36"},"Red Nacional para el Emprendimiento",1,{"$f":"VLOOKUP(F636,[1]Hoja4!C:D,2,FALSE)","v":"ACT140"},"Federación Nacional de Comerciantes","Organización de la Sociedad Civil","Comercio"]
[null,{"$f":"VLOOKUP(C637,[1]instancias_objetos!A:B,2,FALSE)","v":"INST36"},"Red Nacional para el Emprendimiento",1,{"$f":"VLOOKUP(F637,[1]Hoja4!C:D,2,FALSE)","v":"ACT175"},"Ministerio de Ciencia, Tecnología e Innovación","Sector Público - Nacional","N/A"]
[null,{"$f":"VLOOKUP(C638,[1]instancias_objetos!A:B,2,FALSE)","v":"INST36"},"Red Nacional para el Emprendimiento",1,{"$f":"VLOOKUP(F638,[1]Hoja4!C:D,2,FALSE)","v":"ACT176"},"Ministerio de Comercio, Industria y Turismo","Sector Público - Nacional","N/A"]
[null,{"$f":"VLOOKUP(C639,[1]instancias_objetos!A:B,2,FALSE)","v":"INST36"},"Red Nacional para el Emprendimiento",1,{"$f":"VLOOKUP(F639,[1]Hoja4!C:D,2,FALSE)","v":"ACT179"},"Ministerio de Educación Nacional","Sector Público - Nacional","N/A"]
[null,{"$f":"VLOOKUP(C640,[1]instancias_objetos!A:B,2,FALSE)","v":"INST36"},"Red Nacional para el Emprendimiento",1,{"$f":"VLOOKUP(F640,[1]Hoja4!C:D,2,FALSE)","v":"ACT184"},"Ministerio de Salud y Protección Social","Sector Público - Nacional","N/A"]
[null,{"$f":"VLOOKUP(C641,[1]instancias_objetos!A:B,2,FALSE)","v":"INST36"},"Red Nacional para el Emprendimiento",1,{"$f":"VLOOKUP(F641,[1]Hoja4!C:D,2,FALSE)","v":"ACT247"},"Representante de la Banca de Desarrollo y Microcrédito","Sector Privado","Competitividad, Financiero y Sector Privado"]
[null,{"$f":"VLOOKUP(C642,[1]instancias_objetos!A:B,2,FALSE)","v":"INST36"},"Red Nacional para el Emprendimiento",1,{"$f":"VLOOKUP(F642,[1]Hoja4!C:D,2,FALSE)","v":"ACT273"},"Representante de las Asociaciones de Jóvenes Empresarios","Delegado Sectorial de la Sociedad Civil","Comercio"]
[null,{"$f":"VLOOKUP(C643,[1]instancias_objetos!A:B,2,FALSE)","v":"INST36"},"Red Nacional para el Emprendimiento",1,{"$f":"VLOOKUP(F643,[1]Hoja4!C:D,2,FALSE)","v":"ACT287"},"Representante de las Cajas de Compensación Familiar","Sector Privado","Trabajo"]
[null,{"$f":"VLOOKUP(C644,[1]instancias_objetos!A:B,2,FALSE)","v":"INST36"},"Red Nacional para el Emprendimiento",1,{"$f":"VLOOKUP(F644,[1]Hoja4!C:D,2,FALSE)","v":"ACT302"},"Representante de las Fundaciones dedicadas al Emprendimiento","Delegado Sectorial de la Sociedad Civil","Solidario"]
[null,{"$f":"VLOOKUP(C645,[1]instancias_objetos!A:B,2,FALSE)","v":"INST36"},"Red Nacional para el Emprendimiento",1,{"$f":"VLOOKUP(F645,[1]Hoja4!C:D,2,FALSE)","v":"ACT303"},"Representante de las Incubadoras de Empresas","Sector Privado","Competitividad, Financiero y Sector Privado"]
[null,{"$f":"VLOOKUP(C646,[1]instancias_objetos!A:B,2,FALSE)","v":"INST36"},"Red Nacional para el Emprendimiento",1,{"$f":"VLOOKUP(F646,[1]Hoja4!C:D,2,FALSE)","v":"ACT311"},"Representante de las Instituciones Técnicas Profesionales","Delegado Sectorial de la Sociedad Civil","Educación"]
[null,{"$f":"VLOOKUP(C647,[1]instancias_objetos!A:B,2,FALSE)","v":"INST36"},"Red Nacional para el Emprendimiento",1,{"$f":"VLOOKUP(F647,[1]Hoja4!C:D,2,FALSE)","v":"ACT486"},"Servicio Nacional de Aprendizaje","Sector Público - Nacional","N/A"]
[null,{"$f":"VLOOKUP(C648,[1]instancias_objetos!A:B,2,FALSE)","v":"INST37"},"Comisión Nacional de Trabajo y Concertación de la Educación para los Pueblos Indígenas",1,{"$f":"VLOOKUP(F648,[1]Hoja4!C:D,2,FALSE)","v":"ACT37"},"Asociación de Cabildos – Autoridades Tradicionales Indígenas Embera Dóbida, Katío, Chamí y Dule","Organización de la Sociedad Civil","Grupos Étnicos (Afros, Indígenas, Raizales, Palenqueros y ROM)"]
[null,{"$f":"VLOOKUP(C649,[1]instancias_objetos!A:B,2,FALSE)","v":"INST37"},"Comisión Nacional de Trabajo y Concertación de la Educación para los Pueblos Indígenas",1,{"$f":"VLOOKUP(F649,[1]Hoja4!C:D,2,FALSE)","v":"ACT38"},"Asociación de Cabildos y Autoridades Tradicionales del Pueblo Uwa","Organización de la Sociedad Civil","Grupos Étnicos (Afros, Indígenas, Raizales, Palenqueros y ROM)"]
[null,{"$f":"VLOOKUP(C650,[1]instancias_objetos!A:B,2,FALSE)","v":"INST37"},"Comisión Nacional de Trabajo y Concertación de la Educación para los Pueblos Indígenas",1,{"$f":"VLOOKUP(F650,[1]Hoja4!C:D,2,FALSE)","v":"ACT39"},"Asociación de Cabildos y Autoridades Tradicionales Indígenas del Departamento de Arauca","Organización de la Sociedad Civil","Grupos Étnicos (Afros, Indígenas, Raizales, Palenqueros y ROM)"]
[null,{"$f":"VLOOKUP(C651,[1]instancias_objetos!A:B,2,FALSE)","v":"INST37"},"Comisión Nacional de Trabajo y Concertación de la Educación para los Pueblos Indígenas",1,{"$f":"VLOOKUP(F651,[1]Hoja4!C:D,2,FALSE)","v":"ACT49"},"Autoridades Indígenas de Colombia","Organización de la Sociedad Civil","Grupos Étnicos (Afros, Indígenas, Raizales, Palenqueros y ROM)"]
[null,{"$f":"VLOOKUP(C652,[1]instancias_objetos!A:B,2,FALSE)","v":"INST37"},"Comisión Nacional de Trabajo y Concertación de la Educación para los Pueblos Indígenas",1,{"$f":"VLOOKUP(F652,[1]Hoja4!C:D,2,FALSE)","v":"ACT56"},"Cabildo Mayor Regional del Pueblo Zenú","Organización de la Sociedad Civil","Grupos Étnicos (Afros, Indígenas, Raizales, Palenqueros y ROM)"]
[null,{"$f":"VLOOKUP(C653,[1]instancias_objetos!A:B,2,FALSE)","v":"INST37"},"Comisión Nacional de Trabajo y Concertación de la Educación para los Pueblos Indígenas",1,{"$f":"VLOOKUP(F653,[1]Hoja4!C:D,2,FALSE)","v":"ACT76"},"Confederación Indígena Tairona","Organización de la Sociedad Civil","Grupos Étnicos (Afros, Indígenas, Raizales, Palenqueros y ROM)"]
[null,{"$f":"VLOOKUP(C654,[1]instancias_objetos!A:B,2,FALSE)","v":"INST37"},"Comisión Nacional de Trabajo y Concertación de la Educación para los Pueblos Indígenas",1,{"$f":"VLOOKUP(F654,[1]Hoja4!C:D,2,FALSE)","v":"ACT98"},"Consejo Regional Indígena del Cauca","Organización de la Sociedad Civil","Grupos Étnicos (Afros, Indígenas, Raizales, Palenqueros y ROM)"]
[null,{"$f":"VLOOKUP(C655,[1]instancias_objetos!A:B,2,FALSE)","v":"INST37"},"Comisión Nacional de Trabajo y Concertación de la Educación para los Pueblos Indígenas",1,{"$f":"VLOOKUP(F655,[1]Hoja4!C:D,2,FALSE)","v":"ACT99"},"Consejo Regional Indígena del Tolima","Organización de la Sociedad Civil","Grupos Étnicos (Afros, Indígenas, Raizales, Palenqueros y ROM)"]
[null,{"$f":"VLOOKUP(C656,[1]instancias_objetos!A:B,2,FALSE)","v":"INST37"},"Comisión Nacional de Trabajo y Concertación de la Educación para los Pueblos Indígenas",1,{"$f":"VLOOKUP(F656,[1]Hoja4!C:D,2,FALSE)","v":"ACT100"},"Consejo Regional Indígena del Vaupés","Organización de la Sociedad Civil","Grupos Étnicos (Afros, Indígenas, Raizales, Palenqueros y ROM)"]
[null,{"$f":"VLOOKUP(C657,[1]instancias_objetos!A:B,2,FALSE)","v":"INST37"},"Comisión Nacional de Trabajo y Concertación de la Educación para los Pueblos Indígenas",2,{"$f":"VLOOKUP(F657,[1]Hoja4!C:D,2,FALSE)","v":"ACT179"},"Ministerio de Educación Nacional","Sector Público - Nacional","N/A"]
[null,{"$f":"VLOOKUP(C658,[1]instancias_objetos!A:B,2,FALSE)","v":"INST37"},"Comisión Nacional de Trabajo y Concertación de la Educación para los Pueblos Indígenas",1,{"$f":"VLOOKUP(F658,[1]Hoja4!C:D,2,FALSE)","v":"ACT179"},"Ministerio de Educación Nacional","Sector Público - Nacional","N/A"]
[null,{"$f":"VLOOKUP(C659,[1]instancias_objetos!A:B,2,FALSE)","v":"INST37"},"Comisión Nacional de Trabajo y Concertación de la Educación para los Pueblos Indígenas",1,{"$f":"VLOOKUP(F659,[1]Hoja4!C:D,2,FALSE)","v":"ACT189"},"Ministerio del Interior","Sector Público - Nacional","N/A"]
[null,{"$f":"VLOOKUP(C660,[1]instancias_objetos!A:B,2,FALSE)","v":"INST37"},"Comisión Nacional de Trabajo y Concertación de la Educación para los Pueblos Indígenas",1,{"$f":"VLOOKUP(F660,[1]Hoja4!C:D,2,FALSE)","v":"ACT195"},"Organización de los Pueblos Indígenas del Bajo Orinoco","Organización de la Sociedad Civil","Grupos Étnicos (Afros, Indígenas, Raizales, Palenqueros y ROM)"]
[null,{"$f":"VLOOKUP(C661,[1]instancias_objetos!A:B,2,FALSE)","v":"INST37"},"Comisión Nacional de Trabajo y Concertación de la Educación para los Pueblos Indígenas",1,{"$f":"VLOOKUP(F661,[1]Hoja4!C:D,2,FALSE)","v":"ACT196"},"Organización Indígena de Antioquia","Organización de la Sociedad Civil","Grupos Étnicos (Afros, Indígenas, Raizales, Palenqueros y ROM)"]
[null,{"$f":"VLOOKUP(C662,[1]instancias_objetos!A:B,2,FALSE)","v":"INST37"},"Comisión Nacional de Trabajo y Concertación de la Educación para los Pueblos Indígenas",1,{"$f":"VLOOKUP(F662,[1]Hoja4!C:D,2,FALSE)","v":"ACT197"},"Organización Indígena Gonawindua Tayrona","Organización de la Sociedad Civil","Grupos Étnicos (Afros, Indígenas, Raizales, Palenqueros y ROM)"]
[null,{"$f":"VLOOKUP(C663,[1]instancias_objetos!A:B,2,FALSE)","v":"INST37"},"Comisión Nacional de Trabajo y Concertación de la Educación para los Pueblos Indígenas",1,{"$f":"VLOOKUP(F663,[1]Hoja4!C:D,2,FALSE)","v":"ACT199"},"Organización Nacional de los Pueblos Indígenas de la Amazonía Colombiana","Organización de la Sociedad Civil","Grupos Étnicos (Afros, Indígenas, Raizales, Palenqueros y ROM)"]
[null,{"$f":"VLOOKUP(C664,[1]instancias_objetos!A:B,2,FALSE)","v":"INST37"},"Comisión Nacional de Trabajo y Concertación de la Educación para los Pueblos Indígenas",1,{"$f":"VLOOKUP(F664,[1]Hoja4!C:D,2,FALSE)","v":"ACT200"},"Organización Nacional Indígena de Colombia","Organización de la Sociedad Civil","Grupos Étnicos (Afros, Indígenas, Raizales, Palenqueros y ROM)"]
[null,{"$f":"VLOOKUP(C665,[1]instancias_objetos!A:B,2,FALSE)","v":"INST37"},"Comisión Nacional de Trabajo y Concertación de la Educación para los Pueblos Indígenas",1,{"$f":"VLOOKUP(F665,[1]Hoja4!C:D,2,FALSE)","v":"ACT202"},"Organización Regional Indígena Valle del Cauca","Organización de la Sociedad Civil","Educación"]
[null,{"$f":"VLOOKUP(C666,[1]instancias_objetos!A:B,2,FALSE)","v":"INST37"},"Comisión Nacional de Trabajo y Concertación de la Educación para los Pueblos Indígenas",1,{"$f":"VLOOKUP(F666,[1]Hoja4!C:D,2,FALSE)","v":"ACT204"},"Organización Zonal Indígena del Putumayo","Organización de la Sociedad Civil","Grupos Étnicos (Afros, Indígenas, Raizales, Palenqueros y ROM)"]
[null,{"$f":"VLOOKUP(C667,[1]instancias_objetos!A:B,2,FALSE)","v":"INST37"},"Comisión Nacional de Trabajo y Concertación de la Educación para los Pueblos Indígenas",1,{"$f":"VLOOKUP(F667,[1]Hoja4!C:D,2,FALSE)","v":"ACT348"},"Representante de las Organizaciones Indígenas del Caquetá o Guaviare","Delegado Sectorial de la Sociedad Civil","Grupos Étnicos (Afros, Indígenas, Raizales, Palenqueros y ROM)"]
[null,{"$f":"VLOOKUP(C668,[1]instancias_objetos!A:B,2,FALSE)","v":"INST37"},"Comisión Nacional de Trabajo y Concertación de la Educación para los Pueblos Indígenas",1,{"$f":"VLOOKUP(F668,[1]Hoja4!C:D,2,FALSE)","v":"ACT426"},"Representante del Consejo Mayor de Educación del Pueblo de los Pastos","Delegado Sectorial de la Sociedad Civil","Educación"]
[null,{"$f":"VLOOKUP(C669,[1]instancias_objetos!A:B,2,FALSE)","v":"INST37"},"Comisión Nacional de Trabajo y Concertación de la Educación para los Pueblos Indígenas",1,{"$f":"VLOOKUP(F669,[1]Hoja4!C:D,2,FALSE)","v":"ACT432"},"Representante del Programa de Educación del Pueblo Wayuu","Delegado Sectorial de la Sociedad Civil","Grupos Étnicos (Afros, Indígenas, Raizales, Palenqueros y ROM)"]
[null,{"$f":"VLOOKUP(C670,[1]instancias_objetos!A:B,2,FALSE)","v":"INST37"},"Comisión Nacional de Trabajo y Concertación de la Educación para los Pueblos Indígenas",1,{"$f":"VLOOKUP(F670,[1]Hoja4!C:D,2,FALSE)","v":"ACT472"},"Representante indígena de la Secretaría Operativa de la Mesa Permanente de Concertación con los Pueblos Indígenas y Organizaciones Indígenas","Delegado Sectorial de la Sociedad Civil","Grupos Étnicos (Afros, Indígenas, Raizales, Palenqueros y ROM)"]
[null,{"$f":"VLOOKUP(C671,[1]instancias_objetos!A:B,2,FALSE)","v":"INST38"},"Comité Interinstitucional Consultivo para la Prevención de la Violencia Sexual y Atención Integral de los Niños, Niñas y Adolescentes Víctimas del Abuso Sexual",1,{"$f":"VLOOKUP(F671,[1]Hoja4!C:D,2,FALSE)","v":"ACT101"},"Consejo Superior de la Judicatura","Sector Público - Nacional","N/A"]
[null,{"$f":"VLOOKUP(C672,[1]instancias_objetos!A:B,2,FALSE)","v":"INST38"},"Comité Interinstitucional Consultivo para la Prevención de la Violencia Sexual y Atención Integral de los Niños, Niñas y Adolescentes Víctimas del Abuso Sexual",1,{"$f":"VLOOKUP(F672,[1]Hoja4!C:D,2,FALSE)","v":"ACT121"},"Defensoría del Pueblo","Sector Público - Nacional","N/A"]
[null,{"$f":"VLOOKUP(C673,[1]instancias_objetos!A:B,2,FALSE)","v":"INST38"},"Comité Interinstitucional Consultivo para la Prevención de la Violencia Sexual y Atención Integral de los Niños, Niñas y Adolescentes Víctimas del Abuso Sexual",1,{"$f":"VLOOKUP(F673,[1]Hoja4!C:D,2,FALSE)","v":"ACT144"},"Fiscalía General de la Nación","Sector Público - Nacional","N/A"]
[null,{"$f":"VLOOKUP(C674,[1]instancias_objetos!A:B,2,FALSE)","v":"INST38"},"Comité Interinstitucional Consultivo para la Prevención de la Violencia Sexual y Atención Integral de los Niños, Niñas y Adolescentes Víctimas del Abuso Sexual",1,{"$f":"VLOOKUP(F674,[1]Hoja4!C:D,2,FALSE)","v":"ACT157"},"Instituto Colombiano de Bienestar Familiar","Sector Público - Nacional","N/A"]
[null,{"$f":"VLOOKUP(C675,[1]instancias_objetos!A:B,2,FALSE)","v":"INST38"},"Comité Interinstitucional Consultivo para la Prevención de la Violencia Sexual y Atención Integral de los Niños, Niñas y Adolescentes Víctimas del Abuso Sexual",1,{"$f":"VLOOKUP(F675,[1]Hoja4!C:D,2,FALSE)","v":"ACT166"},"Instituto Nacional de Medicina Legal y Ciencias Forenses","Sector Público - Nacional","N/A"]
[null,{"$f":"VLOOKUP(C676,[1]instancias_objetos!A:B,2,FALSE)","v":"INST38"},"Comité Interinstitucional Consultivo para la Prevención de la Violencia Sexual y Atención Integral de los Niños, Niñas y Adolescentes Víctimas del Abuso Sexual",1,{"$f":"VLOOKUP(F676,[1]Hoja4!C:D,2,FALSE)","v":"ACT179"},"Ministerio de Educación Nacional","Sector Público - Nacional","N/A"]
[null,{"$f":"VLOOKUP(C677,[1]instancias_objetos!A:B,2,FALSE)","v":"INST38"},"Comité Interinstitucional Consultivo para la Prevención de la Violencia Sexual y Atención Integral de los Niños, Niñas y Adolescentes Víctimas del Abuso Sexual",1,{"$f":"VLOOKUP(F677,[1]Hoja4!C:D,2,FALSE)","v":"ACT184"},"Ministerio de Salud y Protección Social","Sector Público - Nacional","N/A"]
[null,{"$f":"VLOOKUP(C678,[1]instancias_objetos!A:B,2,FALSE)","v":"INST38"},"Comité Interinstitucional Consultivo para la Prevención de la Violencia Sexual y Atención Integral de los Niños, Niñas y Adolescentes Víctimas del Abuso Sexual",1,{"$f":"VLOOKUP(F678,[1]Hoja4!C:D,2,FALSE)","v":"ACT185"},"Ministerio de Tecnologías de la Información y las Comunicaciones","Sector Público - Nacional","N/A"]
[null,{"$f":"VLOOKUP(C679,[1]instancias_objetos!A:B,2,FALSE)","v":"INST38"},"Comité Interinstitucional Consultivo para la Prevención de la Violencia Sexual y Atención Integral de los Niños, Niñas y Adolescentes Víctimas del Abuso Sexual",1,{"$f":"VLOOKUP(F679,[1]Hoja4!C:D,2,FALSE)","v":"ACT209"},"Policía Nacional","Sector Público - Nacional","N/A"]
[null,{"$f":"VLOOKUP(C680,[1]instancias_objetos!A:B,2,FALSE)","v":"INST38"},"Comité Interinstitucional Consultivo para la Prevención de la Violencia Sexual y Atención Integral de los Niños, Niñas y Adolescentes Víctimas del Abuso Sexual",1,{"$f":"VLOOKUP(F680,[1]Hoja4!C:D,2,FALSE)","v":"ACT214"},"Procuraduría General de la Nación","Sector Público - Nacional","N/A"]
[null,{"$f":"VLOOKUP(C681,[1]instancias_objetos!A:B,2,FALSE)","v":"INST38"},"Comité Interinstitucional Consultivo para la Prevención de la Violencia Sexual y Atención Integral de los Niños, Niñas y Adolescentes Víctimas del Abuso Sexual",1,{"$f":"VLOOKUP(F681,[1]Hoja4!C:D,2,FALSE)","v":"ACT266"},"Representante de las Asociaciones Colombianas de Psiquiatría, Psicología, Pediatría, Sexología","Delegado Sectorial de la Sociedad Civil","Salud"]
[null,{"$f":"VLOOKUP(C682,[1]instancias_objetos!A:B,2,FALSE)","v":"INST38"},"Comité Interinstitucional Consultivo para la Prevención de la Violencia Sexual y Atención Integral de los Niños, Niñas y Adolescentes Víctimas del Abuso Sexual",1,{"$f":"VLOOKUP(F682,[1]Hoja4!C:D,2,FALSE)","v":"ACT326"},"Representante de las ONGs para la protección de niños","Delegado Sectorial de la Sociedad Civil","Poblacional y Género (Niñez, Jóvenes, Mujeres, Adulto Mayor, LGBTI)"]
[null,{"$f":"VLOOKUP(C683,[1]instancias_objetos!A:B,2,FALSE)","v":"INST39"},"Consejo Nacional de Discapacidad",1,{"$f":"VLOOKUP(F683,[1]Hoja4!C:D,2,FALSE)","v":"ACT51"},"Autoridades Nacionales","Sector Público - Nacional","N/A"]
[null,{"$f":"VLOOKUP(C684,[1]instancias_objetos!A:B,2,FALSE)","v":"INST39"},"Consejo Nacional de Discapacidad",1,{"$f":"VLOOKUP(F684,[1]Hoja4!C:D,2,FALSE)","v":"ACT122"},"Departamento Administrativo de la Función Pública","Sector Público - Nacional","N/A"]
[null,{"$f":"VLOOKUP(C685,[1]instancias_objetos!A:B,2,FALSE)","v":"INST39"},"Consejo Nacional de Discapacidad",1,{"$f":"VLOOKUP(F685,[1]Hoja4!C:D,2,FALSE)","v":"ACT126"},"Departamento Nacional de Planeación","Sector Público - Nacional","N/A"]
[null,{"$f":"VLOOKUP(C686,[1]instancias_objetos!A:B,2,FALSE)","v":"INST39"},"Consejo Nacional de Discapacidad",1,{"$f":"VLOOKUP(F686,[1]Hoja4!C:D,2,FALSE)","v":"ACT135"},"Federación Colombiana de Municipios","Sector Privado","Control Social, Transparencia, Comunitario y Veedurías"]
[null,{"$f":"VLOOKUP(C687,[1]instancias_objetos!A:B,2,FALSE)","v":"INST39"},"Consejo Nacional de Discapacidad",1,{"$f":"VLOOKUP(F687,[1]Hoja4!C:D,2,FALSE)","v":"ACT141"},"Federación Nacional de Departamentos","Sector Público - Territorial","N/A"]
[null,{"$f":"VLOOKUP(C688,[1]instancias_objetos!A:B,2,FALSE)","v":"INST39"},"Consejo Nacional de Discapacidad",1,{"$f":"VLOOKUP(F688,[1]Hoja4!C:D,2,FALSE)","v":"ACT178"},"Ministerio de Defensa Nacional","Sector Público - Nacional","N/A"]
[null,{"$f":"VLOOKUP(C689,[1]instancias_objetos!A:B,2,FALSE)","v":"INST39"},"Consejo Nacional de Discapacidad",1,{"$f":"VLOOKUP(F689,[1]Hoja4!C:D,2,FALSE)","v":"ACT179"},"Ministerio de Educación Nacional","Sector Público - Nacional","N/A"]
[null,{"$f":"VLOOKUP(C690,[1]instancias_objetos!A:B,2,FALSE)","v":"INST39"},"Consejo Nacional de Discapacidad",1,{"$f":"VLOOKUP(F690,[1]Hoja4!C:D,2,FALSE)","v":"ACT180"},"Ministerio de Hacienda y Crédito Público","Sector Público - Nacional","N/A"]
[null,{"$f":"VLOOKUP(C691,[1]instancias_objetos!A:B,2,FALSE)","v":"INST39"},"Consejo Nacional de Discapacidad",1,{"$f":"VLOOKUP(F691,[1]Hoja4!C:D,2,FALSE)","v":"ACT184"},"Ministerio de Salud y Protección Social","Sector Público - Nacional","N/A"]
[null,{"$f":"VLOOKUP(C692,[1]instancias_objetos!A:B,2,FALSE)","v":"INST39"},"Consejo Nacional de Discapacidad",1,{"$f":"VLOOKUP(F692,[1]Hoja4!C:D,2,FALSE)","v":"ACT185"},"Ministerio de Tecnologías de la Información y las Comunicaciones","Sector Público - Nacional","N/A"]
[null,{"$f":"VLOOKUP(C693,[1]instancias_objetos!A:B,2,FALSE)","v":"INST39"},"Consejo Nacional de Discapacidad",1,{"$f":"VLOOKUP(F693,[1]Hoja4!C:D,2,FALSE)","v":"ACT186"},"Ministerio de Transporte","Sector Público - Nacional","N/A"]
[null,{"$f":"VLOOKUP(C694,[1]instancias_objetos!A:B,2,FALSE)","v":"INST39"},"Consejo Nacional de Discapacidad",1,{"$f":"VLOOKUP(F694,[1]Hoja4!C:D,2,FALSE)","v":"ACT210"},"Presidencia de la República","Sector Público - Nacional","N/A"]
[null,{"$f":"VLOOKUP(C695,[1]instancias_objetos!A:B,2,FALSE)","v":"INST39"},"Consejo Nacional de Discapacidad",1,{"$f":"VLOOKUP(F695,[1]Hoja4!C:D,2,FALSE)","v":"ACT258"},"Representante de la Sociedad Civil","Delegado Sectorial de la Sociedad Civil","Derechos Humanos"]
[null,{"$f":"VLOOKUP(C696,[1]instancias_objetos!A:B,2,FALSE)","v":"INST39"},"Consejo Nacional de Discapacidad",1,{"$f":"VLOOKUP(F696,[1]Hoja4!C:D,2,FALSE)","v":"ACT341"},"Representante de las Organizaciones de padres de familia de personas con discapacidad cognitiva","Delegado Sectorial de la Sociedad Civil","Discapacidad"]
[null,{"$f":"VLOOKUP(C697,[1]instancias_objetos!A:B,2,FALSE)","v":"INST39"},"Consejo Nacional de Discapacidad",1,{"$f":"VLOOKUP(F697,[1]Hoja4!C:D,2,FALSE)","v":"ACT342"},"Representante de las Organizaciones de personas con discapacidad auditiva","Delegado Sectorial de la Sociedad Civil","Discapacidad"]
[null,{"$f":"VLOOKUP(C698,[1]instancias_objetos!A:B,2,FALSE)","v":"INST39"},"Consejo Nacional de Discapacidad",1,{"$f":"VLOOKUP(F698,[1]Hoja4!C:D,2,FALSE)","v":"ACT343"},"Representante de las Organizaciones de personas con discapacidad de sordoceguera","Delegado Sectorial de la Sociedad Civil","Discapacidad"]
[null,{"$f":"VLOOKUP(C699,[1]instancias_objetos!A:B,2,FALSE)","v":"INST39"},"Consejo Nacional de Discapacidad",1,{"$f":"VLOOKUP(F699,[1]Hoja4!C:D,2,FALSE)","v":"ACT344"},"Representante de las Organizaciones de personas con discapacidad física","Delegado Sectorial de la Sociedad Civil","Discapacidad"]
[null,{"$f":"VLOOKUP(C700,[1]instancias_objetos!A:B,2,FALSE)","v":"INST39"},"Consejo Nacional de Discapacidad",1,{"$f":"VLOOKUP(F700,[1]Hoja4!C:D,2,FALSE)","v":"ACT345"},"Representante de las Organizaciones de personas con discapacidad mental","Delegado Sectorial de la Sociedad Civil","Discapacidad"]
[null,{"$f":"VLOOKUP(C701,[1]instancias_objetos!A:B,2,FALSE)","v":"INST39"},"Consejo Nacional de Discapacidad",1,{"$f":"VLOOKUP(F701,[1]Hoja4!C:D,2,FALSE)","v":"ACT346"},"Representante de las Organizaciones de personas con discapacidad múltiple","Delegado Sectorial de la Sociedad Civil","Discapacidad"]
[null,{"$f":"VLOOKUP(C702,[1]instancias_objetos!A:B,2,FALSE)","v":"INST39"},"Consejo Nacional de Discapacidad",1,{"$f":"VLOOKUP(F702,[1]Hoja4!C:D,2,FALSE)","v":"ACT347"},"Representante de las Organizaciones de personas con discapacidad visual","Delegado Sectorial de la Sociedad Civil","Discapacidad"]
[null,{"$f":"VLOOKUP(C703,[1]instancias_objetos!A:B,2,FALSE)","v":"INST39"},"Consejo Nacional de Discapacidad",1,{"$f":"VLOOKUP(F703,[1]Hoja4!C:D,2,FALSE)","v":"ACT356"},"Representante de las Universidades","Delegado Sectorial de la Sociedad Civil","Educación"]
[null,{"$f":"VLOOKUP(C704,[1]instancias_objetos!A:B,2,FALSE)","v":"INST40"},"Consejo Nacional del Talento Humano en Salud",1,{"$f":"VLOOKUP(F704,[1]Hoja4!C:D,2,FALSE)","v":"ACT179"},"Ministerio de Educación Nacional","Sector Público - Nacional","N/A"]
[null,{"$f":"VLOOKUP(C705,[1]instancias_objetos!A:B,2,FALSE)","v":"INST40"},"Consejo Nacional del Talento Humano en Salud",1,{"$f":"VLOOKUP(F705,[1]Hoja4!C:D,2,FALSE)","v":"ACT184"},"Ministerio de Salud y Protección Social","Sector Público - Nacional","N/A"]
[null,{"$f":"VLOOKUP(C706,[1]instancias_objetos!A:B,2,FALSE)","v":"INST40"},"Consejo Nacional del Talento Humano en Salud",1,{"$f":"VLOOKUP(F706,[1]Hoja4!C:D,2,FALSE)","v":"ACT270"},"Representante de las Asociaciones de Estudiantes de Programas del Área de la Salud","Delegado Sectorial de la Sociedad Civil","Educación"]
[null,{"$f":"VLOOKUP(C707,[1]instancias_objetos!A:B,2,FALSE)","v":"INST40"},"Consejo Nacional del Talento Humano en Salud",2,{"$f":"VLOOKUP(F707,[1]Hoja4!C:D,2,FALSE)","v":"ACT271"},"Representante de las Asociaciones de Facultades de las Ciencias de la Salud","Delegado Sectorial de la Sociedad Civil","Educación"]
[null,{"$f":"VLOOKUP(C708,[1]instancias_objetos!A:B,2,FALSE)","v":"INST40"},"Consejo Nacional del Talento Humano en Salud",1,{"$f":"VLOOKUP(F708,[1]Hoja4!C:D,2,FALSE)","v":"ACT274"},"Representante de las Asociaciones de las Entidades Aseguradoras ","Delegado Sectorial de la Sociedad Civil","Competitividad, Financiero y Sector Privado"]
[null,{"$f":"VLOOKUP(C709,[1]instancias_objetos!A:B,2,FALSE)","v":"INST40"},"Consejo Nacional del Talento Humano en Salud",1,{"$f":"VLOOKUP(F709,[1]Hoja4!C:D,2,FALSE)","v":"ACT275"},"Representante de las Asociaciones de las Instituciones Prestadoras de Servicios de Salud","Sector Privado","Salud"]
[null,{"$f":"VLOOKUP(C710,[1]instancias_objetos!A:B,2,FALSE)","v":"INST40"},"Consejo Nacional del Talento Humano en Salud",1,{"$f":"VLOOKUP(F710,[1]Hoja4!C:D,2,FALSE)","v":"ACT379"},"Representante de los Egresados de las instituciones educativas no formales del Área de la Salud","Delegado Sectorial de la Sociedad Civil","Educación"]
[null,{"$f":"VLOOKUP(C711,[1]instancias_objetos!A:B,2,FALSE)","v":"INST40"},"Consejo Nacional del Talento Humano en Salud",1,{"$f":"VLOOKUP(F711,[1]Hoja4!C:D,2,FALSE)","v":"ACT380"},"Representante de los Egresados de los Programas de Educación Superior del Área de la Salud","Delegado Sectorial de la Sociedad Civil","Educación"]
[null,{"$f":"VLOOKUP(C712,[1]instancias_objetos!A:B,2,FALSE)","v":"INST40"},"Consejo Nacional del Talento Humano en Salud",1,{"$f":"VLOOKUP(F712,[1]Hoja4!C:D,2,FALSE)","v":"ACT468"},"Representante del Sector Salud","Delegado Sectorial de la Sociedad Civil","Salud"]
[null,{"$f":"VLOOKUP(C713,[1]instancias_objetos!A:B,2,FALSE)","v":"INST41"},"Comisión Intersectorial para el Talento Humano en Salud",1,{"$f":"VLOOKUP(F713,[1]Hoja4!C:D,2,FALSE)","v":"ACT179"},"Ministerio de Educación Nacional","Sector Público - Nacional","N/A"]
[null,{"$f":"VLOOKUP(C714,[1]instancias_objetos!A:B,2,FALSE)","v":"INST41"},"Comisión Intersectorial para el Talento Humano en Salud",1,{"$f":"VLOOKUP(F714,[1]Hoja4!C:D,2,FALSE)","v":"ACT184"},"Ministerio de Salud y Protección Social","Sector Público - Nacional","N/A"]
[null,{"$f":"VLOOKUP(C715,[1]instancias_objetos!A:B,2,FALSE)","v":"INST41"},"Comisión Intersectorial para el Talento Humano en Salud",1,{"$f":"VLOOKUP(F715,[1]Hoja4!C:D,2,FALSE)","v":"ACT473"},"Representante por cada una de las Asociaciones, Organizaciones, Instituciones y Entidades que tengan relación directa con la formación, el ejercicio y el desempeño del talento humano en salud","Delegado Sectorial de la Sociedad Civil","Salud"]
[null,{"$f":"VLOOKUP(C716,[1]instancias_objetos!A:B,2,FALSE)","v":"INST42"},"Comité de Clasificación de Películas como Órgano Adscrito al Ministerio de Cultura",1,{"$f":"VLOOKUP(F716,[1]Hoja4!C:D,2,FALSE)","v":"ACT177"},"Ministerio de Cultura de Colombia","Sector Público - Nacional","N/A"]
[null,{"$f":"VLOOKUP(C717,[1]instancias_objetos!A:B,2,FALSE)","v":"INST42"},"Comité de Clasificación de Películas como Órgano Adscrito al Ministerio de Cultura",1,{"$f":"VLOOKUP(F717,[1]Hoja4!C:D,2,FALSE)","v":"ACT258"},"Representante de la Sociedad Civil","Delegado Sectorial de la Sociedad Civil","Cultura"]
[null,{"$f":"VLOOKUP(C718,[1]instancias_objetos!A:B,2,FALSE)","v":"INST42"},"Comité de Clasificación de Películas como Órgano Adscrito al Ministerio de Cultura",1,{"$f":"VLOOKUP(F718,[1]Hoja4!C:D,2,FALSE)","v":"ACT258"},"Representante de la Sociedad Civil","Delegado Sectorial de la Sociedad Civil","Justicia"]
[null,{"$f":"VLOOKUP(C719,[1]instancias_objetos!A:B,2,FALSE)","v":"INST42"},"Comité de Clasificación de Películas como Órgano Adscrito al Ministerio de Cultura",1,{"$f":"VLOOKUP(F719,[1]Hoja4!C:D,2,FALSE)","v":"ACT258"},"Representante de la Sociedad Civil","Delegado Sectorial de la Sociedad Civil","Salud"]
[null,{"$f":"VLOOKUP(C720,[1]instancias_objetos!A:B,2,FALSE)","v":"INST42"},"Comité de Clasificación de Películas como Órgano Adscrito al Ministerio de Cultura",1,{"$f":"VLOOKUP(F720,[1]Hoja4!C:D,2,FALSE)","v":"ACT277"},"Representante de las Asociaciones de Padres de Familia","Delegado Sectorial de la Sociedad Civil","Educación"]
[null,{"$f":"VLOOKUP(C721,[1]instancias_objetos!A:B,2,FALSE)","v":"INST42"},"Comité de Clasificación de Películas como Órgano Adscrito al Ministerio de Cultura",1,{"$f":"VLOOKUP(F721,[1]Hoja4!C:D,2,FALSE)","v":"ACT457"},"Representante del Sector Educativo","Delegado Sectorial de la Sociedad Civil","Educación"]
[null,{"$f":"VLOOKUP(C722,[1]instancias_objetos!A:B,2,FALSE)","v":"INST43"},"Comité de Seguimiento a la Ley 1257",1,{"$f":"VLOOKUP(F722,[1]Hoja4!C:D,2,FALSE)","v":"ACT81"},"Consejería Presidencial para la Equidad de la Mujer","Sector Público - Nacional","N/A"]
[null,{"$f":"VLOOKUP(C723,[1]instancias_objetos!A:B,2,FALSE)","v":"INST43"},"Comité de Seguimiento a la Ley 1257",1,{"$f":"VLOOKUP(F723,[1]Hoja4!C:D,2,FALSE)","v":"ACT101"},"Consejo Superior de la Judicatura","Sector Público - Nacional","N/A"]
[null,{"$f":"VLOOKUP(C724,[1]instancias_objetos!A:B,2,FALSE)","v":"INST43"},"Comité de Seguimiento a la Ley 1257",1,{"$f":"VLOOKUP(F724,[1]Hoja4!C:D,2,FALSE)","v":"ACT121"},"Defensoría del Pueblo","Sector Público - Nacional","N/A"]
[null,{"$f":"VLOOKUP(C725,[1]instancias_objetos!A:B,2,FALSE)","v":"INST43"},"Comité de Seguimiento a la Ley 1257",1,{"$f":"VLOOKUP(F725,[1]Hoja4!C:D,2,FALSE)","v":"ACT144"},"Fiscalía General de la Nación","Sector Público - Nacional","N/A"]
[null,{"$f":"VLOOKUP(C726,[1]instancias_objetos!A:B,2,FALSE)","v":"INST43"},"Comité de Seguimiento a la Ley 1257",1,{"$f":"VLOOKUP(F726,[1]Hoja4!C:D,2,FALSE)","v":"ACT178"},"Ministerio de Defensa Nacional","Sector Público - Nacional","N/A"]
[null,{"$f":"VLOOKUP(C727,[1]instancias_objetos!A:B,2,FALSE)","v":"INST43"},"Comité de Seguimiento a la Ley 1257",1,{"$f":"VLOOKUP(F727,[1]Hoja4!C:D,2,FALSE)","v":"ACT181"},"Ministerio de Justicia y del Derecho","Sector Público - Nacional","N/A"]
[null,{"$f":"VLOOKUP(C728,[1]instancias_objetos!A:B,2,FALSE)","v":"INST43"},"Comité de Seguimiento a la Ley 1257",1,{"$f":"VLOOKUP(F728,[1]Hoja4!C:D,2,FALSE)","v":"ACT184"},"Ministerio de Salud y Protección Social","Sector Público - Nacional","N/A"]
[null,{"$f":"VLOOKUP(C729,[1]instancias_objetos!A:B,2,FALSE)","v":"INST43"},"Comité de Seguimiento a la Ley 1257",1,{"$f":"VLOOKUP(F729,[1]Hoja4!C:D,2,FALSE)","v":"ACT189"},"Ministerio del Interior","Sector Público - Nacional","N/A"]
[null,{"$f":"VLOOKUP(C730,[1]instancias_objetos!A:B,2,FALSE)","v":"INST43"},"Comité de Seguimiento a la Ley 1257",1,{"$f":"VLOOKUP(F730,[1]Hoja4!C:D,2,FALSE)","v":"ACT214"},"Procuraduría General de la Nación","Sector Público - Nacional","N/A"]
[null,{"$f":"VLOOKUP(C731,[1]instancias_objetos!A:B,2,FALSE)","v":"INST43"},"Comité de Seguimiento a la Ley 1257",2,{"$f":"VLOOKUP(F731,[1]Hoja4!C:D,2,FALSE)","v":"ACT224"},"Representante a la Cámara","Sector Público - Nacional","N/A"]
[null,{"$f":"VLOOKUP(C732,[1]instancias_objetos!A:B,2,FALSE)","v":"INST43"},"Comité de Seguimiento a la Ley 1257",3,{"$f":"VLOOKUP(F732,[1]Hoja4!C:D,2,FALSE)","v":"ACT365"},"Representante de las Víctimas de violencia sexual en el marco del conflicto armado","Delegado Sectorial de la Sociedad Civil","Víctimas y Construcción de Paz"]
[null,{"$f":"VLOOKUP(C733,[1]instancias_objetos!A:B,2,FALSE)","v":"INST43"},"Comité de Seguimiento a la Ley 1257",1,{"$f":"VLOOKUP(F733,[1]Hoja4!C:D,2,FALSE)","v":"ACT465"},"Representante del Sector Mujeres","Delegado Sectorial de la Sociedad Civil","Poblacional y Género (Niñez, Jóvenes, Mujeres, Adulto Mayor, LGBTI)"]
[null,{"$f":"VLOOKUP(C734,[1]instancias_objetos!A:B,2,FALSE)","v":"INST43"},"Comité de Seguimiento a la Ley 1257",2,{"$f":"VLOOKUP(F734,[1]Hoja4!C:D,2,FALSE)","v":"ACT482"},"Senador de la República","Sector Público - Nacional","N/A"]
[null,{"$f":"VLOOKUP(C735,[1]instancias_objetos!A:B,2,FALSE)","v":"INST44"},"Consejo Nacional de Patrimonio Cultural",1,{"$f":"VLOOKUP(F735,[1]Hoja4!C:D,2,FALSE)","v":"ACT02"},"Academia Colombiana de Historia","Organización de la Sociedad Civil","Educación"]
[null,{"$f":"VLOOKUP(C736,[1]instancias_objetos!A:B,2,FALSE)","v":"INST44"},"Consejo Nacional de Patrimonio Cultural",1,{"$f":"VLOOKUP(F736,[1]Hoja4!C:D,2,FALSE)","v":"ACT03"},"Academia Colombiana de la Lengua","Organización de la Sociedad Civil","Educación"]
[null,{"$f":"VLOOKUP(C737,[1]instancias_objetos!A:B,2,FALSE)","v":"INST44"},"Consejo Nacional de Patrimonio Cultural",1,{"$f":"VLOOKUP(F737,[1]Hoja4!C:D,2,FALSE)","v":"ACT17"},"Archivo General de la Nación","Sector Público - Nacional","N/A"]
[null,{"$f":"VLOOKUP(C738,[1]instancias_objetos!A:B,2,FALSE)","v":"INST44"},"Consejo Nacional de Patrimonio Cultural",3,{"$f":"VLOOKUP(F738,[1]Hoja4!C:D,2,FALSE)","v":"ACT132"},"Experto de la salvaguardia y/o conservación del patrimonio cultural","Delegado Sectorial de la Sociedad Civil","Cultura"]
[null,{"$f":"VLOOKUP(C739,[1]instancias_objetos!A:B,2,FALSE)","v":"INST44"},"Consejo Nacional de Patrimonio Cultural",1,{"$f":"VLOOKUP(F739,[1]Hoja4!C:D,2,FALSE)","v":"ACT153"},"Instituto Caro y Cuervo","Sector Público - Nacional","N/A"]
[null,{"$f":"VLOOKUP(C740,[1]instancias_objetos!A:B,2,FALSE)","v":"INST44"},"Consejo Nacional de Patrimonio Cultural",1,{"$f":"VLOOKUP(F740,[1]Hoja4!C:D,2,FALSE)","v":"ACT156"},"Instituto Colombiano de Antropología e Historia","Sector Público - Nacional","N/A"]
[null,{"$f":"VLOOKUP(C741,[1]instancias_objetos!A:B,2,FALSE)","v":"INST44"},"Consejo Nacional de Patrimonio Cultural",1,{"$f":"VLOOKUP(F741,[1]Hoja4!C:D,2,FALSE)","v":"ACT176"},"Ministerio de Comercio, Industria y Turismo","Sector Público - Nacional","N/A"]
[null,{"$f":"VLOOKUP(C742,[1]instancias_objetos!A:B,2,FALSE)","v":"INST44"},"Consejo Nacional de Patrimonio Cultural",1,{"$f":"VLOOKUP(F742,[1]Hoja4!C:D,2,FALSE)","v":"ACT177"},"Ministerio de Cultura de Colombia","Sector Público - Nacional","N/A"]
[null,{"$f":"VLOOKUP(C743,[1]instancias_objetos!A:B,2,FALSE)","v":"INST44"},"Consejo Nacional de Patrimonio Cultural",1,{"$f":"VLOOKUP(F743,[1]Hoja4!C:D,2,FALSE)","v":"ACT177"},"Ministerio de Cultura de Colombia","Sector Público - Nacional","N/A"]
[null,{"$f":"VLOOKUP(C744,[1]instancias_objetos!A:B,2,FALSE)","v":"INST44"},"Consejo Nacional de Patrimonio Cultural",1,{"$f":"VLOOKUP(F744,[1]Hoja4!C:D,2,FALSE)","v":"ACT187"},"Ministerio de Vivienda, Ciudad y Territorio","Sector Público - Nacional","N/A"]
[null,{"$f":"VLOOKUP(C745,[1]instancias_objetos!A:B,2,FALSE)","v":"INST44"},"Consejo Nacional de Patrimonio Cultural",1,{"$f":"VLOOKUP(F745,[1]Hoja4!C:D,2,FALSE)","v":"ACT206"},"Parques Nacionales Naturales de Colombia","Sector Público - Nacional","N/A"]
[null,{"$f":"VLOOKUP(C746,[1]instancias_objetos!A:B,2,FALSE)","v":"INST44"},"Consejo Nacional de Patrimonio Cultural",1,{"$f":"VLOOKUP(F746,[1]Hoja4!C:D,2,FALSE)","v":"ACT258"},"Representante de la Sociedad Civil","Delegado Sectorial de la Sociedad Civil","Cultura"]
[null,{"$f":"VLOOKUP(C747,[1]instancias_objetos!A:B,2,FALSE)","v":"INST44"},"Consejo Nacional de Patrimonio Cultural",1,{"$f":"VLOOKUP(F747,[1]Hoja4!C:D,2,FALSE)","v":"ACT357"},"Representante de las Universidades con departamentos encargados al estudio del patrimonio cultural","Delegado Sectorial de la Sociedad Civil","Educación"]
[null,{"$f":"VLOOKUP(C748,[1]instancias_objetos!A:B,2,FALSE)","v":"INST44"},"Consejo Nacional de Patrimonio Cultural",1,{"$f":"VLOOKUP(F748,[1]Hoja4!C:D,2,FALSE)","v":"ACT485"},"Servicio Geológico Colombiano","Sector Público - Nacional","N/A"]
[null,{"$f":"VLOOKUP(C749,[1]instancias_objetos!A:B,2,FALSE)","v":"INST44"},"Consejo Nacional de Patrimonio Cultural",1,{"$f":"VLOOKUP(F749,[1]Hoja4!C:D,2,FALSE)","v":"ACT487"},"Sociedad Colombiana de Arquitectos","Organización de la Sociedad Civil","Infraestructura"]
[null,{"$f":"VLOOKUP(C750,[1]instancias_objetos!A:B,2,FALSE)","v":"INST44"},"Consejo Nacional de Patrimonio Cultural",1,{"$f":"VLOOKUP(F750,[1]Hoja4!C:D,2,FALSE)","v":"ACT503"},"Universidad Nacional de Colombia","Sector Público - Nacional","N/A"]
[null,{"$f":"VLOOKUP(C751,[1]instancias_objetos!A:B,2,FALSE)","v":"INST45"},"Comisión del Proceso Oral y Justicia Pronta",2,{"$f":"VLOOKUP(F751,[1]Hoja4!C:D,2,FALSE)","v":"ACT88"},"Consejo de Estado","Sector Público - Nacional","N/A"]
[null,{"$f":"VLOOKUP(C752,[1]instancias_objetos!A:B,2,FALSE)","v":"INST45"},"Comisión del Proceso Oral y Justicia Pronta",1,{"$f":"VLOOKUP(F752,[1]Hoja4!C:D,2,FALSE)","v":"ACT101"},"Consejo Superior de la Judicatura","Sector Público - Nacional","N/A"]
[null,{"$f":"VLOOKUP(C753,[1]instancias_objetos!A:B,2,FALSE)","v":"INST45"},"Comisión del Proceso Oral y Justicia Pronta",1,{"$f":"VLOOKUP(F753,[1]Hoja4!C:D,2,FALSE)","v":"ACT115"},"Corte Constitucional de Colombia","Sector Público - Nacional","N/A"]
[null,{"$f":"VLOOKUP(C754,[1]instancias_objetos!A:B,2,FALSE)","v":"INST45"},"Comisión del Proceso Oral y Justicia Pronta",1,{"$f":"VLOOKUP(F754,[1]Hoja4!C:D,2,FALSE)","v":"ACT116"},"Corte Suprema de Justicia","Sector Público - Nacional","N/A"]
[null,{"$f":"VLOOKUP(C755,[1]instancias_objetos!A:B,2,FALSE)","v":"INST45"},"Comisión del Proceso Oral y Justicia Pronta",1,{"$f":"VLOOKUP(F755,[1]Hoja4!C:D,2,FALSE)","v":"ACT126"},"Departamento Nacional de Planeación","Sector Público - Nacional","N/A"]
[null,{"$f":"VLOOKUP(C756,[1]instancias_objetos!A:B,2,FALSE)","v":"INST45"},"Comisión del Proceso Oral y Justicia Pronta",1,{"$f":"VLOOKUP(F756,[1]Hoja4!C:D,2,FALSE)","v":"ACT180"},"Ministerio de Hacienda y Crédito Público","Sector Público - Nacional","N/A"]
[null,{"$f":"VLOOKUP(C757,[1]instancias_objetos!A:B,2,FALSE)","v":"INST45"},"Comisión del Proceso Oral y Justicia Pronta",1,{"$f":"VLOOKUP(F757,[1]Hoja4!C:D,2,FALSE)","v":"ACT181"},"Ministerio de Justicia y del Derecho","Sector Público - Nacional","N/A"]
[null,{"$f":"VLOOKUP(C758,[1]instancias_objetos!A:B,2,FALSE)","v":"INST45"},"Comisión del Proceso Oral y Justicia Pronta",1,{"$f":"VLOOKUP(F758,[1]Hoja4!C:D,2,FALSE)","v":"ACT185"},"Ministerio de Tecnologías de la Información y las Comunicaciones","Sector Público - Nacional","N/A"]
[null,{"$f":"VLOOKUP(C759,[1]instancias_objetos!A:B,2,FALSE)","v":"INST45"},"Comisión del Proceso Oral y Justicia Pronta",1,{"$f":"VLOOKUP(F759,[1]Hoja4!C:D,2,FALSE)","v":"ACT210"},"Presidencia de la República","Sector Público - Nacional","N/A"]
[null,{"$f":"VLOOKUP(C760,[1]instancias_objetos!A:B,2,FALSE)","v":"INST45"},"Comisión del Proceso Oral y Justicia Pronta",1,{"$f":"VLOOKUP(F760,[1]Hoja4!C:D,2,FALSE)","v":"ACT224"},"Representante a la Cámara","Sector Público - Nacional","N/A"]
[null,{"$f":"VLOOKUP(C761,[1]instancias_objetos!A:B,2,FALSE)","v":"INST45"},"Comisión del Proceso Oral y Justicia Pronta",1,{"$f":"VLOOKUP(F761,[1]Hoja4!C:D,2,FALSE)","v":"ACT250"},"Representante de la Comisión Intersectorial para la Efectividad del Principio de la Oralidad en el Régimen Procesal del Trabajo y de la Seguridad Social","Delegado Sectorial de la Sociedad Civil","Trabajo"]
[null,{"$f":"VLOOKUP(C762,[1]instancias_objetos!A:B,2,FALSE)","v":"INST45"},"Comisión del Proceso Oral y Justicia Pronta",1,{"$f":"VLOOKUP(F762,[1]Hoja4!C:D,2,FALSE)","v":"ACT251"},"Representante de la Comisión Intersectorial para la promoción de la oralidad en el régimen de familia, civil y agrario","Delegado Sectorial de la Sociedad Civil","Trabajo"]
[null,{"$f":"VLOOKUP(C763,[1]instancias_objetos!A:B,2,FALSE)","v":"INST45"},"Comisión del Proceso Oral y Justicia Pronta",2,{"$f":"VLOOKUP(F763,[1]Hoja4!C:D,2,FALSE)","v":"ACT457"},"Representante del Sector Educativo","Delegado Sectorial de la Sociedad Civil","Educación"]
[null,{"$f":"VLOOKUP(C764,[1]instancias_objetos!A:B,2,FALSE)","v":"INST45"},"Comisión del Proceso Oral y Justicia Pronta",1,{"$f":"VLOOKUP(F764,[1]Hoja4!C:D,2,FALSE)","v":"ACT462"},"Representante del Sector Justicia","Delegado Sectorial de la Sociedad Civil","Justicia"]
[null,{"$f":"VLOOKUP(C765,[1]instancias_objetos!A:B,2,FALSE)","v":"INST45"},"Comisión del Proceso Oral y Justicia Pronta",1,{"$f":"VLOOKUP(F765,[1]Hoja4!C:D,2,FALSE)","v":"ACT483"},"Senador de la República de la Comisión Primera Constitucional","Sector Público - Nacional","N/A"]
[null,{"$f":"VLOOKUP(C766,[1]instancias_objetos!A:B,2,FALSE)","v":"INST46"},"Comisión Nacional para la Seguridad, Comodidad y Convivencia en el Fútbol",1,{"$f":"VLOOKUP(F766,[1]Hoja4!C:D,2,FALSE)","v":"ACT50"},"Autoridades Locales","Sector Público - Territorial","N/A"]
[null,{"$f":"VLOOKUP(C767,[1]instancias_objetos!A:B,2,FALSE)","v":"INST46"},"Comisión Nacional para la Seguridad, Comodidad y Convivencia en el Fútbol",1,{"$f":"VLOOKUP(F767,[1]Hoja4!C:D,2,FALSE)","v":"ACT50"},"Autoridades Locales","Sector Público - Territorial","N/A"]
[null,{"$f":"VLOOKUP(C768,[1]instancias_objetos!A:B,2,FALSE)","v":"INST46"},"Comisión Nacional para la Seguridad, Comodidad y Convivencia en el Fútbol",1,{"$f":"VLOOKUP(F768,[1]Hoja4!C:D,2,FALSE)","v":"ACT121"},"Defensoría del Pueblo","Sector Público - Nacional","N/A"]
[null,{"$f":"VLOOKUP(C769,[1]instancias_objetos!A:B,2,FALSE)","v":"INST46"},"Comisión Nacional para la Seguridad, Comodidad y Convivencia en el Fútbol",1,{"$f":"VLOOKUP(F769,[1]Hoja4!C:D,2,FALSE)","v":"ACT130"},"División Mayor del Fútbol Profesional Colombiano","Organización de la Sociedad Civil","Deporte"]
[null,{"$f":"VLOOKUP(C770,[1]instancias_objetos!A:B,2,FALSE)","v":"INST46"},"Comisión Nacional para la Seguridad, Comodidad y Convivencia en el Fútbol",1,{"$f":"VLOOKUP(F770,[1]Hoja4!C:D,2,FALSE)","v":"ACT133"},"Federación Colombiana de Fútbol","Organización de la Sociedad Civil","Deporte"]
[null,{"$f":"VLOOKUP(C771,[1]instancias_objetos!A:B,2,FALSE)","v":"INST46"},"Comisión Nacional para la Seguridad, Comodidad y Convivencia en el Fútbol",1,{"$f":"VLOOKUP(F771,[1]Hoja4!C:D,2,FALSE)","v":"ACT144"},"Fiscalía General de la Nación","Sector Público - Nacional","N/A"]
[null,{"$f":"VLOOKUP(C772,[1]instancias_objetos!A:B,2,FALSE)","v":"INST46"},"Comisión Nacional para la Seguridad, Comodidad y Convivencia en el Fútbol",1,{"$f":"VLOOKUP(F772,[1]Hoja4!C:D,2,FALSE)","v":"ACT177"},"Ministerio de Cultura de Colombia","Sector Público - Nacional","N/A"]
[null,{"$f":"VLOOKUP(C773,[1]instancias_objetos!A:B,2,FALSE)","v":"INST46"},"Comisión Nacional para la Seguridad, Comodidad y Convivencia en el Fútbol",1,{"$f":"VLOOKUP(F773,[1]Hoja4!C:D,2,FALSE)","v":"ACT179"},"Ministerio de Educación Nacional","Sector Público - Nacional","N/A"]
[null,{"$f":"VLOOKUP(C774,[1]instancias_objetos!A:B,2,FALSE)","v":"INST46"},"Comisión Nacional para la Seguridad, Comodidad y Convivencia en el Fútbol",1,{"$f":"VLOOKUP(F774,[1]Hoja4!C:D,2,FALSE)","v":"ACT188"},"Ministerio del Deporte","Sector Público - Nacional","N/A"]
[null,{"$f":"VLOOKUP(C775,[1]instancias_objetos!A:B,2,FALSE)","v":"INST46"},"Comisión Nacional para la Seguridad, Comodidad y Convivencia en el Fútbol",1,{"$f":"VLOOKUP(F775,[1]Hoja4!C:D,2,FALSE)","v":"ACT189"},"Ministerio del Interior","Sector Público - Nacional","N/A"]
[null,{"$f":"VLOOKUP(C776,[1]instancias_objetos!A:B,2,FALSE)","v":"INST46"},"Comisión Nacional para la Seguridad, Comodidad y Convivencia en el Fútbol",1,{"$f":"VLOOKUP(F776,[1]Hoja4!C:D,2,FALSE)","v":"ACT209"},"Policía Nacional","Sector Público - Nacional","N/A"]
[null,{"$f":"VLOOKUP(C777,[1]instancias_objetos!A:B,2,FALSE)","v":"INST46"},"Comisión Nacional para la Seguridad, Comodidad y Convivencia en el Fútbol",1,{"$f":"VLOOKUP(F777,[1]Hoja4!C:D,2,FALSE)","v":"ACT214"},"Procuraduría General de la Nación","Sector Público - Nacional","N/A"]
[null,{"$f":"VLOOKUP(C778,[1]instancias_objetos!A:B,2,FALSE)","v":"INST46"},"Comisión Nacional para la Seguridad, Comodidad y Convivencia en el Fútbol",1,{"$f":"VLOOKUP(F778,[1]Hoja4!C:D,2,FALSE)","v":"ACT216"},"Rama Legislativa","Sector Público - Nacional","N/A"]
[null,{"$f":"VLOOKUP(C779,[1]instancias_objetos!A:B,2,FALSE)","v":"INST46"},"Comisión Nacional para la Seguridad, Comodidad y Convivencia en el Fútbol",1,{"$f":"VLOOKUP(F779,[1]Hoja4!C:D,2,FALSE)","v":"ACT233"},"Representante de cada una de las Empresas Encargadas de la Venta de Entradas a Espectáculos de Fútbol","Delegado Sectorial de la Sociedad Civil","Comercio"]
[null,{"$f":"VLOOKUP(C780,[1]instancias_objetos!A:B,2,FALSE)","v":"INST46"},"Comisión Nacional para la Seguridad, Comodidad y Convivencia en el Fútbol",1,{"$f":"VLOOKUP(F780,[1]Hoja4!C:D,2,FALSE)","v":"ACT248"},"Representante de la Comisión Arbitral Nacional","Delegado Sectorial de la Sociedad Civil","Deporte"]
[null,{"$f":"VLOOKUP(C781,[1]instancias_objetos!A:B,2,FALSE)","v":"INST46"},"Comisión Nacional para la Seguridad, Comodidad y Convivencia en el Fútbol",1,{"$f":"VLOOKUP(F781,[1]Hoja4!C:D,2,FALSE)","v":"ACT279"},"Representante de las Asociaciones de Técnicos de Fútbol","Delegado Sectorial de la Sociedad Civil","Deporte"]
[null,{"$f":"VLOOKUP(C782,[1]instancias_objetos!A:B,2,FALSE)","v":"INST46"},"Comisión Nacional para la Seguridad, Comodidad y Convivencia en el Fútbol",1,{"$f":"VLOOKUP(F782,[1]Hoja4!C:D,2,FALSE)","v":"ACT284"},"Representante de las Barras Organizadas","Delegado Sectorial de la Sociedad Civil","Deporte"]
[null,{"$f":"VLOOKUP(C783,[1]instancias_objetos!A:B,2,FALSE)","v":"INST46"},"Comisión Nacional para la Seguridad, Comodidad y Convivencia en el Fútbol",1,{"$f":"VLOOKUP(F783,[1]Hoja4!C:D,2,FALSE)","v":"ACT386"},"Representante de los Futbolistas Profesionales","Delegado Sectorial de la Sociedad Civil","Deporte"]
[null,{"$f":"VLOOKUP(C784,[1]instancias_objetos!A:B,2,FALSE)","v":"INST46"},"Comisión Nacional para la Seguridad, Comodidad y Convivencia en el Fútbol",1,{"$f":"VLOOKUP(F784,[1]Hoja4!C:D,2,FALSE)","v":"ACT399"},"Representante de los Organismos de Socorro","Delegado Sectorial de la Sociedad Civil","Salud"]
[null,{"$f":"VLOOKUP(C785,[1]instancias_objetos!A:B,2,FALSE)","v":"INST46"},"Comisión Nacional para la Seguridad, Comodidad y Convivencia en el Fútbol",1,{"$f":"VLOOKUP(F785,[1]Hoja4!C:D,2,FALSE)","v":"ACT475"},"Representante por cada uno de los Círculos de Periodistas Deportivos","Delegado Sectorial de la Sociedad Civil","Comunicaciones e Información"]
[null,{"$f":"VLOOKUP(C786,[1]instancias_objetos!A:B,2,FALSE)","v":"INST46"},"Comisión Nacional para la Seguridad, Comodidad y Convivencia en el Fútbol",1,{"$f":"VLOOKUP(F786,[1]Hoja4!C:D,2,FALSE)","v":"ACT500"},"Unidad Nacional para la Gestión del Riesgo de Desastres","Sector Público - Nacional","N/A"]
[null,{"$f":"VLOOKUP(C787,[1]instancias_objetos!A:B,2,FALSE)","v":"INST47"},"Consejo Asesor de Ciencia, Tecnología e Innovación",1,{"$f":"VLOOKUP(F787,[1]Hoja4!C:D,2,FALSE)","v":"ACT126"},"Departamento Nacional de Planeación","Sector Público - Nacional","N/A"]
[null,{"$f":"VLOOKUP(C788,[1]instancias_objetos!A:B,2,FALSE)","v":"INST47"},"Consejo Asesor de Ciencia, Tecnología e Innovación",1,{"$f":"VLOOKUP(F788,[1]Hoja4!C:D,2,FALSE)","v":"ACT173"},"Ministerio de Agricultura y Desarrollo Rural","Sector Público - Nacional","N/A"]
[null,{"$f":"VLOOKUP(C789,[1]instancias_objetos!A:B,2,FALSE)","v":"INST47"},"Consejo Asesor de Ciencia, Tecnología e Innovación",1,{"$f":"VLOOKUP(F789,[1]Hoja4!C:D,2,FALSE)","v":"ACT175"},"Ministerio de Ciencia, Tecnología e Innovación","Sector Público - Nacional","N/A"]
[null,{"$f":"VLOOKUP(C790,[1]instancias_objetos!A:B,2,FALSE)","v":"INST47"},"Consejo Asesor de Ciencia, Tecnología e Innovación",1,{"$f":"VLOOKUP(F790,[1]Hoja4!C:D,2,FALSE)","v":"ACT176"},"Ministerio de Comercio, Industria y Turismo","Sector Público - Nacional","N/A"]
[null,{"$f":"VLOOKUP(C791,[1]instancias_objetos!A:B,2,FALSE)","v":"INST47"},"Consejo Asesor de Ciencia, Tecnología e Innovación",1,{"$f":"VLOOKUP(F791,[1]Hoja4!C:D,2,FALSE)","v":"ACT179"},"Ministerio de Educación Nacional","Sector Público - Nacional","N/A"]
[null,{"$f":"VLOOKUP(C792,[1]instancias_objetos!A:B,2,FALSE)","v":"INST47"},"Consejo Asesor de Ciencia, Tecnología e Innovación",1,{"$f":"VLOOKUP(F792,[1]Hoja4!C:D,2,FALSE)","v":"ACT184"},"Ministerio de Salud y Protección Social","Sector Público - Nacional","N/A"]
[null,{"$f":"VLOOKUP(C793,[1]instancias_objetos!A:B,2,FALSE)","v":"INST47"},"Consejo Asesor de Ciencia, Tecnología e Innovación",4,{"$f":"VLOOKUP(F793,[1]Hoja4!C:D,2,FALSE)","v":"ACT439"},"Representante del Sector Académico y Cientifico","Delegado Sectorial de la Sociedad Civil","Ciencia y Tecnología"]
[null,{"$f":"VLOOKUP(C794,[1]instancias_objetos!A:B,2,FALSE)","v":"INST47"},"Consejo Asesor de Ciencia, Tecnología e Innovación",2,{"$f":"VLOOKUP(F794,[1]Hoja4!C:D,2,FALSE)","v":"ACT445"},"Representante del Sector Científico Regional","Delegado Sectorial de la Sociedad Civil","Ciencia y Tecnología"]
[null,{"$f":"VLOOKUP(C795,[1]instancias_objetos!A:B,2,FALSE)","v":"INST47"},"Consejo Asesor de Ciencia, Tecnología e Innovación",4,{"$f":"VLOOKUP(F795,[1]Hoja4!C:D,2,FALSE)","v":"ACT464"},"Representante del Sector Minero-Energético y Productivo","Delegado Sectorial de la Sociedad Civil","Trabajo"]
[null,{"$f":"VLOOKUP(C796,[1]instancias_objetos!A:B,2,FALSE)","v":"INST47"},"Consejo Asesor de Ciencia, Tecnología e Innovación",1,{"$f":"VLOOKUP(F796,[1]Hoja4!C:D,2,FALSE)","v":"ACT486"},"Servicio Nacional de Aprendizaje","Sector Público - Nacional","N/A"]
[null,{"$f":"VLOOKUP(C797,[1]instancias_objetos!A:B,2,FALSE)","v":"INST48"},"Comisión de Regulación de Comunicaciones",1,{"$f":"VLOOKUP(F797,[1]Hoja4!C:D,2,FALSE)","v":"ACT185"},"Ministerio de Tecnologías de la Información y las Comunicaciones","Sector Público - Nacional","N/A"]
[null,{"$f":"VLOOKUP(C798,[1]instancias_objetos!A:B,2,FALSE)","v":"INST48"},"Comisión de Regulación de Comunicaciones",1,{"$f":"VLOOKUP(F798,[1]Hoja4!C:D,2,FALSE)","v":"ACT210"},"Presidencia de la República","Sector Público - Nacional","N/A"]
[null,{"$f":"VLOOKUP(C799,[1]instancias_objetos!A:B,2,FALSE)","v":"INST48"},"Comisión de Regulación de Comunicaciones",3,{"$f":"VLOOKUP(F799,[1]Hoja4!C:D,2,FALSE)","v":"ACT258"},"Representante de la Sociedad Civil","Delegado Sectorial de la Sociedad Civil","Control Social, Transparencia, Comunitario y Veedurías"]
[null,{"$f":"VLOOKUP(C800,[1]instancias_objetos!A:B,2,FALSE)","v":"INST48"},"Comisión de Regulación de Comunicaciones",1,{"$f":"VLOOKUP(F800,[1]Hoja4!C:D,2,FALSE)","v":"ACT258"},"Representante de la Sociedad Civil","Delegado Sectorial de la Sociedad Civil","Control Social, Transparencia, Comunitario y Veedurías"]
[null,{"$f":"VLOOKUP(C801,[1]instancias_objetos!A:B,2,FALSE)","v":"INST48"},"Comisión de Regulación de Comunicaciones",1,{"$f":"VLOOKUP(F801,[1]Hoja4!C:D,2,FALSE)","v":"ACT398"},"Representante de los operadores públicos regionales del servicio de televisión","Sector Público - Territorial","Comunicaciones e Información"]
[null,{"$f":"VLOOKUP(C802,[1]instancias_objetos!A:B,2,FALSE)","v":"INST48"},"Comisión de Regulación de Comunicaciones",1,{"$f":"VLOOKUP(F802,[1]Hoja4!C:D,2,FALSE)","v":"ACT444"},"Representante del Sector Audiovisual","Delegado Sectorial de la Sociedad Civil","Comunicaciones e Información"]
[null,{"$f":"VLOOKUP(C803,[1]instancias_objetos!A:B,2,FALSE)","v":"INST49"},"Comisión Nacional de Diálogo: Grupo Étnico ROM o Gitano",1,{"$f":"VLOOKUP(F803,[1]Hoja4!C:D,2,FALSE)","v":"ACT174"},"Ministerio de Ambiente y Desarrollo Sostenible","Sector Público - Nacional","N/A"]
[null,{"$f":"VLOOKUP(C804,[1]instancias_objetos!A:B,2,FALSE)","v":"INST49"},"Comisión Nacional de Diálogo: Grupo Étnico ROM o Gitano",1,{"$f":"VLOOKUP(F804,[1]Hoja4!C:D,2,FALSE)","v":"ACT177"},"Ministerio de Cultura de Colombia","Sector Público - Nacional","N/A"]
[null,{"$f":"VLOOKUP(C805,[1]instancias_objetos!A:B,2,FALSE)","v":"INST49"},"Comisión Nacional de Diálogo: Grupo Étnico ROM o Gitano",1,{"$f":"VLOOKUP(F805,[1]Hoja4!C:D,2,FALSE)","v":"ACT179"},"Ministerio de Educación Nacional","Sector Público - Nacional","N/A"]
[null,{"$f":"VLOOKUP(C806,[1]instancias_objetos!A:B,2,FALSE)","v":"INST49"},"Comisión Nacional de Diálogo: Grupo Étnico ROM o Gitano",1,{"$f":"VLOOKUP(F806,[1]Hoja4!C:D,2,FALSE)","v":"ACT184"},"Ministerio de Salud y Protección Social","Sector Público - Nacional","N/A"]
[null,{"$f":"VLOOKUP(C807,[1]instancias_objetos!A:B,2,FALSE)","v":"INST49"},"Comisión Nacional de Diálogo: Grupo Étnico ROM o Gitano",1,{"$f":"VLOOKUP(F807,[1]Hoja4!C:D,2,FALSE)","v":"ACT189"},"Ministerio del Interior","Sector Público - Nacional","N/A"]
[null,{"$f":"VLOOKUP(C808,[1]instancias_objetos!A:B,2,FALSE)","v":"INST49"},"Comisión Nacional de Diálogo: Grupo Étnico ROM o Gitano",2,{"$f":"VLOOKUP(F808,[1]Hoja4!C:D,2,FALSE)","v":"ACT312"},"Representante de las Kumpañy","Delegado Sectorial de la Sociedad Civil","Grupos Étnicos (Afros, Indígenas, Raizales, Palenqueros y ROM)"]
[null,{"$f":"VLOOKUP(C809,[1]instancias_objetos!A:B,2,FALSE)","v":"INST50"},"Comisión Nacional Intersectorial para la Promoción y Garantía de los Derechos Sexuales y Reproductivos",1,{"$f":"VLOOKUP(F809,[1]Hoja4!C:D,2,FALSE)","v":"ACT157"},"Instituto Colombiano de Bienestar Familiar","Sector Público - Nacional","N/A"]
[null,{"$f":"VLOOKUP(C810,[1]instancias_objetos!A:B,2,FALSE)","v":"INST50"},"Comisión Nacional Intersectorial para la Promoción y Garantía de los Derechos Sexuales y Reproductivos",1,{"$f":"VLOOKUP(F810,[1]Hoja4!C:D,2,FALSE)","v":"ACT157"},"Instituto Colombiano de Bienestar Familiar","Sector Público - Nacional","N/A"]
[null,{"$f":"VLOOKUP(C811,[1]instancias_objetos!A:B,2,FALSE)","v":"INST50"},"Comisión Nacional Intersectorial para la Promoción y Garantía de los Derechos Sexuales y Reproductivos",1,{"$f":"VLOOKUP(F811,[1]Hoja4!C:D,2,FALSE)","v":"ACT179"},"Ministerio de Educación Nacional","Sector Público - Nacional","N/A"]
[null,{"$f":"VLOOKUP(C812,[1]instancias_objetos!A:B,2,FALSE)","v":"INST50"},"Comisión Nacional Intersectorial para la Promoción y Garantía de los Derechos Sexuales y Reproductivos",1,{"$f":"VLOOKUP(F812,[1]Hoja4!C:D,2,FALSE)","v":"ACT184"},"Ministerio de Salud y Protección Social","Sector Público - Nacional","N/A"]
[null,{"$f":"VLOOKUP(C813,[1]instancias_objetos!A:B,2,FALSE)","v":"INST50"},"Comisión Nacional Intersectorial para la Promoción y Garantía de los Derechos Sexuales y Reproductivos",1,{"$f":"VLOOKUP(F813,[1]Hoja4!C:D,2,FALSE)","v":"ACT185"},"Ministerio de Tecnologías de la Información y las Comunicaciones","Sector Público - Nacional","N/A"]
[null,{"$f":"VLOOKUP(C814,[1]instancias_objetos!A:B,2,FALSE)","v":"INST50"},"Comisión Nacional Intersectorial para la Promoción y Garantía de los Derechos Sexuales y Reproductivos",1,{"$f":"VLOOKUP(F814,[1]Hoja4!C:D,2,FALSE)","v":"ACT258"},"Representante de la Sociedad Civil","Delegado Sectorial de la Sociedad Civil","Educación"]
[null,{"$f":"VLOOKUP(C815,[1]instancias_objetos!A:B,2,FALSE)","v":"INST50"},"Comisión Nacional Intersectorial para la Promoción y Garantía de los Derechos Sexuales y Reproductivos",1,{"$f":"VLOOKUP(F815,[1]Hoja4!C:D,2,FALSE)","v":"ACT486"},"Servicio Nacional de Aprendizaje","Sector Público - Nacional","N/A"]
[null,{"$f":"VLOOKUP(C816,[1]instancias_objetos!A:B,2,FALSE)","v":"INST50"},"Comisión Nacional Intersectorial para la Promoción y Garantía de los Derechos Sexuales y Reproductivos",1,{"$f":"VLOOKUP(F816,[1]Hoja4!C:D,2,FALSE)","v":"ACT486"},"Servicio Nacional de Aprendizaje","Sector Público - Nacional","N/A"]
[null,{"$f":"VLOOKUP(C817,[1]instancias_objetos!A:B,2,FALSE)","v":"INST51"},"Comité Técnico Nacional de Bibliotecas Públicas",1,{"$f":"VLOOKUP(F817,[1]Hoja4!C:D,2,FALSE)","v":"ACT55"},"Biblioteca Nacional de Colombia","Sector Público - Nacional","N/A"]
[null,{"$f":"VLOOKUP(C818,[1]instancias_objetos!A:B,2,FALSE)","v":"INST51"},"Comité Técnico Nacional de Bibliotecas Públicas",1,{"$f":"VLOOKUP(F818,[1]Hoja4!C:D,2,FALSE)","v":"ACT68"},"Comité Regional de Bibliotecas Públicas","Sector Público - Territorial","N/A"]
[null,{"$f":"VLOOKUP(C819,[1]instancias_objetos!A:B,2,FALSE)","v":"INST51"},"Comité Técnico Nacional de Bibliotecas Públicas",1,{"$f":"VLOOKUP(F819,[1]Hoja4!C:D,2,FALSE)","v":"ACT175"},"Ministerio de Ciencia, Tecnología e Innovación","Sector Público - Nacional","N/A"]
[null,{"$f":"VLOOKUP(C820,[1]instancias_objetos!A:B,2,FALSE)","v":"INST51"},"Comité Técnico Nacional de Bibliotecas Públicas",1,{"$f":"VLOOKUP(F820,[1]Hoja4!C:D,2,FALSE)","v":"ACT179"},"Ministerio de Educación Nacional","Sector Público - Nacional","N/A"]
[null,{"$f":"VLOOKUP(C821,[1]instancias_objetos!A:B,2,FALSE)","v":"INST51"},"Comité Técnico Nacional de Bibliotecas Públicas",1,{"$f":"VLOOKUP(F821,[1]Hoja4!C:D,2,FALSE)","v":"ACT185"},"Ministerio de Tecnologías de la Información y las Comunicaciones","Sector Público - Nacional","N/A"]
[null,{"$f":"VLOOKUP(C822,[1]instancias_objetos!A:B,2,FALSE)","v":"INST51"},"Comité Técnico Nacional de Bibliotecas Públicas",1,{"$f":"VLOOKUP(F822,[1]Hoja4!C:D,2,FALSE)","v":"ACT219"},"Red de Bibliotecas de las Cajas de Compensación Familiar","Organización de la Sociedad Civil","Cultura"]
[null,{"$f":"VLOOKUP(C823,[1]instancias_objetos!A:B,2,FALSE)","v":"INST51"},"Comité Técnico Nacional de Bibliotecas Públicas",1,{"$f":"VLOOKUP(F823,[1]Hoja4!C:D,2,FALSE)","v":"ACT220"},"Red de Bibliotecas del Banco de la República","Sector Público - Nacional","N/A"]
[null,{"$f":"VLOOKUP(C824,[1]instancias_objetos!A:B,2,FALSE)","v":"INST51"},"Comité Técnico Nacional de Bibliotecas Públicas",1,{"$f":"VLOOKUP(F824,[1]Hoja4!C:D,2,FALSE)","v":"ACT246"},"Representante de la Asociación Colombiana de Bibliotecólogos","Delegado Sectorial de la Sociedad Civil","Educación"]
[null,{"$f":"VLOOKUP(C825,[1]instancias_objetos!A:B,2,FALSE)","v":"INST51"},"Comité Técnico Nacional de Bibliotecas Públicas",1,{"$f":"VLOOKUP(F825,[1]Hoja4!C:D,2,FALSE)","v":"ACT285"},"Representante de las Bibliotecas Privadas","Sector Privado","Cultura"]
[null,{"$f":"VLOOKUP(C826,[1]instancias_objetos!A:B,2,FALSE)","v":"INST51"},"Comité Técnico Nacional de Bibliotecas Públicas",1,{"$f":"VLOOKUP(F826,[1]Hoja4!C:D,2,FALSE)","v":"ACT286"},"Representante de las Bibliotecas Públicas","Sector Público - Territorial","N/A"]
[null,{"$f":"VLOOKUP(C827,[1]instancias_objetos!A:B,2,FALSE)","v":"INST51"},"Comité Técnico Nacional de Bibliotecas Públicas",1,{"$f":"VLOOKUP(F827,[1]Hoja4!C:D,2,FALSE)","v":"ACT294"},"Representante de las Facultades de Bibliotecología y Ciencias de la Información","Sector Privado","Educación"]
[null,{"$f":"VLOOKUP(C828,[1]instancias_objetos!A:B,2,FALSE)","v":"INST52"},"Consejo Nacional Asesor de Lenguas Nativas",1,{"$f":"VLOOKUP(F828,[1]Hoja4!C:D,2,FALSE)","v":"ACT76"},"Confederación Indígena Tairona","Organización de la Sociedad Civil","Grupos Étnicos (Afros, Indígenas, Raizales, Palenqueros y ROM)"]
[null,{"$f":"VLOOKUP(C829,[1]instancias_objetos!A:B,2,FALSE)","v":"INST52"},"Consejo Nacional Asesor de Lenguas Nativas",1,{"$f":"VLOOKUP(F829,[1]Hoja4!C:D,2,FALSE)","v":"ACT153"},"Instituto Caro y Cuervo","Sector Público - Nacional","N/A"]
[null,{"$f":"VLOOKUP(C830,[1]instancias_objetos!A:B,2,FALSE)","v":"INST52"},"Consejo Nacional Asesor de Lenguas Nativas",1,{"$f":"VLOOKUP(F830,[1]Hoja4!C:D,2,FALSE)","v":"ACT177"},"Ministerio de Cultura de Colombia","Sector Público - Nacional","N/A"]
[null,{"$f":"VLOOKUP(C831,[1]instancias_objetos!A:B,2,FALSE)","v":"INST52"},"Consejo Nacional Asesor de Lenguas Nativas",1,{"$f":"VLOOKUP(F831,[1]Hoja4!C:D,2,FALSE)","v":"ACT179"},"Ministerio de Educación Nacional","Sector Público - Nacional","N/A"]
[null,{"$f":"VLOOKUP(C832,[1]instancias_objetos!A:B,2,FALSE)","v":"INST52"},"Consejo Nacional Asesor de Lenguas Nativas",1,{"$f":"VLOOKUP(F832,[1]Hoja4!C:D,2,FALSE)","v":"ACT185"},"Ministerio de Tecnologías de la Información y las Comunicaciones","Sector Público - Nacional","N/A"]
[null,{"$f":"VLOOKUP(C833,[1]instancias_objetos!A:B,2,FALSE)","v":"INST52"},"Consejo Nacional Asesor de Lenguas Nativas",1,{"$f":"VLOOKUP(F833,[1]Hoja4!C:D,2,FALSE)","v":"ACT199"},"Organización Nacional de los Pueblos Indígenas de la Amazonía Colombiana","Organización de la Sociedad Civil","Grupos Étnicos (Afros, Indígenas, Raizales, Palenqueros y ROM)"]
[null,{"$f":"VLOOKUP(C834,[1]instancias_objetos!A:B,2,FALSE)","v":"INST52"},"Consejo Nacional Asesor de Lenguas Nativas",1,{"$f":"VLOOKUP(F834,[1]Hoja4!C:D,2,FALSE)","v":"ACT200"},"Organización Nacional Indígena de Colombia","Organización de la Sociedad Civil","Grupos Étnicos (Afros, Indígenas, Raizales, Palenqueros y ROM)"]
[null,{"$f":"VLOOKUP(C835,[1]instancias_objetos!A:B,2,FALSE)","v":"INST52"},"Consejo Nacional Asesor de Lenguas Nativas",2,{"$f":"VLOOKUP(F835,[1]Hoja4!C:D,2,FALSE)","v":"ACT252"},"Representante de la Comisión Nacional de Diálogo","Delegado Sectorial de la Sociedad Civil","Grupos Étnicos (Afros, Indígenas, Raizales, Palenqueros y ROM)"]
[null,{"$f":"VLOOKUP(C836,[1]instancias_objetos!A:B,2,FALSE)","v":"INST52"},"Consejo Nacional Asesor de Lenguas Nativas",2,{"$f":"VLOOKUP(F836,[1]Hoja4!C:D,2,FALSE)","v":"ACT253"},"Representante de la Comunidad Palenquera","Delegado Sectorial de la Sociedad Civil","Grupos Étnicos (Afros, Indígenas, Raizales, Palenqueros y ROM)"]
[null,{"$f":"VLOOKUP(C837,[1]instancias_objetos!A:B,2,FALSE)","v":"INST52"},"Consejo Nacional Asesor de Lenguas Nativas",2,{"$f":"VLOOKUP(F837,[1]Hoja4!C:D,2,FALSE)","v":"ACT356"},"Representante de las Universidades","Delegado Sectorial de la Sociedad Civil","Educación"]
[null,{"$f":"VLOOKUP(C838,[1]instancias_objetos!A:B,2,FALSE)","v":"INST52"},"Consejo Nacional Asesor de Lenguas Nativas",2,{"$f":"VLOOKUP(F838,[1]Hoja4!C:D,2,FALSE)","v":"ACT437"},"Representante del Pueblo Raizal","Delegado Sectorial de la Sociedad Civil","Grupos Étnicos (Afros, Indígenas, Raizales, Palenqueros y ROM)"]
[null,{"$f":"VLOOKUP(C839,[1]instancias_objetos!A:B,2,FALSE)","v":"INST52"},"Consejo Nacional Asesor de Lenguas Nativas",1,{"$f":"VLOOKUP(F839,[1]Hoja4!C:D,2,FALSE)","v":"ACT503"},"Universidad Nacional de Colombia","Sector Público - Nacional","N/A"]
[null,{"$f":"VLOOKUP(C840,[1]instancias_objetos!A:B,2,FALSE)","v":"INST53"},"Consejo Nacional de Bioética",15,{"$f":"VLOOKUP(F840,[1]Hoja4!C:D,2,FALSE)","v":"ACT258"},"Representante de la Sociedad Civil","Delegado Sectorial de la Sociedad Civil","Control Social, Transparencia, Comunitario y Veedurías"]
[null,{"$f":"VLOOKUP(C841,[1]instancias_objetos!A:B,2,FALSE)","v":"INST54"},"Comisión de Seguimiento y Monitoreo a la Ley de Víctimas",1,{"$f":"VLOOKUP(F841,[1]Hoja4!C:D,2,FALSE)","v":"ACT102"},"Contraloría General de la Nación","Sector Público - Nacional","N/A"]
[null,{"$f":"VLOOKUP(C842,[1]instancias_objetos!A:B,2,FALSE)","v":"INST54"},"Comisión de Seguimiento y Monitoreo a la Ley de Víctimas",1,{"$f":"VLOOKUP(F842,[1]Hoja4!C:D,2,FALSE)","v":"ACT121"},"Defensoría del Pueblo","Sector Público - Nacional","N/A"]
[null,{"$f":"VLOOKUP(C843,[1]instancias_objetos!A:B,2,FALSE)","v":"INST54"},"Comisión de Seguimiento y Monitoreo a la Ley de Víctimas",1,{"$f":"VLOOKUP(F843,[1]Hoja4!C:D,2,FALSE)","v":"ACT214"},"Procuraduría General de la Nación","Sector Público - Nacional","N/A"]
[null,{"$f":"VLOOKUP(C844,[1]instancias_objetos!A:B,2,FALSE)","v":"INST54"},"Comisión de Seguimiento y Monitoreo a la Ley de Víctimas",3,{"$f":"VLOOKUP(F844,[1]Hoja4!C:D,2,FALSE)","v":"ACT361"},"Representante de las Víctimas","Delegado Sectorial de la Sociedad Civil","Víctimas y Construcción de Paz"]
[null,{"$f":"VLOOKUP(C845,[1]instancias_objetos!A:B,2,FALSE)","v":"INST55"},"Comisión de Ordenamiento Territorial",2,{"$f":"VLOOKUP(F845,[1]Hoja4!C:D,2,FALSE)","v":"ACT34"},"Asociación Colombiana de Universidades","Organización de la Sociedad Civil","Educación"]
[null,{"$f":"VLOOKUP(C846,[1]instancias_objetos!A:B,2,FALSE)","v":"INST55"},"Comisión de Ordenamiento Territorial",1,{"$f":"VLOOKUP(F846,[1]Hoja4!C:D,2,FALSE)","v":"ACT126"},"Departamento Nacional de Planeación","Sector Público - Nacional","N/A"]
[null,{"$f":"VLOOKUP(C847,[1]instancias_objetos!A:B,2,FALSE)","v":"INST55"},"Comisión de Ordenamiento Territorial",1,{"$f":"VLOOKUP(F847,[1]Hoja4!C:D,2,FALSE)","v":"ACT164"},"Instituto Geográfico Agustín Codazzi","Sector Público - Nacional","N/A"]
[null,{"$f":"VLOOKUP(C848,[1]instancias_objetos!A:B,2,FALSE)","v":"INST55"},"Comisión de Ordenamiento Territorial",1,{"$f":"VLOOKUP(F848,[1]Hoja4!C:D,2,FALSE)","v":"ACT174"},"Ministerio de Ambiente y Desarrollo Sostenible","Sector Público - Nacional","N/A"]
[null,{"$f":"VLOOKUP(C849,[1]instancias_objetos!A:B,2,FALSE)","v":"INST55"},"Comisión de Ordenamiento Territorial",1,{"$f":"VLOOKUP(F849,[1]Hoja4!C:D,2,FALSE)","v":"ACT187"},"Ministerio de Vivienda, Ciudad y Territorio","Sector Público - Nacional","N/A"]
[null,{"$f":"VLOOKUP(C850,[1]instancias_objetos!A:B,2,FALSE)","v":"INST55"},"Comisión de Ordenamiento Territorial",1,{"$f":"VLOOKUP(F850,[1]Hoja4!C:D,2,FALSE)","v":"ACT189"},"Ministerio del Interior","Sector Público - Nacional","N/A"]
[null,{"$f":"VLOOKUP(C851,[1]instancias_objetos!A:B,2,FALSE)","v":"INST55"},"Comisión de Ordenamiento Territorial",1,{"$f":"VLOOKUP(F851,[1]Hoja4!C:D,2,FALSE)","v":"ACT216"},"Rama Legislativa","Sector Público - Nacional","N/A"]
[null,{"$f":"VLOOKUP(C852,[1]instancias_objetos!A:B,2,FALSE)","v":"INST55"},"Comisión de Ordenamiento Territorial",1,{"$f":"VLOOKUP(F852,[1]Hoja4!C:D,2,FALSE)","v":"ACT114"},"Corporaciones Autónomas Regionales y de Desarrollo Sostenible","Sector Público - Territorial","N/A"]
[null,{"$f":"VLOOKUP(C853,[1]instancias_objetos!A:B,2,FALSE)","v":"INST56"},"Comité de Evaluación de Riesgo y Recomendación de Medidas",1,{"$f":"VLOOKUP(F853,[1]Hoja4!C:D,2,FALSE)","v":"ACT86"},"Consejería Presidencial para los Derechos Humanos","Sector Público - Nacional","N/A"]
[null,{"$f":"VLOOKUP(C854,[1]instancias_objetos!A:B,2,FALSE)","v":"INST56"},"Comité de Evaluación de Riesgo y Recomendación de Medidas",1,{"$f":"VLOOKUP(F854,[1]Hoja4!C:D,2,FALSE)","v":"ACT121"},"Defensoría del Pueblo","Sector Público - Nacional","N/A"]
[null,{"$f":"VLOOKUP(C855,[1]instancias_objetos!A:B,2,FALSE)","v":"INST56"},"Comité de Evaluación de Riesgo y Recomendación de Medidas",1,{"$f":"VLOOKUP(F855,[1]Hoja4!C:D,2,FALSE)","v":"ACT144"},"Fiscalía General de la Nación","Sector Público - Nacional","N/A"]
[null,{"$f":"VLOOKUP(C856,[1]instancias_objetos!A:B,2,FALSE)","v":"INST56"},"Comité de Evaluación de Riesgo y Recomendación de Medidas",1,{"$f":"VLOOKUP(F856,[1]Hoja4!C:D,2,FALSE)","v":"ACT189"},"Ministerio del Interior","Sector Público - Nacional","N/A"]
[null,{"$f":"VLOOKUP(C857,[1]instancias_objetos!A:B,2,FALSE)","v":"INST56"},"Comité de Evaluación de Riesgo y Recomendación de Medidas",1,{"$f":"VLOOKUP(F857,[1]Hoja4!C:D,2,FALSE)","v":"ACT191"},"Oficina del Alto Comisionado de las Naciones Unidas para los Derechos Humanos","Organismo Multilateral","N/A"]
[null,{"$f":"VLOOKUP(C858,[1]instancias_objetos!A:B,2,FALSE)","v":"INST56"},"Comité de Evaluación de Riesgo y Recomendación de Medidas",1,{"$f":"VLOOKUP(F858,[1]Hoja4!C:D,2,FALSE)","v":"ACT192"},"Oficina del Alto Comisionado de las Naciones Unidas para los Refugiados","Organismo Multilateral","N/A"]
[null,{"$f":"VLOOKUP(C859,[1]instancias_objetos!A:B,2,FALSE)","v":"INST56"},"Comité de Evaluación de Riesgo y Recomendación de Medidas",2,{"$f":"VLOOKUP(F859,[1]Hoja4!C:D,2,FALSE)","v":"ACT209"},"Policía Nacional","Sector Público - Nacional","N/A"]
[null,{"$f":"VLOOKUP(C860,[1]instancias_objetos!A:B,2,FALSE)","v":"INST56"},"Comité de Evaluación de Riesgo y Recomendación de Medidas",1,{"$f":"VLOOKUP(F860,[1]Hoja4!C:D,2,FALSE)","v":"ACT214"},"Procuraduría General de la Nación","Sector Público - Nacional","N/A"]
[null,{"$f":"VLOOKUP(C861,[1]instancias_objetos!A:B,2,FALSE)","v":"INST56"},"Comité de Evaluación de Riesgo y Recomendación de Medidas",4,{"$f":"VLOOKUP(F861,[1]Hoja4!C:D,2,FALSE)","v":"ACT234"},"Representante de cada una de las poblaciones objeto del Programa de Prevención y Protección","Delegado Sectorial de la Sociedad Civil","Seguridad y Defensa"]
[null,{"$f":"VLOOKUP(C862,[1]instancias_objetos!A:B,2,FALSE)","v":"INST56"},"Comité de Evaluación de Riesgo y Recomendación de Medidas",1,{"$f":"VLOOKUP(F862,[1]Hoja4!C:D,2,FALSE)","v":"ACT258"},"Representante de la Sociedad Civil","Delegado Sectorial de la Sociedad Civil","Competitividad, Financiero y Sector Privado"]
[null,{"$f":"VLOOKUP(C863,[1]instancias_objetos!A:B,2,FALSE)","v":"INST56"},"Comité de Evaluación de Riesgo y Recomendación de Medidas",1,{"$f":"VLOOKUP(F863,[1]Hoja4!C:D,2,FALSE)","v":"ACT385"},"Representante de los Funcionarios Públicos","Sector Público - Nacional","N/A"]
[null,{"$f":"VLOOKUP(C864,[1]instancias_objetos!A:B,2,FALSE)","v":"INST56"},"Comité de Evaluación de Riesgo y Recomendación de Medidas",1,{"$f":"VLOOKUP(F864,[1]Hoja4!C:D,2,FALSE)","v":"ACT495"},"Unidad Administrativa Especial de Atención y Reparación Integral a la Víctimas","Sector Público - Nacional","N/A"]
[null,{"$f":"VLOOKUP(C865,[1]instancias_objetos!A:B,2,FALSE)","v":"INST57"},"Comité de Seguimiento de la Alianza de Gobierno Abierto",1,{"$f":"VLOOKUP(F865,[1]Hoja4!C:D,2,FALSE)","v":"ACT50"},"Autoridades Locales","Sector Público - Territorial","N/A"]
[null,{"$f":"VLOOKUP(C866,[1]instancias_objetos!A:B,2,FALSE)","v":"INST57"},"Comité de Seguimiento de la Alianza de Gobierno Abierto",1,{"$f":"VLOOKUP(F866,[1]Hoja4!C:D,2,FALSE)","v":"ACT119"},"Datasketch","Sector Privado","Competitividad, Financiero y Sector Privado"]
[null,{"$f":"VLOOKUP(C867,[1]instancias_objetos!A:B,2,FALSE)","v":"INST57"},"Comité de Seguimiento de la Alianza de Gobierno Abierto",1,{"$f":"VLOOKUP(F867,[1]Hoja4!C:D,2,FALSE)","v":"ACT122"},"Departamento Administrativo de la Función Pública","Sector Público - Nacional","N/A"]
[null,{"$f":"VLOOKUP(C868,[1]instancias_objetos!A:B,2,FALSE)","v":"INST57"},"Comité de Seguimiento de la Alianza de Gobierno Abierto",1,{"$f":"VLOOKUP(F868,[1]Hoja4!C:D,2,FALSE)","v":"ACT150"},"Fundación Corona","Sector Privado","Control Social, Transparencia, Comunitario y Veedurías"]
[null,{"$f":"VLOOKUP(C869,[1]instancias_objetos!A:B,2,FALSE)","v":"INST57"},"Comité de Seguimiento de la Alianza de Gobierno Abierto",1,{"$f":"VLOOKUP(F869,[1]Hoja4!C:D,2,FALSE)","v":"ACT180"},"Ministerio de Hacienda y Crédito Público","Sector Público - Nacional","N/A"]
[null,{"$f":"VLOOKUP(C870,[1]instancias_objetos!A:B,2,FALSE)","v":"INST57"},"Comité de Seguimiento de la Alianza de Gobierno Abierto",1,{"$f":"VLOOKUP(F870,[1]Hoja4!C:D,2,FALSE)","v":"ACT185"},"Ministerio de Tecnologías de la Información y las Comunicaciones","Sector Público - Nacional","N/A"]
[null,{"$f":"VLOOKUP(C871,[1]instancias_objetos!A:B,2,FALSE)","v":"INST57"},"Comité de Seguimiento de la Alianza de Gobierno Abierto",1,{"$f":"VLOOKUP(F871,[1]Hoja4!C:D,2,FALSE)","v":"ACT203"},"Organización Seamos","Organización de la Sociedad Civil","Solidario"]
[null,{"$f":"VLOOKUP(C872,[1]instancias_objetos!A:B,2,FALSE)","v":"INST57"},"Comité de Seguimiento de la Alianza de Gobierno Abierto",1,{"$f":"VLOOKUP(F872,[1]Hoja4!C:D,2,FALSE)","v":"ACT489"},"Somos Más","Organización de la Sociedad Civil","Derechos Humanos"]
[null,{"$f":"VLOOKUP(C873,[1]instancias_objetos!A:B,2,FALSE)","v":"INST58"},"Comité Ejecutivo para la Atención y Reparación a las Víctimas",1,{"$f":"VLOOKUP(F873,[1]Hoja4!C:D,2,FALSE)","v":"ACT15"},"Agencia Presidencial de Cooperación Internacional Colombia","Sector Público - Nacional","N/A"]
[null,{"$f":"VLOOKUP(C874,[1]instancias_objetos!A:B,2,FALSE)","v":"INST58"},"Comité Ejecutivo para la Atención y Reparación a las Víctimas",1,{"$f":"VLOOKUP(F874,[1]Hoja4!C:D,2,FALSE)","v":"ACT126"},"Departamento Nacional de Planeación","Sector Público - Nacional","N/A"]
[null,{"$f":"VLOOKUP(C875,[1]instancias_objetos!A:B,2,FALSE)","v":"INST58"},"Comité Ejecutivo para la Atención y Reparación a las Víctimas",1,{"$f":"VLOOKUP(F875,[1]Hoja4!C:D,2,FALSE)","v":"ACT173"},"Ministerio de Agricultura y Desarrollo Rural","Sector Público - Nacional","N/A"]
[null,{"$f":"VLOOKUP(C876,[1]instancias_objetos!A:B,2,FALSE)","v":"INST58"},"Comité Ejecutivo para la Atención y Reparación a las Víctimas",1,{"$f":"VLOOKUP(F876,[1]Hoja4!C:D,2,FALSE)","v":"ACT180"},"Ministerio de Hacienda y Crédito Público","Sector Público - Nacional","N/A"]
[null,{"$f":"VLOOKUP(C877,[1]instancias_objetos!A:B,2,FALSE)","v":"INST58"},"Comité Ejecutivo para la Atención y Reparación a las Víctimas",1,{"$f":"VLOOKUP(F877,[1]Hoja4!C:D,2,FALSE)","v":"ACT189"},"Ministerio del Interior","Sector Público - Nacional","N/A"]
[null,{"$f":"VLOOKUP(C878,[1]instancias_objetos!A:B,2,FALSE)","v":"INST58"},"Comité Ejecutivo para la Atención y Reparación a las Víctimas",1,{"$f":"VLOOKUP(F878,[1]Hoja4!C:D,2,FALSE)","v":"ACT210"},"Presidencia de la República","Sector Público - Nacional","N/A"]
[null,{"$f":"VLOOKUP(C879,[1]instancias_objetos!A:B,2,FALSE)","v":"INST58"},"Comité Ejecutivo para la Atención y Reparación a las Víctimas",2,{"$f":"VLOOKUP(F879,[1]Hoja4!C:D,2,FALSE)","v":"ACT255"},"Representante de la Mesa Nacional de Participación de Víctimas","Delegado Sectorial de la Sociedad Civil","Víctimas y Construcción de Paz"]
[null,{"$f":"VLOOKUP(C880,[1]instancias_objetos!A:B,2,FALSE)","v":"INST58"},"Comité Ejecutivo para la Atención y Reparación a las Víctimas",1,{"$f":"VLOOKUP(F880,[1]Hoja4!C:D,2,FALSE)","v":"ACT495"},"Unidad Administrativa Especial de Atención y Reparación Integral a la Víctimas","Sector Público - Nacional","N/A"]
[null,{"$f":"VLOOKUP(C881,[1]instancias_objetos!A:B,2,FALSE)","v":"INST59"},"Consejo Directivo de la Unidad Administrativa Especial de Gestión de Restitución de Tierras Despojadas",1,{"$f":"VLOOKUP(F881,[1]Hoja4!C:D,2,FALSE)","v":"ACT53"},"Banco Agrario","Sector Público - Nacional","N/A"]
[null,{"$f":"VLOOKUP(C882,[1]instancias_objetos!A:B,2,FALSE)","v":"INST59"},"Consejo Directivo de la Unidad Administrativa Especial de Gestión de Restitución de Tierras Despojadas",1,{"$f":"VLOOKUP(F882,[1]Hoja4!C:D,2,FALSE)","v":"ACT121"},"Defensoría del Pueblo","Sector Público - Nacional","N/A"]
[null,{"$f":"VLOOKUP(C883,[1]instancias_objetos!A:B,2,FALSE)","v":"INST59"},"Consejo Directivo de la Unidad Administrativa Especial de Gestión de Restitución de Tierras Despojadas",1,{"$f":"VLOOKUP(F883,[1]Hoja4!C:D,2,FALSE)","v":"ACT126"},"Departamento Nacional de Planeación","Sector Público - Nacional","N/A"]
[null,{"$f":"VLOOKUP(C884,[1]instancias_objetos!A:B,2,FALSE)","v":"INST59"},"Consejo Directivo de la Unidad Administrativa Especial de Gestión de Restitución de Tierras Despojadas",1,{"$f":"VLOOKUP(F884,[1]Hoja4!C:D,2,FALSE)","v":"ACT147"},"Fondo para el Financiamiento del Sector Agropecuario","Sector Público - Nacional","N/A"]
[null,{"$f":"VLOOKUP(C885,[1]instancias_objetos!A:B,2,FALSE)","v":"INST59"},"Consejo Directivo de la Unidad Administrativa Especial de Gestión de Restitución de Tierras Despojadas",1,{"$f":"VLOOKUP(F885,[1]Hoja4!C:D,2,FALSE)","v":"ACT173"},"Ministerio de Agricultura y Desarrollo Rural","Sector Público - Nacional","N/A"]
[null,{"$f":"VLOOKUP(C886,[1]instancias_objetos!A:B,2,FALSE)","v":"INST59"},"Consejo Directivo de la Unidad Administrativa Especial de Gestión de Restitución de Tierras Despojadas",1,{"$f":"VLOOKUP(F886,[1]Hoja4!C:D,2,FALSE)","v":"ACT173"},"Ministerio de Agricultura y Desarrollo Rural","Sector Público - Nacional","N/A"]
[null,{"$f":"VLOOKUP(C887,[1]instancias_objetos!A:B,2,FALSE)","v":"INST59"},"Consejo Directivo de la Unidad Administrativa Especial de Gestión de Restitución de Tierras Despojadas",1,{"$f":"VLOOKUP(F887,[1]Hoja4!C:D,2,FALSE)","v":"ACT174"},"Ministerio de Ambiente y Desarrollo Sostenible","Sector Público - Nacional","N/A"]
[null,{"$f":"VLOOKUP(C888,[1]instancias_objetos!A:B,2,FALSE)","v":"INST59"},"Consejo Directivo de la Unidad Administrativa Especial de Gestión de Restitución de Tierras Despojadas",1,{"$f":"VLOOKUP(F888,[1]Hoja4!C:D,2,FALSE)","v":"ACT178"},"Ministerio de Defensa Nacional","Sector Público - Nacional","N/A"]
[null,{"$f":"VLOOKUP(C889,[1]instancias_objetos!A:B,2,FALSE)","v":"INST59"},"Consejo Directivo de la Unidad Administrativa Especial de Gestión de Restitución de Tierras Despojadas",1,{"$f":"VLOOKUP(F889,[1]Hoja4!C:D,2,FALSE)","v":"ACT180"},"Ministerio de Hacienda y Crédito Público","Sector Público - Nacional","N/A"]
[null,{"$f":"VLOOKUP(C890,[1]instancias_objetos!A:B,2,FALSE)","v":"INST59"},"Consejo Directivo de la Unidad Administrativa Especial de Gestión de Restitución de Tierras Despojadas",1,{"$f":"VLOOKUP(F890,[1]Hoja4!C:D,2,FALSE)","v":"ACT181"},"Ministerio de Justicia y del Derecho","Sector Público - Nacional","N/A"]
[null,{"$f":"VLOOKUP(C891,[1]instancias_objetos!A:B,2,FALSE)","v":"INST59"},"Consejo Directivo de la Unidad Administrativa Especial de Gestión de Restitución de Tierras Despojadas",1,{"$f":"VLOOKUP(F891,[1]Hoja4!C:D,2,FALSE)","v":"ACT189"},"Ministerio del Interior","Sector Público - Nacional","N/A"]
[null,{"$f":"VLOOKUP(C892,[1]instancias_objetos!A:B,2,FALSE)","v":"INST59"},"Consejo Directivo de la Unidad Administrativa Especial de Gestión de Restitución de Tierras Despojadas",2,{"$f":"VLOOKUP(F892,[1]Hoja4!C:D,2,FALSE)","v":"ACT244"},"Representante de Grupos Étnicos","Delegado Sectorial de la Sociedad Civil","Grupos Étnicos (Afros, Indígenas, Raizales, Palenqueros y ROM)"]
[null,{"$f":"VLOOKUP(C893,[1]instancias_objetos!A:B,2,FALSE)","v":"INST59"},"Consejo Directivo de la Unidad Administrativa Especial de Gestión de Restitución de Tierras Despojadas",2,{"$f":"VLOOKUP(F893,[1]Hoja4!C:D,2,FALSE)","v":"ACT255"},"Representante de la Mesa Nacional de Participación de Víctimas","Delegado Sectorial de la Sociedad Civil","Derechos Humanos"]
[null,{"$f":"VLOOKUP(C894,[1]instancias_objetos!A:B,2,FALSE)","v":"INST59"},"Consejo Directivo de la Unidad Administrativa Especial de Gestión de Restitución de Tierras Despojadas",2,{"$f":"VLOOKUP(F894,[1]Hoja4!C:D,2,FALSE)","v":"ACT436"},"Representante del Pueblo Indígena","Delegado Sectorial de la Sociedad Civil","Grupos Étnicos (Afros, Indígenas, Raizales, Palenqueros y ROM)"]
[null,{"$f":"VLOOKUP(C895,[1]instancias_objetos!A:B,2,FALSE)","v":"INST59"},"Consejo Directivo de la Unidad Administrativa Especial de Gestión de Restitución de Tierras Despojadas",1,{"$f":"VLOOKUP(F895,[1]Hoja4!C:D,2,FALSE)","v":"ACT495"},"Unidad Administrativa Especial de Atención y Reparación Integral a la Víctimas","Sector Público - Nacional","N/A"]
[null,{"$f":"VLOOKUP(C896,[1]instancias_objetos!A:B,2,FALSE)","v":"INST59"},"Consejo Directivo de la Unidad Administrativa Especial de Gestión de Restitución de Tierras Despojadas",1,{"$f":"VLOOKUP(F896,[1]Hoja4!C:D,2,FALSE)","v":"ACT498"},"Unidad de Restitución de Tierras","Sector Público - Nacional","N/A"]
[null,{"$f":"VLOOKUP(C897,[1]instancias_objetos!A:B,2,FALSE)","v":"INST60"},"Consejo Directivo del Centro de Memoria Histórica",1,{"$f":"VLOOKUP(F897,[1]Hoja4!C:D,2,FALSE)","v":"ACT125"},"Departamento Administrativo para la Prosperidad Social","Sector Público - Nacional","N/A"]
[null,{"$f":"VLOOKUP(C898,[1]instancias_objetos!A:B,2,FALSE)","v":"INST60"},"Consejo Directivo del Centro de Memoria Histórica",1,{"$f":"VLOOKUP(F898,[1]Hoja4!C:D,2,FALSE)","v":"ACT177"},"Ministerio de Cultura de Colombia","Sector Público - Nacional","N/A"]
[null,{"$f":"VLOOKUP(C899,[1]instancias_objetos!A:B,2,FALSE)","v":"INST60"},"Consejo Directivo del Centro de Memoria Histórica",1,{"$f":"VLOOKUP(F899,[1]Hoja4!C:D,2,FALSE)","v":"ACT178"},"Ministerio de Defensa Nacional","Sector Público - Nacional","N/A"]
[null,{"$f":"VLOOKUP(C900,[1]instancias_objetos!A:B,2,FALSE)","v":"INST60"},"Consejo Directivo del Centro de Memoria Histórica",1,{"$f":"VLOOKUP(F900,[1]Hoja4!C:D,2,FALSE)","v":"ACT179"},"Ministerio de Educación Nacional","Sector Público - Nacional","N/A"]
[null,{"$f":"VLOOKUP(C901,[1]instancias_objetos!A:B,2,FALSE)","v":"INST60"},"Consejo Directivo del Centro de Memoria Histórica",1,{"$f":"VLOOKUP(F901,[1]Hoja4!C:D,2,FALSE)","v":"ACT181"},"Ministerio de Justicia y del Derecho","Sector Público - Nacional","N/A"]
[null,{"$f":"VLOOKUP(C902,[1]instancias_objetos!A:B,2,FALSE)","v":"INST60"},"Consejo Directivo del Centro de Memoria Histórica",2,{"$f":"VLOOKUP(F902,[1]Hoja4!C:D,2,FALSE)","v":"ACT255"},"Representante de la Mesa Nacional de Participación de Víctimas","Delegado Sectorial de la Sociedad Civil","Víctimas y Construcción de Paz"]
[null,{"$f":"VLOOKUP(C903,[1]instancias_objetos!A:B,2,FALSE)","v":"INST60"},"Consejo Directivo del Centro de Memoria Histórica",1,{"$f":"VLOOKUP(F903,[1]Hoja4!C:D,2,FALSE)","v":"ACT495"},"Unidad Administrativa Especial de Atención y Reparación Integral a la Víctimas","Sector Público - Nacional","N/A"]
[null,{"$f":"VLOOKUP(C904,[1]instancias_objetos!A:B,2,FALSE)","v":"INST61"},"Mesa Nacional de Participación Efectiva de las Víctimas",1,{"$f":"VLOOKUP(F904,[1]Hoja4!C:D,2,FALSE)","v":"ACT121"},"Defensoría del Pueblo","Sector Público - Nacional","N/A"]
[null,{"$f":"VLOOKUP(C905,[1]instancias_objetos!A:B,2,FALSE)","v":"INST61"},"Mesa Nacional de Participación Efectiva de las Víctimas",9,{"$f":"VLOOKUP(F905,[1]Hoja4!C:D,2,FALSE)","v":"ACT172"},"Miembro acompañante de las Organizaciones Defensoras de Víctimas","Delegado Sectorial de la Sociedad Civil","Víctimas y Construcción de Paz"]
[null,{"$f":"VLOOKUP(C906,[1]instancias_objetos!A:B,2,FALSE)","v":"INST61"},"Mesa Nacional de Participación Efectiva de las Víctimas",2,{"$f":"VLOOKUP(F906,[1]Hoja4!C:D,2,FALSE)","v":"ACT249"},"Representante de la Comisión Consultiva de Alto Nivel para las Comunidades Negras, Afrocolombianas, Raizales y Palenqueras","Delegado Sectorial de la Sociedad Civil","Grupos Étnicos (Afros, Indígenas, Raizales, Palenqueros y ROM)"]
[null,{"$f":"VLOOKUP(C907,[1]instancias_objetos!A:B,2,FALSE)","v":"INST61"},"Mesa Nacional de Participación Efectiva de las Víctimas",2,{"$f":"VLOOKUP(F907,[1]Hoja4!C:D,2,FALSE)","v":"ACT362"},"Representante de las Víctimas connacionales en el exterior","Delegado Sectorial de la Sociedad Civil","Víctimas y Construcción de Paz"]
[null,{"$f":"VLOOKUP(C908,[1]instancias_objetos!A:B,2,FALSE)","v":"INST61"},"Mesa Nacional de Participación Efectiva de las Víctimas",2,{"$f":"VLOOKUP(F908,[1]Hoja4!C:D,2,FALSE)","v":"ACT366"},"Representante de las Víctimas en condición de discapacidad","Delegado Sectorial de la Sociedad Civil","Víctimas y Construcción de Paz"]
[null,{"$f":"VLOOKUP(C909,[1]instancias_objetos!A:B,2,FALSE)","v":"INST61"},"Mesa Nacional de Participación Efectiva de las Víctimas",2,{"$f":"VLOOKUP(F909,[1]Hoja4!C:D,2,FALSE)","v":"ACT413"},"Representante de Organizaciones de Mujeres Víctimas","Delegado Sectorial de la Sociedad Civil","Poblacional y Género (Niñez, Jóvenes, Mujeres, Adulto Mayor, LGBTI)"]
[null,{"$f":"VLOOKUP(C910,[1]instancias_objetos!A:B,2,FALSE)","v":"INST61"},"Mesa Nacional de Participación Efectiva de las Víctimas",2,{"$f":"VLOOKUP(F910,[1]Hoja4!C:D,2,FALSE)","v":"ACT414"},"Representante de Organizaciones de Víctimas de Adultos Mayores","Delegado Sectorial de la Sociedad Civil","Poblacional y Género (Niñez, Jóvenes, Mujeres, Adulto Mayor, LGBTI)"]
[null,{"$f":"VLOOKUP(C911,[1]instancias_objetos!A:B,2,FALSE)","v":"INST61"},"Mesa Nacional de Participación Efectiva de las Víctimas",10,{"$f":"VLOOKUP(F911,[1]Hoja4!C:D,2,FALSE)","v":"ACT415"},"Representante de Organizaciones de Víctimas de desplazamiento forzado","Delegado Sectorial de la Sociedad Civil","Víctimas y Construcción de Paz"]
[null,{"$f":"VLOOKUP(C912,[1]instancias_objetos!A:B,2,FALSE)","v":"INST61"},"Mesa Nacional de Participación Efectiva de las Víctimas",2,{"$f":"VLOOKUP(F912,[1]Hoja4!C:D,2,FALSE)","v":"ACT416"},"Representante de Organizaciones de Víctimas de hechos victimizantes contra la integridad física","Delegado Sectorial de la Sociedad Civil","Víctimas y Construcción de Paz"]
[null,{"$f":"VLOOKUP(C913,[1]instancias_objetos!A:B,2,FALSE)","v":"INST61"},"Mesa Nacional de Participación Efectiva de las Víctimas",2,{"$f":"VLOOKUP(F913,[1]Hoja4!C:D,2,FALSE)","v":"ACT417"},"Representante de Organizaciones de Víctimas de hechos victimizantes contra la vida y la libertad","Delegado Sectorial de la Sociedad Civil","Víctimas y Construcción de Paz"]
[null,{"$f":"VLOOKUP(C914,[1]instancias_objetos!A:B,2,FALSE)","v":"INST61"},"Mesa Nacional de Participación Efectiva de las Víctimas",2,{"$f":"VLOOKUP(F914,[1]Hoja4!C:D,2,FALSE)","v":"ACT418"},"Representante de Organizaciones de Víctimas de hechos victimizantes de desaparición forzada","Delegado Sectorial de la Sociedad Civil","Víctimas y Construcción de Paz"]
[null,{"$f":"VLOOKUP(C915,[1]instancias_objetos!A:B,2,FALSE)","v":"INST61"},"Mesa Nacional de Participación Efectiva de las Víctimas",2,{"$f":"VLOOKUP(F915,[1]Hoja4!C:D,2,FALSE)","v":"ACT419"},"Representante de Organizaciones de Víctimas de hechos victimizantes de Minas Antipersonas, Municiones sin explotar y Artefactos explosivos improvisados","Delegado Sectorial de la Sociedad Civil","Víctimas y Construcción de Paz"]
[null,{"$f":"VLOOKUP(C916,[1]instancias_objetos!A:B,2,FALSE)","v":"INST61"},"Mesa Nacional de Participación Efectiva de las Víctimas",2,{"$f":"VLOOKUP(F916,[1]Hoja4!C:D,2,FALSE)","v":"ACT420"},"Representante de Organizaciones de Víctimas de hechos victimizantes de violencia sexual","Delegado Sectorial de la Sociedad Civil","Víctimas y Construcción de Paz"]
[null,{"$f":"VLOOKUP(C917,[1]instancias_objetos!A:B,2,FALSE)","v":"INST61"},"Mesa Nacional de Participación Efectiva de las Víctimas",2,{"$f":"VLOOKUP(F917,[1]Hoja4!C:D,2,FALSE)","v":"ACT421"},"Representante de Organizaciones de Víctimas Jóvenes","Delegado Sectorial de la Sociedad Civil","Poblacional y Género (Niñez, Jóvenes, Mujeres, Adulto Mayor, LGBTI)"]
[null,{"$f":"VLOOKUP(C918,[1]instancias_objetos!A:B,2,FALSE)","v":"INST61"},"Mesa Nacional de Participación Efectiva de las Víctimas",2,{"$f":"VLOOKUP(F918,[1]Hoja4!C:D,2,FALSE)","v":"ACT422"},"Representante de Organizaciones de Víctimas LGBTI","Delegado Sectorial de la Sociedad Civil","Poblacional y Género (Niñez, Jóvenes, Mujeres, Adulto Mayor, LGBTI)"]
[null,{"$f":"VLOOKUP(C919,[1]instancias_objetos!A:B,2,FALSE)","v":"INST61"},"Mesa Nacional de Participación Efectiva de las Víctimas",2,{"$f":"VLOOKUP(F919,[1]Hoja4!C:D,2,FALSE)","v":"ACT436"},"Representante del Pueblo Indígena","Delegado Sectorial de la Sociedad Civil","Grupos Étnicos (Afros, Indígenas, Raizales, Palenqueros y ROM)"]
[null,{"$f":"VLOOKUP(C920,[1]instancias_objetos!A:B,2,FALSE)","v":"INST61"},"Mesa Nacional de Participación Efectiva de las Víctimas",2,{"$f":"VLOOKUP(F920,[1]Hoja4!C:D,2,FALSE)","v":"ACT438"},"Representante del Pueblo ROM","Delegado Sectorial de la Sociedad Civil","Grupos Étnicos (Afros, Indígenas, Raizales, Palenqueros y ROM)"]
[null,{"$f":"VLOOKUP(C921,[1]instancias_objetos!A:B,2,FALSE)","v":"INST61"},"Mesa Nacional de Participación Efectiva de las Víctimas",1,{"$f":"VLOOKUP(F921,[1]Hoja4!C:D,2,FALSE)","v":"ACT478"},"Representante por cada uno de los departamentos que no estuviere representado en la Mesa Nacional de Víctimas","Sector Público - Territorial","N/A"]
[null,{"$f":"VLOOKUP(C922,[1]instancias_objetos!A:B,2,FALSE)","v":"INST62"},"Subcomités Técnicos del Sistema Nacional de Atención y Reparación a las Víctimas",5,{"$f":"VLOOKUP(F922,[1]Hoja4!C:D,2,FALSE)","v":"ACT05"},"Acción Integral contra Minas Antipersonales","Sector Público - Nacional","N/A"]
[null,{"$f":"VLOOKUP(C923,[1]instancias_objetos!A:B,2,FALSE)","v":"INST62"},"Subcomités Técnicos del Sistema Nacional de Atención y Reparación a las Víctimas",1,{"$f":"VLOOKUP(F923,[1]Hoja4!C:D,2,FALSE)","v":"ACT17"},"Archivo General de la Nación","Sector Público - Nacional","N/A"]
[null,{"$f":"VLOOKUP(C924,[1]instancias_objetos!A:B,2,FALSE)","v":"INST62"},"Subcomités Técnicos del Sistema Nacional de Atención y Reparación a las Víctimas",1,{"$f":"VLOOKUP(F924,[1]Hoja4!C:D,2,FALSE)","v":"ACT53"},"Banco Agrario","Sector Público - Nacional","N/A"]
[null,{"$f":"VLOOKUP(C925,[1]instancias_objetos!A:B,2,FALSE)","v":"INST62"},"Subcomités Técnicos del Sistema Nacional de Atención y Reparación a las Víctimas",2,{"$f":"VLOOKUP(F925,[1]Hoja4!C:D,2,FALSE)","v":"ACT54"},"Banco de Comercio Exterior de Colombia","Sector Público - Nacional","N/A"]
[null,{"$f":"VLOOKUP(C926,[1]instancias_objetos!A:B,2,FALSE)","v":"INST62"},"Subcomités Técnicos del Sistema Nacional de Atención y Reparación a las Víctimas",1,{"$f":"VLOOKUP(F926,[1]Hoja4!C:D,2,FALSE)","v":"ACT60"},"Centro Nacional de Memoria Histórica","Sector Público - Nacional","N/A"]
[null,{"$f":"VLOOKUP(C927,[1]instancias_objetos!A:B,2,FALSE)","v":"INST62"},"Subcomités Técnicos del Sistema Nacional de Atención y Reparación a las Víctimas",1,{"$f":"VLOOKUP(F927,[1]Hoja4!C:D,2,FALSE)","v":"ACT81"},"Consejería Presidencial para la Equidad de la Mujer","Sector Público - Nacional","N/A"]
[null,{"$f":"VLOOKUP(C928,[1]instancias_objetos!A:B,2,FALSE)","v":"INST62"},"Subcomités Técnicos del Sistema Nacional de Atención y Reparación a las Víctimas",1,{"$f":"VLOOKUP(F928,[1]Hoja4!C:D,2,FALSE)","v":"ACT86"},"Consejería Presidencial para los Derechos Humanos","Sector Público - Nacional","N/A"]
[null,{"$f":"VLOOKUP(C929,[1]instancias_objetos!A:B,2,FALSE)","v":"INST62"},"Subcomités Técnicos del Sistema Nacional de Atención y Reparación a las Víctimas",1,{"$f":"VLOOKUP(F929,[1]Hoja4!C:D,2,FALSE)","v":"ACT101"},"Consejo Superior de la Judicatura","Sector Público - Nacional","N/A"]
[null,{"$f":"VLOOKUP(C930,[1]instancias_objetos!A:B,2,FALSE)","v":"INST62"},"Subcomités Técnicos del Sistema Nacional de Atención y Reparación a las Víctimas",5,{"$f":"VLOOKUP(F930,[1]Hoja4!C:D,2,FALSE)","v":"ACT121"},"Defensoría del Pueblo","Sector Público - Nacional","N/A"]
[null,{"$f":"VLOOKUP(C931,[1]instancias_objetos!A:B,2,FALSE)","v":"INST62"},"Subcomités Técnicos del Sistema Nacional de Atención y Reparación a las Víctimas",1,{"$f":"VLOOKUP(F931,[1]Hoja4!C:D,2,FALSE)","v":"ACT125"},"Departamento Administrativo para la Prosperidad Social","Sector Público - Nacional","N/A"]
[null,{"$f":"VLOOKUP(C932,[1]instancias_objetos!A:B,2,FALSE)","v":"INST62"},"Subcomités Técnicos del Sistema Nacional de Atención y Reparación a las Víctimas",1,{"$f":"VLOOKUP(F932,[1]Hoja4!C:D,2,FALSE)","v":"ACT126"},"Departamento Nacional de Planeación","Sector Público - Nacional","N/A"]
[null,{"$f":"VLOOKUP(C933,[1]instancias_objetos!A:B,2,FALSE)","v":"INST62"},"Subcomités Técnicos del Sistema Nacional de Atención y Reparación a las Víctimas",5,{"$f":"VLOOKUP(F933,[1]Hoja4!C:D,2,FALSE)","v":"ACT144"},"Fiscalía General de la Nación","Sector Público - Nacional","N/A"]
[null,{"$f":"VLOOKUP(C934,[1]instancias_objetos!A:B,2,FALSE)","v":"INST62"},"Subcomités Técnicos del Sistema Nacional de Atención y Reparación a las Víctimas",2,{"$f":"VLOOKUP(F934,[1]Hoja4!C:D,2,FALSE)","v":"ACT147"},"Fondo para el Financiamiento del Sector Agropecuario","Sector Público - Nacional","N/A"]
[null,{"$f":"VLOOKUP(C935,[1]instancias_objetos!A:B,2,FALSE)","v":"INST62"},"Subcomités Técnicos del Sistema Nacional de Atención y Reparación a las Víctimas",3,{"$f":"VLOOKUP(F935,[1]Hoja4!C:D,2,FALSE)","v":"ACT157"},"Instituto Colombiano de Bienestar Familiar","Sector Público - Nacional","N/A"]
[null,{"$f":"VLOOKUP(C936,[1]instancias_objetos!A:B,2,FALSE)","v":"INST62"},"Subcomités Técnicos del Sistema Nacional de Atención y Reparación a las Víctimas",1,{"$f":"VLOOKUP(F936,[1]Hoja4!C:D,2,FALSE)","v":"ACT158"},"Instituto Colombiano de Desarrollo Rural","Sector Público - Nacional","N/A"]
[null,{"$f":"VLOOKUP(C937,[1]instancias_objetos!A:B,2,FALSE)","v":"INST62"},"Subcomités Técnicos del Sistema Nacional de Atención y Reparación a las Víctimas",1,{"$f":"VLOOKUP(F937,[1]Hoja4!C:D,2,FALSE)","v":"ACT164"},"Instituto Geográfico Agustín Codazzi","Sector Público - Nacional","N/A"]
[null,{"$f":"VLOOKUP(C938,[1]instancias_objetos!A:B,2,FALSE)","v":"INST62"},"Subcomités Técnicos del Sistema Nacional de Atención y Reparación a las Víctimas",1,{"$f":"VLOOKUP(F938,[1]Hoja4!C:D,2,FALSE)","v":"ACT166"},"Instituto Nacional de Medicina Legal y Ciencias Forenses","Sector Público - Nacional","N/A"]
[null,{"$f":"VLOOKUP(C939,[1]instancias_objetos!A:B,2,FALSE)","v":"INST62"},"Subcomités Técnicos del Sistema Nacional de Atención y Reparación a las Víctimas",5,{"$f":"VLOOKUP(F939,[1]Hoja4!C:D,2,FALSE)","v":"ACT173"},"Ministerio de Agricultura y Desarrollo Rural","Sector Público - Nacional","N/A"]
[null,{"$f":"VLOOKUP(C940,[1]instancias_objetos!A:B,2,FALSE)","v":"INST62"},"Subcomités Técnicos del Sistema Nacional de Atención y Reparación a las Víctimas",1,{"$f":"VLOOKUP(F940,[1]Hoja4!C:D,2,FALSE)","v":"ACT176"},"Ministerio de Comercio, Industria y Turismo","Sector Público - Nacional","N/A"]
[null,{"$f":"VLOOKUP(C941,[1]instancias_objetos!A:B,2,FALSE)","v":"INST62"},"Subcomités Técnicos del Sistema Nacional de Atención y Reparación a las Víctimas",2,{"$f":"VLOOKUP(F941,[1]Hoja4!C:D,2,FALSE)","v":"ACT177"},"Ministerio de Cultura de Colombia","Sector Público - Nacional","N/A"]
[null,{"$f":"VLOOKUP(C942,[1]instancias_objetos!A:B,2,FALSE)","v":"INST62"},"Subcomités Técnicos del Sistema Nacional de Atención y Reparación a las Víctimas",4,{"$f":"VLOOKUP(F942,[1]Hoja4!C:D,2,FALSE)","v":"ACT178"},"Ministerio de Defensa Nacional","Sector Público - Nacional","N/A"]
[null,{"$f":"VLOOKUP(C943,[1]instancias_objetos!A:B,2,FALSE)","v":"INST62"},"Subcomités Técnicos del Sistema Nacional de Atención y Reparación a las Víctimas",5,{"$f":"VLOOKUP(F943,[1]Hoja4!C:D,2,FALSE)","v":"ACT179"},"Ministerio de Educación Nacional","Sector Público - Nacional","N/A"]
[null,{"$f":"VLOOKUP(C944,[1]instancias_objetos!A:B,2,FALSE)","v":"INST62"},"Subcomités Técnicos del Sistema Nacional de Atención y Reparación a las Víctimas",1,{"$f":"VLOOKUP(F944,[1]Hoja4!C:D,2,FALSE)","v":"ACT181"},"Ministerio de Justicia y del Derecho","Sector Público - Nacional","N/A"]
[null,{"$f":"VLOOKUP(C945,[1]instancias_objetos!A:B,2,FALSE)","v":"INST62"},"Subcomités Técnicos del Sistema Nacional de Atención y Reparación a las Víctimas",5,{"$f":"VLOOKUP(F945,[1]Hoja4!C:D,2,FALSE)","v":"ACT184"},"Ministerio de Salud y Protección Social","Sector Público - Nacional","N/A"]
[null,{"$f":"VLOOKUP(C946,[1]instancias_objetos!A:B,2,FALSE)","v":"INST62"},"Subcomités Técnicos del Sistema Nacional de Atención y Reparación a las Víctimas",1,{"$f":"VLOOKUP(F946,[1]Hoja4!C:D,2,FALSE)","v":"ACT185"},"Ministerio de Tecnologías de la Información y las Comunicaciones","Sector Público - Nacional","N/A"]
[null,{"$f":"VLOOKUP(C947,[1]instancias_objetos!A:B,2,FALSE)","v":"INST62"},"Subcomités Técnicos del Sistema Nacional de Atención y Reparación a las Víctimas",4,{"$f":"VLOOKUP(F947,[1]Hoja4!C:D,2,FALSE)","v":"ACT187"},"Ministerio de Vivienda, Ciudad y Territorio","Sector Público - Nacional","N/A"]
[null,{"$f":"VLOOKUP(C948,[1]instancias_objetos!A:B,2,FALSE)","v":"INST62"},"Subcomités Técnicos del Sistema Nacional de Atención y Reparación a las Víctimas",4,{"$f":"VLOOKUP(F948,[1]Hoja4!C:D,2,FALSE)","v":"ACT189"},"Ministerio del Interior","Sector Público - Nacional","N/A"]
[null,{"$f":"VLOOKUP(C949,[1]instancias_objetos!A:B,2,FALSE)","v":"INST62"},"Subcomités Técnicos del Sistema Nacional de Atención y Reparación a las Víctimas",4,{"$f":"VLOOKUP(F949,[1]Hoja4!C:D,2,FALSE)","v":"ACT190"},"Ministerio del Trabajo","Sector Público - Nacional","N/A"]
[null,{"$f":"VLOOKUP(C950,[1]instancias_objetos!A:B,2,FALSE)","v":"INST62"},"Subcomités Técnicos del Sistema Nacional de Atención y Reparación a las Víctimas",1,{"$f":"VLOOKUP(F950,[1]Hoja4!C:D,2,FALSE)","v":"ACT209"},"Policía Nacional","Sector Público - Nacional","N/A"]
[null,{"$f":"VLOOKUP(C951,[1]instancias_objetos!A:B,2,FALSE)","v":"INST62"},"Subcomités Técnicos del Sistema Nacional de Atención y Reparación a las Víctimas",3,{"$f":"VLOOKUP(F951,[1]Hoja4!C:D,2,FALSE)","v":"ACT214"},"Procuraduría General de la Nación","Sector Público - Nacional","N/A"]
[null,{"$f":"VLOOKUP(C952,[1]instancias_objetos!A:B,2,FALSE)","v":"INST62"},"Subcomités Técnicos del Sistema Nacional de Atención y Reparación a las Víctimas",1,{"$f":"VLOOKUP(F952,[1]Hoja4!C:D,2,FALSE)","v":"ACT223"},"Registraduría Nacional del Estado Civil","Sector Público - Nacional","N/A"]
[null,{"$f":"VLOOKUP(C953,[1]instancias_objetos!A:B,2,FALSE)","v":"INST62"},"Subcomités Técnicos del Sistema Nacional de Atención y Reparación a las Víctimas",24,{"$f":"VLOOKUP(F953,[1]Hoja4!C:D,2,FALSE)","v":"ACT255"},"Representante de la Mesa Nacional de Participación de Víctimas","Delegado Sectorial de la Sociedad Civil","Víctimas y Construcción de Paz"]
[null,{"$f":"VLOOKUP(C954,[1]instancias_objetos!A:B,2,FALSE)","v":"INST62"},"Subcomités Técnicos del Sistema Nacional de Atención y Reparación a las Víctimas",1,{"$f":"VLOOKUP(F954,[1]Hoja4!C:D,2,FALSE)","v":"ACT434"},"Representante del Programa Presidencial para el Desarrollo Integral de la Población Afrodescendiente, Negra, Palenquera y Raizales","Sector Público - Nacional","N/A"]
[null,{"$f":"VLOOKUP(C955,[1]instancias_objetos!A:B,2,FALSE)","v":"INST62"},"Subcomités Técnicos del Sistema Nacional de Atención y Reparación a las Víctimas",1,{"$f":"VLOOKUP(F955,[1]Hoja4!C:D,2,FALSE)","v":"ACT435"},"Representante del Programa Presidencial para Formulación de Estrategias y Acciones para el Desarrollo Integral de los Pueblos Indígenas de Colombia","Sector Público - Nacional","N/A"]
[null,{"$f":"VLOOKUP(C956,[1]instancias_objetos!A:B,2,FALSE)","v":"INST62"},"Subcomités Técnicos del Sistema Nacional de Atención y Reparación a las Víctimas",4,{"$f":"VLOOKUP(F956,[1]Hoja4!C:D,2,FALSE)","v":"ACT486"},"Servicio Nacional de Aprendizaje","Sector Público - Nacional","N/A"]
[null,{"$f":"VLOOKUP(C957,[1]instancias_objetos!A:B,2,FALSE)","v":"INST62"},"Subcomités Técnicos del Sistema Nacional de Atención y Reparación a las Víctimas",1,{"$f":"VLOOKUP(F957,[1]Hoja4!C:D,2,FALSE)","v":"ACT490"},"Superintendencia de Industria y Comercio","Sector Público - Nacional","N/A"]
[null,{"$f":"VLOOKUP(C958,[1]instancias_objetos!A:B,2,FALSE)","v":"INST62"},"Subcomités Técnicos del Sistema Nacional de Atención y Reparación a las Víctimas",1,{"$f":"VLOOKUP(F958,[1]Hoja4!C:D,2,FALSE)","v":"ACT491"},"Superintendencia de Notariado y Registro","Sector Público - Nacional","N/A"]
[null,{"$f":"VLOOKUP(C959,[1]instancias_objetos!A:B,2,FALSE)","v":"INST62"},"Subcomités Técnicos del Sistema Nacional de Atención y Reparación a las Víctimas",1,{"$f":"VLOOKUP(F959,[1]Hoja4!C:D,2,FALSE)","v":"ACT493"},"Superintendencia Financiera","Sector Público - Nacional","N/A"]
[null,{"$f":"VLOOKUP(C960,[1]instancias_objetos!A:B,2,FALSE)","v":"INST62"},"Subcomités Técnicos del Sistema Nacional de Atención y Reparación a las Víctimas",1,{"$f":"VLOOKUP(F960,[1]Hoja4!C:D,2,FALSE)","v":"ACT495"},"Unidad Administrativa Especial de Atención y Reparación Integral a la Víctimas","Sector Público - Nacional","N/A"]
[null,{"$f":"VLOOKUP(C961,[1]instancias_objetos!A:B,2,FALSE)","v":"INST62"},"Subcomités Técnicos del Sistema Nacional de Atención y Reparación a las Víctimas",1,{"$f":"VLOOKUP(F961,[1]Hoja4!C:D,2,FALSE)","v":"ACT499"},"Unidad Nacional de Protección","Sector Público - Nacional","N/A"]
[null,{"$f":"VLOOKUP(C962,[1]instancias_objetos!A:B,2,FALSE)","v":"INST63"},"Comisión Nacional de Competitividad e Innovación",1,{"$f":"VLOOKUP(F962,[1]Hoja4!C:D,2,FALSE)","v":"ACT20"},"Asociación Colombiana de Ciudades Capitales","Sector Público - Territorial","N/A"]
[null,{"$f":"VLOOKUP(C963,[1]instancias_objetos!A:B,2,FALSE)","v":"INST63"},"Comisión Nacional de Competitividad e Innovación",1,{"$f":"VLOOKUP(F963,[1]Hoja4!C:D,2,FALSE)","v":"ACT28"},"Asociación Colombiana de Instituciones de Educación Superior con Formación Técnica Profesional y/o Tecnológica","Organización de la Sociedad Civil","Educación"]
[null,{"$f":"VLOOKUP(C964,[1]instancias_objetos!A:B,2,FALSE)","v":"INST63"},"Comisión Nacional de Competitividad e Innovación",1,{"$f":"VLOOKUP(F964,[1]Hoja4!C:D,2,FALSE)","v":"ACT34"},"Asociación Colombiana de Universidades","Organización de la Sociedad Civil","Educación"]
[null,{"$f":"VLOOKUP(C965,[1]instancias_objetos!A:B,2,FALSE)","v":"INST63"},"Comisión Nacional de Competitividad e Innovación",1,{"$f":"VLOOKUP(F965,[1]Hoja4!C:D,2,FALSE)","v":"ACT70"},"Confederación Colombiana de Cámaras de Comercio","Sector Público - Nacional","N/A"]
[null,{"$f":"VLOOKUP(C966,[1]instancias_objetos!A:B,2,FALSE)","v":"INST63"},"Comisión Nacional de Competitividad e Innovación",1,{"$f":"VLOOKUP(F966,[1]Hoja4!C:D,2,FALSE)","v":"ACT80"},"Consejería Presidencial para la Competitividad y la Gestión Pública - Privada","Sector Público - Nacional","N/A"]
[null,{"$f":"VLOOKUP(C967,[1]instancias_objetos!A:B,2,FALSE)","v":"INST63"},"Comisión Nacional de Competitividad e Innovación",1,{"$f":"VLOOKUP(F967,[1]Hoja4!C:D,2,FALSE)","v":"ACT83"},"Consejería Presidencial para la Gestión y Cumplimiento","Sector Público - Nacional","N/A"]
[null,{"$f":"VLOOKUP(C968,[1]instancias_objetos!A:B,2,FALSE)","v":"INST63"},"Comisión Nacional de Competitividad e Innovación",2,{"$f":"VLOOKUP(F968,[1]Hoja4!C:D,2,FALSE)","v":"ACT89"},"Consejo Gremial Nacional","Sector Privado","Competitividad, Financiero y Sector Privado"]
[null,{"$f":"VLOOKUP(C969,[1]instancias_objetos!A:B,2,FALSE)","v":"INST63"},"Comisión Nacional de Competitividad e Innovación",1,{"$f":"VLOOKUP(F969,[1]Hoja4!C:D,2,FALSE)","v":"ACT96"},"Consejo Privado de Competitividad","Organización de la Sociedad Civil","Competitividad, Financiero y Sector Privado"]
[null,{"$f":"VLOOKUP(C970,[1]instancias_objetos!A:B,2,FALSE)","v":"INST63"},"Comisión Nacional de Competitividad e Innovación",1,{"$f":"VLOOKUP(F970,[1]Hoja4!C:D,2,FALSE)","v":"ACT122"},"Departamento Administrativo de la Función Pública","Sector Público - Nacional","N/A"]
[null,{"$f":"VLOOKUP(C971,[1]instancias_objetos!A:B,2,FALSE)","v":"INST63"},"Comisión Nacional de Competitividad e Innovación",1,{"$f":"VLOOKUP(F971,[1]Hoja4!C:D,2,FALSE)","v":"ACT126"},"Departamento Nacional de Planeación","Sector Público - Nacional","N/A"]
[null,{"$f":"VLOOKUP(C972,[1]instancias_objetos!A:B,2,FALSE)","v":"INST63"},"Comisión Nacional de Competitividad e Innovación",1,{"$f":"VLOOKUP(F972,[1]Hoja4!C:D,2,FALSE)","v":"ACT128"},"Dirección de Impuestos y Aduanas Nacionales","Sector Público - Nacional","N/A"]
[null,{"$f":"VLOOKUP(C973,[1]instancias_objetos!A:B,2,FALSE)","v":"INST63"},"Comisión Nacional de Competitividad e Innovación",1,{"$f":"VLOOKUP(F973,[1]Hoja4!C:D,2,FALSE)","v":"ACT135"},"Federación Colombiana de Municipios","Sector Privado","Control Social, Transparencia, Comunitario y Veedurías"]
[null,{"$f":"VLOOKUP(C974,[1]instancias_objetos!A:B,2,FALSE)","v":"INST63"},"Comisión Nacional de Competitividad e Innovación",1,{"$f":"VLOOKUP(F974,[1]Hoja4!C:D,2,FALSE)","v":"ACT141"},"Federación Nacional de Departamentos","Sector Público - Territorial","N/A"]
[null,{"$f":"VLOOKUP(C975,[1]instancias_objetos!A:B,2,FALSE)","v":"INST63"},"Comisión Nacional de Competitividad e Innovación",6,{"$f":"VLOOKUP(F975,[1]Hoja4!C:D,2,FALSE)","v":"ACT152"},"Gobernador que preside Comisión Regional de Competitividad e Innovación","Sector Público - Territorial","N/A"]
[null,{"$f":"VLOOKUP(C976,[1]instancias_objetos!A:B,2,FALSE)","v":"INST63"},"Comisión Nacional de Competitividad e Innovación",1,{"$f":"VLOOKUP(F976,[1]Hoja4!C:D,2,FALSE)","v":"ACT173"},"Ministerio de Agricultura y Desarrollo Rural","Sector Público - Nacional","N/A"]
[null,{"$f":"VLOOKUP(C977,[1]instancias_objetos!A:B,2,FALSE)","v":"INST63"},"Comisión Nacional de Competitividad e Innovación",1,{"$f":"VLOOKUP(F977,[1]Hoja4!C:D,2,FALSE)","v":"ACT174"},"Ministerio de Ambiente y Desarrollo Sostenible","Sector Público - Nacional","N/A"]
[null,{"$f":"VLOOKUP(C978,[1]instancias_objetos!A:B,2,FALSE)","v":"INST63"},"Comisión Nacional de Competitividad e Innovación",1,{"$f":"VLOOKUP(F978,[1]Hoja4!C:D,2,FALSE)","v":"ACT175"},"Ministerio de Ciencia, Tecnología e Innovación","Sector Público - Nacional","N/A"]
[null,{"$f":"VLOOKUP(C979,[1]instancias_objetos!A:B,2,FALSE)","v":"INST63"},"Comisión Nacional de Competitividad e Innovación",1,{"$f":"VLOOKUP(F979,[1]Hoja4!C:D,2,FALSE)","v":"ACT176"},"Ministerio de Comercio, Industria y Turismo","Sector Público - Nacional","N/A"]
[null,{"$f":"VLOOKUP(C980,[1]instancias_objetos!A:B,2,FALSE)","v":"INST63"},"Comisión Nacional de Competitividad e Innovación",1,{"$f":"VLOOKUP(F980,[1]Hoja4!C:D,2,FALSE)","v":"ACT177"},"Ministerio de Cultura de Colombia","Sector Público - Nacional","N/A"]
[null,{"$f":"VLOOKUP(C981,[1]instancias_objetos!A:B,2,FALSE)","v":"INST63"},"Comisión Nacional de Competitividad e Innovación",1,{"$f":"VLOOKUP(F981,[1]Hoja4!C:D,2,FALSE)","v":"ACT178"},"Ministerio de Defensa Nacional","Sector Público - Nacional","N/A"]
[null,{"$f":"VLOOKUP(C982,[1]instancias_objetos!A:B,2,FALSE)","v":"INST63"},"Comisión Nacional de Competitividad e Innovación",1,{"$f":"VLOOKUP(F982,[1]Hoja4!C:D,2,FALSE)","v":"ACT179"},"Ministerio de Educación Nacional","Sector Público - Nacional","N/A"]
[null,{"$f":"VLOOKUP(C983,[1]instancias_objetos!A:B,2,FALSE)","v":"INST63"},"Comisión Nacional de Competitividad e Innovación",1,{"$f":"VLOOKUP(F983,[1]Hoja4!C:D,2,FALSE)","v":"ACT180"},"Ministerio de Hacienda y Crédito Público","Sector Público - Nacional","N/A"]
[null,{"$f":"VLOOKUP(C984,[1]instancias_objetos!A:B,2,FALSE)","v":"INST63"},"Comisión Nacional de Competitividad e Innovación",1,{"$f":"VLOOKUP(F984,[1]Hoja4!C:D,2,FALSE)","v":"ACT181"},"Ministerio de Justicia y del Derecho","Sector Público - Nacional","N/A"]
[null,{"$f":"VLOOKUP(C985,[1]instancias_objetos!A:B,2,FALSE)","v":"INST63"},"Comisión Nacional de Competitividad e Innovación",1,{"$f":"VLOOKUP(F985,[1]Hoja4!C:D,2,FALSE)","v":"ACT182"},"Ministerio de Minas y Energía","Sector Público - Nacional","N/A"]
[null,{"$f":"VLOOKUP(C986,[1]instancias_objetos!A:B,2,FALSE)","v":"INST63"},"Comisión Nacional de Competitividad e Innovación",1,{"$f":"VLOOKUP(F986,[1]Hoja4!C:D,2,FALSE)","v":"ACT183"},"Ministerio de Relaciones Exteriores","Sector Público - Nacional","N/A"]
[null,{"$f":"VLOOKUP(C987,[1]instancias_objetos!A:B,2,FALSE)","v":"INST63"},"Comisión Nacional de Competitividad e Innovación",1,{"$f":"VLOOKUP(F987,[1]Hoja4!C:D,2,FALSE)","v":"ACT184"},"Ministerio de Salud y Protección Social","Sector Público - Nacional","N/A"]
[null,{"$f":"VLOOKUP(C988,[1]instancias_objetos!A:B,2,FALSE)","v":"INST63"},"Comisión Nacional de Competitividad e Innovación",1,{"$f":"VLOOKUP(F988,[1]Hoja4!C:D,2,FALSE)","v":"ACT185"},"Ministerio de Tecnologías de la Información y las Comunicaciones","Sector Público - Nacional","N/A"]
[null,{"$f":"VLOOKUP(C989,[1]instancias_objetos!A:B,2,FALSE)","v":"INST63"},"Comisión Nacional de Competitividad e Innovación",1,{"$f":"VLOOKUP(F989,[1]Hoja4!C:D,2,FALSE)","v":"ACT186"},"Ministerio de Transporte","Sector Público - Nacional","N/A"]
[null,{"$f":"VLOOKUP(C990,[1]instancias_objetos!A:B,2,FALSE)","v":"INST63"},"Comisión Nacional de Competitividad e Innovación",1,{"$f":"VLOOKUP(F990,[1]Hoja4!C:D,2,FALSE)","v":"ACT187"},"Ministerio de Vivienda, Ciudad y Territorio","Sector Público - Nacional","N/A"]
[null,{"$f":"VLOOKUP(C991,[1]instancias_objetos!A:B,2,FALSE)","v":"INST63"},"Comisión Nacional de Competitividad e Innovación",1,{"$f":"VLOOKUP(F991,[1]Hoja4!C:D,2,FALSE)","v":"ACT189"},"Ministerio del Interior","Sector Público - Nacional","N/A"]
[null,{"$f":"VLOOKUP(C992,[1]instancias_objetos!A:B,2,FALSE)","v":"INST63"},"Comisión Nacional de Competitividad e Innovación",1,{"$f":"VLOOKUP(F992,[1]Hoja4!C:D,2,FALSE)","v":"ACT190"},"Ministerio del Trabajo","Sector Público - Nacional","N/A"]
[null,{"$f":"VLOOKUP(C993,[1]instancias_objetos!A:B,2,FALSE)","v":"INST63"},"Comisión Nacional de Competitividad e Innovación",1,{"$f":"VLOOKUP(F993,[1]Hoja4!C:D,2,FALSE)","v":"ACT210"},"Presidencia de la República","Sector Público - Nacional","N/A"]
[null,{"$f":"VLOOKUP(C994,[1]instancias_objetos!A:B,2,FALSE)","v":"INST63"},"Comisión Nacional de Competitividad e Innovación",2,{"$f":"VLOOKUP(F994,[1]Hoja4!C:D,2,FALSE)","v":"ACT288"},"Representante de las Centrales Obreras","Delegado Sectorial de la Sociedad Civil","Trabajo"]
[null,{"$f":"VLOOKUP(C995,[1]instancias_objetos!A:B,2,FALSE)","v":"INST63"},"Comisión Nacional de Competitividad e Innovación",3,{"$f":"VLOOKUP(F995,[1]Hoja4!C:D,2,FALSE)","v":"ACT425"},"Representante del Consejo Asesor de Ciencia, Tecnología e Innovación","Delegado Sectorial de la Sociedad Civil","Ciencia y Tecnología"]
[null,{"$f":"VLOOKUP(C996,[1]instancias_objetos!A:B,2,FALSE)","v":"INST63"},"Comisión Nacional de Competitividad e Innovación",1,{"$f":"VLOOKUP(F996,[1]Hoja4!C:D,2,FALSE)","v":"ACT486"},"Servicio Nacional de Aprendizaje","Sector Público - Nacional","N/A"]
[null,{"$f":"VLOOKUP(C997,[1]instancias_objetos!A:B,2,FALSE)","v":"INST63"},"Comisión Nacional de Competitividad e Innovación",1,{"$f":"VLOOKUP(F997,[1]Hoja4!C:D,2,FALSE)","v":"ACT490"},"Superintendencia de Industria y Comercio","Sector Público - Nacional","N/A"]
[null,{"$f":"VLOOKUP(C998,[1]instancias_objetos!A:B,2,FALSE)","v":"INST63"},"Comisión Nacional de Competitividad e Innovación",1,{"$f":"VLOOKUP(F998,[1]Hoja4!C:D,2,FALSE)","v":"ACT504"},"Vicepresidencia de la República","Sector Público - Nacional","N/A"]
[null,{"$f":"VLOOKUP(C999,[1]instancias_objetos!A:B,2,FALSE)","v":"INST64"},"Consejo Nacional de Salud Mental",1,{"$f":"VLOOKUP(F999,[1]Hoja4!C:D,2,FALSE)","v":"ACT21"},"Asociación Colombiana de Empresas Sociales del Estado y Hospitales Públicos","Organización de la Sociedad Civil","Salud"]
[null,{"$f":"VLOOKUP(C1000,[1]instancias_objetos!A:B,2,FALSE)","v":"INST64"},"Consejo Nacional de Salud Mental",1,{"$f":"VLOOKUP(F1000,[1]Hoja4!C:D,2,FALSE)","v":"ACT27"},"Asociación Colombiana de Hospitales y Clínicas","Organización de la Sociedad Civil","Salud"]
[null,{"$f":"VLOOKUP(C1001,[1]instancias_objetos!A:B,2,FALSE)","v":"INST64"},"Consejo Nacional de Salud Mental",1,{"$f":"VLOOKUP(F1001,[1]Hoja4!C:D,2,FALSE)","v":"ACT31"},"Asociación Colombiana de Profesionales en Atención Prehospitalaria, Emergencias y Desastres","Organización de la Sociedad Civil","Salud"]
[null,{"$f":"VLOOKUP(C1002,[1]instancias_objetos!A:B,2,FALSE)","v":"INST64"},"Consejo Nacional de Salud Mental",1,{"$f":"VLOOKUP(F1002,[1]Hoja4!C:D,2,FALSE)","v":"ACT32"},"Asociación Colombiana de Psiquiatría","Organización de la Sociedad Civil","Salud"]
[null,{"$f":"VLOOKUP(C1003,[1]instancias_objetos!A:B,2,FALSE)","v":"INST64"},"Consejo Nacional de Salud Mental",1,{"$f":"VLOOKUP(F1003,[1]Hoja4!C:D,2,FALSE)","v":"ACT33"},"Asociación Colombiana de Terapia Ocupacional","Organización de la Sociedad Civil","Salud"]
[null,{"$f":"VLOOKUP(C1004,[1]instancias_objetos!A:B,2,FALSE)","v":"INST64"},"Consejo Nacional de Salud Mental",1,{"$f":"VLOOKUP(F1004,[1]Hoja4!C:D,2,FALSE)","v":"ACT45"},"Asociación Nacional de Enfermeras","Organización de la Sociedad Civil","Salud"]
[null,{"$f":"VLOOKUP(C1005,[1]instancias_objetos!A:B,2,FALSE)","v":"INST64"},"Consejo Nacional de Salud Mental",1,{"$f":"VLOOKUP(F1005,[1]Hoja4!C:D,2,FALSE)","v":"ACT62"},"Colegio Colombiano de Psicólogos","Organización de la Sociedad Civil","Salud"]
[null,{"$f":"VLOOKUP(C1006,[1]instancias_objetos!A:B,2,FALSE)","v":"INST64"},"Consejo Nacional de Salud Mental",1,{"$f":"VLOOKUP(F1006,[1]Hoja4!C:D,2,FALSE)","v":"ACT95"},"Consejo Nacional de Trabajo Social","Organización de la Sociedad Civil","Salud"]
[null,{"$f":"VLOOKUP(C1007,[1]instancias_objetos!A:B,2,FALSE)","v":"INST64"},"Consejo Nacional de Salud Mental",1,{"$f":"VLOOKUP(F1007,[1]Hoja4!C:D,2,FALSE)","v":"ACT121"},"Defensoría del Pueblo","Sector Público - Nacional","N/A"]
[null,{"$f":"VLOOKUP(C1008,[1]instancias_objetos!A:B,2,FALSE)","v":"INST64"},"Consejo Nacional de Salud Mental",1,{"$f":"VLOOKUP(F1008,[1]Hoja4!C:D,2,FALSE)","v":"ACT139"},"Federación Médica Colombiana","Organización de la Sociedad Civil","Salud"]
[null,{"$f":"VLOOKUP(C1009,[1]instancias_objetos!A:B,2,FALSE)","v":"INST64"},"Consejo Nacional de Salud Mental",1,{"$f":"VLOOKUP(F1009,[1]Hoja4!C:D,2,FALSE)","v":"ACT184"},"Ministerio de Salud y Protección Social","Sector Público - Nacional","N/A"]
[null,{"$f":"VLOOKUP(C1010,[1]instancias_objetos!A:B,2,FALSE)","v":"INST64"},"Consejo Nacional de Salud Mental",1,{"$f":"VLOOKUP(F1010,[1]Hoja4!C:D,2,FALSE)","v":"ACT184"},"Ministerio de Salud y Protección Social","Sector Público - Nacional","N/A"]
[null,{"$f":"VLOOKUP(C1011,[1]instancias_objetos!A:B,2,FALSE)","v":"INST64"},"Consejo Nacional de Salud Mental",1,{"$f":"VLOOKUP(F1011,[1]Hoja4!C:D,2,FALSE)","v":"ACT258"},"Representante de la Sociedad Civil","Delegado Sectorial de la Sociedad Civil","Control Social, Transparencia, Comunitario y Veedurías"]
[null,{"$f":"VLOOKUP(C1012,[1]instancias_objetos!A:B,2,FALSE)","v":"INST64"},"Consejo Nacional de Salud Mental",1,{"$f":"VLOOKUP(F1012,[1]Hoja4!C:D,2,FALSE)","v":"ACT271"},"Representante de las Asociaciones de Facultades de las Ciencias de la Salud","Delegado Sectorial de la Sociedad Civil","Educación"]
[null,{"$f":"VLOOKUP(C1013,[1]instancias_objetos!A:B,2,FALSE)","v":"INST64"},"Consejo Nacional de Salud Mental",2,{"$f":"VLOOKUP(F1013,[1]Hoja4!C:D,2,FALSE)","v":"ACT276"},"Representante de las Asociaciones de Pacientes, sus Familiares o Cuidadores de Patologías en Salud Mental","Delegado Sectorial de la Sociedad Civil","Salud"]
[null,{"$f":"VLOOKUP(C1014,[1]instancias_objetos!A:B,2,FALSE)","v":"INST64"},"Consejo Nacional de Salud Mental",1,{"$f":"VLOOKUP(F1014,[1]Hoja4!C:D,2,FALSE)","v":"ACT298"},"Representante de las Facultades de las Ciencias Sociales","Sector Privado","Educación"]
[null,{"$f":"VLOOKUP(C1015,[1]instancias_objetos!A:B,2,FALSE)","v":"INST65"},"Comité Consultivo para la Regla Fiscal",3,{"$f":"VLOOKUP(F1015,[1]Hoja4!C:D,2,FALSE)","v":"ACT120"},"Decano de la Facultad de Economía de una de las universidades del país","Delegado Sectorial de la Sociedad Civil","Educación"]
[null,{"$f":"VLOOKUP(C1016,[1]instancias_objetos!A:B,2,FALSE)","v":"INST65"},"Comité Consultivo para la Regla Fiscal",2,{"$f":"VLOOKUP(F1016,[1]Hoja4!C:D,2,FALSE)","v":"ACT211"},"Presidente de una Comisión Económica del Congreso de la República","Sector Público - Nacional","N/A"]
[null,{"$f":"VLOOKUP(C1017,[1]instancias_objetos!A:B,2,FALSE)","v":"INST65"},"Comité Consultivo para la Regla Fiscal",4,{"$f":"VLOOKUP(F1017,[1]Hoja4!C:D,2,FALSE)","v":"ACT239"},"Representante de centros de investigación de reconocida trayectoria e idoneidad","Delegado Sectorial de la Sociedad Civil","Competitividad, Financiero y Sector Privado"]
[null,{"$f":"VLOOKUP(C1018,[1]instancias_objetos!A:B,2,FALSE)","v":"INST66"},"Comité Promoción Fílmica Colombia",1,{"$f":"VLOOKUP(F1018,[1]Hoja4!C:D,2,FALSE)","v":"ACT176"},"Ministerio de Comercio, Industria y Turismo","Sector Público - Nacional","N/A"]
[null,{"$f":"VLOOKUP(C1019,[1]instancias_objetos!A:B,2,FALSE)","v":"INST66"},"Comité Promoción Fílmica Colombia",2,{"$f":"VLOOKUP(F1019,[1]Hoja4!C:D,2,FALSE)","v":"ACT177"},"Ministerio de Cultura de Colombia","Sector Público - Nacional","N/A"]
[null,{"$f":"VLOOKUP(C1020,[1]instancias_objetos!A:B,2,FALSE)","v":"INST66"},"Comité Promoción Fílmica Colombia",1,{"$f":"VLOOKUP(F1020,[1]Hoja4!C:D,2,FALSE)","v":"ACT213"},"PROCOLOMBIA","Sector Público - Nacional","N/A"]
[null,{"$f":"VLOOKUP(C1021,[1]instancias_objetos!A:B,2,FALSE)","v":"INST66"},"Comité Promoción Fílmica Colombia",1,{"$f":"VLOOKUP(F1021,[1]Hoja4!C:D,2,FALSE)","v":"ACT402"},"Representante de los productores en el Consejo Nacional de Artes y la Cultura Cinematográfica","Delegado Sectorial de la Sociedad Civil","Cultura"]
[null,{"$f":"VLOOKUP(C1022,[1]instancias_objetos!A:B,2,FALSE)","v":"INST66"},"Comité Promoción Fílmica Colombia",2,{"$f":"VLOOKUP(F1022,[1]Hoja4!C:D,2,FALSE)","v":"ACT446"},"Representante del Sector Cinematográfico","Delegado Sectorial de la Sociedad Civil","Cultura"]
[null,{"$f":"VLOOKUP(C1023,[1]instancias_objetos!A:B,2,FALSE)","v":"INST67"},"Comisión Nacional del Sistema Nacional de Identificación, Información y Trazabilidad Animal",1,{"$f":"VLOOKUP(F1023,[1]Hoja4!C:D,2,FALSE)","v":"ACT89"},"Consejo Gremial Nacional","Sector Privado","Competitividad, Financiero y Sector Privado"]
[null,{"$f":"VLOOKUP(C1024,[1]instancias_objetos!A:B,2,FALSE)","v":"INST67"},"Comisión Nacional del Sistema Nacional de Identificación, Información y Trazabilidad Animal",1,{"$f":"VLOOKUP(F1024,[1]Hoja4!C:D,2,FALSE)","v":"ACT126"},"Departamento Nacional de Planeación","Sector Público - Nacional","N/A"]
[null,{"$f":"VLOOKUP(C1025,[1]instancias_objetos!A:B,2,FALSE)","v":"INST67"},"Comisión Nacional del Sistema Nacional de Identificación, Información y Trazabilidad Animal",1,{"$f":"VLOOKUP(F1025,[1]Hoja4!C:D,2,FALSE)","v":"ACT155"},"Instituto Colombiano de Agricultura","Sector Público - Nacional","N/A"]
[null,{"$f":"VLOOKUP(C1026,[1]instancias_objetos!A:B,2,FALSE)","v":"INST67"},"Comisión Nacional del Sistema Nacional de Identificación, Información y Trazabilidad Animal",1,{"$f":"VLOOKUP(F1026,[1]Hoja4!C:D,2,FALSE)","v":"ACT173"},"Ministerio de Agricultura y Desarrollo Rural","Sector Público - Nacional","N/A"]
[null,{"$f":"VLOOKUP(C1027,[1]instancias_objetos!A:B,2,FALSE)","v":"INST67"},"Comisión Nacional del Sistema Nacional de Identificación, Información y Trazabilidad Animal",1,{"$f":"VLOOKUP(F1027,[1]Hoja4!C:D,2,FALSE)","v":"ACT176"},"Ministerio de Comercio, Industria y Turismo","Sector Público - Nacional","N/A"]
[null,{"$f":"VLOOKUP(C1028,[1]instancias_objetos!A:B,2,FALSE)","v":"INST67"},"Comisión Nacional del Sistema Nacional de Identificación, Información y Trazabilidad Animal",1,{"$f":"VLOOKUP(F1028,[1]Hoja4!C:D,2,FALSE)","v":"ACT184"},"Ministerio de Salud y Protección Social","Sector Público - Nacional","N/A"]
[null,{"$f":"VLOOKUP(C1029,[1]instancias_objetos!A:B,2,FALSE)","v":"INST67"},"Comisión Nacional del Sistema Nacional de Identificación, Información y Trazabilidad Animal",1,{"$f":"VLOOKUP(F1029,[1]Hoja4!C:D,2,FALSE)","v":"ACT186"},"Ministerio de Transporte","Sector Público - Nacional","N/A"]
[null,{"$f":"VLOOKUP(C1030,[1]instancias_objetos!A:B,2,FALSE)","v":"INST67"},"Comisión Nacional del Sistema Nacional de Identificación, Información y Trazabilidad Animal",1,{"$f":"VLOOKUP(F1030,[1]Hoja4!C:D,2,FALSE)","v":"ACT209"},"Policía Nacional","Sector Público - Nacional","N/A"]
[null,{"$f":"VLOOKUP(C1031,[1]instancias_objetos!A:B,2,FALSE)","v":"INST67"},"Comisión Nacional del Sistema Nacional de Identificación, Información y Trazabilidad Animal",1,{"$f":"VLOOKUP(F1031,[1]Hoja4!C:D,2,FALSE)","v":"ACT369"},"Representante de los Campesinos","Delegado Sectorial de la Sociedad Civil","Agricultura y Ruralidad"]
[null,{"$f":"VLOOKUP(C1032,[1]instancias_objetos!A:B,2,FALSE)","v":"INST68"},"Comité Nacional de Convivencia Escolar",1,{"$f":"VLOOKUP(F1032,[1]Hoja4!C:D,2,FALSE)","v":"ACT23"},"Asociación Colombiana de Facultades de Educación","Organización de la Sociedad Civil","Educación"]
[null,{"$f":"VLOOKUP(C1033,[1]instancias_objetos!A:B,2,FALSE)","v":"INST68"},"Comité Nacional de Convivencia Escolar",1,{"$f":"VLOOKUP(F1033,[1]Hoja4!C:D,2,FALSE)","v":"ACT34"},"Asociación Colombiana de Universidades","Organización de la Sociedad Civil","Educación"]
[null,{"$f":"VLOOKUP(C1034,[1]instancias_objetos!A:B,2,FALSE)","v":"INST68"},"Comité Nacional de Convivencia Escolar",1,{"$f":"VLOOKUP(F1034,[1]Hoja4!C:D,2,FALSE)","v":"ACT46"},"Asociación Nacional de Escuelas Normales Superiores","Organización de la Sociedad Civil","Educación"]
[null,{"$f":"VLOOKUP(C1035,[1]instancias_objetos!A:B,2,FALSE)","v":"INST68"},"Comité Nacional de Convivencia Escolar",1,{"$f":"VLOOKUP(F1035,[1]Hoja4!C:D,2,FALSE)","v":"ACT121"},"Defensoría del Pueblo","Sector Público - Nacional","N/A"]
[null,{"$f":"VLOOKUP(C1036,[1]instancias_objetos!A:B,2,FALSE)","v":"INST68"},"Comité Nacional de Convivencia Escolar",1,{"$f":"VLOOKUP(F1036,[1]Hoja4!C:D,2,FALSE)","v":"ACT157"},"Instituto Colombiano de Bienestar Familiar","Sector Público - Nacional","N/A"]
[null,{"$f":"VLOOKUP(C1037,[1]instancias_objetos!A:B,2,FALSE)","v":"INST68"},"Comité Nacional de Convivencia Escolar",1,{"$f":"VLOOKUP(F1037,[1]Hoja4!C:D,2,FALSE)","v":"ACT177"},"Ministerio de Cultura de Colombia","Sector Público - Nacional","N/A"]
[null,{"$f":"VLOOKUP(C1038,[1]instancias_objetos!A:B,2,FALSE)","v":"INST68"},"Comité Nacional de Convivencia Escolar",1,{"$f":"VLOOKUP(F1038,[1]Hoja4!C:D,2,FALSE)","v":"ACT179"},"Ministerio de Educación Nacional","Sector Público - Nacional","N/A"]
[null,{"$f":"VLOOKUP(C1039,[1]instancias_objetos!A:B,2,FALSE)","v":"INST68"},"Comité Nacional de Convivencia Escolar",1,{"$f":"VLOOKUP(F1039,[1]Hoja4!C:D,2,FALSE)","v":"ACT181"},"Ministerio de Justicia y del Derecho","Sector Público - Nacional","N/A"]
[null,{"$f":"VLOOKUP(C1040,[1]instancias_objetos!A:B,2,FALSE)","v":"INST68"},"Comité Nacional de Convivencia Escolar",1,{"$f":"VLOOKUP(F1040,[1]Hoja4!C:D,2,FALSE)","v":"ACT184"},"Ministerio de Salud y Protección Social","Sector Público - Nacional","N/A"]
[null,{"$f":"VLOOKUP(C1041,[1]instancias_objetos!A:B,2,FALSE)","v":"INST68"},"Comité Nacional de Convivencia Escolar",1,{"$f":"VLOOKUP(F1041,[1]Hoja4!C:D,2,FALSE)","v":"ACT185"},"Ministerio de Tecnologías de la Información y las Comunicaciones","Sector Público - Nacional","N/A"]
[null,{"$f":"VLOOKUP(C1042,[1]instancias_objetos!A:B,2,FALSE)","v":"INST68"},"Comité Nacional de Convivencia Escolar",1,{"$f":"VLOOKUP(F1042,[1]Hoja4!C:D,2,FALSE)","v":"ACT209"},"Policía Nacional","Sector Público - Nacional","N/A"]
[null,{"$f":"VLOOKUP(C1043,[1]instancias_objetos!A:B,2,FALSE)","v":"INST68"},"Comité Nacional de Convivencia Escolar",1,{"$f":"VLOOKUP(F1043,[1]Hoja4!C:D,2,FALSE)","v":"ACT217"},"Rector de Institución Educativa Oficial","Sector Público - Nacional","N/A"]
[null,{"$f":"VLOOKUP(C1044,[1]instancias_objetos!A:B,2,FALSE)","v":"INST68"},"Comité Nacional de Convivencia Escolar",1,{"$f":"VLOOKUP(F1044,[1]Hoja4!C:D,2,FALSE)","v":"ACT218"},"Rector de Institución Educativa Privada","Sector Privado","Educación"]
[null,{"$f":"VLOOKUP(C1045,[1]instancias_objetos!A:B,2,FALSE)","v":"INST69"},"Comité Nacional de Residuos de Aparatos Eléctricos y Electrónicos",2,{"$f":"VLOOKUP(F1045,[1]Hoja4!C:D,2,FALSE)","v":"ACT174"},"Ministerio de Ambiente y Desarrollo Sostenible","Sector Público - Nacional","N/A"]
[null,{"$f":"VLOOKUP(C1046,[1]instancias_objetos!A:B,2,FALSE)","v":"INST69"},"Comité Nacional de Residuos de Aparatos Eléctricos y Electrónicos",1,{"$f":"VLOOKUP(F1046,[1]Hoja4!C:D,2,FALSE)","v":"ACT176"},"Ministerio de Comercio, Industria y Turismo","Sector Público - Nacional","N/A"]
[null,{"$f":"VLOOKUP(C1047,[1]instancias_objetos!A:B,2,FALSE)","v":"INST69"},"Comité Nacional de Residuos de Aparatos Eléctricos y Electrónicos",1,{"$f":"VLOOKUP(F1047,[1]Hoja4!C:D,2,FALSE)","v":"ACT184"},"Ministerio de Salud y Protección Social","Sector Público - Nacional","N/A"]
[null,{"$f":"VLOOKUP(C1048,[1]instancias_objetos!A:B,2,FALSE)","v":"INST69"},"Comité Nacional de Residuos de Aparatos Eléctricos y Electrónicos",1,{"$f":"VLOOKUP(F1048,[1]Hoja4!C:D,2,FALSE)","v":"ACT185"},"Ministerio de Tecnologías de la Información y las Comunicaciones","Sector Público - Nacional","N/A"]
[null,{"$f":"VLOOKUP(C1049,[1]instancias_objetos!A:B,2,FALSE)","v":"INST69"},"Comité Nacional de Residuos de Aparatos Eléctricos y Electrónicos",2,{"$f":"VLOOKUP(F1049,[1]Hoja4!C:D,2,FALSE)","v":"ACT241"},"Representante de entidades nacionales e internacionales, lideres en la gestión de residuos de aparatos eléctricos y electrónicos","Organismo Multilateral","N/A"]
[null,{"$f":"VLOOKUP(C1050,[1]instancias_objetos!A:B,2,FALSE)","v":"INST69"},"Comité Nacional de Residuos de Aparatos Eléctricos y Electrónicos",2,{"$f":"VLOOKUP(F1050,[1]Hoja4!C:D,2,FALSE)","v":"ACT387"},"Representante de los gestores de residuos","Delegado Sectorial de la Sociedad Civil","Ambiente"]
[null,{"$f":"VLOOKUP(C1051,[1]instancias_objetos!A:B,2,FALSE)","v":"INST69"},"Comité Nacional de Residuos de Aparatos Eléctricos y Electrónicos",3,{"$f":"VLOOKUP(F1051,[1]Hoja4!C:D,2,FALSE)","v":"ACT464"},"Representante del Sector Minero-Energético y Productivo","Delegado Sectorial de la Sociedad Civil","Agricultura y Ruralidad"]
[null,{"$f":"VLOOKUP(C1052,[1]instancias_objetos!A:B,2,FALSE)","v":"INST70"},"Consejo Nacional de Mitigación del Desempleo",1,{"$f":"VLOOKUP(F1052,[1]Hoja4!C:D,2,FALSE)","v":"ACT126"},"Departamento Nacional de Planeación","Sector Público - Nacional","N/A"]
[null,{"$f":"VLOOKUP(C1053,[1]instancias_objetos!A:B,2,FALSE)","v":"INST70"},"Consejo Nacional de Mitigación del Desempleo",1,{"$f":"VLOOKUP(F1053,[1]Hoja4!C:D,2,FALSE)","v":"ACT180"},"Ministerio de Hacienda y Crédito Público","Sector Público - Nacional","N/A"]
[null,{"$f":"VLOOKUP(C1054,[1]instancias_objetos!A:B,2,FALSE)","v":"INST70"},"Consejo Nacional de Mitigación del Desempleo",1,{"$f":"VLOOKUP(F1054,[1]Hoja4!C:D,2,FALSE)","v":"ACT190"},"Ministerio del Trabajo","Sector Público - Nacional","N/A"]
[null,{"$f":"VLOOKUP(C1055,[1]instancias_objetos!A:B,2,FALSE)","v":"INST70"},"Consejo Nacional de Mitigación del Desempleo",1,{"$f":"VLOOKUP(F1055,[1]Hoja4!C:D,2,FALSE)","v":"ACT410"},"Representante de los Trabajadores","Delegado Sectorial de la Sociedad Civil","Comercio"]
[null,{"$f":"VLOOKUP(C1056,[1]instancias_objetos!A:B,2,FALSE)","v":"INST70"},"Consejo Nacional de Mitigación del Desempleo",1,{"$f":"VLOOKUP(F1056,[1]Hoja4!C:D,2,FALSE)","v":"ACT459"},"Representante del Sector Empresarial","Delegado Sectorial de la Sociedad Civil","Comercio"]
[null,{"$f":"VLOOKUP(C1057,[1]instancias_objetos!A:B,2,FALSE)","v":"INST71"},"Plataforma Nacional de Juventudes",2,{"$f":"VLOOKUP(F1057,[1]Hoja4!C:D,2,FALSE)","v":"ACT394"},"Representante de los Jóvenes por cada una de las Plataformas Departamentales","Delegado Sectorial de la Sociedad Civil","Poblacional y Género (Niñez, Jóvenes, Mujeres, Adulto Mayor, LGBTI)"]
[null,{"$f":"VLOOKUP(C1058,[1]instancias_objetos!A:B,2,FALSE)","v":"INST71"},"Plataforma Nacional de Juventudes",2,{"$f":"VLOOKUP(F1058,[1]Hoja4!C:D,2,FALSE)","v":"ACT395"},"Representante de los Jóvenes por cada una de las Plataformas Distritales","Delegado Sectorial de la Sociedad Civil","Poblacional y Género (Niñez, Jóvenes, Mujeres, Adulto Mayor, LGBTI)"]
[null,{"$f":"VLOOKUP(C1059,[1]instancias_objetos!A:B,2,FALSE)","v":"INST72"},"Comité Tripartita Nacional",1,{"$f":"VLOOKUP(F1059,[1]Hoja4!C:D,2,FALSE)","v":"ACT35"},"Asociación Colombiana del Petróleo","Organización de la Sociedad Civil","Minas y Energía"]
[null,{"$f":"VLOOKUP(C1060,[1]instancias_objetos!A:B,2,FALSE)","v":"INST72"},"Comité Tripartita Nacional",1,{"$f":"VLOOKUP(F1060,[1]Hoja4!C:D,2,FALSE)","v":"ACT42"},"Asociación del Sector de la Minería a Gran Escala","Organización de la Sociedad Civil","Minas y Energía"]
[null,{"$f":"VLOOKUP(C1061,[1]instancias_objetos!A:B,2,FALSE)","v":"INST72"},"Comité Tripartita Nacional",1,{"$f":"VLOOKUP(F1061,[1]Hoja4!C:D,2,FALSE)","v":"ACT67"},"Comité de Seguimiento a la Inversión y Regalías Sucre","Organización de la Sociedad Civil","Control Social, Transparencia, Comunitario y Veedurías"]
[null,{"$f":"VLOOKUP(C1062,[1]instancias_objetos!A:B,2,FALSE)","v":"INST72"},"Comité Tripartita Nacional",1,{"$f":"VLOOKUP(F1062,[1]Hoja4!C:D,2,FALSE)","v":"ACT113"},"Corporación Transparencia por Colombia","Organización de la Sociedad Civil","Control Social, Transparencia, Comunitario y Veedurías"]
[null,{"$f":"VLOOKUP(C1063,[1]instancias_objetos!A:B,2,FALSE)","v":"INST72"},"Comité Tripartita Nacional",1,{"$f":"VLOOKUP(F1063,[1]Hoja4!C:D,2,FALSE)","v":"ACT126"},"Departamento Nacional de Planeación","Sector Público - Nacional","N/A"]
[null,{"$f":"VLOOKUP(C1064,[1]instancias_objetos!A:B,2,FALSE)","v":"INST72"},"Comité Tripartita Nacional",1,{"$f":"VLOOKUP(F1064,[1]Hoja4!C:D,2,FALSE)","v":"ACT128"},"Dirección de Impuestos y Aduanas Nacionales","Sector Público - Nacional","N/A"]
[null,{"$f":"VLOOKUP(C1065,[1]instancias_objetos!A:B,2,FALSE)","v":"INST72"},"Comité Tripartita Nacional",1,{"$f":"VLOOKUP(F1065,[1]Hoja4!C:D,2,FALSE)","v":"ACT131"},"Ecopetrol","Sector Público - Nacional","N/A"]
[null,{"$f":"VLOOKUP(C1066,[1]instancias_objetos!A:B,2,FALSE)","v":"INST72"},"Comité Tripartita Nacional",1,{"$f":"VLOOKUP(F1066,[1]Hoja4!C:D,2,FALSE)","v":"ACT182"},"Ministerio de Minas y Energía","Sector Público - Nacional","N/A"]
[null,{"$f":"VLOOKUP(C1067,[1]instancias_objetos!A:B,2,FALSE)","v":"INST72"},"Comité Tripartita Nacional",1,{"$f":"VLOOKUP(F1067,[1]Hoja4!C:D,2,FALSE)","v":"ACT502"},"Universidad Externado de Colombia","Sector Privado","Educación"]
[null,{"$f":"VLOOKUP(C1068,[1]instancias_objetos!A:B,2,FALSE)","v":"INST73"},"Consejo Directivo del Establecimiento Público de Educación Superior - Conocimiento e Innovación para la Justicia (CIJ)",1,{"$f":"VLOOKUP(F1068,[1]Hoja4!C:D,2,FALSE)","v":"ACT144"},"Fiscalía General de la Nación","Sector Público - Nacional","N/A"]
[null,{"$f":"VLOOKUP(C1069,[1]instancias_objetos!A:B,2,FALSE)","v":"INST73"},"Consejo Directivo del Establecimiento Público de Educación Superior - Conocimiento e Innovación para la Justicia (CIJ)",1,{"$f":"VLOOKUP(F1069,[1]Hoja4!C:D,2,FALSE)","v":"ACT144"},"Fiscalía General de la Nación","Sector Público - Nacional","N/A"]
[null,{"$f":"VLOOKUP(C1070,[1]instancias_objetos!A:B,2,FALSE)","v":"INST73"},"Consejo Directivo del Establecimiento Público de Educación Superior - Conocimiento e Innovación para la Justicia (CIJ)",1,{"$f":"VLOOKUP(F1070,[1]Hoja4!C:D,2,FALSE)","v":"ACT179"},"Ministerio de Educación Nacional","Sector Público - Nacional","N/A"]
[null,{"$f":"VLOOKUP(C1071,[1]instancias_objetos!A:B,2,FALSE)","v":"INST73"},"Consejo Directivo del Establecimiento Público de Educación Superior - Conocimiento e Innovación para la Justicia (CIJ)",1,{"$f":"VLOOKUP(F1071,[1]Hoja4!C:D,2,FALSE)","v":"ACT208"},"Policía Judicial CTI","Sector Público - Nacional","N/A"]
[null,{"$f":"VLOOKUP(C1072,[1]instancias_objetos!A:B,2,FALSE)","v":"INST73"},"Consejo Directivo del Establecimiento Público de Educación Superior - Conocimiento e Innovación para la Justicia (CIJ)",1,{"$f":"VLOOKUP(F1072,[1]Hoja4!C:D,2,FALSE)","v":"ACT243"},"Representante de Estudiantes Universitarios","Delegado Sectorial de la Sociedad Civil","Educación"]
[null,{"$f":"VLOOKUP(C1073,[1]instancias_objetos!A:B,2,FALSE)","v":"INST73"},"Consejo Directivo del Establecimiento Público de Educación Superior - Conocimiento e Innovación para la Justicia (CIJ)",1,{"$f":"VLOOKUP(F1073,[1]Hoja4!C:D,2,FALSE)","v":"ACT376"},"Representante de los directivos académicos del Establecimiento Público de Educación Superior","Delegado Sectorial de la Sociedad Civil","Educación"]
[null,{"$f":"VLOOKUP(C1074,[1]instancias_objetos!A:B,2,FALSE)","v":"INST73"},"Consejo Directivo del Establecimiento Público de Educación Superior - Conocimiento e Innovación para la Justicia (CIJ)",1,{"$f":"VLOOKUP(F1074,[1]Hoja4!C:D,2,FALSE)","v":"ACT404"},"Representante de los Profesores","Delegado Sectorial de la Sociedad Civil","Educación"]
[null,{"$f":"VLOOKUP(C1075,[1]instancias_objetos!A:B,2,FALSE)","v":"INST73"},"Consejo Directivo del Establecimiento Público de Educación Superior - Conocimiento e Innovación para la Justicia (CIJ)",1,{"$f":"VLOOKUP(F1075,[1]Hoja4!C:D,2,FALSE)","v":"ACT457"},"Representante del Sector Educativo","Delegado Sectorial de la Sociedad Civil","Educación"]
[null,{"$f":"VLOOKUP(C1076,[1]instancias_objetos!A:B,2,FALSE)","v":"INST73"},"Consejo Directivo del Establecimiento Público de Educación Superior - Conocimiento e Innovación para la Justicia (CIJ)",1,{"$f":"VLOOKUP(F1076,[1]Hoja4!C:D,2,FALSE)","v":"ACT457"},"Representante del Sector Educativo","Delegado Sectorial de la Sociedad Civil","Educación"]
[null,{"$f":"VLOOKUP(C1077,[1]instancias_objetos!A:B,2,FALSE)","v":"INST74"},"Instancia de Coordinación y Asesoría Dentro del Sistema General de Seguridad Social en Salud",1,{"$f":"VLOOKUP(F1077,[1]Hoja4!C:D,2,FALSE)","v":"ACT04"},"Academia Nacional de Medicina","Organización de la Sociedad Civil","Salud"]
[null,{"$f":"VLOOKUP(C1078,[1]instancias_objetos!A:B,2,FALSE)","v":"INST74"},"Instancia de Coordinación y Asesoría Dentro del Sistema General de Seguridad Social en Salud",1,{"$f":"VLOOKUP(F1078,[1]Hoja4!C:D,2,FALSE)","v":"ACT41"},"Asociación de Industrias Farmacéuticas en Colombia","Sector Privado","Ciencia y Tecnología"]
[null,{"$f":"VLOOKUP(C1079,[1]instancias_objetos!A:B,2,FALSE)","v":"INST74"},"Instancia de Coordinación y Asesoría Dentro del Sistema General de Seguridad Social en Salud",1,{"$f":"VLOOKUP(F1079,[1]Hoja4!C:D,2,FALSE)","v":"ACT126"},"Departamento Nacional de Planeación","Sector Público - Nacional","N/A"]
[null,{"$f":"VLOOKUP(C1080,[1]instancias_objetos!A:B,2,FALSE)","v":"INST74"},"Instancia de Coordinación y Asesoría Dentro del Sistema General de Seguridad Social en Salud",1,{"$f":"VLOOKUP(F1080,[1]Hoja4!C:D,2,FALSE)","v":"ACT180"},"Ministerio de Hacienda y Crédito Público","Sector Público - Nacional","N/A"]
[null,{"$f":"VLOOKUP(C1081,[1]instancias_objetos!A:B,2,FALSE)","v":"INST74"},"Instancia de Coordinación y Asesoría Dentro del Sistema General de Seguridad Social en Salud",1,{"$f":"VLOOKUP(F1081,[1]Hoja4!C:D,2,FALSE)","v":"ACT184"},"Ministerio de Salud y Protección Social","Sector Público - Nacional","N/A"]
[null,{"$f":"VLOOKUP(C1082,[1]instancias_objetos!A:B,2,FALSE)","v":"INST74"},"Instancia de Coordinación y Asesoría Dentro del Sistema General de Seguridad Social en Salud",1,{"$f":"VLOOKUP(F1082,[1]Hoja4!C:D,2,FALSE)","v":"ACT271"},"Representante de las Asociaciones de Facultades de las Ciencias de la Salud","Delegado Sectorial de la Sociedad Civil","Educación"]
[null,{"$f":"VLOOKUP(C1083,[1]instancias_objetos!A:B,2,FALSE)","v":"INST74"},"Instancia de Coordinación y Asesoría Dentro del Sistema General de Seguridad Social en Salud",1,{"$f":"VLOOKUP(F1083,[1]Hoja4!C:D,2,FALSE)","v":"ACT288"},"Representante de las Centrales Obreras","Delegado Sectorial de la Sociedad Civil","Trabajo"]
[null,{"$f":"VLOOKUP(C1084,[1]instancias_objetos!A:B,2,FALSE)","v":"INST74"},"Instancia de Coordinación y Asesoría Dentro del Sistema General de Seguridad Social en Salud",1,{"$f":"VLOOKUP(F1084,[1]Hoja4!C:D,2,FALSE)","v":"ACT292"},"Representante de las Entidades Promotoras de Salud","Sector Privado","Salud"]
[null,{"$f":"VLOOKUP(C1085,[1]instancias_objetos!A:B,2,FALSE)","v":"INST74"},"Instancia de Coordinación y Asesoría Dentro del Sistema General de Seguridad Social en Salud",1,{"$f":"VLOOKUP(F1085,[1]Hoja4!C:D,2,FALSE)","v":"ACT293"},"Representante de las Entidades Promotoras de Salud Indígenas","Sector Privado","Salud"]
[null,{"$f":"VLOOKUP(C1086,[1]instancias_objetos!A:B,2,FALSE)","v":"INST74"},"Instancia de Coordinación y Asesoría Dentro del Sistema General de Seguridad Social en Salud",1,{"$f":"VLOOKUP(F1086,[1]Hoja4!C:D,2,FALSE)","v":"ACT310"},"Representante de las Instituciones Prestadoras de Servicios de Salud","Sector Privado","Salud"]
[null,{"$f":"VLOOKUP(C1087,[1]instancias_objetos!A:B,2,FALSE)","v":"INST74"},"Instancia de Coordinación y Asesoría Dentro del Sistema General de Seguridad Social en Salud",1,{"$f":"VLOOKUP(F1087,[1]Hoja4!C:D,2,FALSE)","v":"ACT459"},"Representante del Sector Empresarial","Delegado Sectorial de la Sociedad Civil","Comercio"]
[null,{"$f":"VLOOKUP(C1088,[1]instancias_objetos!A:B,2,FALSE)","v":"INST74"},"Instancia de Coordinación y Asesoría Dentro del Sistema General de Seguridad Social en Salud",1,{"$f":"VLOOKUP(F1088,[1]Hoja4!C:D,2,FALSE)","v":"ACT468"},"Representante del Sector Salud","Delegado Sectorial de la Sociedad Civil","Salud"]
[null,{"$f":"VLOOKUP(C1089,[1]instancias_objetos!A:B,2,FALSE)","v":"INST74"},"Instancia de Coordinación y Asesoría Dentro del Sistema General de Seguridad Social en Salud",1,{"$f":"VLOOKUP(F1089,[1]Hoja4!C:D,2,FALSE)","v":"ACT479"},"Representante por las Secretarías de Salud en los niveles departamental, municipal y distrital","Sector Público - Territorial","N/A"]
[null,{"$f":"VLOOKUP(C1090,[1]instancias_objetos!A:B,2,FALSE)","v":"INST74"},"Instancia de Coordinación y Asesoría Dentro del Sistema General de Seguridad Social en Salud",1,{"$f":"VLOOKUP(F1090,[1]Hoja4!C:D,2,FALSE)","v":"ACT480"},"Representante por los usuarios del Sistema General de Seguridad Social en Salud","Delegado Sectorial de la Sociedad Civil","Salud"]
[null,{"$f":"VLOOKUP(C1091,[1]instancias_objetos!A:B,2,FALSE)","v":"INST75"},"Consejo Nacional de Participación Ciudadana",1,{"$f":"VLOOKUP(F1091,[1]Hoja4!C:D,2,FALSE)","v":"ACT34"},"Asociación Colombiana de Universidades","Organización de la Sociedad Civil","Educación"]
[null,{"$f":"VLOOKUP(C1092,[1]instancias_objetos!A:B,2,FALSE)","v":"INST75"},"Consejo Nacional de Participación Ciudadana",1,{"$f":"VLOOKUP(F1092,[1]Hoja4!C:D,2,FALSE)","v":"ACT72"},"Confederación Colombiana de Organizaciones No Gubernamentales","Organización de la Sociedad Civil","Control Social, Transparencia, Comunitario y Veedurías"]
[null,{"$f":"VLOOKUP(C1093,[1]instancias_objetos!A:B,2,FALSE)","v":"INST75"},"Consejo Nacional de Participación Ciudadana",1,{"$f":"VLOOKUP(F1093,[1]Hoja4!C:D,2,FALSE)","v":"ACT77"},"Confederación Nacional de Acción Comunal","Organización de la Sociedad Civil","Control Social, Transparencia, Comunitario y Veedurías"]
[null,{"$f":"VLOOKUP(C1094,[1]instancias_objetos!A:B,2,FALSE)","v":"INST75"},"Consejo Nacional de Participación Ciudadana",1,{"$f":"VLOOKUP(F1094,[1]Hoja4!C:D,2,FALSE)","v":"ACT126"},"Departamento Nacional de Planeación","Sector Público - Nacional","N/A"]
[null,{"$f":"VLOOKUP(C1095,[1]instancias_objetos!A:B,2,FALSE)","v":"INST75"},"Consejo Nacional de Participación Ciudadana",1,{"$f":"VLOOKUP(F1095,[1]Hoja4!C:D,2,FALSE)","v":"ACT135"},"Federación Colombiana de Municipios","Sector Privado","Control Social, Transparencia, Comunitario y Veedurías"]
[null,{"$f":"VLOOKUP(C1096,[1]instancias_objetos!A:B,2,FALSE)","v":"INST75"},"Consejo Nacional de Participación Ciudadana",1,{"$f":"VLOOKUP(F1096,[1]Hoja4!C:D,2,FALSE)","v":"ACT141"},"Federación Nacional de Departamentos","Sector Público - Territorial","N/A"]
[null,{"$f":"VLOOKUP(C1097,[1]instancias_objetos!A:B,2,FALSE)","v":"INST75"},"Consejo Nacional de Participación Ciudadana",1,{"$f":"VLOOKUP(F1097,[1]Hoja4!C:D,2,FALSE)","v":"ACT170"},"Juntas Administradoras Locales","Sector Público - Territorial","N/A"]
[null,{"$f":"VLOOKUP(C1098,[1]instancias_objetos!A:B,2,FALSE)","v":"INST75"},"Consejo Nacional de Participación Ciudadana",1,{"$f":"VLOOKUP(F1098,[1]Hoja4!C:D,2,FALSE)","v":"ACT189"},"Ministerio del Interior","Sector Público - Nacional","N/A"]
[null,{"$f":"VLOOKUP(C1099,[1]instancias_objetos!A:B,2,FALSE)","v":"INST75"},"Consejo Nacional de Participación Ciudadana",1,{"$f":"VLOOKUP(F1099,[1]Hoja4!C:D,2,FALSE)","v":"ACT243"},"Representante de Estudiantes Universitarios","Delegado Sectorial de la Sociedad Civil","Educación"]
[null,{"$f":"VLOOKUP(C1100,[1]instancias_objetos!A:B,2,FALSE)","v":"INST75"},"Consejo Nacional de Participación Ciudadana",1,{"$f":"VLOOKUP(F1100,[1]Hoja4!C:D,2,FALSE)","v":"ACT244"},"Representante de Grupos Étnicos","Delegado Sectorial de la Sociedad Civil","Grupos Étnicos (Afros, Indígenas, Raizales, Palenqueros y ROM)"]
[null,{"$f":"VLOOKUP(C1101,[1]instancias_objetos!A:B,2,FALSE)","v":"INST75"},"Consejo Nacional de Participación Ciudadana",1,{"$f":"VLOOKUP(F1101,[1]Hoja4!C:D,2,FALSE)","v":"ACT336"},"Representante de las Organizaciones de discapacitados","Delegado Sectorial de la Sociedad Civil","Discapacidad"]
[null,{"$f":"VLOOKUP(C1102,[1]instancias_objetos!A:B,2,FALSE)","v":"INST75"},"Consejo Nacional de Participación Ciudadana",1,{"$f":"VLOOKUP(F1102,[1]Hoja4!C:D,2,FALSE)","v":"ACT360"},"Representante de las Veedurías Ciudadanas","Delegado Sectorial de la Sociedad Civil","Control Social, Transparencia, Comunitario y Veedurías"]
[null,{"$f":"VLOOKUP(C1103,[1]instancias_objetos!A:B,2,FALSE)","v":"INST75"},"Consejo Nacional de Participación Ciudadana",1,{"$f":"VLOOKUP(F1103,[1]Hoja4!C:D,2,FALSE)","v":"ACT361"},"Representante de las Víctimas","Delegado Sectorial de la Sociedad Civil","Víctimas y Construcción de Paz"]
[null,{"$f":"VLOOKUP(C1104,[1]instancias_objetos!A:B,2,FALSE)","v":"INST75"},"Consejo Nacional de Participación Ciudadana",1,{"$f":"VLOOKUP(F1104,[1]Hoja4!C:D,2,FALSE)","v":"ACT369"},"Representante de los Campesinos","Delegado Sectorial de la Sociedad Civil","Agricultura y Ruralidad"]
[null,{"$f":"VLOOKUP(C1105,[1]instancias_objetos!A:B,2,FALSE)","v":"INST75"},"Consejo Nacional de Participación Ciudadana",1,{"$f":"VLOOKUP(F1105,[1]Hoja4!C:D,2,FALSE)","v":"ACT389"},"Representante de los Gremios Económicos y Empresariales","Sector Privado","Comercio"]
[null,{"$f":"VLOOKUP(C1106,[1]instancias_objetos!A:B,2,FALSE)","v":"INST75"},"Consejo Nacional de Participación Ciudadana",1,{"$f":"VLOOKUP(F1106,[1]Hoja4!C:D,2,FALSE)","v":"ACT427"},"Representante del Consejo Nacional de Juventud","Delegado Sectorial de la Sociedad Civil","Poblacional y Género (Niñez, Jóvenes, Mujeres, Adulto Mayor, LGBTI)"]
[null,{"$f":"VLOOKUP(C1107,[1]instancias_objetos!A:B,2,FALSE)","v":"INST75"},"Consejo Nacional de Participación Ciudadana",1,{"$f":"VLOOKUP(F1107,[1]Hoja4!C:D,2,FALSE)","v":"ACT429"},"Representante del Consejo Nacional de Planeación","Delegado Sectorial de la Sociedad Civil","Planeación y Presupuestación"]
[null,{"$f":"VLOOKUP(C1108,[1]instancias_objetos!A:B,2,FALSE)","v":"INST75"},"Consejo Nacional de Participación Ciudadana",1,{"$f":"VLOOKUP(F1108,[1]Hoja4!C:D,2,FALSE)","v":"ACT465"},"Representante del Sector Mujeres","Delegado Sectorial de la Sociedad Civil","Poblacional y Género (Niñez, Jóvenes, Mujeres, Adulto Mayor, LGBTI)"]
[null,{"$f":"VLOOKUP(C1109,[1]instancias_objetos!A:B,2,FALSE)","v":"INST75"},"Consejo Nacional de Participación Ciudadana",1,{"$f":"VLOOKUP(F1109,[1]Hoja4!C:D,2,FALSE)","v":"ACT469"},"Representante del Sector Sindical","Delegado Sectorial de la Sociedad Civil","Trabajo"]
[null,{"$f":"VLOOKUP(C1110,[1]instancias_objetos!A:B,2,FALSE)","v":"INST76"},"Comisión de Seguimiento, Impulso y Verificación a la Implementación del Acuerdo Final",3,{"$f":"VLOOKUP(F1110,[1]Hoja4!C:D,2,FALSE)","v":"ACT148"},"Fuerza Alternativa Revolucionaria del Común","Organización de la Sociedad Civil","Partidos Políticos"]
[null,{"$f":"VLOOKUP(C1111,[1]instancias_objetos!A:B,2,FALSE)","v":"INST76"},"Comisión de Seguimiento, Impulso y Verificación a la Implementación del Acuerdo Final",3,{"$f":"VLOOKUP(F1111,[1]Hoja4!C:D,2,FALSE)","v":"ACT210"},"Presidencia de la República","Sector Público - Nacional","N/A"]
[null,{"$f":"VLOOKUP(C1112,[1]instancias_objetos!A:B,2,FALSE)","v":"INST77"},"Instancia Especial de Alto Nivel de los Pueblos Étnicos",1,{"$f":"VLOOKUP(F1112,[1]Hoja4!C:D,2,FALSE)","v":"ACT36"},"Asociación de Afrodescendientes Desplazados","Organización de la Sociedad Civil","Grupos Étnicos (Afros, Indígenas, Raizales, Palenqueros y ROM)"]
[null,{"$f":"VLOOKUP(C1113,[1]instancias_objetos!A:B,2,FALSE)","v":"INST77"},"Instancia Especial de Alto Nivel de los Pueblos Étnicos",1,{"$f":"VLOOKUP(F1113,[1]Hoja4!C:D,2,FALSE)","v":"ACT92"},"Consejo Nacional de Paz Afrocolombiano","Organización de la Sociedad Civil","Grupos Étnicos (Afros, Indígenas, Raizales, Palenqueros y ROM)"]
[null,{"$f":"VLOOKUP(C1114,[1]instancias_objetos!A:B,2,FALSE)","v":"INST77"},"Instancia Especial de Alto Nivel de los Pueblos Étnicos",1,{"$f":"VLOOKUP(F1114,[1]Hoja4!C:D,2,FALSE)","v":"ACT103"},"Coordinación Nacional de Organizaciones y Comunidades Afrodescendientes","Organización de la Sociedad Civil","Grupos Étnicos (Afros, Indígenas, Raizales, Palenqueros y ROM)"]
[null,{"$f":"VLOOKUP(C1115,[1]instancias_objetos!A:B,2,FALSE)","v":"INST77"},"Instancia Especial de Alto Nivel de los Pueblos Étnicos",1,{"$f":"VLOOKUP(F1115,[1]Hoja4!C:D,2,FALSE)","v":"ACT104"},"Coordinadora Étnica Nacional de Paz","Organización de la Sociedad Civil","Grupos Étnicos (Afros, Indígenas, Raizales, Palenqueros y ROM)"]
[null,{"$f":"VLOOKUP(C1116,[1]instancias_objetos!A:B,2,FALSE)","v":"INST77"},"Instancia Especial de Alto Nivel de los Pueblos Étnicos",1,{"$f":"VLOOKUP(F1116,[1]Hoja4!C:D,2,FALSE)","v":"ACT105"},"Coordinadora Nacional de Pueblos Indígenas de Colombia","Organización de la Sociedad Civil","Grupos Étnicos (Afros, Indígenas, Raizales, Palenqueros y ROM)"]
[null,{"$f":"VLOOKUP(C1117,[1]instancias_objetos!A:B,2,FALSE)","v":"INST77"},"Instancia Especial de Alto Nivel de los Pueblos Étnicos",1,{"$f":"VLOOKUP(F1117,[1]Hoja4!C:D,2,FALSE)","v":"ACT138"},"Federación de Mineros del Chocó","Organización de la Sociedad Civil","Minas y Energía"]
[null,{"$f":"VLOOKUP(C1118,[1]instancias_objetos!A:B,2,FALSE)","v":"INST77"},"Instancia Especial de Alto Nivel de los Pueblos Étnicos",1,{"$f":"VLOOKUP(F1118,[1]Hoja4!C:D,2,FALSE)","v":"ACT200"},"Organización Nacional Indígena de Colombia","Organización de la Sociedad Civil","Grupos Étnicos (Afros, Indígenas, Raizales, Palenqueros y ROM)"]
[null,{"$f":"VLOOKUP(C1119,[1]instancias_objetos!A:B,2,FALSE)","v":"INST77"},"Instancia Especial de Alto Nivel de los Pueblos Étnicos",1,{"$f":"VLOOKUP(F1119,[1]Hoja4!C:D,2,FALSE)","v":"ACT212"},"Proceso de Comunidades Negras","Organización de la Sociedad Civil","Grupos Étnicos (Afros, Indígenas, Raizales, Palenqueros y ROM)"]
[null,{"$f":"VLOOKUP(C1120,[1]instancias_objetos!A:B,2,FALSE)","v":"INST78"},"Instancia Especial para el Seguimiento al Enfoque de Género y Garantía de los Derechos de las Mujeres en la Implementación del Acuerdo Final",1,{"$f":"VLOOKUP(F1120,[1]Hoja4!C:D,2,FALSE)","v":"ACT316"},"Representante de las Mujeres de Organizaciones LGBTI","Delegado Sectorial de la Sociedad Civil","Poblacional y Género (Niñez, Jóvenes, Mujeres, Adulto Mayor, LGBTI)"]
[null,{"$f":"VLOOKUP(C1121,[1]instancias_objetos!A:B,2,FALSE)","v":"INST78"},"Instancia Especial para el Seguimiento al Enfoque de Género y Garantía de los Derechos de las Mujeres en la Implementación del Acuerdo Final",2,{"$f":"VLOOKUP(F1121,[1]Hoja4!C:D,2,FALSE)","v":"ACT317"},"Representante de las Mujeres de Organizaciones Nacionales","Delegado Sectorial de la Sociedad Civil","Poblacional y Género (Niñez, Jóvenes, Mujeres, Adulto Mayor, LGBTI)"]
[null,{"$f":"VLOOKUP(C1122,[1]instancias_objetos!A:B,2,FALSE)","v":"INST78"},"Instancia Especial para el Seguimiento al Enfoque de Género y Garantía de los Derechos de las Mujeres en la Implementación del Acuerdo Final",3,{"$f":"VLOOKUP(F1122,[1]Hoja4!C:D,2,FALSE)","v":"ACT318"},"Representante de las Mujeres de Organizaciones Territoriales","Delegado Sectorial de la Sociedad Civil","Poblacional y Género (Niñez, Jóvenes, Mujeres, Adulto Mayor, LGBTI)"]
[null,{"$f":"VLOOKUP(C1123,[1]instancias_objetos!A:B,2,FALSE)","v":"INST78"},"Instancia Especial para el Seguimiento al Enfoque de Género y Garantía de los Derechos de las Mujeres en la Implementación del Acuerdo Final",1,{"$f":"VLOOKUP(F1123,[1]Hoja4!C:D,2,FALSE)","v":"ACT321"},"Representante de las Mujeres Víctimas del Conflicto Armado","Delegado Sectorial de la Sociedad Civil","Víctimas y Construcción de Paz"]
[null,{"$f":"VLOOKUP(C1124,[1]instancias_objetos!A:B,2,FALSE)","v":"INST79"},"Mesa Permanente de Concertación con las Centrales Sindicales CUT, CGT, CTC y Fecode para la Reparación Colectiva al Movimiento Sindical",2,{"$f":"VLOOKUP(F1124,[1]Hoja4!C:D,2,FALSE)","v":"ACT59"},"Central Unitaria de Trabajadores","Organización de la Sociedad Civil","Trabajo"]
[null,{"$f":"VLOOKUP(C1125,[1]instancias_objetos!A:B,2,FALSE)","v":"INST79"},"Mesa Permanente de Concertación con las Centrales Sindicales CUT, CGT, CTC y Fecode para la Reparación Colectiva al Movimiento Sindical",2,{"$f":"VLOOKUP(F1125,[1]Hoja4!C:D,2,FALSE)","v":"ACT74"},"Confederación de Trabajadores Colombia","Organización de la Sociedad Civil","Trabajo"]
[null,{"$f":"VLOOKUP(C1126,[1]instancias_objetos!A:B,2,FALSE)","v":"INST79"},"Mesa Permanente de Concertación con las Centrales Sindicales CUT, CGT, CTC y Fecode para la Reparación Colectiva al Movimiento Sindical",2,{"$f":"VLOOKUP(F1126,[1]Hoja4!C:D,2,FALSE)","v":"ACT75"},"Confederación General del Trabajo","Organización de la Sociedad Civil","Trabajo"]
[null,{"$f":"VLOOKUP(C1127,[1]instancias_objetos!A:B,2,FALSE)","v":"INST79"},"Mesa Permanente de Concertación con las Centrales Sindicales CUT, CGT, CTC y Fecode para la Reparación Colectiva al Movimiento Sindical",1,{"$f":"VLOOKUP(F1127,[1]Hoja4!C:D,2,FALSE)","v":"ACT121"},"Defensoría del Pueblo","Sector Público - Nacional","N/A"]
[null,{"$f":"VLOOKUP(C1128,[1]instancias_objetos!A:B,2,FALSE)","v":"INST79"},"Mesa Permanente de Concertación con las Centrales Sindicales CUT, CGT, CTC y Fecode para la Reparación Colectiva al Movimiento Sindical",1,{"$f":"VLOOKUP(F1128,[1]Hoja4!C:D,2,FALSE)","v":"ACT125"},"Departamento Administrativo para la Prosperidad Social","Sector Público - Nacional","N/A"]
[null,{"$f":"VLOOKUP(C1129,[1]instancias_objetos!A:B,2,FALSE)","v":"INST79"},"Mesa Permanente de Concertación con las Centrales Sindicales CUT, CGT, CTC y Fecode para la Reparación Colectiva al Movimiento Sindical",1,{"$f":"VLOOKUP(F1129,[1]Hoja4!C:D,2,FALSE)","v":"ACT126"},"Departamento Nacional de Planeación","Sector Público - Nacional","N/A"]
[null,{"$f":"VLOOKUP(C1130,[1]instancias_objetos!A:B,2,FALSE)","v":"INST79"},"Mesa Permanente de Concertación con las Centrales Sindicales CUT, CGT, CTC y Fecode para la Reparación Colectiva al Movimiento Sindical",2,{"$f":"VLOOKUP(F1130,[1]Hoja4!C:D,2,FALSE)","v":"ACT136"},"Federación Colombiana de Trabajadores de la Educación","Organización de la Sociedad Civil","Educación"]
[null,{"$f":"VLOOKUP(C1131,[1]instancias_objetos!A:B,2,FALSE)","v":"INST79"},"Mesa Permanente de Concertación con las Centrales Sindicales CUT, CGT, CTC y Fecode para la Reparación Colectiva al Movimiento Sindical",1,{"$f":"VLOOKUP(F1131,[1]Hoja4!C:D,2,FALSE)","v":"ACT179"},"Ministerio de Educación Nacional","Sector Público - Nacional","N/A"]
[null,{"$f":"VLOOKUP(C1132,[1]instancias_objetos!A:B,2,FALSE)","v":"INST79"},"Mesa Permanente de Concertación con las Centrales Sindicales CUT, CGT, CTC y Fecode para la Reparación Colectiva al Movimiento Sindical",1,{"$f":"VLOOKUP(F1132,[1]Hoja4!C:D,2,FALSE)","v":"ACT180"},"Ministerio de Hacienda y Crédito Público","Sector Público - Nacional","N/A"]
[null,{"$f":"VLOOKUP(C1133,[1]instancias_objetos!A:B,2,FALSE)","v":"INST79"},"Mesa Permanente de Concertación con las Centrales Sindicales CUT, CGT, CTC y Fecode para la Reparación Colectiva al Movimiento Sindical",1,{"$f":"VLOOKUP(F1133,[1]Hoja4!C:D,2,FALSE)","v":"ACT181"},"Ministerio de Justicia y del Derecho","Sector Público - Nacional","N/A"]
[null,{"$f":"VLOOKUP(C1134,[1]instancias_objetos!A:B,2,FALSE)","v":"INST79"},"Mesa Permanente de Concertación con las Centrales Sindicales CUT, CGT, CTC y Fecode para la Reparación Colectiva al Movimiento Sindical",1,{"$f":"VLOOKUP(F1134,[1]Hoja4!C:D,2,FALSE)","v":"ACT189"},"Ministerio del Interior","Sector Público - Nacional","N/A"]
[null,{"$f":"VLOOKUP(C1135,[1]instancias_objetos!A:B,2,FALSE)","v":"INST79"},"Mesa Permanente de Concertación con las Centrales Sindicales CUT, CGT, CTC y Fecode para la Reparación Colectiva al Movimiento Sindical",1,{"$f":"VLOOKUP(F1135,[1]Hoja4!C:D,2,FALSE)","v":"ACT190"},"Ministerio del Trabajo","Sector Público - Nacional","N/A"]
[null,{"$f":"VLOOKUP(C1136,[1]instancias_objetos!A:B,2,FALSE)","v":"INST79"},"Mesa Permanente de Concertación con las Centrales Sindicales CUT, CGT, CTC y Fecode para la Reparación Colectiva al Movimiento Sindical",1,{"$f":"VLOOKUP(F1136,[1]Hoja4!C:D,2,FALSE)","v":"ACT495"},"Unidad Administrativa Especial de Atención y Reparación Integral a la Víctimas","Sector Público - Nacional","N/A"]
[null,{"$f":"VLOOKUP(C1137,[1]instancias_objetos!A:B,2,FALSE)","v":"INST80"},"Consejo Nacional de Reincorporación",1,{"$f":"VLOOKUP(F1137,[1]Hoja4!C:D,2,FALSE)","v":"ACT14"},"Agencia para la Reincorporación y la Normalización","Sector Público - Nacional","N/A"]
[null,{"$f":"VLOOKUP(C1138,[1]instancias_objetos!A:B,2,FALSE)","v":"INST80"},"Consejo Nacional de Reincorporación",1,{"$f":"VLOOKUP(F1138,[1]Hoja4!C:D,2,FALSE)","v":"ACT82"},"Consejería Presidencial para la Estabilización y la Consolidación","Sector Público - Nacional","N/A"]
[null,{"$f":"VLOOKUP(C1139,[1]instancias_objetos!A:B,2,FALSE)","v":"INST80"},"Consejo Nacional de Reincorporación",2,{"$f":"VLOOKUP(F1139,[1]Hoja4!C:D,2,FALSE)","v":"ACT148"},"Fuerza Alternativa Revolucionaria del Común","Organización de la Sociedad Civil","Partidos Políticos"]
[null,{"$f":"VLOOKUP(C1140,[1]instancias_objetos!A:B,2,FALSE)","v":"INST81"},"Comisión de Búsqueda de Personas Desaparecidas",1,{"$f":"VLOOKUP(F1140,[1]Hoja4!C:D,2,FALSE)","v":"ACT40"},"Asociación de Familiares de Detenidos Desaparecidos","Organización de la Sociedad Civil","Víctimas y Construcción de Paz"]
[null,{"$f":"VLOOKUP(C1141,[1]instancias_objetos!A:B,2,FALSE)","v":"INST81"},"Comisión de Búsqueda de Personas Desaparecidas",1,{"$f":"VLOOKUP(F1141,[1]Hoja4!C:D,2,FALSE)","v":"ACT86"},"Consejería Presidencial para los Derechos Humanos","Sector Público - Nacional","N/A"]
[null,{"$f":"VLOOKUP(C1142,[1]instancias_objetos!A:B,2,FALSE)","v":"INST81"},"Comisión de Búsqueda de Personas Desaparecidas",1,{"$f":"VLOOKUP(F1142,[1]Hoja4!C:D,2,FALSE)","v":"ACT121"},"Defensoría del Pueblo","Sector Público - Nacional","N/A"]
[null,{"$f":"VLOOKUP(C1143,[1]instancias_objetos!A:B,2,FALSE)","v":"INST81"},"Comisión de Búsqueda de Personas Desaparecidas",1,{"$f":"VLOOKUP(F1143,[1]Hoja4!C:D,2,FALSE)","v":"ACT144"},"Fiscalía General de la Nación","Sector Público - Nacional","N/A"]
[null,{"$f":"VLOOKUP(C1144,[1]instancias_objetos!A:B,2,FALSE)","v":"INST81"},"Comisión de Búsqueda de Personas Desaparecidas",1,{"$f":"VLOOKUP(F1144,[1]Hoja4!C:D,2,FALSE)","v":"ACT166"},"Instituto Nacional de Medicina Legal y Ciencias Forenses","Sector Público - Nacional","N/A"]
[null,{"$f":"VLOOKUP(C1145,[1]instancias_objetos!A:B,2,FALSE)","v":"INST81"},"Comisión de Búsqueda de Personas Desaparecidas",2,{"$f":"VLOOKUP(F1145,[1]Hoja4!C:D,2,FALSE)","v":"ACT178"},"Ministerio de Defensa Nacional","Sector Público - Nacional","N/A"]
[null,{"$f":"VLOOKUP(C1146,[1]instancias_objetos!A:B,2,FALSE)","v":"INST81"},"Comisión de Búsqueda de Personas Desaparecidas",1,{"$f":"VLOOKUP(F1146,[1]Hoja4!C:D,2,FALSE)","v":"ACT214"},"Procuraduría General de la Nación","Sector Público - Nacional","N/A"]
[null,{"$f":"VLOOKUP(C1147,[1]instancias_objetos!A:B,2,FALSE)","v":"INST81"},"Comisión de Búsqueda de Personas Desaparecidas",1,{"$f":"VLOOKUP(F1147,[1]Hoja4!C:D,2,FALSE)","v":"ACT325"},"Representante de las ONGs para la promoción y defensa de los derechos humanos","Delegado Sectorial de la Sociedad Civil","Derechos Humanos"]
[null,{"$f":"VLOOKUP(C1148,[1]instancias_objetos!A:B,2,FALSE)","v":"INST82"},"Comisión Nacional de Garantías de Seguridad",1,{"$f":"VLOOKUP(F1148,[1]Hoja4!C:D,2,FALSE)","v":"ACT121"},"Defensoría del Pueblo","Sector Público - Nacional","N/A"]
[null,{"$f":"VLOOKUP(C1149,[1]instancias_objetos!A:B,2,FALSE)","v":"INST82"},"Comisión Nacional de Garantías de Seguridad",2,{"$f":"VLOOKUP(F1149,[1]Hoja4!C:D,2,FALSE)","v":"ACT144"},"Fiscalía General de la Nación","Sector Público - Nacional","N/A"]
[null,{"$f":"VLOOKUP(C1150,[1]instancias_objetos!A:B,2,FALSE)","v":"INST82"},"Comisión Nacional de Garantías de Seguridad",1,{"$f":"VLOOKUP(F1150,[1]Hoja4!C:D,2,FALSE)","v":"ACT149"},"Fuerzas Militares","Sector Público - Nacional","N/A"]
[null,{"$f":"VLOOKUP(C1151,[1]instancias_objetos!A:B,2,FALSE)","v":"INST82"},"Comisión Nacional de Garantías de Seguridad",1,{"$f":"VLOOKUP(F1151,[1]Hoja4!C:D,2,FALSE)","v":"ACT178"},"Ministerio de Defensa Nacional","Sector Público - Nacional","N/A"]
[null,{"$f":"VLOOKUP(C1152,[1]instancias_objetos!A:B,2,FALSE)","v":"INST82"},"Comisión Nacional de Garantías de Seguridad",1,{"$f":"VLOOKUP(F1152,[1]Hoja4!C:D,2,FALSE)","v":"ACT181"},"Ministerio de Justicia y del Derecho","Sector Público - Nacional","N/A"]
[null,{"$f":"VLOOKUP(C1153,[1]instancias_objetos!A:B,2,FALSE)","v":"INST82"},"Comisión Nacional de Garantías de Seguridad",1,{"$f":"VLOOKUP(F1153,[1]Hoja4!C:D,2,FALSE)","v":"ACT189"},"Ministerio del Interior","Sector Público - Nacional","N/A"]
[null,{"$f":"VLOOKUP(C1154,[1]instancias_objetos!A:B,2,FALSE)","v":"INST82"},"Comisión Nacional de Garantías de Seguridad",1,{"$f":"VLOOKUP(F1154,[1]Hoja4!C:D,2,FALSE)","v":"ACT209"},"Policía Nacional","Sector Público - Nacional","N/A"]
[null,{"$f":"VLOOKUP(C1155,[1]instancias_objetos!A:B,2,FALSE)","v":"INST82"},"Comisión Nacional de Garantías de Seguridad",1,{"$f":"VLOOKUP(F1155,[1]Hoja4!C:D,2,FALSE)","v":"ACT210"},"Presidencia de la República","Sector Público - Nacional","N/A"]
[null,{"$f":"VLOOKUP(C1156,[1]instancias_objetos!A:B,2,FALSE)","v":"INST82"},"Comisión Nacional de Garantías de Seguridad",1,{"$f":"VLOOKUP(F1156,[1]Hoja4!C:D,2,FALSE)","v":"ACT214"},"Procuraduría General de la Nación","Sector Público - Nacional","N/A"]
[null,{"$f":"VLOOKUP(C1157,[1]instancias_objetos!A:B,2,FALSE)","v":"INST82"},"Comisión Nacional de Garantías de Seguridad",3,{"$f":"VLOOKUP(F1157,[1]Hoja4!C:D,2,FALSE)","v":"ACT258"},"Representante de la Sociedad Civil","Delegado Sectorial de la Sociedad Civil","Seguridad y Defensa"]
[null,{"$f":"VLOOKUP(C1158,[1]instancias_objetos!A:B,2,FALSE)","v":"INST82"},"Comisión Nacional de Garantías de Seguridad",2,{"$f":"VLOOKUP(F1158,[1]Hoja4!C:D,2,FALSE)","v":"ACT354"},"Representante de las Plataformas de Derechos Humanos","Delegado Sectorial de la Sociedad Civil","Derechos Humanos"]
[null,{"$f":"VLOOKUP(C1159,[1]instancias_objetos!A:B,2,FALSE)","v":"INST83"},"Comité Interinstitucional de Seguimiento al Plan de Revisión, Evaluación y Seguimiento de los Programas y Leyes que favorecen a las Mujeres Rurales",1,{"$f":"VLOOKUP(F1159,[1]Hoja4!C:D,2,FALSE)","v":"ACT07"},"Agencia de Desarrollo Rural","Sector Público - Nacional","N/A"]
[null,{"$f":"VLOOKUP(C1160,[1]instancias_objetos!A:B,2,FALSE)","v":"INST83"},"Comité Interinstitucional de Seguimiento al Plan de Revisión, Evaluación y Seguimiento de los Programas y Leyes que favorecen a las Mujeres Rurales",1,{"$f":"VLOOKUP(F1160,[1]Hoja4!C:D,2,FALSE)","v":"ACT12"},"Agencia Nacional de Tierras","Sector Público - Nacional","N/A"]
[null,{"$f":"VLOOKUP(C1161,[1]instancias_objetos!A:B,2,FALSE)","v":"INST83"},"Comité Interinstitucional de Seguimiento al Plan de Revisión, Evaluación y Seguimiento de los Programas y Leyes que favorecen a las Mujeres Rurales",1,{"$f":"VLOOKUP(F1161,[1]Hoja4!C:D,2,FALSE)","v":"ACT53"},"Banco Agrario","Sector Público - Nacional","N/A"]
[null,{"$f":"VLOOKUP(C1162,[1]instancias_objetos!A:B,2,FALSE)","v":"INST83"},"Comité Interinstitucional de Seguimiento al Plan de Revisión, Evaluación y Seguimiento de los Programas y Leyes que favorecen a las Mujeres Rurales",1,{"$f":"VLOOKUP(F1162,[1]Hoja4!C:D,2,FALSE)","v":"ACT57"},"Caja de Compensación Familiar Campesina","Sector Privado","Trabajo"]
[null,{"$f":"VLOOKUP(C1163,[1]instancias_objetos!A:B,2,FALSE)","v":"INST83"},"Comité Interinstitucional de Seguimiento al Plan de Revisión, Evaluación y Seguimiento de los Programas y Leyes que favorecen a las Mujeres Rurales",1,{"$f":"VLOOKUP(F1163,[1]Hoja4!C:D,2,FALSE)","v":"ACT81"},"Consejería Presidencial para la Equidad de la Mujer","Sector Público - Nacional","N/A"]
[null,{"$f":"VLOOKUP(C1164,[1]instancias_objetos!A:B,2,FALSE)","v":"INST83"},"Comité Interinstitucional de Seguimiento al Plan de Revisión, Evaluación y Seguimiento de los Programas y Leyes que favorecen a las Mujeres Rurales",1,{"$f":"VLOOKUP(F1164,[1]Hoja4!C:D,2,FALSE)","v":"ACT122"},"Departamento Administrativo de la Función Pública","Sector Público - Nacional","N/A"]
[null,{"$f":"VLOOKUP(C1165,[1]instancias_objetos!A:B,2,FALSE)","v":"INST83"},"Comité Interinstitucional de Seguimiento al Plan de Revisión, Evaluación y Seguimiento de los Programas y Leyes que favorecen a las Mujeres Rurales",1,{"$f":"VLOOKUP(F1165,[1]Hoja4!C:D,2,FALSE)","v":"ACT124"},"Departamento Administrativo Nacional de Estadística","Sector Público - Nacional","N/A"]
[null,{"$f":"VLOOKUP(C1166,[1]instancias_objetos!A:B,2,FALSE)","v":"INST83"},"Comité Interinstitucional de Seguimiento al Plan de Revisión, Evaluación y Seguimiento de los Programas y Leyes que favorecen a las Mujeres Rurales",1,{"$f":"VLOOKUP(F1166,[1]Hoja4!C:D,2,FALSE)","v":"ACT147"},"Fondo para el Financiamiento del Sector Agropecuario","Sector Público - Nacional","N/A"]
[null,{"$f":"VLOOKUP(C1167,[1]instancias_objetos!A:B,2,FALSE)","v":"INST83"},"Comité Interinstitucional de Seguimiento al Plan de Revisión, Evaluación y Seguimiento de los Programas y Leyes que favorecen a las Mujeres Rurales",1,{"$f":"VLOOKUP(F1167,[1]Hoja4!C:D,2,FALSE)","v":"ACT173"},"Ministerio de Agricultura y Desarrollo Rural","Sector Público - Nacional","N/A"]
[null,{"$f":"VLOOKUP(C1168,[1]instancias_objetos!A:B,2,FALSE)","v":"INST83"},"Comité Interinstitucional de Seguimiento al Plan de Revisión, Evaluación y Seguimiento de los Programas y Leyes que favorecen a las Mujeres Rurales",1,{"$f":"VLOOKUP(F1168,[1]Hoja4!C:D,2,FALSE)","v":"ACT174"},"Ministerio de Ambiente y Desarrollo Sostenible","Sector Público - Nacional","N/A"]
[null,{"$f":"VLOOKUP(C1169,[1]instancias_objetos!A:B,2,FALSE)","v":"INST83"},"Comité Interinstitucional de Seguimiento al Plan de Revisión, Evaluación y Seguimiento de los Programas y Leyes que favorecen a las Mujeres Rurales",1,{"$f":"VLOOKUP(F1169,[1]Hoja4!C:D,2,FALSE)","v":"ACT179"},"Ministerio de Educación Nacional","Sector Público - Nacional","N/A"]
[null,{"$f":"VLOOKUP(C1170,[1]instancias_objetos!A:B,2,FALSE)","v":"INST83"},"Comité Interinstitucional de Seguimiento al Plan de Revisión, Evaluación y Seguimiento de los Programas y Leyes que favorecen a las Mujeres Rurales",1,{"$f":"VLOOKUP(F1170,[1]Hoja4!C:D,2,FALSE)","v":"ACT184"},"Ministerio de Salud y Protección Social","Sector Público - Nacional","N/A"]
[null,{"$f":"VLOOKUP(C1171,[1]instancias_objetos!A:B,2,FALSE)","v":"INST83"},"Comité Interinstitucional de Seguimiento al Plan de Revisión, Evaluación y Seguimiento de los Programas y Leyes que favorecen a las Mujeres Rurales",1,{"$f":"VLOOKUP(F1171,[1]Hoja4!C:D,2,FALSE)","v":"ACT188"},"Ministerio del Deporte","Sector Público - Nacional","N/A"]
[null,{"$f":"VLOOKUP(C1172,[1]instancias_objetos!A:B,2,FALSE)","v":"INST83"},"Comité Interinstitucional de Seguimiento al Plan de Revisión, Evaluación y Seguimiento de los Programas y Leyes que favorecen a las Mujeres Rurales",1,{"$f":"VLOOKUP(F1172,[1]Hoja4!C:D,2,FALSE)","v":"ACT189"},"Ministerio del Interior","Sector Público - Nacional","N/A"]
[null,{"$f":"VLOOKUP(C1173,[1]instancias_objetos!A:B,2,FALSE)","v":"INST83"},"Comité Interinstitucional de Seguimiento al Plan de Revisión, Evaluación y Seguimiento de los Programas y Leyes que favorecen a las Mujeres Rurales",1,{"$f":"VLOOKUP(F1173,[1]Hoja4!C:D,2,FALSE)","v":"ACT190"},"Ministerio del Trabajo","Sector Público - Nacional","N/A"]
[null,{"$f":"VLOOKUP(C1174,[1]instancias_objetos!A:B,2,FALSE)","v":"INST83"},"Comité Interinstitucional de Seguimiento al Plan de Revisión, Evaluación y Seguimiento de los Programas y Leyes que favorecen a las Mujeres Rurales",1,{"$f":"VLOOKUP(F1174,[1]Hoja4!C:D,2,FALSE)","v":"ACT223"},"Registraduría Nacional del Estado Civil","Sector Público - Nacional","N/A"]
[null,{"$f":"VLOOKUP(C1175,[1]instancias_objetos!A:B,2,FALSE)","v":"INST83"},"Comité Interinstitucional de Seguimiento al Plan de Revisión, Evaluación y Seguimiento de los Programas y Leyes que favorecen a las Mujeres Rurales",1,{"$f":"VLOOKUP(F1175,[1]Hoja4!C:D,2,FALSE)","v":"ACT253"},"Representante de la Comunidad Palenquera","Delegado Sectorial de la Sociedad Civil","Grupos Étnicos (Afros, Indígenas, Raizales, Palenqueros y ROM)"]
[null,{"$f":"VLOOKUP(C1176,[1]instancias_objetos!A:B,2,FALSE)","v":"INST83"},"Comité Interinstitucional de Seguimiento al Plan de Revisión, Evaluación y Seguimiento de los Programas y Leyes que favorecen a las Mujeres Rurales",1,{"$f":"VLOOKUP(F1176,[1]Hoja4!C:D,2,FALSE)","v":"ACT313"},"Representante de las Mujeres Afrocolombianas","Delegado Sectorial de la Sociedad Civil","Grupos Étnicos (Afros, Indígenas, Raizales, Palenqueros y ROM)"]
[null,{"$f":"VLOOKUP(C1177,[1]instancias_objetos!A:B,2,FALSE)","v":"INST83"},"Comité Interinstitucional de Seguimiento al Plan de Revisión, Evaluación y Seguimiento de los Programas y Leyes que favorecen a las Mujeres Rurales",1,{"$f":"VLOOKUP(F1177,[1]Hoja4!C:D,2,FALSE)","v":"ACT314"},"Representante de las Mujeres Campesinas","Delegado Sectorial de la Sociedad Civil","Poblacional y Género (Niñez, Jóvenes, Mujeres, Adulto Mayor, LGBTI)"]
[null,{"$f":"VLOOKUP(C1178,[1]instancias_objetos!A:B,2,FALSE)","v":"INST83"},"Comité Interinstitucional de Seguimiento al Plan de Revisión, Evaluación y Seguimiento de los Programas y Leyes que favorecen a las Mujeres Rurales",1,{"$f":"VLOOKUP(F1178,[1]Hoja4!C:D,2,FALSE)","v":"ACT315"},"Representante de las Mujeres de la Comunidad LGBTI Rurales","Delegado Sectorial de la Sociedad Civil","Poblacional y Género (Niñez, Jóvenes, Mujeres, Adulto Mayor, LGBTI)"]
[null,{"$f":"VLOOKUP(C1179,[1]instancias_objetos!A:B,2,FALSE)","v":"INST83"},"Comité Interinstitucional de Seguimiento al Plan de Revisión, Evaluación y Seguimiento de los Programas y Leyes que favorecen a las Mujeres Rurales",1,{"$f":"VLOOKUP(F1179,[1]Hoja4!C:D,2,FALSE)","v":"ACT320"},"Representante de las Mujeres ROM","Delegado Sectorial de la Sociedad Civil","Grupos Étnicos (Afros, Indígenas, Raizales, Palenqueros y ROM)"]
[null,{"$f":"VLOOKUP(C1180,[1]instancias_objetos!A:B,2,FALSE)","v":"INST83"},"Comité Interinstitucional de Seguimiento al Plan de Revisión, Evaluación y Seguimiento de los Programas y Leyes que favorecen a las Mujeres Rurales",1,{"$f":"VLOOKUP(F1180,[1]Hoja4!C:D,2,FALSE)","v":"ACT436"},"Representante del Pueblo Indígena","Delegado Sectorial de la Sociedad Civil","Grupos Étnicos (Afros, Indígenas, Raizales, Palenqueros y ROM)"]
[null,{"$f":"VLOOKUP(C1181,[1]instancias_objetos!A:B,2,FALSE)","v":"INST83"},"Comité Interinstitucional de Seguimiento al Plan de Revisión, Evaluación y Seguimiento de los Programas y Leyes que favorecen a las Mujeres Rurales",1,{"$f":"VLOOKUP(F1181,[1]Hoja4!C:D,2,FALSE)","v":"ACT437"},"Representante del Pueblo Raizal","Delegado Sectorial de la Sociedad Civil","Grupos Étnicos (Afros, Indígenas, Raizales, Palenqueros y ROM)"]
[null,{"$f":"VLOOKUP(C1182,[1]instancias_objetos!A:B,2,FALSE)","v":"INST84"},"Consejo Asesor de la Unidad de Búsqueda de Personas dadas por Desaparecidas",1,{"$f":"VLOOKUP(F1182,[1]Hoja4!C:D,2,FALSE)","v":"ACT66"},"Comisión para el Esclarecimiento de la Verdad, la Convivencia y la no Repetición","Sector Público - Nacional","N/A"]
[null,{"$f":"VLOOKUP(C1183,[1]instancias_objetos!A:B,2,FALSE)","v":"INST84"},"Consejo Asesor de la Unidad de Búsqueda de Personas dadas por Desaparecidas",1,{"$f":"VLOOKUP(F1183,[1]Hoja4!C:D,2,FALSE)","v":"ACT86"},"Consejería Presidencial para los Derechos Humanos","Sector Público - Nacional","N/A"]
[null,{"$f":"VLOOKUP(C1184,[1]instancias_objetos!A:B,2,FALSE)","v":"INST84"},"Consejo Asesor de la Unidad de Búsqueda de Personas dadas por Desaparecidas",1,{"$f":"VLOOKUP(F1184,[1]Hoja4!C:D,2,FALSE)","v":"ACT166"},"Instituto Nacional de Medicina Legal y Ciencias Forenses","Sector Público - Nacional","N/A"]
[null,{"$f":"VLOOKUP(C1185,[1]instancias_objetos!A:B,2,FALSE)","v":"INST84"},"Consejo Asesor de la Unidad de Búsqueda de Personas dadas por Desaparecidas",1,{"$f":"VLOOKUP(F1185,[1]Hoja4!C:D,2,FALSE)","v":"ACT181"},"Ministerio de Justicia y del Derecho","Sector Público - Nacional","N/A"]
[null,{"$f":"VLOOKUP(C1186,[1]instancias_objetos!A:B,2,FALSE)","v":"INST84"},"Consejo Asesor de la Unidad de Búsqueda de Personas dadas por Desaparecidas",1,{"$f":"VLOOKUP(F1186,[1]Hoja4!C:D,2,FALSE)","v":"ACT184"},"Ministerio de Salud y Protección Social","Sector Público - Nacional","N/A"]
[null,{"$f":"VLOOKUP(C1187,[1]instancias_objetos!A:B,2,FALSE)","v":"INST84"},"Consejo Asesor de la Unidad de Búsqueda de Personas dadas por Desaparecidas",1,{"$f":"VLOOKUP(F1187,[1]Hoja4!C:D,2,FALSE)","v":"ACT189"},"Ministerio del Interior","Sector Público - Nacional","N/A"]
[null,{"$f":"VLOOKUP(C1188,[1]instancias_objetos!A:B,2,FALSE)","v":"INST84"},"Consejo Asesor de la Unidad de Búsqueda de Personas dadas por Desaparecidas",1,{"$f":"VLOOKUP(F1188,[1]Hoja4!C:D,2,FALSE)","v":"ACT193"},"Oficina del Alto Comisionado para la Paz","Sector Público - Nacional","N/A"]
[null,{"$f":"VLOOKUP(C1189,[1]instancias_objetos!A:B,2,FALSE)","v":"INST84"},"Consejo Asesor de la Unidad de Búsqueda de Personas dadas por Desaparecidas",1,{"$f":"VLOOKUP(F1189,[1]Hoja4!C:D,2,FALSE)","v":"ACT255"},"Representante de la Mesa Nacional de Participación de Víctimas","Delegado Sectorial de la Sociedad Civil","Derechos Humanos"]
[null,{"$f":"VLOOKUP(C1190,[1]instancias_objetos!A:B,2,FALSE)","v":"INST84"},"Consejo Asesor de la Unidad de Búsqueda de Personas dadas por Desaparecidas",1,{"$f":"VLOOKUP(F1190,[1]Hoja4!C:D,2,FALSE)","v":"ACT258"},"Representante de la Sociedad Civil","Delegado Sectorial de la Sociedad Civil","Seguridad y Defensa"]
[null,{"$f":"VLOOKUP(C1191,[1]instancias_objetos!A:B,2,FALSE)","v":"INST84"},"Consejo Asesor de la Unidad de Búsqueda de Personas dadas por Desaparecidas",2,{"$f":"VLOOKUP(F1191,[1]Hoja4!C:D,2,FALSE)","v":"ACT363"},"Representante de las Víctimas de desaparición forzada","Delegado Sectorial de la Sociedad Civil","Víctimas y Construcción de Paz"]
[null,{"$f":"VLOOKUP(C1192,[1]instancias_objetos!A:B,2,FALSE)","v":"INST84"},"Consejo Asesor de la Unidad de Búsqueda de Personas dadas por Desaparecidas",2,{"$f":"VLOOKUP(F1192,[1]Hoja4!C:D,2,FALSE)","v":"ACT364"},"Representante de las Víctimas de secuestro","Delegado Sectorial de la Sociedad Civil","Víctimas y Construcción de Paz"]
[null,{"$f":"VLOOKUP(C1193,[1]instancias_objetos!A:B,2,FALSE)","v":"INST84"},"Consejo Asesor de la Unidad de Búsqueda de Personas dadas por Desaparecidas",1,{"$f":"VLOOKUP(F1193,[1]Hoja4!C:D,2,FALSE)","v":"ACT495"},"Unidad Administrativa Especial de Atención y Reparación Integral a la Víctimas","Sector Público - Nacional","N/A"]
[null,{"$f":"VLOOKUP(C1194,[1]instancias_objetos!A:B,2,FALSE)","v":"INST85"},"Consejo Nacional de Paz, Reconciliación y Convivencia",5,{"$f":"VLOOKUP(F1194,[1]Hoja4!C:D,2,FALSE)","v":"ACT69"},"Concejal","Sector Público - Territorial","N/A"]
[null,{"$f":"VLOOKUP(C1195,[1]instancias_objetos!A:B,2,FALSE)","v":"INST85"},"Consejo Nacional de Paz, Reconciliación y Convivencia",2,{"$f":"VLOOKUP(F1195,[1]Hoja4!C:D,2,FALSE)","v":"ACT77"},"Confederación Nacional de Acción Comunal","Organización de la Sociedad Civil","Control Social, Transparencia, Comunitario y Veedurías"]
[null,{"$f":"VLOOKUP(C1196,[1]instancias_objetos!A:B,2,FALSE)","v":"INST85"},"Consejo Nacional de Paz, Reconciliación y Convivencia",1,{"$f":"VLOOKUP(F1196,[1]Hoja4!C:D,2,FALSE)","v":"ACT79"},"Conferencia Episcopal de Colombia","Sector Privado","Iglesias"]
[null,{"$f":"VLOOKUP(C1197,[1]instancias_objetos!A:B,2,FALSE)","v":"INST85"},"Consejo Nacional de Paz, Reconciliación y Convivencia",1,{"$f":"VLOOKUP(F1197,[1]Hoja4!C:D,2,FALSE)","v":"ACT121"},"Defensoría del Pueblo","Sector Público - Nacional","N/A"]
[null,{"$f":"VLOOKUP(C1198,[1]instancias_objetos!A:B,2,FALSE)","v":"INST85"},"Consejo Nacional de Paz, Reconciliación y Convivencia",5,{"$f":"VLOOKUP(F1198,[1]Hoja4!C:D,2,FALSE)","v":"ACT127"},"Diputado","Sector Público - Territorial","N/A"]
[null,{"$f":"VLOOKUP(C1199,[1]instancias_objetos!A:B,2,FALSE)","v":"INST85"},"Consejo Nacional de Paz, Reconciliación y Convivencia",5,{"$f":"VLOOKUP(F1199,[1]Hoja4!C:D,2,FALSE)","v":"ACT135"},"Federación Colombiana de Municipios","Sector Privado","Control Social, Transparencia, Comunitario y Veedurías"]
[null,{"$f":"VLOOKUP(C1200,[1]instancias_objetos!A:B,2,FALSE)","v":"INST85"},"Consejo Nacional de Paz, Reconciliación y Convivencia",5,{"$f":"VLOOKUP(F1200,[1]Hoja4!C:D,2,FALSE)","v":"ACT141"},"Federación Nacional de Departamentos","Sector Público - Territorial","N/A"]
[null,{"$f":"VLOOKUP(C1201,[1]instancias_objetos!A:B,2,FALSE)","v":"INST85"},"Consejo Nacional de Paz, Reconciliación y Convivencia",1,{"$f":"VLOOKUP(F1201,[1]Hoja4!C:D,2,FALSE)","v":"ACT148"},"Fuerza Alternativa Revolucionaria del Común","Organización de la Sociedad Civil","Partidos Políticos"]
[null,{"$f":"VLOOKUP(C1202,[1]instancias_objetos!A:B,2,FALSE)","v":"INST85"},"Consejo Nacional de Paz, Reconciliación y Convivencia",1,{"$f":"VLOOKUP(F1202,[1]Hoja4!C:D,2,FALSE)","v":"ACT178"},"Ministerio de Defensa Nacional","Sector Público - Nacional","N/A"]
[null,{"$f":"VLOOKUP(C1203,[1]instancias_objetos!A:B,2,FALSE)","v":"INST85"},"Consejo Nacional de Paz, Reconciliación y Convivencia",1,{"$f":"VLOOKUP(F1203,[1]Hoja4!C:D,2,FALSE)","v":"ACT179"},"Ministerio de Educación Nacional","Sector Público - Nacional","N/A"]
[null,{"$f":"VLOOKUP(C1204,[1]instancias_objetos!A:B,2,FALSE)","v":"INST85"},"Consejo Nacional de Paz, Reconciliación y Convivencia",1,{"$f":"VLOOKUP(F1204,[1]Hoja4!C:D,2,FALSE)","v":"ACT180"},"Ministerio de Hacienda y Crédito Público","Sector Público - Nacional","N/A"]
[null,{"$f":"VLOOKUP(C1205,[1]instancias_objetos!A:B,2,FALSE)","v":"INST85"},"Consejo Nacional de Paz, Reconciliación y Convivencia",1,{"$f":"VLOOKUP(F1205,[1]Hoja4!C:D,2,FALSE)","v":"ACT189"},"Ministerio del Interior","Sector Público - Nacional","N/A"]
[null,{"$f":"VLOOKUP(C1206,[1]instancias_objetos!A:B,2,FALSE)","v":"INST85"},"Consejo Nacional de Paz, Reconciliación y Convivencia",1,{"$f":"VLOOKUP(F1206,[1]Hoja4!C:D,2,FALSE)","v":"ACT193"},"Oficina del Alto Comisionado para la Paz","Sector Público - Nacional","N/A"]
[null,{"$f":"VLOOKUP(C1207,[1]instancias_objetos!A:B,2,FALSE)","v":"INST85"},"Consejo Nacional de Paz, Reconciliación y Convivencia",1,{"$f":"VLOOKUP(F1207,[1]Hoja4!C:D,2,FALSE)","v":"ACT207"},"Personería Local","Sector Público - Territorial","N/A"]
[null,{"$f":"VLOOKUP(C1208,[1]instancias_objetos!A:B,2,FALSE)","v":"INST85"},"Consejo Nacional de Paz, Reconciliación y Convivencia",1,{"$f":"VLOOKUP(F1208,[1]Hoja4!C:D,2,FALSE)","v":"ACT210"},"Presidencia de la República","Sector Público - Nacional","N/A"]
[null,{"$f":"VLOOKUP(C1209,[1]instancias_objetos!A:B,2,FALSE)","v":"INST85"},"Consejo Nacional de Paz, Reconciliación y Convivencia",1,{"$f":"VLOOKUP(F1209,[1]Hoja4!C:D,2,FALSE)","v":"ACT214"},"Procuraduría General de la Nación","Sector Público - Nacional","N/A"]
[null,{"$f":"VLOOKUP(C1210,[1]instancias_objetos!A:B,2,FALSE)","v":"INST85"},"Consejo Nacional de Paz, Reconciliación y Convivencia",2,{"$f":"VLOOKUP(F1210,[1]Hoja4!C:D,2,FALSE)","v":"ACT215"},"Rama Judicial","Sector Público - Nacional","N/A"]
[null,{"$f":"VLOOKUP(C1211,[1]instancias_objetos!A:B,2,FALSE)","v":"INST85"},"Consejo Nacional de Paz, Reconciliación y Convivencia",3,{"$f":"VLOOKUP(F1211,[1]Hoja4!C:D,2,FALSE)","v":"ACT224"},"Representante a la Cámara","Sector Público - Nacional","N/A"]
[null,{"$f":"VLOOKUP(C1212,[1]instancias_objetos!A:B,2,FALSE)","v":"INST85"},"Consejo Nacional de Paz, Reconciliación y Convivencia",2,{"$f":"VLOOKUP(F1212,[1]Hoja4!C:D,2,FALSE)","v":"ACT240"},"Representante de Colombianos en el Exterior","Delegado Sectorial de la Sociedad Civil","Control Social, Transparencia, Comunitario y Veedurías"]
[null,{"$f":"VLOOKUP(C1213,[1]instancias_objetos!A:B,2,FALSE)","v":"INST85"},"Consejo Nacional de Paz, Reconciliación y Convivencia",2,{"$f":"VLOOKUP(F1213,[1]Hoja4!C:D,2,FALSE)","v":"ACT244"},"Representante de Grupos Étnicos","Delegado Sectorial de la Sociedad Civil","Grupos Étnicos (Afros, Indígenas, Raizales, Palenqueros y ROM)"]
[null,{"$f":"VLOOKUP(C1214,[1]instancias_objetos!A:B,2,FALSE)","v":"INST85"},"Consejo Nacional de Paz, Reconciliación y Convivencia",1,{"$f":"VLOOKUP(F1214,[1]Hoja4!C:D,2,FALSE)","v":"ACT254"},"Representante de la Fuerza Pública","Sector Público - Nacional","N/A"]
[null,{"$f":"VLOOKUP(C1215,[1]instancias_objetos!A:B,2,FALSE)","v":"INST85"},"Consejo Nacional de Paz, Reconciliación y Convivencia",2,{"$f":"VLOOKUP(F1215,[1]Hoja4!C:D,2,FALSE)","v":"ACT257"},"Representante de la población en condición de discapacidad","Delegado Sectorial de la Sociedad Civil","Discapacidad"]
[null,{"$f":"VLOOKUP(C1216,[1]instancias_objetos!A:B,2,FALSE)","v":"INST85"},"Consejo Nacional de Paz, Reconciliación y Convivencia",2,{"$f":"VLOOKUP(F1216,[1]Hoja4!C:D,2,FALSE)","v":"ACT258"},"Representante de la Sociedad Civil","Delegado Sectorial de la Sociedad Civil","Víctimas y Construcción de Paz"]
[null,{"$f":"VLOOKUP(C1217,[1]instancias_objetos!A:B,2,FALSE)","v":"INST85"},"Consejo Nacional de Paz, Reconciliación y Convivencia",2,{"$f":"VLOOKUP(F1217,[1]Hoja4!C:D,2,FALSE)","v":"ACT301"},"Representante de las Formas Organizativas y Asociativas de Desmovilizados","Delegado Sectorial de la Sociedad Civil","Víctimas y Construcción de Paz"]
[null,{"$f":"VLOOKUP(C1218,[1]instancias_objetos!A:B,2,FALSE)","v":"INST85"},"Consejo Nacional de Paz, Reconciliación y Convivencia",2,{"$f":"VLOOKUP(F1218,[1]Hoja4!C:D,2,FALSE)","v":"ACT325"},"Representante de las ONGs para la promoción y defensa de los derechos humanos","Delegado Sectorial de la Sociedad Civil","Derechos Humanos"]
[null,{"$f":"VLOOKUP(C1219,[1]instancias_objetos!A:B,2,FALSE)","v":"INST85"},"Consejo Nacional de Paz, Reconciliación y Convivencia",2,{"$f":"VLOOKUP(F1219,[1]Hoja4!C:D,2,FALSE)","v":"ACT340"},"Representante de las Organizaciones de Oficiales y Suboficiales en Retiro de la Fuerza Pública","Delegado Sectorial de la Sociedad Civil","Seguridad y Defensa"]
[null,{"$f":"VLOOKUP(C1220,[1]instancias_objetos!A:B,2,FALSE)","v":"INST85"},"Consejo Nacional de Paz, Reconciliación y Convivencia",2,{"$f":"VLOOKUP(F1220,[1]Hoja4!C:D,2,FALSE)","v":"ACT349"},"Representante de las Organizaciones Juveniles","Delegado Sectorial de la Sociedad Civil","Poblacional y Género (Niñez, Jóvenes, Mujeres, Adulto Mayor, LGBTI)"]
[null,{"$f":"VLOOKUP(C1221,[1]instancias_objetos!A:B,2,FALSE)","v":"INST85"},"Consejo Nacional de Paz, Reconciliación y Convivencia",2,{"$f":"VLOOKUP(F1221,[1]Hoja4!C:D,2,FALSE)","v":"ACT351"},"Representante de las Organizaciones para la protección y defensa de los derechos del niño","Delegado Sectorial de la Sociedad Civil","Poblacional y Género (Niñez, Jóvenes, Mujeres, Adulto Mayor, LGBTI)"]
[null,{"$f":"VLOOKUP(C1222,[1]instancias_objetos!A:B,2,FALSE)","v":"INST85"},"Consejo Nacional de Paz, Reconciliación y Convivencia",2,{"$f":"VLOOKUP(F1222,[1]Hoja4!C:D,2,FALSE)","v":"ACT355"},"Representante de las Plataformas Nacionales de Acción por la Paz","Delegado Sectorial de la Sociedad Civil","Víctimas y Construcción de Paz"]
[null,{"$f":"VLOOKUP(C1223,[1]instancias_objetos!A:B,2,FALSE)","v":"INST85"},"Consejo Nacional de Paz, Reconciliación y Convivencia",2,{"$f":"VLOOKUP(F1223,[1]Hoja4!C:D,2,FALSE)","v":"ACT356"},"Representante de las Universidades","Delegado Sectorial de la Sociedad Civil","Educación"]
[null,{"$f":"VLOOKUP(C1224,[1]instancias_objetos!A:B,2,FALSE)","v":"INST85"},"Consejo Nacional de Paz, Reconciliación y Convivencia",3,{"$f":"VLOOKUP(F1224,[1]Hoja4!C:D,2,FALSE)","v":"ACT361"},"Representante de las Víctimas","Delegado Sectorial de la Sociedad Civil","Víctimas y Construcción de Paz"]
[null,{"$f":"VLOOKUP(C1225,[1]instancias_objetos!A:B,2,FALSE)","v":"INST85"},"Consejo Nacional de Paz, Reconciliación y Convivencia",2,{"$f":"VLOOKUP(F1225,[1]Hoja4!C:D,2,FALSE)","v":"ACT369"},"Representante de los Campesinos","Delegado Sectorial de la Sociedad Civil","Agricultura y Ruralidad"]
[null,{"$f":"VLOOKUP(C1226,[1]instancias_objetos!A:B,2,FALSE)","v":"INST85"},"Consejo Nacional de Paz, Reconciliación y Convivencia",1,{"$f":"VLOOKUP(F1226,[1]Hoja4!C:D,2,FALSE)","v":"ACT396"},"Representante de los Medios de Comunicación masivos","Delegado Sectorial de la Sociedad Civil","Comunicaciones e Información"]
[null,{"$f":"VLOOKUP(C1227,[1]instancias_objetos!A:B,2,FALSE)","v":"INST85"},"Consejo Nacional de Paz, Reconciliación y Convivencia",1,{"$f":"VLOOKUP(F1227,[1]Hoja4!C:D,2,FALSE)","v":"ACT397"},"Representante de los Medios de Comunicación populares y comunitarios","Delegado Sectorial de la Sociedad Civil","Comunicaciones e Información"]
[null,{"$f":"VLOOKUP(C1228,[1]instancias_objetos!A:B,2,FALSE)","v":"INST85"},"Consejo Nacional de Paz, Reconciliación y Convivencia",2,{"$f":"VLOOKUP(F1228,[1]Hoja4!C:D,2,FALSE)","v":"ACT400"},"Representante de los Partidos y Movimientos Políticos","Delegado Sectorial de la Sociedad Civil","Partidos Políticos"]
[null,{"$f":"VLOOKUP(C1229,[1]instancias_objetos!A:B,2,FALSE)","v":"INST85"},"Consejo Nacional de Paz, Reconciliación y Convivencia",2,{"$f":"VLOOKUP(F1229,[1]Hoja4!C:D,2,FALSE)","v":"ACT400"},"Representante de los Partidos y Movimientos Políticos","Delegado Sectorial de la Sociedad Civil","Partidos Políticos"]
[null,{"$f":"VLOOKUP(C1230,[1]instancias_objetos!A:B,2,FALSE)","v":"INST85"},"Consejo Nacional de Paz, Reconciliación y Convivencia",2,{"$f":"VLOOKUP(F1230,[1]Hoja4!C:D,2,FALSE)","v":"ACT409"},"Representante de los Sectores Económicos","Delegado Sectorial de la Sociedad Civil","Agricultura y Ruralidad"]
[null,{"$f":"VLOOKUP(C1231,[1]instancias_objetos!A:B,2,FALSE)","v":"INST85"},"Consejo Nacional de Paz, Reconciliación y Convivencia",2,{"$f":"VLOOKUP(F1231,[1]Hoja4!C:D,2,FALSE)","v":"ACT409"},"Representante de los Sectores Económicos","Delegado Sectorial de la Sociedad Civil","Comercio"]
[null,{"$f":"VLOOKUP(C1232,[1]instancias_objetos!A:B,2,FALSE)","v":"INST85"},"Consejo Nacional de Paz, Reconciliación y Convivencia",2,{"$f":"VLOOKUP(F1232,[1]Hoja4!C:D,2,FALSE)","v":"ACT411"},"Representante de Organizaciones Acompañantes de Víctimas","Delegado Sectorial de la Sociedad Civil","Víctimas y Construcción de Paz"]
[null,{"$f":"VLOOKUP(C1233,[1]instancias_objetos!A:B,2,FALSE)","v":"INST85"},"Consejo Nacional de Paz, Reconciliación y Convivencia",2,{"$f":"VLOOKUP(F1233,[1]Hoja4!C:D,2,FALSE)","v":"ACT430"},"Representante del Movimiento Estudiantil","Delegado Sectorial de la Sociedad Civil","Educación"]
[null,{"$f":"VLOOKUP(C1234,[1]instancias_objetos!A:B,2,FALSE)","v":"INST85"},"Consejo Nacional de Paz, Reconciliación y Convivencia",3,{"$f":"VLOOKUP(F1234,[1]Hoja4!C:D,2,FALSE)","v":"ACT436"},"Representante del Pueblo Indígena","Delegado Sectorial de la Sociedad Civil","Grupos Étnicos (Afros, Indígenas, Raizales, Palenqueros y ROM)"]
[null,{"$f":"VLOOKUP(C1235,[1]instancias_objetos!A:B,2,FALSE)","v":"INST85"},"Consejo Nacional de Paz, Reconciliación y Convivencia",2,{"$f":"VLOOKUP(F1235,[1]Hoja4!C:D,2,FALSE)","v":"ACT438"},"Representante del Pueblo ROM","Delegado Sectorial de la Sociedad Civil","Grupos Étnicos (Afros, Indígenas, Raizales, Palenqueros y ROM)"]
[null,{"$f":"VLOOKUP(C1236,[1]instancias_objetos!A:B,2,FALSE)","v":"INST85"},"Consejo Nacional de Paz, Reconciliación y Convivencia",2,{"$f":"VLOOKUP(F1236,[1]Hoja4!C:D,2,FALSE)","v":"ACT442"},"Representante del Sector Ambiente","Delegado Sectorial de la Sociedad Civil","Ambiente"]
[null,{"$f":"VLOOKUP(C1237,[1]instancias_objetos!A:B,2,FALSE)","v":"INST85"},"Consejo Nacional de Paz, Reconciliación y Convivencia",2,{"$f":"VLOOKUP(F1237,[1]Hoja4!C:D,2,FALSE)","v":"ACT449"},"Representante del Sector Cultura","Delegado Sectorial de la Sociedad Civil","Cultura"]
[null,{"$f":"VLOOKUP(C1238,[1]instancias_objetos!A:B,2,FALSE)","v":"INST85"},"Consejo Nacional de Paz, Reconciliación y Convivencia",2,{"$f":"VLOOKUP(F1238,[1]Hoja4!C:D,2,FALSE)","v":"ACT454"},"Representante del Sector de Productores Agropecuarios Independientes","Delegado Sectorial de la Sociedad Civil","Agricultura y Ruralidad"]
[null,{"$f":"VLOOKUP(C1239,[1]instancias_objetos!A:B,2,FALSE)","v":"INST85"},"Consejo Nacional de Paz, Reconciliación y Convivencia",2,{"$f":"VLOOKUP(F1239,[1]Hoja4!C:D,2,FALSE)","v":"ACT459"},"Representante del Sector Empresarial","Delegado Sectorial de la Sociedad Civil","Comercio"]
[null,{"$f":"VLOOKUP(C1240,[1]instancias_objetos!A:B,2,FALSE)","v":"INST85"},"Consejo Nacional de Paz, Reconciliación y Convivencia",2,{"$f":"VLOOKUP(F1240,[1]Hoja4!C:D,2,FALSE)","v":"ACT463"},"Representante del Sector LGBTI","Delegado Sectorial de la Sociedad Civil","Poblacional y Género (Niñez, Jóvenes, Mujeres, Adulto Mayor, LGBTI)"]
[null,{"$f":"VLOOKUP(C1241,[1]instancias_objetos!A:B,2,FALSE)","v":"INST85"},"Consejo Nacional de Paz, Reconciliación y Convivencia",3,{"$f":"VLOOKUP(F1241,[1]Hoja4!C:D,2,FALSE)","v":"ACT465"},"Representante del Sector Mujeres","Delegado Sectorial de la Sociedad Civil","Poblacional y Género (Niñez, Jóvenes, Mujeres, Adulto Mayor, LGBTI)"]
[null,{"$f":"VLOOKUP(C1242,[1]instancias_objetos!A:B,2,FALSE)","v":"INST85"},"Consejo Nacional de Paz, Reconciliación y Convivencia",1,{"$f":"VLOOKUP(F1242,[1]Hoja4!C:D,2,FALSE)","v":"ACT467"},"Representante del Sector Religioso","Delegado Sectorial de la Sociedad Civil","Iglesias"]
[null,{"$f":"VLOOKUP(C1243,[1]instancias_objetos!A:B,2,FALSE)","v":"INST85"},"Consejo Nacional de Paz, Reconciliación y Convivencia",2,{"$f":"VLOOKUP(F1243,[1]Hoja4!C:D,2,FALSE)","v":"ACT469"},"Representante del Sector Sindical","Delegado Sectorial de la Sociedad Civil","Trabajo"]
[null,{"$f":"VLOOKUP(C1244,[1]instancias_objetos!A:B,2,FALSE)","v":"INST85"},"Consejo Nacional de Paz, Reconciliación y Convivencia",2,{"$f":"VLOOKUP(F1244,[1]Hoja4!C:D,2,FALSE)","v":"ACT470"},"Representante del Sector Solidario","Delegado Sectorial de la Sociedad Civil","Solidario"]
[null,{"$f":"VLOOKUP(C1245,[1]instancias_objetos!A:B,2,FALSE)","v":"INST85"},"Consejo Nacional de Paz, Reconciliación y Convivencia",3,{"$f":"VLOOKUP(F1245,[1]Hoja4!C:D,2,FALSE)","v":"ACT482"},"Senador de la República","Sector Público - Nacional","N/A"]
[null,{"$f":"VLOOKUP(C1246,[1]instancias_objetos!A:B,2,FALSE)","v":"INST86"},"Consejo Superior del Sistema Nacional de Innovación Agropecuaria",1,{"$f":"VLOOKUP(F1246,[1]Hoja4!C:D,2,FALSE)","v":"ACT07"},"Agencia de Desarrollo Rural","Sector Público - Nacional","N/A"]
[null,{"$f":"VLOOKUP(C1247,[1]instancias_objetos!A:B,2,FALSE)","v":"INST86"},"Consejo Superior del Sistema Nacional de Innovación Agropecuaria",1,{"$f":"VLOOKUP(F1247,[1]Hoja4!C:D,2,FALSE)","v":"ACT94"},"Consejo Nacional de Secretarios de Agricultura","Sector Público - Territorial","N/A"]
[null,{"$f":"VLOOKUP(C1248,[1]instancias_objetos!A:B,2,FALSE)","v":"INST86"},"Consejo Superior del Sistema Nacional de Innovación Agropecuaria",1,{"$f":"VLOOKUP(F1248,[1]Hoja4!C:D,2,FALSE)","v":"ACT110"},"Corporación Colombiana de Investigación Agropecuaria","Sector Público - Territorial","N/A"]
[null,{"$f":"VLOOKUP(C1249,[1]instancias_objetos!A:B,2,FALSE)","v":"INST86"},"Consejo Superior del Sistema Nacional de Innovación Agropecuaria",1,{"$f":"VLOOKUP(F1249,[1]Hoja4!C:D,2,FALSE)","v":"ACT126"},"Departamento Nacional de Planeación","Sector Público - Nacional","N/A"]
[null,{"$f":"VLOOKUP(C1250,[1]instancias_objetos!A:B,2,FALSE)","v":"INST86"},"Consejo Superior del Sistema Nacional de Innovación Agropecuaria",1,{"$f":"VLOOKUP(F1250,[1]Hoja4!C:D,2,FALSE)","v":"ACT154"},"Instituto Colombiano Agropecuario","Sector Público - Nacional","N/A"]
[null,{"$f":"VLOOKUP(C1251,[1]instancias_objetos!A:B,2,FALSE)","v":"INST86"},"Consejo Superior del Sistema Nacional de Innovación Agropecuaria",1,{"$f":"VLOOKUP(F1251,[1]Hoja4!C:D,2,FALSE)","v":"ACT173"},"Ministerio de Agricultura y Desarrollo Rural","Sector Público - Nacional","N/A"]
[null,{"$f":"VLOOKUP(C1252,[1]instancias_objetos!A:B,2,FALSE)","v":"INST86"},"Consejo Superior del Sistema Nacional de Innovación Agropecuaria",1,{"$f":"VLOOKUP(F1252,[1]Hoja4!C:D,2,FALSE)","v":"ACT174"},"Ministerio de Ambiente y Desarrollo Sostenible","Sector Público - Nacional","N/A"]
[null,{"$f":"VLOOKUP(C1253,[1]instancias_objetos!A:B,2,FALSE)","v":"INST86"},"Consejo Superior del Sistema Nacional de Innovación Agropecuaria",1,{"$f":"VLOOKUP(F1253,[1]Hoja4!C:D,2,FALSE)","v":"ACT175"},"Ministerio de Ciencia, Tecnología e Innovación","Sector Público - Nacional","N/A"]
[null,{"$f":"VLOOKUP(C1254,[1]instancias_objetos!A:B,2,FALSE)","v":"INST86"},"Consejo Superior del Sistema Nacional de Innovación Agropecuaria",1,{"$f":"VLOOKUP(F1254,[1]Hoja4!C:D,2,FALSE)","v":"ACT176"},"Ministerio de Comercio, Industria y Turismo","Sector Público - Nacional","N/A"]
[null,{"$f":"VLOOKUP(C1255,[1]instancias_objetos!A:B,2,FALSE)","v":"INST86"},"Consejo Superior del Sistema Nacional de Innovación Agropecuaria",1,{"$f":"VLOOKUP(F1255,[1]Hoja4!C:D,2,FALSE)","v":"ACT179"},"Ministerio de Educación Nacional","Sector Público - Nacional","N/A"]
[null,{"$f":"VLOOKUP(C1256,[1]instancias_objetos!A:B,2,FALSE)","v":"INST86"},"Consejo Superior del Sistema Nacional de Innovación Agropecuaria",1,{"$f":"VLOOKUP(F1256,[1]Hoja4!C:D,2,FALSE)","v":"ACT244"},"Representante de Grupos Étnicos","Delegado Sectorial de la Sociedad Civil","Grupos Étnicos (Afros, Indígenas, Raizales, Palenqueros y ROM)"]
[null,{"$f":"VLOOKUP(C1257,[1]instancias_objetos!A:B,2,FALSE)","v":"INST86"},"Consejo Superior del Sistema Nacional de Innovación Agropecuaria",1,{"$f":"VLOOKUP(F1257,[1]Hoja4!C:D,2,FALSE)","v":"ACT256"},"Representante de la Mujer Rural","Delegado Sectorial de la Sociedad Civil","Poblacional y Género (Niñez, Jóvenes, Mujeres, Adulto Mayor, LGBTI)"]
[null,{"$f":"VLOOKUP(C1258,[1]instancias_objetos!A:B,2,FALSE)","v":"INST86"},"Consejo Superior del Sistema Nacional de Innovación Agropecuaria",1,{"$f":"VLOOKUP(F1258,[1]Hoja4!C:D,2,FALSE)","v":"ACT278"},"Representante de las Asociaciones de Profesionales Vinculados al Sector Agropecuario","Delegado Sectorial de la Sociedad Civil","Agricultura y Ruralidad"]
[null,{"$f":"VLOOKUP(C1259,[1]instancias_objetos!A:B,2,FALSE)","v":"INST86"},"Consejo Superior del Sistema Nacional de Innovación Agropecuaria",1,{"$f":"VLOOKUP(F1259,[1]Hoja4!C:D,2,FALSE)","v":"ACT329"},"Representante de las Organizaciones Comunitarias","Delegado Sectorial de la Sociedad Civil","Control Social, Transparencia, Comunitario y Veedurías"]
[null,{"$f":"VLOOKUP(C1260,[1]instancias_objetos!A:B,2,FALSE)","v":"INST86"},"Consejo Superior del Sistema Nacional de Innovación Agropecuaria",1,{"$f":"VLOOKUP(F1260,[1]Hoja4!C:D,2,FALSE)","v":"ACT356"},"Representante de las Universidades","Delegado Sectorial de la Sociedad Civil","Educación"]
[null,{"$f":"VLOOKUP(C1261,[1]instancias_objetos!A:B,2,FALSE)","v":"INST86"},"Consejo Superior del Sistema Nacional de Innovación Agropecuaria",1,{"$f":"VLOOKUP(F1261,[1]Hoja4!C:D,2,FALSE)","v":"ACT436"},"Representante del Pueblo Indígena","Delegado Sectorial de la Sociedad Civil","Grupos Étnicos (Afros, Indígenas, Raizales, Palenqueros y ROM)"]
[null,{"$f":"VLOOKUP(C1262,[1]instancias_objetos!A:B,2,FALSE)","v":"INST86"},"Consejo Superior del Sistema Nacional de Innovación Agropecuaria",2,{"$f":"VLOOKUP(F1262,[1]Hoja4!C:D,2,FALSE)","v":"ACT477"},"Representante por cada uno de los Consejos Municipales de Desarrollo Rural","Delegado Sectorial de la Sociedad Civil","Agricultura y Ruralidad"]
[null,{"$f":"VLOOKUP(C1263,[1]instancias_objetos!A:B,2,FALSE)","v":"INST86"},"Consejo Superior del Sistema Nacional de Innovación Agropecuaria",1,{"$f":"VLOOKUP(F1263,[1]Hoja4!C:D,2,FALSE)","v":"ACT488"},"Sociedad de Agricultores de Colombia","Organización de la Sociedad Civil","Agricultura y Ruralidad"]
[null,{"$f":"VLOOKUP(C1264,[1]instancias_objetos!A:B,2,FALSE)","v":"INST87"},"Mesa Técnica de Seguridad y Protección",1,{"$f":"VLOOKUP(F1264,[1]Hoja4!C:D,2,FALSE)","v":"ACT85"},"Consejería Presidencial para la Seguridad","Sector Público - Nacional","N/A"]
[null,{"$f":"VLOOKUP(C1265,[1]instancias_objetos!A:B,2,FALSE)","v":"INST87"},"Mesa Técnica de Seguridad y Protección",5,{"$f":"VLOOKUP(F1265,[1]Hoja4!C:D,2,FALSE)","v":"ACT148"},"Fuerza Alternativa Revolucionaria del Común","Organización de la Sociedad Civil","Partidos Políticos"]
[null,{"$f":"VLOOKUP(C1266,[1]instancias_objetos!A:B,2,FALSE)","v":"INST87"},"Mesa Técnica de Seguridad y Protección",1,{"$f":"VLOOKUP(F1266,[1]Hoja4!C:D,2,FALSE)","v":"ACT189"},"Ministerio del Interior","Sector Público - Nacional","N/A"]
[null,{"$f":"VLOOKUP(C1267,[1]instancias_objetos!A:B,2,FALSE)","v":"INST87"},"Mesa Técnica de Seguridad y Protección",1,{"$f":"VLOOKUP(F1267,[1]Hoja4!C:D,2,FALSE)","v":"ACT191"},"Oficina del Alto Comisionado de las Naciones Unidas para los Derechos Humanos","Organismo Multilateral","N/A"]
[null,{"$f":"VLOOKUP(C1268,[1]instancias_objetos!A:B,2,FALSE)","v":"INST87"},"Mesa Técnica de Seguridad y Protección",1,{"$f":"VLOOKUP(F1268,[1]Hoja4!C:D,2,FALSE)","v":"ACT210"},"Presidencia de la República","Sector Público - Nacional","N/A"]
[null,{"$f":"VLOOKUP(C1269,[1]instancias_objetos!A:B,2,FALSE)","v":"INST87"},"Mesa Técnica de Seguridad y Protección",2,{"$f":"VLOOKUP(F1269,[1]Hoja4!C:D,2,FALSE)","v":"ACT499"},"Unidad Nacional de Protección","Sector Público - Nacional","N/A"]
[null,{"$f":"VLOOKUP(C1270,[1]instancias_objetos!A:B,2,FALSE)","v":"INST88"},"Comisión Nacional de Concertación y Decisión del Sistema Nacional de las Juventudes",3,{"$f":"VLOOKUP(F1270,[1]Hoja4!C:D,2,FALSE)","v":"ACT51"},"Autoridades Nacionales","Sector Público - Nacional","N/A"]
[null,{"$f":"VLOOKUP(C1271,[1]instancias_objetos!A:B,2,FALSE)","v":"INST88"},"Comisión Nacional de Concertación y Decisión del Sistema Nacional de las Juventudes",3,{"$f":"VLOOKUP(F1271,[1]Hoja4!C:D,2,FALSE)","v":"ACT371"},"Representante de los Consejos de Juventud territoriales","Delegado Sectorial de la Sociedad Civil","Poblacional y Género (Niñez, Jóvenes, Mujeres, Adulto Mayor, LGBTI)"]
[null,{"$f":"VLOOKUP(C1272,[1]instancias_objetos!A:B,2,FALSE)","v":"INST88"},"Comisión Nacional de Concertación y Decisión del Sistema Nacional de las Juventudes",2,{"$f":"VLOOKUP(F1272,[1]Hoja4!C:D,2,FALSE)","v":"ACT392"},"Representante de los Jóvenes","Delegado Sectorial de la Sociedad Civil","Poblacional y Género (Niñez, Jóvenes, Mujeres, Adulto Mayor, LGBTI)"]
[null,{"$f":"VLOOKUP(C1273,[1]instancias_objetos!A:B,2,FALSE)","v":"INST89"},"Comité Nacional de Humedales",1,{"$f":"VLOOKUP(F1273,[1]Hoja4!C:D,2,FALSE)","v":"ACT01"},"Academia Colombiana de Ciencias Exactas, Fisicas y Naturales","Organización de la Sociedad Civil","Educación"]
[null,{"$f":"VLOOKUP(C1274,[1]instancias_objetos!A:B,2,FALSE)","v":"INST89"},"Comité Nacional de Humedales",1,{"$f":"VLOOKUP(F1274,[1]Hoja4!C:D,2,FALSE)","v":"ACT114"},"Corporaciones Autónomas Regionales y de Desarrollo Sostenible","Sector Público - Territorial","N/A"]
[null,{"$f":"VLOOKUP(C1275,[1]instancias_objetos!A:B,2,FALSE)","v":"INST89"},"Comité Nacional de Humedales",1,{"$f":"VLOOKUP(F1275,[1]Hoja4!C:D,2,FALSE)","v":"ACT174"},"Ministerio de Ambiente y Desarrollo Sostenible","Sector Público - Nacional","N/A"]
[null,{"$f":"VLOOKUP(C1276,[1]instancias_objetos!A:B,2,FALSE)","v":"INST89"},"Comité Nacional de Humedales",1,{"$f":"VLOOKUP(F1276,[1]Hoja4!C:D,2,FALSE)","v":"ACT174"},"Ministerio de Ambiente y Desarrollo Sostenible","Sector Público - Nacional","N/A"]
[null,{"$f":"VLOOKUP(C1277,[1]instancias_objetos!A:B,2,FALSE)","v":"INST89"},"Comité Nacional de Humedales",1,{"$f":"VLOOKUP(F1277,[1]Hoja4!C:D,2,FALSE)","v":"ACT175"},"Ministerio de Ciencia, Tecnología e Innovación","Sector Público - Nacional","N/A"]
[null,{"$f":"VLOOKUP(C1278,[1]instancias_objetos!A:B,2,FALSE)","v":"INST89"},"Comité Nacional de Humedales",1,{"$f":"VLOOKUP(F1278,[1]Hoja4!C:D,2,FALSE)","v":"ACT206"},"Parques Nacionales Naturales de Colombia","Sector Público - Nacional","N/A"]
[null,{"$f":"VLOOKUP(C1279,[1]instancias_objetos!A:B,2,FALSE)","v":"INST89"},"Comité Nacional de Humedales",1,{"$f":"VLOOKUP(F1279,[1]Hoja4!C:D,2,FALSE)","v":"ACT222"},"Red Nacional de Humedales","Sector Público - Nacional","N/A"]
[null,{"$f":"VLOOKUP(C1280,[1]instancias_objetos!A:B,2,FALSE)","v":"INST89"},"Comité Nacional de Humedales",1,{"$f":"VLOOKUP(F1280,[1]Hoja4!C:D,2,FALSE)","v":"ACT356"},"Representante de las Universidades","Delegado Sectorial de la Sociedad Civil","Educación"]
[null,{"$f":"VLOOKUP(C1281,[1]instancias_objetos!A:B,2,FALSE)","v":"INST89"},"Comité Nacional de Humedales",1,{"$f":"VLOOKUP(F1281,[1]Hoja4!C:D,2,FALSE)","v":"ACT476"},"Representante por cada uno de los Comités Regionales de los Sitios Ramsar","Delegado Sectorial de la Sociedad Civil","Ambiente"]
[null,{"$f":"VLOOKUP(C1282,[1]instancias_objetos!A:B,2,FALSE)","v":"INST90"},"Consejo Nacional de Juventud",1,{"$f":"VLOOKUP(F1282,[1]Hoja4!C:D,2,FALSE)","v":"ACT235"},"Representante de cada uno de los Consejos Departamentales de Juventud","Delegado Sectorial de la Sociedad Civil","Poblacional y Género (Niñez, Jóvenes, Mujeres, Adulto Mayor, LGBTI)"]
[null,{"$f":"VLOOKUP(C1283,[1]instancias_objetos!A:B,2,FALSE)","v":"INST90"},"Consejo Nacional de Juventud",1,{"$f":"VLOOKUP(F1283,[1]Hoja4!C:D,2,FALSE)","v":"ACT236"},"Representante de cada uno de los Consejos Distritales de Juventud","Delegado Sectorial de la Sociedad Civil","Poblacional y Género (Niñez, Jóvenes, Mujeres, Adulto Mayor, LGBTI)"]
[null,{"$f":"VLOOKUP(C1284,[1]instancias_objetos!A:B,2,FALSE)","v":"INST90"},"Consejo Nacional de Juventud",1,{"$f":"VLOOKUP(F1284,[1]Hoja4!C:D,2,FALSE)","v":"ACT289"},"Representante de las Comunidades de Afrocolombianos","Delegado Sectorial de la Sociedad Civil","Grupos Étnicos (Afros, Indígenas, Raizales, Palenqueros y ROM)"]
[null,{"$f":"VLOOKUP(C1285,[1]instancias_objetos!A:B,2,FALSE)","v":"INST90"},"Consejo Nacional de Juventud",1,{"$f":"VLOOKUP(F1285,[1]Hoja4!C:D,2,FALSE)","v":"ACT393"},"Representante de los Jóvenes Campesinos","Delegado Sectorial de la Sociedad Civil","Poblacional y Género (Niñez, Jóvenes, Mujeres, Adulto Mayor, LGBTI)"]
[null,{"$f":"VLOOKUP(C1286,[1]instancias_objetos!A:B,2,FALSE)","v":"INST90"},"Consejo Nacional de Juventud",1,{"$f":"VLOOKUP(F1286,[1]Hoja4!C:D,2,FALSE)","v":"ACT436"},"Representante del Pueblo Indígena","Delegado Sectorial de la Sociedad Civil","Grupos Étnicos (Afros, Indígenas, Raizales, Palenqueros y ROM)"]
[null,{"$f":"VLOOKUP(C1287,[1]instancias_objetos!A:B,2,FALSE)","v":"INST90"},"Consejo Nacional de Juventud",1,{"$f":"VLOOKUP(F1287,[1]Hoja4!C:D,2,FALSE)","v":"ACT437"},"Representante del Pueblo Raizal","Delegado Sectorial de la Sociedad Civil","Grupos Étnicos (Afros, Indígenas, Raizales, Palenqueros y ROM)"]
[null,{"$f":"VLOOKUP(C1288,[1]instancias_objetos!A:B,2,FALSE)","v":"INST90"},"Consejo Nacional de Juventud",1,{"$f":"VLOOKUP(F1288,[1]Hoja4!C:D,2,FALSE)","v":"ACT438"},"Representante del Pueblo ROM","Delegado Sectorial de la Sociedad Civil","Grupos Étnicos (Afros, Indígenas, Raizales, Palenqueros y ROM)"]
[null,{"$f":"VLOOKUP(C1289,[1]instancias_objetos!A:B,2,FALSE)","v":"INST91"},"Consejo Nacional de Políticas Públicas de la Juventud",1,{"$f":"VLOOKUP(F1289,[1]Hoja4!C:D,2,FALSE)","v":"ACT82"},"Consejería Presidencial para la Estabilización y la Consolidación","Sector Público - Nacional","N/A"]
[null,{"$f":"VLOOKUP(C1290,[1]instancias_objetos!A:B,2,FALSE)","v":"INST91"},"Consejo Nacional de Políticas Públicas de la Juventud",1,{"$f":"VLOOKUP(F1290,[1]Hoja4!C:D,2,FALSE)","v":"ACT84"},"Consejería Presidencial para la Juventud","Sector Público - Nacional","N/A"]
[null,{"$f":"VLOOKUP(C1291,[1]instancias_objetos!A:B,2,FALSE)","v":"INST91"},"Consejo Nacional de Políticas Públicas de la Juventud",1,{"$f":"VLOOKUP(F1291,[1]Hoja4!C:D,2,FALSE)","v":"ACT125"},"Departamento Administrativo para la Prosperidad Social","Sector Público - Nacional","N/A"]
[null,{"$f":"VLOOKUP(C1292,[1]instancias_objetos!A:B,2,FALSE)","v":"INST91"},"Consejo Nacional de Políticas Públicas de la Juventud",1,{"$f":"VLOOKUP(F1292,[1]Hoja4!C:D,2,FALSE)","v":"ACT126"},"Departamento Nacional de Planeación","Sector Público - Nacional","N/A"]
[null,{"$f":"VLOOKUP(C1293,[1]instancias_objetos!A:B,2,FALSE)","v":"INST91"},"Consejo Nacional de Políticas Públicas de la Juventud",1,{"$f":"VLOOKUP(F1293,[1]Hoja4!C:D,2,FALSE)","v":"ACT141"},"Federación Nacional de Departamentos","Sector Público - Territorial","N/A"]
[null,{"$f":"VLOOKUP(C1294,[1]instancias_objetos!A:B,2,FALSE)","v":"INST91"},"Consejo Nacional de Políticas Públicas de la Juventud",1,{"$f":"VLOOKUP(F1294,[1]Hoja4!C:D,2,FALSE)","v":"ACT157"},"Instituto Colombiano de Bienestar Familiar","Sector Público - Nacional","N/A"]
[null,{"$f":"VLOOKUP(C1295,[1]instancias_objetos!A:B,2,FALSE)","v":"INST91"},"Consejo Nacional de Políticas Públicas de la Juventud",1,{"$f":"VLOOKUP(F1295,[1]Hoja4!C:D,2,FALSE)","v":"ACT173"},"Ministerio de Agricultura y Desarrollo Rural","Sector Público - Nacional","N/A"]
[null,{"$f":"VLOOKUP(C1296,[1]instancias_objetos!A:B,2,FALSE)","v":"INST91"},"Consejo Nacional de Políticas Públicas de la Juventud",1,{"$f":"VLOOKUP(F1296,[1]Hoja4!C:D,2,FALSE)","v":"ACT174"},"Ministerio de Ambiente y Desarrollo Sostenible","Sector Público - Nacional","N/A"]
[null,{"$f":"VLOOKUP(C1297,[1]instancias_objetos!A:B,2,FALSE)","v":"INST91"},"Consejo Nacional de Políticas Públicas de la Juventud",1,{"$f":"VLOOKUP(F1297,[1]Hoja4!C:D,2,FALSE)","v":"ACT175"},"Ministerio de Ciencia, Tecnología e Innovación","Sector Público - Nacional","N/A"]
[null,{"$f":"VLOOKUP(C1298,[1]instancias_objetos!A:B,2,FALSE)","v":"INST91"},"Consejo Nacional de Políticas Públicas de la Juventud",1,{"$f":"VLOOKUP(F1298,[1]Hoja4!C:D,2,FALSE)","v":"ACT176"},"Ministerio de Comercio, Industria y Turismo","Sector Público - Nacional","N/A"]
[null,{"$f":"VLOOKUP(C1299,[1]instancias_objetos!A:B,2,FALSE)","v":"INST91"},"Consejo Nacional de Políticas Públicas de la Juventud",1,{"$f":"VLOOKUP(F1299,[1]Hoja4!C:D,2,FALSE)","v":"ACT177"},"Ministerio de Cultura de Colombia","Sector Público - Nacional","N/A"]
[null,{"$f":"VLOOKUP(C1300,[1]instancias_objetos!A:B,2,FALSE)","v":"INST91"},"Consejo Nacional de Políticas Públicas de la Juventud",1,{"$f":"VLOOKUP(F1300,[1]Hoja4!C:D,2,FALSE)","v":"ACT179"},"Ministerio de Educación Nacional","Sector Público - Nacional","N/A"]
[null,{"$f":"VLOOKUP(C1301,[1]instancias_objetos!A:B,2,FALSE)","v":"INST91"},"Consejo Nacional de Políticas Públicas de la Juventud",1,{"$f":"VLOOKUP(F1301,[1]Hoja4!C:D,2,FALSE)","v":"ACT181"},"Ministerio de Justicia y del Derecho","Sector Público - Nacional","N/A"]
[null,{"$f":"VLOOKUP(C1302,[1]instancias_objetos!A:B,2,FALSE)","v":"INST91"},"Consejo Nacional de Políticas Públicas de la Juventud",1,{"$f":"VLOOKUP(F1302,[1]Hoja4!C:D,2,FALSE)","v":"ACT183"},"Ministerio de Relaciones Exteriores","Sector Público - Nacional","N/A"]
[null,{"$f":"VLOOKUP(C1303,[1]instancias_objetos!A:B,2,FALSE)","v":"INST91"},"Consejo Nacional de Políticas Públicas de la Juventud",1,{"$f":"VLOOKUP(F1303,[1]Hoja4!C:D,2,FALSE)","v":"ACT184"},"Ministerio de Salud y Protección Social","Sector Público - Nacional","N/A"]
[null,{"$f":"VLOOKUP(C1304,[1]instancias_objetos!A:B,2,FALSE)","v":"INST91"},"Consejo Nacional de Políticas Públicas de la Juventud",1,{"$f":"VLOOKUP(F1304,[1]Hoja4!C:D,2,FALSE)","v":"ACT185"},"Ministerio de Tecnologías de la Información y las Comunicaciones","Sector Público - Nacional","N/A"]
[null,{"$f":"VLOOKUP(C1305,[1]instancias_objetos!A:B,2,FALSE)","v":"INST91"},"Consejo Nacional de Políticas Públicas de la Juventud",1,{"$f":"VLOOKUP(F1305,[1]Hoja4!C:D,2,FALSE)","v":"ACT188"},"Ministerio del Deporte","Sector Público - Nacional","N/A"]
[null,{"$f":"VLOOKUP(C1306,[1]instancias_objetos!A:B,2,FALSE)","v":"INST91"},"Consejo Nacional de Políticas Públicas de la Juventud",1,{"$f":"VLOOKUP(F1306,[1]Hoja4!C:D,2,FALSE)","v":"ACT189"},"Ministerio del Interior","Sector Público - Nacional","N/A"]
[null,{"$f":"VLOOKUP(C1307,[1]instancias_objetos!A:B,2,FALSE)","v":"INST91"},"Consejo Nacional de Políticas Públicas de la Juventud",1,{"$f":"VLOOKUP(F1307,[1]Hoja4!C:D,2,FALSE)","v":"ACT190"},"Ministerio del Trabajo","Sector Público - Nacional","N/A"]
[null,{"$f":"VLOOKUP(C1308,[1]instancias_objetos!A:B,2,FALSE)","v":"INST91"},"Consejo Nacional de Políticas Públicas de la Juventud",1,{"$f":"VLOOKUP(F1308,[1]Hoja4!C:D,2,FALSE)","v":"ACT210"},"Presidencia de la República","Sector Público - Nacional","N/A"]
[null,{"$f":"VLOOKUP(C1309,[1]instancias_objetos!A:B,2,FALSE)","v":"INST91"},"Consejo Nacional de Políticas Públicas de la Juventud",3,{"$f":"VLOOKUP(F1309,[1]Hoja4!C:D,2,FALSE)","v":"ACT427"},"Representante del Consejo Nacional de Juventud","Delegado Sectorial de la Sociedad Civil","Poblacional y Género (Niñez, Jóvenes, Mujeres, Adulto Mayor, LGBTI)"]
[null,{"$f":"VLOOKUP(C1310,[1]instancias_objetos!A:B,2,FALSE)","v":"INST91"},"Consejo Nacional de Políticas Públicas de la Juventud",1,{"$f":"VLOOKUP(F1310,[1]Hoja4!C:D,2,FALSE)","v":"ACT486"},"Servicio Nacional de Aprendizaje","Sector Público - Nacional","N/A"]
[null,{"$f":"VLOOKUP(C1311,[1]instancias_objetos!A:B,2,FALSE)","v":"INST92"},"Consejo Permanente de Dirección",1,{"$f":"VLOOKUP(F1311,[1]Hoja4!C:D,2,FALSE)","v":"ACT82"},"Consejería Presidencial para la Estabilización y la Consolidación","Sector Público - Nacional","N/A"]
[null,{"$f":"VLOOKUP(C1312,[1]instancias_objetos!A:B,2,FALSE)","v":"INST92"},"Consejo Permanente de Dirección",3,{"$f":"VLOOKUP(F1312,[1]Hoja4!C:D,2,FALSE)","v":"ACT93"},"Consejo Nacional de Reincorporación","Sector Público - Nacional","N/A"]
[null,{"$f":"VLOOKUP(C1313,[1]instancias_objetos!A:B,2,FALSE)","v":"INST92"},"Consejo Permanente de Dirección",3,{"$f":"VLOOKUP(F1313,[1]Hoja4!C:D,2,FALSE)","v":"ACT423"},"Representante de Organizaciones sociales afectadas por los cultivos de uso ilícito","Delegado Sectorial de la Sociedad Civil","Control Social, Transparencia, Comunitario y Veedurías"]
[null,{"$f":"VLOOKUP(C1314,[1]instancias_objetos!A:B,2,FALSE)","v":"INST92"},"Consejo Permanente de Dirección",3,{"$f":"VLOOKUP(F1314,[1]Hoja4!C:D,2,FALSE)","v":"ACT433"},"Representante del Programa Nacional Integral de Sustitución de Cultivos Ilícitos","Sector Público - Nacional","N/A"]
[null,{"$f":"VLOOKUP(C1315,[1]instancias_objetos!A:B,2,FALSE)","v":"INST93"},"Mesa Intersectorial para la Democracia Ambiental",1,{"$f":"VLOOKUP(F1315,[1]Hoja4!C:D,2,FALSE)","v":"ACT114"},"Corporaciones Autónomas Regionales y de Desarrollo Sostenible","Sector Público - Territorial","N/A"]
[null,{"$f":"VLOOKUP(C1316,[1]instancias_objetos!A:B,2,FALSE)","v":"INST93"},"Mesa Intersectorial para la Democracia Ambiental",1,{"$f":"VLOOKUP(F1316,[1]Hoja4!C:D,2,FALSE)","v":"ACT174"},"Ministerio de Ambiente y Desarrollo Sostenible","Sector Público - Nacional","N/A"]
[null,{"$f":"VLOOKUP(C1317,[1]instancias_objetos!A:B,2,FALSE)","v":"INST93"},"Mesa Intersectorial para la Democracia Ambiental",2,{"$f":"VLOOKUP(F1317,[1]Hoja4!C:D,2,FALSE)","v":"ACT258"},"Representante de la Sociedad Civil","Delegado Sectorial de la Sociedad Civil","Ambiente"]
[null,{"$f":"VLOOKUP(C1318,[1]instancias_objetos!A:B,2,FALSE)","v":"INST93"},"Mesa Intersectorial para la Democracia Ambiental",1,{"$f":"VLOOKUP(F1318,[1]Hoja4!C:D,2,FALSE)","v":"ACT289"},"Representante de las Comunidades de Afrocolombianos","Delegado Sectorial de la Sociedad Civil","Grupos Étnicos (Afros, Indígenas, Raizales, Palenqueros y ROM)"]
[null,{"$f":"VLOOKUP(C1319,[1]instancias_objetos!A:B,2,FALSE)","v":"INST93"},"Mesa Intersectorial para la Democracia Ambiental",2,{"$f":"VLOOKUP(F1319,[1]Hoja4!C:D,2,FALSE)","v":"ACT356"},"Representante de las Universidades","Delegado Sectorial de la Sociedad Civil","Educación"]
[null,{"$f":"VLOOKUP(C1320,[1]instancias_objetos!A:B,2,FALSE)","v":"INST93"},"Mesa Intersectorial para la Democracia Ambiental",1,{"$f":"VLOOKUP(F1320,[1]Hoja4!C:D,2,FALSE)","v":"ACT368"},"Representante de los alcaldes","Sector Público - Territorial","N/A"]
[null,{"$f":"VLOOKUP(C1321,[1]instancias_objetos!A:B,2,FALSE)","v":"INST93"},"Mesa Intersectorial para la Democracia Ambiental",1,{"$f":"VLOOKUP(F1321,[1]Hoja4!C:D,2,FALSE)","v":"ACT388"},"Representante de los gobernadores","Sector Público - Territorial","N/A"]
[null,{"$f":"VLOOKUP(C1322,[1]instancias_objetos!A:B,2,FALSE)","v":"INST93"},"Mesa Intersectorial para la Democracia Ambiental",1,{"$f":"VLOOKUP(F1322,[1]Hoja4!C:D,2,FALSE)","v":"ACT391"},"Representante de los Institutos de Investigación en Medio Ambiente","Delegado Sectorial de la Sociedad Civil","Educación"]
[null,{"$f":"VLOOKUP(C1323,[1]instancias_objetos!A:B,2,FALSE)","v":"INST93"},"Mesa Intersectorial para la Democracia Ambiental",1,{"$f":"VLOOKUP(F1323,[1]Hoja4!C:D,2,FALSE)","v":"ACT436"},"Representante del Pueblo Indígena","Delegado Sectorial de la Sociedad Civil","Grupos Étnicos (Afros, Indígenas, Raizales, Palenqueros y ROM)"]
[null,{"$f":"VLOOKUP(C1324,[1]instancias_objetos!A:B,2,FALSE)","v":"INST93"},"Mesa Intersectorial para la Democracia Ambiental",1,{"$f":"VLOOKUP(F1324,[1]Hoja4!C:D,2,FALSE)","v":"ACT437"},"Representante del Pueblo Raizal","Delegado Sectorial de la Sociedad Civil","Grupos Étnicos (Afros, Indígenas, Raizales, Palenqueros y ROM)"]
[null,{"$f":"VLOOKUP(C1325,[1]instancias_objetos!A:B,2,FALSE)","v":"INST93"},"Mesa Intersectorial para la Democracia Ambiental",1,{"$f":"VLOOKUP(F1325,[1]Hoja4!C:D,2,FALSE)","v":"ACT438"},"Representante del Pueblo ROM","Delegado Sectorial de la Sociedad Civil","Grupos Étnicos (Afros, Indígenas, Raizales, Palenqueros y ROM)"]
[null,{"$f":"VLOOKUP(C1326,[1]instancias_objetos!A:B,2,FALSE)","v":"INST93"},"Mesa Intersectorial para la Democracia Ambiental",1,{"$f":"VLOOKUP(F1326,[1]Hoja4!C:D,2,FALSE)","v":"ACT440"},"Representante del Sector Agricultura","Delegado Sectorial de la Sociedad Civil","Agricultura y Ruralidad"]
[null,{"$f":"VLOOKUP(C1327,[1]instancias_objetos!A:B,2,FALSE)","v":"INST93"},"Mesa Intersectorial para la Democracia Ambiental",1,{"$f":"VLOOKUP(F1327,[1]Hoja4!C:D,2,FALSE)","v":"ACT461"},"Representante del Sector Infraestructura","Delegado Sectorial de la Sociedad Civil","Infraestructura"]
[null,{"$f":"VLOOKUP(C1328,[1]instancias_objetos!A:B,2,FALSE)","v":"INST93"},"Mesa Intersectorial para la Democracia Ambiental",1,{"$f":"VLOOKUP(F1328,[1]Hoja4!C:D,2,FALSE)","v":"ACT464"},"Representante del Sector Minero-Energético y Productivo","Delegado Sectorial de la Sociedad Civil","Agricultura y Ruralidad"]
[null,{"$f":"VLOOKUP(C1329,[1]instancias_objetos!A:B,2,FALSE)","v":"INST93"},"Mesa Intersectorial para la Democracia Ambiental",1,{"$f":"VLOOKUP(F1329,[1]Hoja4!C:D,2,FALSE)","v":"ACT464"},"Representante del Sector Minero-Energético y Productivo","Delegado Sectorial de la Sociedad Civil","Agricultura y Ruralidad"]
[null,{"$f":"VLOOKUP(C1330,[1]instancias_objetos!A:B,2,FALSE)","v":"INST93"},"Mesa Intersectorial para la Democracia Ambiental",1,{"$f":"VLOOKUP(F1330,[1]Hoja4!C:D,2,FALSE)","v":"ACT464"},"Representante del Sector Minero-Energético y Productivo","Delegado Sectorial de la Sociedad Civil","Agricultura y Ruralidad"]
[null,{"$f":"VLOOKUP(C1331,[1]instancias_objetos!A:B,2,FALSE)","v":"INST94"},"Comité Nacional de Cogestión para las Capturas Incidentales en Colombia",1,{"$f":"VLOOKUP(F1331,[1]Hoja4!C:D,2,FALSE)","v":"ACT47"},"Autoridad Nacional de Acuicultura y Pesca","Sector Público - Nacional","N/A"]
[null,{"$f":"VLOOKUP(C1332,[1]instancias_objetos!A:B,2,FALSE)","v":"INST94"},"Comité Nacional de Cogestión para las Capturas Incidentales en Colombia",1,{"$f":"VLOOKUP(F1332,[1]Hoja4!C:D,2,FALSE)","v":"ACT162"},"Instituto de Investigaciones Marinas y Costeras José Benito Vives de Andréis","Organización de la Sociedad Civil","Ciencia y Tecnología"]
[null,{"$f":"VLOOKUP(C1333,[1]instancias_objetos!A:B,2,FALSE)","v":"INST94"},"Comité Nacional de Cogestión para las Capturas Incidentales en Colombia",1,{"$f":"VLOOKUP(F1333,[1]Hoja4!C:D,2,FALSE)","v":"ACT173"},"Ministerio de Agricultura y Desarrollo Rural","Sector Público - Nacional","N/A"]
[null,{"$f":"VLOOKUP(C1334,[1]instancias_objetos!A:B,2,FALSE)","v":"INST94"},"Comité Nacional de Cogestión para las Capturas Incidentales en Colombia",1,{"$f":"VLOOKUP(F1334,[1]Hoja4!C:D,2,FALSE)","v":"ACT174"},"Ministerio de Ambiente y Desarrollo Sostenible","Sector Público - Nacional","N/A"]
[null,{"$f":"VLOOKUP(C1335,[1]instancias_objetos!A:B,2,FALSE)","v":"INST94"},"Comité Nacional de Cogestión para las Capturas Incidentales en Colombia",2,{"$f":"VLOOKUP(F1335,[1]Hoja4!C:D,2,FALSE)","v":"ACT337"},"Representante de las Organizaciones de la Sociedad Civil","Delegado Sectorial de la Sociedad Civil","Control Social, Transparencia, Comunitario y Veedurías"]
[null,{"$f":"VLOOKUP(C1336,[1]instancias_objetos!A:B,2,FALSE)","v":"INST94"},"Comité Nacional de Cogestión para las Capturas Incidentales en Colombia",2,{"$f":"VLOOKUP(F1336,[1]Hoja4!C:D,2,FALSE)","v":"ACT439"},"Representante del Sector Académico y Cientifico","Delegado Sectorial de la Sociedad Civil","Ciencia y Tecnología"]
[null,{"$f":"VLOOKUP(C1337,[1]instancias_objetos!A:B,2,FALSE)","v":"INST94"},"Comité Nacional de Cogestión para las Capturas Incidentales en Colombia",2,{"$f":"VLOOKUP(F1337,[1]Hoja4!C:D,2,FALSE)","v":"ACT466"},"Representante del Sector Pesquero","Delegado Sectorial de la Sociedad Civil","Agricultura y Ruralidad"]
[null,{"$f":"VLOOKUP(C1338,[1]instancias_objetos!A:B,2,FALSE)","v":"INST95"},"Comité Técnico de los componentes de medidas integrales de prevención, seguridad y protección, y del protocolo de protección para territorios rurales",1,{"$f":"VLOOKUP(F1338,[1]Hoja4!C:D,2,FALSE)","v":"ACT82"},"Consejería Presidencial para la Estabilización y la Consolidación","Sector Público - Nacional","N/A"]
[null,{"$f":"VLOOKUP(C1339,[1]instancias_objetos!A:B,2,FALSE)","v":"INST95"},"Comité Técnico de los componentes de medidas integrales de prevención, seguridad y protección, y del protocolo de protección para territorios rurales",1,{"$f":"VLOOKUP(F1339,[1]Hoja4!C:D,2,FALSE)","v":"ACT85"},"Consejería Presidencial para la Seguridad","Sector Público - Nacional","N/A"]
[null,{"$f":"VLOOKUP(C1340,[1]instancias_objetos!A:B,2,FALSE)","v":"INST95"},"Comité Técnico de los componentes de medidas integrales de prevención, seguridad y protección, y del protocolo de protección para territorios rurales",1,{"$f":"VLOOKUP(F1340,[1]Hoja4!C:D,2,FALSE)","v":"ACT86"},"Consejería Presidencial para los Derechos Humanos","Sector Público - Nacional","N/A"]
[null,{"$f":"VLOOKUP(C1341,[1]instancias_objetos!A:B,2,FALSE)","v":"INST95"},"Comité Técnico de los componentes de medidas integrales de prevención, seguridad y protección, y del protocolo de protección para territorios rurales",1,{"$f":"VLOOKUP(F1341,[1]Hoja4!C:D,2,FALSE)","v":"ACT149"},"Fuerzas Militares","Sector Público - Nacional","N/A"]
[null,{"$f":"VLOOKUP(C1342,[1]instancias_objetos!A:B,2,FALSE)","v":"INST95"},"Comité Técnico de los componentes de medidas integrales de prevención, seguridad y protección, y del protocolo de protección para territorios rurales",1,{"$f":"VLOOKUP(F1342,[1]Hoja4!C:D,2,FALSE)","v":"ACT178"},"Ministerio de Defensa Nacional","Sector Público - Nacional","N/A"]
[null,{"$f":"VLOOKUP(C1343,[1]instancias_objetos!A:B,2,FALSE)","v":"INST95"},"Comité Técnico de los componentes de medidas integrales de prevención, seguridad y protección, y del protocolo de protección para territorios rurales",1,{"$f":"VLOOKUP(F1343,[1]Hoja4!C:D,2,FALSE)","v":"ACT189"},"Ministerio del Interior","Sector Público - Nacional","N/A"]
[null,{"$f":"VLOOKUP(C1344,[1]instancias_objetos!A:B,2,FALSE)","v":"INST95"},"Comité Técnico de los componentes de medidas integrales de prevención, seguridad y protección, y del protocolo de protección para territorios rurales",1,{"$f":"VLOOKUP(F1344,[1]Hoja4!C:D,2,FALSE)","v":"ACT209"},"Policía Nacional","Sector Público - Nacional","N/A"]
[null,{"$f":"VLOOKUP(C1345,[1]instancias_objetos!A:B,2,FALSE)","v":"INST95"},"Comité Técnico de los componentes de medidas integrales de prevención, seguridad y protección, y del protocolo de protección para territorios rurales",2,{"$f":"VLOOKUP(F1345,[1]Hoja4!C:D,2,FALSE)","v":"ACT258"},"Representante de la Sociedad Civil","Delegado Sectorial de la Sociedad Civil","Derechos Humanos"]
[null,{"$f":"VLOOKUP(C1346,[1]instancias_objetos!A:B,2,FALSE)","v":"INST95"},"Comité Técnico de los componentes de medidas integrales de prevención, seguridad y protección, y del protocolo de protección para territorios rurales",1,{"$f":"VLOOKUP(F1346,[1]Hoja4!C:D,2,FALSE)","v":"ACT428"},"Representante del Consejo Nacional de Paz y Reconciliación","Delegado Sectorial de la Sociedad Civil","Víctimas y Construcción de Paz"]
[null,{"$f":"VLOOKUP(C1347,[1]instancias_objetos!A:B,2,FALSE)","v":"INST95"},"Comité Técnico de los componentes de medidas integrales de prevención, seguridad y protección, y del protocolo de protección para territorios rurales",1,{"$f":"VLOOKUP(F1347,[1]Hoja4!C:D,2,FALSE)","v":"ACT495"},"Unidad Administrativa Especial de Atención y Reparación Integral a la Víctimas","Sector Público - Nacional","N/A"]
[null,{"$f":"VLOOKUP(C1348,[1]instancias_objetos!A:B,2,FALSE)","v":"INST95"},"Comité Técnico de los componentes de medidas integrales de prevención, seguridad y protección, y del protocolo de protección para territorios rurales",1,{"$f":"VLOOKUP(F1348,[1]Hoja4!C:D,2,FALSE)","v":"ACT499"},"Unidad Nacional de Protección","Sector Público - Nacional","N/A"]
[null,{"$f":"VLOOKUP(C1349,[1]instancias_objetos!A:B,2,FALSE)","v":"INST96"},"Comité Técnico de los componentes de Promotores/as Comunitarios de Paz y Convivencia, y de Apoyo a la Actividad de Denuncia",1,{"$f":"VLOOKUP(F1349,[1]Hoja4!C:D,2,FALSE)","v":"ACT16"},"Alta Instancia Especial para el Seguimiento del enfoque de Género y Garantía de los Derechos de las Mujeres","Sector Público - Nacional","N/A"]
[null,{"$f":"VLOOKUP(C1350,[1]instancias_objetos!A:B,2,FALSE)","v":"INST96"},"Comité Técnico de los componentes de Promotores/as Comunitarios de Paz y Convivencia, y de Apoyo a la Actividad de Denuncia",1,{"$f":"VLOOKUP(F1350,[1]Hoja4!C:D,2,FALSE)","v":"ACT174"},"Ministerio de Ambiente y Desarrollo Sostenible","Sector Público - Nacional","N/A"]
[null,{"$f":"VLOOKUP(C1351,[1]instancias_objetos!A:B,2,FALSE)","v":"INST96"},"Comité Técnico de los componentes de Promotores/as Comunitarios de Paz y Convivencia, y de Apoyo a la Actividad de Denuncia",1,{"$f":"VLOOKUP(F1351,[1]Hoja4!C:D,2,FALSE)","v":"ACT181"},"Ministerio de Justicia y del Derecho","Sector Público - Nacional","N/A"]
[null,{"$f":"VLOOKUP(C1352,[1]instancias_objetos!A:B,2,FALSE)","v":"INST96"},"Comité Técnico de los componentes de Promotores/as Comunitarios de Paz y Convivencia, y de Apoyo a la Actividad de Denuncia",1,{"$f":"VLOOKUP(F1352,[1]Hoja4!C:D,2,FALSE)","v":"ACT184"},"Ministerio de Salud y Protección Social","Sector Público - Nacional","N/A"]
[null,{"$f":"VLOOKUP(C1353,[1]instancias_objetos!A:B,2,FALSE)","v":"INST96"},"Comité Técnico de los componentes de Promotores/as Comunitarios de Paz y Convivencia, y de Apoyo a la Actividad de Denuncia",1,{"$f":"VLOOKUP(F1353,[1]Hoja4!C:D,2,FALSE)","v":"ACT189"},"Ministerio del Interior","Sector Público - Nacional","N/A"]
[null,{"$f":"VLOOKUP(C1354,[1]instancias_objetos!A:B,2,FALSE)","v":"INST96"},"Comité Técnico de los componentes de Promotores/as Comunitarios de Paz y Convivencia, y de Apoyo a la Actividad de Denuncia",1,{"$f":"VLOOKUP(F1354,[1]Hoja4!C:D,2,FALSE)","v":"ACT193"},"Oficina del Alto Comisionado para la Paz","Sector Público - Nacional","N/A"]
[null,{"$f":"VLOOKUP(C1355,[1]instancias_objetos!A:B,2,FALSE)","v":"INST96"},"Comité Técnico de los componentes de Promotores/as Comunitarios de Paz y Convivencia, y de Apoyo a la Actividad de Denuncia",1,{"$f":"VLOOKUP(F1355,[1]Hoja4!C:D,2,FALSE)","v":"ACT209"},"Policía Nacional","Sector Público - Nacional","N/A"]
[null,{"$f":"VLOOKUP(C1356,[1]instancias_objetos!A:B,2,FALSE)","v":"INST96"},"Comité Técnico de los componentes de Promotores/as Comunitarios de Paz y Convivencia, y de Apoyo a la Actividad de Denuncia",2,{"$f":"VLOOKUP(F1356,[1]Hoja4!C:D,2,FALSE)","v":"ACT258"},"Representante de la Sociedad Civil","Delegado Sectorial de la Sociedad Civil","Derechos Humanos"]
[null,{"$f":"VLOOKUP(C1357,[1]instancias_objetos!A:B,2,FALSE)","v":"INST96"},"Comité Técnico de los componentes de Promotores/as Comunitarios de Paz y Convivencia, y de Apoyo a la Actividad de Denuncia",1,{"$f":"VLOOKUP(F1357,[1]Hoja4!C:D,2,FALSE)","v":"ACT428"},"Representante del Consejo Nacional de Paz y Reconciliación","Delegado Sectorial de la Sociedad Civil","Víctimas y Construcción de Paz"]
[null,{"$f":"VLOOKUP(C1358,[1]instancias_objetos!A:B,2,FALSE)","v":"INST96"},"Comité Técnico de los componentes de Promotores/as Comunitarios de Paz y Convivencia, y de Apoyo a la Actividad de Denuncia",1,{"$f":"VLOOKUP(F1358,[1]Hoja4!C:D,2,FALSE)","v":"ACT431"},"Representante del Proceso de Mujeres de Garantías","Sector Público - Nacional","N/A"]
[null,{"$f":"VLOOKUP(C1359,[1]instancias_objetos!A:B,2,FALSE)","v":"INST97"},"Consejo Nacional de Bienestar Animal",1,{"$f":"VLOOKUP(F1359,[1]Hoja4!C:D,2,FALSE)","v":"ACT97"},"Consejo Profesional de Medicina Veterinaria y Zootecnia de Colombia","Sector Público - Nacional","N/A"]
[null,{"$f":"VLOOKUP(C1360,[1]instancias_objetos!A:B,2,FALSE)","v":"INST97"},"Consejo Nacional de Bienestar Animal",1,{"$f":"VLOOKUP(F1360,[1]Hoja4!C:D,2,FALSE)","v":"ACT110"},"Corporación Colombiana de Investigación Agropecuaria","Sector Público - Nacional","N/A"]
[null,{"$f":"VLOOKUP(C1361,[1]instancias_objetos!A:B,2,FALSE)","v":"INST97"},"Consejo Nacional de Bienestar Animal",1,{"$f":"VLOOKUP(F1361,[1]Hoja4!C:D,2,FALSE)","v":"ACT154"},"Instituto Colombiano Agropecuario","Sector Público - Nacional","N/A"]
[null,{"$f":"VLOOKUP(C1362,[1]instancias_objetos!A:B,2,FALSE)","v":"INST97"},"Consejo Nacional de Bienestar Animal",1,{"$f":"VLOOKUP(F1362,[1]Hoja4!C:D,2,FALSE)","v":"ACT168"},"Instituto Nacional de Vigilancia de Medicamentos y Alimentos","Sector Público - Nacional","N/A"]
[null,{"$f":"VLOOKUP(C1363,[1]instancias_objetos!A:B,2,FALSE)","v":"INST97"},"Consejo Nacional de Bienestar Animal",1,{"$f":"VLOOKUP(F1363,[1]Hoja4!C:D,2,FALSE)","v":"ACT173"},"Ministerio de Agricultura y Desarrollo Rural","Sector Público - Nacional","N/A"]
[null,{"$f":"VLOOKUP(C1364,[1]instancias_objetos!A:B,2,FALSE)","v":"INST97"},"Consejo Nacional de Bienestar Animal",1,{"$f":"VLOOKUP(F1364,[1]Hoja4!C:D,2,FALSE)","v":"ACT184"},"Ministerio de Salud y Protección Social","Sector Público - Nacional","N/A"]
[null,{"$f":"VLOOKUP(C1365,[1]instancias_objetos!A:B,2,FALSE)","v":"INST97"},"Consejo Nacional de Bienestar Animal",1,{"$f":"VLOOKUP(F1365,[1]Hoja4!C:D,2,FALSE)","v":"ACT330"},"Representante de las Organizaciones Comunitarias Agropecuarias","Delegado Sectorial de la Sociedad Civil","Agricultura y Ruralidad"]
[null,{"$f":"VLOOKUP(C1366,[1]instancias_objetos!A:B,2,FALSE)","v":"INST98"},"Comité Técnico Nacional de Bienestar Animal",1,{"$f":"VLOOKUP(F1366,[1]Hoja4!C:D,2,FALSE)","v":"ACT25"},"Asociación Colombiana de Facultades de Medicina Veterinaria y de Zootecnia","Organización de la Sociedad Civil","Agricultura y Ruralidad"]
[null,{"$f":"VLOOKUP(C1367,[1]instancias_objetos!A:B,2,FALSE)","v":"INST98"},"Comité Técnico Nacional de Bienestar Animal",1,{"$f":"VLOOKUP(F1367,[1]Hoja4!C:D,2,FALSE)","v":"ACT110"},"Corporación Colombiana de Investigación Agropecuaria","Sector Público - Nacional","N/A"]
[null,{"$f":"VLOOKUP(C1368,[1]instancias_objetos!A:B,2,FALSE)","v":"INST98"},"Comité Técnico Nacional de Bienestar Animal",1,{"$f":"VLOOKUP(F1368,[1]Hoja4!C:D,2,FALSE)","v":"ACT154"},"Instituto Colombiano Agropecuario","Sector Público - Nacional","N/A"]
[null,{"$f":"VLOOKUP(C1369,[1]instancias_objetos!A:B,2,FALSE)","v":"INST98"},"Comité Técnico Nacional de Bienestar Animal",1,{"$f":"VLOOKUP(F1369,[1]Hoja4!C:D,2,FALSE)","v":"ACT168"},"Instituto Nacional de Vigilancia de Medicamentos y Alimentos","Sector Público - Nacional","N/A"]
[null,{"$f":"VLOOKUP(C1370,[1]instancias_objetos!A:B,2,FALSE)","v":"INST98"},"Comité Técnico Nacional de Bienestar Animal",1,{"$f":"VLOOKUP(F1370,[1]Hoja4!C:D,2,FALSE)","v":"ACT173"},"Ministerio de Agricultura y Desarrollo Rural","Sector Público - Nacional","N/A"]
[null,{"$f":"VLOOKUP(C1371,[1]instancias_objetos!A:B,2,FALSE)","v":"INST98"},"Comité Técnico Nacional de Bienestar Animal",1,{"$f":"VLOOKUP(F1371,[1]Hoja4!C:D,2,FALSE)","v":"ACT184"},"Ministerio de Salud y Protección Social","Sector Público - Nacional","N/A"]
[null,{"$f":"VLOOKUP(C1372,[1]instancias_objetos!A:B,2,FALSE)","v":"INST98"},"Comité Técnico Nacional de Bienestar Animal",1,{"$f":"VLOOKUP(F1372,[1]Hoja4!C:D,2,FALSE)","v":"ACT330"},"Representante de las Organizaciones Comunitarias Agropecuarias","Delegado Sectorial de la Sociedad Civil","Agricultura y Ruralidad"]
[null,{"$f":"VLOOKUP(C1373,[1]instancias_objetos!A:B,2,FALSE)","v":"INST99"},"Comisión Nacional para la Sustitución del Asbesto",2,{"$f":"VLOOKUP(F1373,[1]Hoja4!C:D,2,FALSE)","v":"ACT174"},"Ministerio de Ambiente y Desarrollo Sostenible","Sector Público - Nacional","N/A"]
[null,{"$f":"VLOOKUP(C1374,[1]instancias_objetos!A:B,2,FALSE)","v":"INST99"},"Comisión Nacional para la Sustitución del Asbesto",1,{"$f":"VLOOKUP(F1374,[1]Hoja4!C:D,2,FALSE)","v":"ACT175"},"Ministerio de Ciencia, Tecnología e Innovación","Sector Público - Nacional","N/A"]
[null,{"$f":"VLOOKUP(C1375,[1]instancias_objetos!A:B,2,FALSE)","v":"INST99"},"Comisión Nacional para la Sustitución del Asbesto",2,{"$f":"VLOOKUP(F1375,[1]Hoja4!C:D,2,FALSE)","v":"ACT176"},"Ministerio de Comercio, Industria y Turismo","Sector Público - Nacional","N/A"]
[null,{"$f":"VLOOKUP(C1376,[1]instancias_objetos!A:B,2,FALSE)","v":"INST99"},"Comisión Nacional para la Sustitución del Asbesto",2,{"$f":"VLOOKUP(F1376,[1]Hoja4!C:D,2,FALSE)","v":"ACT182"},"Ministerio de Minas y Energía","Sector Público - Nacional","N/A"]
[null,{"$f":"VLOOKUP(C1377,[1]instancias_objetos!A:B,2,FALSE)","v":"INST99"},"Comisión Nacional para la Sustitución del Asbesto",2,{"$f":"VLOOKUP(F1377,[1]Hoja4!C:D,2,FALSE)","v":"ACT184"},"Ministerio de Salud y Protección Social","Sector Público - Nacional","N/A"]
[null,{"$f":"VLOOKUP(C1378,[1]instancias_objetos!A:B,2,FALSE)","v":"INST99"},"Comisión Nacional para la Sustitución del Asbesto",2,{"$f":"VLOOKUP(F1378,[1]Hoja4!C:D,2,FALSE)","v":"ACT190"},"Ministerio del Trabajo","Sector Público - Nacional","N/A"]
[null,{"$f":"VLOOKUP(C1379,[1]instancias_objetos!A:B,2,FALSE)","v":"INST99"},"Comisión Nacional para la Sustitución del Asbesto",1,{"$f":"VLOOKUP(F1379,[1]Hoja4!C:D,2,FALSE)","v":"ACT356"},"Representante de las Universidades","Delegado Sectorial de la Sociedad Civil","Educación"]
[null,{"$f":"VLOOKUP(C1380,[1]instancias_objetos!A:B,2,FALSE)","v":"INST99"},"Comisión Nacional para la Sustitución del Asbesto",1,{"$f":"VLOOKUP(F1380,[1]Hoja4!C:D,2,FALSE)","v":"ACT360"},"Representante de las Veedurías Ciudadanas","Delegado Sectorial de la Sociedad Civil","Control Social, Transparencia, Comunitario y Veedurías"]

{"sheet":"Funciones de las instancias","index":3,"n_rows":1062,"n_cols":5,"rows_kept":1062,"cut":false,"hidden":false,"merged":[[2,2,2,3]]}
[]
[]
[null,null,"FUNCIONES DE LAS INSTANCIAS"]
[]
[null,"Instancia ID","Instancia de participación","Función","Cantidad"]
[null,{"$f":"VLOOKUP(C6,[1]instancias_objetos!$A$1:$B$123,2,FALSE)","v":"INST01"},"Comité Nacional de Urgencias","Asesorar al subsector oficial del sector salud en la elaboración de normas técnicas y administrativas para el manejo de las urgencias médicas y colaborar el mantenimiento y análisis de un diagnóstico actualizado de la incidencia y de los problemas originados en la prevalencia de ese tipo de patología",1]
[null,{"$f":"VLOOKUP(C7,[1]instancias_objetos!$A$1:$B$123,2,FALSE)","v":"INST01"},"Comité Nacional de Urgencias","Coordinar con los comités que se creen para el efecto en las diferentes entidades territoriales, las asesorías que se deberán brindar a las entidades y organizaciones públicas y privadas que tengan como objetivo la prevención y manejo de las urgencias",1]
[null,{"$f":"VLOOKUP(C8,[1]instancias_objetos!$A$1:$B$123,2,FALSE)","v":"INST01"},"Comité Nacional de Urgencias","Revisar periódicamente los programas de educación comunitaria orientados a la prevención y atención primaria de las urgencias, y los programas docentes relacionados con la problemática de las mismas dirigidos a los profesionales de la salud, con el fin de sugerir pautas para el diseño de los mismos",1]
[null,{"$f":"VLOOKUP(C9,[1]instancias_objetos!$A$1:$B$123,2,FALSE)","v":"INST01"},"Comité Nacional de Urgencias","Contribuir a la difusión, desarrollo y ejecución del programa de la Red Nacional de Urgencias",1]
[null,{"$f":"VLOOKUP(C10,[1]instancias_objetos!$A$1:$B$123,2,FALSE)","v":"INST01"},"Comité Nacional de Urgencias","Promover la consecución de recursos para el desarrollo de los programas de prevención y manejo de las urgencias",1]
[null,{"$f":"VLOOKUP(C11,[1]instancias_objetos!$A$1:$B$123,2,FALSE)","v":"INST01"},"Comité Nacional de Urgencias","Elaborar su propio reglamento y las demás que le asigne el Ministerio de Salud como organismo rector del sistema de salud",1]
[null,{"$f":"VLOOKUP(C12,[1]instancias_objetos!$A$1:$B$123,2,FALSE)","v":"INST02"},"Consejo Nacional de Apoyo a la Lactancia Materna","Orientar e impulsar la política sobre lactancia materna y alimentación complementaria, que garantice la implementación de planes y programas existentes y la revisión y actualización de los mismos",1]
[null,{"$f":"VLOOKUP(C13,[1]instancias_objetos!$A$1:$B$123,2,FALSE)","v":"INST02"},"Consejo Nacional de Apoyo a la Lactancia Materna","Elaborar un plan de acción que señale las actividades del Comité Operativo",1]
[null,{"$f":"VLOOKUP(C14,[1]instancias_objetos!$A$1:$B$123,2,FALSE)","v":"INST02"},"Consejo Nacional de Apoyo a la Lactancia Materna","Promover la información y la educación de todos los estamentos de la sociedad sobre el tema de la Lactancia Materna",1]
[null,{"$f":"VLOOKUP(C15,[1]instancias_objetos!$A$1:$B$123,2,FALSE)","v":"INST02"},"Consejo Nacional de Apoyo a la Lactancia Materna","Impulsar la inclusión del Plan de Lactancia Materna dentro de los respectivos componentes del Plan de Desarrollo",1]
[null,{"$f":"VLOOKUP(C16,[1]instancias_objetos!$A$1:$B$123,2,FALSE)","v":"INST02"},"Consejo Nacional de Apoyo a la Lactancia Materna","Asesorar a los departamentos, distritos, municipios y territorios indígenas en la creación de los Comités de Apoyo a la Lactancia Materna en sus regiones y en la planeación y ejecución de los planes respectivos",1]
[null,{"$f":"VLOOKUP(C17,[1]instancias_objetos!$A$1:$B$123,2,FALSE)","v":"INST03"},"Consejo Nacional de Educación Superior"," Políticas y planes para la marcha de la Educación Superior",1]
[null,{"$f":"VLOOKUP(C18,[1]instancias_objetos!$A$1:$B$123,2,FALSE)","v":"INST03"},"Consejo Nacional de Educación Superior","Proponer al Gobierno Nacional la reglamentación y procedimientos para organizar el Sistema de Acreditación",1]
[null,{"$f":"VLOOKUP(C19,[1]instancias_objetos!$A$1:$B$123,2,FALSE)","v":"INST03"},"Consejo Nacional de Educación Superior","Proponer al Gobierno Nacional la reglamentación y procedimientos organizar el Sistema Nacional de Información",1]
[null,{"$f":"VLOOKUP(C20,[1]instancias_objetos!$A$1:$B$123,2,FALSE)","v":"INST03"},"Consejo Nacional de Educación Superior","Proponer al Gobierno Nacional la reglamentación y procedimientos para organizar los exámenes de estado",1]
[null,{"$f":"VLOOKUP(C21,[1]instancias_objetos!$A$1:$B$123,2,FALSE)","v":"INST03"},"Consejo Nacional de Educación Superior","Proponer al Gobierno Nacional la reglamentación y procedimientos para establecer las pautas sobre la nomenclatura de títulos",1]
[null,{"$f":"VLOOKUP(C22,[1]instancias_objetos!$A$1:$B$123,2,FALSE)","v":"INST03"},"Consejo Nacional de Educación Superior","Proponer al Gobierno Nacional la reglamentación y procedimientos para la creación de las instituciones de Educación Superior",1]
[null,{"$f":"VLOOKUP(C23,[1]instancias_objetos!$A$1:$B$123,2,FALSE)","v":"INST03"},"Consejo Nacional de Educación Superior","Proponer al Gobierno Nacional la reglamentación y procedimientos para establecer los requisitos de creación y funcionamiento de los programas académicos",1]
[null,{"$f":"VLOOKUP(C24,[1]instancias_objetos!$A$1:$B$123,2,FALSE)","v":"INST03"},"Consejo Nacional de Educación Superior","Proponer al Gobierno Nacional la suspensión de las personerías jurídicas otorgadas a las instituciones de Educación Superior",1]
[null,{"$f":"VLOOKUP(C25,[1]instancias_objetos!$A$1:$B$123,2,FALSE)","v":"INST03"},"Consejo Nacional de Educación Superior","Proponer al Gobierno Nacional los mecanismos para evaluar la calidad académica de las instituciones de Educación Superior y de sus programas",1]
[null,{"$f":"VLOOKUP(C26,[1]instancias_objetos!$A$1:$B$123,2,FALSE)","v":"INST04"},"Consejo Nacional de Integración y Desarrollo de la Comunidad","Proponer proyectos de ley al Ministro de Gobierno para el desarrollo del sector comunitario, acordes con las necesidades del país y con los preceptos de la Constitución Política de Colombia",1]
[null,{"$f":"VLOOKUP(C27,[1]instancias_objetos!$A$1:$B$123,2,FALSE)","v":"INST04"},"Consejo Nacional de Integración y Desarrollo de la Comunidad","Planificar el desarrollo de las políticas oficiales que en materia de organización comunitaria le competen al Ministerio de Gobierno y proponer mecanismos que conduzcan a la adecuada ejecución de los planes, programas y proyectos de desarrollo comunitario, así como velar por el manejo de los recursos asignados al Fondo de Desarrollo Comunal del Ministerio de Gobierno que tienen que ver con el gasto social destinado a las comunidades",1]
[null,{"$f":"VLOOKUP(C28,[1]instancias_objetos!$A$1:$B$123,2,FALSE)","v":"INST04"},"Consejo Nacional de Integración y Desarrollo de la Comunidad","Promocionar y fomentar los espacios necesarios para la concertación entre los sectores público y privado en materia de organización comunitaria, en todos los niveles desde lo local, hasta lo nacional",1]
[null,{"$f":"VLOOKUP(C29,[1]instancias_objetos!$A$1:$B$123,2,FALSE)","v":"INST04"},"Consejo Nacional de Integración y Desarrollo de la Comunidad","Velar por el desarrollo y funcionamiento del Sistema Nacional de Organización y Participación Comunitaria",1]
[null,{"$f":"VLOOKUP(C30,[1]instancias_objetos!$A$1:$B$123,2,FALSE)","v":"INST04"},"Consejo Nacional de Integración y Desarrollo de la Comunidad","Proponer mecanismos, pautas e instrumentos financieros que permitan el adecuado desarrollo de la gestión comunitaria",1]
[null,{"$f":"VLOOKUP(C31,[1]instancias_objetos!$A$1:$B$123,2,FALSE)","v":"INST04"},"Consejo Nacional de Integración y Desarrollo de la Comunidad","Diseñar y proponer mecanismos de relación y articulación de las organizaciones comunitarias en el país",1]
[null,{"$f":"VLOOKUP(C32,[1]instancias_objetos!$A$1:$B$123,2,FALSE)","v":"INST04"},"Consejo Nacional de Integración y Desarrollo de la Comunidad","Presentar propuestas al Ministro de Gobierno sobre políticas para el desarrollo comunitario",1]
[null,{"$f":"VLOOKUP(C33,[1]instancias_objetos!$A$1:$B$123,2,FALSE)","v":"INST04"},"Consejo Nacional de Integración y Desarrollo de la Comunidad","Coordinar las acciones de las entidades públicas que ejecuten programas de desarrollo de la comunidad en los ámbitos nacional, departamental o municipal",1]
[null,{"$f":"VLOOKUP(C34,[1]instancias_objetos!$A$1:$B$123,2,FALSE)","v":"INST04"},"Consejo Nacional de Integración y Desarrollo de la Comunidad","Evaluar el cumplimiento de los compromisos de las instituciones que tienen que ver con el desarrollo comunitario",1]
[null,{"$f":"VLOOKUP(C35,[1]instancias_objetos!$A$1:$B$123,2,FALSE)","v":"INST05"},"Comisión Consultiva de Alto Nivel para las Comunidades Negras, Afrocolombianas, Raizales y Palenqueras","Servir de instancia de diálogo, concertación e interlocución entre las comunidades que representan y el Gobierno Nacional",1]
[null,{"$f":"VLOOKUP(C36,[1]instancias_objetos!$A$1:$B$123,2,FALSE)","v":"INST05"},"Comisión Consultiva de Alto Nivel para las Comunidades Negras, Afrocolombianas, Raizales y Palenqueras","Constituirse en mecanismo de difusión de la información oficial hacia las comunidades que representan y de interlocución con niveles directivos del orden nacional",1]
[null,{"$f":"VLOOKUP(C37,[1]instancias_objetos!$A$1:$B$123,2,FALSE)","v":"INST05"},"Comisión Consultiva de Alto Nivel para las Comunidades Negras, Afrocolombianas, Raizales y Palenqueras","Promover, impulsar, hacer seguimiento y evaluación a las normas que desarrollan los derechos de las comunidades que representan",1]
[null,{"$f":"VLOOKUP(C38,[1]instancias_objetos!$A$1:$B$123,2,FALSE)","v":"INST05"},"Comisión Consultiva de Alto Nivel para las Comunidades Negras, Afrocolombianas, Raizales y Palenqueras","Contribuir a la solución de los problemas de tierras que afectan a las comunidades que representan de todo el país e impulsar los programas de titulación colectiva que se adelanten en favor de estas comunidades",1]
[null,{"$f":"VLOOKUP(C39,[1]instancias_objetos!$A$1:$B$123,2,FALSE)","v":"INST05"},"Comisión Consultiva de Alto Nivel para las Comunidades Negras, Afrocolombianas, Raizales y Palenqueras","Establecer mecanismos de coordinación con las autoridades y entidades nacionales y territoriales para hacer efectivo el cumplimiento de los derechos sociales, económicos, políticos, culturales y territoriales de las comunidades que representan",1]
[null,{"$f":"VLOOKUP(C40,[1]instancias_objetos!$A$1:$B$123,2,FALSE)","v":"INST05"},"Comisión Consultiva de Alto Nivel para las Comunidades Negras, Afrocolombianas, Raizales y Palenqueras","Buscar consensos y acuerdos entre las comunidades que representan y el Estado, dentro del marco de la democracia participativa y de la utilización de los mecanismos de participación ciudadana y comunitaria, sin detrimento de la autonomía de la administración pública",1]
[null,{"$f":"VLOOKUP(C41,[1]instancias_objetos!$A$1:$B$123,2,FALSE)","v":"INST05"},"Comisión Consultiva de Alto Nivel para las Comunidades Negras, Afrocolombianas, Raizales y Palenqueras","Servir de espacio para el debate de los proyectos; de decretos reglamentarios de la Ley 70 de 1993, antes de que los mismos sean sometidos a la consideración del Gobierno Nacional. A ese efecto la Comisión deberá promover la difusión y consulta de tales proyectos con las organizaciones de base de las comunidades negras",1]
[null,{"$f":"VLOOKUP(C42,[1]instancias_objetos!$A$1:$B$123,2,FALSE)","v":"INST06"},"Comisión de Estudios para la Formulación del Plan de Desarrollo de las Comunidades Negras","Formular y consolidar el Plan de Desarrollo de las Comunidades Negras",1]
[null,{"$f":"VLOOKUP(C43,[1]instancias_objetos!$A$1:$B$123,2,FALSE)","v":"INST07"},"Comisión Nacional de Policía y Participación Ciudadana","Proponer políticas para fortalecer la acción preventiva de la Policía Nacional frente a la sociedad, así como prevenir la comisión de faltas y delitos por parte de miembros de la Institución",1]
[null,{"$f":"VLOOKUP(C44,[1]instancias_objetos!$A$1:$B$123,2,FALSE)","v":"INST07"},"Comisión Nacional de Policía y Participación Ciudadana","Proponer políticas y mecanismos tendientes a determinar en forma prioritaria una orientación ética, civilista, democrática, educativa y social en la relación Comunidad- Policía",1]
[null,{"$f":"VLOOKUP(C45,[1]instancias_objetos!$A$1:$B$123,2,FALSE)","v":"INST07"},"Comisión Nacional de Policía y Participación Ciudadana","Supervisar la conformación y actividad de las Comisiones Departamentales, del Distrito Capital, de Ciudades Capitales, Municipales y Locales, a que se refiere este Título. El Gobierno Nacional podrá suspender o disolver en cualquier momento tales Comisiones por razones de orden público o cuando circunstancias especiales así lo ameriten",1]
[null,{"$f":"VLOOKUP(C46,[1]instancias_objetos!$A$1:$B$123,2,FALSE)","v":"INST07"},"Comisión Nacional de Policía y Participación Ciudadana","Promover la participación ciudadana en los asuntos de Policía en los niveles Nacional, Departamental y Municipal",1]
[null,{"$f":"VLOOKUP(C47,[1]instancias_objetos!$A$1:$B$123,2,FALSE)","v":"INST07"},"Comisión Nacional de Policía y Participación Ciudadana","Recomendar el diseño de mecanismos, planes y programas para asegurar el compromiso de la Comunidad con la Policía",1]
[null,{"$f":"VLOOKUP(C48,[1]instancias_objetos!$A$1:$B$123,2,FALSE)","v":"INST07"},"Comisión Nacional de Policía y Participación Ciudadana","Canalizar a través de todo el Sistema Nacional de Participación Ciudadana las quejas y reclamos de personas naturales y jurídicas y de las autoridades político administrativas ante el Inspector General de la Policía Nacional",1]
[null,{"$f":"VLOOKUP(C49,[1]instancias_objetos!$A$1:$B$123,2,FALSE)","v":"INST07"},"Comisión Nacional de Policía y Participación Ciudadana","Proponer y coordinar con la Defensoría del Pueblo el desarrollo de programas educativos en la Policía y la comunidad sobre derechos humanos",1]
[null,{"$f":"VLOOKUP(C50,[1]instancias_objetos!$A$1:$B$123,2,FALSE)","v":"INST07"},"Comisión Nacional de Policía y Participación Ciudadana","Recomendar programas de desarrollo, salud, vivienda, educación y bienestar del personal de la Institución",1]
[null,{"$f":"VLOOKUP(C51,[1]instancias_objetos!$A$1:$B$123,2,FALSE)","v":"INST07"},"Comisión Nacional de Policía y Participación Ciudadana","Propender porque el personal de agentes de la Policía Nacional preste el servicio en sus regiones de origen",1]
[null,{"$f":"VLOOKUP(C52,[1]instancias_objetos!$A$1:$B$123,2,FALSE)","v":"INST07"},"Comisión Nacional de Policía y Participación Ciudadana","Recomendar políticas que garanticen el manejo transparente, eficiente y oportuno de la información que recopila y maneja la Policía en áreas de interés público",1]
[null,{"$f":"VLOOKUP(C53,[1]instancias_objetos!$A$1:$B$123,2,FALSE)","v":"INST07"},"Comisión Nacional de Policía y Participación Ciudadana","Estimular la organización, solidaridad y participación de la comunidad en la prevención de delitos y contravenciones",1]
[null,{"$f":"VLOOKUP(C54,[1]instancias_objetos!$A$1:$B$123,2,FALSE)","v":"INST07"},"Comisión Nacional de Policía y Participación Ciudadana","Recomendar los mecanismos necesarios para promover el cumplimiento de deberes ciudadanos señalados en el artículo 95 de la Constitución Política",1]
[null,{"$f":"VLOOKUP(C55,[1]instancias_objetos!$A$1:$B$123,2,FALSE)","v":"INST08"},"Consejo Asesor del Servicio de Radioaficionado","Asesorar al Ministerio de Comunicaciones para los asuntos relacionados con el servicio de radioaficionado",1]
[null,{"$f":"VLOOKUP(C56,[1]instancias_objetos!$A$1:$B$123,2,FALSE)","v":"INST08"},"Consejo Asesor del Servicio de Radioaficionado","Proponer y recomendar las medidas necesarias para el buen funcionamiento del servicio de radioaficionado",1]
[null,{"$f":"VLOOKUP(C57,[1]instancias_objetos!$A$1:$B$123,2,FALSE)","v":"INST09"},"Consejo Nacional Ambiental","Recomendar la adopción de medidas que permitan armonizar las regulaciones y decisiones ambientales con la ejecución de proyectos de desarrollo económico y social por los distintos sectores productivos, a fin de asegurar su sostenibilidad y minimizar su impacto sobre el medio",1]
[null,{"$f":"VLOOKUP(C58,[1]instancias_objetos!$A$1:$B$123,2,FALSE)","v":"INST09"},"Consejo Nacional Ambiental","Recomendar al Gobierno Nacional la política y los mecanismos de coordinación de las actividades de todas las entidades y organismos públicos y privados cuyas funciones afecten o puedan afectar el medio ambiente y los recursos naturales renovables",1]
[null,{"$f":"VLOOKUP(C59,[1]instancias_objetos!$A$1:$B$123,2,FALSE)","v":"INST09"},"Consejo Nacional Ambiental","Formular las recomendaciones que considere del caso para adecuar el uso del territorio y los planes, programas y proyectos de construcción o ensanche de infraestructura pública a un apropiado y sostenible aprovechamiento del medio ambiente y del patrimonio natural de la Nación",1]
[null,{"$f":"VLOOKUP(C60,[1]instancias_objetos!$A$1:$B$123,2,FALSE)","v":"INST09"},"Consejo Nacional Ambiental","Designar comités técnicos intersectoriales en los que participen funcionarios de nivel técnico de las entidades que correspondan, para adelantar tareas de coordinación y seguimiento",1]
[null,{"$f":"VLOOKUP(C61,[1]instancias_objetos!$A$1:$B$123,2,FALSE)","v":"INST10"},"Consejo Técnico Asesor de Política Ambiental","Asesorar al Ministerio de Ambiente, Vivienda y Desarrollo Territorial sobre la viabilidad ambiental de proyectos de interés nacional, de los sectores público y privado",1]
[null,{"$f":"VLOOKUP(C62,[1]instancias_objetos!$A$1:$B$123,2,FALSE)","v":"INST10"},"Consejo Técnico Asesor de Política Ambiental","Asesorar al Ministerio de Ambiente, Vivienda y Desarrollo Territorial en la formulación de políticas y la expedición de normas",1]
[null,{"$f":"VLOOKUP(C63,[1]instancias_objetos!$A$1:$B$123,2,FALSE)","v":"INST10"},"Consejo Técnico Asesor de Política Ambiental","Formular un conjunto de recomendaciones al Ministerio de Ambiente, Vivienda y Desarrollo Territorial para el mejoramiento de los procesos de formulación, definición e implementación de las políticas y normas ambientales, con base en los preceptos ambientales establecidos en la Constitución Política, en la Ley 99 de 1993, en el Plan Nacional de Desarrollo, en los documentos de política ambiental oficialmente adoptados por el Gobierno Nacional y en el proceso de consulta a los Comités Técnicos",1]
[null,{"$f":"VLOOKUP(C64,[1]instancias_objetos!$A$1:$B$123,2,FALSE)","v":"INST10"},"Consejo Técnico Asesor de Política Ambiental","Servir como órgano de coordinación interinstitucional e intersectorial a través de la conformación de Comités Técnicos, para hacer más eficaz y participativo el proceso de consulta técnica de las normas y políticas ambientales",1]
[null,{"$f":"VLOOKUP(C65,[1]instancias_objetos!$A$1:$B$123,2,FALSE)","v":"INST10"},"Consejo Técnico Asesor de Política Ambiental","Realizar un balance periódico de las recomendaciones formuladas al Ministerio de Ambiente, Vivienda y Desarrollo Territorial sobre la viabilidad ambiental de proyectos de interés nacional, de los sectores público y privado y sobre la formulación de políticas y la expedición de normas",1]
[null,{"$f":"VLOOKUP(C66,[1]instancias_objetos!$A$1:$B$123,2,FALSE)","v":"INST100"},"Mesa Técnica de Seguimiento a la Situación de la Niñez, Fortalecimiento familiar y comunitario indígena en Colombia","Analizar las políticas públicas en el marco de la protección integral de la niñez, adolescencia, la familia y la comunidad indígena en perspectiva de diversidad y con enfoque diferencial.",1]
[null,{"$f":"VLOOKUP(C67,[1]instancias_objetos!$A$1:$B$123,2,FALSE)","v":"INST100"},"Mesa Técnica de Seguimiento a la Situación de la Niñez, Fortalecimiento familiar y comunitario indígena en Colombia","Elaborar recomendaciones para la formulación, implementación, seguimiento y evaluación de políticas públicas relacionadas con niñez, adolescencia y familia indígena.",1]
[null,{"$f":"VLOOKUP(C68,[1]instancias_objetos!$A$1:$B$123,2,FALSE)","v":"INST100"},"Mesa Técnica de Seguimiento a la Situación de la Niñez, Fortalecimiento familiar y comunitario indígena en Colombia","Valorar y dar recomendaciones de ajuste de las herramientas para el seguimiento y análisis de la situación de la niñez, adolescencia y la familia indígena en las instancias encargadas de la garantía de los derechos de los niños, niñas y el fortalecimiento familiar y comunitario indígena en el marco de la corresponsabilidad.",1]
[null,{"$f":"VLOOKUP(C69,[1]instancias_objetos!$A$1:$B$123,2,FALSE)","v":"INST100"},"Mesa Técnica de Seguimiento a la Situación de la Niñez, Fortalecimiento familiar y comunitario indígena en Colombia","Remitir al comité ejecutivo del SNBF las propuestas de lineamientos de política pública a favor de la niñez, adolescencia y fortalecimiento familiar de los pueblos indígenas, construidas en el marco de la Mesa.",1]
[null,{"$f":"VLOOKUP(C70,[1]instancias_objetos!$A$1:$B$123,2,FALSE)","v":"INST100"},"Mesa Técnica de Seguimiento a la Situación de la Niñez, Fortalecimiento familiar y comunitario indígena en Colombia","Revisar y hacer recomendaciones a los proyectos de ley – actos legislativos, proyectos de decreto – y demás asuntos normativos relevantes, propuestos por las diferentes entidades del SNBF que tengan relación con la protección integral de niños, niñas adolescentes indígenas y el fortalecimiento familiar indígena y comunitario.",1]
[null,{"$f":"VLOOKUP(C71,[1]instancias_objetos!$A$1:$B$123,2,FALSE)","v":"INST100"},"Mesa Técnica de Seguimiento a la Situación de la Niñez, Fortalecimiento familiar y comunitario indígena en Colombia","Construir, realizar seguimiento y evaluación del plan de trabajo anual, en donde se desagregan las acciones que se desarrollarán para dar cumplimiento a las funciones de la Mesa, en la cual se establecerán metas, tiempos y responsables.",1]
[null,{"$f":"VLOOKUP(C72,[1]instancias_objetos!$A$1:$B$123,2,FALSE)","v":"INST100"},"Mesa Técnica de Seguimiento a la Situación de la Niñez, Fortalecimiento familiar y comunitario indígena en Colombia","Establecer relaciones con las instancias de desarrollo técnico del Sistema Nacional de Bienestar Familiar y otros sistemas e instancias propias de los pueblos indígenas que tengan competencia en materia de protección integral de niños, niñas y adolescencia indígenas.",1]
[null,{"$f":"VLOOKUP(C73,[1]instancias_objetos!$A$1:$B$123,2,FALSE)","v":"INST101"},"Comisión Nacional Técnica del Fondo Emprender","Podrá presentar al Consejo Directivo Nacional del SENA, recomendaciones sobre las líneas, hacia los cuales se orientarán los recursos del Fondo Emprender.",1]
[null,{"$f":"VLOOKUP(C74,[1]instancias_objetos!$A$1:$B$123,2,FALSE)","v":"INST101"},"Comisión Nacional Técnica del Fondo Emprender","Ponderar los criterios de priorización y jerarquización de los planes de negocio viables, en desarrollo de cada convocatoria.",1]
[null,{"$f":"VLOOKUP(C75,[1]instancias_objetos!$A$1:$B$123,2,FALSE)","v":"INST101"},"Comisión Nacional Técnica del Fondo Emprender","Recomendar al Consejo Directivo Nacional del SENA los planes de negocio viabilizados y priorizados por la Comisión para la correspondiente asignación de recursos.",1]
[null,{"$f":"VLOOKUP(C76,[1]instancias_objetos!$A$1:$B$123,2,FALSE)","v":"INST101"},"Comisión Nacional Técnica del Fondo Emprender","Conocer el estado del proceso de condonación o no de recursos asignados.",1]
[null,{"$f":"VLOOKUP(C77,[1]instancias_objetos!$A$1:$B$123,2,FALSE)","v":"INST101"},"Comisión Nacional Técnica del Fondo Emprender","Conocer los asuntos del Fondo Emprender que vayan a ponerse en consideración del Consejo Directivo Nacional de SENA, presentando el correspondiente informe.",1]
[null,{"$f":"VLOOKUP(C78,[1]instancias_objetos!$A$1:$B$123,2,FALSE)","v":"INST102"},"Comité de Apoyo del Sistema de Medicina Legal y Ciencias Forenses","Velar por el cumplimiento de los principios constitucionales de la función administrativa, en particular los atinentes a la buena fe, igualdad, moralidad, celeridad, economía, imparcialidad, eficacia, eficiencia, participación, publicidad, responsabilidad y transparencia.",1]
[null,{"$f":"VLOOKUP(C79,[1]instancias_objetos!$A$1:$B$123,2,FALSE)","v":"INST102"},"Comité de Apoyo del Sistema de Medicina Legal y Ciencias Forenses","Preparar los documentos y estudios a través de los cuales se materialicen los objetivos del Sistema, previstos en el artículo 4° del presente acto administrativo.",1]
[null,{"$f":"VLOOKUP(C80,[1]instancias_objetos!$A$1:$B$123,2,FALSE)","v":"INST102"},"Comité de Apoyo del Sistema de Medicina Legal y Ciencias Forenses","Proponer proyectos de documentos técnicos que deben cumplir los distintos organismos y personas que realicen funciones periciales asociadas con medicina legal y ciencias forenses, para que sean expedidos por el Instituto Nacional de Medicina Legal y Ciencias Forenses.",1]
[null,{"$f":"VLOOKUP(C81,[1]instancias_objetos!$A$1:$B$123,2,FALSE)","v":"INST102"},"Comité de Apoyo del Sistema de Medicina Legal y Ciencias Forenses","Diseñar el registro de las instituciones tanto públicas como privadas y de los profesionales y técnicos que ejercen el ejercicio profesional y técnico en las áreas de medicina legal y ciencias forenses a nivel nacional, el cual será llevado por la Secretaría Técnica del Comité.",1]
[null,{"$f":"VLOOKUP(C82,[1]instancias_objetos!$A$1:$B$123,2,FALSE)","v":"INST102"},"Comité de Apoyo del Sistema de Medicina Legal y Ciencias Forenses","Identificar fuentes de financiación para fortalecer la capacidad instalada del Sistema Nacional de Medicina Legal y Ciencias Forenses, ampliar la cobertura de la oferta institucional y aumentar su capacidad técnico científica a nivel nacional, con el fin de contribuir en la garantía de los derechos de las víctimas.",1]
[null,{"$f":"VLOOKUP(C83,[1]instancias_objetos!$A$1:$B$123,2,FALSE)","v":"INST102"},"Comité de Apoyo del Sistema de Medicina Legal y Ciencias Forenses","Promover la investigación en el ámbito de la medicina legal y ciencias forenses.",1]
[null,{"$f":"VLOOKUP(C84,[1]instancias_objetos!$A$1:$B$123,2,FALSE)","v":"INST102"},"Comité de Apoyo del Sistema de Medicina Legal y Ciencias Forenses","Propender por la evaluación y mejora continua del Sistema de Medicina Legal y Ciencias Forenses.",1]
[null,{"$f":"VLOOKUP(C85,[1]instancias_objetos!$A$1:$B$123,2,FALSE)","v":"INST102"},"Comité de Apoyo del Sistema de Medicina Legal y Ciencias Forenses","Diseñar ensayos interlaboratoriales, cuando no existan en el mercado.",1]
[null,{"$f":"VLOOKUP(C86,[1]instancias_objetos!$A$1:$B$123,2,FALSE)","v":"INST102"},"Comité de Apoyo del Sistema de Medicina Legal y Ciencias Forenses","Establecer estrategias para mejorar la respuesta ante situaciones de desastre.",1]
[null,{"$f":"VLOOKUP(C87,[1]instancias_objetos!$A$1:$B$123,2,FALSE)","v":"INST102"},"Comité de Apoyo del Sistema de Medicina Legal y Ciencias Forenses","Aprobar las actas del Comité que serán suscritas por el presidente y el secretario técnico.",1]
[null,{"$f":"VLOOKUP(C88,[1]instancias_objetos!$A$1:$B$123,2,FALSE)","v":"INST103"},"Comisión Asesora para la enseñanza de la historia de Colombia","Diseñar y desarrollar un plan de trabajo anual para emitir recomendaciones de actualización de las orientaciones curriculares vigentes del área de Ciencias Sociales con la historia de Colombia como disciplina integrada (Lineamientos Curriculares) e identificar claramente metas, responsabilidades y cronograma de actividades.",1]
[null,{"$f":"VLOOKUP(C89,[1]instancias_objetos!$A$1:$B$123,2,FALSE)","v":"INST103"},"Comisión Asesora para la enseñanza de la historia de Colombia","Realizar recomendaciones al Ministerio de Educación Nacional, para ajustar los lineamientos curriculares del área de Ciencias Sociales con la historia de Colombia como disciplina integrada, para que cada establecimiento educativo organice, a partir de los mismos, los procesos de evaluación correspondientes a cada grado propuestos en la Sección 3, Capítulo 3, Título 3, Parte 3, Libro 2 del Decreto número 1075 de 2015.",1]
[null,{"$f":"VLOOKUP(C90,[1]instancias_objetos!$A$1:$B$123,2,FALSE)","v":"INST103"},"Comisión Asesora para la enseñanza de la historia de Colombia","Desarrollar sesiones presenciales, sin perjuicio de la posibilidad de realizarlas de manera virtual cuando las circunstancias así lo ameriten. De cada una de las sesiones se levantará un acta, la cual será firmada por el presidente y la Secretaría Técnica.",1]
[null,{"$f":"VLOOKUP(C91,[1]instancias_objetos!$A$1:$B$123,2,FALSE)","v":"INST103"},"Comisión Asesora para la enseñanza de la historia de Colombia","Presentar al Ministerio de Educación Nacional informes trimestrales de avances en su ejercicio consultivo.",1]
[null,{"$f":"VLOOKUP(C92,[1]instancias_objetos!$A$1:$B$123,2,FALSE)","v":"INST104"},"Comisión Nacional de Seguridad y Salud en el Trabajo del Sector Público","Brindar apoyo al Gobierno nacional para el desarrollo normativo de las medidas de prevención de riesgos laborales en el sector público.",1]
[null,{"$f":"VLOOKUP(C93,[1]instancias_objetos!$A$1:$B$123,2,FALSE)","v":"INST104"},"Comisión Nacional de Seguridad y Salud en el Trabajo del Sector Público","Orientar al Gobierno nacional sobre los valores límites permisibles para la exposición ocupacional de acuerdo con los riesgos del sector público.",1]
[null,{"$f":"VLOOKUP(C94,[1]instancias_objetos!$A$1:$B$123,2,FALSE)","v":"INST104"},"Comisión Nacional de Seguridad y Salud en el Trabajo del Sector Público","Monitorear el desarrollo del Sistema de Gestión de Seguridad y Salud en el Trabajo en las entidades del sector.",1]
[null,{"$f":"VLOOKUP(C95,[1]instancias_objetos!$A$1:$B$123,2,FALSE)","v":"INST104"},"Comisión Nacional de Seguridad y Salud en el Trabajo del Sector Público","Proponer Sistemas de vigilancia epidemiológica, programas, acciones, planes y actividades de prevención y control de acuerdo con los riesgos laborales propios del sector público.",1]
[null,{"$f":"VLOOKUP(C96,[1]instancias_objetos!$A$1:$B$123,2,FALSE)","v":"INST104"},"Comisión Nacional de Seguridad y Salud en el Trabajo del Sector Público","Proponer programas de difusión de información a los trabajadores y a la comunidad, sobre las medidas de prevención de riesgos laborales del sector público.",1]
[null,{"$f":"VLOOKUP(C97,[1]instancias_objetos!$A$1:$B$123,2,FALSE)","v":"INST104"},"Comisión Nacional de Seguridad y Salud en el Trabajo del Sector Público","Diseñar programas que tengan por objeto la identificación de los factores de riesgo a los que están expuestos los trabajadores del sector público.",1]
[null,{"$f":"VLOOKUP(C98,[1]instancias_objetos!$A$1:$B$123,2,FALSE)","v":"INST104"},"Comisión Nacional de Seguridad y Salud en el Trabajo del Sector Público","Proponer procesos de formación, divulgación, capacitación y asistencia técnica para el control de los factores de riesgo que afectan a los trabajadores y a la población potencialmente expuesta en el sector público.",1]
[null,{"$f":"VLOOKUP(C99,[1]instancias_objetos!$A$1:$B$123,2,FALSE)","v":"INST104"},"Comisión Nacional de Seguridad y Salud en el Trabajo del Sector Público","Presentar informes a la Dirección de Riesgos Laborales sobre la gestión realizada en el periodo respectivo, a más tardar el 30 de junio y el 31 de diciembre de cada año.",1]
[null,{"$f":"VLOOKUP(C100,[1]instancias_objetos!$A$1:$B$123,2,FALSE)","v":"INST105"},"Comisión Nacional de Seguridad y Salud en el Trabajo del Sector Agropecuario","Brindar apoyo al Gobierno nacional para el desarrollo normativo de las medidas de prevención de riesgos laborales en el sector agropecuario.",1]
[null,{"$f":"VLOOKUP(C101,[1]instancias_objetos!$A$1:$B$123,2,FALSE)","v":"INST105"},"Comisión Nacional de Seguridad y Salud en el Trabajo del Sector Agropecuario","Orientar al Gobierno nacional sobre los valores límites permisibles para la exposición ocupacional según los riesgos del sector agropecuario.",1]
[null,{"$f":"VLOOKUP(C102,[1]instancias_objetos!$A$1:$B$123,2,FALSE)","v":"INST105"},"Comisión Nacional de Seguridad y Salud en el Trabajo del Sector Agropecuario","Monitorear el desarrollo del Sistema de Gestión de Seguridad y Salud en el Trabajo en las empresas del sector.",1]
[null,{"$f":"VLOOKUP(C103,[1]instancias_objetos!$A$1:$B$123,2,FALSE)","v":"INST105"},"Comisión Nacional de Seguridad y Salud en el Trabajo del Sector Agropecuario","Proponer sistemas de vigilancia epidemiológica, programas, acciones, planes y actividades de prevención y control de acuerdo con los riesgos laborales presentes en el sector agropecuario.",1]
[null,{"$f":"VLOOKUP(C104,[1]instancias_objetos!$A$1:$B$123,2,FALSE)","v":"INST105"},"Comisión Nacional de Seguridad y Salud en el Trabajo del Sector Agropecuario","Proponer programas de difusión de información a los trabajadores y a la comunidad, sobre las medidas de prevención de riesgos laborales del sector agropecuario.",1]
[null,{"$f":"VLOOKUP(C105,[1]instancias_objetos!$A$1:$B$123,2,FALSE)","v":"INST105"},"Comisión Nacional de Seguridad y Salud en el Trabajo del Sector Agropecuario","Diseñar programas que tengan por objeto la identificación de los factores de riesgo a los que están expuestos los trabajadores del sector agropecuario.",1]
[null,{"$f":"VLOOKUP(C106,[1]instancias_objetos!$A$1:$B$123,2,FALSE)","v":"INST105"},"Comisión Nacional de Seguridad y Salud en el Trabajo del Sector Agropecuario","Proponer procesos de formación divulgación, capacitación y asistencia técnica para el control de los factores de riesgo que afectan a los trabajadores y a la población potencialmente expuesta en el sector agropecuario.",1]
[null,{"$f":"VLOOKUP(C107,[1]instancias_objetos!$A$1:$B$123,2,FALSE)","v":"INST105"},"Comisión Nacional de Seguridad y Salud en el Trabajo del Sector Agropecuario","Presentar informes a la Dirección de Riesgos Laborales sobre la gestión realizada en el periodo respectivo, a más tardar el 30 de junio y el 31 de diciembre de cada año.",1]
[null,{"$f":"VLOOKUP(C108,[1]instancias_objetos!$A$1:$B$123,2,FALSE)","v":"INST106"},"Comisión Nacional de Seguridad y Salud en el Trabajo del Sector Salud","Brindar apoyo al Gobierno nacional para el desarrollo normativo de las medidas de prevención de riesgos laborales en el sector salud.",1]
[null,{"$f":"VLOOKUP(C109,[1]instancias_objetos!$A$1:$B$123,2,FALSE)","v":"INST106"},"Comisión Nacional de Seguridad y Salud en el Trabajo del Sector Salud","Orientar al Gobierno nacional sobre los valores límites permisibles para la exposición ocupacional según los riesgos del sector salud.",1]
[null,{"$f":"VLOOKUP(C110,[1]instancias_objetos!$A$1:$B$123,2,FALSE)","v":"INST106"},"Comisión Nacional de Seguridad y Salud en el Trabajo del Sector Salud","Monitorear el desarrollo del Sistema de Gestión de Seguridad y Salud en el Trabajo en las empresas del sector.",1]
[null,{"$f":"VLOOKUP(C111,[1]instancias_objetos!$A$1:$B$123,2,FALSE)","v":"INST106"},"Comisión Nacional de Seguridad y Salud en el Trabajo del Sector Salud","Proponer sistemas de vigilancia epidemiológica, programas, acciones, planes y actividades de prevención y control de acuerdo con los riesgos laborales presentes en el sector salud.",1]
[null,{"$f":"VLOOKUP(C112,[1]instancias_objetos!$A$1:$B$123,2,FALSE)","v":"INST106"},"Comisión Nacional de Seguridad y Salud en el Trabajo del Sector Salud","Proponer programas de difusión de información a los trabajadores y a la comunidad, sobre las medidas de prevención de riesgos laborales del sector salud.",1]
[null,{"$f":"VLOOKUP(C113,[1]instancias_objetos!$A$1:$B$123,2,FALSE)","v":"INST106"},"Comisión Nacional de Seguridad y Salud en el Trabajo del Sector Salud","Diseñar programas que tengan por objeto la identificación de los factores de riesgo a los que están expuestos los trabajadores del sector salud.",1]
[null,{"$f":"VLOOKUP(C114,[1]instancias_objetos!$A$1:$B$123,2,FALSE)","v":"INST106"},"Comisión Nacional de Seguridad y Salud en el Trabajo del Sector Salud","Proponer procesos de formación divulgación, capacitación y asistencia técnica para el control de los factores de riesgo que afectan a los trabajadores y a la población potencialmente expuesta en el sector salud.",1]
[null,{"$f":"VLOOKUP(C115,[1]instancias_objetos!$A$1:$B$123,2,FALSE)","v":"INST106"},"Comisión Nacional de Seguridad y Salud en el Trabajo del Sector Salud","Presentar informes a la Dirección de Riesgos Laborales sobre la gestión realizada en el periodo respectivo, a más tardar el 30 de junio y el 31 de diciembre de cada año.",1]
[null,{"$f":"VLOOKUP(C116,[1]instancias_objetos!$A$1:$B$123,2,FALSE)","v":"INST107"},"Comisión Nacional de Seguridad y Salud en el Trabajo del Sector Construcción","Brindar apoyo al Gobierno nacional para el desarrollo normativo de las medidas de prevención de riesgos laborales en el sector de la construcción.",1]
[null,{"$f":"VLOOKUP(C117,[1]instancias_objetos!$A$1:$B$123,2,FALSE)","v":"INST107"},"Comisión Nacional de Seguridad y Salud en el Trabajo del Sector Construcción","Orientar al Gobierno nacional sobre los valores límites permisibles para la exposición ocupacional según los riesgos del sector de la construcción.",1]
[null,{"$f":"VLOOKUP(C118,[1]instancias_objetos!$A$1:$B$123,2,FALSE)","v":"INST107"},"Comisión Nacional de Seguridad y Salud en el Trabajo del Sector Construcción","Monitorear el desarrollo del Sistema de Gestión de Seguridad y Salud en el Trabajo en las empresas del sector.",1]
[null,{"$f":"VLOOKUP(C119,[1]instancias_objetos!$A$1:$B$123,2,FALSE)","v":"INST107"},"Comisión Nacional de Seguridad y Salud en el Trabajo del Sector Construcción","Proponer sistemas de vigilancia epidemiológica, programas, acciones, planes y actividades de prevención y control de acuerdo con los riesgos laborales presentes en el sector de la construcción.",1]
[null,{"$f":"VLOOKUP(C120,[1]instancias_objetos!$A$1:$B$123,2,FALSE)","v":"INST107"},"Comisión Nacional de Seguridad y Salud en el Trabajo del Sector Construcción","Proponer programas de difusión de información a los trabajadores y a la comunidad, sobre las medidas de prevención de riesgos laborales del sector de la construcción.",1]
[null,{"$f":"VLOOKUP(C121,[1]instancias_objetos!$A$1:$B$123,2,FALSE)","v":"INST107"},"Comisión Nacional de Seguridad y Salud en el Trabajo del Sector Construcción","Diseñar programas que tengan por objeto la identificación de los factores de riesgo a los que están expuestos los trabajadores del sector de la construcción.",1]
[null,{"$f":"VLOOKUP(C122,[1]instancias_objetos!$A$1:$B$123,2,FALSE)","v":"INST107"},"Comisión Nacional de Seguridad y Salud en el Trabajo del Sector Construcción","Proponer procesos de formación divulgación, capacitación y asistencia técnica para el control de los factores de riesgo que afectan a los trabajadores y a la población potencialmente expuesta en el sector de la construcción.",1]
[null,{"$f":"VLOOKUP(C123,[1]instancias_objetos!$A$1:$B$123,2,FALSE)","v":"INST107"},"Comisión Nacional de Seguridad y Salud en el Trabajo del Sector Construcción","Presentar informes a la Dirección de Riesgos Laborales sobre la gestión realizada en el periodo respectivo, a más tardar el 30 de junio y el 31 de diciembre de cada año.",1]
[null,{"$f":"VLOOKUP(C124,[1]instancias_objetos!$A$1:$B$123,2,FALSE)","v":"INST108"},"Comisión Nacional de Seguridad y Salud en el Trabajo de Agentes Neumoconióticos","Brindar apoyo al Gobierno nacional para el desarrollo normativo del manejo seguro de agentes neumoconióticos y de las medidas de prevención de riesgos laborales generadas en relación con dichos agentes.",1]
[null,{"$f":"VLOOKUP(C125,[1]instancias_objetos!$A$1:$B$123,2,FALSE)","v":"INST108"},"Comisión Nacional de Seguridad y Salud en el Trabajo de Agentes Neumoconióticos","Monitorear el desarrollo del Sistema de Gestión de Seguridad y Salud en el Trabajo en las empresas relacionadas con agentes neumoconióticos.",1]
[null,{"$f":"VLOOKUP(C126,[1]instancias_objetos!$A$1:$B$123,2,FALSE)","v":"INST108"},"Comisión Nacional de Seguridad y Salud en el Trabajo de Agentes Neumoconióticos","Proponer sistemas de vigilancia epidemiológica, programas, acciones, planes y actividades de prevención y control de acuerdo con los riesgos laborales relacionados con la exposición a agentes neumoconióticos, en las actividades y/o procesos de extracción, producción, importación, comercialización y aplicación industrial, entre otros.",1]
[null,{"$f":"VLOOKUP(C127,[1]instancias_objetos!$A$1:$B$123,2,FALSE)","v":"INST108"},"Comisión Nacional de Seguridad y Salud en el Trabajo de Agentes Neumoconióticos","Proponer programas de difusión de información a los trabajadores y a la comunidad, sobre las medidas de prevención de riesgos laborales relacionados con los agentes neumoconióticos.",1]
[null,{"$f":"VLOOKUP(C128,[1]instancias_objetos!$A$1:$B$123,2,FALSE)","v":"INST108"},"Comisión Nacional de Seguridad y Salud en el Trabajo de Agentes Neumoconióticos","Diseñar programas que tengan por objeto la identificación de los factores de riesgo a los que están expuestos los trabajadores que tengan relación con los agentes neumoconióticos.",1]
[null,{"$f":"VLOOKUP(C129,[1]instancias_objetos!$A$1:$B$123,2,FALSE)","v":"INST108"},"Comisión Nacional de Seguridad y Salud en el Trabajo de Agentes Neumoconióticos","Generar recomendaciones para el mejoramiento de los sistemas de control de riesgo en las empresas que desarrollen actividades con exposición a agentes neumoconióticos.",1]
[null,{"$f":"VLOOKUP(C130,[1]instancias_objetos!$A$1:$B$123,2,FALSE)","v":"INST108"},"Comisión Nacional de Seguridad y Salud en el Trabajo de Agentes Neumoconióticos","Proponer procesos de formación, divulgación, capacitación y asistencia técnica para el control de los riesgos en los sectores laborales formales e informales que desarrollen actividades con exposición a agentes neumoconióticos.",1]
[null,{"$f":"VLOOKUP(C131,[1]instancias_objetos!$A$1:$B$123,2,FALSE)","v":"INST108"},"Comisión Nacional de Seguridad y Salud en el Trabajo de Agentes Neumoconióticos","Presentar informes a la Dirección de Riesgos Laborales sobre la gestión realizada en el periodo respectivo, a más tardar el 30 de junio y el 31 de diciembre de cada año.",1]
[null,{"$f":"VLOOKUP(C132,[1]instancias_objetos!$A$1:$B$123,2,FALSE)","v":"INST109"},"Comisión Nacional de Seguridad y Salud en el Trabajo del Sector Hidrocarburos","Brindar apoyo al Gobierno nacional para el desarrollo normativo de las medidas de prevención de riesgos laborales en el sector hidrocarburos.",1]
[null,{"$f":"VLOOKUP(C133,[1]instancias_objetos!$A$1:$B$123,2,FALSE)","v":"INST109"},"Comisión Nacional de Seguridad y Salud en el Trabajo del Sector Hidrocarburos","Orientar al Gobierno nacional sobre los valores límites permisibles para la exposición ocupacional según los riesgos del sector hidrocarburos.",1]
[null,{"$f":"VLOOKUP(C134,[1]instancias_objetos!$A$1:$B$123,2,FALSE)","v":"INST109"},"Comisión Nacional de Seguridad y Salud en el Trabajo del Sector Hidrocarburos","Monitorear el desarrollo del Sistema de Gestión de Seguridad y Salud en el Trabajo en las empresas del sector.",1]
[null,{"$f":"VLOOKUP(C135,[1]instancias_objetos!$A$1:$B$123,2,FALSE)","v":"INST109"},"Comisión Nacional de Seguridad y Salud en el Trabajo del Sector Hidrocarburos","Proponer sistemas de vigilancia epidemiológica, programas, acciones, planes y actividades de prevención y control de acuerdo con los riesgos laborales presentes en el sector hidrocarburos.",1]
[null,{"$f":"VLOOKUP(C136,[1]instancias_objetos!$A$1:$B$123,2,FALSE)","v":"INST109"},"Comisión Nacional de Seguridad y Salud en el Trabajo del Sector Hidrocarburos","Proponer programas de difusión de información a los trabajadores y a la comunidad, sobre las medidas de prevención de riesgos laborales del sector hidrocarburos.",1]
[null,{"$f":"VLOOKUP(C137,[1]instancias_objetos!$A$1:$B$123,2,FALSE)","v":"INST109"},"Comisión Nacional de Seguridad y Salud en el Trabajo del Sector Hidrocarburos","Diseñar programas que tengan por objeto la identificación de los factores de riesgo a los que están expuestos los trabajadores del sector hidrocarburos.",1]
[null,{"$f":"VLOOKUP(C138,[1]instancias_objetos!$A$1:$B$123,2,FALSE)","v":"INST109"},"Comisión Nacional de Seguridad y Salud en el Trabajo del Sector Hidrocarburos","Proponer procesos de formación divulgación, capacitación y asistencia técnica para el control de los factores de riesgo que afectan a los trabajadores y a la población potencialmente expuesta en el sector hidrocarburos.",1]
[null,{"$f":"VLOOKUP(C139,[1]instancias_objetos!$A$1:$B$123,2,FALSE)","v":"INST109"},"Comisión Nacional de Seguridad y Salud en el Trabajo del Sector Hidrocarburos","Presentar informes a la Dirección de Riesgos Laborales sobre la gestión realizada en el periodo respectivo, a más tardar el 30 de junio y el 31 de diciembre de cada año.",1]
[null,{"$f":"VLOOKUP(C140,[1]instancias_objetos!$A$1:$B$123,2,FALSE)","v":"INST11"},"Consejo Nacional de Seguridad Social en Salud","Definir el Plan Obligatorio de Salud para los afiliados según las normas de los regímenes contributivo y subsidiado, de acuerdo con la Ley 100 de 1993",1]
[null,{"$f":"VLOOKUP(C141,[1]instancias_objetos!$A$1:$B$123,2,FALSE)","v":"INST11"},"Consejo Nacional de Seguridad Social en Salud","Definir el monto de la cotización de los afiliados al Sistema, dentro de los límites previstos en el Artículo 204 de la Ley 100 de 1993",1]
[null,{"$f":"VLOOKUP(C142,[1]instancias_objetos!$A$1:$B$123,2,FALSE)","v":"INST11"},"Consejo Nacional de Seguridad Social en Salud","Definir el valor de la Unidad de Pago por Capitación -U.P.C. según lo dispuesto en el artículo 204 de la Ley 100 de 1993",1]
[null,{"$f":"VLOOKUP(C143,[1]instancias_objetos!$A$1:$B$123,2,FALSE)","v":"INST11"},"Consejo Nacional de Seguridad Social en Salud","Definir el régimen de pagos compartidos de que tratan el numeral 3 del articulo 160 y los artículos 164 y 187 de la ley 100 de 1993",1]
[null,{"$f":"VLOOKUP(C144,[1]instancias_objetos!$A$1:$B$123,2,FALSE)","v":"INST11"},"Consejo Nacional de Seguridad Social en Salud","Definir el régimen que deberán aplicar las Entidades Promotoras de Salud para el reconocimiento y pago de incapacidades originadas en enfermedad general y de las incapacidades por maternidad a los afiliados según las normas del régimen contributivo",1]
[null,{"$f":"VLOOKUP(C145,[1]instancias_objetos!$A$1:$B$123,2,FALSE)","v":"INST11"},"Consejo Nacional de Seguridad Social en Salud","Definir los medicamentos esenciales y genéricos que harán parte del Plan Obligatorio de Salud",1]
[null,{"$f":"VLOOKUP(C146,[1]instancias_objetos!$A$1:$B$123,2,FALSE)","v":"INST11"},"Consejo Nacional de Seguridad Social en Salud","Definir los criterios generales de selección de los beneficiarios del régimen subsidiado de salud por parte de las entidades territoriales, otorgando la debida prioridad a los grupos pobres y vulnerables de conformidad con lo dispuesto en la Ley 60 de 1993 y sus reglamentaciones por parte del Conpes Social",1]
[null,{"$f":"VLOOKUP(C147,[1]instancias_objetos!$A$1:$B$123,2,FALSE)","v":"INST11"},"Consejo Nacional de Seguridad Social en Salud","Definir el valor del subsidio por beneficiario de los afiliados al régimen contributivo en salud",1]
[null,{"$f":"VLOOKUP(C148,[1]instancias_objetos!$A$1:$B$123,2,FALSE)","v":"INST11"},"Consejo Nacional de Seguridad Social en Salud","Definir las medidas necesarias para evitar la selección adversa de usuarios por parte de las Entidades Promotoras de Salud y una distribución inequitativa de los costos de la atención de los distintos tipos de riesgo",1]
[null,{"$f":"VLOOKUP(C149,[1]instancias_objetos!$A$1:$B$123,2,FALSE)","v":"INST11"},"Consejo Nacional de Seguridad Social en Salud","Recomendar el régimen y los criterios que debe adoptar el Gobierno Nacional para establecer los procedimientos de cobro y pago y las tarifas de los servicios prestados por las entidades hospitalarias en los casos de riesgo catastrófico, accidentes de tránsito y atención inicial de urgencias",1]
[null,{"$f":"VLOOKUP(C150,[1]instancias_objetos!$A$1:$B$123,2,FALSE)","v":"INST11"},"Consejo Nacional de Seguridad Social en Salud","Reglamentar los Consejos Territoriales de Seguridad Social en Salud",1]
[null,{"$f":"VLOOKUP(C151,[1]instancias_objetos!$A$1:$B$123,2,FALSE)","v":"INST11"},"Consejo Nacional de Seguridad Social en Salud","Ejercer las funciones de Consejo de Administración del Fondo de Solidaridad y Garantía",1]
[null,{"$f":"VLOOKUP(C152,[1]instancias_objetos!$A$1:$B$123,2,FALSE)","v":"INST11"},"Consejo Nacional de Seguridad Social en Salud","Presentar ante las Comisiones Séptimas del Senado y Cámara un informe anual sobre la evolución del Sistema General de Seguridad Social en Salud",1]
[null,{"$f":"VLOOKUP(C153,[1]instancias_objetos!$A$1:$B$123,2,FALSE)","v":"INST11"},"Consejo Nacional de Seguridad Social en Salud","Diseñar el programa que permita a los afiliados del régimen subsidiado alcanzar el Plan Obligatorio de Salud del sistema contributivo, en forma progresiva antes del ano 2.001",1]
[null,{"$f":"VLOOKUP(C154,[1]instancias_objetos!$A$1:$B$123,2,FALSE)","v":"INST11"},"Consejo Nacional de Seguridad Social en Salud","Actualizar las intervenciones incluidas en el Plan Obligatorio de Salud, de acuerdo con los cambios de la estructura demográfica de la población el perfil I epidemiológico nacional, la tecnología apropiada en el país y las condiciones financieras del sistema, de acuerdo con las recomendaciones del Ministerio de Salud",1]
[null,{"$f":"VLOOKUP(C155,[1]instancias_objetos!$A$1:$B$123,2,FALSE)","v":"INST11"},"Consejo Nacional de Seguridad Social en Salud","Calificar la atención de enfermedades de alto costo para que las Entidades Promotoras de Salud puedan reasegurar los riesgos derivados de esa atención",1]
[null,{"$f":"VLOOKUP(C156,[1]instancias_objetos!$A$1:$B$123,2,FALSE)","v":"INST11"},"Consejo Nacional de Seguridad Social en Salud","Determinar los criterios de utilización y distribución de los recursos del Fondo de Solidaridad y Garantía",1]
[null,{"$f":"VLOOKUP(C157,[1]instancias_objetos!$A$1:$B$123,2,FALSE)","v":"INST11"},"Consejo Nacional de Seguridad Social en Salud","Recomendar al Gobierno el monto de recursos que la subcuenta de promoción del Fondo de Solidaridad y garantía deba destinar a la atención del programa especial de información y educación de la mujer en aspectos de salud reproductiva en las zonas menos desarrolladas del país",1]
[null,{"$f":"VLOOKUP(C158,[1]instancias_objetos!$A$1:$B$123,2,FALSE)","v":"INST11"},"Consejo Nacional de Seguridad Social en Salud","Definir el porcentaje del total de los recaudos por cotización de que trata el articulo 204 de la Ley 100 de 1.993 que se destinaran a la Subcuenta de Promoción de la Salud a la financiación de las actividades de educación, información y fomento de la salud y de prevención secundaria y terciaria de la enfermedad",1]
[null,{"$f":"VLOOKUP(C159,[1]instancias_objetos!$A$1:$B$123,2,FALSE)","v":"INST11"},"Consejo Nacional de Seguridad Social en Salud","De conformidad con el articulo 240 de la Ley 100 de 1.993, dar concepto previo sobre la reglamentación que expida el Gobierno Nacional respecto a la destinación de los recursos de las Cajas de Compensación Familiar y sobre la parte de la cotización que podrían recibir transitoriamente las Cajas de Compensación Familiar y las demás Entidades Promotoras de Salud por la atención de las familias de los trabajadores",1]
[null,{"$f":"VLOOKUP(C160,[1]instancias_objetos!$A$1:$B$123,2,FALSE)","v":"INST11"},"Consejo Nacional de Seguridad Social en Salud","Determinar los casos de urgencia que generan eventos diferentes a los previstos en el articulo 167 de la Ley 100 de 1.993 para efecto de los derechos de los afiliados al Sistema General de Seguridad Social en Salud",1]
[null,{"$f":"VLOOKUP(C161,[1]instancias_objetos!$A$1:$B$123,2,FALSE)","v":"INST11"},"Consejo Nacional de Seguridad Social en Salud","Expedir el reglamento sobre las limitaciones que pueden establecer las Entidades Promotoras de Salud a las alternativas de escogencia de Instituciones Prestadoras de Salud, de conformidad con lo establecido en el articulo 179 de la Ley 100 de 1.993",1]
[null,{"$f":"VLOOKUP(C162,[1]instancias_objetos!$A$1:$B$123,2,FALSE)","v":"INST11"},"Consejo Nacional de Seguridad Social en Salud","Considerar requisitos para las Entidades Promotoras de Salud adicionales a los que establezca la ley para ser adoptadas por reglamento",1]
[null,{"$f":"VLOOKUP(C163,[1]instancias_objetos!$A$1:$B$123,2,FALSE)","v":"INST11"},"Consejo Nacional de Seguridad Social en Salud","Limitar la base de cotización cuando se devenguen mensualmente mas de veinte (20) salarios mínimos mensuales legales vigentes",1]
[null,{"$f":"VLOOKUP(C164,[1]instancias_objetos!$A$1:$B$123,2,FALSE)","v":"INST110"},"Comisión Nacional de Seguridad y Salud en el Trabajo del Sector Minero","Brindar apoyo al Gobierno nacional para el desarrollo normativo de las medidas de prevención de riesgos laborales en el sector minero.",1]
[null,{"$f":"VLOOKUP(C165,[1]instancias_objetos!$A$1:$B$123,2,FALSE)","v":"INST110"},"Comisión Nacional de Seguridad y Salud en el Trabajo del Sector Minero","Orientar al Gobierno nacional sobre los valores límites permisibles para la exposición ocupacional según los riesgos del sector minero.",1]
[null,{"$f":"VLOOKUP(C166,[1]instancias_objetos!$A$1:$B$123,2,FALSE)","v":"INST110"},"Comisión Nacional de Seguridad y Salud en el Trabajo del Sector Minero","Monitorear el desarrollo del Sistema de Gestión de Seguridad y Salud en el Trabajo en las empresas del sector.",1]
[null,{"$f":"VLOOKUP(C167,[1]instancias_objetos!$A$1:$B$123,2,FALSE)","v":"INST110"},"Comisión Nacional de Seguridad y Salud en el Trabajo del Sector Minero","Proponer sistemas de vigilancia epidemiológica, programas, acciones, planes y actividades de prevención y control de acuerdo con los riesgos laborales presentes en el sector minero.",1]
[null,{"$f":"VLOOKUP(C168,[1]instancias_objetos!$A$1:$B$123,2,FALSE)","v":"INST110"},"Comisión Nacional de Seguridad y Salud en el Trabajo del Sector Minero","Proponer programas de difusión de información a los trabajadores y a la comunidad, sobre las medidas de prevención de riesgos laborales del sector minero.",1]
[null,{"$f":"VLOOKUP(C169,[1]instancias_objetos!$A$1:$B$123,2,FALSE)","v":"INST110"},"Comisión Nacional de Seguridad y Salud en el Trabajo del Sector Minero","Diseñar programas que tengan por objeto la identificación de los factores de riesgo a los que están expuestos los trabajadores del sector minero.",1]
[null,{"$f":"VLOOKUP(C170,[1]instancias_objetos!$A$1:$B$123,2,FALSE)","v":"INST110"},"Comisión Nacional de Seguridad y Salud en el Trabajo del Sector Minero","Proponer procesos de formación divulgación, capacitación y asistencia técnica para el control de los factores de riesgo que afectan a los trabajadores y a la población potencialmente expuesta en el sector minero.",1]
[null,{"$f":"VLOOKUP(C171,[1]instancias_objetos!$A$1:$B$123,2,FALSE)","v":"INST110"},"Comisión Nacional de Seguridad y Salud en el Trabajo del Sector Minero","Presentar informes a la Dirección de Riesgos Laborales sobre la gestión realizada en el periodo respectivo, a más tardar el 30 de junio y el 31 de diciembre de cada año.",1]
[null,{"$f":"VLOOKUP(C172,[1]instancias_objetos!$A$1:$B$123,2,FALSE)","v":"INST111"},"Comisión Nacional de Seguridad y Salud en el Trabajo del Sector Eléctrico","Brindar apoyo al Gobierno nacional para el desarrollo normativo de las medidas de prevención de riesgos laborales en el sector eléctrico.",1]
[null,{"$f":"VLOOKUP(C173,[1]instancias_objetos!$A$1:$B$123,2,FALSE)","v":"INST111"},"Comisión Nacional de Seguridad y Salud en el Trabajo del Sector Eléctrico","Orientar al Gobierno nacional sobre los valores límites permisibles para la exposición ocupacional según los riesgos del sector eléctrico.",1]
[null,{"$f":"VLOOKUP(C174,[1]instancias_objetos!$A$1:$B$123,2,FALSE)","v":"INST111"},"Comisión Nacional de Seguridad y Salud en el Trabajo del Sector Eléctrico","Monitorear el desarrollo del Sistema de Gestión de Seguridad y Salud en el Trabajo en las empresas del sector eléctrico.",1]
[null,{"$f":"VLOOKUP(C175,[1]instancias_objetos!$A$1:$B$123,2,FALSE)","v":"INST111"},"Comisión Nacional de Seguridad y Salud en el Trabajo del Sector Eléctrico","Proponer sistemas de vigilancia epidemiológica, programas, acciones, planes y actividades de prevención y control de acuerdo con los riesgos laborales presentes en el sector eléctrico.",1]
[null,{"$f":"VLOOKUP(C176,[1]instancias_objetos!$A$1:$B$123,2,FALSE)","v":"INST111"},"Comisión Nacional de Seguridad y Salud en el Trabajo del Sector Eléctrico","Proponer programas de difusión de información a los trabajadores y a la comunidad, sobre las medidas de prevención de riesgos laborales del sector eléctrico.",1]
[null,{"$f":"VLOOKUP(C177,[1]instancias_objetos!$A$1:$B$123,2,FALSE)","v":"INST111"},"Comisión Nacional de Seguridad y Salud en el Trabajo del Sector Eléctrico","Diseñar programas que tengan por Objeto la identificación de los factores de riesgo a los que están expuestos los trabajadores del sector eléctrico.",1]
[null,{"$f":"VLOOKUP(C178,[1]instancias_objetos!$A$1:$B$123,2,FALSE)","v":"INST111"},"Comisión Nacional de Seguridad y Salud en el Trabajo del Sector Eléctrico","Proponer procesos de formación, divulgación, capacitación y asistencia técnica para el control de los factores de riesgo que afectan a los trabajadores y a la población potencialmente expuesta en el sector eléctrico.",1]
[null,{"$f":"VLOOKUP(C179,[1]instancias_objetos!$A$1:$B$123,2,FALSE)","v":"INST111"},"Comisión Nacional de Seguridad y Salud en el Trabajo del Sector Eléctrico","Presentar informes a la Dirección de Riesgos Laborales sobre la gestión realizada en el periodo respectivo, a más tardar el 30 de junio y el 31 de diciembre de cada año.",1]
[null,{"$f":"VLOOKUP(C180,[1]instancias_objetos!$A$1:$B$123,2,FALSE)","v":"INST112"},"Comisión Nacional de Seguridad y Salud en el Trabajo del Sector Transporte","Brindar apoyo al Gobierno nacional para el desarrollo normativo de las medidas de prevención de riesgos laborales en el sector transporte.",1]
[null,{"$f":"VLOOKUP(C181,[1]instancias_objetos!$A$1:$B$123,2,FALSE)","v":"INST112"},"Comisión Nacional de Seguridad y Salud en el Trabajo del Sector Transporte","Orientar al Gobierno nacional sobre los valores límites permisibles para la exposición ocupacional según los riesgos del sector transporte.",1]
[null,{"$f":"VLOOKUP(C182,[1]instancias_objetos!$A$1:$B$123,2,FALSE)","v":"INST112"},"Comisión Nacional de Seguridad y Salud en el Trabajo del Sector Transporte","Monitorear el desarrollo del Sistema de Gestión de Seguridad y Salud en el Trabajo en las empresas del sector.",1]
[null,{"$f":"VLOOKUP(C183,[1]instancias_objetos!$A$1:$B$123,2,FALSE)","v":"INST112"},"Comisión Nacional de Seguridad y Salud en el Trabajo del Sector Transporte","Proponer sistemas de vigilancia epidemiológica, programas, acciones, planes y actividades de prevención y control de acuerdo con los riesgos laborales presentes en el sector transporte.",1]
[null,{"$f":"VLOOKUP(C184,[1]instancias_objetos!$A$1:$B$123,2,FALSE)","v":"INST112"},"Comisión Nacional de Seguridad y Salud en el Trabajo del Sector Transporte","Proponer programas de difusión de información a los trabajadores y a la comunidad, sobre las medidas de prevención de riesgos laborales del sector transporte.",1]
[null,{"$f":"VLOOKUP(C185,[1]instancias_objetos!$A$1:$B$123,2,FALSE)","v":"INST112"},"Comisión Nacional de Seguridad y Salud en el Trabajo del Sector Transporte","Diseñar programas que tengan por objeto la identificación de los factores de riesgo a los que están expuestos los trabajadores del sector transporte.",1]
[null,{"$f":"VLOOKUP(C186,[1]instancias_objetos!$A$1:$B$123,2,FALSE)","v":"INST112"},"Comisión Nacional de Seguridad y Salud en el Trabajo del Sector Transporte","Proponer procesos de formación divulgación, capacitación y asistencia técnica para el control de los factores de riesgo que afectan a los trabajadores y a la población potencialmente expuesta en el sector transporte.",1]
[null,{"$f":"VLOOKUP(C187,[1]instancias_objetos!$A$1:$B$123,2,FALSE)","v":"INST112"},"Comisión Nacional de Seguridad y Salud en el Trabajo del Sector Transporte","Presentar informes a la Dirección de Riesgos Laborales sobre la gestión realizada en el periodo respectivo, a más tardar el 30 de junio y el 31 de diciembre de cada año.",1]
[null,{"$f":"VLOOKUP(C188,[1]instancias_objetos!$A$1:$B$123,2,FALSE)","v":"INST113"},"Comisión Nacional de Seguridad y Salud en el Trabajo del Sector de las Tecnologías de la Información y las Comunicaciones","Brindar apoyo al Gobierno nacional para el desarrollo normativo de las medidas de prevención de riesgos laborales en el sector de las TIC.",1]
[null,{"$f":"VLOOKUP(C189,[1]instancias_objetos!$A$1:$B$123,2,FALSE)","v":"INST113"},"Comisión Nacional de Seguridad y Salud en el Trabajo del Sector de las Tecnologías de la Información y las Comunicaciones","Orientar al Gobierno nacional sobre los valores límites permisibles para la exposición ocupacional según los riesgos del sector de las TIC.",1]
[null,{"$f":"VLOOKUP(C190,[1]instancias_objetos!$A$1:$B$123,2,FALSE)","v":"INST113"},"Comisión Nacional de Seguridad y Salud en el Trabajo del Sector de las Tecnologías de la Información y las Comunicaciones","Monitorear el desarrollo del Sistema de Gestión de Seguridad y Salud en el Trabajo en las empresas del sector.",1]
[null,{"$f":"VLOOKUP(C191,[1]instancias_objetos!$A$1:$B$123,2,FALSE)","v":"INST113"},"Comisión Nacional de Seguridad y Salud en el Trabajo del Sector de las Tecnologías de la Información y las Comunicaciones","Proponer sistemas de vigilancia epidemiológica, programas, acciones, planes y actividades de prevención y control de acuerdo con los riesgos laborales presentes en el sector de las TIC.",1]
[null,{"$f":"VLOOKUP(C192,[1]instancias_objetos!$A$1:$B$123,2,FALSE)","v":"INST113"},"Comisión Nacional de Seguridad y Salud en el Trabajo del Sector de las Tecnologías de la Información y las Comunicaciones","Proponer programas de difusión de información a los trabajadores y a la comunidad, sobre las medidas de prevención de riesgos laborales del sector de las TIC.",1]
[null,{"$f":"VLOOKUP(C193,[1]instancias_objetos!$A$1:$B$123,2,FALSE)","v":"INST113"},"Comisión Nacional de Seguridad y Salud en el Trabajo del Sector de las Tecnologías de la Información y las Comunicaciones","Diseñar programas que tengan por objeto la identificación de los factores de riesgo a los que están expuestos los trabajadores del sector de las TIC.",1]
[null,{"$f":"VLOOKUP(C194,[1]instancias_objetos!$A$1:$B$123,2,FALSE)","v":"INST113"},"Comisión Nacional de Seguridad y Salud en el Trabajo del Sector de las Tecnologías de la Información y las Comunicaciones","Proponer procesos de formación divulgación, capacitación y asistencia técnica para el control de los factores de riesgo que afectan a los trabajadores y a la población potencialmente expuesta en el sector de las TIC.",1]
[null,{"$f":"VLOOKUP(C195,[1]instancias_objetos!$A$1:$B$123,2,FALSE)","v":"INST113"},"Comisión Nacional de Seguridad y Salud en el Trabajo del Sector de las Tecnologías de la Información y las Comunicaciones","Presentar informes a la Dirección de Riesgos Laborales sobre la gestión realizada en el periodo respectivo, a más tardar el 30 de junio y el 31 de diciembre de cada año.",1]
[null,{"$f":"VLOOKUP(C196,[1]instancias_objetos!$A$1:$B$123,2,FALSE)","v":"INST114"},"Comisión Nacional de Seguridad y Salud en el Trabajo de la Pequeña y Mediana Empresa","Brindar apoyo al Gobierno nacional para el desarrollo normativo de las medidas de prevención de riesgos laborales en las pequeñas y medianas empresas.",1]
[null,{"$f":"VLOOKUP(C197,[1]instancias_objetos!$A$1:$B$123,2,FALSE)","v":"INST114"},"Comisión Nacional de Seguridad y Salud en el Trabajo de la Pequeña y Mediana Empresa","Orientar al Gobierno nacional sobre los valores límites permisibles para la exposición ocupacional según los riesgos de las pequeñas y medianas empresas.",1]
[null,{"$f":"VLOOKUP(C198,[1]instancias_objetos!$A$1:$B$123,2,FALSE)","v":"INST114"},"Comisión Nacional de Seguridad y Salud en el Trabajo de la Pequeña y Mediana Empresa","Monitorear el desarrollo del Sistema de Gestión de Seguridad y Salud en el Trabajo en las pequeñas y medianas empresas.",1]
[null,{"$f":"VLOOKUP(C199,[1]instancias_objetos!$A$1:$B$123,2,FALSE)","v":"INST114"},"Comisión Nacional de Seguridad y Salud en el Trabajo de la Pequeña y Mediana Empresa","Proponer sistemas de vigilancia epidemiológica, programas, acciones, planes y actividades de prevención y control de acuerdo con los riesgos laborales presentes en las pequeñas y medianas empresas.",1]
[null,{"$f":"VLOOKUP(C200,[1]instancias_objetos!$A$1:$B$123,2,FALSE)","v":"INST114"},"Comisión Nacional de Seguridad y Salud en el Trabajo de la Pequeña y Mediana Empresa","Proponer programas de difusión de información a los trabajadores y a la comunidad, sobre las medidas de prevención de riesgos laborales de las pequeñas y medianas empresas.",1]
[null,{"$f":"VLOOKUP(C201,[1]instancias_objetos!$A$1:$B$123,2,FALSE)","v":"INST114"},"Comisión Nacional de Seguridad y Salud en el Trabajo de la Pequeña y Mediana Empresa","Diseñar programas que tengan por objeto la identificación de los factores de riesgo a los que están expuestos los trabajadores de las pequeñas y medianas empresas.",1]
[null,{"$f":"VLOOKUP(C202,[1]instancias_objetos!$A$1:$B$123,2,FALSE)","v":"INST114"},"Comisión Nacional de Seguridad y Salud en el Trabajo de la Pequeña y Mediana Empresa","Proponer procesos de formación divulgación, capacitación y asistencia técnica para el control de los factores de riesgo que afectan a los trabajadores de las pequeñas y medianas empresas y a la población potencialmente expuesta.",1]
[null,{"$f":"VLOOKUP(C203,[1]instancias_objetos!$A$1:$B$123,2,FALSE)","v":"INST114"},"Comisión Nacional de Seguridad y Salud en el Trabajo de la Pequeña y Mediana Empresa","Presentar informes a la Dirección de Riesgos Laborales sobre la gestión realizada en el periodo respectivo, a más tardar el 30 de junio y el 31 de diciembre de cada año.",1]
[null,{"$f":"VLOOKUP(C204,[1]instancias_objetos!$A$1:$B$123,2,FALSE)","v":"INST115"},"Mesa por el empleo público","Elaborar un cronograma para identificar las entidades de la Rama Ejecutiva del orden nacional que deben adelantar un proceso de actualización/ampliación de su planta de empleos, en razón a que cumplen funciones a través de contratos de prestación de servicios que deben ser desarrolladas por personal de planta.",1]
[null,{"$f":"VLOOKUP(C205,[1]instancias_objetos!$A$1:$B$123,2,FALSE)","v":"INST115"},"Mesa por el empleo público","Solicitar a las entidades los estudios que soporten las modificaciones de las plantas de empleos y sus fuentes de financiación.",1]
[null,{"$f":"VLOOKUP(C206,[1]instancias_objetos!$A$1:$B$123,2,FALSE)","v":"INST115"},"Mesa por el empleo público","Elaborar informes de seguimiento de la actualización de las plantas de empleo.",1]
[null,{"$f":"VLOOKUP(C207,[1]instancias_objetos!$A$1:$B$123,2,FALSE)","v":"INST116"},"Mesa Técnica Nacional de Familias del Sistema Nacional de Bienestar Familiar","Brindar las orientaciones técnicas para la coordinación, implementación y seguimiento de la PPNAFF en el ámbito nacional.",1]
[null,{"$f":"VLOOKUP(C208,[1]instancias_objetos!$A$1:$B$123,2,FALSE)","v":"INST116"},"Mesa Técnica Nacional de Familias del Sistema Nacional de Bienestar Familiar","Definir las estrategias de gestión de la PPNAFF en el ámbito nacional y territorial.",1]
[null,{"$f":"VLOOKUP(C209,[1]instancias_objetos!$A$1:$B$123,2,FALSE)","v":"INST116"},"Mesa Técnica Nacional de Familias del Sistema Nacional de Bienestar Familiar","Construir orientaciones para las instancias territoriales encargadas de implementar la política.",1]
[null,{"$f":"VLOOKUP(C210,[1]instancias_objetos!$A$1:$B$123,2,FALSE)","v":"INST116"},"Mesa Técnica Nacional de Familias del Sistema Nacional de Bienestar Familiar","Elaborar y hacer seguimiento y monitoreo al Plan de Acción de la PPNAFF.",1]
[null,{"$f":"VLOOKUP(C211,[1]instancias_objetos!$A$1:$B$123,2,FALSE)","v":"INST116"},"Mesa Técnica Nacional de Familias del Sistema Nacional de Bienestar Familiar","Coordinar la elaboración de los informes de gestión y de carácter técnico, que se soliciten.",1]
[null,{"$f":"VLOOKUP(C212,[1]instancias_objetos!$A$1:$B$123,2,FALSE)","v":"INST116"},"Mesa Técnica Nacional de Familias del Sistema Nacional de Bienestar Familiar","Establecer las rutas de articulación de la oferta social dirigida a las familias y hacer seguimiento a su implementación.",1]
[null,{"$f":"VLOOKUP(C213,[1]instancias_objetos!$A$1:$B$123,2,FALSE)","v":"INST116"},"Mesa Técnica Nacional de Familias del Sistema Nacional de Bienestar Familiar","Promover la gestión del conocimiento en articulación con la academia y los observatorios con el fin de conocer la situación de las familias.",1]
[null,{"$f":"VLOOKUP(C214,[1]instancias_objetos!$A$1:$B$123,2,FALSE)","v":"INST116"},"Mesa Técnica Nacional de Familias del Sistema Nacional de Bienestar Familiar","Formular y establecer esquema de seguimiento semestral al Plan de Acción Operativo Anual que contemple acciones de corto, mediano y largo plazo para el cumplimiento de los objetivos y funciones de la Mesa.",1]
[null,{"$f":"VLOOKUP(C215,[1]instancias_objetos!$A$1:$B$123,2,FALSE)","v":"INST116"},"Mesa Técnica Nacional de Familias del Sistema Nacional de Bienestar Familiar","Identificar y definir esquemas de articulación y coordinación con la Mesa de Equidad y otras instancias intersectoriales para la implementación y seguimiento de políticas sociales y poblacionales relacionadas con la protección integral de las familias.",1]
[null,{"$f":"VLOOKUP(C216,[1]instancias_objetos!$A$1:$B$123,2,FALSE)","v":"INST117"},"Comité Ambiental Interinstitucional","Coordinar las acciones de articulación interinstitucional entre las entidades del nivel nacional, regional y local que hacen parte del Sistema Nacional Ambiental, con el fin de acordar estrategias e implementar acciones y medidas para el seguimiento y monitoreo de los aspectos ambientales del Proyecto Hidroeléctrico Hidroituango.",1]
[null,{"$f":"VLOOKUP(C217,[1]instancias_objetos!$A$1:$B$123,2,FALSE)","v":"INST117"},"Comité Ambiental Interinstitucional","Suministrar información técnica y científica que contribuya en la identificación de alternativas para el seguimiento y monitoreo de los impactos ambientales generados por el Proyecto Hidroeléctrico Hidroituango.",1]
[null,{"$f":"VLOOKUP(C218,[1]instancias_objetos!$A$1:$B$123,2,FALSE)","v":"INST117"},"Comité Ambiental Interinstitucional","Consolidar información que facilite a la ANLA la identificación de alternativas de prevención de los impactos ambientales y la definición de las medidas necesarias para el manejo de la contingencia ambiental, en torno a la prevención, control, mitigación y corrección de los factores de deterioro ambiental a la fauna, la flora y los ecosistemas.",1]
[null,{"$f":"VLOOKUP(C219,[1]instancias_objetos!$A$1:$B$123,2,FALSE)","v":"INST117"},"Comité Ambiental Interinstitucional","Emitir recomendaciones de los análisis, estudios, caracterización ambiental, social, y de amenazas, elementos vulnerables y riesgos en las áreas de afectación del proyecto definidas en las modelaciones de Ideam y en las propias de la empresa para su operación normal.",1]
[null,{"$f":"VLOOKUP(C220,[1]instancias_objetos!$A$1:$B$123,2,FALSE)","v":"INST117"},"Comité Ambiental Interinstitucional","Orientar la formulación de recomendaciones técnicas para la prevención de los factores de deterioro ambiental del recurso hídrico, la fauna, la flora y los ecosistemas lagunares que pudieran ser generados en el área de influencia de la contingencia del Proyecto Hidroituango.",1]
[null,{"$f":"VLOOKUP(C221,[1]instancias_objetos!$A$1:$B$123,2,FALSE)","v":"INST117"},"Comité Ambiental Interinstitucional","Recomendar a la ANLA la información que pueda requerir al dueño del proyecto para el monitoreo de impactos y el seguimiento y manejo de riesgos relacionados con la contingencia ambiental.",1]
[null,{"$f":"VLOOKUP(C222,[1]instancias_objetos!$A$1:$B$123,2,FALSE)","v":"INST118"},"Comisión Nacional de Mujeres Indígenas","Recomendar estrategias para difundir e implementar políticas públicas, planes y proyectos que sean concertados y que desarrollen el goce efectivo de los derechos de mujeres, familias y generaciones indígenas.",1]
[null,{"$f":"VLOOKUP(C223,[1]instancias_objetos!$A$1:$B$123,2,FALSE)","v":"INST118"},"Comisión Nacional de Mujeres Indígenas","Asistir, orientar y contribuir técnicamente en la formulación e implementación de políticas públicas, planes y proyectos que se formulen en las comisiones temáticas y subcomisiones técnicas que se derivan de la Mesa Permanente de Concertación con los Pueblos y Organizaciones Indígenas.",1]
[null,{"$f":"VLOOKUP(C224,[1]instancias_objetos!$A$1:$B$123,2,FALSE)","v":"INST118"},"Comisión Nacional de Mujeres Indígenas","Presentar ante la Mesa Permanente de Concertación con los Pueblos y Organizaciones Indígenas, informes periódicos de los avances en el ejercicio de las funciones establecidas en el presente decreto.",1]
[null,{"$f":"VLOOKUP(C225,[1]instancias_objetos!$A$1:$B$123,2,FALSE)","v":"INST119"},"Comité Técnico de Autocontrol y Gestión del Riesgo del Sistema de Subsidio Familiar","Proponer directrices y lineamientos sobre el adecuado manejo y aplicación de los Sistemas Integrados de Gestión al interior de las Cajas de Compensación Familiar.",1]
[null,{"$f":"VLOOKUP(C226,[1]instancias_objetos!$A$1:$B$123,2,FALSE)","v":"INST119"},"Comité Técnico de Autocontrol y Gestión del Riesgo del Sistema de Subsidio Familiar","Estudiar y evaluar los procesos actuales de auditoría establecidos en la normatividad interna, para así determinar si surge la necesidad de implementar procesos adicionales a los existentes, en cuanto a la aplicación de correctivos en el manejo de las Cajas de Compensación Familiar.",1]
[null,{"$f":"VLOOKUP(C227,[1]instancias_objetos!$A$1:$B$123,2,FALSE)","v":"INST119"},"Comité Técnico de Autocontrol y Gestión del Riesgo del Sistema de Subsidio Familiar","Fijar criterios orientadores frente a las inquietudes e inconvenientes que presenten las Auditorías Internas del Sistema de Subsidio Familiar, que se relacionen con:\na)\tActualización a la Normatividad.\nb)\tModelo actualizado y unificado de la gestión integral de riesgos.\nc)\tMetodología y criterios de las Auditorías Internas en el sistema\nd)\tBuenas prácticas de Autocontrol en el aseguramiento (Gobierno, Riesgo y control).\ne)\tCiberseguridad y protección de datos.\nf)\tGobierno Corporativo. (Manual de contratación, Línea Ética, Transparencia, Comité de Ética y Buen Gobierno, Protección de datos).\ng)\tReportes del plan de mejoramiento. (tema de atención permanente a demanda)\nh)\tLavado de activos y/o otros sistemas de administración (LA/FT)\ni)\tInformación remitida a la Superintendencia del Subsidio Familiar en la plataforma SIREVAC/SIGER. (tema de atención permanente a demanda)",1]
[null,{"$f":"VLOOKUP(C228,[1]instancias_objetos!$A$1:$B$123,2,FALSE)","v":"INST119"},"Comité Técnico de Autocontrol y Gestión del Riesgo del Sistema de Subsidio Familiar","Determinar los temas que se deban consultar ante otras instancias cuando sea pertinente, antes de emitir las recomendaciones correspondientes.",1]
[null,{"$f":"VLOOKUP(C229,[1]instancias_objetos!$A$1:$B$123,2,FALSE)","v":"INST119"},"Comité Técnico de Autocontrol y Gestión del Riesgo del Sistema de Subsidio Familiar","Debatir y pronunciarse sobre proyectos de nuevas normas y ordenamientos de diversa índole que afecten el accionar del sistema.",1]
[null,{"$f":"VLOOKUP(C230,[1]instancias_objetos!$A$1:$B$123,2,FALSE)","v":"INST119"},"Comité Técnico de Autocontrol y Gestión del Riesgo del Sistema de Subsidio Familiar","Designar al funcionario que ejercerá la secretaría técnica del comité, preferentemente un profesional del Derecho.",1]
[null,{"$f":"VLOOKUP(C231,[1]instancias_objetos!$A$1:$B$123,2,FALSE)","v":"INST12"},"Consejo Nacional de Planeación","Analizar y discutir el proyecto del Plan Nacional de Desarrollo",1]
[null,{"$f":"VLOOKUP(C232,[1]instancias_objetos!$A$1:$B$123,2,FALSE)","v":"INST12"},"Consejo Nacional de Planeación","Organizar y coordinar una amplia discusión nacional sobre el proyecto del Plan Nacional de Desarrollo, mediante la organización de reuniones nacionales y regionales con los Consejos Territoriales de Planeación en las cuales intervengan los sectores económicos, sociales, ecológicos, comunitarios y culturales, con el fin de garantizar eficazmente la participación ciudadana de acuerdo con el artículo 342 de la Constitución Política",1]
[null,{"$f":"VLOOKUP(C233,[1]instancias_objetos!$A$1:$B$123,2,FALSE)","v":"INST12"},"Consejo Nacional de Planeación","Absolver las consultas que, sobre el Plan Nacional de Desarrollo, formule el Gobierno Nacional o las demás autoridades de planeación durante la discusión del proyecto del plan",1]
[null,{"$f":"VLOOKUP(C234,[1]instancias_objetos!$A$1:$B$123,2,FALSE)","v":"INST12"},"Consejo Nacional de Planeación","Formular recomendaciones a las demás autoridades y organismos de planeación sobre el contenido y la forma del Plan",1]
[null,{"$f":"VLOOKUP(C235,[1]instancias_objetos!$A$1:$B$123,2,FALSE)","v":"INST12"},"Consejo Nacional de Planeación","Conceptuar sobre el proyecto del Plan de Desarrollo elaborado por el Gobierno",1]
[null,{"$f":"VLOOKUP(C236,[1]instancias_objetos!$A$1:$B$123,2,FALSE)","v":"INST120"},"Comité evaluador de los Proyectos Piloto de Investigación Integral","Analizar la información que le provean el Instituto de Hidrología, Meteorología y Estudios Ambientales, el Servicio Geológico Colombiano, el Instituto Alexander von Humboldt, el Ministerio de Salud y Protección Social, la Agencia Nacional de Hidrocarburos, la Autoridad Nacional de Licencias Ambientales y la Comisión Intersectorial de Acompañamiento Técnico y Científico respecto al desarrollo de cada uno de los Proyectos Piloto de Investigación Integral (PPII).",1]
[null,{"$f":"VLOOKUP(C237,[1]instancias_objetos!$A$1:$B$123,2,FALSE)","v":"INST120"},"Comité evaluador de los Proyectos Piloto de Investigación Integral","Recomendar las acciones que se deberán adelantar por parte de todos los actores relacionados con la ejecución de los Proyectos Piloto de Investigación Integral (PPII), en caso de que se decida proseguir con la exploración y explotación, de acuerdo con el resultado de la evaluación.",1]
[null,{"$f":"VLOOKUP(C238,[1]instancias_objetos!$A$1:$B$123,2,FALSE)","v":"INST120"},"Comité evaluador de los Proyectos Piloto de Investigación Integral","Definir si los Proyectos Piloto de Investigación Integral (PPII), individualmente considerados, cumplieron con los requisitos y las condiciones establecidas por el Comité Evaluador, con el fin de recomendar el tratamiento que debe dárseles después de la evaluación, sin perjuicio de las competencias de la Agencia Nacional de Hidrocarburos y de la Autoridad Nacional de Licencias Ambientales.",1]
[null,{"$f":"VLOOKUP(C239,[1]instancias_objetos!$A$1:$B$123,2,FALSE)","v":"INST120"},"Comité evaluador de los Proyectos Piloto de Investigación Integral","Llevar a cabo la evaluación y un análisis de los riesgos de la aplicación de la técnica Fracturamiento Hidráulico Multietapa con Perforación Horizontal (FH-PH) y su plan de manejo de acuerdo con la información recibida por la Comisión Intersectorial de Acompañamiento Técnico y Científico.",1]
[null,{"$f":"VLOOKUP(C240,[1]instancias_objetos!$A$1:$B$123,2,FALSE)","v":"INST120"},"Comité evaluador de los Proyectos Piloto de Investigación Integral","Expedir y publicar en el Centro de Transparencia su reglamento en un plazo máximo de un mes después de que finalice el término de 45 días fijado en el Parágrafo Segundo del artículo 2.2.1.1.1A.2.16, sin perjuicio de que se hayan elegido o no los miembros a los que se refieren los literales e), f) y g) de dicho artículo. El reglamento deberá establecer los criterios a partir de los cuales se realizará la evaluación en relación con el desarrollo del Fracturamiento Hidráulico Multietapa con Perforación Horizontal (FH-PH) y el término para efectuar dicha evaluación.",1]
[null,{"$f":"VLOOKUP(C241,[1]instancias_objetos!$A$1:$B$123,2,FALSE)","v":"INST120"},"Comité evaluador de los Proyectos Piloto de Investigación Integral","Recibir en sesión plenaria a los delegados que designe cada una de las Mesas Territoriales de Diálogo y Seguimiento, quienes podrán rendir un informe sobre el desarrollo de los Proyectos Piloto de Investigación Integral (PPII) en cada una de las áreas de influencia.",1]
[null,{"$f":"VLOOKUP(C242,[1]instancias_objetos!$A$1:$B$123,2,FALSE)","v":"INST120"},"Comité evaluador de los Proyectos Piloto de Investigación Integral","Conformar los grupos interdisciplinarios e interinstitucionales que se requieran para apoyar el cumplimiento de sus funciones.",1]
[null,{"$f":"VLOOKUP(C243,[1]instancias_objetos!$A$1:$B$123,2,FALSE)","v":"INST121"},"Comisión Intersectorial de Acompañamiento Técnico y Científico","Orientar la integración, análisis y divulgación de la información generada durante la ejecución de los Proyectos Piloto de Investigación Integral (PPII), teniendo en cuenta los informes semestrales de los Subcomités Intersectoriales Técnicos y Científicos, y las alertas recibidas en la ejecución de los proyectos.",1]
[null,{"$f":"VLOOKUP(C244,[1]instancias_objetos!$A$1:$B$123,2,FALSE)","v":"INST121"},"Comisión Intersectorial de Acompañamiento Técnico y Científico","Impartir los lineamientos para la elaboración de los informes que deben presentar los Subcomités Intersectoriales Técnicos y Científicos sobre las actividades de seguimiento y monitoreo.",1]
[null,{"$f":"VLOOKUP(C245,[1]instancias_objetos!$A$1:$B$123,2,FALSE)","v":"INST121"},"Comisión Intersectorial de Acompañamiento Técnico y Científico","Coordinar la recepción y análisis de los informes que emitan las Mesas Territoriales de Diálogo y Seguimiento a los Proyectos Piloto de Investigación Integral (PPII).",1]
[null,{"$f":"VLOOKUP(C246,[1]instancias_objetos!$A$1:$B$123,2,FALSE)","v":"INST121"},"Comisión Intersectorial de Acompañamiento Técnico y Científico","Coordinar la preparación y remisión de los informes que solicite el Comité Evaluador.",1]
[null,{"$f":"VLOOKUP(C247,[1]instancias_objetos!$A$1:$B$123,2,FALSE)","v":"INST121"},"Comisión Intersectorial de Acompañamiento Técnico y Científico","Hacer seguimiento al cronograma para el desarrollo de los Proyectos Piloto de Investigación Integral (PPII).",1]
[null,{"$f":"VLOOKUP(C248,[1]instancias_objetos!$A$1:$B$123,2,FALSE)","v":"INST121"},"Comisión Intersectorial de Acompañamiento Técnico y Científico","Recomendar a la entidad competente la suspensión de las actividades cuando se verifica alguna de las causales establecidas en la normatividad vigente, sin perjuicio de las competencias asignadas a cada una de las entidades.",1]
[null,{"$f":"VLOOKUP(C249,[1]instancias_objetos!$A$1:$B$123,2,FALSE)","v":"INST121"},"Comisión Intersectorial de Acompañamiento Técnico y Científico","Recomendar a la entidad competente, en caso de que se haya decretado la suspensión de actividades, que levante la suspensión si se considera que los motivos que dieron lugar a la misma ya cesaron.",1]
[null,{"$f":"VLOOKUP(C250,[1]instancias_objetos!$A$1:$B$123,2,FALSE)","v":"INST121"},"Comisión Intersectorial de Acompañamiento Técnico y Científico","Elaborar un informe final que compile la información obtenida y el conocimiento generado con la implementación de los Proyectos Piloto de Investigación Integral (PPII) y remitirlo al Comité Evaluador.",1]
[null,{"$f":"VLOOKUP(C251,[1]instancias_objetos!$A$1:$B$123,2,FALSE)","v":"INST121"},"Comisión Intersectorial de Acompañamiento Técnico y Científico","Reunirse trimestralmente de manera ordinaria y de manera extraordinaria cuando las condiciones así lo aconsejen.",1]
[null,{"$f":"VLOOKUP(C252,[1]instancias_objetos!$A$1:$B$123,2,FALSE)","v":"INST121"},"Comisión Intersectorial de Acompañamiento Técnico y Científico","Solicitar a las entidades competentes la información que considere necesaria para el desarrollo de sus funciones.",1]
[null,{"$f":"VLOOKUP(C253,[1]instancias_objetos!$A$1:$B$123,2,FALSE)","v":"INST121"},"Comisión Intersectorial de Acompañamiento Técnico y Científico","Orientar el cumplimiento de las funciones de las Mesas Territoriales de Diálogo y Seguimiento y de los Subcomités Intersectoriales Técnicos y Científicos de los Proyectos Piloto de Investigación Integral (PPII).",1]
[null,{"$f":"VLOOKUP(C254,[1]instancias_objetos!$A$1:$B$123,2,FALSE)","v":"INST122"},"Consejo Nacional de Planeación Lingüística de la Lengua de Señas Colombiana","Establecer el reglamento interno de funcionamiento del Consejo Nacional de Planeación Lingüística de la LSC.",1]
[null,{"$f":"VLOOKUP(C255,[1]instancias_objetos!$A$1:$B$123,2,FALSE)","v":"INST122"},"Consejo Nacional de Planeación Lingüística de la Lengua de Señas Colombiana","Formular y concertar una política de protección, fortalecimiento y promoción de la LSC. ",1]
[null,{"$f":"VLOOKUP(C256,[1]instancias_objetos!$A$1:$B$123,2,FALSE)","v":"INST122"},"Consejo Nacional de Planeación Lingüística de la Lengua de Señas Colombiana","Gestionar a nivel nacional recursos científicos, técnicos o fi­nancieros para promover programas y proyectos en favor de la LSC. ",1]
[null,{"$f":"VLOOKUP(C257,[1]instancias_objetos!$A$1:$B$123,2,FALSE)","v":"INST122"},"Consejo Nacional de Planeación Lingüística de la Lengua de Señas Colombiana","Recopilar, documentar y divulgar los neologismos y las varia­ciones que naturalmente se producen en la dinámica de utiliza­ción de la LSC.",1]
[null,{"$f":"VLOOKUP(C258,[1]instancias_objetos!$A$1:$B$123,2,FALSE)","v":"INST122"},"Consejo Nacional de Planeación Lingüística de la Lengua de Señas Colombiana","Crear, recolectar y divulgar el vocabulario cotidiano y los térmi­nos especializados que contribuyan a eliminar las barreras co­municativas presentadas por el desconocimiento de variaciones lingüísticas geográficas, sociales, situacionales y diacrónicas en el uso de LSC para diferentes funciones y contextos.",1]
[null,{"$f":"VLOOKUP(C259,[1]instancias_objetos!$A$1:$B$123,2,FALSE)","v":"INST122"},"Consejo Nacional de Planeación Lingüística de la Lengua de Señas Colombiana","Armonizar los lineamientos básicos de LSC para el proceso de construcción y desarrollo de la misma.",1]
[null,{"$f":"VLOOKUP(C260,[1]instancias_objetos!$A$1:$B$123,2,FALSE)","v":"INST122"},"Consejo Nacional de Planeación Lingüística de la Lengua de Señas Colombiana","Proponer, analizar y concertar políticas que promuevan la inser­ción laboral de las personas sordas en el país.",1]
[null,{"$f":"VLOOKUP(C261,[1]instancias_objetos!$A$1:$B$123,2,FALSE)","v":"INST13"},"Consejo Nacional de Riesgos Laborales (Antes Riesgos Profesionales)","Recomendar la formulación de las estrategias y programas para el Sistema General de Riesgos Profesionales, de acuerdo con los planes y programas de desarrollo económico, social y ambiental que apruebe el Congreso de la República",1]
[null,{"$f":"VLOOKUP(C262,[1]instancias_objetos!$A$1:$B$123,2,FALSE)","v":"INST13"},"Consejo Nacional de Riesgos Laborales (Antes Riesgos Profesionales)","Recomendar las normas técnicas de salud ocupacional que regulan el control de los factores de riesgo",1]
[null,{"$f":"VLOOKUP(C263,[1]instancias_objetos!$A$1:$B$123,2,FALSE)","v":"INST13"},"Consejo Nacional de Riesgos Laborales (Antes Riesgos Profesionales)","Recomendar las normas de obligatorio cumplimiento sobre las actividades de promoción y prevención para las Entidades Administradoras de Riesgos Profesionales",1]
[null,{"$f":"VLOOKUP(C264,[1]instancias_objetos!$A$1:$B$123,2,FALSE)","v":"INST13"},"Consejo Nacional de Riesgos Laborales (Antes Riesgos Profesionales)","Recomendar la reglamentación sobre la recolección, transferencia y difusión de la información sobre riesgos profesionales",1]
[null,{"$f":"VLOOKUP(C265,[1]instancias_objetos!$A$1:$B$123,2,FALSE)","v":"INST13"},"Consejo Nacional de Riesgos Laborales (Antes Riesgos Profesionales)","Recomendar al Gobierno Nacional las modificaciones que considere necesarias a la tabla de clasificación de enfermedades profesionales",1]
[null,{"$f":"VLOOKUP(C266,[1]instancias_objetos!$A$1:$B$123,2,FALSE)","v":"INST13"},"Consejo Nacional de Riesgos Laborales (Antes Riesgos Profesionales)","Recomendar las normas y procedimientos que le permitan vigilar y controlar las condiciones de trabajo en las empresas",1]
[null,{"$f":"VLOOKUP(C267,[1]instancias_objetos!$A$1:$B$123,2,FALSE)","v":"INST13"},"Consejo Nacional de Riesgos Laborales (Antes Riesgos Profesionales)","Recomendar el plan nacional de salud ocupacional",1]
[null,{"$f":"VLOOKUP(C268,[1]instancias_objetos!$A$1:$B$123,2,FALSE)","v":"INST13"},"Consejo Nacional de Riesgos Laborales (Antes Riesgos Profesionales)","Aprobar el presupuesto general de gasto del Fondo de Riesgos Profesionales, presentado por el secretario técnico del consejo",1]
[null,{"$f":"VLOOKUP(C269,[1]instancias_objetos!$A$1:$B$123,2,FALSE)","v":"INST14"},"Junta Nacional de Educación","Ser órgano consultivo permanente en materias relacionadas con la prestación y organización del servicio público de la educación",1]
[null,{"$f":"VLOOKUP(C270,[1]instancias_objetos!$A$1:$B$123,2,FALSE)","v":"INST14"},"Junta Nacional de Educación","Proponer al Gobierno Nacional políticas, programas y proyectos conducentes al mejoramiento de la calidad, cobertura y gestión del servicio educativo",1]
[null,{"$f":"VLOOKUP(C271,[1]instancias_objetos!$A$1:$B$123,2,FALSE)","v":"INST14"},"Junta Nacional de Educación","Formular propuestas al Gobierno Nacional sobre proyectos de ley y reglamentaciones que faciliten el cabal desarrollo de la educación",1]
[null,{"$f":"VLOOKUP(C272,[1]instancias_objetos!$A$1:$B$123,2,FALSE)","v":"INST14"},"Junta Nacional de Educación","Plantear acciones de investigación que promuevan el desarrollo científico del proceso educativo nacional",1]
[null,{"$f":"VLOOKUP(C273,[1]instancias_objetos!$A$1:$B$123,2,FALSE)","v":"INST14"},"Junta Nacional de Educación","Presentar periódicamente al Gobierno Nacional, con base en los resultados de investigaciones estadísticas, informes de evaluación sobre el cumplimiento de los objetivos del servicio público de la educación",1]
[null,{"$f":"VLOOKUP(C274,[1]instancias_objetos!$A$1:$B$123,2,FALSE)","v":"INST15"},"Comisión Nacional Ciudadana para la Lucha Contra la Corrupción","Velar por el cumplimiento de la aplicación de la presente ley y de la Ley 190 de 1995",1]
[null,{"$f":"VLOOKUP(C275,[1]instancias_objetos!$A$1:$B$123,2,FALSE)","v":"INST15"},"Comisión Nacional Ciudadana para la Lucha Contra la Corrupción","Realizar un informe de seguimiento, evaluación y recomendaciones a las políticas, planes y programas que se pongan en marcha en materia de lucha contra la corrupción, el cual deberá presentarse al menos una (1) vez cada año",1]
[null,{"$f":"VLOOKUP(C276,[1]instancias_objetos!$A$1:$B$123,2,FALSE)","v":"INST15"},"Comisión Nacional Ciudadana para la Lucha Contra la Corrupción","Impulsar campañas en las instituciones educativas para la promoción de los valores éticos y la lucha contra la corrupción",1]
[null,{"$f":"VLOOKUP(C277,[1]instancias_objetos!$A$1:$B$123,2,FALSE)","v":"INST15"},"Comisión Nacional Ciudadana para la Lucha Contra la Corrupción","Promover la elaboración de códigos de conducta para el ejercicio ético y transparente de las actividades del sector privado y para la prevención de conflictos de intereses en el mismo",1]
[null,{"$f":"VLOOKUP(C278,[1]instancias_objetos!$A$1:$B$123,2,FALSE)","v":"INST15"},"Comisión Nacional Ciudadana para la Lucha Contra la Corrupción","Hacer un seguimiento especial a las medidas adoptadas en esta ley para mejorar la gestión pública tales como la contratación pública, la política antitrámites, la democratización de la Administración Pública, el acceso a la información pública y la atención al ciudadano",1]
[null,{"$f":"VLOOKUP(C279,[1]instancias_objetos!$A$1:$B$123,2,FALSE)","v":"INST15"},"Comisión Nacional Ciudadana para la Lucha Contra la Corrupción","Realizar un seguimiento especial a los casos e investigaciones de corrupción de alto impacto",1]
[null,{"$f":"VLOOKUP(C280,[1]instancias_objetos!$A$1:$B$123,2,FALSE)","v":"INST15"},"Comisión Nacional Ciudadana para la Lucha Contra la Corrupción","Realizar un seguimiento a la implementación de las medidas contempladas en esta ley para regular el cabildeo, con el objeto de velar por la transparencia de las decisiones públicas",1]
[null,{"$f":"VLOOKUP(C281,[1]instancias_objetos!$A$1:$B$123,2,FALSE)","v":"INST15"},"Comisión Nacional Ciudadana para la Lucha Contra la Corrupción","Promover la participación activa de los medios de comunicación social en el desarrollo de programas orientados a la lucha contra la corrupción y al rescate de la moral pública",1]
[null,{"$f":"VLOOKUP(C282,[1]instancias_objetos!$A$1:$B$123,2,FALSE)","v":"INST15"},"Comisión Nacional Ciudadana para la Lucha Contra la Corrupción","Denunciar ante las autoridades competentes los hechos o actuaciones irregulares de los servidores públicos de los cuales tengan conocimiento, en cumplimiento de lo previsto en el artículo 92 de la Constitución",1]
[null,{"$f":"VLOOKUP(C283,[1]instancias_objetos!$A$1:$B$123,2,FALSE)","v":"INST15"},"Comisión Nacional Ciudadana para la Lucha Contra la Corrupción","Prestar su concurso en el cumplimiento de las acciones populares en cuanto hacen relación con la moralidad administrativa",1]
[null,{"$f":"VLOOKUP(C284,[1]instancias_objetos!$A$1:$B$123,2,FALSE)","v":"INST15"},"Comisión Nacional Ciudadana para la Lucha Contra la Corrupción","Velar por que la Administración Pública mantenga actualizado el inventario y propiedad de bienes muebles e inmuebles pertenecientes a las diversas entidades, así como su adecuada utilización",1]
[null,{"$f":"VLOOKUP(C285,[1]instancias_objetos!$A$1:$B$123,2,FALSE)","v":"INST15"},"Comisión Nacional Ciudadana para la Lucha Contra la Corrupción","Velar y proponer directrices para dar cumplimiento a lo previsto en el artículo 56 de la Ley 190 de 1995",1]
[null,{"$f":"VLOOKUP(C286,[1]instancias_objetos!$A$1:$B$123,2,FALSE)","v":"INST16"},"Comisión Pedagógica Nacional","Asesorar la elaboración, formulación y ejecución de políticas de etnoeducación y la construcción de los currículos correspondientes para la prestación del servicio educativo, acorde a las necesidades, intereses o expectativas de las comunidades negras. ",1]
[null,{"$f":"VLOOKUP(C287,[1]instancias_objetos!$A$1:$B$123,2,FALSE)","v":"INST16"},"Comisión Pedagógica Nacional","Brindar asesoría y seguimiento a las políticas educativas para las comunidades afrocolombianas, proponiendo porque su ejecución responda a los parámetros establecidos en su formulación y respetando su diversidad cultural y autonomía. ",1]
[null,{"$f":"VLOOKUP(C288,[1]instancias_objetos!$A$1:$B$123,2,FALSE)","v":"INST16"},"Comisión Pedagógica Nacional","Asesorar a las comunidades en la elaboración de propuestas de creación de instituciones educativas y medios de comunicación propios conforme al artículo 35 de la Ley 70 de 1993. ",1]
[null,{"$f":"VLOOKUP(C289,[1]instancias_objetos!$A$1:$B$123,2,FALSE)","v":"INST16"},"Comisión Pedagógica Nacional","Acompañar la formulación del diseño de la cátedra de estudios afrocolombianos garantizando la participación de las comunidades negras y velar por la ejecución de ésta en todos lo niveles de los planteles educativos en Colombia. ",1]
[null,{"$f":"VLOOKUP(C290,[1]instancias_objetos!$A$1:$B$123,2,FALSE)","v":"INST16"},"Comisión Pedagógica Nacional","Impulsar la constitución y el funcionamiento de la Universidad del Pacífico. ",1]
[null,{"$f":"VLOOKUP(C291,[1]instancias_objetos!$A$1:$B$123,2,FALSE)","v":"INST16"},"Comisión Pedagógica Nacional","Coordinar con la Comisión Consultiva de Alto Nivel de que trata el artículo 45 de la Ley 70 de 1993 y gestionar la reglamentación y desarrollo de la Ley 70 en materia educativa",1]
[null,{"$f":"VLOOKUP(C292,[1]instancias_objetos!$A$1:$B$123,2,FALSE)","v":"INST16"},"Comisión Pedagógica Nacional","Elaborar recomendaciones de políticas, planes y proyectos para la educación a todos los niveles, que responda al fortalecimiento de la identidad y a la satisfacción de las necesidades, intereses y expectativas de las comunidades negras. ",1]
[null,{"$f":"VLOOKUP(C293,[1]instancias_objetos!$A$1:$B$123,2,FALSE)","v":"INST17"},"Comité Interinstitucional para la Erradicación del Trabajo Infantil y la Protección del Menor Trabajador","Asesorar, coordinar y proponer políticas y programas tendientes a mejorar la condición social laboral del menor trabajador y desestimular la utilización de la mano de obra infantil.",1]
[null,{"$f":"VLOOKUP(C294,[1]instancias_objetos!$A$1:$B$123,2,FALSE)","v":"INST17"},"Comité Interinstitucional para la Erradicación del Trabajo Infantil y la Protección del Menor Trabajador","Elaborar y proponer el Plan Nacional de Acción, para la eliminación progresiva del trabajo infantil y la Protección del Menor Trabajador entre catorce (14) y dieciocho (18) años de edad.",1]
[null,{"$f":"VLOOKUP(C295,[1]instancias_objetos!$A$1:$B$123,2,FALSE)","v":"INST17"},"Comité Interinstitucional para la Erradicación del Trabajo Infantil y la Protección del Menor Trabajador","Fortalecer la coordinación y concertación entre las instituciones públicas y privadas nacionales e internacionales, relacionadas con el menor trabajador, a fin de definir alternativas y estrategias que reduzcan o eliminen las causas básicas que generan el trabajo infantil y que promueven la efectividad de la legislación sobre el trabajo de los menores entre catorce (14) y dieciocho (18) años.",1]
[null,{"$f":"VLOOKUP(C296,[1]instancias_objetos!$A$1:$B$123,2,FALSE)","v":"INST17"},"Comité Interinstitucional para la Erradicación del Trabajo Infantil y la Protección del Menor Trabajador","Proponer para su adopción por las entidades responsables procedimientos que garanticen la evaluación del seguimiento del Plan Nacional de Acción para la Protección del Menor Trabajador entre catorce (14) y dieciocho (18) años.",1]
[null,{"$f":"VLOOKUP(C297,[1]instancias_objetos!$A$1:$B$123,2,FALSE)","v":"INST17"},"Comité Interinstitucional para la Erradicación del Trabajo Infantil y la Protección del Menor Trabajador","Convocar y asesorar las entidades territoriales para la adopción y aplicación dentro de sus respectivas jurisdicciones y competencias, del Plan Nacional de Acción para la eliminación progresiva del trabajo infantil y la protección del menor trabajador entre catorce (14) y dieciocho (18) años.",1]
[null,{"$f":"VLOOKUP(C298,[1]instancias_objetos!$A$1:$B$123,2,FALSE)","v":"INST18"},"Comisión de Derechos Humanos de los Pueblos Indígenas","Velar por la protección y promoción de los derechos humanos de los pueblos indígenas y de los miembros de dichos pueblos, y especialmente de sus derechos a la vida, a la integridad personal y a la libertad",1]
[null,{"$f":"VLOOKUP(C299,[1]instancias_objetos!$A$1:$B$123,2,FALSE)","v":"INST18"},"Comisión de Derechos Humanos de los Pueblos Indígenas","Definir medidas para prevenir las violaciones graves de los derechos humanos y propender por su aplicación",1]
[null,{"$f":"VLOOKUP(C300,[1]instancias_objetos!$A$1:$B$123,2,FALSE)","v":"INST18"},"Comisión de Derechos Humanos de los Pueblos Indígenas","Diseñar y propender por la aplicación de medidas tendientes a reducir y eliminar las violaciones graves de los derechos humanos y las infracciones del derecho internacional humanitario que afecten a los pueblos indígenas",1]
[null,{"$f":"VLOOKUP(C301,[1]instancias_objetos!$A$1:$B$123,2,FALSE)","v":"INST18"},"Comisión de Derechos Humanos de los Pueblos Indígenas","Hacer seguimiento e impulsar las investigaciones penales y disciplinarias que se lleven a cabo en relación con las violaciones graves de los derechos humanos de los indígenas, con sujeción a las normas que regulan la reserva legal",1]
[null,{"$f":"VLOOKUP(C302,[1]instancias_objetos!$A$1:$B$123,2,FALSE)","v":"INST18"},"Comisión de Derechos Humanos de los Pueblos Indígenas","Diseñar un programa especial de atención de indígenas víctimas de la violencia, sus familiares inmediatos, viudas y huérfanos, con cubrimiento nacional, y definir los mecanismos para su funcionamiento y ejecución. ",1]
[null,{"$f":"VLOOKUP(C303,[1]instancias_objetos!$A$1:$B$123,2,FALSE)","v":"INST19"},"Comisión Nacional de Territorios Indígenas","Acceder a la información consolidada sobre gestión del INCORA respecto de resguardos indígenas durante el período 1980-1996. ",1]
[null,{"$f":"VLOOKUP(C304,[1]instancias_objetos!$A$1:$B$123,2,FALSE)","v":"INST19"},"Comisión Nacional de Territorios Indígenas","Acceder a la información y actualizarla, sobre necesidades de las comunidades indígenas para la constitución, ampliación, reestructuración y saneamiento de resguardos y reservas indígenas y la conversión de éstas en resguardo; solicitudes presentadas, expedientes abiertos y estado de los procedimientos adelantados. ",1]
[null,{"$f":"VLOOKUP(C305,[1]instancias_objetos!$A$1:$B$123,2,FALSE)","v":"INST19"},"Comisión Nacional de Territorios Indígenas","Concertar la programación para períodos anuales de las acciones de constitución, ampliación, reestructuración y saneamiento de resguardos y saneamiento y conversión de reservas indígenas que se requieran de acuerdo con la información a que se refiere el numeral anterior, para su ejecución a partir de la vigencia presupuestal de 1997; priorizando las siguientes: \na) Saneamiento de resguardos indígenas constituidos en las zonas de reserva forestal de la Amazonia y del Pacífico. \nb) Ampliación, constitución y/o saneamiento de resguardos para pueblos indígenas amenazados: Chimila, Nukak, Yukpas, Kofan, Embera de Risaralda (Caldas), pueblos indígenas de Arauca, la comunidad Kuti del Río Tolo en el Departamento del Chocó y la conversión de reservas en resguardos y su saneamiento; \nc) Para las comunidades indígenas del Tolima: Constitución de resguardos en los predios del Fondo Nacional Agrario que hayan sido entregados y los que posean tradicionalmente; y adelantar el programa de adquisición de tierras. ",1]
[null,{"$f":"VLOOKUP(C306,[1]instancias_objetos!$A$1:$B$123,2,FALSE)","v":"INST19"},"Comisión Nacional de Territorios Indígenas","Preparar un estimativo de los costos por períodos anuales de las actividades programadas de acuerdo con el numeral anterior, para realizar los estudios socioeconómicos, adquisición de predios y mejoras, adecuación institucional, requerimientos técnicos, inscripción de títulos, etc., y señalar los presupuestos necesarios para cada una de las vigencias fiscales. ",1]
[null,{"$f":"VLOOKUP(C307,[1]instancias_objetos!$A$1:$B$123,2,FALSE)","v":"INST19"},"Comisión Nacional de Territorios Indígenas","Presentar al Gobierno Nacional la partida necesaria para la ejecución del cronograma durante el primer año para que éste gestione en el Congreso de la República su inclusión en el proyecto de ley de presupuesto, vigencia fiscal de 1997. ",1]
[null,{"$f":"VLOOKUP(C308,[1]instancias_objetos!$A$1:$B$123,2,FALSE)","v":"INST19"},"Comisión Nacional de Territorios Indígenas","Bajo el criterio de la obligación del Estado de proteger la diversidad étnica y cultural de la Nación y del ordenamiento de los territorios indígenas, analizar las normas de la legislación agraria atinentes a resguardos indígenas y recomendar las modificaciones que se requieran para superar los principales obstáculos que se presentan a fin de darle cumplimiento a la constitución, ampliación, saneamiento y reestructuración de resguardos indígenas y el saneamiento y conversión de reservas indígenas. ",1]
[null,{"$f":"VLOOKUP(C309,[1]instancias_objetos!$A$1:$B$123,2,FALSE)","v":"INST19"},"Comisión Nacional de Territorios Indígenas","Recomendar las modificaciones que requiera el Acuerdo 13 de 1995 de la Junta Directiva del INCORA y presentarlo para su aprobación. ",1]
[null,{"$f":"VLOOKUP(C310,[1]instancias_objetos!$A$1:$B$123,2,FALSE)","v":"INST19"},"Comisión Nacional de Territorios Indígenas","Hacer el seguimiento a la ejecución de la programación del INCORA para la constitución, ampliación, saneamiento y reestructuración de resguardos indígenas, y saneamiento y conversión de reservas a partir de la fecha de expedición del presente Decreto. ",1]
[null,{"$f":"VLOOKUP(C311,[1]instancias_objetos!$A$1:$B$123,2,FALSE)","v":"INST20"},"Comisión Permanente de Concertación de Políticas Salariales y Laborales","Fomentar las buenas relaciones laborales con el fin de lograr la justicia dentro de un espíritu de coordinación económica y equilibrio social",1]
[null,{"$f":"VLOOKUP(C312,[1]instancias_objetos!$A$1:$B$123,2,FALSE)","v":"INST20"},"Comisión Permanente de Concertación de Políticas Salariales y Laborales","Contribuir a la solución de los conflictos colectivos de trabajo, contemplados en el Título II de la parte segunda del Código Sustantivo del Trabajo",1]
[null,{"$f":"VLOOKUP(C313,[1]instancias_objetos!$A$1:$B$123,2,FALSE)","v":"INST20"},"Comisión Permanente de Concertación de Políticas Salariales y Laborales","Fijar de manera concertada la política salarial, teniendo en cuenta los principios constitucionales que rigen la materia",1]
[null,{"$f":"VLOOKUP(C314,[1]instancias_objetos!$A$1:$B$123,2,FALSE)","v":"INST20"},"Comisión Permanente de Concertación de Políticas Salariales y Laborales","Fijar de manera concertada el salario mínimo de carácter general, teniendo en cuenta que se debe garantizar una calidad de vida digna para el trabajador y su familia",1]
[null,{"$f":"VLOOKUP(C315,[1]instancias_objetos!$A$1:$B$123,2,FALSE)","v":"INST20"},"Comisión Permanente de Concertación de Políticas Salariales y Laborales","Fijar de manera concertada la política laboral mediante planes estratégicos sobre estos asuntos: Bienestar de los trabajadores; adopción de nuevas formas de capacitación laboral; creación de empleo; mejoramiento de la producción y la productividad; remuneración mínima vital y móvil proporcional a la cantidad y calidad del trabajo; redistribución equitativa del ingreso; reconversión industrial y recalificación laboral; participación de los trabajadores en la gestión de las empresas; universalización de la seguridad social; garantía de los derechos de la mujer, del menor trabajador y de otros trabajadores vulnerables y garantía de los derechos sindicales",1]
[null,{"$f":"VLOOKUP(C316,[1]instancias_objetos!$A$1:$B$123,2,FALSE)","v":"INST20"},"Comisión Permanente de Concertación de Políticas Salariales y Laborales","Revisar la ejecución de las medidas y políticas adoptadas en desarrollo de sus funciones y fijar los cambios y ajustes que la Comisión crea convenientes",1]
[null,{"$f":"VLOOKUP(C317,[1]instancias_objetos!$A$1:$B$123,2,FALSE)","v":"INST20"},"Comisión Permanente de Concertación de Políticas Salariales y Laborales","Definir estrategias de desarrollo para los trabajadores independientes y de la economía solidaria",1]
[null,{"$f":"VLOOKUP(C318,[1]instancias_objetos!$A$1:$B$123,2,FALSE)","v":"INST20"},"Comisión Permanente de Concertación de Políticas Salariales y Laborales","Preparar los proyectos de ley en materias sujetas a su competencia, para que el Gobierno los presente al Congreso de la República",1]
[null,{"$f":"VLOOKUP(C319,[1]instancias_objetos!$A$1:$B$123,2,FALSE)","v":"INST20"},"Comisión Permanente de Concertación de Políticas Salariales y Laborales","Absolver las consultas que el gobierno formule anualmente sobre las respuestas de los gobiernos a los cuestionarios relativos a los puntos incluidos en el Orden del Día de la Conferencia Internacional del Trabajo y los comentarios de los gobiernos sobre los proyectos de texto que deba discutir la Conferencia",1]
[null,{"$f":"VLOOKUP(C320,[1]instancias_objetos!$A$1:$B$123,2,FALSE)","v":"INST20"},"Comisión Permanente de Concertación de Políticas Salariales y Laborales","Absolver las consultas que el gobierno formule anualmente sobre las propuestas que hayan de presentarse a la autoridad y autoridades competentes en relación con la sumisión de los convenios y recomendaciones, de conformidad con el artículo 19 de la Constitución de la OIT",1]
[null,{"$f":"VLOOKUP(C321,[1]instancias_objetos!$A$1:$B$123,2,FALSE)","v":"INST20"},"Comisión Permanente de Concertación de Políticas Salariales y Laborales","Absolver las consultas que el gobierno formule anualmente sobre la reconsideración, a intervalos apropiados, de convenios no ratificados y de recomendaciones a las que no se haya dado aún efecto para estudiar qué medidas podrían tomarse para promover su puesta en práctica y su ratificación eventual",1]
[null,{"$f":"VLOOKUP(C322,[1]instancias_objetos!$A$1:$B$123,2,FALSE)","v":"INST20"},"Comisión Permanente de Concertación de Políticas Salariales y Laborales","Absolver las consultas que el gobierno formule anualmente sobre las cuestiones que puedan plantear las memorias que hayan de comunicarse a la Oficina Internacional del Trabajo en virtud del artículo 22 de la Constitución de la Organización Internacional del Trabajo",1]
[null,{"$f":"VLOOKUP(C323,[1]instancias_objetos!$A$1:$B$123,2,FALSE)","v":"INST20"},"Comisión Permanente de Concertación de Políticas Salariales y Laborales","Absolver las consultas que el gobierno formule anualmente sobre las propuestas de denuncias de convenios ratificados",1]
[null,{"$f":"VLOOKUP(C324,[1]instancias_objetos!$A$1:$B$123,2,FALSE)","v":"INST21"},"Consejo Nacional Agropecuario y Agroindustrial","Asesorar al Gobierno Nacional en la investigación, análisis, preparación, planificación, formulación, adopción, aplicación y desarrollo de la política agropecuaria y agroindustrial",1]
[null,{"$f":"VLOOKUP(C325,[1]instancias_objetos!$A$1:$B$123,2,FALSE)","v":"INST21"},"Consejo Nacional Agropecuario y Agroindustrial","Conceptuar sobre las líneas generales de la política agropecuaria y agroindustrial; estudiar la programación de la política agropecuaria y agroindustrial a corto, mediano y largo plazo, elaborar un proyecto presupuestal concerniente al sector agropecuario y agroindustrial, proponer alternativas para su mejoramiento; conceptuar sobre la necesidad y conveniencia de las reformas legislativas, evaluar el nivel de preparación de los funcionarios que trabajen en el sector agropecuario y recomendar los programas académicos teóricos que contribuyan a su mejoramiento; establecer un sistema de estímulos y sanciones para estos funcionarios",1]
[null,{"$f":"VLOOKUP(C326,[1]instancias_objetos!$A$1:$B$123,2,FALSE)","v":"INST21"},"Consejo Nacional Agropecuario y Agroindustrial","Examinar la evolución periódica del sector agropecuario y pesquero y cada uno de los subsectores que la integran",1]
[null,{"$f":"VLOOKUP(C327,[1]instancias_objetos!$A$1:$B$123,2,FALSE)","v":"INST21"},"Consejo Nacional Agropecuario y Agroindustrial","Evaluar el grado de bienestar social alcanzado por la población campesina y de pequeños pescaderos y proponer las medidas aconsejables para mejorarlo",1]
[null,{"$f":"VLOOKUP(C328,[1]instancias_objetos!$A$1:$B$123,2,FALSE)","v":"INST21"},"Consejo Nacional Agropecuario y Agroindustrial","Considerar el estado del comercio internacional de bienes agropecuarios y sugerir medidas para incrementar la participación de Colombia en el mismo",1]
[null,{"$f":"VLOOKUP(C329,[1]instancias_objetos!$A$1:$B$123,2,FALSE)","v":"INST21"},"Consejo Nacional Agropecuario y Agroindustrial","Conceptuar sobre los programas de inversión social en el campo que el Estado realice o pretenda realizar",1]
[null,{"$f":"VLOOKUP(C330,[1]instancias_objetos!$A$1:$B$123,2,FALSE)","v":"INST21"},"Consejo Nacional Agropecuario y Agroindustrial","Proponer medidas orientadas al incremento de la productividad física, económica y al mejoramiento del sector agropecuario",1]
[null,{"$f":"VLOOKUP(C331,[1]instancias_objetos!$A$1:$B$123,2,FALSE)","v":"INST21"},"Consejo Nacional Agropecuario y Agroindustrial","Recomendará un plan de modernización que utilice como instrumentos la informática y la cibernética, de tal manera que permita y facilite el entendimiento, la comunicación y la informática entre los diversos sectores del sistema agropecuario",1]
[null,{"$f":"VLOOKUP(C332,[1]instancias_objetos!$A$1:$B$123,2,FALSE)","v":"INST21"},"Consejo Nacional Agropecuario y Agroindustrial","Recomendará un plan de pedagogía de la política agropecuaria para los funcionarios del sistema agropecuario",1]
[null,{"$f":"VLOOKUP(C333,[1]instancias_objetos!$A$1:$B$123,2,FALSE)","v":"INST21"},"Consejo Nacional Agropecuario y Agroindustrial","Fortalecer el grado de coordinación necesario entre todas las instituciones del Estado con el fin de unificar esfuerzos por el desarrollo y crecimiento del sector agropecuario y agroindustrial",1]
[null,{"$f":"VLOOKUP(C334,[1]instancias_objetos!$A$1:$B$123,2,FALSE)","v":"INST21"},"Consejo Nacional Agropecuario y Agroindustrial","Integrar y enlazar las funciones anteriores con los aspectos del sector agroindustrial",1]
[null,{"$f":"VLOOKUP(C335,[1]instancias_objetos!$A$1:$B$123,2,FALSE)","v":"INST21"},"Consejo Nacional Agropecuario y Agroindustrial","Proponer fórmulas de seguridad para el campo y mecanismos para reducir la violencia",1]
[null,{"$f":"VLOOKUP(C336,[1]instancias_objetos!$A$1:$B$123,2,FALSE)","v":"INST22"},"Mesa Permanente de Concertación con los Pueblos y Organizaciones Indígenas","Adoptar principios, criterios y procedimientos en relación con biodiversidad, recursos genéticos, propiedad intelectual colectiva y derechos culturales asociados a éstos, en el marco de la legislación especial de los pueblos indígenas. ",1]
[null,{"$f":"VLOOKUP(C337,[1]instancias_objetos!$A$1:$B$123,2,FALSE)","v":"INST22"},"Mesa Permanente de Concertación con los Pueblos y Organizaciones Indígenas","Concertar previamente con los pueblos y organizaciones indígenas las posiciones y propuestas oficiales para proteger los derechos indígenas en materia de acceso a recursos genéticos, biodiversidad y protección del conocimiento colectivo, innovaciones y prácticas tradicionales que presente el Gobierno colombiano en instancias internacionales o en el marco de los acuerdos y convenios suscritos y ratificados por Colombia. ",1]
[null,{"$f":"VLOOKUP(C338,[1]instancias_objetos!$A$1:$B$123,2,FALSE)","v":"INST22"},"Mesa Permanente de Concertación con los Pueblos y Organizaciones Indígenas","Concertar el desarrollo de los derechos constitucionales indígenas en relación con biodiversidad, recursos genéticos, propiedad intelectual colectiva y derechos culturales asociados a éstos y la legislación ambiental. ",1]
[null,{"$f":"VLOOKUP(C339,[1]instancias_objetos!$A$1:$B$123,2,FALSE)","v":"INST22"},"Mesa Permanente de Concertación con los Pueblos y Organizaciones Indígenas","Concertar el proyecto de ley que modifica el Código de Minas con el fin de garantizar los derechos de los pueblos indígenas; definir el cronograma, los procedimientos y los presupuestos necesarios para la delimitación de zonas mineras indígenas de acuerdo con las solicitudes de las comunidades y hacerle seguimiento a su ejecución, de conformidad con lo dispuesto en el Decreto 2655 de 1988. La delimitación de las zonas mineras indígenas se hará concertadamente con las organizaciones nacional, regional y las autoridades indígenas del respectivo territorio. ",1]
[null,{"$f":"VLOOKUP(C340,[1]instancias_objetos!$A$1:$B$123,2,FALSE)","v":"INST22"},"Mesa Permanente de Concertación con los Pueblos y Organizaciones Indígenas","Revisar los permisos y licencias otorgados sobre territorios indígenas y los que estén en trámite y solicitar su suspensión o revocatoria cuando sean violatorios de los derechos de los pueblos indígenas, de conformidad con la legislación especial. ",1]
[null,{"$f":"VLOOKUP(C341,[1]instancias_objetos!$A$1:$B$123,2,FALSE)","v":"INST22"},"Mesa Permanente de Concertación con los Pueblos y Organizaciones Indígenas","Concertar las partidas presupuestales que se requieran para capacitación, estudios técnicos, asesoría y financiación de proyectos con destino a las comunidades indígenas. ",1]
[null,{"$f":"VLOOKUP(C342,[1]instancias_objetos!$A$1:$B$123,2,FALSE)","v":"INST22"},"Mesa Permanente de Concertación con los Pueblos y Organizaciones Indígenas","Concertar el decreto reglamentario de los artículos 2º, 3º, 5º, 8º, 9º, 10, 12, 13, y el parágrafo 2º del artículo 7º, de la Ley 191 de 1995 con los pueblos y comunidades indígenas de frontera, sus autoridades y organizaciones regionales y nacionales respectivas.",1]
[null,{"$f":"VLOOKUP(C343,[1]instancias_objetos!$A$1:$B$123,2,FALSE)","v":"INST22"},"Mesa Permanente de Concertación con los Pueblos y Organizaciones Indígenas","Preparar los procedimientos necesarios para acordar entre los pueblos y organizaciones indígenas la propuesta de reglamentación del derecho de participación y concertación de las decisiones administrativas y legislativas susceptibles de afectar a los pueblos indígenas de acuerdo con las particularidades de cada uno, y concertar la expedición del decreto. ",1]
[null,{"$f":"VLOOKUP(C344,[1]instancias_objetos!$A$1:$B$123,2,FALSE)","v":"INST22"},"Mesa Permanente de Concertación con los Pueblos y Organizaciones Indígenas","Concertar el procedimiento transitorio y lo demás que se requiera para la participación, consulta y concertación con pueblos o comunidades indígenas específicos, mientras se expide el decreto reglamentario. La concertación se hará respetando los usos y costumbres de cada pueblo. ",1]
[null,{"$f":"VLOOKUP(C345,[1]instancias_objetos!$A$1:$B$123,2,FALSE)","v":"INST22"},"Mesa Permanente de Concertación con los Pueblos y Organizaciones Indígenas","Abrir un proceso de difusión, análisis y discusión de la Ley número 100 de 1993 con las organizaciones y comunidades indígenas para que se puedan tomar decisiones de interés y protección de los derechos de los pueblos indígenas; concertar las modificaciones y reglamentaciones pertinentes e involucrarlas en su ejecución. El Gobierno garantizará los recursos para adelantar este proceso a través de las organizaciones. ",1]
[null,{"$f":"VLOOKUP(C346,[1]instancias_objetos!$A$1:$B$123,2,FALSE)","v":"INST22"},"Mesa Permanente de Concertación con los Pueblos y Organizaciones Indígenas","Revisar los Decretos 1088 de 1993 y 1407 de 1991 sobre autoridades indígenas y sus asociaciones y las fundaciones y corporaciones que trabajan en territorios indígenas, respectivamente, de acuerdo a la diversidad étnica y cultural y concertar sus modificaciones. ",1]
[null,{"$f":"VLOOKUP(C347,[1]instancias_objetos!$A$1:$B$123,2,FALSE)","v":"INST22"},"Mesa Permanente de Concertación con los Pueblos y Organizaciones Indígenas","Definir los procedimientos y términos de referencia para la evaluación de la estructura estatal para la atención de pueblos indígenas y concertar las decisiones que se requieran de acuerdo con los resultados de la misma. ",1]
[null,{"$f":"VLOOKUP(C348,[1]instancias_objetos!$A$1:$B$123,2,FALSE)","v":"INST22"},"Mesa Permanente de Concertación con los Pueblos y Organizaciones Indígenas","Concertar un proceso de difusión, análisis y discusión de la Ley número 218 de 1995 o Ley Páez con las comunidades indígenas y sus organizaciones para que se puedan tomar decisiones de interés y protección de los derechos de los pueblos indígenas; concertar los proyectos de ley para su modificación en lo que se requiera, y su reglamentación. El Gobierno garantizará los recursos para adelantar este proceso a través de las organizaciones. En la reglamentación de la ley se garantizará que personas externas a la región no abusen de los beneficios de la ley. ",1]
[null,{"$f":"VLOOKUP(C349,[1]instancias_objetos!$A$1:$B$123,2,FALSE)","v":"INST22"},"Mesa Permanente de Concertación con los Pueblos y Organizaciones Indígenas","Hacer seguimiento a la ejecución de la inversión social y ambiental para los pueblos indígenas dispuesta por la ley del Plan Nacional de Desarrollo; acordar las medidas necesarias para garantizar la destinación y ejecución del 2% anual de la inversión social y ambiental para los pueblos indígenas en los términos dispuestos en los artículos 29 y 42 de la Ley 188 de 1995 y para el cumplimiento de los compromisos adquiridos por el Gobierno Nacional con pueblos, comunidades u organizaciones indígenas. El Gobierno unificará y simplificará los trámites, requisitos y fichas de acceso a los fondos de cofinanciación, previa concertación en la Mesa de que trata este Decreto. Igualmente se concertará el seguimiento para agilizar y garantizar la ejecución de los recursos de la vigencia fiscal de 1996. ",1]
[null,{"$f":"VLOOKUP(C350,[1]instancias_objetos!$A$1:$B$123,2,FALSE)","v":"INST22"},"Mesa Permanente de Concertación con los Pueblos y Organizaciones Indígenas","Concertar los proyectos de ley y decretos reglamentarios relativos a las transferencias de ingresos corrientes de la Nación a los resguardos indígenas y hacer seguimiento al cumplimiento de los mismos. ",1]
[null,{"$f":"VLOOKUP(C351,[1]instancias_objetos!$A$1:$B$123,2,FALSE)","v":"INST22"},"Mesa Permanente de Concertación con los Pueblos y Organizaciones Indígenas","Concertar lo relativo al desarrollo de las competencias otorgadas por el artículo transitorio 56 de la Constitución al Gobierno Nacional y todo lo relacionado con el ordenamiento territorial indígena. ",1]
[null,{"$f":"VLOOKUP(C352,[1]instancias_objetos!$A$1:$B$123,2,FALSE)","v":"INST22"},"Mesa Permanente de Concertación con los Pueblos y Organizaciones Indígenas","Revisar las normas relativas a la educación propia de los pueblos indígenas y concertar sus modificaciones y reglamentación, y vigilar su cumplimiento. ",1]
[null,{"$f":"VLOOKUP(C353,[1]instancias_objetos!$A$1:$B$123,2,FALSE)","v":"INST22"},"Mesa Permanente de Concertación con los Pueblos y Organizaciones Indígenas","Acordar medidas para garantizar y supervisar la aplicación del Decreto 1811 de 1991. ",1]
[null,{"$f":"VLOOKUP(C354,[1]instancias_objetos!$A$1:$B$123,2,FALSE)","v":"INST23"},"Comité Nacional de Salud Ocupacional","Asesorar y servir de órgano consultivo a la Dirección Técnica de Riesgos Profesionales del Ministerio de Trabajo y Seguridad Social y al Consejo Nacional de Riesgos Profesionales, en materia de elaboración de políticas en Salud Ocupacional e implementación del Plan Nacional de Salud Ocupacional",1]
[null,{"$f":"VLOOKUP(C355,[1]instancias_objetos!$A$1:$B$123,2,FALSE)","v":"INST23"},"Comité Nacional de Salud Ocupacional","Establecer acciones, planes y programas en Salud Ocupacional, con base en el Plan Nacional de Salud Ocupacional, en coordinación con los Comités Seccionales y Locales de Salud Ocupacional",1]
[null,{"$f":"VLOOKUP(C356,[1]instancias_objetos!$A$1:$B$123,2,FALSE)","v":"INST23"},"Comité Nacional de Salud Ocupacional","Sugerir y recomendar al Gobierno Nacional, la normatización requerida para el buen funcionamiento del Sistema General de Riesgos Profesionales",1]
[null,{"$f":"VLOOKUP(C357,[1]instancias_objetos!$A$1:$B$123,2,FALSE)","v":"INST23"},"Comité Nacional de Salud Ocupacional","Recomendar, impulsar y coordinar campañas, programas y eventos de divulgación, publicación y capacitación en riesgos profesionales",1]
[null,{"$f":"VLOOKUP(C358,[1]instancias_objetos!$A$1:$B$123,2,FALSE)","v":"INST23"},"Comité Nacional de Salud Ocupacional","Adelantar el seguimiento al cumplimiento de las normas en Salud Ocupacional y Riesgos Profesionales, a través del Sistema de Información de la Red de Comités, apoyado en los comités seccionales y locales de Salud Ocupacional, los cuales podrán solicitar la cooperación de las entidades que vigilan y controlan el Sistema General de Riesgos Profesionales",1]
[null,{"$f":"VLOOKUP(C359,[1]instancias_objetos!$A$1:$B$123,2,FALSE)","v":"INST23"},"Comité Nacional de Salud Ocupacional","Recomendar, impulsar y coordinar planes para la formación del recurso humano y la investigación científica en Salud Ocupacional",1]
[null,{"$f":"VLOOKUP(C360,[1]instancias_objetos!$A$1:$B$123,2,FALSE)","v":"INST23"},"Comité Nacional de Salud Ocupacional","Recomendar, impulsar y coordinar con las entidades públicas y privadas, nacionales e internacionales los lineamientos básicos de programas nacionales de vigilancia epidemiológica en Salud Ocupacional",1]
[null,{"$f":"VLOOKUP(C361,[1]instancias_objetos!$A$1:$B$123,2,FALSE)","v":"INST23"},"Comité Nacional de Salud Ocupacional","Establecer el Sistema de Información de la Red de Comités de Salud Ocupacional, con el objeto de apoyar las acciones o actividades de los Comités, e informar a las autoridades correspondientes el incumplimiento y desacato de los deberes y obligaciones de los integrantes de los mismos, para lo de su competencia",1]
[null,{"$f":"VLOOKUP(C362,[1]instancias_objetos!$A$1:$B$123,2,FALSE)","v":"INST23"},"Comité Nacional de Salud Ocupacional","Orientar y coordinar las acciones de los Comités Seccionales y Locales en el país, con base en los lineamientos establecidos en el Plan Nacional de Salud Ocupacional, conforme a los criterios definidos por el Consejo Nacional de Riesgos Profesionales y la Dirección Técnica de Riesgos Profesionales del Ministerio de Trabajo y Seguridad Social",1]
[null,{"$f":"VLOOKUP(C363,[1]instancias_objetos!$A$1:$B$123,2,FALSE)","v":"INST23"},"Comité Nacional de Salud Ocupacional","Presentar proyectos, estudios y propuestas en Salud Ocupacional, ante las entidades o autoridades nacionales e internacionales competentes",1]
[null,{"$f":"VLOOKUP(C364,[1]instancias_objetos!$A$1:$B$123,2,FALSE)","v":"INST23"},"Comité Nacional de Salud Ocupacional","Dirigir y coordinar investigaciones, planes, programas y campañas en el área del Sistema General de Riesgos Profesionales, aprobados por el Consejo Nacional de Riesgos Profesionales y establecidos en el presupuesto general del Fondo de Riesgos Profesionales, o los financiados con recursos de carácter público, privado, nacional o internacional",1]
[null,{"$f":"VLOOKUP(C365,[1]instancias_objetos!$A$1:$B$123,2,FALSE)","v":"INST23"},"Comité Nacional de Salud Ocupacional","Solicitar la cooperación de entidades públicas, privadas y personal especializado de carácter nacional e internacional, para el estudio y desarrollo de asuntos o temas especiales relacionados con el Sistema General de Riesgos Profesionales, conforme a las disposiciones vigentes",1]
[null,{"$f":"VLOOKUP(C366,[1]instancias_objetos!$A$1:$B$123,2,FALSE)","v":"INST23"},"Comité Nacional de Salud Ocupacional","Orientar en forma técnica y hacer seguimiento a las Comisiones Nacionales de Salud Ocupacional o Riesgos Profesionales, de los diferentes sectores o actividades económicas",1]
[null,{"$f":"VLOOKUP(C367,[1]instancias_objetos!$A$1:$B$123,2,FALSE)","v":"INST23"},"Comité Nacional de Salud Ocupacional","Participar en la coordinación y supervisión de las actividades de los centros de investigación, educación, formación profesional, prevención, capacitación y de cooperación en Salud Ocupacional o riesgos profesionales",1]
[null,{"$f":"VLOOKUP(C368,[1]instancias_objetos!$A$1:$B$123,2,FALSE)","v":"INST23"},"Comité Nacional de Salud Ocupacional","Participar dentro del ámbito de su competencia en los consejos, comisiones o comités establecidos en los sectores de trabajo, salud, educación, medio ambiente, cuando la ley lo disponga o se requiera su intervención",1]
[null,{"$f":"VLOOKUP(C369,[1]instancias_objetos!$A$1:$B$123,2,FALSE)","v":"INST23"},"Comité Nacional de Salud Ocupacional","Conceptuar sobre los proyectos, planes y programas, que en materia de riesgos profesionales, presente a su consideración la Dirección Técnica de Riesgos Profesionales",1]
[null,{"$f":"VLOOKUP(C370,[1]instancias_objetos!$A$1:$B$123,2,FALSE)","v":"INST23"},"Comité Nacional de Salud Ocupacional","Evaluar y proponer ajustes al Plan Nacional de Salud Ocupacional en el mes de diciembre de cada año, para lo cual podrá contar con la cooperación de las entidades o instituciones que participan en el Sistema General de Riesgos Profesionales",1]
[null,{"$f":"VLOOKUP(C371,[1]instancias_objetos!$A$1:$B$123,2,FALSE)","v":"INST24"},"Consejo Nacional de Cultura","Promover y hacer las recomendaciones que sean pertinentes para el cumplimiento de los planes, políticas y programas relacionados con la cultura",1]
[null,{"$f":"VLOOKUP(C372,[1]instancias_objetos!$A$1:$B$123,2,FALSE)","v":"INST24"},"Consejo Nacional de Cultura","Sugerir al Gobierno Nacional las medidas adecuadas para la protección del patrimonio cultural de la Nación y el estímulo y el fomento de la cultura y las artes",1]
[null,{"$f":"VLOOKUP(C373,[1]instancias_objetos!$A$1:$B$123,2,FALSE)","v":"INST24"},"Consejo Nacional de Cultura","Conceptuar sobre los aspectos que le solicite el Gobierno Nacional en materia de cultura",1]
[null,{"$f":"VLOOKUP(C374,[1]instancias_objetos!$A$1:$B$123,2,FALSE)","v":"INST24"},"Consejo Nacional de Cultura","Asesorar el diseño, la formulación e implementación del Plan Nacional de Cultura",1]
[null,{"$f":"VLOOKUP(C375,[1]instancias_objetos!$A$1:$B$123,2,FALSE)","v":"INST24"},"Consejo Nacional de Cultura","Vigilar la ejecución del gasto público invertido en cultur",1]
[null,{"$f":"VLOOKUP(C376,[1]instancias_objetos!$A$1:$B$123,2,FALSE)","v":"INST25"},"Consejo Nacional de SIDA","Proponer la política general para el desarrollo del Programa Nacional de Promoción, Prevención y Asistencia de las ETS y el SIDA, en aspectos éticos, jurídicos, laborales, internacionales, financieros y de movilización social, información masiva y educación sexual",1]
[null,{"$f":"VLOOKUP(C377,[1]instancias_objetos!$A$1:$B$123,2,FALSE)","v":"INST25"},"Consejo Nacional de SIDA","Recomendar los mecanismos para lograr la participación intersectorial en las actividades del programa",1]
[null,{"$f":"VLOOKUP(C378,[1]instancias_objetos!$A$1:$B$123,2,FALSE)","v":"INST25"},"Consejo Nacional de SIDA","Evaluar el desarrollo del Programa Nacional de Prevención y Control de las ETS y el SIDA",1]
[null,{"$f":"VLOOKUP(C379,[1]instancias_objetos!$A$1:$B$123,2,FALSE)","v":"INST25"},"Consejo Nacional de SIDA","Apoyar la consecución de fuentes de financiación nacional e internacional",1]
[null,{"$f":"VLOOKUP(C380,[1]instancias_objetos!$A$1:$B$123,2,FALSE)","v":"INST25"},"Consejo Nacional de SIDA","Prestar la asesoría que se le solicite para la elaboración de proyectos, acuerdos o convenios internacionales",1]
[null,{"$f":"VLOOKUP(C381,[1]instancias_objetos!$A$1:$B$123,2,FALSE)","v":"INST25"},"Consejo Nacional de SIDA","Aprobar los mecanismos de coordinación necesarios con los Programas Nacionales de SIDA y ETS de otros países con los que Colombia tenga convenios o se suscriban posteriormente",1]
[null,{"$f":"VLOOKUP(C382,[1]instancias_objetos!$A$1:$B$123,2,FALSE)","v":"INST26"},"Consejos Nacionales de las Artes y la Cultura","Asesorar al Ministerio de Cultura en la formulación de las políticas, planes y programas del área respectiva. Dado el carácter asesor otorgado por la ley a los Consejos Nacionales de las Artes y la Cultura en cada una de las manifestaciones artísticas y culturales, sus recomendaciones no obligan al Gobierno nacional",1]
[null,{"$f":"VLOOKUP(C383,[1]instancias_objetos!$A$1:$B$123,2,FALSE)","v":"INST26"},"Consejos Nacionales de las Artes y la Cultura","Formular las recomendaciones que considere pertinentes para el cumplimiento de los planes, políticas y programas del área respectiva",1]
[null,{"$f":"VLOOKUP(C384,[1]instancias_objetos!$A$1:$B$123,2,FALSE)","v":"INST26"},"Consejos Nacionales de las Artes y la Cultura","Apoyar al Ministerio de Cultura para que los planes, proyectos y actividades, en la respectiva área, tengan el mayor cubrimiento y el máximo impacto en el avance del sector y de la cultura en general",1]
[null,{"$f":"VLOOKUP(C385,[1]instancias_objetos!$A$1:$B$123,2,FALSE)","v":"INST26"},"Consejos Nacionales de las Artes y la Cultura","Conceptuar sobre los aspectos relacionados con el área artística y cultural de que se trate, cuando lo solicite el Ministro de Cultura",1]
[null,{"$f":"VLOOKUP(C386,[1]instancias_objetos!$A$1:$B$123,2,FALSE)","v":"INST26"},"Consejos Nacionales de las Artes y la Cultura","Mantener informados permanentemente a los agentes y organizaciones del área artística y cultural de que se trate, sobre el desarrollo de las políticas, planes y programas tratados en el Consejo",1]
[null,{"$f":"VLOOKUP(C387,[1]instancias_objetos!$A$1:$B$123,2,FALSE)","v":"INST27"},"Consejo Nacional de Economía Solidaria","Fomentar y difundir los principios, valores y fines de la Economía Solidaria. ",1]
[null,{"$f":"VLOOKUP(C388,[1]instancias_objetos!$A$1:$B$123,2,FALSE)","v":"INST27"},"Consejo Nacional de Economía Solidaria","Formular, coordinar, promover la ejecución y evaluación a nivel nacional de las políticas, estrategias, planes, programas y proyectos generales al interior del sistema de la economía solidaria",1]
[null,{"$f":"VLOOKUP(C389,[1]instancias_objetos!$A$1:$B$123,2,FALSE)","v":"INST27"},"Consejo Nacional de Economía Solidaria","Integrar los componentes del sistema de la Economía Solidaria",1]
[null,{"$f":"VLOOKUP(C390,[1]instancias_objetos!$A$1:$B$123,2,FALSE)","v":"INST27"},"Consejo Nacional de Economía Solidaria","Aprobar sus propios estatutos y reglamentos internos",1]
[null,{"$f":"VLOOKUP(C391,[1]instancias_objetos!$A$1:$B$123,2,FALSE)","v":"INST27"},"Consejo Nacional de Economía Solidaria","Nombrar al Secretario Ejecutivo y demás cargos directivos de conformidad con sus estatutos",1]
[null,{"$f":"VLOOKUP(C392,[1]instancias_objetos!$A$1:$B$123,2,FALSE)","v":"INST27"},"Consejo Nacional de Economía Solidaria","Participar en los organismos de concertación del desarrollo nacional",1]
[null,{"$f":"VLOOKUP(C393,[1]instancias_objetos!$A$1:$B$123,2,FALSE)","v":"INST27"},"Consejo Nacional de Economía Solidaria","Ser órgano consultivo del Gobierno Nacional en la formulación de políticas relativas a la Economía Solidaria",1]
[null,{"$f":"VLOOKUP(C394,[1]instancias_objetos!$A$1:$B$123,2,FALSE)","v":"INST27"},"Consejo Nacional de Economía Solidaria","Designar las comisiones técnicas especializadas que sean necesarias",1]
[null,{"$f":"VLOOKUP(C395,[1]instancias_objetos!$A$1:$B$123,2,FALSE)","v":"INST27"},"Consejo Nacional de Economía Solidaria","Trazar las políticas en materia de educación solidaria",1]
[null,{"$f":"VLOOKUP(C396,[1]instancias_objetos!$A$1:$B$123,2,FALSE)","v":"INST28"},"Comisión Colombiana del Océano","Proponer al Gobierno Nacional la Política Nacional del Océano y de los Espacios Costeros, para su Administración y Desarrollo Sostenible, efectuando la coordinación interinstitucional e intersectorial necesaria, siguiendo las directrices del señor Presidente de la República",1]
[null,{"$f":"VLOOKUP(C397,[1]instancias_objetos!$A$1:$B$123,2,FALSE)","v":"INST28"},"Comisión Colombiana del Océano","Recomendar al Gobierno Nacional el Plan de Acción para implementar la citada Política y adelantar su seguimiento, independientemente de la evaluación que realicen los órganos de control correspondientes",1]
[null,{"$f":"VLOOKUP(C398,[1]instancias_objetos!$A$1:$B$123,2,FALSE)","v":"INST28"},"Comisión Colombiana del Océano","Servir de Foro de concertación e integración de las políticas sectoriales relacionadas con el uso, desarrollo y conservación de los espacios oceánicos y costeros, para consolidar la Política Nacional respectiva",1]
[null,{"$f":"VLOOKUP(C399,[1]instancias_objetos!$A$1:$B$123,2,FALSE)","v":"INST28"},"Comisión Colombiana del Océano","Recomendar al Gobierno Nacional un Sistema para el Manejo Integral de los Espacios Oceánicos y Costeros",1]
[null,{"$f":"VLOOKUP(C400,[1]instancias_objetos!$A$1:$B$123,2,FALSE)","v":"INST28"},"Comisión Colombiana del Océano","Servir de Punto Focal Nacional Técnico ante los organismos internacionales, cuya misión sea la de propender y fomentar el desarrollo sostenible, el uso, conservación y estudio de los Espacios Oceánicos y Costeros, en coordinación con el Ministerio de Relaciones Exteriores y el Ministerio del Medio Ambiente",1]
[null,{"$f":"VLOOKUP(C401,[1]instancias_objetos!$A$1:$B$123,2,FALSE)","v":"INST28"},"Comisión Colombiana del Océano","Asesorar al Gobierno Nacional en la adopción y en el diseño y establecimiento de mecanismos de cooperación internacional relacionados con el uso, administración, estudio y conservación de los espacios oceánicos y costeros y de sus recursos y en la conformación y orientación técnica de las delegaciones oficiales que asisten a foros internacionales que tratan dichos asuntos",1]
[null,{"$f":"VLOOKUP(C402,[1]instancias_objetos!$A$1:$B$123,2,FALSE)","v":"INST28"},"Comisión Colombiana del Océano","Asesorar al Consejo Nacional de Ciencia y Tecnología en lo concerniente a la definición de Políticas para establecer prioridades de investigación y desarrollo tecnológico en los diferentes ámbitos relacionados con los objetivos de la Política Nacional del Océano y los Espacios Costeros",1]
[null,{"$f":"VLOOKUP(C403,[1]instancias_objetos!$A$1:$B$123,2,FALSE)","v":"INST28"},"Comisión Colombiana del Océano","Diseñar e implementar estrategias para articular las políticas sectoriales del uso y aprovechamiento de los espacios oceánicos y costeros y sus recursos, con la política ambiental, en coordinación con el Ministerio del Medio Ambiente",1]
[null,{"$f":"VLOOKUP(C404,[1]instancias_objetos!$A$1:$B$123,2,FALSE)","v":"INST28"},"Comisión Colombiana del Océano","Establecer, difundir y mantener a través de su Secretaría Ejecutiva, un sistema nacional de información oceánica y costera, necesario para la aplicación y evaluación de la citada Política",1]
[null,{"$f":"VLOOKUP(C405,[1]instancias_objetos!$A$1:$B$123,2,FALSE)","v":"INST29"},"Consejo Superior de Pequeña y Mediana Empresa","Contribuir a la definición, formulación y ejecución de políticas públicas generales, transversales, sectoriales y regionales de promoción empresarial de las pequeñas y medianas empresas, Pymes",1]
[null,{"$f":"VLOOKUP(C406,[1]instancias_objetos!$A$1:$B$123,2,FALSE)","v":"INST29"},"Consejo Superior de Pequeña y Mediana Empresa","Analizar el entorno económico, político y social; su impacto sobre las Pymes y sobre la capacidad de éstas para dinamizar la competencia en los mercados de bienes y servicios",1]
[null,{"$f":"VLOOKUP(C407,[1]instancias_objetos!$A$1:$B$123,2,FALSE)","v":"INST29"},"Consejo Superior de Pequeña y Mediana Empresa","Contribuir a la definición, formulación y ejecución de programas de promoción de las Pymes, con énfasis en los referidos al acceso a los mercados de bienes y servicios, formación de capital humano, modernización y desarrollo tecnológico y mayor acceso a los mercados financieros institucionales",1]
[null,{"$f":"VLOOKUP(C408,[1]instancias_objetos!$A$1:$B$123,2,FALSE)","v":"INST29"},"Consejo Superior de Pequeña y Mediana Empresa","Contribuir a la coordinación de los diferentes programas de promoción de las Pymes que se realicen dentro del marco de los planes de desarrollo y las políticas de gobierno",1]
[null,{"$f":"VLOOKUP(C409,[1]instancias_objetos!$A$1:$B$123,2,FALSE)","v":"INST29"},"Consejo Superior de Pequeña y Mediana Empresa","Proponer políticas y mecanismos de fortalecimiento de la competencia en los mercados",1]
[null,{"$f":"VLOOKUP(C410,[1]instancias_objetos!$A$1:$B$123,2,FALSE)","v":"INST29"},"Consejo Superior de Pequeña y Mediana Empresa","Propender por la evaluación periódica de las políticas y programas públicos de promoción de las Pymes, mediante indicadores de impacto y proponer los correctivos necesarios",1]
[null,{"$f":"VLOOKUP(C411,[1]instancias_objetos!$A$1:$B$123,2,FALSE)","v":"INST29"},"Consejo Superior de Pequeña y Mediana Empresa","Procurar la activa cooperación entre los sectores público y privado, en la ejecución de los programas de promoción de las pequeñas y medianas empresas",1]
[null,{"$f":"VLOOKUP(C412,[1]instancias_objetos!$A$1:$B$123,2,FALSE)","v":"INST29"},"Consejo Superior de Pequeña y Mediana Empresa","Estimular el desarrollo de las organizaciones empresariales, la asociatividad y las alianzas estratégicas entre las entidades públicas y privadas de apoyo a este sector",1]
[null,{"$f":"VLOOKUP(C413,[1]instancias_objetos!$A$1:$B$123,2,FALSE)","v":"INST29"},"Consejo Superior de Pequeña y Mediana Empresa","Adoptar sus estatutos internos",1]
[null,{"$f":"VLOOKUP(C414,[1]instancias_objetos!$A$1:$B$123,2,FALSE)","v":"INST29"},"Consejo Superior de Pequeña y Mediana Empresa","Promover la concertación, con alcaldes y gobernadores, de planes integrales de apoyo a la pequeña y mediana empresa",1]
[null,{"$f":"VLOOKUP(C415,[1]instancias_objetos!$A$1:$B$123,2,FALSE)","v":"INST29"},"Consejo Superior de Pequeña y Mediana Empresa","Establecer y promover estrategias de comercialización nacional e internacional de productos y servicios",1]
[null,{"$f":"VLOOKUP(C416,[1]instancias_objetos!$A$1:$B$123,2,FALSE)","v":"INST29"},"Consejo Superior de Pequeña y Mediana Empresa","Realizar reuniones periódicas trimestrales",1]
[null,{"$f":"VLOOKUP(C417,[1]instancias_objetos!$A$1:$B$123,2,FALSE)","v":"INST29"},"Consejo Superior de Pequeña y Mediana Empresa","Presentar informe anual de gestión y resultados a las Comisiones Terceras y Cuartas de Senado de la República y Cámara de Representantes",1]
[null,{"$f":"VLOOKUP(C418,[1]instancias_objetos!$A$1:$B$123,2,FALSE)","v":"INST29"},"Consejo Superior de Pequeña y Mediana Empresa","Rendir informes trimestrales de las acciones y resultados alcanzados",1]
[null,{"$f":"VLOOKUP(C419,[1]instancias_objetos!$A$1:$B$123,2,FALSE)","v":"INST30"},"Consejo Asesor de Política Minera","Recomendar la adopción de medidas que permitan armonizar las regulaciones y decisiones mineras con las demás que expidan otras autoridades que tengan relación con el sector",1]
[null,{"$f":"VLOOKUP(C420,[1]instancias_objetos!$A$1:$B$123,2,FALSE)","v":"INST30"},"Consejo Asesor de Política Minera","Rendir concepto sobre los proyectos de disposiciones que corresponda expedir a la autoridad minera, de conformidad con este Código",1]
[null,{"$f":"VLOOKUP(C421,[1]instancias_objetos!$A$1:$B$123,2,FALSE)","v":"INST30"},"Consejo Asesor de Política Minera","Recomendar al Gobierno Nacional la política y los mecanismos de coordinación de las actividades de todas las entidades y organismos públicos y privados cuyas funciones afecten o puedan incidir en la industria minera",1]
[null,{"$f":"VLOOKUP(C422,[1]instancias_objetos!$A$1:$B$123,2,FALSE)","v":"INST30"},"Consejo Asesor de Política Minera","Proponer los lineamientos generales que deban seguirse en relación con la asignación de recursos para la promoción de la minería y con los planes, programas y presupuestos respectivos",1]
[null,{"$f":"VLOOKUP(C423,[1]instancias_objetos!$A$1:$B$123,2,FALSE)","v":"INST30"},"Consejo Asesor de Política Minera","Formular recomendaciones para garantizar el desarrollo sostenible en las labores de extracción, procesamiento y aprovechamiento de los recursos mineros",1]
[null,{"$f":"VLOOKUP(C424,[1]instancias_objetos!$A$1:$B$123,2,FALSE)","v":"INST30"},"Consejo Asesor de Política Minera","Proponer las prioridades de acción del Ingeominas en relación con la exploración básica y la cartografía geológica del país",1]
[null,{"$f":"VLOOKUP(C425,[1]instancias_objetos!$A$1:$B$123,2,FALSE)","v":"INST30"},"Consejo Asesor de Política Minera","Proponer ajustes a la organización interna de las entidades descentralizadas de carácter minero adscritas y vinculadas al Ministerio de Minas y Energía, así como sobre las delegaciones que se deban conceder a las entidades territoriales",1]
[null,{"$f":"VLOOKUP(C426,[1]instancias_objetos!$A$1:$B$123,2,FALSE)","v":"INST30"},"Consejo Asesor de Política Minera","Designar comités técnicos intersectoriales en los que participen funcionarios de nivel técnico de las entidades que correspondan, para adelantar tareas de coordinación y seguimiento",1]
[null,{"$f":"VLOOKUP(C427,[1]instancias_objetos!$A$1:$B$123,2,FALSE)","v":"INST30"},"Consejo Asesor de Política Minera","Cada vez que sea requerido el concepto del Consejo, este tendrá quince (15) días hábiles siguientes a la fecha de su citación, para emitir la respectiva respuesta",1]
[null,{"$f":"VLOOKUP(C428,[1]instancias_objetos!$A$1:$B$123,2,FALSE)","v":"INST31"},"Comisión Consultiva de las Mujeres Indígenas Rurales","Identificación, formulación, evaluación y seguimiento de planes, programas y proyectos relacionados con el desarrollo económico, social, cultural, político y ambiental de los pueblos indígenas de Colombia. ",1]
[null,{"$f":"VLOOKUP(C429,[1]instancias_objetos!$A$1:$B$123,2,FALSE)","v":"INST32"},"Comisión de Seguimiento y Verificación de las Políticas de Generación de Empleo","Solicitar a todos los sectores empresariales la información de cada empleo adicional generado en su planta de personal",1]
[null,{"$f":"VLOOKUP(C430,[1]instancias_objetos!$A$1:$B$123,2,FALSE)","v":"INST32"},"Comisión de Seguimiento y Verificación de las Políticas de Generación de Empleo","Recomendar permanentemente estudios estadísticos para determinar el número de creación de nuevos empleos formales",1]
[null,{"$f":"VLOOKUP(C431,[1]instancias_objetos!$A$1:$B$123,2,FALSE)","v":"INST32"},"Comisión de Seguimiento y Verificación de las Políticas de Generación de Empleo","Rendir informes trimestrales de la disminución de la tasa de desempleo como consecuencia de la generación de empleo prevista en la presente ley",1]
[null,{"$f":"VLOOKUP(C432,[1]instancias_objetos!$A$1:$B$123,2,FALSE)","v":"INST32"},"Comisión de Seguimiento y Verificación de las Políticas de Generación de Empleo","Dar a conocer a la opinión pública por todos los medios de comunicación las empresas que han creado empleos adicionales con base en las medidas adoptadas a partir de la vigencia de la presente ley",1]
[null,{"$f":"VLOOKUP(C433,[1]instancias_objetos!$A$1:$B$123,2,FALSE)","v":"INST32"},"Comisión de Seguimiento y Verificación de las Políticas de Generación de Empleo","Conceptuar y analizar los proyectos de ley, con base en un diagnóstico y análisis de las políticas sociales del estado, presentado a más tardar el 30 de junio de cada año, las conclusiones y acciones para el fortalecimiento de una política integral de protección social de los colombianos, teniendo en cuenta su viabilidad institucional y financiera. ",1]
[null,{"$f":"VLOOKUP(C434,[1]instancias_objetos!$A$1:$B$123,2,FALSE)","v":"INST33"},"Consejo Nacional de las Artes y la Cultura en Cinematografía","Dirigir el Fondo para el Desarrollo Cinematográfico",1]
[null,{"$f":"VLOOKUP(C435,[1]instancias_objetos!$A$1:$B$123,2,FALSE)","v":"INST33"},"Consejo Nacional de las Artes y la Cultura en Cinematografía","Aprobar el presupuesto del Fondo para el Desarrollo Cinematográfico para cada vigencia anual",1]
[null,{"$f":"VLOOKUP(C436,[1]instancias_objetos!$A$1:$B$123,2,FALSE)","v":"INST33"},"Consejo Nacional de las Artes y la Cultura en Cinematografía","Establecer, dentro de los dos (2) últimos meses de cada año mediante acto de carácter general (acuerdo), las actividades, porcentajes, montos, límites, modalidades de concurso o solicitud directa y demás requisitos y condiciones necesarias para acceder a los beneficios, estímulos y créditos asignables con los recursos del Fondo para el Desarrollo Cinematográfico en el año fiscal siguiente",1]
[null,{"$f":"VLOOKUP(C437,[1]instancias_objetos!$A$1:$B$123,2,FALSE)","v":"INST33"},"Consejo Nacional de las Artes y la Cultura en Cinematografía","Decidir y asignar sobre la destinación de los recursos del Fondo para el Desarrollo Cinematográfico.",1]
[null,{"$f":"VLOOKUP(C438,[1]instancias_objetos!$A$1:$B$123,2,FALSE)","v":"INST33"},"Consejo Nacional de las Artes y la Cultura en Cinematografía","Establecer cuando lo considere necesario, subcomités para efectos de la evaluación y selección técnica y financiera de los proyectos que participen para acceder a los beneficios, estímulos y créditos asignables con los recursos del Fondo para el Desarrollo Cinematográfico",1]
[null,{"$f":"VLOOKUP(C439,[1]instancias_objetos!$A$1:$B$123,2,FALSE)","v":"INST33"},"Consejo Nacional de las Artes y la Cultura en Cinematografía","Apoyar al Ministerio de Cultura para que sus proyectos y actividades tengan el mayor cubrimiento y el máximo impacto en el avance del sector cinematográfico",1]
[null,{"$f":"VLOOKUP(C440,[1]instancias_objetos!$A$1:$B$123,2,FALSE)","v":"INST33"},"Consejo Nacional de las Artes y la Cultura en Cinematografía","Mantener informado permanentemente al sector de las decisiones que tome, a través de medios electrónicos o cualquiera otro idóneo",1]
[null,{"$f":"VLOOKUP(C441,[1]instancias_objetos!$A$1:$B$123,2,FALSE)","v":"INST34"},"Comisión Nacional Intersectorial de Vigilancia en Salud Pública","Asesorar y apoyar permanentemente al Ministerio de la Protección Social en la definición de lineamientos para las acciones de vigilancia en salud pública que sean prioritarias para el país, especialmente, tratándose de decisiones para preservar la seguridad nacional en salud. ",1]
[null,{"$f":"VLOOKUP(C442,[1]instancias_objetos!$A$1:$B$123,2,FALSE)","v":"INST34"},"Comisión Nacional Intersectorial de Vigilancia en Salud Pública","Asesorar al Ministerio de la Protección Social en la aplicación de las recomendaciones de carácter internacional en materia de vigilancia, prevención y control epidemiológico de situaciones de interés en salud pública. ",1]
[null,{"$f":"VLOOKUP(C443,[1]instancias_objetos!$A$1:$B$123,2,FALSE)","v":"INST34"},"Comisión Nacional Intersectorial de Vigilancia en Salud Pública","Recomendar reglamentaciones y normas técnicas relacionadas con los procesos inherentes a la vigilancia en salud pública",1]
[null,{"$f":"VLOOKUP(C444,[1]instancias_objetos!$A$1:$B$123,2,FALSE)","v":"INST34"},"Comisión Nacional Intersectorial de Vigilancia en Salud Pública","Recomendar la formulación de planes, programas y proyectos destinados a garantizar la gestión y operación del Sistema de Vigilancia en Salud Pública",1]
[null,{"$f":"VLOOKUP(C445,[1]instancias_objetos!$A$1:$B$123,2,FALSE)","v":"INST34"},"Comisión Nacional Intersectorial de Vigilancia en Salud Pública","Promover la realización de unidades de análisis sobre los problemas de salud pública del país y emitir las recomendaciones a que haya lugar",1]
[null,{"$f":"VLOOKUP(C446,[1]instancias_objetos!$A$1:$B$123,2,FALSE)","v":"INST34"},"Comisión Nacional Intersectorial de Vigilancia en Salud Pública","Orientar la toma de decisiones con base en la información generada por la vigilancia en salud pública",1]
[null,{"$f":"VLOOKUP(C447,[1]instancias_objetos!$A$1:$B$123,2,FALSE)","v":"INST35"},"Consejo Nacional de Política Social","El Consejo Nacional de Política Social es el ente responsable de diseñar la política pública, movilizar y apropiar los recursos presupuestales y dictar las líneas de acción para garantizar los derechos de los niños, las niñas y los adolescentes y asegurar su protección y restablecimiento en todo el territorio nacional. ",1]
[null,{"$f":"VLOOKUP(C448,[1]instancias_objetos!$A$1:$B$123,2,FALSE)","v":"INST36"},"Red Nacional para el Emprendimiento","Conformar el observatorio permanente de procesos de emprendimiento y creación de empresas \"SISEA empresa\", el cual servirá como sistema de seguimiento y apoyo empresaria",1]
[null,{"$f":"VLOOKUP(C449,[1]instancias_objetos!$A$1:$B$123,2,FALSE)","v":"INST36"},"Red Nacional para el Emprendimiento","Proponer la inclusión de planes, programas y proyectos de desarrollo relacionados con el emprendimiento",1]
[null,{"$f":"VLOOKUP(C450,[1]instancias_objetos!$A$1:$B$123,2,FALSE)","v":"INST36"},"Red Nacional para el Emprendimiento","Ordenar e informar la oferta pública y privada de servicios de emprendimiento aprovechando los recursos tecnológicos con los que ya cuentan las entidades integrantes de la red",1]
[null,{"$f":"VLOOKUP(C451,[1]instancias_objetos!$A$1:$B$123,2,FALSE)","v":"INST36"},"Red Nacional para el Emprendimiento","Proponer instrumentos para evaluar la calidad de los programas orientados al fomento del emprendimiento y la cultura empresarial, en la educación formal y no formal",1]
[null,{"$f":"VLOOKUP(C452,[1]instancias_objetos!$A$1:$B$123,2,FALSE)","v":"INST36"},"Red Nacional para el Emprendimiento","Articular los esfuerzos nacionales y regionales hacia eventos que fomenten el emprendimiento y la actividad emprendedora y faciliten el crecimiento de proyectos productivos",1]
[null,{"$f":"VLOOKUP(C453,[1]instancias_objetos!$A$1:$B$123,2,FALSE)","v":"INST36"},"Red Nacional para el Emprendimiento","Establecer pautas para facilitar la reducción de costos y trámites relacionados con la formalización de emprendimientos (marcas, patentes, registros Invima, sanitarios, entre otros",1]
[null,{"$f":"VLOOKUP(C454,[1]instancias_objetos!$A$1:$B$123,2,FALSE)","v":"INST36"},"Red Nacional para el Emprendimiento","Propiciar la creación de redes de contacto entre inversionistas, emprendedores e instituciones afines con el fin de desarrollar proyectos productivos",1]
[null,{"$f":"VLOOKUP(C455,[1]instancias_objetos!$A$1:$B$123,2,FALSE)","v":"INST36"},"Red Nacional para el Emprendimiento","Proponer instrumentos que permitan estandarizar la información y requisitos exigidos para acceder a recursos de cofinanciación en entidades gubernamentales",1]
[null,{"$f":"VLOOKUP(C456,[1]instancias_objetos!$A$1:$B$123,2,FALSE)","v":"INST36"},"Red Nacional para el Emprendimiento","Estandarizar criterios de calidad para el desarrollo de procesos y procedimientos en todas las fases del emprendimiento empresarial",1]
[null,{"$f":"VLOOKUP(C457,[1]instancias_objetos!$A$1:$B$123,2,FALSE)","v":"INST36"},"Red Nacional para el Emprendimiento","Emitir avales a los planes de negocios que concursen para la obtención de recursos del Estado, a través de alguna de las entidades integrantes de la red",1]
[null,{"$f":"VLOOKUP(C458,[1]instancias_objetos!$A$1:$B$123,2,FALSE)","v":"INST37"},"Comisión Nacional de Trabajo y Concertación de la Educación para los Pueblos Indígenas","Diseñar, formular y difundir la política pública educativa para los pueblos indígenas",1]
[null,{"$f":"VLOOKUP(C459,[1]instancias_objetos!$A$1:$B$123,2,FALSE)","v":"INST37"},"Comisión Nacional de Trabajo y Concertación de la Educación para los Pueblos Indígenas","Formular directrices y criterios para la construcción y la aplicación de las políticas públicas educativas en todos los niveles, tanto en el orden nacional y regional, para el fortalecimiento cultural de los Pueblos Indígenas",1]
[null,{"$f":"VLOOKUP(C460,[1]instancias_objetos!$A$1:$B$123,2,FALSE)","v":"INST37"},"Comisión Nacional de Trabajo y Concertación de la Educación para los Pueblos Indígenas","Establecer directrices para el seguimiento y evaluación de las políticas públicas educativas para los pueblos indígenas",1]
[null,{"$f":"VLOOKUP(C461,[1]instancias_objetos!$A$1:$B$123,2,FALSE)","v":"INST37"},"Comisión Nacional de Trabajo y Concertación de la Educación para los Pueblos Indígenas","Apoyar, en el marco de la política educativa indígena, el diseño, implementación y socialización de Proyectos Educativos Comunitarios o Proyectos Etnoeducativos, a partir de los Planes de Vida y/o procesos organizativos de cada pueblo",1]
[null,{"$f":"VLOOKUP(C462,[1]instancias_objetos!$A$1:$B$123,2,FALSE)","v":"INST37"},"Comisión Nacional de Trabajo y Concertación de la Educación para los Pueblos Indígenas","Acompañar y evaluar el cumplimiento de los acuerdos suscritos en las mesas regionales y sus problemáticas educativas",1]
[null,{"$f":"VLOOKUP(C463,[1]instancias_objetos!$A$1:$B$123,2,FALSE)","v":"INST37"},"Comisión Nacional de Trabajo y Concertación de la Educación para los Pueblos Indígenas","Definir las temáticas a desarrollar en la comisión",1]
[null,{"$f":"VLOOKUP(C464,[1]instancias_objetos!$A$1:$B$123,2,FALSE)","v":"INST38"},"Comité Interinstitucional Consultivo para la Prevención de la Violencia Sexual y Atención Integral de los Niños, Niñas y Adolescentes Víctimas del Abuso Sexual","Actuar como órgano consultor y asesor, encargado de formular políticas y programas de las entidades responsables y relacionadas con la prevención de la violencia sexual y la atención integral del abuso sexual de niños, niñas y adolescentes. ",1]
[null,{"$f":"VLOOKUP(C465,[1]instancias_objetos!$A$1:$B$123,2,FALSE)","v":"INST38"},"Comité Interinstitucional Consultivo para la Prevención de la Violencia Sexual y Atención Integral de los Niños, Niñas y Adolescentes Víctimas del Abuso Sexual"," Evaluar semestralmente la situación del abuso sexual a niños, niñas y adolescentes, en el territorio nacional, a fin de realizar un diagnóstico claro del problema. ",1]
[null,{"$f":"VLOOKUP(C466,[1]instancias_objetos!$A$1:$B$123,2,FALSE)","v":"INST38"},"Comité Interinstitucional Consultivo para la Prevención de la Violencia Sexual y Atención Integral de los Niños, Niñas y Adolescentes Víctimas del Abuso Sexual","Recomendar la adopción de medidas que permitan la coordinación interinstitucional e intersectorial, con el fin de garantizar la detección, la prevención de la violencia sexual en todos los niveles y la atención integral de los niños, niñas y adolescentes abusados sexualmente.",1]
[null,{"$f":"VLOOKUP(C467,[1]instancias_objetos!$A$1:$B$123,2,FALSE)","v":"INST38"},"Comité Interinstitucional Consultivo para la Prevención de la Violencia Sexual y Atención Integral de los Niños, Niñas y Adolescentes Víctimas del Abuso Sexual","Proponer acciones conjuntas para la sensibilización y capacitación de las entidades y de la sociedad respecto de la prevención y denuncia de los casos de abuso sexual de niños, niñas y adolescentes. ",1]
[null,{"$f":"VLOOKUP(C468,[1]instancias_objetos!$A$1:$B$123,2,FALSE)","v":"INST38"},"Comité Interinstitucional Consultivo para la Prevención de la Violencia Sexual y Atención Integral de los Niños, Niñas y Adolescentes Víctimas del Abuso Sexual","Evaluar los programas de educación en salud sexual y reproductiva dirigida a niños, niñas y adolescentes para lo cual solicitará al Ministerio de Educación Nacional sean tomados en cuenta sus conceptos, estudios y propuestas, a fin de garantizar la prevención de la violencia sexual a niños, niñas y adolescentes. ",1]
[null,{"$f":"VLOOKUP(C469,[1]instancias_objetos!$A$1:$B$123,2,FALSE)","v":"INST38"},"Comité Interinstitucional Consultivo para la Prevención de la Violencia Sexual y Atención Integral de los Niños, Niñas y Adolescentes Víctimas del Abuso Sexual","Proponer y gestionar con el Ministerio de la Protección Social, lo relativo a la vigilancia epidemiológica del abuso sexual. ",1]
[null,{"$f":"VLOOKUP(C470,[1]instancias_objetos!$A$1:$B$123,2,FALSE)","v":"INST38"},"Comité Interinstitucional Consultivo para la Prevención de la Violencia Sexual y Atención Integral de los Niños, Niñas y Adolescentes Víctimas del Abuso Sexual"," Hacer recomendaciones sobre el contenido del material de apoyo empleado por los programas en salud sexual y reproductiva dirigida a niños, niñas y adolescentes. ",1]
[null,{"$f":"VLOOKUP(C471,[1]instancias_objetos!$A$1:$B$123,2,FALSE)","v":"INST38"},"Comité Interinstitucional Consultivo para la Prevención de la Violencia Sexual y Atención Integral de los Niños, Niñas y Adolescentes Víctimas del Abuso Sexual","Hacer recomendaciones sobre el contenido de la Cátedra de Educación para la Sexualidad que se impartirá en las facultades de ciencias sociales, de la salud y de la educación, que oriente hacia el cuidado, la prevención y la detección del abuso sexual en niños, niñas y adolescentes. ",1]
[null,{"$f":"VLOOKUP(C472,[1]instancias_objetos!$A$1:$B$123,2,FALSE)","v":"INST38"},"Comité Interinstitucional Consultivo para la Prevención de la Violencia Sexual y Atención Integral de los Niños, Niñas y Adolescentes Víctimas del Abuso Sexual","Presentar semestralmente ante las Comisiones Séptimas del Senado de la República y la Cámara de Representantes, un informe acerca de las acciones adelantadas en torno al objeto de la presente ley y los resultados de las mismas. ",1]
[null,{"$f":"VLOOKUP(C473,[1]instancias_objetos!$A$1:$B$123,2,FALSE)","v":"INST38"},"Comité Interinstitucional Consultivo para la Prevención de la Violencia Sexual y Atención Integral de los Niños, Niñas y Adolescentes Víctimas del Abuso Sexual","El Comité se dará su propia organización y agenda de trabajo anual. Como mínimo constituirá subcomités de atención, prevención y comunicación. ",1]
[null,{"$f":"VLOOKUP(C474,[1]instancias_objetos!$A$1:$B$123,2,FALSE)","v":"INST39"},"Consejo Nacional de Discapacidad","Participar y asesorar el proceso para la formulación de la Política Pública para la Discapacidad, en el marco de los Derechos Humanos. ",1]
[null,{"$f":"VLOOKUP(C475,[1]instancias_objetos!$A$1:$B$123,2,FALSE)","v":"INST39"},"Consejo Nacional de Discapacidad","Concertar las políticas generales del Sistema Nacional de Discapacidad, para que sean coherentes con el Plan Nacional de Desarrollo. ",1]
[null,{"$f":"VLOOKUP(C476,[1]instancias_objetos!$A$1:$B$123,2,FALSE)","v":"INST39"},"Consejo Nacional de Discapacidad","Presentar recomendaciones técnicas y las que correspondan, para el desarrollo de la política social a favor de las personas con algún tipo de discapacidad. ",1]
[null,{"$f":"VLOOKUP(C477,[1]instancias_objetos!$A$1:$B$123,2,FALSE)","v":"INST39"},"Consejo Nacional de Discapacidad","Verificar el cumplimiento, hacer seguimiento de la puesta en marcha de las políticas, planes, estrategias y programas de intervención del sector de la discapacidad. ",1]
[null,{"$f":"VLOOKUP(C478,[1]instancias_objetos!$A$1:$B$123,2,FALSE)","v":"INST39"},"Consejo Nacional de Discapacidad"," Conceptuar sobre los proyectos de ley y de decretos para desarrollar los principios, derechos y deberes de las personas con discapacidad y la prevención de las mismas. ",1]
[null,{"$f":"VLOOKUP(C479,[1]instancias_objetos!$A$1:$B$123,2,FALSE)","v":"INST39"},"Consejo Nacional de Discapacidad","Promover la apropiación de presupuestos en las entidades nacionales y territoriales que conforman el Sistema, en búsqueda de garantizar los recursos necesarios para ejecutar los planes, programas y proyectos del Plan Nacional de Discapacidad. ",1]
[null,{"$f":"VLOOKUP(C480,[1]instancias_objetos!$A$1:$B$123,2,FALSE)","v":"INST39"},"Consejo Nacional de Discapacidad","Proponer mecanismos para la conformación, consolidación y puesta en marcha de los grupos de enlace sectorial GES. ",1]
[null,{"$f":"VLOOKUP(C481,[1]instancias_objetos!$A$1:$B$123,2,FALSE)","v":"INST39"},"Consejo Nacional de Discapacidad"," Promover las alianzas estratégicas entre el Gobierno, sector privado, ONG y organismos internacionales para el mejoramiento de la calidad de vida de las personas con algún tipo de discapacidad. ",1]
[null,{"$f":"VLOOKUP(C482,[1]instancias_objetos!$A$1:$B$123,2,FALSE)","v":"INST39"},"Consejo Nacional de Discapacidad"," Proponer los ajustes y cambios necesarios de la política pública y del Plan Nacional de intervención para la discapacidad. ",1]
[null,{"$f":"VLOOKUP(C483,[1]instancias_objetos!$A$1:$B$123,2,FALSE)","v":"INST39"},"Consejo Nacional de Discapacidad","Promover la difusión y el cumplimiento de las disposiciones, principios y derechos establecidos y reconocidos por la Constitución Política Nacional y las demás disposiciones legales que reglamenten la materia. ",1]
[null,{"$f":"VLOOKUP(C484,[1]instancias_objetos!$A$1:$B$123,2,FALSE)","v":"INST39"},"Consejo Nacional de Discapacidad","Contribuir al desarrollo de estrategias que permitan crear condiciones de institucionalización del tema de discapacidad, en las diferentes entidades públicas y privadas, haciendo de este un tema transversal a las mismas. ",1]
[null,{"$f":"VLOOKUP(C485,[1]instancias_objetos!$A$1:$B$123,2,FALSE)","v":"INST39"},"Consejo Nacional de Discapacidad","Proponer los nombres de los representantes del sector de la discapacidad a los diferentes eventos internacionales, relacionados con este sector y conceptuar sobre los informes presentados por estos al Ministerio de la Protección Social. ",1]
[null,{"$f":"VLOOKUP(C486,[1]instancias_objetos!$A$1:$B$123,2,FALSE)","v":"INST40"},"Consejo Nacional del Talento Humano en Salud","Recomendar sobre la composición y el funcionamiento de los comités y el observatorio de Talento Humano en Salud de que trata la presente ley, y crear los comités ad hoc y grupos necesarios para abordar aspectos específicos del desarrollo del Talento Humano en Salud cuando lo considere pertinente",1]
[null,{"$f":"VLOOKUP(C487,[1]instancias_objetos!$A$1:$B$123,2,FALSE)","v":"INST40"},"Consejo Nacional del Talento Humano en Salud","Recomendar al Ministerio de Educación, con base en los análisis y estudios realizados en las comisiones correspondientes, acerca de las políticas y planes de los diferentes niveles de formación, para el mejoramiento de la competencia, pertinencia, calidad, cantidad, contenidos e intensidad, de los programas educativos del área de la salud, sin perjuicio de la autonomía universitaria",1]
[null,{"$f":"VLOOKUP(C488,[1]instancias_objetos!$A$1:$B$123,2,FALSE)","v":"INST40"},"Consejo Nacional del Talento Humano en Salud","Dar concepto técnico al Ministerio de la Protección Social sobre la definición del manual de tarifas",1]
[null,{"$f":"VLOOKUP(C489,[1]instancias_objetos!$A$1:$B$123,2,FALSE)","v":"INST40"},"Consejo Nacional del Talento Humano en Salud","Promover la actualización de las normas de ética de las diferentes disciplinas, apoyando los tribunales de ética y los comités bioéticos, clínicos, asistenciales y de investigación",1]
[null,{"$f":"VLOOKUP(C490,[1]instancias_objetos!$A$1:$B$123,2,FALSE)","v":"INST41"},"Comisión Intersectorial para el Talento Humano en Salud","Coordinar y orientar la ejecución de las funciones públicas relacionadas con la formación del Talento Humano en Salud en los Sistemas de Educación Superior, Educación para el Trabajo y el Desarrollo Humano y demás sistemas y procesos orientados a la formación en el área de la salud, que requieran acciones conjuntas de los Ministerios de Salud y Protección Social y de Educación Nacional.  ",1]
[null,{"$f":"VLOOKUP(C491,[1]instancias_objetos!$A$1:$B$123,2,FALSE)","v":"INST41"},"Comisión Intersectorial para el Talento Humano en Salud","Emitir concepto técnico sobre la relación docencia - servicio de los programas de educación superior del área de la salud, respecto de los que se esté adelantando el proceso para la obtención, renovación o modificación del registro calificado de dichos programas, que impliquen formación en el campo asistencial. El concepto técnico será emitido con base en la evaluación realizada por la Sala de Salud y Bienestar de la Comisión Nacional Intersectorial de Aseguramiento de la Calidad de la Educación Superior (Conaces). El otorgamiento del registro calificado solo procederá cuando el concepto técnico sea favorable",1]
[null,{"$f":"VLOOKUP(C492,[1]instancias_objetos!$A$1:$B$123,2,FALSE)","v":"INST41"},"Comisión Intersectorial para el Talento Humano en Salud","Definir el modelo de evaluación de la calidad para los escenarios de prácticas formativas en la relación docencia - servicio, a que se refieren los artículos 13 y 30 de la Ley 1164 de 2007, modificados por los artículos 99 y 101 de la Ley 1438 de 2011, respectivamente, o las normas que los modifiquen, adicionen o sustituyan",1]
[null,{"$f":"VLOOKUP(C493,[1]instancias_objetos!$A$1:$B$123,2,FALSE)","v":"INST41"},"Comisión Intersectorial para el Talento Humano en Salud","Reconocer como Hospital Universitario a las Instituciones Prestadoras de Servicios de Salud cuando cumplan los requisitos establecidos en el artículo 100 de la Ley 1438 de 2011 o la norma que lo modifique, adicione o sustituya. Para dicho reconocimiento, la Institución Prestadora de Servicios de Salud adelantará el procedimiento a que refiere el artículo 2.7.1.1.21 del Decreto número 780 de 2016, Único Reglamentario del Sector Salud y Protección Social",1]
[null,{"$f":"VLOOKUP(C494,[1]instancias_objetos!$A$1:$B$123,2,FALSE)","v":"INST41"},"Comisión Intersectorial para el Talento Humano en Salud","Determinar la forma de aplicación y verificación de los criterios para la realización de la autoevaluación de los escenarios de práctica a que refiere el artículo 2.7.1.1.20 del Decreto número 780 de 2016, Único Reglamentario del Sector Salud y Protección Social",1]
[null,{"$f":"VLOOKUP(C495,[1]instancias_objetos!$A$1:$B$123,2,FALSE)","v":"INST41"},"Comisión Intersectorial para el Talento Humano en Salud","Definir los componentes básicos y las normas de competencia laboral que conforman los perfiles de los Programas de Educación para el Trabajo y el Desarrollo Humano en el área de auxiliares de la salud, en concordancia con los requerimientos del Sistema General de Seguridad Social en Salud (SGSSS)",1]
[null,{"$f":"VLOOKUP(C496,[1]instancias_objetos!$A$1:$B$123,2,FALSE)","v":"INST41"},"Comisión Intersectorial para el Talento Humano en Salud","Definir el modelo de evaluación de las condiciones básicas de calidad de los Programas de Educación para el Trabajo y el Desarrollo Humano en el área de auxiliares de la salud",1]
[null,{"$f":"VLOOKUP(C497,[1]instancias_objetos!$A$1:$B$123,2,FALSE)","v":"INST41"},"Comisión Intersectorial para el Talento Humano en Salud","Adoptar los perfiles ocupacionales para el personal auxiliar en el área de la salud a que refiere el artículo 2.7.2.3.4.1 del Decreto número 780 de 2016, Único Reglamentario del Sector Salud y Protección Social",1]
[null,{"$f":"VLOOKUP(C498,[1]instancias_objetos!$A$1:$B$123,2,FALSE)","v":"INST41"},"Comisión Intersectorial para el Talento Humano en Salud","Designar un representante de la Comisión Intersectorial para el Talento Humano en Salud para que participe en las sesiones de la Sala de Evaluación de Salud y Bienestar de la Comisión Nacional Intersectorial de Aseguramiento de la Calidad de la Educación Superior (Conaces) y en otros escenarios que se consideren necesarios en la formación, el ejercicio y el desempeño del talento humano en salud. La Comisión reglamentará el perfil, las funciones y demás aspectos relacionados con este representante",1]
[null,{"$f":"VLOOKUP(C499,[1]instancias_objetos!$A$1:$B$123,2,FALSE)","v":"INST42"},"Comité de Clasificación de Películas Como Órgano Adscrito al Ministerio de Cultura","Preparar el sistema de clasificación de películas teniendo en cuenta la edad de los espectadores. El Ministerio de Cultura, a través de la Dirección de Cinematografía aprobará dicho sistema",1]
[null,{"$f":"VLOOKUP(C500,[1]instancias_objetos!$A$1:$B$123,2,FALSE)","v":"INST42"},"Comité de Clasificación de Películas Como Órgano Adscrito al Ministerio de Cultura","Proponer modificaciones al sistema de clasificación de películas cuando lo considere necesario",1]
[null,{"$f":"VLOOKUP(C501,[1]instancias_objetos!$A$1:$B$123,2,FALSE)","v":"INST42"},"Comité de Clasificación de Películas Como Órgano Adscrito al Ministerio de Cultura","Decidir sobre la clasificación de cada película",1]
[null,{"$f":"VLOOKUP(C502,[1]instancias_objetos!$A$1:$B$123,2,FALSE)","v":"INST43"},"Comité de Seguimiento a la Ley 1257","Evaluar el cumplimiento de las obligaciones de las instituciones responsables de la atención; prevención, investigación, juzgamiento, sanción y reparación en materia de violencia sexual, especialmente con ocasión del conflicto armado. ",1]
[null,{"$f":"VLOOKUP(C503,[1]instancias_objetos!$A$1:$B$123,2,FALSE)","v":"INST43"},"Comité de Seguimiento a la Ley 1257","Hacer seguimiento e identificar los obstáculos en la articulación interinstitucional en la atención y el acceso a la justicia para las víctimas de violencia sexual. ",1]
[null,{"$f":"VLOOKUP(C504,[1]instancias_objetos!$A$1:$B$123,2,FALSE)","v":"INST43"},"Comité de Seguimiento a la Ley 1257","Emitir las recomendaciones pertinentes frente al cumplimiento de las obligaciones de las instituciones involucradas en la atención, prevención, investigación, juzgamiento, sanción y reparación en materia de violencia sexual, especialmente con ocasión del conflicto armado.",1]
[null,{"$f":"VLOOKUP(C505,[1]instancias_objetos!$A$1:$B$123,2,FALSE)","v":"INST43"},"Comité de Seguimiento a la Ley 1257","La Consejería presentará un informe anual al Congreso de la República sobre la situación de violencia contra las mujeres, sus manifestaciones, magnitud, avances y retrocesos, consecuencias e impacto. ",1]
[null,{"$f":"VLOOKUP(C506,[1]instancias_objetos!$A$1:$B$123,2,FALSE)","v":"INST44"},"Consejo Nacional de Patrimonio Cultural","Asesorar al Ministerio de Cultura, en el diseño de la política estatal relativa al patrimonio cultural de la Nación, la cual tendrá como objetivos principales la salvaguardia, protección, recuperación, conservación, sostenibilidad y divulgación del mismo, con el propósito de que sirva de testimonio de la identidad cultural nacional, tanto en el presente como en el futuro",1]
[null,{"$f":"VLOOKUP(C507,[1]instancias_objetos!$A$1:$B$123,2,FALSE)","v":"INST44"},"Consejo Nacional de Patrimonio Cultural","Proponer recomendaciones al Ministerio de Cultura en el diseño de las estrategias para la protección y conservación del patrimonio cultural de la Nación que puedan incorporarse al Plan Nacional de Desarrollo Económico y Social, a través del Plan Nacional de Cultura",1]
[null,{"$f":"VLOOKUP(C508,[1]instancias_objetos!$A$1:$B$123,2,FALSE)","v":"INST44"},"Consejo Nacional de Patrimonio Cultural","Recomendar, sin interferir con la facultad legal exclusiva del Ministerio de Cultura, los bienes materiales de naturaleza mueble o inmueble que podrían ser incluidos en la Lista Indicativa de Candidatos a Bienes de Interés Cultural del ámbito nacional, para los propósitos descritos en el artículo 5° de la Ley 1185 de 2008, numeral 1, modificatorio del artículo 8° de la Ley 397 de 1997",1]
[null,{"$f":"VLOOKUP(C509,[1]instancias_objetos!$A$1:$B$123,2,FALSE)","v":"INST44"},"Consejo Nacional de Patrimonio Cultural","Estudiar y emitir concepto previo al Ministerio de Cultura para efectos de las decisiones que éste Ministerio deba adoptar en materia de declaratorias y revocatorias relativas a bienes de interés cultural del ámbito nacional. La declaratoria de un bien o conjunto de bienes como de interés cultural del ámbito nacional, así como la revocatoria de tales declaratorias deberá contar con el concepto previo favorable del Consejo Nacional de Patrimonio Cultural según lo establecido en la Ley 1185 de 2008",1]
[null,{"$f":"VLOOKUP(C510,[1]instancias_objetos!$A$1:$B$123,2,FALSE)","v":"INST44"},"Consejo Nacional de Patrimonio Cultural","Estudiar y emitir concepto previo al Ministerio de Cultura respecto de si el bien material del ámbito nacional declarado como Bien de Interés Cultural requiere o no, del Plan Especial de Manejo y Protección (PEMP) y, conceptuar sobre el contenido del respectivo PEMP. El concepto de que trata este numeral tendrá carácter obligatorio para el Ministerio de Cultura",1]
[null,{"$f":"VLOOKUP(C511,[1]instancias_objetos!$A$1:$B$123,2,FALSE)","v":"INST44"},"Consejo Nacional de Patrimonio Cultural","Recomendar, sin interferir con la facultad legal exclusiva del Ministerio de Cultura, las manifestaciones que podrían llegar a ser incluidas en la Lista Representativa de Patrimonio Cultural Inmaterial, prevista en el artículo 8o de la Ley 1185 de 2008, mediante el cual se adicionó el artículo 11-1 a la ley 397 de 1997",1]
[null,{"$f":"VLOOKUP(C512,[1]instancias_objetos!$A$1:$B$123,2,FALSE)","v":"INST44"},"Consejo Nacional de Patrimonio Cultural","Estudiar y conceptuar a solicitud conjunta del Ministerio de Cultura y el Instituto Colombiano de Antropología e Historia, sobre la inclusión de manifestaciones en la Lista Representativa de Patrimonio Cultural Inmaterial, y sobre el Plan de Salvaguardia propuesto para el respectivo caso, entendiéndose que dicho Plan debe estar orientado al fortalecimiento, revitalización, sostenibilidad y promoción de la respectiva manifestación. La inclusión de una manifestación en la Lista Representativa de Patrimonio Cultural Inmaterial y el Plan de Salvaguardia que necesariamente deberá adoptarse para el efecto, deberá contar en todos los casos con el concepto previo favorable del Consejo Nacional de Patrimonio Cultural",1]
[null,{"$f":"VLOOKUP(C513,[1]instancias_objetos!$A$1:$B$123,2,FALSE)","v":"INST44"},"Consejo Nacional de Patrimonio Cultural","Asesorar al Ministerio de Cultura en los aspectos que éste solicite relativos a la regulación, reglamentación, manejo, salvaguardia, protección, recuperación, conservación, sostenibilidad y divulgación del patrimonio cultural de la Nación",1]
[null,{"$f":"VLOOKUP(C514,[1]instancias_objetos!$A$1:$B$123,2,FALSE)","v":"INST44"},"Consejo Nacional de Patrimonio Cultural","Recomendar si lo estima procedente, lineamientos que pudieran ser tenidos en consideración en el ámbito departamental, municipal, de los territorios indígenas y de las comunidades negras de que trata la ley 70 de 1993, para efectos de manejo del patrimonio cultural y los bienes de interés cultural en las respectivas jurisdicciones, sin perjuicio de las competencias que la Ley 1185 de 2008 le atribuye con exclusividad a las autoridades en las jurisdicciones mencionadas y a los Consejos Departamentales y Distritales de Patrimonio Cultural",1]
[null,{"$f":"VLOOKUP(C515,[1]instancias_objetos!$A$1:$B$123,2,FALSE)","v":"INST44"},"Consejo Nacional de Patrimonio Cultural","Recomendar criterios para la aplicación del principio de coordinación que debe emplearse en la declaratoria y manejo de los Bienes de Interés Cultural y para la inclusión de Manifestaciones en las Listas Representativas de Patrimonio Cultural Inmaterial en los diferentes ámbitos territoriales",1]
[null,{"$f":"VLOOKUP(C516,[1]instancias_objetos!$A$1:$B$123,2,FALSE)","v":"INST44"},"Consejo Nacional de Patrimonio Cultural","Formular al Ministerio de Cultura propuestas sobre planes y programas de cooperación en el ámbito nacional e internacional que pudieran contribuir a la salvaguardia, protección, recuperación, conservación, sostenibilidad y divulgación del patrimonio cultural de la Nación y apoyar en la gestión de tales mecanismos de cooperación",1]
[null,{"$f":"VLOOKUP(C517,[1]instancias_objetos!$A$1:$B$123,2,FALSE)","v":"INST45"},"Comisión del Proceso Oral y Justicia Pronta","Estudiar y recomendar las medidas necesarias para hacer efectiva la oralidad en los procesos jurisdiccionales y la descongestión de los despachos judiciales de acuerdo con lo establecido en la Ley 1285 de 2009 y las demás normas que la desarrollen. ",1]
[null,{"$f":"VLOOKUP(C518,[1]instancias_objetos!$A$1:$B$123,2,FALSE)","v":"INST45"},"Comisión del Proceso Oral y Justicia Pronta","Analizar propuestas y formular recomendaciones sobre los estatutos procesales que incorporen y desarrollen el principio de oralidad los procesos por audiencias en todos los órdenes de la jurisdicción. ",1]
[null,{"$f":"VLOOKUP(C519,[1]instancias_objetos!$A$1:$B$123,2,FALSE)","v":"INST45"},"Comisión del Proceso Oral y Justicia Pronta","Analizar propuestas y formular recomendaciones con miras a la unificación y simplificación de procedimientos y trámites jurisdiccionales. ",1]
[null,{"$f":"VLOOKUP(C520,[1]instancias_objetos!$A$1:$B$123,2,FALSE)","v":"INST45"},"Comisión del Proceso Oral y Justicia Pronta","Analizar propuestas y formular recomendaciones relacionadas con proyectos de desjudicialización y asignación de competencias y funciones a autoridades administrativas y a particulares habilitados para ejercer funciones jurisdiccionales, en los términos previstos por el artículo 116 de la Constitución Política. ",1]
[null,{"$f":"VLOOKUP(C521,[1]instancias_objetos!$A$1:$B$123,2,FALSE)","v":"INST45"},"Comisión del Proceso Oral y Justicia Pronta","Analizar propuestas y formular recomendaciones al Gobierno Nacional y al Consejo Superior de la Judicatura sobre la reglamentación de los procedimientos jurisdiccionales y el funcionamiento de los despachos judiciales, con miras a garantizar un mejor y más eficiente funcionamiento de la administración de justicia",1]
[null,{"$f":"VLOOKUP(C522,[1]instancias_objetos!$A$1:$B$123,2,FALSE)","v":"INST45"},"Comisión del Proceso Oral y Justicia Pronta","Analizar propuestas y formular recomendaciones relacionadas con proyectos de articulación de los distintos grados de justicia nacional y regional, así como promover escenarios de debate a nivel regional sobre la situación de la administración de justicia y las necesidades propias de cada contexto",1]
[null,{"$f":"VLOOKUP(C523,[1]instancias_objetos!$A$1:$B$123,2,FALSE)","v":"INST45"},"Comisión del Proceso Oral y Justicia Pronta","Analizar propuestas y formular recomendaciones relacionadas con proyectos de articulación normativa y de divulgación de la jurisprudencia",1]
[null,{"$f":"VLOOKUP(C524,[1]instancias_objetos!$A$1:$B$123,2,FALSE)","v":"INST46"},"Comisión Nacional para la Seguridad, Comodidad y Convivencia en el Fútbol","Proponer e impulsar la elaboración de planes tipo para los escenarios deportivos destinados a la práctica de fútbol, en lo relacionado con seguridad, comodidad, organización interna y externa, cuerpos de atención de emergencias (públicos o privados), servicio de policía, servicios de vigilancia privada con fines logísticos y los demás que sean necesarios, de acuerdo con la estructura, aforo y ubicación de los escenarios. Estos planes deberán realizarse y ejecutarse incluyendo medidas que garanticen la perspectiva de género a fin de asegurar la igualdad y equidad de todos los asistentes a los encuentros futbolísticos",1]
[null,{"$f":"VLOOKUP(C525,[1]instancias_objetos!$A$1:$B$123,2,FALSE)","v":"INST46"},"Comisión Nacional para la Seguridad, Comodidad y Convivencia en el Fútbol","Fomentar e impulsar el acompañamiento de la policía comunitaria en los planes tipo que se adopten para asegurar la convivencia y seguridad en el fútbol",1]
[null,{"$f":"VLOOKUP(C526,[1]instancias_objetos!$A$1:$B$123,2,FALSE)","v":"INST46"},"Comisión Nacional para la Seguridad, Comodidad y Convivencia en el Fútbol","Diseñar y promover los mecanismos necesarios para conformar y alimentar periódicamente un sistema de información que contenga los datos de aquellas personas que han cometido o provocado actos violentos o que hayan alterado la convivencia dentro de los escenarios deportivos destinados a la práctica de fútbol o en su entorno",1]
[null,{"$f":"VLOOKUP(C527,[1]instancias_objetos!$A$1:$B$123,2,FALSE)","v":"INST46"},"Comisión Nacional para la Seguridad, Comodidad y Convivencia en el Fútbol","Diseñar y promover un sistema de registro que les permita a los clubes de fútbol profesional contar con información actualizada de los miembros de sus barras. En este registro deberá figurar, por lo menos, el nombre completo, la cédula de ciudadanía o tarjeta de identidad y la profesión u ocupación de cada integrante, estos datos deberán ser confrontados con los documentos que sustenten la veracidad de dicha información. Al momento de la inscripción, el club entregará una credencial o carné numerado, individual e intransferible, que contenga los citados datos y una fotografía reciente, y que, en la medida de lo posible, dificulte su adulteración",1]
[null,{"$f":"VLOOKUP(C528,[1]instancias_objetos!$A$1:$B$123,2,FALSE)","v":"INST46"},"Comisión Nacional para la Seguridad, Comodidad y Convivencia en el Fútbol","Diseñar un modelo de organización para las barras en el que se respete el principio democrático, acorde con los artículos 38 y 103 de la Constitución Política. De igual manera, promover la democratización de los equipos profesionales, garantizando, entre otras medidas, la participación de sus aficionados en la propiedad del equipo",1]
[null,{"$f":"VLOOKUP(C529,[1]instancias_objetos!$A$1:$B$123,2,FALSE)","v":"INST46"},"Comisión Nacional para la Seguridad, Comodidad y Convivencia en el Fútbol","Diseñar los protocolos que se deben cumplir para que los organizadores de este espectáculo y las autoridades competentes puedan tomar medidas sobre restricciones de acceso y exclusiones, temporales o definitivas, de aficionados",1]
[null,{"$f":"VLOOKUP(C530,[1]instancias_objetos!$A$1:$B$123,2,FALSE)","v":"INST46"},"Comisión Nacional para la Seguridad, Comodidad y Convivencia en el Fútbol","Promover y elaborar, acciones y campañas que conduzcan a prevenir, fomentar y sensibilizar a la población sobre la importancia de la convivencia y tolerancia, así como la eliminación de cualquier conducta violenta que interfiera con el desarrollo pacífico de este deporte",1]
[null,{"$f":"VLOOKUP(C531,[1]instancias_objetos!$A$1:$B$123,2,FALSE)","v":"INST46"},"Comisión Nacional para la Seguridad, Comodidad y Convivencia en el Fútbol","Proponer los requerimientos mínimos sobre reglamentaciones técnicas en cuanto a las instalaciones de los escenarios deportivos dedicados al fútbol y la organización de sus eventos, en lo relacionado con la seguridad y la comodidad de los espectadores y terceros intervinientes",1]
[null,{"$f":"VLOOKUP(C532,[1]instancias_objetos!$A$1:$B$123,2,FALSE)","v":"INST46"},"Comisión Nacional para la Seguridad, Comodidad y Convivencia en el Fútbol","Promover la expedición de normas conducentes a la prevención y sanción de los actos de violencia; y a la organización, modernización y reorganización de este deporte",1]
[null,{"$f":"VLOOKUP(C533,[1]instancias_objetos!$A$1:$B$123,2,FALSE)","v":"INST46"},"Comisión Nacional para la Seguridad, Comodidad y Convivencia en el Fútbol","Apoyar a los medios de comunicación para que antes, durante y después de los eventos deportivos relacionados con el fútbol, expresen y divulguen su información de manera veraz, pacífica y pedagógica. Para lograr tal propósito la Comisión podrá expedir comunicados de prensa",1]
[null,{"$f":"VLOOKUP(C534,[1]instancias_objetos!$A$1:$B$123,2,FALSE)","v":"INST46"},"Comisión Nacional para la Seguridad, Comodidad y Convivencia en el Fútbol","Dictar los protocolos que permitan categorizar los espectáculos de fútbol, según su riesgo o nivel de competencia",1]
[null,{"$f":"VLOOKUP(C535,[1]instancias_objetos!$A$1:$B$123,2,FALSE)","v":"INST46"},"Comisión Nacional para la Seguridad, Comodidad y Convivencia en el Fútbol","Elaborar de acuerdo a la categorización del espectáculo, protocolos para determinar los requisitos mínimos de seguridad, a fin de garantizar el normal desarrollo del evento deportivo. Entre las medidas deberá contemplarse la ubicación de las barras que pudieren enfrentarse violentamente, en sectores separados, claramente determinados, en los que se impida materialmente la circulación de una a otra zona",1]
[null,{"$f":"VLOOKUP(C536,[1]instancias_objetos!$A$1:$B$123,2,FALSE)","v":"INST46"},"Comisión Nacional para la Seguridad, Comodidad y Convivencia en el Fútbol","Proponer que en los partidos de fútbol considerados de alto riesgo, los aficionados del equipo que juegue en condición de visitante, salgan del estadio en un término prudencial con posterioridad a la terminación del encuentro",1]
[null,{"$f":"VLOOKUP(C537,[1]instancias_objetos!$A$1:$B$123,2,FALSE)","v":"INST46"},"Comisión Nacional para la Seguridad, Comodidad y Convivencia en el Fútbol","Recomendar la conformación y ubicación de puestos de control y mando unificados para cada partido de fútbol profesional",1]
[null,{"$f":"VLOOKUP(C538,[1]instancias_objetos!$A$1:$B$123,2,FALSE)","v":"INST46"},"Comisión Nacional para la Seguridad, Comodidad y Convivencia en el Fútbol","Promover la adopción de medidas educativas que conduzcan a la erradicación del consumo de sustancias alcohólicas, estupefacientes o psicotrópicas en los partidos de fútbol",1]
[null,{"$f":"VLOOKUP(C539,[1]instancias_objetos!$A$1:$B$123,2,FALSE)","v":"INST46"},"Comisión Nacional para la Seguridad, Comodidad y Convivencia en el Fútbol","Proponer a las autoridades competentes que en los espectáculos de alto riesgo, se prohíba el expendio de bebidas alcohólicas en las zonas aledañas a los estadios. Esta medida podrá regir desde antes del inicio del evento hasta después de su finalización. Los establecimientos de comercio deberán ser notificados con la debida antelación",1]
[null,{"$f":"VLOOKUP(C540,[1]instancias_objetos!$A$1:$B$123,2,FALSE)","v":"INST46"},"Comisión Nacional para la Seguridad, Comodidad y Convivencia en el Fútbol","Diseñar y promover un modelo que permita en el futuro, que todos los escenarios destinados a la práctica del fútbol profesional, tengan localidades numeradas y con asientos para todos los espectadores, acorde con la especialidad de las barras que se ubican en cada localidad",1]
[null,{"$f":"VLOOKUP(C541,[1]instancias_objetos!$A$1:$B$123,2,FALSE)","v":"INST46"},"Comisión Nacional para la Seguridad, Comodidad y Convivencia en el Fútbol","Recomendar un sistema marco de organización que asegure el acceso ordenado de los seguidores, en el que se evite el encuentro de los hinchas de los equipos contendientes",1]
[null,{"$f":"VLOOKUP(C542,[1]instancias_objetos!$A$1:$B$123,2,FALSE)","v":"INST46"},"Comisión Nacional para la Seguridad, Comodidad y Convivencia en el Fútbol","Recomendar el cierre temporal o definitivo a las autoridades competentes de aquellos estadios que no ofrezcan las condiciones mínimas de seguridad requeridas para la realización de este espectáculo deportivo, ya sea por deficiencias en las instalaciones o por fallas de organización, derivadas de la ausencia de control o vigilancia",1]
[null,{"$f":"VLOOKUP(C543,[1]instancias_objetos!$A$1:$B$123,2,FALSE)","v":"INST46"},"Comisión Nacional para la Seguridad, Comodidad y Convivencia en el Fútbol","Diagnosticar las causas de la violencia en el fútbol y proponer soluciones acordes con las expresiones del barrismo social. En desarrollo de esta función, se recopilarán los datos, las estadísticas y la información que resulte necesaria para alcanzar los fines propuestos",1]
[null,{"$f":"VLOOKUP(C544,[1]instancias_objetos!$A$1:$B$123,2,FALSE)","v":"INST46"},"Comisión Nacional para la Seguridad, Comodidad y Convivencia en el Fútbol","Proponer la adopción de medidas pedagógicas, espacios de encuentro y reflexión en los que se estudien los problemas sociales que afectan a la juventud e inciden negativamente en el comportamiento de los hinchas",1]
[null,{"$f":"VLOOKUP(C545,[1]instancias_objetos!$A$1:$B$123,2,FALSE)","v":"INST46"},"Comisión Nacional para la Seguridad, Comodidad y Convivencia en el Fútbol","Desarrollar actividades que promuevan la convivencia, participación y ejercicio de la ciudadanía acorde con los pilares del barrismo social",1]
[null,{"$f":"VLOOKUP(C546,[1]instancias_objetos!$A$1:$B$123,2,FALSE)","v":"INST46"},"Comisión Nacional para la Seguridad, Comodidad y Convivencia en el Fútbol","Reglamentar y supervisar el funcionamiento de las comisiones locales. Las directrices que al respecto se expidan serán de obligatorio cumplimiento",1]
[null,{"$f":"VLOOKUP(C547,[1]instancias_objetos!$A$1:$B$123,2,FALSE)","v":"INST47"},"Consejo Asesor de Ciencia, Tecnología e Innovación","Asesorar al Departamento Administrativo de Ciencia, Tecnología e Innovación -Colciencias- en el diseño de la política pública relativa a ciencia, tecnología e innovación",1]
[null,{"$f":"VLOOKUP(C548,[1]instancias_objetos!$A$1:$B$123,2,FALSE)","v":"INST47"},"Consejo Asesor de Ciencia, Tecnología e Innovación","Sugerir los criterios para la calificación de programas y proyectos en materia de ciencia, tecnología e innovación con base en los planes de desarrollo, en los documentos Conpes y en las orientaciones trazadas por el Gobierno Nacional",1]
[null,{"$f":"VLOOKUP(C549,[1]instancias_objetos!$A$1:$B$123,2,FALSE)","v":"INST47"},"Consejo Asesor de Ciencia, Tecnología e Innovación","Proponer herramientas para el diseño, seguimiento y evaluación de la Política Nacional de Ciencia, Tecnología e Innovación",1]
[null,{"$f":"VLOOKUP(C550,[1]instancias_objetos!$A$1:$B$123,2,FALSE)","v":"INST47"},"Consejo Asesor de Ciencia, Tecnología e Innovación","Asesorar sobre los programas, políticas, planes y proyectos estratégicos para el desarrollo científico y tecnológico del país que serán desarrollados por el Departamento Administrativo de Ciencia, Tecnología e Innovación -Colciencias",1]
[null,{"$f":"VLOOKUP(C551,[1]instancias_objetos!$A$1:$B$123,2,FALSE)","v":"INST47"},"Consejo Asesor de Ciencia, Tecnología e Innovación","Velar por la elaboración permanente de indicadores de Ciencia, Tecnología e Innovación",1]
[null,{"$f":"VLOOKUP(C552,[1]instancias_objetos!$A$1:$B$123,2,FALSE)","v":"INST48"},"Comisión de Regulación de Comunicaciones","Establecer el régimen de regulación que maximice el bienestar social de los usuarios",1]
[null,{"$f":"VLOOKUP(C553,[1]instancias_objetos!$A$1:$B$123,2,FALSE)","v":"INST48"},"Comisión de Regulación de Comunicaciones","Promover y regular la libre competencia y prevenir conductas desleales y prácticas comerciales restrictivas, mediante regulaciones de carácter general o medidas particulares, pudiendo proponer reglas de comportamiento diferenciales según la posición de los proveedores, previamente se haya determinado la existencia de una falla en el mercado.",1]
[null,{"$f":"VLOOKUP(C554,[1]instancias_objetos!$A$1:$B$123,2,FALSE)","v":"INST48"},"Comisión de Regulación de Comunicaciones","Expedir toda la regulación de carácter general y particular en las materias relacionadas con el régimen de competencia, los aspectos técnicos y económicos relacionados con la obligación de interconexión y el acceso y uso de instalaciones esenciales, recursos físicos y soportes lógicos necesarios para la interconexión; así como la remuneración por el acceso y uso de redes e infraestructura, precios mayoristas, las condiciones de facturación y recaudo; el régimen de acceso y uso de redes; los parámetros de calidad de los servicios; los criterios de eficiencia del sector y la medición de indicadores sectoriales para avanzar en la sociedad de la información; y en materia de solución de controversias.",1]
[null,{"$f":"VLOOKUP(C555,[1]instancias_objetos!$A$1:$B$123,2,FALSE)","v":"INST48"},"Comisión de Regulación de Comunicaciones","Regular el acceso y uso de todas las redes y el acceso a los mercados de los servicios de telecomunicaciones, de televisión abierta radiodifundida y de radiodifusión sonora, hacia una regulación por mercados. ",1]
[null,{"$f":"VLOOKUP(C556,[1]instancias_objetos!$A$1:$B$123,2,FALSE)","v":"INST48"},"Comisión de Regulación de Comunicaciones","Definir las condiciones en las cuales sean utilizadas infraestructuras y redes de otros servicios en la prestación de servicios de telecomunicaciones, incluyendo el servicio de televisión abierta radiodifundida y todas las demás modalidades del servicio de televisión y el servicio de radiodifusión sonora, bajo un esquema de costos eficientes. Esta facultad, está radicada en cabeza de esta comisión, de manera exclusiva, para lo cual deberá expedir una nueva regulación en un término máximo de seis (6) meses, previa la elaboración de un estudio técnico, donde se establezcan las condiciones de acceso a postes, ductos e infraestructura pasiva que pueda ser utilizada por los proveedores de redes y servicios de telecomunicaciones, incluyendo el servicio de televisión abierta radiodifundida y todas las demás modalidades del servicio de televisión, y el servicio de radiodifusión sonora. En la definición de la regulación se analizarán esquemas de precios, condiciones capacidad de cargas de los postes, capacidad física del ducto, ocupación requerida para la compartición, uso que haga el propietario de la infraestructura, así como los demás factores relevantes con el fin de determinar una remuneración eficiente del uso de la infraestructura. Lo anterior, incluye la definición de reglas para la división del valor de la contraprestación entre el número de operadores que puedan hacer uso de la infraestructura, de acuerdo con la capacidad técnica del poste y física del ducto, que defina la CRC.",1]
[null,{"$f":"VLOOKUP(C557,[1]instancias_objetos!$A$1:$B$123,2,FALSE)","v":"INST48"},"Comisión de Regulación de Comunicaciones","Definir las instalaciones esenciales. ",1]
[null,{"$f":"VLOOKUP(C558,[1]instancias_objetos!$A$1:$B$123,2,FALSE)","v":"INST48"},"Comisión de Regulación de Comunicaciones","Proponer al Gobierno Nacional la aprobación de planes y normas técnicas aplicables al sector de Tecnologías de la Información y las Comunicaciones, atendiendo el interés del país, según las normas y recomendaciones de organismos internacionales competentes y administrar dichos planes.",1]
[null,{"$f":"VLOOKUP(C559,[1]instancias_objetos!$A$1:$B$123,2,FALSE)","v":"INST48"},"Comisión de Regulación de Comunicaciones","Determinar estándares y certificados de homologación internacional y nacional de equipos, terminales, bienes y otros elementos técnicos indispensables para el establecimiento de redes y la prestación de servicios de telecomunicaciones, de televisión abierta radiodifundida y de radiodifusión sonora, aceptables en el país, así como señalar las entidades o laboratorios nacionales autorizados para homologar bienes de esta naturaleza.",1]
[null,{"$f":"VLOOKUP(C560,[1]instancias_objetos!$A$1:$B$123,2,FALSE)","v":"INST48"},"Comisión de Regulación de Comunicaciones","Resolver las controversias, en el marco de sus competencias, que se susciten entre los proveedores de redes y servicios de telecomunicaciones, de televisión abierta radiodifundida y de radiodifusión sonora. Ningún acuerdo entre proveedores podrá menoscabar, limitar o afectar la facultad de intervención regulatoria, y de solución de controversias de la Comisión de Regulación de Comunicaciones, así como el principio de la libre competencia.",1]
[null,{"$f":"VLOOKUP(C561,[1]instancias_objetos!$A$1:$B$123,2,FALSE)","v":"INST48"},"Comisión de Regulación de Comunicaciones","Imponer de oficio o a solicitud de parte, las servidumbres de acceso, uso e interconexión y las condiciones de acceso y uso de instalaciones esenciales, recursos físicos y soportes lógicos necesarios para la interconexión, y señalar la parte responsable de cancelar los costos correspondientes, así como fijar de oficio o a solicitud de parte las condiciones de acceso, uso e interconexión. Así mismo, determinar la interoperabilidad de plataformas y el interfuncionamiento de los servicios y/o aplicaciones.",1]
[null,{"$f":"VLOOKUP(C562,[1]instancias_objetos!$A$1:$B$123,2,FALSE)","v":"INST48"},"Comisión de Regulación de Comunicaciones","Señalar las condiciones de oferta mayorista y la provisión de elementos de red desagregados, teniendo en cuenta los lineamientos de política del Ministerio de Tecnologías de la Información y las Comunicaciones, garantizando la remuneración de los costos eficientes de la infraestructura y los incentivos adecuados a la inversión, así como el desarrollo de un régimen eficiente de comercialización de redes y servicios de telecomunicación.",1]
[null,{"$f":"VLOOKUP(C563,[1]instancias_objetos!$A$1:$B$123,2,FALSE)","v":"INST48"},"Comisión de Regulación de Comunicaciones","Regular y administrar los recursos de identificación utilizados en la provisión de redes y servicios de telecomunicaciones y cualquier otro recurso que actualmente o en el futuro identifique redes y usuarios, salvo el nombre de dominio de Internet bajo el código del país correspondiente a Colombia",1]
[null,{"$f":"VLOOKUP(C564,[1]instancias_objetos!$A$1:$B$123,2,FALSE)","v":"INST48"},"Comisión de Regulación de Comunicaciones","Administrar el uso de los recursos de numeración, identificación de redes de telecomunicaciones y otros recursos escasos utilizados en las telecomunicaciones, diferentes al espectro radioeléctrico.",1]
[null,{"$f":"VLOOKUP(C565,[1]instancias_objetos!$A$1:$B$123,2,FALSE)","v":"INST48"},"Comisión de Regulación de Comunicaciones","Definir por vía general la información que los proveedores deben proporcionar sin costo a sus usuarios o al público y, cuando no haya acuerdo entre el solicitante y el respectivo proveedor, señalar en concreto los valores que deban pagarse por concepto de información especial, todo ello sin perjuicio de la información calificada como reservada por la ley como privilegiada o estratégica.",1]
[null,{"$f":"VLOOKUP(C566,[1]instancias_objetos!$A$1:$B$123,2,FALSE)","v":"INST48"},"Comisión de Regulación de Comunicaciones","Administrar y disponer de su patrimonio de conformidad con las normas legales y reglamentarias aplicables y manejar los equipos y recursos que se le asignen, los que obtenga en el desempeño de sus funciones, y cualquier otro que le corresponda.",1]
[null,{"$f":"VLOOKUP(C567,[1]instancias_objetos!$A$1:$B$123,2,FALSE)","v":"INST48"},"Comisión de Regulación de Comunicaciones","Emitir concepto sobre la legalidad de los contratos de los proveedores con los usuarios.",1]
[null,{"$f":"VLOOKUP(C568,[1]instancias_objetos!$A$1:$B$123,2,FALSE)","v":"INST48"},"Comisión de Regulación de Comunicaciones","Resolver recursos de apelación contra actos de cualquier autoridad que se refieran a la construcción, instalación u operación de redes de telecomunicaciones, de televisión abierta radiodifundida y de radiodifusión sonora.",1]
[null,{"$f":"VLOOKUP(C569,[1]instancias_objetos!$A$1:$B$123,2,FALSE)","v":"INST48"},"Comisión de Regulación de Comunicaciones","Requerir para el cumplimiento de sus funciones información amplia, exacta, veraz y oportuna a los proveedores de redes y servicios de comunicaciones, de televisión abierta radiodifundida y de radiodifusión sonora. Aquellos que no proporcionen la información que mediante requerimientos específicos efectúa la CRC, o que la misma no cumpla con las condiciones de calidad definidas por la CRC, podrán ser sujetos de imposición de multas diarias por parte de la CRC hasta por 250 salarios mínimos legales mensuales vigentes a la fecha de la ocurrencia de los hechos, por cada día en que incurran en esta conducta, según la gravedad de la falta y la reincidencia en su comisión.",1]
[null,{"$f":"VLOOKUP(C570,[1]instancias_objetos!$A$1:$B$123,2,FALSE)","v":"INST48"},"Comisión de Regulación de Comunicaciones","Determinar anualmente, teniendo en cuenta los recursos disponibles para su financiación y la política pública definida para el sector postal por el Ministerio de Tecnologías de la Información y las Comunicaciones, los criterios y niveles de calidad en términos de frecuencia, tiempo de entrega, sistema de reclamaciones, así como las tarifas de los servicios pertenecientes al Servicio Postal Universal.",1]
[null,{"$f":"VLOOKUP(C571,[1]instancias_objetos!$A$1:$B$123,2,FALSE)","v":"INST48"},"Comisión de Regulación de Comunicaciones","Definir las condiciones en las cuales los operadores de comunicaciones, comercializadores y distribuidores deberán garantizar que las bandas de los terminales móviles estén desbloqueadas para que el usuario pueda activarlos en cualquier red, así como definir las condiciones y características de bases de datos, tanto positivas como negativas, que contengan la información de identificación de equipos terminales móviles, así como establecer las obligaciones de los proveedores de redes y servicios de comunicaciones, comercializadores, distribuidores o cualquier comerciante de equipos terminales móviles, y las relativas al reporte de la información de identificación de dichos equipos ante la CRC y al suministro de esta información a los usuarios. Las bases de datos de que trata el presente numeral, deberán ser implementadas y administrativas de manera centralizada, a través de un tercero, por parte de los proveedores de redes y servicios de comunicaciones y la información consignada en dichas bases de datos tendrá carácter público, sin perjuicio de la información que contenga datos personales, la cual será protegida de conformidad con lo establecido por la ley.",1]
[null,{"$f":"VLOOKUP(C572,[1]instancias_objetos!$A$1:$B$123,2,FALSE)","v":"INST48"},"Comisión de Regulación de Comunicaciones","Conocer y decidir a prevención respecto de las actuaciones administrativas de imposición de servidumbres sobre predios, a solicitud del proveedor de redes y servicios de telecomunicaciones, y en los términos de los artículos 56, 57 y del Capítulo III del Título VII de la Ley 142 de 1994. Lo anterior para garantizar la prestación de los servicios de telecomunicaciones y sin perjuicio de que el proveedor de redes y servicios pueda promover el proceso de imposición de servidumbre al que se refiere la Ley 56 de 1981.",1]
[null,{"$f":"VLOOKUP(C573,[1]instancias_objetos!$A$1:$B$123,2,FALSE)","v":"INST48"},"Comisión de Regulación de Comunicaciones","Regular los aspectos técnicos y económicos relacionados con las diferentes clases de servicios postales, incluyendo aquellos comprendidos en el Servicio Postal Universal, teniendo en cuenta los recursos disponibles para su financiación y la política pública definida para el sector postal por el Ministerio de Tecnologías de la Información y las Comunicaciones.",1]
[null,{"$f":"VLOOKUP(C574,[1]instancias_objetos!$A$1:$B$123,2,FALSE)","v":"INST48"},"Comisión de Regulación de Comunicaciones","Fijar indicadores y metas de calidad y eficiencia de los servicios postales, incluyendo aquellos comprendidos dentro del Servicio Postal Universal, teniendo en cuenta los recursos disponibles para su financiación y la política pública definida para el sector postal por el Ministerio de Tecnologías de la Información y las Comunicaciones e imponer índices de calidad, cobertura y eficiencia a uno o varios operadores para determinados servicios.",1]
[null,{"$f":"VLOOKUP(C575,[1]instancias_objetos!$A$1:$B$123,2,FALSE)","v":"INST48"},"Comisión de Regulación de Comunicaciones","Garantizar el pluralismo e imparcialidad informativa, siendo el principal interlocutor con los usuarios del servicio de televisión y la opinión pública en relación con la difusión, protección y defensa de los intereses de los televidentes.",1]
[null,{"$f":"VLOOKUP(C576,[1]instancias_objetos!$A$1:$B$123,2,FALSE)","v":"INST48"},"Comisión de Regulación de Comunicaciones","Establecer prohibiciones para aquellas conductas en que incu­rran las personas que atenten contra el pluralismo informativo, la competencia, el régimen de inhabilidades y los derechos de los televidentes.",1]
[null,{"$f":"VLOOKUP(C577,[1]instancias_objetos!$A$1:$B$123,2,FALSE)","v":"INST48"},"Comisión de Regulación de Comunicaciones","Vigilar y sancionar aquellas conductas que atenten contra el pluralismo informativo, el régimen de inhabilidades de televi­sión abierta y los derechos de los televidentes, contempladas en el ordenamiento jurídico vigente. En estos casos, aplicarán las sanciones contempladas en el artículo 65 de la presente Ley.",1]
[null,{"$f":"VLOOKUP(C578,[1]instancias_objetos!$A$1:$B$123,2,FALSE)","v":"INST48"},"Comisión de Regulación de Comunicaciones","Promover y reglamentar lo atinente a la participación ciudadana en los temas que puedan afectar al televidente, especialmente lo referido al control de contenidos audiovisuales.",1]
[null,{"$f":"VLOOKUP(C579,[1]instancias_objetos!$A$1:$B$123,2,FALSE)","v":"INST48"},"Comisión de Regulación de Comunicaciones","Clasificar, de conformidad con la Ley 182 de 1995 y demás nor­mas aplicables, las distintas modalidades del servicio público de televisión, y regular las condiciones de operación y explo­tación del mismo, particularmente en materia de cubrimientos, encadenamientos, expansión progresiva del área asignada, con­figuración técnica, franjas y contenido de la programación, ges­tión y calidad del servicio, publicidad, comercialización en los términos de esta Ley, modificaciones en razón de la transmisión de eventos especiales, utilización de las redes y servicios sateli­tales, y obligaciones con los usuarios.",1]
[null,{"$f":"VLOOKUP(C580,[1]instancias_objetos!$A$1:$B$123,2,FALSE)","v":"INST48"},"Comisión de Regulación de Comunicaciones","Sancionar a los operadores, concesionarios de espacios de te­levisión y contratistas de televisión nacional cuando violen las disposiciones constitucionales y legales que amparan específi­camente los derechos de la familia y de los niños. De acuerdo con la reglamentación aplicable, los infractores se harán acree­dores de las sanciones de amonestación, suspensión temporal del servicio hasta por cinco (5) meses o caducidad o revocatoria de la concesión o licencia, según la gravedad de la infracción y la reincidencia. En todo caso, se respetarán las normas estable­cidas en la Ley sobre el debido proceso.",1]
[null,{"$f":"VLOOKUP(C581,[1]instancias_objetos!$A$1:$B$123,2,FALSE)","v":"INST49"},"Comisión Nacional de Diálogo: Grupo Étnico Rom o Gitano","Ser la instancia de diálogo, concertación e interlocución entre el grupo étnico Rom o Gitano y el Gobierno Nacional. ",1]
[null,{"$f":"VLOOKUP(C582,[1]instancias_objetos!$A$1:$B$123,2,FALSE)","v":"INST49"},"Comisión Nacional de Diálogo: Grupo Étnico Rom o Gitano","Difundir la información oficial hacia los miembros del grupo étnico y las entidades territoriales. ",1]
[null,{"$f":"VLOOKUP(C583,[1]instancias_objetos!$A$1:$B$123,2,FALSE)","v":"INST49"},"Comisión Nacional de Diálogo: Grupo Étnico Rom o Gitano","Contribuir en la solución de los problemas de educación y salud del grupo étnico Rom o Gitano. ",1]
[null,{"$f":"VLOOKUP(C584,[1]instancias_objetos!$A$1:$B$123,2,FALSE)","v":"INST49"},"Comisión Nacional de Diálogo: Grupo Étnico Rom o Gitano","Establecer mecanismos de coordinación con las entidades del nivel nacional y territorial, para hacer efectivo el cumplimiento de los derechos. ",1]
[null,{"$f":"VLOOKUP(C585,[1]instancias_objetos!$A$1:$B$123,2,FALSE)","v":"INST50"},"Comisión Nacional Intersectorial para la Promoción y Garantía de los Derechos Sexuales y Reproductivos","Coordinar la formulación e implementación de planes programas y acciones necesarias para la ejecución de las políticas relacionadas con la promoción y garantía de los derechos sexuales y reproductivos",1]
[null,{"$f":"VLOOKUP(C586,[1]instancias_objetos!$A$1:$B$123,2,FALSE)","v":"INST50"},"Comisión Nacional Intersectorial para la Promoción y Garantía de los Derechos Sexuales y Reproductivos","Establecer los espacios de participación y los actores involucrados en la planeación, ejecución, seguimiento y evaluación de los programas, estrategias y acciones que sean orientados al logro de los Objetivos del Desarrollo del Milenio, la garantía de los Derechos Sexuales y Reproductivos y el Desarrollo Integral de la población colombiana",1]
[null,{"$f":"VLOOKUP(C587,[1]instancias_objetos!$A$1:$B$123,2,FALSE)","v":"INST50"},"Comisión Nacional Intersectorial para la Promoción y Garantía de los Derechos Sexuales y Reproductivos","Apoyar las labores de los comités que se organicen a nivel departamental o regional para la ejecución de las políticas relacionadas con la promoción y garantía de los derechos sexuales y reproductivos",1]
[null,{"$f":"VLOOKUP(C588,[1]instancias_objetos!$A$1:$B$123,2,FALSE)","v":"INST50"},"Comisión Nacional Intersectorial para la Promoción y Garantía de los Derechos Sexuales y Reproductivos","Recomendar en caso de ser requerido la actualización de la legislación vigente relacionada y tendiente a mejorar la promoción y garantía de los derechos sexuales y reproductivos",1]
[null,{"$f":"VLOOKUP(C589,[1]instancias_objetos!$A$1:$B$123,2,FALSE)","v":"INST50"},"Comisión Nacional Intersectorial para la Promoción y Garantía de los Derechos Sexuales y Reproductivos","Programar anualmente estrategias de comunicación y movilización social, orientadas a la promoción y garantía de los Derechos Sexuales y Reproductivos",1]
[null,{"$f":"VLOOKUP(C590,[1]instancias_objetos!$A$1:$B$123,2,FALSE)","v":"INST51"},"Comité Técnico Nacional de Bibliotecas Públicas","Actuar como instancia de articulación y concertación con el Ministerio de Cultura y las instituciones del sector público, privado o personas naturales que puedan contribuir al desarrollo de la Red Nacional de Bibliotecas Públicas",1]
[null,{"$f":"VLOOKUP(C591,[1]instancias_objetos!$A$1:$B$123,2,FALSE)","v":"INST51"},"Comité Técnico Nacional de Bibliotecas Públicas","Diseñar mecanismos de cooperación entre la Red Nacional de Bibliotecas Públicas y otras redes bibliotecarias públicas, mixtas, privadas y comunitarias",1]
[null,{"$f":"VLOOKUP(C592,[1]instancias_objetos!$A$1:$B$123,2,FALSE)","v":"INST51"},"Comité Técnico Nacional de Bibliotecas Públicas","Asesorar al Ministerio de Cultura, a la Biblioteca Nacional y a otras entidades públicas, en la definición de lineamientos, criterios y normas relativas a las bibliotecas públicas y el fomento a la lectura, así como a los demás asuntos relacionados con los temas de que trata esta ley",1]
[null,{"$f":"VLOOKUP(C593,[1]instancias_objetos!$A$1:$B$123,2,FALSE)","v":"INST51"},"Comité Técnico Nacional de Bibliotecas Públicas","Proponer investigaciones sobre lectura, escritura, uso de las bibliotecas, desarrollos tecnológicos, relaciones de las bibliotecas con sus comunidades y otros temas afines",1]
[null,{"$f":"VLOOKUP(C594,[1]instancias_objetos!$A$1:$B$123,2,FALSE)","v":"INST52"},"Consejo Nacional Asesor de Lenguas Nativas","Asesorar al Ministerio de Cultura en la definición, adopción y orientación de los planes, de protección y fortalecimiento de las lenguas de los grupos étnicos presentes en el territorio nacional",1]
[null,{"$f":"VLOOKUP(C595,[1]instancias_objetos!$A$1:$B$123,2,FALSE)","v":"INST52"},"Consejo Nacional Asesor de Lenguas Nativas","Asesorar la elaboración de planes y programas tendientes a la compilación y protección de los documentos y tradiciones orales de los pueblos que utilizan las lenguas nativas",1]
[null,{"$f":"VLOOKUP(C596,[1]instancias_objetos!$A$1:$B$123,2,FALSE)","v":"INST52"},"Consejo Nacional Asesor de Lenguas Nativas","Asesorar al Ministerio de Cultura en el diseño, implementación y evaluación de los programas de protección de lenguas nativas",1]
[null,{"$f":"VLOOKUP(C597,[1]instancias_objetos!$A$1:$B$123,2,FALSE)","v":"INST52"},"Consejo Nacional Asesor de Lenguas Nativas","Asesorar al Ministerio de Cultura en mecanismos que permitan evaluar proyectos de defensa y fortalecimiento de lenguas nativas presentadas por Instituciones del sector público, privado o personas naturales",1]
[null,{"$f":"VLOOKUP(C598,[1]instancias_objetos!$A$1:$B$123,2,FALSE)","v":"INST52"},"Consejo Nacional Asesor de Lenguas Nativas","Asesorar en el procedimiento para efectuar la transcripción alfabética, efectuada por la entidad competente para su registro, de los nombres y apellidos provenientes de la lengua y la tradición cultural, usados por los hablantes de las lenguas nativas, con el fin de obtener su registro para efectos públicos, tal como lo dispone el artículo 6° de la Ley 1381 de 2010",1]
[null,{"$f":"VLOOKUP(C599,[1]instancias_objetos!$A$1:$B$123,2,FALSE)","v":"INST52"},"Consejo Nacional Asesor de Lenguas Nativas","Asesorar en el procedimiento para efectuar la transcripción alfabética, efectuada por la entidad competente para su registro, de los nombres de lugares geográficos usados tradicionalmente en su territorio por los integrantes de pueblos y comunidades donde se hablen lenguas nativas, con el fin de obtener su registro para efectos públicos, tal como lo dispone el artículo 6° de la Ley 1381 de 2010",1]
[null,{"$f":"VLOOKUP(C600,[1]instancias_objetos!$A$1:$B$123,2,FALSE)","v":"INST52"},"Consejo Nacional Asesor de Lenguas Nativas","Efectuar los análisis de los indicadores técnicos que establecen la situación de vitalidad de todas las lenguas nativas de Colombia para especificar el nivel de ayuda que requieren",1]
[null,{"$f":"VLOOKUP(C601,[1]instancias_objetos!$A$1:$B$123,2,FALSE)","v":"INST52"},"Consejo Nacional Asesor de Lenguas Nativas","Elaborar la lista de lenguas nativas que se encuentren en peligro de extinción y asesorar en el diseño y la realización de planes de urgencia con el fin de reunir toda la documentación posible sobre cada una de las lenguas nativas que se encuentren en peligro de extinción",1]
[null,{"$f":"VLOOKUP(C602,[1]instancias_objetos!$A$1:$B$123,2,FALSE)","v":"INST52"},"Consejo Nacional Asesor de Lenguas Nativas","Proponer mecanismos para evitar la extinción de las lenguas nativas",1]
[null,{"$f":"VLOOKUP(C603,[1]instancias_objetos!$A$1:$B$123,2,FALSE)","v":"INST52"},"Consejo Nacional Asesor de Lenguas Nativas","Elaborar la lista de lenguas nativas que se encuentren en estado de precariedad y asesorar en el diseño y la realización de programas de revitalización y fortalecimiento de las lenguas nativas que se encuentren en estado de precariedad",1]
[null,{"$f":"VLOOKUP(C604,[1]instancias_objetos!$A$1:$B$123,2,FALSE)","v":"INST52"},"Consejo Nacional Asesor de Lenguas Nativas","Actuar como instancia de articulación y concertación con el Ministerio de Cultura y las instituciones del sector público, privado o personas naturales que puedan contribuir al desarrollo, adopción y orientación de los planes de protección y fortalecimiento de las lenguas de los grupos étnicos presentes en el territorio nacional",1]
[null,{"$f":"VLOOKUP(C605,[1]instancias_objetos!$A$1:$B$123,2,FALSE)","v":"INST52"},"Consejo Nacional Asesor de Lenguas Nativas","Asesorar en el diseño de mecanismos de cooperación entre el Ministerio de Cultura y otras entidades públicas, en la definición de lineamientos, criterios y normas relativas a la protección y fortalecimiento de las lenguas nativas del territorio nacional",1]
[null,{"$f":"VLOOKUP(C606,[1]instancias_objetos!$A$1:$B$123,2,FALSE)","v":"INST52"},"Consejo Nacional Asesor de Lenguas Nativas","Proponer métodos para fomentar el uso de las lenguas nativas en las comunidades",1]
[null,{"$f":"VLOOKUP(C607,[1]instancias_objetos!$A$1:$B$123,2,FALSE)","v":"INST52"},"Consejo Nacional Asesor de Lenguas Nativas","Asesorar en el diseño de instrumentos de compilación de la información sobre lenguas nativas",1]
[null,{"$f":"VLOOKUP(C608,[1]instancias_objetos!$A$1:$B$123,2,FALSE)","v":"INST52"},"Consejo Nacional Asesor de Lenguas Nativas","Hacer seguimiento a las acciones de corto, mediano y largo plazo, establecidas en los planes de protección y fortalecimiento de las lenguas nativas teniendo en cuenta los objetivos definidos en la Ley 1381 de 2010",1]
[null,{"$f":"VLOOKUP(C609,[1]instancias_objetos!$A$1:$B$123,2,FALSE)","v":"INST52"},"Consejo Nacional Asesor de Lenguas Nativas","Asesorar al Ministerio de Cultura en la elaboración del Plan Decenal de acción a favor de las lenguas nativas",1]
[null,{"$f":"VLOOKUP(C610,[1]instancias_objetos!$A$1:$B$123,2,FALSE)","v":"INST52"},"Consejo Nacional Asesor de Lenguas Nativas","Proponer investigaciones sobre lenguas nativas",1]
[null,{"$f":"VLOOKUP(C611,[1]instancias_objetos!$A$1:$B$123,2,FALSE)","v":"INST52"},"Consejo Nacional Asesor de Lenguas Nativas","Establecer el reglamento interno para el funcionamiento del Consejo Nacional Asesor de Lenguas Nativas sin perjuicio de la presente normativa",1]
[null,{"$f":"VLOOKUP(C612,[1]instancias_objetos!$A$1:$B$123,2,FALSE)","v":"INST53"},"Consejo Nacional de Bioética","Asesorar a las diferentes Ramas del Poder Público del Estado, de orden Nacional, Departamental, Municipal y órganos de control en Ios asuntos referentes a la Bioética",1]
[null,{"$f":"VLOOKUP(C613,[1]instancias_objetos!$A$1:$B$123,2,FALSE)","v":"INST53"},"Consejo Nacional de Bioética","Conceptuar y asesorar en la reglamentación de los diferentes aspectosde la Bioética suscitados por el avance de las ciencias y la tecnología",1]
[null,{"$f":"VLOOKUP(C614,[1]instancias_objetos!$A$1:$B$123,2,FALSE)","v":"INST53"},"Consejo Nacional de Bioética","Convocar, según sea la afectación de los interesados, a miembros de la sociedad civil o de otros sectores, con reconocido conocimiento del tema a abordar, para que representen, según sea el caso, la diversidad étnica, cultural, religiosa, de géneros, o de comunidades específicas",1]
[null,{"$f":"VLOOKUP(C615,[1]instancias_objetos!$A$1:$B$123,2,FALSE)","v":"INST53"},"Consejo Nacional de Bioética","Desarrollar reflexiones éticas sobre los aspectos de las ciencias y la tecnología que considere de relevancia proponer ante el gobierno nacional o que el mismo Gobierno Nacional solicite",1]
[null,{"$f":"VLOOKUP(C616,[1]instancias_objetos!$A$1:$B$123,2,FALSE)","v":"INST53"},"Consejo Nacional de Bioética","Elaborar estudios y relatorías acerca de los conflictos éticos existentes en el campo de la salud o que tengan importancia para la preservación de la vida humana, de la relación del ser humano con el medio ambiente o de acceso a los avances y progresos del conocimiento en las áreas de la salud",1]
[null,{"$f":"VLOOKUP(C617,[1]instancias_objetos!$A$1:$B$123,2,FALSE)","v":"INST53"},"Consejo Nacional de Bioética","Emitir conceptos sobre las implicaciones bioéticas de aspectos emergentes o persistentes que tengan o puedan llegar a tener impacto en la vida humana, en la calidad de vida o en el medio ambiente o que afecten o puedan afectar la pluralidad de género, étnica, religiosa y cultural",1]
[null,{"$f":"VLOOKUP(C618,[1]instancias_objetos!$A$1:$B$123,2,FALSE)","v":"INST53"},"Consejo Nacional de Bioética","Desarrollar acciones tendientes a la promoción de la educación en bioética y a la participación de la sociedad en el debate de temas relacionados",1]
[null,{"$f":"VLOOKUP(C619,[1]instancias_objetos!$A$1:$B$123,2,FALSE)","v":"INST53"},"Consejo Nacional de Bioética","Proponer acciones para la divulgación y promoción de la Bioética a nivel Nacional, Departamental y Municipal, lo que incluye la realizaciónde foros sobre temas específicos de interés o la edición y publicación de sus propuestas o recomendaciones, entre otras",1]
[null,{"$f":"VLOOKUP(C620,[1]instancias_objetos!$A$1:$B$123,2,FALSE)","v":"INST53"},"Consejo Nacional de Bioética","Asesorar al Gobierno Nacional en la política de Bioética, mediante la cual las organizaciones públicas y privadas apliquen la Bioética como un elemento fundamental de la organización",1]
[null,{"$f":"VLOOKUP(C621,[1]instancias_objetos!$A$1:$B$123,2,FALSE)","v":"INST54"},"Comisión de Seguimiento y Monitoreo a la Ley de Víctimas","Hacer seguimiento al proceso de diseño, implementación, ejecución y cumplimiento de las medidas contenidas en la ley de víctimas.",1]
[null,{"$f":"VLOOKUP(C622,[1]instancias_objetos!$A$1:$B$123,2,FALSE)","v":"INST55"},"Comisión de Ordenamiento Territorial","Asesorar al Gobierno Nacional y a las Comisiones Especiales de Seguimiento al Proceso de Descentralización y Ordenamiento Territorial del Senado de la República y de la Cámara de Representantes, en la definición de políticas y desarrollos legislativos relativos a la organización territorial del Estado",1]
[null,{"$f":"VLOOKUP(C623,[1]instancias_objetos!$A$1:$B$123,2,FALSE)","v":"INST55"},"Comisión de Ordenamiento Territorial","Asesorar a los departamentos, distritos y municipios, de forma que promueva la integración entre estos y se puedan coordinar con más facilidad los procesos de integración",1]
[null,{"$f":"VLOOKUP(C624,[1]instancias_objetos!$A$1:$B$123,2,FALSE)","v":"INST55"},"Comisión de Ordenamiento Territorial","Establecer los parámetros de diferenciación entre las diversas instancias de asociaciones que promueven el desarrollo regional, dentro del marco de la Constitución y la ley",1]
[null,{"$f":"VLOOKUP(C625,[1]instancias_objetos!$A$1:$B$123,2,FALSE)","v":"INST55"},"Comisión de Ordenamiento Territorial","Revisar, evaluar y proponer diferentes políticas sectoriales que tengan injerencia directa con el ordenamiento territorial, a iniciativa propia, del Gobierno Nacional y de las Comisiones Especiales de Seguimiento al Proceso de Descentralización y Ordenamiento Territorial del Senado de la República y de la Cámara de Representantes",1]
[null,{"$f":"VLOOKUP(C626,[1]instancias_objetos!$A$1:$B$123,2,FALSE)","v":"INST55"},"Comisión de Ordenamiento Territorial","Propiciar escenarios de consulta o concertación con los actores involucrados en el ordenamiento territorial",1]
[null,{"$f":"VLOOKUP(C627,[1]instancias_objetos!$A$1:$B$123,2,FALSE)","v":"INST55"},"Comisión de Ordenamiento Territorial","Presentar anualmente a las Comisiones Especiales de Seguimiento al Proceso de Descentralización y Ordenamiento Territorial del Senado de la República y de la Cámara de Representantes, un informe sobre el estado y avances del ordenamiento territorial",1]
[null,{"$f":"VLOOKUP(C628,[1]instancias_objetos!$A$1:$B$123,2,FALSE)","v":"INST55"},"Comisión de Ordenamiento Territorial","En el año siguiente de la conformación y puesta en marcha de la COT elaborar una propuesta de codificación y compilación de las normas jurídicas vigentes en Colombia sobre la organización territorial del Estado y las entidades territoriales",1]
[null,{"$f":"VLOOKUP(C629,[1]instancias_objetos!$A$1:$B$123,2,FALSE)","v":"INST56"},"Comité de Evaluación de Riesgo y Recomendación de Medidas","Analizar los casos que le sean presentados por el Programa de Protección, teniendo en cuenta el concepto y recomendaciones del Grupo de Valoración Preliminar y los insumos de información que las entidades del Comité aportan en el marco de sus competencias. ",1]
[null,{"$f":"VLOOKUP(C630,[1]instancias_objetos!$A$1:$B$123,2,FALSE)","v":"INST56"},"Comité de Evaluación de Riesgo y Recomendación de Medidas","Validar la determinación del nivel de riesgo de las personas que pertenecen a la población objeto del presente decreto a partir del insumo suministrado por el Grupo de Valoración Preliminar. ",1]
[null,{"$f":"VLOOKUP(C631,[1]instancias_objetos!$A$1:$B$123,2,FALSE)","v":"INST56"},"Comité de Evaluación de Riesgo y Recomendación de Medidas","Recomendar al Director la Unidad Nacional de Protección las medidas de protección. ",1]
[null,{"$f":"VLOOKUP(C632,[1]instancias_objetos!$A$1:$B$123,2,FALSE)","v":"INST56"},"Comité de Evaluación de Riesgo y Recomendación de Medidas","Recomendar, de manera excepcional, medidas de protección distintas a las previstas en el Artículo 11, literal a, parágrafo 2°, del presente decreto. ",1]
[null,{"$f":"VLOOKUP(C633,[1]instancias_objetos!$A$1:$B$123,2,FALSE)","v":"INST56"},"Comité de Evaluación de Riesgo y Recomendación de Medidas","Recomendar al Director de la Unidad Nacional de Protección, el ajuste de las medidas de prevención y protección, cuando a ello hubiere lugar, en virtud de los resultados de la revaluación del riesgo. ",1]
[null,{"$f":"VLOOKUP(C634,[1]instancias_objetos!$A$1:$B$123,2,FALSE)","v":"INST56"},"Comité de Evaluación de Riesgo y Recomendación de Medidas","Recomendar al Director de la Unidad Nacional de Protección, la finalización o suspensión de las medidas de protección cuando a ello hubiere lugar. ",1]
[null,{"$f":"VLOOKUP(C635,[1]instancias_objetos!$A$1:$B$123,2,FALSE)","v":"INST56"},"Comité de Evaluación de Riesgo y Recomendación de Medidas","Definir la temporalidad de las medidas de prevención y de protección. ",1]
[null,{"$f":"VLOOKUP(C636,[1]instancias_objetos!$A$1:$B$123,2,FALSE)","v":"INST57"},"Comité de Seguimiento de la Alianza de Gobierno Abierto","Convocar a los grupos de apoyo para hacerle seguimiento al Plan de Acción",1]
[null,{"$f":"VLOOKUP(C637,[1]instancias_objetos!$A$1:$B$123,2,FALSE)","v":"INST57"},"Comité de Seguimiento de la Alianza de Gobierno Abierto","Definir la metodología de elaboración de los Planes de Acción",1]
[null,{"$f":"VLOOKUP(C638,[1]instancias_objetos!$A$1:$B$123,2,FALSE)","v":"INST57"},"Comité de Seguimiento de la Alianza de Gobierno Abierto","Desarrollar el proceso de planeación",1]
[null,{"$f":"VLOOKUP(C639,[1]instancias_objetos!$A$1:$B$123,2,FALSE)","v":"INST57"},"Comité de Seguimiento de la Alianza de Gobierno Abierto","Diseñar estrategias para sensibilizar y socializar información de Gobierno Abierto y los planes de acción AGA",1]
[null,{"$f":"VLOOKUP(C640,[1]instancias_objetos!$A$1:$B$123,2,FALSE)","v":"INST57"},"Comité de Seguimiento de la Alianza de Gobierno Abierto","Promover la participación activa de la sociedad civil en la formulación, seguimiento e implementación de los Planes de Acción",1]
[null,{"$f":"VLOOKUP(C641,[1]instancias_objetos!$A$1:$B$123,2,FALSE)","v":"INST57"},"Comité de Seguimiento de la Alianza de Gobierno Abierto","Aportar propuestas para la sostenibilidad financiera del proceso",1]
[null,{"$f":"VLOOKUP(C642,[1]instancias_objetos!$A$1:$B$123,2,FALSE)","v":"INST58"},"Comité Ejecutivo para la Atención y Reparación a las Víctimas","Diseñar y adoptar las políticas, estrategias, planes, programas y proyectos para la atención, asistencia y reparación integral a las víctimas. ",1]
[null,{"$f":"VLOOKUP(C643,[1]instancias_objetos!$A$1:$B$123,2,FALSE)","v":"INST58"},"Comité Ejecutivo para la Atención y Reparación a las Víctimas","Diseñar, adoptar y aprobar el Plan Nacional de Atención y Reparación Integral de que trata la presente Ley. ",1]
[null,{"$f":"VLOOKUP(C644,[1]instancias_objetos!$A$1:$B$123,2,FALSE)","v":"INST58"},"Comité Ejecutivo para la Atención y Reparación a las Víctimas","Disponer que las entidades del Sistema Nacional de Atención y Reparación a las Víctimas garanticen la consecución de recursos presupuestales, y gestionar la consecución de los recursos financieros provenientes de fuentes de financiación diferentes al Presupuesto General de la Nación, para garantizar la adecuada y oportuna prestación de los servicios. ",1]
[null,{"$f":"VLOOKUP(C645,[1]instancias_objetos!$A$1:$B$123,2,FALSE)","v":"INST58"},"Comité Ejecutivo para la Atención y Reparación a las Víctimas","Apoyar y gestionar la consecución de recursos presupuestales para la ejecución de las políticas, estrategias, planes, proyectos y programas. ",1]
[null,{"$f":"VLOOKUP(C646,[1]instancias_objetos!$A$1:$B$123,2,FALSE)","v":"INST58"},"Comité Ejecutivo para la Atención y Reparación a las Víctimas"," Aprobar las bases y criterios de la inversión pública en materia de atención, asistencia y reparación integral a las Víctimas. ",1]
[null,{"$f":"VLOOKUP(C647,[1]instancias_objetos!$A$1:$B$123,2,FALSE)","v":"INST58"},"Comité Ejecutivo para la Atención y Reparación a las Víctimas","Determinar los instrumentos de coordinación en materia presupuestal de planeación, ejecución y evaluación, para el adecuado desarrollo de su mandato. ",1]
[null,{"$f":"VLOOKUP(C648,[1]instancias_objetos!$A$1:$B$123,2,FALSE)","v":"INST58"},"Comité Ejecutivo para la Atención y Reparación a las Víctimas","Realizar el seguimiento a la implementación de la presente Ley, teniendo en cuenta la contribución efectiva a los derechos a la verdad, justicia y reparación integral de las víctimas, de acuerdo a las obligaciones contempladas en la presente Ley. ",1]
[null,{"$f":"VLOOKUP(C649,[1]instancias_objetos!$A$1:$B$123,2,FALSE)","v":"INST59"},"Consejo Directivo de la Unidad Administrativa Especial de Gestión de Restitución de Tierras Despojadas","Formular la política general, los planes y programas de la Unidad en armonía con la política del sector administrativo y el Plan Nacional de Desarrollo. ",1]
[null,{"$f":"VLOOKUP(C650,[1]instancias_objetos!$A$1:$B$123,2,FALSE)","v":"INST59"},"Consejo Directivo de la Unidad Administrativa Especial de Gestión de Restitución de Tierras Despojadas","Formular los criterios generales para la ejecución de los planes, programas, proyectos y recursos de la Unidad y su Fondo adscrito, para el cumplimiento de los propósitos, objetivos y funciones para el cual fueron creados. ",1]
[null,{"$f":"VLOOKUP(C651,[1]instancias_objetos!$A$1:$B$123,2,FALSE)","v":"INST59"},"Consejo Directivo de la Unidad Administrativa Especial de Gestión de Restitución de Tierras Despojadas","Definir en coordinación con la Unidad Administrativa Especial de Atención y Reparación Integral a Víctimas y en concertación con las autoridades, la caracterización integral de los daños y afectaciones territoriales, igual proceso se adelantará con las comunidades étnicas.",1]
[null,{"$f":"VLOOKUP(C652,[1]instancias_objetos!$A$1:$B$123,2,FALSE)","v":"INST59"},"Consejo Directivo de la Unidad Administrativa Especial de Gestión de Restitución de Tierras Despojadas","Formular y acompañar al Director General en la definición de estrategias y mecanismos de coordinación que garanticen la optimización de los recursos y la materialización de los propósitos de la Ley 1448 de 2011 en la restitución de tierras a los despojados de ellas",1]
[null,{"$f":"VLOOKUP(C653,[1]instancias_objetos!$A$1:$B$123,2,FALSE)","v":"INST59"},"Consejo Directivo de la Unidad Administrativa Especial de Gestión de Restitución de Tierras Despojadas","Aprobar el plan estratégico de la entidad y los planes y programas, con enfoque diferencial, necesarios para dar cumplimiento a los objetivos y funciones de la Unidad, orientados a la restitución efectiva y sostenible de tierras y territorios despojados y abandonados forzosamente y asegurar su correcta ejecución. ",1]
[null,{"$f":"VLOOKUP(C654,[1]instancias_objetos!$A$1:$B$123,2,FALSE)","v":"INST59"},"Consejo Directivo de la Unidad Administrativa Especial de Gestión de Restitución de Tierras Despojadas","Aprobar el anteproyecto de presupuesto anual de la entidad y las modificaciones al presupuesto de conformidad con las normas vigentes sobre la materia. ",1]
[null,{"$f":"VLOOKUP(C655,[1]instancias_objetos!$A$1:$B$123,2,FALSE)","v":"INST59"},"Consejo Directivo de la Unidad Administrativa Especial de Gestión de Restitución de Tierras Despojadas","Proponer al Gobierno Nacional las modificaciones a la estructura que consideren pertinente para el eficaz desarrollo administrativo y el mejoramiento continuo de la Unidad",1]
[null,{"$f":"VLOOKUP(C656,[1]instancias_objetos!$A$1:$B$123,2,FALSE)","v":"INST59"},"Consejo Directivo de la Unidad Administrativa Especial de Gestión de Restitución de Tierras Despojadas","Estudiar y aprobar las modificaciones al presupuesto de conformidad con las normas vigentes sobre la materia.",1]
[null,{"$f":"VLOOKUP(C657,[1]instancias_objetos!$A$1:$B$123,2,FALSE)","v":"INST59"},"Consejo Directivo de la Unidad Administrativa Especial de Gestión de Restitución de Tierras Despojadas","Aprobar anualmente un calendario de las sesiones ordinarias del Consejo Directivo",1]
[null,{"$f":"VLOOKUP(C658,[1]instancias_objetos!$A$1:$B$123,2,FALSE)","v":"INST60"},"Consejo Directivo del Centro de Memoria Histórica","Formular, a propuesta del representante legal, la política general del organismo, los planes y programas que, conforme a la Ley Orgánica de Planeación y a la Ley Orgánica del Presupuesto deben proponerse para su incorporación a los planes. ",1]
[null,{"$f":"VLOOKUP(C659,[1]instancias_objetos!$A$1:$B$123,2,FALSE)","v":"INST60"},"Consejo Directivo del Centro de Memoria Histórica","Adoptar políticas e impulsar acciones que motiven la participación privada y la cooperación internacional en la construcción de memoria histórica. ",1]
[null,{"$f":"VLOOKUP(C660,[1]instancias_objetos!$A$1:$B$123,2,FALSE)","v":"INST60"},"Consejo Directivo del Centro de Memoria Histórica","Definir y adoptar los lineamientos estratégicos para la construcción de la memoria histórica, estableciendo la forma como interactuarán las distintas áreas y dependencias del Centro de Memoria Histórica con este propósito. ",1]
[null,{"$f":"VLOOKUP(C661,[1]instancias_objetos!$A$1:$B$123,2,FALSE)","v":"INST60"},"Consejo Directivo del Centro de Memoria Histórica","Definir y adoptar los lineamientos estratégicos para la difusión y publicación de los informes que produzca y los insumos que recoja el Centro de Memoria Histórica.",1]
[null,{"$f":"VLOOKUP(C662,[1]instancias_objetos!$A$1:$B$123,2,FALSE)","v":"INST60"},"Consejo Directivo del Centro de Memoria Histórica","Formular una estrategia de priorización y proyectos de investigación que contribuyan al conocimiento de la verdad histórica a los que se dedicará el Centro de Memoria Histórica. ",1]
[null,{"$f":"VLOOKUP(C663,[1]instancias_objetos!$A$1:$B$123,2,FALSE)","v":"INST60"},"Consejo Directivo del Centro de Memoria Histórica"," Definir la política general de manejo del archivo sobre información relacionada con las violaciones ocurridas con ocasión del conflicto armado interno.",1]
[null,{"$f":"VLOOKUP(C664,[1]instancias_objetos!$A$1:$B$123,2,FALSE)","v":"INST60"},"Consejo Directivo del Centro de Memoria Histórica","Formular a propuesta del representante legal, la política de mejoramiento continuo de la entidad, así como los programas orientados a garantizar el desarrollo administrativo. ",1]
[null,{"$f":"VLOOKUP(C665,[1]instancias_objetos!$A$1:$B$123,2,FALSE)","v":"INST60"},"Consejo Directivo del Centro de Memoria Histórica","Conocer de las evaluaciones semestrales de ejecución presentadas por la administración de la entidad. ",1]
[null,{"$f":"VLOOKUP(C666,[1]instancias_objetos!$A$1:$B$123,2,FALSE)","v":"INST60"},"Consejo Directivo del Centro de Memoria Histórica","Proponer al Gobierno Nacional las modificaciones de la estructura orgánica que considere pertinentes y adoptar los estatutos internos de la entidad y cualquier reforma que a ellos se introduzca de conformidad con lo dispuesto en sus actos de creación o reestructuración. ",1]
[null,{"$f":"VLOOKUP(C667,[1]instancias_objetos!$A$1:$B$123,2,FALSE)","v":"INST60"},"Consejo Directivo del Centro de Memoria Histórica","Aprobar el anteproyecto de presupuesto anual del Centro de Memoria Histórica. ",1]
[null,{"$f":"VLOOKUP(C668,[1]instancias_objetos!$A$1:$B$123,2,FALSE)","v":"INST60"},"Consejo Directivo del Centro de Memoria Histórica"," Señalar los criterios generales para la ejecución de los planes, programas, proyectos y recursos del Centro de Memoria Histórica para el cumplimiento del objeto y funciones para el cual fue creado.",1]
[null,{"$f":"VLOOKUP(C669,[1]instancias_objetos!$A$1:$B$123,2,FALSE)","v":"INST60"},"Consejo Directivo del Centro de Memoria Histórica"," Controlar el funcionamiento del Centro de Memoria Histórica y evaluar el resultado de sus actividades, de acuerdo con las políticas y planes adoptados",1]
[null,{"$f":"VLOOKUP(C670,[1]instancias_objetos!$A$1:$B$123,2,FALSE)","v":"INST60"},"Consejo Directivo del Centro de Memoria Histórica","Decidir sobre la participación del Centro en las sociedades o asociaciones que se creen y organicen para el mejor cumplimiento de su objeto, objetivos y funciones. ",1]
[null,{"$f":"VLOOKUP(C671,[1]instancias_objetos!$A$1:$B$123,2,FALSE)","v":"INST60"},"Consejo Directivo del Centro de Memoria Histórica","Proponer al Director General la creación de grupos o consejos internos asesores a los cuales podrá invitar particulares. ",1]
[null,{"$f":"VLOOKUP(C672,[1]instancias_objetos!$A$1:$B$123,2,FALSE)","v":"INST61"},"Mesa Nacional de Participación Efectiva de las Víctimas","Servir de instancia válida de interlocución y consulta de las víctimas, ante la administración y las entidades públicas del orden nacional y territorial, en la implementación de la política pública.",1]
[null,{"$f":"VLOOKUP(C673,[1]instancias_objetos!$A$1:$B$123,2,FALSE)","v":"INST61"},"Mesa Nacional de Participación Efectiva de las Víctimas","Proponer a las respectivas entidades y autoridades, proyectos, planes y programas en desarrollo por lo dispuesto en la Ley 1448 de 2011 y demás normas concordantes y complementarias.",1]
[null,{"$f":"VLOOKUP(C674,[1]instancias_objetos!$A$1:$B$123,2,FALSE)","v":"INST61"},"Mesa Nacional de Participación Efectiva de las Víctimas","Servir de espacios garantes de la participación oportuna y efectiva de las víctimas en el diseño, implementación, ejecución y evaluación de la política pública para las víctimas a nivel nacional, departamental, distrital y municipal.",1]
[null,{"$f":"VLOOKUP(C675,[1]instancias_objetos!$A$1:$B$123,2,FALSE)","v":"INST61"},"Mesa Nacional de Participación Efectiva de las Víctimas","Establecer estrategias para que las víctimas y las organizaciones de víctimas conozcan sus derechos, participen en el diseño de los planes, programas y proyectos dirigidos a las víctimas, y ejerzan veeduría en la ejecución de los mismos.",1]
[null,{"$f":"VLOOKUP(C676,[1]instancias_objetos!$A$1:$B$123,2,FALSE)","v":"INST61"},"Mesa Nacional de Participación Efectiva de las Víctimas"," Promover, difundir y establecer estrategias para el respeto efectivo a los Derechos Humanos y el Derecho Internacional Humanitario.",1]
[null,{"$f":"VLOOKUP(C677,[1]instancias_objetos!$A$1:$B$123,2,FALSE)","v":"INST61"},"Mesa Nacional de Participación Efectiva de las Víctimas","Elegir los representantes a las instancias de participación estipulados en la Ley 1448 de 2011, en su respectivo ámbito territorial.",1]
[null,{"$f":"VLOOKUP(C678,[1]instancias_objetos!$A$1:$B$123,2,FALSE)","v":"INST61"},"Mesa Nacional de Participación Efectiva de las Víctimas"," Elegir los representantes para los espacios de participación ciudadana que se consideren pertinentes, en su respectivo ámbito territorial.",1]
[null,{"$f":"VLOOKUP(C679,[1]instancias_objetos!$A$1:$B$123,2,FALSE)","v":"INST61"},"Mesa Nacional de Participación Efectiva de las Víctimas","Participar en ejercicios de rendición de cuentas de las entidades responsables.",1]
[null,{"$f":"VLOOKUP(C680,[1]instancias_objetos!$A$1:$B$123,2,FALSE)","v":"INST61"},"Mesa Nacional de Participación Efectiva de las Víctimas","Rendir cuentas frente a las víctimas en el respectivo ámbito territorial.",1]
[null,{"$f":"VLOOKUP(C681,[1]instancias_objetos!$A$1:$B$123,2,FALSE)","v":"INST61"},"Mesa Nacional de Participación Efectiva de las Víctimas","Ejercer veeduría ciudadana sobre el cumplimiento de la Ley 1448 de 2011 y demás normas concordantes y complementarias.",1]
[null,{"$f":"VLOOKUP(C682,[1]instancias_objetos!$A$1:$B$123,2,FALSE)","v":"INST61"},"Mesa Nacional de Participación Efectiva de las Víctimas","Solicitar a la autoridad competente su intervención o el inicio de las investigaciones tendientes a garantizar la debida aplicación de los postulados de la Ley 1448 de 2011 y demás normas concordantes y complementarias.",1]
[null,{"$f":"VLOOKUP(C683,[1]instancias_objetos!$A$1:$B$123,2,FALSE)","v":"INST61"},"Mesa Nacional de Participación Efectiva de las Víctimas"," Incidir en las políticas, planes y proyectos para la implementación de la Ley 1448 de 2011.",1]
[null,{"$f":"VLOOKUP(C684,[1]instancias_objetos!$A$1:$B$123,2,FALSE)","v":"INST61"},"Mesa Nacional de Participación Efectiva de las Víctimas","Discutir y concertar el Plan de Acción Territorial.",1]
[null,{"$f":"VLOOKUP(C685,[1]instancias_objetos!$A$1:$B$123,2,FALSE)","v":"INST61"},"Mesa Nacional de Participación Efectiva de las Víctimas","Realizar un Plan de Trabajo Anual y comunicarlo a las Secretarías Técnicas de las respectivas Mesas de Participación, para que adopten las acciones correspondientes. Dicho Plan de Trabajo se integrará a los Planes de Acción Territoriales (PAT).",1]
[null,{"$f":"VLOOKUP(C686,[1]instancias_objetos!$A$1:$B$123,2,FALSE)","v":"INST61"},"Mesa Nacional de Participación Efectiva de las Víctimas","Propiciar la inclusión de temáticas que busquen garantizar la participación efectiva y los derechos de las etnias, las mujeres, niños, niñas, adolescentes, jóvenes, adultos mayores, de las víctimas con discapacidad y de la población LGBTI.",1]
[null,{"$f":"VLOOKUP(C687,[1]instancias_objetos!$A$1:$B$123,2,FALSE)","v":"INST61"},"Mesa Nacional de Participación Efectiva de las Víctimas","Elaborar planes, programas y proyectos dirigidos a las víctimas, que contribuyan al desarrollo de los postulados de la Ley 1448 de 2011.",1]
[null,{"$f":"VLOOKUP(C688,[1]instancias_objetos!$A$1:$B$123,2,FALSE)","v":"INST61"},"Mesa Nacional de Participación Efectiva de las Víctimas","Presentar un informe anual al Concejo Municipal o Distrital, a la Asamblea Departamental, y al Congreso de la República, sobre la aplicación de la Ley 1448 de 2011 en su respectivo ámbito territorial.",1]
[null,{"$f":"VLOOKUP(C689,[1]instancias_objetos!$A$1:$B$123,2,FALSE)","v":"INST61"},"Mesa Nacional de Participación Efectiva de las Víctimas","Invitar a las entidades responsables de la implementación de la política pública, para que en sesión de la mesa de participación correspondiente informen del estado, enfoque, proyección o cualquier otro aspecto de la política pública que requiera ser evaluado.",1]
[null,{"$f":"VLOOKUP(C690,[1]instancias_objetos!$A$1:$B$123,2,FALSE)","v":"INST62"},"Subcomités Técnicos del Sistema Nacional de Atención y Reparación a las Víctimas","Designar la Secretaría Técnica del Subcomité.",1]
[null,{"$f":"VLOOKUP(C691,[1]instancias_objetos!$A$1:$B$123,2,FALSE)","v":"INST62"},"Subcomités Técnicos del Sistema Nacional de Atención y Reparación a las Víctimas","Acoger las orientaciones técnicas que imparta el Coordinador Operativo del Sistema Nacional de Atención y Reparación a las Víctimas.",1]
[null,{"$f":"VLOOKUP(C692,[1]instancias_objetos!$A$1:$B$123,2,FALSE)","v":"INST62"},"Subcomités Técnicos del Sistema Nacional de Atención y Reparación a las Víctimas","Formular los planes operativos anuales, en concordancia con las responsabilidades y funciones de su competencia y remitirlos a la Secretaría Técnica del Comité Ejecutivo.",1]
[null,{"$f":"VLOOKUP(C693,[1]instancias_objetos!$A$1:$B$123,2,FALSE)","v":"INST62"},"Subcomités Técnicos del Sistema Nacional de Atención y Reparación a las Víctimas","Definir los lineamientos para orientar a las entidades territoriales, en la formulación de sus planes de acción, dirigidos a garantizar la aplicación y efectividad de las medidas de prevención, asistencia, atención y reparación integral a las víctimas, en el territorio de su jurisdicción.",1]
[null,{"$f":"VLOOKUP(C694,[1]instancias_objetos!$A$1:$B$123,2,FALSE)","v":"INST62"},"Subcomités Técnicos del Sistema Nacional de Atención y Reparación a las Víctimas","Establecer los lineamientos para la construcción de protocolos, metodologías y procesos que se requieran para la efectiva implementación de las medidas de atención, asistencia y reparación consagradas en el presente Decreto y en la Ley 1448 de 2011.",1]
[null,{"$f":"VLOOKUP(C695,[1]instancias_objetos!$A$1:$B$123,2,FALSE)","v":"INST63"},"Comisión Nacional de Competitividad e Innovación","Asesorar y presentar propuestas al Gobierno nacional para la adopción de políticas y programas tendientes a lograr un mejoramiento en materia de competitividad e innovación en el país",1]
[null,{"$f":"VLOOKUP(C696,[1]instancias_objetos!$A$1:$B$123,2,FALSE)","v":"INST63"},"Comisión Nacional de Competitividad e Innovación","Coordinar y realizar seguimiento a los avances de los sistemas administrativos, subsistemas o instancias del gobierno nacional que tengan a su cargo la implementación de la Agenda Nacional de Competitividad e Innovación",1]
[null,{"$f":"VLOOKUP(C697,[1]instancias_objetos!$A$1:$B$123,2,FALSE)","v":"INST63"},"Comisión Nacional de Competitividad e Innovación","Realizar seguimiento al desempeño del país en las metas e indicadores nacionales e internacionales en materia de competitividad e innovación, y proponer acciones para su mejora",1]
[null,{"$f":"VLOOKUP(C698,[1]instancias_objetos!$A$1:$B$123,2,FALSE)","v":"INST63"},"Comisión Nacional de Competitividad e Innovación","Solicitar los informes a las instancias encargadas de la implementación de la Agenda Nacional de Competitividad e Innovación",1]
[null,{"$f":"VLOOKUP(C699,[1]instancias_objetos!$A$1:$B$123,2,FALSE)","v":"INST64"},"Consejo Nacional de Salud Mental","Preparar y presentar a las instancias y entidades pertinentes conceptos y recomendaciones producto del seguimiento y evaluación participativa y periódica a la implementación y cumplimiento de la Ley 1566 de 2012, la presente ley, Política Nacional de Salud Mental, Política Nacional para la reducción del consumo de sustancias estupefacientes o psicotrópicas y su impacto, Política Pública Nacional de Prevención y Atención a la adicción de sustancias psicoactivas, el modelo de atención, guías y protocolos en salud mental, Conpes y el Plan decenal para la salud pública en lo relativo a la salud mental. ",1]
[null,{"$f":"VLOOKUP(C700,[1]instancias_objetos!$A$1:$B$123,2,FALSE)","v":"INST64"},"Consejo Nacional de Salud Mental","Revisar la ejecución de los planes de acción nacional y departamental para el cumplimiento de las leyes e instrumentos indicados en el numeral anterior",1]
[null,{"$f":"VLOOKUP(C701,[1]instancias_objetos!$A$1:$B$123,2,FALSE)","v":"INST64"},"Consejo Nacional de Salud Mental","Plantear acciones de articulación intersectorial y transectorial que impacten la prevención y la atención integral en salud mental",1]
[null,{"$f":"VLOOKUP(C702,[1]instancias_objetos!$A$1:$B$123,2,FALSE)","v":"INST64"},"Consejo Nacional de Salud Mental","Recomendar nuevos procesos administrativos y técnicos que surjan producto de la investigación, el monitoreo y evaluación de las leyes e instrumentos referidos en el numeral 1",1]
[null,{"$f":"VLOOKUP(C703,[1]instancias_objetos!$A$1:$B$123,2,FALSE)","v":"INST64"},"Consejo Nacional de Salud Mental","Rendir y divulgar anualmente un informe integral de gestión, evaluación, resultados y cumplimiento de las leyes, políticas y planes señalados en el numeral 1 a la Procuraduría General de la Nación, Contraloría General de la República, Defensoría del Pueblo, Superintendencia Nacional de Salud y Comisiones Séptimas Constitucionales del Congreso de la República para lo de su competencia",1]
[null,{"$f":"VLOOKUP(C704,[1]instancias_objetos!$A$1:$B$123,2,FALSE)","v":"INST65"},"Comité Consultivo para la Regla Fiscal","El Comité Consultivo para la Regla Fiscal deberá pronunciarse sobre la metodología y definición de parámetros básicos requeridos para la operación de la Regla Fiscal.",1]
[null,{"$f":"VLOOKUP(C705,[1]instancias_objetos!$A$1:$B$123,2,FALSE)","v":"INST65"},"Comité Consultivo para la Regla Fiscal","El Comité Consultivo para la Regla Fiscal deberá pronunciarse sobre las propuestas que formule el Gobierno Nacional sobre cambios metodológicos para la definición de la Regla Fiscal.",1]
[null,{"$f":"VLOOKUP(C706,[1]instancias_objetos!$A$1:$B$123,2,FALSE)","v":"INST65"},"Comité Consultivo para la Regla Fiscal","El Comité Consultivo para la Regla Fiscal deberá pronunciarse sobre el informe de cumplimiento de la Regla Fiscal que el Gobierno Nacional debe presentar ante las Comisiones Económicas del Congreso de la República.",1]
[null,{"$f":"VLOOKUP(C707,[1]instancias_objetos!$A$1:$B$123,2,FALSE)","v":"INST65"},"Comité Consultivo para la Regla Fiscal","El Comité Consultivo para la Regla Fiscal deberá pronunciarse sobre la suspensión de la Regla Fiscal, de conformidad con lo dispuesto en el artículo 14 de la Ley 1473 de 2011.",1]
[null,{"$f":"VLOOKUP(C708,[1]instancias_objetos!$A$1:$B$123,2,FALSE)","v":"INST66"},"Comité Promoción Fílmica Colombia","Aprobar el manual de asignación de recursos y el manual de contratación por el cual deberá seguirse la entidad administradora del Fondo Fílmico Colombia (FFC).",1]
[null,{"$f":"VLOOKUP(C709,[1]instancias_objetos!$A$1:$B$123,2,FALSE)","v":"INST66"},"Comité Promoción Fílmica Colombia","Aprobar el presupuesto de gastos de la administración y control.",1]
[null,{"$f":"VLOOKUP(C710,[1]instancias_objetos!$A$1:$B$123,2,FALSE)","v":"INST66"},"Comité Promoción Fílmica Colombia","Aprobar los proyectos de filmación en Colombia y la celebración de los contratos correspondientes entre el administrador y el productor cinematográfico.",1]
[null,{"$f":"VLOOKUP(C711,[1]instancias_objetos!$A$1:$B$123,2,FALSE)","v":"INST66"},"Comité Promoción Fílmica Colombia","Aprobar los proyectos para la promoción del territorio nacional para el desarrollo de actividades cinematográficas y lugar de filmación y decidir sobre su ejecución.",1]
[null,{"$f":"VLOOKUP(C712,[1]instancias_objetos!$A$1:$B$123,2,FALSE)","v":"INST67"},"Comisión Nacional del Sistema Nacional de Identificación, Información y Trazabilidad Animal","Aprobar los sistemas de identificación que se utilizarán para garantizar el cumplimiento de los objetivos del Sistema previo estudio por los interesados",1]
[null,{"$f":"VLOOKUP(C713,[1]instancias_objetos!$A$1:$B$123,2,FALSE)","v":"INST67"},"Comisión Nacional del Sistema Nacional de Identificación, Información y Trazabilidad Animal","Aprobar los proyectos de reglamentación de la presente ley, los cuales serán expedidos por el Ministerio de Agricultura y Desarrollo Rural a través de actos administrativos",1]
[null,{"$f":"VLOOKUP(C714,[1]instancias_objetos!$A$1:$B$123,2,FALSE)","v":"INST67"},"Comisión Nacional del Sistema Nacional de Identificación, Información y Trazabilidad Animal","Establecer comités asesores necesarios para la implementación y funcionamiento de los diferentes sistemas",1]
[null,{"$f":"VLOOKUP(C715,[1]instancias_objetos!$A$1:$B$123,2,FALSE)","v":"INST67"},"Comisión Nacional del Sistema Nacional de Identificación, Información y Trazabilidad Animal","Aprobar su reglamento interno",1]
[null,{"$f":"VLOOKUP(C716,[1]instancias_objetos!$A$1:$B$123,2,FALSE)","v":"INST68"},"Comité Nacional de Convivencia Escolar","Definir la operación del Sistema en cada uno de sus niveles e instancias.",1]
[null,{"$f":"VLOOKUP(C717,[1]instancias_objetos!$A$1:$B$123,2,FALSE)","v":"INST68"},"Comité Nacional de Convivencia Escolar","Coordinar la gestión del Sistema Nacional en los niveles nacional, territorial y escolar, para el cumplimiento de su objeto.",1]
[null,{"$f":"VLOOKUP(C718,[1]instancias_objetos!$A$1:$B$123,2,FALSE)","v":"INST68"},"Comité Nacional de Convivencia Escolar","Armonizar y articular las acciones del Sistema Nacional con las políticas nacionales, sectoriales, estrategias y programas relacionados con la construcción de ciudadanía, la convivencia escolar y los derechos humanos, sexuales y reproductivos y la prevención y mitigación de la violencia escolar.",1]
[null,{"$f":"VLOOKUP(C719,[1]instancias_objetos!$A$1:$B$123,2,FALSE)","v":"INST68"},"Comité Nacional de Convivencia Escolar","Formular recomendaciones para garantizar el adecuado desarrollo, complementación y mejoramiento de la ruta de atención integral en los establecimientos educativos en el marco del Sistema Nacional.",1]
[null,{"$f":"VLOOKUP(C720,[1]instancias_objetos!$A$1:$B$123,2,FALSE)","v":"INST68"},"Comité Nacional de Convivencia Escolar"," Definir, vigilar, evaluar y realizar seguimiento a las acciones del Sistema Nacional de Convivencia Escolar y Formación para los Derechos Humanos, la Educación para la Sexualidad y la Prevención y Mitigación de la Violencia Escolar, a partir de los reportes del Sistema de Información Unificado del que trata el artículo 28 de la presente ley.",1]
[null,{"$f":"VLOOKUP(C721,[1]instancias_objetos!$A$1:$B$123,2,FALSE)","v":"INST68"},"Comité Nacional de Convivencia Escolar","Garantizar que la Ruta de Atención Integral para la Convivencia Escolar sea adoptada por los niveles, las instancias y entidades que forman parte de la estructura del Sistema y que asuman la responsabilidad de su puesta en marcha en el marco de sus funciones misionales.",1]
[null,{"$f":"VLOOKUP(C722,[1]instancias_objetos!$A$1:$B$123,2,FALSE)","v":"INST68"},"Comité Nacional de Convivencia Escolar","Coordinar con la Comisión Nacional Intersectorial para la Promoción de los Derechos Humanos, Sexuales y Reproductivos las acciones que le son propias en el ámbito escolar, en particular aquellas que en el marco de las funciones de la Comisión estén orientadas al logro de los Objetivos del Desarrollo del Milenio, específicamente los referidos a incidir en la reducción del embarazo juvenil y de las enfermedades de transmisión sexual, como un indicador integral de desarrollo social.",1]
[null,{"$f":"VLOOKUP(C723,[1]instancias_objetos!$A$1:$B$123,2,FALSE)","v":"INST68"},"Comité Nacional de Convivencia Escolar","Promover y liderar estrategias y acciones de comunicación, que fomenten la reflexión sobre la convivencia escolar, la prevención, mitigación y atención del acoso escolar, la violencia escolar y la disminución del embarazo en la adolescencia, la divulgación de la presente ley y de la Ruta de Atención Integral para la Convivencia Escolar, vinculando a los medios de comunicación nacional, regional y comunitarios.",1]
[null,{"$f":"VLOOKUP(C724,[1]instancias_objetos!$A$1:$B$123,2,FALSE)","v":"INST68"},"Comité Nacional de Convivencia Escolar"," Coordinar la creación de mecanismos de denuncia y seguimiento en internet, redes sociales y demás tecnologías de información a los casos de ciberbullying.",1]
[null,{"$f":"VLOOKUP(C725,[1]instancias_objetos!$A$1:$B$123,2,FALSE)","v":"INST69"},"Comité Nacional de Residuos de Aparatos Eléctricos y Electrónicos","Fomentar y fortalecer la política para el manejo de Residuos Eléctricos y Electrónicos (RAEE)",1]
[null,{"$f":"VLOOKUP(C726,[1]instancias_objetos!$A$1:$B$123,2,FALSE)","v":"INST69"},"Comité Nacional de Residuos de Aparatos Eléctricos y Electrónicos","Asesorar en la formulación de la política en materia de Residuos de Aparatos Eléctricos y Electrónicos (RAEE)",1]
[null,{"$f":"VLOOKUP(C727,[1]instancias_objetos!$A$1:$B$123,2,FALSE)","v":"INST69"},"Comité Nacional de Residuos de Aparatos Eléctricos y Electrónicos","Hacer un seguimiento y una verificación al desarrollo de las políticas, estrategias y programas que garanticen una gestión integral de Residuos de Aparatos Eléctricos y Electrónicos (RAEE)",1]
[null,{"$f":"VLOOKUP(C728,[1]instancias_objetos!$A$1:$B$123,2,FALSE)","v":"INST69"},"Comité Nacional de Residuos de Aparatos Eléctricos y Electrónicos","Establecer los mecanismos de concertación con el sector privado",1]
[null,{"$f":"VLOOKUP(C729,[1]instancias_objetos!$A$1:$B$123,2,FALSE)","v":"INST69"},"Comité Nacional de Residuos de Aparatos Eléctricos y Electrónicos","Estudiar fuentes de financiación para desarrollar las políticas, estrategias y programas para una gestión integral de los Residuos de Aparatos Eléctricos y Electrónicos (RAEE)",1]
[null,{"$f":"VLOOKUP(C730,[1]instancias_objetos!$A$1:$B$123,2,FALSE)","v":"INST69"},"Comité Nacional de Residuos de Aparatos Eléctricos y Electrónicos","Promover planes y programas intersectoriales que contribuyan a la divulgación de los riesgos para la salud humana de los desechos electrónicos, así como del manejo de dichos residuos",1]
[null,{"$f":"VLOOKUP(C731,[1]instancias_objetos!$A$1:$B$123,2,FALSE)","v":"INST69"},"Comité Nacional de Residuos de Aparatos Eléctricos y Electrónicos","Impulsar la investigación y la innovación tecnológica en lo relacionado con una mejor gestión integral de los Residuos de Aparatos Eléctricos y Electrónicos (RAEE)",1]
[null,{"$f":"VLOOKUP(C732,[1]instancias_objetos!$A$1:$B$123,2,FALSE)","v":"INST69"},"Comité Nacional de Residuos de Aparatos Eléctricos y Electrónicos","El Comité Nacional establecerá las funciones que considere pertinentes para el desarrollo de sus actividades.",1]
[null,{"$f":"VLOOKUP(C733,[1]instancias_objetos!$A$1:$B$123,2,FALSE)","v":"INST70"},"Consejo Nacional de Mitigación del Desempleo","La fijación de la estructura de comisiones por la labor administrativa de las Cajas de Compensación Familiar con el Fondo de Solidaridad de Fomento al Empleo y Protección al Cesante",1]
[null,{"$f":"VLOOKUP(C734,[1]instancias_objetos!$A$1:$B$123,2,FALSE)","v":"INST70"},"Consejo Nacional de Mitigación del Desempleo","Establecer los criterios de gestión y conocer y hacer seguimiento a los resultados obtenidos por el Fondo Solidario de Fomento al Empleo y Protección al Cesante",1]
[null,{"$f":"VLOOKUP(C735,[1]instancias_objetos!$A$1:$B$123,2,FALSE)","v":"INST70"},"Consejo Nacional de Mitigación del Desempleo","Establecer los criterios de gestión y conocer y hacer seguimiento a los resultados del Servicio Público de empleo",1]
[null,{"$f":"VLOOKUP(C736,[1]instancias_objetos!$A$1:$B$123,2,FALSE)","v":"INST70"},"Consejo Nacional de Mitigación del Desempleo","Hacer recomendaciones de política en materia de protección al cesante",1]
[null,{"$f":"VLOOKUP(C737,[1]instancias_objetos!$A$1:$B$123,2,FALSE)","v":"INST70"},"Consejo Nacional de Mitigación del Desempleo","Hacer recomendaciones al Gobierno Nacional sobre políticas la¬borales en general",1]
[null,{"$f":"VLOOKUP(C738,[1]instancias_objetos!$A$1:$B$123,2,FALSE)","v":"INST70"},"Consejo Nacional de Mitigación del Desempleo","Realizar estudios periódicos que permitan evaluar la sostenibilidad del Mecanismo de Protección al Cesante, en especial del Fondo de Solidaridad de Fomento al Empleo y Protección al Cesante",1]
[null,{"$f":"VLOOKUP(C739,[1]instancias_objetos!$A$1:$B$123,2,FALSE)","v":"INST70"},"Consejo Nacional de Mitigación del Desempleo","Establecer lineamientos de seguimiento y evaluación periódica al mecanismo de protección al cesante y proponer, en caso de ser necesarios ajustes al mismo",1]
[null,{"$f":"VLOOKUP(C740,[1]instancias_objetos!$A$1:$B$123,2,FALSE)","v":"INST70"},"Consejo Nacional de Mitigación del Desempleo","Establecer los lineamientos sobre los Sistemas de Información y Reporte del Desempleo",1]
[null,{"$f":"VLOOKUP(C741,[1]instancias_objetos!$A$1:$B$123,2,FALSE)","v":"INST71"},"Plataforma Nacional de Juventudes","Actuar como un mecanismo válido de interlocución ante la administración y las entidades públicas del orden nacional y territorial y ante las organizaciones privadas, en los temas concernientes a juventud. ",1]
[null,{"$f":"VLOOKUP(C742,[1]instancias_objetos!$A$1:$B$123,2,FALSE)","v":"INST71"},"Plataforma Nacional de Juventudes","Designar dos miembros de las plataformas de juventudes, para participar en las comisiones de decisiones y concertación como veedores de la negociación de la agenda de juventud los cuales tendrán voz sin voto. ",1]
[null,{"$f":"VLOOKUP(C743,[1]instancias_objetos!$A$1:$B$123,2,FALSE)","v":"INST71"},"Plataforma Nacional de Juventudes","Ejercer veeduría y control social a los planes de desarrollo, políticas públicas de juventud, y a la ejecución de las agendas territoriales de las juventudes, así como a los programas y proyectos desarrollados para los jóvenes por parte de las entidades públicas del orden territorial y nacional. ",1]
[null,{"$f":"VLOOKUP(C744,[1]instancias_objetos!$A$1:$B$123,2,FALSE)","v":"INST71"},"Plataforma Nacional de Juventudes","Establecer su reglamento interno de organización, funcionamiento y generar su propio plan de acción. ",1]
[null,{"$f":"VLOOKUP(C745,[1]instancias_objetos!$A$1:$B$123,2,FALSE)","v":"INST71"},"Plataforma Nacional de Juventudes","Impulsar la conformación de procesos y prácticas organizativas y espacios de participación de las y los jóvenes, atendiendo a sus diversas formas de expresión, a fin de que puedan ejercer una agencia efectiva para la defensa de sus intereses colectivos. ",1]
[null,{"$f":"VLOOKUP(C746,[1]instancias_objetos!$A$1:$B$123,2,FALSE)","v":"INST71"},"Plataforma Nacional de Juventudes","Participar en el diseño y desarrollo de Agendas Municipales, Distritales, Departamentales y Nacionales de Juventud. Con base en la agenda concertada al interior del Subsistema de Participación de las Juventudes. ",1]
[null,{"$f":"VLOOKUP(C747,[1]instancias_objetos!$A$1:$B$123,2,FALSE)","v":"INST71"},"Plataforma Nacional de Juventudes","Proponer a las respectivas autoridades territoriales, políticas, planes, programas y proyectos necesarios para el cabal cumplimiento de las disposiciones contenidas en la presente ley y demás normas relativas a juventud.",1]
[null,{"$f":"VLOOKUP(C748,[1]instancias_objetos!$A$1:$B$123,2,FALSE)","v":"INST72"},"Comité Tripartita Nacional","Definir el alcance de la Iniciativa en el país",1]
[null,{"$f":"VLOOKUP(C749,[1]instancias_objetos!$A$1:$B$123,2,FALSE)","v":"INST72"},"Comité Tripartita Nacional","Definir y aprobar el Plan de Acción Nacional considerando los aportes de sus integrantes, y el conjunto de restricciones, oportunidades, recursos, tiempos, etc., que viabilicen una ruta de trabajo ejecutable para el país, conforme a los tiempos establecidos para los países aceptados como candidatos",1]
[null,{"$f":"VLOOKUP(C750,[1]instancias_objetos!$A$1:$B$123,2,FALSE)","v":"INST72"},"Comité Tripartita Nacional","Hacer seguimiento periódico a la ejecución del Plan de Acción Nacional",1]
[null,{"$f":"VLOOKUP(C751,[1]instancias_objetos!$A$1:$B$123,2,FALSE)","v":"INST72"},"Comité Tripartita Nacional","Recomendar la adopción de medidas que permitan armonizar las regulaciones y decisiones frente a la aplicación de la candidatura de Colombia ante EITI y la implementación de este estándar en el país",1]
[null,{"$f":"VLOOKUP(C752,[1]instancias_objetos!$A$1:$B$123,2,FALSE)","v":"INST72"},"Comité Tripartita Nacional","Acompañar y participar en el Proceso de Validación",1]
[null,{"$f":"VLOOKUP(C753,[1]instancias_objetos!$A$1:$B$123,2,FALSE)","v":"INST72"},"Comité Tripartita Nacional","Definir y aprobar los Informes Anuales de Actividades",1]
[null,{"$f":"VLOOKUP(C754,[1]instancias_objetos!$A$1:$B$123,2,FALSE)","v":"INST72"},"Comité Tripartita Nacional","Designar grupos técnicos en los que participen funcionarios de nivel técnico de las entidades que correspondan, para adelantar tareas de coordinación y seguimiento. Documentar y registrar las deliberaciones y decisiones del CTN, y de forma periódica ponerlas a disposición del público mediante diferentes mecanismos de divulgación y de rendición de cuentas.",1]
[null,{"$f":"VLOOKUP(C755,[1]instancias_objetos!$A$1:$B$123,2,FALSE)","v":"INST73"},"Consejo Directivo del Establecimiento Público de Educación Superior - Conocimiento e Innovación para la Justicia (CIJ)","Coordinar la creación de mecanismos de denuncia y seguimiento en internet, redes sociales y demás tecnologías de información a los casos de ciberbullying",1]
[null,{"$f":"VLOOKUP(C756,[1]instancias_objetos!$A$1:$B$123,2,FALSE)","v":"INST73"},"Consejo Directivo del Establecimiento Público de Educación Superior - Conocimiento e Innovación para la Justicia (CIJ)","Formular, a propuesta del Director General, las políticas generales del Establecimiento Público de Educación Superior -Conocimiento e Innovación para la Justicia (CIJ)-, los planes y programas conforme a la ley",1]
[null,{"$f":"VLOOKUP(C757,[1]instancias_objetos!$A$1:$B$123,2,FALSE)","v":"INST73"},"Consejo Directivo del Establecimiento Público de Educación Superior - Conocimiento e Innovación para la Justicia (CIJ)","Designar al Director General, de terna presentada por el Fiscal General de la Nación",1]
[null,{"$f":"VLOOKUP(C758,[1]instancias_objetos!$A$1:$B$123,2,FALSE)","v":"INST73"},"Consejo Directivo del Establecimiento Público de Educación Superior - Conocimiento e Innovación para la Justicia (CIJ)","Aprobar, a propuesta del Director General, la política de mejoramiento continuo del Establecimiento Público de Educación Superior -Conocimiento e Innovación para la Justicia (CIJ)-, así como los programas orientados a garantizar el desarrollo misional y administrativo",1]
[null,{"$f":"VLOOKUP(C759,[1]instancias_objetos!$A$1:$B$123,2,FALSE)","v":"INST73"},"Consejo Directivo del Establecimiento Público de Educación Superior - Conocimiento e Innovación para la Justicia (CIJ)","Aprobar y evaluar los planes que contengan el direccionamiento estratégico de mediano y largo plazo del Establecimiento Público de Educación Superior –Conocimiento e Innovación para la Justicia (CIJ)",1]
[null,{"$f":"VLOOKUP(C760,[1]instancias_objetos!$A$1:$B$123,2,FALSE)","v":"INST73"},"Consejo Directivo del Establecimiento Público de Educación Superior - Conocimiento e Innovación para la Justicia (CIJ)","Conocer de las evaluaciones de ejecución presentadas por el Director General",1]
[null,{"$f":"VLOOKUP(C761,[1]instancias_objetos!$A$1:$B$123,2,FALSE)","v":"INST73"},"Consejo Directivo del Establecimiento Público de Educación Superior - Conocimiento e Innovación para la Justicia (CIJ)","Adoptar y modificar la estructura organizacional interna y la planta de personal del Establecimiento Público de Educación Superior -Conocimiento e Innovación para la Justicia (CIJ)-, previo concepto favorable del Ministerio de Hacienda y Crédito Público",1]
[null,{"$f":"VLOOKUP(C762,[1]instancias_objetos!$A$1:$B$123,2,FALSE)","v":"INST73"},"Consejo Directivo del Establecimiento Público de Educación Superior - Conocimiento e Innovación para la Justicia (CIJ)","Adoptar el estatuto interno y sus reformas",1]
[null,{"$f":"VLOOKUP(C763,[1]instancias_objetos!$A$1:$B$123,2,FALSE)","v":"INST73"},"Consejo Directivo del Establecimiento Público de Educación Superior - Conocimiento e Innovación para la Justicia (CIJ)","Aprobar y modificar, a solicitud del Director General, la creación y localización geográfica de las sedes, de acuerdo con el estudio que se realice para el efecto",1]
[null,{"$f":"VLOOKUP(C764,[1]instancias_objetos!$A$1:$B$123,2,FALSE)","v":"INST73"},"Consejo Directivo del Establecimiento Público de Educación Superior - Conocimiento e Innovación para la Justicia (CIJ)","Aprobar el anteproyecto de presupuesto anual del Establecimiento Público de Educación Superior -Conocimiento e Innovación para la Justicia (CIJ)-, autorizar las adiciones y traslados presupuestales que se requieran en el curso de la vigencia, de acuerdo con las disposiciones presupuestales que regulan la materia",1]
[null,{"$f":"VLOOKUP(C765,[1]instancias_objetos!$A$1:$B$123,2,FALSE)","v":"INST73"},"Consejo Directivo del Establecimiento Público de Educación Superior - Conocimiento e Innovación para la Justicia (CIJ)","Expedir, previo concepto del Consejo Académico, los reglamentos docente, estudiantil y demás que se requiera para el normal funcionamiento del Establecimiento Público de Educación Superior -Conocimiento e Innovación para la Justicia (CIJ)-, y adecuar el régimen académico de la misma, a las disposiciones de la Ley 30 de 1992, la Ley 115 de 1994 y demás normas concernientes a la educación superior",1]
[null,{"$f":"VLOOKUP(C766,[1]instancias_objetos!$A$1:$B$123,2,FALSE)","v":"INST73"},"Consejo Directivo del Establecimiento Público de Educación Superior - Conocimiento e Innovación para la Justicia (CIJ)","Adoptar políticas y estrategias de producción científica del cuerpo docente y los criterios para la evaluación de la calidad de la misma por parte de pares nacionales e internacionales",1]
[null,{"$f":"VLOOKUP(C767,[1]instancias_objetos!$A$1:$B$123,2,FALSE)","v":"INST73"},"Consejo Directivo del Establecimiento Público de Educación Superior - Conocimiento e Innovación para la Justicia (CIJ)","Otorgar los estímulos y las distinciones que determinen los reglamentos a solicitud del Director General",1]
[null,{"$f":"VLOOKUP(C768,[1]instancias_objetos!$A$1:$B$123,2,FALSE)","v":"INST73"},"Consejo Directivo del Establecimiento Público de Educación Superior - Conocimiento e Innovación para la Justicia (CIJ)","Aprobar la creación de comités asesores y consultivos",1]
[null,{"$f":"VLOOKUP(C769,[1]instancias_objetos!$A$1:$B$123,2,FALSE)","v":"INST73"},"Consejo Directivo del Establecimiento Público de Educación Superior - Conocimiento e Innovación para la Justicia (CIJ)","Crear, suspender o suprimir los programas académicos ofrecidos por el Establecimiento Público de Educación Superior -Conocimiento e Innovación para la Justicia (CIJ)-, de acuerdo con las disposiciones legales vigentes y previo concepto del Consejo Académico",1]
[null,{"$f":"VLOOKUP(C770,[1]instancias_objetos!$A$1:$B$123,2,FALSE)","v":"INST73"},"Consejo Directivo del Establecimiento Público de Educación Superior - Conocimiento e Innovación para la Justicia (CIJ)","Autorizar la aceptación de donaciones o legados",1]
[null,{"$f":"VLOOKUP(C771,[1]instancias_objetos!$A$1:$B$123,2,FALSE)","v":"INST73"},"Consejo Directivo del Establecimiento Público de Educación Superior - Conocimiento e Innovación para la Justicia (CIJ)","Examinar y aprobar anualmente los estados financieros de la entidad",1]
[null,{"$f":"VLOOKUP(C772,[1]instancias_objetos!$A$1:$B$123,2,FALSE)","v":"INST73"},"Consejo Directivo del Establecimiento Público de Educación Superior - Conocimiento e Innovación para la Justicia (CIJ)","Fijar los derechos pecuniarios y exenciones de carácter académico a propuesta del Director General",1]
[null,{"$f":"VLOOKUP(C773,[1]instancias_objetos!$A$1:$B$123,2,FALSE)","v":"INST74"},"Instancia de Coordinación y Asesoría Dentro del Sistema General de Seguridad Social en Salud","Asesorar y efectuar recomendaciones al Ministerio de Salud y Protección Social y a las entidades que integran el sector administrativo de salud y protección social en asuntos relacionados con los programas y proyectos que son de su competencia y, específicamente, en materia de prestación de servicios de salud, salud pública, aseguramiento en salud y promoción social en salud, que se presenten a su consideración",1]
[null,{"$f":"VLOOKUP(C774,[1]instancias_objetos!$A$1:$B$123,2,FALSE)","v":"INST74"},"Instancia de Coordinación y Asesoría Dentro del Sistema General de Seguridad Social en Salud","Apoyar a las instancias que integran el Sistema General de Seguridad Social en Salud, cuando así se requiera, en la definición de mecanismos, formulación de acciones y orientaciones que propicien el actuar coordinado entre estas",1]
[null,{"$f":"VLOOKUP(C775,[1]instancias_objetos!$A$1:$B$123,2,FALSE)","v":"INST74"},"Instancia de Coordinación y Asesoría Dentro del Sistema General de Seguridad Social en Salud","Presentar recomendaciones que contribuyan a la formulación de proyectos en las materias de competencia del Ministerio, que se presenten a su consideración",1]
[null,{"$f":"VLOOKUP(C776,[1]instancias_objetos!$A$1:$B$123,2,FALSE)","v":"INST74"},"Instancia de Coordinación y Asesoría Dentro del Sistema General de Seguridad Social en Salud","Presentar propuestas que contribuyan al fortalecimiento del marco normativo sanitario",1]
[null,{"$f":"VLOOKUP(C777,[1]instancias_objetos!$A$1:$B$123,2,FALSE)","v":"INST74"},"Instancia de Coordinación y Asesoría Dentro del Sistema General de Seguridad Social en Salud","Asistir al Ministerio de Salud y Protección Social en la definición de herramientas, espacios y orientaciones que promuevan la participación ciudadana como actores del Sistema General de Seguridad Social en Salud",1]
[null,{"$f":"VLOOKUP(C778,[1]instancias_objetos!$A$1:$B$123,2,FALSE)","v":"INST74"},"Instancia de Coordinación y Asesoría Dentro del Sistema General de Seguridad Social en Salud","Efectuar recomendaciones que propicien la formulación de políticas y el fortalecimiento de las herramientas y mecanismos que, en términos de igualdad y no discriminación, garanticen el acceso universal a los servicios de salud",1]
[null,{"$f":"VLOOKUP(C779,[1]instancias_objetos!$A$1:$B$123,2,FALSE)","v":"INST74"},"Instancia de Coordinación y Asesoría Dentro del Sistema General de Seguridad Social en Salud","Colaborar en la identificación de problemáticas en salud y proponer acciones sectoriales orientadas a la optimización de los recursos del Sistema",1]
[null,{"$f":"VLOOKUP(C780,[1]instancias_objetos!$A$1:$B$123,2,FALSE)","v":"INST74"},"Instancia de Coordinación y Asesoría Dentro del Sistema General de Seguridad Social en Salud","Asesorar en la definición de estrategias, programas y proyectos que fortalezcan, en términos de accesibilidad, calidad y eficiencia, la prestación de servicios de salud, en especial a las poblaciones en situación de vulnerabilidad",1]
[null,{"$f":"VLOOKUP(C781,[1]instancias_objetos!$A$1:$B$123,2,FALSE)","v":"INST74"},"Instancia de Coordinación y Asesoría Dentro del Sistema General de Seguridad Social en Salud","Prestar colaboración al Ministerio de Salud y Protección Social y a las entidades del Sector Administrativo de Salud y Protección Social en la formulación, adopción, coordinación de acciones del Gobierno Nacional en materia de vigilancia en salud pública y de salud en situaciones de emergencia o desastres naturales",1]
[null,{"$f":"VLOOKUP(C782,[1]instancias_objetos!$A$1:$B$123,2,FALSE)","v":"INST74"},"Instancia de Coordinación y Asesoría Dentro del Sistema General de Seguridad Social en Salud","Propender por el fortalecimiento de la política pública y los programas de formación, ejercicio y gestión de las profesiones y ocupaciones del área de la salud",1]
[null,{"$f":"VLOOKUP(C783,[1]instancias_objetos!$A$1:$B$123,2,FALSE)","v":"INST74"},"Instancia de Coordinación y Asesoría Dentro del Sistema General de Seguridad Social en Salud","Asistir al Ministerio de Salud y Protección Social y a las entidades que integran el sector administrativo de salud en el fortalecimiento de la política pública en materia de tecnologías en salud",1]
[null,{"$f":"VLOOKUP(C784,[1]instancias_objetos!$A$1:$B$123,2,FALSE)","v":"INST75"},"Consejo Nacional de Participación Ciudadana","Asesorar de manera permanente al Gobierno Nacional en materias relacionadas con la participación ciudadana, especialmente en lo relacionado con el marco jurídico y el diseño de las políticas públicas",1]
[null,{"$f":"VLOOKUP(C785,[1]instancias_objetos!$A$1:$B$123,2,FALSE)","v":"INST75"},"Consejo Nacional de Participación Ciudadana","Diseñar la puesta en marcha del Sistema Nacional de Participación Ciudadana como un dispositivo de articulación de instancias, espacios, sujetos, recursos, instrumentos y acciones de la participación ciudadana. El Sistema Nacional estará conformado por los niveles departamentales, municipales, distritales y locales de participación ciudadana, por el Sistema Nacional de Planeación y por los Espacios e Instancias Nacionales de participación ciudadana",1]
[null,{"$f":"VLOOKUP(C786,[1]instancias_objetos!$A$1:$B$123,2,FALSE)","v":"INST75"},"Consejo Nacional de Participación Ciudadana","Evaluar de manera permanente la oferta participativa estatal para sugerir al Gobierno Nacional la eliminación, fusión, escisión y modificación de las instancias y mecanismos de participación ciudadana existentes",1]
[null,{"$f":"VLOOKUP(C787,[1]instancias_objetos!$A$1:$B$123,2,FALSE)","v":"INST75"},"Consejo Nacional de Participación Ciudadana","Asesorar al Gobierno Nacional en la definición de estrategias que motiven a la ciudadanía para presentar iniciativas para el mejoramiento de la participación ciudadana y promover en todo el país la cultura y la formación para la participación",1]
[null,{"$f":"VLOOKUP(C788,[1]instancias_objetos!$A$1:$B$123,2,FALSE)","v":"INST75"},"Consejo Nacional de Participación Ciudadana","Proponer incentivos con el fin de propiciar la inversión del sector privado en programas, políticas y planes para la promoción de la participación ciudadana",1]
[null,{"$f":"VLOOKUP(C789,[1]instancias_objetos!$A$1:$B$123,2,FALSE)","v":"INST75"},"Consejo Nacional de Participación Ciudadana","Sugerir a las distintas entidades y organismos de la administración central y descentralizada del nivel nacional y a las entidades territoriales, modificaciones en sus planes, programas y proyectos, para asegurar la debida participación ciudadana en los mismos. Las sugerencias deben ser evaluadas por las entidades y organismos correspondientes",1]
[null,{"$f":"VLOOKUP(C790,[1]instancias_objetos!$A$1:$B$123,2,FALSE)","v":"INST75"},"Consejo Nacional de Participación Ciudadana","Evaluar las políticas y programas de participación ciudadana y proponer las modificaciones y ampliaciones que considere pertinentes",1]
[null,{"$f":"VLOOKUP(C791,[1]instancias_objetos!$A$1:$B$123,2,FALSE)","v":"INST75"},"Consejo Nacional de Participación Ciudadana","Presentar un informe anual público al Congreso de la República sobre la situación de la participación ciudadana en el país",1]
[null,{"$f":"VLOOKUP(C792,[1]instancias_objetos!$A$1:$B$123,2,FALSE)","v":"INST75"},"Consejo Nacional de Participación Ciudadana","Asesorar al Gobierno Nacional en la definición de los mecanismos más idóneos para financiar las iniciativas de participación ciudadana",1]
[null,{"$f":"VLOOKUP(C793,[1]instancias_objetos!$A$1:$B$123,2,FALSE)","v":"INST75"},"Consejo Nacional de Participación Ciudadana","Promover la elaboración de códigos de ética para el ejercicio responsable de las actividades en los distintos espacios e instancias de participación ciudadana",1]
[null,{"$f":"VLOOKUP(C794,[1]instancias_objetos!$A$1:$B$123,2,FALSE)","v":"INST75"},"Consejo Nacional de Participación Ciudadana","Promover la economía de espacios de participación y la articulación institucional como herramientas prioritarias para materializar la política pública de participación ciudadana",1]
[null,{"$f":"VLOOKUP(C795,[1]instancias_objetos!$A$1:$B$123,2,FALSE)","v":"INST76"},"Comisión de Seguimiento, Impulso y Verificación a la Implementación del Acuerdo Final","Resolver cualquier diferencia de interpretación o cualquier situación imprevista que surja entre las partes firmantes respecto del Acuerdo Final, que no puedan ser resueltas por los mecanismos acordados en el punto correspondiente, cuando existan",1]
[null,{"$f":"VLOOKUP(C796,[1]instancias_objetos!$A$1:$B$123,2,FALSE)","v":"INST76"},"Comisión de Seguimiento, Impulso y Verificación a la Implementación del Acuerdo Final","Servir de espacio para el manejo de cualquier situación o diferencia entre las partes que puedan presentarse tras la firma del Acuerdo Final, que no sean de competencia del Mecanismo de Monitoreo y Verificación de Naciones Unidas",1]
[null,{"$f":"VLOOKUP(C797,[1]instancias_objetos!$A$1:$B$123,2,FALSE)","v":"INST76"},"Comisión de Seguimiento, Impulso y Verificación a la Implementación del Acuerdo Final","Hacer recomendaciones al listado de medidas de implementación temprana que presente el Gobierno Nacional",1]
[null,{"$f":"VLOOKUP(C798,[1]instancias_objetos!$A$1:$B$123,2,FALSE)","v":"INST76"},"Comisión de Seguimiento, Impulso y Verificación a la Implementación del Acuerdo Final","Definir la agenda y abordar los temas señalados en el numeral 6.1.11. del Acuerdo Final sobre la implementación prioritaria",1]
[null,{"$f":"VLOOKUP(C799,[1]instancias_objetos!$A$1:$B$123,2,FALSE)","v":"INST76"},"Comisión de Seguimiento, Impulso y Verificación a la Implementación del Acuerdo Final","Discutir y aprobar el Plan Marco para la implementación del Acuerdo Final sobre la base del borrador que será presentado por el Gobierno Nacional, que será incorporado por el Consejo Nacional de la Política Económica y Social a través de un documento CONPES",1]
[null,{"$f":"VLOOKUP(C800,[1]instancias_objetos!$A$1:$B$123,2,FALSE)","v":"INST76"},"Comisión de Seguimiento, Impulso y Verificación a la Implementación del Acuerdo Final","Constatar que el contenido de todos los proyectos de decreto, ley o acto legislativo que sean necesarios para implementar e! Acuerdo Final, correspondan a lo acordado, antes de que sean expedidos por el Presidente de la República o presentados ante el Congreso, según sea el caso. Para estos efectos, se tendrá en cuenta el listado no exhaustivo de proyectos incluidos en el Acuerdo Final. Lo anterior sin perjuicio de las competencias del Congreso de la República",1]
[null,{"$f":"VLOOKUP(C801,[1]instancias_objetos!$A$1:$B$123,2,FALSE)","v":"INST76"},"Comisión de Seguimiento, Impulso y Verificación a la Implementación del Acuerdo Final","Proponer al Gobierno Nacional conforme a lo establecido en el Acuerdo Final los borradores de normas que se consideren necesarias para la implementación del Acuerdo Final, sin perjuicio de las facultades ordinarias del Congreso de la República",1]
[null,{"$f":"VLOOKUP(C802,[1]instancias_objetos!$A$1:$B$123,2,FALSE)","v":"INST76"},"Comisión de Seguimiento, Impulso y Verificación a la Implementación del Acuerdo Final","Promover, en coordinación con las autoridades competentes, la recepción de fondos procedentes de la cooperación internacional, los organismos multilaterales y el sector privado para la implementación del Acuerdo Final los cuales se agregarán a los fondos dispuestos por el Gobierno para esos fines",1]
[null,{"$f":"VLOOKUP(C803,[1]instancias_objetos!$A$1:$B$123,2,FALSE)","v":"INST76"},"Comisión de Seguimiento, Impulso y Verificación a la Implementación del Acuerdo Final","Mantener Interlocución con las agencias, estados y organizaciones cooperantes que contribuyan económicamente a la implementación del Acuerdo Final y/o que formen parte del acompañamiento internacional de la misma",1]
[null,{"$f":"VLOOKUP(C804,[1]instancias_objetos!$A$1:$B$123,2,FALSE)","v":"INST76"},"Comisión de Seguimiento, Impulso y Verificación a la Implementación del Acuerdo Final","Solicitar informes de seguimiento y ejecución sobre los distintos programas y proyectos que se ejecuten con recursos de cooperación internacional, en el marco de la implementación del Acuerdo Fina",1]
[null,{"$f":"VLOOKUP(C805,[1]instancias_objetos!$A$1:$B$123,2,FALSE)","v":"INST76"},"Comisión de Seguimiento, Impulso y Verificación a la Implementación del Acuerdo Final","Establecer los criterios y requerimientos técnicos del componente de acompañamiento internacional encaminados a garantizar el apoyo e impulso de la ejecución y monitoreo de los planes, programas y actividades para la implementación el Acuerdo Final en los términos del subpunto 6.4., así como los criterios para el establecimiento de una instancia de integración para el cumplimiento de las actividades específicas del acompañamiento internacional.",1]
[null,{"$f":"VLOOKUP(C806,[1]instancias_objetos!$A$1:$B$123,2,FALSE)","v":"INST76"},"Comisión de Seguimiento, Impulso y Verificación a la Implementación del Acuerdo Final","Verificar y hacer seguimiento al cumplimiento de todos los componentes del Acuerdo Final, respetando lo establecido en el punto 6.4. sobre acompañamiento internacional, y sin perjuicio de las funciones del Mecanismo de Monitoreo y Verificación",1]
[null,{"$f":"VLOOKUP(C807,[1]instancias_objetos!$A$1:$B$123,2,FALSE)","v":"INST76"},"Comisión de Seguimiento, Impulso y Verificación a la Implementación del Acuerdo Final","Hacer seguimiento y verificar el cumplimiento de los compromisos establecidos en la línea de tiempo del Acuerdo Final, sin afectar las competencias de las ramas del poder público y de los órganos del Estado",1]
[null,{"$f":"VLOOKUP(C808,[1]instancias_objetos!$A$1:$B$123,2,FALSE)","v":"INST76"},"Comisión de Seguimiento, Impulso y Verificación a la Implementación del Acuerdo Final","Presentar informes periódicos y diferenciales de los avances de la implementación del Acuerdo Final. Así mismo, de manera ocasional, generará reportes temáticos, especializados o territoriales relacionados con los componentes del Acuerdo Final",1]
[null,{"$f":"VLOOKUP(C809,[1]instancias_objetos!$A$1:$B$123,2,FALSE)","v":"INST76"},"Comisión de Seguimiento, Impulso y Verificación a la Implementación del Acuerdo Final","Presentar al Consejo Nacional de Reconciliación y Convivencia los avances en la implementación, y recibir del Consejo toda la información que quiera aportarle",1]
[null,{"$f":"VLOOKUP(C810,[1]instancias_objetos!$A$1:$B$123,2,FALSE)","v":"INST76"},"Comisión de Seguimiento, Impulso y Verificación a la Implementación del Acuerdo Final","Analizar los informes temáticos y periódicos presentados por el componente de acompañamiento internacional del Acuerdo Final, en cada uno de los puntos del mismo",1]
[null,{"$f":"VLOOKUP(C811,[1]instancias_objetos!$A$1:$B$123,2,FALSE)","v":"INST76"},"Comisión de Seguimiento, Impulso y Verificación a la Implementación del Acuerdo Final","Mantener contacto permanente con los notables que integran el Componente Internacional de Verificación, con el fin de coordinar recomendaciones de solución para los puntos de discusión y controversia que se adviertan en la implementación del Acuerdo Final",1]
[null,{"$f":"VLOOKUP(C812,[1]instancias_objetos!$A$1:$B$123,2,FALSE)","v":"INST76"},"Comisión de Seguimiento, Impulso y Verificación a la Implementación del Acuerdo Final","Recibir y analizar las observaciones de los notables que integran el Componente Internacional de Verificación de la CSIVI, relacionadas con la implementación del Acuerdo Final",1]
[null,{"$f":"VLOOKUP(C813,[1]instancias_objetos!$A$1:$B$123,2,FALSE)","v":"INST76"},"Comisión de Seguimiento, Impulso y Verificación a la Implementación del Acuerdo Final","Establecer el alcance y los criterios de funcionamiento a que debe sujetarse el Instituto Kroc de Estudios Internacionales de Paz de la Universidad de Norte Dame, E.E.U.U., en el apoyo técnico que debe prestar a los notables, con el de recolectar, analizar y preparar la información necesaria para emitir los pronunciamientos públicos a que se refiere el punto 6.3.2. del Acuerdo Final",1]
[null,{"$f":"VLOOKUP(C814,[1]instancias_objetos!$A$1:$B$123,2,FALSE)","v":"INST76"},"Comisión de Seguimiento, Impulso y Verificación a la Implementación del Acuerdo Final","Seleccionar el secretario técnico del Componente Internacional de Verificación de la Comisión de Seguimiento, Impulso y Verificación a la Implementación del Acuerdo Final (CSIVI), así como establecer los protocolos a que debe ajustarse para la verificación de la implementación del Acuerdo",1]
[null,{"$f":"VLOOKUP(C815,[1]instancias_objetos!$A$1:$B$123,2,FALSE)","v":"INST76"},"Comisión de Seguimiento, Impulso y Verificación a la Implementación del Acuerdo Final","Recibir insumos de las distintas instancias encargadas de la implementación del Acuerdo Final así como de organizaciones, universidades, centros de investigaciones, observatorios tanto nacionales como territoriales",1]
[null,{"$f":"VLOOKUP(C816,[1]instancias_objetos!$A$1:$B$123,2,FALSE)","v":"INST76"},"Comisión de Seguimiento, Impulso y Verificación a la Implementación del Acuerdo Final","Establecer los parámetros para la revisión anual del Plan Marco de Implementación del Acuerdo Final, con el fin de recomendar los ajustes a que haya lugar",1]
[null,{"$f":"VLOOKUP(C817,[1]instancias_objetos!$A$1:$B$123,2,FALSE)","v":"INST76"},"Comisión de Seguimiento, Impulso y Verificación a la Implementación del Acuerdo Final","Organizar, para el ejercicio de sus funciones, comisiones temáticas y territoriales que permitan la participación ciudadana",1]
[null,{"$f":"VLOOKUP(C818,[1]instancias_objetos!$A$1:$B$123,2,FALSE)","v":"INST76"},"Comisión de Seguimiento, Impulso y Verificación a la Implementación del Acuerdo Final","Recomendar al señor Presidente de la República la finalización del funcionamiento del componente de verificación internacional al que se refiere el punto 6.3.5 del Acuerdo Final, previa evaluación de su conveniencia y necesidad",1]
[null,{"$f":"VLOOKUP(C819,[1]instancias_objetos!$A$1:$B$123,2,FALSE)","v":"INST76"},"Comisión de Seguimiento, Impulso y Verificación a la Implementación del Acuerdo Final","Mantener interlocución con la instancia de Alto Nivel de los Pueblos Étnicos",1]
[null,{"$f":"VLOOKUP(C820,[1]instancias_objetos!$A$1:$B$123,2,FALSE)","v":"INST76"},"Comisión de Seguimiento, Impulso y Verificación a la Implementación del Acuerdo Final","Conceptuar sobre fa prórroga de las licencias de interés público clase \"C\" para el funcionamiento de las emisoras a las que se refiere el punto 6.5. del Acuerdo Final",1]
[null,{"$f":"VLOOKUP(C821,[1]instancias_objetos!$A$1:$B$123,2,FALSE)","v":"INST76"},"Comisión de Seguimiento, Impulso y Verificación a la Implementación del Acuerdo Final","Proponer las acciones y medidas de carácter administrativo y de diversa índole, que se requieran para el adecuado cumplimiento del Acuerdo Final de Paz; sin que ello constituya un requisito previo para el ejercicio de las iniciativas gubernamental y legislativa",1]
[null,{"$f":"VLOOKUP(C822,[1]instancias_objetos!$A$1:$B$123,2,FALSE)","v":"INST76"},"Comisión de Seguimiento, Impulso y Verificación a la Implementación del Acuerdo Final","Acordar un plan específico de seguimiento, impulso y verificación de todas las acciones y medidas que se hayan adoptado o se adopten para la implementación del Acuerdo Final. Para dichos efectos, se podrán constituir y poner en marcha comisiones especializadas que contarán con la participación de los delegados de las partes que conforman la CSIVI",1]
[null,{"$f":"VLOOKUP(C823,[1]instancias_objetos!$A$1:$B$123,2,FALSE)","v":"INST76"},"Comisión de Seguimiento, Impulso y Verificación a la Implementación del Acuerdo Final","Analizar los informes que, con una periodicidad no inferior a tres meses, le rindan las comisiones especializadas de que trata el numeral 2º, con el fin de acordar las medidas y acciones que sean pertinentes para garantizar la adecuada implementación del Acuerdo Final",1]
[null,{"$f":"VLOOKUP(C824,[1]instancias_objetos!$A$1:$B$123,2,FALSE)","v":"INST76"},"Comisión de Seguimiento, Impulso y Verificación a la Implementación del Acuerdo Final","Impulsar el cumplimiento del Plan Marco de Implementación y del Acuerdo Final de Paz en el marco del tránsito de cambio de gobierno",1]
[null,{"$f":"VLOOKUP(C825,[1]instancias_objetos!$A$1:$B$123,2,FALSE)","v":"INST76"},"Comisión de Seguimiento, Impulso y Verificación a la Implementación del Acuerdo Final","Fortalecer los mecanismos de interlocución y coordinación con el mecanismo de verificación de la CSIVI, a través de la expedición de protocolos y recomendaciones que desarrollen los criterios orientadores establecidos en el subpunto 6.3.1 del Acuerdo Final para la Terminación del Conflicto y la Construcción de una Paz Estable y Duradera",1]
[null,{"$f":"VLOOKUP(C826,[1]instancias_objetos!$A$1:$B$123,2,FALSE)","v":"INST76"},"Comisión de Seguimiento, Impulso y Verificación a la Implementación del Acuerdo Final","La CSIVI, en cuanto instancia de seguimiento, verificación e impulso a la implementación del Acuerdo Final, debe actuar como mecanismo de interlocución y coordinación con los componentes de acompañamiento y verificación internacional, en especial con su Secretaría Técnica y los Notables, así como con la Misión Política de Verificación de las Naciones Unidas",1]
[null,{"$f":"VLOOKUP(C827,[1]instancias_objetos!$A$1:$B$123,2,FALSE)","v":"INST76"},"Comisión de Seguimiento, Impulso y Verificación a la Implementación del Acuerdo Final","Impulsar mecanismos pedagógicos y de participación ciudadana en el orden territorial, de acuerdo con lo establecido en el Decreto Ley 885 de 2017 mediante el cual se crea el Consejo Nacional de Paz, Reconciliación y Convivencia (CNPRC), así como los respectivos Consejos Regionales, entendidos como las instancias de seguimiento e impulso a la implementación presididas por los Alcaldes y Gobernadores",1]
[null,{"$f":"VLOOKUP(C828,[1]instancias_objetos!$A$1:$B$123,2,FALSE)","v":"INST76"},"Comisión de Seguimiento, Impulso y Verificación a la Implementación del Acuerdo Final","Seleccionar, de mutuo acuerdo y con apego a los protocolos y lineamientos establecidos por la CSIVI, la Secretaría Técnica del mecanismo de verificación del Acuerdo Final",1]
[null,{"$f":"VLOOKUP(C829,[1]instancias_objetos!$A$1:$B$123,2,FALSE)","v":"INST76"},"Comisión de Seguimiento, Impulso y Verificación a la Implementación del Acuerdo Final","Recomendar al Gobierno Nacional las medidas necesarias para dar cumplimiento al Plan Plurianual de Inversiones del Plan Nacional de Desarrollo de que trata el artículo 3º del Acto Legislativo No. 1 de 2016, en desarrollo de lo establecido en el documento CONPES de \"Lineamientos para la articulación del Plan Marco de Implementación del Acuerdo Final con los instrumentos de planeación, programación y seguimiento a políticas públicas del orden nacional y territorial\"",1]
[null,{"$f":"VLOOKUP(C830,[1]instancias_objetos!$A$1:$B$123,2,FALSE)","v":"INST76"},"Comisión de Seguimiento, Impulso y Verificación a la Implementación del Acuerdo Final","Fomentar los mecanismos de participación y veeduría ciudadanas a través de la recolección y análisis de los informes y recomendaciones de las organizaciones de la sociedad civil y del sector privado para la implementación del Acuerdo Final. Lo anterior, con el fin de evaluar y adoptar las medidas necesarias para garantizar el cumplimiento de lo acordado",1]
[null,{"$f":"VLOOKUP(C831,[1]instancias_objetos!$A$1:$B$123,2,FALSE)","v":"INST77"},"Instancia Especial de Alto Nivel de los Pueblos Étnicos","Actuar como órgano consultor, representante e interlocutor ante la CSIVI en todos los aspectos relacionados con  la interpretación, implementación y seguimiento del Acuerdo Final, desde la perspectiva étnica, especialmente lo contenido en el capítulo étnico (numeral 6.2).",1]
[null,{"$f":"VLOOKUP(C832,[1]instancias_objetos!$A$1:$B$123,2,FALSE)","v":"INST77"},"Instancia Especial de Alto Nivel de los Pueblos Étnicos","Hacer seguimiento a la implementación del Capítulo Étnico, especialmente en relación con el Plan Marco de Implementación, los Planes Cuatrienales de implementación de los acuerdos y en los planes plurianuales de inversión integrados a los planes nacionales y territoriales.",1]
[null,{"$f":"VLOOKUP(C833,[1]instancias_objetos!$A$1:$B$123,2,FALSE)","v":"INST77"},"Instancia Especial de Alto Nivel de los Pueblos Étnicos","Dar insumos y hacer recomendaciones a la CSIVI con el fin de contribuir a garantizar la incorporación de un enfoque transversal étnico, de género, mujer, familia y generación, en  la interpretación, implementación y seguimiento del Acuerdo Final para la Terminación del Conflicto y la Construcción de una Paz Estable y Duradera.",1]
[null,{"$f":"VLOOKUP(C834,[1]instancias_objetos!$A$1:$B$123,2,FALSE)","v":"INST77"},"Instancia Especial de Alto Nivel de los Pueblos Étnicos","Mantener espacios y canales de comunicación e interlocución con las comunidades de los pueblos étnicos y las instancias oficiales de interlocución de estos con el Gobierno Nacional, para recoger sus inquietudes y recomendaciones en relación a la incorporación de la perspectiva étnica y cultural en la implementación del Acuerdo Final y rendir informes sobre su labor.",1]
[null,{"$f":"VLOOKUP(C835,[1]instancias_objetos!$A$1:$B$123,2,FALSE)","v":"INST77"},"Instancia Especial de Alto Nivel de los Pueblos Étnicos","Contribuir  la difusión, visibilización y socialización del Acuerdo Final para la terminación del Conflicto y la Construcción de una Paz  Estable y Duradera, con una perspectiva étnica, tanto en la sociedad en general como en los pueblos étnicos.",1]
[null,{"$f":"VLOOKUP(C836,[1]instancias_objetos!$A$1:$B$123,2,FALSE)","v":"INST77"},"Instancia Especial de Alto Nivel de los Pueblos Étnicos","Mantener diálogo constante con la CSIVI y demás Instancias establecidas por el Acuerdo Final.",1]
[null,{"$f":"VLOOKUP(C837,[1]instancias_objetos!$A$1:$B$123,2,FALSE)","v":"INST78"},"Instancia Especial para el Seguimiento al enfoque de Género y Garantía de los Derechos de las Mujeres en la Implementación del Acuerdo Final","Dar insumos, sugerir lineamientos y hacer recomendaciones a la CSIVI con el fin de contribuir a garantizar la incorporación del enfoque de género, interseccional y de derechos de las mujeres en la implementación normativa del acuerdo y en el Plan Marco de Implementación, así como en los Planes Cuatrienales de implementación de los acuerdos y en los planes plurianuales de inversión integrados a los planes nacionales y territoriales.",1]
[null,{"$f":"VLOOKUP(C838,[1]instancias_objetos!$A$1:$B$123,2,FALSE)","v":"INST78"},"Instancia Especial para el Seguimiento al enfoque de Género y Garantía de los Derechos de las Mujeres en la Implementación del Acuerdo Final","Hacer seguimiento a la implementación del enfoque de género, interseccional y de derechos de las mujeres de acuerdo con el Plan Marco y los planes cuatrienales de implementación. Este seguimiento deberá ser concretado en informes periódicos y públicos, que serán entregados a la CSIVI y otras instancias.",1]
[null,{"$f":"VLOOKUP(C839,[1]instancias_objetos!$A$1:$B$123,2,FALSE)","v":"INST78"},"Instancia Especial para el Seguimiento al enfoque de Género y Garantía de los Derechos de las Mujeres en la Implementación del Acuerdo Final","Mantener espacios y canales permanentes de diálogo, comunicación e interlocución con las mujeres y las organizaciones, plataformas, colectivos, grupos y redes, cumbres o movimientos a nivel nacional y territorial, para construir propuestas y hacer  recomendaciones en relación a la incorporación del enfoque de género, interseccional y de derechos de las mujeres en la implementación del Acuerdo Final y rendir informes sobre su labor.",1]
[null,{"$f":"VLOOKUP(C840,[1]instancias_objetos!$A$1:$B$123,2,FALSE)","v":"INST78"},"Instancia Especial para el Seguimiento al enfoque de Género y Garantía de los Derechos de las Mujeres en la Implementación del Acuerdo Final","Mantener diálogo constante con la CSIVI, el Consejo Nacional de Reincorporación (CNR), los componentes de verificación y acompañamiento internacional (conformado por ONU Mujeres, la Representante del Secretario General para la Violencia Sexual en el Conflicto, la Federación Democrática Internacional de Mujeres y Suecia), el Instituto Kroc y demás Instancias establecidas por el Acuerdo Final, para garantizar un adecuado seguimiento a la implementación del enfoque de género y de interseccionalidad. Este diálogo se realizará periódicamente y de manera extraordinaria cuando se considere necesario.",1]
[null,{"$f":"VLOOKUP(C841,[1]instancias_objetos!$A$1:$B$123,2,FALSE)","v":"INST79"},"Mesa Permanente de Concertación con las Centrales Sindicales CUT, CGT, CTC y Fecode para la Reparación Colectiva al Movimiento Sindical","Contribuir a la consolidación de una cultura de respeto y reconocimiento al sindicalismo y al fortalecimiento del Movimiento Sindical, como un actor clave en el funcionamiento de la democracia, así como de la defensa de los derechos de los trabajadores y las libertades sindicales y de la vigencia del Estado Social de Derecho. ",1]
[null,{"$f":"VLOOKUP(C842,[1]instancias_objetos!$A$1:$B$123,2,FALSE)","v":"INST79"},"Mesa Permanente de Concertación con las Centrales Sindicales CUT, CGT, CTC y Fecode para la Reparación Colectiva al Movimiento Sindical","Acompañar la implementación del proceso de reparación colectiva al Movimiento Sindical, tendiente a la formulación y ejecución de las medidas de reparación dentro del Plan Integral de Reparación Colectiva. ",1]
[null,{"$f":"VLOOKUP(C843,[1]instancias_objetos!$A$1:$B$123,2,FALSE)","v":"INST79"},"Mesa Permanente de Concertación con las Centrales Sindicales CUT, CGT, CTC y Fecode para la Reparación Colectiva al Movimiento Sindical","Apoyar el diseño y formulación de proyectos, planes y programas para la construcción e implementación de la política pública de reparación colectiva al Movimiento Sindical, con enfoque transformador y diferencial que contribuya a la garantía del goce efectivo de los derechos y libertades sindicales. ",1]
[null,{"$f":"VLOOKUP(C844,[1]instancias_objetos!$A$1:$B$123,2,FALSE)","v":"INST79"},"Mesa Permanente de Concertación con las Centrales Sindicales CUT, CGT, CTC y Fecode para la Reparación Colectiva al Movimiento Sindical","Formular recomendaciones tendientes a garantizar las medidas de reparación establecidas en el Plan Integral de Reparación Colectiva. ",1]
[null,{"$f":"VLOOKUP(C845,[1]instancias_objetos!$A$1:$B$123,2,FALSE)","v":"INST79"},"Mesa Permanente de Concertación con las Centrales Sindicales CUT, CGT, CTC y Fecode para la Reparación Colectiva al Movimiento Sindical","Propender por la participación de los miembros del Movimiento Sindical en el proceso de reparación colectiva. ",1]
[null,{"$f":"VLOOKUP(C846,[1]instancias_objetos!$A$1:$B$123,2,FALSE)","v":"INST79"},"Mesa Permanente de Concertación con las Centrales Sindicales CUT, CGT, CTC y Fecode para la Reparación Colectiva al Movimiento Sindical","Crear las comisiones o grupos de trabajo que considere necesarios para el desarrollo de las propuestas de reparación colectiva. ",1]
[null,{"$f":"VLOOKUP(C847,[1]instancias_objetos!$A$1:$B$123,2,FALSE)","v":"INST79"},"Mesa Permanente de Concertación con las Centrales Sindicales CUT, CGT, CTC y Fecode para la Reparación Colectiva al Movimiento Sindical","Determinar la creación de grupos de trabajo con expertos que estime convenientes para el estudio de asuntos específicos relacionados con su objeto. ",1]
[null,{"$f":"VLOOKUP(C848,[1]instancias_objetos!$A$1:$B$123,2,FALSE)","v":"INST79"},"Mesa Permanente de Concertación con las Centrales Sindicales CUT, CGT, CTC y Fecode para la Reparación Colectiva al Movimiento Sindical","Darse su propio reglamento, lo que incluye, entre otros aspectos, lo referente a la elaboración de las actas, el manejo y depósito de las mismas y la determinación de las funciones de la Secretaría Técnica adicionales a las establecidas en el presente Decreto",1]
[null,{"$f":"VLOOKUP(C849,[1]instancias_objetos!$A$1:$B$123,2,FALSE)","v":"INST79"},"Mesa Permanente de Concertación con las Centrales Sindicales CUT, CGT, CTC y Fecode para la Reparación Colectiva al Movimiento Sindical","Crear una comisión o mesa de trabajo que dé seguimiento al cumplimiento de los acuerdos y avances del proceso de reparación colectiva al Movimiento Sindical. ",1]
[null,{"$f":"VLOOKUP(C850,[1]instancias_objetos!$A$1:$B$123,2,FALSE)","v":"INST80"},"Consejo Nacional de Reincorporación","Definir las actividades, establecer el cronograma y adelantar el seguimiento del proceso de reincorporación de los miembros de las FARC-EP",1]
[null,{"$f":"VLOOKUP(C851,[1]instancias_objetos!$A$1:$B$123,2,FALSE)","v":"INST80"},"Consejo Nacional de Reincorporación","Dar lineamientos para garantizar la articulación con las entidades competentes, del trabajo que adelantará la organización de economía social y solidaria compuesta por integrantes de las FARC-EP en proceso de reincorporación, denominada Economías Sociales del Común (ECOMÚN), de que trata el punto 3.2.2.1. del Acuerdo Final.",1]
[null,{"$f":"VLOOKUP(C852,[1]instancias_objetos!$A$1:$B$123,2,FALSE)","v":"INST80"},"Consejo Nacional de Reincorporación","Definir los términos, condiciones y funciones de los Consejos Territoriales de la Reincorporación.",1]
[null,{"$f":"VLOOKUP(C853,[1]instancias_objetos!$A$1:$B$123,2,FALSE)","v":"INST80"},"Consejo Nacional de Reincorporación","Definir el contenido, forma de aplicación, custodia y buen uso de la información del censo socioeconómico para los integrantes de las FARC-EP en proceso de reincorporación",1]
[null,{"$f":"VLOOKUP(C854,[1]instancias_objetos!$A$1:$B$123,2,FALSE)","v":"INST80"},"Consejo Nacional de Reincorporación","Verificar la viabilidad de los proyectos productivos colectivos y de servicios del proceso de reincorporación económica y social de los integrantes de las FARC— EP, que decidan participar en proyectos colectivos a través de ECOMÚN o los que de manera individual deseen emprender proyectos productivos o de vivienda.",1]
[null,{"$f":"VLOOKUP(C855,[1]instancias_objetos!$A$1:$B$123,2,FALSE)","v":"INST80"},"Consejo Nacional de Reincorporación","Definir los términos y duración de los planes o programas sociales de Reincorporación identificados con base en los resultados del Censo Socioeconómico, de que trata el punto 3.2.2.7. del Acuerdo Final.",1]
[null,{"$f":"VLOOKUP(C856,[1]instancias_objetos!$A$1:$B$123,2,FALSE)","v":"INST80"},"Consejo Nacional de Reincorporación","Concertar con las asambleas departamentales y gobernadores las labores de pedagogía de Paz a desarrollar por los voceros designados por las FARC-EP en proceso de reincorporación, de conformidad con lo acordado en el punto 3.2.2.7. \"Pedagogía de paz\" del Acuerdo Final.",1]
[null,{"$f":"VLOOKUP(C857,[1]instancias_objetos!$A$1:$B$123,2,FALSE)","v":"INST80"},"Consejo Nacional de Reincorporación","Discutir las medidas especiales de atención y protección de los niños, niñas y adolescentes que hayan salido o salgan de los campamentos de las FARC-EP, desde el inicio de las conversaciones de paz hasta la finalización del proceso de la dejación de armas.",1]
[null,{"$f":"VLOOKUP(C858,[1]instancias_objetos!$A$1:$B$123,2,FALSE)","v":"INST80"},"Consejo Nacional de Reincorporación","Elaborar los lineamientos del Programa Integral Especial para la restitución de los derechos de los niños, niñas y adolescentes que salgan de las FARC-EP, con base en la propuesta presentada por parte de la mesa técnica creada mediante Comunicado Conjunto No. 70. El Programa deberá ser adoptado por las autoridades competentes.",1]
[null,{"$f":"VLOOKUP(C859,[1]instancias_objetos!$A$1:$B$123,2,FALSE)","v":"INST80"},"Consejo Nacional de Reincorporación","Realizar seguimiento al programa de reincorporación a la vida civil de los miembros de las FARC-EP y del Programa Integral Especial para la restitución de los derechos de los niños, niñas y adolescentes que salgan de las FARC-EP, en articulación con las entidades del Estado competentes.",1]
[null,{"$f":"VLOOKUP(C860,[1]instancias_objetos!$A$1:$B$123,2,FALSE)","v":"INST80"},"Consejo Nacional de Reincorporación","Recibir los informes periódicos de ECOMÚN relacionados con la ejecución de recursos.",1]
[null,{"$f":"VLOOKUP(C861,[1]instancias_objetos!$A$1:$B$123,2,FALSE)","v":"INST80"},"Consejo Nacional de Reincorporación","Definir las actividades preparatorias para la reincorporación que tendrá lugar en las Zonas Veredales Transitorias de Reincorporación y Puntos Transitorios de Normalización, para que sean ejecutadas por las entidades competentes.",1]
[null,{"$f":"VLOOKUP(C862,[1]instancias_objetos!$A$1:$B$123,2,FALSE)","v":"INST80"},"Consejo Nacional de Reincorporación","Realizar rendición de cuentas sobre su labor a la Comisión de Seguimiento, Impulso y Verificación a la Implementación del Acuerdo Final.",1]
[null,{"$f":"VLOOKUP(C863,[1]instancias_objetos!$A$1:$B$123,2,FALSE)","v":"INST81"},"Comisión de Búsqueda de Personas Desaparecidas","Apoyar la investigación en los casos de desaparición forzada, mediante el desarrollo de actividades que busquen obtener sus objetivos tales como ubicar a las personas desaparecidas, determinar las condiciones de la desaparición y establecer la identidad de los presuntos responsables. ",1]
[null,{"$f":"VLOOKUP(C864,[1]instancias_objetos!$A$1:$B$123,2,FALSE)","v":"INST81"},"Comisión de Búsqueda de Personas Desaparecidas","Promover las investigaciones por desaparición forzada de personas, actividad que implica la obligación de conocer los casos de desaparición forzada, tomando en cuenta la naturaleza y características propias del delito, los mecanismos de investigación específicos y las medidas de protección y salvaguarda de los derechos de la persona desaparecida. Las instituciones con competencia en los casos de Desaparición Forzada de Personas pondrán a disposición de los investigadores, de conformidad con la ley, los medios y recursos que conduzcan de manera adecuada a obtener el éxito de las mismas.",1]
[null,{"$f":"VLOOKUP(C865,[1]instancias_objetos!$A$1:$B$123,2,FALSE)","v":"INST81"},"Comisión de Búsqueda de Personas Desaparecidas","Diseñar los planes de búsqueda de personas desaparecidas en situaciones y casos específicos, para lo cual podrá acudir a la asesoría de expertos en el tema de la investigación de delitos de desaparición forzada y búsqueda de personas desaparecidas",1]
[null,{"$f":"VLOOKUP(C866,[1]instancias_objetos!$A$1:$B$123,2,FALSE)","v":"INST81"},"Comisión de Búsqueda de Personas Desaparecidas","Evaluar y emitir los planes de búsqueda de personas desaparecidas, función que supone conocer de manera general los planes que han puesto en marcha las distintas entidades encargadas de la investigación del delito de desaparición forzada, para determinar si ellos son adecuados a los fines buscados con la investigación y si los mismos se ajustan a la preceptiva legal vigente",1]
[null,{"$f":"VLOOKUP(C867,[1]instancias_objetos!$A$1:$B$123,2,FALSE)","v":"INST81"},"Comisión de Búsqueda de Personas Desaparecidas","Apoyar la ejecución de los planes de búsqueda de personas desaparecidas y prestar la ayuda que necesiten las autoridades encargadas de adelantar el mecanismo de búsqueda urgente de manera que se logren los objetivos del mismo.",1]
[null,{"$f":"VLOOKUP(C868,[1]instancias_objetos!$A$1:$B$123,2,FALSE)","v":"INST81"},"Comisión de Búsqueda de Personas Desaparecidas","Conformar grupos de trabajo para el impulso de la investigación de casos específicos de desaparición forzada, frente a los cuales podrá evaluar los planes de búsqueda adoptados y emitir recomendaciones para su efectividad. ",1]
[null,{"$f":"VLOOKUP(C869,[1]instancias_objetos!$A$1:$B$123,2,FALSE)","v":"INST81"},"Comisión de Búsqueda de Personas Desaparecidas","Colaborar con la depuración, actualización y fortalecimiento del Registro Nacional de Desaparecidos y Cadáveres en condición de no identificados, así como en el diseño y puesta en marcha del Registro de Personas Capturadas y Detenidas. ",1]
[null,{"$f":"VLOOKUP(C870,[1]instancias_objetos!$A$1:$B$123,2,FALSE)","v":"INST81"},"Comisión de Búsqueda de Personas Desaparecidas","Supervisar y emitir recomendaciones dentro del proceso de consolidación de la información existente en los registros previstos en el numeral anterior y acceder a la información para el cabal cumplimiento de sus funciones. ",1]
[null,{"$f":"VLOOKUP(C871,[1]instancias_objetos!$A$1:$B$123,2,FALSE)","v":"INST81"},"Comisión de Búsqueda de Personas Desaparecidas","Requerir la actuación de los organismos del Estado, cuando lo estime pertinente para el cumplimiento de sus objetivos. ",1]
[null,{"$f":"VLOOKUP(C872,[1]instancias_objetos!$A$1:$B$123,2,FALSE)","v":"INST81"},"Comisión de Búsqueda de Personas Desaparecidas","Recomendar medidas concretas de impulso y seguimiento de las investigaciones por desaparición forzada de personas, de acuerdo con las competencias de cada institución",1]
[null,{"$f":"VLOOKUP(C873,[1]instancias_objetos!$A$1:$B$123,2,FALSE)","v":"INST81"},"Comisión de Búsqueda de Personas Desaparecidas","Solicitar, para casos específicos de búsqueda de personas desaparecidas, la difusión gratuita de mensajes o campañas a través de los medios de comunicación que hagan uso del espectro electromagnético en los espacios institucionales",1]
[null,{"$f":"VLOOKUP(C874,[1]instancias_objetos!$A$1:$B$123,2,FALSE)","v":"INST81"},"Comisión de Búsqueda de Personas Desaparecidas","Solicitar la colaboración de los medios de comunicación para la obtención de los fines de la Comisión",1]
[null,{"$f":"VLOOKUP(C875,[1]instancias_objetos!$A$1:$B$123,2,FALSE)","v":"INST81"},"Comisión de Búsqueda de Personas Desaparecidas","Promover mecanismos de coordinación, información e interlocución, en el ámbito nacional, regional y local, entre las organizaciones estatales y entre estas y las organizaciones privadas, con el fin de obtener la efectiva aplicación de la Ley 589 de 2000. ",1]
[null,{"$f":"VLOOKUP(C876,[1]instancias_objetos!$A$1:$B$123,2,FALSE)","v":"INST81"},"Comisión de Búsqueda de Personas Desaparecidas","Atender las consultas del Gobierno Nacional en relación con la aplicación de las diferentes leyes que se hayan expedido sobre la materia o que se relacionen con el delito de desaparición forzada",1]
[null,{"$f":"VLOOKUP(C877,[1]instancias_objetos!$A$1:$B$123,2,FALSE)","v":"INST81"},"Comisión de Búsqueda de Personas Desaparecidas","Promover ante los organismos gubernamentales y entidades privadas la implementación de programas de apoyo a las familias de las personas que han sido víctimas de desaparición forzada",1]
[null,{"$f":"VLOOKUP(C878,[1]instancias_objetos!$A$1:$B$123,2,FALSE)","v":"INST81"},"Comisión de Búsqueda de Personas Desaparecidas","Recibir la información que le aporten los particulares en los casos de desaparición forzada de personas y remitirla a las entidades competentes",1]
[null,{"$f":"VLOOKUP(C879,[1]instancias_objetos!$A$1:$B$123,2,FALSE)","v":"INST81"},"Comisión de Búsqueda de Personas Desaparecidas","Recomendar a las autoridades competentes el estudio de protección a víctimas y testigos en los casos de desaparición forzada de personas, cuando así lo determine la Comisión",1]
[null,{"$f":"VLOOKUP(C880,[1]instancias_objetos!$A$1:$B$123,2,FALSE)","v":"INST81"},"Comisión de Búsqueda de Personas Desaparecidas","Promover el fortalecimiento institucional y financiero de los organismos encargados de la búsqueda de las personas desaparecidas",1]
[null,{"$f":"VLOOKUP(C881,[1]instancias_objetos!$A$1:$B$123,2,FALSE)","v":"INST81"},"Comisión de Búsqueda de Personas Desaparecidas","Adoptar todas las decisiones y medidas que considere pertinentes para la búsqueda de las personas desaparecidas y la investigación del delito de desaparición forzada",1]
[null,{"$f":"VLOOKUP(C882,[1]instancias_objetos!$A$1:$B$123,2,FALSE)","v":"INST82"},"Comisión Nacional de Garantías de Seguridad","Diseñar, hacer seguimiento, coordinar intersectorialmente y promover la coordinación a nivel departamental y municipal para el cumplimiento del plan de acción que el Gobierno nacional lleve adelante para combatir y desmantelar las organizaciones y perseguir las conductas punibles a que hace referencia el artículo 1º del presente decreto",1]
[null,{"$f":"VLOOKUP(C883,[1]instancias_objetos!$A$1:$B$123,2,FALSE)","v":"INST82"},"Comisión Nacional de Garantías de Seguridad","Formular y evaluar el Plan de acción permanente para combatir y desmantelar las organizaciones y conductas punibles a que hace referencia el artículo 1° de este decreto, que será adoptado por el Gobierno nacional",1]
[null,{"$f":"VLOOKUP(C884,[1]instancias_objetos!$A$1:$B$123,2,FALSE)","v":"INST82"},"Comisión Nacional de Garantías de Seguridad","Evaluar la respuesta institucional y el impacto de los resultados en la desarticulación de las organizaciones y conductas punibles a que hace referencia el artículo 1° del presente decreto",1]
[null,{"$f":"VLOOKUP(C885,[1]instancias_objetos!$A$1:$B$123,2,FALSE)","v":"INST82"},"Comisión Nacional de Garantías de Seguridad","Coordinar con las autoridades departamentales y municipales, la generación de mesas técnicas para hacer seguimiento a las manifestaciones criminales objeto de esta Comisión, incluyendo la recepción de reportes y denuncias, que contribuyan a complementar el esfuerzo estatal",1]
[null,{"$f":"VLOOKUP(C886,[1]instancias_objetos!$A$1:$B$123,2,FALSE)","v":"INST82"},"Comisión Nacional de Garantías de Seguridad","Recomendar reformas que contribuyan a eliminar cualquier posibilidad de que el Estado, sus instituciones o sus agentes puedan crear, apoyar o mantener relaciones con las organizaciones a que hace referencia el artículo 1º del presente decreto",1]
[null,{"$f":"VLOOKUP(C887,[1]instancias_objetos!$A$1:$B$123,2,FALSE)","v":"INST82"},"Comisión Nacional de Garantías de Seguridad","Solicitar a las autoridades la remisión de informes sobre cualquier materia relacionada con las organizaciones y conductas de que trata el artículo 1° del presente decreto y hacer seguimiento del contenido de dichos informes",1]
[null,{"$f":"VLOOKUP(C888,[1]instancias_objetos!$A$1:$B$123,2,FALSE)","v":"INST82"},"Comisión Nacional de Garantías de Seguridad","Diseñar y construir las estrategias para identificar las fuentes de financiación y los patrones de actividad criminal de las organizaciones y conductas punibles a que hace referencia el artículo 1º del presente decreto, entre dichos patrones se tendrán en cuenta aquellos que afectan de manera particular a las mujeres, niñas, niños, adolescentes y población LGTBI",1]
[null,{"$f":"VLOOKUP(C889,[1]instancias_objetos!$A$1:$B$123,2,FALSE)","v":"INST82"},"Comisión Nacional de Garantías de Seguridad","Hacer recomendaciones para modificar o derogar las normas que, directa o indirectamente, posibiliten y/o promuevan la creación de las organizaciones y conductas a que hace referencia el artículo 1° del presente decreto",1]
[null,{"$f":"VLOOKUP(C890,[1]instancias_objetos!$A$1:$B$123,2,FALSE)","v":"INST82"},"Comisión Nacional de Garantías de Seguridad","Proponer a las autoridades competentes mecanismos para la revisión de antecedentes de los servidores/as públicos en todas las instituciones del Estado, con el fin de verificar cualquier involucramiento que hayan tenido con grupos y/o actividades de paramilitarismo o violaciones de Derechos Humanos",1]
[null,{"$f":"VLOOKUP(C891,[1]instancias_objetos!$A$1:$B$123,2,FALSE)","v":"INST82"},"Comisión Nacional de Garantías de Seguridad","Informar periódicamente a las Ramas del Poder Público, a la opinión pública y a los organismos internacionales, los avances y obstáculos en la lucha contra las organizaciones y conductas a que hace referencia el artículo 1º del presente decreto",1]
[null,{"$f":"VLOOKUP(C892,[1]instancias_objetos!$A$1:$B$123,2,FALSE)","v":"INST82"},"Comisión Nacional de Garantías de Seguridad","Garantizar el suministro de información por parte de las entidades o instituciones que participen de la Comisión Nacional de Garantías de Seguridad, a la “Comisión para el Esclarecimiento de la Verdad, la Convivencia y la no Repetición” y a la Unidad de investigación y desmantelamiento de organizaciones criminales y sucesoras del paramilitarismo",1]
[null,{"$f":"VLOOKUP(C893,[1]instancias_objetos!$A$1:$B$123,2,FALSE)","v":"INST82"},"Comisión Nacional de Garantías de Seguridad","Hacer recomendaciones a las Ramas del Poder público para ajustar y priorizar las acciones y estrategias de la política y legislación de inteligencia del Estado en la lucha contra las organizaciones y conductas a que hace referencia el artículo 1° del presente decreto",1]
[null,{"$f":"VLOOKUP(C894,[1]instancias_objetos!$A$1:$B$123,2,FALSE)","v":"INST82"},"Comisión Nacional de Garantías de Seguridad","Hacer seguimiento al régimen de controles sobre los servicios de vigilancia y seguridad privada y formular propuestas para actualizar las normas que regulan los servicios de vigilancia y seguridad privada, con el propósito de que sus servicios correspondan al fin para el que fueron creados y que en ningún caso, de manera directa o indirecta, faciliten la acción de las organizaciones y conductas criminales a que hace referencia el artículo 1º del presente decreto",1]
[null,{"$f":"VLOOKUP(C895,[1]instancias_objetos!$A$1:$B$123,2,FALSE)","v":"INST82"},"Comisión Nacional de Garantías de Seguridad","Diseñar, políticas para el sometimiento a la justicia de las organizaciones criminales y sus redes de apoyo a que hace referencia el artículo 1° del presente decreto, definiendo tratamientos específicos para los integrantes de dichas organizaciones y redes, incentivando y promoviendo un rápido y definitivo desmantelamiento de las mismas. Dichas medidas nunca significarán reconocimiento político",1]
[null,{"$f":"VLOOKUP(C896,[1]instancias_objetos!$A$1:$B$123,2,FALSE)","v":"INST82"},"Comisión Nacional de Garantías de Seguridad","Garantizar la aplicación de los enfoques territoriales, diferencial y de género en el diseño, implementación y seguimiento de las políticas y estrategias que sean objeto de esta comisión",1]
[null,{"$f":"VLOOKUP(C897,[1]instancias_objetos!$A$1:$B$123,2,FALSE)","v":"INST82"},"Comisión Nacional de Garantías de Seguridad","Participar en el diseño de un nuevo Sistema de prevención y alerta para la reacción rápida a la presencia, operaciones y/o actividades de las organizaciones y conductas criminales a que hace referencia el artículo 1º del presente decreto. ",1]
[null,{"$f":"VLOOKUP(C898,[1]instancias_objetos!$A$1:$B$123,2,FALSE)","v":"INST83"},"Comité Interinstitucional de Seguimiento al Plan de Revisión, Evaluación y Seguimiento de los Programas y Leyes que favorecen a las Mujeres Rurales","Hacer modificaciones o ajustes al Plan de Revisión, Evaluación y Seguimiento a los programas y leyes que favorezcan a las mujeres rurales. Tales modificaciones o ajustes al Plan se adoptarán mediante acuerdo del Comité Interinstitucional. ",1]
[null,{"$f":"VLOOKUP(C899,[1]instancias_objetos!$A$1:$B$123,2,FALSE)","v":"INST83"},"Comité Interinstitucional de Seguimiento al Plan de Revisión, Evaluación y Seguimiento de los Programas y Leyes que favorecen a las Mujeres Rurales","Divulgar y hacer seguimiento al desarrollo de las políticas públicas que desde cada entidad favorezcan a la mujer rural. ",1]
[null,{"$f":"VLOOKUP(C900,[1]instancias_objetos!$A$1:$B$123,2,FALSE)","v":"INST83"},"Comité Interinstitucional de Seguimiento al Plan de Revisión, Evaluación y Seguimiento de los Programas y Leyes que favorecen a las Mujeres Rurales","Diseñar y recomendar al Gobierno nacional la adopción de estrategias conforme a lo establecido en los pactos, acuerdos y convenios internacionales relacionados con las mujeres rurales. ",1]
[null,{"$f":"VLOOKUP(C901,[1]instancias_objetos!$A$1:$B$123,2,FALSE)","v":"INST83"},"Comité Interinstitucional de Seguimiento al Plan de Revisión, Evaluación y Seguimiento de los Programas y Leyes que favorecen a las Mujeres Rurales","Elaborar informes anuales sobre la implementación de la Ley 731 de 2002, y hacer recomendaciones para su mejor desarrollo. ",1]
[null,{"$f":"VLOOKUP(C902,[1]instancias_objetos!$A$1:$B$123,2,FALSE)","v":"INST83"},"Comité Interinstitucional de Seguimiento al Plan de Revisión, Evaluación y Seguimiento de los Programas y Leyes que favorecen a las Mujeres Rurales","Expedir el reglamento del Comité Operativo.",1]
[null,{"$f":"VLOOKUP(C903,[1]instancias_objetos!$A$1:$B$123,2,FALSE)","v":"INST84"},"Consejo Asesor de la Unidad de Búsqueda de Personas Dadas Por Desaparecidas","Asesorar al Director de la UBPD en el cumplimiento de sus funciones. ",1]
[null,{"$f":"VLOOKUP(C904,[1]instancias_objetos!$A$1:$B$123,2,FALSE)","v":"INST84"},"Consejo Asesor de la Unidad de Búsqueda de Personas Dadas Por Desaparecidas","Aprobar los lineamientos de política pública en materia de búsqueda, localización, identificación y entrega digna de cuerpos esqueletizados de personas dadas por desaparecidas en el contexto y en razón del conflicto armado",1]
[null,{"$f":"VLOOKUP(C905,[1]instancias_objetos!$A$1:$B$123,2,FALSE)","v":"INST84"},"Consejo Asesor de la Unidad de Búsqueda de Personas Dadas Por Desaparecidas","Asesorar al Director sobre el presupuesto anual de gastos e inversiones",1]
[null,{"$f":"VLOOKUP(C906,[1]instancias_objetos!$A$1:$B$123,2,FALSE)","v":"INST84"},"Consejo Asesor de la Unidad de Búsqueda de Personas Dadas Por Desaparecidas","Presentar insumos para la elaboración de los Planes de Búsqueda, Localización e Identificación de Personas Desaparecidas en el contexto y en razón del conflicto armado y los planes regionales",1]
[null,{"$f":"VLOOKUP(C907,[1]instancias_objetos!$A$1:$B$123,2,FALSE)","v":"INST84"},"Consejo Asesor de la Unidad de Búsqueda de Personas Dadas Por Desaparecidas","Presentar insumos para la elaboración de los protocolos de participación de víctimas en las actividades de la UBPD",1]
[null,{"$f":"VLOOKUP(C908,[1]instancias_objetos!$A$1:$B$123,2,FALSE)","v":"INST84"},"Consejo Asesor de la Unidad de Búsqueda de Personas Dadas Por Desaparecidas","Acompañar, cuando así lo decida el Director, o y teniendo en cuenta las competencias de los miembros del Consejo Asesor, las actividades de búsqueda, localización, identificación y entrega digna de cuerpos esqueletizados que lleve a cabo la UBPD",1]
[null,{"$f":"VLOOKUP(C909,[1]instancias_objetos!$A$1:$B$123,2,FALSE)","v":"INST84"},"Consejo Asesor de la Unidad de Búsqueda de Personas Dadas Por Desaparecidas","Elaborar informes públicos anuales de seguimiento y verificación del cumplimiento de las funciones de la UBPD y emitir recomendaciones",1]
[null,{"$f":"VLOOKUP(C910,[1]instancias_objetos!$A$1:$B$123,2,FALSE)","v":"INST85"},"Consejo Nacional de Paz, Reconciliación y Convivencia","Asesorar de manera permanente al Gobierno Nacional en materias relacionadas con la consecución de la paz;  ",1]
[null,{"$f":"VLOOKUP(C911,[1]instancias_objetos!$A$1:$B$123,2,FALSE)","v":"INST85"},"Consejo Nacional de Paz, Reconciliación y Convivencia","Elaborar propuestas para el Gobierno Nacional acerca de soluciones negociadas al conflicto político armado interno, el respeto, promoción y defensa de los derechos humanos, la aplicación efectiva del Derecho Internacional Humanitario, la disminución de la intensidad o el cese de las hostilidades, la reincorporación a la vida civil de los miembros de los grupos guerrilleros, la reconciliación entre los colombianos, la consolidación de la democracia, y la creación de condiciones que garanticen un orden político, económico y social justo",1]
[null,{"$f":"VLOOKUP(C912,[1]instancias_objetos!$A$1:$B$123,2,FALSE)","v":"INST85"},"Consejo Nacional de Paz, Reconciliación y Convivencia","Proponer al Gobierno Nacional mecanismos de participación de la sociedad civil en los procesos de diálogo y negociación con los grupos guerrilleros",1]
[null,{"$f":"VLOOKUP(C913,[1]instancias_objetos!$A$1:$B$123,2,FALSE)","v":"INST85"},"Consejo Nacional de Paz, Reconciliación y Convivencia","Promover, difundir y establecer estrategias para que se respeten los derechos humanos y el Derecho Internacional Humanitario",1]
[null,{"$f":"VLOOKUP(C914,[1]instancias_objetos!$A$1:$B$123,2,FALSE)","v":"INST85"},"Consejo Nacional de Paz, Reconciliación y Convivencia","Presentar sugerencias ante las autoridades competentes, debidamente sustentadas, en materia de organización territorial y competencia municipal de servicios públicos en plena concordancia con las políticas, planes y estrategias de paz concebidas. Las sugerencias son de obligatoria evaluación por parte de las autoridades, a excepción del órgano legislativo",1]
[null,{"$f":"VLOOKUP(C915,[1]instancias_objetos!$A$1:$B$123,2,FALSE)","v":"INST85"},"Consejo Nacional de Paz, Reconciliación y Convivencia","Motivar a la ciudadanía para presentar iniciativas en materia de paz, transmitir al Gobierno Nacional las propuestas de paz formuladas por la sociedad civil y promover en todo el país la cultura y la formulación educativa de la paz",1]
[null,{"$f":"VLOOKUP(C916,[1]instancias_objetos!$A$1:$B$123,2,FALSE)","v":"INST85"},"Consejo Nacional de Paz, Reconciliación y Convivencia","Asesorar al Gobierno Nacional en el diseño de las modalidades de acción y participación internacional, a partir de la colaboración de gobiernos extranjeros y entidades y organismos internacionales",1]
[null,{"$f":"VLOOKUP(C917,[1]instancias_objetos!$A$1:$B$123,2,FALSE)","v":"INST85"},"Consejo Nacional de Paz, Reconciliación y Convivencia","Proponer al Gobierno Nacional mecanismos de incentivos con el fin de propiciar inversión del sector privado en programas, políticas y planes de paz en la zonas de conflicto",1]
[null,{"$f":"VLOOKUP(C918,[1]instancias_objetos!$A$1:$B$123,2,FALSE)","v":"INST85"},"Consejo Nacional de Paz, Reconciliación y Convivencia","Diseñar los anteproyectos de políticas, estrategias, planes, programas y proyectos orientados a garantizar una paz integral",1]
[null,{"$f":"VLOOKUP(C919,[1]instancias_objetos!$A$1:$B$123,2,FALSE)","v":"INST85"},"Consejo Nacional de Paz, Reconciliación y Convivencia","Sugerir a las distintas entidades y organismos de la administración central y descentralizada, modificaciones en sus planes, programas y proyectos, para asegurar la ejecución de las políticas y estrategias del literal anterior. Las sugerencias deben ser evaluadas por las entidades y organismos correspondientes",1]
[null,{"$f":"VLOOKUP(C920,[1]instancias_objetos!$A$1:$B$123,2,FALSE)","v":"INST85"},"Consejo Nacional de Paz, Reconciliación y Convivencia","Promover la creación de los Consejos Departamentales y Municipales de Paz, y coordinar sus actividades",1]
[null,{"$f":"VLOOKUP(C921,[1]instancias_objetos!$A$1:$B$123,2,FALSE)","v":"INST85"},"Consejo Nacional de Paz, Reconciliación y Convivencia","Evaluar las actuales políticas y programas de reinserción y proponer las modificaciones y ampliaciones que permitan atender las necesidades futuras derivadas de un procesos de reconciliación nacional",1]
[null,{"$f":"VLOOKUP(C922,[1]instancias_objetos!$A$1:$B$123,2,FALSE)","v":"INST85"},"Consejo Nacional de Paz, Reconciliación y Convivencia","Solicitar a la autoridad competente su intervención o la realización de las investigaciones correspondientes, con el fin de hacer efectiva la debida aplicación y respeto de las normas relacionadas con los derechos humanos y el Derecho Internacional Humanitario",1]
[null,{"$f":"VLOOKUP(C923,[1]instancias_objetos!$A$1:$B$123,2,FALSE)","v":"INST85"},"Consejo Nacional de Paz, Reconciliación y Convivencia","Elaborar el mapa del conflicto del país e identificar un orden de prioridades para la implementación de la política social y las inversiones para posibilitar la paz y el desarrollo en esas regiones.",1]
[null,{"$f":"VLOOKUP(C924,[1]instancias_objetos!$A$1:$B$123,2,FALSE)","v":"INST85"},"Consejo Nacional de Paz, Reconciliación y Convivencia","Ser el espacio central donde convergen en el nivel territorial todos los comités, mesas, instancias y mecanismos de participación en asuntos de paz, reconciliación, convivencia y no estigmatización. Los Consejos Territoriales de Paz, Reconciliación y Convivencia propiciarán un ambiente favorable para la articulación de estos mecanismos, al crear visiones estratégicas, encontrar puntos de conexión y falencias entre las acciones implementadas",1]
[null,{"$f":"VLOOKUP(C925,[1]instancias_objetos!$A$1:$B$123,2,FALSE)","v":"INST85"},"Consejo Nacional de Paz, Reconciliación y Convivencia","El diseño y ejecución de un programa de reconciliación, convivencia y prevención de la estigmatización, con la participación de las entidades territoriales.",1]
[null,{"$f":"VLOOKUP(C926,[1]instancias_objetos!$A$1:$B$123,2,FALSE)","v":"INST85"},"Consejo Nacional de Paz, Reconciliación y Convivencia","La promoción del respeto por la diferencia, la crítica y la oposición política",1]
[null,{"$f":"VLOOKUP(C927,[1]instancias_objetos!$A$1:$B$123,2,FALSE)","v":"INST85"},"Consejo Nacional de Paz, Reconciliación y Convivencia","La promoción del respeto por la labor que realizan en pro de la construcción de la paz y la reconciliación, diferentes movimientos y organizaciones políticas y sociales",1]
[null,{"$f":"VLOOKUP(C928,[1]instancias_objetos!$A$1:$B$123,2,FALSE)","v":"INST85"},"Consejo Nacional de Paz, Reconciliación y Convivencia","La promoción del respeto por la labor que realizan las organizaciones sociales y de derechos humanos, en particular aquellas que fiscalizan la gestión del gobierno y las que se opongan a sus políticas",1]
[null,{"$f":"VLOOKUP(C929,[1]instancias_objetos!$A$1:$B$123,2,FALSE)","v":"INST85"},"Consejo Nacional de Paz, Reconciliación y Convivencia","La promoción de la no estigmatización a grupos en condiciones de vulnerabilidad o discriminados como las mujeres, los pueblos y comunidades étnicas, población LGBTI, los jóvenes, niños y niñas y adultos mayores, las personas en condición de discapacidad, las minorías políticas y las minorías religiosas",1]
[null,{"$f":"VLOOKUP(C930,[1]instancias_objetos!$A$1:$B$123,2,FALSE)","v":"INST85"},"Consejo Nacional de Paz, Reconciliación y Convivencia","La puesta en marcha de programas de capacitación para funcionarios públicos y líderes de las organizaciones y movimientos sociales para garantizar la no estigmatización",1]
[null,{"$f":"VLOOKUP(C931,[1]instancias_objetos!$A$1:$B$123,2,FALSE)","v":"INST85"},"Consejo Nacional de Paz, Reconciliación y Convivencia","El impulso de programas de formación y comunicación para la apropiación del Acuerdo Final del 24 de noviembre de 2016, en especial sobre los diseños de participación política y social allí contenidos.",1]
[null,{"$f":"VLOOKUP(C932,[1]instancias_objetos!$A$1:$B$123,2,FALSE)","v":"INST85"},"Consejo Nacional de Paz, Reconciliación y Convivencia","La creación de un programa especial de difusión del Acuerdo Final para que se implemente en todos los niveles del sistema de educación pública y privada",1]
[null,{"$f":"VLOOKUP(C933,[1]instancias_objetos!$A$1:$B$123,2,FALSE)","v":"INST85"},"Consejo Nacional de Paz, Reconciliación y Convivencia","El diseño y ejecución de campañas de divulgación masiva de una cultura de paz, reconciliación, pluralismo y debate libre de ideas en desarrollo de la democracia",1]
[null,{"$f":"VLOOKUP(C934,[1]instancias_objetos!$A$1:$B$123,2,FALSE)","v":"INST85"},"Consejo Nacional de Paz, Reconciliación y Convivencia","La promoción de la reconciliación, la convivencia y la tolerancia, especialmente en las poblaciones más   afectadas por   el   conflicto, teniendo en    cuenta el   impacto desproporcionado del conflicto sobre las mujeres",1]
[null,{"$f":"VLOOKUP(C935,[1]instancias_objetos!$A$1:$B$123,2,FALSE)","v":"INST85"},"Consejo Nacional de Paz, Reconciliación y Convivencia","La capacitación a organizaciones y movimientos sociales, así como a funcionarios públicos en cargos de dirección, en los niveles nacional, departamental   y municipal, en el tratamiento y resolución de conflictos",1]
[null,{"$f":"VLOOKUP(C936,[1]instancias_objetos!$A$1:$B$123,2,FALSE)","v":"INST85"},"Consejo Nacional de Paz, Reconciliación y Convivencia","La creación de una cátedra de cultura política para la reconciliación y la paz",1]
[null,{"$f":"VLOOKUP(C937,[1]instancias_objetos!$A$1:$B$123,2,FALSE)","v":"INST85"},"Consejo Nacional de Paz, Reconciliación y Convivencia","Constituir los PDET en instrumentos de reconciliación y convivencia en los territorios",1]
[null,{"$f":"VLOOKUP(C938,[1]instancias_objetos!$A$1:$B$123,2,FALSE)","v":"INST85"},"Consejo Nacional de Paz, Reconciliación y Convivencia","Fortalecer   las relaciones de confianza, solidaridad y convivencia, y la reconciliación al interior de las comunidades, en el marco de desarrollo del Programa Nacional Integral de Sustitución de Cultivos de Uso ilícito",1]
[null,{"$f":"VLOOKUP(C939,[1]instancias_objetos!$A$1:$B$123,2,FALSE)","v":"INST85"},"Consejo Nacional de Paz, Reconciliación y Convivencia","La promoción de un Pacto Político Nacional que busque la reconciliación nacional y la convivencia pacífica entre los colombianos",1]
[null,{"$f":"VLOOKUP(C940,[1]instancias_objetos!$A$1:$B$123,2,FALSE)","v":"INST85"},"Consejo Nacional de Paz, Reconciliación y Convivencia","Hacerse parte de la Comisión de Seguimiento, Impulso y Verificación a la Implementación del Acuerdo Final (CSIVI) ampliada, cuando así lo solicite dicha Comisión",1]
[null,{"$f":"VLOOKUP(C941,[1]instancias_objetos!$A$1:$B$123,2,FALSE)","v":"INST85"},"Consejo Nacional de Paz, Reconciliación y Convivencia","Presentar un informe anual público al Congreso de la República sobre las acciones desarrolladas en el marco de sus funciones, el cual deberá socializarse con la sociedad civil.",1]
[null,{"$f":"VLOOKUP(C942,[1]instancias_objetos!$A$1:$B$123,2,FALSE)","v":"INST86"},"Consejo Superior del Sistema Nacional de Innovación Agropecuaria","Recomendar los mecanismos que garanticen la articulación del SNIA al SNCCTI, así como entre los componentes, interfaces, subsistemas y órganos de gestión de los mismos, para lograr un desarrollo incremental de la coordinación y cooperación de los actores a nivel nacional y territorial",1]
[null,{"$f":"VLOOKUP(C943,[1]instancias_objetos!$A$1:$B$123,2,FALSE)","v":"INST86"},"Consejo Superior del Sistema Nacional de Innovación Agropecuaria","Recomendar los marcos regulatorios adecuados para temas como propiedad intelectual, bioseguridad y acceso a recursos genéticos, entre otros, considerando siempre las mejores prácticas y las normas internacionales en la materia e incentivando la I+D+i dentro de un escenario de sostenibilidad de la biodiversidad",1]
[null,{"$f":"VLOOKUP(C944,[1]instancias_objetos!$A$1:$B$123,2,FALSE)","v":"INST86"},"Consejo Superior del Sistema Nacional de Innovación Agropecuaria","Sugerir instrumentos de política pública que ayuden a mitigar los riesgos de innovar a nivel de unidades productivas, promuevan el desarrollo de financiamiento para la innovación, y ayuden a promover la cultura de la innovación",1]
[null,{"$f":"VLOOKUP(C945,[1]instancias_objetos!$A$1:$B$123,2,FALSE)","v":"INST86"},"Consejo Superior del Sistema Nacional de Innovación Agropecuaria","Recomendar los instrumentos e indicadores que permitan el seguimiento y la evaluación de los resultados e impactos del SNIA y sus subsistemas",1]
[null,{"$f":"VLOOKUP(C946,[1]instancias_objetos!$A$1:$B$123,2,FALSE)","v":"INST86"},"Consejo Superior del Sistema Nacional de Innovación Agropecuaria","Recomendar los lineamientos que deben ser considerados para la elaboración del Pectia",1]
[null,{"$f":"VLOOKUP(C947,[1]instancias_objetos!$A$1:$B$123,2,FALSE)","v":"INST86"},"Consejo Superior del Sistema Nacional de Innovación Agropecuaria","Analizar y presentar las solicitudes y recomendaciones de las mesas de ciencia, tecnología e innovación que se eleven al Consa",1]
[null,{"$f":"VLOOKUP(C948,[1]instancias_objetos!$A$1:$B$123,2,FALSE)","v":"INST86"},"Consejo Superior del Sistema Nacional de Innovación Agropecuaria","Recomendar al Ministerio de Agricultura y Desarrollo Rural lineamientos de política pública con base en los reportes de seguimiento y evaluación del servicio de extensión agropecuaria, frente a los Planes Departamentales de Extensión Agropecuaria (PDEA) y al (Pectia). Los reportes serán presentados por la Agencia de Desarrollo Rural",1]
[null,{"$f":"VLOOKUP(C949,[1]instancias_objetos!$A$1:$B$123,2,FALSE)","v":"INST86"},"Consejo Superior del Sistema Nacional de Innovación Agropecuaria","Recomendar los lineamientos para la construcción del Plan Nacional de Asistencia Integral Técnica, Tecnológica y de impulso a la Investigación y la entidad responsable de su formulación y seguimiento a nivel nacional y territorial",1]
[null,{"$f":"VLOOKUP(C950,[1]instancias_objetos!$A$1:$B$123,2,FALSE)","v":"INST86"},"Consejo Superior del Sistema Nacional de Innovación Agropecuaria","Recomendar al Ministerio de Agricultura y Desarrollo Rural estrategias para la planificación, implementación, evaluación y seguimiento de la política de extensión agropecuaria y mecanismos para su financiación",1]
[null,{"$f":"VLOOKUP(C951,[1]instancias_objetos!$A$1:$B$123,2,FALSE)","v":"INST86"},"Consejo Superior del Sistema Nacional de Innovación Agropecuaria","Proponer lineamientos para la identificación de necesidades en materia de extensión agropecuaria, y criterios de priorización y focalización de los usuarios del servicio a nivel territorial, que podrán ser acogidos por las autoridades territoriales para diseñar los Planes Departamentales de Extensión Agropecuaria (PDEA)",1]
[null,{"$f":"VLOOKUP(C952,[1]instancias_objetos!$A$1:$B$123,2,FALSE)","v":"INST86"},"Consejo Superior del Sistema Nacional de Innovación Agropecuaria","Constituir, cuando se requiera, comités técnicos de trabajo en cada uno de los subsistemas definidos por esta ley",1]
[null,{"$f":"VLOOKUP(C953,[1]instancias_objetos!$A$1:$B$123,2,FALSE)","v":"INST86"},"Consejo Superior del Sistema Nacional de Innovación Agropecuaria","Proponer alternativas que garanticen la participación real de las mujeres y jóvenes rurales en los procesos y herramientas ofrecidas por el SNIA",1]
[null,{"$f":"VLOOKUP(C954,[1]instancias_objetos!$A$1:$B$123,2,FALSE)","v":"INST87"},"Mesa Técnica de Seguridad y Protección","Desarrollar la estructura de la Subdirección Especializada de Seguridad y Protección de la Unidad Nacional de Protección - UNP, conforme a lo acordado por el Gobierno nacional y las FARC-EP",1]
[null,{"$f":"VLOOKUP(C955,[1]instancias_objetos!$A$1:$B$123,2,FALSE)","v":"INST87"},"Mesa Técnica de Seguridad y Protección","Identificar las necesidades en materia de recursos humanos, físicos y de presupuesto requeridos para la implementación del Plan Estratégico de Seguridad y Protección, de manera que se garanticen los derechos a la vida e integridad personal, a la libertad, a la movilidad y a la seguridad, de las personas objeto del programa de protección de que trata este capítulo",1]
[null,{"$f":"VLOOKUP(C956,[1]instancias_objetos!$A$1:$B$123,2,FALSE)","v":"INST87"},"Mesa Técnica de Seguridad y Protección","Diseñar las acciones de protección, tanto de carácter individual como colectivo para las personas objeto del Programa especial de protección de que trata este capítulo",1]
[null,{"$f":"VLOOKUP(C957,[1]instancias_objetos!$A$1:$B$123,2,FALSE)","v":"INST87"},"Mesa Técnica de Seguridad y Protección","Hacer seguimiento y evaluación periódica a la implementación del Plan Estratégico de Seguridad y Protección en coordinación con las instituciones estatales que tengan competencia sobre el tema",1]
[null,{"$f":"VLOOKUP(C958,[1]instancias_objetos!$A$1:$B$123,2,FALSE)","v":"INST87"},"Mesa Técnica de Seguridad y Protección","Proponer al Gobierno nacional por intermedio del Delegado/a Presidencial, las reformas y ajustes normativos que se requieran para la protección y seguridad de quienes conforman la población objeto del programa de que trata este capítulo",1]
[null,{"$f":"VLOOKUP(C959,[1]instancias_objetos!$A$1:$B$123,2,FALSE)","v":"INST87"},"Mesa Técnica de Seguridad y Protección","Desarrollar la metodología que se empleará en las evaluaciones del nivel de riesgo, en los casos que le sea aplicable a las personas objeto del Programa de protección, así como también determinar las medidas necesarias para cada caso",1]
[null,{"$f":"VLOOKUP(C960,[1]instancias_objetos!$A$1:$B$123,2,FALSE)","v":"INST87"},"Mesa Técnica de Seguridad y Protección","Desarrollar, coordinar, hacer seguimiento y sugerencias para la implementación del Plan Estratégico de Seguridad y Protección",1]
[null,{"$f":"VLOOKUP(C961,[1]instancias_objetos!$A$1:$B$123,2,FALSE)","v":"INST87"},"Mesa Técnica de Seguridad y Protección","Elaborar el Protocolo de Seguridad y Protección que determine el sistema operativo, así como también los criterios para la conformación de los esquemas de protección",1]
[null,{"$f":"VLOOKUP(C962,[1]instancias_objetos!$A$1:$B$123,2,FALSE)","v":"INST87"},"Mesa Técnica de Seguridad y Protección","Determinar los requerimientos para el funcionamiento de los esquemas de prevención y protección, en particular lo concerniente a armamento idóneo, alistamiento, logística, intendencia y movilidad",1]
[null,{"$f":"VLOOKUP(C963,[1]instancias_objetos!$A$1:$B$123,2,FALSE)","v":"INST87"},"Mesa Técnica de Seguridad y Protección","Proponer al Gobierno nacional un sistema de formación y entrenamiento, para los integrantes del Cuerpo de Seguridad y Protección",1]
[null,{"$f":"VLOOKUP(C964,[1]instancias_objetos!$A$1:$B$123,2,FALSE)","v":"INST87"},"Mesa Técnica de Seguridad y Protección","Decidir sobre los apoyos de reubicación temporal, medios de comunicación, atención psicosocial, y todos aquellos que sean necesarios para garantizar la protección efectiva de la población objeto de este capítulo",1]
[null,{"$f":"VLOOKUP(C965,[1]instancias_objetos!$A$1:$B$123,2,FALSE)","v":"INST87"},"Mesa Técnica de Seguridad y Protección","Definir las medidas de protección necesarias para la seguridad integral de las sedes e instalaciones del nuevo partido o movimiento político en que se transformen las FARC-EP y de los domicilios de las personas objeto de protección contempladas en este capítulo, de conformidad con el nivel de riesgo, para que el Estado proceda a garantizarlas",1]
[null,{"$f":"VLOOKUP(C966,[1]instancias_objetos!$A$1:$B$123,2,FALSE)","v":"INST87"},"Mesa Técnica de Seguridad y Protección","Conceptuar sobre la desvinculación o vinculación de los agentes de protección destinados al programa del que trata este capítulo, sin perjuicio de la facultad nominadora autónoma del Director de la Unidad Nacional de Protección",1]
[null,{"$f":"VLOOKUP(C967,[1]instancias_objetos!$A$1:$B$123,2,FALSE)","v":"INST87"},"Mesa Técnica de Seguridad y Protección","En concordancia con el Programa Integral de Protección, establecer las medidas necesarias para garantizar la protección de la población objeto de este programa",1]
[null,{"$f":"VLOOKUP(C968,[1]instancias_objetos!$A$1:$B$123,2,FALSE)","v":"INST88"},"Comisión Nacional de Concertación y Decisión del Sistema Nacional de las Juventudes","Planear, concertar agendas públicas y generar los mecanismos de ejecución de las mismas en cada territorio.",1]
[null,{"$f":"VLOOKUP(C969,[1]instancias_objetos!$A$1:$B$123,2,FALSE)","v":"INST89"},"Comité Nacional de Humedales","Apoyar las acciones a nivel nacional para la implementación de la Política Nacional de Humedales y las recomendaciones aprobadas en las conferencias de las Parles contratantes de la Convención Ramsar y su Plan Estratégico",1]
[null,{"$f":"VLOOKUP(C970,[1]instancias_objetos!$A$1:$B$123,2,FALSE)","v":"INST89"},"Comité Nacional de Humedales","Apoyar al Ministerio de Ambiente, Vivienda y Desarrollo Territorial en la formulación de políticas, normas, planes y programas a ser desarrollados en materia de humedales",1]
[null,{"$f":"VLOOKUP(C971,[1]instancias_objetos!$A$1:$B$123,2,FALSE)","v":"INST89"},"Comité Nacional de Humedales","Apoyar el desarrollo de aspectos científicos, técnicos, de educación y participación y de gestión relacionados con humedales",1]
[null,{"$f":"VLOOKUP(C972,[1]instancias_objetos!$A$1:$B$123,2,FALSE)","v":"INST89"},"Comité Nacional de Humedales","Servir de espacio de discusión para analizar aspectos específicos que puedan afectar los humedales",1]
[null,{"$f":"VLOOKUP(C973,[1]instancias_objetos!$A$1:$B$123,2,FALSE)","v":"INST89"},"Comité Nacional de Humedales","Proponer los mecanismos de aplicación de lineamientos, recomendaciones y resoluciones emitidos por la Convención Ramsar",1]
[null,{"$f":"VLOOKUP(C974,[1]instancias_objetos!$A$1:$B$123,2,FALSE)","v":"INST90"},"Consejo Nacional de Juventud","Actuar como mecanismo válido de interlocución y concertación ante la administración y las entidades públicas del orden nacional y territorial y ante las organizaciones privadas, en los temas concernientes a juventud.",1]
[null,{"$f":"VLOOKUP(C975,[1]instancias_objetos!$A$1:$B$123,2,FALSE)","v":"INST90"},"Consejo Nacional de Juventud","Concertar la inclusión de las agendas territoriales y la nacional de las juventudes con las respectivas autoridades políticas y administrativas, para que sean incluidas en los planes de desarrollo territorial y nacional, así como en los programas y proyectos necesarios para el cabal cumplimiento de las disposiciones contenidas en la presente ley y demás normas relativas a la juventud. La agenda juvenil que se presente ante la comisión de concertación y decisión, será el resultado del acuerdo entre las diferentes instancias del subsistema de participación.",1]
[null,{"$f":"VLOOKUP(C976,[1]instancias_objetos!$A$1:$B$123,2,FALSE)","v":"INST90"},"Consejo Nacional de Juventud","Dinamizar la promoción, formación integral y la participación de la juventud, de acuerdo con las finalidades de la presente ley y demás normas que la modifiquen o complementen.",1]
[null,{"$f":"VLOOKUP(C977,[1]instancias_objetos!$A$1:$B$123,2,FALSE)","v":"INST90"},"Consejo Nacional de Juventud","Ejercer veeduría y control social a los planes de desarrollo, políticas públicas de juventud, y a la ejecución de las agendas territoriales de las juventudes, así como a los programas y proyectos desarrollados para los jóvenes por parte de las entidades públicas del orden territorial y nacional.",1]
[null,{"$f":"VLOOKUP(C978,[1]instancias_objetos!$A$1:$B$123,2,FALSE)","v":"INST90"},"Consejo Nacional de Juventud","Elegir delegados ante otras instancias y espacios de participación.",1]
[null,{"$f":"VLOOKUP(C979,[1]instancias_objetos!$A$1:$B$123,2,FALSE)","v":"INST90"},"Consejo Nacional de Juventud","Elegir representantes ante las instancias en las que se traten los asuntos de juventud y cuyas regulaciones o estatutos así lo dispongan.",1]
[null,{"$f":"VLOOKUP(C980,[1]instancias_objetos!$A$1:$B$123,2,FALSE)","v":"INST90"},"Consejo Nacional de Juventud","Es compromiso de los Consejos de Juventud luego de constituidos, presentar un plan unificado de trabajo que oriente su gestión durante el periodo para el que fueron elegidos.",1]
[null,{"$f":"VLOOKUP(C981,[1]instancias_objetos!$A$1:$B$123,2,FALSE)","v":"INST90"},"Consejo Nacional de Juventud","Establecer estrategias y procedimientos para que los jóvenes participen en el diseño de políticas, planes, programas y proyectos de desarrollo dirigidos a la juventud.",1]
[null,{"$f":"VLOOKUP(C982,[1]instancias_objetos!$A$1:$B$123,2,FALSE)","v":"INST90"},"Consejo Nacional de Juventud","Fomentar la creación de procesos y prácticas organizativas de las y los jóvenes y movimientos juveniles, en la respectiva jurisdicción.",1]
[null,{"$f":"VLOOKUP(C983,[1]instancias_objetos!$A$1:$B$123,2,FALSE)","v":"INST90"},"Consejo Nacional de Juventud","Interactuar con las instancias o entidades públicas que desarrollen procesos con el sector, y coordinar con ellas la realización de acciones conjuntas.",1]
[null,{"$f":"VLOOKUP(C984,[1]instancias_objetos!$A$1:$B$123,2,FALSE)","v":"INST90"},"Consejo Nacional de Juventud","Interactuar con las instancias o entidades que desarrollen el tema de juventud y coordinar la realización de acciones conjuntas.",1]
[null,{"$f":"VLOOKUP(C985,[1]instancias_objetos!$A$1:$B$123,2,FALSE)","v":"INST90"},"Consejo Nacional de Juventud","Participar en el diseño e implementación de las políticas, programas y proyectos dirigidos a la población joven en las respectivas entidades territoriales.",1]
[null,{"$f":"VLOOKUP(C986,[1]instancias_objetos!$A$1:$B$123,2,FALSE)","v":"INST90"},"Consejo Nacional de Juventud","Participar en el diseño y desarrollo de agendas municipales, distritales, departamentales y nacionales de juventud.",1]
[null,{"$f":"VLOOKUP(C987,[1]instancias_objetos!$A$1:$B$123,2,FALSE)","v":"INST90"},"Consejo Nacional de Juventud","Participar en la difusión y conocimiento de la presente ley.",1]
[null,{"$f":"VLOOKUP(C988,[1]instancias_objetos!$A$1:$B$123,2,FALSE)","v":"INST90"},"Consejo Nacional de Juventud","Presentar informes semestrales de su gestión, trabajo y avances en audiencia pública, convocada ampliamente y con la participación de los diversos sectores institucionales y de las juventudes.",1]
[null,{"$f":"VLOOKUP(C989,[1]instancias_objetos!$A$1:$B$123,2,FALSE)","v":"INST90"},"Consejo Nacional de Juventud","Promover la difusión, respeto y ejercicio de los Derechos Humanos, civiles, sociales y políticos de la juventud, así como sus deberes.",1]
[null,{"$f":"VLOOKUP(C990,[1]instancias_objetos!$A$1:$B$123,2,FALSE)","v":"INST90"},"Consejo Nacional de Juventud","Proponer a las respectivas autoridades territoriales, políticas, planes, programas y proyectos necesarios para el cabal cumplimiento de las disposiciones contenidas en la presente ley y demás normas relativas a juventud, así como concertar su inclusión en los planes de desarrollo, en concordancia con la agenda juvenil acordada al interior del subsistema de participación.",1]
[null,{"$f":"VLOOKUP(C991,[1]instancias_objetos!$A$1:$B$123,2,FALSE)","v":"INST91"},"Consejo Nacional de Políticas Públicas de la Juventud","Formular, promover y evaluar la creación de políticas, planes y programas integrales para el desarrollo de los y las jóvenes, considerando en las mismas los lineamientos y áreas establecidas en la legislación nacional e internacional vigente",1]
[null,{"$f":"VLOOKUP(C992,[1]instancias_objetos!$A$1:$B$123,2,FALSE)","v":"INST91"},"Consejo Nacional de Políticas Públicas de la Juventud","Definir las líneas de acción a seguir por parte del Sistema Nacional de las Juventudes",1]
[null,{"$f":"VLOOKUP(C993,[1]instancias_objetos!$A$1:$B$123,2,FALSE)","v":"INST91"},"Consejo Nacional de Políticas Públicas de la Juventud","Diseñar mecanismos de implementación de acciones en relación con otros actores del sistema y seguimiento y evaluación por resultados",1]
[null,{"$f":"VLOOKUP(C994,[1]instancias_objetos!$A$1:$B$123,2,FALSE)","v":"INST91"},"Consejo Nacional de Políticas Públicas de la Juventud","Garantizar la visibilización, información y fomento de la inclusión de las juventudes en cada uno de los sectores de gobierno",1]
[null,{"$f":"VLOOKUP(C995,[1]instancias_objetos!$A$1:$B$123,2,FALSE)","v":"INST91"},"Consejo Nacional de Políticas Públicas de la Juventud","Gestionar la asistencia técnica y económica de los gobiernos, instituciones públicas y privadas nacionales e internacionales para el cumplimiento de sus funciones y atribuciones",1]
[null,{"$f":"VLOOKUP(C996,[1]instancias_objetos!$A$1:$B$123,2,FALSE)","v":"INST91"},"Consejo Nacional de Políticas Públicas de la Juventud","Promover y fortalecer los mecanismos y procedimientos destinados al fomento y desarrollo de los derechos de los y las jóvenes",1]
[null,{"$f":"VLOOKUP(C997,[1]instancias_objetos!$A$1:$B$123,2,FALSE)","v":"INST91"},"Consejo Nacional de Políticas Públicas de la Juventud","Establecer mecanismos de seguimiento, evaluación y promoción de las políticas, planes, programas y proyectos relativos a los derechos de los y las jóvenes que se desarrollen a nivel nacional",1]
[null,{"$f":"VLOOKUP(C998,[1]instancias_objetos!$A$1:$B$123,2,FALSE)","v":"INST91"},"Consejo Nacional de Políticas Públicas de la Juventud","Coordinar acciones con organismos gubernamentales y no gubernamentales, nacionales e internacionales y con el sector privado para el cumplimiento de las políticas de la juventud",1]
[null,{"$f":"VLOOKUP(C999,[1]instancias_objetos!$A$1:$B$123,2,FALSE)","v":"INST91"},"Consejo Nacional de Políticas Públicas de la Juventud","Proponer mecanismos y estrategias que vinculen a las y los jóvenes en espacios, instancias y procesos de toma de decisiones de carácter sectorial y territorial",1]
[null,{"$f":"VLOOKUP(C1000,[1]instancias_objetos!$A$1:$B$123,2,FALSE)","v":"INST91"},"Consejo Nacional de Políticas Públicas de la Juventud","Elaborar el informe anual oficial sobre la situación de los y las jóvenes en el país",1]
[null,{"$f":"VLOOKUP(C1001,[1]instancias_objetos!$A$1:$B$123,2,FALSE)","v":"INST91"},"Consejo Nacional de Políticas Públicas de la Juventud","Promover la creación y establecimiento de Consejos de la Juventud",1]
[null,{"$f":"VLOOKUP(C1002,[1]instancias_objetos!$A$1:$B$123,2,FALSE)","v":"INST91"},"Consejo Nacional de Políticas Públicas de la Juventud","Promover el establecimiento y funcionamiento del Sistema Nacional de Información sobre Juventud",1]
[null,{"$f":"VLOOKUP(C1003,[1]instancias_objetos!$A$1:$B$123,2,FALSE)","v":"INST92"},"Consejo Permanente de Dirección","Apoyar, asesorar y recomendar a la Dirección General del PNIS en la formulación e implementación del PNIS",1]
[null,{"$f":"VLOOKUP(C1004,[1]instancias_objetos!$A$1:$B$123,2,FALSE)","v":"INST92"},"Consejo Permanente de Dirección","Asesorar a la Dirección General en la preparación del acercamiento y estrategias de entrada a los territorios, a través de análisis del entorno estratégico en el que se implementará el PNIS",1]
[null,{"$f":"VLOOKUP(C1005,[1]instancias_objetos!$A$1:$B$123,2,FALSE)","v":"INST92"},"Consejo Permanente de Dirección","Proponer a la Dirección General del PNIS, con base en los criterios definidos en el parágrafo 3° del artículo 7° del Decreto-ley 896 de 2017, los territorios a ser priorizados para la implementación del PNIS",1]
[null,{"$f":"VLOOKUP(C1006,[1]instancias_objetos!$A$1:$B$123,2,FALSE)","v":"INST92"},"Consejo Permanente de Dirección","Coadyuvar en el proceso de diseño y desarrollo de los planes integrales comunita­rios y municipales de sustitución y desarrollo alternativo (PISDA) y recuperación ambiental de las áreas afectadas por cultivos de uso ilícito",1]
[null,{"$f":"VLOOKUP(C1007,[1]instancias_objetos!$A$1:$B$123,2,FALSE)","v":"INST92"},"Consejo Permanente de Dirección","Apoyar el reporte de situaciones que afecten la ejecución de los planes de sustitu­ción acordados y las condiciones de seguridad",1]
[null,{"$f":"VLOOKUP(C1008,[1]instancias_objetos!$A$1:$B$123,2,FALSE)","v":"INST92"},"Consejo Permanente de Dirección","Dar recomendaciones para el diseño de la guía metodológica y protocolos de planeación participativa para el diseño de los PISDA",1]
[null,{"$f":"VLOOKUP(C1009,[1]instancias_objetos!$A$1:$B$123,2,FALSE)","v":"INST92"},"Consejo Permanente de Dirección","Promover, en coordinación con la Dirección General del PNIS, espacios de vee­duría nacional y territoriales",1]
[null,{"$f":"VLOOKUP(C1010,[1]instancias_objetos!$A$1:$B$123,2,FALSE)","v":"INST92"},"Consejo Permanente de Dirección","Apoyar la efectiva implementación de las acciones con los enfoques territorial, étnico diferencial y de género, enmarcadas en el PNIS",1]
[null,{"$f":"VLOOKUP(C1011,[1]instancias_objetos!$A$1:$B$123,2,FALSE)","v":"INST93"},"Mesa Intersectorial para la Democracia Ambiental","Definir y coordinar las acciones de articulación institucional entre las entidades del Sistema Nacional Ambiental-SINA, las comunidades y la sociedad civil y el sector privado para que a través de la Secretaria Técnica diseñen estrategias, acciones y medidas dirigidas a la garantía y protección de los derechos de acceso a la información, a la participación y a la justicia en asuntos ambientales en Colombia",1]
[null,{"$f":"VLOOKUP(C1012,[1]instancias_objetos!$A$1:$B$123,2,FALSE)","v":"INST93"},"Mesa Intersectorial para la Democracia Ambiental","Sugerir al sector ambiental políticas, planes, programas, y estrategias de implementación de los derechos de acceso a la información, a la participación y a la justicia en asuntos ambientales en Colombia",1]
[null,{"$f":"VLOOKUP(C1013,[1]instancias_objetos!$A$1:$B$123,2,FALSE)","v":"INST93"},"Mesa Intersectorial para la Democracia Ambiental","Proponer normativas que coadyuven al logro del objetivo de la Mesa Intersectorial para la Democracia Ambiental (MIDA) y sugeridas al gobierno nacional para su revisión y expedición",1]
[null,{"$f":"VLOOKUP(C1014,[1]instancias_objetos!$A$1:$B$123,2,FALSE)","v":"INST93"},"Mesa Intersectorial para la Democracia Ambiental","Apoyar la gestión de programas, proyectos, recursos y medidas del sector ambiental que permitan el desarrollo de acciones o actividades dirigidas al fortalecimiento de la democracia ambiental en Colombia",1]
[null,{"$f":"VLOOKUP(C1015,[1]instancias_objetos!$A$1:$B$123,2,FALSE)","v":"INST93"},"Mesa Intersectorial para la Democracia Ambiental","Apoyar el proceso de ratificación e implementación del Acuerdo de Escazú",1]
[null,{"$f":"VLOOKUP(C1016,[1]instancias_objetos!$A$1:$B$123,2,FALSE)","v":"INST93"},"Mesa Intersectorial para la Democracia Ambiental","Incentivar la investigación científica, la educación y la cooperación nacional e internacional sobre los derechos de acceso a la información, a la participación y a la justicia en la toma de decisiones en asuntos ambientales en Colombia",1]
[null,{"$f":"VLOOKUP(C1017,[1]instancias_objetos!$A$1:$B$123,2,FALSE)","v":"INST93"},"Mesa Intersectorial para la Democracia Ambiental","Crear e implementar el plan de trabajo anual de la Mesa Intersectorial para la Democracia Ambiental (MIDA)",1]
[null,{"$f":"VLOOKUP(C1018,[1]instancias_objetos!$A$1:$B$123,2,FALSE)","v":"INST94"},"Comité Nacional de Cogestión para las Capturas Incidentales en Colombia","Generar recomendaciones en referencia a regulaciones acciones y lineamientos que permitan la reducción de la pesca incidental y los descartes en Colombia.",1]
[null,{"$f":"VLOOKUP(C1019,[1]instancias_objetos!$A$1:$B$123,2,FALSE)","v":"INST94"},"Comité Nacional de Cogestión para las Capturas Incidentales en Colombia","Canalizar intercambios de saberes para trazar directrices encaminadas a generar recomendaciones a la autoridad competente, considerando criterios técnicos, productivos, ambientales y socio comunitarios, para la gestión eficiente de las capturas incidentales.",1]
[null,{"$f":"VLOOKUP(C1020,[1]instancias_objetos!$A$1:$B$123,2,FALSE)","v":"INST94"},"Comité Nacional de Cogestión para las Capturas Incidentales en Colombia","Crear los grupos técnicos de trabajo que se requieran para cumplir con las actividades propias que permitan la formulación e implementación del Plan Nacional para la ordenación de las capturas incidentales y la reducción de los descartes. ",1]
[null,{"$f":"VLOOKUP(C1021,[1]instancias_objetos!$A$1:$B$123,2,FALSE)","v":"INST94"},"Comité Nacional de Cogestión para las Capturas Incidentales en Colombia","Gestionar los recursos financieros que permitan la implementación del Plan Nacional para la ordenación de las capturas incidentales y la reducción de los descartes.",1]
[null,{"$f":"VLOOKUP(C1022,[1]instancias_objetos!$A$1:$B$123,2,FALSE)","v":"INST94"},"Comité Nacional de Cogestión para las Capturas Incidentales en Colombia","Solicitar a las entidades que se estimen convenientes, la información necesaria que sirva de insumo para la toma de decisiones relacionadas con la gestión eficiente de las capturas incidentales, ajustes y actualizaciones de conformidad con las dinámicas de las pesquerías. ",1]
[null,{"$f":"VLOOKUP(C1023,[1]instancias_objetos!$A$1:$B$123,2,FALSE)","v":"INST94"},"Comité Nacional de Cogestión para las Capturas Incidentales en Colombia","Proponer la realización de estudios técnicos que brinden mayor conocimiento acerca del estado de los recursos pesqueros en relación con las capturas incidentales y los descartes, y que sustenten la toma de decisiones y de medidas de manejo encaminadas a consolidar prácticas de pesca responsable.",1]
[null,{"$f":"VLOOKUP(C1024,[1]instancias_objetos!$A$1:$B$123,2,FALSE)","v":"INST95"},"Comité Técnico de los componentes de medidas integrales de prevención, seguridad y protección, y del protocolo de protección para territorios rurales","Recopilar información, analizar y monitorear permanentemente la situación de riesgo; alertar y coordinar las acciones necesarias para prevenir graves violaciones a los derechos a la vida, integridad, libertad y seguridad de las comunidades y organizaciones en los territorios.",1]
[null,{"$f":"VLOOKUP(C1025,[1]instancias_objetos!$A$1:$B$123,2,FALSE)","v":"INST95"},"Comité Técnico de los componentes de medidas integrales de prevención, seguridad y protección, y del protocolo de protección para territorios rurales","Promover, coordinar e impulsar la articulación de las instituciones del orden nacional y territorial en el diseño, implementación, seguimiento, evaluación y ajuste de las medidas adoptadas en el marco del presente Programa, garantizando la aplicación de los enfoques contenidos en este capítulo.",1]
[null,{"$f":"VLOOKUP(C1026,[1]instancias_objetos!$A$1:$B$123,2,FALSE)","v":"INST95"},"Comité Técnico de los componentes de medidas integrales de prevención, seguridad y protección, y del protocolo de protección para territorios rurales","Hacer seguimiento y evaluación a las medidas integrales de prevención, seguridad y protección y al funcionamiento del Protocolo de Protección para Territorios Rurales.",1]
[null,{"$f":"VLOOKUP(C1027,[1]instancias_objetos!$A$1:$B$123,2,FALSE)","v":"INST95"},"Comité Técnico de los componentes de medidas integrales de prevención, seguridad y protección, y del protocolo de protección para territorios rurales","Definir los criterios de priorización, y la focalización, para la intervención de las comunidades y organizaciones en los territorios objeto de la adopción de medidas en el marco del presente Programa, en los componentes de medidas integrales de prevención, seguridad y protección, y del Protocolo de Protección para Territorios Rurales.",1]
[null,{"$f":"VLOOKUP(C1028,[1]instancias_objetos!$A$1:$B$123,2,FALSE)","v":"INST95"},"Comité Técnico de los componentes de medidas integrales de prevención, seguridad y protección, y del protocolo de protección para territorios rurales","Proponer a las entidades competentes, estrategias y acciones -políticas, técnicas, administrativas y financieras- para garantizar la efectiva implementación del Programa Integral de Seguridad y Protección para las Comunidades y Organizaciones en los Territorios, en los componentes de medidas integrales de prevención, seguridad y protección, y del Protocolo de Protección para Territorios Rurales.",1]
[null,{"$f":"VLOOKUP(C1029,[1]instancias_objetos!$A$1:$B$123,2,FALSE)","v":"INST95"},"Comité Técnico de los componentes de medidas integrales de prevención, seguridad y protección, y del protocolo de protección para territorios rurales","Promover la implementación de estrategias de autoprotección y estimular la articulación de redes por parte de comunidades y organizaciones en los territorios, garantizando la participación de mujeres y sus organizaciones.",1]
[null,{"$f":"VLOOKUP(C1030,[1]instancias_objetos!$A$1:$B$123,2,FALSE)","v":"INST95"},"Comité Técnico de los componentes de medidas integrales de prevención, seguridad y protección, y del protocolo de protección para territorios rurales","Adoptar indicadores para la medición de riesgos asociados al ejercicio de la defensa de los derechos humanos; así como promover su adopción en las instancias territoriales a través de las cuales se implementará el presente Programa. Lo anterior, teniendo en cuenta el enfoque de derechos, étnico, de género y territorial y diferencial, edad y ciclo vital, situación o condición de discapacidad, y/o cualquier otro aspecto relevante que pueda afectar a las comunidades y organizaciones en los territorios.",1]
[null,{"$f":"VLOOKUP(C1031,[1]instancias_objetos!$A$1:$B$123,2,FALSE)","v":"INST95"},"Comité Técnico de los componentes de medidas integrales de prevención, seguridad y protección, y del protocolo de protección para territorios rurales","Solicitar la actuación especial de la Procuraduría General de la Nación, de la Defensoría del Pueblo y de todas las instancias que fueran competentes para la adopción de las medidas de prevención temprana, urgente y de garantías de no repetición, adoptadas en el marco del presente Programa, en aplicación del principio de precaución y desarrollo de acciones urgentes.",1]
[null,{"$f":"VLOOKUP(C1032,[1]instancias_objetos!$A$1:$B$123,2,FALSE)","v":"INST95"},"Comité Técnico de los componentes de medidas integrales de prevención, seguridad y protección, y del protocolo de protección para territorios rurales","Presentar un informe semestral a la Instancia de Alto Nivel del Sistema Integral de Seguridad para el Ejercicio de la Política, que dé cuenta del funcionamiento del presente Programa e incluya recomendaciones para el mejoramiento del mismo.",1]
[null,{"$f":"VLOOKUP(C1033,[1]instancias_objetos!$A$1:$B$123,2,FALSE)","v":"INST95"},"Comité Técnico de los componentes de medidas integrales de prevención, seguridad y protección, y del protocolo de protección para territorios rurales","Diseñar, aprobar e implementar un Plan Operativo Anual (POA) que le permita el desarrollo de sus funciones.",1]
[null,{"$f":"VLOOKUP(C1034,[1]instancias_objetos!$A$1:$B$123,2,FALSE)","v":"INST95"},"Comité Técnico de los componentes de medidas integrales de prevención, seguridad y protección, y del protocolo de protección para territorios rurales","Realizar seguimiento y evaluación al desarrollo de los instrumentos de planeación incorporados por las entidades territoriales, para la implementación de las medidas dispuestas en el marco de este Programa.",1]
[null,{"$f":"VLOOKUP(C1035,[1]instancias_objetos!$A$1:$B$123,2,FALSE)","v":"INST95"},"Comité Técnico de los componentes de medidas integrales de prevención, seguridad y protección, y del protocolo de protección para territorios rurales","Acompañar técnicamente a las entidades territoriales en instrumentos metodológicos para el análisis y valoración de riesgos, garantizando la aplicación de los enfoques contenidos en este capítulo.",1]
[null,{"$f":"VLOOKUP(C1036,[1]instancias_objetos!$A$1:$B$123,2,FALSE)","v":"INST95"},"Comité Técnico de los componentes de medidas integrales de prevención, seguridad y protección, y del protocolo de protección para territorios rurales","Hacer seguimiento a la implementación de medidas adoptadas en el marco del Protocolo de Protección para Territorios Rurales.",1]
[null,{"$f":"VLOOKUP(C1037,[1]instancias_objetos!$A$1:$B$123,2,FALSE)","v":"INST96"},"Comité Técnico de los componentes de Promotores/as Comunitarios de Paz y Convivencia, y de Apoyo a la Actividad de Denuncia","Definir y/o consolidar lineamientos técnicos así como impulsar el diseño, seguimiento, coordinación y/o articulación de acciones institucionales en materia de convivencia, paz y derechos humanos, y para el programa de apoyo a la actividad de denuncia.",1]
[null,{"$f":"VLOOKUP(C1038,[1]instancias_objetos!$A$1:$B$123,2,FALSE)","v":"INST96"},"Comité Técnico de los componentes de Promotores/as Comunitarios de Paz y Convivencia, y de Apoyo a la Actividad de Denuncia","Definir los criterios de priorización y la focalización de los municipios que serán beneficiarios del Programa de Promotores/as Comunitario/as de Paz y Convivencia, y del programa de apoyo a la actividad de denuncia.",1]
[null,{"$f":"VLOOKUP(C1039,[1]instancias_objetos!$A$1:$B$123,2,FALSE)","v":"INST96"},"Comité Técnico de los componentes de Promotores/as Comunitarios de Paz y Convivencia, y de Apoyo a la Actividad de Denuncia","Diseñar e impulsar la implementación de los Planes Estratégico y Operativo Anual del Programa de Promotores/as Comunitario/as de Paz y Convivencia, y del programa de apoyo a la actividad de denuncia.",1]
[null,{"$f":"VLOOKUP(C1040,[1]instancias_objetos!$A$1:$B$123,2,FALSE)","v":"INST96"},"Comité Técnico de los componentes de Promotores/as Comunitarios de Paz y Convivencia, y de Apoyo a la Actividad de Denuncia","Promover la recuperación, difusión, visibilización y fortalecimiento de saberes y prácticas comunitarias y/o tradicionales relacionadas con el trámite, gestión y resolución de conflictos.",1]
[null,{"$f":"VLOOKUP(C1041,[1]instancias_objetos!$A$1:$B$123,2,FALSE)","v":"INST96"},"Comité Técnico de los componentes de Promotores/as Comunitarios de Paz y Convivencia, y de Apoyo a la Actividad de Denuncia","Priorizar las solicitudes de protección de derechos humanos realizadas por los Promotores/as Comunitarios de Paz y Convivencia.",1]
[null,{"$f":"VLOOKUP(C1042,[1]instancias_objetos!$A$1:$B$123,2,FALSE)","v":"INST96"},"Comité Técnico de los componentes de Promotores/as Comunitarios de Paz y Convivencia, y de Apoyo a la Actividad de Denuncia","Definir los mecanismos de la acreditación de la figura de Promotores/as Comunitarios de Paz y Convivencia.",1]
[null,{"$f":"VLOOKUP(C1043,[1]instancias_objetos!$A$1:$B$123,2,FALSE)","v":"INST96"},"Comité Técnico de los componentes de Promotores/as Comunitarios de Paz y Convivencia, y de Apoyo a la Actividad de Denuncia","Presentar un informe semestral a la Instancia de Alto Nivel del Sistema Integral de Seguridad para el Ejercicio de la Política, que dé cuenta del funcionamiento del Programa de Promotores/as Comunitario/as de Paz y Convivencia, y del Programa de Apoyo a la Actividad de Denuncia.",1]
[null,{"$f":"VLOOKUP(C1044,[1]instancias_objetos!$A$1:$B$123,2,FALSE)","v":"INST96"},"Comité Técnico de los componentes de Promotores/as Comunitarios de Paz y Convivencia, y de Apoyo a la Actividad de Denuncia","Realizar seguimiento y evaluación al desarrollo de los instrumentos de planeación incorporados por las entidades territoriales, para la implementación de las medidas dispuestas en el marco del Programa de Promotores/as Comunitario/as de Paz y Convivencia, y del Programa de Apoyo a la Actividad de Denuncia.",1]
[null,{"$f":"VLOOKUP(C1045,[1]instancias_objetos!$A$1:$B$123,2,FALSE)","v":"INST96"},"Comité Técnico de los componentes de Promotores/as Comunitarios de Paz y Convivencia, y de Apoyo a la Actividad de Denuncia","Hacer seguimiento a la implementación de medidas adoptadas en el marco del Programa de Promotores/as Comunitario/as de Paz y Convivencia, y del Programa de Apoyo a la Actividad de Denuncia.",1]
[null,{"$f":"VLOOKUP(C1046,[1]instancias_objetos!$A$1:$B$123,2,FALSE)","v":"INST96"},"Comité Técnico de los componentes de Promotores/as Comunitarios de Paz y Convivencia, y de Apoyo a la Actividad de Denuncia","Hacer seguimiento y evaluación de la actividad de denuncia de las organizaciones sociales en el territorio, y solicitará respuestas de las entidades encargadas del trámite de las denuncias.",1]
[null,{"$f":"VLOOKUP(C1047,[1]instancias_objetos!$A$1:$B$123,2,FALSE)","v":"INST97"},"Consejo Nacional de Bienestar Animal","Proponer políticas y planes nacionales sobre bienestar animal, mediante la concertación de lineamientos de interés común para quienes desarrollen actividades de producción de especies animales, basado en las directrices de la Organización Mundial de Sanidad Animal (OIE), así como a la luz de los resultados de las investigaciones generadas por las instituciones de investigación y universidades.",1]
[null,{"$f":"VLOOKUP(C1048,[1]instancias_objetos!$A$1:$B$123,2,FALSE)","v":"INST97"},"Consejo Nacional de Bienestar Animal","Proponer planes y estrategias para adelantar las diferentes actividades correspondientes a investigaciones y estudios relacionados con el bienestar animal.",1]
[null,{"$f":"VLOOKUP(C1049,[1]instancias_objetos!$A$1:$B$123,2,FALSE)","v":"INST97"},"Consejo Nacional de Bienestar Animal","Realizar el seguimiento a la ejecución de los planes, programas y proyectos que en materia de bienestar animal sean adoptados a nivel nacional.",1]
[null,{"$f":"VLOOKUP(C1050,[1]instancias_objetos!$A$1:$B$123,2,FALSE)","v":"INST97"},"Consejo Nacional de Bienestar Animal","Revisar los planes de trabajo que adelante el Comité Técnico Nacional de Bienestar Animal.",1]
[null,{"$f":"VLOOKUP(C1051,[1]instancias_objetos!$A$1:$B$123,2,FALSE)","v":"INST97"},"Consejo Nacional de Bienestar Animal","Velar por la implementación del bienestar animal para las especies de producción en el sector agropecuario, a fin de armonizar las directrices y recomendaciones internacionales aportadas por la OIE.",1]
[null,{"$f":"VLOOKUP(C1052,[1]instancias_objetos!$A$1:$B$123,2,FALSE)","v":"INST97"},"Consejo Nacional de Bienestar Animal","Las propuestas de reglamentación, políticas y planes que sean presentados para dar trámite a la normatividad requerida.",1]
[null,{"$f":"VLOOKUP(C1053,[1]instancias_objetos!$A$1:$B$123,2,FALSE)","v":"INST98"},"Comité Técnico Nacional de Bienestar Animal","Concertar los lineamientos de interés común para las distintas entidades, gremios y academia en busca de mejorar el bienestar de los animales de producción y proponerlos ante el Consejo Nacional de Bienestar Animal",1]
[null,{"$f":"VLOOKUP(C1054,[1]instancias_objetos!$A$1:$B$123,2,FALSE)","v":"INST98"},"Comité Técnico Nacional de Bienestar Animal","Realizar recomendaciones sobre proyectos de investigación y normativa relacionada con bienestar animal en los sistemas de producción; como producto del trabajo que se realice en los grupos focales que articulen el sector público, el sector privado y la academia.",1]
[null,{"$f":"VLOOKUP(C1055,[1]instancias_objetos!$A$1:$B$123,2,FALSE)","v":"INST98"},"Comité Técnico Nacional de Bienestar Animal","Socializar las políticas en materia de bienestar animal con las entidades, gremios, la academia y grupos focales.",1]
[null,{"$f":"VLOOKUP(C1056,[1]instancias_objetos!$A$1:$B$123,2,FALSE)","v":"INST98"},"Comité Técnico Nacional de Bienestar Animal","Proponer planes de contingencia y presentarlos ante el Consejo Nacional de Bienestar Animal.",1]
[null,{"$f":"VLOOKUP(C1057,[1]instancias_objetos!$A$1:$B$123,2,FALSE)","v":"INST98"},"Comité Técnico Nacional de Bienestar Animal","Presentar ante el Consejo Nacional de Bienestar Animal las propuestas de adopción e implementación de las directrices y recomendaciones relativas al bienestar animal, como un componente clave de la sanidad y producción animal, mediante documentos técnicos debidamente sustentados.",1]
[null,{"$f":"VLOOKUP(C1058,[1]instancias_objetos!$A$1:$B$123,2,FALSE)","v":"INST98"},"Comité Técnico Nacional de Bienestar Animal","Proponer y presentar ante el Consejo Nacional de Bienestar Animal, las recomendaciones sobre bienestar animal para las especies productivas, como parte de la responsabilidad social en el marco del sistema de Medidas Sanitarias y Fitosanitarias (MSF), y su efecto sobre la inocuidad alimentaria.",1]
[null,{"$f":"VLOOKUP(C1059,[1]instancias_objetos!$A$1:$B$123,2,FALSE)","v":"INST99"},"Comisión Nacional para la Sustitución del Asbesto","Supervisar el efectivo cumplimiento de la sustitución del asbesto en todas sus formas, a lo largo de todo el territorio nacional, en el plazo establecido en esta ley.",1]
[null,{"$f":"VLOOKUP(C1060,[1]instancias_objetos!$A$1:$B$123,2,FALSE)","v":"INST99"},"Comisión Nacional para la Sustitución del Asbesto","El seguimiento de las medidas aquí establecidas con el objetivo de sustituir el asbesto en el período de transición señalado en esta ley.",1]
[null,{"$f":"VLOOKUP(C1061,[1]instancias_objetos!$A$1:$B$123,2,FALSE)","v":"INST99"},"Comisión Nacional para la Sustitución del Asbesto","Expedir el Programa Nacional de Eliminación de Enfermedades Relacionadas con el Asbesto (PNEERA), con referencia al expedido por la Organización Mundial de la Salud y la Organización Internacional del Trabajo.",1]
[null,{"$f":"VLOOKUP(C1062,[1]instancias_objetos!$A$1:$B$123,2,FALSE)","v":"INST99"},"Comisión Nacional para la Sustitución del Asbesto","Elaborar el plan de adaptación laboral y reconversión productiva de que habla el artículo 5° de la presente ley.",1]