{"text_format":"1","workbook":"xlsx","n_sheets":7,"sheets":["ACTIVOS DE INFORMACIÓN","DATOS","Hoja4","Hoja3","Hoja5","Hoja1","Hoja2"],"not_rendered":{"charts":0,"images":2,"macros":1,"external_links":1,"defined_names":76,"comments":1,"pivot_tables":0},"unopened":[],"bounds":{"document_bytes":16777216,"sheet_cells":100000,"rows_first":2000,"rows_last":500,"rows_between":2000,"halvings":0,"cell_chars":16384,"cell_head_chars":4096},"cells_cut":0,"cells_raw":0,"read":"whole","date_system":"1900"}

{"sheet":"ACTIVOS DE INFORMACIÓN","index":0,"n_rows":472,"n_cols":50,"rows_kept":472,"cut":false,"hidden":false,"merged":[[471,0,471,44],[0,0,2,1],[2,43,2,44],[0,2,2,42],[4,28,4,29],[4,30,4,33],[4,42,4,44],[4,0,4,24],[4,25,4,27],[3,0,3,44],[4,34,4,41]]}
[null,null,"PROCESO GESTIÓN DE LA TECNOLOGÍA E INFORMACIÓN \n\nFORMATO PARA LEVANTAMIENTO DE ACTIVOS DE INFORMACION\n",null,null,null,null,null,null,null,null,null,null,null,null,null,null,null,null,null,null,null,null,null,null,null,null,null,null,null,null,null,null,null,null,null,null,null,null,null,null,null,null,"F1.G10.GTI","2020-01-28"]
[null,null,null,null,null,null,null,null,null,null,null,null,null,null,null,null,null,null,null,null,null,null,null,null,null,null,null,null,null,null,null,null,null,null,null,null,null,null,null,null,null,null,null,"Versión 7","Página 1 de 1 "]
[null,null,null,null,null,null,null,null,null,null,null,null,null,null,null,null,null,null,null,null,null,null,null,null,null,null,null,null,null,null,null,null,null,null,null,null,null,null,null,null,null,null,null,"Clasificación de la Información\nPública"]
[]
["I. IDENTIFICADOR",null,null,null,null,null,null,null,null,null,null,null,null,null,null,null,null,null,null,null,null,null,null,null,null,"III. ATRIBUTO",null,null,"III. PROPIEDAD",null,"IV. UBICACIÓN",null,null,null,"V. CRITICIDAD",null,null,null,null,null,null,null,"VI. PUBLICACIÓN"]
["ID","SEDE - REGIONAL","CENTROS ZONALES","PROCESO","Tipo de Proceso","Columna4","Columna2","Área/Dependencia","Dependencia Regional","Servicio Tecnológico","Activo de Información","Sede y/o Regional","INSUMO","Tipo de Activo","Descripción del Activo","Contiene Datos Personales","Clasificación Datos Personales","Formato ","Tratamiento Internacional ","Nivel de acceso ","Columna1","Es  Reservada","Ley por la cual es Reservada"," Clasificación ICBF","Idioma","Continuidad de la Operación","ICC","Privacidad","Propietario del  activo ","Custodio del Activo","Física","Electrónica","Nivel de Seguridad Física","Nivel de Seguridad Electrónica","Integridad","Columna3","Disponibilidad Interna","Columna34","Disponibilidad Terceros","Columna32","Columna33","Nivel de Criticidad","Información Publicada (WEB)","Enlace URL","Información Disponible\n(No Web)","Rotulado","Columna Nivel de servicio","Nivel de servicio_2","Observaciones","Columna5"]
[{"$f":"IF(B7<>\"\",1,\"\")","v":""},null,null,null,{"$f":"+VLOOKUP(Tabla2[[#This Row],[SEDE - REGIONAL]],DATOS!B3:D36,3,FALSE)","v":{"$error":"#N/A"}},{"$f":"+IF(OR(Tabla2[[#This Row],[Área/Dependencia]]=\"Subdirección de Sistemas Integrados\",Tabla2[[#This Row],[Área/Dependencia]]=\"Subdirección de Recursos Tecnológicos\"),\"X\",\"\")","v":""},{"$f":"+CONCATENATE(Tabla2[[#This Row],[Tipo de Proceso]],Tabla2[[#This Row],[Columna4]])","v":{"$error":"#N/A"}},null,null,null,null,null,null,null,null,null,null,null,null,null,{"$f":"+IF(Tabla2[[#This Row],[Nivel de acceso ]]=\"Alto\",0.5,IF(Tabla2[[#This Row],[Nivel de acceso ]]=\"Medio\",0.3,IF(Tabla2[[#This Row],[Nivel de acceso ]]=\"Bajo\",0.2,\"\")))","v":""},null,{"$f":"+IF(Tabla2[[#This Row],[Es  Reservada]]=\"Sí\",\"Escriba Ley\",\"No Aplica\")","v":"No Aplica"},null,null,null,null,{"$f":"IFERROR(IF(AND(Tabla2[[#This Row],[Contiene Datos Personales]]=\"SÍ\",OR(Tabla2[[#This Row],[Clasificación Datos Personales]]=\"Sensible\",Tabla2[[#This Row],[Clasificación Datos Personales]]=\"NNA\",Tabla2[[#This Row],[Clasificación Datos Personales]]=\"privado\")),\"Alto\",IF(AND(Tabla2[[#This Row],[Contiene Datos Personales]]=\"SÍ\",Tabla2[[#This Row],[Clasificación Datos Personales]]=\"SEMIPRIVADO\"),\"Medio\",\"Bajo\")),\"\")","v":"Bajo"},null,null,{"$f":"+IF(OR(N7=\"FÍSICO-ELECTRÓNICO\",N7=\"FÍSICO\",N7=\"Hardware\"),\"Digite ubicación\",\"No Aplica\")","v":"No Aplica"},{"$f":"+IF(OR(N7=\"FÍSICO-ELECTRÓNICO\",N7=\"ELECTRÓNICO\",N7=\"Software\"),\"Digite ubicación\",\"No Aplica\")","v":"No Aplica"},null,null,null,{"$f":"+IF(Tabla2[[#This Row],[Integridad]]=\"Grave\",0.5,IF(Tabla2[[#This Row],[Integridad]]=\"Importante\",0.3,IF(Tabla2[[#This Row],[Integridad]]=\"Leve\",0.2,\"\")))","v":""},null,{"$f":"+IF(Tabla2[[#This Row],[Disponibilidad Interna]]=\"Sí\",0.1,IF(Tabla2[[#This Row],[Disponibilidad Interna]]=\"NO\",0,\"\"))","v":""},null,{"$f":"+IF(Tabla2[[#This Row],[Disponibilidad Terceros]]=\"Sí\",0.1,IF(Tabla2[[#This Row],[Disponibilidad Terceros]]=\"No\",0,\"\"))","v":""},{"$f":"+Tabla2[[#This Row],[Columna32]]+Tabla2[[#This Row],[Columna34]]+Tabla2[[#This Row],[Columna1]]+Tabla2[[#This Row],[Columna3]]","v":{"$error":"#VALUE!"}},{"$f":"IFERROR(IF(Tabla2[[#This Row],[Columna33]]<0.45,\"BAJA\",IF(Tabla2[[#This Row],[Columna33]]>0.75,\"ALTA\",\"MEDIA\")),\"\")","v":""},{"$f":"+IF(OR(N7=\"FÍSICO-ELECTRÓNICO\",N7=\"ELECTRÓNICO\"),\"Sí\",\"No Aplica\")","v":"No Aplica"},{"$f":"+IF(Tabla2[[#This Row],[Información Publicada (WEB)]]=\"Sí\",\"Digite URL\",\"No Aplica\")","v":"No Aplica"},null,{"$f":"IF(Tabla2[[#This Row],[ Clasificación ICBF]]=\"Pública\",1,IF(Tabla2[[#This Row],[ Clasificación ICBF]]=\"Clasificada\",2,IF(Tabla2[[#This Row],[ Clasificación ICBF]]=\"Reservada\",3,0)))","v":0},{"$f":"IF(#REF!=8,4,IF(#REF!=16,3,IF(#REF!=24,2,IF(#REF!=48,1,0))))","v":{"$error":"#REF!"}},{"$f":"IF(#REF!=8,\"Alto\",IF(#REF!=16,\"Medio\",IF(#REF!=24,\"Medio\",IF(#REF!=48,\"Bajo\",0))))","v":{"$error":"#REF!"}},null,{"$f":"+MID(Tabla2[[#This Row],[Área/Dependencia]],17,8)","v":""}]
[{"$f":"IF(D8<>\"\",1,\"\")","v":""},null,null,null,{"$f":"+VLOOKUP(Tabla2[[#This Row],[SEDE - REGIONAL]],DATOS!B4:D37,3,FALSE)","v":{"$error":"#N/A"}},{"$f":"+IF(OR(Tabla2[[#This Row],[Área/Dependencia]]=\"Subdirección de Sistemas Integrados\",Tabla2[[#This Row],[Área/Dependencia]]=\"Subdirección de Recursos Tecnológicos\"),\"X\",\"\")","v":""},{"$f":"+CONCATENATE(Tabla2[[#This Row],[Tipo de Proceso]],Tabla2[[#This Row],[Columna4]])","v":{"$error":"#N/A"}},null,null,null,null,null,null,null,null,null,null,null,null,null,{"$f":"+IF(Tabla2[[#This Row],[Nivel de acceso ]]=\"Alto\",0.5,IF(Tabla2[[#This Row],[Nivel de acceso ]]=\"Medio\",0.3,IF(Tabla2[[#This Row],[Nivel de acceso ]]=\"Bajo\",0.2,\"\")))","v":""},null,{"$f":"+IF(Tabla2[[#This Row],[Es  Reservada]]=\"Sí\",\"Escriba Ley\",\"No Aplica\")","v":"No Aplica"},null,null,null,null,{"$f":"IFERROR(IF(AND(Tabla2[[#This Row],[Contiene Datos Personales]]=\"SÍ\",OR(Tabla2[[#This Row],[Clasificación Datos Personales]]=\"Sensible\",Tabla2[[#This Row],[Clasificación Datos Personales]]=\"NNA\",Tabla2[[#This Row],[Clasificación Datos Personales]]=\"privado\")),\"Alto\",IF(AND(Tabla2[[#This Row],[Contiene Datos Personales]]=\"SÍ\",Tabla2[[#This Row],[Clasificación Datos Personales]]=\"SEMIPRIVADO\"),\"Medio\",\"Bajo\")),\"\")","v":"Bajo"},null,null,{"$f":"+IF(OR(N8=\"FÍSICO-ELECTRÓNICO\",N8=\"FÍSICO\",N8=\"Hardware\"),\"Digite ubicación\",\"No Aplica\")","v":"No Aplica"},{"$f":"+IF(OR(N8=\"FÍSICO-ELECTRÓNICO\",N8=\"ELECTRÓNICO\",N8=\"Software\"),\"Digite ubicación\",\"No Aplica\")","v":"No Aplica"},null,null,null,{"$f":"+IF(Tabla2[[#This Row],[Integridad]]=\"Grave\",0.5,IF(Tabla2[[#This Row],[Integridad]]=\"Importante\",0.3,IF(Tabla2[[#This Row],[Integridad]]=\"Leve\",0.2,\"\")))","v":""},null,{"$f":"+IF(Tabla2[[#This Row],[Disponibilidad Interna]]=\"Sí\",0.1,IF(Tabla2[[#This Row],[Disponibilidad Interna]]=\"NO\",0,\"\"))","v":""},null,{"$f":"+IF(Tabla2[[#This Row],[Disponibilidad Terceros]]=\"Sí\",0.1,IF(Tabla2[[#This Row],[Disponibilidad Terceros]]=\"No\",0,\"\"))","v":""},{"$f":"+Tabla2[[#This Row],[Columna32]]+Tabla2[[#This Row],[Columna34]]+Tabla2[[#This Row],[Columna1]]+Tabla2[[#This Row],[Columna3]]","v":{"$error":"#VALUE!"}},{"$f":"IFERROR(IF(Tabla2[[#This Row],[Columna33]]<0.45,\"BAJA\",IF(Tabla2[[#This Row],[Columna33]]>0.75,\"ALTA\",\"MEDIA\")),\"\")","v":""},{"$f":"+IF(OR(N8=\"FÍSICO-ELECTRÓNICO\",N8=\"ELECTRÓNICO\"),\"Sí\",\"No Aplica\")","v":"No Aplica"},{"$f":"+IF(Tabla2[[#This Row],[Información Publicada (WEB)]]=\"Sí\",\"Digite URL\",\"No Aplica\")","v":"No Aplica"},null,{"$f":"IF(Tabla2[[#This Row],[ Clasificación ICBF]]=\"Pública\",1,IF(Tabla2[[#This Row],[ Clasificación ICBF]]=\"Clasificada\",2,IF(Tabla2[[#This Row],[ Clasificación ICBF]]=\"Reservada\",3,0)))","v":0},{"$f":"IF(#REF!=8,4,IF(#REF!=16,3,IF(#REF!=24,2,IF(#REF!=48,1,0))))","v":{"$error":"#REF!"}},{"$f":"IF(#REF!=8,\"Alto\",IF(#REF!=16,\"Medio\",IF(#REF!=24,\"Medio\",IF(#REF!=48,\"Bajo\",0))))","v":{"$error":"#REF!"}},null,{"$f":"+MID(Tabla2[[#This Row],[Área/Dependencia]],17,8)","v":""}]
[{"$f":"IFERROR(IF(B9<>\"\",A7+1,\"\"),\"\")","v":""},null,null,null,{"$f":"+VLOOKUP(Tabla2[[#This Row],[SEDE - REGIONAL]],DATOS!B4:D37,3,FALSE)","v":{"$error":"#N/A"}},null,{"$f":"+CONCATENATE(Tabla2[[#This Row],[Tipo de Proceso]],Tabla2[[#This Row],[Columna4]])","v":{"$error":"#N/A"}},null,null,null,null,null,null,null,null,null,null,null,null,null,{"$f":"+IF(Tabla2[[#This Row],[Nivel de acceso ]]=\"Alto\",0.5,IF(Tabla2[[#This Row],[Nivel de acceso ]]=\"Medio\",0.3,IF(Tabla2[[#This Row],[Nivel de acceso ]]=\"Bajo\",0.2,\"\")))","v":""},null,{"$f":"+IF(Tabla2[[#This Row],[Es  Reservada]]=\"Sí\",\"Escriba Ley\",\"No Aplica\")","v":"No Aplica"},null,null,null,null,{"$f":"IFERROR(IF(AND(Tabla2[[#This Row],[Contiene Datos Personales]]=\"SÍ\",OR(Tabla2[[#This Row],[Clasificación Datos Personales]]=\"Sensible\",Tabla2[[#This Row],[Clasificación Datos Personales]]=\"NNA\",Tabla2[[#This Row],[Clasificación Datos Personales]]=\"privado\")),\"Alto\",IF(AND(Tabla2[[#This Row],[Contiene Datos Personales]]=\"SÍ\",Tabla2[[#This Row],[Clasificación Datos Personales]]=\"SEMIPRIVADO\"),\"Medio\",\"Bajo\")),\"\")","v":"Bajo"},null,null,"No Aplica","No Aplica",null,null,null,{"$f":"+IF(Tabla2[[#This Row],[Integridad]]=\"Grave\",0.5,IF(Tabla2[[#This Row],[Integridad]]=\"Importante\",0.3,IF(Tabla2[[#This Row],[Integridad]]=\"Leve\",0.2,\"\")))","v":""},null,{"$f":"+IF(Tabla2[[#This Row],[Disponibilidad Interna]]=\"Sí\",0.1,IF(Tabla2[[#This Row],[Disponibilidad Interna]]=\"NO\",0,\"\"))","v":""},null,{"$f":"+IF(Tabla2[[#This Row],[Disponibilidad Terceros]]=\"Sí\",0.1,IF(Tabla2[[#This Row],[Disponibilidad Terceros]]=\"No\",0,\"\"))","v":""},{"$f":"+Tabla2[[#This Row],[Columna32]]+Tabla2[[#This Row],[Columna34]]+Tabla2[[#This Row],[Columna1]]+Tabla2[[#This Row],[Columna3]]","v":{"$error":"#VALUE!"}},{"$f":"IFERROR(IF(Tabla2[[#This Row],[Columna33]]<0.45,\"BAJA\",IF(Tabla2[[#This Row],[Columna33]]>0.75,\"ALTA\",\"MEDIA\")),\"\")","v":""},"No Aplica",{"$f":"+IF(Tabla2[[#This Row],[Información Publicada (WEB)]]=\"Sí\",\"Digite URL\",\"No Aplica\")","v":"No Aplica"},null,{"$f":"IF(Tabla2[[#This Row],[ Clasificación ICBF]]=\"Pública\",1,IF(Tabla2[[#This Row],[ Clasificación ICBF]]=\"Clasificada\",2,IF(Tabla2[[#This Row],[ Clasificación ICBF]]=\"Reservada\",3,0)))","v":0},{"$f":"IF(#REF!=8,4,IF(#REF!=16,3,IF(#REF!=24,2,IF(#REF!=48,1,0))))","v":{"$error":"#REF!"}},{"$f":"IF(#REF!=8,\"Alto\",IF(#REF!=16,\"Medio\",IF(#REF!=24,\"Medio\",IF(#REF!=48,\"Bajo\",0))))","v":{"$error":"#REF!"}},null,{"$f":"+MID(Tabla2[[#This Row],[Área/Dependencia]],17,8)","v":""}]
[{"$f":"IFERROR(IF(B10<>\"\",A9+1,\"\"),\"\")","v":""},null,null,null,{"$f":"+VLOOKUP(Tabla2[[#This Row],[SEDE - REGIONAL]],DATOS!B5:D38,3,FALSE)","v":{"$error":"#N/A"}},{"$f":"+IF(OR(Tabla2[[#This Row],[Área/Dependencia]]=\"Subdirección de Sistemas Integrados\",Tabla2[[#This Row],[Área/Dependencia]]=\"Subdirección de Recursos Tecnológicos\"),\"X\",\"\")","v":""},{"$f":"+CONCATENATE(Tabla2[[#This Row],[Tipo de Proceso]],Tabla2[[#This Row],[Columna4]])","v":{"$error":"#N/A"}},null,null,null,null,null,null,null,null,null,null,null,null,null,{"$f":"+IF(Tabla2[[#This Row],[Nivel de acceso ]]=\"Alto\",0.5,IF(Tabla2[[#This Row],[Nivel de acceso ]]=\"Medio\",0.3,IF(Tabla2[[#This Row],[Nivel de acceso ]]=\"Bajo\",0.2,\"\")))","v":""},null,{"$f":"+IF(Tabla2[[#This Row],[Es  Reservada]]=\"Sí\",\"Escriba Ley\",\"No Aplica\")","v":"No Aplica"},null,null,null,null,{"$f":"IFERROR(IF(AND(Tabla2[[#This Row],[Contiene Datos Personales]]=\"SÍ\",OR(Tabla2[[#This Row],[Clasificación Datos Personales]]=\"Sensible\",Tabla2[[#This Row],[Clasificación Datos Personales]]=\"NNA\",Tabla2[[#This Row],[Clasificación Datos Personales]]=\"privado\")),\"Alto\",IF(AND(Tabla2[[#This Row],[Contiene Datos Personales]]=\"SÍ\",Tabla2[[#This Row],[Clasificación Datos Personales]]=\"SEMIPRIVADO\"),\"Medio\",\"Bajo\")),\"\")","v":"Bajo"},null,null,"No Aplica","No Aplica",null,null,null,{"$f":"+IF(Tabla2[[#This Row],[Integridad]]=\"Grave\",0.5,IF(Tabla2[[#This Row],[Integridad]]=\"Importante\",0.3,IF(Tabla2[[#This Row],[Integridad]]=\"Leve\",0.2,\"\")))","v":""},null,{"$f":"+IF(Tabla2[[#This Row],[Disponibilidad Interna]]=\"Sí\",0.1,IF(Tabla2[[#This Row],[Disponibilidad Interna]]=\"NO\",0,\"\"))","v":""},null,{"$f":"+IF(Tabla2[[#This Row],[Disponibilidad Terceros]]=\"Sí\",0.1,IF(Tabla2[[#This Row],[Disponibilidad Terceros]]=\"No\",0,\"\"))","v":""},{"$f":"+Tabla2[[#This Row],[Columna32]]+Tabla2[[#This Row],[Columna34]]+Tabla2[[#This Row],[Columna1]]+Tabla2[[#This Row],[Columna3]]","v":{"$error":"#VALUE!"}},{"$f":"IFERROR(IF(Tabla2[[#This Row],[Columna33]]<0.45,\"BAJA\",IF(Tabla2[[#This Row],[Columna33]]>0.75,\"ALTA\",\"MEDIA\")),\"\")","v":""},"No Aplica",{"$f":"+IF(Tabla2[[#This Row],[Información Publicada (WEB)]]=\"Sí\",\"Digite URL\",\"No Aplica\")","v":"No Aplica"},null,{"$f":"IF(Tabla2[[#This Row],[ Clasificación ICBF]]=\"Pública\",1,IF(Tabla2[[#This Row],[ Clasificación ICBF]]=\"Clasificada\",2,IF(Tabla2[[#This Row],[ Clasificación ICBF]]=\"Reservada\",3,0)))","v":0},{"$f":"IF(#REF!=8,4,IF(#REF!=16,3,IF(#REF!=24,2,IF(#REF!=48,1,0))))","v":{"$error":"#REF!"}},{"$f":"IF(#REF!=8,\"Alto\",IF(#REF!=16,\"Medio\",IF(#REF!=24,\"Medio\",IF(#REF!=48,\"Bajo\",0))))","v":{"$error":"#REF!"}},null,{"$f":"+MID(Tabla2[[#This Row],[Área/Dependencia]],17,8)","v":""}]
["",null,null,null,{"$f":"+VLOOKUP(Tabla2[[#This Row],[SEDE - REGIONAL]],DATOS!B6:D39,3,FALSE)","v":{"$error":"#N/A"}},{"$f":"+IF(OR(Tabla2[[#This Row],[Área/Dependencia]]=\"Subdirección de Sistemas Integrados\",Tabla2[[#This Row],[Área/Dependencia]]=\"Subdirección de Recursos Tecnológicos\"),\"X\",\"\")","v":""},{"$f":"+CONCATENATE(Tabla2[[#This Row],[Tipo de Proceso]],Tabla2[[#This Row],[Columna4]])","v":{"$error":"#N/A"}},null,null,null,null,null,null,null,null,null,null,null,null,null,{"$f":"+IF(Tabla2[[#This Row],[Nivel de acceso ]]=\"Alto\",0.5,IF(Tabla2[[#This Row],[Nivel de acceso ]]=\"Medio\",0.3,IF(Tabla2[[#This Row],[Nivel de acceso ]]=\"Bajo\",0.2,\"\")))","v":""},null,{"$f":"+IF(Tabla2[[#This Row],[Es  Reservada]]=\"Sí\",\"Escriba Ley\",\"No Aplica\")","v":"No Aplica"},null,null,null,null,{"$f":"IFERROR(IF(AND(Tabla2[[#This Row],[Contiene Datos Personales]]=\"SÍ\",OR(Tabla2[[#This Row],[Clasificación Datos Personales]]=\"Sensible\",Tabla2[[#This Row],[Clasificación Datos Personales]]=\"NNA\",Tabla2[[#This Row],[Clasificación Datos Personales]]=\"privado\")),\"Alto\",IF(AND(Tabla2[[#This Row],[Contiene Datos Personales]]=\"SÍ\",Tabla2[[#This Row],[Clasificación Datos Personales]]=\"SEMIPRIVADO\"),\"Medio\",\"Bajo\")),\"\")","v":"Bajo"},null,null,"No Aplica","No Aplica",null,null,null,{"$f":"+IF(Tabla2[[#This Row],[Integridad]]=\"Grave\",0.5,IF(Tabla2[[#This Row],[Integridad]]=\"Importante\",0.3,IF(Tabla2[[#This Row],[Integridad]]=\"Leve\",0.2,\"\")))","v":""},null,{"$f":"+IF(Tabla2[[#This Row],[Disponibilidad Interna]]=\"Sí\",0.1,IF(Tabla2[[#This Row],[Disponibilidad Interna]]=\"NO\",0,\"\"))","v":""},null,{"$f":"+IF(Tabla2[[#This Row],[Disponibilidad Terceros]]=\"Sí\",0.1,IF(Tabla2[[#This Row],[Disponibilidad Terceros]]=\"No\",0,\"\"))","v":""},{"$f":"+Tabla2[[#This Row],[Columna32]]+Tabla2[[#This Row],[Columna34]]+Tabla2[[#This Row],[Columna1]]+Tabla2[[#This Row],[Columna3]]","v":{"$error":"#VALUE!"}},{"$f":"IFERROR(IF(Tabla2[[#This Row],[Columna33]]<0.45,\"BAJA\",IF(Tabla2[[#This Row],[Columna33]]>0.75,\"ALTA\",\"MEDIA\")),\"\")","v":""},"No Aplica",{"$f":"+IF(Tabla2[[#This Row],[Información Publicada (WEB)]]=\"Sí\",\"Digite URL\",\"No Aplica\")","v":"No Aplica"},null,{"$f":"IF(Tabla2[[#This Row],[ Clasificación ICBF]]=\"Pública\",1,IF(Tabla2[[#This Row],[ Clasificación ICBF]]=\"Clasificada\",2,IF(Tabla2[[#This Row],[ Clasificación ICBF]]=\"Reservada\",3,0)))","v":0},{"$f":"IF(#REF!=8,4,IF(#REF!=16,3,IF(#REF!=24,2,IF(#REF!=48,1,0))))","v":{"$error":"#REF!"}},{"$f":"IF(#REF!=8,\"Alto\",IF(#REF!=16,\"Medio\",IF(#REF!=24,\"Medio\",IF(#REF!=48,\"Bajo\",0))))","v":{"$error":"#REF!"}},null,{"$f":"+MID(Tabla2[[#This Row],[Área/Dependencia]],17,8)","v":""}]
["",null,null,null,{"$f":"+VLOOKUP(Tabla2[[#This Row],[SEDE - REGIONAL]],DATOS!B7:D40,3,FALSE)","v":{"$error":"#N/A"}},{"$f":"+IF(OR(Tabla2[[#This Row],[Área/Dependencia]]=\"Subdirección de Sistemas Integrados\",Tabla2[[#This Row],[Área/Dependencia]]=\"Subdirección de Recursos Tecnológicos\"),\"X\",\"\")","v":""},{"$f":"+CONCATENATE(Tabla2[[#This Row],[Tipo de Proceso]],Tabla2[[#This Row],[Columna4]])","v":{"$error":"#N/A"}},null,null,null,null,null,null,null,null,null,null,null,null,null,{"$f":"+IF(Tabla2[[#This Row],[Nivel de acceso ]]=\"Alto\",0.5,IF(Tabla2[[#This Row],[Nivel de acceso ]]=\"Medio\",0.3,IF(Tabla2[[#This Row],[Nivel de acceso ]]=\"Bajo\",0.2,\"\")))","v":""},null,{"$f":"+IF(Tabla2[[#This Row],[Es  Reservada]]=\"Sí\",\"Escriba Ley\",\"No Aplica\")","v":"No Aplica"},null,null,null,null,{"$f":"IFERROR(IF(AND(Tabla2[[#This Row],[Contiene Datos Personales]]=\"SÍ\",OR(Tabla2[[#This Row],[Clasificación Datos Personales]]=\"Sensible\",Tabla2[[#This Row],[Clasificación Datos Personales]]=\"NNA\",Tabla2[[#This Row],[Clasificación Datos Personales]]=\"privado\")),\"Alto\",IF(AND(Tabla2[[#This Row],[Contiene Datos Personales]]=\"SÍ\",Tabla2[[#This Row],[Clasificación Datos Personales]]=\"SEMIPRIVADO\"),\"Medio\",\"Bajo\")),\"\")","v":"Bajo"},null,null,"No Aplica","No Aplica",null,null,null,{"$f":"+IF(Tabla2[[#This Row],[Integridad]]=\"Grave\",0.5,IF(Tabla2[[#This Row],[Integridad]]=\"Importante\",0.3,IF(Tabla2[[#This Row],[Integridad]]=\"Leve\",0.2,\"\")))","v":""},null,{"$f":"+IF(Tabla2[[#This Row],[Disponibilidad Interna]]=\"Sí\",0.1,IF(Tabla2[[#This Row],[Disponibilidad Interna]]=\"NO\",0,\"\"))","v":""},null,{"$f":"+IF(Tabla2[[#This Row],[Disponibilidad Terceros]]=\"Sí\",0.1,IF(Tabla2[[#This Row],[Disponibilidad Terceros]]=\"No\",0,\"\"))","v":""},{"$f":"+Tabla2[[#This Row],[Columna32]]+Tabla2[[#This Row],[Columna34]]+Tabla2[[#This Row],[Columna1]]+Tabla2[[#This Row],[Columna3]]","v":{"$error":"#VALUE!"}},{"$f":"IFERROR(IF(Tabla2[[#This Row],[Columna33]]<0.45,\"BAJA\",IF(Tabla2[[#This Row],[Columna33]]>0.75,\"ALTA\",\"MEDIA\")),\"\")","v":""},"No Aplica",{"$f":"+IF(Tabla2[[#This Row],[Información Publicada (WEB)]]=\"Sí\",\"Digite URL\",\"No Aplica\")","v":"No Aplica"},null,{"$f":"IF(Tabla2[[#This Row],[ Clasificación ICBF]]=\"Pública\",1,IF(Tabla2[[#This Row],[ Clasificación ICBF]]=\"Clasificada\",2,IF(Tabla2[[#This Row],[ Clasificación ICBF]]=\"Reservada\",3,0)))","v":0},{"$f":"IF(#REF!=8,4,IF(#REF!=16,3,IF(#REF!=24,2,IF(#REF!=48,1,0))))","v":{"$error":"#REF!"}},{"$f":"IF(#REF!=8,\"Alto\",IF(#REF!=16,\"Medio\",IF(#REF!=24,\"Medio\",IF(#REF!=48,\"Bajo\",0))))","v":{"$error":"#REF!"}},null,{"$f":"+MID(Tabla2[[#This Row],[Área/Dependencia]],17,8)","v":""}]
["",null,null,null,{"$f":"+VLOOKUP(Tabla2[[#This Row],[SEDE - REGIONAL]],DATOS!B8:D41,3,FALSE)","v":{"$error":"#N/A"}},{"$f":"+IF(OR(Tabla2[[#This Row],[Área/Dependencia]]=\"Subdirección de Sistemas Integrados\",Tabla2[[#This Row],[Área/Dependencia]]=\"Subdirección de Recursos Tecnológicos\"),\"X\",\"\")","v":""},{"$f":"+CONCATENATE(Tabla2[[#This Row],[Tipo de Proceso]],Tabla2[[#This Row],[Columna4]])","v":{"$error":"#N/A"}},null,null,null,null,null,null,null,null,null,null,null,null,null,{"$f":"+IF(Tabla2[[#This Row],[Nivel de acceso ]]=\"Alto\",0.5,IF(Tabla2[[#This Row],[Nivel de acceso ]]=\"Medio\",0.3,IF(Tabla2[[#This Row],[Nivel de acceso ]]=\"Bajo\",0.2,\"\")))","v":""},null,{"$f":"+IF(Tabla2[[#This Row],[Es  Reservada]]=\"Sí\",\"Escriba Ley\",\"No Aplica\")","v":"No Aplica"},null,null,null,null,{"$f":"IFERROR(IF(AND(Tabla2[[#This Row],[Contiene Datos Personales]]=\"SÍ\",OR(Tabla2[[#This Row],[Clasificación Datos Personales]]=\"Sensible\",Tabla2[[#This Row],[Clasificación Datos Personales]]=\"NNA\",Tabla2[[#This Row],[Clasificación Datos Personales]]=\"privado\")),\"Alto\",IF(AND(Tabla2[[#This Row],[Contiene Datos Personales]]=\"SÍ\",Tabla2[[#This Row],[Clasificación Datos Personales]]=\"SEMIPRIVADO\"),\"Medio\",\"Bajo\")),\"\")","v":"Bajo"},null,null,"No Aplica","No Aplica",null,null,null,{"$f":"+IF(Tabla2[[#This Row],[Integridad]]=\"Grave\",0.5,IF(Tabla2[[#This Row],[Integridad]]=\"Importante\",0.3,IF(Tabla2[[#This Row],[Integridad]]=\"Leve\",0.2,\"\")))","v":""},null,{"$f":"+IF(Tabla2[[#This Row],[Disponibilidad Interna]]=\"Sí\",0.1,IF(Tabla2[[#This Row],[Disponibilidad Interna]]=\"NO\",0,\"\"))","v":""},null,{"$f":"+IF(Tabla2[[#This Row],[Disponibilidad Terceros]]=\"Sí\",0.1,IF(Tabla2[[#This Row],[Disponibilidad Terceros]]=\"No\",0,\"\"))","v":""},{"$f":"+Tabla2[[#This Row],[Columna32]]+Tabla2[[#This Row],[Columna34]]+Tabla2[[#This Row],[Columna1]]+Tabla2[[#This Row],[Columna3]]","v":{"$error":"#VALUE!"}},{"$f":"IFERROR(IF(Tabla2[[#This Row],[Columna33]]<0.45,\"BAJA\",IF(Tabla2[[#This Row],[Columna33]]>0.75,\"ALTA\",\"MEDIA\")),\"\")","v":""},"No Aplica",{"$f":"+IF(Tabla2[[#This Row],[Información Publicada (WEB)]]=\"Sí\",\"Digite URL\",\"No Aplica\")","v":"No Aplica"},null,{"$f":"IF(Tabla2[[#This Row],[ Clasificación ICBF]]=\"Pública\",1,IF(Tabla2[[#This Row],[ Clasificación ICBF]]=\"Clasificada\",2,IF(Tabla2[[#This Row],[ Clasificación ICBF]]=\"Reservada\",3,0)))","v":0},{"$f":"IF(#REF!=8,4,IF(#REF!=16,3,IF(#REF!=24,2,IF(#REF!=48,1,0))))","v":{"$error":"#REF!"}},{"$f":"IF(#REF!=8,\"Alto\",IF(#REF!=16,\"Medio\",IF(#REF!=24,\"Medio\",IF(#REF!=48,\"Bajo\",0))))","v":{"$error":"#REF!"}},null,{"$f":"+MID(Tabla2[[#This Row],[Área/Dependencia]],17,8)","v":""}]
["",null,null,null,{"$f":"+VLOOKUP(Tabla2[[#This Row],[SEDE - REGIONAL]],DATOS!B9:D42,3,FALSE)","v":{"$error":"#N/A"}},{"$f":"+IF(OR(Tabla2[[#This Row],[Área/Dependencia]]=\"Subdirección de Sistemas Integrados\",Tabla2[[#This Row],[Área/Dependencia]]=\"Subdirección de Recursos Tecnológicos\"),\"X\",\"\")","v":""},{"$f":"+CONCATENATE(Tabla2[[#This Row],[Tipo de Proceso]],Tabla2[[#This Row],[Columna4]])","v":{"$error":"#N/A"}},null,null,null,null,null,null,null,null,null,null,null,null,null,{"$f":"+IF(Tabla2[[#This Row],[Nivel de acceso ]]=\"Alto\",0.5,IF(Tabla2[[#This Row],[Nivel de acceso ]]=\"Medio\",0.3,IF(Tabla2[[#This Row],[Nivel de acceso ]]=\"Bajo\",0.2,\"\")))","v":""},null,{"$f":"+IF(Tabla2[[#This Row],[Es  Reservada]]=\"Sí\",\"Escriba Ley\",\"No Aplica\")","v":"No Aplica"},null,null,null,null,{"$f":"IFERROR(IF(AND(Tabla2[[#This Row],[Contiene Datos Personales]]=\"SÍ\",OR(Tabla2[[#This Row],[Clasificación Datos Personales]]=\"Sensible\",Tabla2[[#This Row],[Clasificación Datos Personales]]=\"NNA\",Tabla2[[#This Row],[Clasificación Datos Personales]]=\"privado\")),\"Alto\",IF(AND(Tabla2[[#This Row],[Contiene Datos Personales]]=\"SÍ\",Tabla2[[#This Row],[Clasificación Datos Personales]]=\"SEMIPRIVADO\"),\"Medio\",\"Bajo\")),\"\")","v":"Bajo"},null,null,"No Aplica","No Aplica",null,null,null,{"$f":"+IF(Tabla2[[#This Row],[Integridad]]=\"Grave\",0.5,IF(Tabla2[[#This Row],[Integridad]]=\"Importante\",0.3,IF(Tabla2[[#This Row],[Integridad]]=\"Leve\",0.2,\"\")))","v":""},null,{"$f":"+IF(Tabla2[[#This Row],[Disponibilidad Interna]]=\"Sí\",0.1,IF(Tabla2[[#This Row],[Disponibilidad Interna]]=\"NO\",0,\"\"))","v":""},null,{"$f":"+IF(Tabla2[[#This Row],[Disponibilidad Terceros]]=\"Sí\",0.1,IF(Tabla2[[#This Row],[Disponibilidad Terceros]]=\"No\",0,\"\"))","v":""},{"$f":"+Tabla2[[#This Row],[Columna32]]+Tabla2[[#This Row],[Columna34]]+Tabla2[[#This Row],[Columna1]]+Tabla2[[#This Row],[Columna3]]","v":{"$error":"#VALUE!"}},{"$f":"IFERROR(IF(Tabla2[[#This Row],[Columna33]]<0.45,\"BAJA\",IF(Tabla2[[#This Row],[Columna33]]>0.75,\"ALTA\",\"MEDIA\")),\"\")","v":""},"No Aplica",{"$f":"+IF(Tabla2[[#This Row],[Información Publicada (WEB)]]=\"Sí\",\"Digite URL\",\"No Aplica\")","v":"No Aplica"},null,{"$f":"IF(Tabla2[[#This Row],[ Clasificación ICBF]]=\"Pública\",1,IF(Tabla2[[#This Row],[ Clasificación ICBF]]=\"Clasificada\",2,IF(Tabla2[[#This Row],[ Clasificación ICBF]]=\"Reservada\",3,0)))","v":0},{"$f":"IF(#REF!=8,4,IF(#REF!=16,3,IF(#REF!=24,2,IF(#REF!=48,1,0))))","v":{"$error":"#REF!"}},{"$f":"IF(#REF!=8,\"Alto\",IF(#REF!=16,\"Medio\",IF(#REF!=24,\"Medio\",IF(#REF!=48,\"Bajo\",0))))","v":{"$error":"#REF!"}},null,{"$f":"+MID(Tabla2[[#This Row],[Área/Dependencia]],17,8)","v":""}]
["",null,null,null,{"$f":"+VLOOKUP(Tabla2[[#This Row],[SEDE - REGIONAL]],DATOS!B10:D43,3,FALSE)","v":{"$error":"#N/A"}},{"$f":"+IF(OR(Tabla2[[#This Row],[Área/Dependencia]]=\"Subdirección de Sistemas Integrados\",Tabla2[[#This Row],[Área/Dependencia]]=\"Subdirección de Recursos Tecnológicos\"),\"X\",\"\")","v":""},{"$f":"+CONCATENATE(Tabla2[[#This Row],[Tipo de Proceso]],Tabla2[[#This Row],[Columna4]])","v":{"$error":"#N/A"}},null,null,null,null,null,null,null,null,null,null,null,null,null,{"$f":"+IF(Tabla2[[#This Row],[Nivel de acceso ]]=\"Alto\",0.5,IF(Tabla2[[#This Row],[Nivel de acceso ]]=\"Medio\",0.3,IF(Tabla2[[#This Row],[Nivel de acceso ]]=\"Bajo\",0.2,\"\")))","v":""},null,{"$f":"+IF(Tabla2[[#This Row],[Es  Reservada]]=\"Sí\",\"Escriba Ley\",\"No Aplica\")","v":"No Aplica"},null,null,null,null,{"$f":"IFERROR(IF(AND(Tabla2[[#This Row],[Contiene Datos Personales]]=\"SÍ\",OR(Tabla2[[#This Row],[Clasificación Datos Personales]]=\"Sensible\",Tabla2[[#This Row],[Clasificación Datos Personales]]=\"NNA\",Tabla2[[#This Row],[Clasificación Datos Personales]]=\"privado\")),\"Alto\",IF(AND(Tabla2[[#This Row],[Contiene Datos Personales]]=\"SÍ\",Tabla2[[#This Row],[Clasificación Datos Personales]]=\"SEMIPRIVADO\"),\"Medio\",\"Bajo\")),\"\")","v":"Bajo"},null,null,"No Aplica","No Aplica",null,null,null,{"$f":"+IF(Tabla2[[#This Row],[Integridad]]=\"Grave\",0.5,IF(Tabla2[[#This Row],[Integridad]]=\"Importante\",0.3,IF(Tabla2[[#This Row],[Integridad]]=\"Leve\",0.2,\"\")))","v":""},null,{"$f":"+IF(Tabla2[[#This Row],[Disponibilidad Interna]]=\"Sí\",0.1,IF(Tabla2[[#This Row],[Disponibilidad Interna]]=\"NO\",0,\"\"))","v":""},null,{"$f":"+IF(Tabla2[[#This Row],[Disponibilidad Terceros]]=\"Sí\",0.1,IF(Tabla2[[#This Row],[Disponibilidad Terceros]]=\"No\",0,\"\"))","v":""},{"$f":"+Tabla2[[#This Row],[Columna32]]+Tabla2[[#This Row],[Columna34]]+Tabla2[[#This Row],[Columna1]]+Tabla2[[#This Row],[Columna3]]","v":{"$error":"#VALUE!"}},{"$f":"IFERROR(IF(Tabla2[[#This Row],[Columna33]]<0.45,\"BAJA\",IF(Tabla2[[#This Row],[Columna33]]>0.75,\"ALTA\",\"MEDIA\")),\"\")","v":""},"No Aplica",{"$f":"+IF(Tabla2[[#This Row],[Información Publicada (WEB)]]=\"Sí\",\"Digite URL\",\"No Aplica\")","v":"No Aplica"},null,{"$f":"IF(Tabla2[[#This Row],[ Clasificación ICBF]]=\"Pública\",1,IF(Tabla2[[#This Row],[ Clasificación ICBF]]=\"Clasificada\",2,IF(Tabla2[[#This Row],[ Clasificación ICBF]]=\"Reservada\",3,0)))","v":0},{"$f":"IF(#REF!=8,4,IF(#REF!=16,3,IF(#REF!=24,2,IF(#REF!=48,1,0))))","v":{"$error":"#REF!"}},{"$f":"IF(#REF!=8,\"Alto\",IF(#REF!=16,\"Medio\",IF(#REF!=24,\"Medio\",IF(#REF!=48,\"Bajo\",0))))","v":{"$error":"#REF!"}},null,{"$f":"+MID(Tabla2[[#This Row],[Área/Dependencia]],17,8)","v":""}]
["",null,null,null,{"$f":"+VLOOKUP(Tabla2[[#This Row],[SEDE - REGIONAL]],DATOS!B11:D44,3,FALSE)","v":{"$error":"#N/A"}},{"$f":"+IF(OR(Tabla2[[#This Row],[Área/Dependencia]]=\"Subdirección de Sistemas Integrados\",Tabla2[[#This Row],[Área/Dependencia]]=\"Subdirección de Recursos Tecnológicos\"),\"X\",\"\")","v":""},{"$f":"+CONCATENATE(Tabla2[[#This Row],[Tipo de Proceso]],Tabla2[[#This Row],[Columna4]])","v":{"$error":"#N/A"}},null,null,null,null,null,null,null,null,null,null,null,null,null,{"$f":"+IF(Tabla2[[#This Row],[Nivel de acceso ]]=\"Alto\",0.5,IF(Tabla2[[#This Row],[Nivel de acceso ]]=\"Medio\",0.3,IF(Tabla2[[#This Row],[Nivel de acceso ]]=\"Bajo\",0.2,\"\")))","v":""},null,{"$f":"+IF(Tabla2[[#This Row],[Es  Reservada]]=\"Sí\",\"Escriba Ley\",\"No Aplica\")","v":"No Aplica"},null,null,null,null,{"$f":"IFERROR(IF(AND(Tabla2[[#This Row],[Contiene Datos Personales]]=\"SÍ\",OR(Tabla2[[#This Row],[Clasificación Datos Personales]]=\"Sensible\",Tabla2[[#This Row],[Clasificación Datos Personales]]=\"NNA\",Tabla2[[#This Row],[Clasificación Datos Personales]]=\"privado\")),\"Alto\",IF(AND(Tabla2[[#This Row],[Contiene Datos Personales]]=\"SÍ\",Tabla2[[#This Row],[Clasificación Datos Personales]]=\"SEMIPRIVADO\"),\"Medio\",\"Bajo\")),\"\")","v":"Bajo"},null,null,"No Aplica","No Aplica",null,null,null,{"$f":"+IF(Tabla2[[#This Row],[Integridad]]=\"Grave\",0.5,IF(Tabla2[[#This Row],[Integridad]]=\"Importante\",0.3,IF(Tabla2[[#This Row],[Integridad]]=\"Leve\",0.2,\"\")))","v":""},null,{"$f":"+IF(Tabla2[[#This Row],[Disponibilidad Interna]]=\"Sí\",0.1,IF(Tabla2[[#This Row],[Disponibilidad Interna]]=\"NO\",0,\"\"))","v":""},null,{"$f":"+IF(Tabla2[[#This Row],[Disponibilidad Terceros]]=\"Sí\",0.1,IF(Tabla2[[#This Row],[Disponibilidad Terceros]]=\"No\",0,\"\"))","v":""},{"$f":"+Tabla2[[#This Row],[Columna32]]+Tabla2[[#This Row],[Columna34]]+Tabla2[[#This Row],[Columna1]]+Tabla2[[#This Row],[Columna3]]","v":{"$error":"#VALUE!"}},{"$f":"IFERROR(IF(Tabla2[[#This Row],[Columna33]]<0.45,\"BAJA\",IF(Tabla2[[#This Row],[Columna33]]>0.75,\"ALTA\",\"MEDIA\")),\"\")","v":""},"No Aplica",{"$f":"+IF(Tabla2[[#This Row],[Información Publicada (WEB)]]=\"Sí\",\"Digite URL\",\"No Aplica\")","v":"No Aplica"},null,{"$f":"IF(Tabla2[[#This Row],[ Clasificación ICBF]]=\"Pública\",1,IF(Tabla2[[#This Row],[ Clasificación ICBF]]=\"Clasificada\",2,IF(Tabla2[[#This Row],[ Clasificación ICBF]]=\"Reservada\",3,0)))","v":0},{"$f":"IF(#REF!=8,4,IF(#REF!=16,3,IF(#REF!=24,2,IF(#REF!=48,1,0))))","v":{"$error":"#REF!"}},{"$f":"IF(#REF!=8,\"Alto\",IF(#REF!=16,\"Medio\",IF(#REF!=24,\"Medio\",IF(#REF!=48,\"Bajo\",0))))","v":{"$error":"#REF!"}},null,{"$f":"+MID(Tabla2[[#This Row],[Área/Dependencia]],17,8)","v":""}]
["",null,null,null,{"$f":"+VLOOKUP(Tabla2[[#This Row],[SEDE - REGIONAL]],DATOS!B12:D45,3,FALSE)","v":{"$error":"#N/A"}},{"$f":"+IF(OR(Tabla2[[#This Row],[Área/Dependencia]]=\"Subdirección de Sistemas Integrados\",Tabla2[[#This Row],[Área/Dependencia]]=\"Subdirección de Recursos Tecnológicos\"),\"X\",\"\")","v":""},{"$f":"+CONCATENATE(Tabla2[[#This Row],[Tipo de Proceso]],Tabla2[[#This Row],[Columna4]])","v":{"$error":"#N/A"}},null,null,null,null,null,null,null,null,null,null,null,null,null,{"$f":"+IF(Tabla2[[#This Row],[Nivel de acceso ]]=\"Alto\",0.5,IF(Tabla2[[#This Row],[Nivel de acceso ]]=\"Medio\",0.3,IF(Tabla2[[#This Row],[Nivel de acceso ]]=\"Bajo\",0.2,\"\")))","v":""},null,{"$f":"+IF(Tabla2[[#This Row],[Es  Reservada]]=\"Sí\",\"Escriba Ley\",\"No Aplica\")","v":"No Aplica"},null,null,null,null,{"$f":"IFERROR(IF(AND(Tabla2[[#This Row],[Contiene Datos Personales]]=\"SÍ\",OR(Tabla2[[#This Row],[Clasificación Datos Personales]]=\"Sensible\",Tabla2[[#This Row],[Clasificación Datos Personales]]=\"NNA\",Tabla2[[#This Row],[Clasificación Datos Personales]]=\"privado\")),\"Alto\",IF(AND(Tabla2[[#This Row],[Contiene Datos Personales]]=\"SÍ\",Tabla2[[#This Row],[Clasificación Datos Personales]]=\"SEMIPRIVADO\"),\"Medio\",\"Bajo\")),\"\")","v":"Bajo"},null,null,"No Aplica","No Aplica",null,null,null,{"$f":"+IF(Tabla2[[#This Row],[Integridad]]=\"Grave\",0.5,IF(Tabla2[[#This Row],[Integridad]]=\"Importante\",0.3,IF(Tabla2[[#This Row],[Integridad]]=\"Leve\",0.2,\"\")))","v":""},null,{"$f":"+IF(Tabla2[[#This Row],[Disponibilidad Interna]]=\"Sí\",0.1,IF(Tabla2[[#This Row],[Disponibilidad Interna]]=\"NO\",0,\"\"))","v":""},null,{"$f":"+IF(Tabla2[[#This Row],[Disponibilidad Terceros]]=\"Sí\",0.1,IF(Tabla2[[#This Row],[Disponibilidad Terceros]]=\"No\",0,\"\"))","v":""},{"$f":"+Tabla2[[#This Row],[Columna32]]+Tabla2[[#This Row],[Columna34]]+Tabla2[[#This Row],[Columna1]]+Tabla2[[#This Row],[Columna3]]","v":{"$error":"#VALUE!"}},{"$f":"IFERROR(IF(Tabla2[[#This Row],[Columna33]]<0.45,\"BAJA\",IF(Tabla2[[#This Row],[Columna33]]>0.75,\"ALTA\",\"MEDIA\")),\"\")","v":""},"No Aplica",{"$f":"+IF(Tabla2[[#This Row],[Información Publicada (WEB)]]=\"Sí\",\"Digite URL\",\"No Aplica\")","v":"No Aplica"},null,{"$f":"IF(Tabla2[[#This Row],[ Clasificación ICBF]]=\"Pública\",1,IF(Tabla2[[#This Row],[ Clasificación ICBF]]=\"Clasificada\",2,IF(Tabla2[[#This Row],[ Clasificación ICBF]]=\"Reservada\",3,0)))","v":0},{"$f":"IF(#REF!=8,4,IF(#REF!=16,3,IF(#REF!=24,2,IF(#REF!=48,1,0))))","v":{"$error":"#REF!"}},{"$f":"IF(#REF!=8,\"Alto\",IF(#REF!=16,\"Medio\",IF(#REF!=24,\"Medio\",IF(#REF!=48,\"Bajo\",0))))","v":{"$error":"#REF!"}},null,{"$f":"+MID(Tabla2[[#This Row],[Área/Dependencia]],17,8)","v":""}]
["",null,null,null,{"$f":"+VLOOKUP(Tabla2[[#This Row],[SEDE - REGIONAL]],DATOS!B13:D46,3,FALSE)","v":{"$error":"#N/A"}},{"$f":"+IF(OR(Tabla2[[#This Row],[Área/Dependencia]]=\"Subdirección de Sistemas Integrados\",Tabla2[[#This Row],[Área/Dependencia]]=\"Subdirección de Recursos Tecnológicos\"),\"X\",\"\")","v":""},{"$f":"+CONCATENATE(Tabla2[[#This Row],[Tipo de Proceso]],Tabla2[[#This Row],[Columna4]])","v":{"$error":"#N/A"}},null,null,null,null,null,null,null,null,null,null,null,null,null,{"$f":"+IF(Tabla2[[#This Row],[Nivel de acceso ]]=\"Alto\",0.5,IF(Tabla2[[#This Row],[Nivel de acceso ]]=\"Medio\",0.3,IF(Tabla2[[#This Row],[Nivel de acceso ]]=\"Bajo\",0.2,\"\")))","v":""},null,{"$f":"+IF(Tabla2[[#This Row],[Es  Reservada]]=\"Sí\",\"Escriba Ley\",\"No Aplica\")","v":"No Aplica"},null,null,null,null,{"$f":"IFERROR(IF(AND(Tabla2[[#This Row],[Contiene Datos Personales]]=\"SÍ\",OR(Tabla2[[#This Row],[Clasificación Datos Personales]]=\"Sensible\",Tabla2[[#This Row],[Clasificación Datos Personales]]=\"NNA\",Tabla2[[#This Row],[Clasificación Datos Personales]]=\"privado\")),\"Alto\",IF(AND(Tabla2[[#This Row],[Contiene Datos Personales]]=\"SÍ\",Tabla2[[#This Row],[Clasificación Datos Personales]]=\"SEMIPRIVADO\"),\"Medio\",\"Bajo\")),\"\")","v":"Bajo"},null,null,"No Aplica","No Aplica",null,null,null,{"$f":"+IF(Tabla2[[#This Row],[Integridad]]=\"Grave\",0.5,IF(Tabla2[[#This Row],[Integridad]]=\"Importante\",0.3,IF(Tabla2[[#This Row],[Integridad]]=\"Leve\",0.2,\"\")))","v":""},null,{"$f":"+IF(Tabla2[[#This Row],[Disponibilidad Interna]]=\"Sí\",0.1,IF(Tabla2[[#This Row],[Disponibilidad Interna]]=\"NO\",0,\"\"))","v":""},null,{"$f":"+IF(Tabla2[[#This Row],[Disponibilidad Terceros]]=\"Sí\",0.1,IF(Tabla2[[#This Row],[Disponibilidad Terceros]]=\"No\",0,\"\"))","v":""},{"$f":"+Tabla2[[#This Row],[Columna32]]+Tabla2[[#This Row],[Columna34]]+Tabla2[[#This Row],[Columna1]]+Tabla2[[#This Row],[Columna3]]","v":{"$error":"#VALUE!"}},{"$f":"IFERROR(IF(Tabla2[[#This Row],[Columna33]]<0.45,\"BAJA\",IF(Tabla2[[#This Row],[Columna33]]>0.75,\"ALTA\",\"MEDIA\")),\"\")","v":""},"No Aplica",{"$f":"+IF(Tabla2[[#This Row],[Información Publicada (WEB)]]=\"Sí\",\"Digite URL\",\"No Aplica\")","v":"No Aplica"},null,{"$f":"IF(Tabla2[[#This Row],[ Clasificación ICBF]]=\"Pública\",1,IF(Tabla2[[#This Row],[ Clasificación ICBF]]=\"Clasificada\",2,IF(Tabla2[[#This Row],[ Clasificación ICBF]]=\"Reservada\",3,0)))","v":0},{"$f":"IF(#REF!=8,4,IF(#REF!=16,3,IF(#REF!=24,2,IF(#REF!=48,1,0))))","v":{"$error":"#REF!"}},{"$f":"IF(#REF!=8,\"Alto\",IF(#REF!=16,\"Medio\",IF(#REF!=24,\"Medio\",IF(#REF!=48,\"Bajo\",0))))","v":{"$error":"#REF!"}},null,{"$f":"+MID(Tabla2[[#This Row],[Área/Dependencia]],17,8)","v":""}]
["",null,null,null,{"$f":"+VLOOKUP(Tabla2[[#This Row],[SEDE - REGIONAL]],DATOS!B14:D47,3,FALSE)","v":{"$error":"#N/A"}},{"$f":"+IF(OR(Tabla2[[#This Row],[Área/Dependencia]]=\"Subdirección de Sistemas Integrados\",Tabla2[[#This Row],[Área/Dependencia]]=\"Subdirección de Recursos Tecnológicos\"),\"X\",\"\")","v":""},{"$f":"+CONCATENATE(Tabla2[[#This Row],[Tipo de Proceso]],Tabla2[[#This Row],[Columna4]])","v":{"$error":"#N/A"}},null,null,null,null,null,null,null,null,null,null,null,null,null,{"$f":"+IF(Tabla2[[#This Row],[Nivel de acceso ]]=\"Alto\",0.5,IF(Tabla2[[#This Row],[Nivel de acceso ]]=\"Medio\",0.3,IF(Tabla2[[#This Row],[Nivel de acceso ]]=\"Bajo\",0.2,\"\")))","v":""},null,{"$f":"+IF(Tabla2[[#This Row],[Es  Reservada]]=\"Sí\",\"Escriba Ley\",\"No Aplica\")","v":"No Aplica"},null,null,null,null,{"$f":"IFERROR(IF(AND(Tabla2[[#This Row],[Contiene Datos Personales]]=\"SÍ\",OR(Tabla2[[#This Row],[Clasificación Datos Personales]]=\"Sensible\",Tabla2[[#This Row],[Clasificación Datos Personales]]=\"NNA\",Tabla2[[#This Row],[Clasificación Datos Personales]]=\"privado\")),\"Alto\",IF(AND(Tabla2[[#This Row],[Contiene Datos Personales]]=\"SÍ\",Tabla2[[#This Row],[Clasificación Datos Personales]]=\"SEMIPRIVADO\"),\"Medio\",\"Bajo\")),\"\")","v":"Bajo"},null,null,"No Aplica","No Aplica",null,null,null,{"$f":"+IF(Tabla2[[#This Row],[Integridad]]=\"Grave\",0.5,IF(Tabla2[[#This Row],[Integridad]]=\"Importante\",0.3,IF(Tabla2[[#This Row],[Integridad]]=\"Leve\",0.2,\"\")))","v":""},null,{"$f":"+IF(Tabla2[[#This Row],[Disponibilidad Interna]]=\"Sí\",0.1,IF(Tabla2[[#This Row],[Disponibilidad Interna]]=\"NO\",0,\"\"))","v":""},null,{"$f":"+IF(Tabla2[[#This Row],[Disponibilidad Terceros]]=\"Sí\",0.1,IF(Tabla2[[#This Row],[Disponibilidad Terceros]]=\"No\",0,\"\"))","v":""},{"$f":"+Tabla2[[#This Row],[Columna32]]+Tabla2[[#This Row],[Columna34]]+Tabla2[[#This Row],[Columna1]]+Tabla2[[#This Row],[Columna3]]","v":{"$error":"#VALUE!"}},{"$f":"IFERROR(IF(Tabla2[[#This Row],[Columna33]]<0.45,\"BAJA\",IF(Tabla2[[#This Row],[Columna33]]>0.75,\"ALTA\",\"MEDIA\")),\"\")","v":""},"No Aplica",{"$f":"+IF(Tabla2[[#This Row],[Información Publicada (WEB)]]=\"Sí\",\"Digite URL\",\"No Aplica\")","v":"No Aplica"},null,{"$f":"IF(Tabla2[[#This Row],[ Clasificación ICBF]]=\"Pública\",1,IF(Tabla2[[#This Row],[ Clasificación ICBF]]=\"Clasificada\",2,IF(Tabla2[[#This Row],[ Clasificación ICBF]]=\"Reservada\",3,0)))","v":0},{"$f":"IF(#REF!=8,4,IF(#REF!=16,3,IF(#REF!=24,2,IF(#REF!=48,1,0))))","v":{"$error":"#REF!"}},{"$f":"IF(#REF!=8,\"Alto\",IF(#REF!=16,\"Medio\",IF(#REF!=24,\"Medio\",IF(#REF!=48,\"Bajo\",0))))","v":{"$error":"#REF!"}},null,{"$f":"+MID(Tabla2[[#This Row],[Área/Dependencia]],17,8)","v":""}]
["",null,null,null,{"$f":"+VLOOKUP(Tabla2[[#This Row],[SEDE - REGIONAL]],DATOS!B15:D48,3,FALSE)","v":{"$error":"#N/A"}},{"$f":"+IF(OR(Tabla2[[#This Row],[Área/Dependencia]]=\"Subdirección de Sistemas Integrados\",Tabla2[[#This Row],[Área/Dependencia]]=\"Subdirección de Recursos Tecnológicos\"),\"X\",\"\")","v":""},{"$f":"+CONCATENATE(Tabla2[[#This Row],[Tipo de Proceso]],Tabla2[[#This Row],[Columna4]])","v":{"$error":"#N/A"}},null,null,null,null,null,null,null,null,null,null,null,null,null,{"$f":"+IF(Tabla2[[#This Row],[Nivel de acceso ]]=\"Alto\",0.5,IF(Tabla2[[#This Row],[Nivel de acceso ]]=\"Medio\",0.3,IF(Tabla2[[#This Row],[Nivel de acceso ]]=\"Bajo\",0.2,\"\")))","v":""},null,{"$f":"+IF(Tabla2[[#This Row],[Es  Reservada]]=\"Sí\",\"Escriba Ley\",\"No Aplica\")","v":"No Aplica"},null,null,null,null,{"$f":"IFERROR(IF(AND(Tabla2[[#This Row],[Contiene Datos Personales]]=\"SÍ\",OR(Tabla2[[#This Row],[Clasificación Datos Personales]]=\"Sensible\",Tabla2[[#This Row],[Clasificación Datos Personales]]=\"NNA\",Tabla2[[#This Row],[Clasificación Datos Personales]]=\"privado\")),\"Alto\",IF(AND(Tabla2[[#This Row],[Contiene Datos Personales]]=\"SÍ\",Tabla2[[#This Row],[Clasificación Datos Personales]]=\"SEMIPRIVADO\"),\"Medio\",\"Bajo\")),\"\")","v":"Bajo"},null,null,"No Aplica","No Aplica",null,null,null,{"$f":"+IF(Tabla2[[#This Row],[Integridad]]=\"Grave\",0.5,IF(Tabla2[[#This Row],[Integridad]]=\"Importante\",0.3,IF(Tabla2[[#This Row],[Integridad]]=\"Leve\",0.2,\"\")))","v":""},null,{"$f":"+IF(Tabla2[[#This Row],[Disponibilidad Interna]]=\"Sí\",0.1,IF(Tabla2[[#This Row],[Disponibilidad Interna]]=\"NO\",0,\"\"))","v":""},null,{"$f":"+IF(Tabla2[[#This Row],[Disponibilidad Terceros]]=\"Sí\",0.1,IF(Tabla2[[#This Row],[Disponibilidad Terceros]]=\"No\",0,\"\"))","v":""},{"$f":"+Tabla2[[#This Row],[Columna32]]+Tabla2[[#This Row],[Columna34]]+Tabla2[[#This Row],[Columna1]]+Tabla2[[#This Row],[Columna3]]","v":{"$error":"#VALUE!"}},{"$f":"IFERROR(IF(Tabla2[[#This Row],[Columna33]]<0.45,\"BAJA\",IF(Tabla2[[#This Row],[Columna33]]>0.75,\"ALTA\",\"MEDIA\")),\"\")","v":""},"No Aplica",{"$f":"+IF(Tabla2[[#This Row],[Información Publicada (WEB)]]=\"Sí\",\"Digite URL\",\"No Aplica\")","v":"No Aplica"},null,{"$f":"IF(Tabla2[[#This Row],[ Clasificación ICBF]]=\"Pública\",1,IF(Tabla2[[#This Row],[ Clasificación ICBF]]=\"Clasificada\",2,IF(Tabla2[[#This Row],[ Clasificación ICBF]]=\"Reservada\",3,0)))","v":0},{"$f":"IF(#REF!=8,4,IF(#REF!=16,3,IF(#REF!=24,2,IF(#REF!=48,1,0))))","v":{"$error":"#REF!"}},{"$f":"IF(#REF!=8,\"Alto\",IF(#REF!=16,\"Medio\",IF(#REF!=24,\"Medio\",IF(#REF!=48,\"Bajo\",0))))","v":{"$error":"#REF!"}},null,{"$f":"+MID(Tabla2[[#This Row],[Área/Dependencia]],17,8)","v":""}]
["",null,null,null,{"$f":"+VLOOKUP(Tabla2[[#This Row],[SEDE - REGIONAL]],DATOS!B16:D49,3,FALSE)","v":{"$error":"#N/A"}},{"$f":"+IF(OR(Tabla2[[#This Row],[Área/Dependencia]]=\"Subdirección de Sistemas Integrados\",Tabla2[[#This Row],[Área/Dependencia]]=\"Subdirección de Recursos Tecnológicos\"),\"X\",\"\")","v":""},{"$f":"+CONCATENATE(Tabla2[[#This Row],[Tipo de Proceso]],Tabla2[[#This Row],[Columna4]])","v":{"$error":"#N/A"}},null,null,null,null,null,null,null,null,null,null,null,null,null,{"$f":"+IF(Tabla2[[#This Row],[Nivel de acceso ]]=\"Alto\",0.5,IF(Tabla2[[#This Row],[Nivel de acceso ]]=\"Medio\",0.3,IF(Tabla2[[#This Row],[Nivel de acceso ]]=\"Bajo\",0.2,\"\")))","v":""},null,{"$f":"+IF(Tabla2[[#This Row],[Es  Reservada]]=\"Sí\",\"Escriba Ley\",\"No Aplica\")","v":"No Aplica"},null,null,null,null,{"$f":"IFERROR(IF(AND(Tabla2[[#This Row],[Contiene Datos Personales]]=\"SÍ\",OR(Tabla2[[#This Row],[Clasificación Datos Personales]]=\"Sensible\",Tabla2[[#This Row],[Clasificación Datos Personales]]=\"NNA\",Tabla2[[#This Row],[Clasificación Datos Personales]]=\"privado\")),\"Alto\",IF(AND(Tabla2[[#This Row],[Contiene Datos Personales]]=\"SÍ\",Tabla2[[#This Row],[Clasificación Datos Personales]]=\"SEMIPRIVADO\"),\"Medio\",\"Bajo\")),\"\")","v":"Bajo"},null,null,"No Aplica","No Aplica",null,null,null,{"$f":"+IF(Tabla2[[#This Row],[Integridad]]=\"Grave\",0.5,IF(Tabla2[[#This Row],[Integridad]]=\"Importante\",0.3,IF(Tabla2[[#This Row],[Integridad]]=\"Leve\",0.2,\"\")))","v":""},null,{"$f":"+IF(Tabla2[[#This Row],[Disponibilidad Interna]]=\"Sí\",0.1,IF(Tabla2[[#This Row],[Disponibilidad Interna]]=\"NO\",0,\"\"))","v":""},null,{"$f":"+IF(Tabla2[[#This Row],[Disponibilidad Terceros]]=\"Sí\",0.1,IF(Tabla2[[#This Row],[Disponibilidad Terceros]]=\"No\",0,\"\"))","v":""},{"$f":"+Tabla2[[#This Row],[Columna32]]+Tabla2[[#This Row],[Columna34]]+Tabla2[[#This Row],[Columna1]]+Tabla2[[#This Row],[Columna3]]","v":{"$error":"#VALUE!"}},{"$f":"IFERROR(IF(Tabla2[[#This Row],[Columna33]]<0.45,\"BAJA\",IF(Tabla2[[#This Row],[Columna33]]>0.75,\"ALTA\",\"MEDIA\")),\"\")","v":""},"No Aplica",{"$f":"+IF(Tabla2[[#This Row],[Información Publicada (WEB)]]=\"Sí\",\"Digite URL\",\"No Aplica\")","v":"No Aplica"},null,{"$f":"IF(Tabla2[[#This Row],[ Clasificación ICBF]]=\"Pública\",1,IF(Tabla2[[#This Row],[ Clasificación ICBF]]=\"Clasificada\",2,IF(Tabla2[[#This Row],[ Clasificación ICBF]]=\"Reservada\",3,0)))","v":0},{"$f":"IF(#REF!=8,4,IF(#REF!=16,3,IF(#REF!=24,2,IF(#REF!=48,1,0))))","v":{"$error":"#REF!"}},{"$f":"IF(#REF!=8,\"Alto\",IF(#REF!=16,\"Medio\",IF(#REF!=24,\"Medio\",IF(#REF!=48,\"Bajo\",0))))","v":{"$error":"#REF!"}},null,{"$f":"+MID(Tabla2[[#This Row],[Área/Dependencia]],17,8)","v":""}]
["",null,null,null,{"$f":"+VLOOKUP(Tabla2[[#This Row],[SEDE - REGIONAL]],DATOS!B17:D50,3,FALSE)","v":{"$error":"#N/A"}},{"$f":"+IF(OR(Tabla2[[#This Row],[Área/Dependencia]]=\"Subdirección de Sistemas Integrados\",Tabla2[[#This Row],[Área/Dependencia]]=\"Subdirección de Recursos Tecnológicos\"),\"X\",\"\")","v":""},{"$f":"+CONCATENATE(Tabla2[[#This Row],[Tipo de Proceso]],Tabla2[[#This Row],[Columna4]])","v":{"$error":"#N/A"}},null,null,null,null,null,null,null,null,null,null,null,null,null,{"$f":"+IF(Tabla2[[#This Row],[Nivel de acceso ]]=\"Alto\",0.5,IF(Tabla2[[#This Row],[Nivel de acceso ]]=\"Medio\",0.3,IF(Tabla2[[#This Row],[Nivel de acceso ]]=\"Bajo\",0.2,\"\")))","v":""},null,{"$f":"+IF(Tabla2[[#This Row],[Es  Reservada]]=\"Sí\",\"Escriba Ley\",\"No Aplica\")","v":"No Aplica"},null,null,null,null,{"$f":"IFERROR(IF(AND(Tabla2[[#This Row],[Contiene Datos Personales]]=\"SÍ\",OR(Tabla2[[#This Row],[Clasificación Datos Personales]]=\"Sensible\",Tabla2[[#This Row],[Clasificación Datos Personales]]=\"NNA\",Tabla2[[#This Row],[Clasificación Datos Personales]]=\"privado\")),\"Alto\",IF(AND(Tabla2[[#This Row],[Contiene Datos Personales]]=\"SÍ\",Tabla2[[#This Row],[Clasificación Datos Personales]]=\"SEMIPRIVADO\"),\"Medio\",\"Bajo\")),\"\")","v":"Bajo"},null,null,"No Aplica","No Aplica",null,null,null,{"$f":"+IF(Tabla2[[#This Row],[Integridad]]=\"Grave\",0.5,IF(Tabla2[[#This Row],[Integridad]]=\"Importante\",0.3,IF(Tabla2[[#This Row],[Integridad]]=\"Leve\",0.2,\"\")))","v":""},null,{"$f":"+IF(Tabla2[[#This Row],[Disponibilidad Interna]]=\"Sí\",0.1,IF(Tabla2[[#This Row],[Disponibilidad Interna]]=\"NO\",0,\"\"))","v":""},null,{"$f":"+IF(Tabla2[[#This Row],[Disponibilidad Terceros]]=\"Sí\",0.1,IF(Tabla2[[#This Row],[Disponibilidad Terceros]]=\"No\",0,\"\"))","v":""},{"$f":"+Tabla2[[#This Row],[Columna32]]+Tabla2[[#This Row],[Columna34]]+Tabla2[[#This Row],[Columna1]]+Tabla2[[#This Row],[Columna3]]","v":{"$error":"#VALUE!"}},{"$f":"IFERROR(IF(Tabla2[[#This Row],[Columna33]]<0.45,\"BAJA\",IF(Tabla2[[#This Row],[Columna33]]>0.75,\"ALTA\",\"MEDIA\")),\"\")","v":""},"No Aplica",{"$f":"+IF(Tabla2[[#This Row],[Información Publicada (WEB)]]=\"Sí\",\"Digite URL\",\"No Aplica\")","v":"No Aplica"},null,{"$f":"IF(Tabla2[[#This Row],[ Clasificación ICBF]]=\"Pública\",1,IF(Tabla2[[#This Row],[ Clasificación ICBF]]=\"Clasificada\",2,IF(Tabla2[[#This Row],[ Clasificación ICBF]]=\"Reservada\",3,0)))","v":0},{"$f":"IF(#REF!=8,4,IF(#REF!=16,3,IF(#REF!=24,2,IF(#REF!=48,1,0))))","v":{"$error":"#REF!"}},{"$f":"IF(#REF!=8,\"Alto\",IF(#REF!=16,\"Medio\",IF(#REF!=24,\"Medio\",IF(#REF!=48,\"Bajo\",0))))","v":{"$error":"#REF!"}},null,{"$f":"+MID(Tabla2[[#This Row],[Área/Dependencia]],17,8)","v":""}]
["",null,null,null,{"$f":"+VLOOKUP(Tabla2[[#This Row],[SEDE - REGIONAL]],DATOS!B18:D51,3,FALSE)","v":{"$error":"#N/A"}},{"$f":"+IF(OR(Tabla2[[#This Row],[Área/Dependencia]]=\"Subdirección de Sistemas Integrados\",Tabla2[[#This Row],[Área/Dependencia]]=\"Subdirección de Recursos Tecnológicos\"),\"X\",\"\")","v":""},{"$f":"+CONCATENATE(Tabla2[[#This Row],[Tipo de Proceso]],Tabla2[[#This Row],[Columna4]])","v":{"$error":"#N/A"}},null,null,null,null,null,null,null,null,null,null,null,null,null,{"$f":"+IF(Tabla2[[#This Row],[Nivel de acceso ]]=\"Alto\",0.5,IF(Tabla2[[#This Row],[Nivel de acceso ]]=\"Medio\",0.3,IF(Tabla2[[#This Row],[Nivel de acceso ]]=\"Bajo\",0.2,\"\")))","v":""},null,{"$f":"+IF(Tabla2[[#This Row],[Es  Reservada]]=\"Sí\",\"Escriba Ley\",\"No Aplica\")","v":"No Aplica"},null,null,null,null,{"$f":"IFERROR(IF(AND(Tabla2[[#This Row],[Contiene Datos Personales]]=\"SÍ\",OR(Tabla2[[#This Row],[Clasificación Datos Personales]]=\"Sensible\",Tabla2[[#This Row],[Clasificación Datos Personales]]=\"NNA\",Tabla2[[#This Row],[Clasificación Datos Personales]]=\"privado\")),\"Alto\",IF(AND(Tabla2[[#This Row],[Contiene Datos Personales]]=\"SÍ\",Tabla2[[#This Row],[Clasificación Datos Personales]]=\"SEMIPRIVADO\"),\"Medio\",\"Bajo\")),\"\")","v":"Bajo"},null,null,"No Aplica","No Aplica",null,null,null,{"$f":"+IF(Tabla2[[#This Row],[Integridad]]=\"Grave\",0.5,IF(Tabla2[[#This Row],[Integridad]]=\"Importante\",0.3,IF(Tabla2[[#This Row],[Integridad]]=\"Leve\",0.2,\"\")))","v":""},null,{"$f":"+IF(Tabla2[[#This Row],[Disponibilidad Interna]]=\"Sí\",0.1,IF(Tabla2[[#This Row],[Disponibilidad Interna]]=\"NO\",0,\"\"))","v":""},null,{"$f":"+IF(Tabla2[[#This Row],[Disponibilidad Terceros]]=\"Sí\",0.1,IF(Tabla2[[#This Row],[Disponibilidad Terceros]]=\"No\",0,\"\"))","v":""},{"$f":"+Tabla2[[#This Row],[Columna32]]+Tabla2[[#This Row],[Columna34]]+Tabla2[[#This Row],[Columna1]]+Tabla2[[#This Row],[Columna3]]","v":{"$error":"#VALUE!"}},{"$f":"IFERROR(IF(Tabla2[[#This Row],[Columna33]]<0.45,\"BAJA\",IF(Tabla2[[#This Row],[Columna33]]>0.75,\"ALTA\",\"MEDIA\")),\"\")","v":""},"No Aplica",{"$f":"+IF(Tabla2[[#This Row],[Información Publicada (WEB)]]=\"Sí\",\"Digite URL\",\"No Aplica\")","v":"No Aplica"},null,{"$f":"IF(Tabla2[[#This Row],[ Clasificación ICBF]]=\"Pública\",1,IF(Tabla2[[#This Row],[ Clasificación ICBF]]=\"Clasificada\",2,IF(Tabla2[[#This Row],[ Clasificación ICBF]]=\"Reservada\",3,0)))","v":0},{"$f":"IF(#REF!=8,4,IF(#REF!=16,3,IF(#REF!=24,2,IF(#REF!=48,1,0))))","v":{"$error":"#REF!"}},{"$f":"IF(#REF!=8,\"Alto\",IF(#REF!=16,\"Medio\",IF(#REF!=24,\"Medio\",IF(#REF!=48,\"Bajo\",0))))","v":{"$error":"#REF!"}},null,{"$f":"+MID(Tabla2[[#This Row],[Área/Dependencia]],17,8)","v":""}]
["",null,null,null,{"$f":"+VLOOKUP(Tabla2[[#This Row],[SEDE - REGIONAL]],DATOS!B19:D52,3,FALSE)","v":{"$error":"#N/A"}},{"$f":"+IF(OR(Tabla2[[#This Row],[Área/Dependencia]]=\"Subdirección de Sistemas Integrados\",Tabla2[[#This Row],[Área/Dependencia]]=\"Subdirección de Recursos Tecnológicos\"),\"X\",\"\")","v":""},{"$f":"+CONCATENATE(Tabla2[[#This Row],[Tipo de Proceso]],Tabla2[[#This Row],[Columna4]])","v":{"$error":"#N/A"}},null,null,null,null,null,null,null,null,null,null,null,null,null,{"$f":"+IF(Tabla2[[#This Row],[Nivel de acceso ]]=\"Alto\",0.5,IF(Tabla2[[#This Row],[Nivel de acceso ]]=\"Medio\",0.3,IF(Tabla2[[#This Row],[Nivel de acceso ]]=\"Bajo\",0.2,\"\")))","v":""},null,{"$f":"+IF(Tabla2[[#This Row],[Es  Reservada]]=\"Sí\",\"Escriba Ley\",\"No Aplica\")","v":"No Aplica"},null,null,null,null,{"$f":"IFERROR(IF(AND(Tabla2[[#This Row],[Contiene Datos Personales]]=\"SÍ\",OR(Tabla2[[#This Row],[Clasificación Datos Personales]]=\"Sensible\",Tabla2[[#This Row],[Clasificación Datos Personales]]=\"NNA\",Tabla2[[#This Row],[Clasificación Datos Personales]]=\"privado\")),\"Alto\",IF(AND(Tabla2[[#This Row],[Contiene Datos Personales]]=\"SÍ\",Tabla2[[#This Row],[Clasificación Datos Personales]]=\"SEMIPRIVADO\"),\"Medio\",\"Bajo\")),\"\")","v":"Bajo"},null,null,"No Aplica","No Aplica",null,null,null,{"$f":"+IF(Tabla2[[#This Row],[Integridad]]=\"Grave\",0.5,IF(Tabla2[[#This Row],[Integridad]]=\"Importante\",0.3,IF(Tabla2[[#This Row],[Integridad]]=\"Leve\",0.2,\"\")))","v":""},null,{"$f":"+IF(Tabla2[[#This Row],[Disponibilidad Interna]]=\"Sí\",0.1,IF(Tabla2[[#This Row],[Disponibilidad Interna]]=\"NO\",0,\"\"))","v":""},null,{"$f":"+IF(Tabla2[[#This Row],[Disponibilidad Terceros]]=\"Sí\",0.1,IF(Tabla2[[#This Row],[Disponibilidad Terceros]]=\"No\",0,\"\"))","v":""},{"$f":"+Tabla2[[#This Row],[Columna32]]+Tabla2[[#This Row],[Columna34]]+Tabla2[[#This Row],[Columna1]]+Tabla2[[#This Row],[Columna3]]","v":{"$error":"#VALUE!"}},{"$f":"IFERROR(IF(Tabla2[[#This Row],[Columna33]]<0.45,\"BAJA\",IF(Tabla2[[#This Row],[Columna33]]>0.75,\"ALTA\",\"MEDIA\")),\"\")","v":""},"No Aplica",{"$f":"+IF(Tabla2[[#This Row],[Información Publicada (WEB)]]=\"Sí\",\"Digite URL\",\"No Aplica\")","v":"No Aplica"},null,{"$f":"IF(Tabla2[[#This Row],[ Clasificación ICBF]]=\"Pública\",1,IF(Tabla2[[#This Row],[ Clasificación ICBF]]=\"Clasificada\",2,IF(Tabla2[[#This Row],[ Clasificación ICBF]]=\"Reservada\",3,0)))","v":0},{"$f":"IF(#REF!=8,4,IF(#REF!=16,3,IF(#REF!=24,2,IF(#REF!=48,1,0))))","v":{"$error":"#REF!"}},{"$f":"IF(#REF!=8,\"Alto\",IF(#REF!=16,\"Medio\",IF(#REF!=24,\"Medio\",IF(#REF!=48,\"Bajo\",0))))","v":{"$error":"#REF!"}},null,{"$f":"+MID(Tabla2[[#This Row],[Área/Dependencia]],17,8)","v":""}]
["",null,null,null,{"$f":"+VLOOKUP(Tabla2[[#This Row],[SEDE - REGIONAL]],DATOS!B20:D53,3,FALSE)","v":{"$error":"#N/A"}},{"$f":"+IF(OR(Tabla2[[#This Row],[Área/Dependencia]]=\"Subdirección de Sistemas Integrados\",Tabla2[[#This Row],[Área/Dependencia]]=\"Subdirección de Recursos Tecnológicos\"),\"X\",\"\")","v":""},{"$f":"+CONCATENATE(Tabla2[[#This Row],[Tipo de Proceso]],Tabla2[[#This Row],[Columna4]])","v":{"$error":"#N/A"}},null,null,null,null,null,null,null,null,null,null,null,null,null,{"$f":"+IF(Tabla2[[#This Row],[Nivel de acceso ]]=\"Alto\",0.5,IF(Tabla2[[#This Row],[Nivel de acceso ]]=\"Medio\",0.3,IF(Tabla2[[#This Row],[Nivel de acceso ]]=\"Bajo\",0.2,\"\")))","v":""},null,{"$f":"+IF(Tabla2[[#This Row],[Es  Reservada]]=\"Sí\",\"Escriba Ley\",\"No Aplica\")","v":"No Aplica"},null,null,null,null,{"$f":"IFERROR(IF(AND(Tabla2[[#This Row],[Contiene Datos Personales]]=\"SÍ\",OR(Tabla2[[#This Row],[Clasificación Datos Personales]]=\"Sensible\",Tabla2[[#This Row],[Clasificación Datos Personales]]=\"NNA\",Tabla2[[#This Row],[Clasificación Datos Personales]]=\"privado\")),\"Alto\",IF(AND(Tabla2[[#This Row],[Contiene Datos Personales]]=\"SÍ\",Tabla2[[#This Row],[Clasificación Datos Personales]]=\"SEMIPRIVADO\"),\"Medio\",\"Bajo\")),\"\")","v":"Bajo"},null,null,"No Aplica","No Aplica",null,null,null,{"$f":"+IF(Tabla2[[#This Row],[Integridad]]=\"Grave\",0.5,IF(Tabla2[[#This Row],[Integridad]]=\"Importante\",0.3,IF(Tabla2[[#This Row],[Integridad]]=\"Leve\",0.2,\"\")))","v":""},null,{"$f":"+IF(Tabla2[[#This Row],[Disponibilidad Interna]]=\"Sí\",0.1,IF(Tabla2[[#This Row],[Disponibilidad Interna]]=\"NO\",0,\"\"))","v":""},null,{"$f":"+IF(Tabla2[[#This Row],[Disponibilidad Terceros]]=\"Sí\",0.1,IF(Tabla2[[#This Row],[Disponibilidad Terceros]]=\"No\",0,\"\"))","v":""},{"$f":"+Tabla2[[#This Row],[Columna32]]+Tabla2[[#This Row],[Columna34]]+Tabla2[[#This Row],[Columna1]]+Tabla2[[#This Row],[Columna3]]","v":{"$error":"#VALUE!"}},{"$f":"IFERROR(IF(Tabla2[[#This Row],[Columna33]]<0.45,\"BAJA\",IF(Tabla2[[#This Row],[Columna33]]>0.75,\"ALTA\",\"MEDIA\")),\"\")","v":""},"No Aplica",{"$f":"+IF(Tabla2[[#This Row],[Información Publicada (WEB)]]=\"Sí\",\"Digite URL\",\"No Aplica\")","v":"No Aplica"},null,{"$f":"IF(Tabla2[[#This Row],[ Clasificación ICBF]]=\"Pública\",1,IF(Tabla2[[#This Row],[ Clasificación ICBF]]=\"Clasificada\",2,IF(Tabla2[[#This Row],[ Clasificación ICBF]]=\"Reservada\",3,0)))","v":0},{"$f":"IF(#REF!=8,4,IF(#REF!=16,3,IF(#REF!=24,2,IF(#REF!=48,1,0))))","v":{"$error":"#REF!"}},{"$f":"IF(#REF!=8,\"Alto\",IF(#REF!=16,\"Medio\",IF(#REF!=24,\"Medio\",IF(#REF!=48,\"Bajo\",0))))","v":{"$error":"#REF!"}},null,{"$f":"+MID(Tabla2[[#This Row],[Área/Dependencia]],17,8)","v":""}]
["",null,null,null,{"$f":"+VLOOKUP(Tabla2[[#This Row],[SEDE - REGIONAL]],DATOS!B21:D54,3,FALSE)","v":{"$error":"#N/A"}},{"$f":"+IF(OR(Tabla2[[#This Row],[Área/Dependencia]]=\"Subdirección de Sistemas Integrados\",Tabla2[[#This Row],[Área/Dependencia]]=\"Subdirección de Recursos Tecnológicos\"),\"X\",\"\")","v":""},{"$f":"+CONCATENATE(Tabla2[[#This Row],[Tipo de Proceso]],Tabla2[[#This Row],[Columna4]])","v":{"$error":"#N/A"}},null,null,null,null,null,null,null,null,null,null,null,null,null,{"$f":"+IF(Tabla2[[#This Row],[Nivel de acceso ]]=\"Alto\",0.5,IF(Tabla2[[#This Row],[Nivel de acceso ]]=\"Medio\",0.3,IF(Tabla2[[#This Row],[Nivel de acceso ]]=\"Bajo\",0.2,\"\")))","v":""},null,{"$f":"+IF(Tabla2[[#This Row],[Es  Reservada]]=\"Sí\",\"Escriba Ley\",\"No Aplica\")","v":"No Aplica"},null,null,null,null,{"$f":"IFERROR(IF(AND(Tabla2[[#This Row],[Contiene Datos Personales]]=\"SÍ\",OR(Tabla2[[#This Row],[Clasificación Datos Personales]]=\"Sensible\",Tabla2[[#This Row],[Clasificación Datos Personales]]=\"NNA\",Tabla2[[#This Row],[Clasificación Datos Personales]]=\"privado\")),\"Alto\",IF(AND(Tabla2[[#This Row],[Contiene Datos Personales]]=\"SÍ\",Tabla2[[#This Row],[Clasificación Datos Personales]]=\"SEMIPRIVADO\"),\"Medio\",\"Bajo\")),\"\")","v":"Bajo"},null,null,"No Aplica","No Aplica",null,null,null,{"$f":"+IF(Tabla2[[#This Row],[Integridad]]=\"Grave\",0.5,IF(Tabla2[[#This Row],[Integridad]]=\"Importante\",0.3,IF(Tabla2[[#This Row],[Integridad]]=\"Leve\",0.2,\"\")))","v":""},null,{"$f":"+IF(Tabla2[[#This Row],[Disponibilidad Interna]]=\"Sí\",0.1,IF(Tabla2[[#This Row],[Disponibilidad Interna]]=\"NO\",0,\"\"))","v":""},null,{"$f":"+IF(Tabla2[[#This Row],[Disponibilidad Terceros]]=\"Sí\",0.1,IF(Tabla2[[#This Row],[Disponibilidad Terceros]]=\"No\",0,\"\"))","v":""},{"$f":"+Tabla2[[#This Row],[Columna32]]+Tabla2[[#This Row],[Columna34]]+Tabla2[[#This Row],[Columna1]]+Tabla2[[#This Row],[Columna3]]","v":{"$error":"#VALUE!"}},{"$f":"IFERROR(IF(Tabla2[[#This Row],[Columna33]]<0.45,\"BAJA\",IF(Tabla2[[#This Row],[Columna33]]>0.75,\"ALTA\",\"MEDIA\")),\"\")","v":""},"No Aplica",{"$f":"+IF(Tabla2[[#This Row],[Información Publicada (WEB)]]=\"Sí\",\"Digite URL\",\"No Aplica\")","v":"No Aplica"},null,{"$f":"IF(Tabla2[[#This Row],[ Clasificación ICBF]]=\"Pública\",1,IF(Tabla2[[#This Row],[ Clasificación ICBF]]=\"Clasificada\",2,IF(Tabla2[[#This Row],[ Clasificación ICBF]]=\"Reservada\",3,0)))","v":0},{"$f":"IF(#REF!=8,4,IF(#REF!=16,3,IF(#REF!=24,2,IF(#REF!=48,1,0))))","v":{"$error":"#REF!"}},{"$f":"IF(#REF!=8,\"Alto\",IF(#REF!=16,\"Medio\",IF(#REF!=24,\"Medio\",IF(#REF!=48,\"Bajo\",0))))","v":{"$error":"#REF!"}},null,{"$f":"+MID(Tabla2[[#This Row],[Área/Dependencia]],17,8)","v":""}]
["",null,null,null,{"$f":"+VLOOKUP(Tabla2[[#This Row],[SEDE - REGIONAL]],DATOS!B22:D55,3,FALSE)","v":{"$error":"#N/A"}},{"$f":"+IF(OR(Tabla2[[#This Row],[Área/Dependencia]]=\"Subdirección de Sistemas Integrados\",Tabla2[[#This Row],[Área/Dependencia]]=\"Subdirección de Recursos Tecnológicos\"),\"X\",\"\")","v":""},{"$f":"+CONCATENATE(Tabla2[[#This Row],[Tipo de Proceso]],Tabla2[[#This Row],[Columna4]])","v":{"$error":"#N/A"}},null,null,null,null,null,null,null,null,null,null,null,null,null,{"$f":"+IF(Tabla2[[#This Row],[Nivel de acceso ]]=\"Alto\",0.5,IF(Tabla2[[#This Row],[Nivel de acceso ]]=\"Medio\",0.3,IF(Tabla2[[#This Row],[Nivel de acceso ]]=\"Bajo\",0.2,\"\")))","v":""},null,{"$f":"+IF(Tabla2[[#This Row],[Es  Reservada]]=\"Sí\",\"Escriba Ley\",\"No Aplica\")","v":"No Aplica"},null,null,null,null,{"$f":"IFERROR(IF(AND(Tabla2[[#This Row],[Contiene Datos Personales]]=\"SÍ\",OR(Tabla2[[#This Row],[Clasificación Datos Personales]]=\"Sensible\",Tabla2[[#This Row],[Clasificación Datos Personales]]=\"NNA\",Tabla2[[#This Row],[Clasificación Datos Personales]]=\"privado\")),\"Alto\",IF(AND(Tabla2[[#This Row],[Contiene Datos Personales]]=\"SÍ\",Tabla2[[#This Row],[Clasificación Datos Personales]]=\"SEMIPRIVADO\"),\"Medio\",\"Bajo\")),\"\")","v":"Bajo"},null,null,"No Aplica","No Aplica",null,null,null,{"$f":"+IF(Tabla2[[#This Row],[Integridad]]=\"Grave\",0.5,IF(Tabla2[[#This Row],[Integridad]]=\"Importante\",0.3,IF(Tabla2[[#This Row],[Integridad]]=\"Leve\",0.2,\"\")))","v":""},null,{"$f":"+IF(Tabla2[[#This Row],[Disponibilidad Interna]]=\"Sí\",0.1,IF(Tabla2[[#This Row],[Disponibilidad Interna]]=\"NO\",0,\"\"))","v":""},null,{"$f":"+IF(Tabla2[[#This Row],[Disponibilidad Terceros]]=\"Sí\",0.1,IF(Tabla2[[#This Row],[Disponibilidad Terceros]]=\"No\",0,\"\"))","v":""},{"$f":"+Tabla2[[#This Row],[Columna32]]+Tabla2[[#This Row],[Columna34]]+Tabla2[[#This Row],[Columna1]]+Tabla2[[#This Row],[Columna3]]","v":{"$error":"#VALUE!"}},{"$f":"IFERROR(IF(Tabla2[[#This Row],[Columna33]]<0.45,\"BAJA\",IF(Tabla2[[#This Row],[Columna33]]>0.75,\"ALTA\",\"MEDIA\")),\"\")","v":""},"No Aplica",{"$f":"+IF(Tabla2[[#This Row],[Información Publicada (WEB)]]=\"Sí\",\"Digite URL\",\"No Aplica\")","v":"No Aplica"},null,{"$f":"IF(Tabla2[[#This Row],[ Clasificación ICBF]]=\"Pública\",1,IF(Tabla2[[#This Row],[ Clasificación ICBF]]=\"Clasificada\",2,IF(Tabla2[[#This Row],[ Clasificación ICBF]]=\"Reservada\",3,0)))","v":0},{"$f":"IF(#REF!=8,4,IF(#REF!=16,3,IF(#REF!=24,2,IF(#REF!=48,1,0))))","v":{"$error":"#REF!"}},{"$f":"IF(#REF!=8,\"Alto\",IF(#REF!=16,\"Medio\",IF(#REF!=24,\"Medio\",IF(#REF!=48,\"Bajo\",0))))","v":{"$error":"#REF!"}},null,{"$f":"+MID(Tabla2[[#This Row],[Área/Dependencia]],17,8)","v":""}]
["",null,null,null,{"$f":"+VLOOKUP(Tabla2[[#This Row],[SEDE - REGIONAL]],DATOS!B23:D56,3,FALSE)","v":{"$error":"#N/A"}},{"$f":"+IF(OR(Tabla2[[#This Row],[Área/Dependencia]]=\"Subdirección de Sistemas Integrados\",Tabla2[[#This Row],[Área/Dependencia]]=\"Subdirección de Recursos Tecnológicos\"),\"X\",\"\")","v":""},{"$f":"+CONCATENATE(Tabla2[[#This Row],[Tipo de Proceso]],Tabla2[[#This Row],[Columna4]])","v":{"$error":"#N/A"}},null,null,null,null,null,null,null,null,null,null,null,null,null,{"$f":"+IF(Tabla2[[#This Row],[Nivel de acceso ]]=\"Alto\",0.5,IF(Tabla2[[#This Row],[Nivel de acceso ]]=\"Medio\",0.3,IF(Tabla2[[#This Row],[Nivel de acceso ]]=\"Bajo\",0.2,\"\")))","v":""},null,{"$f":"+IF(Tabla2[[#This Row],[Es  Reservada]]=\"Sí\",\"Escriba Ley\",\"No Aplica\")","v":"No Aplica"},null,null,null,null,{"$f":"IFERROR(IF(AND(Tabla2[[#This Row],[Contiene Datos Personales]]=\"SÍ\",OR(Tabla2[[#This Row],[Clasificación Datos Personales]]=\"Sensible\",Tabla2[[#This Row],[Clasificación Datos Personales]]=\"NNA\",Tabla2[[#This Row],[Clasificación Datos Personales]]=\"privado\")),\"Alto\",IF(AND(Tabla2[[#This Row],[Contiene Datos Personales]]=\"SÍ\",Tabla2[[#This Row],[Clasificación Datos Personales]]=\"SEMIPRIVADO\"),\"Medio\",\"Bajo\")),\"\")","v":"Bajo"},null,null,"No Aplica","No Aplica",null,null,null,{"$f":"+IF(Tabla2[[#This Row],[Integridad]]=\"Grave\",0.5,IF(Tabla2[[#This Row],[Integridad]]=\"Importante\",0.3,IF(Tabla2[[#This Row],[Integridad]]=\"Leve\",0.2,\"\")))","v":""},null,{"$f":"+IF(Tabla2[[#This Row],[Disponibilidad Interna]]=\"Sí\",0.1,IF(Tabla2[[#This Row],[Disponibilidad Interna]]=\"NO\",0,\"\"))","v":""},null,{"$f":"+IF(Tabla2[[#This Row],[Disponibilidad Terceros]]=\"Sí\",0.1,IF(Tabla2[[#This Row],[Disponibilidad Terceros]]=\"No\",0,\"\"))","v":""},{"$f":"+Tabla2[[#This Row],[Columna32]]+Tabla2[[#This Row],[Columna34]]+Tabla2[[#This Row],[Columna1]]+Tabla2[[#This Row],[Columna3]]","v":{"$error":"#VALUE!"}},{"$f":"IFERROR(IF(Tabla2[[#This Row],[Columna33]]<0.45,\"BAJA\",IF(Tabla2[[#This Row],[Columna33]]>0.75,\"ALTA\",\"MEDIA\")),\"\")","v":""},"No Aplica",{"$f":"+IF(Tabla2[[#This Row],[Información Publicada (WEB)]]=\"Sí\",\"Digite URL\",\"No Aplica\")","v":"No Aplica"},null,{"$f":"IF(Tabla2[[#This Row],[ Clasificación ICBF]]=\"Pública\",1,IF(Tabla2[[#This Row],[ Clasificación ICBF]]=\"Clasificada\",2,IF(Tabla2[[#This Row],[ Clasificación ICBF]]=\"Reservada\",3,0)))","v":0},{"$f":"IF(#REF!=8,4,IF(#REF!=16,3,IF(#REF!=24,2,IF(#REF!=48,1,0))))","v":{"$error":"#REF!"}},{"$f":"IF(#REF!=8,\"Alto\",IF(#REF!=16,\"Medio\",IF(#REF!=24,\"Medio\",IF(#REF!=48,\"Bajo\",0))))","v":{"$error":"#REF!"}},null,{"$f":"+MID(Tabla2[[#This Row],[Área/Dependencia]],17,8)","v":""}]
["",null,null,null,{"$f":"+VLOOKUP(Tabla2[[#This Row],[SEDE - REGIONAL]],DATOS!B24:D57,3,FALSE)","v":{"$error":"#N/A"}},{"$f":"+IF(OR(Tabla2[[#This Row],[Área/Dependencia]]=\"Subdirección de Sistemas Integrados\",Tabla2[[#This Row],[Área/Dependencia]]=\"Subdirección de Recursos Tecnológicos\"),\"X\",\"\")","v":""},{"$f":"+CONCATENATE(Tabla2[[#This Row],[Tipo de Proceso]],Tabla2[[#This Row],[Columna4]])","v":{"$error":"#N/A"}},null,null,null,null,null,null,null,null,null,null,null,null,null,{"$f":"+IF(Tabla2[[#This Row],[Nivel de acceso ]]=\"Alto\",0.5,IF(Tabla2[[#This Row],[Nivel de acceso ]]=\"Medio\",0.3,IF(Tabla2[[#This Row],[Nivel de acceso ]]=\"Bajo\",0.2,\"\")))","v":""},null,{"$f":"+IF(Tabla2[[#This Row],[Es  Reservada]]=\"Sí\",\"Escriba Ley\",\"No Aplica\")","v":"No Aplica"},null,null,null,null,{"$f":"IFERROR(IF(AND(Tabla2[[#This Row],[Contiene Datos Personales]]=\"SÍ\",OR(Tabla2[[#This Row],[Clasificación Datos Personales]]=\"Sensible\",Tabla2[[#This Row],[Clasificación Datos Personales]]=\"NNA\",Tabla2[[#This Row],[Clasificación Datos Personales]]=\"privado\")),\"Alto\",IF(AND(Tabla2[[#This Row],[Contiene Datos Personales]]=\"SÍ\",Tabla2[[#This Row],[Clasificación Datos Personales]]=\"SEMIPRIVADO\"),\"Medio\",\"Bajo\")),\"\")","v":"Bajo"},null,null,"No Aplica","No Aplica",null,null,null,{"$f":"+IF(Tabla2[[#This Row],[Integridad]]=\"Grave\",0.5,IF(Tabla2[[#This Row],[Integridad]]=\"Importante\",0.3,IF(Tabla2[[#This Row],[Integridad]]=\"Leve\",0.2,\"\")))","v":""},null,{"$f":"+IF(Tabla2[[#This Row],[Disponibilidad Interna]]=\"Sí\",0.1,IF(Tabla2[[#This Row],[Disponibilidad Interna]]=\"NO\",0,\"\"))","v":""},null,{"$f":"+IF(Tabla2[[#This Row],[Disponibilidad Terceros]]=\"Sí\",0.1,IF(Tabla2[[#This Row],[Disponibilidad Terceros]]=\"No\",0,\"\"))","v":""},{"$f":"+Tabla2[[#This Row],[Columna32]]+Tabla2[[#This Row],[Columna34]]+Tabla2[[#This Row],[Columna1]]+Tabla2[[#This Row],[Columna3]]","v":{"$error":"#VALUE!"}},{"$f":"IFERROR(IF(Tabla2[[#This Row],[Columna33]]<0.45,\"BAJA\",IF(Tabla2[[#This Row],[Columna33]]>0.75,\"ALTA\",\"MEDIA\")),\"\")","v":""},"No Aplica",{"$f":"+IF(Tabla2[[#This Row],[Información Publicada (WEB)]]=\"Sí\",\"Digite URL\",\"No Aplica\")","v":"No Aplica"},null,{"$f":"IF(Tabla2[[#This Row],[ Clasificación ICBF]]=\"Pública\",1,IF(Tabla2[[#This Row],[ Clasificación ICBF]]=\"Clasificada\",2,IF(Tabla2[[#This Row],[ Clasificación ICBF]]=\"Reservada\",3,0)))","v":0},{"$f":"IF(#REF!=8,4,IF(#REF!=16,3,IF(#REF!=24,2,IF(#REF!=48,1,0))))","v":{"$error":"#REF!"}},{"$f":"IF(#REF!=8,\"Alto\",IF(#REF!=16,\"Medio\",IF(#REF!=24,\"Medio\",IF(#REF!=48,\"Bajo\",0))))","v":{"$error":"#REF!"}},null,{"$f":"+MID(Tabla2[[#This Row],[Área/Dependencia]],17,8)","v":""}]
["",null,null,null,{"$f":"+VLOOKUP(Tabla2[[#This Row],[SEDE - REGIONAL]],DATOS!B25:D58,3,FALSE)","v":{"$error":"#N/A"}},{"$f":"+IF(OR(Tabla2[[#This Row],[Área/Dependencia]]=\"Subdirección de Sistemas Integrados\",Tabla2[[#This Row],[Área/Dependencia]]=\"Subdirección de Recursos Tecnológicos\"),\"X\",\"\")","v":""},{"$f":"+CONCATENATE(Tabla2[[#This Row],[Tipo de Proceso]],Tabla2[[#This Row],[Columna4]])","v":{"$error":"#N/A"}},null,null,null,null,null,null,null,null,null,null,null,null,null,{"$f":"+IF(Tabla2[[#This Row],[Nivel de acceso ]]=\"Alto\",0.5,IF(Tabla2[[#This Row],[Nivel de acceso ]]=\"Medio\",0.3,IF(Tabla2[[#This Row],[Nivel de acceso ]]=\"Bajo\",0.2,\"\")))","v":""},null,{"$f":"+IF(Tabla2[[#This Row],[Es  Reservada]]=\"Sí\",\"Escriba Ley\",\"No Aplica\")","v":"No Aplica"},null,null,null,null,{"$f":"IFERROR(IF(AND(Tabla2[[#This Row],[Contiene Datos Personales]]=\"SÍ\",OR(Tabla2[[#This Row],[Clasificación Datos Personales]]=\"Sensible\",Tabla2[[#This Row],[Clasificación Datos Personales]]=\"NNA\",Tabla2[[#This Row],[Clasificación Datos Personales]]=\"privado\")),\"Alto\",IF(AND(Tabla2[[#This Row],[Contiene Datos Personales]]=\"SÍ\",Tabla2[[#This Row],[Clasificación Datos Personales]]=\"SEMIPRIVADO\"),\"Medio\",\"Bajo\")),\"\")","v":"Bajo"},null,null,"No Aplica","No Aplica",null,null,null,{"$f":"+IF(Tabla2[[#This Row],[Integridad]]=\"Grave\",0.5,IF(Tabla2[[#This Row],[Integridad]]=\"Importante\",0.3,IF(Tabla2[[#This Row],[Integridad]]=\"Leve\",0.2,\"\")))","v":""},null,{"$f":"+IF(Tabla2[[#This Row],[Disponibilidad Interna]]=\"Sí\",0.1,IF(Tabla2[[#This Row],[Disponibilidad Interna]]=\"NO\",0,\"\"))","v":""},null,{"$f":"+IF(Tabla2[[#This Row],[Disponibilidad Terceros]]=\"Sí\",0.1,IF(Tabla2[[#This Row],[Disponibilidad Terceros]]=\"No\",0,\"\"))","v":""},{"$f":"+Tabla2[[#This Row],[Columna32]]+Tabla2[[#This Row],[Columna34]]+Tabla2[[#This Row],[Columna1]]+Tabla2[[#This Row],[Columna3]]","v":{"$error":"#VALUE!"}},{"$f":"IFERROR(IF(Tabla2[[#This Row],[Columna33]]<0.45,\"BAJA\",IF(Tabla2[[#This Row],[Columna33]]>0.75,\"ALTA\",\"MEDIA\")),\"\")","v":""},"No Aplica",{"$f":"+IF(Tabla2[[#This Row],[Información Publicada (WEB)]]=\"Sí\",\"Digite URL\",\"No Aplica\")","v":"No Aplica"},null,{"$f":"IF(Tabla2[[#This Row],[ Clasificación ICBF]]=\"Pública\",1,IF(Tabla2[[#This Row],[ Clasificación ICBF]]=\"Clasificada\",2,IF(Tabla2[[#This Row],[ Clasificación ICBF]]=\"Reservada\",3,0)))","v":0},{"$f":"IF(#REF!=8,4,IF(#REF!=16,3,IF(#REF!=24,2,IF(#REF!=48,1,0))))","v":{"$error":"#REF!"}},{"$f":"IF(#REF!=8,\"Alto\",IF(#REF!=16,\"Medio\",IF(#REF!=24,\"Medio\",IF(#REF!=48,\"Bajo\",0))))","v":{"$error":"#REF!"}},null,{"$f":"+MID(Tabla2[[#This Row],[Área/Dependencia]],17,8)","v":""}]
["",null,null,null,{"$f":"+VLOOKUP(Tabla2[[#This Row],[SEDE - REGIONAL]],DATOS!B26:D59,3,FALSE)","v":{"$error":"#N/A"}},{"$f":"+IF(OR(Tabla2[[#This Row],[Área/Dependencia]]=\"Subdirección de Sistemas Integrados\",Tabla2[[#This Row],[Área/Dependencia]]=\"Subdirección de Recursos Tecnológicos\"),\"X\",\"\")","v":""},{"$f":"+CONCATENATE(Tabla2[[#This Row],[Tipo de Proceso]],Tabla2[[#This Row],[Columna4]])","v":{"$error":"#N/A"}},null,null,null,null,null,null,null,null,null,null,null,null,null,{"$f":"+IF(Tabla2[[#This Row],[Nivel de acceso ]]=\"Alto\",0.5,IF(Tabla2[[#This Row],[Nivel de acceso ]]=\"Medio\",0.3,IF(Tabla2[[#This Row],[Nivel de acceso ]]=\"Bajo\",0.2,\"\")))","v":""},null,{"$f":"+IF(Tabla2[[#This Row],[Es  Reservada]]=\"Sí\",\"Escriba Ley\",\"No Aplica\")","v":"No Aplica"},null,null,null,null,{"$f":"IFERROR(IF(AND(Tabla2[[#This Row],[Contiene Datos Personales]]=\"SÍ\",OR(Tabla2[[#This Row],[Clasificación Datos Personales]]=\"Sensible\",Tabla2[[#This Row],[Clasificación Datos Personales]]=\"NNA\",Tabla2[[#This Row],[Clasificación Datos Personales]]=\"privado\")),\"Alto\",IF(AND(Tabla2[[#This Row],[Contiene Datos Personales]]=\"SÍ\",Tabla2[[#This Row],[Clasificación Datos Personales]]=\"SEMIPRIVADO\"),\"Medio\",\"Bajo\")),\"\")","v":"Bajo"},null,null,"No Aplica","No Aplica",null,null,null,{"$f":"+IF(Tabla2[[#This Row],[Integridad]]=\"Grave\",0.5,IF(Tabla2[[#This Row],[Integridad]]=\"Importante\",0.3,IF(Tabla2[[#This Row],[Integridad]]=\"Leve\",0.2,\"\")))","v":""},null,{"$f":"+IF(Tabla2[[#This Row],[Disponibilidad Interna]]=\"Sí\",0.1,IF(Tabla2[[#This Row],[Disponibilidad Interna]]=\"NO\",0,\"\"))","v":""},null,{"$f":"+IF(Tabla2[[#This Row],[Disponibilidad Terceros]]=\"Sí\",0.1,IF(Tabla2[[#This Row],[Disponibilidad Terceros]]=\"No\",0,\"\"))","v":""},{"$f":"+Tabla2[[#This Row],[Columna32]]+Tabla2[[#This Row],[Columna34]]+Tabla2[[#This Row],[Columna1]]+Tabla2[[#This Row],[Columna3]]","v":{"$error":"#VALUE!"}},{"$f":"IFERROR(IF(Tabla2[[#This Row],[Columna33]]<0.45,\"BAJA\",IF(Tabla2[[#This Row],[Columna33]]>0.75,\"ALTA\",\"MEDIA\")),\"\")","v":""},"No Aplica",{"$f":"+IF(Tabla2[[#This Row],[Información Publicada (WEB)]]=\"Sí\",\"Digite URL\",\"No Aplica\")","v":"No Aplica"},null,{"$f":"IF(Tabla2[[#This Row],[ Clasificación ICBF]]=\"Pública\",1,IF(Tabla2[[#This Row],[ Clasificación ICBF]]=\"Clasificada\",2,IF(Tabla2[[#This Row],[ Clasificación ICBF]]=\"Reservada\",3,0)))","v":0},{"$f":"IF(#REF!=8,4,IF(#REF!=16,3,IF(#REF!=24,2,IF(#REF!=48,1,0))))","v":{"$error":"#REF!"}},{"$f":"IF(#REF!=8,\"Alto\",IF(#REF!=16,\"Medio\",IF(#REF!=24,\"Medio\",IF(#REF!=48,\"Bajo\",0))))","v":{"$error":"#REF!"}},null,{"$f":"+MID(Tabla2[[#This Row],[Área/Dependencia]],17,8)","v":""}]
["",null,null,null,{"$f":"+VLOOKUP(Tabla2[[#This Row],[SEDE - REGIONAL]],DATOS!B27:D60,3,FALSE)","v":{"$error":"#N/A"}},{"$f":"+IF(OR(Tabla2[[#This Row],[Área/Dependencia]]=\"Subdirección de Sistemas Integrados\",Tabla2[[#This Row],[Área/Dependencia]]=\"Subdirección de Recursos Tecnológicos\"),\"X\",\"\")","v":""},{"$f":"+CONCATENATE(Tabla2[[#This Row],[Tipo de Proceso]],Tabla2[[#This Row],[Columna4]])","v":{"$error":"#N/A"}},null,null,null,null,null,null,null,null,null,null,null,null,null,{"$f":"+IF(Tabla2[[#This Row],[Nivel de acceso ]]=\"Alto\",0.5,IF(Tabla2[[#This Row],[Nivel de acceso ]]=\"Medio\",0.3,IF(Tabla2[[#This Row],[Nivel de acceso ]]=\"Bajo\",0.2,\"\")))","v":""},null,{"$f":"+IF(Tabla2[[#This Row],[Es  Reservada]]=\"Sí\",\"Escriba Ley\",\"No Aplica\")","v":"No Aplica"},null,null,null,null,{"$f":"IFERROR(IF(AND(Tabla2[[#This Row],[Contiene Datos Personales]]=\"SÍ\",OR(Tabla2[[#This Row],[Clasificación Datos Personales]]=\"Sensible\",Tabla2[[#This Row],[Clasificación Datos Personales]]=\"NNA\",Tabla2[[#This Row],[Clasificación Datos Personales]]=\"privado\")),\"Alto\",IF(AND(Tabla2[[#This Row],[Contiene Datos Personales]]=\"SÍ\",Tabla2[[#This Row],[Clasificación Datos Personales]]=\"SEMIPRIVADO\"),\"Medio\",\"Bajo\")),\"\")","v":"Bajo"},null,null,"No Aplica","No Aplica",null,null,null,{"$f":"+IF(Tabla2[[#This Row],[Integridad]]=\"Grave\",0.5,IF(Tabla2[[#This Row],[Integridad]]=\"Importante\",0.3,IF(Tabla2[[#This Row],[Integridad]]=\"Leve\",0.2,\"\")))","v":""},null,{"$f":"+IF(Tabla2[[#This Row],[Disponibilidad Interna]]=\"Sí\",0.1,IF(Tabla2[[#This Row],[Disponibilidad Interna]]=\"NO\",0,\"\"))","v":""},null,{"$f":"+IF(Tabla2[[#This Row],[Disponibilidad Terceros]]=\"Sí\",0.1,IF(Tabla2[[#This Row],[Disponibilidad Terceros]]=\"No\",0,\"\"))","v":""},{"$f":"+Tabla2[[#This Row],[Columna32]]+Tabla2[[#This Row],[Columna34]]+Tabla2[[#This Row],[Columna1]]+Tabla2[[#This Row],[Columna3]]","v":{"$error":"#VALUE!"}},{"$f":"IFERROR(IF(Tabla2[[#This Row],[Columna33]]<0.45,\"BAJA\",IF(Tabla2[[#This Row],[Columna33]]>0.75,\"ALTA\",\"MEDIA\")),\"\")","v":""},"No Aplica",{"$f":"+IF(Tabla2[[#This Row],[Información Publicada (WEB)]]=\"Sí\",\"Digite URL\",\"No Aplica\")","v":"No Aplica"},null,{"$f":"IF(Tabla2[[#This Row],[ Clasificación ICBF]]=\"Pública\",1,IF(Tabla2[[#This Row],[ Clasificación ICBF]]=\"Clasificada\",2,IF(Tabla2[[#This Row],[ Clasificación ICBF]]=\"Reservada\",3,0)))","v":0},{"$f":"IF(#REF!=8,4,IF(#REF!=16,3,IF(#REF!=24,2,IF(#REF!=48,1,0))))","v":{"$error":"#REF!"}},{"$f":"IF(#REF!=8,\"Alto\",IF(#REF!=16,\"Medio\",IF(#REF!=24,\"Medio\",IF(#REF!=48,\"Bajo\",0))))","v":{"$error":"#REF!"}},null,{"$f":"+MID(Tabla2[[#This Row],[Área/Dependencia]],17,8)","v":""}]
["",null,null,null,{"$f":"+VLOOKUP(Tabla2[[#This Row],[SEDE - REGIONAL]],DATOS!B28:D61,3,FALSE)","v":{"$error":"#N/A"}},{"$f":"+IF(OR(Tabla2[[#This Row],[Área/Dependencia]]=\"Subdirección de Sistemas Integrados\",Tabla2[[#This Row],[Área/Dependencia]]=\"Subdirección de Recursos Tecnológicos\"),\"X\",\"\")","v":""},{"$f":"+CONCATENATE(Tabla2[[#This Row],[Tipo de Proceso]],Tabla2[[#This Row],[Columna4]])","v":{"$error":"#N/A"}},null,null,null,null,null,null,null,null,null,null,null,null,null,{"$f":"+IF(Tabla2[[#This Row],[Nivel de acceso ]]=\"Alto\",0.5,IF(Tabla2[[#This Row],[Nivel de acceso ]]=\"Medio\",0.3,IF(Tabla2[[#This Row],[Nivel de acceso ]]=\"Bajo\",0.2,\"\")))","v":""},null,{"$f":"+IF(Tabla2[[#This Row],[Es  Reservada]]=\"Sí\",\"Escriba Ley\",\"No Aplica\")","v":"No Aplica"},null,null,null,null,{"$f":"IFERROR(IF(AND(Tabla2[[#This Row],[Contiene Datos Personales]]=\"SÍ\",OR(Tabla2[[#This Row],[Clasificación Datos Personales]]=\"Sensible\",Tabla2[[#This Row],[Clasificación Datos Personales]]=\"NNA\",Tabla2[[#This Row],[Clasificación Datos Personales]]=\"privado\")),\"Alto\",IF(AND(Tabla2[[#This Row],[Contiene Datos Personales]]=\"SÍ\",Tabla2[[#This Row],[Clasificación Datos Personales]]=\"SEMIPRIVADO\"),\"Medio\",\"Bajo\")),\"\")","v":"Bajo"},null,null,"No Aplica","No Aplica",null,null,null,{"$f":"+IF(Tabla2[[#This Row],[Integridad]]=\"Grave\",0.5,IF(Tabla2[[#This Row],[Integridad]]=\"Importante\",0.3,IF(Tabla2[[#This Row],[Integridad]]=\"Leve\",0.2,\"\")))","v":""},null,{"$f":"+IF(Tabla2[[#This Row],[Disponibilidad Interna]]=\"Sí\",0.1,IF(Tabla2[[#This Row],[Disponibilidad Interna]]=\"NO\",0,\"\"))","v":""},null,{"$f":"+IF(Tabla2[[#This Row],[Disponibilidad Terceros]]=\"Sí\",0.1,IF(Tabla2[[#This Row],[Disponibilidad Terceros]]=\"No\",0,\"\"))","v":""},{"$f":"+Tabla2[[#This Row],[Columna32]]+Tabla2[[#This Row],[Columna34]]+Tabla2[[#This Row],[Columna1]]+Tabla2[[#This Row],[Columna3]]","v":{"$error":"#VALUE!"}},{"$f":"IFERROR(IF(Tabla2[[#This Row],[Columna33]]<0.45,\"BAJA\",IF(Tabla2[[#This Row],[Columna33]]>0.75,\"ALTA\",\"MEDIA\")),\"\")","v":""},"No Aplica",{"$f":"+IF(Tabla2[[#This Row],[Información Publicada (WEB)]]=\"Sí\",\"Digite URL\",\"No Aplica\")","v":"No Aplica"},null,{"$f":"IF(Tabla2[[#This Row],[ Clasificación ICBF]]=\"Pública\",1,IF(Tabla2[[#This Row],[ Clasificación ICBF]]=\"Clasificada\",2,IF(Tabla2[[#This Row],[ Clasificación ICBF]]=\"Reservada\",3,0)))","v":0},{"$f":"IF(#REF!=8,4,IF(#REF!=16,3,IF(#REF!=24,2,IF(#REF!=48,1,0))))","v":{"$error":"#REF!"}},{"$f":"IF(#REF!=8,\"Alto\",IF(#REF!=16,\"Medio\",IF(#REF!=24,\"Medio\",IF(#REF!=48,\"Bajo\",0))))","v":{"$error":"#REF!"}},null,{"$f":"+MID(Tabla2[[#This Row],[Área/Dependencia]],17,8)","v":""}]
["",null,null,null,{"$f":"+VLOOKUP(Tabla2[[#This Row],[SEDE - REGIONAL]],DATOS!B29:D62,3,FALSE)","v":{"$error":"#N/A"}},{"$f":"+IF(OR(Tabla2[[#This Row],[Área/Dependencia]]=\"Subdirección de Sistemas Integrados\",Tabla2[[#This Row],[Área/Dependencia]]=\"Subdirección de Recursos Tecnológicos\"),\"X\",\"\")","v":""},{"$f":"+CONCATENATE(Tabla2[[#This Row],[Tipo de Proceso]],Tabla2[[#This Row],[Columna4]])","v":{"$error":"#N/A"}},null,null,null,null,null,null,null,null,null,null,null,null,null,{"$f":"+IF(Tabla2[[#This Row],[Nivel de acceso ]]=\"Alto\",0.5,IF(Tabla2[[#This Row],[Nivel de acceso ]]=\"Medio\",0.3,IF(Tabla2[[#This Row],[Nivel de acceso ]]=\"Bajo\",0.2,\"\")))","v":""},null,{"$f":"+IF(Tabla2[[#This Row],[Es  Reservada]]=\"Sí\",\"Escriba Ley\",\"No Aplica\")","v":"No Aplica"},null,null,null,null,{"$f":"IFERROR(IF(AND(Tabla2[[#This Row],[Contiene Datos Personales]]=\"SÍ\",OR(Tabla2[[#This Row],[Clasificación Datos Personales]]=\"Sensible\",Tabla2[[#This Row],[Clasificación Datos Personales]]=\"NNA\",Tabla2[[#This Row],[Clasificación Datos Personales]]=\"privado\")),\"Alto\",IF(AND(Tabla2[[#This Row],[Contiene Datos Personales]]=\"SÍ\",Tabla2[[#This Row],[Clasificación Datos Personales]]=\"SEMIPRIVADO\"),\"Medio\",\"Bajo\")),\"\")","v":"Bajo"},null,null,"No Aplica","No Aplica",null,null,null,{"$f":"+IF(Tabla2[[#This Row],[Integridad]]=\"Grave\",0.5,IF(Tabla2[[#This Row],[Integridad]]=\"Importante\",0.3,IF(Tabla2[[#This Row],[Integridad]]=\"Leve\",0.2,\"\")))","v":""},null,{"$f":"+IF(Tabla2[[#This Row],[Disponibilidad Interna]]=\"Sí\",0.1,IF(Tabla2[[#This Row],[Disponibilidad Interna]]=\"NO\",0,\"\"))","v":""},null,{"$f":"+IF(Tabla2[[#This Row],[Disponibilidad Terceros]]=\"Sí\",0.1,IF(Tabla2[[#This Row],[Disponibilidad Terceros]]=\"No\",0,\"\"))","v":""},{"$f":"+Tabla2[[#This Row],[Columna32]]+Tabla2[[#This Row],[Columna34]]+Tabla2[[#This Row],[Columna1]]+Tabla2[[#This Row],[Columna3]]","v":{"$error":"#VALUE!"}},{"$f":"IFERROR(IF(Tabla2[[#This Row],[Columna33]]<0.45,\"BAJA\",IF(Tabla2[[#This Row],[Columna33]]>0.75,\"ALTA\",\"MEDIA\")),\"\")","v":""},"No Aplica",{"$f":"+IF(Tabla2[[#This Row],[Información Publicada (WEB)]]=\"Sí\",\"Digite URL\",\"No Aplica\")","v":"No Aplica"},null,{"$f":"IF(Tabla2[[#This Row],[ Clasificación ICBF]]=\"Pública\",1,IF(Tabla2[[#This Row],[ Clasificación ICBF]]=\"Clasificada\",2,IF(Tabla2[[#This Row],[ Clasificación ICBF]]=\"Reservada\",3,0)))","v":0},{"$f":"IF(#REF!=8,4,IF(#REF!=16,3,IF(#REF!=24,2,IF(#REF!=48,1,0))))","v":{"$error":"#REF!"}},{"$f":"IF(#REF!=8,\"Alto\",IF(#REF!=16,\"Medio\",IF(#REF!=24,\"Medio\",IF(#REF!=48,\"Bajo\",0))))","v":{"$error":"#REF!"}},null,{"$f":"+MID(Tabla2[[#This Row],[Área/Dependencia]],17,8)","v":""}]
["",null,null,null,{"$f":"+VLOOKUP(Tabla2[[#This Row],[SEDE - REGIONAL]],DATOS!B30:D63,3,FALSE)","v":{"$error":"#N/A"}},{"$f":"+IF(OR(Tabla2[[#This Row],[Área/Dependencia]]=\"Subdirección de Sistemas Integrados\",Tabla2[[#This Row],[Área/Dependencia]]=\"Subdirección de Recursos Tecnológicos\"),\"X\",\"\")","v":""},{"$f":"+CONCATENATE(Tabla2[[#This Row],[Tipo de Proceso]],Tabla2[[#This Row],[Columna4]])","v":{"$error":"#N/A"}},null,null,null,null,null,null,null,null,null,null,null,null,null,{"$f":"+IF(Tabla2[[#This Row],[Nivel de acceso ]]=\"Alto\",0.5,IF(Tabla2[[#This Row],[Nivel de acceso ]]=\"Medio\",0.3,IF(Tabla2[[#This Row],[Nivel de acceso ]]=\"Bajo\",0.2,\"\")))","v":""},null,{"$f":"+IF(Tabla2[[#This Row],[Es  Reservada]]=\"Sí\",\"Escriba Ley\",\"No Aplica\")","v":"No Aplica"},null,null,null,null,{"$f":"IFERROR(IF(AND(Tabla2[[#This Row],[Contiene Datos Personales]]=\"SÍ\",OR(Tabla2[[#This Row],[Clasificación Datos Personales]]=\"Sensible\",Tabla2[[#This Row],[Clasificación Datos Personales]]=\"NNA\",Tabla2[[#This Row],[Clasificación Datos Personales]]=\"privado\")),\"Alto\",IF(AND(Tabla2[[#This Row],[Contiene Datos Personales]]=\"SÍ\",Tabla2[[#This Row],[Clasificación Datos Personales]]=\"SEMIPRIVADO\"),\"Medio\",\"Bajo\")),\"\")","v":"Bajo"},null,null,"No Aplica","No Aplica",null,null,null,{"$f":"+IF(Tabla2[[#This Row],[Integridad]]=\"Grave\",0.5,IF(Tabla2[[#This Row],[Integridad]]=\"Importante\",0.3,IF(Tabla2[[#This Row],[Integridad]]=\"Leve\",0.2,\"\")))","v":""},null,{"$f":"+IF(Tabla2[[#This Row],[Disponibilidad Interna]]=\"Sí\",0.1,IF(Tabla2[[#This Row],[Disponibilidad Interna]]=\"NO\",0,\"\"))","v":""},null,{"$f":"+IF(Tabla2[[#This Row],[Disponibilidad Terceros]]=\"Sí\",0.1,IF(Tabla2[[#This Row],[Disponibilidad Terceros]]=\"No\",0,\"\"))","v":""},{"$f":"+Tabla2[[#This Row],[Columna32]]+Tabla2[[#This Row],[Columna34]]+Tabla2[[#This Row],[Columna1]]+Tabla2[[#This Row],[Columna3]]","v":{"$error":"#VALUE!"}},{"$f":"IFERROR(IF(Tabla2[[#This Row],[Columna33]]<0.45,\"BAJA\",IF(Tabla2[[#This Row],[Columna33]]>0.75,\"ALTA\",\"MEDIA\")),\"\")","v":""},"No Aplica",{"$f":"+IF(Tabla2[[#This Row],[Información Publicada (WEB)]]=\"Sí\",\"Digite URL\",\"No Aplica\")","v":"No Aplica"},null,{"$f":"IF(Tabla2[[#This Row],[ Clasificación ICBF]]=\"Pública\",1,IF(Tabla2[[#This Row],[ Clasificación ICBF]]=\"Clasificada\",2,IF(Tabla2[[#This Row],[ Clasificación ICBF]]=\"Reservada\",3,0)))","v":0},{"$f":"IF(#REF!=8,4,IF(#REF!=16,3,IF(#REF!=24,2,IF(#REF!=48,1,0))))","v":{"$error":"#REF!"}},{"$f":"IF(#REF!=8,\"Alto\",IF(#REF!=16,\"Medio\",IF(#REF!=24,\"Medio\",IF(#REF!=48,\"Bajo\",0))))","v":{"$error":"#REF!"}},null,{"$f":"+MID(Tabla2[[#This Row],[Área/Dependencia]],17,8)","v":""}]
["",null,null,null,{"$f":"+VLOOKUP(Tabla2[[#This Row],[SEDE - REGIONAL]],DATOS!B31:D64,3,FALSE)","v":{"$error":"#N/A"}},{"$f":"+IF(OR(Tabla2[[#This Row],[Área/Dependencia]]=\"Subdirección de Sistemas Integrados\",Tabla2[[#This Row],[Área/Dependencia]]=\"Subdirección de Recursos Tecnológicos\"),\"X\",\"\")","v":""},{"$f":"+CONCATENATE(Tabla2[[#This Row],[Tipo de Proceso]],Tabla2[[#This Row],[Columna4]])","v":{"$error":"#N/A"}},null,null,null,null,null,null,null,null,null,null,null,null,null,{"$f":"+IF(Tabla2[[#This Row],[Nivel de acceso ]]=\"Alto\",0.5,IF(Tabla2[[#This Row],[Nivel de acceso ]]=\"Medio\",0.3,IF(Tabla2[[#This Row],[Nivel de acceso ]]=\"Bajo\",0.2,\"\")))","v":""},null,{"$f":"+IF(Tabla2[[#This Row],[Es  Reservada]]=\"Sí\",\"Escriba Ley\",\"No Aplica\")","v":"No Aplica"},null,null,null,null,{"$f":"IFERROR(IF(AND(Tabla2[[#This Row],[Contiene Datos Personales]]=\"SÍ\",OR(Tabla2[[#This Row],[Clasificación Datos Personales]]=\"Sensible\",Tabla2[[#This Row],[Clasificación Datos Personales]]=\"NNA\",Tabla2[[#This Row],[Clasificación Datos Personales]]=\"privado\")),\"Alto\",IF(AND(Tabla2[[#This Row],[Contiene Datos Personales]]=\"SÍ\",Tabla2[[#This Row],[Clasificación Datos Personales]]=\"SEMIPRIVADO\"),\"Medio\",\"Bajo\")),\"\")","v":"Bajo"},null,null,"No Aplica","No Aplica",null,null,null,{"$f":"+IF(Tabla2[[#This Row],[Integridad]]=\"Grave\",0.5,IF(Tabla2[[#This Row],[Integridad]]=\"Importante\",0.3,IF(Tabla2[[#This Row],[Integridad]]=\"Leve\",0.2,\"\")))","v":""},null,{"$f":"+IF(Tabla2[[#This Row],[Disponibilidad Interna]]=\"Sí\",0.1,IF(Tabla2[[#This Row],[Disponibilidad Interna]]=\"NO\",0,\"\"))","v":""},null,{"$f":"+IF(Tabla2[[#This Row],[Disponibilidad Terceros]]=\"Sí\",0.1,IF(Tabla2[[#This Row],[Disponibilidad Terceros]]=\"No\",0,\"\"))","v":""},{"$f":"+Tabla2[[#This Row],[Columna32]]+Tabla2[[#This Row],[Columna34]]+Tabla2[[#This Row],[Columna1]]+Tabla2[[#This Row],[Columna3]]","v":{"$error":"#VALUE!"}},{"$f":"IFERROR(IF(Tabla2[[#This Row],[Columna33]]<0.45,\"BAJA\",IF(Tabla2[[#This Row],[Columna33]]>0.75,\"ALTA\",\"MEDIA\")),\"\")","v":""},"No Aplica",{"$f":"+IF(Tabla2[[#This Row],[Información Publicada (WEB)]]=\"Sí\",\"Digite URL\",\"No Aplica\")","v":"No Aplica"},null,{"$f":"IF(Tabla2[[#This Row],[ Clasificación ICBF]]=\"Pública\",1,IF(Tabla2[[#This Row],[ Clasificación ICBF]]=\"Clasificada\",2,IF(Tabla2[[#This Row],[ Clasificación ICBF]]=\"Reservada\",3,0)))","v":0},{"$f":"IF(#REF!=8,4,IF(#REF!=16,3,IF(#REF!=24,2,IF(#REF!=48,1,0))))","v":{"$error":"#REF!"}},{"$f":"IF(#REF!=8,\"Alto\",IF(#REF!=16,\"Medio\",IF(#REF!=24,\"Medio\",IF(#REF!=48,\"Bajo\",0))))","v":{"$error":"#REF!"}},null,{"$f":"+MID(Tabla2[[#This Row],[Área/Dependencia]],17,8)","v":""}]
["",null,null,null,{"$f":"+VLOOKUP(Tabla2[[#This Row],[SEDE - REGIONAL]],DATOS!B32:D65,3,FALSE)","v":{"$error":"#N/A"}},{"$f":"+IF(OR(Tabla2[[#This Row],[Área/Dependencia]]=\"Subdirección de Sistemas Integrados\",Tabla2[[#This Row],[Área/Dependencia]]=\"Subdirección de Recursos Tecnológicos\"),\"X\",\"\")","v":""},{"$f":"+CONCATENATE(Tabla2[[#This Row],[Tipo de Proceso]],Tabla2[[#This Row],[Columna4]])","v":{"$error":"#N/A"}},null,null,null,null,null,null,null,null,null,null,null,null,null,{"$f":"+IF(Tabla2[[#This Row],[Nivel de acceso ]]=\"Alto\",0.5,IF(Tabla2[[#This Row],[Nivel de acceso ]]=\"Medio\",0.3,IF(Tabla2[[#This Row],[Nivel de acceso ]]=\"Bajo\",0.2,\"\")))","v":""},null,{"$f":"+IF(Tabla2[[#This Row],[Es  Reservada]]=\"Sí\",\"Escriba Ley\",\"No Aplica\")","v":"No Aplica"},null,null,null,null,{"$f":"IFERROR(IF(AND(Tabla2[[#This Row],[Contiene Datos Personales]]=\"SÍ\",OR(Tabla2[[#This Row],[Clasificación Datos Personales]]=\"Sensible\",Tabla2[[#This Row],[Clasificación Datos Personales]]=\"NNA\",Tabla2[[#This Row],[Clasificación Datos Personales]]=\"privado\")),\"Alto\",IF(AND(Tabla2[[#This Row],[Contiene Datos Personales]]=\"SÍ\",Tabla2[[#This Row],[Clasificación Datos Personales]]=\"SEMIPRIVADO\"),\"Medio\",\"Bajo\")),\"\")","v":"Bajo"},null,null,"No Aplica","No Aplica",null,null,null,{"$f":"+IF(Tabla2[[#This Row],[Integridad]]=\"Grave\",0.5,IF(Tabla2[[#This Row],[Integridad]]=\"Importante\",0.3,IF(Tabla2[[#This Row],[Integridad]]=\"Leve\",0.2,\"\")))","v":""},null,{"$f":"+IF(Tabla2[[#This Row],[Disponibilidad Interna]]=\"Sí\",0.1,IF(Tabla2[[#This Row],[Disponibilidad Interna]]=\"NO\",0,\"\"))","v":""},null,{"$f":"+IF(Tabla2[[#This Row],[Disponibilidad Terceros]]=\"Sí\",0.1,IF(Tabla2[[#This Row],[Disponibilidad Terceros]]=\"No\",0,\"\"))","v":""},{"$f":"+Tabla2[[#This Row],[Columna32]]+Tabla2[[#This Row],[Columna34]]+Tabla2[[#This Row],[Columna1]]+Tabla2[[#This Row],[Columna3]]","v":{"$error":"#VALUE!"}},{"$f":"IFERROR(IF(Tabla2[[#This Row],[Columna33]]<0.45,\"BAJA\",IF(Tabla2[[#This Row],[Columna33]]>0.75,\"ALTA\",\"MEDIA\")),\"\")","v":""},"No Aplica",{"$f":"+IF(Tabla2[[#This Row],[Información Publicada (WEB)]]=\"Sí\",\"Digite URL\",\"No Aplica\")","v":"No Aplica"},null,{"$f":"IF(Tabla2[[#This Row],[ Clasificación ICBF]]=\"Pública\",1,IF(Tabla2[[#This Row],[ Clasificación ICBF]]=\"Clasificada\",2,IF(Tabla2[[#This Row],[ Clasificación ICBF]]=\"Reservada\",3,0)))","v":0},{"$f":"IF(#REF!=8,4,IF(#REF!=16,3,IF(#REF!=24,2,IF(#REF!=48,1,0))))","v":{"$error":"#REF!"}},{"$f":"IF(#REF!=8,\"Alto\",IF(#REF!=16,\"Medio\",IF(#REF!=24,\"Medio\",IF(#REF!=48,\"Bajo\",0))))","v":{"$error":"#REF!"}},null,{"$f":"+MID(Tabla2[[#This Row],[Área/Dependencia]],17,8)","v":""}]
["",null,null,null,{"$f":"+VLOOKUP(Tabla2[[#This Row],[SEDE - REGIONAL]],DATOS!B33:D66,3,FALSE)","v":{"$error":"#N/A"}},{"$f":"+IF(OR(Tabla2[[#This Row],[Área/Dependencia]]=\"Subdirección de Sistemas Integrados\",Tabla2[[#This Row],[Área/Dependencia]]=\"Subdirección de Recursos Tecnológicos\"),\"X\",\"\")","v":""},{"$f":"+CONCATENATE(Tabla2[[#This Row],[Tipo de Proceso]],Tabla2[[#This Row],[Columna4]])","v":{"$error":"#N/A"}},null,null,null,null,null,null,null,null,null,null,null,null,null,{"$f":"+IF(Tabla2[[#This Row],[Nivel de acceso ]]=\"Alto\",0.5,IF(Tabla2[[#This Row],[Nivel de acceso ]]=\"Medio\",0.3,IF(Tabla2[[#This Row],[Nivel de acceso ]]=\"Bajo\",0.2,\"\")))","v":""},null,{"$f":"+IF(Tabla2[[#This Row],[Es  Reservada]]=\"Sí\",\"Escriba Ley\",\"No Aplica\")","v":"No Aplica"},null,null,null,null,{"$f":"IFERROR(IF(AND(Tabla2[[#This Row],[Contiene Datos Personales]]=\"SÍ\",OR(Tabla2[[#This Row],[Clasificación Datos Personales]]=\"Sensible\",Tabla2[[#This Row],[Clasificación Datos Personales]]=\"NNA\",Tabla2[[#This Row],[Clasificación Datos Personales]]=\"privado\")),\"Alto\",IF(AND(Tabla2[[#This Row],[Contiene Datos Personales]]=\"SÍ\",Tabla2[[#This Row],[Clasificación Datos Personales]]=\"SEMIPRIVADO\"),\"Medio\",\"Bajo\")),\"\")","v":"Bajo"},null,null,"No Aplica","No Aplica",null,null,null,{"$f":"+IF(Tabla2[[#This Row],[Integridad]]=\"Grave\",0.5,IF(Tabla2[[#This Row],[Integridad]]=\"Importante\",0.3,IF(Tabla2[[#This Row],[Integridad]]=\"Leve\",0.2,\"\")))","v":""},null,{"$f":"+IF(Tabla2[[#This Row],[Disponibilidad Interna]]=\"Sí\",0.1,IF(Tabla2[[#This Row],[Disponibilidad Interna]]=\"NO\",0,\"\"))","v":""},null,{"$f":"+IF(Tabla2[[#This Row],[Disponibilidad Terceros]]=\"Sí\",0.1,IF(Tabla2[[#This Row],[Disponibilidad Terceros]]=\"No\",0,\"\"))","v":""},{"$f":"+Tabla2[[#This Row],[Columna32]]+Tabla2[[#This Row],[Columna34]]+Tabla2[[#This Row],[Columna1]]+Tabla2[[#This Row],[Columna3]]","v":{"$error":"#VALUE!"}},{"$f":"IFERROR(IF(Tabla2[[#This Row],[Columna33]]<0.45,\"BAJA\",IF(Tabla2[[#This Row],[Columna33]]>0.75,\"ALTA\",\"MEDIA\")),\"\")","v":""},"No Aplica",{"$f":"+IF(Tabla2[[#This Row],[Información Publicada (WEB)]]=\"Sí\",\"Digite URL\",\"No Aplica\")","v":"No Aplica"},null,{"$f":"IF(Tabla2[[#This Row],[ Clasificación ICBF]]=\"Pública\",1,IF(Tabla2[[#This Row],[ Clasificación ICBF]]=\"Clasificada\",2,IF(Tabla2[[#This Row],[ Clasificación ICBF]]=\"Reservada\",3,0)))","v":0},{"$f":"IF(#REF!=8,4,IF(#REF!=16,3,IF(#REF!=24,2,IF(#REF!=48,1,0))))","v":{"$error":"#REF!"}},{"$f":"IF(#REF!=8,\"Alto\",IF(#REF!=16,\"Medio\",IF(#REF!=24,\"Medio\",IF(#REF!=48,\"Bajo\",0))))","v":{"$error":"#REF!"}},null,{"$f":"+MID(Tabla2[[#This Row],[Área/Dependencia]],17,8)","v":""}]
["",null,null,null,{"$f":"+VLOOKUP(Tabla2[[#This Row],[SEDE - REGIONAL]],DATOS!B34:D67,3,FALSE)","v":{"$error":"#N/A"}},{"$f":"+IF(OR(Tabla2[[#This Row],[Área/Dependencia]]=\"Subdirección de Sistemas Integrados\",Tabla2[[#This Row],[Área/Dependencia]]=\"Subdirección de Recursos Tecnológicos\"),\"X\",\"\")","v":""},{"$f":"+CONCATENATE(Tabla2[[#This Row],[Tipo de Proceso]],Tabla2[[#This Row],[Columna4]])","v":{"$error":"#N/A"}},null,null,null,null,null,null,null,null,null,null,null,null,null,{"$f":"+IF(Tabla2[[#This Row],[Nivel de acceso ]]=\"Alto\",0.5,IF(Tabla2[[#This Row],[Nivel de acceso ]]=\"Medio\",0.3,IF(Tabla2[[#This Row],[Nivel de acceso ]]=\"Bajo\",0.2,\"\")))","v":""},null,{"$f":"+IF(Tabla2[[#This Row],[Es  Reservada]]=\"Sí\",\"Escriba Ley\",\"No Aplica\")","v":"No Aplica"},null,null,null,null,{"$f":"IFERROR(IF(AND(Tabla2[[#This Row],[Contiene Datos Personales]]=\"SÍ\",OR(Tabla2[[#This Row],[Clasificación Datos Personales]]=\"Sensible\",Tabla2[[#This Row],[Clasificación Datos Personales]]=\"NNA\",Tabla2[[#This Row],[Clasificación Datos Personales]]=\"privado\")),\"Alto\",IF(AND(Tabla2[[#This Row],[Contiene Datos Personales]]=\"SÍ\",Tabla2[[#This Row],[Clasificación Datos Personales]]=\"SEMIPRIVADO\"),\"Medio\",\"Bajo\")),\"\")","v":"Bajo"},null,null,"No Aplica","No Aplica",null,null,null,{"$f":"+IF(Tabla2[[#This Row],[Integridad]]=\"Grave\",0.5,IF(Tabla2[[#This Row],[Integridad]]=\"Importante\",0.3,IF(Tabla2[[#This Row],[Integridad]]=\"Leve\",0.2,\"\")))","v":""},null,{"$f":"+IF(Tabla2[[#This Row],[Disponibilidad Interna]]=\"Sí\",0.1,IF(Tabla2[[#This Row],[Disponibilidad Interna]]=\"NO\",0,\"\"))","v":""},null,{"$f":"+IF(Tabla2[[#This Row],[Disponibilidad Terceros]]=\"Sí\",0.1,IF(Tabla2[[#This Row],[Disponibilidad Terceros]]=\"No\",0,\"\"))","v":""},{"$f":"+Tabla2[[#This Row],[Columna32]]+Tabla2[[#This Row],[Columna34]]+Tabla2[[#This Row],[Columna1]]+Tabla2[[#This Row],[Columna3]]","v":{"$error":"#VALUE!"}},{"$f":"IFERROR(IF(Tabla2[[#This Row],[Columna33]]<0.45,\"BAJA\",IF(Tabla2[[#This Row],[Columna33]]>0.75,\"ALTA\",\"MEDIA\")),\"\")","v":""},"No Aplica",{"$f":"+IF(Tabla2[[#This Row],[Información Publicada (WEB)]]=\"Sí\",\"Digite URL\",\"No Aplica\")","v":"No Aplica"},null,{"$f":"IF(Tabla2[[#This Row],[ Clasificación ICBF]]=\"Pública\",1,IF(Tabla2[[#This Row],[ Clasificación ICBF]]=\"Clasificada\",2,IF(Tabla2[[#This Row],[ Clasificación ICBF]]=\"Reservada\",3,0)))","v":0},{"$f":"IF(#REF!=8,4,IF(#REF!=16,3,IF(#REF!=24,2,IF(#REF!=48,1,0))))","v":{"$error":"#REF!"}},{"$f":"IF(#REF!=8,\"Alto\",IF(#REF!=16,\"Medio\",IF(#REF!=24,\"Medio\",IF(#REF!=48,\"Bajo\",0))))","v":{"$error":"#REF!"}},null,{"$f":"+MID(Tabla2[[#This Row],[Área/Dependencia]],17,8)","v":""}]
["",null,null,null,{"$f":"+VLOOKUP(Tabla2[[#This Row],[SEDE - REGIONAL]],DATOS!B35:D68,3,FALSE)","v":{"$error":"#N/A"}},{"$f":"+IF(OR(Tabla2[[#This Row],[Área/Dependencia]]=\"Subdirección de Sistemas Integrados\",Tabla2[[#This Row],[Área/Dependencia]]=\"Subdirección de Recursos Tecnológicos\"),\"X\",\"\")","v":""},{"$f":"+CONCATENATE(Tabla2[[#This Row],[Tipo de Proceso]],Tabla2[[#This Row],[Columna4]])","v":{"$error":"#N/A"}},null,null,null,null,null,null,null,null,null,null,null,null,null,{"$f":"+IF(Tabla2[[#This Row],[Nivel de acceso ]]=\"Alto\",0.5,IF(Tabla2[[#This Row],[Nivel de acceso ]]=\"Medio\",0.3,IF(Tabla2[[#This Row],[Nivel de acceso ]]=\"Bajo\",0.2,\"\")))","v":""},null,{"$f":"+IF(Tabla2[[#This Row],[Es  Reservada]]=\"Sí\",\"Escriba Ley\",\"No Aplica\")","v":"No Aplica"},null,null,null,null,{"$f":"IFERROR(IF(AND(Tabla2[[#This Row],[Contiene Datos Personales]]=\"SÍ\",OR(Tabla2[[#This Row],[Clasificación Datos Personales]]=\"Sensible\",Tabla2[[#This Row],[Clasificación Datos Personales]]=\"NNA\",Tabla2[[#This Row],[Clasificación Datos Personales]]=\"privado\")),\"Alto\",IF(AND(Tabla2[[#This Row],[Contiene Datos Personales]]=\"SÍ\",Tabla2[[#This Row],[Clasificación Datos Personales]]=\"SEMIPRIVADO\"),\"Medio\",\"Bajo\")),\"\")","v":"Bajo"},null,null,"No Aplica","No Aplica",null,null,null,{"$f":"+IF(Tabla2[[#This Row],[Integridad]]=\"Grave\",0.5,IF(Tabla2[[#This Row],[Integridad]]=\"Importante\",0.3,IF(Tabla2[[#This Row],[Integridad]]=\"Leve\",0.2,\"\")))","v":""},null,{"$f":"+IF(Tabla2[[#This Row],[Disponibilidad Interna]]=\"Sí\",0.1,IF(Tabla2[[#This Row],[Disponibilidad Interna]]=\"NO\",0,\"\"))","v":""},null,{"$f":"+IF(Tabla2[[#This Row],[Disponibilidad Terceros]]=\"Sí\",0.1,IF(Tabla2[[#This Row],[Disponibilidad Terceros]]=\"No\",0,\"\"))","v":""},{"$f":"+Tabla2[[#This Row],[Columna32]]+Tabla2[[#This Row],[Columna34]]+Tabla2[[#This Row],[Columna1]]+Tabla2[[#This Row],[Columna3]]","v":{"$error":"#VALUE!"}},{"$f":"IFERROR(IF(Tabla2[[#This Row],[Columna33]]<0.45,\"BAJA\",IF(Tabla2[[#This Row],[Columna33]]>0.75,\"ALTA\",\"MEDIA\")),\"\")","v":""},"No Aplica",{"$f":"+IF(Tabla2[[#This Row],[Información Publicada (WEB)]]=\"Sí\",\"Digite URL\",\"No Aplica\")","v":"No Aplica"},null,{"$f":"IF(Tabla2[[#This Row],[ Clasificación ICBF]]=\"Pública\",1,IF(Tabla2[[#This Row],[ Clasificación ICBF]]=\"Clasificada\",2,IF(Tabla2[[#This Row],[ Clasificación ICBF]]=\"Reservada\",3,0)))","v":0},{"$f":"IF(#REF!=8,4,IF(#REF!=16,3,IF(#REF!=24,2,IF(#REF!=48,1,0))))","v":{"$error":"#REF!"}},{"$f":"IF(#REF!=8,\"Alto\",IF(#REF!=16,\"Medio\",IF(#REF!=24,\"Medio\",IF(#REF!=48,\"Bajo\",0))))","v":{"$error":"#REF!"}},null,{"$f":"+MID(Tabla2[[#This Row],[Área/Dependencia]],17,8)","v":""}]
["",null,null,null,{"$f":"+VLOOKUP(Tabla2[[#This Row],[SEDE - REGIONAL]],DATOS!B36:D69,3,FALSE)","v":{"$error":"#N/A"}},{"$f":"+IF(OR(Tabla2[[#This Row],[Área/Dependencia]]=\"Subdirección de Sistemas Integrados\",Tabla2[[#This Row],[Área/Dependencia]]=\"Subdirección de Recursos Tecnológicos\"),\"X\",\"\")","v":""},{"$f":"+CONCATENATE(Tabla2[[#This Row],[Tipo de Proceso]],Tabla2[[#This Row],[Columna4]])","v":{"$error":"#N/A"}},null,null,null,null,null,null,null,null,null,null,null,null,null,{"$f":"+IF(Tabla2[[#This Row],[Nivel de acceso ]]=\"Alto\",0.5,IF(Tabla2[[#This Row],[Nivel de acceso ]]=\"Medio\",0.3,IF(Tabla2[[#This Row],[Nivel de acceso ]]=\"Bajo\",0.2,\"\")))","v":""},null,{"$f":"+IF(Tabla2[[#This Row],[Es  Reservada]]=\"Sí\",\"Escriba Ley\",\"No Aplica\")","v":"No Aplica"},null,null,null,null,{"$f":"IFERROR(IF(AND(Tabla2[[#This Row],[Contiene Datos Personales]]=\"SÍ\",OR(Tabla2[[#This Row],[Clasificación Datos Personales]]=\"Sensible\",Tabla2[[#This Row],[Clasificación Datos Personales]]=\"NNA\",Tabla2[[#This Row],[Clasificación Datos Personales]]=\"privado\")),\"Alto\",IF(AND(Tabla2[[#This Row],[Contiene Datos Personales]]=\"SÍ\",Tabla2[[#This Row],[Clasificación Datos Personales]]=\"SEMIPRIVADO\"),\"Medio\",\"Bajo\")),\"\")","v":"Bajo"},null,null,"No Aplica","No Aplica",null,null,null,{"$f":"+IF(Tabla2[[#This Row],[Integridad]]=\"Grave\",0.5,IF(Tabla2[[#This Row],[Integridad]]=\"Importante\",0.3,IF(Tabla2[[#This Row],[Integridad]]=\"Leve\",0.2,\"\")))","v":""},null,{"$f":"+IF(Tabla2[[#This Row],[Disponibilidad Interna]]=\"Sí\",0.1,IF(Tabla2[[#This Row],[Disponibilidad Interna]]=\"NO\",0,\"\"))","v":""},null,{"$f":"+IF(Tabla2[[#This Row],[Disponibilidad Terceros]]=\"Sí\",0.1,IF(Tabla2[[#This Row],[Disponibilidad Terceros]]=\"No\",0,\"\"))","v":""},{"$f":"+Tabla2[[#This Row],[Columna32]]+Tabla2[[#This Row],[Columna34]]+Tabla2[[#This Row],[Columna1]]+Tabla2[[#This Row],[Columna3]]","v":{"$error":"#VALUE!"}},{"$f":"IFERROR(IF(Tabla2[[#This Row],[Columna33]]<0.45,\"BAJA\",IF(Tabla2[[#This Row],[Columna33]]>0.75,\"ALTA\",\"MEDIA\")),\"\")","v":""},"No Aplica",{"$f":"+IF(Tabla2[[#This Row],[Información Publicada (WEB)]]=\"Sí\",\"Digite URL\",\"No Aplica\")","v":"No Aplica"},null,{"$f":"IF(Tabla2[[#This Row],[ Clasificación ICBF]]=\"Pública\",1,IF(Tabla2[[#This Row],[ Clasificación ICBF]]=\"Clasificada\",2,IF(Tabla2[[#This Row],[ Clasificación ICBF]]=\"Reservada\",3,0)))","v":0},{"$f":"IF(#REF!=8,4,IF(#REF!=16,3,IF(#REF!=24,2,IF(#REF!=48,1,0))))","v":{"$error":"#REF!"}},{"$f":"IF(#REF!=8,\"Alto\",IF(#REF!=16,\"Medio\",IF(#REF!=24,\"Medio\",IF(#REF!=48,\"Bajo\",0))))","v":{"$error":"#REF!"}},null,{"$f":"+MID(Tabla2[[#This Row],[Área/Dependencia]],17,8)","v":""}]
["",null,null,null,{"$f":"+VLOOKUP(Tabla2[[#This Row],[SEDE - REGIONAL]],DATOS!B37:D70,3,FALSE)","v":{"$error":"#N/A"}},{"$f":"+IF(OR(Tabla2[[#This Row],[Área/Dependencia]]=\"Subdirección de Sistemas Integrados\",Tabla2[[#This Row],[Área/Dependencia]]=\"Subdirección de Recursos Tecnológicos\"),\"X\",\"\")","v":""},{"$f":"+CONCATENATE(Tabla2[[#This Row],[Tipo de Proceso]],Tabla2[[#This Row],[Columna4]])","v":{"$error":"#N/A"}},null,null,null,null,null,null,null,null,null,null,null,null,null,{"$f":"+IF(Tabla2[[#This Row],[Nivel de acceso ]]=\"Alto\",0.5,IF(Tabla2[[#This Row],[Nivel de acceso ]]=\"Medio\",0.3,IF(Tabla2[[#This Row],[Nivel de acceso ]]=\"Bajo\",0.2,\"\")))","v":""},null,{"$f":"+IF(Tabla2[[#This Row],[Es  Reservada]]=\"Sí\",\"Escriba Ley\",\"No Aplica\")","v":"No Aplica"},null,null,null,null,{"$f":"IFERROR(IF(AND(Tabla2[[#This Row],[Contiene Datos Personales]]=\"SÍ\",OR(Tabla2[[#This Row],[Clasificación Datos Personales]]=\"Sensible\",Tabla2[[#This Row],[Clasificación Datos Personales]]=\"NNA\",Tabla2[[#This Row],[Clasificación Datos Personales]]=\"privado\")),\"Alto\",IF(AND(Tabla2[[#This Row],[Contiene Datos Personales]]=\"SÍ\",Tabla2[[#This Row],[Clasificación Datos Personales]]=\"SEMIPRIVADO\"),\"Medio\",\"Bajo\")),\"\")","v":"Bajo"},null,null,"No Aplica","No Aplica",null,null,null,{"$f":"+IF(Tabla2[[#This Row],[Integridad]]=\"Grave\",0.5,IF(Tabla2[[#This Row],[Integridad]]=\"Importante\",0.3,IF(Tabla2[[#This Row],[Integridad]]=\"Leve\",0.2,\"\")))","v":""},null,{"$f":"+IF(Tabla2[[#This Row],[Disponibilidad Interna]]=\"Sí\",0.1,IF(Tabla2[[#This Row],[Disponibilidad Interna]]=\"NO\",0,\"\"))","v":""},null,{"$f":"+IF(Tabla2[[#This Row],[Disponibilidad Terceros]]=\"Sí\",0.1,IF(Tabla2[[#This Row],[Disponibilidad Terceros]]=\"No\",0,\"\"))","v":""},{"$f":"+Tabla2[[#This Row],[Columna32]]+Tabla2[[#This Row],[Columna34]]+Tabla2[[#This Row],[Columna1]]+Tabla2[[#This Row],[Columna3]]","v":{"$error":"#VALUE!"}},{"$f":"IFERROR(IF(Tabla2[[#This Row],[Columna33]]<0.45,\"BAJA\",IF(Tabla2[[#This Row],[Columna33]]>0.75,\"ALTA\",\"MEDIA\")),\"\")","v":""},"No Aplica",{"$f":"+IF(Tabla2[[#This Row],[Información Publicada (WEB)]]=\"Sí\",\"Digite URL\",\"No Aplica\")","v":"No Aplica"},null,{"$f":"IF(Tabla2[[#This Row],[ Clasificación ICBF]]=\"Pública\",1,IF(Tabla2[[#This Row],[ Clasificación ICBF]]=\"Clasificada\",2,IF(Tabla2[[#This Row],[ Clasificación ICBF]]=\"Reservada\",3,0)))","v":0},{"$f":"IF(#REF!=8,4,IF(#REF!=16,3,IF(#REF!=24,2,IF(#REF!=48,1,0))))","v":{"$error":"#REF!"}},{"$f":"IF(#REF!=8,\"Alto\",IF(#REF!=16,\"Medio\",IF(#REF!=24,\"Medio\",IF(#REF!=48,\"Bajo\",0))))","v":{"$error":"#REF!"}},null,{"$f":"+MID(Tabla2[[#This Row],[Área/Dependencia]],17,8)","v":""}]
["",null,null,null,{"$f":"+VLOOKUP(Tabla2[[#This Row],[SEDE - REGIONAL]],DATOS!B38:D71,3,FALSE)","v":{"$error":"#N/A"}},{"$f":"+IF(OR(Tabla2[[#This Row],[Área/Dependencia]]=\"Subdirección de Sistemas Integrados\",Tabla2[[#This Row],[Área/Dependencia]]=\"Subdirección de Recursos Tecnológicos\"),\"X\",\"\")","v":""},{"$f":"+CONCATENATE(Tabla2[[#This Row],[Tipo de Proceso]],Tabla2[[#This Row],[Columna4]])","v":{"$error":"#N/A"}},null,null,null,null,null,null,null,null,null,null,null,null,null,{"$f":"+IF(Tabla2[[#This Row],[Nivel de acceso ]]=\"Alto\",0.5,IF(Tabla2[[#This Row],[Nivel de acceso ]]=\"Medio\",0.3,IF(Tabla2[[#This Row],[Nivel de acceso ]]=\"Bajo\",0.2,\"\")))","v":""},null,{"$f":"+IF(Tabla2[[#This Row],[Es  Reservada]]=\"Sí\",\"Escriba Ley\",\"No Aplica\")","v":"No Aplica"},null,null,null,null,{"$f":"IFERROR(IF(AND(Tabla2[[#This Row],[Contiene Datos Personales]]=\"SÍ\",OR(Tabla2[[#This Row],[Clasificación Datos Personales]]=\"Sensible\",Tabla2[[#This Row],[Clasificación Datos Personales]]=\"NNA\",Tabla2[[#This Row],[Clasificación Datos Personales]]=\"privado\")),\"Alto\",IF(AND(Tabla2[[#This Row],[Contiene Datos Personales]]=\"SÍ\",Tabla2[[#This Row],[Clasificación Datos Personales]]=\"SEMIPRIVADO\"),\"Medio\",\"Bajo\")),\"\")","v":"Bajo"},null,null,"No Aplica","No Aplica",null,null,null,{"$f":"+IF(Tabla2[[#This Row],[Integridad]]=\"Grave\",0.5,IF(Tabla2[[#This Row],[Integridad]]=\"Importante\",0.3,IF(Tabla2[[#This Row],[Integridad]]=\"Leve\",0.2,\"\")))","v":""},null,{"$f":"+IF(Tabla2[[#This Row],[Disponibilidad Interna]]=\"Sí\",0.1,IF(Tabla2[[#This Row],[Disponibilidad Interna]]=\"NO\",0,\"\"))","v":""},null,{"$f":"+IF(Tabla2[[#This Row],[Disponibilidad Terceros]]=\"Sí\",0.1,IF(Tabla2[[#This Row],[Disponibilidad Terceros]]=\"No\",0,\"\"))","v":""},{"$f":"+Tabla2[[#This Row],[Columna32]]+Tabla2[[#This Row],[Columna34]]+Tabla2[[#This Row],[Columna1]]+Tabla2[[#This Row],[Columna3]]","v":{"$error":"#VALUE!"}},{"$f":"IFERROR(IF(Tabla2[[#This Row],[Columna33]]<0.45,\"BAJA\",IF(Tabla2[[#This Row],[Columna33]]>0.75,\"ALTA\",\"MEDIA\")),\"\")","v":""},"No Aplica",{"$f":"+IF(Tabla2[[#This Row],[Información Publicada (WEB)]]=\"Sí\",\"Digite URL\",\"No Aplica\")","v":"No Aplica"},null,{"$f":"IF(Tabla2[[#This Row],[ Clasificación ICBF]]=\"Pública\",1,IF(Tabla2[[#This Row],[ Clasificación ICBF]]=\"Clasificada\",2,IF(Tabla2[[#This Row],[ Clasificación ICBF]]=\"Reservada\",3,0)))","v":0},{"$f":"IF(#REF!=8,4,IF(#REF!=16,3,IF(#REF!=24,2,IF(#REF!=48,1,0))))","v":{"$error":"#REF!"}},{"$f":"IF(#REF!=8,\"Alto\",IF(#REF!=16,\"Medio\",IF(#REF!=24,\"Medio\",IF(#REF!=48,\"Bajo\",0))))","v":{"$error":"#REF!"}},null,{"$f":"+MID(Tabla2[[#This Row],[Área/Dependencia]],17,8)","v":""}]
["",null,null,null,{"$f":"+VLOOKUP(Tabla2[[#This Row],[SEDE - REGIONAL]],DATOS!B39:D72,3,FALSE)","v":{"$error":"#N/A"}},{"$f":"+IF(OR(Tabla2[[#This Row],[Área/Dependencia]]=\"Subdirección de Sistemas Integrados\",Tabla2[[#This Row],[Área/Dependencia]]=\"Subdirección de Recursos Tecnológicos\"),\"X\",\"\")","v":""},{"$f":"+CONCATENATE(Tabla2[[#This Row],[Tipo de Proceso]],Tabla2[[#This Row],[Columna4]])","v":{"$error":"#N/A"}},null,null,null,null,null,null,null,null,null,null,null,null,null,{"$f":"+IF(Tabla2[[#This Row],[Nivel de acceso ]]=\"Alto\",0.5,IF(Tabla2[[#This Row],[Nivel de acceso ]]=\"Medio\",0.3,IF(Tabla2[[#This Row],[Nivel de acceso ]]=\"Bajo\",0.2,\"\")))","v":""},null,{"$f":"+IF(Tabla2[[#This Row],[Es  Reservada]]=\"Sí\",\"Escriba Ley\",\"No Aplica\")","v":"No Aplica"},null,null,null,null,{"$f":"IFERROR(IF(AND(Tabla2[[#This Row],[Contiene Datos Personales]]=\"SÍ\",OR(Tabla2[[#This Row],[Clasificación Datos Personales]]=\"Sensible\",Tabla2[[#This Row],[Clasificación Datos Personales]]=\"NNA\",Tabla2[[#This Row],[Clasificación Datos Personales]]=\"privado\")),\"Alto\",IF(AND(Tabla2[[#This Row],[Contiene Datos Personales]]=\"SÍ\",Tabla2[[#This Row],[Clasificación Datos Personales]]=\"SEMIPRIVADO\"),\"Medio\",\"Bajo\")),\"\")","v":"Bajo"},null,null,"No Aplica","No Aplica",null,null,null,{"$f":"+IF(Tabla2[[#This Row],[Integridad]]=\"Grave\",0.5,IF(Tabla2[[#This Row],[Integridad]]=\"Importante\",0.3,IF(Tabla2[[#This Row],[Integridad]]=\"Leve\",0.2,\"\")))","v":""},null,{"$f":"+IF(Tabla2[[#This Row],[Disponibilidad Interna]]=\"Sí\",0.1,IF(Tabla2[[#This Row],[Disponibilidad Interna]]=\"NO\",0,\"\"))","v":""},null,{"$f":"+IF(Tabla2[[#This Row],[Disponibilidad Terceros]]=\"Sí\",0.1,IF(Tabla2[[#This Row],[Disponibilidad Terceros]]=\"No\",0,\"\"))","v":""},{"$f":"+Tabla2[[#This Row],[Columna32]]+Tabla2[[#This Row],[Columna34]]+Tabla2[[#This Row],[Columna1]]+Tabla2[[#This Row],[Columna3]]","v":{"$error":"#VALUE!"}},{"$f":"IFERROR(IF(Tabla2[[#This Row],[Columna33]]<0.45,\"BAJA\",IF(Tabla2[[#This Row],[Columna33]]>0.75,\"ALTA\",\"MEDIA\")),\"\")","v":""},"No Aplica",{"$f":"+IF(Tabla2[[#This Row],[Información Publicada (WEB)]]=\"Sí\",\"Digite URL\",\"No Aplica\")","v":"No Aplica"},null,{"$f":"IF(Tabla2[[#This Row],[ Clasificación ICBF]]=\"Pública\",1,IF(Tabla2[[#This Row],[ Clasificación ICBF]]=\"Clasificada\",2,IF(Tabla2[[#This Row],[ Clasificación ICBF]]=\"Reservada\",3,0)))","v":0},{"$f":"IF(#REF!=8,4,IF(#REF!=16,3,IF(#REF!=24,2,IF(#REF!=48,1,0))))","v":{"$error":"#REF!"}},{"$f":"IF(#REF!=8,\"Alto\",IF(#REF!=16,\"Medio\",IF(#REF!=24,\"Medio\",IF(#REF!=48,\"Bajo\",0))))","v":{"$error":"#REF!"}},null,{"$f":"+MID(Tabla2[[#This Row],[Área/Dependencia]],17,8)","v":""}]
["",null,null,null,{"$f":"+VLOOKUP(Tabla2[[#This Row],[SEDE - REGIONAL]],DATOS!B40:D73,3,FALSE)","v":{"$error":"#N/A"}},{"$f":"+IF(OR(Tabla2[[#This Row],[Área/Dependencia]]=\"Subdirección de Sistemas Integrados\",Tabla2[[#This Row],[Área/Dependencia]]=\"Subdirección de Recursos Tecnológicos\"),\"X\",\"\")","v":""},{"$f":"+CONCATENATE(Tabla2[[#This Row],[Tipo de Proceso]],Tabla2[[#This Row],[Columna4]])","v":{"$error":"#N/A"}},null,null,null,null,null,null,null,null,null,null,null,null,null,{"$f":"+IF(Tabla2[[#This Row],[Nivel de acceso ]]=\"Alto\",0.5,IF(Tabla2[[#This Row],[Nivel de acceso ]]=\"Medio\",0.3,IF(Tabla2[[#This Row],[Nivel de acceso ]]=\"Bajo\",0.2,\"\")))","v":""},null,{"$f":"+IF(Tabla2[[#This Row],[Es  Reservada]]=\"Sí\",\"Escriba Ley\",\"No Aplica\")","v":"No Aplica"},null,null,null,null,{"$f":"IFERROR(IF(AND(Tabla2[[#This Row],[Contiene Datos Personales]]=\"SÍ\",OR(Tabla2[[#This Row],[Clasificación Datos Personales]]=\"Sensible\",Tabla2[[#This Row],[Clasificación Datos Personales]]=\"NNA\",Tabla2[[#This Row],[Clasificación Datos Personales]]=\"privado\")),\"Alto\",IF(AND(Tabla2[[#This Row],[Contiene Datos Personales]]=\"SÍ\",Tabla2[[#This Row],[Clasificación Datos Personales]]=\"SEMIPRIVADO\"),\"Medio\",\"Bajo\")),\"\")","v":"Bajo"},null,null,"No Aplica","No Aplica",null,null,null,{"$f":"+IF(Tabla2[[#This Row],[Integridad]]=\"Grave\",0.5,IF(Tabla2[[#This Row],[Integridad]]=\"Importante\",0.3,IF(Tabla2[[#This Row],[Integridad]]=\"Leve\",0.2,\"\")))","v":""},null,{"$f":"+IF(Tabla2[[#This Row],[Disponibilidad Interna]]=\"Sí\",0.1,IF(Tabla2[[#This Row],[Disponibilidad Interna]]=\"NO\",0,\"\"))","v":""},null,{"$f":"+IF(Tabla2[[#This Row],[Disponibilidad Terceros]]=\"Sí\",0.1,IF(Tabla2[[#This Row],[Disponibilidad Terceros]]=\"No\",0,\"\"))","v":""},{"$f":"+Tabla2[[#This Row],[Columna32]]+Tabla2[[#This Row],[Columna34]]+Tabla2[[#This Row],[Columna1]]+Tabla2[[#This Row],[Columna3]]","v":{"$error":"#VALUE!"}},{"$f":"IFERROR(IF(Tabla2[[#This Row],[Columna33]]<0.45,\"BAJA\",IF(Tabla2[[#This Row],[Columna33]]>0.75,\"ALTA\",\"MEDIA\")),\"\")","v":""},"No Aplica",{"$f":"+IF(Tabla2[[#This Row],[Información Publicada (WEB)]]=\"Sí\",\"Digite URL\",\"No Aplica\")","v":"No Aplica"},null,{"$f":"IF(Tabla2[[#This Row],[ Clasificación ICBF]]=\"Pública\",1,IF(Tabla2[[#This Row],[ Clasificación ICBF]]=\"Clasificada\",2,IF(Tabla2[[#This Row],[ Clasificación ICBF]]=\"Reservada\",3,0)))","v":0},{"$f":"IF(#REF!=8,4,IF(#REF!=16,3,IF(#REF!=24,2,IF(#REF!=48,1,0))))","v":{"$error":"#REF!"}},{"$f":"IF(#REF!=8,\"Alto\",IF(#REF!=16,\"Medio\",IF(#REF!=24,\"Medio\",IF(#REF!=48,\"Bajo\",0))))","v":{"$error":"#REF!"}},null,{"$f":"+MID(Tabla2[[#This Row],[Área/Dependencia]],17,8)","v":""}]
["",null,null,null,{"$f":"+VLOOKUP(Tabla2[[#This Row],[SEDE - REGIONAL]],DATOS!B41:D74,3,FALSE)","v":{"$error":"#N/A"}},{"$f":"+IF(OR(Tabla2[[#This Row],[Área/Dependencia]]=\"Subdirección de Sistemas Integrados\",Tabla2[[#This Row],[Área/Dependencia]]=\"Subdirección de Recursos Tecnológicos\"),\"X\",\"\")","v":""},{"$f":"+CONCATENATE(Tabla2[[#This Row],[Tipo de Proceso]],Tabla2[[#This Row],[Columna4]])","v":{"$error":"#N/A"}},null,null,null,null,null,null,null,null,null,null,null,null,null,{"$f":"+IF(Tabla2[[#This Row],[Nivel de acceso ]]=\"Alto\",0.5,IF(Tabla2[[#This Row],[Nivel de acceso ]]=\"Medio\",0.3,IF(Tabla2[[#This Row],[Nivel de acceso ]]=\"Bajo\",0.2,\"\")))","v":""},null,{"$f":"+IF(Tabla2[[#This Row],[Es  Reservada]]=\"Sí\",\"Escriba Ley\",\"No Aplica\")","v":"No Aplica"},null,null,null,null,{"$f":"IFERROR(IF(AND(Tabla2[[#This Row],[Contiene Datos Personales]]=\"SÍ\",OR(Tabla2[[#This Row],[Clasificación Datos Personales]]=\"Sensible\",Tabla2[[#This Row],[Clasificación Datos Personales]]=\"NNA\",Tabla2[[#This Row],[Clasificación Datos Personales]]=\"privado\")),\"Alto\",IF(AND(Tabla2[[#This Row],[Contiene Datos Personales]]=\"SÍ\",Tabla2[[#This Row],[Clasificación Datos Personales]]=\"SEMIPRIVADO\"),\"Medio\",\"Bajo\")),\"\")","v":"Bajo"},null,null,"No Aplica","No Aplica",null,null,null,{"$f":"+IF(Tabla2[[#This Row],[Integridad]]=\"Grave\",0.5,IF(Tabla2[[#This Row],[Integridad]]=\"Importante\",0.3,IF(Tabla2[[#This Row],[Integridad]]=\"Leve\",0.2,\"\")))","v":""},null,{"$f":"+IF(Tabla2[[#This Row],[Disponibilidad Interna]]=\"Sí\",0.1,IF(Tabla2[[#This Row],[Disponibilidad Interna]]=\"NO\",0,\"\"))","v":""},null,{"$f":"+IF(Tabla2[[#This Row],[Disponibilidad Terceros]]=\"Sí\",0.1,IF(Tabla2[[#This Row],[Disponibilidad Terceros]]=\"No\",0,\"\"))","v":""},{"$f":"+Tabla2[[#This Row],[Columna32]]+Tabla2[[#This Row],[Columna34]]+Tabla2[[#This Row],[Columna1]]+Tabla2[[#This Row],[Columna3]]","v":{"$error":"#VALUE!"}},{"$f":"IFERROR(IF(Tabla2[[#This Row],[Columna33]]<0.45,\"BAJA\",IF(Tabla2[[#This Row],[Columna33]]>0.75,\"ALTA\",\"MEDIA\")),\"\")","v":""},"No Aplica",{"$f":"+IF(Tabla2[[#This Row],[Información Publicada (WEB)]]=\"Sí\",\"Digite URL\",\"No Aplica\")","v":"No Aplica"},null,{"$f":"IF(Tabla2[[#This Row],[ Clasificación ICBF]]=\"Pública\",1,IF(Tabla2[[#This Row],[ Clasificación ICBF]]=\"Clasificada\",2,IF(Tabla2[[#This Row],[ Clasificación ICBF]]=\"Reservada\",3,0)))","v":0},{"$f":"IF(#REF!=8,4,IF(#REF!=16,3,IF(#REF!=24,2,IF(#REF!=48,1,0))))","v":{"$error":"#REF!"}},{"$f":"IF(#REF!=8,\"Alto\",IF(#REF!=16,\"Medio\",IF(#REF!=24,\"Medio\",IF(#REF!=48,\"Bajo\",0))))","v":{"$error":"#REF!"}},null,{"$f":"+MID(Tabla2[[#This Row],[Área/Dependencia]],17,8)","v":""}]
["",null,null,null,{"$f":"+VLOOKUP(Tabla2[[#This Row],[SEDE - REGIONAL]],DATOS!B42:D75,3,FALSE)","v":{"$error":"#N/A"}},{"$f":"+IF(OR(Tabla2[[#This Row],[Área/Dependencia]]=\"Subdirección de Sistemas Integrados\",Tabla2[[#This Row],[Área/Dependencia]]=\"Subdirección de Recursos Tecnológicos\"),\"X\",\"\")","v":""},{"$f":"+CONCATENATE(Tabla2[[#This Row],[Tipo de Proceso]],Tabla2[[#This Row],[Columna4]])","v":{"$error":"#N/A"}},null,null,null,null,null,null,null,null,null,null,null,null,null,{"$f":"+IF(Tabla2[[#This Row],[Nivel de acceso ]]=\"Alto\",0.5,IF(Tabla2[[#This Row],[Nivel de acceso ]]=\"Medio\",0.3,IF(Tabla2[[#This Row],[Nivel de acceso ]]=\"Bajo\",0.2,\"\")))","v":""},null,{"$f":"+IF(Tabla2[[#This Row],[Es  Reservada]]=\"Sí\",\"Escriba Ley\",\"No Aplica\")","v":"No Aplica"},null,null,null,null,{"$f":"IFERROR(IF(AND(Tabla2[[#This Row],[Contiene Datos Personales]]=\"SÍ\",OR(Tabla2[[#This Row],[Clasificación Datos Personales]]=\"Sensible\",Tabla2[[#This Row],[Clasificación Datos Personales]]=\"NNA\",Tabla2[[#This Row],[Clasificación Datos Personales]]=\"privado\")),\"Alto\",IF(AND(Tabla2[[#This Row],[Contiene Datos Personales]]=\"SÍ\",Tabla2[[#This Row],[Clasificación Datos Personales]]=\"SEMIPRIVADO\"),\"Medio\",\"Bajo\")),\"\")","v":"Bajo"},null,null,"No Aplica","No Aplica",null,null,null,{"$f":"+IF(Tabla2[[#This Row],[Integridad]]=\"Grave\",0.5,IF(Tabla2[[#This Row],[Integridad]]=\"Importante\",0.3,IF(Tabla2[[#This Row],[Integridad]]=\"Leve\",0.2,\"\")))","v":""},null,{"$f":"+IF(Tabla2[[#This Row],[Disponibilidad Interna]]=\"Sí\",0.1,IF(Tabla2[[#This Row],[Disponibilidad Interna]]=\"NO\",0,\"\"))","v":""},null,{"$f":"+IF(Tabla2[[#This Row],[Disponibilidad Terceros]]=\"Sí\",0.1,IF(Tabla2[[#This Row],[Disponibilidad Terceros]]=\"No\",0,\"\"))","v":""},{"$f":"+Tabla2[[#This Row],[Columna32]]+Tabla2[[#This Row],[Columna34]]+Tabla2[[#This Row],[Columna1]]+Tabla2[[#This Row],[Columna3]]","v":{"$error":"#VALUE!"}},{"$f":"IFERROR(IF(Tabla2[[#This Row],[Columna33]]<0.45,\"BAJA\",IF(Tabla2[[#This Row],[Columna33]]>0.75,\"ALTA\",\"MEDIA\")),\"\")","v":""},"No Aplica",{"$f":"+IF(Tabla2[[#This Row],[Información Publicada (WEB)]]=\"Sí\",\"Digite URL\",\"No Aplica\")","v":"No Aplica"},null,{"$f":"IF(Tabla2[[#This Row],[ Clasificación ICBF]]=\"Pública\",1,IF(Tabla2[[#This Row],[ Clasificación ICBF]]=\"Clasificada\",2,IF(Tabla2[[#This Row],[ Clasificación ICBF]]=\"Reservada\",3,0)))","v":0},{"$f":"IF(#REF!=8,4,IF(#REF!=16,3,IF(#REF!=24,2,IF(#REF!=48,1,0))))","v":{"$error":"#REF!"}},{"$f":"IF(#REF!=8,\"Alto\",IF(#REF!=16,\"Medio\",IF(#REF!=24,\"Medio\",IF(#REF!=48,\"Bajo\",0))))","v":{"$error":"#REF!"}},null,{"$f":"+MID(Tabla2[[#This Row],[Área/Dependencia]],17,8)","v":""}]
["",null,null,null,{"$f":"+VLOOKUP(Tabla2[[#This Row],[SEDE - REGIONAL]],DATOS!B43:D76,3,FALSE)","v":{"$error":"#N/A"}},{"$f":"+IF(OR(Tabla2[[#This Row],[Área/Dependencia]]=\"Subdirección de Sistemas Integrados\",Tabla2[[#This Row],[Área/Dependencia]]=\"Subdirección de Recursos Tecnológicos\"),\"X\",\"\")","v":""},{"$f":"+CONCATENATE(Tabla2[[#This Row],[Tipo de Proceso]],Tabla2[[#This Row],[Columna4]])","v":{"$error":"#N/A"}},null,null,null,null,null,null,null,null,null,null,null,null,null,{"$f":"+IF(Tabla2[[#This Row],[Nivel de acceso ]]=\"Alto\",0.5,IF(Tabla2[[#This Row],[Nivel de acceso ]]=\"Medio\",0.3,IF(Tabla2[[#This Row],[Nivel de acceso ]]=\"Bajo\",0.2,\"\")))","v":""},null,{"$f":"+IF(Tabla2[[#This Row],[Es  Reservada]]=\"Sí\",\"Escriba Ley\",\"No Aplica\")","v":"No Aplica"},null,null,null,null,{"$f":"IFERROR(IF(AND(Tabla2[[#This Row],[Contiene Datos Personales]]=\"SÍ\",OR(Tabla2[[#This Row],[Clasificación Datos Personales]]=\"Sensible\",Tabla2[[#This Row],[Clasificación Datos Personales]]=\"NNA\",Tabla2[[#This Row],[Clasificación Datos Personales]]=\"privado\")),\"Alto\",IF(AND(Tabla2[[#This Row],[Contiene Datos Personales]]=\"SÍ\",Tabla2[[#This Row],[Clasificación Datos Personales]]=\"SEMIPRIVADO\"),\"Medio\",\"Bajo\")),\"\")","v":"Bajo"},null,null,"No Aplica","No Aplica",null,null,null,{"$f":"+IF(Tabla2[[#This Row],[Integridad]]=\"Grave\",0.5,IF(Tabla2[[#This Row],[Integridad]]=\"Importante\",0.3,IF(Tabla2[[#This Row],[Integridad]]=\"Leve\",0.2,\"\")))","v":""},null,{"$f":"+IF(Tabla2[[#This Row],[Disponibilidad Interna]]=\"Sí\",0.1,IF(Tabla2[[#This Row],[Disponibilidad Interna]]=\"NO\",0,\"\"))","v":""},null,{"$f":"+IF(Tabla2[[#This Row],[Disponibilidad Terceros]]=\"Sí\",0.1,IF(Tabla2[[#This Row],[Disponibilidad Terceros]]=\"No\",0,\"\"))","v":""},{"$f":"+Tabla2[[#This Row],[Columna32]]+Tabla2[[#This Row],[Columna34]]+Tabla2[[#This Row],[Columna1]]+Tabla2[[#This Row],[Columna3]]","v":{"$error":"#VALUE!"}},{"$f":"IFERROR(IF(Tabla2[[#This Row],[Columna33]]<0.45,\"BAJA\",IF(Tabla2[[#This Row],[Columna33]]>0.75,\"ALTA\",\"MEDIA\")),\"\")","v":""},"No Aplica",{"$f":"+IF(Tabla2[[#This Row],[Información Publicada (WEB)]]=\"Sí\",\"Digite URL\",\"No Aplica\")","v":"No Aplica"},null,{"$f":"IF(Tabla2[[#This Row],[ Clasificación ICBF]]=\"Pública\",1,IF(Tabla2[[#This Row],[ Clasificación ICBF]]=\"Clasificada\",2,IF(Tabla2[[#This Row],[ Clasificación ICBF]]=\"Reservada\",3,0)))","v":0},{"$f":"IF(#REF!=8,4,IF(#REF!=16,3,IF(#REF!=24,2,IF(#REF!=48,1,0))))","v":{"$error":"#REF!"}},{"$f":"IF(#REF!=8,\"Alto\",IF(#REF!=16,\"Medio\",IF(#REF!=24,\"Medio\",IF(#REF!=48,\"Bajo\",0))))","v":{"$error":"#REF!"}},null,{"$f":"+MID(Tabla2[[#This Row],[Área/Dependencia]],17,8)","v":""}]
["",null,null,null,{"$f":"+VLOOKUP(Tabla2[[#This Row],[SEDE - REGIONAL]],DATOS!B44:D77,3,FALSE)","v":{"$error":"#N/A"}},{"$f":"+IF(OR(Tabla2[[#This Row],[Área/Dependencia]]=\"Subdirección de Sistemas Integrados\",Tabla2[[#This Row],[Área/Dependencia]]=\"Subdirección de Recursos Tecnológicos\"),\"X\",\"\")","v":""},{"$f":"+CONCATENATE(Tabla2[[#This Row],[Tipo de Proceso]],Tabla2[[#This Row],[Columna4]])","v":{"$error":"#N/A"}},null,null,null,null,null,null,null,null,null,null,null,null,null,{"$f":"+IF(Tabla2[[#This Row],[Nivel de acceso ]]=\"Alto\",0.5,IF(Tabla2[[#This Row],[Nivel de acceso ]]=\"Medio\",0.3,IF(Tabla2[[#This Row],[Nivel de acceso ]]=\"Bajo\",0.2,\"\")))","v":""},null,{"$f":"+IF(Tabla2[[#This Row],[Es  Reservada]]=\"Sí\",\"Escriba Ley\",\"No Aplica\")","v":"No Aplica"},null,null,null,null,{"$f":"IFERROR(IF(AND(Tabla2[[#This Row],[Contiene Datos Personales]]=\"SÍ\",OR(Tabla2[[#This Row],[Clasificación Datos Personales]]=\"Sensible\",Tabla2[[#This Row],[Clasificación Datos Personales]]=\"NNA\",Tabla2[[#This Row],[Clasificación Datos Personales]]=\"privado\")),\"Alto\",IF(AND(Tabla2[[#This Row],[Contiene Datos Personales]]=\"SÍ\",Tabla2[[#This Row],[Clasificación Datos Personales]]=\"SEMIPRIVADO\"),\"Medio\",\"Bajo\")),\"\")","v":"Bajo"},null,null,"No Aplica","No Aplica",null,null,null,{"$f":"+IF(Tabla2[[#This Row],[Integridad]]=\"Grave\",0.5,IF(Tabla2[[#This Row],[Integridad]]=\"Importante\",0.3,IF(Tabla2[[#This Row],[Integridad]]=\"Leve\",0.2,\"\")))","v":""},null,{"$f":"+IF(Tabla2[[#This Row],[Disponibilidad Interna]]=\"Sí\",0.1,IF(Tabla2[[#This Row],[Disponibilidad Interna]]=\"NO\",0,\"\"))","v":""},null,{"$f":"+IF(Tabla2[[#This Row],[Disponibilidad Terceros]]=\"Sí\",0.1,IF(Tabla2[[#This Row],[Disponibilidad Terceros]]=\"No\",0,\"\"))","v":""},{"$f":"+Tabla2[[#This Row],[Columna32]]+Tabla2[[#This Row],[Columna34]]+Tabla2[[#This Row],[Columna1]]+Tabla2[[#This Row],[Columna3]]","v":{"$error":"#VALUE!"}},{"$f":"IFERROR(IF(Tabla2[[#This Row],[Columna33]]<0.45,\"BAJA\",IF(Tabla2[[#This Row],[Columna33]]>0.75,\"ALTA\",\"MEDIA\")),\"\")","v":""},"No Aplica",{"$f":"+IF(Tabla2[[#This Row],[Información Publicada (WEB)]]=\"Sí\",\"Digite URL\",\"No Aplica\")","v":"No Aplica"},null,{"$f":"IF(Tabla2[[#This Row],[ Clasificación ICBF]]=\"Pública\",1,IF(Tabla2[[#This Row],[ Clasificación ICBF]]=\"Clasificada\",2,IF(Tabla2[[#This Row],[ Clasificación ICBF]]=\"Reservada\",3,0)))","v":0},{"$f":"IF(#REF!=8,4,IF(#REF!=16,3,IF(#REF!=24,2,IF(#REF!=48,1,0))))","v":{"$error":"#REF!"}},{"$f":"IF(#REF!=8,\"Alto\",IF(#REF!=16,\"Medio\",IF(#REF!=24,\"Medio\",IF(#REF!=48,\"Bajo\",0))))","v":{"$error":"#REF!"}},null,{"$f":"+MID(Tabla2[[#This Row],[Área/Dependencia]],17,8)","v":""}]
["",null,null,null,{"$f":"+VLOOKUP(Tabla2[[#This Row],[SEDE - REGIONAL]],DATOS!B45:D78,3,FALSE)","v":{"$error":"#N/A"}},{"$f":"+IF(OR(Tabla2[[#This Row],[Área/Dependencia]]=\"Subdirección de Sistemas Integrados\",Tabla2[[#This Row],[Área/Dependencia]]=\"Subdirección de Recursos Tecnológicos\"),\"X\",\"\")","v":""},{"$f":"+CONCATENATE(Tabla2[[#This Row],[Tipo de Proceso]],Tabla2[[#This Row],[Columna4]])","v":{"$error":"#N/A"}},null,null,null,null,null,null,null,null,null,null,null,null,null,{"$f":"+IF(Tabla2[[#This Row],[Nivel de acceso ]]=\"Alto\",0.5,IF(Tabla2[[#This Row],[Nivel de acceso ]]=\"Medio\",0.3,IF(Tabla2[[#This Row],[Nivel de acceso ]]=\"Bajo\",0.2,\"\")))","v":""},null,{"$f":"+IF(Tabla2[[#This Row],[Es  Reservada]]=\"Sí\",\"Escriba Ley\",\"No Aplica\")","v":"No Aplica"},null,null,null,null,{"$f":"IFERROR(IF(AND(Tabla2[[#This Row],[Contiene Datos Personales]]=\"SÍ\",OR(Tabla2[[#This Row],[Clasificación Datos Personales]]=\"Sensible\",Tabla2[[#This Row],[Clasificación Datos Personales]]=\"NNA\",Tabla2[[#This Row],[Clasificación Datos Personales]]=\"privado\")),\"Alto\",IF(AND(Tabla2[[#This Row],[Contiene Datos Personales]]=\"SÍ\",Tabla2[[#This Row],[Clasificación Datos Personales]]=\"SEMIPRIVADO\"),\"Medio\",\"Bajo\")),\"\")","v":"Bajo"},null,null,"No Aplica","No Aplica",null,null,null,{"$f":"+IF(Tabla2[[#This Row],[Integridad]]=\"Grave\",0.5,IF(Tabla2[[#This Row],[Integridad]]=\"Importante\",0.3,IF(Tabla2[[#This Row],[Integridad]]=\"Leve\",0.2,\"\")))","v":""},null,{"$f":"+IF(Tabla2[[#This Row],[Disponibilidad Interna]]=\"Sí\",0.1,IF(Tabla2[[#This Row],[Disponibilidad Interna]]=\"NO\",0,\"\"))","v":""},null,{"$f":"+IF(Tabla2[[#This Row],[Disponibilidad Terceros]]=\"Sí\",0.1,IF(Tabla2[[#This Row],[Disponibilidad Terceros]]=\"No\",0,\"\"))","v":""},{"$f":"+Tabla2[[#This Row],[Columna32]]+Tabla2[[#This Row],[Columna34]]+Tabla2[[#This Row],[Columna1]]+Tabla2[[#This Row],[Columna3]]","v":{"$error":"#VALUE!"}},{"$f":"IFERROR(IF(Tabla2[[#This Row],[Columna33]]<0.45,\"BAJA\",IF(Tabla2[[#This Row],[Columna33]]>0.75,\"ALTA\",\"MEDIA\")),\"\")","v":""},"No Aplica",{"$f":"+IF(Tabla2[[#This Row],[Información Publicada (WEB)]]=\"Sí\",\"Digite URL\",\"No Aplica\")","v":"No Aplica"},null,{"$f":"IF(Tabla2[[#This Row],[ Clasificación ICBF]]=\"Pública\",1,IF(Tabla2[[#This Row],[ Clasificación ICBF]]=\"Clasificada\",2,IF(Tabla2[[#This Row],[ Clasificación ICBF]]=\"Reservada\",3,0)))","v":0},{"$f":"IF(#REF!=8,4,IF(#REF!=16,3,IF(#REF!=24,2,IF(#REF!=48,1,0))))","v":{"$error":"#REF!"}},{"$f":"IF(#REF!=8,\"Alto\",IF(#REF!=16,\"Medio\",IF(#REF!=24,\"Medio\",IF(#REF!=48,\"Bajo\",0))))","v":{"$error":"#REF!"}},null,{"$f":"+MID(Tabla2[[#This Row],[Área/Dependencia]],17,8)","v":""}]
["",null,null,null,{"$f":"+VLOOKUP(Tabla2[[#This Row],[SEDE - REGIONAL]],DATOS!B46:D79,3,FALSE)","v":{"$error":"#N/A"}},{"$f":"+IF(OR(Tabla2[[#This Row],[Área/Dependencia]]=\"Subdirección de Sistemas Integrados\",Tabla2[[#This Row],[Área/Dependencia]]=\"Subdirección de Recursos Tecnológicos\"),\"X\",\"\")","v":""},{"$f":"+CONCATENATE(Tabla2[[#This Row],[Tipo de Proceso]],Tabla2[[#This Row],[Columna4]])","v":{"$error":"#N/A"}},null,null,null,null,null,null,null,null,null,null,null,null,null,{"$f":"+IF(Tabla2[[#This Row],[Nivel de acceso ]]=\"Alto\",0.5,IF(Tabla2[[#This Row],[Nivel de acceso ]]=\"Medio\",0.3,IF(Tabla2[[#This Row],[Nivel de acceso ]]=\"Bajo\",0.2,\"\")))","v":""},null,{"$f":"+IF(Tabla2[[#This Row],[Es  Reservada]]=\"Sí\",\"Escriba Ley\",\"No Aplica\")","v":"No Aplica"},null,null,null,null,{"$f":"IFERROR(IF(AND(Tabla2[[#This Row],[Contiene Datos Personales]]=\"SÍ\",OR(Tabla2[[#This Row],[Clasificación Datos Personales]]=\"Sensible\",Tabla2[[#This Row],[Clasificación Datos Personales]]=\"NNA\",Tabla2[[#This Row],[Clasificación Datos Personales]]=\"privado\")),\"Alto\",IF(AND(Tabla2[[#This Row],[Contiene Datos Personales]]=\"SÍ\",Tabla2[[#This Row],[Clasificación Datos Personales]]=\"SEMIPRIVADO\"),\"Medio\",\"Bajo\")),\"\")","v":"Bajo"},null,null,"No Aplica","No Aplica",null,null,null,{"$f":"+IF(Tabla2[[#This Row],[Integridad]]=\"Grave\",0.5,IF(Tabla2[[#This Row],[Integridad]]=\"Importante\",0.3,IF(Tabla2[[#This Row],[Integridad]]=\"Leve\",0.2,\"\")))","v":""},null,{"$f":"+IF(Tabla2[[#This Row],[Disponibilidad Interna]]=\"Sí\",0.1,IF(Tabla2[[#This Row],[Disponibilidad Interna]]=\"NO\",0,\"\"))","v":""},null,{"$f":"+IF(Tabla2[[#This Row],[Disponibilidad Terceros]]=\"Sí\",0.1,IF(Tabla2[[#This Row],[Disponibilidad Terceros]]=\"No\",0,\"\"))","v":""},{"$f":"+Tabla2[[#This Row],[Columna32]]+Tabla2[[#This Row],[Columna34]]+Tabla2[[#This Row],[Columna1]]+Tabla2[[#This Row],[Columna3]]","v":{"$error":"#VALUE!"}},{"$f":"IFERROR(IF(Tabla2[[#This Row],[Columna33]]<0.45,\"BAJA\",IF(Tabla2[[#This Row],[Columna33]]>0.75,\"ALTA\",\"MEDIA\")),\"\")","v":""},"No Aplica",{"$f":"+IF(Tabla2[[#This Row],[Información Publicada (WEB)]]=\"Sí\",\"Digite URL\",\"No Aplica\")","v":"No Aplica"},null,{"$f":"IF(Tabla2[[#This Row],[ Clasificación ICBF]]=\"Pública\",1,IF(Tabla2[[#This Row],[ Clasificación ICBF]]=\"Clasificada\",2,IF(Tabla2[[#This Row],[ Clasificación ICBF]]=\"Reservada\",3,0)))","v":0},{"$f":"IF(#REF!=8,4,IF(#REF!=16,3,IF(#REF!=24,2,IF(#REF!=48,1,0))))","v":{"$error":"#REF!"}},{"$f":"IF(#REF!=8,\"Alto\",IF(#REF!=16,\"Medio\",IF(#REF!=24,\"Medio\",IF(#REF!=48,\"Bajo\",0))))","v":{"$error":"#REF!"}},null,{"$f":"+MID(Tabla2[[#This Row],[Área/Dependencia]],17,8)","v":""}]
["",null,null,null,{"$f":"+VLOOKUP(Tabla2[[#This Row],[SEDE - REGIONAL]],DATOS!B47:D80,3,FALSE)","v":{"$error":"#N/A"}},{"$f":"+IF(OR(Tabla2[[#This Row],[Área/Dependencia]]=\"Subdirección de Sistemas Integrados\",Tabla2[[#This Row],[Área/Dependencia]]=\"Subdirección de Recursos Tecnológicos\"),\"X\",\"\")","v":""},{"$f":"+CONCATENATE(Tabla2[[#This Row],[Tipo de Proceso]],Tabla2[[#This Row],[Columna4]])","v":{"$error":"#N/A"}},null,null,null,null,null,null,null,null,null,null,null,null,null,{"$f":"+IF(Tabla2[[#This Row],[Nivel de acceso ]]=\"Alto\",0.5,IF(Tabla2[[#This Row],[Nivel de acceso ]]=\"Medio\",0.3,IF(Tabla2[[#This Row],[Nivel de acceso ]]=\"Bajo\",0.2,\"\")))","v":""},null,{"$f":"+IF(Tabla2[[#This Row],[Es  Reservada]]=\"Sí\",\"Escriba Ley\",\"No Aplica\")","v":"No Aplica"},null,null,null,null,{"$f":"IFERROR(IF(AND(Tabla2[[#This Row],[Contiene Datos Personales]]=\"SÍ\",OR(Tabla2[[#This Row],[Clasificación Datos Personales]]=\"Sensible\",Tabla2[[#This Row],[Clasificación Datos Personales]]=\"NNA\",Tabla2[[#This Row],[Clasificación Datos Personales]]=\"privado\")),\"Alto\",IF(AND(Tabla2[[#This Row],[Contiene Datos Personales]]=\"SÍ\",Tabla2[[#This Row],[Clasificación Datos Personales]]=\"SEMIPRIVADO\"),\"Medio\",\"Bajo\")),\"\")","v":"Bajo"},null,null,"No Aplica","No Aplica",null,null,null,{"$f":"+IF(Tabla2[[#This Row],[Integridad]]=\"Grave\",0.5,IF(Tabla2[[#This Row],[Integridad]]=\"Importante\",0.3,IF(Tabla2[[#This Row],[Integridad]]=\"Leve\",0.2,\"\")))","v":""},null,{"$f":"+IF(Tabla2[[#This Row],[Disponibilidad Interna]]=\"Sí\",0.1,IF(Tabla2[[#This Row],[Disponibilidad Interna]]=\"NO\",0,\"\"))","v":""},null,{"$f":"+IF(Tabla2[[#This Row],[Disponibilidad Terceros]]=\"Sí\",0.1,IF(Tabla2[[#This Row],[Disponibilidad Terceros]]=\"No\",0,\"\"))","v":""},{"$f":"+Tabla2[[#This Row],[Columna32]]+Tabla2[[#This Row],[Columna34]]+Tabla2[[#This Row],[Columna1]]+Tabla2[[#This Row],[Columna3]]","v":{"$error":"#VALUE!"}},{"$f":"IFERROR(IF(Tabla2[[#This Row],[Columna33]]<0.45,\"BAJA\",IF(Tabla2[[#This Row],[Columna33]]>0.75,\"ALTA\",\"MEDIA\")),\"\")","v":""},"No Aplica",{"$f":"+IF(Tabla2[[#This Row],[Información Publicada (WEB)]]=\"Sí\",\"Digite URL\",\"No Aplica\")","v":"No Aplica"},null,{"$f":"IF(Tabla2[[#This Row],[ Clasificación ICBF]]=\"Pública\",1,IF(Tabla2[[#This Row],[ Clasificación ICBF]]=\"Clasificada\",2,IF(Tabla2[[#This Row],[ Clasificación ICBF]]=\"Reservada\",3,0)))","v":0},{"$f":"IF(#REF!=8,4,IF(#REF!=16,3,IF(#REF!=24,2,IF(#REF!=48,1,0))))","v":{"$error":"#REF!"}},{"$f":"IF(#REF!=8,\"Alto\",IF(#REF!=16,\"Medio\",IF(#REF!=24,\"Medio\",IF(#REF!=48,\"Bajo\",0))))","v":{"$error":"#REF!"}},null,{"$f":"+MID(Tabla2[[#This Row],[Área/Dependencia]],17,8)","v":""}]
["",null,null,null,{"$f":"+VLOOKUP(Tabla2[[#This Row],[SEDE - REGIONAL]],DATOS!B48:D81,3,FALSE)","v":{"$error":"#N/A"}},{"$f":"+IF(OR(Tabla2[[#This Row],[Área/Dependencia]]=\"Subdirección de Sistemas Integrados\",Tabla2[[#This Row],[Área/Dependencia]]=\"Subdirección de Recursos Tecnológicos\"),\"X\",\"\")","v":""},{"$f":"+CONCATENATE(Tabla2[[#This Row],[Tipo de Proceso]],Tabla2[[#This Row],[Columna4]])","v":{"$error":"#N/A"}},null,null,null,null,null,null,null,null,null,null,null,null,null,{"$f":"+IF(Tabla2[[#This Row],[Nivel de acceso ]]=\"Alto\",0.5,IF(Tabla2[[#This Row],[Nivel de acceso ]]=\"Medio\",0.3,IF(Tabla2[[#This Row],[Nivel de acceso ]]=\"Bajo\",0.2,\"\")))","v":""},null,{"$f":"+IF(Tabla2[[#This Row],[Es  Reservada]]=\"Sí\",\"Escriba Ley\",\"No Aplica\")","v":"No Aplica"},null,null,null,null,{"$f":"IFERROR(IF(AND(Tabla2[[#This Row],[Contiene Datos Personales]]=\"SÍ\",OR(Tabla2[[#This Row],[Clasificación Datos Personales]]=\"Sensible\",Tabla2[[#This Row],[Clasificación Datos Personales]]=\"NNA\",Tabla2[[#This Row],[Clasificación Datos Personales]]=\"privado\")),\"Alto\",IF(AND(Tabla2[[#This Row],[Contiene Datos Personales]]=\"SÍ\",Tabla2[[#This Row],[Clasificación Datos Personales]]=\"SEMIPRIVADO\"),\"Medio\",\"Bajo\")),\"\")","v":"Bajo"},null,null,"No Aplica","No Aplica",null,null,null,{"$f":"+IF(Tabla2[[#This Row],[Integridad]]=\"Grave\",0.5,IF(Tabla2[[#This Row],[Integridad]]=\"Importante\",0.3,IF(Tabla2[[#This Row],[Integridad]]=\"Leve\",0.2,\"\")))","v":""},null,{"$f":"+IF(Tabla2[[#This Row],[Disponibilidad Interna]]=\"Sí\",0.1,IF(Tabla2[[#This Row],[Disponibilidad Interna]]=\"NO\",0,\"\"))","v":""},null,{"$f":"+IF(Tabla2[[#This Row],[Disponibilidad Terceros]]=\"Sí\",0.1,IF(Tabla2[[#This Row],[Disponibilidad Terceros]]=\"No\",0,\"\"))","v":""},{"$f":"+Tabla2[[#This Row],[Columna32]]+Tabla2[[#This Row],[Columna34]]+Tabla2[[#This Row],[Columna1]]+Tabla2[[#This Row],[Columna3]]","v":{"$error":"#VALUE!"}},{"$f":"IFERROR(IF(Tabla2[[#This Row],[Columna33]]<0.45,\"BAJA\",IF(Tabla2[[#This Row],[Columna33]]>0.75,\"ALTA\",\"MEDIA\")),\"\")","v":""},"No Aplica",{"$f":"+IF(Tabla2[[#This Row],[Información Publicada (WEB)]]=\"Sí\",\"Digite URL\",\"No Aplica\")","v":"No Aplica"},null,{"$f":"IF(Tabla2[[#This Row],[ Clasificación ICBF]]=\"Pública\",1,IF(Tabla2[[#This Row],[ Clasificación ICBF]]=\"Clasificada\",2,IF(Tabla2[[#This Row],[ Clasificación ICBF]]=\"Reservada\",3,0)))","v":0},{"$f":"IF(#REF!=8,4,IF(#REF!=16,3,IF(#REF!=24,2,IF(#REF!=48,1,0))))","v":{"$error":"#REF!"}},{"$f":"IF(#REF!=8,\"Alto\",IF(#REF!=16,\"Medio\",IF(#REF!=24,\"Medio\",IF(#REF!=48,\"Bajo\",0))))","v":{"$error":"#REF!"}},null,{"$f":"+MID(Tabla2[[#This Row],[Área/Dependencia]],17,8)","v":""}]
["",null,null,null,{"$f":"+VLOOKUP(Tabla2[[#This Row],[SEDE - REGIONAL]],DATOS!B49:D82,3,FALSE)","v":{"$error":"#N/A"}},{"$f":"+IF(OR(Tabla2[[#This Row],[Área/Dependencia]]=\"Subdirección de Sistemas Integrados\",Tabla2[[#This Row],[Área/Dependencia]]=\"Subdirección de Recursos Tecnológicos\"),\"X\",\"\")","v":""},{"$f":"+CONCATENATE(Tabla2[[#This Row],[Tipo de Proceso]],Tabla2[[#This Row],[Columna4]])","v":{"$error":"#N/A"}},null,null,null,null,null,null,null,null,null,null,null,null,null,{"$f":"+IF(Tabla2[[#This Row],[Nivel de acceso ]]=\"Alto\",0.5,IF(Tabla2[[#This Row],[Nivel de acceso ]]=\"Medio\",0.3,IF(Tabla2[[#This Row],[Nivel de acceso ]]=\"Bajo\",0.2,\"\")))","v":""},null,{"$f":"+IF(Tabla2[[#This Row],[Es  Reservada]]=\"Sí\",\"Escriba Ley\",\"No Aplica\")","v":"No Aplica"},null,null,null,null,{"$f":"IFERROR(IF(AND(Tabla2[[#This Row],[Contiene Datos Personales]]=\"SÍ\",OR(Tabla2[[#This Row],[Clasificación Datos Personales]]=\"Sensible\",Tabla2[[#This Row],[Clasificación Datos Personales]]=\"NNA\",Tabla2[[#This Row],[Clasificación Datos Personales]]=\"privado\")),\"Alto\",IF(AND(Tabla2[[#This Row],[Contiene Datos Personales]]=\"SÍ\",Tabla2[[#This Row],[Clasificación Datos Personales]]=\"SEMIPRIVADO\"),\"Medio\",\"Bajo\")),\"\")","v":"Bajo"},null,null,"No Aplica","No Aplica",null,null,null,{"$f":"+IF(Tabla2[[#This Row],[Integridad]]=\"Grave\",0.5,IF(Tabla2[[#This Row],[Integridad]]=\"Importante\",0.3,IF(Tabla2[[#This Row],[Integridad]]=\"Leve\",0.2,\"\")))","v":""},null,{"$f":"+IF(Tabla2[[#This Row],[Disponibilidad Interna]]=\"Sí\",0.1,IF(Tabla2[[#This Row],[Disponibilidad Interna]]=\"NO\",0,\"\"))","v":""},null,{"$f":"+IF(Tabla2[[#This Row],[Disponibilidad Terceros]]=\"Sí\",0.1,IF(Tabla2[[#This Row],[Disponibilidad Terceros]]=\"No\",0,\"\"))","v":""},{"$f":"+Tabla2[[#This Row],[Columna32]]+Tabla2[[#This Row],[Columna34]]+Tabla2[[#This Row],[Columna1]]+Tabla2[[#This Row],[Columna3]]","v":{"$error":"#VALUE!"}},{"$f":"IFERROR(IF(Tabla2[[#This Row],[Columna33]]<0.45,\"BAJA\",IF(Tabla2[[#This Row],[Columna33]]>0.75,\"ALTA\",\"MEDIA\")),\"\")","v":""},"No Aplica",{"$f":"+IF(Tabla2[[#This Row],[Información Publicada (WEB)]]=\"Sí\",\"Digite URL\",\"No Aplica\")","v":"No Aplica"},null,{"$f":"IF(Tabla2[[#This Row],[ Clasificación ICBF]]=\"Pública\",1,IF(Tabla2[[#This Row],[ Clasificación ICBF]]=\"Clasificada\",2,IF(Tabla2[[#This Row],[ Clasificación ICBF]]=\"Reservada\",3,0)))","v":0},{"$f":"IF(#REF!=8,4,IF(#REF!=16,3,IF(#REF!=24,2,IF(#REF!=48,1,0))))","v":{"$error":"#REF!"}},{"$f":"IF(#REF!=8,\"Alto\",IF(#REF!=16,\"Medio\",IF(#REF!=24,\"Medio\",IF(#REF!=48,\"Bajo\",0))))","v":{"$error":"#REF!"}},null,{"$f":"+MID(Tabla2[[#This Row],[Área/Dependencia]],17,8)","v":""}]
["",null,null,null,{"$f":"+VLOOKUP(Tabla2[[#This Row],[SEDE - REGIONAL]],DATOS!B50:D83,3,FALSE)","v":{"$error":"#N/A"}},{"$f":"+IF(OR(Tabla2[[#This Row],[Área/Dependencia]]=\"Subdirección de Sistemas Integrados\",Tabla2[[#This Row],[Área/Dependencia]]=\"Subdirección de Recursos Tecnológicos\"),\"X\",\"\")","v":""},{"$f":"+CONCATENATE(Tabla2[[#This Row],[Tipo de Proceso]],Tabla2[[#This Row],[Columna4]])","v":{"$error":"#N/A"}},null,null,null,null,null,null,null,null,null,null,null,null,null,{"$f":"+IF(Tabla2[[#This Row],[Nivel de acceso ]]=\"Alto\",0.5,IF(Tabla2[[#This Row],[Nivel de acceso ]]=\"Medio\",0.3,IF(Tabla2[[#This Row],[Nivel de acceso ]]=\"Bajo\",0.2,\"\")))","v":""},null,{"$f":"+IF(Tabla2[[#This Row],[Es  Reservada]]=\"Sí\",\"Escriba Ley\",\"No Aplica\")","v":"No Aplica"},null,null,null,null,{"$f":"IFERROR(IF(AND(Tabla2[[#This Row],[Contiene Datos Personales]]=\"SÍ\",OR(Tabla2[[#This Row],[Clasificación Datos Personales]]=\"Sensible\",Tabla2[[#This Row],[Clasificación Datos Personales]]=\"NNA\",Tabla2[[#This Row],[Clasificación Datos Personales]]=\"privado\")),\"Alto\",IF(AND(Tabla2[[#This Row],[Contiene Datos Personales]]=\"SÍ\",Tabla2[[#This Row],[Clasificación Datos Personales]]=\"SEMIPRIVADO\"),\"Medio\",\"Bajo\")),\"\")","v":"Bajo"},null,null,"No Aplica","No Aplica",null,null,null,{"$f":"+IF(Tabla2[[#This Row],[Integridad]]=\"Grave\",0.5,IF(Tabla2[[#This Row],[Integridad]]=\"Importante\",0.3,IF(Tabla2[[#This Row],[Integridad]]=\"Leve\",0.2,\"\")))","v":""},null,{"$f":"+IF(Tabla2[[#This Row],[Disponibilidad Interna]]=\"Sí\",0.1,IF(Tabla2[[#This Row],[Disponibilidad Interna]]=\"NO\",0,\"\"))","v":""},null,{"$f":"+IF(Tabla2[[#This Row],[Disponibilidad Terceros]]=\"Sí\",0.1,IF(Tabla2[[#This Row],[Disponibilidad Terceros]]=\"No\",0,\"\"))","v":""},{"$f":"+Tabla2[[#This Row],[Columna32]]+Tabla2[[#This Row],[Columna34]]+Tabla2[[#This Row],[Columna1]]+Tabla2[[#This Row],[Columna3]]","v":{"$error":"#VALUE!"}},{"$f":"IFERROR(IF(Tabla2[[#This Row],[Columna33]]<0.45,\"BAJA\",IF(Tabla2[[#This Row],[Columna33]]>0.75,\"ALTA\",\"MEDIA\")),\"\")","v":""},"No Aplica",{"$f":"+IF(Tabla2[[#This Row],[Información Publicada (WEB)]]=\"Sí\",\"Digite URL\",\"No Aplica\")","v":"No Aplica"},null,{"$f":"IF(Tabla2[[#This Row],[ Clasificación ICBF]]=\"Pública\",1,IF(Tabla2[[#This Row],[ Clasificación ICBF]]=\"Clasificada\",2,IF(Tabla2[[#This Row],[ Clasificación ICBF]]=\"Reservada\",3,0)))","v":0},{"$f":"IF(#REF!=8,4,IF(#REF!=16,3,IF(#REF!=24,2,IF(#REF!=48,1,0))))","v":{"$error":"#REF!"}},{"$f":"IF(#REF!=8,\"Alto\",IF(#REF!=16,\"Medio\",IF(#REF!=24,\"Medio\",IF(#REF!=48,\"Bajo\",0))))","v":{"$error":"#REF!"}},null,{"$f":"+MID(Tabla2[[#This Row],[Área/Dependencia]],17,8)","v":""}]
["",null,null,null,{"$f":"+VLOOKUP(Tabla2[[#This Row],[SEDE - REGIONAL]],DATOS!B51:D84,3,FALSE)","v":{"$error":"#N/A"}},{"$f":"+IF(OR(Tabla2[[#This Row],[Área/Dependencia]]=\"Subdirección de Sistemas Integrados\",Tabla2[[#This Row],[Área/Dependencia]]=\"Subdirección de Recursos Tecnológicos\"),\"X\",\"\")","v":""},{"$f":"+CONCATENATE(Tabla2[[#This Row],[Tipo de Proceso]],Tabla2[[#This Row],[Columna4]])","v":{"$error":"#N/A"}},null,null,null,null,null,null,null,null,null,null,null,null,null,{"$f":"+IF(Tabla2[[#This Row],[Nivel de acceso ]]=\"Alto\",0.5,IF(Tabla2[[#This Row],[Nivel de acceso ]]=\"Medio\",0.3,IF(Tabla2[[#This Row],[Nivel de acceso ]]=\"Bajo\",0.2,\"\")))","v":""},null,{"$f":"+IF(Tabla2[[#This Row],[Es  Reservada]]=\"Sí\",\"Escriba Ley\",\"No Aplica\")","v":"No Aplica"},null,null,null,null,{"$f":"IFERROR(IF(AND(Tabla2[[#This Row],[Contiene Datos Personales]]=\"SÍ\",OR(Tabla2[[#This Row],[Clasificación Datos Personales]]=\"Sensible\",Tabla2[[#This Row],[Clasificación Datos Personales]]=\"NNA\",Tabla2[[#This Row],[Clasificación Datos Personales]]=\"privado\")),\"Alto\",IF(AND(Tabla2[[#This Row],[Contiene Datos Personales]]=\"SÍ\",Tabla2[[#This Row],[Clasificación Datos Personales]]=\"SEMIPRIVADO\"),\"Medio\",\"Bajo\")),\"\")","v":"Bajo"},null,null,"No Aplica","No Aplica",null,null,null,{"$f":"+IF(Tabla2[[#This Row],[Integridad]]=\"Grave\",0.5,IF(Tabla2[[#This Row],[Integridad]]=\"Importante\",0.3,IF(Tabla2[[#This Row],[Integridad]]=\"Leve\",0.2,\"\")))","v":""},null,{"$f":"+IF(Tabla2[[#This Row],[Disponibilidad Interna]]=\"Sí\",0.1,IF(Tabla2[[#This Row],[Disponibilidad Interna]]=\"NO\",0,\"\"))","v":""},null,{"$f":"+IF(Tabla2[[#This Row],[Disponibilidad Terceros]]=\"Sí\",0.1,IF(Tabla2[[#This Row],[Disponibilidad Terceros]]=\"No\",0,\"\"))","v":""},{"$f":"+Tabla2[[#This Row],[Columna32]]+Tabla2[[#This Row],[Columna34]]+Tabla2[[#This Row],[Columna1]]+Tabla2[[#This Row],[Columna3]]","v":{"$error":"#VALUE!"}},{"$f":"IFERROR(IF(Tabla2[[#This Row],[Columna33]]<0.45,\"BAJA\",IF(Tabla2[[#This Row],[Columna33]]>0.75,\"ALTA\",\"MEDIA\")),\"\")","v":""},"No Aplica",{"$f":"+IF(Tabla2[[#This Row],[Información Publicada (WEB)]]=\"Sí\",\"Digite URL\",\"No Aplica\")","v":"No Aplica"},null,{"$f":"IF(Tabla2[[#This Row],[ Clasificación ICBF]]=\"Pública\",1,IF(Tabla2[[#This Row],[ Clasificación ICBF]]=\"Clasificada\",2,IF(Tabla2[[#This Row],[ Clasificación ICBF]]=\"Reservada\",3,0)))","v":0},{"$f":"IF(#REF!=8,4,IF(#REF!=16,3,IF(#REF!=24,2,IF(#REF!=48,1,0))))","v":{"$error":"#REF!"}},{"$f":"IF(#REF!=8,\"Alto\",IF(#REF!=16,\"Medio\",IF(#REF!=24,\"Medio\",IF(#REF!=48,\"Bajo\",0))))","v":{"$error":"#REF!"}},null,{"$f":"+MID(Tabla2[[#This Row],[Área/Dependencia]],17,8)","v":""}]
["",null,null,null,{"$f":"+VLOOKUP(Tabla2[[#This Row],[SEDE - REGIONAL]],DATOS!B52:D85,3,FALSE)","v":{"$error":"#N/A"}},{"$f":"+IF(OR(Tabla2[[#This Row],[Área/Dependencia]]=\"Subdirección de Sistemas Integrados\",Tabla2[[#This Row],[Área/Dependencia]]=\"Subdirección de Recursos Tecnológicos\"),\"X\",\"\")","v":""},{"$f":"+CONCATENATE(Tabla2[[#This Row],[Tipo de Proceso]],Tabla2[[#This Row],[Columna4]])","v":{"$error":"#N/A"}},null,null,null,null,null,null,null,null,null,null,null,null,null,{"$f":"+IF(Tabla2[[#This Row],[Nivel de acceso ]]=\"Alto\",0.5,IF(Tabla2[[#This Row],[Nivel de acceso ]]=\"Medio\",0.3,IF(Tabla2[[#This Row],[Nivel de acceso ]]=\"Bajo\",0.2,\"\")))","v":""},null,{"$f":"+IF(Tabla2[[#This Row],[Es  Reservada]]=\"Sí\",\"Escriba Ley\",\"No Aplica\")","v":"No Aplica"},null,null,null,null,{"$f":"IFERROR(IF(AND(Tabla2[[#This Row],[Contiene Datos Personales]]=\"SÍ\",OR(Tabla2[[#This Row],[Clasificación Datos Personales]]=\"Sensible\",Tabla2[[#This Row],[Clasificación Datos Personales]]=\"NNA\",Tabla2[[#This Row],[Clasificación Datos Personales]]=\"privado\")),\"Alto\",IF(AND(Tabla2[[#This Row],[Contiene Datos Personales]]=\"SÍ\",Tabla2[[#This Row],[Clasificación Datos Personales]]=\"SEMIPRIVADO\"),\"Medio\",\"Bajo\")),\"\")","v":"Bajo"},null,null,"No Aplica","No Aplica",null,null,null,{"$f":"+IF(Tabla2[[#This Row],[Integridad]]=\"Grave\",0.5,IF(Tabla2[[#This Row],[Integridad]]=\"Importante\",0.3,IF(Tabla2[[#This Row],[Integridad]]=\"Leve\",0.2,\"\")))","v":""},null,{"$f":"+IF(Tabla2[[#This Row],[Disponibilidad Interna]]=\"Sí\",0.1,IF(Tabla2[[#This Row],[Disponibilidad Interna]]=\"NO\",0,\"\"))","v":""},null,{"$f":"+IF(Tabla2[[#This Row],[Disponibilidad Terceros]]=\"Sí\",0.1,IF(Tabla2[[#This Row],[Disponibilidad Terceros]]=\"No\",0,\"\"))","v":""},{"$f":"+Tabla2[[#This Row],[Columna32]]+Tabla2[[#This Row],[Columna34]]+Tabla2[[#This Row],[Columna1]]+Tabla2[[#This Row],[Columna3]]","v":{"$error":"#VALUE!"}},{"$f":"IFERROR(IF(Tabla2[[#This Row],[Columna33]]<0.45,\"BAJA\",IF(Tabla2[[#This Row],[Columna33]]>0.75,\"ALTA\",\"MEDIA\")),\"\")","v":""},"No Aplica",{"$f":"+IF(Tabla2[[#This Row],[Información Publicada (WEB)]]=\"Sí\",\"Digite URL\",\"No Aplica\")","v":"No Aplica"},null,{"$f":"IF(Tabla2[[#This Row],[ Clasificación ICBF]]=\"Pública\",1,IF(Tabla2[[#This Row],[ Clasificación ICBF]]=\"Clasificada\",2,IF(Tabla2[[#This Row],[ Clasificación ICBF]]=\"Reservada\",3,0)))","v":0},{"$f":"IF(#REF!=8,4,IF(#REF!=16,3,IF(#REF!=24,2,IF(#REF!=48,1,0))))","v":{"$error":"#REF!"}},{"$f":"IF(#REF!=8,\"Alto\",IF(#REF!=16,\"Medio\",IF(#REF!=24,\"Medio\",IF(#REF!=48,\"Bajo\",0))))","v":{"$error":"#REF!"}},null,{"$f":"+MID(Tabla2[[#This Row],[Área/Dependencia]],17,8)","v":""}]
["",null,null,null,{"$f":"+VLOOKUP(Tabla2[[#This Row],[SEDE - REGIONAL]],DATOS!B53:D86,3,FALSE)","v":{"$error":"#N/A"}},{"$f":"+IF(OR(Tabla2[[#This Row],[Área/Dependencia]]=\"Subdirección de Sistemas Integrados\",Tabla2[[#This Row],[Área/Dependencia]]=\"Subdirección de Recursos Tecnológicos\"),\"X\",\"\")","v":""},{"$f":"+CONCATENATE(Tabla2[[#This Row],[Tipo de Proceso]],Tabla2[[#This Row],[Columna4]])","v":{"$error":"#N/A"}},null,null,null,null,null,null,null,null,null,null,null,null,null,{"$f":"+IF(Tabla2[[#This Row],[Nivel de acceso ]]=\"Alto\",0.5,IF(Tabla2[[#This Row],[Nivel de acceso ]]=\"Medio\",0.3,IF(Tabla2[[#This Row],[Nivel de acceso ]]=\"Bajo\",0.2,\"\")))","v":""},null,{"$f":"+IF(Tabla2[[#This Row],[Es  Reservada]]=\"Sí\",\"Escriba Ley\",\"No Aplica\")","v":"No Aplica"},null,null,null,null,{"$f":"IFERROR(IF(AND(Tabla2[[#This Row],[Contiene Datos Personales]]=\"SÍ\",OR(Tabla2[[#This Row],[Clasificación Datos Personales]]=\"Sensible\",Tabla2[[#This Row],[Clasificación Datos Personales]]=\"NNA\",Tabla2[[#This Row],[Clasificación Datos Personales]]=\"privado\")),\"Alto\",IF(AND(Tabla2[[#This Row],[Contiene Datos Personales]]=\"SÍ\",Tabla2[[#This Row],[Clasificación Datos Personales]]=\"SEMIPRIVADO\"),\"Medio\",\"Bajo\")),\"\")","v":"Bajo"},null,null,"No Aplica","No Aplica",null,null,null,{"$f":"+IF(Tabla2[[#This Row],[Integridad]]=\"Grave\",0.5,IF(Tabla2[[#This Row],[Integridad]]=\"Importante\",0.3,IF(Tabla2[[#This Row],[Integridad]]=\"Leve\",0.2,\"\")))","v":""},null,{"$f":"+IF(Tabla2[[#This Row],[Disponibilidad Interna]]=\"Sí\",0.1,IF(Tabla2[[#This Row],[Disponibilidad Interna]]=\"NO\",0,\"\"))","v":""},null,{"$f":"+IF(Tabla2[[#This Row],[Disponibilidad Terceros]]=\"Sí\",0.1,IF(Tabla2[[#This Row],[Disponibilidad Terceros]]=\"No\",0,\"\"))","v":""},{"$f":"+Tabla2[[#This Row],[Columna32]]+Tabla2[[#This Row],[Columna34]]+Tabla2[[#This Row],[Columna1]]+Tabla2[[#This Row],[Columna3]]","v":{"$error":"#VALUE!"}},{"$f":"IFERROR(IF(Tabla2[[#This Row],[Columna33]]<0.45,\"BAJA\",IF(Tabla2[[#This Row],[Columna33]]>0.75,\"ALTA\",\"MEDIA\")),\"\")","v":""},"No Aplica",{"$f":"+IF(Tabla2[[#This Row],[Información Publicada (WEB)]]=\"Sí\",\"Digite URL\",\"No Aplica\")","v":"No Aplica"},null,{"$f":"IF(Tabla2[[#This Row],[ Clasificación ICBF]]=\"Pública\",1,IF(Tabla2[[#This Row],[ Clasificación ICBF]]=\"Clasificada\",2,IF(Tabla2[[#This Row],[ Clasificación ICBF]]=\"Reservada\",3,0)))","v":0},{"$f":"IF(#REF!=8,4,IF(#REF!=16,3,IF(#REF!=24,2,IF(#REF!=48,1,0))))","v":{"$error":"#REF!"}},{"$f":"IF(#REF!=8,\"Alto\",IF(#REF!=16,\"Medio\",IF(#REF!=24,\"Medio\",IF(#REF!=48,\"Bajo\",0))))","v":{"$error":"#REF!"}},null,{"$f":"+MID(Tabla2[[#This Row],[Área/Dependencia]],17,8)","v":""}]
["",null,null,null,{"$f":"+VLOOKUP(Tabla2[[#This Row],[SEDE - REGIONAL]],DATOS!B54:D87,3,FALSE)","v":{"$error":"#N/A"}},{"$f":"+IF(OR(Tabla2[[#This Row],[Área/Dependencia]]=\"Subdirección de Sistemas Integrados\",Tabla2[[#This Row],[Área/Dependencia]]=\"Subdirección de Recursos Tecnológicos\"),\"X\",\"\")","v":""},{"$f":"+CONCATENATE(Tabla2[[#This Row],[Tipo de Proceso]],Tabla2[[#This Row],[Columna4]])","v":{"$error":"#N/A"}},null,null,null,null,null,null,null,null,null,null,null,null,null,{"$f":"+IF(Tabla2[[#This Row],[Nivel de acceso ]]=\"Alto\",0.5,IF(Tabla2[[#This Row],[Nivel de acceso ]]=\"Medio\",0.3,IF(Tabla2[[#This Row],[Nivel de acceso ]]=\"Bajo\",0.2,\"\")))","v":""},null,{"$f":"+IF(Tabla2[[#This Row],[Es  Reservada]]=\"Sí\",\"Escriba Ley\",\"No Aplica\")","v":"No Aplica"},null,null,null,null,{"$f":"IFERROR(IF(AND(Tabla2[[#This Row],[Contiene Datos Personales]]=\"SÍ\",OR(Tabla2[[#This Row],[Clasificación Datos Personales]]=\"Sensible\",Tabla2[[#This Row],[Clasificación Datos Personales]]=\"NNA\",Tabla2[[#This Row],[Clasificación Datos Personales]]=\"privado\")),\"Alto\",IF(AND(Tabla2[[#This Row],[Contiene Datos Personales]]=\"SÍ\",Tabla2[[#This Row],[Clasificación Datos Personales]]=\"SEMIPRIVADO\"),\"Medio\",\"Bajo\")),\"\")","v":"Bajo"},null,null,"No Aplica","No Aplica",null,null,null,{"$f":"+IF(Tabla2[[#This Row],[Integridad]]=\"Grave\",0.5,IF(Tabla2[[#This Row],[Integridad]]=\"Importante\",0.3,IF(Tabla2[[#This Row],[Integridad]]=\"Leve\",0.2,\"\")))","v":""},null,{"$f":"+IF(Tabla2[[#This Row],[Disponibilidad Interna]]=\"Sí\",0.1,IF(Tabla2[[#This Row],[Disponibilidad Interna]]=\"NO\",0,\"\"))","v":""},null,{"$f":"+IF(Tabla2[[#This Row],[Disponibilidad Terceros]]=\"Sí\",0.1,IF(Tabla2[[#This Row],[Disponibilidad Terceros]]=\"No\",0,\"\"))","v":""},{"$f":"+Tabla2[[#This Row],[Columna32]]+Tabla2[[#This Row],[Columna34]]+Tabla2[[#This Row],[Columna1]]+Tabla2[[#This Row],[Columna3]]","v":{"$error":"#VALUE!"}},{"$f":"IFERROR(IF(Tabla2[[#This Row],[Columna33]]<0.45,\"BAJA\",IF(Tabla2[[#This Row],[Columna33]]>0.75,\"ALTA\",\"MEDIA\")),\"\")","v":""},"No Aplica",{"$f":"+IF(Tabla2[[#This Row],[Información Publicada (WEB)]]=\"Sí\",\"Digite URL\",\"No Aplica\")","v":"No Aplica"},null,{"$f":"IF(Tabla2[[#This Row],[ Clasificación ICBF]]=\"Pública\",1,IF(Tabla2[[#This Row],[ Clasificación ICBF]]=\"Clasificada\",2,IF(Tabla2[[#This Row],[ Clasificación ICBF]]=\"Reservada\",3,0)))","v":0},{"$f":"IF(#REF!=8,4,IF(#REF!=16,3,IF(#REF!=24,2,IF(#REF!=48,1,0))))","v":{"$error":"#REF!"}},{"$f":"IF(#REF!=8,\"Alto\",IF(#REF!=16,\"Medio\",IF(#REF!=24,\"Medio\",IF(#REF!=48,\"Bajo\",0))))","v":{"$error":"#REF!"}},null,{"$f":"+MID(Tabla2[[#This Row],[Área/Dependencia]],17,8)","v":""}]
["",null,null,null,{"$f":"+VLOOKUP(Tabla2[[#This Row],[SEDE - REGIONAL]],DATOS!B55:D88,3,FALSE)","v":{"$error":"#N/A"}},{"$f":"+IF(OR(Tabla2[[#This Row],[Área/Dependencia]]=\"Subdirección de Sistemas Integrados\",Tabla2[[#This Row],[Área/Dependencia]]=\"Subdirección de Recursos Tecnológicos\"),\"X\",\"\")","v":""},{"$f":"+CONCATENATE(Tabla2[[#This Row],[Tipo de Proceso]],Tabla2[[#This Row],[Columna4]])","v":{"$error":"#N/A"}},null,null,null,null,null,null,null,null,null,null,null,null,null,{"$f":"+IF(Tabla2[[#This Row],[Nivel de acceso ]]=\"Alto\",0.5,IF(Tabla2[[#This Row],[Nivel de acceso ]]=\"Medio\",0.3,IF(Tabla2[[#This Row],[Nivel de acceso ]]=\"Bajo\",0.2,\"\")))","v":""},null,{"$f":"+IF(Tabla2[[#This Row],[Es  Reservada]]=\"Sí\",\"Escriba Ley\",\"No Aplica\")","v":"No Aplica"},null,null,null,null,{"$f":"IFERROR(IF(AND(Tabla2[[#This Row],[Contiene Datos Personales]]=\"SÍ\",OR(Tabla2[[#This Row],[Clasificación Datos Personales]]=\"Sensible\",Tabla2[[#This Row],[Clasificación Datos Personales]]=\"NNA\",Tabla2[[#This Row],[Clasificación Datos Personales]]=\"privado\")),\"Alto\",IF(AND(Tabla2[[#This Row],[Contiene Datos Personales]]=\"SÍ\",Tabla2[[#This Row],[Clasificación Datos Personales]]=\"SEMIPRIVADO\"),\"Medio\",\"Bajo\")),\"\")","v":"Bajo"},null,null,"No Aplica","No Aplica",null,null,null,{"$f":"+IF(Tabla2[[#This Row],[Integridad]]=\"Grave\",0.5,IF(Tabla2[[#This Row],[Integridad]]=\"Importante\",0.3,IF(Tabla2[[#This Row],[Integridad]]=\"Leve\",0.2,\"\")))","v":""},null,{"$f":"+IF(Tabla2[[#This Row],[Disponibilidad Interna]]=\"Sí\",0.1,IF(Tabla2[[#This Row],[Disponibilidad Interna]]=\"NO\",0,\"\"))","v":""},null,{"$f":"+IF(Tabla2[[#This Row],[Disponibilidad Terceros]]=\"Sí\",0.1,IF(Tabla2[[#This Row],[Disponibilidad Terceros]]=\"No\",0,\"\"))","v":""},{"$f":"+Tabla2[[#This Row],[Columna32]]+Tabla2[[#This Row],[Columna34]]+Tabla2[[#This Row],[Columna1]]+Tabla2[[#This Row],[Columna3]]","v":{"$error":"#VALUE!"}},{"$f":"IFERROR(IF(Tabla2[[#This Row],[Columna33]]<0.45,\"BAJA\",IF(Tabla2[[#This Row],[Columna33]]>0.75,\"ALTA\",\"MEDIA\")),\"\")","v":""},"No Aplica",{"$f":"+IF(Tabla2[[#This Row],[Información Publicada (WEB)]]=\"Sí\",\"Digite URL\",\"No Aplica\")","v":"No Aplica"},null,{"$f":"IF(Tabla2[[#This Row],[ Clasificación ICBF]]=\"Pública\",1,IF(Tabla2[[#This Row],[ Clasificación ICBF]]=\"Clasificada\",2,IF(Tabla2[[#This Row],[ Clasificación ICBF]]=\"Reservada\",3,0)))","v":0},{"$f":"IF(#REF!=8,4,IF(#REF!=16,3,IF(#REF!=24,2,IF(#REF!=48,1,0))))","v":{"$error":"#REF!"}},{"$f":"IF(#REF!=8,\"Alto\",IF(#REF!=16,\"Medio\",IF(#REF!=24,\"Medio\",IF(#REF!=48,\"Bajo\",0))))","v":{"$error":"#REF!"}},null,{"$f":"+MID(Tabla2[[#This Row],[Área/Dependencia]],17,8)","v":""}]
["",null,null,null,{"$f":"+VLOOKUP(Tabla2[[#This Row],[SEDE - REGIONAL]],DATOS!B56:D89,3,FALSE)","v":{"$error":"#N/A"}},{"$f":"+IF(OR(Tabla2[[#This Row],[Área/Dependencia]]=\"Subdirección de Sistemas Integrados\",Tabla2[[#This Row],[Área/Dependencia]]=\"Subdirección de Recursos Tecnológicos\"),\"X\",\"\")","v":""},{"$f":"+CONCATENATE(Tabla2[[#This Row],[Tipo de Proceso]],Tabla2[[#This Row],[Columna4]])","v":{"$error":"#N/A"}},null,null,null,null,null,null,null,null,null,null,null,null,null,{"$f":"+IF(Tabla2[[#This Row],[Nivel de acceso ]]=\"Alto\",0.5,IF(Tabla2[[#This Row],[Nivel de acceso ]]=\"Medio\",0.3,IF(Tabla2[[#This Row],[Nivel de acceso ]]=\"Bajo\",0.2,\"\")))","v":""},null,{"$f":"+IF(Tabla2[[#This Row],[Es  Reservada]]=\"Sí\",\"Escriba Ley\",\"No Aplica\")","v":"No Aplica"},null,null,null,null,{"$f":"IFERROR(IF(AND(Tabla2[[#This Row],[Contiene Datos Personales]]=\"SÍ\",OR(Tabla2[[#This Row],[Clasificación Datos Personales]]=\"Sensible\",Tabla2[[#This Row],[Clasificación Datos Personales]]=\"NNA\",Tabla2[[#This Row],[Clasificación Datos Personales]]=\"privado\")),\"Alto\",IF(AND(Tabla2[[#This Row],[Contiene Datos Personales]]=\"SÍ\",Tabla2[[#This Row],[Clasificación Datos Personales]]=\"SEMIPRIVADO\"),\"Medio\",\"Bajo\")),\"\")","v":"Bajo"},null,null,"No Aplica","No Aplica",null,null,null,{"$f":"+IF(Tabla2[[#This Row],[Integridad]]=\"Grave\",0.5,IF(Tabla2[[#This Row],[Integridad]]=\"Importante\",0.3,IF(Tabla2[[#This Row],[Integridad]]=\"Leve\",0.2,\"\")))","v":""},null,{"$f":"+IF(Tabla2[[#This Row],[Disponibilidad Interna]]=\"Sí\",0.1,IF(Tabla2[[#This Row],[Disponibilidad Interna]]=\"NO\",0,\"\"))","v":""},null,{"$f":"+IF(Tabla2[[#This Row],[Disponibilidad Terceros]]=\"Sí\",0.1,IF(Tabla2[[#This Row],[Disponibilidad Terceros]]=\"No\",0,\"\"))","v":""},{"$f":"+Tabla2[[#This Row],[Columna32]]+Tabla2[[#This Row],[Columna34]]+Tabla2[[#This Row],[Columna1]]+Tabla2[[#This Row],[Columna3]]","v":{"$error":"#VALUE!"}},{"$f":"IFERROR(IF(Tabla2[[#This Row],[Columna33]]<0.45,\"BAJA\",IF(Tabla2[[#This Row],[Columna33]]>0.75,\"ALTA\",\"MEDIA\")),\"\")","v":""},"No Aplica",{"$f":"+IF(Tabla2[[#This Row],[Información Publicada (WEB)]]=\"Sí\",\"Digite URL\",\"No Aplica\")","v":"No Aplica"},null,{"$f":"IF(Tabla2[[#This Row],[ Clasificación ICBF]]=\"Pública\",1,IF(Tabla2[[#This Row],[ Clasificación ICBF]]=\"Clasificada\",2,IF(Tabla2[[#This Row],[ Clasificación ICBF]]=\"Reservada\",3,0)))","v":0},{"$f":"IF(#REF!=8,4,IF(#REF!=16,3,IF(#REF!=24,2,IF(#REF!=48,1,0))))","v":{"$error":"#REF!"}},{"$f":"IF(#REF!=8,\"Alto\",IF(#REF!=16,\"Medio\",IF(#REF!=24,\"Medio\",IF(#REF!=48,\"Bajo\",0))))","v":{"$error":"#REF!"}},null,{"$f":"+MID(Tabla2[[#This Row],[Área/Dependencia]],17,8)","v":""}]
["",null,null,null,{"$f":"+VLOOKUP(Tabla2[[#This Row],[SEDE - REGIONAL]],DATOS!B57:D90,3,FALSE)","v":{"$error":"#N/A"}},{"$f":"+IF(OR(Tabla2[[#This Row],[Área/Dependencia]]=\"Subdirección de Sistemas Integrados\",Tabla2[[#This Row],[Área/Dependencia]]=\"Subdirección de Recursos Tecnológicos\"),\"X\",\"\")","v":""},{"$f":"+CONCATENATE(Tabla2[[#This Row],[Tipo de Proceso]],Tabla2[[#This Row],[Columna4]])","v":{"$error":"#N/A"}},null,null,null,null,null,null,null,null,null,null,null,null,null,{"$f":"+IF(Tabla2[[#This Row],[Nivel de acceso ]]=\"Alto\",0.5,IF(Tabla2[[#This Row],[Nivel de acceso ]]=\"Medio\",0.3,IF(Tabla2[[#This Row],[Nivel de acceso ]]=\"Bajo\",0.2,\"\")))","v":""},null,{"$f":"+IF(Tabla2[[#This Row],[Es  Reservada]]=\"Sí\",\"Escriba Ley\",\"No Aplica\")","v":"No Aplica"},null,null,null,null,{"$f":"IFERROR(IF(AND(Tabla2[[#This Row],[Contiene Datos Personales]]=\"SÍ\",OR(Tabla2[[#This Row],[Clasificación Datos Personales]]=\"Sensible\",Tabla2[[#This Row],[Clasificación Datos Personales]]=\"NNA\",Tabla2[[#This Row],[Clasificación Datos Personales]]=\"privado\")),\"Alto\",IF(AND(Tabla2[[#This Row],[Contiene Datos Personales]]=\"SÍ\",Tabla2[[#This Row],[Clasificación Datos Personales]]=\"SEMIPRIVADO\"),\"Medio\",\"Bajo\")),\"\")","v":"Bajo"},null,null,"No Aplica","No Aplica",null,null,null,{"$f":"+IF(Tabla2[[#This Row],[Integridad]]=\"Grave\",0.5,IF(Tabla2[[#This Row],[Integridad]]=\"Importante\",0.3,IF(Tabla2[[#This Row],[Integridad]]=\"Leve\",0.2,\"\")))","v":""},null,{"$f":"+IF(Tabla2[[#This Row],[Disponibilidad Interna]]=\"Sí\",0.1,IF(Tabla2[[#This Row],[Disponibilidad Interna]]=\"NO\",0,\"\"))","v":""},null,{"$f":"+IF(Tabla2[[#This Row],[Disponibilidad Terceros]]=\"Sí\",0.1,IF(Tabla2[[#This Row],[Disponibilidad Terceros]]=\"No\",0,\"\"))","v":""},{"$f":"+Tabla2[[#This Row],[Columna32]]+Tabla2[[#This Row],[Columna34]]+Tabla2[[#This Row],[Columna1]]+Tabla2[[#This Row],[Columna3]]","v":{"$error":"#VALUE!"}},{"$f":"IFERROR(IF(Tabla2[[#This Row],[Columna33]]<0.45,\"BAJA\",IF(Tabla2[[#This Row],[Columna33]]>0.75,\"ALTA\",\"MEDIA\")),\"\")","v":""},"No Aplica",{"$f":"+IF(Tabla2[[#This Row],[Información Publicada (WEB)]]=\"Sí\",\"Digite URL\",\"No Aplica\")","v":"No Aplica"},null,{"$f":"IF(Tabla2[[#This Row],[ Clasificación ICBF]]=\"Pública\",1,IF(Tabla2[[#This Row],[ Clasificación ICBF]]=\"Clasificada\",2,IF(Tabla2[[#This Row],[ Clasificación ICBF]]=\"Reservada\",3,0)))","v":0},{"$f":"IF(#REF!=8,4,IF(#REF!=16,3,IF(#REF!=24,2,IF(#REF!=48,1,0))))","v":{"$error":"#REF!"}},{"$f":"IF(#REF!=8,\"Alto\",IF(#REF!=16,\"Medio\",IF(#REF!=24,\"Medio\",IF(#REF!=48,\"Bajo\",0))))","v":{"$error":"#REF!"}},null,{"$f":"+MID(Tabla2[[#This Row],[Área/Dependencia]],17,8)","v":""}]
["",null,null,null,{"$f":"+VLOOKUP(Tabla2[[#This Row],[SEDE - REGIONAL]],DATOS!B58:D91,3,FALSE)","v":{"$error":"#N/A"}},{"$f":"+IF(OR(Tabla2[[#This Row],[Área/Dependencia]]=\"Subdirección de Sistemas Integrados\",Tabla2[[#This Row],[Área/Dependencia]]=\"Subdirección de Recursos Tecnológicos\"),\"X\",\"\")","v":""},{"$f":"+CONCATENATE(Tabla2[[#This Row],[Tipo de Proceso]],Tabla2[[#This Row],[Columna4]])","v":{"$error":"#N/A"}},null,null,null,null,null,null,null,null,null,null,null,null,null,{"$f":"+IF(Tabla2[[#This Row],[Nivel de acceso ]]=\"Alto\",0.5,IF(Tabla2[[#This Row],[Nivel de acceso ]]=\"Medio\",0.3,IF(Tabla2[[#This Row],[Nivel de acceso ]]=\"Bajo\",0.2,\"\")))","v":""},null,{"$f":"+IF(Tabla2[[#This Row],[Es  Reservada]]=\"Sí\",\"Escriba Ley\",\"No Aplica\")","v":"No Aplica"},null,null,null,null,{"$f":"IFERROR(IF(AND(Tabla2[[#This Row],[Contiene Datos Personales]]=\"SÍ\",OR(Tabla2[[#This Row],[Clasificación Datos Personales]]=\"Sensible\",Tabla2[[#This Row],[Clasificación Datos Personales]]=\"NNA\",Tabla2[[#This Row],[Clasificación Datos Personales]]=\"privado\")),\"Alto\",IF(AND(Tabla2[[#This Row],[Contiene Datos Personales]]=\"SÍ\",Tabla2[[#This Row],[Clasificación Datos Personales]]=\"SEMIPRIVADO\"),\"Medio\",\"Bajo\")),\"\")","v":"Bajo"},null,null,"No Aplica","No Aplica",null,null,null,{"$f":"+IF(Tabla2[[#This Row],[Integridad]]=\"Grave\",0.5,IF(Tabla2[[#This Row],[Integridad]]=\"Importante\",0.3,IF(Tabla2[[#This Row],[Integridad]]=\"Leve\",0.2,\"\")))","v":""},null,{"$f":"+IF(Tabla2[[#This Row],[Disponibilidad Interna]]=\"Sí\",0.1,IF(Tabla2[[#This Row],[Disponibilidad Interna]]=\"NO\",0,\"\"))","v":""},null,{"$f":"+IF(Tabla2[[#This Row],[Disponibilidad Terceros]]=\"Sí\",0.1,IF(Tabla2[[#This Row],[Disponibilidad Terceros]]=\"No\",0,\"\"))","v":""},{"$f":"+Tabla2[[#This Row],[Columna32]]+Tabla2[[#This Row],[Columna34]]+Tabla2[[#This Row],[Columna1]]+Tabla2[[#This Row],[Columna3]]","v":{"$error":"#VALUE!"}},{"$f":"IFERROR(IF(Tabla2[[#This Row],[Columna33]]<0.45,\"BAJA\",IF(Tabla2[[#This Row],[Columna33]]>0.75,\"ALTA\",\"MEDIA\")),\"\")","v":""},"No Aplica",{"$f":"+IF(Tabla2[[#This Row],[Información Publicada (WEB)]]=\"Sí\",\"Digite URL\",\"No Aplica\")","v":"No Aplica"},null,{"$f":"IF(Tabla2[[#This Row],[ Clasificación ICBF]]=\"Pública\",1,IF(Tabla2[[#This Row],[ Clasificación ICBF]]=\"Clasificada\",2,IF(Tabla2[[#This Row],[ Clasificación ICBF]]=\"Reservada\",3,0)))","v":0},{"$f":"IF(#REF!=8,4,IF(#REF!=16,3,IF(#REF!=24,2,IF(#REF!=48,1,0))))","v":{"$error":"#REF!"}},{"$f":"IF(#REF!=8,\"Alto\",IF(#REF!=16,\"Medio\",IF(#REF!=24,\"Medio\",IF(#REF!=48,\"Bajo\",0))))","v":{"$error":"#REF!"}},null,{"$f":"+MID(Tabla2[[#This Row],[Área/Dependencia]],17,8)","v":""}]
["",null,null,null,{"$f":"+VLOOKUP(Tabla2[[#This Row],[SEDE - REGIONAL]],DATOS!B59:D92,3,FALSE)","v":{"$error":"#N/A"}},{"$f":"+IF(OR(Tabla2[[#This Row],[Área/Dependencia]]=\"Subdirección de Sistemas Integrados\",Tabla2[[#This Row],[Área/Dependencia]]=\"Subdirección de Recursos Tecnológicos\"),\"X\",\"\")","v":""},{"$f":"+CONCATENATE(Tabla2[[#This Row],[Tipo de Proceso]],Tabla2[[#This Row],[Columna4]])","v":{"$error":"#N/A"}},null,null,null,null,null,null,null,null,null,null,null,null,null,{"$f":"+IF(Tabla2[[#This Row],[Nivel de acceso ]]=\"Alto\",0.5,IF(Tabla2[[#This Row],[Nivel de acceso ]]=\"Medio\",0.3,IF(Tabla2[[#This Row],[Nivel de acceso ]]=\"Bajo\",0.2,\"\")))","v":""},null,{"$f":"+IF(Tabla2[[#This Row],[Es  Reservada]]=\"Sí\",\"Escriba Ley\",\"No Aplica\")","v":"No Aplica"},null,null,null,null,{"$f":"IFERROR(IF(AND(Tabla2[[#This Row],[Contiene Datos Personales]]=\"SÍ\",OR(Tabla2[[#This Row],[Clasificación Datos Personales]]=\"Sensible\",Tabla2[[#This Row],[Clasificación Datos Personales]]=\"NNA\",Tabla2[[#This Row],[Clasificación Datos Personales]]=\"privado\")),\"Alto\",IF(AND(Tabla2[[#This Row],[Contiene Datos Personales]]=\"SÍ\",Tabla2[[#This Row],[Clasificación Datos Personales]]=\"SEMIPRIVADO\"),\"Medio\",\"Bajo\")),\"\")","v":"Bajo"},null,null,"No Aplica","No Aplica",null,null,null,{"$f":"+IF(Tabla2[[#This Row],[Integridad]]=\"Grave\",0.5,IF(Tabla2[[#This Row],[Integridad]]=\"Importante\",0.3,IF(Tabla2[[#This Row],[Integridad]]=\"Leve\",0.2,\"\")))","v":""},null,{"$f":"+IF(Tabla2[[#This Row],[Disponibilidad Interna]]=\"Sí\",0.1,IF(Tabla2[[#This Row],[Disponibilidad Interna]]=\"NO\",0,\"\"))","v":""},null,{"$f":"+IF(Tabla2[[#This Row],[Disponibilidad Terceros]]=\"Sí\",0.1,IF(Tabla2[[#This Row],[Disponibilidad Terceros]]=\"No\",0,\"\"))","v":""},{"$f":"+Tabla2[[#This Row],[Columna32]]+Tabla2[[#This Row],[Columna34]]+Tabla2[[#This Row],[Columna1]]+Tabla2[[#This Row],[Columna3]]","v":{"$error":"#VALUE!"}},{"$f":"IFERROR(IF(Tabla2[[#This Row],[Columna33]]<0.45,\"BAJA\",IF(Tabla2[[#This Row],[Columna33]]>0.75,\"ALTA\",\"MEDIA\")),\"\")","v":""},"No Aplica",{"$f":"+IF(Tabla2[[#This Row],[Información Publicada (WEB)]]=\"Sí\",\"Digite URL\",\"No Aplica\")","v":"No Aplica"},null,{"$f":"IF(Tabla2[[#This Row],[ Clasificación ICBF]]=\"Pública\",1,IF(Tabla2[[#This Row],[ Clasificación ICBF]]=\"Clasificada\",2,IF(Tabla2[[#This Row],[ Clasificación ICBF]]=\"Reservada\",3,0)))","v":0},{"$f":"IF(#REF!=8,4,IF(#REF!=16,3,IF(#REF!=24,2,IF(#REF!=48,1,0))))","v":{"$error":"#REF!"}},{"$f":"IF(#REF!=8,\"Alto\",IF(#REF!=16,\"Medio\",IF(#REF!=24,\"Medio\",IF(#REF!=48,\"Bajo\",0))))","v":{"$error":"#REF!"}},null,{"$f":"+MID(Tabla2[[#This Row],[Área/Dependencia]],17,8)","v":""}]
["",null,null,null,{"$f":"+VLOOKUP(Tabla2[[#This Row],[SEDE - REGIONAL]],DATOS!B60:D93,3,FALSE)","v":{"$error":"#N/A"}},{"$f":"+IF(OR(Tabla2[[#This Row],[Área/Dependencia]]=\"Subdirección de Sistemas Integrados\",Tabla2[[#This Row],[Área/Dependencia]]=\"Subdirección de Recursos Tecnológicos\"),\"X\",\"\")","v":""},{"$f":"+CONCATENATE(Tabla2[[#This Row],[Tipo de Proceso]],Tabla2[[#This Row],[Columna4]])","v":{"$error":"#N/A"}},null,null,null,null,null,null,null,null,null,null,null,null,null,{"$f":"+IF(Tabla2[[#This Row],[Nivel de acceso ]]=\"Alto\",0.5,IF(Tabla2[[#This Row],[Nivel de acceso ]]=\"Medio\",0.3,IF(Tabla2[[#This Row],[Nivel de acceso ]]=\"Bajo\",0.2,\"\")))","v":""},null,{"$f":"+IF(Tabla2[[#This Row],[Es  Reservada]]=\"Sí\",\"Escriba Ley\",\"No Aplica\")","v":"No Aplica"},null,null,null,null,{"$f":"IFERROR(IF(AND(Tabla2[[#This Row],[Contiene Datos Personales]]=\"SÍ\",OR(Tabla2[[#This Row],[Clasificación Datos Personales]]=\"Sensible\",Tabla2[[#This Row],[Clasificación Datos Personales]]=\"NNA\",Tabla2[[#This Row],[Clasificación Datos Personales]]=\"privado\")),\"Alto\",IF(AND(Tabla2[[#This Row],[Contiene Datos Personales]]=\"SÍ\",Tabla2[[#This Row],[Clasificación Datos Personales]]=\"SEMIPRIVADO\"),\"Medio\",\"Bajo\")),\"\")","v":"Bajo"},null,null,"No Aplica","No Aplica",null,null,null,{"$f":"+IF(Tabla2[[#This Row],[Integridad]]=\"Grave\",0.5,IF(Tabla2[[#This Row],[Integridad]]=\"Importante\",0.3,IF(Tabla2[[#This Row],[Integridad]]=\"Leve\",0.2,\"\")))","v":""},null,{"$f":"+IF(Tabla2[[#This Row],[Disponibilidad Interna]]=\"Sí\",0.1,IF(Tabla2[[#This Row],[Disponibilidad Interna]]=\"NO\",0,\"\"))","v":""},null,{"$f":"+IF(Tabla2[[#This Row],[Disponibilidad Terceros]]=\"Sí\",0.1,IF(Tabla2[[#This Row],[Disponibilidad Terceros]]=\"No\",0,\"\"))","v":""},{"$f":"+Tabla2[[#This Row],[Columna32]]+Tabla2[[#This Row],[Columna34]]+Tabla2[[#This Row],[Columna1]]+Tabla2[[#This Row],[Columna3]]","v":{"$error":"#VALUE!"}},{"$f":"IFERROR(IF(Tabla2[[#This Row],[Columna33]]<0.45,\"BAJA\",IF(Tabla2[[#This Row],[Columna33]]>0.75,\"ALTA\",\"MEDIA\")),\"\")","v":""},"No Aplica",{"$f":"+IF(Tabla2[[#This Row],[Información Publicada (WEB)]]=\"Sí\",\"Digite URL\",\"No Aplica\")","v":"No Aplica"},null,{"$f":"IF(Tabla2[[#This Row],[ Clasificación ICBF]]=\"Pública\",1,IF(Tabla2[[#This Row],[ Clasificación ICBF]]=\"Clasificada\",2,IF(Tabla2[[#This Row],[ Clasificación ICBF]]=\"Reservada\",3,0)))","v":0},{"$f":"IF(#REF!=8,4,IF(#REF!=16,3,IF(#REF!=24,2,IF(#REF!=48,1,0))))","v":{"$error":"#REF!"}},{"$f":"IF(#REF!=8,\"Alto\",IF(#REF!=16,\"Medio\",IF(#REF!=24,\"Medio\",IF(#REF!=48,\"Bajo\",0))))","v":{"$error":"#REF!"}},null,{"$f":"+MID(Tabla2[[#This Row],[Área/Dependencia]],17,8)","v":""}]
["",null,null,null,{"$f":"+VLOOKUP(Tabla2[[#This Row],[SEDE - REGIONAL]],DATOS!B61:D94,3,FALSE)","v":{"$error":"#N/A"}},{"$f":"+IF(OR(Tabla2[[#This Row],[Área/Dependencia]]=\"Subdirección de Sistemas Integrados\",Tabla2[[#This Row],[Área/Dependencia]]=\"Subdirección de Recursos Tecnológicos\"),\"X\",\"\")","v":""},{"$f":"+CONCATENATE(Tabla2[[#This Row],[Tipo de Proceso]],Tabla2[[#This Row],[Columna4]])","v":{"$error":"#N/A"}},null,null,null,null,null,null,null,null,null,null,null,null,null,{"$f":"+IF(Tabla2[[#This Row],[Nivel de acceso ]]=\"Alto\",0.5,IF(Tabla2[[#This Row],[Nivel de acceso ]]=\"Medio\",0.3,IF(Tabla2[[#This Row],[Nivel de acceso ]]=\"Bajo\",0.2,\"\")))","v":""},null,{"$f":"+IF(Tabla2[[#This Row],[Es  Reservada]]=\"Sí\",\"Escriba Ley\",\"No Aplica\")","v":"No Aplica"},null,null,null,null,{"$f":"IFERROR(IF(AND(Tabla2[[#This Row],[Contiene Datos Personales]]=\"SÍ\",OR(Tabla2[[#This Row],[Clasificación Datos Personales]]=\"Sensible\",Tabla2[[#This Row],[Clasificación Datos Personales]]=\"NNA\",Tabla2[[#This Row],[Clasificación Datos Personales]]=\"privado\")),\"Alto\",IF(AND(Tabla2[[#This Row],[Contiene Datos Personales]]=\"SÍ\",Tabla2[[#This Row],[Clasificación Datos Personales]]=\"SEMIPRIVADO\"),\"Medio\",\"Bajo\")),\"\")","v":"Bajo"},null,null,"No Aplica","No Aplica",null,null,null,{"$f":"+IF(Tabla2[[#This Row],[Integridad]]=\"Grave\",0.5,IF(Tabla2[[#This Row],[Integridad]]=\"Importante\",0.3,IF(Tabla2[[#This Row],[Integridad]]=\"Leve\",0.2,\"\")))","v":""},null,{"$f":"+IF(Tabla2[[#This Row],[Disponibilidad Interna]]=\"Sí\",0.1,IF(Tabla2[[#This Row],[Disponibilidad Interna]]=\"NO\",0,\"\"))","v":""},null,{"$f":"+IF(Tabla2[[#This Row],[Disponibilidad Terceros]]=\"Sí\",0.1,IF(Tabla2[[#This Row],[Disponibilidad Terceros]]=\"No\",0,\"\"))","v":""},{"$f":"+Tabla2[[#This Row],[Columna32]]+Tabla2[[#This Row],[Columna34]]+Tabla2[[#This Row],[Columna1]]+Tabla2[[#This Row],[Columna3]]","v":{"$error":"#VALUE!"}},{"$f":"IFERROR(IF(Tabla2[[#This Row],[Columna33]]<0.45,\"BAJA\",IF(Tabla2[[#This Row],[Columna33]]>0.75,\"ALTA\",\"MEDIA\")),\"\")","v":""},"No Aplica",{"$f":"+IF(Tabla2[[#This Row],[Información Publicada (WEB)]]=\"Sí\",\"Digite URL\",\"No Aplica\")","v":"No Aplica"},null,{"$f":"IF(Tabla2[[#This Row],[ Clasificación ICBF]]=\"Pública\",1,IF(Tabla2[[#This Row],[ Clasificación ICBF]]=\"Clasificada\",2,IF(Tabla2[[#This Row],[ Clasificación ICBF]]=\"Reservada\",3,0)))","v":0},{"$f":"IF(#REF!=8,4,IF(#REF!=16,3,IF(#REF!=24,2,IF(#REF!=48,1,0))))","v":{"$error":"#REF!"}},{"$f":"IF(#REF!=8,\"Alto\",IF(#REF!=16,\"Medio\",IF(#REF!=24,\"Medio\",IF(#REF!=48,\"Bajo\",0))))","v":{"$error":"#REF!"}},null,{"$f":"+MID(Tabla2[[#This Row],[Área/Dependencia]],17,8)","v":""}]
["",null,null,null,{"$f":"+VLOOKUP(Tabla2[[#This Row],[SEDE - REGIONAL]],DATOS!B62:D95,3,FALSE)","v":{"$error":"#N/A"}},{"$f":"+IF(OR(Tabla2[[#This Row],[Área/Dependencia]]=\"Subdirección de Sistemas Integrados\",Tabla2[[#This Row],[Área/Dependencia]]=\"Subdirección de Recursos Tecnológicos\"),\"X\",\"\")","v":""},{"$f":"+CONCATENATE(Tabla2[[#This Row],[Tipo de Proceso]],Tabla2[[#This Row],[Columna4]])","v":{"$error":"#N/A"}},null,null,null,null,null,null,null,null,null,null,null,null,null,{"$f":"+IF(Tabla2[[#This Row],[Nivel de acceso ]]=\"Alto\",0.5,IF(Tabla2[[#This Row],[Nivel de acceso ]]=\"Medio\",0.3,IF(Tabla2[[#This Row],[Nivel de acceso ]]=\"Bajo\",0.2,\"\")))","v":""},null,{"$f":"+IF(Tabla2[[#This Row],[Es  Reservada]]=\"Sí\",\"Escriba Ley\",\"No Aplica\")","v":"No Aplica"},null,null,null,null,{"$f":"IFERROR(IF(AND(Tabla2[[#This Row],[Contiene Datos Personales]]=\"SÍ\",OR(Tabla2[[#This Row],[Clasificación Datos Personales]]=\"Sensible\",Tabla2[[#This Row],[Clasificación Datos Personales]]=\"NNA\",Tabla2[[#This Row],[Clasificación Datos Personales]]=\"privado\")),\"Alto\",IF(AND(Tabla2[[#This Row],[Contiene Datos Personales]]=\"SÍ\",Tabla2[[#This Row],[Clasificación Datos Personales]]=\"SEMIPRIVADO\"),\"Medio\",\"Bajo\")),\"\")","v":"Bajo"},null,null,"No Aplica","No Aplica",null,null,null,{"$f":"+IF(Tabla2[[#This Row],[Integridad]]=\"Grave\",0.5,IF(Tabla2[[#This Row],[Integridad]]=\"Importante\",0.3,IF(Tabla2[[#This Row],[Integridad]]=\"Leve\",0.2,\"\")))","v":""},null,{"$f":"+IF(Tabla2[[#This Row],[Disponibilidad Interna]]=\"Sí\",0.1,IF(Tabla2[[#This Row],[Disponibilidad Interna]]=\"NO\",0,\"\"))","v":""},null,{"$f":"+IF(Tabla2[[#This Row],[Disponibilidad Terceros]]=\"Sí\",0.1,IF(Tabla2[[#This Row],[Disponibilidad Terceros]]=\"No\",0,\"\"))","v":""},{"$f":"+Tabla2[[#This Row],[Columna32]]+Tabla2[[#This Row],[Columna34]]+Tabla2[[#This Row],[Columna1]]+Tabla2[[#This Row],[Columna3]]","v":{"$error":"#VALUE!"}},{"$f":"IFERROR(IF(Tabla2[[#This Row],[Columna33]]<0.45,\"BAJA\",IF(Tabla2[[#This Row],[Columna33]]>0.75,\"ALTA\",\"MEDIA\")),\"\")","v":""},"No Aplica",{"$f":"+IF(Tabla2[[#This Row],[Información Publicada (WEB)]]=\"Sí\",\"Digite URL\",\"No Aplica\")","v":"No Aplica"},null,{"$f":"IF(Tabla2[[#This Row],[ Clasificación ICBF]]=\"Pública\",1,IF(Tabla2[[#This Row],[ Clasificación ICBF]]=\"Clasificada\",2,IF(Tabla2[[#This Row],[ Clasificación ICBF]]=\"Reservada\",3,0)))","v":0},{"$f":"IF(#REF!=8,4,IF(#REF!=16,3,IF(#REF!=24,2,IF(#REF!=48,1,0))))","v":{"$error":"#REF!"}},{"$f":"IF(#REF!=8,\"Alto\",IF(#REF!=16,\"Medio\",IF(#REF!=24,\"Medio\",IF(#REF!=48,\"Bajo\",0))))","v":{"$error":"#REF!"}},null,{"$f":"+MID(Tabla2[[#This Row],[Área/Dependencia]],17,8)","v":""}]
["",null,null,null,{"$f":"+VLOOKUP(Tabla2[[#This Row],[SEDE - REGIONAL]],DATOS!B63:D96,3,FALSE)","v":{"$error":"#N/A"}},{"$f":"+IF(OR(Tabla2[[#This Row],[Área/Dependencia]]=\"Subdirección de Sistemas Integrados\",Tabla2[[#This Row],[Área/Dependencia]]=\"Subdirección de Recursos Tecnológicos\"),\"X\",\"\")","v":""},{"$f":"+CONCATENATE(Tabla2[[#This Row],[Tipo de Proceso]],Tabla2[[#This Row],[Columna4]])","v":{"$error":"#N/A"}},null,null,null,null,null,null,null,null,null,null,null,null,null,{"$f":"+IF(Tabla2[[#This Row],[Nivel de acceso ]]=\"Alto\",0.5,IF(Tabla2[[#This Row],[Nivel de acceso ]]=\"Medio\",0.3,IF(Tabla2[[#This Row],[Nivel de acceso ]]=\"Bajo\",0.2,\"\")))","v":""},null,{"$f":"+IF(Tabla2[[#This Row],[Es  Reservada]]=\"Sí\",\"Escriba Ley\",\"No Aplica\")","v":"No Aplica"},null,null,null,null,{"$f":"IFERROR(IF(AND(Tabla2[[#This Row],[Contiene Datos Personales]]=\"SÍ\",OR(Tabla2[[#This Row],[Clasificación Datos Personales]]=\"Sensible\",Tabla2[[#This Row],[Clasificación Datos Personales]]=\"NNA\",Tabla2[[#This Row],[Clasificación Datos Personales]]=\"privado\")),\"Alto\",IF(AND(Tabla2[[#This Row],[Contiene Datos Personales]]=\"SÍ\",Tabla2[[#This Row],[Clasificación Datos Personales]]=\"SEMIPRIVADO\"),\"Medio\",\"Bajo\")),\"\")","v":"Bajo"},null,null,"No Aplica","No Aplica",null,null,null,{"$f":"+IF(Tabla2[[#This Row],[Integridad]]=\"Grave\",0.5,IF(Tabla2[[#This Row],[Integridad]]=\"Importante\",0.3,IF(Tabla2[[#This Row],[Integridad]]=\"Leve\",0.2,\"\")))","v":""},null,{"$f":"+IF(Tabla2[[#This Row],[Disponibilidad Interna]]=\"Sí\",0.1,IF(Tabla2[[#This Row],[Disponibilidad Interna]]=\"NO\",0,\"\"))","v":""},null,{"$f":"+IF(Tabla2[[#This Row],[Disponibilidad Terceros]]=\"Sí\",0.1,IF(Tabla2[[#This Row],[Disponibilidad Terceros]]=\"No\",0,\"\"))","v":""},{"$f":"+Tabla2[[#This Row],[Columna32]]+Tabla2[[#This Row],[Columna34]]+Tabla2[[#This Row],[Columna1]]+Tabla2[[#This Row],[Columna3]]","v":{"$error":"#VALUE!"}},{"$f":"IFERROR(IF(Tabla2[[#This Row],[Columna33]]<0.45,\"BAJA\",IF(Tabla2[[#This Row],[Columna33]]>0.75,\"ALTA\",\"MEDIA\")),\"\")","v":""},"No Aplica",{"$f":"+IF(Tabla2[[#This Row],[Información Publicada (WEB)]]=\"Sí\",\"Digite URL\",\"No Aplica\")","v":"No Aplica"},null,{"$f":"IF(Tabla2[[#This Row],[ Clasificación ICBF]]=\"Pública\",1,IF(Tabla2[[#This Row],[ Clasificación ICBF]]=\"Clasificada\",2,IF(Tabla2[[#This Row],[ Clasificación ICBF]]=\"Reservada\",3,0)))","v":0},{"$f":"IF(#REF!=8,4,IF(#REF!=16,3,IF(#REF!=24,2,IF(#REF!=48,1,0))))","v":{"$error":"#REF!"}},{"$f":"IF(#REF!=8,\"Alto\",IF(#REF!=16,\"Medio\",IF(#REF!=24,\"Medio\",IF(#REF!=48,\"Bajo\",0))))","v":{"$error":"#REF!"}},null,{"$f":"+MID(Tabla2[[#This Row],[Área/Dependencia]],17,8)","v":""}]
["",null,null,null,{"$f":"+VLOOKUP(Tabla2[[#This Row],[SEDE - REGIONAL]],DATOS!B64:D97,3,FALSE)","v":{"$error":"#N/A"}},{"$f":"+IF(OR(Tabla2[[#This Row],[Área/Dependencia]]=\"Subdirección de Sistemas Integrados\",Tabla2[[#This Row],[Área/Dependencia]]=\"Subdirección de Recursos Tecnológicos\"),\"X\",\"\")","v":""},{"$f":"+CONCATENATE(Tabla2[[#This Row],[Tipo de Proceso]],Tabla2[[#This Row],[Columna4]])","v":{"$error":"#N/A"}},null,null,null,null,null,null,null,null,null,null,null,null,null,{"$f":"+IF(Tabla2[[#This Row],[Nivel de acceso ]]=\"Alto\",0.5,IF(Tabla2[[#This Row],[Nivel de acceso ]]=\"Medio\",0.3,IF(Tabla2[[#This Row],[Nivel de acceso ]]=\"Bajo\",0.2,\"\")))","v":""},null,{"$f":"+IF(Tabla2[[#This Row],[Es  Reservada]]=\"Sí\",\"Escriba Ley\",\"No Aplica\")","v":"No Aplica"},null,null,null,null,{"$f":"IFERROR(IF(AND(Tabla2[[#This Row],[Contiene Datos Personales]]=\"SÍ\",OR(Tabla2[[#This Row],[Clasificación Datos Personales]]=\"Sensible\",Tabla2[[#This Row],[Clasificación Datos Personales]]=\"NNA\",Tabla2[[#This Row],[Clasificación Datos Personales]]=\"privado\")),\"Alto\",IF(AND(Tabla2[[#This Row],[Contiene Datos Personales]]=\"SÍ\",Tabla2[[#This Row],[Clasificación Datos Personales]]=\"SEMIPRIVADO\"),\"Medio\",\"Bajo\")),\"\")","v":"Bajo"},null,null,"No Aplica","No Aplica",null,null,null,{"$f":"+IF(Tabla2[[#This Row],[Integridad]]=\"Grave\",0.5,IF(Tabla2[[#This Row],[Integridad]]=\"Importante\",0.3,IF(Tabla2[[#This Row],[Integridad]]=\"Leve\",0.2,\"\")))","v":""},null,{"$f":"+IF(Tabla2[[#This Row],[Disponibilidad Interna]]=\"Sí\",0.1,IF(Tabla2[[#This Row],[Disponibilidad Interna]]=\"NO\",0,\"\"))","v":""},null,{"$f":"+IF(Tabla2[[#This Row],[Disponibilidad Terceros]]=\"Sí\",0.1,IF(Tabla2[[#This Row],[Disponibilidad Terceros]]=\"No\",0,\"\"))","v":""},{"$f":"+Tabla2[[#This Row],[Columna32]]+Tabla2[[#This Row],[Columna34]]+Tabla2[[#This Row],[Columna1]]+Tabla2[[#This Row],[Columna3]]","v":{"$error":"#VALUE!"}},{"$f":"IFERROR(IF(Tabla2[[#This Row],[Columna33]]<0.45,\"BAJA\",IF(Tabla2[[#This Row],[Columna33]]>0.75,\"ALTA\",\"MEDIA\")),\"\")","v":""},"No Aplica",{"$f":"+IF(Tabla2[[#This Row],[Información Publicada (WEB)]]=\"Sí\",\"Digite URL\",\"No Aplica\")","v":"No Aplica"},null,{"$f":"IF(Tabla2[[#This Row],[ Clasificación ICBF]]=\"Pública\",1,IF(Tabla2[[#This Row],[ Clasificación ICBF]]=\"Clasificada\",2,IF(Tabla2[[#This Row],[ Clasificación ICBF]]=\"Reservada\",3,0)))","v":0},{"$f":"IF(#REF!=8,4,IF(#REF!=16,3,IF(#REF!=24,2,IF(#REF!=48,1,0))))","v":{"$error":"#REF!"}},{"$f":"IF(#REF!=8,\"Alto\",IF(#REF!=16,\"Medio\",IF(#REF!=24,\"Medio\",IF(#REF!=48,\"Bajo\",0))))","v":{"$error":"#REF!"}},null,{"$f":"+MID(Tabla2[[#This Row],[Área/Dependencia]],17,8)","v":""}]
["",null,null,null,{"$f":"+VLOOKUP(Tabla2[[#This Row],[SEDE - REGIONAL]],DATOS!B65:D98,3,FALSE)","v":{"$error":"#N/A"}},{"$f":"+IF(OR(Tabla2[[#This Row],[Área/Dependencia]]=\"Subdirección de Sistemas Integrados\",Tabla2[[#This Row],[Área/Dependencia]]=\"Subdirección de Recursos Tecnológicos\"),\"X\",\"\")","v":""},{"$f":"+CONCATENATE(Tabla2[[#This Row],[Tipo de Proceso]],Tabla2[[#This Row],[Columna4]])","v":{"$error":"#N/A"}},null,null,null,null,null,null,null,null,null,null,null,null,null,{"$f":"+IF(Tabla2[[#This Row],[Nivel de acceso ]]=\"Alto\",0.5,IF(Tabla2[[#This Row],[Nivel de acceso ]]=\"Medio\",0.3,IF(Tabla2[[#This Row],[Nivel de acceso ]]=\"Bajo\",0.2,\"\")))","v":""},null,{"$f":"+IF(Tabla2[[#This Row],[Es  Reservada]]=\"Sí\",\"Escriba Ley\",\"No Aplica\")","v":"No Aplica"},null,null,null,null,{"$f":"IFERROR(IF(AND(Tabla2[[#This Row],[Contiene Datos Personales]]=\"SÍ\",OR(Tabla2[[#This Row],[Clasificación Datos Personales]]=\"Sensible\",Tabla2[[#This Row],[Clasificación Datos Personales]]=\"NNA\",Tabla2[[#This Row],[Clasificación Datos Personales]]=\"privado\")),\"Alto\",IF(AND(Tabla2[[#This Row],[Contiene Datos Personales]]=\"SÍ\",Tabla2[[#This Row],[Clasificación Datos Personales]]=\"SEMIPRIVADO\"),\"Medio\",\"Bajo\")),\"\")","v":"Bajo"},null,null,"No Aplica","No Aplica",null,null,null,{"$f":"+IF(Tabla2[[#This Row],[Integridad]]=\"Grave\",0.5,IF(Tabla2[[#This Row],[Integridad]]=\"Importante\",0.3,IF(Tabla2[[#This Row],[Integridad]]=\"Leve\",0.2,\"\")))","v":""},null,{"$f":"+IF(Tabla2[[#This Row],[Disponibilidad Interna]]=\"Sí\",0.1,IF(Tabla2[[#This Row],[Disponibilidad Interna]]=\"NO\",0,\"\"))","v":""},null,{"$f":"+IF(Tabla2[[#This Row],[Disponibilidad Terceros]]=\"Sí\",0.1,IF(Tabla2[[#This Row],[Disponibilidad Terceros]]=\"No\",0,\"\"))","v":""},{"$f":"+Tabla2[[#This Row],[Columna32]]+Tabla2[[#This Row],[Columna34]]+Tabla2[[#This Row],[Columna1]]+Tabla2[[#This Row],[Columna3]]","v":{"$error":"#VALUE!"}},{"$f":"IFERROR(IF(Tabla2[[#This Row],[Columna33]]<0.45,\"BAJA\",IF(Tabla2[[#This Row],[Columna33]]>0.75,\"ALTA\",\"MEDIA\")),\"\")","v":""},"No Aplica",{"$f":"+IF(Tabla2[[#This Row],[Información Publicada (WEB)]]=\"Sí\",\"Digite URL\",\"No Aplica\")","v":"No Aplica"},null,{"$f":"IF(Tabla2[[#This Row],[ Clasificación ICBF]]=\"Pública\",1,IF(Tabla2[[#This Row],[ Clasificación ICBF]]=\"Clasificada\",2,IF(Tabla2[[#This Row],[ Clasificación ICBF]]=\"Reservada\",3,0)))","v":0},{"$f":"IF(#REF!=8,4,IF(#REF!=16,3,IF(#REF!=24,2,IF(#REF!=48,1,0))))","v":{"$error":"#REF!"}},{"$f":"IF(#REF!=8,\"Alto\",IF(#REF!=16,\"Medio\",IF(#REF!=24,\"Medio\",IF(#REF!=48,\"Bajo\",0))))","v":{"$error":"#REF!"}},null,{"$f":"+MID(Tabla2[[#This Row],[Área/Dependencia]],17,8)","v":""}]
["",null,null,null,{"$f":"+VLOOKUP(Tabla2[[#This Row],[SEDE - REGIONAL]],DATOS!B66:D99,3,FALSE)","v":{"$error":"#N/A"}},{"$f":"+IF(OR(Tabla2[[#This Row],[Área/Dependencia]]=\"Subdirección de Sistemas Integrados\",Tabla2[[#This Row],[Área/Dependencia]]=\"Subdirección de Recursos Tecnológicos\"),\"X\",\"\")","v":""},{"$f":"+CONCATENATE(Tabla2[[#This Row],[Tipo de Proceso]],Tabla2[[#This Row],[Columna4]])","v":{"$error":"#N/A"}},null,null,null,null,null,null,null,null,null,null,null,null,null,{"$f":"+IF(Tabla2[[#This Row],[Nivel de acceso ]]=\"Alto\",0.5,IF(Tabla2[[#This Row],[Nivel de acceso ]]=\"Medio\",0.3,IF(Tabla2[[#This Row],[Nivel de acceso ]]=\"Bajo\",0.2,\"\")))","v":""},null,{"$f":"+IF(Tabla2[[#This Row],[Es  Reservada]]=\"Sí\",\"Escriba Ley\",\"No Aplica\")","v":"No Aplica"},null,null,null,null,{"$f":"IFERROR(IF(AND(Tabla2[[#This Row],[Contiene Datos Personales]]=\"SÍ\",OR(Tabla2[[#This Row],[Clasificación Datos Personales]]=\"Sensible\",Tabla2[[#This Row],[Clasificación Datos Personales]]=\"NNA\",Tabla2[[#This Row],[Clasificación Datos Personales]]=\"privado\")),\"Alto\",IF(AND(Tabla2[[#This Row],[Contiene Datos Personales]]=\"SÍ\",Tabla2[[#This Row],[Clasificación Datos Personales]]=\"SEMIPRIVADO\"),\"Medio\",\"Bajo\")),\"\")","v":"Bajo"},null,null,"No Aplica","No Aplica",null,null,null,{"$f":"+IF(Tabla2[[#This Row],[Integridad]]=\"Grave\",0.5,IF(Tabla2[[#This Row],[Integridad]]=\"Importante\",0.3,IF(Tabla2[[#This Row],[Integridad]]=\"Leve\",0.2,\"\")))","v":""},null,{"$f":"+IF(Tabla2[[#This Row],[Disponibilidad Interna]]=\"Sí\",0.1,IF(Tabla2[[#This Row],[Disponibilidad Interna]]=\"NO\",0,\"\"))","v":""},null,{"$f":"+IF(Tabla2[[#This Row],[Disponibilidad Terceros]]=\"Sí\",0.1,IF(Tabla2[[#This Row],[Disponibilidad Terceros]]=\"No\",0,\"\"))","v":""},{"$f":"+Tabla2[[#This Row],[Columna32]]+Tabla2[[#This Row],[Columna34]]+Tabla2[[#This Row],[Columna1]]+Tabla2[[#This Row],[Columna3]]","v":{"$error":"#VALUE!"}},{"$f":"IFERROR(IF(Tabla2[[#This Row],[Columna33]]<0.45,\"BAJA\",IF(Tabla2[[#This Row],[Columna33]]>0.75,\"ALTA\",\"MEDIA\")),\"\")","v":""},"No Aplica",{"$f":"+IF(Tabla2[[#This Row],[Información Publicada (WEB)]]=\"Sí\",\"Digite URL\",\"No Aplica\")","v":"No Aplica"},null,{"$f":"IF(Tabla2[[#This Row],[ Clasificación ICBF]]=\"Pública\",1,IF(Tabla2[[#This Row],[ Clasificación ICBF]]=\"Clasificada\",2,IF(Tabla2[[#This Row],[ Clasificación ICBF]]=\"Reservada\",3,0)))","v":0},{"$f":"IF(#REF!=8,4,IF(#REF!=16,3,IF(#REF!=24,2,IF(#REF!=48,1,0))))","v":{"$error":"#REF!"}},{"$f":"IF(#REF!=8,\"Alto\",IF(#REF!=16,\"Medio\",IF(#REF!=24,\"Medio\",IF(#REF!=48,\"Bajo\",0))))","v":{"$error":"#REF!"}},null,{"$f":"+MID(Tabla2[[#This Row],[Área/Dependencia]],17,8)","v":""}]
["",null,null,null,{"$f":"+VLOOKUP(Tabla2[[#This Row],[SEDE - REGIONAL]],DATOS!B67:D100,3,FALSE)","v":{"$error":"#N/A"}},{"$f":"+IF(OR(Tabla2[[#This Row],[Área/Dependencia]]=\"Subdirección de Sistemas Integrados\",Tabla2[[#This Row],[Área/Dependencia]]=\"Subdirección de Recursos Tecnológicos\"),\"X\",\"\")","v":""},{"$f":"+CONCATENATE(Tabla2[[#This Row],[Tipo de Proceso]],Tabla2[[#This Row],[Columna4]])","v":{"$error":"#N/A"}},null,null,null,null,null,null,null,null,null,null,null,null,null,{"$f":"+IF(Tabla2[[#This Row],[Nivel de acceso ]]=\"Alto\",0.5,IF(Tabla2[[#This Row],[Nivel de acceso ]]=\"Medio\",0.3,IF(Tabla2[[#This Row],[Nivel de acceso ]]=\"Bajo\",0.2,\"\")))","v":""},null,{"$f":"+IF(Tabla2[[#This Row],[Es  Reservada]]=\"Sí\",\"Escriba Ley\",\"No Aplica\")","v":"No Aplica"},null,null,null,null,{"$f":"IFERROR(IF(AND(Tabla2[[#This Row],[Contiene Datos Personales]]=\"SÍ\",OR(Tabla2[[#This Row],[Clasificación Datos Personales]]=\"Sensible\",Tabla2[[#This Row],[Clasificación Datos Personales]]=\"NNA\",Tabla2[[#This Row],[Clasificación Datos Personales]]=\"privado\")),\"Alto\",IF(AND(Tabla2[[#This Row],[Contiene Datos Personales]]=\"SÍ\",Tabla2[[#This Row],[Clasificación Datos Personales]]=\"SEMIPRIVADO\"),\"Medio\",\"Bajo\")),\"\")","v":"Bajo"},null,null,{"$f":"+IF(OR(N72=\"FÍSICO-ELECTRÓNICO\",N72=\"FÍSICO\",N72=\"Hardware\"),\"Digite ubicación\",\"No Aplica\")","v":"No Aplica"},{"$f":"+IF(OR(N72=\"FÍSICO-ELECTRÓNICO\",N72=\"ELECTRÓNICO\",N72=\"Software\"),\"Digite ubicación\",\"No Aplica\")","v":"No Aplica"},null,null,null,{"$f":"+IF(Tabla2[[#This Row],[Integridad]]=\"Grave\",0.5,IF(Tabla2[[#This Row],[Integridad]]=\"Importante\",0.3,IF(Tabla2[[#This Row],[Integridad]]=\"Leve\",0.2,\"\")))","v":""},null,{"$f":"+IF(Tabla2[[#This Row],[Disponibilidad Interna]]=\"Sí\",0.1,IF(Tabla2[[#This Row],[Disponibilidad Interna]]=\"NO\",0,\"\"))","v":""},null,{"$f":"+IF(Tabla2[[#This Row],[Disponibilidad Terceros]]=\"Sí\",0.1,IF(Tabla2[[#This Row],[Disponibilidad Terceros]]=\"No\",0,\"\"))","v":""},{"$f":"+Tabla2[[#This Row],[Columna32]]+Tabla2[[#This Row],[Columna34]]+Tabla2[[#This Row],[Columna1]]+Tabla2[[#This Row],[Columna3]]","v":{"$error":"#VALUE!"}},{"$f":"IFERROR(IF(Tabla2[[#This Row],[Columna33]]<0.45,\"BAJA\",IF(Tabla2[[#This Row],[Columna33]]>0.75,\"ALTA\",\"MEDIA\")),\"\")","v":""},{"$f":"+IF(OR(N72=\"FÍSICO-ELECTRÓNICO\",N72=\"ELECTRÓNICO\"),\"Sí\",\"No Aplica\")","v":"No Aplica"},{"$f":"+IF(Tabla2[[#This Row],[Información Publicada (WEB)]]=\"Sí\",\"Digite URL\",\"No Aplica\")","v":"No Aplica"},null,{"$f":"IF(Tabla2[[#This Row],[ Clasificación ICBF]]=\"Pública\",1,IF(Tabla2[[#This Row],[ Clasificación ICBF]]=\"Clasificada\",2,IF(Tabla2[[#This Row],[ Clasificación ICBF]]=\"Reservada\",3,0)))","v":0},{"$f":"IF(#REF!=8,4,IF(#REF!=16,3,IF(#REF!=24,2,IF(#REF!=48,1,0))))","v":{"$error":"#REF!"}},{"$f":"IF(#REF!=8,\"Alto\",IF(#REF!=16,\"Medio\",IF(#REF!=24,\"Medio\",IF(#REF!=48,\"Bajo\",0))))","v":{"$error":"#REF!"}},null,{"$f":"+MID(Tabla2[[#This Row],[Área/Dependencia]],17,8)","v":""}]
["",null,null,null,{"$f":"+VLOOKUP(Tabla2[[#This Row],[SEDE - REGIONAL]],DATOS!B68:D101,3,FALSE)","v":{"$error":"#N/A"}},{"$f":"+IF(OR(Tabla2[[#This Row],[Área/Dependencia]]=\"Subdirección de Sistemas Integrados\",Tabla2[[#This Row],[Área/Dependencia]]=\"Subdirección de Recursos Tecnológicos\"),\"X\",\"\")","v":""},{"$f":"+CONCATENATE(Tabla2[[#This Row],[Tipo de Proceso]],Tabla2[[#This Row],[Columna4]])","v":{"$error":"#N/A"}},null,null,null,null,null,null,null,null,null,null,null,null,null,{"$f":"+IF(Tabla2[[#This Row],[Nivel de acceso ]]=\"Alto\",0.5,IF(Tabla2[[#This Row],[Nivel de acceso ]]=\"Medio\",0.3,IF(Tabla2[[#This Row],[Nivel de acceso ]]=\"Bajo\",0.2,\"\")))","v":""},null,{"$f":"+IF(Tabla2[[#This Row],[Es  Reservada]]=\"Sí\",\"Escriba Ley\",\"No Aplica\")","v":"No Aplica"},null,null,null,null,{"$f":"IFERROR(IF(AND(Tabla2[[#This Row],[Contiene Datos Personales]]=\"SÍ\",OR(Tabla2[[#This Row],[Clasificación Datos Personales]]=\"Sensible\",Tabla2[[#This Row],[Clasificación Datos Personales]]=\"NNA\",Tabla2[[#This Row],[Clasificación Datos Personales]]=\"privado\")),\"Alto\",IF(AND(Tabla2[[#This Row],[Contiene Datos Personales]]=\"SÍ\",Tabla2[[#This Row],[Clasificación Datos Personales]]=\"SEMIPRIVADO\"),\"Medio\",\"Bajo\")),\"\")","v":"Bajo"},null,null,"No Aplica","No Aplica",null,null,null,{"$f":"+IF(Tabla2[[#This Row],[Integridad]]=\"Grave\",0.5,IF(Tabla2[[#This Row],[Integridad]]=\"Importante\",0.3,IF(Tabla2[[#This Row],[Integridad]]=\"Leve\",0.2,\"\")))","v":""},null,{"$f":"+IF(Tabla2[[#This Row],[Disponibilidad Interna]]=\"Sí\",0.1,IF(Tabla2[[#This Row],[Disponibilidad Interna]]=\"NO\",0,\"\"))","v":""},null,{"$f":"+IF(Tabla2[[#This Row],[Disponibilidad Terceros]]=\"Sí\",0.1,IF(Tabla2[[#This Row],[Disponibilidad Terceros]]=\"No\",0,\"\"))","v":""},{"$f":"+Tabla2[[#This Row],[Columna32]]+Tabla2[[#This Row],[Columna34]]+Tabla2[[#This Row],[Columna1]]+Tabla2[[#This Row],[Columna3]]","v":{"$error":"#VALUE!"}},{"$f":"IFERROR(IF(Tabla2[[#This Row],[Columna33]]<0.45,\"BAJA\",IF(Tabla2[[#This Row],[Columna33]]>0.75,\"ALTA\",\"MEDIA\")),\"\")","v":""},"No Aplica",{"$f":"+IF(Tabla2[[#This Row],[Información Publicada (WEB)]]=\"Sí\",\"Digite URL\",\"No Aplica\")","v":"No Aplica"},null,{"$f":"IF(Tabla2[[#This Row],[ Clasificación ICBF]]=\"Pública\",1,IF(Tabla2[[#This Row],[ Clasificación ICBF]]=\"Clasificada\",2,IF(Tabla2[[#This Row],[ Clasificación ICBF]]=\"Reservada\",3,0)))","v":0},{"$f":"IF(#REF!=8,4,IF(#REF!=16,3,IF(#REF!=24,2,IF(#REF!=48,1,0))))","v":{"$error":"#REF!"}},{"$f":"IF(#REF!=8,\"Alto\",IF(#REF!=16,\"Medio\",IF(#REF!=24,\"Medio\",IF(#REF!=48,\"Bajo\",0))))","v":{"$error":"#REF!"}},null,{"$f":"+MID(Tabla2[[#This Row],[Área/Dependencia]],17,8)","v":""}]
[{"$f":"IFERROR(IF(B74<>\"\",A73+1,\"\"),\"\")","v":""},null,null,null,{"$f":"+VLOOKUP(Tabla2[[#This Row],[SEDE - REGIONAL]],DATOS!B69:D102,3,FALSE)","v":{"$error":"#N/A"}},{"$f":"+IF(OR(Tabla2[[#This Row],[Área/Dependencia]]=\"Subdirección de Sistemas Integrados\",Tabla2[[#This Row],[Área/Dependencia]]=\"Subdirección de Recursos Tecnológicos\"),\"X\",\"\")","v":""},{"$f":"+CONCATENATE(Tabla2[[#This Row],[Tipo de Proceso]],Tabla2[[#This Row],[Columna4]])","v":{"$error":"#N/A"}},null,null,null,null,null,null,null,null,null,null,null,null,null,{"$f":"+IF(Tabla2[[#This Row],[Nivel de acceso ]]=\"Alto\",0.5,IF(Tabla2[[#This Row],[Nivel de acceso ]]=\"Medio\",0.3,IF(Tabla2[[#This Row],[Nivel de acceso ]]=\"Bajo\",0.2,\"\")))","v":""},null,{"$f":"+IF(Tabla2[[#This Row],[Es  Reservada]]=\"Sí\",\"Escriba Ley\",\"No Aplica\")","v":"No Aplica"},null,null,null,null,{"$f":"IFERROR(IF(AND(Tabla2[[#This Row],[Contiene Datos Personales]]=\"SÍ\",OR(Tabla2[[#This Row],[Clasificación Datos Personales]]=\"Sensible\",Tabla2[[#This Row],[Clasificación Datos Personales]]=\"NNA\",Tabla2[[#This Row],[Clasificación Datos Personales]]=\"privado\")),\"Alto\",IF(AND(Tabla2[[#This Row],[Contiene Datos Personales]]=\"SÍ\",Tabla2[[#This Row],[Clasificación Datos Personales]]=\"SEMIPRIVADO\"),\"Medio\",\"Bajo\")),\"\")","v":"Bajo"},null,null,"No Aplica","No Aplica",null,null,null,{"$f":"+IF(Tabla2[[#This Row],[Integridad]]=\"Grave\",0.5,IF(Tabla2[[#This Row],[Integridad]]=\"Importante\",0.3,IF(Tabla2[[#This Row],[Integridad]]=\"Leve\",0.2,\"\")))","v":""},null,{"$f":"+IF(Tabla2[[#This Row],[Disponibilidad Interna]]=\"Sí\",0.1,IF(Tabla2[[#This Row],[Disponibilidad Interna]]=\"NO\",0,\"\"))","v":""},null,{"$f":"+IF(Tabla2[[#This Row],[Disponibilidad Terceros]]=\"Sí\",0.1,IF(Tabla2[[#This Row],[Disponibilidad Terceros]]=\"No\",0,\"\"))","v":""},{"$f":"+Tabla2[[#This Row],[Columna32]]+Tabla2[[#This Row],[Columna34]]+Tabla2[[#This Row],[Columna1]]+Tabla2[[#This Row],[Columna3]]","v":{"$error":"#VALUE!"}},{"$f":"IFERROR(IF(Tabla2[[#This Row],[Columna33]]<0.45,\"BAJA\",IF(Tabla2[[#This Row],[Columna33]]>0.75,\"ALTA\",\"MEDIA\")),\"\")","v":""},"No Aplica",{"$f":"+IF(Tabla2[[#This Row],[Información Publicada (WEB)]]=\"Sí\",\"Digite URL\",\"No Aplica\")","v":"No Aplica"},null,{"$f":"IF(Tabla2[[#This Row],[ Clasificación ICBF]]=\"Pública\",1,IF(Tabla2[[#This Row],[ Clasificación ICBF]]=\"Clasificada\",2,IF(Tabla2[[#This Row],[ Clasificación ICBF]]=\"Reservada\",3,0)))","v":0},{"$f":"IF(#REF!=8,4,IF(#REF!=16,3,IF(#REF!=24,2,IF(#REF!=48,1,0))))","v":{"$error":"#REF!"}},{"$f":"IF(#REF!=8,\"Alto\",IF(#REF!=16,\"Medio\",IF(#REF!=24,\"Medio\",IF(#REF!=48,\"Bajo\",0))))","v":{"$error":"#REF!"}},null,{"$f":"+MID(Tabla2[[#This Row],[Área/Dependencia]],17,8)","v":""}]
["",null,null,null,{"$f":"+VLOOKUP(Tabla2[[#This Row],[SEDE - REGIONAL]],DATOS!B70:D103,3,FALSE)","v":{"$error":"#N/A"}},{"$f":"+IF(OR(Tabla2[[#This Row],[Área/Dependencia]]=\"Subdirección de Sistemas Integrados\",Tabla2[[#This Row],[Área/Dependencia]]=\"Subdirección de Recursos Tecnológicos\"),\"X\",\"\")","v":""},{"$f":"+CONCATENATE(Tabla2[[#This Row],[Tipo de Proceso]],Tabla2[[#This Row],[Columna4]])","v":{"$error":"#N/A"}},null,null,null,null,null,null,null,null,null,null,null,null,null,{"$f":"+IF(Tabla2[[#This Row],[Nivel de acceso ]]=\"Alto\",0.5,IF(Tabla2[[#This Row],[Nivel de acceso ]]=\"Medio\",0.3,IF(Tabla2[[#This Row],[Nivel de acceso ]]=\"Bajo\",0.2,\"\")))","v":""},null,{"$f":"+IF(Tabla2[[#This Row],[Es  Reservada]]=\"Sí\",\"Escriba Ley\",\"No Aplica\")","v":"No Aplica"},null,null,null,null,{"$f":"IFERROR(IF(AND(Tabla2[[#This Row],[Contiene Datos Personales]]=\"SÍ\",OR(Tabla2[[#This Row],[Clasificación Datos Personales]]=\"Sensible\",Tabla2[[#This Row],[Clasificación Datos Personales]]=\"NNA\",Tabla2[[#This Row],[Clasificación Datos Personales]]=\"privado\")),\"Alto\",IF(AND(Tabla2[[#This Row],[Contiene Datos Personales]]=\"SÍ\",Tabla2[[#This Row],[Clasificación Datos Personales]]=\"SEMIPRIVADO\"),\"Medio\",\"Bajo\")),\"\")","v":"Bajo"},null,null,"No Aplica","No Aplica",null,null,null,{"$f":"+IF(Tabla2[[#This Row],[Integridad]]=\"Grave\",0.5,IF(Tabla2[[#This Row],[Integridad]]=\"Importante\",0.3,IF(Tabla2[[#This Row],[Integridad]]=\"Leve\",0.2,\"\")))","v":""},null,{"$f":"+IF(Tabla2[[#This Row],[Disponibilidad Interna]]=\"Sí\",0.1,IF(Tabla2[[#This Row],[Disponibilidad Interna]]=\"NO\",0,\"\"))","v":""},null,{"$f":"+IF(Tabla2[[#This Row],[Disponibilidad Terceros]]=\"Sí\",0.1,IF(Tabla2[[#This Row],[Disponibilidad Terceros]]=\"No\",0,\"\"))","v":""},{"$f":"+Tabla2[[#This Row],[Columna32]]+Tabla2[[#This Row],[Columna34]]+Tabla2[[#This Row],[Columna1]]+Tabla2[[#This Row],[Columna3]]","v":{"$error":"#VALUE!"}},{"$f":"IFERROR(IF(Tabla2[[#This Row],[Columna33]]<0.45,\"BAJA\",IF(Tabla2[[#This Row],[Columna33]]>0.75,\"ALTA\",\"MEDIA\")),\"\")","v":""},"No Aplica",{"$f":"+IF(Tabla2[[#This Row],[Información Publicada (WEB)]]=\"Sí\",\"Digite URL\",\"No Aplica\")","v":"No Aplica"},null,{"$f":"IF(Tabla2[[#This Row],[ Clasificación ICBF]]=\"Pública\",1,IF(Tabla2[[#This Row],[ Clasificación ICBF]]=\"Clasificada\",2,IF(Tabla2[[#This Row],[ Clasificación ICBF]]=\"Reservada\",3,0)))","v":0},{"$f":"IF(#REF!=8,4,IF(#REF!=16,3,IF(#REF!=24,2,IF(#REF!=48,1,0))))","v":{"$error":"#REF!"}},{"$f":"IF(#REF!=8,\"Alto\",IF(#REF!=16,\"Medio\",IF(#REF!=24,\"Medio\",IF(#REF!=48,\"Bajo\",0))))","v":{"$error":"#REF!"}},null,{"$f":"+MID(Tabla2[[#This Row],[Área/Dependencia]],17,8)","v":""}]
["",null,null,null,{"$f":"+VLOOKUP(Tabla2[[#This Row],[SEDE - REGIONAL]],DATOS!B71:D104,3,FALSE)","v":{"$error":"#N/A"}},{"$f":"+IF(OR(Tabla2[[#This Row],[Área/Dependencia]]=\"Subdirección de Sistemas Integrados\",Tabla2[[#This Row],[Área/Dependencia]]=\"Subdirección de Recursos Tecnológicos\"),\"X\",\"\")","v":""},{"$f":"+CONCATENATE(Tabla2[[#This Row],[Tipo de Proceso]],Tabla2[[#This Row],[Columna4]])","v":{"$error":"#N/A"}},null,null,null,null,null,null,null,null,null,null,null,null,null,{"$f":"+IF(Tabla2[[#This Row],[Nivel de acceso ]]=\"Alto\",0.5,IF(Tabla2[[#This Row],[Nivel de acceso ]]=\"Medio\",0.3,IF(Tabla2[[#This Row],[Nivel de acceso ]]=\"Bajo\",0.2,\"\")))","v":""},null,{"$f":"+IF(Tabla2[[#This Row],[Es  Reservada]]=\"Sí\",\"Escriba Ley\",\"No Aplica\")","v":"No Aplica"},null,null,null,null,{"$f":"IFERROR(IF(AND(Tabla2[[#This Row],[Contiene Datos Personales]]=\"SÍ\",OR(Tabla2[[#This Row],[Clasificación Datos Personales]]=\"Sensible\",Tabla2[[#This Row],[Clasificación Datos Personales]]=\"NNA\",Tabla2[[#This Row],[Clasificación Datos Personales]]=\"privado\")),\"Alto\",IF(AND(Tabla2[[#This Row],[Contiene Datos Personales]]=\"SÍ\",Tabla2[[#This Row],[Clasificación Datos Personales]]=\"SEMIPRIVADO\"),\"Medio\",\"Bajo\")),\"\")","v":"Bajo"},null,null,"No Aplica","No Aplica",null,null,null,{"$f":"+IF(Tabla2[[#This Row],[Integridad]]=\"Grave\",0.5,IF(Tabla2[[#This Row],[Integridad]]=\"Importante\",0.3,IF(Tabla2[[#This Row],[Integridad]]=\"Leve\",0.2,\"\")))","v":""},null,{"$f":"+IF(Tabla2[[#This Row],[Disponibilidad Interna]]=\"Sí\",0.1,IF(Tabla2[[#This Row],[Disponibilidad Interna]]=\"NO\",0,\"\"))","v":""},null,{"$f":"+IF(Tabla2[[#This Row],[Disponibilidad Terceros]]=\"Sí\",0.1,IF(Tabla2[[#This Row],[Disponibilidad Terceros]]=\"No\",0,\"\"))","v":""},{"$f":"+Tabla2[[#This Row],[Columna32]]+Tabla2[[#This Row],[Columna34]]+Tabla2[[#This Row],[Columna1]]+Tabla2[[#This Row],[Columna3]]","v":{"$error":"#VALUE!"}},{"$f":"IFERROR(IF(Tabla2[[#This Row],[Columna33]]<0.45,\"BAJA\",IF(Tabla2[[#This Row],[Columna33]]>0.75,\"ALTA\",\"MEDIA\")),\"\")","v":""},"No Aplica",{"$f":"+IF(Tabla2[[#This Row],[Información Publicada (WEB)]]=\"Sí\",\"Digite URL\",\"No Aplica\")","v":"No Aplica"},null,{"$f":"IF(Tabla2[[#This Row],[ Clasificación ICBF]]=\"Pública\",1,IF(Tabla2[[#This Row],[ Clasificación ICBF]]=\"Clasificada\",2,IF(Tabla2[[#This Row],[ Clasificación ICBF]]=\"Reservada\",3,0)))","v":0},{"$f":"IF(#REF!=8,4,IF(#REF!=16,3,IF(#REF!=24,2,IF(#REF!=48,1,0))))","v":{"$error":"#REF!"}},{"$f":"IF(#REF!=8,\"Alto\",IF(#REF!=16,\"Medio\",IF(#REF!=24,\"Medio\",IF(#REF!=48,\"Bajo\",0))))","v":{"$error":"#REF!"}},null,{"$f":"+MID(Tabla2[[#This Row],[Área/Dependencia]],17,8)","v":""}]
["",null,null,null,{"$f":"+VLOOKUP(Tabla2[[#This Row],[SEDE - REGIONAL]],DATOS!B72:D105,3,FALSE)","v":{"$error":"#N/A"}},{"$f":"+IF(OR(Tabla2[[#This Row],[Área/Dependencia]]=\"Subdirección de Sistemas Integrados\",Tabla2[[#This Row],[Área/Dependencia]]=\"Subdirección de Recursos Tecnológicos\"),\"X\",\"\")","v":""},{"$f":"+CONCATENATE(Tabla2[[#This Row],[Tipo de Proceso]],Tabla2[[#This Row],[Columna4]])","v":{"$error":"#N/A"}},null,null,null,null,null,null,null,null,null,null,null,null,null,{"$f":"+IF(Tabla2[[#This Row],[Nivel de acceso ]]=\"Alto\",0.5,IF(Tabla2[[#This Row],[Nivel de acceso ]]=\"Medio\",0.3,IF(Tabla2[[#This Row],[Nivel de acceso ]]=\"Bajo\",0.2,\"\")))","v":""},null,{"$f":"+IF(Tabla2[[#This Row],[Es  Reservada]]=\"Sí\",\"Escriba Ley\",\"No Aplica\")","v":"No Aplica"},null,null,null,null,{"$f":"IFERROR(IF(AND(Tabla2[[#This Row],[Contiene Datos Personales]]=\"SÍ\",OR(Tabla2[[#This Row],[Clasificación Datos Personales]]=\"Sensible\",Tabla2[[#This Row],[Clasificación Datos Personales]]=\"NNA\",Tabla2[[#This Row],[Clasificación Datos Personales]]=\"privado\")),\"Alto\",IF(AND(Tabla2[[#This Row],[Contiene Datos Personales]]=\"SÍ\",Tabla2[[#This Row],[Clasificación Datos Personales]]=\"SEMIPRIVADO\"),\"Medio\",\"Bajo\")),\"\")","v":"Bajo"},null,null,"No Aplica","No Aplica",null,null,null,{"$f":"+IF(Tabla2[[#This Row],[Integridad]]=\"Grave\",0.5,IF(Tabla2[[#This Row],[Integridad]]=\"Importante\",0.3,IF(Tabla2[[#This Row],[Integridad]]=\"Leve\",0.2,\"\")))","v":""},null,{"$f":"+IF(Tabla2[[#This Row],[Disponibilidad Interna]]=\"Sí\",0.1,IF(Tabla2[[#This Row],[Disponibilidad Interna]]=\"NO\",0,\"\"))","v":""},null,{"$f":"+IF(Tabla2[[#This Row],[Disponibilidad Terceros]]=\"Sí\",0.1,IF(Tabla2[[#This Row],[Disponibilidad Terceros]]=\"No\",0,\"\"))","v":""},{"$f":"+Tabla2[[#This Row],[Columna32]]+Tabla2[[#This Row],[Columna34]]+Tabla2[[#This Row],[Columna1]]+Tabla2[[#This Row],[Columna3]]","v":{"$error":"#VALUE!"}},{"$f":"IFERROR(IF(Tabla2[[#This Row],[Columna33]]<0.45,\"BAJA\",IF(Tabla2[[#This Row],[Columna33]]>0.75,\"ALTA\",\"MEDIA\")),\"\")","v":""},"No Aplica",{"$f":"+IF(Tabla2[[#This Row],[Información Publicada (WEB)]]=\"Sí\",\"Digite URL\",\"No Aplica\")","v":"No Aplica"},null,{"$f":"IF(Tabla2[[#This Row],[ Clasificación ICBF]]=\"Pública\",1,IF(Tabla2[[#This Row],[ Clasificación ICBF]]=\"Clasificada\",2,IF(Tabla2[[#This Row],[ Clasificación ICBF]]=\"Reservada\",3,0)))","v":0},{"$f":"IF(#REF!=8,4,IF(#REF!=16,3,IF(#REF!=24,2,IF(#REF!=48,1,0))))","v":{"$error":"#REF!"}},{"$f":"IF(#REF!=8,\"Alto\",IF(#REF!=16,\"Medio\",IF(#REF!=24,\"Medio\",IF(#REF!=48,\"Bajo\",0))))","v":{"$error":"#REF!"}},null,{"$f":"+MID(Tabla2[[#This Row],[Área/Dependencia]],17,8)","v":""}]
["",null,null,null,{"$f":"+VLOOKUP(Tabla2[[#This Row],[SEDE - REGIONAL]],DATOS!B73:D106,3,FALSE)","v":{"$error":"#N/A"}},{"$f":"+IF(OR(Tabla2[[#This Row],[Área/Dependencia]]=\"Subdirección de Sistemas Integrados\",Tabla2[[#This Row],[Área/Dependencia]]=\"Subdirección de Recursos Tecnológicos\"),\"X\",\"\")","v":""},{"$f":"+CONCATENATE(Tabla2[[#This Row],[Tipo de Proceso]],Tabla2[[#This Row],[Columna4]])","v":{"$error":"#N/A"}},null,null,null,null,null,null,null,null,null,null,null,null,null,{"$f":"+IF(Tabla2[[#This Row],[Nivel de acceso ]]=\"Alto\",0.5,IF(Tabla2[[#This Row],[Nivel de acceso ]]=\"Medio\",0.3,IF(Tabla2[[#This Row],[Nivel de acceso ]]=\"Bajo\",0.2,\"\")))","v":""},null,{"$f":"+IF(Tabla2[[#This Row],[Es  Reservada]]=\"Sí\",\"Escriba Ley\",\"No Aplica\")","v":"No Aplica"},null,null,null,null,{"$f":"IFERROR(IF(AND(Tabla2[[#This Row],[Contiene Datos Personales]]=\"SÍ\",OR(Tabla2[[#This Row],[Clasificación Datos Personales]]=\"Sensible\",Tabla2[[#This Row],[Clasificación Datos Personales]]=\"NNA\",Tabla2[[#This Row],[Clasificación Datos Personales]]=\"privado\")),\"Alto\",IF(AND(Tabla2[[#This Row],[Contiene Datos Personales]]=\"SÍ\",Tabla2[[#This Row],[Clasificación Datos Personales]]=\"SEMIPRIVADO\"),\"Medio\",\"Bajo\")),\"\")","v":"Bajo"},null,null,"No Aplica","No Aplica",null,null,null,{"$f":"+IF(Tabla2[[#This Row],[Integridad]]=\"Grave\",0.5,IF(Tabla2[[#This Row],[Integridad]]=\"Importante\",0.3,IF(Tabla2[[#This Row],[Integridad]]=\"Leve\",0.2,\"\")))","v":""},null,{"$f":"+IF(Tabla2[[#This Row],[Disponibilidad Interna]]=\"Sí\",0.1,IF(Tabla2[[#This Row],[Disponibilidad Interna]]=\"NO\",0,\"\"))","v":""},null,{"$f":"+IF(Tabla2[[#This Row],[Disponibilidad Terceros]]=\"Sí\",0.1,IF(Tabla2[[#This Row],[Disponibilidad Terceros]]=\"No\",0,\"\"))","v":""},{"$f":"+Tabla2[[#This Row],[Columna32]]+Tabla2[[#This Row],[Columna34]]+Tabla2[[#This Row],[Columna1]]+Tabla2[[#This Row],[Columna3]]","v":{"$error":"#VALUE!"}},{"$f":"IFERROR(IF(Tabla2[[#This Row],[Columna33]]<0.45,\"BAJA\",IF(Tabla2[[#This Row],[Columna33]]>0.75,\"ALTA\",\"MEDIA\")),\"\")","v":""},"No Aplica",{"$f":"+IF(Tabla2[[#This Row],[Información Publicada (WEB)]]=\"Sí\",\"Digite URL\",\"No Aplica\")","v":"No Aplica"},null,{"$f":"IF(Tabla2[[#This Row],[ Clasificación ICBF]]=\"Pública\",1,IF(Tabla2[[#This Row],[ Clasificación ICBF]]=\"Clasificada\",2,IF(Tabla2[[#This Row],[ Clasificación ICBF]]=\"Reservada\",3,0)))","v":0},{"$f":"IF(#REF!=8,4,IF(#REF!=16,3,IF(#REF!=24,2,IF(#REF!=48,1,0))))","v":{"$error":"#REF!"}},{"$f":"IF(#REF!=8,\"Alto\",IF(#REF!=16,\"Medio\",IF(#REF!=24,\"Medio\",IF(#REF!=48,\"Bajo\",0))))","v":{"$error":"#REF!"}},null,{"$f":"+MID(Tabla2[[#This Row],[Área/Dependencia]],17,8)","v":""}]
["",null,null,null,{"$f":"+VLOOKUP(Tabla2[[#This Row],[SEDE - REGIONAL]],DATOS!B74:D107,3,FALSE)","v":{"$error":"#N/A"}},{"$f":"+IF(OR(Tabla2[[#This Row],[Área/Dependencia]]=\"Subdirección de Sistemas Integrados\",Tabla2[[#This Row],[Área/Dependencia]]=\"Subdirección de Recursos Tecnológicos\"),\"X\",\"\")","v":""},{"$f":"+CONCATENATE(Tabla2[[#This Row],[Tipo de Proceso]],Tabla2[[#This Row],[Columna4]])","v":{"$error":"#N/A"}},null,null,null,null,null,null,null,null,null,null,null,null,null,{"$f":"+IF(Tabla2[[#This Row],[Nivel de acceso ]]=\"Alto\",0.5,IF(Tabla2[[#This Row],[Nivel de acceso ]]=\"Medio\",0.3,IF(Tabla2[[#This Row],[Nivel de acceso ]]=\"Bajo\",0.2,\"\")))","v":""},null,{"$f":"+IF(Tabla2[[#This Row],[Es  Reservada]]=\"Sí\",\"Escriba Ley\",\"No Aplica\")","v":"No Aplica"},null,null,null,null,{"$f":"IFERROR(IF(AND(Tabla2[[#This Row],[Contiene Datos Personales]]=\"SÍ\",OR(Tabla2[[#This Row],[Clasificación Datos Personales]]=\"Sensible\",Tabla2[[#This Row],[Clasificación Datos Personales]]=\"NNA\",Tabla2[[#This Row],[Clasificación Datos Personales]]=\"privado\")),\"Alto\",IF(AND(Tabla2[[#This Row],[Contiene Datos Personales]]=\"SÍ\",Tabla2[[#This Row],[Clasificación Datos Personales]]=\"SEMIPRIVADO\"),\"Medio\",\"Bajo\")),\"\")","v":"Bajo"},null,null,"No Aplica","No Aplica",null,null,null,{"$f":"+IF(Tabla2[[#This Row],[Integridad]]=\"Grave\",0.5,IF(Tabla2[[#This Row],[Integridad]]=\"Importante\",0.3,IF(Tabla2[[#This Row],[Integridad]]=\"Leve\",0.2,\"\")))","v":""},null,{"$f":"+IF(Tabla2[[#This Row],[Disponibilidad Interna]]=\"Sí\",0.1,IF(Tabla2[[#This Row],[Disponibilidad Interna]]=\"NO\",0,\"\"))","v":""},null,{"$f":"+IF(Tabla2[[#This Row],[Disponibilidad Terceros]]=\"Sí\",0.1,IF(Tabla2[[#This Row],[Disponibilidad Terceros]]=\"No\",0,\"\"))","v":""},{"$f":"+Tabla2[[#This Row],[Columna32]]+Tabla2[[#This Row],[Columna34]]+Tabla2[[#This Row],[Columna1]]+Tabla2[[#This Row],[Columna3]]","v":{"$error":"#VALUE!"}},{"$f":"IFERROR(IF(Tabla2[[#This Row],[Columna33]]<0.45,\"BAJA\",IF(Tabla2[[#This Row],[Columna33]]>0.75,\"ALTA\",\"MEDIA\")),\"\")","v":""},"No Aplica",{"$f":"+IF(Tabla2[[#This Row],[Información Publicada (WEB)]]=\"Sí\",\"Digite URL\",\"No Aplica\")","v":"No Aplica"},null,{"$f":"IF(Tabla2[[#This Row],[ Clasificación ICBF]]=\"Pública\",1,IF(Tabla2[[#This Row],[ Clasificación ICBF]]=\"Clasificada\",2,IF(Tabla2[[#This Row],[ Clasificación ICBF]]=\"Reservada\",3,0)))","v":0},{"$f":"IF(#REF!=8,4,IF(#REF!=16,3,IF(#REF!=24,2,IF(#REF!=48,1,0))))","v":{"$error":"#REF!"}},{"$f":"IF(#REF!=8,\"Alto\",IF(#REF!=16,\"Medio\",IF(#REF!=24,\"Medio\",IF(#REF!=48,\"Bajo\",0))))","v":{"$error":"#REF!"}},null,{"$f":"+MID(Tabla2[[#This Row],[Área/Dependencia]],17,8)","v":""}]
["",null,null,null,{"$f":"+VLOOKUP(Tabla2[[#This Row],[SEDE - REGIONAL]],DATOS!B75:D108,3,FALSE)","v":{"$error":"#N/A"}},{"$f":"+IF(OR(Tabla2[[#This Row],[Área/Dependencia]]=\"Subdirección de Sistemas Integrados\",Tabla2[[#This Row],[Área/Dependencia]]=\"Subdirección de Recursos Tecnológicos\"),\"X\",\"\")","v":""},{"$f":"+CONCATENATE(Tabla2[[#This Row],[Tipo de Proceso]],Tabla2[[#This Row],[Columna4]])","v":{"$error":"#N/A"}},null,null,null,null,null,null,null,null,null,null,null,null,null,{"$f":"+IF(Tabla2[[#This Row],[Nivel de acceso ]]=\"Alto\",0.5,IF(Tabla2[[#This Row],[Nivel de acceso ]]=\"Medio\",0.3,IF(Tabla2[[#This Row],[Nivel de acceso ]]=\"Bajo\",0.2,\"\")))","v":""},null,{"$f":"+IF(Tabla2[[#This Row],[Es  Reservada]]=\"Sí\",\"Escriba Ley\",\"No Aplica\")","v":"No Aplica"},null,null,null,null,{"$f":"IFERROR(IF(AND(Tabla2[[#This Row],[Contiene Datos Personales]]=\"SÍ\",OR(Tabla2[[#This Row],[Clasificación Datos Personales]]=\"Sensible\",Tabla2[[#This Row],[Clasificación Datos Personales]]=\"NNA\",Tabla2[[#This Row],[Clasificación Datos Personales]]=\"privado\")),\"Alto\",IF(AND(Tabla2[[#This Row],[Contiene Datos Personales]]=\"SÍ\",Tabla2[[#This Row],[Clasificación Datos Personales]]=\"SEMIPRIVADO\"),\"Medio\",\"Bajo\")),\"\")","v":"Bajo"},null,null,"No Aplica","No Aplica",null,null,null,{"$f":"+IF(Tabla2[[#This Row],[Integridad]]=\"Grave\",0.5,IF(Tabla2[[#This Row],[Integridad]]=\"Importante\",0.3,IF(Tabla2[[#This Row],[Integridad]]=\"Leve\",0.2,\"\")))","v":""},null,{"$f":"+IF(Tabla2[[#This Row],[Disponibilidad Interna]]=\"Sí\",0.1,IF(Tabla2[[#This Row],[Disponibilidad Interna]]=\"NO\",0,\"\"))","v":""},null,{"$f":"+IF(Tabla2[[#This Row],[Disponibilidad Terceros]]=\"Sí\",0.1,IF(Tabla2[[#This Row],[Disponibilidad Terceros]]=\"No\",0,\"\"))","v":""},{"$f":"+Tabla2[[#This Row],[Columna32]]+Tabla2[[#This Row],[Columna34]]+Tabla2[[#This Row],[Columna1]]+Tabla2[[#This Row],[Columna3]]","v":{"$error":"#VALUE!"}},{"$f":"IFERROR(IF(Tabla2[[#This Row],[Columna33]]<0.45,\"BAJA\",IF(Tabla2[[#This Row],[Columna33]]>0.75,\"ALTA\",\"MEDIA\")),\"\")","v":""},"No Aplica",{"$f":"+IF(Tabla2[[#This Row],[Información Publicada (WEB)]]=\"Sí\",\"Digite URL\",\"No Aplica\")","v":"No Aplica"},null,{"$f":"IF(Tabla2[[#This Row],[ Clasificación ICBF]]=\"Pública\",1,IF(Tabla2[[#This Row],[ Clasificación ICBF]]=\"Clasificada\",2,IF(Tabla2[[#This Row],[ Clasificación ICBF]]=\"Reservada\",3,0)))","v":0},{"$f":"IF(#REF!=8,4,IF(#REF!=16,3,IF(#REF!=24,2,IF(#REF!=48,1,0))))","v":{"$error":"#REF!"}},{"$f":"IF(#REF!=8,\"Alto\",IF(#REF!=16,\"Medio\",IF(#REF!=24,\"Medio\",IF(#REF!=48,\"Bajo\",0))))","v":{"$error":"#REF!"}},null,{"$f":"+MID(Tabla2[[#This Row],[Área/Dependencia]],17,8)","v":""}]
["",null,null,null,{"$f":"+VLOOKUP(Tabla2[[#This Row],[SEDE - REGIONAL]],DATOS!B76:D109,3,FALSE)","v":{"$error":"#N/A"}},{"$f":"+IF(OR(Tabla2[[#This Row],[Área/Dependencia]]=\"Subdirección de Sistemas Integrados\",Tabla2[[#This Row],[Área/Dependencia]]=\"Subdirección de Recursos Tecnológicos\"),\"X\",\"\")","v":""},{"$f":"+CONCATENATE(Tabla2[[#This Row],[Tipo de Proceso]],Tabla2[[#This Row],[Columna4]])","v":{"$error":"#N/A"}},null,null,null,null,null,null,null,null,null,null,null,null,null,{"$f":"+IF(Tabla2[[#This Row],[Nivel de acceso ]]=\"Alto\",0.5,IF(Tabla2[[#This Row],[Nivel de acceso ]]=\"Medio\",0.3,IF(Tabla2[[#This Row],[Nivel de acceso ]]=\"Bajo\",0.2,\"\")))","v":""},null,{"$f":"+IF(Tabla2[[#This Row],[Es  Reservada]]=\"Sí\",\"Escriba Ley\",\"No Aplica\")","v":"No Aplica"},null,null,null,null,{"$f":"IFERROR(IF(AND(Tabla2[[#This Row],[Contiene Datos Personales]]=\"SÍ\",OR(Tabla2[[#This Row],[Clasificación Datos Personales]]=\"Sensible\",Tabla2[[#This Row],[Clasificación Datos Personales]]=\"NNA\",Tabla2[[#This Row],[Clasificación Datos Personales]]=\"privado\")),\"Alto\",IF(AND(Tabla2[[#This Row],[Contiene Datos Personales]]=\"SÍ\",Tabla2[[#This Row],[Clasificación Datos Personales]]=\"SEMIPRIVADO\"),\"Medio\",\"Bajo\")),\"\")","v":"Bajo"},null,null,"No Aplica","No Aplica",null,null,null,{"$f":"+IF(Tabla2[[#This Row],[Integridad]]=\"Grave\",0.5,IF(Tabla2[[#This Row],[Integridad]]=\"Importante\",0.3,IF(Tabla2[[#This Row],[Integridad]]=\"Leve\",0.2,\"\")))","v":""},null,{"$f":"+IF(Tabla2[[#This Row],[Disponibilidad Interna]]=\"Sí\",0.1,IF(Tabla2[[#This Row],[Disponibilidad Interna]]=\"NO\",0,\"\"))","v":""},null,{"$f":"+IF(Tabla2[[#This Row],[Disponibilidad Terceros]]=\"Sí\",0.1,IF(Tabla2[[#This Row],[Disponibilidad Terceros]]=\"No\",0,\"\"))","v":""},{"$f":"+Tabla2[[#This Row],[Columna32]]+Tabla2[[#This Row],[Columna34]]+Tabla2[[#This Row],[Columna1]]+Tabla2[[#This Row],[Columna3]]","v":{"$error":"#VALUE!"}},{"$f":"IFERROR(IF(Tabla2[[#This Row],[Columna33]]<0.45,\"BAJA\",IF(Tabla2[[#This Row],[Columna33]]>0.75,\"ALTA\",\"MEDIA\")),\"\")","v":""},"No Aplica",{"$f":"+IF(Tabla2[[#This Row],[Información Publicada (WEB)]]=\"Sí\",\"Digite URL\",\"No Aplica\")","v":"No Aplica"},null,{"$f":"IF(Tabla2[[#This Row],[ Clasificación ICBF]]=\"Pública\",1,IF(Tabla2[[#This Row],[ Clasificación ICBF]]=\"Clasificada\",2,IF(Tabla2[[#This Row],[ Clasificación ICBF]]=\"Reservada\",3,0)))","v":0},{"$f":"IF(#REF!=8,4,IF(#REF!=16,3,IF(#REF!=24,2,IF(#REF!=48,1,0))))","v":{"$error":"#REF!"}},{"$f":"IF(#REF!=8,\"Alto\",IF(#REF!=16,\"Medio\",IF(#REF!=24,\"Medio\",IF(#REF!=48,\"Bajo\",0))))","v":{"$error":"#REF!"}},null,{"$f":"+MID(Tabla2[[#This Row],[Área/Dependencia]],17,8)","v":""}]
["",null,null,null,{"$f":"+VLOOKUP(Tabla2[[#This Row],[SEDE - REGIONAL]],DATOS!B77:D110,3,FALSE)","v":{"$error":"#N/A"}},{"$f":"+IF(OR(Tabla2[[#This Row],[Área/Dependencia]]=\"Subdirección de Sistemas Integrados\",Tabla2[[#This Row],[Área/Dependencia]]=\"Subdirección de Recursos Tecnológicos\"),\"X\",\"\")","v":""},{"$f":"+CONCATENATE(Tabla2[[#This Row],[Tipo de Proceso]],Tabla2[[#This Row],[Columna4]])","v":{"$error":"#N/A"}},null,null,null,null,null,null,null,null,null,null,null,null,null,{"$f":"+IF(Tabla2[[#This Row],[Nivel de acceso ]]=\"Alto\",0.5,IF(Tabla2[[#This Row],[Nivel de acceso ]]=\"Medio\",0.3,IF(Tabla2[[#This Row],[Nivel de acceso ]]=\"Bajo\",0.2,\"\")))","v":""},null,{"$f":"+IF(Tabla2[[#This Row],[Es  Reservada]]=\"Sí\",\"Escriba Ley\",\"No Aplica\")","v":"No Aplica"},null,null,null,null,{"$f":"IFERROR(IF(AND(Tabla2[[#This Row],[Contiene Datos Personales]]=\"SÍ\",OR(Tabla2[[#This Row],[Clasificación Datos Personales]]=\"Sensible\",Tabla2[[#This Row],[Clasificación Datos Personales]]=\"NNA\",Tabla2[[#This Row],[Clasificación Datos Personales]]=\"privado\")),\"Alto\",IF(AND(Tabla2[[#This Row],[Contiene Datos Personales]]=\"SÍ\",Tabla2[[#This Row],[Clasificación Datos Personales]]=\"SEMIPRIVADO\"),\"Medio\",\"Bajo\")),\"\")","v":"Bajo"},null,null,"No Aplica","No Aplica",null,null,null,{"$f":"+IF(Tabla2[[#This Row],[Integridad]]=\"Grave\",0.5,IF(Tabla2[[#This Row],[Integridad]]=\"Importante\",0.3,IF(Tabla2[[#This Row],[Integridad]]=\"Leve\",0.2,\"\")))","v":""},null,{"$f":"+IF(Tabla2[[#This Row],[Disponibilidad Interna]]=\"Sí\",0.1,IF(Tabla2[[#This Row],[Disponibilidad Interna]]=\"NO\",0,\"\"))","v":""},null,{"$f":"+IF(Tabla2[[#This Row],[Disponibilidad Terceros]]=\"Sí\",0.1,IF(Tabla2[[#This Row],[Disponibilidad Terceros]]=\"No\",0,\"\"))","v":""},{"$f":"+Tabla2[[#This Row],[Columna32]]+Tabla2[[#This Row],[Columna34]]+Tabla2[[#This Row],[Columna1]]+Tabla2[[#This Row],[Columna3]]","v":{"$error":"#VALUE!"}},{"$f":"IFERROR(IF(Tabla2[[#This Row],[Columna33]]<0.45,\"BAJA\",IF(Tabla2[[#This Row],[Columna33]]>0.75,\"ALTA\",\"MEDIA\")),\"\")","v":""},"No Aplica",{"$f":"+IF(Tabla2[[#This Row],[Información Publicada (WEB)]]=\"Sí\",\"Digite URL\",\"No Aplica\")","v":"No Aplica"},null,{"$f":"IF(Tabla2[[#This Row],[ Clasificación ICBF]]=\"Pública\",1,IF(Tabla2[[#This Row],[ Clasificación ICBF]]=\"Clasificada\",2,IF(Tabla2[[#This Row],[ Clasificación ICBF]]=\"Reservada\",3,0)))","v":0},{"$f":"IF(#REF!=8,4,IF(#REF!=16,3,IF(#REF!=24,2,IF(#REF!=48,1,0))))","v":{"$error":"#REF!"}},{"$f":"IF(#REF!=8,\"Alto\",IF(#REF!=16,\"Medio\",IF(#REF!=24,\"Medio\",IF(#REF!=48,\"Bajo\",0))))","v":{"$error":"#REF!"}},null,{"$f":"+MID(Tabla2[[#This Row],[Área/Dependencia]],17,8)","v":""}]
["",null,null,null,{"$f":"+VLOOKUP(Tabla2[[#This Row],[SEDE - REGIONAL]],DATOS!B78:D111,3,FALSE)","v":{"$error":"#N/A"}},{"$f":"+IF(OR(Tabla2[[#This Row],[Área/Dependencia]]=\"Subdirección de Sistemas Integrados\",Tabla2[[#This Row],[Área/Dependencia]]=\"Subdirección de Recursos Tecnológicos\"),\"X\",\"\")","v":""},{"$f":"+CONCATENATE(Tabla2[[#This Row],[Tipo de Proceso]],Tabla2[[#This Row],[Columna4]])","v":{"$error":"#N/A"}},null,null,null,null,null,null,null,null,null,null,null,null,null,{"$f":"+IF(Tabla2[[#This Row],[Nivel de acceso ]]=\"Alto\",0.5,IF(Tabla2[[#This Row],[Nivel de acceso ]]=\"Medio\",0.3,IF(Tabla2[[#This Row],[Nivel de acceso ]]=\"Bajo\",0.2,\"\")))","v":""},null,{"$f":"+IF(Tabla2[[#This Row],[Es  Reservada]]=\"Sí\",\"Escriba Ley\",\"No Aplica\")","v":"No Aplica"},null,null,null,null,{"$f":"IFERROR(IF(AND(Tabla2[[#This Row],[Contiene Datos Personales]]=\"SÍ\",OR(Tabla2[[#This Row],[Clasificación Datos Personales]]=\"Sensible\",Tabla2[[#This Row],[Clasificación Datos Personales]]=\"NNA\",Tabla2[[#This Row],[Clasificación Datos Personales]]=\"privado\")),\"Alto\",IF(AND(Tabla2[[#This Row],[Contiene Datos Personales]]=\"SÍ\",Tabla2[[#This Row],[Clasificación Datos Personales]]=\"SEMIPRIVADO\"),\"Medio\",\"Bajo\")),\"\")","v":"Bajo"},null,null,"No Aplica","No Aplica",null,null,null,{"$f":"+IF(Tabla2[[#This Row],[Integridad]]=\"Grave\",0.5,IF(Tabla2[[#This Row],[Integridad]]=\"Importante\",0.3,IF(Tabla2[[#This Row],[Integridad]]=\"Leve\",0.2,\"\")))","v":""},null,{"$f":"+IF(Tabla2[[#This Row],[Disponibilidad Interna]]=\"Sí\",0.1,IF(Tabla2[[#This Row],[Disponibilidad Interna]]=\"NO\",0,\"\"))","v":""},null,{"$f":"+IF(Tabla2[[#This Row],[Disponibilidad Terceros]]=\"Sí\",0.1,IF(Tabla2[[#This Row],[Disponibilidad Terceros]]=\"No\",0,\"\"))","v":""},{"$f":"+Tabla2[[#This Row],[Columna32]]+Tabla2[[#This Row],[Columna34]]+Tabla2[[#This Row],[Columna1]]+Tabla2[[#This Row],[Columna3]]","v":{"$error":"#VALUE!"}},{"$f":"IFERROR(IF(Tabla2[[#This Row],[Columna33]]<0.45,\"BAJA\",IF(Tabla2[[#This Row],[Columna33]]>0.75,\"ALTA\",\"MEDIA\")),\"\")","v":""},"No Aplica",{"$f":"+IF(Tabla2[[#This Row],[Información Publicada (WEB)]]=\"Sí\",\"Digite URL\",\"No Aplica\")","v":"No Aplica"},null,{"$f":"IF(Tabla2[[#This Row],[ Clasificación ICBF]]=\"Pública\",1,IF(Tabla2[[#This Row],[ Clasificación ICBF]]=\"Clasificada\",2,IF(Tabla2[[#This Row],[ Clasificación ICBF]]=\"Reservada\",3,0)))","v":0},{"$f":"IF(#REF!=8,4,IF(#REF!=16,3,IF(#REF!=24,2,IF(#REF!=48,1,0))))","v":{"$error":"#REF!"}},{"$f":"IF(#REF!=8,\"Alto\",IF(#REF!=16,\"Medio\",IF(#REF!=24,\"Medio\",IF(#REF!=48,\"Bajo\",0))))","v":{"$error":"#REF!"}},null,{"$f":"+MID(Tabla2[[#This Row],[Área/Dependencia]],17,8)","v":""}]
["",null,null,null,{"$f":"+VLOOKUP(Tabla2[[#This Row],[SEDE - REGIONAL]],DATOS!B79:D112,3,FALSE)","v":{"$error":"#N/A"}},{"$f":"+IF(OR(Tabla2[[#This Row],[Área/Dependencia]]=\"Subdirección de Sistemas Integrados\",Tabla2[[#This Row],[Área/Dependencia]]=\"Subdirección de Recursos Tecnológicos\"),\"X\",\"\")","v":""},{"$f":"+CONCATENATE(Tabla2[[#This Row],[Tipo de Proceso]],Tabla2[[#This Row],[Columna4]])","v":{"$error":"#N/A"}},null,null,null,null,null,null,null,null,null,null,null,null,null,{"$f":"+IF(Tabla2[[#This Row],[Nivel de acceso ]]=\"Alto\",0.5,IF(Tabla2[[#This Row],[Nivel de acceso ]]=\"Medio\",0.3,IF(Tabla2[[#This Row],[Nivel de acceso ]]=\"Bajo\",0.2,\"\")))","v":""},null,{"$f":"+IF(Tabla2[[#This Row],[Es  Reservada]]=\"Sí\",\"Escriba Ley\",\"No Aplica\")","v":"No Aplica"},null,null,null,null,{"$f":"IFERROR(IF(AND(Tabla2[[#This Row],[Contiene Datos Personales]]=\"SÍ\",OR(Tabla2[[#This Row],[Clasificación Datos Personales]]=\"Sensible\",Tabla2[[#This Row],[Clasificación Datos Personales]]=\"NNA\",Tabla2[[#This Row],[Clasificación Datos Personales]]=\"privado\")),\"Alto\",IF(AND(Tabla2[[#This Row],[Contiene Datos Personales]]=\"SÍ\",Tabla2[[#This Row],[Clasificación Datos Personales]]=\"SEMIPRIVADO\"),\"Medio\",\"Bajo\")),\"\")","v":"Bajo"},null,null,"No Aplica","No Aplica",null,null,null,{"$f":"+IF(Tabla2[[#This Row],[Integridad]]=\"Grave\",0.5,IF(Tabla2[[#This Row],[Integridad]]=\"Importante\",0.3,IF(Tabla2[[#This Row],[Integridad]]=\"Leve\",0.2,\"\")))","v":""},null,{"$f":"+IF(Tabla2[[#This Row],[Disponibilidad Interna]]=\"Sí\",0.1,IF(Tabla2[[#This Row],[Disponibilidad Interna]]=\"NO\",0,\"\"))","v":""},null,{"$f":"+IF(Tabla2[[#This Row],[Disponibilidad Terceros]]=\"Sí\",0.1,IF(Tabla2[[#This Row],[Disponibilidad Terceros]]=\"No\",0,\"\"))","v":""},{"$f":"+Tabla2[[#This Row],[Columna32]]+Tabla2[[#This Row],[Columna34]]+Tabla2[[#This Row],[Columna1]]+Tabla2[[#This Row],[Columna3]]","v":{"$error":"#VALUE!"}},{"$f":"IFERROR(IF(Tabla2[[#This Row],[Columna33]]<0.45,\"BAJA\",IF(Tabla2[[#This Row],[Columna33]]>0.75,\"ALTA\",\"MEDIA\")),\"\")","v":""},"No Aplica",{"$f":"+IF(Tabla2[[#This Row],[Información Publicada (WEB)]]=\"Sí\",\"Digite URL\",\"No Aplica\")","v":"No Aplica"},null,{"$f":"IF(Tabla2[[#This Row],[ Clasificación ICBF]]=\"Pública\",1,IF(Tabla2[[#This Row],[ Clasificación ICBF]]=\"Clasificada\",2,IF(Tabla2[[#This Row],[ Clasificación ICBF]]=\"Reservada\",3,0)))","v":0},{"$f":"IF(#REF!=8,4,IF(#REF!=16,3,IF(#REF!=24,2,IF(#REF!=48,1,0))))","v":{"$error":"#REF!"}},{"$f":"IF(#REF!=8,\"Alto\",IF(#REF!=16,\"Medio\",IF(#REF!=24,\"Medio\",IF(#REF!=48,\"Bajo\",0))))","v":{"$error":"#REF!"}},null,{"$f":"+MID(Tabla2[[#This Row],[Área/Dependencia]],17,8)","v":""}]
["",null,null,null,{"$f":"+VLOOKUP(Tabla2[[#This Row],[SEDE - REGIONAL]],DATOS!B80:D113,3,FALSE)","v":{"$error":"#N/A"}},{"$f":"+IF(OR(Tabla2[[#This Row],[Área/Dependencia]]=\"Subdirección de Sistemas Integrados\",Tabla2[[#This Row],[Área/Dependencia]]=\"Subdirección de Recursos Tecnológicos\"),\"X\",\"\")","v":""},{"$f":"+CONCATENATE(Tabla2[[#This Row],[Tipo de Proceso]],Tabla2[[#This Row],[Columna4]])","v":{"$error":"#N/A"}},null,null,null,null,null,null,null,null,null,null,null,null,null,{"$f":"+IF(Tabla2[[#This Row],[Nivel de acceso ]]=\"Alto\",0.5,IF(Tabla2[[#This Row],[Nivel de acceso ]]=\"Medio\",0.3,IF(Tabla2[[#This Row],[Nivel de acceso ]]=\"Bajo\",0.2,\"\")))","v":""},null,{"$f":"+IF(Tabla2[[#This Row],[Es  Reservada]]=\"Sí\",\"Escriba Ley\",\"No Aplica\")","v":"No Aplica"},null,null,null,null,{"$f":"IFERROR(IF(AND(Tabla2[[#This Row],[Contiene Datos Personales]]=\"SÍ\",OR(Tabla2[[#This Row],[Clasificación Datos Personales]]=\"Sensible\",Tabla2[[#This Row],[Clasificación Datos Personales]]=\"NNA\",Tabla2[[#This Row],[Clasificación Datos Personales]]=\"privado\")),\"Alto\",IF(AND(Tabla2[[#This Row],[Contiene Datos Personales]]=\"SÍ\",Tabla2[[#This Row],[Clasificación Datos Personales]]=\"SEMIPRIVADO\"),\"Medio\",\"Bajo\")),\"\")","v":"Bajo"},null,null,"No Aplica","No Aplica",null,null,null,{"$f":"+IF(Tabla2[[#This Row],[Integridad]]=\"Grave\",0.5,IF(Tabla2[[#This Row],[Integridad]]=\"Importante\",0.3,IF(Tabla2[[#This Row],[Integridad]]=\"Leve\",0.2,\"\")))","v":""},null,{"$f":"+IF(Tabla2[[#This Row],[Disponibilidad Interna]]=\"Sí\",0.1,IF(Tabla2[[#This Row],[Disponibilidad Interna]]=\"NO\",0,\"\"))","v":""},null,{"$f":"+IF(Tabla2[[#This Row],[Disponibilidad Terceros]]=\"Sí\",0.1,IF(Tabla2[[#This Row],[Disponibilidad Terceros]]=\"No\",0,\"\"))","v":""},{"$f":"+Tabla2[[#This Row],[Columna32]]+Tabla2[[#This Row],[Columna34]]+Tabla2[[#This Row],[Columna1]]+Tabla2[[#This Row],[Columna3]]","v":{"$error":"#VALUE!"}},{"$f":"IFERROR(IF(Tabla2[[#This Row],[Columna33]]<0.45,\"BAJA\",IF(Tabla2[[#This Row],[Columna33]]>0.75,\"ALTA\",\"MEDIA\")),\"\")","v":""},"No Aplica",{"$f":"+IF(Tabla2[[#This Row],[Información Publicada (WEB)]]=\"Sí\",\"Digite URL\",\"No Aplica\")","v":"No Aplica"},null,{"$f":"IF(Tabla2[[#This Row],[ Clasificación ICBF]]=\"Pública\",1,IF(Tabla2[[#This Row],[ Clasificación ICBF]]=\"Clasificada\",2,IF(Tabla2[[#This Row],[ Clasificación ICBF]]=\"Reservada\",3,0)))","v":0},{"$f":"IF(#REF!=8,4,IF(#REF!=16,3,IF(#REF!=24,2,IF(#REF!=48,1,0))))","v":{"$error":"#REF!"}},{"$f":"IF(#REF!=8,\"Alto\",IF(#REF!=16,\"Medio\",IF(#REF!=24,\"Medio\",IF(#REF!=48,\"Bajo\",0))))","v":{"$error":"#REF!"}},null,{"$f":"+MID(Tabla2[[#This Row],[Área/Dependencia]],17,8)","v":""}]
["",null,null,null,{"$f":"+VLOOKUP(Tabla2[[#This Row],[SEDE - REGIONAL]],DATOS!B81:D114,3,FALSE)","v":{"$error":"#N/A"}},{"$f":"+IF(OR(Tabla2[[#This Row],[Área/Dependencia]]=\"Subdirección de Sistemas Integrados\",Tabla2[[#This Row],[Área/Dependencia]]=\"Subdirección de Recursos Tecnológicos\"),\"X\",\"\")","v":""},{"$f":"+CONCATENATE(Tabla2[[#This Row],[Tipo de Proceso]],Tabla2[[#This Row],[Columna4]])","v":{"$error":"#N/A"}},null,null,null,null,null,null,null,null,null,null,null,null,null,{"$f":"+IF(Tabla2[[#This Row],[Nivel de acceso ]]=\"Alto\",0.5,IF(Tabla2[[#This Row],[Nivel de acceso ]]=\"Medio\",0.3,IF(Tabla2[[#This Row],[Nivel de acceso ]]=\"Bajo\",0.2,\"\")))","v":""},null,{"$f":"+IF(Tabla2[[#This Row],[Es  Reservada]]=\"Sí\",\"Escriba Ley\",\"No Aplica\")","v":"No Aplica"},null,null,null,null,{"$f":"IFERROR(IF(AND(Tabla2[[#This Row],[Contiene Datos Personales]]=\"SÍ\",OR(Tabla2[[#This Row],[Clasificación Datos Personales]]=\"Sensible\",Tabla2[[#This Row],[Clasificación Datos Personales]]=\"NNA\",Tabla2[[#This Row],[Clasificación Datos Personales]]=\"privado\")),\"Alto\",IF(AND(Tabla2[[#This Row],[Contiene Datos Personales]]=\"SÍ\",Tabla2[[#This Row],[Clasificación Datos Personales]]=\"SEMIPRIVADO\"),\"Medio\",\"Bajo\")),\"\")","v":"Bajo"},null,null,"No Aplica","No Aplica",null,null,null,{"$f":"+IF(Tabla2[[#This Row],[Integridad]]=\"Grave\",0.5,IF(Tabla2[[#This Row],[Integridad]]=\"Importante\",0.3,IF(Tabla2[[#This Row],[Integridad]]=\"Leve\",0.2,\"\")))","v":""},null,{"$f":"+IF(Tabla2[[#This Row],[Disponibilidad Interna]]=\"Sí\",0.1,IF(Tabla2[[#This Row],[Disponibilidad Interna]]=\"NO\",0,\"\"))","v":""},null,{"$f":"+IF(Tabla2[[#This Row],[Disponibilidad Terceros]]=\"Sí\",0.1,IF(Tabla2[[#This Row],[Disponibilidad Terceros]]=\"No\",0,\"\"))","v":""},{"$f":"+Tabla2[[#This Row],[Columna32]]+Tabla2[[#This Row],[Columna34]]+Tabla2[[#This Row],[Columna1]]+Tabla2[[#This Row],[Columna3]]","v":{"$error":"#VALUE!"}},{"$f":"IFERROR(IF(Tabla2[[#This Row],[Columna33]]<0.45,\"BAJA\",IF(Tabla2[[#This Row],[Columna33]]>0.75,\"ALTA\",\"MEDIA\")),\"\")","v":""},"No Aplica",{"$f":"+IF(Tabla2[[#This Row],[Información Publicada (WEB)]]=\"Sí\",\"Digite URL\",\"No Aplica\")","v":"No Aplica"},null,{"$f":"IF(Tabla2[[#This Row],[ Clasificación ICBF]]=\"Pública\",1,IF(Tabla2[[#This Row],[ Clasificación ICBF]]=\"Clasificada\",2,IF(Tabla2[[#This Row],[ Clasificación ICBF]]=\"Reservada\",3,0)))","v":0},{"$f":"IF(#REF!=8,4,IF(#REF!=16,3,IF(#REF!=24,2,IF(#REF!=48,1,0))))","v":{"$error":"#REF!"}},{"$f":"IF(#REF!=8,\"Alto\",IF(#REF!=16,\"Medio\",IF(#REF!=24,\"Medio\",IF(#REF!=48,\"Bajo\",0))))","v":{"$error":"#REF!"}},null,{"$f":"+MID(Tabla2[[#This Row],[Área/Dependencia]],17,8)","v":""}]
["",null,null,null,{"$f":"+VLOOKUP(Tabla2[[#This Row],[SEDE - REGIONAL]],DATOS!B82:D115,3,FALSE)","v":{"$error":"#N/A"}},{"$f":"+IF(OR(Tabla2[[#This Row],[Área/Dependencia]]=\"Subdirección de Sistemas Integrados\",Tabla2[[#This Row],[Área/Dependencia]]=\"Subdirección de Recursos Tecnológicos\"),\"X\",\"\")","v":""},{"$f":"+CONCATENATE(Tabla2[[#This Row],[Tipo de Proceso]],Tabla2[[#This Row],[Columna4]])","v":{"$error":"#N/A"}},null,null,null,null,null,null,null,null,null,null,null,null,null,{"$f":"+IF(Tabla2[[#This Row],[Nivel de acceso ]]=\"Alto\",0.5,IF(Tabla2[[#This Row],[Nivel de acceso ]]=\"Medio\",0.3,IF(Tabla2[[#This Row],[Nivel de acceso ]]=\"Bajo\",0.2,\"\")))","v":""},null,{"$f":"+IF(Tabla2[[#This Row],[Es  Reservada]]=\"Sí\",\"Escriba Ley\",\"No Aplica\")","v":"No Aplica"},null,null,null,null,{"$f":"IFERROR(IF(AND(Tabla2[[#This Row],[Contiene Datos Personales]]=\"SÍ\",OR(Tabla2[[#This Row],[Clasificación Datos Personales]]=\"Sensible\",Tabla2[[#This Row],[Clasificación Datos Personales]]=\"NNA\",Tabla2[[#This Row],[Clasificación Datos Personales]]=\"privado\")),\"Alto\",IF(AND(Tabla2[[#This Row],[Contiene Datos Personales]]=\"SÍ\",Tabla2[[#This Row],[Clasificación Datos Personales]]=\"SEMIPRIVADO\"),\"Medio\",\"Bajo\")),\"\")","v":"Bajo"},null,null,"No Aplica","No Aplica",null,null,null,{"$f":"+IF(Tabla2[[#This Row],[Integridad]]=\"Grave\",0.5,IF(Tabla2[[#This Row],[Integridad]]=\"Importante\",0.3,IF(Tabla2[[#This Row],[Integridad]]=\"Leve\",0.2,\"\")))","v":""},null,{"$f":"+IF(Tabla2[[#This Row],[Disponibilidad Interna]]=\"Sí\",0.1,IF(Tabla2[[#This Row],[Disponibilidad Interna]]=\"NO\",0,\"\"))","v":""},null,{"$f":"+IF(Tabla2[[#This Row],[Disponibilidad Terceros]]=\"Sí\",0.1,IF(Tabla2[[#This Row],[Disponibilidad Terceros]]=\"No\",0,\"\"))","v":""},{"$f":"+Tabla2[[#This Row],[Columna32]]+Tabla2[[#This Row],[Columna34]]+Tabla2[[#This Row],[Columna1]]+Tabla2[[#This Row],[Columna3]]","v":{"$error":"#VALUE!"}},{"$f":"IFERROR(IF(Tabla2[[#This Row],[Columna33]]<0.45,\"BAJA\",IF(Tabla2[[#This Row],[Columna33]]>0.75,\"ALTA\",\"MEDIA\")),\"\")","v":""},"No Aplica",{"$f":"+IF(Tabla2[[#This Row],[Información Publicada (WEB)]]=\"Sí\",\"Digite URL\",\"No Aplica\")","v":"No Aplica"},null,{"$f":"IF(Tabla2[[#This Row],[ Clasificación ICBF]]=\"Pública\",1,IF(Tabla2[[#This Row],[ Clasificación ICBF]]=\"Clasificada\",2,IF(Tabla2[[#This Row],[ Clasificación ICBF]]=\"Reservada\",3,0)))","v":0},{"$f":"IF(#REF!=8,4,IF(#REF!=16,3,IF(#REF!=24,2,IF(#REF!=48,1,0))))","v":{"$error":"#REF!"}},{"$f":"IF(#REF!=8,\"Alto\",IF(#REF!=16,\"Medio\",IF(#REF!=24,\"Medio\",IF(#REF!=48,\"Bajo\",0))))","v":{"$error":"#REF!"}},null,{"$f":"+MID(Tabla2[[#This Row],[Área/Dependencia]],17,8)","v":""}]
["",null,null,null,{"$f":"+VLOOKUP(Tabla2[[#This Row],[SEDE - REGIONAL]],DATOS!B83:D116,3,FALSE)","v":{"$error":"#N/A"}},{"$f":"+IF(OR(Tabla2[[#This Row],[Área/Dependencia]]=\"Subdirección de Sistemas Integrados\",Tabla2[[#This Row],[Área/Dependencia]]=\"Subdirección de Recursos Tecnológicos\"),\"X\",\"\")","v":""},{"$f":"+CONCATENATE(Tabla2[[#This Row],[Tipo de Proceso]],Tabla2[[#This Row],[Columna4]])","v":{"$error":"#N/A"}},null,null,null,null,null,null,null,null,null,null,null,null,null,{"$f":"+IF(Tabla2[[#This Row],[Nivel de acceso ]]=\"Alto\",0.5,IF(Tabla2[[#This Row],[Nivel de acceso ]]=\"Medio\",0.3,IF(Tabla2[[#This Row],[Nivel de acceso ]]=\"Bajo\",0.2,\"\")))","v":""},null,{"$f":"+IF(Tabla2[[#This Row],[Es  Reservada]]=\"Sí\",\"Escriba Ley\",\"No Aplica\")","v":"No Aplica"},null,null,null,null,{"$f":"IFERROR(IF(AND(Tabla2[[#This Row],[Contiene Datos Personales]]=\"SÍ\",OR(Tabla2[[#This Row],[Clasificación Datos Personales]]=\"Sensible\",Tabla2[[#This Row],[Clasificación Datos Personales]]=\"NNA\",Tabla2[[#This Row],[Clasificación Datos Personales]]=\"privado\")),\"Alto\",IF(AND(Tabla2[[#This Row],[Contiene Datos Personales]]=\"SÍ\",Tabla2[[#This Row],[Clasificación Datos Personales]]=\"SEMIPRIVADO\"),\"Medio\",\"Bajo\")),\"\")","v":"Bajo"},null,null,"No Aplica","No Aplica",null,null,null,{"$f":"+IF(Tabla2[[#This Row],[Integridad]]=\"Grave\",0.5,IF(Tabla2[[#This Row],[Integridad]]=\"Importante\",0.3,IF(Tabla2[[#This Row],[Integridad]]=\"Leve\",0.2,\"\")))","v":""},null,{"$f":"+IF(Tabla2[[#This Row],[Disponibilidad Interna]]=\"Sí\",0.1,IF(Tabla2[[#This Row],[Disponibilidad Interna]]=\"NO\",0,\"\"))","v":""},null,{"$f":"+IF(Tabla2[[#This Row],[Disponibilidad Terceros]]=\"Sí\",0.1,IF(Tabla2[[#This Row],[Disponibilidad Terceros]]=\"No\",0,\"\"))","v":""},{"$f":"+Tabla2[[#This Row],[Columna32]]+Tabla2[[#This Row],[Columna34]]+Tabla2[[#This Row],[Columna1]]+Tabla2[[#This Row],[Columna3]]","v":{"$error":"#VALUE!"}},{"$f":"IFERROR(IF(Tabla2[[#This Row],[Columna33]]<0.45,\"BAJA\",IF(Tabla2[[#This Row],[Columna33]]>0.75,\"ALTA\",\"MEDIA\")),\"\")","v":""},"No Aplica",{"$f":"+IF(Tabla2[[#This Row],[Información Publicada (WEB)]]=\"Sí\",\"Digite URL\",\"No Aplica\")","v":"No Aplica"},null,{"$f":"IF(Tabla2[[#This Row],[ Clasificación ICBF]]=\"Pública\",1,IF(Tabla2[[#This Row],[ Clasificación ICBF]]=\"Clasificada\",2,IF(Tabla2[[#This Row],[ Clasificación ICBF]]=\"Reservada\",3,0)))","v":0},{"$f":"IF(#REF!=8,4,IF(#REF!=16,3,IF(#REF!=24,2,IF(#REF!=48,1,0))))","v":{"$error":"#REF!"}},{"$f":"IF(#REF!=8,\"Alto\",IF(#REF!=16,\"Medio\",IF(#REF!=24,\"Medio\",IF(#REF!=48,\"Bajo\",0))))","v":{"$error":"#REF!"}},null,{"$f":"+MID(Tabla2[[#This Row],[Área/Dependencia]],17,8)","v":""}]
["",null,null,null,{"$f":"+VLOOKUP(Tabla2[[#This Row],[SEDE - REGIONAL]],DATOS!B84:D117,3,FALSE)","v":{"$error":"#N/A"}},{"$f":"+IF(OR(Tabla2[[#This Row],[Área/Dependencia]]=\"Subdirección de Sistemas Integrados\",Tabla2[[#This Row],[Área/Dependencia]]=\"Subdirección de Recursos Tecnológicos\"),\"X\",\"\")","v":""},{"$f":"+CONCATENATE(Tabla2[[#This Row],[Tipo de Proceso]],Tabla2[[#This Row],[Columna4]])","v":{"$error":"#N/A"}},null,null,null,null,null,null,null,null,null,null,null,null,null,{"$f":"+IF(Tabla2[[#This Row],[Nivel de acceso ]]=\"Alto\",0.5,IF(Tabla2[[#This Row],[Nivel de acceso ]]=\"Medio\",0.3,IF(Tabla2[[#This Row],[Nivel de acceso ]]=\"Bajo\",0.2,\"\")))","v":""},null,{"$f":"+IF(Tabla2[[#This Row],[Es  Reservada]]=\"Sí\",\"Escriba Ley\",\"No Aplica\")","v":"No Aplica"},null,null,null,null,{"$f":"IFERROR(IF(AND(Tabla2[[#This Row],[Contiene Datos Personales]]=\"SÍ\",OR(Tabla2[[#This Row],[Clasificación Datos Personales]]=\"Sensible\",Tabla2[[#This Row],[Clasificación Datos Personales]]=\"NNA\",Tabla2[[#This Row],[Clasificación Datos Personales]]=\"privado\")),\"Alto\",IF(AND(Tabla2[[#This Row],[Contiene Datos Personales]]=\"SÍ\",Tabla2[[#This Row],[Clasificación Datos Personales]]=\"SEMIPRIVADO\"),\"Medio\",\"Bajo\")),\"\")","v":"Bajo"},null,null,"No Aplica","No Aplica",null,null,null,{"$f":"+IF(Tabla2[[#This Row],[Integridad]]=\"Grave\",0.5,IF(Tabla2[[#This Row],[Integridad]]=\"Importante\",0.3,IF(Tabla2[[#This Row],[Integridad]]=\"Leve\",0.2,\"\")))","v":""},null,{"$f":"+IF(Tabla2[[#This Row],[Disponibilidad Interna]]=\"Sí\",0.1,IF(Tabla2[[#This Row],[Disponibilidad Interna]]=\"NO\",0,\"\"))","v":""},null,{"$f":"+IF(Tabla2[[#This Row],[Disponibilidad Terceros]]=\"Sí\",0.1,IF(Tabla2[[#This Row],[Disponibilidad Terceros]]=\"No\",0,\"\"))","v":""},{"$f":"+Tabla2[[#This Row],[Columna32]]+Tabla2[[#This Row],[Columna34]]+Tabla2[[#This Row],[Columna1]]+Tabla2[[#This Row],[Columna3]]","v":{"$error":"#VALUE!"}},{"$f":"IFERROR(IF(Tabla2[[#This Row],[Columna33]]<0.45,\"BAJA\",IF(Tabla2[[#This Row],[Columna33]]>0.75,\"ALTA\",\"MEDIA\")),\"\")","v":""},"No Aplica",{"$f":"+IF(Tabla2[[#This Row],[Información Publicada (WEB)]]=\"Sí\",\"Digite URL\",\"No Aplica\")","v":"No Aplica"},null,{"$f":"IF(Tabla2[[#This Row],[ Clasificación ICBF]]=\"Pública\",1,IF(Tabla2[[#This Row],[ Clasificación ICBF]]=\"Clasificada\",2,IF(Tabla2[[#This Row],[ Clasificación ICBF]]=\"Reservada\",3,0)))","v":0},{"$f":"IF(#REF!=8,4,IF(#REF!=16,3,IF(#REF!=24,2,IF(#REF!=48,1,0))))","v":{"$error":"#REF!"}},{"$f":"IF(#REF!=8,\"Alto\",IF(#REF!=16,\"Medio\",IF(#REF!=24,\"Medio\",IF(#REF!=48,\"Bajo\",0))))","v":{"$error":"#REF!"}},null,{"$f":"+MID(Tabla2[[#This Row],[Área/Dependencia]],17,8)","v":""}]
["",null,null,null,{"$f":"+VLOOKUP(Tabla2[[#This Row],[SEDE - REGIONAL]],DATOS!B85:D118,3,FALSE)","v":{"$error":"#N/A"}},{"$f":"+IF(OR(Tabla2[[#This Row],[Área/Dependencia]]=\"Subdirección de Sistemas Integrados\",Tabla2[[#This Row],[Área/Dependencia]]=\"Subdirección de Recursos Tecnológicos\"),\"X\",\"\")","v":""},{"$f":"+CONCATENATE(Tabla2[[#This Row],[Tipo de Proceso]],Tabla2[[#This Row],[Columna4]])","v":{"$error":"#N/A"}},null,null,null,null,null,null,null,null,null,null,null,null,null,{"$f":"+IF(Tabla2[[#This Row],[Nivel de acceso ]]=\"Alto\",0.5,IF(Tabla2[[#This Row],[Nivel de acceso ]]=\"Medio\",0.3,IF(Tabla2[[#This Row],[Nivel de acceso ]]=\"Bajo\",0.2,\"\")))","v":""},null,{"$f":"+IF(Tabla2[[#This Row],[Es  Reservada]]=\"Sí\",\"Escriba Ley\",\"No Aplica\")","v":"No Aplica"},null,null,null,null,{"$f":"IFERROR(IF(AND(Tabla2[[#This Row],[Contiene Datos Personales]]=\"SÍ\",OR(Tabla2[[#This Row],[Clasificación Datos Personales]]=\"Sensible\",Tabla2[[#This Row],[Clasificación Datos Personales]]=\"NNA\",Tabla2[[#This Row],[Clasificación Datos Personales]]=\"privado\")),\"Alto\",IF(AND(Tabla2[[#This Row],[Contiene Datos Personales]]=\"SÍ\",Tabla2[[#This Row],[Clasificación Datos Personales]]=\"SEMIPRIVADO\"),\"Medio\",\"Bajo\")),\"\")","v":"Bajo"},null,null,"No Aplica","No Aplica",null,null,null,{"$f":"+IF(Tabla2[[#This Row],[Integridad]]=\"Grave\",0.5,IF(Tabla2[[#This Row],[Integridad]]=\"Importante\",0.3,IF(Tabla2[[#This Row],[Integridad]]=\"Leve\",0.2,\"\")))","v":""},null,{"$f":"+IF(Tabla2[[#This Row],[Disponibilidad Interna]]=\"Sí\",0.1,IF(Tabla2[[#This Row],[Disponibilidad Interna]]=\"NO\",0,\"\"))","v":""},null,{"$f":"+IF(Tabla2[[#This Row],[Disponibilidad Terceros]]=\"Sí\",0.1,IF(Tabla2[[#This Row],[Disponibilidad Terceros]]=\"No\",0,\"\"))","v":""},{"$f":"+Tabla2[[#This Row],[Columna32]]+Tabla2[[#This Row],[Columna34]]+Tabla2[[#This Row],[Columna1]]+Tabla2[[#This Row],[Columna3]]","v":{"$error":"#VALUE!"}},{"$f":"IFERROR(IF(Tabla2[[#This Row],[Columna33]]<0.45,\"BAJA\",IF(Tabla2[[#This Row],[Columna33]]>0.75,\"ALTA\",\"MEDIA\")),\"\")","v":""},"No Aplica",{"$f":"+IF(Tabla2[[#This Row],[Información Publicada (WEB)]]=\"Sí\",\"Digite URL\",\"No Aplica\")","v":"No Aplica"},null,{"$f":"IF(Tabla2[[#This Row],[ Clasificación ICBF]]=\"Pública\",1,IF(Tabla2[[#This Row],[ Clasificación ICBF]]=\"Clasificada\",2,IF(Tabla2[[#This Row],[ Clasificación ICBF]]=\"Reservada\",3,0)))","v":0},{"$f":"IF(#REF!=8,4,IF(#REF!=16,3,IF(#REF!=24,2,IF(#REF!=48,1,0))))","v":{"$error":"#REF!"}},{"$f":"IF(#REF!=8,\"Alto\",IF(#REF!=16,\"Medio\",IF(#REF!=24,\"Medio\",IF(#REF!=48,\"Bajo\",0))))","v":{"$error":"#REF!"}},null,{"$f":"+MID(Tabla2[[#This Row],[Área/Dependencia]],17,8)","v":""}]
["",null,null,null,{"$f":"+VLOOKUP(Tabla2[[#This Row],[SEDE - REGIONAL]],DATOS!B86:D119,3,FALSE)","v":{"$error":"#N/A"}},{"$f":"+IF(OR(Tabla2[[#This Row],[Área/Dependencia]]=\"Subdirección de Sistemas Integrados\",Tabla2[[#This Row],[Área/Dependencia]]=\"Subdirección de Recursos Tecnológicos\"),\"X\",\"\")","v":""},{"$f":"+CONCATENATE(Tabla2[[#This Row],[Tipo de Proceso]],Tabla2[[#This Row],[Columna4]])","v":{"$error":"#N/A"}},null,null,null,null,null,null,null,null,null,null,null,null,null,{"$f":"+IF(Tabla2[[#This Row],[Nivel de acceso ]]=\"Alto\",0.5,IF(Tabla2[[#This Row],[Nivel de acceso ]]=\"Medio\",0.3,IF(Tabla2[[#This Row],[Nivel de acceso ]]=\"Bajo\",0.2,\"\")))","v":""},null,{"$f":"+IF(Tabla2[[#This Row],[Es  Reservada]]=\"Sí\",\"Escriba Ley\",\"No Aplica\")","v":"No Aplica"},null,null,null,null,{"$f":"IFERROR(IF(AND(Tabla2[[#This Row],[Contiene Datos Personales]]=\"SÍ\",OR(Tabla2[[#This Row],[Clasificación Datos Personales]]=\"Sensible\",Tabla2[[#This Row],[Clasificación Datos Personales]]=\"NNA\",Tabla2[[#This Row],[Clasificación Datos Personales]]=\"privado\")),\"Alto\",IF(AND(Tabla2[[#This Row],[Contiene Datos Personales]]=\"SÍ\",Tabla2[[#This Row],[Clasificación Datos Personales]]=\"SEMIPRIVADO\"),\"Medio\",\"Bajo\")),\"\")","v":"Bajo"},null,null,"No Aplica","No Aplica",null,null,null,{"$f":"+IF(Tabla2[[#This Row],[Integridad]]=\"Grave\",0.5,IF(Tabla2[[#This Row],[Integridad]]=\"Importante\",0.3,IF(Tabla2[[#This Row],[Integridad]]=\"Leve\",0.2,\"\")))","v":""},null,{"$f":"+IF(Tabla2[[#This Row],[Disponibilidad Interna]]=\"Sí\",0.1,IF(Tabla2[[#This Row],[Disponibilidad Interna]]=\"NO\",0,\"\"))","v":""},null,{"$f":"+IF(Tabla2[[#This Row],[Disponibilidad Terceros]]=\"Sí\",0.1,IF(Tabla2[[#This Row],[Disponibilidad Terceros]]=\"No\",0,\"\"))","v":""},{"$f":"+Tabla2[[#This Row],[Columna32]]+Tabla2[[#This Row],[Columna34]]+Tabla2[[#This Row],[Columna1]]+Tabla2[[#This Row],[Columna3]]","v":{"$error":"#VALUE!"}},{"$f":"IFERROR(IF(Tabla2[[#This Row],[Columna33]]<0.45,\"BAJA\",IF(Tabla2[[#This Row],[Columna33]]>0.75,\"ALTA\",\"MEDIA\")),\"\")","v":""},"No Aplica",{"$f":"+IF(Tabla2[[#This Row],[Información Publicada (WEB)]]=\"Sí\",\"Digite URL\",\"No Aplica\")","v":"No Aplica"},null,{"$f":"IF(Tabla2[[#This Row],[ Clasificación ICBF]]=\"Pública\",1,IF(Tabla2[[#This Row],[ Clasificación ICBF]]=\"Clasificada\",2,IF(Tabla2[[#This Row],[ Clasificación ICBF]]=\"Reservada\",3,0)))","v":0},{"$f":"IF(#REF!=8,4,IF(#REF!=16,3,IF(#REF!=24,2,IF(#REF!=48,1,0))))","v":{"$error":"#REF!"}},{"$f":"IF(#REF!=8,\"Alto\",IF(#REF!=16,\"Medio\",IF(#REF!=24,\"Medio\",IF(#REF!=48,\"Bajo\",0))))","v":{"$error":"#REF!"}},null,{"$f":"+MID(Tabla2[[#This Row],[Área/Dependencia]],17,8)","v":""}]
["",null,null,null,{"$f":"+VLOOKUP(Tabla2[[#This Row],[SEDE - REGIONAL]],DATOS!B87:D120,3,FALSE)","v":{"$error":"#N/A"}},{"$f":"+IF(OR(Tabla2[[#This Row],[Área/Dependencia]]=\"Subdirección de Sistemas Integrados\",Tabla2[[#This Row],[Área/Dependencia]]=\"Subdirección de Recursos Tecnológicos\"),\"X\",\"\")","v":""},{"$f":"+CONCATENATE(Tabla2[[#This Row],[Tipo de Proceso]],Tabla2[[#This Row],[Columna4]])","v":{"$error":"#N/A"}},null,null,null,null,null,null,null,null,null,null,null,null,null,{"$f":"+IF(Tabla2[[#This Row],[Nivel de acceso ]]=\"Alto\",0.5,IF(Tabla2[[#This Row],[Nivel de acceso ]]=\"Medio\",0.3,IF(Tabla2[[#This Row],[Nivel de acceso ]]=\"Bajo\",0.2,\"\")))","v":""},null,{"$f":"+IF(Tabla2[[#This Row],[Es  Reservada]]=\"Sí\",\"Escriba Ley\",\"No Aplica\")","v":"No Aplica"},null,null,null,null,{"$f":"IFERROR(IF(AND(Tabla2[[#This Row],[Contiene Datos Personales]]=\"SÍ\",OR(Tabla2[[#This Row],[Clasificación Datos Personales]]=\"Sensible\",Tabla2[[#This Row],[Clasificación Datos Personales]]=\"NNA\",Tabla2[[#This Row],[Clasificación Datos Personales]]=\"privado\")),\"Alto\",IF(AND(Tabla2[[#This Row],[Contiene Datos Personales]]=\"SÍ\",Tabla2[[#This Row],[Clasificación Datos Personales]]=\"SEMIPRIVADO\"),\"Medio\",\"Bajo\")),\"\")","v":"Bajo"},null,null,"No Aplica","No Aplica",null,null,null,{"$f":"+IF(Tabla2[[#This Row],[Integridad]]=\"Grave\",0.5,IF(Tabla2[[#This Row],[Integridad]]=\"Importante\",0.3,IF(Tabla2[[#This Row],[Integridad]]=\"Leve\",0.2,\"\")))","v":""},null,{"$f":"+IF(Tabla2[[#This Row],[Disponibilidad Interna]]=\"Sí\",0.1,IF(Tabla2[[#This Row],[Disponibilidad Interna]]=\"NO\",0,\"\"))","v":""},null,{"$f":"+IF(Tabla2[[#This Row],[Disponibilidad Terceros]]=\"Sí\",0.1,IF(Tabla2[[#This Row],[Disponibilidad Terceros]]=\"No\",0,\"\"))","v":""},{"$f":"+Tabla2[[#This Row],[Columna32]]+Tabla2[[#This Row],[Columna34]]+Tabla2[[#This Row],[Columna1]]+Tabla2[[#This Row],[Columna3]]","v":{"$error":"#VALUE!"}},{"$f":"IFERROR(IF(Tabla2[[#This Row],[Columna33]]<0.45,\"BAJA\",IF(Tabla2[[#This Row],[Columna33]]>0.75,\"ALTA\",\"MEDIA\")),\"\")","v":""},"No Aplica",{"$f":"+IF(Tabla2[[#This Row],[Información Publicada (WEB)]]=\"Sí\",\"Digite URL\",\"No Aplica\")","v":"No Aplica"},null,{"$f":"IF(Tabla2[[#This Row],[ Clasificación ICBF]]=\"Pública\",1,IF(Tabla2[[#This Row],[ Clasificación ICBF]]=\"Clasificada\",2,IF(Tabla2[[#This Row],[ Clasificación ICBF]]=\"Reservada\",3,0)))","v":0},{"$f":"IF(#REF!=8,4,IF(#REF!=16,3,IF(#REF!=24,2,IF(#REF!=48,1,0))))","v":{"$error":"#REF!"}},{"$f":"IF(#REF!=8,\"Alto\",IF(#REF!=16,\"Medio\",IF(#REF!=24,\"Medio\",IF(#REF!=48,\"Bajo\",0))))","v":{"$error":"#REF!"}},null,{"$f":"+MID(Tabla2[[#This Row],[Área/Dependencia]],17,8)","v":""}]
["",null,null,null,{"$f":"+VLOOKUP(Tabla2[[#This Row],[SEDE - REGIONAL]],DATOS!B88:D121,3,FALSE)","v":{"$error":"#N/A"}},{"$f":"+IF(OR(Tabla2[[#This Row],[Área/Dependencia]]=\"Subdirección de Sistemas Integrados\",Tabla2[[#This Row],[Área/Dependencia]]=\"Subdirección de Recursos Tecnológicos\"),\"X\",\"\")","v":""},{"$f":"+CONCATENATE(Tabla2[[#This Row],[Tipo de Proceso]],Tabla2[[#This Row],[Columna4]])","v":{"$error":"#N/A"}},null,null,null,null,null,null,null,null,null,null,null,null,null,{"$f":"+IF(Tabla2[[#This Row],[Nivel de acceso ]]=\"Alto\",0.5,IF(Tabla2[[#This Row],[Nivel de acceso ]]=\"Medio\",0.3,IF(Tabla2[[#This Row],[Nivel de acceso ]]=\"Bajo\",0.2,\"\")))","v":""},null,{"$f":"+IF(Tabla2[[#This Row],[Es  Reservada]]=\"Sí\",\"Escriba Ley\",\"No Aplica\")","v":"No Aplica"},null,null,null,null,{"$f":"IFERROR(IF(AND(Tabla2[[#This Row],[Contiene Datos Personales]]=\"SÍ\",OR(Tabla2[[#This Row],[Clasificación Datos Personales]]=\"Sensible\",Tabla2[[#This Row],[Clasificación Datos Personales]]=\"NNA\",Tabla2[[#This Row],[Clasificación Datos Personales]]=\"privado\")),\"Alto\",IF(AND(Tabla2[[#This Row],[Contiene Datos Personales]]=\"SÍ\",Tabla2[[#This Row],[Clasificación Datos Personales]]=\"SEMIPRIVADO\"),\"Medio\",\"Bajo\")),\"\")","v":"Bajo"},null,null,"No Aplica","No Aplica",null,null,null,{"$f":"+IF(Tabla2[[#This Row],[Integridad]]=\"Grave\",0.5,IF(Tabla2[[#This Row],[Integridad]]=\"Importante\",0.3,IF(Tabla2[[#This Row],[Integridad]]=\"Leve\",0.2,\"\")))","v":""},null,{"$f":"+IF(Tabla2[[#This Row],[Disponibilidad Interna]]=\"Sí\",0.1,IF(Tabla2[[#This Row],[Disponibilidad Interna]]=\"NO\",0,\"\"))","v":""},null,{"$f":"+IF(Tabla2[[#This Row],[Disponibilidad Terceros]]=\"Sí\",0.1,IF(Tabla2[[#This Row],[Disponibilidad Terceros]]=\"No\",0,\"\"))","v":""},{"$f":"+Tabla2[[#This Row],[Columna32]]+Tabla2[[#This Row],[Columna34]]+Tabla2[[#This Row],[Columna1]]+Tabla2[[#This Row],[Columna3]]","v":{"$error":"#VALUE!"}},{"$f":"IFERROR(IF(Tabla2[[#This Row],[Columna33]]<0.45,\"BAJA\",IF(Tabla2[[#This Row],[Columna33]]>0.75,\"ALTA\",\"MEDIA\")),\"\")","v":""},"No Aplica",{"$f":"+IF(Tabla2[[#This Row],[Información Publicada (WEB)]]=\"Sí\",\"Digite URL\",\"No Aplica\")","v":"No Aplica"},null,{"$f":"IF(Tabla2[[#This Row],[ Clasificación ICBF]]=\"Pública\",1,IF(Tabla2[[#This Row],[ Clasificación ICBF]]=\"Clasificada\",2,IF(Tabla2[[#This Row],[ Clasificación ICBF]]=\"Reservada\",3,0)))","v":0},{"$f":"IF(#REF!=8,4,IF(#REF!=16,3,IF(#REF!=24,2,IF(#REF!=48,1,0))))","v":{"$error":"#REF!"}},{"$f":"IF(#REF!=8,\"Alto\",IF(#REF!=16,\"Medio\",IF(#REF!=24,\"Medio\",IF(#REF!=48,\"Bajo\",0))))","v":{"$error":"#REF!"}},null,{"$f":"+MID(Tabla2[[#This Row],[Área/Dependencia]],17,8)","v":""}]
["",null,null,null,{"$f":"+VLOOKUP(Tabla2[[#This Row],[SEDE - REGIONAL]],DATOS!B89:D122,3,FALSE)","v":{"$error":"#N/A"}},{"$f":"+IF(OR(Tabla2[[#This Row],[Área/Dependencia]]=\"Subdirección de Sistemas Integrados\",Tabla2[[#This Row],[Área/Dependencia]]=\"Subdirección de Recursos Tecnológicos\"),\"X\",\"\")","v":""},{"$f":"+CONCATENATE(Tabla2[[#This Row],[Tipo de Proceso]],Tabla2[[#This Row],[Columna4]])","v":{"$error":"#N/A"}},null,null,null,null,null,null,null,null,null,null,null,null,null,{"$f":"+IF(Tabla2[[#This Row],[Nivel de acceso ]]=\"Alto\",0.5,IF(Tabla2[[#This Row],[Nivel de acceso ]]=\"Medio\",0.3,IF(Tabla2[[#This Row],[Nivel de acceso ]]=\"Bajo\",0.2,\"\")))","v":""},null,{"$f":"+IF(Tabla2[[#This Row],[Es  Reservada]]=\"Sí\",\"Escriba Ley\",\"No Aplica\")","v":"No Aplica"},null,null,null,null,{"$f":"IFERROR(IF(AND(Tabla2[[#This Row],[Contiene Datos Personales]]=\"SÍ\",OR(Tabla2[[#This Row],[Clasificación Datos Personales]]=\"Sensible\",Tabla2[[#This Row],[Clasificación Datos Personales]]=\"NNA\",Tabla2[[#This Row],[Clasificación Datos Personales]]=\"privado\")),\"Alto\",IF(AND(Tabla2[[#This Row],[Contiene Datos Personales]]=\"SÍ\",Tabla2[[#This Row],[Clasificación Datos Personales]]=\"SEMIPRIVADO\"),\"Medio\",\"Bajo\")),\"\")","v":"Bajo"},null,null,"No Aplica","No Aplica",null,null,null,{"$f":"+IF(Tabla2[[#This Row],[Integridad]]=\"Grave\",0.5,IF(Tabla2[[#This Row],[Integridad]]=\"Importante\",0.3,IF(Tabla2[[#This Row],[Integridad]]=\"Leve\",0.2,\"\")))","v":""},null,{"$f":"+IF(Tabla2[[#This Row],[Disponibilidad Interna]]=\"Sí\",0.1,IF(Tabla2[[#This Row],[Disponibilidad Interna]]=\"NO\",0,\"\"))","v":""},null,{"$f":"+IF(Tabla2[[#This Row],[Disponibilidad Terceros]]=\"Sí\",0.1,IF(Tabla2[[#This Row],[Disponibilidad Terceros]]=\"No\",0,\"\"))","v":""},{"$f":"+Tabla2[[#This Row],[Columna32]]+Tabla2[[#This Row],[Columna34]]+Tabla2[[#This Row],[Columna1]]+Tabla2[[#This Row],[Columna3]]","v":{"$error":"#VALUE!"}},{"$f":"IFERROR(IF(Tabla2[[#This Row],[Columna33]]<0.45,\"BAJA\",IF(Tabla2[[#This Row],[Columna33]]>0.75,\"ALTA\",\"MEDIA\")),\"\")","v":""},"No Aplica",{"$f":"+IF(Tabla2[[#This Row],[Información Publicada (WEB)]]=\"Sí\",\"Digite URL\",\"No Aplica\")","v":"No Aplica"},null,{"$f":"IF(Tabla2[[#This Row],[ Clasificación ICBF]]=\"Pública\",1,IF(Tabla2[[#This Row],[ Clasificación ICBF]]=\"Clasificada\",2,IF(Tabla2[[#This Row],[ Clasificación ICBF]]=\"Reservada\",3,0)))","v":0},{"$f":"IF(#REF!=8,4,IF(#REF!=16,3,IF(#REF!=24,2,IF(#REF!=48,1,0))))","v":{"$error":"#REF!"}},{"$f":"IF(#REF!=8,\"Alto\",IF(#REF!=16,\"Medio\",IF(#REF!=24,\"Medio\",IF(#REF!=48,\"Bajo\",0))))","v":{"$error":"#REF!"}},null,{"$f":"+MID(Tabla2[[#This Row],[Área/Dependencia]],17,8)","v":""}]
["",null,null,null,{"$f":"+VLOOKUP(Tabla2[[#This Row],[SEDE - REGIONAL]],DATOS!B90:D123,3,FALSE)","v":{"$error":"#N/A"}},{"$f":"+IF(OR(Tabla2[[#This Row],[Área/Dependencia]]=\"Subdirección de Sistemas Integrados\",Tabla2[[#This Row],[Área/Dependencia]]=\"Subdirección de Recursos Tecnológicos\"),\"X\",\"\")","v":""},{"$f":"+CONCATENATE(Tabla2[[#This Row],[Tipo de Proceso]],Tabla2[[#This Row],[Columna4]])","v":{"$error":"#N/A"}},null,null,null,null,null,null,null,null,null,null,null,null,null,{"$f":"+IF(Tabla2[[#This Row],[Nivel de acceso ]]=\"Alto\",0.5,IF(Tabla2[[#This Row],[Nivel de acceso ]]=\"Medio\",0.3,IF(Tabla2[[#This Row],[Nivel de acceso ]]=\"Bajo\",0.2,\"\")))","v":""},null,{"$f":"+IF(Tabla2[[#This Row],[Es  Reservada]]=\"Sí\",\"Escriba Ley\",\"No Aplica\")","v":"No Aplica"},null,null,null,null,{"$f":"IFERROR(IF(AND(Tabla2[[#This Row],[Contiene Datos Personales]]=\"SÍ\",OR(Tabla2[[#This Row],[Clasificación Datos Personales]]=\"Sensible\",Tabla2[[#This Row],[Clasificación Datos Personales]]=\"NNA\",Tabla2[[#This Row],[Clasificación Datos Personales]]=\"privado\")),\"Alto\",IF(AND(Tabla2[[#This Row],[Contiene Datos Personales]]=\"SÍ\",Tabla2[[#This Row],[Clasificación Datos Personales]]=\"SEMIPRIVADO\"),\"Medio\",\"Bajo\")),\"\")","v":"Bajo"},null,null,"No Aplica","No Aplica",null,null,null,{"$f":"+IF(Tabla2[[#This Row],[Integridad]]=\"Grave\",0.5,IF(Tabla2[[#This Row],[Integridad]]=\"Importante\",0.3,IF(Tabla2[[#This Row],[Integridad]]=\"Leve\",0.2,\"\")))","v":""},null,{"$f":"+IF(Tabla2[[#This Row],[Disponibilidad Interna]]=\"Sí\",0.1,IF(Tabla2[[#This Row],[Disponibilidad Interna]]=\"NO\",0,\"\"))","v":""},null,{"$f":"+IF(Tabla2[[#This Row],[Disponibilidad Terceros]]=\"Sí\",0.1,IF(Tabla2[[#This Row],[Disponibilidad Terceros]]=\"No\",0,\"\"))","v":""},{"$f":"+Tabla2[[#This Row],[Columna32]]+Tabla2[[#This Row],[Columna34]]+Tabla2[[#This Row],[Columna1]]+Tabla2[[#This Row],[Columna3]]","v":{"$error":"#VALUE!"}},{"$f":"IFERROR(IF(Tabla2[[#This Row],[Columna33]]<0.45,\"BAJA\",IF(Tabla2[[#This Row],[Columna33]]>0.75,\"ALTA\",\"MEDIA\")),\"\")","v":""},"No Aplica",{"$f":"+IF(Tabla2[[#This Row],[Información Publicada (WEB)]]=\"Sí\",\"Digite URL\",\"No Aplica\")","v":"No Aplica"},null,{"$f":"IF(Tabla2[[#This Row],[ Clasificación ICBF]]=\"Pública\",1,IF(Tabla2[[#This Row],[ Clasificación ICBF]]=\"Clasificada\",2,IF(Tabla2[[#This Row],[ Clasificación ICBF]]=\"Reservada\",3,0)))","v":0},{"$f":"IF(#REF!=8,4,IF(#REF!=16,3,IF(#REF!=24,2,IF(#REF!=48,1,0))))","v":{"$error":"#REF!"}},{"$f":"IF(#REF!=8,\"Alto\",IF(#REF!=16,\"Medio\",IF(#REF!=24,\"Medio\",IF(#REF!=48,\"Bajo\",0))))","v":{"$error":"#REF!"}},null,{"$f":"+MID(Tabla2[[#This Row],[Área/Dependencia]],17,8)","v":""}]
["",null,null,null,{"$f":"+VLOOKUP(Tabla2[[#This Row],[SEDE - REGIONAL]],DATOS!B91:D124,3,FALSE)","v":{"$error":"#N/A"}},{"$f":"+IF(OR(Tabla2[[#This Row],[Área/Dependencia]]=\"Subdirección de Sistemas Integrados\",Tabla2[[#This Row],[Área/Dependencia]]=\"Subdirección de Recursos Tecnológicos\"),\"X\",\"\")","v":""},{"$f":"+CONCATENATE(Tabla2[[#This Row],[Tipo de Proceso]],Tabla2[[#This Row],[Columna4]])","v":{"$error":"#N/A"}},null,null,null,null,null,null,null,null,null,null,null,null,null,{"$f":"+IF(Tabla2[[#This Row],[Nivel de acceso ]]=\"Alto\",0.5,IF(Tabla2[[#This Row],[Nivel de acceso ]]=\"Medio\",0.3,IF(Tabla2[[#This Row],[Nivel de acceso ]]=\"Bajo\",0.2,\"\")))","v":""},null,{"$f":"+IF(Tabla2[[#This Row],[Es  Reservada]]=\"Sí\",\"Escriba Ley\",\"No Aplica\")","v":"No Aplica"},null,null,null,null,{"$f":"IFERROR(IF(AND(Tabla2[[#This Row],[Contiene Datos Personales]]=\"SÍ\",OR(Tabla2[[#This Row],[Clasificación Datos Personales]]=\"Sensible\",Tabla2[[#This Row],[Clasificación Datos Personales]]=\"NNA\",Tabla2[[#This Row],[Clasificación Datos Personales]]=\"privado\")),\"Alto\",IF(AND(Tabla2[[#This Row],[Contiene Datos Personales]]=\"SÍ\",Tabla2[[#This Row],[Clasificación Datos Personales]]=\"SEMIPRIVADO\"),\"Medio\",\"Bajo\")),\"\")","v":"Bajo"},null,null,"No Aplica","No Aplica",null,null,null,{"$f":"+IF(Tabla2[[#This Row],[Integridad]]=\"Grave\",0.5,IF(Tabla2[[#This Row],[Integridad]]=\"Importante\",0.3,IF(Tabla2[[#This Row],[Integridad]]=\"Leve\",0.2,\"\")))","v":""},null,{"$f":"+IF(Tabla2[[#This Row],[Disponibilidad Interna]]=\"Sí\",0.1,IF(Tabla2[[#This Row],[Disponibilidad Interna]]=\"NO\",0,\"\"))","v":""},null,{"$f":"+IF(Tabla2[[#This Row],[Disponibilidad Terceros]]=\"Sí\",0.1,IF(Tabla2[[#This Row],[Disponibilidad Terceros]]=\"No\",0,\"\"))","v":""},{"$f":"+Tabla2[[#This Row],[Columna32]]+Tabla2[[#This Row],[Columna34]]+Tabla2[[#This Row],[Columna1]]+Tabla2[[#This Row],[Columna3]]","v":{"$error":"#VALUE!"}},{"$f":"IFERROR(IF(Tabla2[[#This Row],[Columna33]]<0.45,\"BAJA\",IF(Tabla2[[#This Row],[Columna33]]>0.75,\"ALTA\",\"MEDIA\")),\"\")","v":""},"No Aplica",{"$f":"+IF(Tabla2[[#This Row],[Información Publicada (WEB)]]=\"Sí\",\"Digite URL\",\"No Aplica\")","v":"No Aplica"},null,{"$f":"IF(Tabla2[[#This Row],[ Clasificación ICBF]]=\"Pública\",1,IF(Tabla2[[#This Row],[ Clasificación ICBF]]=\"Clasificada\",2,IF(Tabla2[[#This Row],[ Clasificación ICBF]]=\"Reservada\",3,0)))","v":0},{"$f":"IF(#REF!=8,4,IF(#REF!=16,3,IF(#REF!=24,2,IF(#REF!=48,1,0))))","v":{"$error":"#REF!"}},{"$f":"IF(#REF!=8,\"Alto\",IF(#REF!=16,\"Medio\",IF(#REF!=24,\"Medio\",IF(#REF!=48,\"Bajo\",0))))","v":{"$error":"#REF!"}},null,{"$f":"+MID(Tabla2[[#This Row],[Área/Dependencia]],17,8)","v":""}]
["",null,null,null,{"$f":"+VLOOKUP(Tabla2[[#This Row],[SEDE - REGIONAL]],DATOS!B92:D125,3,FALSE)","v":{"$error":"#N/A"}},{"$f":"+IF(OR(Tabla2[[#This Row],[Área/Dependencia]]=\"Subdirección de Sistemas Integrados\",Tabla2[[#This Row],[Área/Dependencia]]=\"Subdirección de Recursos Tecnológicos\"),\"X\",\"\")","v":""},{"$f":"+CONCATENATE(Tabla2[[#This Row],[Tipo de Proceso]],Tabla2[[#This Row],[Columna4]])","v":{"$error":"#N/A"}},null,null,null,null,null,null,null,null,null,null,null,null,null,{"$f":"+IF(Tabla2[[#This Row],[Nivel de acceso ]]=\"Alto\",0.5,IF(Tabla2[[#This Row],[Nivel de acceso ]]=\"Medio\",0.3,IF(Tabla2[[#This Row],[Nivel de acceso ]]=\"Bajo\",0.2,\"\")))","v":""},null,{"$f":"+IF(Tabla2[[#This Row],[Es  Reservada]]=\"Sí\",\"Escriba Ley\",\"No Aplica\")","v":"No Aplica"},null,null,null,null,{"$f":"IFERROR(IF(AND(Tabla2[[#This Row],[Contiene Datos Personales]]=\"SÍ\",OR(Tabla2[[#This Row],[Clasificación Datos Personales]]=\"Sensible\",Tabla2[[#This Row],[Clasificación Datos Personales]]=\"NNA\",Tabla2[[#This Row],[Clasificación Datos Personales]]=\"privado\")),\"Alto\",IF(AND(Tabla2[[#This Row],[Contiene Datos Personales]]=\"SÍ\",Tabla2[[#This Row],[Clasificación Datos Personales]]=\"SEMIPRIVADO\"),\"Medio\",\"Bajo\")),\"\")","v":"Bajo"},null,null,"No Aplica","No Aplica",null,null,null,{"$f":"+IF(Tabla2[[#This Row],[Integridad]]=\"Grave\",0.5,IF(Tabla2[[#This Row],[Integridad]]=\"Importante\",0.3,IF(Tabla2[[#This Row],[Integridad]]=\"Leve\",0.2,\"\")))","v":""},null,{"$f":"+IF(Tabla2[[#This Row],[Disponibilidad Interna]]=\"Sí\",0.1,IF(Tabla2[[#This Row],[Disponibilidad Interna]]=\"NO\",0,\"\"))","v":""},null,{"$f":"+IF(Tabla2[[#This Row],[Disponibilidad Terceros]]=\"Sí\",0.1,IF(Tabla2[[#This Row],[Disponibilidad Terceros]]=\"No\",0,\"\"))","v":""},{"$f":"+Tabla2[[#This Row],[Columna32]]+Tabla2[[#This Row],[Columna34]]+Tabla2[[#This Row],[Columna1]]+Tabla2[[#This Row],[Columna3]]","v":{"$error":"#VALUE!"}},{"$f":"IFERROR(IF(Tabla2[[#This Row],[Columna33]]<0.45,\"BAJA\",IF(Tabla2[[#This Row],[Columna33]]>0.75,\"ALTA\",\"MEDIA\")),\"\")","v":""},"No Aplica",{"$f":"+IF(Tabla2[[#This Row],[Información Publicada (WEB)]]=\"Sí\",\"Digite URL\",\"No Aplica\")","v":"No Aplica"},null,{"$f":"IF(Tabla2[[#This Row],[ Clasificación ICBF]]=\"Pública\",1,IF(Tabla2[[#This Row],[ Clasificación ICBF]]=\"Clasificada\",2,IF(Tabla2[[#This Row],[ Clasificación ICBF]]=\"Reservada\",3,0)))","v":0},{"$f":"IF(#REF!=8,4,IF(#REF!=16,3,IF(#REF!=24,2,IF(#REF!=48,1,0))))","v":{"$error":"#REF!"}},{"$f":"IF(#REF!=8,\"Alto\",IF(#REF!=16,\"Medio\",IF(#REF!=24,\"Medio\",IF(#REF!=48,\"Bajo\",0))))","v":{"$error":"#REF!"}},null,{"$f":"+MID(Tabla2[[#This Row],[Área/Dependencia]],17,8)","v":""}]
["",null,null,null,{"$f":"+VLOOKUP(Tabla2[[#This Row],[SEDE - REGIONAL]],DATOS!B93:D126,3,FALSE)","v":{"$error":"#N/A"}},{"$f":"+IF(OR(Tabla2[[#This Row],[Área/Dependencia]]=\"Subdirección de Sistemas Integrados\",Tabla2[[#This Row],[Área/Dependencia]]=\"Subdirección de Recursos Tecnológicos\"),\"X\",\"\")","v":""},{"$f":"+CONCATENATE(Tabla2[[#This Row],[Tipo de Proceso]],Tabla2[[#This Row],[Columna4]])","v":{"$error":"#N/A"}},null,null,null,null,null,null,null,null,null,null,null,null,null,{"$f":"+IF(Tabla2[[#This Row],[Nivel de acceso ]]=\"Alto\",0.5,IF(Tabla2[[#This Row],[Nivel de acceso ]]=\"Medio\",0.3,IF(Tabla2[[#This Row],[Nivel de acceso ]]=\"Bajo\",0.2,\"\")))","v":""},null,{"$f":"+IF(Tabla2[[#This Row],[Es  Reservada]]=\"Sí\",\"Escriba Ley\",\"No Aplica\")","v":"No Aplica"},null,null,null,null,{"$f":"IFERROR(IF(AND(Tabla2[[#This Row],[Contiene Datos Personales]]=\"SÍ\",OR(Tabla2[[#This Row],[Clasificación Datos Personales]]=\"Sensible\",Tabla2[[#This Row],[Clasificación Datos Personales]]=\"NNA\",Tabla2[[#This Row],[Clasificación Datos Personales]]=\"privado\")),\"Alto\",IF(AND(Tabla2[[#This Row],[Contiene Datos Personales]]=\"SÍ\",Tabla2[[#This Row],[Clasificación Datos Personales]]=\"SEMIPRIVADO\"),\"Medio\",\"Bajo\")),\"\")","v":"Bajo"},null,null,"No Aplica","No Aplica",null,null,null,{"$f":"+IF(Tabla2[[#This Row],[Integridad]]=\"Grave\",0.5,IF(Tabla2[[#This Row],[Integridad]]=\"Importante\",0.3,IF(Tabla2[[#This Row],[Integridad]]=\"Leve\",0.2,\"\")))","v":""},null,{"$f":"+IF(Tabla2[[#This Row],[Disponibilidad Interna]]=\"Sí\",0.1,IF(Tabla2[[#This Row],[Disponibilidad Interna]]=\"NO\",0,\"\"))","v":""},null,{"$f":"+IF(Tabla2[[#This Row],[Disponibilidad Terceros]]=\"Sí\",0.1,IF(Tabla2[[#This Row],[Disponibilidad Terceros]]=\"No\",0,\"\"))","v":""},{"$f":"+Tabla2[[#This Row],[Columna32]]+Tabla2[[#This Row],[Columna34]]+Tabla2[[#This Row],[Columna1]]+Tabla2[[#This Row],[Columna3]]","v":{"$error":"#VALUE!"}},{"$f":"IFERROR(IF(Tabla2[[#This Row],[Columna33]]<0.45,\"BAJA\",IF(Tabla2[[#This Row],[Columna33]]>0.75,\"ALTA\",\"MEDIA\")),\"\")","v":""},"No Aplica",{"$f":"+IF(Tabla2[[#This Row],[Información Publicada (WEB)]]=\"Sí\",\"Digite URL\",\"No Aplica\")","v":"No Aplica"},null,{"$f":"IF(Tabla2[[#This Row],[ Clasificación ICBF]]=\"Pública\",1,IF(Tabla2[[#This Row],[ Clasificación ICBF]]=\"Clasificada\",2,IF(Tabla2[[#This Row],[ Clasificación ICBF]]=\"Reservada\",3,0)))","v":0},{"$f":"IF(#REF!=8,4,IF(#REF!=16,3,IF(#REF!=24,2,IF(#REF!=48,1,0))))","v":{"$error":"#REF!"}},{"$f":"IF(#REF!=8,\"Alto\",IF(#REF!=16,\"Medio\",IF(#REF!=24,\"Medio\",IF(#REF!=48,\"Bajo\",0))))","v":{"$error":"#REF!"}},null,{"$f":"+MID(Tabla2[[#This Row],[Área/Dependencia]],17,8)","v":""}]
["",null,null,null,{"$f":"+VLOOKUP(Tabla2[[#This Row],[SEDE - REGIONAL]],DATOS!B94:D127,3,FALSE)","v":{"$error":"#N/A"}},{"$f":"+IF(OR(Tabla2[[#This Row],[Área/Dependencia]]=\"Subdirección de Sistemas Integrados\",Tabla2[[#This Row],[Área/Dependencia]]=\"Subdirección de Recursos Tecnológicos\"),\"X\",\"\")","v":""},{"$f":"+CONCATENATE(Tabla2[[#This Row],[Tipo de Proceso]],Tabla2[[#This Row],[Columna4]])","v":{"$error":"#N/A"}},null,null,null,null,null,null,null,null,null,null,null,null,null,{"$f":"+IF(Tabla2[[#This Row],[Nivel de acceso ]]=\"Alto\",0.5,IF(Tabla2[[#This Row],[Nivel de acceso ]]=\"Medio\",0.3,IF(Tabla2[[#This Row],[Nivel de acceso ]]=\"Bajo\",0.2,\"\")))","v":""},null,{"$f":"+IF(Tabla2[[#This Row],[Es  Reservada]]=\"Sí\",\"Escriba Ley\",\"No Aplica\")","v":"No Aplica"},null,null,null,null,{"$f":"IFERROR(IF(AND(Tabla2[[#This Row],[Contiene Datos Personales]]=\"SÍ\",OR(Tabla2[[#This Row],[Clasificación Datos Personales]]=\"Sensible\",Tabla2[[#This Row],[Clasificación Datos Personales]]=\"NNA\",Tabla2[[#This Row],[Clasificación Datos Personales]]=\"privado\")),\"Alto\",IF(AND(Tabla2[[#This Row],[Contiene Datos Personales]]=\"SÍ\",Tabla2[[#This Row],[Clasificación Datos Personales]]=\"SEMIPRIVADO\"),\"Medio\",\"Bajo\")),\"\")","v":"Bajo"},null,null,"No Aplica","No Aplica",null,null,null,{"$f":"+IF(Tabla2[[#This Row],[Integridad]]=\"Grave\",0.5,IF(Tabla2[[#This Row],[Integridad]]=\"Importante\",0.3,IF(Tabla2[[#This Row],[Integridad]]=\"Leve\",0.2,\"\")))","v":""},null,{"$f":"+IF(Tabla2[[#This Row],[Disponibilidad Interna]]=\"Sí\",0.1,IF(Tabla2[[#This Row],[Disponibilidad Interna]]=\"NO\",0,\"\"))","v":""},null,{"$f":"+IF(Tabla2[[#This Row],[Disponibilidad Terceros]]=\"Sí\",0.1,IF(Tabla2[[#This Row],[Disponibilidad Terceros]]=\"No\",0,\"\"))","v":""},{"$f":"+Tabla2[[#This Row],[Columna32]]+Tabla2[[#This Row],[Columna34]]+Tabla2[[#This Row],[Columna1]]+Tabla2[[#This Row],[Columna3]]","v":{"$error":"#VALUE!"}},{"$f":"IFERROR(IF(Tabla2[[#This Row],[Columna33]]<0.45,\"BAJA\",IF(Tabla2[[#This Row],[Columna33]]>0.75,\"ALTA\",\"MEDIA\")),\"\")","v":""},"No Aplica",{"$f":"+IF(Tabla2[[#This Row],[Información Publicada (WEB)]]=\"Sí\",\"Digite URL\",\"No Aplica\")","v":"No Aplica"},null,{"$f":"IF(Tabla2[[#This Row],[ Clasificación ICBF]]=\"Pública\",1,IF(Tabla2[[#This Row],[ Clasificación ICBF]]=\"Clasificada\",2,IF(Tabla2[[#This Row],[ Clasificación ICBF]]=\"Reservada\",3,0)))","v":0},{"$f":"IF(#REF!=8,4,IF(#REF!=16,3,IF(#REF!=24,2,IF(#REF!=48,1,0))))","v":{"$error":"#REF!"}},{"$f":"IF(#REF!=8,\"Alto\",IF(#REF!=16,\"Medio\",IF(#REF!=24,\"Medio\",IF(#REF!=48,\"Bajo\",0))))","v":{"$error":"#REF!"}},null,{"$f":"+MID(Tabla2[[#This Row],[Área/Dependencia]],17,8)","v":""}]
["",null,null,null,{"$f":"+VLOOKUP(Tabla2[[#This Row],[SEDE - REGIONAL]],DATOS!B95:D128,3,FALSE)","v":{"$error":"#N/A"}},{"$f":"+IF(OR(Tabla2[[#This Row],[Área/Dependencia]]=\"Subdirección de Sistemas Integrados\",Tabla2[[#This Row],[Área/Dependencia]]=\"Subdirección de Recursos Tecnológicos\"),\"X\",\"\")","v":""},{"$f":"+CONCATENATE(Tabla2[[#This Row],[Tipo de Proceso]],Tabla2[[#This Row],[Columna4]])","v":{"$error":"#N/A"}},null,null,null,null,null,null,null,null,null,null,null,null,null,{"$f":"+IF(Tabla2[[#This Row],[Nivel de acceso ]]=\"Alto\",0.5,IF(Tabla2[[#This Row],[Nivel de acceso ]]=\"Medio\",0.3,IF(Tabla2[[#This Row],[Nivel de acceso ]]=\"Bajo\",0.2,\"\")))","v":""},null,{"$f":"+IF(Tabla2[[#This Row],[Es  Reservada]]=\"Sí\",\"Escriba Ley\",\"No Aplica\")","v":"No Aplica"},null,null,null,null,{"$f":"IFERROR(IF(AND(Tabla2[[#This Row],[Contiene Datos Personales]]=\"SÍ\",OR(Tabla2[[#This Row],[Clasificación Datos Personales]]=\"Sensible\",Tabla2[[#This Row],[Clasificación Datos Personales]]=\"NNA\",Tabla2[[#This Row],[Clasificación Datos Personales]]=\"privado\")),\"Alto\",IF(AND(Tabla2[[#This Row],[Contiene Datos Personales]]=\"SÍ\",Tabla2[[#This Row],[Clasificación Datos Personales]]=\"SEMIPRIVADO\"),\"Medio\",\"Bajo\")),\"\")","v":"Bajo"},null,null,"No Aplica","No Aplica",null,null,null,{"$f":"+IF(Tabla2[[#This Row],[Integridad]]=\"Grave\",0.5,IF(Tabla2[[#This Row],[Integridad]]=\"Importante\",0.3,IF(Tabla2[[#This Row],[Integridad]]=\"Leve\",0.2,\"\")))","v":""},null,{"$f":"+IF(Tabla2[[#This Row],[Disponibilidad Interna]]=\"Sí\",0.1,IF(Tabla2[[#This Row],[Disponibilidad Interna]]=\"NO\",0,\"\"))","v":""},null,{"$f":"+IF(Tabla2[[#This Row],[Disponibilidad Terceros]]=\"Sí\",0.1,IF(Tabla2[[#This Row],[Disponibilidad Terceros]]=\"No\",0,\"\"))","v":""},{"$f":"+Tabla2[[#This Row],[Columna32]]+Tabla2[[#This Row],[Columna34]]+Tabla2[[#This Row],[Columna1]]+Tabla2[[#This Row],[Columna3]]","v":{"$error":"#VALUE!"}},{"$f":"IFERROR(IF(Tabla2[[#This Row],[Columna33]]<0.45,\"BAJA\",IF(Tabla2[[#This Row],[Columna33]]>0.75,\"ALTA\",\"MEDIA\")),\"\")","v":""},"No Aplica",{"$f":"+IF(Tabla2[[#This Row],[Información Publicada (WEB)]]=\"Sí\",\"Digite URL\",\"No Aplica\")","v":"No Aplica"},null,{"$f":"IF(Tabla2[[#This Row],[ Clasificación ICBF]]=\"Pública\",1,IF(Tabla2[[#This Row],[ Clasificación ICBF]]=\"Clasificada\",2,IF(Tabla2[[#This Row],[ Clasificación ICBF]]=\"Reservada\",3,0)))","v":0},{"$f":"IF(#REF!=8,4,IF(#REF!=16,3,IF(#REF!=24,2,IF(#REF!=48,1,0))))","v":{"$error":"#REF!"}},{"$f":"IF(#REF!=8,\"Alto\",IF(#REF!=16,\"Medio\",IF(#REF!=24,\"Medio\",IF(#REF!=48,\"Bajo\",0))))","v":{"$error":"#REF!"}},null,{"$f":"+MID(Tabla2[[#This Row],[Área/Dependencia]],17,8)","v":""}]
["",null,null,null,{"$f":"+VLOOKUP(Tabla2[[#This Row],[SEDE - REGIONAL]],DATOS!B96:D129,3,FALSE)","v":{"$error":"#N/A"}},{"$f":"+IF(OR(Tabla2[[#This Row],[Área/Dependencia]]=\"Subdirección de Sistemas Integrados\",Tabla2[[#This Row],[Área/Dependencia]]=\"Subdirección de Recursos Tecnológicos\"),\"X\",\"\")","v":""},{"$f":"+CONCATENATE(Tabla2[[#This Row],[Tipo de Proceso]],Tabla2[[#This Row],[Columna4]])","v":{"$error":"#N/A"}},null,null,null,null,null,null,null,null,null,null,null,null,null,{"$f":"+IF(Tabla2[[#This Row],[Nivel de acceso ]]=\"Alto\",0.5,IF(Tabla2[[#This Row],[Nivel de acceso ]]=\"Medio\",0.3,IF(Tabla2[[#This Row],[Nivel de acceso ]]=\"Bajo\",0.2,\"\")))","v":""},null,{"$f":"+IF(Tabla2[[#This Row],[Es  Reservada]]=\"Sí\",\"Escriba Ley\",\"No Aplica\")","v":"No Aplica"},null,null,null,null,{"$f":"IFERROR(IF(AND(Tabla2[[#This Row],[Contiene Datos Personales]]=\"SÍ\",OR(Tabla2[[#This Row],[Clasificación Datos Personales]]=\"Sensible\",Tabla2[[#This Row],[Clasificación Datos Personales]]=\"NNA\",Tabla2[[#This Row],[Clasificación Datos Personales]]=\"privado\")),\"Alto\",IF(AND(Tabla2[[#This Row],[Contiene Datos Personales]]=\"SÍ\",Tabla2[[#This Row],[Clasificación Datos Personales]]=\"SEMIPRIVADO\"),\"Medio\",\"Bajo\")),\"\")","v":"Bajo"},null,null,"No Aplica","No Aplica",null,null,null,{"$f":"+IF(Tabla2[[#This Row],[Integridad]]=\"Grave\",0.5,IF(Tabla2[[#This Row],[Integridad]]=\"Importante\",0.3,IF(Tabla2[[#This Row],[Integridad]]=\"Leve\",0.2,\"\")))","v":""},null,{"$f":"+IF(Tabla2[[#This Row],[Disponibilidad Interna]]=\"Sí\",0.1,IF(Tabla2[[#This Row],[Disponibilidad Interna]]=\"NO\",0,\"\"))","v":""},null,{"$f":"+IF(Tabla2[[#This Row],[Disponibilidad Terceros]]=\"Sí\",0.1,IF(Tabla2[[#This Row],[Disponibilidad Terceros]]=\"No\",0,\"\"))","v":""},{"$f":"+Tabla2[[#This Row],[Columna32]]+Tabla2[[#This Row],[Columna34]]+Tabla2[[#This Row],[Columna1]]+Tabla2[[#This Row],[Columna3]]","v":{"$error":"#VALUE!"}},{"$f":"IFERROR(IF(Tabla2[[#This Row],[Columna33]]<0.45,\"BAJA\",IF(Tabla2[[#This Row],[Columna33]]>0.75,\"ALTA\",\"MEDIA\")),\"\")","v":""},"No Aplica",{"$f":"+IF(Tabla2[[#This Row],[Información Publicada (WEB)]]=\"Sí\",\"Digite URL\",\"No Aplica\")","v":"No Aplica"},null,{"$f":"IF(Tabla2[[#This Row],[ Clasificación ICBF]]=\"Pública\",1,IF(Tabla2[[#This Row],[ Clasificación ICBF]]=\"Clasificada\",2,IF(Tabla2[[#This Row],[ Clasificación ICBF]]=\"Reservada\",3,0)))","v":0},{"$f":"IF(#REF!=8,4,IF(#REF!=16,3,IF(#REF!=24,2,IF(#REF!=48,1,0))))","v":{"$error":"#REF!"}},{"$f":"IF(#REF!=8,\"Alto\",IF(#REF!=16,\"Medio\",IF(#REF!=24,\"Medio\",IF(#REF!=48,\"Bajo\",0))))","v":{"$error":"#REF!"}},null,{"$f":"+MID(Tabla2[[#This Row],[Área/Dependencia]],17,8)","v":""}]
["",null,null,null,{"$f":"+VLOOKUP(Tabla2[[#This Row],[SEDE - REGIONAL]],DATOS!B97:D130,3,FALSE)","v":{"$error":"#N/A"}},{"$f":"+IF(OR(Tabla2[[#This Row],[Área/Dependencia]]=\"Subdirección de Sistemas Integrados\",Tabla2[[#This Row],[Área/Dependencia]]=\"Subdirección de Recursos Tecnológicos\"),\"X\",\"\")","v":""},{"$f":"+CONCATENATE(Tabla2[[#This Row],[Tipo de Proceso]],Tabla2[[#This Row],[Columna4]])","v":{"$error":"#N/A"}},null,null,null,null,null,null,null,null,null,null,null,null,null,{"$f":"+IF(Tabla2[[#This Row],[Nivel de acceso ]]=\"Alto\",0.5,IF(Tabla2[[#This Row],[Nivel de acceso ]]=\"Medio\",0.3,IF(Tabla2[[#This Row],[Nivel de acceso ]]=\"Bajo\",0.2,\"\")))","v":""},null,{"$f":"+IF(Tabla2[[#This Row],[Es  Reservada]]=\"Sí\",\"Escriba Ley\",\"No Aplica\")","v":"No Aplica"},null,null,null,null,{"$f":"IFERROR(IF(AND(Tabla2[[#This Row],[Contiene Datos Personales]]=\"SÍ\",OR(Tabla2[[#This Row],[Clasificación Datos Personales]]=\"Sensible\",Tabla2[[#This Row],[Clasificación Datos Personales]]=\"NNA\",Tabla2[[#This Row],[Clasificación Datos Personales]]=\"privado\")),\"Alto\",IF(AND(Tabla2[[#This Row],[Contiene Datos Personales]]=\"SÍ\",Tabla2[[#This Row],[Clasificación Datos Personales]]=\"SEMIPRIVADO\"),\"Medio\",\"Bajo\")),\"\")","v":"Bajo"},null,null,"No Aplica","No Aplica",null,null,null,{"$f":"+IF(Tabla2[[#This Row],[Integridad]]=\"Grave\",0.5,IF(Tabla2[[#This Row],[Integridad]]=\"Importante\",0.3,IF(Tabla2[[#This Row],[Integridad]]=\"Leve\",0.2,\"\")))","v":""},null,{"$f":"+IF(Tabla2[[#This Row],[Disponibilidad Interna]]=\"Sí\",0.1,IF(Tabla2[[#This Row],[Disponibilidad Interna]]=\"NO\",0,\"\"))","v":""},null,{"$f":"+IF(Tabla2[[#This Row],[Disponibilidad Terceros]]=\"Sí\",0.1,IF(Tabla2[[#This Row],[Disponibilidad Terceros]]=\"No\",0,\"\"))","v":""},{"$f":"+Tabla2[[#This Row],[Columna32]]+Tabla2[[#This Row],[Columna34]]+Tabla2[[#This Row],[Columna1]]+Tabla2[[#This Row],[Columna3]]","v":{"$error":"#VALUE!"}},{"$f":"IFERROR(IF(Tabla2[[#This Row],[Columna33]]<0.45,\"BAJA\",IF(Tabla2[[#This Row],[Columna33]]>0.75,\"ALTA\",\"MEDIA\")),\"\")","v":""},"No Aplica",{"$f":"+IF(Tabla2[[#This Row],[Información Publicada (WEB)]]=\"Sí\",\"Digite URL\",\"No Aplica\")","v":"No Aplica"},null,{"$f":"IF(Tabla2[[#This Row],[ Clasificación ICBF]]=\"Pública\",1,IF(Tabla2[[#This Row],[ Clasificación ICBF]]=\"Clasificada\",2,IF(Tabla2[[#This Row],[ Clasificación ICBF]]=\"Reservada\",3,0)))","v":0},{"$f":"IF(#REF!=8,4,IF(#REF!=16,3,IF(#REF!=24,2,IF(#REF!=48,1,0))))","v":{"$error":"#REF!"}},{"$f":"IF(#REF!=8,\"Alto\",IF(#REF!=16,\"Medio\",IF(#REF!=24,\"Medio\",IF(#REF!=48,\"Bajo\",0))))","v":{"$error":"#REF!"}},null,{"$f":"+MID(Tabla2[[#This Row],[Área/Dependencia]],17,8)","v":""}]
["",null,null,null,{"$f":"+VLOOKUP(Tabla2[[#This Row],[SEDE - REGIONAL]],DATOS!B98:D131,3,FALSE)","v":{"$error":"#N/A"}},{"$f":"+IF(OR(Tabla2[[#This Row],[Área/Dependencia]]=\"Subdirección de Sistemas Integrados\",Tabla2[[#This Row],[Área/Dependencia]]=\"Subdirección de Recursos Tecnológicos\"),\"X\",\"\")","v":""},{"$f":"+CONCATENATE(Tabla2[[#This Row],[Tipo de Proceso]],Tabla2[[#This Row],[Columna4]])","v":{"$error":"#N/A"}},null,null,null,null,null,null,null,null,null,null,null,null,null,{"$f":"+IF(Tabla2[[#This Row],[Nivel de acceso ]]=\"Alto\",0.5,IF(Tabla2[[#This Row],[Nivel de acceso ]]=\"Medio\",0.3,IF(Tabla2[[#This Row],[Nivel de acceso ]]=\"Bajo\",0.2,\"\")))","v":""},null,{"$f":"+IF(Tabla2[[#This Row],[Es  Reservada]]=\"Sí\",\"Escriba Ley\",\"No Aplica\")","v":"No Aplica"},null,null,null,null,{"$f":"IFERROR(IF(AND(Tabla2[[#This Row],[Contiene Datos Personales]]=\"SÍ\",OR(Tabla2[[#This Row],[Clasificación Datos Personales]]=\"Sensible\",Tabla2[[#This Row],[Clasificación Datos Personales]]=\"NNA\",Tabla2[[#This Row],[Clasificación Datos Personales]]=\"privado\")),\"Alto\",IF(AND(Tabla2[[#This Row],[Contiene Datos Personales]]=\"SÍ\",Tabla2[[#This Row],[Clasificación Datos Personales]]=\"SEMIPRIVADO\"),\"Medio\",\"Bajo\")),\"\")","v":"Bajo"},null,null,"No Aplica","No Aplica",null,null,null,{"$f":"+IF(Tabla2[[#This Row],[Integridad]]=\"Grave\",0.5,IF(Tabla2[[#This Row],[Integridad]]=\"Importante\",0.3,IF(Tabla2[[#This Row],[Integridad]]=\"Leve\",0.2,\"\")))","v":""},null,{"$f":"+IF(Tabla2[[#This Row],[Disponibilidad Interna]]=\"Sí\",0.1,IF(Tabla2[[#This Row],[Disponibilidad Interna]]=\"NO\",0,\"\"))","v":""},null,{"$f":"+IF(Tabla2[[#This Row],[Disponibilidad Terceros]]=\"Sí\",0.1,IF(Tabla2[[#This Row],[Disponibilidad Terceros]]=\"No\",0,\"\"))","v":""},{"$f":"+Tabla2[[#This Row],[Columna32]]+Tabla2[[#This Row],[Columna34]]+Tabla2[[#This Row],[Columna1]]+Tabla2[[#This Row],[Columna3]]","v":{"$error":"#VALUE!"}},{"$f":"IFERROR(IF(Tabla2[[#This Row],[Columna33]]<0.45,\"BAJA\",IF(Tabla2[[#This Row],[Columna33]]>0.75,\"ALTA\",\"MEDIA\")),\"\")","v":""},"No Aplica",{"$f":"+IF(Tabla2[[#This Row],[Información Publicada (WEB)]]=\"Sí\",\"Digite URL\",\"No Aplica\")","v":"No Aplica"},null,{"$f":"IF(Tabla2[[#This Row],[ Clasificación ICBF]]=\"Pública\",1,IF(Tabla2[[#This Row],[ Clasificación ICBF]]=\"Clasificada\",2,IF(Tabla2[[#This Row],[ Clasificación ICBF]]=\"Reservada\",3,0)))","v":0},{"$f":"IF(#REF!=8,4,IF(#REF!=16,3,IF(#REF!=24,2,IF(#REF!=48,1,0))))","v":{"$error":"#REF!"}},{"$f":"IF(#REF!=8,\"Alto\",IF(#REF!=16,\"Medio\",IF(#REF!=24,\"Medio\",IF(#REF!=48,\"Bajo\",0))))","v":{"$error":"#REF!"}},null,{"$f":"+MID(Tabla2[[#This Row],[Área/Dependencia]],17,8)","v":""}]
["",null,null,null,{"$f":"+VLOOKUP(Tabla2[[#This Row],[SEDE - REGIONAL]],DATOS!B99:D132,3,FALSE)","v":{"$error":"#N/A"}},{"$f":"+IF(OR(Tabla2[[#This Row],[Área/Dependencia]]=\"Subdirección de Sistemas Integrados\",Tabla2[[#This Row],[Área/Dependencia]]=\"Subdirección de Recursos Tecnológicos\"),\"X\",\"\")","v":""},{"$f":"+CONCATENATE(Tabla2[[#This Row],[Tipo de Proceso]],Tabla2[[#This Row],[Columna4]])","v":{"$error":"#N/A"}},null,null,null,null,null,null,null,null,null,null,null,null,null,{"$f":"+IF(Tabla2[[#This Row],[Nivel de acceso ]]=\"Alto\",0.5,IF(Tabla2[[#This Row],[Nivel de acceso ]]=\"Medio\",0.3,IF(Tabla2[[#This Row],[Nivel de acceso ]]=\"Bajo\",0.2,\"\")))","v":""},null,{"$f":"+IF(Tabla2[[#This Row],[Es  Reservada]]=\"Sí\",\"Escriba Ley\",\"No Aplica\")","v":"No Aplica"},null,null,null,null,{"$f":"IFERROR(IF(AND(Tabla2[[#This Row],[Contiene Datos Personales]]=\"SÍ\",OR(Tabla2[[#This Row],[Clasificación Datos Personales]]=\"Sensible\",Tabla2[[#This Row],[Clasificación Datos Personales]]=\"NNA\",Tabla2[[#This Row],[Clasificación Datos Personales]]=\"privado\")),\"Alto\",IF(AND(Tabla2[[#This Row],[Contiene Datos Personales]]=\"SÍ\",Tabla2[[#This Row],[Clasificación Datos Personales]]=\"SEMIPRIVADO\"),\"Medio\",\"Bajo\")),\"\")","v":"Bajo"},null,null,"No Aplica","No Aplica",null,null,null,{"$f":"+IF(Tabla2[[#This Row],[Integridad]]=\"Grave\",0.5,IF(Tabla2[[#This Row],[Integridad]]=\"Importante\",0.3,IF(Tabla2[[#This Row],[Integridad]]=\"Leve\",0.2,\"\")))","v":""},null,{"$f":"+IF(Tabla2[[#This Row],[Disponibilidad Interna]]=\"Sí\",0.1,IF(Tabla2[[#This Row],[Disponibilidad Interna]]=\"NO\",0,\"\"))","v":""},null,{"$f":"+IF(Tabla2[[#This Row],[Disponibilidad Terceros]]=\"Sí\",0.1,IF(Tabla2[[#This Row],[Disponibilidad Terceros]]=\"No\",0,\"\"))","v":""},{"$f":"+Tabla2[[#This Row],[Columna32]]+Tabla2[[#This Row],[Columna34]]+Tabla2[[#This Row],[Columna1]]+Tabla2[[#This Row],[Columna3]]","v":{"$error":"#VALUE!"}},{"$f":"IFERROR(IF(Tabla2[[#This Row],[Columna33]]<0.45,\"BAJA\",IF(Tabla2[[#This Row],[Columna33]]>0.75,\"ALTA\",\"MEDIA\")),\"\")","v":""},"No Aplica",{"$f":"+IF(Tabla2[[#This Row],[Información Publicada (WEB)]]=\"Sí\",\"Digite URL\",\"No Aplica\")","v":"No Aplica"},null,{"$f":"IF(Tabla2[[#This Row],[ Clasificación ICBF]]=\"Pública\",1,IF(Tabla2[[#This Row],[ Clasificación ICBF]]=\"Clasificada\",2,IF(Tabla2[[#This Row],[ Clasificación ICBF]]=\"Reservada\",3,0)))","v":0},{"$f":"IF(#REF!=8,4,IF(#REF!=16,3,IF(#REF!=24,2,IF(#REF!=48,1,0))))","v":{"$error":"#REF!"}},{"$f":"IF(#REF!=8,\"Alto\",IF(#REF!=16,\"Medio\",IF(#REF!=24,\"Medio\",IF(#REF!=48,\"Bajo\",0))))","v":{"$error":"#REF!"}},null,{"$f":"+MID(Tabla2[[#This Row],[Área/Dependencia]],17,8)","v":""}]
["",null,null,null,{"$f":"+VLOOKUP(Tabla2[[#This Row],[SEDE - REGIONAL]],DATOS!B100:D133,3,FALSE)","v":{"$error":"#N/A"}},{"$f":"+IF(OR(Tabla2[[#This Row],[Área/Dependencia]]=\"Subdirección de Sistemas Integrados\",Tabla2[[#This Row],[Área/Dependencia]]=\"Subdirección de Recursos Tecnológicos\"),\"X\",\"\")","v":""},{"$f":"+CONCATENATE(Tabla2[[#This Row],[Tipo de Proceso]],Tabla2[[#This Row],[Columna4]])","v":{"$error":"#N/A"}},null,null,null,null,null,null,null,null,null,null,null,null,null,{"$f":"+IF(Tabla2[[#This Row],[Nivel de acceso ]]=\"Alto\",0.5,IF(Tabla2[[#This Row],[Nivel de acceso ]]=\"Medio\",0.3,IF(Tabla2[[#This Row],[Nivel de acceso ]]=\"Bajo\",0.2,\"\")))","v":""},null,{"$f":"+IF(Tabla2[[#This Row],[Es  Reservada]]=\"Sí\",\"Escriba Ley\",\"No Aplica\")","v":"No Aplica"},null,null,null,null,{"$f":"IFERROR(IF(AND(Tabla2[[#This Row],[Contiene Datos Personales]]=\"SÍ\",OR(Tabla2[[#This Row],[Clasificación Datos Personales]]=\"Sensible\",Tabla2[[#This Row],[Clasificación Datos Personales]]=\"NNA\",Tabla2[[#This Row],[Clasificación Datos Personales]]=\"privado\")),\"Alto\",IF(AND(Tabla2[[#This Row],[Contiene Datos Personales]]=\"SÍ\",Tabla2[[#This Row],[Clasificación Datos Personales]]=\"SEMIPRIVADO\"),\"Medio\",\"Bajo\")),\"\")","v":"Bajo"},null,null,"No Aplica","No Aplica",null,null,null,{"$f":"+IF(Tabla2[[#This Row],[Integridad]]=\"Grave\",0.5,IF(Tabla2[[#This Row],[Integridad]]=\"Importante\",0.3,IF(Tabla2[[#This Row],[Integridad]]=\"Leve\",0.2,\"\")))","v":""},null,{"$f":"+IF(Tabla2[[#This Row],[Disponibilidad Interna]]=\"Sí\",0.1,IF(Tabla2[[#This Row],[Disponibilidad Interna]]=\"NO\",0,\"\"))","v":""},null,{"$f":"+IF(Tabla2[[#This Row],[Disponibilidad Terceros]]=\"Sí\",0.1,IF(Tabla2[[#This Row],[Disponibilidad Terceros]]=\"No\",0,\"\"))","v":""},{"$f":"+Tabla2[[#This Row],[Columna32]]+Tabla2[[#This Row],[Columna34]]+Tabla2[[#This Row],[Columna1]]+Tabla2[[#This Row],[Columna3]]","v":{"$error":"#VALUE!"}},{"$f":"IFERROR(IF(Tabla2[[#This Row],[Columna33]]<0.45,\"BAJA\",IF(Tabla2[[#This Row],[Columna33]]>0.75,\"ALTA\",\"MEDIA\")),\"\")","v":""},"No Aplica",{"$f":"+IF(Tabla2[[#This Row],[Información Publicada (WEB)]]=\"Sí\",\"Digite URL\",\"No Aplica\")","v":"No Aplica"},null,{"$f":"IF(Tabla2[[#This Row],[ Clasificación ICBF]]=\"Pública\",1,IF(Tabla2[[#This Row],[ Clasificación ICBF]]=\"Clasificada\",2,IF(Tabla2[[#This Row],[ Clasificación ICBF]]=\"Reservada\",3,0)))","v":0},{"$f":"IF(#REF!=8,4,IF(#REF!=16,3,IF(#REF!=24,2,IF(#REF!=48,1,0))))","v":{"$error":"#REF!"}},{"$f":"IF(#REF!=8,\"Alto\",IF(#REF!=16,\"Medio\",IF(#REF!=24,\"Medio\",IF(#REF!=48,\"Bajo\",0))))","v":{"$error":"#REF!"}},null,{"$f":"+MID(Tabla2[[#This Row],[Área/Dependencia]],17,8)","v":""}]
["",null,null,null,{"$f":"+VLOOKUP(Tabla2[[#This Row],[SEDE - REGIONAL]],DATOS!B101:D134,3,FALSE)","v":{"$error":"#N/A"}},{"$f":"+IF(OR(Tabla2[[#This Row],[Área/Dependencia]]=\"Subdirección de Sistemas Integrados\",Tabla2[[#This Row],[Área/Dependencia]]=\"Subdirección de Recursos Tecnológicos\"),\"X\",\"\")","v":""},{"$f":"+CONCATENATE(Tabla2[[#This Row],[Tipo de Proceso]],Tabla2[[#This Row],[Columna4]])","v":{"$error":"#N/A"}},null,null,null,null,null,null,null,null,null,null,null,null,null,{"$f":"+IF(Tabla2[[#This Row],[Nivel de acceso ]]=\"Alto\",0.5,IF(Tabla2[[#This Row],[Nivel de acceso ]]=\"Medio\",0.3,IF(Tabla2[[#This Row],[Nivel de acceso ]]=\"Bajo\",0.2,\"\")))","v":""},null,{"$f":"+IF(Tabla2[[#This Row],[Es  Reservada]]=\"Sí\",\"Escriba Ley\",\"No Aplica\")","v":"No Aplica"},null,null,null,null,{"$f":"IFERROR(IF(AND(Tabla2[[#This Row],[Contiene Datos Personales]]=\"SÍ\",OR(Tabla2[[#This Row],[Clasificación Datos Personales]]=\"Sensible\",Tabla2[[#This Row],[Clasificación Datos Personales]]=\"NNA\",Tabla2[[#This Row],[Clasificación Datos Personales]]=\"privado\")),\"Alto\",IF(AND(Tabla2[[#This Row],[Contiene Datos Personales]]=\"SÍ\",Tabla2[[#This Row],[Clasificación Datos Personales]]=\"SEMIPRIVADO\"),\"Medio\",\"Bajo\")),\"\")","v":"Bajo"},null,null,"No Aplica","No Aplica",null,null,null,{"$f":"+IF(Tabla2[[#This Row],[Integridad]]=\"Grave\",0.5,IF(Tabla2[[#This Row],[Integridad]]=\"Importante\",0.3,IF(Tabla2[[#This Row],[Integridad]]=\"Leve\",0.2,\"\")))","v":""},null,{"$f":"+IF(Tabla2[[#This Row],[Disponibilidad Interna]]=\"Sí\",0.1,IF(Tabla2[[#This Row],[Disponibilidad Interna]]=\"NO\",0,\"\"))","v":""},null,{"$f":"+IF(Tabla2[[#This Row],[Disponibilidad Terceros]]=\"Sí\",0.1,IF(Tabla2[[#This Row],[Disponibilidad Terceros]]=\"No\",0,\"\"))","v":""},{"$f":"+Tabla2[[#This Row],[Columna32]]+Tabla2[[#This Row],[Columna34]]+Tabla2[[#This Row],[Columna1]]+Tabla2[[#This Row],[Columna3]]","v":{"$error":"#VALUE!"}},{"$f":"IFERROR(IF(Tabla2[[#This Row],[Columna33]]<0.45,\"BAJA\",IF(Tabla2[[#This Row],[Columna33]]>0.75,\"ALTA\",\"MEDIA\")),\"\")","v":""},"No Aplica",{"$f":"+IF(Tabla2[[#This Row],[Información Publicada (WEB)]]=\"Sí\",\"Digite URL\",\"No Aplica\")","v":"No Aplica"},null,{"$f":"IF(Tabla2[[#This Row],[ Clasificación ICBF]]=\"Pública\",1,IF(Tabla2[[#This Row],[ Clasificación ICBF]]=\"Clasificada\",2,IF(Tabla2[[#This Row],[ Clasificación ICBF]]=\"Reservada\",3,0)))","v":0},{"$f":"IF(#REF!=8,4,IF(#REF!=16,3,IF(#REF!=24,2,IF(#REF!=48,1,0))))","v":{"$error":"#REF!"}},{"$f":"IF(#REF!=8,\"Alto\",IF(#REF!=16,\"Medio\",IF(#REF!=24,\"Medio\",IF(#REF!=48,\"Bajo\",0))))","v":{"$error":"#REF!"}},null,{"$f":"+MID(Tabla2[[#This Row],[Área/Dependencia]],17,8)","v":""}]
["",null,null,null,{"$f":"+VLOOKUP(Tabla2[[#This Row],[SEDE - REGIONAL]],DATOS!B102:D135,3,FALSE)","v":{"$error":"#N/A"}},{"$f":"+IF(OR(Tabla2[[#This Row],[Área/Dependencia]]=\"Subdirección de Sistemas Integrados\",Tabla2[[#This Row],[Área/Dependencia]]=\"Subdirección de Recursos Tecnológicos\"),\"X\",\"\")","v":""},{"$f":"+CONCATENATE(Tabla2[[#This Row],[Tipo de Proceso]],Tabla2[[#This Row],[Columna4]])","v":{"$error":"#N/A"}},null,null,null,null,null,null,null,null,null,null,null,null,null,{"$f":"+IF(Tabla2[[#This Row],[Nivel de acceso ]]=\"Alto\",0.5,IF(Tabla2[[#This Row],[Nivel de acceso ]]=\"Medio\",0.3,IF(Tabla2[[#This Row],[Nivel de acceso ]]=\"Bajo\",0.2,\"\")))","v":""},null,{"$f":"+IF(Tabla2[[#This Row],[Es  Reservada]]=\"Sí\",\"Escriba Ley\",\"No Aplica\")","v":"No Aplica"},null,null,null,null,{"$f":"IFERROR(IF(AND(Tabla2[[#This Row],[Contiene Datos Personales]]=\"SÍ\",OR(Tabla2[[#This Row],[Clasificación Datos Personales]]=\"Sensible\",Tabla2[[#This Row],[Clasificación Datos Personales]]=\"NNA\",Tabla2[[#This Row],[Clasificación Datos Personales]]=\"privado\")),\"Alto\",IF(AND(Tabla2[[#This Row],[Contiene Datos Personales]]=\"SÍ\",Tabla2[[#This Row],[Clasificación Datos Personales]]=\"SEMIPRIVADO\"),\"Medio\",\"Bajo\")),\"\")","v":"Bajo"},null,null,"No Aplica","No Aplica",null,null,null,{"$f":"+IF(Tabla2[[#This Row],[Integridad]]=\"Grave\",0.5,IF(Tabla2[[#This Row],[Integridad]]=\"Importante\",0.3,IF(Tabla2[[#This Row],[Integridad]]=\"Leve\",0.2,\"\")))","v":""},null,{"$f":"+IF(Tabla2[[#This Row],[Disponibilidad Interna]]=\"Sí\",0.1,IF(Tabla2[[#This Row],[Disponibilidad Interna]]=\"NO\",0,\"\"))","v":""},null,{"$f":"+IF(Tabla2[[#This Row],[Disponibilidad Terceros]]=\"Sí\",0.1,IF(Tabla2[[#This Row],[Disponibilidad Terceros]]=\"No\",0,\"\"))","v":""},{"$f":"+Tabla2[[#This Row],[Columna32]]+Tabla2[[#This Row],[Columna34]]+Tabla2[[#This Row],[Columna1]]+Tabla2[[#This Row],[Columna3]]","v":{"$error":"#VALUE!"}},{"$f":"IFERROR(IF(Tabla2[[#This Row],[Columna33]]<0.45,\"BAJA\",IF(Tabla2[[#This Row],[Columna33]]>0.75,\"ALTA\",\"MEDIA\")),\"\")","v":""},"No Aplica",{"$f":"+IF(Tabla2[[#This Row],[Información Publicada (WEB)]]=\"Sí\",\"Digite URL\",\"No Aplica\")","v":"No Aplica"},null,{"$f":"IF(Tabla2[[#This Row],[ Clasificación ICBF]]=\"Pública\",1,IF(Tabla2[[#This Row],[ Clasificación ICBF]]=\"Clasificada\",2,IF(Tabla2[[#This Row],[ Clasificación ICBF]]=\"Reservada\",3,0)))","v":0},{"$f":"IF(#REF!=8,4,IF(#REF!=16,3,IF(#REF!=24,2,IF(#REF!=48,1,0))))","v":{"$error":"#REF!"}},{"$f":"IF(#REF!=8,\"Alto\",IF(#REF!=16,\"Medio\",IF(#REF!=24,\"Medio\",IF(#REF!=48,\"Bajo\",0))))","v":{"$error":"#REF!"}},null,{"$f":"+MID(Tabla2[[#This Row],[Área/Dependencia]],17,8)","v":""}]
["",null,null,null,{"$f":"+VLOOKUP(Tabla2[[#This Row],[SEDE - REGIONAL]],DATOS!B103:D136,3,FALSE)","v":{"$error":"#N/A"}},{"$f":"+IF(OR(Tabla2[[#This Row],[Área/Dependencia]]=\"Subdirección de Sistemas Integrados\",Tabla2[[#This Row],[Área/Dependencia]]=\"Subdirección de Recursos Tecnológicos\"),\"X\",\"\")","v":""},{"$f":"+CONCATENATE(Tabla2[[#This Row],[Tipo de Proceso]],Tabla2[[#This Row],[Columna4]])","v":{"$error":"#N/A"}},null,null,null,null,null,null,null,null,null,null,null,null,null,{"$f":"+IF(Tabla2[[#This Row],[Nivel de acceso ]]=\"Alto\",0.5,IF(Tabla2[[#This Row],[Nivel de acceso ]]=\"Medio\",0.3,IF(Tabla2[[#This Row],[Nivel de acceso ]]=\"Bajo\",0.2,\"\")))","v":""},null,{"$f":"+IF(Tabla2[[#This Row],[Es  Reservada]]=\"Sí\",\"Escriba Ley\",\"No Aplica\")","v":"No Aplica"},null,null,null,null,{"$f":"IFERROR(IF(AND(Tabla2[[#This Row],[Contiene Datos Personales]]=\"SÍ\",OR(Tabla2[[#This Row],[Clasificación Datos Personales]]=\"Sensible\",Tabla2[[#This Row],[Clasificación Datos Personales]]=\"NNA\",Tabla2[[#This Row],[Clasificación Datos Personales]]=\"privado\")),\"Alto\",IF(AND(Tabla2[[#This Row],[Contiene Datos Personales]]=\"SÍ\",Tabla2[[#This Row],[Clasificación Datos Personales]]=\"SEMIPRIVADO\"),\"Medio\",\"Bajo\")),\"\")","v":"Bajo"},null,null,"No Aplica","No Aplica",null,null,null,{"$f":"+IF(Tabla2[[#This Row],[Integridad]]=\"Grave\",0.5,IF(Tabla2[[#This Row],[Integridad]]=\"Importante\",0.3,IF(Tabla2[[#This Row],[Integridad]]=\"Leve\",0.2,\"\")))","v":""},null,{"$f":"+IF(Tabla2[[#This Row],[Disponibilidad Interna]]=\"Sí\",0.1,IF(Tabla2[[#This Row],[Disponibilidad Interna]]=\"NO\",0,\"\"))","v":""},null,{"$f":"+IF(Tabla2[[#This Row],[Disponibilidad Terceros]]=\"Sí\",0.1,IF(Tabla2[[#This Row],[Disponibilidad Terceros]]=\"No\",0,\"\"))","v":""},{"$f":"+Tabla2[[#This Row],[Columna32]]+Tabla2[[#This Row],[Columna34]]+Tabla2[[#This Row],[Columna1]]+Tabla2[[#This Row],[Columna3]]","v":{"$error":"#VALUE!"}},{"$f":"IFERROR(IF(Tabla2[[#This Row],[Columna33]]<0.45,\"BAJA\",IF(Tabla2[[#This Row],[Columna33]]>0.75,\"ALTA\",\"MEDIA\")),\"\")","v":""},"No Aplica",{"$f":"+IF(Tabla2[[#This Row],[Información Publicada (WEB)]]=\"Sí\",\"Digite URL\",\"No Aplica\")","v":"No Aplica"},null,{"$f":"IF(Tabla2[[#This Row],[ Clasificación ICBF]]=\"Pública\",1,IF(Tabla2[[#This Row],[ Clasificación ICBF]]=\"Clasificada\",2,IF(Tabla2[[#This Row],[ Clasificación ICBF]]=\"Reservada\",3,0)))","v":0},{"$f":"IF(#REF!=8,4,IF(#REF!=16,3,IF(#REF!=24,2,IF(#REF!=48,1,0))))","v":{"$error":"#REF!"}},{"$f":"IF(#REF!=8,\"Alto\",IF(#REF!=16,\"Medio\",IF(#REF!=24,\"Medio\",IF(#REF!=48,\"Bajo\",0))))","v":{"$error":"#REF!"}},null,{"$f":"+MID(Tabla2[[#This Row],[Área/Dependencia]],17,8)","v":""}]
["",null,null,null,{"$f":"+VLOOKUP(Tabla2[[#This Row],[SEDE - REGIONAL]],DATOS!B104:D137,3,FALSE)","v":{"$error":"#N/A"}},{"$f":"+IF(OR(Tabla2[[#This Row],[Área/Dependencia]]=\"Subdirección de Sistemas Integrados\",Tabla2[[#This Row],[Área/Dependencia]]=\"Subdirección de Recursos Tecnológicos\"),\"X\",\"\")","v":""},{"$f":"+CONCATENATE(Tabla2[[#This Row],[Tipo de Proceso]],Tabla2[[#This Row],[Columna4]])","v":{"$error":"#N/A"}},null,null,null,null,null,null,null,null,null,null,null,null,null,{"$f":"+IF(Tabla2[[#This Row],[Nivel de acceso ]]=\"Alto\",0.5,IF(Tabla2[[#This Row],[Nivel de acceso ]]=\"Medio\",0.3,IF(Tabla2[[#This Row],[Nivel de acceso ]]=\"Bajo\",0.2,\"\")))","v":""},null,{"$f":"+IF(Tabla2[[#This Row],[Es  Reservada]]=\"Sí\",\"Escriba Ley\",\"No Aplica\")","v":"No Aplica"},null,null,null,null,{"$f":"IFERROR(IF(AND(Tabla2[[#This Row],[Contiene Datos Personales]]=\"SÍ\",OR(Tabla2[[#This Row],[Clasificación Datos Personales]]=\"Sensible\",Tabla2[[#This Row],[Clasificación Datos Personales]]=\"NNA\",Tabla2[[#This Row],[Clasificación Datos Personales]]=\"privado\")),\"Alto\",IF(AND(Tabla2[[#This Row],[Contiene Datos Personales]]=\"SÍ\",Tabla2[[#This Row],[Clasificación Datos Personales]]=\"SEMIPRIVADO\"),\"Medio\",\"Bajo\")),\"\")","v":"Bajo"},null,null,"No Aplica","No Aplica",null,null,null,{"$f":"+IF(Tabla2[[#This Row],[Integridad]]=\"Grave\",0.5,IF(Tabla2[[#This Row],[Integridad]]=\"Importante\",0.3,IF(Tabla2[[#This Row],[Integridad]]=\"Leve\",0.2,\"\")))","v":""},null,{"$f":"+IF(Tabla2[[#This Row],[Disponibilidad Interna]]=\"Sí\",0.1,IF(Tabla2[[#This Row],[Disponibilidad Interna]]=\"NO\",0,\"\"))","v":""},null,{"$f":"+IF(Tabla2[[#This Row],[Disponibilidad Terceros]]=\"Sí\",0.1,IF(Tabla2[[#This Row],[Disponibilidad Terceros]]=\"No\",0,\"\"))","v":""},{"$f":"+Tabla2[[#This Row],[Columna32]]+Tabla2[[#This Row],[Columna34]]+Tabla2[[#This Row],[Columna1]]+Tabla2[[#This Row],[Columna3]]","v":{"$error":"#VALUE!"}},{"$f":"IFERROR(IF(Tabla2[[#This Row],[Columna33]]<0.45,\"BAJA\",IF(Tabla2[[#This Row],[Columna33]]>0.75,\"ALTA\",\"MEDIA\")),\"\")","v":""},"No Aplica",{"$f":"+IF(Tabla2[[#This Row],[Información Publicada (WEB)]]=\"Sí\",\"Digite URL\",\"No Aplica\")","v":"No Aplica"},null,{"$f":"IF(Tabla2[[#This Row],[ Clasificación ICBF]]=\"Pública\",1,IF(Tabla2[[#This Row],[ Clasificación ICBF]]=\"Clasificada\",2,IF(Tabla2[[#This Row],[ Clasificación ICBF]]=\"Reservada\",3,0)))","v":0},{"$f":"IF(#REF!=8,4,IF(#REF!=16,3,IF(#REF!=24,2,IF(#REF!=48,1,0))))","v":{"$error":"#REF!"}},{"$f":"IF(#REF!=8,\"Alto\",IF(#REF!=16,\"Medio\",IF(#REF!=24,\"Medio\",IF(#REF!=48,\"Bajo\",0))))","v":{"$error":"#REF!"}},null,{"$f":"+MID(Tabla2[[#This Row],[Área/Dependencia]],17,8)","v":""}]
["",null,null,null,{"$f":"+VLOOKUP(Tabla2[[#This Row],[SEDE - REGIONAL]],DATOS!B105:D138,3,FALSE)","v":{"$error":"#N/A"}},{"$f":"+IF(OR(Tabla2[[#This Row],[Área/Dependencia]]=\"Subdirección de Sistemas Integrados\",Tabla2[[#This Row],[Área/Dependencia]]=\"Subdirección de Recursos Tecnológicos\"),\"X\",\"\")","v":""},{"$f":"+CONCATENATE(Tabla2[[#This Row],[Tipo de Proceso]],Tabla2[[#This Row],[Columna4]])","v":{"$error":"#N/A"}},null,null,null,null,null,null,null,null,null,null,null,null,null,{"$f":"+IF(Tabla2[[#This Row],[Nivel de acceso ]]=\"Alto\",0.5,IF(Tabla2[[#This Row],[Nivel de acceso ]]=\"Medio\",0.3,IF(Tabla2[[#This Row],[Nivel de acceso ]]=\"Bajo\",0.2,\"\")))","v":""},null,{"$f":"+IF(Tabla2[[#This Row],[Es  Reservada]]=\"Sí\",\"Escriba Ley\",\"No Aplica\")","v":"No Aplica"},null,null,null,null,{"$f":"IFERROR(IF(AND(Tabla2[[#This Row],[Contiene Datos Personales]]=\"SÍ\",OR(Tabla2[[#This Row],[Clasificación Datos Personales]]=\"Sensible\",Tabla2[[#This Row],[Clasificación Datos Personales]]=\"NNA\",Tabla2[[#This Row],[Clasificación Datos Personales]]=\"privado\")),\"Alto\",IF(AND(Tabla2[[#This Row],[Contiene Datos Personales]]=\"SÍ\",Tabla2[[#This Row],[Clasificación Datos Personales]]=\"SEMIPRIVADO\"),\"Medio\",\"Bajo\")),\"\")","v":"Bajo"},null,null,"No Aplica","No Aplica",null,null,null,{"$f":"+IF(Tabla2[[#This Row],[Integridad]]=\"Grave\",0.5,IF(Tabla2[[#This Row],[Integridad]]=\"Importante\",0.3,IF(Tabla2[[#This Row],[Integridad]]=\"Leve\",0.2,\"\")))","v":""},null,{"$f":"+IF(Tabla2[[#This Row],[Disponibilidad Interna]]=\"Sí\",0.1,IF(Tabla2[[#This Row],[Disponibilidad Interna]]=\"NO\",0,\"\"))","v":""},null,{"$f":"+IF(Tabla2[[#This Row],[Disponibilidad Terceros]]=\"Sí\",0.1,IF(Tabla2[[#This Row],[Disponibilidad Terceros]]=\"No\",0,\"\"))","v":""},{"$f":"+Tabla2[[#This Row],[Columna32]]+Tabla2[[#This Row],[Columna34]]+Tabla2[[#This Row],[Columna1]]+Tabla2[[#This Row],[Columna3]]","v":{"$error":"#VALUE!"}},{"$f":"IFERROR(IF(Tabla2[[#This Row],[Columna33]]<0.45,\"BAJA\",IF(Tabla2[[#This Row],[Columna33]]>0.75,\"ALTA\",\"MEDIA\")),\"\")","v":""},"No Aplica",{"$f":"+IF(Tabla2[[#This Row],[Información Publicada (WEB)]]=\"Sí\",\"Digite URL\",\"No Aplica\")","v":"No Aplica"},null,{"$f":"IF(Tabla2[[#This Row],[ Clasificación ICBF]]=\"Pública\",1,IF(Tabla2[[#This Row],[ Clasificación ICBF]]=\"Clasificada\",2,IF(Tabla2[[#This Row],[ Clasificación ICBF]]=\"Reservada\",3,0)))","v":0},{"$f":"IF(#REF!=8,4,IF(#REF!=16,3,IF(#REF!=24,2,IF(#REF!=48,1,0))))","v":{"$error":"#REF!"}},{"$f":"IF(#REF!=8,\"Alto\",IF(#REF!=16,\"Medio\",IF(#REF!=24,\"Medio\",IF(#REF!=48,\"Bajo\",0))))","v":{"$error":"#REF!"}},null,{"$f":"+MID(Tabla2[[#This Row],[Área/Dependencia]],17,8)","v":""}]
["",null,null,null,{"$f":"+VLOOKUP(Tabla2[[#This Row],[SEDE - REGIONAL]],DATOS!B106:D139,3,FALSE)","v":{"$error":"#N/A"}},{"$f":"+IF(OR(Tabla2[[#This Row],[Área/Dependencia]]=\"Subdirección de Sistemas Integrados\",Tabla2[[#This Row],[Área/Dependencia]]=\"Subdirección de Recursos Tecnológicos\"),\"X\",\"\")","v":""},{"$f":"+CONCATENATE(Tabla2[[#This Row],[Tipo de Proceso]],Tabla2[[#This Row],[Columna4]])","v":{"$error":"#N/A"}},null,null,null,null,null,null,null,null,null,null,null,null,null,{"$f":"+IF(Tabla2[[#This Row],[Nivel de acceso ]]=\"Alto\",0.5,IF(Tabla2[[#This Row],[Nivel de acceso ]]=\"Medio\",0.3,IF(Tabla2[[#This Row],[Nivel de acceso ]]=\"Bajo\",0.2,\"\")))","v":""},null,{"$f":"+IF(Tabla2[[#This Row],[Es  Reservada]]=\"Sí\",\"Escriba Ley\",\"No Aplica\")","v":"No Aplica"},null,null,null,null,{"$f":"IFERROR(IF(AND(Tabla2[[#This Row],[Contiene Datos Personales]]=\"SÍ\",OR(Tabla2[[#This Row],[Clasificación Datos Personales]]=\"Sensible\",Tabla2[[#This Row],[Clasificación Datos Personales]]=\"NNA\",Tabla2[[#This Row],[Clasificación Datos Personales]]=\"privado\")),\"Alto\",IF(AND(Tabla2[[#This Row],[Contiene Datos Personales]]=\"SÍ\",Tabla2[[#This Row],[Clasificación Datos Personales]]=\"SEMIPRIVADO\"),\"Medio\",\"Bajo\")),\"\")","v":"Bajo"},null,null,"No Aplica","No Aplica",null,null,null,{"$f":"+IF(Tabla2[[#This Row],[Integridad]]=\"Grave\",0.5,IF(Tabla2[[#This Row],[Integridad]]=\"Importante\",0.3,IF(Tabla2[[#This Row],[Integridad]]=\"Leve\",0.2,\"\")))","v":""},null,{"$f":"+IF(Tabla2[[#This Row],[Disponibilidad Interna]]=\"Sí\",0.1,IF(Tabla2[[#This Row],[Disponibilidad Interna]]=\"NO\",0,\"\"))","v":""},null,{"$f":"+IF(Tabla2[[#This Row],[Disponibilidad Terceros]]=\"Sí\",0.1,IF(Tabla2[[#This Row],[Disponibilidad Terceros]]=\"No\",0,\"\"))","v":""},{"$f":"+Tabla2[[#This Row],[Columna32]]+Tabla2[[#This Row],[Columna34]]+Tabla2[[#This Row],[Columna1]]+Tabla2[[#This Row],[Columna3]]","v":{"$error":"#VALUE!"}},{"$f":"IFERROR(IF(Tabla2[[#This Row],[Columna33]]<0.45,\"BAJA\",IF(Tabla2[[#This Row],[Columna33]]>0.75,\"ALTA\",\"MEDIA\")),\"\")","v":""},"No Aplica",{"$f":"+IF(Tabla2[[#This Row],[Información Publicada (WEB)]]=\"Sí\",\"Digite URL\",\"No Aplica\")","v":"No Aplica"},null,{"$f":"IF(Tabla2[[#This Row],[ Clasificación ICBF]]=\"Pública\",1,IF(Tabla2[[#This Row],[ Clasificación ICBF]]=\"Clasificada\",2,IF(Tabla2[[#This Row],[ Clasificación ICBF]]=\"Reservada\",3,0)))","v":0},{"$f":"IF(#REF!=8,4,IF(#REF!=16,3,IF(#REF!=24,2,IF(#REF!=48,1,0))))","v":{"$error":"#REF!"}},{"$f":"IF(#REF!=8,\"Alto\",IF(#REF!=16,\"Medio\",IF(#REF!=24,\"Medio\",IF(#REF!=48,\"Bajo\",0))))","v":{"$error":"#REF!"}},null,{"$f":"+MID(Tabla2[[#This Row],[Área/Dependencia]],17,8)","v":""}]
["",null,null,null,{"$f":"+VLOOKUP(Tabla2[[#This Row],[SEDE - REGIONAL]],DATOS!B107:D140,3,FALSE)","v":{"$error":"#N/A"}},{"$f":"+IF(OR(Tabla2[[#This Row],[Área/Dependencia]]=\"Subdirección de Sistemas Integrados\",Tabla2[[#This Row],[Área/Dependencia]]=\"Subdirección de Recursos Tecnológicos\"),\"X\",\"\")","v":""},{"$f":"+CONCATENATE(Tabla2[[#This Row],[Tipo de Proceso]],Tabla2[[#This Row],[Columna4]])","v":{"$error":"#N/A"}},null,null,null,null,null,null,null,null,null,null,null,null,null,{"$f":"+IF(Tabla2[[#This Row],[Nivel de acceso ]]=\"Alto\",0.5,IF(Tabla2[[#This Row],[Nivel de acceso ]]=\"Medio\",0.3,IF(Tabla2[[#This Row],[Nivel de acceso ]]=\"Bajo\",0.2,\"\")))","v":""},null,{"$f":"+IF(Tabla2[[#This Row],[Es  Reservada]]=\"Sí\",\"Escriba Ley\",\"No Aplica\")","v":"No Aplica"},null,null,null,null,{"$f":"IFERROR(IF(AND(Tabla2[[#This Row],[Contiene Datos Personales]]=\"SÍ\",OR(Tabla2[[#This Row],[Clasificación Datos Personales]]=\"Sensible\",Tabla2[[#This Row],[Clasificación Datos Personales]]=\"NNA\",Tabla2[[#This Row],[Clasificación Datos Personales]]=\"privado\")),\"Alto\",IF(AND(Tabla2[[#This Row],[Contiene Datos Personales]]=\"SÍ\",Tabla2[[#This Row],[Clasificación Datos Personales]]=\"SEMIPRIVADO\"),\"Medio\",\"Bajo\")),\"\")","v":"Bajo"},null,null,"No Aplica","No Aplica",null,null,null,{"$f":"+IF(Tabla2[[#This Row],[Integridad]]=\"Grave\",0.5,IF(Tabla2[[#This Row],[Integridad]]=\"Importante\",0.3,IF(Tabla2[[#This Row],[Integridad]]=\"Leve\",0.2,\"\")))","v":""},null,{"$f":"+IF(Tabla2[[#This Row],[Disponibilidad Interna]]=\"Sí\",0.1,IF(Tabla2[[#This Row],[Disponibilidad Interna]]=\"NO\",0,\"\"))","v":""},null,{"$f":"+IF(Tabla2[[#This Row],[Disponibilidad Terceros]]=\"Sí\",0.1,IF(Tabla2[[#This Row],[Disponibilidad Terceros]]=\"No\",0,\"\"))","v":""},{"$f":"+Tabla2[[#This Row],[Columna32]]+Tabla2[[#This Row],[Columna34]]+Tabla2[[#This Row],[Columna1]]+Tabla2[[#This Row],[Columna3]]","v":{"$error":"#VALUE!"}},{"$f":"IFERROR(IF(Tabla2[[#This Row],[Columna33]]<0.45,\"BAJA\",IF(Tabla2[[#This Row],[Columna33]]>0.75,\"ALTA\",\"MEDIA\")),\"\")","v":""},"No Aplica",{"$f":"+IF(Tabla2[[#This Row],[Información Publicada (WEB)]]=\"Sí\",\"Digite URL\",\"No Aplica\")","v":"No Aplica"},null,{"$f":"IF(Tabla2[[#This Row],[ Clasificación ICBF]]=\"Pública\",1,IF(Tabla2[[#This Row],[ Clasificación ICBF]]=\"Clasificada\",2,IF(Tabla2[[#This Row],[ Clasificación ICBF]]=\"Reservada\",3,0)))","v":0},{"$f":"IF(#REF!=8,4,IF(#REF!=16,3,IF(#REF!=24,2,IF(#REF!=48,1,0))))","v":{"$error":"#REF!"}},{"$f":"IF(#REF!=8,\"Alto\",IF(#REF!=16,\"Medio\",IF(#REF!=24,\"Medio\",IF(#REF!=48,\"Bajo\",0))))","v":{"$error":"#REF!"}},null,{"$f":"+MID(Tabla2[[#This Row],[Área/Dependencia]],17,8)","v":""}]
["",null,null,null,{"$f":"+VLOOKUP(Tabla2[[#This Row],[SEDE - REGIONAL]],DATOS!B108:D141,3,FALSE)","v":{"$error":"#N/A"}},{"$f":"+IF(OR(Tabla2[[#This Row],[Área/Dependencia]]=\"Subdirección de Sistemas Integrados\",Tabla2[[#This Row],[Área/Dependencia]]=\"Subdirección de Recursos Tecnológicos\"),\"X\",\"\")","v":""},{"$f":"+CONCATENATE(Tabla2[[#This Row],[Tipo de Proceso]],Tabla2[[#This Row],[Columna4]])","v":{"$error":"#N/A"}},null,null,null,null,null,null,null,null,null,null,null,null,null,{"$f":"+IF(Tabla2[[#This Row],[Nivel de acceso ]]=\"Alto\",0.5,IF(Tabla2[[#This Row],[Nivel de acceso ]]=\"Medio\",0.3,IF(Tabla2[[#This Row],[Nivel de acceso ]]=\"Bajo\",0.2,\"\")))","v":""},null,{"$f":"+IF(Tabla2[[#This Row],[Es  Reservada]]=\"Sí\",\"Escriba Ley\",\"No Aplica\")","v":"No Aplica"},null,null,null,null,{"$f":"IFERROR(IF(AND(Tabla2[[#This Row],[Contiene Datos Personales]]=\"SÍ\",OR(Tabla2[[#This Row],[Clasificación Datos Personales]]=\"Sensible\",Tabla2[[#This Row],[Clasificación Datos Personales]]=\"NNA\",Tabla2[[#This Row],[Clasificación Datos Personales]]=\"privado\")),\"Alto\",IF(AND(Tabla2[[#This Row],[Contiene Datos Personales]]=\"SÍ\",Tabla2[[#This Row],[Clasificación Datos Personales]]=\"SEMIPRIVADO\"),\"Medio\",\"Bajo\")),\"\")","v":"Bajo"},null,null,"No Aplica","No Aplica",null,null,null,{"$f":"+IF(Tabla2[[#This Row],[Integridad]]=\"Grave\",0.5,IF(Tabla2[[#This Row],[Integridad]]=\"Importante\",0.3,IF(Tabla2[[#This Row],[Integridad]]=\"Leve\",0.2,\"\")))","v":""},null,{"$f":"+IF(Tabla2[[#This Row],[Disponibilidad Interna]]=\"Sí\",0.1,IF(Tabla2[[#This Row],[Disponibilidad Interna]]=\"NO\",0,\"\"))","v":""},null,{"$f":"+IF(Tabla2[[#This Row],[Disponibilidad Terceros]]=\"Sí\",0.1,IF(Tabla2[[#This Row],[Disponibilidad Terceros]]=\"No\",0,\"\"))","v":""},{"$f":"+Tabla2[[#This Row],[Columna32]]+Tabla2[[#This Row],[Columna34]]+Tabla2[[#This Row],[Columna1]]+Tabla2[[#This Row],[Columna3]]","v":{"$error":"#VALUE!"}},{"$f":"IFERROR(IF(Tabla2[[#This Row],[Columna33]]<0.45,\"BAJA\",IF(Tabla2[[#This Row],[Columna33]]>0.75,\"ALTA\",\"MEDIA\")),\"\")","v":""},"No Aplica",{"$f":"+IF(Tabla2[[#This Row],[Información Publicada (WEB)]]=\"Sí\",\"Digite URL\",\"No Aplica\")","v":"No Aplica"},null,{"$f":"IF(Tabla2[[#This Row],[ Clasificación ICBF]]=\"Pública\",1,IF(Tabla2[[#This Row],[ Clasificación ICBF]]=\"Clasificada\",2,IF(Tabla2[[#This Row],[ Clasificación ICBF]]=\"Reservada\",3,0)))","v":0},{"$f":"IF(#REF!=8,4,IF(#REF!=16,3,IF(#REF!=24,2,IF(#REF!=48,1,0))))","v":{"$error":"#REF!"}},{"$f":"IF(#REF!=8,\"Alto\",IF(#REF!=16,\"Medio\",IF(#REF!=24,\"Medio\",IF(#REF!=48,\"Bajo\",0))))","v":{"$error":"#REF!"}},null,{"$f":"+MID(Tabla2[[#This Row],[Área/Dependencia]],17,8)","v":""}]
["",null,null,null,{"$f":"+VLOOKUP(Tabla2[[#This Row],[SEDE - REGIONAL]],DATOS!B109:D142,3,FALSE)","v":{"$error":"#N/A"}},{"$f":"+IF(OR(Tabla2[[#This Row],[Área/Dependencia]]=\"Subdirección de Sistemas Integrados\",Tabla2[[#This Row],[Área/Dependencia]]=\"Subdirección de Recursos Tecnológicos\"),\"X\",\"\")","v":""},{"$f":"+CONCATENATE(Tabla2[[#This Row],[Tipo de Proceso]],Tabla2[[#This Row],[Columna4]])","v":{"$error":"#N/A"}},null,null,null,null,null,null,null,null,null,null,null,null,null,{"$f":"+IF(Tabla2[[#This Row],[Nivel de acceso ]]=\"Alto\",0.5,IF(Tabla2[[#This Row],[Nivel de acceso ]]=\"Medio\",0.3,IF(Tabla2[[#This Row],[Nivel de acceso ]]=\"Bajo\",0.2,\"\")))","v":""},null,{"$f":"+IF(Tabla2[[#This Row],[Es  Reservada]]=\"Sí\",\"Escriba Ley\",\"No Aplica\")","v":"No Aplica"},null,null,null,null,{"$f":"IFERROR(IF(AND(Tabla2[[#This Row],[Contiene Datos Personales]]=\"SÍ\",OR(Tabla2[[#This Row],[Clasificación Datos Personales]]=\"Sensible\",Tabla2[[#This Row],[Clasificación Datos Personales]]=\"NNA\",Tabla2[[#This Row],[Clasificación Datos Personales]]=\"privado\")),\"Alto\",IF(AND(Tabla2[[#This Row],[Contiene Datos Personales]]=\"SÍ\",Tabla2[[#This Row],[Clasificación Datos Personales]]=\"SEMIPRIVADO\"),\"Medio\",\"Bajo\")),\"\")","v":"Bajo"},null,null,"No Aplica","No Aplica",null,null,null,{"$f":"+IF(Tabla2[[#This Row],[Integridad]]=\"Grave\",0.5,IF(Tabla2[[#This Row],[Integridad]]=\"Importante\",0.3,IF(Tabla2[[#This Row],[Integridad]]=\"Leve\",0.2,\"\")))","v":""},null,{"$f":"+IF(Tabla2[[#This Row],[Disponibilidad Interna]]=\"Sí\",0.1,IF(Tabla2[[#This Row],[Disponibilidad Interna]]=\"NO\",0,\"\"))","v":""},null,{"$f":"+IF(Tabla2[[#This Row],[Disponibilidad Terceros]]=\"Sí\",0.1,IF(Tabla2[[#This Row],[Disponibilidad Terceros]]=\"No\",0,\"\"))","v":""},{"$f":"+Tabla2[[#This Row],[Columna32]]+Tabla2[[#This Row],[Columna34]]+Tabla2[[#This Row],[Columna1]]+Tabla2[[#This Row],[Columna3]]","v":{"$error":"#VALUE!"}},{"$f":"IFERROR(IF(Tabla2[[#This Row],[Columna33]]<0.45,\"BAJA\",IF(Tabla2[[#This Row],[Columna33]]>0.75,\"ALTA\",\"MEDIA\")),\"\")","v":""},"No Aplica",{"$f":"+IF(Tabla2[[#This Row],[Información Publicada (WEB)]]=\"Sí\",\"Digite URL\",\"No Aplica\")","v":"No Aplica"},null,{"$f":"IF(Tabla2[[#This Row],[ Clasificación ICBF]]=\"Pública\",1,IF(Tabla2[[#This Row],[ Clasificación ICBF]]=\"Clasificada\",2,IF(Tabla2[[#This Row],[ Clasificación ICBF]]=\"Reservada\",3,0)))","v":0},{"$f":"IF(#REF!=8,4,IF(#REF!=16,3,IF(#REF!=24,2,IF(#REF!=48,1,0))))","v":{"$error":"#REF!"}},{"$f":"IF(#REF!=8,\"Alto\",IF(#REF!=16,\"Medio\",IF(#REF!=24,\"Medio\",IF(#REF!=48,\"Bajo\",0))))","v":{"$error":"#REF!"}},null,{"$f":"+MID(Tabla2[[#This Row],[Área/Dependencia]],17,8)","v":""}]
["",null,null,null,{"$f":"+VLOOKUP(Tabla2[[#This Row],[SEDE - REGIONAL]],DATOS!B110:D143,3,FALSE)","v":{"$error":"#N/A"}},{"$f":"+IF(OR(Tabla2[[#This Row],[Área/Dependencia]]=\"Subdirección de Sistemas Integrados\",Tabla2[[#This Row],[Área/Dependencia]]=\"Subdirección de Recursos Tecnológicos\"),\"X\",\"\")","v":""},{"$f":"+CONCATENATE(Tabla2[[#This Row],[Tipo de Proceso]],Tabla2[[#This Row],[Columna4]])","v":{"$error":"#N/A"}},null,null,null,null,null,null,null,null,null,null,null,null,null,{"$f":"+IF(Tabla2[[#This Row],[Nivel de acceso ]]=\"Alto\",0.5,IF(Tabla2[[#This Row],[Nivel de acceso ]]=\"Medio\",0.3,IF(Tabla2[[#This Row],[Nivel de acceso ]]=\"Bajo\",0.2,\"\")))","v":""},null,{"$f":"+IF(Tabla2[[#This Row],[Es  Reservada]]=\"Sí\",\"Escriba Ley\",\"No Aplica\")","v":"No Aplica"},null,null,null,null,{"$f":"IFERROR(IF(AND(Tabla2[[#This Row],[Contiene Datos Personales]]=\"SÍ\",OR(Tabla2[[#This Row],[Clasificación Datos Personales]]=\"Sensible\",Tabla2[[#This Row],[Clasificación Datos Personales]]=\"NNA\",Tabla2[[#This Row],[Clasificación Datos Personales]]=\"privado\")),\"Alto\",IF(AND(Tabla2[[#This Row],[Contiene Datos Personales]]=\"SÍ\",Tabla2[[#This Row],[Clasificación Datos Personales]]=\"SEMIPRIVADO\"),\"Medio\",\"Bajo\")),\"\")","v":"Bajo"},null,null,"No Aplica","No Aplica",null,null,null,{"$f":"+IF(Tabla2[[#This Row],[Integridad]]=\"Grave\",0.5,IF(Tabla2[[#This Row],[Integridad]]=\"Importante\",0.3,IF(Tabla2[[#This Row],[Integridad]]=\"Leve\",0.2,\"\")))","v":""},null,{"$f":"+IF(Tabla2[[#This Row],[Disponibilidad Interna]]=\"Sí\",0.1,IF(Tabla2[[#This Row],[Disponibilidad Interna]]=\"NO\",0,\"\"))","v":""},null,{"$f":"+IF(Tabla2[[#This Row],[Disponibilidad Terceros]]=\"Sí\",0.1,IF(Tabla2[[#This Row],[Disponibilidad Terceros]]=\"No\",0,\"\"))","v":""},{"$f":"+Tabla2[[#This Row],[Columna32]]+Tabla2[[#This Row],[Columna34]]+Tabla2[[#This Row],[Columna1]]+Tabla2[[#This Row],[Columna3]]","v":{"$error":"#VALUE!"}},{"$f":"IFERROR(IF(Tabla2[[#This Row],[Columna33]]<0.45,\"BAJA\",IF(Tabla2[[#This Row],[Columna33]]>0.75,\"ALTA\",\"MEDIA\")),\"\")","v":""},"No Aplica",{"$f":"+IF(Tabla2[[#This Row],[Información Publicada (WEB)]]=\"Sí\",\"Digite URL\",\"No Aplica\")","v":"No Aplica"},null,{"$f":"IF(Tabla2[[#This Row],[ Clasificación ICBF]]=\"Pública\",1,IF(Tabla2[[#This Row],[ Clasificación ICBF]]=\"Clasificada\",2,IF(Tabla2[[#This Row],[ Clasificación ICBF]]=\"Reservada\",3,0)))","v":0},{"$f":"IF(#REF!=8,4,IF(#REF!=16,3,IF(#REF!=24,2,IF(#REF!=48,1,0))))","v":{"$error":"#REF!"}},{"$f":"IF(#REF!=8,\"Alto\",IF(#REF!=16,\"Medio\",IF(#REF!=24,\"Medio\",IF(#REF!=48,\"Bajo\",0))))","v":{"$error":"#REF!"}},null,{"$f":"+MID(Tabla2[[#This Row],[Área/Dependencia]],17,8)","v":""}]
["",null,null,null,{"$f":"+VLOOKUP(Tabla2[[#This Row],[SEDE - REGIONAL]],DATOS!B111:D144,3,FALSE)","v":{"$error":"#N/A"}},{"$f":"+IF(OR(Tabla2[[#This Row],[Área/Dependencia]]=\"Subdirección de Sistemas Integrados\",Tabla2[[#This Row],[Área/Dependencia]]=\"Subdirección de Recursos Tecnológicos\"),\"X\",\"\")","v":""},{"$f":"+CONCATENATE(Tabla2[[#This Row],[Tipo de Proceso]],Tabla2[[#This Row],[Columna4]])","v":{"$error":"#N/A"}},null,null,null,null,null,null,null,null,null,null,null,null,null,{"$f":"+IF(Tabla2[[#This Row],[Nivel de acceso ]]=\"Alto\",0.5,IF(Tabla2[[#This Row],[Nivel de acceso ]]=\"Medio\",0.3,IF(Tabla2[[#This Row],[Nivel de acceso ]]=\"Bajo\",0.2,\"\")))","v":""},null,{"$f":"+IF(Tabla2[[#This Row],[Es  Reservada]]=\"Sí\",\"Escriba Ley\",\"No Aplica\")","v":"No Aplica"},null,null,null,null,{"$f":"IFERROR(IF(AND(Tabla2[[#This Row],[Contiene Datos Personales]]=\"SÍ\",OR(Tabla2[[#This Row],[Clasificación Datos Personales]]=\"Sensible\",Tabla2[[#This Row],[Clasificación Datos Personales]]=\"NNA\",Tabla2[[#This Row],[Clasificación Datos Personales]]=\"privado\")),\"Alto\",IF(AND(Tabla2[[#This Row],[Contiene Datos Personales]]=\"SÍ\",Tabla2[[#This Row],[Clasificación Datos Personales]]=\"SEMIPRIVADO\"),\"Medio\",\"Bajo\")),\"\")","v":"Bajo"},null,null,"No Aplica","No Aplica",null,null,null,{"$f":"+IF(Tabla2[[#This Row],[Integridad]]=\"Grave\",0.5,IF(Tabla2[[#This Row],[Integridad]]=\"Importante\",0.3,IF(Tabla2[[#This Row],[Integridad]]=\"Leve\",0.2,\"\")))","v":""},null,{"$f":"+IF(Tabla2[[#This Row],[Disponibilidad Interna]]=\"Sí\",0.1,IF(Tabla2[[#This Row],[Disponibilidad Interna]]=\"NO\",0,\"\"))","v":""},null,{"$f":"+IF(Tabla2[[#This Row],[Disponibilidad Terceros]]=\"Sí\",0.1,IF(Tabla2[[#This Row],[Disponibilidad Terceros]]=\"No\",0,\"\"))","v":""},{"$f":"+Tabla2[[#This Row],[Columna32]]+Tabla2[[#This Row],[Columna34]]+Tabla2[[#This Row],[Columna1]]+Tabla2[[#This Row],[Columna3]]","v":{"$error":"#VALUE!"}},{"$f":"IFERROR(IF(Tabla2[[#This Row],[Columna33]]<0.45,\"BAJA\",IF(Tabla2[[#This Row],[Columna33]]>0.75,\"ALTA\",\"MEDIA\")),\"\")","v":""},"No Aplica",{"$f":"+IF(Tabla2[[#This Row],[Información Publicada (WEB)]]=\"Sí\",\"Digite URL\",\"No Aplica\")","v":"No Aplica"},null,{"$f":"IF(Tabla2[[#This Row],[ Clasificación ICBF]]=\"Pública\",1,IF(Tabla2[[#This Row],[ Clasificación ICBF]]=\"Clasificada\",2,IF(Tabla2[[#This Row],[ Clasificación ICBF]]=\"Reservada\",3,0)))","v":0},{"$f":"IF(#REF!=8,4,IF(#REF!=16,3,IF(#REF!=24,2,IF(#REF!=48,1,0))))","v":{"$error":"#REF!"}},{"$f":"IF(#REF!=8,\"Alto\",IF(#REF!=16,\"Medio\",IF(#REF!=24,\"Medio\",IF(#REF!=48,\"Bajo\",0))))","v":{"$error":"#REF!"}},null,{"$f":"+MID(Tabla2[[#This Row],[Área/Dependencia]],17,8)","v":""}]
["",null,null,null,{"$f":"+VLOOKUP(Tabla2[[#This Row],[SEDE - REGIONAL]],DATOS!B112:D145,3,FALSE)","v":{"$error":"#N/A"}},{"$f":"+IF(OR(Tabla2[[#This Row],[Área/Dependencia]]=\"Subdirección de Sistemas Integrados\",Tabla2[[#This Row],[Área/Dependencia]]=\"Subdirección de Recursos Tecnológicos\"),\"X\",\"\")","v":""},{"$f":"+CONCATENATE(Tabla2[[#This Row],[Tipo de Proceso]],Tabla2[[#This Row],[Columna4]])","v":{"$error":"#N/A"}},null,null,null,null,null,null,null,null,null,null,null,null,null,{"$f":"+IF(Tabla2[[#This Row],[Nivel de acceso ]]=\"Alto\",0.5,IF(Tabla2[[#This Row],[Nivel de acceso ]]=\"Medio\",0.3,IF(Tabla2[[#This Row],[Nivel de acceso ]]=\"Bajo\",0.2,\"\")))","v":""},null,{"$f":"+IF(Tabla2[[#This Row],[Es  Reservada]]=\"Sí\",\"Escriba Ley\",\"No Aplica\")","v":"No Aplica"},null,null,null,null,{"$f":"IFERROR(IF(AND(Tabla2[[#This Row],[Contiene Datos Personales]]=\"SÍ\",OR(Tabla2[[#This Row],[Clasificación Datos Personales]]=\"Sensible\",Tabla2[[#This Row],[Clasificación Datos Personales]]=\"NNA\",Tabla2[[#This Row],[Clasificación Datos Personales]]=\"privado\")),\"Alto\",IF(AND(Tabla2[[#This Row],[Contiene Datos Personales]]=\"SÍ\",Tabla2[[#This Row],[Clasificación Datos Personales]]=\"SEMIPRIVADO\"),\"Medio\",\"Bajo\")),\"\")","v":"Bajo"},null,null,"No Aplica","No Aplica",null,null,null,{"$f":"+IF(Tabla2[[#This Row],[Integridad]]=\"Grave\",0.5,IF(Tabla2[[#This Row],[Integridad]]=\"Importante\",0.3,IF(Tabla2[[#This Row],[Integridad]]=\"Leve\",0.2,\"\")))","v":""},null,{"$f":"+IF(Tabla2[[#This Row],[Disponibilidad Interna]]=\"Sí\",0.1,IF(Tabla2[[#This Row],[Disponibilidad Interna]]=\"NO\",0,\"\"))","v":""},null,{"$f":"+IF(Tabla2[[#This Row],[Disponibilidad Terceros]]=\"Sí\",0.1,IF(Tabla2[[#This Row],[Disponibilidad Terceros]]=\"No\",0,\"\"))","v":""},{"$f":"+Tabla2[[#This Row],[Columna32]]+Tabla2[[#This Row],[Columna34]]+Tabla2[[#This Row],[Columna1]]+Tabla2[[#This Row],[Columna3]]","v":{"$error":"#VALUE!"}},{"$f":"IFERROR(IF(Tabla2[[#This Row],[Columna33]]<0.45,\"BAJA\",IF(Tabla2[[#This Row],[Columna33]]>0.75,\"ALTA\",\"MEDIA\")),\"\")","v":""},"No Aplica",{"$f":"+IF(Tabla2[[#This Row],[Información Publicada (WEB)]]=\"Sí\",\"Digite URL\",\"No Aplica\")","v":"No Aplica"},null,{"$f":"IF(Tabla2[[#This Row],[ Clasificación ICBF]]=\"Pública\",1,IF(Tabla2[[#This Row],[ Clasificación ICBF]]=\"Clasificada\",2,IF(Tabla2[[#This Row],[ Clasificación ICBF]]=\"Reservada\",3,0)))","v":0},{"$f":"IF(#REF!=8,4,IF(#REF!=16,3,IF(#REF!=24,2,IF(#REF!=48,1,0))))","v":{"$error":"#REF!"}},{"$f":"IF(#REF!=8,\"Alto\",IF(#REF!=16,\"Medio\",IF(#REF!=24,\"Medio\",IF(#REF!=48,\"Bajo\",0))))","v":{"$error":"#REF!"}},null,{"$f":"+MID(Tabla2[[#This Row],[Área/Dependencia]],17,8)","v":""}]
["",null,null,null,{"$f":"+VLOOKUP(Tabla2[[#This Row],[SEDE - REGIONAL]],DATOS!B113:D146,3,FALSE)","v":{"$error":"#N/A"}},{"$f":"+IF(OR(Tabla2[[#This Row],[Área/Dependencia]]=\"Subdirección de Sistemas Integrados\",Tabla2[[#This Row],[Área/Dependencia]]=\"Subdirección de Recursos Tecnológicos\"),\"X\",\"\")","v":""},{"$f":"+CONCATENATE(Tabla2[[#This Row],[Tipo de Proceso]],Tabla2[[#This Row],[Columna4]])","v":{"$error":"#N/A"}},null,null,null,null,null,null,null,null,null,null,null,null,null,{"$f":"+IF(Tabla2[[#This Row],[Nivel de acceso ]]=\"Alto\",0.5,IF(Tabla2[[#This Row],[Nivel de acceso ]]=\"Medio\",0.3,IF(Tabla2[[#This Row],[Nivel de acceso ]]=\"Bajo\",0.2,\"\")))","v":""},null,{"$f":"+IF(Tabla2[[#This Row],[Es  Reservada]]=\"Sí\",\"Escriba Ley\",\"No Aplica\")","v":"No Aplica"},null,null,null,null,{"$f":"IFERROR(IF(AND(Tabla2[[#This Row],[Contiene Datos Personales]]=\"SÍ\",OR(Tabla2[[#This Row],[Clasificación Datos Personales]]=\"Sensible\",Tabla2[[#This Row],[Clasificación Datos Personales]]=\"NNA\",Tabla2[[#This Row],[Clasificación Datos Personales]]=\"privado\")),\"Alto\",IF(AND(Tabla2[[#This Row],[Contiene Datos Personales]]=\"SÍ\",Tabla2[[#This Row],[Clasificación Datos Personales]]=\"SEMIPRIVADO\"),\"Medio\",\"Bajo\")),\"\")","v":"Bajo"},null,null,"No Aplica","No Aplica",null,null,null,{"$f":"+IF(Tabla2[[#This Row],[Integridad]]=\"Grave\",0.5,IF(Tabla2[[#This Row],[Integridad]]=\"Importante\",0.3,IF(Tabla2[[#This Row],[Integridad]]=\"Leve\",0.2,\"\")))","v":""},null,{"$f":"+IF(Tabla2[[#This Row],[Disponibilidad Interna]]=\"Sí\",0.1,IF(Tabla2[[#This Row],[Disponibilidad Interna]]=\"NO\",0,\"\"))","v":""},null,{"$f":"+IF(Tabla2[[#This Row],[Disponibilidad Terceros]]=\"Sí\",0.1,IF(Tabla2[[#This Row],[Disponibilidad Terceros]]=\"No\",0,\"\"))","v":""},{"$f":"+Tabla2[[#This Row],[Columna32]]+Tabla2[[#This Row],[Columna34]]+Tabla2[[#This Row],[Columna1]]+Tabla2[[#This Row],[Columna3]]","v":{"$error":"#VALUE!"}},{"$f":"IFERROR(IF(Tabla2[[#This Row],[Columna33]]<0.45,\"BAJA\",IF(Tabla2[[#This Row],[Columna33]]>0.75,\"ALTA\",\"MEDIA\")),\"\")","v":""},"No Aplica",{"$f":"+IF(Tabla2[[#This Row],[Información Publicada (WEB)]]=\"Sí\",\"Digite URL\",\"No Aplica\")","v":"No Aplica"},null,{"$f":"IF(Tabla2[[#This Row],[ Clasificación ICBF]]=\"Pública\",1,IF(Tabla2[[#This Row],[ Clasificación ICBF]]=\"Clasificada\",2,IF(Tabla2[[#This Row],[ Clasificación ICBF]]=\"Reservada\",3,0)))","v":0},{"$f":"IF(#REF!=8,4,IF(#REF!=16,3,IF(#REF!=24,2,IF(#REF!=48,1,0))))","v":{"$error":"#REF!"}},{"$f":"IF(#REF!=8,\"Alto\",IF(#REF!=16,\"Medio\",IF(#REF!=24,\"Medio\",IF(#REF!=48,\"Bajo\",0))))","v":{"$error":"#REF!"}},null,{"$f":"+MID(Tabla2[[#This Row],[Área/Dependencia]],17,8)","v":""}]
["",null,null,null,{"$f":"+VLOOKUP(Tabla2[[#This Row],[SEDE - REGIONAL]],DATOS!B114:D147,3,FALSE)","v":{"$error":"#N/A"}},{"$f":"+IF(OR(Tabla2[[#This Row],[Área/Dependencia]]=\"Subdirección de Sistemas Integrados\",Tabla2[[#This Row],[Área/Dependencia]]=\"Subdirección de Recursos Tecnológicos\"),\"X\",\"\")","v":""},{"$f":"+CONCATENATE(Tabla2[[#This Row],[Tipo de Proceso]],Tabla2[[#This Row],[Columna4]])","v":{"$error":"#N/A"}},null,null,null,null,null,null,null,null,null,null,null,null,null,{"$f":"+IF(Tabla2[[#This Row],[Nivel de acceso ]]=\"Alto\",0.5,IF(Tabla2[[#This Row],[Nivel de acceso ]]=\"Medio\",0.3,IF(Tabla2[[#This Row],[Nivel de acceso ]]=\"Bajo\",0.2,\"\")))","v":""},null,{"$f":"+IF(Tabla2[[#This Row],[Es  Reservada]]=\"Sí\",\"Escriba Ley\",\"No Aplica\")","v":"No Aplica"},null,null,null,null,{"$f":"IFERROR(IF(AND(Tabla2[[#This Row],[Contiene Datos Personales]]=\"SÍ\",OR(Tabla2[[#This Row],[Clasificación Datos Personales]]=\"Sensible\",Tabla2[[#This Row],[Clasificación Datos Personales]]=\"NNA\",Tabla2[[#This Row],[Clasificación Datos Personales]]=\"privado\")),\"Alto\",IF(AND(Tabla2[[#This Row],[Contiene Datos Personales]]=\"SÍ\",Tabla2[[#This Row],[Clasificación Datos Personales]]=\"SEMIPRIVADO\"),\"Medio\",\"Bajo\")),\"\")","v":"Bajo"},null,null,"No Aplica","No Aplica",null,null,null,{"$f":"+IF(Tabla2[[#This Row],[Integridad]]=\"Grave\",0.5,IF(Tabla2[[#This Row],[Integridad]]=\"Importante\",0.3,IF(Tabla2[[#This Row],[Integridad]]=\"Leve\",0.2,\"\")))","v":""},null,{"$f":"+IF(Tabla2[[#This Row],[Disponibilidad Interna]]=\"Sí\",0.1,IF(Tabla2[[#This Row],[Disponibilidad Interna]]=\"NO\",0,\"\"))","v":""},null,{"$f":"+IF(Tabla2[[#This Row],[Disponibilidad Terceros]]=\"Sí\",0.1,IF(Tabla2[[#This Row],[Disponibilidad Terceros]]=\"No\",0,\"\"))","v":""},{"$f":"+Tabla2[[#This Row],[Columna32]]+Tabla2[[#This Row],[Columna34]]+Tabla2[[#This Row],[Columna1]]+Tabla2[[#This Row],[Columna3]]","v":{"$error":"#VALUE!"}},{"$f":"IFERROR(IF(Tabla2[[#This Row],[Columna33]]<0.45,\"BAJA\",IF(Tabla2[[#This Row],[Columna33]]>0.75,\"ALTA\",\"MEDIA\")),\"\")","v":""},"No Aplica",{"$f":"+IF(Tabla2[[#This Row],[Información Publicada (WEB)]]=\"Sí\",\"Digite URL\",\"No Aplica\")","v":"No Aplica"},null,{"$f":"IF(Tabla2[[#This Row],[ Clasificación ICBF]]=\"Pública\",1,IF(Tabla2[[#This Row],[ Clasificación ICBF]]=\"Clasificada\",2,IF(Tabla2[[#This Row],[ Clasificación ICBF]]=\"Reservada\",3,0)))","v":0},{"$f":"IF(#REF!=8,4,IF(#REF!=16,3,IF(#REF!=24,2,IF(#REF!=48,1,0))))","v":{"$error":"#REF!"}},{"$f":"IF(#REF!=8,\"Alto\",IF(#REF!=16,\"Medio\",IF(#REF!=24,\"Medio\",IF(#REF!=48,\"Bajo\",0))))","v":{"$error":"#REF!"}},null,{"$f":"+MID(Tabla2[[#This Row],[Área/Dependencia]],17,8)","v":""}]
["",null,null,null,{"$f":"+VLOOKUP(Tabla2[[#This Row],[SEDE - REGIONAL]],DATOS!B115:D148,3,FALSE)","v":{"$error":"#N/A"}},{"$f":"+IF(OR(Tabla2[[#This Row],[Área/Dependencia]]=\"Subdirección de Sistemas Integrados\",Tabla2[[#This Row],[Área/Dependencia]]=\"Subdirección de Recursos Tecnológicos\"),\"X\",\"\")","v":""},{"$f":"+CONCATENATE(Tabla2[[#This Row],[Tipo de Proceso]],Tabla2[[#This Row],[Columna4]])","v":{"$error":"#N/A"}},null,null,null,null,null,null,null,null,null,null,null,null,null,{"$f":"+IF(Tabla2[[#This Row],[Nivel de acceso ]]=\"Alto\",0.5,IF(Tabla2[[#This Row],[Nivel de acceso ]]=\"Medio\",0.3,IF(Tabla2[[#This Row],[Nivel de acceso ]]=\"Bajo\",0.2,\"\")))","v":""},null,{"$f":"+IF(Tabla2[[#This Row],[Es  Reservada]]=\"Sí\",\"Escriba Ley\",\"No Aplica\")","v":"No Aplica"},null,null,null,null,{"$f":"IFERROR(IF(AND(Tabla2[[#This Row],[Contiene Datos Personales]]=\"SÍ\",OR(Tabla2[[#This Row],[Clasificación Datos Personales]]=\"Sensible\",Tabla2[[#This Row],[Clasificación Datos Personales]]=\"NNA\",Tabla2[[#This Row],[Clasificación Datos Personales]]=\"privado\")),\"Alto\",IF(AND(Tabla2[[#This Row],[Contiene Datos Personales]]=\"SÍ\",Tabla2[[#This Row],[Clasificación Datos Personales]]=\"SEMIPRIVADO\"),\"Medio\",\"Bajo\")),\"\")","v":"Bajo"},null,null,"No Aplica","No Aplica",null,null,null,{"$f":"+IF(Tabla2[[#This Row],[Integridad]]=\"Grave\",0.5,IF(Tabla2[[#This Row],[Integridad]]=\"Importante\",0.3,IF(Tabla2[[#This Row],[Integridad]]=\"Leve\",0.2,\"\")))","v":""},null,{"$f":"+IF(Tabla2[[#This Row],[Disponibilidad Interna]]=\"Sí\",0.1,IF(Tabla2[[#This Row],[Disponibilidad Interna]]=\"NO\",0,\"\"))","v":""},null,{"$f":"+IF(Tabla2[[#This Row],[Disponibilidad Terceros]]=\"Sí\",0.1,IF(Tabla2[[#This Row],[Disponibilidad Terceros]]=\"No\",0,\"\"))","v":""},{"$f":"+Tabla2[[#This Row],[Columna32]]+Tabla2[[#This Row],[Columna34]]+Tabla2[[#This Row],[Columna1]]+Tabla2[[#This Row],[Columna3]]","v":{"$error":"#VALUE!"}},{"$f":"IFERROR(IF(Tabla2[[#This Row],[Columna33]]<0.45,\"BAJA\",IF(Tabla2[[#This Row],[Columna33]]>0.75,\"ALTA\",\"MEDIA\")),\"\")","v":""},"No Aplica",{"$f":"+IF(Tabla2[[#This Row],[Información Publicada (WEB)]]=\"Sí\",\"Digite URL\",\"No Aplica\")","v":"No Aplica"},null,{"$f":"IF(Tabla2[[#This Row],[ Clasificación ICBF]]=\"Pública\",1,IF(Tabla2[[#This Row],[ Clasificación ICBF]]=\"Clasificada\",2,IF(Tabla2[[#This Row],[ Clasificación ICBF]]=\"Reservada\",3,0)))","v":0},{"$f":"IF(#REF!=8,4,IF(#REF!=16,3,IF(#REF!=24,2,IF(#REF!=48,1,0))))","v":{"$error":"#REF!"}},{"$f":"IF(#REF!=8,\"Alto\",IF(#REF!=16,\"Medio\",IF(#REF!=24,\"Medio\",IF(#REF!=48,\"Bajo\",0))))","v":{"$error":"#REF!"}},null,{"$f":"+MID(Tabla2[[#This Row],[Área/Dependencia]],17,8)","v":""}]
["",null,null,null,{"$f":"+VLOOKUP(Tabla2[[#This Row],[SEDE - REGIONAL]],DATOS!B116:D149,3,FALSE)","v":{"$error":"#N/A"}},{"$f":"+IF(OR(Tabla2[[#This Row],[Área/Dependencia]]=\"Subdirección de Sistemas Integrados\",Tabla2[[#This Row],[Área/Dependencia]]=\"Subdirección de Recursos Tecnológicos\"),\"X\",\"\")","v":""},{"$f":"+CONCATENATE(Tabla2[[#This Row],[Tipo de Proceso]],Tabla2[[#This Row],[Columna4]])","v":{"$error":"#N/A"}},null,null,null,null,null,null,null,null,null,null,null,null,null,{"$f":"+IF(Tabla2[[#This Row],[Nivel de acceso ]]=\"Alto\",0.5,IF(Tabla2[[#This Row],[Nivel de acceso ]]=\"Medio\",0.3,IF(Tabla2[[#This Row],[Nivel de acceso ]]=\"Bajo\",0.2,\"\")))","v":""},null,{"$f":"+IF(Tabla2[[#This Row],[Es  Reservada]]=\"Sí\",\"Escriba Ley\",\"No Aplica\")","v":"No Aplica"},null,null,null,null,{"$f":"IFERROR(IF(AND(Tabla2[[#This Row],[Contiene Datos Personales]]=\"SÍ\",OR(Tabla2[[#This Row],[Clasificación Datos Personales]]=\"Sensible\",Tabla2[[#This Row],[Clasificación Datos Personales]]=\"NNA\",Tabla2[[#This Row],[Clasificación Datos Personales]]=\"privado\")),\"Alto\",IF(AND(Tabla2[[#This Row],[Contiene Datos Personales]]=\"SÍ\",Tabla2[[#This Row],[Clasificación Datos Personales]]=\"SEMIPRIVADO\"),\"Medio\",\"Bajo\")),\"\")","v":"Bajo"},null,null,"No Aplica","No Aplica",null,null,null,{"$f":"+IF(Tabla2[[#This Row],[Integridad]]=\"Grave\",0.5,IF(Tabla2[[#This Row],[Integridad]]=\"Importante\",0.3,IF(Tabla2[[#This Row],[Integridad]]=\"Leve\",0.2,\"\")))","v":""},null,{"$f":"+IF(Tabla2[[#This Row],[Disponibilidad Interna]]=\"Sí\",0.1,IF(Tabla2[[#This Row],[Disponibilidad Interna]]=\"NO\",0,\"\"))","v":""},null,{"$f":"+IF(Tabla2[[#This Row],[Disponibilidad Terceros]]=\"Sí\",0.1,IF(Tabla2[[#This Row],[Disponibilidad Terceros]]=\"No\",0,\"\"))","v":""},{"$f":"+Tabla2[[#This Row],[Columna32]]+Tabla2[[#This Row],[Columna34]]+Tabla2[[#This Row],[Columna1]]+Tabla2[[#This Row],[Columna3]]","v":{"$error":"#VALUE!"}},{"$f":"IFERROR(IF(Tabla2[[#This Row],[Columna33]]<0.45,\"BAJA\",IF(Tabla2[[#This Row],[Columna33]]>0.75,\"ALTA\",\"MEDIA\")),\"\")","v":""},"No Aplica",{"$f":"+IF(Tabla2[[#This Row],[Información Publicada (WEB)]]=\"Sí\",\"Digite URL\",\"No Aplica\")","v":"No Aplica"},null,{"$f":"IF(Tabla2[[#This Row],[ Clasificación ICBF]]=\"Pública\",1,IF(Tabla2[[#This Row],[ Clasificación ICBF]]=\"Clasificada\",2,IF(Tabla2[[#This Row],[ Clasificación ICBF]]=\"Reservada\",3,0)))","v":0},{"$f":"IF(#REF!=8,4,IF(#REF!=16,3,IF(#REF!=24,2,IF(#REF!=48,1,0))))","v":{"$error":"#REF!"}},{"$f":"IF(#REF!=8,\"Alto\",IF(#REF!=16,\"Medio\",IF(#REF!=24,\"Medio\",IF(#REF!=48,\"Bajo\",0))))","v":{"$error":"#REF!"}},null,{"$f":"+MID(Tabla2[[#This Row],[Área/Dependencia]],17,8)","v":""}]
["",null,null,null,{"$f":"+VLOOKUP(Tabla2[[#This Row],[SEDE - REGIONAL]],DATOS!B117:D150,3,FALSE)","v":{"$error":"#N/A"}},{"$f":"+IF(OR(Tabla2[[#This Row],[Área/Dependencia]]=\"Subdirección de Sistemas Integrados\",Tabla2[[#This Row],[Área/Dependencia]]=\"Subdirección de Recursos Tecnológicos\"),\"X\",\"\")","v":""},{"$f":"+CONCATENATE(Tabla2[[#This Row],[Tipo de Proceso]],Tabla2[[#This Row],[Columna4]])","v":{"$error":"#N/A"}},null,null,null,null,null,null,null,null,null,null,null,null,null,{"$f":"+IF(Tabla2[[#This Row],[Nivel de acceso ]]=\"Alto\",0.5,IF(Tabla2[[#This Row],[Nivel de acceso ]]=\"Medio\",0.3,IF(Tabla2[[#This Row],[Nivel de acceso ]]=\"Bajo\",0.2,\"\")))","v":""},null,{"$f":"+IF(Tabla2[[#This Row],[Es  Reservada]]=\"Sí\",\"Escriba Ley\",\"No Aplica\")","v":"No Aplica"},null,null,null,null,{"$f":"IFERROR(IF(AND(Tabla2[[#This Row],[Contiene Datos Personales]]=\"SÍ\",OR(Tabla2[[#This Row],[Clasificación Datos Personales]]=\"Sensible\",Tabla2[[#This Row],[Clasificación Datos Personales]]=\"NNA\",Tabla2[[#This Row],[Clasificación Datos Personales]]=\"privado\")),\"Alto\",IF(AND(Tabla2[[#This Row],[Contiene Datos Personales]]=\"SÍ\",Tabla2[[#This Row],[Clasificación Datos Personales]]=\"SEMIPRIVADO\"),\"Medio\",\"Bajo\")),\"\")","v":"Bajo"},null,null,"No Aplica","No Aplica",null,null,null,{"$f":"+IF(Tabla2[[#This Row],[Integridad]]=\"Grave\",0.5,IF(Tabla2[[#This Row],[Integridad]]=\"Importante\",0.3,IF(Tabla2[[#This Row],[Integridad]]=\"Leve\",0.2,\"\")))","v":""},null,{"$f":"+IF(Tabla2[[#This Row],[Disponibilidad Interna]]=\"Sí\",0.1,IF(Tabla2[[#This Row],[Disponibilidad Interna]]=\"NO\",0,\"\"))","v":""},null,{"$f":"+IF(Tabla2[[#This Row],[Disponibilidad Terceros]]=\"Sí\",0.1,IF(Tabla2[[#This Row],[Disponibilidad Terceros]]=\"No\",0,\"\"))","v":""},{"$f":"+Tabla2[[#This Row],[Columna32]]+Tabla2[[#This Row],[Columna34]]+Tabla2[[#This Row],[Columna1]]+Tabla2[[#This Row],[Columna3]]","v":{"$error":"#VALUE!"}},{"$f":"IFERROR(IF(Tabla2[[#This Row],[Columna33]]<0.45,\"BAJA\",IF(Tabla2[[#This Row],[Columna33]]>0.75,\"ALTA\",\"MEDIA\")),\"\")","v":""},"No Aplica",{"$f":"+IF(Tabla2[[#This Row],[Información Publicada (WEB)]]=\"Sí\",\"Digite URL\",\"No Aplica\")","v":"No Aplica"},null,{"$f":"IF(Tabla2[[#This Row],[ Clasificación ICBF]]=\"Pública\",1,IF(Tabla2[[#This Row],[ Clasificación ICBF]]=\"Clasificada\",2,IF(Tabla2[[#This Row],[ Clasificación ICBF]]=\"Reservada\",3,0)))","v":0},{"$f":"IF(#REF!=8,4,IF(#REF!=16,3,IF(#REF!=24,2,IF(#REF!=48,1,0))))","v":{"$error":"#REF!"}},{"$f":"IF(#REF!=8,\"Alto\",IF(#REF!=16,\"Medio\",IF(#REF!=24,\"Medio\",IF(#REF!=48,\"Bajo\",0))))","v":{"$error":"#REF!"}},null,{"$f":"+MID(Tabla2[[#This Row],[Área/Dependencia]],17,8)","v":""}]
["",null,null,null,{"$f":"+VLOOKUP(Tabla2[[#This Row],[SEDE - REGIONAL]],DATOS!B118:D151,3,FALSE)","v":{"$error":"#N/A"}},{"$f":"+IF(OR(Tabla2[[#This Row],[Área/Dependencia]]=\"Subdirección de Sistemas Integrados\",Tabla2[[#This Row],[Área/Dependencia]]=\"Subdirección de Recursos Tecnológicos\"),\"X\",\"\")","v":""},{"$f":"+CONCATENATE(Tabla2[[#This Row],[Tipo de Proceso]],Tabla2[[#This Row],[Columna4]])","v":{"$error":"#N/A"}},null,null,null,null,null,null,null,null,null,null,null,null,null,{"$f":"+IF(Tabla2[[#This Row],[Nivel de acceso ]]=\"Alto\",0.5,IF(Tabla2[[#This Row],[Nivel de acceso ]]=\"Medio\",0.3,IF(Tabla2[[#This Row],[Nivel de acceso ]]=\"Bajo\",0.2,\"\")))","v":""},null,{"$f":"+IF(Tabla2[[#This Row],[Es  Reservada]]=\"Sí\",\"Escriba Ley\",\"No Aplica\")","v":"No Aplica"},null,null,null,null,{"$f":"IFERROR(IF(AND(Tabla2[[#This Row],[Contiene Datos Personales]]=\"SÍ\",OR(Tabla2[[#This Row],[Clasificación Datos Personales]]=\"Sensible\",Tabla2[[#This Row],[Clasificación Datos Personales]]=\"NNA\",Tabla2[[#This Row],[Clasificación Datos Personales]]=\"privado\")),\"Alto\",IF(AND(Tabla2[[#This Row],[Contiene Datos Personales]]=\"SÍ\",Tabla2[[#This Row],[Clasificación Datos Personales]]=\"SEMIPRIVADO\"),\"Medio\",\"Bajo\")),\"\")","v":"Bajo"},null,null,"No Aplica","No Aplica",null,null,null,{"$f":"+IF(Tabla2[[#This Row],[Integridad]]=\"Grave\",0.5,IF(Tabla2[[#This Row],[Integridad]]=\"Importante\",0.3,IF(Tabla2[[#This Row],[Integridad]]=\"Leve\",0.2,\"\")))","v":""},null,{"$f":"+IF(Tabla2[[#This Row],[Disponibilidad Interna]]=\"Sí\",0.1,IF(Tabla2[[#This Row],[Disponibilidad Interna]]=\"NO\",0,\"\"))","v":""},null,{"$f":"+IF(Tabla2[[#This Row],[Disponibilidad Terceros]]=\"Sí\",0.1,IF(Tabla2[[#This Row],[Disponibilidad Terceros]]=\"No\",0,\"\"))","v":""},{"$f":"+Tabla2[[#This Row],[Columna32]]+Tabla2[[#This Row],[Columna34]]+Tabla2[[#This Row],[Columna1]]+Tabla2[[#This Row],[Columna3]]","v":{"$error":"#VALUE!"}},{"$f":"IFERROR(IF(Tabla2[[#This Row],[Columna33]]<0.45,\"BAJA\",IF(Tabla2[[#This Row],[Columna33]]>0.75,\"ALTA\",\"MEDIA\")),\"\")","v":""},"No Aplica",{"$f":"+IF(Tabla2[[#This Row],[Información Publicada (WEB)]]=\"Sí\",\"Digite URL\",\"No Aplica\")","v":"No Aplica"},null,{"$f":"IF(Tabla2[[#This Row],[ Clasificación ICBF]]=\"Pública\",1,IF(Tabla2[[#This Row],[ Clasificación ICBF]]=\"Clasificada\",2,IF(Tabla2[[#This Row],[ Clasificación ICBF]]=\"Reservada\",3,0)))","v":0},{"$f":"IF(#REF!=8,4,IF(#REF!=16,3,IF(#REF!=24,2,IF(#REF!=48,1,0))))","v":{"$error":"#REF!"}},{"$f":"IF(#REF!=8,\"Alto\",IF(#REF!=16,\"Medio\",IF(#REF!=24,\"Medio\",IF(#REF!=48,\"Bajo\",0))))","v":{"$error":"#REF!"}},null,{"$f":"+MID(Tabla2[[#This Row],[Área/Dependencia]],17,8)","v":""}]
["",null,null,null,{"$f":"+VLOOKUP(Tabla2[[#This Row],[SEDE - REGIONAL]],DATOS!B119:D152,3,FALSE)","v":{"$error":"#N/A"}},{"$f":"+IF(OR(Tabla2[[#This Row],[Área/Dependencia]]=\"Subdirección de Sistemas Integrados\",Tabla2[[#This Row],[Área/Dependencia]]=\"Subdirección de Recursos Tecnológicos\"),\"X\",\"\")","v":""},{"$f":"+CONCATENATE(Tabla2[[#This Row],[Tipo de Proceso]],Tabla2[[#This Row],[Columna4]])","v":{"$error":"#N/A"}},null,null,null,null,null,null,null,null,null,null,null,null,null,{"$f":"+IF(Tabla2[[#This Row],[Nivel de acceso ]]=\"Alto\",0.5,IF(Tabla2[[#This Row],[Nivel de acceso ]]=\"Medio\",0.3,IF(Tabla2[[#This Row],[Nivel de acceso ]]=\"Bajo\",0.2,\"\")))","v":""},null,{"$f":"+IF(Tabla2[[#This Row],[Es  Reservada]]=\"Sí\",\"Escriba Ley\",\"No Aplica\")","v":"No Aplica"},null,null,null,null,{"$f":"IFERROR(IF(AND(Tabla2[[#This Row],[Contiene Datos Personales]]=\"SÍ\",OR(Tabla2[[#This Row],[Clasificación Datos Personales]]=\"Sensible\",Tabla2[[#This Row],[Clasificación Datos Personales]]=\"NNA\",Tabla2[[#This Row],[Clasificación Datos Personales]]=\"privado\")),\"Alto\",IF(AND(Tabla2[[#This Row],[Contiene Datos Personales]]=\"SÍ\",Tabla2[[#This Row],[Clasificación Datos Personales]]=\"SEMIPRIVADO\"),\"Medio\",\"Bajo\")),\"\")","v":"Bajo"},null,null,"No Aplica","No Aplica",null,null,null,{"$f":"+IF(Tabla2[[#This Row],[Integridad]]=\"Grave\",0.5,IF(Tabla2[[#This Row],[Integridad]]=\"Importante\",0.3,IF(Tabla2[[#This Row],[Integridad]]=\"Leve\",0.2,\"\")))","v":""},null,{"$f":"+IF(Tabla2[[#This Row],[Disponibilidad Interna]]=\"Sí\",0.1,IF(Tabla2[[#This Row],[Disponibilidad Interna]]=\"NO\",0,\"\"))","v":""},null,{"$f":"+IF(Tabla2[[#This Row],[Disponibilidad Terceros]]=\"Sí\",0.1,IF(Tabla2[[#This Row],[Disponibilidad Terceros]]=\"No\",0,\"\"))","v":""},{"$f":"+Tabla2[[#This Row],[Columna32]]+Tabla2[[#This Row],[Columna34]]+Tabla2[[#This Row],[Columna1]]+Tabla2[[#This Row],[Columna3]]","v":{"$error":"#VALUE!"}},{"$f":"IFERROR(IF(Tabla2[[#This Row],[Columna33]]<0.45,\"BAJA\",IF(Tabla2[[#This Row],[Columna33]]>0.75,\"ALTA\",\"MEDIA\")),\"\")","v":""},"No Aplica",{"$f":"+IF(Tabla2[[#This Row],[Información Publicada (WEB)]]=\"Sí\",\"Digite URL\",\"No Aplica\")","v":"No Aplica"},null,{"$f":"IF(Tabla2[[#This Row],[ Clasificación ICBF]]=\"Pública\",1,IF(Tabla2[[#This Row],[ Clasificación ICBF]]=\"Clasificada\",2,IF(Tabla2[[#This Row],[ Clasificación ICBF]]=\"Reservada\",3,0)))","v":0},{"$f":"IF(#REF!=8,4,IF(#REF!=16,3,IF(#REF!=24,2,IF(#REF!=48,1,0))))","v":{"$error":"#REF!"}},{"$f":"IF(#REF!=8,\"Alto\",IF(#REF!=16,\"Medio\",IF(#REF!=24,\"Medio\",IF(#REF!=48,\"Bajo\",0))))","v":{"$error":"#REF!"}},null,{"$f":"+MID(Tabla2[[#This Row],[Área/Dependencia]],17,8)","v":""}]
["",null,null,null,{"$f":"+VLOOKUP(Tabla2[[#This Row],[SEDE - REGIONAL]],DATOS!B120:D153,3,FALSE)","v":{"$error":"#N/A"}},{"$f":"+IF(OR(Tabla2[[#This Row],[Área/Dependencia]]=\"Subdirección de Sistemas Integrados\",Tabla2[[#This Row],[Área/Dependencia]]=\"Subdirección de Recursos Tecnológicos\"),\"X\",\"\")","v":""},{"$f":"+CONCATENATE(Tabla2[[#This Row],[Tipo de Proceso]],Tabla2[[#This Row],[Columna4]])","v":{"$error":"#N/A"}},null,null,null,null,null,null,null,null,null,null,null,null,null,{"$f":"+IF(Tabla2[[#This Row],[Nivel de acceso ]]=\"Alto\",0.5,IF(Tabla2[[#This Row],[Nivel de acceso ]]=\"Medio\",0.3,IF(Tabla2[[#This Row],[Nivel de acceso ]]=\"Bajo\",0.2,\"\")))","v":""},null,{"$f":"+IF(Tabla2[[#This Row],[Es  Reservada]]=\"Sí\",\"Escriba Ley\",\"No Aplica\")","v":"No Aplica"},null,null,null,null,{"$f":"IFERROR(IF(AND(Tabla2[[#This Row],[Contiene Datos Personales]]=\"SÍ\",OR(Tabla2[[#This Row],[Clasificación Datos Personales]]=\"Sensible\",Tabla2[[#This Row],[Clasificación Datos Personales]]=\"NNA\",Tabla2[[#This Row],[Clasificación Datos Personales]]=\"privado\")),\"Alto\",IF(AND(Tabla2[[#This Row],[Contiene Datos Personales]]=\"SÍ\",Tabla2[[#This Row],[Clasificación Datos Personales]]=\"SEMIPRIVADO\"),\"Medio\",\"Bajo\")),\"\")","v":"Bajo"},null,null,"No Aplica","No Aplica",null,null,null,{"$f":"+IF(Tabla2[[#This Row],[Integridad]]=\"Grave\",0.5,IF(Tabla2[[#This Row],[Integridad]]=\"Importante\",0.3,IF(Tabla2[[#This Row],[Integridad]]=\"Leve\",0.2,\"\")))","v":""},null,{"$f":"+IF(Tabla2[[#This Row],[Disponibilidad Interna]]=\"Sí\",0.1,IF(Tabla2[[#This Row],[Disponibilidad Interna]]=\"NO\",0,\"\"))","v":""},null,{"$f":"+IF(Tabla2[[#This Row],[Disponibilidad Terceros]]=\"Sí\",0.1,IF(Tabla2[[#This Row],[Disponibilidad Terceros]]=\"No\",0,\"\"))","v":""},{"$f":"+Tabla2[[#This Row],[Columna32]]+Tabla2[[#This Row],[Columna34]]+Tabla2[[#This Row],[Columna1]]+Tabla2[[#This Row],[Columna3]]","v":{"$error":"#VALUE!"}},{"$f":"IFERROR(IF(Tabla2[[#This Row],[Columna33]]<0.45,\"BAJA\",IF(Tabla2[[#This Row],[Columna33]]>0.75,\"ALTA\",\"MEDIA\")),\"\")","v":""},"No Aplica",{"$f":"+IF(Tabla2[[#This Row],[Información Publicada (WEB)]]=\"Sí\",\"Digite URL\",\"No Aplica\")","v":"No Aplica"},null,{"$f":"IF(Tabla2[[#This Row],[ Clasificación ICBF]]=\"Pública\",1,IF(Tabla2[[#This Row],[ Clasificación ICBF]]=\"Clasificada\",2,IF(Tabla2[[#This Row],[ Clasificación ICBF]]=\"Reservada\",3,0)))","v":0},{"$f":"IF(#REF!=8,4,IF(#REF!=16,3,IF(#REF!=24,2,IF(#REF!=48,1,0))))","v":{"$error":"#REF!"}},{"$f":"IF(#REF!=8,\"Alto\",IF(#REF!=16,\"Medio\",IF(#REF!=24,\"Medio\",IF(#REF!=48,\"Bajo\",0))))","v":{"$error":"#REF!"}},null,{"$f":"+MID(Tabla2[[#This Row],[Área/Dependencia]],17,8)","v":""}]
["",null,null,null,{"$f":"+VLOOKUP(Tabla2[[#This Row],[SEDE - REGIONAL]],DATOS!B121:D154,3,FALSE)","v":{"$error":"#N/A"}},{"$f":"+IF(OR(Tabla2[[#This Row],[Área/Dependencia]]=\"Subdirección de Sistemas Integrados\",Tabla2[[#This Row],[Área/Dependencia]]=\"Subdirección de Recursos Tecnológicos\"),\"X\",\"\")","v":""},{"$f":"+CONCATENATE(Tabla2[[#This Row],[Tipo de Proceso]],Tabla2[[#This Row],[Columna4]])","v":{"$error":"#N/A"}},null,null,null,null,null,null,null,null,null,null,null,null,null,{"$f":"+IF(Tabla2[[#This Row],[Nivel de acceso ]]=\"Alto\",0.5,IF(Tabla2[[#This Row],[Nivel de acceso ]]=\"Medio\",0.3,IF(Tabla2[[#This Row],[Nivel de acceso ]]=\"Bajo\",0.2,\"\")))","v":""},null,{"$f":"+IF(Tabla2[[#This Row],[Es  Reservada]]=\"Sí\",\"Escriba Ley\",\"No Aplica\")","v":"No Aplica"},null,null,null,null,{"$f":"IFERROR(IF(AND(Tabla2[[#This Row],[Contiene Datos Personales]]=\"SÍ\",OR(Tabla2[[#This Row],[Clasificación Datos Personales]]=\"Sensible\",Tabla2[[#This Row],[Clasificación Datos Personales]]=\"NNA\",Tabla2[[#This Row],[Clasificación Datos Personales]]=\"privado\")),\"Alto\",IF(AND(Tabla2[[#This Row],[Contiene Datos Personales]]=\"SÍ\",Tabla2[[#This Row],[Clasificación Datos Personales]]=\"SEMIPRIVADO\"),\"Medio\",\"Bajo\")),\"\")","v":"Bajo"},null,null,"No Aplica","No Aplica",null,null,null,{"$f":"+IF(Tabla2[[#This Row],[Integridad]]=\"Grave\",0.5,IF(Tabla2[[#This Row],[Integridad]]=\"Importante\",0.3,IF(Tabla2[[#This Row],[Integridad]]=\"Leve\",0.2,\"\")))","v":""},null,{"$f":"+IF(Tabla2[[#This Row],[Disponibilidad Interna]]=\"Sí\",0.1,IF(Tabla2[[#This Row],[Disponibilidad Interna]]=\"NO\",0,\"\"))","v":""},null,{"$f":"+IF(Tabla2[[#This Row],[Disponibilidad Terceros]]=\"Sí\",0.1,IF(Tabla2[[#This Row],[Disponibilidad Terceros]]=\"No\",0,\"\"))","v":""},{"$f":"+Tabla2[[#This Row],[Columna32]]+Tabla2[[#This Row],[Columna34]]+Tabla2[[#This Row],[Columna1]]+Tabla2[[#This Row],[Columna3]]","v":{"$error":"#VALUE!"}},{"$f":"IFERROR(IF(Tabla2[[#This Row],[Columna33]]<0.45,\"BAJA\",IF(Tabla2[[#This Row],[Columna33]]>0.75,\"ALTA\",\"MEDIA\")),\"\")","v":""},"No Aplica",{"$f":"+IF(Tabla2[[#This Row],[Información Publicada (WEB)]]=\"Sí\",\"Digite URL\",\"No Aplica\")","v":"No Aplica"},null,{"$f":"IF(Tabla2[[#This Row],[ Clasificación ICBF]]=\"Pública\",1,IF(Tabla2[[#This Row],[ Clasificación ICBF]]=\"Clasificada\",2,IF(Tabla2[[#This Row],[ Clasificación ICBF]]=\"Reservada\",3,0)))","v":0},{"$f":"IF(#REF!=8,4,IF(#REF!=16,3,IF(#REF!=24,2,IF(#REF!=48,1,0))))","v":{"$error":"#REF!"}},{"$f":"IF(#REF!=8,\"Alto\",IF(#REF!=16,\"Medio\",IF(#REF!=24,\"Medio\",IF(#REF!=48,\"Bajo\",0))))","v":{"$error":"#REF!"}},null,{"$f":"+MID(Tabla2[[#This Row],[Área/Dependencia]],17,8)","v":""}]
["",null,null,null,{"$f":"+VLOOKUP(Tabla2[[#This Row],[SEDE - REGIONAL]],DATOS!B122:D155,3,FALSE)","v":{"$error":"#N/A"}},{"$f":"+IF(OR(Tabla2[[#This Row],[Área/Dependencia]]=\"Subdirección de Sistemas Integrados\",Tabla2[[#This Row],[Área/Dependencia]]=\"Subdirección de Recursos Tecnológicos\"),\"X\",\"\")","v":""},{"$f":"+CONCATENATE(Tabla2[[#This Row],[Tipo de Proceso]],Tabla2[[#This Row],[Columna4]])","v":{"$error":"#N/A"}},null,null,null,null,null,null,null,null,null,null,null,null,null,{"$f":"+IF(Tabla2[[#This Row],[Nivel de acceso ]]=\"Alto\",0.5,IF(Tabla2[[#This Row],[Nivel de acceso ]]=\"Medio\",0.3,IF(Tabla2[[#This Row],[Nivel de acceso ]]=\"Bajo\",0.2,\"\")))","v":""},null,{"$f":"+IF(Tabla2[[#This Row],[Es  Reservada]]=\"Sí\",\"Escriba Ley\",\"No Aplica\")","v":"No Aplica"},null,null,null,null,{"$f":"IFERROR(IF(AND(Tabla2[[#This Row],[Contiene Datos Personales]]=\"SÍ\",OR(Tabla2[[#This Row],[Clasificación Datos Personales]]=\"Sensible\",Tabla2[[#This Row],[Clasificación Datos Personales]]=\"NNA\",Tabla2[[#This Row],[Clasificación Datos Personales]]=\"privado\")),\"Alto\",IF(AND(Tabla2[[#This Row],[Contiene Datos Personales]]=\"SÍ\",Tabla2[[#This Row],[Clasificación Datos Personales]]=\"SEMIPRIVADO\"),\"Medio\",\"Bajo\")),\"\")","v":"Bajo"},null,null,"No Aplica","No Aplica",null,null,null,{"$f":"+IF(Tabla2[[#This Row],[Integridad]]=\"Grave\",0.5,IF(Tabla2[[#This Row],[Integridad]]=\"Importante\",0.3,IF(Tabla2[[#This Row],[Integridad]]=\"Leve\",0.2,\"\")))","v":""},null,{"$f":"+IF(Tabla2[[#This Row],[Disponibilidad Interna]]=\"Sí\",0.1,IF(Tabla2[[#This Row],[Disponibilidad Interna]]=\"NO\",0,\"\"))","v":""},null,{"$f":"+IF(Tabla2[[#This Row],[Disponibilidad Terceros]]=\"Sí\",0.1,IF(Tabla2[[#This Row],[Disponibilidad Terceros]]=\"No\",0,\"\"))","v":""},{"$f":"+Tabla2[[#This Row],[Columna32]]+Tabla2[[#This Row],[Columna34]]+Tabla2[[#This Row],[Columna1]]+Tabla2[[#This Row],[Columna3]]","v":{"$error":"#VALUE!"}},{"$f":"IFERROR(IF(Tabla2[[#This Row],[Columna33]]<0.45,\"BAJA\",IF(Tabla2[[#This Row],[Columna33]]>0.75,\"ALTA\",\"MEDIA\")),\"\")","v":""},"No Aplica",{"$f":"+IF(Tabla2[[#This Row],[Información Publicada (WEB)]]=\"Sí\",\"Digite URL\",\"No Aplica\")","v":"No Aplica"},null,{"$f":"IF(Tabla2[[#This Row],[ Clasificación ICBF]]=\"Pública\",1,IF(Tabla2[[#This Row],[ Clasificación ICBF]]=\"Clasificada\",2,IF(Tabla2[[#This Row],[ Clasificación ICBF]]=\"Reservada\",3,0)))","v":0},{"$f":"IF(#REF!=8,4,IF(#REF!=16,3,IF(#REF!=24,2,IF(#REF!=48,1,0))))","v":{"$error":"#REF!"}},{"$f":"IF(#REF!=8,\"Alto\",IF(#REF!=16,\"Medio\",IF(#REF!=24,\"Medio\",IF(#REF!=48,\"Bajo\",0))))","v":{"$error":"#REF!"}},null,{"$f":"+MID(Tabla2[[#This Row],[Área/Dependencia]],17,8)","v":""}]
["",null,null,null,{"$f":"+VLOOKUP(Tabla2[[#This Row],[SEDE - REGIONAL]],DATOS!B123:D156,3,FALSE)","v":{"$error":"#N/A"}},{"$f":"+IF(OR(Tabla2[[#This Row],[Área/Dependencia]]=\"Subdirección de Sistemas Integrados\",Tabla2[[#This Row],[Área/Dependencia]]=\"Subdirección de Recursos Tecnológicos\"),\"X\",\"\")","v":""},{"$f":"+CONCATENATE(Tabla2[[#This Row],[Tipo de Proceso]],Tabla2[[#This Row],[Columna4]])","v":{"$error":"#N/A"}},null,null,null,null,null,null,null,null,null,null,null,null,null,{"$f":"+IF(Tabla2[[#This Row],[Nivel de acceso ]]=\"Alto\",0.5,IF(Tabla2[[#This Row],[Nivel de acceso ]]=\"Medio\",0.3,IF(Tabla2[[#This Row],[Nivel de acceso ]]=\"Bajo\",0.2,\"\")))","v":""},null,{"$f":"+IF(Tabla2[[#This Row],[Es  Reservada]]=\"Sí\",\"Escriba Ley\",\"No Aplica\")","v":"No Aplica"},null,null,null,null,{"$f":"IFERROR(IF(AND(Tabla2[[#This Row],[Contiene Datos Personales]]=\"SÍ\",OR(Tabla2[[#This Row],[Clasificación Datos Personales]]=\"Sensible\",Tabla2[[#This Row],[Clasificación Datos Personales]]=\"NNA\",Tabla2[[#This Row],[Clasificación Datos Personales]]=\"privado\")),\"Alto\",IF(AND(Tabla2[[#This Row],[Contiene Datos Personales]]=\"SÍ\",Tabla2[[#This Row],[Clasificación Datos Personales]]=\"SEMIPRIVADO\"),\"Medio\",\"Bajo\")),\"\")","v":"Bajo"},null,null,"No Aplica","No Aplica",null,null,null,{"$f":"+IF(Tabla2[[#This Row],[Integridad]]=\"Grave\",0.5,IF(Tabla2[[#This Row],[Integridad]]=\"Importante\",0.3,IF(Tabla2[[#This Row],[Integridad]]=\"Leve\",0.2,\"\")))","v":""},null,{"$f":"+IF(Tabla2[[#This Row],[Disponibilidad Interna]]=\"Sí\",0.1,IF(Tabla2[[#This Row],[Disponibilidad Interna]]=\"NO\",0,\"\"))","v":""},null,{"$f":"+IF(Tabla2[[#This Row],[Disponibilidad Terceros]]=\"Sí\",0.1,IF(Tabla2[[#This Row],[Disponibilidad Terceros]]=\"No\",0,\"\"))","v":""},{"$f":"+Tabla2[[#This Row],[Columna32]]+Tabla2[[#This Row],[Columna34]]+Tabla2[[#This Row],[Columna1]]+Tabla2[[#This Row],[Columna3]]","v":{"$error":"#VALUE!"}},{"$f":"IFERROR(IF(Tabla2[[#This Row],[Columna33]]<0.45,\"BAJA\",IF(Tabla2[[#This Row],[Columna33]]>0.75,\"ALTA\",\"MEDIA\")),\"\")","v":""},"No Aplica",{"$f":"+IF(Tabla2[[#This Row],[Información Publicada (WEB)]]=\"Sí\",\"Digite URL\",\"No Aplica\")","v":"No Aplica"},null,{"$f":"IF(Tabla2[[#This Row],[ Clasificación ICBF]]=\"Pública\",1,IF(Tabla2[[#This Row],[ Clasificación ICBF]]=\"Clasificada\",2,IF(Tabla2[[#This Row],[ Clasificación ICBF]]=\"Reservada\",3,0)))","v":0},{"$f":"IF(#REF!=8,4,IF(#REF!=16,3,IF(#REF!=24,2,IF(#REF!=48,1,0))))","v":{"$error":"#REF!"}},{"$f":"IF(#REF!=8,\"Alto\",IF(#REF!=16,\"Medio\",IF(#REF!=24,\"Medio\",IF(#REF!=48,\"Bajo\",0))))","v":{"$error":"#REF!"}},null,{"$f":"+MID(Tabla2[[#This Row],[Área/Dependencia]],17,8)","v":""}]
["",null,null,null,{"$f":"+VLOOKUP(Tabla2[[#This Row],[SEDE - REGIONAL]],DATOS!B124:D157,3,FALSE)","v":{"$error":"#N/A"}},{"$f":"+IF(OR(Tabla2[[#This Row],[Área/Dependencia]]=\"Subdirección de Sistemas Integrados\",Tabla2[[#This Row],[Área/Dependencia]]=\"Subdirección de Recursos Tecnológicos\"),\"X\",\"\")","v":""},{"$f":"+CONCATENATE(Tabla2[[#This Row],[Tipo de Proceso]],Tabla2[[#This Row],[Columna4]])","v":{"$error":"#N/A"}},null,null,null,null,null,null,null,null,null,null,null,null,null,{"$f":"+IF(Tabla2[[#This Row],[Nivel de acceso ]]=\"Alto\",0.5,IF(Tabla2[[#This Row],[Nivel de acceso ]]=\"Medio\",0.3,IF(Tabla2[[#This Row],[Nivel de acceso ]]=\"Bajo\",0.2,\"\")))","v":""},null,{"$f":"+IF(Tabla2[[#This Row],[Es  Reservada]]=\"Sí\",\"Escriba Ley\",\"No Aplica\")","v":"No Aplica"},null,null,null,null,{"$f":"IFERROR(IF(AND(Tabla2[[#This Row],[Contiene Datos Personales]]=\"SÍ\",OR(Tabla2[[#This Row],[Clasificación Datos Personales]]=\"Sensible\",Tabla2[[#This Row],[Clasificación Datos Personales]]=\"NNA\",Tabla2[[#This Row],[Clasificación Datos Personales]]=\"privado\")),\"Alto\",IF(AND(Tabla2[[#This Row],[Contiene Datos Personales]]=\"SÍ\",Tabla2[[#This Row],[Clasificación Datos Personales]]=\"SEMIPRIVADO\"),\"Medio\",\"Bajo\")),\"\")","v":"Bajo"},null,null,"No Aplica","No Aplica",null,null,null,{"$f":"+IF(Tabla2[[#This Row],[Integridad]]=\"Grave\",0.5,IF(Tabla2[[#This Row],[Integridad]]=\"Importante\",0.3,IF(Tabla2[[#This Row],[Integridad]]=\"Leve\",0.2,\"\")))","v":""},null,{"$f":"+IF(Tabla2[[#This Row],[Disponibilidad Interna]]=\"Sí\",0.1,IF(Tabla2[[#This Row],[Disponibilidad Interna]]=\"NO\",0,\"\"))","v":""},null,{"$f":"+IF(Tabla2[[#This Row],[Disponibilidad Terceros]]=\"Sí\",0.1,IF(Tabla2[[#This Row],[Disponibilidad Terceros]]=\"No\",0,\"\"))","v":""},{"$f":"+Tabla2[[#This Row],[Columna32]]+Tabla2[[#This Row],[Columna34]]+Tabla2[[#This Row],[Columna1]]+Tabla2[[#This Row],[Columna3]]","v":{"$error":"#VALUE!"}},{"$f":"IFERROR(IF(Tabla2[[#This Row],[Columna33]]<0.45,\"BAJA\",IF(Tabla2[[#This Row],[Columna33]]>0.75,\"ALTA\",\"MEDIA\")),\"\")","v":""},"No Aplica",{"$f":"+IF(Tabla2[[#This Row],[Información Publicada (WEB)]]=\"Sí\",\"Digite URL\",\"No Aplica\")","v":"No Aplica"},null,{"$f":"IF(Tabla2[[#This Row],[ Clasificación ICBF]]=\"Pública\",1,IF(Tabla2[[#This Row],[ Clasificación ICBF]]=\"Clasificada\",2,IF(Tabla2[[#This Row],[ Clasificación ICBF]]=\"Reservada\",3,0)))","v":0},{"$f":"IF(#REF!=8,4,IF(#REF!=16,3,IF(#REF!=24,2,IF(#REF!=48,1,0))))","v":{"$error":"#REF!"}},{"$f":"IF(#REF!=8,\"Alto\",IF(#REF!=16,\"Medio\",IF(#REF!=24,\"Medio\",IF(#REF!=48,\"Bajo\",0))))","v":{"$error":"#REF!"}},null,{"$f":"+MID(Tabla2[[#This Row],[Área/Dependencia]],17,8)","v":""}]
["",null,null,null,{"$f":"+VLOOKUP(Tabla2[[#This Row],[SEDE - REGIONAL]],DATOS!B125:D158,3,FALSE)","v":{"$error":"#N/A"}},{"$f":"+IF(OR(Tabla2[[#This Row],[Área/Dependencia]]=\"Subdirección de Sistemas Integrados\",Tabla2[[#This Row],[Área/Dependencia]]=\"Subdirección de Recursos Tecnológicos\"),\"X\",\"\")","v":""},{"$f":"+CONCATENATE(Tabla2[[#This Row],[Tipo de Proceso]],Tabla2[[#This Row],[Columna4]])","v":{"$error":"#N/A"}},null,null,null,null,null,null,null,null,null,null,null,null,null,{"$f":"+IF(Tabla2[[#This Row],[Nivel de acceso ]]=\"Alto\",0.5,IF(Tabla2[[#This Row],[Nivel de acceso ]]=\"Medio\",0.3,IF(Tabla2[[#This Row],[Nivel de acceso ]]=\"Bajo\",0.2,\"\")))","v":""},null,{"$f":"+IF(Tabla2[[#This Row],[Es  Reservada]]=\"Sí\",\"Escriba Ley\",\"No Aplica\")","v":"No Aplica"},null,null,null,null,{"$f":"IFERROR(IF(AND(Tabla2[[#This Row],[Contiene Datos Personales]]=\"SÍ\",OR(Tabla2[[#This Row],[Clasificación Datos Personales]]=\"Sensible\",Tabla2[[#This Row],[Clasificación Datos Personales]]=\"NNA\",Tabla2[[#This Row],[Clasificación Datos Personales]]=\"privado\")),\"Alto\",IF(AND(Tabla2[[#This Row],[Contiene Datos Personales]]=\"SÍ\",Tabla2[[#This Row],[Clasificación Datos Personales]]=\"SEMIPRIVADO\"),\"Medio\",\"Bajo\")),\"\")","v":"Bajo"},null,null,"No Aplica","No Aplica",null,null,null,{"$f":"+IF(Tabla2[[#This Row],[Integridad]]=\"Grave\",0.5,IF(Tabla2[[#This Row],[Integridad]]=\"Importante\",0.3,IF(Tabla2[[#This Row],[Integridad]]=\"Leve\",0.2,\"\")))","v":""},null,{"$f":"+IF(Tabla2[[#This Row],[Disponibilidad Interna]]=\"Sí\",0.1,IF(Tabla2[[#This Row],[Disponibilidad Interna]]=\"NO\",0,\"\"))","v":""},null,{"$f":"+IF(Tabla2[[#This Row],[Disponibilidad Terceros]]=\"Sí\",0.1,IF(Tabla2[[#This Row],[Disponibilidad Terceros]]=\"No\",0,\"\"))","v":""},{"$f":"+Tabla2[[#This Row],[Columna32]]+Tabla2[[#This Row],[Columna34]]+Tabla2[[#This Row],[Columna1]]+Tabla2[[#This Row],[Columna3]]","v":{"$error":"#VALUE!"}},{"$f":"IFERROR(IF(Tabla2[[#This Row],[Columna33]]<0.45,\"BAJA\",IF(Tabla2[[#This Row],[Columna33]]>0.75,\"ALTA\",\"MEDIA\")),\"\")","v":""},"No Aplica",{"$f":"+IF(Tabla2[[#This Row],[Información Publicada (WEB)]]=\"Sí\",\"Digite URL\",\"No Aplica\")","v":"No Aplica"},null,{"$f":"IF(Tabla2[[#This Row],[ Clasificación ICBF]]=\"Pública\",1,IF(Tabla2[[#This Row],[ Clasificación ICBF]]=\"Clasificada\",2,IF(Tabla2[[#This Row],[ Clasificación ICBF]]=\"Reservada\",3,0)))","v":0},{"$f":"IF(#REF!=8,4,IF(#REF!=16,3,IF(#REF!=24,2,IF(#REF!=48,1,0))))","v":{"$error":"#REF!"}},{"$f":"IF(#REF!=8,\"Alto\",IF(#REF!=16,\"Medio\",IF(#REF!=24,\"Medio\",IF(#REF!=48,\"Bajo\",0))))","v":{"$error":"#REF!"}},null,{"$f":"+MID(Tabla2[[#This Row],[Área/Dependencia]],17,8)","v":""}]
["",null,null,null,{"$f":"+VLOOKUP(Tabla2[[#This Row],[SEDE - REGIONAL]],DATOS!B126:D159,3,FALSE)","v":{"$error":"#N/A"}},{"$f":"+IF(OR(Tabla2[[#This Row],[Área/Dependencia]]=\"Subdirección de Sistemas Integrados\",Tabla2[[#This Row],[Área/Dependencia]]=\"Subdirección de Recursos Tecnológicos\"),\"X\",\"\")","v":""},{"$f":"+CONCATENATE(Tabla2[[#This Row],[Tipo de Proceso]],Tabla2[[#This Row],[Columna4]])","v":{"$error":"#N/A"}},null,null,null,null,null,null,null,null,null,null,null,null,null,{"$f":"+IF(Tabla2[[#This Row],[Nivel de acceso ]]=\"Alto\",0.5,IF(Tabla2[[#This Row],[Nivel de acceso ]]=\"Medio\",0.3,IF(Tabla2[[#This Row],[Nivel de acceso ]]=\"Bajo\",0.2,\"\")))","v":""},null,{"$f":"+IF(Tabla2[[#This Row],[Es  Reservada]]=\"Sí\",\"Escriba Ley\",\"No Aplica\")","v":"No Aplica"},null,null,null,null,{"$f":"IFERROR(IF(AND(Tabla2[[#This Row],[Contiene Datos Personales]]=\"SÍ\",OR(Tabla2[[#This Row],[Clasificación Datos Personales]]=\"Sensible\",Tabla2[[#This Row],[Clasificación Datos Personales]]=\"NNA\",Tabla2[[#This Row],[Clasificación Datos Personales]]=\"privado\")),\"Alto\",IF(AND(Tabla2[[#This Row],[Contiene Datos Personales]]=\"SÍ\",Tabla2[[#This Row],[Clasificación Datos Personales]]=\"SEMIPRIVADO\"),\"Medio\",\"Bajo\")),\"\")","v":"Bajo"},null,null,"No Aplica","No Aplica",null,null,null,{"$f":"+IF(Tabla2[[#This Row],[Integridad]]=\"Grave\",0.5,IF(Tabla2[[#This Row],[Integridad]]=\"Importante\",0.3,IF(Tabla2[[#This Row],[Integridad]]=\"Leve\",0.2,\"\")))","v":""},null,{"$f":"+IF(Tabla2[[#This Row],[Disponibilidad Interna]]=\"Sí\",0.1,IF(Tabla2[[#This Row],[Disponibilidad Interna]]=\"NO\",0,\"\"))","v":""},null,{"$f":"+IF(Tabla2[[#This Row],[Disponibilidad Terceros]]=\"Sí\",0.1,IF(Tabla2[[#This Row],[Disponibilidad Terceros]]=\"No\",0,\"\"))","v":""},{"$f":"+Tabla2[[#This Row],[Columna32]]+Tabla2[[#This Row],[Columna34]]+Tabla2[[#This Row],[Columna1]]+Tabla2[[#This Row],[Columna3]]","v":{"$error":"#VALUE!"}},{"$f":"IFERROR(IF(Tabla2[[#This Row],[Columna33]]<0.45,\"BAJA\",IF(Tabla2[[#This Row],[Columna33]]>0.75,\"ALTA\",\"MEDIA\")),\"\")","v":""},"No Aplica",{"$f":"+IF(Tabla2[[#This Row],[Información Publicada (WEB)]]=\"Sí\",\"Digite URL\",\"No Aplica\")","v":"No Aplica"},null,{"$f":"IF(Tabla2[[#This Row],[ Clasificación ICBF]]=\"Pública\",1,IF(Tabla2[[#This Row],[ Clasificación ICBF]]=\"Clasificada\",2,IF(Tabla2[[#This Row],[ Clasificación ICBF]]=\"Reservada\",3,0)))","v":0},{"$f":"IF(#REF!=8,4,IF(#REF!=16,3,IF(#REF!=24,2,IF(#REF!=48,1,0))))","v":{"$error":"#REF!"}},{"$f":"IF(#REF!=8,\"Alto\",IF(#REF!=16,\"Medio\",IF(#REF!=24,\"Medio\",IF(#REF!=48,\"Bajo\",0))))","v":{"$error":"#REF!"}},null,{"$f":"+MID(Tabla2[[#This Row],[Área/Dependencia]],17,8)","v":""}]
["",null,null,null,{"$f":"+VLOOKUP(Tabla2[[#This Row],[SEDE - REGIONAL]],DATOS!B127:D160,3,FALSE)","v":{"$error":"#N/A"}},{"$f":"+IF(OR(Tabla2[[#This Row],[Área/Dependencia]]=\"Subdirección de Sistemas Integrados\",Tabla2[[#This Row],[Área/Dependencia]]=\"Subdirección de Recursos Tecnológicos\"),\"X\",\"\")","v":""},{"$f":"+CONCATENATE(Tabla2[[#This Row],[Tipo de Proceso]],Tabla2[[#This Row],[Columna4]])","v":{"$error":"#N/A"}},null,null,null,null,null,null,null,null,null,null,null,null,null,{"$f":"+IF(Tabla2[[#This Row],[Nivel de acceso ]]=\"Alto\",0.5,IF(Tabla2[[#This Row],[Nivel de acceso ]]=\"Medio\",0.3,IF(Tabla2[[#This Row],[Nivel de acceso ]]=\"Bajo\",0.2,\"\")))","v":""},null,{"$f":"+IF(Tabla2[[#This Row],[Es  Reservada]]=\"Sí\",\"Escriba Ley\",\"No Aplica\")","v":"No Aplica"},null,null,null,null,{"$f":"IFERROR(IF(AND(Tabla2[[#This Row],[Contiene Datos Personales]]=\"SÍ\",OR(Tabla2[[#This Row],[Clasificación Datos Personales]]=\"Sensible\",Tabla2[[#This Row],[Clasificación Datos Personales]]=\"NNA\",Tabla2[[#This Row],[Clasificación Datos Personales]]=\"privado\")),\"Alto\",IF(AND(Tabla2[[#This Row],[Contiene Datos Personales]]=\"SÍ\",Tabla2[[#This Row],[Clasificación Datos Personales]]=\"SEMIPRIVADO\"),\"Medio\",\"Bajo\")),\"\")","v":"Bajo"},null,null,"No Aplica","No Aplica",null,null,null,{"$f":"+IF(Tabla2[[#This Row],[Integridad]]=\"Grave\",0.5,IF(Tabla2[[#This Row],[Integridad]]=\"Importante\",0.3,IF(Tabla2[[#This Row],[Integridad]]=\"Leve\",0.2,\"\")))","v":""},null,{"$f":"+IF(Tabla2[[#This Row],[Disponibilidad Interna]]=\"Sí\",0.1,IF(Tabla2[[#This Row],[Disponibilidad Interna]]=\"NO\",0,\"\"))","v":""},null,{"$f":"+IF(Tabla2[[#This Row],[Disponibilidad Terceros]]=\"Sí\",0.1,IF(Tabla2[[#This Row],[Disponibilidad Terceros]]=\"No\",0,\"\"))","v":""},{"$f":"+Tabla2[[#This Row],[Columna32]]+Tabla2[[#This Row],[Columna34]]+Tabla2[[#This Row],[Columna1]]+Tabla2[[#This Row],[Columna3]]","v":{"$error":"#VALUE!"}},{"$f":"IFERROR(IF(Tabla2[[#This Row],[Columna33]]<0.45,\"BAJA\",IF(Tabla2[[#This Row],[Columna33]]>0.75,\"ALTA\",\"MEDIA\")),\"\")","v":""},"No Aplica",{"$f":"+IF(Tabla2[[#This Row],[Información Publicada (WEB)]]=\"Sí\",\"Digite URL\",\"No Aplica\")","v":"No Aplica"},null,{"$f":"IF(Tabla2[[#This Row],[ Clasificación ICBF]]=\"Pública\",1,IF(Tabla2[[#This Row],[ Clasificación ICBF]]=\"Clasificada\",2,IF(Tabla2[[#This Row],[ Clasificación ICBF]]=\"Reservada\",3,0)))","v":0},{"$f":"IF(#REF!=8,4,IF(#REF!=16,3,IF(#REF!=24,2,IF(#REF!=48,1,0))))","v":{"$error":"#REF!"}},{"$f":"IF(#REF!=8,\"Alto\",IF(#REF!=16,\"Medio\",IF(#REF!=24,\"Medio\",IF(#REF!=48,\"Bajo\",0))))","v":{"$error":"#REF!"}},null,{"$f":"+MID(Tabla2[[#This Row],[Área/Dependencia]],17,8)","v":""}]
["",null,null,null,{"$f":"+VLOOKUP(Tabla2[[#This Row],[SEDE - REGIONAL]],DATOS!B128:D161,3,FALSE)","v":{"$error":"#N/A"}},{"$f":"+IF(OR(Tabla2[[#This Row],[Área/Dependencia]]=\"Subdirección de Sistemas Integrados\",Tabla2[[#This Row],[Área/Dependencia]]=\"Subdirección de Recursos Tecnológicos\"),\"X\",\"\")","v":""},{"$f":"+CONCATENATE(Tabla2[[#This Row],[Tipo de Proceso]],Tabla2[[#This Row],[Columna4]])","v":{"$error":"#N/A"}},null,null,null,null,null,null,null,null,null,null,null,null,null,{"$f":"+IF(Tabla2[[#This Row],[Nivel de acceso ]]=\"Alto\",0.5,IF(Tabla2[[#This Row],[Nivel de acceso ]]=\"Medio\",0.3,IF(Tabla2[[#This Row],[Nivel de acceso ]]=\"Bajo\",0.2,\"\")))","v":""},null,{"$f":"+IF(Tabla2[[#This Row],[Es  Reservada]]=\"Sí\",\"Escriba Ley\",\"No Aplica\")","v":"No Aplica"},null,null,null,null,{"$f":"IFERROR(IF(AND(Tabla2[[#This Row],[Contiene Datos Personales]]=\"SÍ\",OR(Tabla2[[#This Row],[Clasificación Datos Personales]]=\"Sensible\",Tabla2[[#This Row],[Clasificación Datos Personales]]=\"NNA\",Tabla2[[#This Row],[Clasificación Datos Personales]]=\"privado\")),\"Alto\",IF(AND(Tabla2[[#This Row],[Contiene Datos Personales]]=\"SÍ\",Tabla2[[#This Row],[Clasificación Datos Personales]]=\"SEMIPRIVADO\"),\"Medio\",\"Bajo\")),\"\")","v":"Bajo"},null,null,"No Aplica","No Aplica",null,null,null,{"$f":"+IF(Tabla2[[#This Row],[Integridad]]=\"Grave\",0.5,IF(Tabla2[[#This Row],[Integridad]]=\"Importante\",0.3,IF(Tabla2[[#This Row],[Integridad]]=\"Leve\",0.2,\"\")))","v":""},null,{"$f":"+IF(Tabla2[[#This Row],[Disponibilidad Interna]]=\"Sí\",0.1,IF(Tabla2[[#This Row],[Disponibilidad Interna]]=\"NO\",0,\"\"))","v":""},null,{"$f":"+IF(Tabla2[[#This Row],[Disponibilidad Terceros]]=\"Sí\",0.1,IF(Tabla2[[#This Row],[Disponibilidad Terceros]]=\"No\",0,\"\"))","v":""},{"$f":"+Tabla2[[#This Row],[Columna32]]+Tabla2[[#This Row],[Columna34]]+Tabla2[[#This Row],[Columna1]]+Tabla2[[#This Row],[Columna3]]","v":{"$error":"#VALUE!"}},{"$f":"IFERROR(IF(Tabla2[[#This Row],[Columna33]]<0.45,\"BAJA\",IF(Tabla2[[#This Row],[Columna33]]>0.75,\"ALTA\",\"MEDIA\")),\"\")","v":""},"No Aplica",{"$f":"+IF(Tabla2[[#This Row],[Información Publicada (WEB)]]=\"Sí\",\"Digite URL\",\"No Aplica\")","v":"No Aplica"},null,{"$f":"IF(Tabla2[[#This Row],[ Clasificación ICBF]]=\"Pública\",1,IF(Tabla2[[#This Row],[ Clasificación ICBF]]=\"Clasificada\",2,IF(Tabla2[[#This Row],[ Clasificación ICBF]]=\"Reservada\",3,0)))","v":0},{"$f":"IF(#REF!=8,4,IF(#REF!=16,3,IF(#REF!=24,2,IF(#REF!=48,1,0))))","v":{"$error":"#REF!"}},{"$f":"IF(#REF!=8,\"Alto\",IF(#REF!=16,\"Medio\",IF(#REF!=24,\"Medio\",IF(#REF!=48,\"Bajo\",0))))","v":{"$error":"#REF!"}},null,{"$f":"+MID(Tabla2[[#This Row],[Área/Dependencia]],17,8)","v":""}]
["",null,null,null,{"$f":"+VLOOKUP(Tabla2[[#This Row],[SEDE - REGIONAL]],DATOS!B129:D162,3,FALSE)","v":{"$error":"#N/A"}},{"$f":"+IF(OR(Tabla2[[#This Row],[Área/Dependencia]]=\"Subdirección de Sistemas Integrados\",Tabla2[[#This Row],[Área/Dependencia]]=\"Subdirección de Recursos Tecnológicos\"),\"X\",\"\")","v":""},{"$f":"+CONCATENATE(Tabla2[[#This Row],[Tipo de Proceso]],Tabla2[[#This Row],[Columna4]])","v":{"$error":"#N/A"}},null,null,null,null,null,null,null,null,null,null,null,null,null,{"$f":"+IF(Tabla2[[#This Row],[Nivel de acceso ]]=\"Alto\",0.5,IF(Tabla2[[#This Row],[Nivel de acceso ]]=\"Medio\",0.3,IF(Tabla2[[#This Row],[Nivel de acceso ]]=\"Bajo\",0.2,\"\")))","v":""},null,{"$f":"+IF(Tabla2[[#This Row],[Es  Reservada]]=\"Sí\",\"Escriba Ley\",\"No Aplica\")","v":"No Aplica"},null,null,null,null,{"$f":"IFERROR(IF(AND(Tabla2[[#This Row],[Contiene Datos Personales]]=\"SÍ\",OR(Tabla2[[#This Row],[Clasificación Datos Personales]]=\"Sensible\",Tabla2[[#This Row],[Clasificación Datos Personales]]=\"NNA\",Tabla2[[#This Row],[Clasificación Datos Personales]]=\"privado\")),\"Alto\",IF(AND(Tabla2[[#This Row],[Contiene Datos Personales]]=\"SÍ\",Tabla2[[#This Row],[Clasificación Datos Personales]]=\"SEMIPRIVADO\"),\"Medio\",\"Bajo\")),\"\")","v":"Bajo"},null,null,"No Aplica","No Aplica",null,null,null,{"$f":"+IF(Tabla2[[#This Row],[Integridad]]=\"Grave\",0.5,IF(Tabla2[[#This Row],[Integridad]]=\"Importante\",0.3,IF(Tabla2[[#This Row],[Integridad]]=\"Leve\",0.2,\"\")))","v":""},null,{"$f":"+IF(Tabla2[[#This Row],[Disponibilidad Interna]]=\"Sí\",0.1,IF(Tabla2[[#This Row],[Disponibilidad Interna]]=\"NO\",0,\"\"))","v":""},null,{"$f":"+IF(Tabla2[[#This Row],[Disponibilidad Terceros]]=\"Sí\",0.1,IF(Tabla2[[#This Row],[Disponibilidad Terceros]]=\"No\",0,\"\"))","v":""},{"$f":"+Tabla2[[#This Row],[Columna32]]+Tabla2[[#This Row],[Columna34]]+Tabla2[[#This Row],[Columna1]]+Tabla2[[#This Row],[Columna3]]","v":{"$error":"#VALUE!"}},{"$f":"IFERROR(IF(Tabla2[[#This Row],[Columna33]]<0.45,\"BAJA\",IF(Tabla2[[#This Row],[Columna33]]>0.75,\"ALTA\",\"MEDIA\")),\"\")","v":""},"No Aplica",{"$f":"+IF(Tabla2[[#This Row],[Información Publicada (WEB)]]=\"Sí\",\"Digite URL\",\"No Aplica\")","v":"No Aplica"},null,{"$f":"IF(Tabla2[[#This Row],[ Clasificación ICBF]]=\"Pública\",1,IF(Tabla2[[#This Row],[ Clasificación ICBF]]=\"Clasificada\",2,IF(Tabla2[[#This Row],[ Clasificación ICBF]]=\"Reservada\",3,0)))","v":0},{"$f":"IF(#REF!=8,4,IF(#REF!=16,3,IF(#REF!=24,2,IF(#REF!=48,1,0))))","v":{"$error":"#REF!"}},{"$f":"IF(#REF!=8,\"Alto\",IF(#REF!=16,\"Medio\",IF(#REF!=24,\"Medio\",IF(#REF!=48,\"Bajo\",0))))","v":{"$error":"#REF!"}},null,{"$f":"+MID(Tabla2[[#This Row],[Área/Dependencia]],17,8)","v":""}]
["",null,null,null,{"$f":"+VLOOKUP(Tabla2[[#This Row],[SEDE - REGIONAL]],DATOS!B130:D163,3,FALSE)","v":{"$error":"#N/A"}},{"$f":"+IF(OR(Tabla2[[#This Row],[Área/Dependencia]]=\"Subdirección de Sistemas Integrados\",Tabla2[[#This Row],[Área/Dependencia]]=\"Subdirección de Recursos Tecnológicos\"),\"X\",\"\")","v":""},{"$f":"+CONCATENATE(Tabla2[[#This Row],[Tipo de Proceso]],Tabla2[[#This Row],[Columna4]])","v":{"$error":"#N/A"}},null,null,null,null,null,null,null,null,null,null,null,null,null,{"$f":"+IF(Tabla2[[#This Row],[Nivel de acceso ]]=\"Alto\",0.5,IF(Tabla2[[#This Row],[Nivel de acceso ]]=\"Medio\",0.3,IF(Tabla2[[#This Row],[Nivel de acceso ]]=\"Bajo\",0.2,\"\")))","v":""},null,{"$f":"+IF(Tabla2[[#This Row],[Es  Reservada]]=\"Sí\",\"Escriba Ley\",\"No Aplica\")","v":"No Aplica"},null,null,null,null,{"$f":"IFERROR(IF(AND(Tabla2[[#This Row],[Contiene Datos Personales]]=\"SÍ\",OR(Tabla2[[#This Row],[Clasificación Datos Personales]]=\"Sensible\",Tabla2[[#This Row],[Clasificación Datos Personales]]=\"NNA\",Tabla2[[#This Row],[Clasificación Datos Personales]]=\"privado\")),\"Alto\",IF(AND(Tabla2[[#This Row],[Contiene Datos Personales]]=\"SÍ\",Tabla2[[#This Row],[Clasificación Datos Personales]]=\"SEMIPRIVADO\"),\"Medio\",\"Bajo\")),\"\")","v":"Bajo"},null,null,"No Aplica","No Aplica",null,null,null,{"$f":"+IF(Tabla2[[#This Row],[Integridad]]=\"Grave\",0.5,IF(Tabla2[[#This Row],[Integridad]]=\"Importante\",0.3,IF(Tabla2[[#This Row],[Integridad]]=\"Leve\",0.2,\"\")))","v":""},null,{"$f":"+IF(Tabla2[[#This Row],[Disponibilidad Interna]]=\"Sí\",0.1,IF(Tabla2[[#This Row],[Disponibilidad Interna]]=\"NO\",0,\"\"))","v":""},null,{"$f":"+IF(Tabla2[[#This Row],[Disponibilidad Terceros]]=\"Sí\",0.1,IF(Tabla2[[#This Row],[Disponibilidad Terceros]]=\"No\",0,\"\"))","v":""},{"$f":"+Tabla2[[#This Row],[Columna32]]+Tabla2[[#This Row],[Columna34]]+Tabla2[[#This Row],[Columna1]]+Tabla2[[#This Row],[Columna3]]","v":{"$error":"#VALUE!"}},{"$f":"IFERROR(IF(Tabla2[[#This Row],[Columna33]]<0.45,\"BAJA\",IF(Tabla2[[#This Row],[Columna33]]>0.75,\"ALTA\",\"MEDIA\")),\"\")","v":""},"No Aplica",{"$f":"+IF(Tabla2[[#This Row],[Información Publicada (WEB)]]=\"Sí\",\"Digite URL\",\"No Aplica\")","v":"No Aplica"},null,{"$f":"IF(Tabla2[[#This Row],[ Clasificación ICBF]]=\"Pública\",1,IF(Tabla2[[#This Row],[ Clasificación ICBF]]=\"Clasificada\",2,IF(Tabla2[[#This Row],[ Clasificación ICBF]]=\"Reservada\",3,0)))","v":0},{"$f":"IF(#REF!=8,4,IF(#REF!=16,3,IF(#REF!=24,2,IF(#REF!=48,1,0))))","v":{"$error":"#REF!"}},{"$f":"IF(#REF!=8,\"Alto\",IF(#REF!=16,\"Medio\",IF(#REF!=24,\"Medio\",IF(#REF!=48,\"Bajo\",0))))","v":{"$error":"#REF!"}},null,{"$f":"+MID(Tabla2[[#This Row],[Área/Dependencia]],17,8)","v":""}]
["",null,null,null,{"$f":"+VLOOKUP(Tabla2[[#This Row],[SEDE - REGIONAL]],DATOS!B131:D164,3,FALSE)","v":{"$error":"#N/A"}},{"$f":"+IF(OR(Tabla2[[#This Row],[Área/Dependencia]]=\"Subdirección de Sistemas Integrados\",Tabla2[[#This Row],[Área/Dependencia]]=\"Subdirección de Recursos Tecnológicos\"),\"X\",\"\")","v":""},{"$f":"+CONCATENATE(Tabla2[[#This Row],[Tipo de Proceso]],Tabla2[[#This Row],[Columna4]])","v":{"$error":"#N/A"}},null,null,null,null,null,null,null,null,null,null,null,null,null,{"$f":"+IF(Tabla2[[#This Row],[Nivel de acceso ]]=\"Alto\",0.5,IF(Tabla2[[#This Row],[Nivel de acceso ]]=\"Medio\",0.3,IF(Tabla2[[#This Row],[Nivel de acceso ]]=\"Bajo\",0.2,\"\")))","v":""},null,{"$f":"+IF(Tabla2[[#This Row],[Es  Reservada]]=\"Sí\",\"Escriba Ley\",\"No Aplica\")","v":"No Aplica"},null,null,null,null,{"$f":"IFERROR(IF(AND(Tabla2[[#This Row],[Contiene Datos Personales]]=\"SÍ\",OR(Tabla2[[#This Row],[Clasificación Datos Personales]]=\"Sensible\",Tabla2[[#This Row],[Clasificación Datos Personales]]=\"NNA\",Tabla2[[#This Row],[Clasificación Datos Personales]]=\"privado\")),\"Alto\",IF(AND(Tabla2[[#This Row],[Contiene Datos Personales]]=\"SÍ\",Tabla2[[#This Row],[Clasificación Datos Personales]]=\"SEMIPRIVADO\"),\"Medio\",\"Bajo\")),\"\")","v":"Bajo"},null,null,{"$f":"+IF(OR(N136=\"FÍSICO-ELECTRÓNICO\",N136=\"FÍSICO\",N136=\"Hardware\"),\"Digite ubicación\",\"No Aplica\")","v":"No Aplica"},{"$f":"+IF(OR(N136=\"FÍSICO-ELECTRÓNICO\",N136=\"ELECTRÓNICO\",N136=\"Software\"),\"Digite ubicación\",\"No Aplica\")","v":"No Aplica"},null,null,null,{"$f":"+IF(Tabla2[[#This Row],[Integridad]]=\"Grave\",0.5,IF(Tabla2[[#This Row],[Integridad]]=\"Importante\",0.3,IF(Tabla2[[#This Row],[Integridad]]=\"Leve\",0.2,\"\")))","v":""},null,{"$f":"+IF(Tabla2[[#This Row],[Disponibilidad Interna]]=\"Sí\",0.1,IF(Tabla2[[#This Row],[Disponibilidad Interna]]=\"NO\",0,\"\"))","v":""},null,{"$f":"+IF(Tabla2[[#This Row],[Disponibilidad Terceros]]=\"Sí\",0.1,IF(Tabla2[[#This Row],[Disponibilidad Terceros]]=\"No\",0,\"\"))","v":""},{"$f":"+Tabla2[[#This Row],[Columna32]]+Tabla2[[#This Row],[Columna34]]+Tabla2[[#This Row],[Columna1]]+Tabla2[[#This Row],[Columna3]]","v":{"$error":"#VALUE!"}},{"$f":"IFERROR(IF(Tabla2[[#This Row],[Columna33]]<0.45,\"BAJA\",IF(Tabla2[[#This Row],[Columna33]]>0.75,\"ALTA\",\"MEDIA\")),\"\")","v":""},{"$f":"+IF(OR(N136=\"FÍSICO-ELECTRÓNICO\",N136=\"ELECTRÓNICO\"),\"Sí\",\"No Aplica\")","v":"No Aplica"},{"$f":"+IF(Tabla2[[#This Row],[Información Publicada (WEB)]]=\"Sí\",\"Digite URL\",\"No Aplica\")","v":"No Aplica"},null,{"$f":"IF(Tabla2[[#This Row],[ Clasificación ICBF]]=\"Pública\",1,IF(Tabla2[[#This Row],[ Clasificación ICBF]]=\"Clasificada\",2,IF(Tabla2[[#This Row],[ Clasificación ICBF]]=\"Reservada\",3,0)))","v":0},{"$f":"IF(#REF!=8,4,IF(#REF!=16,3,IF(#REF!=24,2,IF(#REF!=48,1,0))))","v":{"$error":"#REF!"}},{"$f":"IF(#REF!=8,\"Alto\",IF(#REF!=16,\"Medio\",IF(#REF!=24,\"Medio\",IF(#REF!=48,\"Bajo\",0))))","v":{"$error":"#REF!"}},null,{"$f":"+MID(Tabla2[[#This Row],[Área/Dependencia]],17,8)","v":""}]
["",null,null,null,{"$f":"+VLOOKUP(Tabla2[[#This Row],[SEDE - REGIONAL]],DATOS!B132:D165,3,FALSE)","v":{"$error":"#N/A"}},{"$f":"+IF(OR(Tabla2[[#This Row],[Área/Dependencia]]=\"Subdirección de Sistemas Integrados\",Tabla2[[#This Row],[Área/Dependencia]]=\"Subdirección de Recursos Tecnológicos\"),\"X\",\"\")","v":""},{"$f":"+CONCATENATE(Tabla2[[#This Row],[Tipo de Proceso]],Tabla2[[#This Row],[Columna4]])","v":{"$error":"#N/A"}},null,null,null,null,null,null,null,null,null,null,null,null,null,{"$f":"+IF(Tabla2[[#This Row],[Nivel de acceso ]]=\"Alto\",0.5,IF(Tabla2[[#This Row],[Nivel de acceso ]]=\"Medio\",0.3,IF(Tabla2[[#This Row],[Nivel de acceso ]]=\"Bajo\",0.2,\"\")))","v":""},null,{"$f":"+IF(Tabla2[[#This Row],[Es  Reservada]]=\"Sí\",\"Escriba Ley\",\"No Aplica\")","v":"No Aplica"},null,null,null,null,{"$f":"IFERROR(IF(AND(Tabla2[[#This Row],[Contiene Datos Personales]]=\"SÍ\",OR(Tabla2[[#This Row],[Clasificación Datos Personales]]=\"Sensible\",Tabla2[[#This Row],[Clasificación Datos Personales]]=\"NNA\",Tabla2[[#This Row],[Clasificación Datos Personales]]=\"privado\")),\"Alto\",IF(AND(Tabla2[[#This Row],[Contiene Datos Personales]]=\"SÍ\",Tabla2[[#This Row],[Clasificación Datos Personales]]=\"SEMIPRIVADO\"),\"Medio\",\"Bajo\")),\"\")","v":"Bajo"},null,null,"No Aplica","No Aplica",null,null,null,{"$f":"+IF(Tabla2[[#This Row],[Integridad]]=\"Grave\",0.5,IF(Tabla2[[#This Row],[Integridad]]=\"Importante\",0.3,IF(Tabla2[[#This Row],[Integridad]]=\"Leve\",0.2,\"\")))","v":""},null,{"$f":"+IF(Tabla2[[#This Row],[Disponibilidad Interna]]=\"Sí\",0.1,IF(Tabla2[[#This Row],[Disponibilidad Interna]]=\"NO\",0,\"\"))","v":""},null,{"$f":"+IF(Tabla2[[#This Row],[Disponibilidad Terceros]]=\"Sí\",0.1,IF(Tabla2[[#This Row],[Disponibilidad Terceros]]=\"No\",0,\"\"))","v":""},{"$f":"+Tabla2[[#This Row],[Columna32]]+Tabla2[[#This Row],[Columna34]]+Tabla2[[#This Row],[Columna1]]+Tabla2[[#This Row],[Columna3]]","v":{"$error":"#VALUE!"}},{"$f":"IFERROR(IF(Tabla2[[#This Row],[Columna33]]<0.45,\"BAJA\",IF(Tabla2[[#This Row],[Columna33]]>0.75,\"ALTA\",\"MEDIA\")),\"\")","v":""},"No Aplica",{"$f":"+IF(Tabla2[[#This Row],[Información Publicada (WEB)]]=\"Sí\",\"Digite URL\",\"No Aplica\")","v":"No Aplica"},null,{"$f":"IF(Tabla2[[#This Row],[ Clasificación ICBF]]=\"Pública\",1,IF(Tabla2[[#This Row],[ Clasificación ICBF]]=\"Clasificada\",2,IF(Tabla2[[#This Row],[ Clasificación ICBF]]=\"Reservada\",3,0)))","v":0},{"$f":"IF(#REF!=8,4,IF(#REF!=16,3,IF(#REF!=24,2,IF(#REF!=48,1,0))))","v":{"$error":"#REF!"}},{"$f":"IF(#REF!=8,\"Alto\",IF(#REF!=16,\"Medio\",IF(#REF!=24,\"Medio\",IF(#REF!=48,\"Bajo\",0))))","v":{"$error":"#REF!"}},null,{"$f":"+MID(Tabla2[[#This Row],[Área/Dependencia]],17,8)","v":""}]
[{"$f":"IFERROR(IF(B138<>\"\",A137+1,\"\"),\"\")","v":""},null,null,null,{"$f":"+VLOOKUP(Tabla2[[#This Row],[SEDE - REGIONAL]],DATOS!B133:D166,3,FALSE)","v":{"$error":"#N/A"}},{"$f":"+IF(OR(Tabla2[[#This Row],[Área/Dependencia]]=\"Subdirección de Sistemas Integrados\",Tabla2[[#This Row],[Área/Dependencia]]=\"Subdirección de Recursos Tecnológicos\"),\"X\",\"\")","v":""},{"$f":"+CONCATENATE(Tabla2[[#This Row],[Tipo de Proceso]],Tabla2[[#This Row],[Columna4]])","v":{"$error":"#N/A"}},null,null,null,null,null,null,null,null,null,null,null,null,null,{"$f":"+IF(Tabla2[[#This Row],[Nivel de acceso ]]=\"Alto\",0.5,IF(Tabla2[[#This Row],[Nivel de acceso ]]=\"Medio\",0.3,IF(Tabla2[[#This Row],[Nivel de acceso ]]=\"Bajo\",0.2,\"\")))","v":""},null,{"$f":"+IF(Tabla2[[#This Row],[Es  Reservada]]=\"Sí\",\"Escriba Ley\",\"No Aplica\")","v":"No Aplica"},null,null,null,null,{"$f":"IFERROR(IF(AND(Tabla2[[#This Row],[Contiene Datos Personales]]=\"SÍ\",OR(Tabla2[[#This Row],[Clasificación Datos Personales]]=\"Sensible\",Tabla2[[#This Row],[Clasificación Datos Personales]]=\"NNA\",Tabla2[[#This Row],[Clasificación Datos Personales]]=\"privado\")),\"Alto\",IF(AND(Tabla2[[#This Row],[Contiene Datos Personales]]=\"SÍ\",Tabla2[[#This Row],[Clasificación Datos Personales]]=\"SEMIPRIVADO\"),\"Medio\",\"Bajo\")),\"\")","v":"Bajo"},null,null,"No Aplica","No Aplica",null,null,null,{"$f":"+IF(Tabla2[[#This Row],[Integridad]]=\"Grave\",0.5,IF(Tabla2[[#This Row],[Integridad]]=\"Importante\",0.3,IF(Tabla2[[#This Row],[Integridad]]=\"Leve\",0.2,\"\")))","v":""},null,{"$f":"+IF(Tabla2[[#This Row],[Disponibilidad Interna]]=\"Sí\",0.1,IF(Tabla2[[#This Row],[Disponibilidad Interna]]=\"NO\",0,\"\"))","v":""},null,{"$f":"+IF(Tabla2[[#This Row],[Disponibilidad Terceros]]=\"Sí\",0.1,IF(Tabla2[[#This Row],[Disponibilidad Terceros]]=\"No\",0,\"\"))","v":""},{"$f":"+Tabla2[[#This Row],[Columna32]]+Tabla2[[#This Row],[Columna34]]+Tabla2[[#This Row],[Columna1]]+Tabla2[[#This Row],[Columna3]]","v":{"$error":"#VALUE!"}},{"$f":"IFERROR(IF(Tabla2[[#This Row],[Columna33]]<0.45,\"BAJA\",IF(Tabla2[[#This Row],[Columna33]]>0.75,\"ALTA\",\"MEDIA\")),\"\")","v":""},"No Aplica",{"$f":"+IF(Tabla2[[#This Row],[Información Publicada (WEB)]]=\"Sí\",\"Digite URL\",\"No Aplica\")","v":"No Aplica"},null,{"$f":"IF(Tabla2[[#This Row],[ Clasificación ICBF]]=\"Pública\",1,IF(Tabla2[[#This Row],[ Clasificación ICBF]]=\"Clasificada\",2,IF(Tabla2[[#This Row],[ Clasificación ICBF]]=\"Reservada\",3,0)))","v":0},{"$f":"IF(#REF!=8,4,IF(#REF!=16,3,IF(#REF!=24,2,IF(#REF!=48,1,0))))","v":{"$error":"#REF!"}},{"$f":"IF(#REF!=8,\"Alto\",IF(#REF!=16,\"Medio\",IF(#REF!=24,\"Medio\",IF(#REF!=48,\"Bajo\",0))))","v":{"$error":"#REF!"}},null,{"$f":"+MID(Tabla2[[#This Row],[Área/Dependencia]],17,8)","v":""}]
["",null,null,null,{"$f":"+VLOOKUP(Tabla2[[#This Row],[SEDE - REGIONAL]],DATOS!B134:D167,3,FALSE)","v":{"$error":"#N/A"}},{"$f":"+IF(OR(Tabla2[[#This Row],[Área/Dependencia]]=\"Subdirección de Sistemas Integrados\",Tabla2[[#This Row],[Área/Dependencia]]=\"Subdirección de Recursos Tecnológicos\"),\"X\",\"\")","v":""},{"$f":"+CONCATENATE(Tabla2[[#This Row],[Tipo de Proceso]],Tabla2[[#This Row],[Columna4]])","v":{"$error":"#N/A"}},null,null,null,null,null,null,null,null,null,null,null,null,null,{"$f":"+IF(Tabla2[[#This Row],[Nivel de acceso ]]=\"Alto\",0.5,IF(Tabla2[[#This Row],[Nivel de acceso ]]=\"Medio\",0.3,IF(Tabla2[[#This Row],[Nivel de acceso ]]=\"Bajo\",0.2,\"\")))","v":""},null,{"$f":"+IF(Tabla2[[#This Row],[Es  Reservada]]=\"Sí\",\"Escriba Ley\",\"No Aplica\")","v":"No Aplica"},null,null,null,null,{"$f":"IFERROR(IF(AND(Tabla2[[#This Row],[Contiene Datos Personales]]=\"SÍ\",OR(Tabla2[[#This Row],[Clasificación Datos Personales]]=\"Sensible\",Tabla2[[#This Row],[Clasificación Datos Personales]]=\"NNA\",Tabla2[[#This Row],[Clasificación Datos Personales]]=\"privado\")),\"Alto\",IF(AND(Tabla2[[#This Row],[Contiene Datos Personales]]=\"SÍ\",Tabla2[[#This Row],[Clasificación Datos Personales]]=\"SEMIPRIVADO\"),\"Medio\",\"Bajo\")),\"\")","v":"Bajo"},null,null,"No Aplica","No Aplica",null,null,null,{"$f":"+IF(Tabla2[[#This Row],[Integridad]]=\"Grave\",0.5,IF(Tabla2[[#This Row],[Integridad]]=\"Importante\",0.3,IF(Tabla2[[#This Row],[Integridad]]=\"Leve\",0.2,\"\")))","v":""},null,{"$f":"+IF(Tabla2[[#This Row],[Disponibilidad Interna]]=\"Sí\",0.1,IF(Tabla2[[#This Row],[Disponibilidad Interna]]=\"NO\",0,\"\"))","v":""},null,{"$f":"+IF(Tabla2[[#This Row],[Disponibilidad Terceros]]=\"Sí\",0.1,IF(Tabla2[[#This Row],[Disponibilidad Terceros]]=\"No\",0,\"\"))","v":""},{"$f":"+Tabla2[[#This Row],[Columna32]]+Tabla2[[#This Row],[Columna34]]+Tabla2[[#This Row],[Columna1]]+Tabla2[[#This Row],[Columna3]]","v":{"$error":"#VALUE!"}},{"$f":"IFERROR(IF(Tabla2[[#This Row],[Columna33]]<0.45,\"BAJA\",IF(Tabla2[[#This Row],[Columna33]]>0.75,\"ALTA\",\"MEDIA\")),\"\")","v":""},"No Aplica",{"$f":"+IF(Tabla2[[#This Row],[Información Publicada (WEB)]]=\"Sí\",\"Digite URL\",\"No Aplica\")","v":"No Aplica"},null,{"$f":"IF(Tabla2[[#This Row],[ Clasificación ICBF]]=\"Pública\",1,IF(Tabla2[[#This Row],[ Clasificación ICBF]]=\"Clasificada\",2,IF(Tabla2[[#This Row],[ Clasificación ICBF]]=\"Reservada\",3,0)))","v":0},{"$f":"IF(#REF!=8,4,IF(#REF!=16,3,IF(#REF!=24,2,IF(#REF!=48,1,0))))","v":{"$error":"#REF!"}},{"$f":"IF(#REF!=8,\"Alto\",IF(#REF!=16,\"Medio\",IF(#REF!=24,\"Medio\",IF(#REF!=48,\"Bajo\",0))))","v":{"$error":"#REF!"}},null,{"$f":"+MID(Tabla2[[#This Row],[Área/Dependencia]],17,8)","v":""}]
["",null,null,null,{"$f":"+VLOOKUP(Tabla2[[#This Row],[SEDE - REGIONAL]],DATOS!B135:D168,3,FALSE)","v":{"$error":"#N/A"}},{"$f":"+IF(OR(Tabla2[[#This Row],[Área/Dependencia]]=\"Subdirección de Sistemas Integrados\",Tabla2[[#This Row],[Área/Dependencia]]=\"Subdirección de Recursos Tecnológicos\"),\"X\",\"\")","v":""},{"$f":"+CONCATENATE(Tabla2[[#This Row],[Tipo de Proceso]],Tabla2[[#This Row],[Columna4]])","v":{"$error":"#N/A"}},null,null,null,null,null,null,null,null,null,null,null,null,null,{"$f":"+IF(Tabla2[[#This Row],[Nivel de acceso ]]=\"Alto\",0.5,IF(Tabla2[[#This Row],[Nivel de acceso ]]=\"Medio\",0.3,IF(Tabla2[[#This Row],[Nivel de acceso ]]=\"Bajo\",0.2,\"\")))","v":""},null,{"$f":"+IF(Tabla2[[#This Row],[Es  Reservada]]=\"Sí\",\"Escriba Ley\",\"No Aplica\")","v":"No Aplica"},null,null,null,null,{"$f":"IFERROR(IF(AND(Tabla2[[#This Row],[Contiene Datos Personales]]=\"SÍ\",OR(Tabla2[[#This Row],[Clasificación Datos Personales]]=\"Sensible\",Tabla2[[#This Row],[Clasificación Datos Personales]]=\"NNA\",Tabla2[[#This Row],[Clasificación Datos Personales]]=\"privado\")),\"Alto\",IF(AND(Tabla2[[#This Row],[Contiene Datos Personales]]=\"SÍ\",Tabla2[[#This Row],[Clasificación Datos Personales]]=\"SEMIPRIVADO\"),\"Medio\",\"Bajo\")),\"\")","v":"Bajo"},null,null,"No Aplica","No Aplica",null,null,null,{"$f":"+IF(Tabla2[[#This Row],[Integridad]]=\"Grave\",0.5,IF(Tabla2[[#This Row],[Integridad]]=\"Importante\",0.3,IF(Tabla2[[#This Row],[Integridad]]=\"Leve\",0.2,\"\")))","v":""},null,{"$f":"+IF(Tabla2[[#This Row],[Disponibilidad Interna]]=\"Sí\",0.1,IF(Tabla2[[#This Row],[Disponibilidad Interna]]=\"NO\",0,\"\"))","v":""},null,{"$f":"+IF(Tabla2[[#This Row],[Disponibilidad Terceros]]=\"Sí\",0.1,IF(Tabla2[[#This Row],[Disponibilidad Terceros]]=\"No\",0,\"\"))","v":""},{"$f":"+Tabla2[[#This Row],[Columna32]]+Tabla2[[#This Row],[Columna34]]+Tabla2[[#This Row],[Columna1]]+Tabla2[[#This Row],[Columna3]]","v":{"$error":"#VALUE!"}},{"$f":"IFERROR(IF(Tabla2[[#This Row],[Columna33]]<0.45,\"BAJA\",IF(Tabla2[[#This Row],[Columna33]]>0.75,\"ALTA\",\"MEDIA\")),\"\")","v":""},"No Aplica",{"$f":"+IF(Tabla2[[#This Row],[Información Publicada (WEB)]]=\"Sí\",\"Digite URL\",\"No Aplica\")","v":"No Aplica"},null,{"$f":"IF(Tabla2[[#This Row],[ Clasificación ICBF]]=\"Pública\",1,IF(Tabla2[[#This Row],[ Clasificación ICBF]]=\"Clasificada\",2,IF(Tabla2[[#This Row],[ Clasificación ICBF]]=\"Reservada\",3,0)))","v":0},{"$f":"IF(#REF!=8,4,IF(#REF!=16,3,IF(#REF!=24,2,IF(#REF!=48,1,0))))","v":{"$error":"#REF!"}},{"$f":"IF(#REF!=8,\"Alto\",IF(#REF!=16,\"Medio\",IF(#REF!=24,\"Medio\",IF(#REF!=48,\"Bajo\",0))))","v":{"$error":"#REF!"}},null,{"$f":"+MID(Tabla2[[#This Row],[Área/Dependencia]],17,8)","v":""}]
["",null,null,null,{"$f":"+VLOOKUP(Tabla2[[#This Row],[SEDE - REGIONAL]],DATOS!B136:D169,3,FALSE)","v":{"$error":"#N/A"}},{"$f":"+IF(OR(Tabla2[[#This Row],[Área/Dependencia]]=\"Subdirección de Sistemas Integrados\",Tabla2[[#This Row],[Área/Dependencia]]=\"Subdirección de Recursos Tecnológicos\"),\"X\",\"\")","v":""},{"$f":"+CONCATENATE(Tabla2[[#This Row],[Tipo de Proceso]],Tabla2[[#This Row],[Columna4]])","v":{"$error":"#N/A"}},null,null,null,null,null,null,null,null,null,null,null,null,null,{"$f":"+IF(Tabla2[[#This Row],[Nivel de acceso ]]=\"Alto\",0.5,IF(Tabla2[[#This Row],[Nivel de acceso ]]=\"Medio\",0.3,IF(Tabla2[[#This Row],[Nivel de acceso ]]=\"Bajo\",0.2,\"\")))","v":""},null,{"$f":"+IF(Tabla2[[#This Row],[Es  Reservada]]=\"Sí\",\"Escriba Ley\",\"No Aplica\")","v":"No Aplica"},null,null,null,null,{"$f":"IFERROR(IF(AND(Tabla2[[#This Row],[Contiene Datos Personales]]=\"SÍ\",OR(Tabla2[[#This Row],[Clasificación Datos Personales]]=\"Sensible\",Tabla2[[#This Row],[Clasificación Datos Personales]]=\"NNA\",Tabla2[[#This Row],[Clasificación Datos Personales]]=\"privado\")),\"Alto\",IF(AND(Tabla2[[#This Row],[Contiene Datos Personales]]=\"SÍ\",Tabla2[[#This Row],[Clasificación Datos Personales]]=\"SEMIPRIVADO\"),\"Medio\",\"Bajo\")),\"\")","v":"Bajo"},null,null,"No Aplica","No Aplica",null,null,null,{"$f":"+IF(Tabla2[[#This Row],[Integridad]]=\"Grave\",0.5,IF(Tabla2[[#This Row],[Integridad]]=\"Importante\",0.3,IF(Tabla2[[#This Row],[Integridad]]=\"Leve\",0.2,\"\")))","v":""},null,{"$f":"+IF(Tabla2[[#This Row],[Disponibilidad Interna]]=\"Sí\",0.1,IF(Tabla2[[#This Row],[Disponibilidad Interna]]=\"NO\",0,\"\"))","v":""},null,{"$f":"+IF(Tabla2[[#This Row],[Disponibilidad Terceros]]=\"Sí\",0.1,IF(Tabla2[[#This Row],[Disponibilidad Terceros]]=\"No\",0,\"\"))","v":""},{"$f":"+Tabla2[[#This Row],[Columna32]]+Tabla2[[#This Row],[Columna34]]+Tabla2[[#This Row],[Columna1]]+Tabla2[[#This Row],[Columna3]]","v":{"$error":"#VALUE!"}},{"$f":"IFERROR(IF(Tabla2[[#This Row],[Columna33]]<0.45,\"BAJA\",IF(Tabla2[[#This Row],[Columna33]]>0.75,\"ALTA\",\"MEDIA\")),\"\")","v":""},"No Aplica",{"$f":"+IF(Tabla2[[#This Row],[Información Publicada (WEB)]]=\"Sí\",\"Digite URL\",\"No Aplica\")","v":"No Aplica"},null,{"$f":"IF(Tabla2[[#This Row],[ Clasificación ICBF]]=\"Pública\",1,IF(Tabla2[[#This Row],[ Clasificación ICBF]]=\"Clasificada\",2,IF(Tabla2[[#This Row],[ Clasificación ICBF]]=\"Reservada\",3,0)))","v":0},{"$f":"IF(#REF!=8,4,IF(#REF!=16,3,IF(#REF!=24,2,IF(#REF!=48,1,0))))","v":{"$error":"#REF!"}},{"$f":"IF(#REF!=8,\"Alto\",IF(#REF!=16,\"Medio\",IF(#REF!=24,\"Medio\",IF(#REF!=48,\"Bajo\",0))))","v":{"$error":"#REF!"}},null,{"$f":"+MID(Tabla2[[#This Row],[Área/Dependencia]],17,8)","v":""}]
["",null,null,null,{"$f":"+VLOOKUP(Tabla2[[#This Row],[SEDE - REGIONAL]],DATOS!B137:D170,3,FALSE)","v":{"$error":"#N/A"}},{"$f":"+IF(OR(Tabla2[[#This Row],[Área/Dependencia]]=\"Subdirección de Sistemas Integrados\",Tabla2[[#This Row],[Área/Dependencia]]=\"Subdirección de Recursos Tecnológicos\"),\"X\",\"\")","v":""},{"$f":"+CONCATENATE(Tabla2[[#This Row],[Tipo de Proceso]],Tabla2[[#This Row],[Columna4]])","v":{"$error":"#N/A"}},null,null,null,null,null,null,null,null,null,null,null,null,null,{"$f":"+IF(Tabla2[[#This Row],[Nivel de acceso ]]=\"Alto\",0.5,IF(Tabla2[[#This Row],[Nivel de acceso ]]=\"Medio\",0.3,IF(Tabla2[[#This Row],[Nivel de acceso ]]=\"Bajo\",0.2,\"\")))","v":""},null,{"$f":"+IF(Tabla2[[#This Row],[Es  Reservada]]=\"Sí\",\"Escriba Ley\",\"No Aplica\")","v":"No Aplica"},null,null,null,null,{"$f":"IFERROR(IF(AND(Tabla2[[#This Row],[Contiene Datos Personales]]=\"SÍ\",OR(Tabla2[[#This Row],[Clasificación Datos Personales]]=\"Sensible\",Tabla2[[#This Row],[Clasificación Datos Personales]]=\"NNA\",Tabla2[[#This Row],[Clasificación Datos Personales]]=\"privado\")),\"Alto\",IF(AND(Tabla2[[#This Row],[Contiene Datos Personales]]=\"SÍ\",Tabla2[[#This Row],[Clasificación Datos Personales]]=\"SEMIPRIVADO\"),\"Medio\",\"Bajo\")),\"\")","v":"Bajo"},null,null,"No Aplica","No Aplica",null,null,null,{"$f":"+IF(Tabla2[[#This Row],[Integridad]]=\"Grave\",0.5,IF(Tabla2[[#This Row],[Integridad]]=\"Importante\",0.3,IF(Tabla2[[#This Row],[Integridad]]=\"Leve\",0.2,\"\")))","v":""},null,{"$f":"+IF(Tabla2[[#This Row],[Disponibilidad Interna]]=\"Sí\",0.1,IF(Tabla2[[#This Row],[Disponibilidad Interna]]=\"NO\",0,\"\"))","v":""},null,{"$f":"+IF(Tabla2[[#This Row],[Disponibilidad Terceros]]=\"Sí\",0.1,IF(Tabla2[[#This Row],[Disponibilidad Terceros]]=\"No\",0,\"\"))","v":""},{"$f":"+Tabla2[[#This Row],[Columna32]]+Tabla2[[#This Row],[Columna34]]+Tabla2[[#This Row],[Columna1]]+Tabla2[[#This Row],[Columna3]]","v":{"$error":"#VALUE!"}},{"$f":"IFERROR(IF(Tabla2[[#This Row],[Columna33]]<0.45,\"BAJA\",IF(Tabla2[[#This Row],[Columna33]]>0.75,\"ALTA\",\"MEDIA\")),\"\")","v":""},"No Aplica",{"$f":"+IF(Tabla2[[#This Row],[Información Publicada (WEB)]]=\"Sí\",\"Digite URL\",\"No Aplica\")","v":"No Aplica"},null,{"$f":"IF(Tabla2[[#This Row],[ Clasificación ICBF]]=\"Pública\",1,IF(Tabla2[[#This Row],[ Clasificación ICBF]]=\"Clasificada\",2,IF(Tabla2[[#This Row],[ Clasificación ICBF]]=\"Reservada\",3,0)))","v":0},{"$f":"IF(#REF!=8,4,IF(#REF!=16,3,IF(#REF!=24,2,IF(#REF!=48,1,0))))","v":{"$error":"#REF!"}},{"$f":"IF(#REF!=8,\"Alto\",IF(#REF!=16,\"Medio\",IF(#REF!=24,\"Medio\",IF(#REF!=48,\"Bajo\",0))))","v":{"$error":"#REF!"}},null,{"$f":"+MID(Tabla2[[#This Row],[Área/Dependencia]],17,8)","v":""}]
["",null,null,null,{"$f":"+VLOOKUP(Tabla2[[#This Row],[SEDE - REGIONAL]],DATOS!B138:D171,3,FALSE)","v":{"$error":"#N/A"}},{"$f":"+IF(OR(Tabla2[[#This Row],[Área/Dependencia]]=\"Subdirección de Sistemas Integrados\",Tabla2[[#This Row],[Área/Dependencia]]=\"Subdirección de Recursos Tecnológicos\"),\"X\",\"\")","v":""},{"$f":"+CONCATENATE(Tabla2[[#This Row],[Tipo de Proceso]],Tabla2[[#This Row],[Columna4]])","v":{"$error":"#N/A"}},null,null,null,null,null,null,null,null,null,null,null,null,null,{"$f":"+IF(Tabla2[[#This Row],[Nivel de acceso ]]=\"Alto\",0.5,IF(Tabla2[[#This Row],[Nivel de acceso ]]=\"Medio\",0.3,IF(Tabla2[[#This Row],[Nivel de acceso ]]=\"Bajo\",0.2,\"\")))","v":""},null,{"$f":"+IF(Tabla2[[#This Row],[Es  Reservada]]=\"Sí\",\"Escriba Ley\",\"No Aplica\")","v":"No Aplica"},null,null,null,null,{"$f":"IFERROR(IF(AND(Tabla2[[#This Row],[Contiene Datos Personales]]=\"SÍ\",OR(Tabla2[[#This Row],[Clasificación Datos Personales]]=\"Sensible\",Tabla2[[#This Row],[Clasificación Datos Personales]]=\"NNA\",Tabla2[[#This Row],[Clasificación Datos Personales]]=\"privado\")),\"Alto\",IF(AND(Tabla2[[#This Row],[Contiene Datos Personales]]=\"SÍ\",Tabla2[[#This Row],[Clasificación Datos Personales]]=\"SEMIPRIVADO\"),\"Medio\",\"Bajo\")),\"\")","v":"Bajo"},null,null,"No Aplica","No Aplica",null,null,null,{"$f":"+IF(Tabla2[[#This Row],[Integridad]]=\"Grave\",0.5,IF(Tabla2[[#This Row],[Integridad]]=\"Importante\",0.3,IF(Tabla2[[#This Row],[Integridad]]=\"Leve\",0.2,\"\")))","v":""},null,{"$f":"+IF(Tabla2[[#This Row],[Disponibilidad Interna]]=\"Sí\",0.1,IF(Tabla2[[#This Row],[Disponibilidad Interna]]=\"NO\",0,\"\"))","v":""},null,{"$f":"+IF(Tabla2[[#This Row],[Disponibilidad Terceros]]=\"Sí\",0.1,IF(Tabla2[[#This Row],[Disponibilidad Terceros]]=\"No\",0,\"\"))","v":""},{"$f":"+Tabla2[[#This Row],[Columna32]]+Tabla2[[#This Row],[Columna34]]+Tabla2[[#This Row],[Columna1]]+Tabla2[[#This Row],[Columna3]]","v":{"$error":"#VALUE!"}},{"$f":"IFERROR(IF(Tabla2[[#This Row],[Columna33]]<0.45,\"BAJA\",IF(Tabla2[[#This Row],[Columna33]]>0.75,\"ALTA\",\"MEDIA\")),\"\")","v":""},"No Aplica",{"$f":"+IF(Tabla2[[#This Row],[Información Publicada (WEB)]]=\"Sí\",\"Digite URL\",\"No Aplica\")","v":"No Aplica"},null,{"$f":"IF(Tabla2[[#This Row],[ Clasificación ICBF]]=\"Pública\",1,IF(Tabla2[[#This Row],[ Clasificación ICBF]]=\"Clasificada\",2,IF(Tabla2[[#This Row],[ Clasificación ICBF]]=\"Reservada\",3,0)))","v":0},{"$f":"IF(#REF!=8,4,IF(#REF!=16,3,IF(#REF!=24,2,IF(#REF!=48,1,0))))","v":{"$error":"#REF!"}},{"$f":"IF(#REF!=8,\"Alto\",IF(#REF!=16,\"Medio\",IF(#REF!=24,\"Medio\",IF(#REF!=48,\"Bajo\",0))))","v":{"$error":"#REF!"}},null,{"$f":"+MID(Tabla2[[#This Row],[Área/Dependencia]],17,8)","v":""}]
["",null,null,null,{"$f":"+VLOOKUP(Tabla2[[#This Row],[SEDE - REGIONAL]],DATOS!B139:D172,3,FALSE)","v":{"$error":"#N/A"}},{"$f":"+IF(OR(Tabla2[[#This Row],[Área/Dependencia]]=\"Subdirección de Sistemas Integrados\",Tabla2[[#This Row],[Área/Dependencia]]=\"Subdirección de Recursos Tecnológicos\"),\"X\",\"\")","v":""},{"$f":"+CONCATENATE(Tabla2[[#This Row],[Tipo de Proceso]],Tabla2[[#This Row],[Columna4]])","v":{"$error":"#N/A"}},null,null,null,null,null,null,null,null,null,null,null,null,null,{"$f":"+IF(Tabla2[[#This Row],[Nivel de acceso ]]=\"Alto\",0.5,IF(Tabla2[[#This Row],[Nivel de acceso ]]=\"Medio\",0.3,IF(Tabla2[[#This Row],[Nivel de acceso ]]=\"Bajo\",0.2,\"\")))","v":""},null,{"$f":"+IF(Tabla2[[#This Row],[Es  Reservada]]=\"Sí\",\"Escriba Ley\",\"No Aplica\")","v":"No Aplica"},null,null,null,null,{"$f":"IFERROR(IF(AND(Tabla2[[#This Row],[Contiene Datos Personales]]=\"SÍ\",OR(Tabla2[[#This Row],[Clasificación Datos Personales]]=\"Sensible\",Tabla2[[#This Row],[Clasificación Datos Personales]]=\"NNA\",Tabla2[[#This Row],[Clasificación Datos Personales]]=\"privado\")),\"Alto\",IF(AND(Tabla2[[#This Row],[Contiene Datos Personales]]=\"SÍ\",Tabla2[[#This Row],[Clasificación Datos Personales]]=\"SEMIPRIVADO\"),\"Medio\",\"Bajo\")),\"\")","v":"Bajo"},null,null,"No Aplica","No Aplica",null,null,null,{"$f":"+IF(Tabla2[[#This Row],[Integridad]]=\"Grave\",0.5,IF(Tabla2[[#This Row],[Integridad]]=\"Importante\",0.3,IF(Tabla2[[#This Row],[Integridad]]=\"Leve\",0.2,\"\")))","v":""},null,{"$f":"+IF(Tabla2[[#This Row],[Disponibilidad Interna]]=\"Sí\",0.1,IF(Tabla2[[#This Row],[Disponibilidad Interna]]=\"NO\",0,\"\"))","v":""},null,{"$f":"+IF(Tabla2[[#This Row],[Disponibilidad Terceros]]=\"Sí\",0.1,IF(Tabla2[[#This Row],[Disponibilidad Terceros]]=\"No\",0,\"\"))","v":""},{"$f":"+Tabla2[[#This Row],[Columna32]]+Tabla2[[#This Row],[Columna34]]+Tabla2[[#This Row],[Columna1]]+Tabla2[[#This Row],[Columna3]]","v":{"$error":"#VALUE!"}},{"$f":"IFERROR(IF(Tabla2[[#This Row],[Columna33]]<0.45,\"BAJA\",IF(Tabla2[[#This Row],[Columna33]]>0.75,\"ALTA\",\"MEDIA\")),\"\")","v":""},"No Aplica",{"$f":"+IF(Tabla2[[#This Row],[Información Publicada (WEB)]]=\"Sí\",\"Digite URL\",\"No Aplica\")","v":"No Aplica"},null,{"$f":"IF(Tabla2[[#This Row],[ Clasificación ICBF]]=\"Pública\",1,IF(Tabla2[[#This Row],[ Clasificación ICBF]]=\"Clasificada\",2,IF(Tabla2[[#This Row],[ Clasificación ICBF]]=\"Reservada\",3,0)))","v":0},{"$f":"IF(#REF!=8,4,IF(#REF!=16,3,IF(#REF!=24,2,IF(#REF!=48,1,0))))","v":{"$error":"#REF!"}},{"$f":"IF(#REF!=8,\"Alto\",IF(#REF!=16,\"Medio\",IF(#REF!=24,\"Medio\",IF(#REF!=48,\"Bajo\",0))))","v":{"$error":"#REF!"}},null,{"$f":"+MID(Tabla2[[#This Row],[Área/Dependencia]],17,8)","v":""}]
["",null,null,null,{"$f":"+VLOOKUP(Tabla2[[#This Row],[SEDE - REGIONAL]],DATOS!B140:D173,3,FALSE)","v":{"$error":"#N/A"}},{"$f":"+IF(OR(Tabla2[[#This Row],[Área/Dependencia]]=\"Subdirección de Sistemas Integrados\",Tabla2[[#This Row],[Área/Dependencia]]=\"Subdirección de Recursos Tecnológicos\"),\"X\",\"\")","v":""},{"$f":"+CONCATENATE(Tabla2[[#This Row],[Tipo de Proceso]],Tabla2[[#This Row],[Columna4]])","v":{"$error":"#N/A"}},null,null,null,null,null,null,null,null,null,null,null,null,null,{"$f":"+IF(Tabla2[[#This Row],[Nivel de acceso ]]=\"Alto\",0.5,IF(Tabla2[[#This Row],[Nivel de acceso ]]=\"Medio\",0.3,IF(Tabla2[[#This Row],[Nivel de acceso ]]=\"Bajo\",0.2,\"\")))","v":""},null,{"$f":"+IF(Tabla2[[#This Row],[Es  Reservada]]=\"Sí\",\"Escriba Ley\",\"No Aplica\")","v":"No Aplica"},null,null,null,null,{"$f":"IFERROR(IF(AND(Tabla2[[#This Row],[Contiene Datos Personales]]=\"SÍ\",OR(Tabla2[[#This Row],[Clasificación Datos Personales]]=\"Sensible\",Tabla2[[#This Row],[Clasificación Datos Personales]]=\"NNA\",Tabla2[[#This Row],[Clasificación Datos Personales]]=\"privado\")),\"Alto\",IF(AND(Tabla2[[#This Row],[Contiene Datos Personales]]=\"SÍ\",Tabla2[[#This Row],[Clasificación Datos Personales]]=\"SEMIPRIVADO\"),\"Medio\",\"Bajo\")),\"\")","v":"Bajo"},null,null,"No Aplica","No Aplica",null,null,null,{"$f":"+IF(Tabla2[[#This Row],[Integridad]]=\"Grave\",0.5,IF(Tabla2[[#This Row],[Integridad]]=\"Importante\",0.3,IF(Tabla2[[#This Row],[Integridad]]=\"Leve\",0.2,\"\")))","v":""},null,{"$f":"+IF(Tabla2[[#This Row],[Disponibilidad Interna]]=\"Sí\",0.1,IF(Tabla2[[#This Row],[Disponibilidad Interna]]=\"NO\",0,\"\"))","v":""},null,{"$f":"+IF(Tabla2[[#This Row],[Disponibilidad Terceros]]=\"Sí\",0.1,IF(Tabla2[[#This Row],[Disponibilidad Terceros]]=\"No\",0,\"\"))","v":""},{"$f":"+Tabla2[[#This Row],[Columna32]]+Tabla2[[#This Row],[Columna34]]+Tabla2[[#This Row],[Columna1]]+Tabla2[[#This Row],[Columna3]]","v":{"$error":"#VALUE!"}},{"$f":"IFERROR(IF(Tabla2[[#This Row],[Columna33]]<0.45,\"BAJA\",IF(Tabla2[[#This Row],[Columna33]]>0.75,\"ALTA\",\"MEDIA\")),\"\")","v":""},"No Aplica",{"$f":"+IF(Tabla2[[#This Row],[Información Publicada (WEB)]]=\"Sí\",\"Digite URL\",\"No Aplica\")","v":"No Aplica"},null,{"$f":"IF(Tabla2[[#This Row],[ Clasificación ICBF]]=\"Pública\",1,IF(Tabla2[[#This Row],[ Clasificación ICBF]]=\"Clasificada\",2,IF(Tabla2[[#This Row],[ Clasificación ICBF]]=\"Reservada\",3,0)))","v":0},{"$f":"IF(#REF!=8,4,IF(#REF!=16,3,IF(#REF!=24,2,IF(#REF!=48,1,0))))","v":{"$error":"#REF!"}},{"$f":"IF(#REF!=8,\"Alto\",IF(#REF!=16,\"Medio\",IF(#REF!=24,\"Medio\",IF(#REF!=48,\"Bajo\",0))))","v":{"$error":"#REF!"}},null,{"$f":"+MID(Tabla2[[#This Row],[Área/Dependencia]],17,8)","v":""}]
["",null,null,null,{"$f":"+VLOOKUP(Tabla2[[#This Row],[SEDE - REGIONAL]],DATOS!B141:D174,3,FALSE)","v":{"$error":"#N/A"}},{"$f":"+IF(OR(Tabla2[[#This Row],[Área/Dependencia]]=\"Subdirección de Sistemas Integrados\",Tabla2[[#This Row],[Área/Dependencia]]=\"Subdirección de Recursos Tecnológicos\"),\"X\",\"\")","v":""},{"$f":"+CONCATENATE(Tabla2[[#This Row],[Tipo de Proceso]],Tabla2[[#This Row],[Columna4]])","v":{"$error":"#N/A"}},null,null,null,null,null,null,null,null,null,null,null,null,null,{"$f":"+IF(Tabla2[[#This Row],[Nivel de acceso ]]=\"Alto\",0.5,IF(Tabla2[[#This Row],[Nivel de acceso ]]=\"Medio\",0.3,IF(Tabla2[[#This Row],[Nivel de acceso ]]=\"Bajo\",0.2,\"\")))","v":""},null,{"$f":"+IF(Tabla2[[#This Row],[Es  Reservada]]=\"Sí\",\"Escriba Ley\",\"No Aplica\")","v":"No Aplica"},null,null,null,null,{"$f":"IFERROR(IF(AND(Tabla2[[#This Row],[Contiene Datos Personales]]=\"SÍ\",OR(Tabla2[[#This Row],[Clasificación Datos Personales]]=\"Sensible\",Tabla2[[#This Row],[Clasificación Datos Personales]]=\"NNA\",Tabla2[[#This Row],[Clasificación Datos Personales]]=\"privado\")),\"Alto\",IF(AND(Tabla2[[#This Row],[Contiene Datos Personales]]=\"SÍ\",Tabla2[[#This Row],[Clasificación Datos Personales]]=\"SEMIPRIVADO\"),\"Medio\",\"Bajo\")),\"\")","v":"Bajo"},null,null,"No Aplica","No Aplica",null,null,null,{"$f":"+IF(Tabla2[[#This Row],[Integridad]]=\"Grave\",0.5,IF(Tabla2[[#This Row],[Integridad]]=\"Importante\",0.3,IF(Tabla2[[#This Row],[Integridad]]=\"Leve\",0.2,\"\")))","v":""},null,{"$f":"+IF(Tabla2[[#This Row],[Disponibilidad Interna]]=\"Sí\",0.1,IF(Tabla2[[#This Row],[Disponibilidad Interna]]=\"NO\",0,\"\"))","v":""},null,{"$f":"+IF(Tabla2[[#This Row],[Disponibilidad Terceros]]=\"Sí\",0.1,IF(Tabla2[[#This Row],[Disponibilidad Terceros]]=\"No\",0,\"\"))","v":""},{"$f":"+Tabla2[[#This Row],[Columna32]]+Tabla2[[#This Row],[Columna34]]+Tabla2[[#This Row],[Columna1]]+Tabla2[[#This Row],[Columna3]]","v":{"$error":"#VALUE!"}},{"$f":"IFERROR(IF(Tabla2[[#This Row],[Columna33]]<0.45,\"BAJA\",IF(Tabla2[[#This Row],[Columna33]]>0.75,\"ALTA\",\"MEDIA\")),\"\")","v":""},"No Aplica",{"$f":"+IF(Tabla2[[#This Row],[Información Publicada (WEB)]]=\"Sí\",\"Digite URL\",\"No Aplica\")","v":"No Aplica"},null,{"$f":"IF(Tabla2[[#This Row],[ Clasificación ICBF]]=\"Pública\",1,IF(Tabla2[[#This Row],[ Clasificación ICBF]]=\"Clasificada\",2,IF(Tabla2[[#This Row],[ Clasificación ICBF]]=\"Reservada\",3,0)))","v":0},{"$f":"IF(#REF!=8,4,IF(#REF!=16,3,IF(#REF!=24,2,IF(#REF!=48,1,0))))","v":{"$error":"#REF!"}},{"$f":"IF(#REF!=8,\"Alto\",IF(#REF!=16,\"Medio\",IF(#REF!=24,\"Medio\",IF(#REF!=48,\"Bajo\",0))))","v":{"$error":"#REF!"}},null,{"$f":"+MID(Tabla2[[#This Row],[Área/Dependencia]],17,8)","v":""}]
["",null,null,null,{"$f":"+VLOOKUP(Tabla2[[#This Row],[SEDE - REGIONAL]],DATOS!B142:D175,3,FALSE)","v":{"$error":"#N/A"}},{"$f":"+IF(OR(Tabla2[[#This Row],[Área/Dependencia]]=\"Subdirección de Sistemas Integrados\",Tabla2[[#This Row],[Área/Dependencia]]=\"Subdirección de Recursos Tecnológicos\"),\"X\",\"\")","v":""},{"$f":"+CONCATENATE(Tabla2[[#This Row],[Tipo de Proceso]],Tabla2[[#This Row],[Columna4]])","v":{"$error":"#N/A"}},null,null,null,null,null,null,null,null,null,null,null,null,null,{"$f":"+IF(Tabla2[[#This Row],[Nivel de acceso ]]=\"Alto\",0.5,IF(Tabla2[[#This Row],[Nivel de acceso ]]=\"Medio\",0.3,IF(Tabla2[[#This Row],[Nivel de acceso ]]=\"Bajo\",0.2,\"\")))","v":""},null,{"$f":"+IF(Tabla2[[#This Row],[Es  Reservada]]=\"Sí\",\"Escriba Ley\",\"No Aplica\")","v":"No Aplica"},null,null,null,null,{"$f":"IFERROR(IF(AND(Tabla2[[#This Row],[Contiene Datos Personales]]=\"SÍ\",OR(Tabla2[[#This Row],[Clasificación Datos Personales]]=\"Sensible\",Tabla2[[#This Row],[Clasificación Datos Personales]]=\"NNA\",Tabla2[[#This Row],[Clasificación Datos Personales]]=\"privado\")),\"Alto\",IF(AND(Tabla2[[#This Row],[Contiene Datos Personales]]=\"SÍ\",Tabla2[[#This Row],[Clasificación Datos Personales]]=\"SEMIPRIVADO\"),\"Medio\",\"Bajo\")),\"\")","v":"Bajo"},null,null,"No Aplica","No Aplica",null,null,null,{"$f":"+IF(Tabla2[[#This Row],[Integridad]]=\"Grave\",0.5,IF(Tabla2[[#This Row],[Integridad]]=\"Importante\",0.3,IF(Tabla2[[#This Row],[Integridad]]=\"Leve\",0.2,\"\")))","v":""},null,{"$f":"+IF(Tabla2[[#This Row],[Disponibilidad Interna]]=\"Sí\",0.1,IF(Tabla2[[#This Row],[Disponibilidad Interna]]=\"NO\",0,\"\"))","v":""},null,{"$f":"+IF(Tabla2[[#This Row],[Disponibilidad Terceros]]=\"Sí\",0.1,IF(Tabla2[[#This Row],[Disponibilidad Terceros]]=\"No\",0,\"\"))","v":""},{"$f":"+Tabla2[[#This Row],[Columna32]]+Tabla2[[#This Row],[Columna34]]+Tabla2[[#This Row],[Columna1]]+Tabla2[[#This Row],[Columna3]]","v":{"$error":"#VALUE!"}},{"$f":"IFERROR(IF(Tabla2[[#This Row],[Columna33]]<0.45,\"BAJA\",IF(Tabla2[[#This Row],[Columna33]]>0.75,\"ALTA\",\"MEDIA\")),\"\")","v":""},"No Aplica",{"$f":"+IF(Tabla2[[#This Row],[Información Publicada (WEB)]]=\"Sí\",\"Digite URL\",\"No Aplica\")","v":"No Aplica"},null,{"$f":"IF(Tabla2[[#This Row],[ Clasificación ICBF]]=\"Pública\",1,IF(Tabla2[[#This Row],[ Clasificación ICBF]]=\"Clasificada\",2,IF(Tabla2[[#This Row],[ Clasificación ICBF]]=\"Reservada\",3,0)))","v":0},{"$f":"IF(#REF!=8,4,IF(#REF!=16,3,IF(#REF!=24,2,IF(#REF!=48,1,0))))","v":{"$error":"#REF!"}},{"$f":"IF(#REF!=8,\"Alto\",IF(#REF!=16,\"Medio\",IF(#REF!=24,\"Medio\",IF(#REF!=48,\"Bajo\",0))))","v":{"$error":"#REF!"}},null,{"$f":"+MID(Tabla2[[#This Row],[Área/Dependencia]],17,8)","v":""}]
["",null,null,null,{"$f":"+VLOOKUP(Tabla2[[#This Row],[SEDE - REGIONAL]],DATOS!B143:D176,3,FALSE)","v":{"$error":"#N/A"}},{"$f":"+IF(OR(Tabla2[[#This Row],[Área/Dependencia]]=\"Subdirección de Sistemas Integrados\",Tabla2[[#This Row],[Área/Dependencia]]=\"Subdirección de Recursos Tecnológicos\"),\"X\",\"\")","v":""},{"$f":"+CONCATENATE(Tabla2[[#This Row],[Tipo de Proceso]],Tabla2[[#This Row],[Columna4]])","v":{"$error":"#N/A"}},null,null,null,null,null,null,null,null,null,null,null,null,null,{"$f":"+IF(Tabla2[[#This Row],[Nivel de acceso ]]=\"Alto\",0.5,IF(Tabla2[[#This Row],[Nivel de acceso ]]=\"Medio\",0.3,IF(Tabla2[[#This Row],[Nivel de acceso ]]=\"Bajo\",0.2,\"\")))","v":""},null,{"$f":"+IF(Tabla2[[#This Row],[Es  Reservada]]=\"Sí\",\"Escriba Ley\",\"No Aplica\")","v":"No Aplica"},null,null,null,null,{"$f":"IFERROR(IF(AND(Tabla2[[#This Row],[Contiene Datos Personales]]=\"SÍ\",OR(Tabla2[[#This Row],[Clasificación Datos Personales]]=\"Sensible\",Tabla2[[#This Row],[Clasificación Datos Personales]]=\"NNA\",Tabla2[[#This Row],[Clasificación Datos Personales]]=\"privado\")),\"Alto\",IF(AND(Tabla2[[#This Row],[Contiene Datos Personales]]=\"SÍ\",Tabla2[[#This Row],[Clasificación Datos Personales]]=\"SEMIPRIVADO\"),\"Medio\",\"Bajo\")),\"\")","v":"Bajo"},null,null,"No Aplica","No Aplica",null,null,null,{"$f":"+IF(Tabla2[[#This Row],[Integridad]]=\"Grave\",0.5,IF(Tabla2[[#This Row],[Integridad]]=\"Importante\",0.3,IF(Tabla2[[#This Row],[Integridad]]=\"Leve\",0.2,\"\")))","v":""},null,{"$f":"+IF(Tabla2[[#This Row],[Disponibilidad Interna]]=\"Sí\",0.1,IF(Tabla2[[#This Row],[Disponibilidad Interna]]=\"NO\",0,\"\"))","v":""},null,{"$f":"+IF(Tabla2[[#This Row],[Disponibilidad Terceros]]=\"Sí\",0.1,IF(Tabla2[[#This Row],[Disponibilidad Terceros]]=\"No\",0,\"\"))","v":""},{"$f":"+Tabla2[[#This Row],[Columna32]]+Tabla2[[#This Row],[Columna34]]+Tabla2[[#This Row],[Columna1]]+Tabla2[[#This Row],[Columna3]]","v":{"$error":"#VALUE!"}},{"$f":"IFERROR(IF(Tabla2[[#This Row],[Columna33]]<0.45,\"BAJA\",IF(Tabla2[[#This Row],[Columna33]]>0.75,\"ALTA\",\"MEDIA\")),\"\")","v":""},"No Aplica",{"$f":"+IF(Tabla2[[#This Row],[Información Publicada (WEB)]]=\"Sí\",\"Digite URL\",\"No Aplica\")","v":"No Aplica"},null,{"$f":"IF(Tabla2[[#This Row],[ Clasificación ICBF]]=\"Pública\",1,IF(Tabla2[[#This Row],[ Clasificación ICBF]]=\"Clasificada\",2,IF(Tabla2[[#This Row],[ Clasificación ICBF]]=\"Reservada\",3,0)))","v":0},{"$f":"IF(#REF!=8,4,IF(#REF!=16,3,IF(#REF!=24,2,IF(#REF!=48,1,0))))","v":{"$error":"#REF!"}},{"$f":"IF(#REF!=8,\"Alto\",IF(#REF!=16,\"Medio\",IF(#REF!=24,\"Medio\",IF(#REF!=48,\"Bajo\",0))))","v":{"$error":"#REF!"}},null,{"$f":"+MID(Tabla2[[#This Row],[Área/Dependencia]],17,8)","v":""}]
["",null,null,null,{"$f":"+VLOOKUP(Tabla2[[#This Row],[SEDE - REGIONAL]],DATOS!B144:D177,3,FALSE)","v":{"$error":"#N/A"}},{"$f":"+IF(OR(Tabla2[[#This Row],[Área/Dependencia]]=\"Subdirección de Sistemas Integrados\",Tabla2[[#This Row],[Área/Dependencia]]=\"Subdirección de Recursos Tecnológicos\"),\"X\",\"\")","v":""},{"$f":"+CONCATENATE(Tabla2[[#This Row],[Tipo de Proceso]],Tabla2[[#This Row],[Columna4]])","v":{"$error":"#N/A"}},null,null,null,null,null,null,null,null,null,null,null,null,null,{"$f":"+IF(Tabla2[[#This Row],[Nivel de acceso ]]=\"Alto\",0.5,IF(Tabla2[[#This Row],[Nivel de acceso ]]=\"Medio\",0.3,IF(Tabla2[[#This Row],[Nivel de acceso ]]=\"Bajo\",0.2,\"\")))","v":""},null,{"$f":"+IF(Tabla2[[#This Row],[Es  Reservada]]=\"Sí\",\"Escriba Ley\",\"No Aplica\")","v":"No Aplica"},null,null,null,null,{"$f":"IFERROR(IF(AND(Tabla2[[#This Row],[Contiene Datos Personales]]=\"SÍ\",OR(Tabla2[[#This Row],[Clasificación Datos Personales]]=\"Sensible\",Tabla2[[#This Row],[Clasificación Datos Personales]]=\"NNA\",Tabla2[[#This Row],[Clasificación Datos Personales]]=\"privado\")),\"Alto\",IF(AND(Tabla2[[#This Row],[Contiene Datos Personales]]=\"SÍ\",Tabla2[[#This Row],[Clasificación Datos Personales]]=\"SEMIPRIVADO\"),\"Medio\",\"Bajo\")),\"\")","v":"Bajo"},null,null,"No Aplica","No Aplica",null,null,null,{"$f":"+IF(Tabla2[[#This Row],[Integridad]]=\"Grave\",0.5,IF(Tabla2[[#This Row],[Integridad]]=\"Importante\",0.3,IF(Tabla2[[#This Row],[Integridad]]=\"Leve\",0.2,\"\")))","v":""},null,{"$f":"+IF(Tabla2[[#This Row],[Disponibilidad Interna]]=\"Sí\",0.1,IF(Tabla2[[#This Row],[Disponibilidad Interna]]=\"NO\",0,\"\"))","v":""},null,{"$f":"+IF(Tabla2[[#This Row],[Disponibilidad Terceros]]=\"Sí\",0.1,IF(Tabla2[[#This Row],[Disponibilidad Terceros]]=\"No\",0,\"\"))","v":""},{"$f":"+Tabla2[[#This Row],[Columna32]]+Tabla2[[#This Row],[Columna34]]+Tabla2[[#This Row],[Columna1]]+Tabla2[[#This Row],[Columna3]]","v":{"$error":"#VALUE!"}},{"$f":"IFERROR(IF(Tabla2[[#This Row],[Columna33]]<0.45,\"BAJA\",IF(Tabla2[[#This Row],[Columna33]]>0.75,\"ALTA\",\"MEDIA\")),\"\")","v":""},"No Aplica",{"$f":"+IF(Tabla2[[#This Row],[Información Publicada (WEB)]]=\"Sí\",\"Digite URL\",\"No Aplica\")","v":"No Aplica"},null,{"$f":"IF(Tabla2[[#This Row],[ Clasificación ICBF]]=\"Pública\",1,IF(Tabla2[[#This Row],[ Clasificación ICBF]]=\"Clasificada\",2,IF(Tabla2[[#This Row],[ Clasificación ICBF]]=\"Reservada\",3,0)))","v":0},{"$f":"IF(#REF!=8,4,IF(#REF!=16,3,IF(#REF!=24,2,IF(#REF!=48,1,0))))","v":{"$error":"#REF!"}},{"$f":"IF(#REF!=8,\"Alto\",IF(#REF!=16,\"Medio\",IF(#REF!=24,\"Medio\",IF(#REF!=48,\"Bajo\",0))))","v":{"$error":"#REF!"}},null,{"$f":"+MID(Tabla2[[#This Row],[Área/Dependencia]],17,8)","v":""}]
["",null,null,null,{"$f":"+VLOOKUP(Tabla2[[#This Row],[SEDE - REGIONAL]],DATOS!B145:D178,3,FALSE)","v":{"$error":"#N/A"}},{"$f":"+IF(OR(Tabla2[[#This Row],[Área/Dependencia]]=\"Subdirección de Sistemas Integrados\",Tabla2[[#This Row],[Área/Dependencia]]=\"Subdirección de Recursos Tecnológicos\"),\"X\",\"\")","v":""},{"$f":"+CONCATENATE(Tabla2[[#This Row],[Tipo de Proceso]],Tabla2[[#This Row],[Columna4]])","v":{"$error":"#N/A"}},null,null,null,null,null,null,null,null,null,null,null,null,null,{"$f":"+IF(Tabla2[[#This Row],[Nivel de acceso ]]=\"Alto\",0.5,IF(Tabla2[[#This Row],[Nivel de acceso ]]=\"Medio\",0.3,IF(Tabla2[[#This Row],[Nivel de acceso ]]=\"Bajo\",0.2,\"\")))","v":""},null,{"$f":"+IF(Tabla2[[#This Row],[Es  Reservada]]=\"Sí\",\"Escriba Ley\",\"No Aplica\")","v":"No Aplica"},null,null,null,null,{"$f":"IFERROR(IF(AND(Tabla2[[#This Row],[Contiene Datos Personales]]=\"SÍ\",OR(Tabla2[[#This Row],[Clasificación Datos Personales]]=\"Sensible\",Tabla2[[#This Row],[Clasificación Datos Personales]]=\"NNA\",Tabla2[[#This Row],[Clasificación Datos Personales]]=\"privado\")),\"Alto\",IF(AND(Tabla2[[#This Row],[Contiene Datos Personales]]=\"SÍ\",Tabla2[[#This Row],[Clasificación Datos Personales]]=\"SEMIPRIVADO\"),\"Medio\",\"Bajo\")),\"\")","v":"Bajo"},null,null,"No Aplica","No Aplica",null,null,null,{"$f":"+IF(Tabla2[[#This Row],[Integridad]]=\"Grave\",0.5,IF(Tabla2[[#This Row],[Integridad]]=\"Importante\",0.3,IF(Tabla2[[#This Row],[Integridad]]=\"Leve\",0.2,\"\")))","v":""},null,{"$f":"+IF(Tabla2[[#This Row],[Disponibilidad Interna]]=\"Sí\",0.1,IF(Tabla2[[#This Row],[Disponibilidad Interna]]=\"NO\",0,\"\"))","v":""},null,{"$f":"+IF(Tabla2[[#This Row],[Disponibilidad Terceros]]=\"Sí\",0.1,IF(Tabla2[[#This Row],[Disponibilidad Terceros]]=\"No\",0,\"\"))","v":""},{"$f":"+Tabla2[[#This Row],[Columna32]]+Tabla2[[#This Row],[Columna34]]+Tabla2[[#This Row],[Columna1]]+Tabla2[[#This Row],[Columna3]]","v":{"$error":"#VALUE!"}},{"$f":"IFERROR(IF(Tabla2[[#This Row],[Columna33]]<0.45,\"BAJA\",IF(Tabla2[[#This Row],[Columna33]]>0.75,\"ALTA\",\"MEDIA\")),\"\")","v":""},"No Aplica",{"$f":"+IF(Tabla2[[#This Row],[Información Publicada (WEB)]]=\"Sí\",\"Digite URL\",\"No Aplica\")","v":"No Aplica"},null,{"$f":"IF(Tabla2[[#This Row],[ Clasificación ICBF]]=\"Pública\",1,IF(Tabla2[[#This Row],[ Clasificación ICBF]]=\"Clasificada\",2,IF(Tabla2[[#This Row],[ Clasificación ICBF]]=\"Reservada\",3,0)))","v":0},{"$f":"IF(#REF!=8,4,IF(#REF!=16,3,IF(#REF!=24,2,IF(#REF!=48,1,0))))","v":{"$error":"#REF!"}},{"$f":"IF(#REF!=8,\"Alto\",IF(#REF!=16,\"Medio\",IF(#REF!=24,\"Medio\",IF(#REF!=48,\"Bajo\",0))))","v":{"$error":"#REF!"}},null,{"$f":"+MID(Tabla2[[#This Row],[Área/Dependencia]],17,8)","v":""}]
["",null,null,null,{"$f":"+VLOOKUP(Tabla2[[#This Row],[SEDE - REGIONAL]],DATOS!B146:D179,3,FALSE)","v":{"$error":"#N/A"}},{"$f":"+IF(OR(Tabla2[[#This Row],[Área/Dependencia]]=\"Subdirección de Sistemas Integrados\",Tabla2[[#This Row],[Área/Dependencia]]=\"Subdirección de Recursos Tecnológicos\"),\"X\",\"\")","v":""},{"$f":"+CONCATENATE(Tabla2[[#This Row],[Tipo de Proceso]],Tabla2[[#This Row],[Columna4]])","v":{"$error":"#N/A"}},null,null,null,null,null,null,null,null,null,null,null,null,null,{"$f":"+IF(Tabla2[[#This Row],[Nivel de acceso ]]=\"Alto\",0.5,IF(Tabla2[[#This Row],[Nivel de acceso ]]=\"Medio\",0.3,IF(Tabla2[[#This Row],[Nivel de acceso ]]=\"Bajo\",0.2,\"\")))","v":""},null,{"$f":"+IF(Tabla2[[#This Row],[Es  Reservada]]=\"Sí\",\"Escriba Ley\",\"No Aplica\")","v":"No Aplica"},null,null,null,null,{"$f":"IFERROR(IF(AND(Tabla2[[#This Row],[Contiene Datos Personales]]=\"SÍ\",OR(Tabla2[[#This Row],[Clasificación Datos Personales]]=\"Sensible\",Tabla2[[#This Row],[Clasificación Datos Personales]]=\"NNA\",Tabla2[[#This Row],[Clasificación Datos Personales]]=\"privado\")),\"Alto\",IF(AND(Tabla2[[#This Row],[Contiene Datos Personales]]=\"SÍ\",Tabla2[[#This Row],[Clasificación Datos Personales]]=\"SEMIPRIVADO\"),\"Medio\",\"Bajo\")),\"\")","v":"Bajo"},null,null,"No Aplica","No Aplica",null,null,null,{"$f":"+IF(Tabla2[[#This Row],[Integridad]]=\"Grave\",0.5,IF(Tabla2[[#This Row],[Integridad]]=\"Importante\",0.3,IF(Tabla2[[#This Row],[Integridad]]=\"Leve\",0.2,\"\")))","v":""},null,{"$f":"+IF(Tabla2[[#This Row],[Disponibilidad Interna]]=\"Sí\",0.1,IF(Tabla2[[#This Row],[Disponibilidad Interna]]=\"NO\",0,\"\"))","v":""},null,{"$f":"+IF(Tabla2[[#This Row],[Disponibilidad Terceros]]=\"Sí\",0.1,IF(Tabla2[[#This Row],[Disponibilidad Terceros]]=\"No\",0,\"\"))","v":""},{"$f":"+Tabla2[[#This Row],[Columna32]]+Tabla2[[#This Row],[Columna34]]+Tabla2[[#This Row],[Columna1]]+Tabla2[[#This Row],[Columna3]]","v":{"$error":"#VALUE!"}},{"$f":"IFERROR(IF(Tabla2[[#This Row],[Columna33]]<0.45,\"BAJA\",IF(Tabla2[[#This Row],[Columna33]]>0.75,\"ALTA\",\"MEDIA\")),\"\")","v":""},"No Aplica",{"$f":"+IF(Tabla2[[#This Row],[Información Publicada (WEB)]]=\"Sí\",\"Digite URL\",\"No Aplica\")","v":"No Aplica"},null,{"$f":"IF(Tabla2[[#This Row],[ Clasificación ICBF]]=\"Pública\",1,IF(Tabla2[[#This Row],[ Clasificación ICBF]]=\"Clasificada\",2,IF(Tabla2[[#This Row],[ Clasificación ICBF]]=\"Reservada\",3,0)))","v":0},{"$f":"IF(#REF!=8,4,IF(#REF!=16,3,IF(#REF!=24,2,IF(#REF!=48,1,0))))","v":{"$error":"#REF!"}},{"$f":"IF(#REF!=8,\"Alto\",IF(#REF!=16,\"Medio\",IF(#REF!=24,\"Medio\",IF(#REF!=48,\"Bajo\",0))))","v":{"$error":"#REF!"}},null,{"$f":"+MID(Tabla2[[#This Row],[Área/Dependencia]],17,8)","v":""}]
["",null,null,null,{"$f":"+VLOOKUP(Tabla2[[#This Row],[SEDE - REGIONAL]],DATOS!B147:D180,3,FALSE)","v":{"$error":"#N/A"}},{"$f":"+IF(OR(Tabla2[[#This Row],[Área/Dependencia]]=\"Subdirección de Sistemas Integrados\",Tabla2[[#This Row],[Área/Dependencia]]=\"Subdirección de Recursos Tecnológicos\"),\"X\",\"\")","v":""},{"$f":"+CONCATENATE(Tabla2[[#This Row],[Tipo de Proceso]],Tabla2[[#This Row],[Columna4]])","v":{"$error":"#N/A"}},null,null,null,null,null,null,null,null,null,null,null,null,null,{"$f":"+IF(Tabla2[[#This Row],[Nivel de acceso ]]=\"Alto\",0.5,IF(Tabla2[[#This Row],[Nivel de acceso ]]=\"Medio\",0.3,IF(Tabla2[[#This Row],[Nivel de acceso ]]=\"Bajo\",0.2,\"\")))","v":""},null,{"$f":"+IF(Tabla2[[#This Row],[Es  Reservada]]=\"Sí\",\"Escriba Ley\",\"No Aplica\")","v":"No Aplica"},null,null,null,null,{"$f":"IFERROR(IF(AND(Tabla2[[#This Row],[Contiene Datos Personales]]=\"SÍ\",OR(Tabla2[[#This Row],[Clasificación Datos Personales]]=\"Sensible\",Tabla2[[#This Row],[Clasificación Datos Personales]]=\"NNA\",Tabla2[[#This Row],[Clasificación Datos Personales]]=\"privado\")),\"Alto\",IF(AND(Tabla2[[#This Row],[Contiene Datos Personales]]=\"SÍ\",Tabla2[[#This Row],[Clasificación Datos Personales]]=\"SEMIPRIVADO\"),\"Medio\",\"Bajo\")),\"\")","v":"Bajo"},null,null,"No Aplica","No Aplica",null,null,null,{"$f":"+IF(Tabla2[[#This Row],[Integridad]]=\"Grave\",0.5,IF(Tabla2[[#This Row],[Integridad]]=\"Importante\",0.3,IF(Tabla2[[#This Row],[Integridad]]=\"Leve\",0.2,\"\")))","v":""},null,{"$f":"+IF(Tabla2[[#This Row],[Disponibilidad Interna]]=\"Sí\",0.1,IF(Tabla2[[#This Row],[Disponibilidad Interna]]=\"NO\",0,\"\"))","v":""},null,{"$f":"+IF(Tabla2[[#This Row],[Disponibilidad Terceros]]=\"Sí\",0.1,IF(Tabla2[[#This Row],[Disponibilidad Terceros]]=\"No\",0,\"\"))","v":""},{"$f":"+Tabla2[[#This Row],[Columna32]]+Tabla2[[#This Row],[Columna34]]+Tabla2[[#This Row],[Columna1]]+Tabla2[[#This Row],[Columna3]]","v":{"$error":"#VALUE!"}},{"$f":"IFERROR(IF(Tabla2[[#This Row],[Columna33]]<0.45,\"BAJA\",IF(Tabla2[[#This Row],[Columna33]]>0.75,\"ALTA\",\"MEDIA\")),\"\")","v":""},"No Aplica",{"$f":"+IF(Tabla2[[#This Row],[Información Publicada (WEB)]]=\"Sí\",\"Digite URL\",\"No Aplica\")","v":"No Aplica"},null,{"$f":"IF(Tabla2[[#This Row],[ Clasificación ICBF]]=\"Pública\",1,IF(Tabla2[[#This Row],[ Clasificación ICBF]]=\"Clasificada\",2,IF(Tabla2[[#This Row],[ Clasificación ICBF]]=\"Reservada\",3,0)))","v":0},{"$f":"IF(#REF!=8,4,IF(#REF!=16,3,IF(#REF!=24,2,IF(#REF!=48,1,0))))","v":{"$error":"#REF!"}},{"$f":"IF(#REF!=8,\"Alto\",IF(#REF!=16,\"Medio\",IF(#REF!=24,\"Medio\",IF(#REF!=48,\"Bajo\",0))))","v":{"$error":"#REF!"}},null,{"$f":"+MID(Tabla2[[#This Row],[Área/Dependencia]],17,8)","v":""}]
["",null,null,null,{"$f":"+VLOOKUP(Tabla2[[#This Row],[SEDE - REGIONAL]],DATOS!B148:D181,3,FALSE)","v":{"$error":"#N/A"}},{"$f":"+IF(OR(Tabla2[[#This Row],[Área/Dependencia]]=\"Subdirección de Sistemas Integrados\",Tabla2[[#This Row],[Área/Dependencia]]=\"Subdirección de Recursos Tecnológicos\"),\"X\",\"\")","v":""},{"$f":"+CONCATENATE(Tabla2[[#This Row],[Tipo de Proceso]],Tabla2[[#This Row],[Columna4]])","v":{"$error":"#N/A"}},null,null,null,null,null,null,null,null,null,null,null,null,null,{"$f":"+IF(Tabla2[[#This Row],[Nivel de acceso ]]=\"Alto\",0.5,IF(Tabla2[[#This Row],[Nivel de acceso ]]=\"Medio\",0.3,IF(Tabla2[[#This Row],[Nivel de acceso ]]=\"Bajo\",0.2,\"\")))","v":""},null,{"$f":"+IF(Tabla2[[#This Row],[Es  Reservada]]=\"Sí\",\"Escriba Ley\",\"No Aplica\")","v":"No Aplica"},null,null,null,null,{"$f":"IFERROR(IF(AND(Tabla2[[#This Row],[Contiene Datos Personales]]=\"SÍ\",OR(Tabla2[[#This Row],[Clasificación Datos Personales]]=\"Sensible\",Tabla2[[#This Row],[Clasificación Datos Personales]]=\"NNA\",Tabla2[[#This Row],[Clasificación Datos Personales]]=\"privado\")),\"Alto\",IF(AND(Tabla2[[#This Row],[Contiene Datos Personales]]=\"SÍ\",Tabla2[[#This Row],[Clasificación Datos Personales]]=\"SEMIPRIVADO\"),\"Medio\",\"Bajo\")),\"\")","v":"Bajo"},null,null,"No Aplica","No Aplica",null,null,null,{"$f":"+IF(Tabla2[[#This Row],[Integridad]]=\"Grave\",0.5,IF(Tabla2[[#This Row],[Integridad]]=\"Importante\",0.3,IF(Tabla2[[#This Row],[Integridad]]=\"Leve\",0.2,\"\")))","v":""},null,{"$f":"+IF(Tabla2[[#This Row],[Disponibilidad Interna]]=\"Sí\",0.1,IF(Tabla2[[#This Row],[Disponibilidad Interna]]=\"NO\",0,\"\"))","v":""},null,{"$f":"+IF(Tabla2[[#This Row],[Disponibilidad Terceros]]=\"Sí\",0.1,IF(Tabla2[[#This Row],[Disponibilidad Terceros]]=\"No\",0,\"\"))","v":""},{"$f":"+Tabla2[[#This Row],[Columna32]]+Tabla2[[#This Row],[Columna34]]+Tabla2[[#This Row],[Columna1]]+Tabla2[[#This Row],[Columna3]]","v":{"$error":"#VALUE!"}},{"$f":"IFERROR(IF(Tabla2[[#This Row],[Columna33]]<0.45,\"BAJA\",IF(Tabla2[[#This Row],[Columna33]]>0.75,\"ALTA\",\"MEDIA\")),\"\")","v":""},"No Aplica",{"$f":"+IF(Tabla2[[#This Row],[Información Publicada (WEB)]]=\"Sí\",\"Digite URL\",\"No Aplica\")","v":"No Aplica"},null,{"$f":"IF(Tabla2[[#This Row],[ Clasificación ICBF]]=\"Pública\",1,IF(Tabla2[[#This Row],[ Clasificación ICBF]]=\"Clasificada\",2,IF(Tabla2[[#This Row],[ Clasificación ICBF]]=\"Reservada\",3,0)))","v":0},{"$f":"IF(#REF!=8,4,IF(#REF!=16,3,IF(#REF!=24,2,IF(#REF!=48,1,0))))","v":{"$error":"#REF!"}},{"$f":"IF(#REF!=8,\"Alto\",IF(#REF!=16,\"Medio\",IF(#REF!=24,\"Medio\",IF(#REF!=48,\"Bajo\",0))))","v":{"$error":"#REF!"}},null,{"$f":"+MID(Tabla2[[#This Row],[Área/Dependencia]],17,8)","v":""}]
["",null,null,null,{"$f":"+VLOOKUP(Tabla2[[#This Row],[SEDE - REGIONAL]],DATOS!B149:D182,3,FALSE)","v":{"$error":"#N/A"}},{"$f":"+IF(OR(Tabla2[[#This Row],[Área/Dependencia]]=\"Subdirección de Sistemas Integrados\",Tabla2[[#This Row],[Área/Dependencia]]=\"Subdirección de Recursos Tecnológicos\"),\"X\",\"\")","v":""},{"$f":"+CONCATENATE(Tabla2[[#This Row],[Tipo de Proceso]],Tabla2[[#This Row],[Columna4]])","v":{"$error":"#N/A"}},null,null,null,null,null,null,null,null,null,null,null,null,null,{"$f":"+IF(Tabla2[[#This Row],[Nivel de acceso ]]=\"Alto\",0.5,IF(Tabla2[[#This Row],[Nivel de acceso ]]=\"Medio\",0.3,IF(Tabla2[[#This Row],[Nivel de acceso ]]=\"Bajo\",0.2,\"\")))","v":""},null,{"$f":"+IF(Tabla2[[#This Row],[Es  Reservada]]=\"Sí\",\"Escriba Ley\",\"No Aplica\")","v":"No Aplica"},null,null,null,null,{"$f":"IFERROR(IF(AND(Tabla2[[#This Row],[Contiene Datos Personales]]=\"SÍ\",OR(Tabla2[[#This Row],[Clasificación Datos Personales]]=\"Sensible\",Tabla2[[#This Row],[Clasificación Datos Personales]]=\"NNA\",Tabla2[[#This Row],[Clasificación Datos Personales]]=\"privado\")),\"Alto\",IF(AND(Tabla2[[#This Row],[Contiene Datos Personales]]=\"SÍ\",Tabla2[[#This Row],[Clasificación Datos Personales]]=\"SEMIPRIVADO\"),\"Medio\",\"Bajo\")),\"\")","v":"Bajo"},null,null,"No Aplica","No Aplica",null,null,null,{"$f":"+IF(Tabla2[[#This Row],[Integridad]]=\"Grave\",0.5,IF(Tabla2[[#This Row],[Integridad]]=\"Importante\",0.3,IF(Tabla2[[#This Row],[Integridad]]=\"Leve\",0.2,\"\")))","v":""},null,{"$f":"+IF(Tabla2[[#This Row],[Disponibilidad Interna]]=\"Sí\",0.1,IF(Tabla2[[#This Row],[Disponibilidad Interna]]=\"NO\",0,\"\"))","v":""},null,{"$f":"+IF(Tabla2[[#This Row],[Disponibilidad Terceros]]=\"Sí\",0.1,IF(Tabla2[[#This Row],[Disponibilidad Terceros]]=\"No\",0,\"\"))","v":""},{"$f":"+Tabla2[[#This Row],[Columna32]]+Tabla2[[#This Row],[Columna34]]+Tabla2[[#This Row],[Columna1]]+Tabla2[[#This Row],[Columna3]]","v":{"$error":"#VALUE!"}},{"$f":"IFERROR(IF(Tabla2[[#This Row],[Columna33]]<0.45,\"BAJA\",IF(Tabla2[[#This Row],[Columna33]]>0.75,\"ALTA\",\"MEDIA\")),\"\")","v":""},"No Aplica",{"$f":"+IF(Tabla2[[#This Row],[Información Publicada (WEB)]]=\"Sí\",\"Digite URL\",\"No Aplica\")","v":"No Aplica"},null,{"$f":"IF(Tabla2[[#This Row],[ Clasificación ICBF]]=\"Pública\",1,IF(Tabla2[[#This Row],[ Clasificación ICBF]]=\"Clasificada\",2,IF(Tabla2[[#This Row],[ Clasificación ICBF]]=\"Reservada\",3,0)))","v":0},{"$f":"IF(#REF!=8,4,IF(#REF!=16,3,IF(#REF!=24,2,IF(#REF!=48,1,0))))","v":{"$error":"#REF!"}},{"$f":"IF(#REF!=8,\"Alto\",IF(#REF!=16,\"Medio\",IF(#REF!=24,\"Medio\",IF(#REF!=48,\"Bajo\",0))))","v":{"$error":"#REF!"}},null,{"$f":"+MID(Tabla2[[#This Row],[Área/Dependencia]],17,8)","v":""}]
["",null,null,null,{"$f":"+VLOOKUP(Tabla2[[#This Row],[SEDE - REGIONAL]],DATOS!B150:D183,3,FALSE)","v":{"$error":"#N/A"}},{"$f":"+IF(OR(Tabla2[[#This Row],[Área/Dependencia]]=\"Subdirección de Sistemas Integrados\",Tabla2[[#This Row],[Área/Dependencia]]=\"Subdirección de Recursos Tecnológicos\"),\"X\",\"\")","v":""},{"$f":"+CONCATENATE(Tabla2[[#This Row],[Tipo de Proceso]],Tabla2[[#This Row],[Columna4]])","v":{"$error":"#N/A"}},null,null,null,null,null,null,null,null,null,null,null,null,null,{"$f":"+IF(Tabla2[[#This Row],[Nivel de acceso ]]=\"Alto\",0.5,IF(Tabla2[[#This Row],[Nivel de acceso ]]=\"Medio\",0.3,IF(Tabla2[[#This Row],[Nivel de acceso ]]=\"Bajo\",0.2,\"\")))","v":""},null,{"$f":"+IF(Tabla2[[#This Row],[Es  Reservada]]=\"Sí\",\"Escriba Ley\",\"No Aplica\")","v":"No Aplica"},null,null,null,null,{"$f":"IFERROR(IF(AND(Tabla2[[#This Row],[Contiene Datos Personales]]=\"SÍ\",OR(Tabla2[[#This Row],[Clasificación Datos Personales]]=\"Sensible\",Tabla2[[#This Row],[Clasificación Datos Personales]]=\"NNA\",Tabla2[[#This Row],[Clasificación Datos Personales]]=\"privado\")),\"Alto\",IF(AND(Tabla2[[#This Row],[Contiene Datos Personales]]=\"SÍ\",Tabla2[[#This Row],[Clasificación Datos Personales]]=\"SEMIPRIVADO\"),\"Medio\",\"Bajo\")),\"\")","v":"Bajo"},null,null,"No Aplica","No Aplica",null,null,null,{"$f":"+IF(Tabla2[[#This Row],[Integridad]]=\"Grave\",0.5,IF(Tabla2[[#This Row],[Integridad]]=\"Importante\",0.3,IF(Tabla2[[#This Row],[Integridad]]=\"Leve\",0.2,\"\")))","v":""},null,{"$f":"+IF(Tabla2[[#This Row],[Disponibilidad Interna]]=\"Sí\",0.1,IF(Tabla2[[#This Row],[Disponibilidad Interna]]=\"NO\",0,\"\"))","v":""},null,{"$f":"+IF(Tabla2[[#This Row],[Disponibilidad Terceros]]=\"Sí\",0.1,IF(Tabla2[[#This Row],[Disponibilidad Terceros]]=\"No\",0,\"\"))","v":""},{"$f":"+Tabla2[[#This Row],[Columna32]]+Tabla2[[#This Row],[Columna34]]+Tabla2[[#This Row],[Columna1]]+Tabla2[[#This Row],[Columna3]]","v":{"$error":"#VALUE!"}},{"$f":"IFERROR(IF(Tabla2[[#This Row],[Columna33]]<0.45,\"BAJA\",IF(Tabla2[[#This Row],[Columna33]]>0.75,\"ALTA\",\"MEDIA\")),\"\")","v":""},"No Aplica",{"$f":"+IF(Tabla2[[#This Row],[Información Publicada (WEB)]]=\"Sí\",\"Digite URL\",\"No Aplica\")","v":"No Aplica"},null,{"$f":"IF(Tabla2[[#This Row],[ Clasificación ICBF]]=\"Pública\",1,IF(Tabla2[[#This Row],[ Clasificación ICBF]]=\"Clasificada\",2,IF(Tabla2[[#This Row],[ Clasificación ICBF]]=\"Reservada\",3,0)))","v":0},{"$f":"IF(#REF!=8,4,IF(#REF!=16,3,IF(#REF!=24,2,IF(#REF!=48,1,0))))","v":{"$error":"#REF!"}},{"$f":"IF(#REF!=8,\"Alto\",IF(#REF!=16,\"Medio\",IF(#REF!=24,\"Medio\",IF(#REF!=48,\"Bajo\",0))))","v":{"$error":"#REF!"}},null,{"$f":"+MID(Tabla2[[#This Row],[Área/Dependencia]],17,8)","v":""}]
["",null,null,null,{"$f":"+VLOOKUP(Tabla2[[#This Row],[SEDE - REGIONAL]],DATOS!B151:D184,3,FALSE)","v":{"$error":"#N/A"}},{"$f":"+IF(OR(Tabla2[[#This Row],[Área/Dependencia]]=\"Subdirección de Sistemas Integrados\",Tabla2[[#This Row],[Área/Dependencia]]=\"Subdirección de Recursos Tecnológicos\"),\"X\",\"\")","v":""},{"$f":"+CONCATENATE(Tabla2[[#This Row],[Tipo de Proceso]],Tabla2[[#This Row],[Columna4]])","v":{"$error":"#N/A"}},null,null,null,null,null,null,null,null,null,null,null,null,null,{"$f":"+IF(Tabla2[[#This Row],[Nivel de acceso ]]=\"Alto\",0.5,IF(Tabla2[[#This Row],[Nivel de acceso ]]=\"Medio\",0.3,IF(Tabla2[[#This Row],[Nivel de acceso ]]=\"Bajo\",0.2,\"\")))","v":""},null,{"$f":"+IF(Tabla2[[#This Row],[Es  Reservada]]=\"Sí\",\"Escriba Ley\",\"No Aplica\")","v":"No Aplica"},null,null,null,null,{"$f":"IFERROR(IF(AND(Tabla2[[#This Row],[Contiene Datos Personales]]=\"SÍ\",OR(Tabla2[[#This Row],[Clasificación Datos Personales]]=\"Sensible\",Tabla2[[#This Row],[Clasificación Datos Personales]]=\"NNA\",Tabla2[[#This Row],[Clasificación Datos Personales]]=\"privado\")),\"Alto\",IF(AND(Tabla2[[#This Row],[Contiene Datos Personales]]=\"SÍ\",Tabla2[[#This Row],[Clasificación Datos Personales]]=\"SEMIPRIVADO\"),\"Medio\",\"Bajo\")),\"\")","v":"Bajo"},null,null,"No Aplica","No Aplica",null,null,null,{"$f":"+IF(Tabla2[[#This Row],[Integridad]]=\"Grave\",0.5,IF(Tabla2[[#This Row],[Integridad]]=\"Importante\",0.3,IF(Tabla2[[#This Row],[Integridad]]=\"Leve\",0.2,\"\")))","v":""},null,{"$f":"+IF(Tabla2[[#This Row],[Disponibilidad Interna]]=\"Sí\",0.1,IF(Tabla2[[#This Row],[Disponibilidad Interna]]=\"NO\",0,\"\"))","v":""},null,{"$f":"+IF(Tabla2[[#This Row],[Disponibilidad Terceros]]=\"Sí\",0.1,IF(Tabla2[[#This Row],[Disponibilidad Terceros]]=\"No\",0,\"\"))","v":""},{"$f":"+Tabla2[[#This Row],[Columna32]]+Tabla2[[#This Row],[Columna34]]+Tabla2[[#This Row],[Columna1]]+Tabla2[[#This Row],[Columna3]]","v":{"$error":"#VALUE!"}},{"$f":"IFERROR(IF(Tabla2[[#This Row],[Columna33]]<0.45,\"BAJA\",IF(Tabla2[[#This Row],[Columna33]]>0.75,\"ALTA\",\"MEDIA\")),\"\")","v":""},"No Aplica",{"$f":"+IF(Tabla2[[#This Row],[Información Publicada (WEB)]]=\"Sí\",\"Digite URL\",\"No Aplica\")","v":"No Aplica"},null,{"$f":"IF(Tabla2[[#This Row],[ Clasificación ICBF]]=\"Pública\",1,IF(Tabla2[[#This Row],[ Clasificación ICBF]]=\"Clasificada\",2,IF(Tabla2[[#This Row],[ Clasificación ICBF]]=\"Reservada\",3,0)))","v":0},{"$f":"IF(#REF!=8,4,IF(#REF!=16,3,IF(#REF!=24,2,IF(#REF!=48,1,0))))","v":{"$error":"#REF!"}},{"$f":"IF(#REF!=8,\"Alto\",IF(#REF!=16,\"Medio\",IF(#REF!=24,\"Medio\",IF(#REF!=48,\"Bajo\",0))))","v":{"$error":"#REF!"}},null,{"$f":"+MID(Tabla2[[#This Row],[Área/Dependencia]],17,8)","v":""}]
["",null,null,null,{"$f":"+VLOOKUP(Tabla2[[#This Row],[SEDE - REGIONAL]],DATOS!B152:D185,3,FALSE)","v":{"$error":"#N/A"}},{"$f":"+IF(OR(Tabla2[[#This Row],[Área/Dependencia]]=\"Subdirección de Sistemas Integrados\",Tabla2[[#This Row],[Área/Dependencia]]=\"Subdirección de Recursos Tecnológicos\"),\"X\",\"\")","v":""},{"$f":"+CONCATENATE(Tabla2[[#This Row],[Tipo de Proceso]],Tabla2[[#This Row],[Columna4]])","v":{"$error":"#N/A"}},null,null,null,null,null,null,null,null,null,null,null,null,null,{"$f":"+IF(Tabla2[[#This Row],[Nivel de acceso ]]=\"Alto\",0.5,IF(Tabla2[[#This Row],[Nivel de acceso ]]=\"Medio\",0.3,IF(Tabla2[[#This Row],[Nivel de acceso ]]=\"Bajo\",0.2,\"\")))","v":""},null,{"$f":"+IF(Tabla2[[#This Row],[Es  Reservada]]=\"Sí\",\"Escriba Ley\",\"No Aplica\")","v":"No Aplica"},null,null,null,null,{"$f":"IFERROR(IF(AND(Tabla2[[#This Row],[Contiene Datos Personales]]=\"SÍ\",OR(Tabla2[[#This Row],[Clasificación Datos Personales]]=\"Sensible\",Tabla2[[#This Row],[Clasificación Datos Personales]]=\"NNA\",Tabla2[[#This Row],[Clasificación Datos Personales]]=\"privado\")),\"Alto\",IF(AND(Tabla2[[#This Row],[Contiene Datos Personales]]=\"SÍ\",Tabla2[[#This Row],[Clasificación Datos Personales]]=\"SEMIPRIVADO\"),\"Medio\",\"Bajo\")),\"\")","v":"Bajo"},null,null,"No Aplica","No Aplica",null,null,null,{"$f":"+IF(Tabla2[[#This Row],[Integridad]]=\"Grave\",0.5,IF(Tabla2[[#This Row],[Integridad]]=\"Importante\",0.3,IF(Tabla2[[#This Row],[Integridad]]=\"Leve\",0.2,\"\")))","v":""},null,{"$f":"+IF(Tabla2[[#This Row],[Disponibilidad Interna]]=\"Sí\",0.1,IF(Tabla2[[#This Row],[Disponibilidad Interna]]=\"NO\",0,\"\"))","v":""},null,{"$f":"+IF(Tabla2[[#This Row],[Disponibilidad Terceros]]=\"Sí\",0.1,IF(Tabla2[[#This Row],[Disponibilidad Terceros]]=\"No\",0,\"\"))","v":""},{"$f":"+Tabla2[[#This Row],[Columna32]]+Tabla2[[#This Row],[Columna34]]+Tabla2[[#This Row],[Columna1]]+Tabla2[[#This Row],[Columna3]]","v":{"$error":"#VALUE!"}},{"$f":"IFERROR(IF(Tabla2[[#This Row],[Columna33]]<0.45,\"BAJA\",IF(Tabla2[[#This Row],[Columna33]]>0.75,\"ALTA\",\"MEDIA\")),\"\")","v":""},"No Aplica",{"$f":"+IF(Tabla2[[#This Row],[Información Publicada (WEB)]]=\"Sí\",\"Digite URL\",\"No Aplica\")","v":"No Aplica"},null,{"$f":"IF(Tabla2[[#This Row],[ Clasificación ICBF]]=\"Pública\",1,IF(Tabla2[[#This Row],[ Clasificación ICBF]]=\"Clasificada\",2,IF(Tabla2[[#This Row],[ Clasificación ICBF]]=\"Reservada\",3,0)))","v":0},{"$f":"IF(#REF!=8,4,IF(#REF!=16,3,IF(#REF!=24,2,IF(#REF!=48,1,0))))","v":{"$error":"#REF!"}},{"$f":"IF(#REF!=8,\"Alto\",IF(#REF!=16,\"Medio\",IF(#REF!=24,\"Medio\",IF(#REF!=48,\"Bajo\",0))))","v":{"$error":"#REF!"}},null,{"$f":"+MID(Tabla2[[#This Row],[Área/Dependencia]],17,8)","v":""}]
["",null,null,null,{"$f":"+VLOOKUP(Tabla2[[#This Row],[SEDE - REGIONAL]],DATOS!B153:D186,3,FALSE)","v":{"$error":"#N/A"}},{"$f":"+IF(OR(Tabla2[[#This Row],[Área/Dependencia]]=\"Subdirección de Sistemas Integrados\",Tabla2[[#This Row],[Área/Dependencia]]=\"Subdirección de Recursos Tecnológicos\"),\"X\",\"\")","v":""},{"$f":"+CONCATENATE(Tabla2[[#This Row],[Tipo de Proceso]],Tabla2[[#This Row],[Columna4]])","v":{"$error":"#N/A"}},null,null,null,null,null,null,null,null,null,null,null,null,null,{"$f":"+IF(Tabla2[[#This Row],[Nivel de acceso ]]=\"Alto\",0.5,IF(Tabla2[[#This Row],[Nivel de acceso ]]=\"Medio\",0.3,IF(Tabla2[[#This Row],[Nivel de acceso ]]=\"Bajo\",0.2,\"\")))","v":""},null,{"$f":"+IF(Tabla2[[#This Row],[Es  Reservada]]=\"Sí\",\"Escriba Ley\",\"No Aplica\")","v":"No Aplica"},null,null,null,null,{"$f":"IFERROR(IF(AND(Tabla2[[#This Row],[Contiene Datos Personales]]=\"SÍ\",OR(Tabla2[[#This Row],[Clasificación Datos Personales]]=\"Sensible\",Tabla2[[#This Row],[Clasificación Datos Personales]]=\"NNA\",Tabla2[[#This Row],[Clasificación Datos Personales]]=\"privado\")),\"Alto\",IF(AND(Tabla2[[#This Row],[Contiene Datos Personales]]=\"SÍ\",Tabla2[[#This Row],[Clasificación Datos Personales]]=\"SEMIPRIVADO\"),\"Medio\",\"Bajo\")),\"\")","v":"Bajo"},null,null,"No Aplica","No Aplica",null,null,null,{"$f":"+IF(Tabla2[[#This Row],[Integridad]]=\"Grave\",0.5,IF(Tabla2[[#This Row],[Integridad]]=\"Importante\",0.3,IF(Tabla2[[#This Row],[Integridad]]=\"Leve\",0.2,\"\")))","v":""},null,{"$f":"+IF(Tabla2[[#This Row],[Disponibilidad Interna]]=\"Sí\",0.1,IF(Tabla2[[#This Row],[Disponibilidad Interna]]=\"NO\",0,\"\"))","v":""},null,{"$f":"+IF(Tabla2[[#This Row],[Disponibilidad Terceros]]=\"Sí\",0.1,IF(Tabla2[[#This Row],[Disponibilidad Terceros]]=\"No\",0,\"\"))","v":""},{"$f":"+Tabla2[[#This Row],[Columna32]]+Tabla2[[#This Row],[Columna34]]+Tabla2[[#This Row],[Columna1]]+Tabla2[[#This Row],[Columna3]]","v":{"$error":"#VALUE!"}},{"$f":"IFERROR(IF(Tabla2[[#This Row],[Columna33]]<0.45,\"BAJA\",IF(Tabla2[[#This Row],[Columna33]]>0.75,\"ALTA\",\"MEDIA\")),\"\")","v":""},"No Aplica",{"$f":"+IF(Tabla2[[#This Row],[Información Publicada (WEB)]]=\"Sí\",\"Digite URL\",\"No Aplica\")","v":"No Aplica"},null,{"$f":"IF(Tabla2[[#This Row],[ Clasificación ICBF]]=\"Pública\",1,IF(Tabla2[[#This Row],[ Clasificación ICBF]]=\"Clasificada\",2,IF(Tabla2[[#This Row],[ Clasificación ICBF]]=\"Reservada\",3,0)))","v":0},{"$f":"IF(#REF!=8,4,IF(#REF!=16,3,IF(#REF!=24,2,IF(#REF!=48,1,0))))","v":{"$error":"#REF!"}},{"$f":"IF(#REF!=8,\"Alto\",IF(#REF!=16,\"Medio\",IF(#REF!=24,\"Medio\",IF(#REF!=48,\"Bajo\",0))))","v":{"$error":"#REF!"}},null,{"$f":"+MID(Tabla2[[#This Row],[Área/Dependencia]],17,8)","v":""}]
["",null,null,null,{"$f":"+VLOOKUP(Tabla2[[#This Row],[SEDE - REGIONAL]],DATOS!B154:D187,3,FALSE)","v":{"$error":"#N/A"}},{"$f":"+IF(OR(Tabla2[[#This Row],[Área/Dependencia]]=\"Subdirección de Sistemas Integrados\",Tabla2[[#This Row],[Área/Dependencia]]=\"Subdirección de Recursos Tecnológicos\"),\"X\",\"\")","v":""},{"$f":"+CONCATENATE(Tabla2[[#This Row],[Tipo de Proceso]],Tabla2[[#This Row],[Columna4]])","v":{"$error":"#N/A"}},null,null,null,null,null,null,null,null,null,null,null,null,null,{"$f":"+IF(Tabla2[[#This Row],[Nivel de acceso ]]=\"Alto\",0.5,IF(Tabla2[[#This Row],[Nivel de acceso ]]=\"Medio\",0.3,IF(Tabla2[[#This Row],[Nivel de acceso ]]=\"Bajo\",0.2,\"\")))","v":""},null,{"$f":"+IF(Tabla2[[#This Row],[Es  Reservada]]=\"Sí\",\"Escriba Ley\",\"No Aplica\")","v":"No Aplica"},null,null,null,null,{"$f":"IFERROR(IF(AND(Tabla2[[#This Row],[Contiene Datos Personales]]=\"SÍ\",OR(Tabla2[[#This Row],[Clasificación Datos Personales]]=\"Sensible\",Tabla2[[#This Row],[Clasificación Datos Personales]]=\"NNA\",Tabla2[[#This Row],[Clasificación Datos Personales]]=\"privado\")),\"Alto\",IF(AND(Tabla2[[#This Row],[Contiene Datos Personales]]=\"SÍ\",Tabla2[[#This Row],[Clasificación Datos Personales]]=\"SEMIPRIVADO\"),\"Medio\",\"Bajo\")),\"\")","v":"Bajo"},null,null,"No Aplica","No Aplica",null,null,null,{"$f":"+IF(Tabla2[[#This Row],[Integridad]]=\"Grave\",0.5,IF(Tabla2[[#This Row],[Integridad]]=\"Importante\",0.3,IF(Tabla2[[#This Row],[Integridad]]=\"Leve\",0.2,\"\")))","v":""},null,{"$f":"+IF(Tabla2[[#This Row],[Disponibilidad Interna]]=\"Sí\",0.1,IF(Tabla2[[#This Row],[Disponibilidad Interna]]=\"NO\",0,\"\"))","v":""},null,{"$f":"+IF(Tabla2[[#This Row],[Disponibilidad Terceros]]=\"Sí\",0.1,IF(Tabla2[[#This Row],[Disponibilidad Terceros]]=\"No\",0,\"\"))","v":""},{"$f":"+Tabla2[[#This Row],[Columna32]]+Tabla2[[#This Row],[Columna34]]+Tabla2[[#This Row],[Columna1]]+Tabla2[[#This Row],[Columna3]]","v":{"$error":"#VALUE!"}},{"$f":"IFERROR(IF(Tabla2[[#This Row],[Columna33]]<0.45,\"BAJA\",IF(Tabla2[[#This Row],[Columna33]]>0.75,\"ALTA\",\"MEDIA\")),\"\")","v":""},"No Aplica",{"$f":"+IF(Tabla2[[#This Row],[Información Publicada (WEB)]]=\"Sí\",\"Digite URL\",\"No Aplica\")","v":"No Aplica"},null,{"$f":"IF(Tabla2[[#This Row],[ Clasificación ICBF]]=\"Pública\",1,IF(Tabla2[[#This Row],[ Clasificación ICBF]]=\"Clasificada\",2,IF(Tabla2[[#This Row],[ Clasificación ICBF]]=\"Reservada\",3,0)))","v":0},{"$f":"IF(#REF!=8,4,IF(#REF!=16,3,IF(#REF!=24,2,IF(#REF!=48,1,0))))","v":{"$error":"#REF!"}},{"$f":"IF(#REF!=8,\"Alto\",IF(#REF!=16,\"Medio\",IF(#REF!=24,\"Medio\",IF(#REF!=48,\"Bajo\",0))))","v":{"$error":"#REF!"}},null,{"$f":"+MID(Tabla2[[#This Row],[Área/Dependencia]],17,8)","v":""}]
["",null,null,null,{"$f":"+VLOOKUP(Tabla2[[#This Row],[SEDE - REGIONAL]],DATOS!B155:D188,3,FALSE)","v":{"$error":"#N/A"}},{"$f":"+IF(OR(Tabla2[[#This Row],[Área/Dependencia]]=\"Subdirección de Sistemas Integrados\",Tabla2[[#This Row],[Área/Dependencia]]=\"Subdirección de Recursos Tecnológicos\"),\"X\",\"\")","v":""},{"$f":"+CONCATENATE(Tabla2[[#This Row],[Tipo de Proceso]],Tabla2[[#This Row],[Columna4]])","v":{"$error":"#N/A"}},null,null,null,null,null,null,null,null,null,null,null,null,null,{"$f":"+IF(Tabla2[[#This Row],[Nivel de acceso ]]=\"Alto\",0.5,IF(Tabla2[[#This Row],[Nivel de acceso ]]=\"Medio\",0.3,IF(Tabla2[[#This Row],[Nivel de acceso ]]=\"Bajo\",0.2,\"\")))","v":""},null,{"$f":"+IF(Tabla2[[#This Row],[Es  Reservada]]=\"Sí\",\"Escriba Ley\",\"No Aplica\")","v":"No Aplica"},null,null,null,null,{"$f":"IFERROR(IF(AND(Tabla2[[#This Row],[Contiene Datos Personales]]=\"SÍ\",OR(Tabla2[[#This Row],[Clasificación Datos Personales]]=\"Sensible\",Tabla2[[#This Row],[Clasificación Datos Personales]]=\"NNA\",Tabla2[[#This Row],[Clasificación Datos Personales]]=\"privado\")),\"Alto\",IF(AND(Tabla2[[#This Row],[Contiene Datos Personales]]=\"SÍ\",Tabla2[[#This Row],[Clasificación Datos Personales]]=\"SEMIPRIVADO\"),\"Medio\",\"Bajo\")),\"\")","v":"Bajo"},null,null,"No Aplica","No Aplica",null,null,null,{"$f":"+IF(Tabla2[[#This Row],[Integridad]]=\"Grave\",0.5,IF(Tabla2[[#This Row],[Integridad]]=\"Importante\",0.3,IF(Tabla2[[#This Row],[Integridad]]=\"Leve\",0.2,\"\")))","v":""},null,{"$f":"+IF(Tabla2[[#This Row],[Disponibilidad Interna]]=\"Sí\",0.1,IF(Tabla2[[#This Row],[Disponibilidad Interna]]=\"NO\",0,\"\"))","v":""},null,{"$f":"+IF(Tabla2[[#This Row],[Disponibilidad Terceros]]=\"Sí\",0.1,IF(Tabla2[[#This Row],[Disponibilidad Terceros]]=\"No\",0,\"\"))","v":""},{"$f":"+Tabla2[[#This Row],[Columna32]]+Tabla2[[#This Row],[Columna34]]+Tabla2[[#This Row],[Columna1]]+Tabla2[[#This Row],[Columna3]]","v":{"$error":"#VALUE!"}},{"$f":"IFERROR(IF(Tabla2[[#This Row],[Columna33]]<0.45,\"BAJA\",IF(Tabla2[[#This Row],[Columna33]]>0.75,\"ALTA\",\"MEDIA\")),\"\")","v":""},"No Aplica",{"$f":"+IF(Tabla2[[#This Row],[Información Publicada (WEB)]]=\"Sí\",\"Digite URL\",\"No Aplica\")","v":"No Aplica"},null,{"$f":"IF(Tabla2[[#This Row],[ Clasificación ICBF]]=\"Pública\",1,IF(Tabla2[[#This Row],[ Clasificación ICBF]]=\"Clasificada\",2,IF(Tabla2[[#This Row],[ Clasificación ICBF]]=\"Reservada\",3,0)))","v":0},{"$f":"IF(#REF!=8,4,IF(#REF!=16,3,IF(#REF!=24,2,IF(#REF!=48,1,0))))","v":{"$error":"#REF!"}},{"$f":"IF(#REF!=8,\"Alto\",IF(#REF!=16,\"Medio\",IF(#REF!=24,\"Medio\",IF(#REF!=48,\"Bajo\",0))))","v":{"$error":"#REF!"}},null,{"$f":"+MID(Tabla2[[#This Row],[Área/Dependencia]],17,8)","v":""}]
["",null,null,null,{"$f":"+VLOOKUP(Tabla2[[#This Row],[SEDE - REGIONAL]],DATOS!B156:D189,3,FALSE)","v":{"$error":"#N/A"}},{"$f":"+IF(OR(Tabla2[[#This Row],[Área/Dependencia]]=\"Subdirección de Sistemas Integrados\",Tabla2[[#This Row],[Área/Dependencia]]=\"Subdirección de Recursos Tecnológicos\"),\"X\",\"\")","v":""},{"$f":"+CONCATENATE(Tabla2[[#This Row],[Tipo de Proceso]],Tabla2[[#This Row],[Columna4]])","v":{"$error":"#N/A"}},null,null,null,null,null,null,null,null,null,null,null,null,null,{"$f":"+IF(Tabla2[[#This Row],[Nivel de acceso ]]=\"Alto\",0.5,IF(Tabla2[[#This Row],[Nivel de acceso ]]=\"Medio\",0.3,IF(Tabla2[[#This Row],[Nivel de acceso ]]=\"Bajo\",0.2,\"\")))","v":""},null,{"$f":"+IF(Tabla2[[#This Row],[Es  Reservada]]=\"Sí\",\"Escriba Ley\",\"No Aplica\")","v":"No Aplica"},null,null,null,null,{"$f":"IFERROR(IF(AND(Tabla2[[#This Row],[Contiene Datos Personales]]=\"SÍ\",OR(Tabla2[[#This Row],[Clasificación Datos Personales]]=\"Sensible\",Tabla2[[#This Row],[Clasificación Datos Personales]]=\"NNA\",Tabla2[[#This Row],[Clasificación Datos Personales]]=\"privado\")),\"Alto\",IF(AND(Tabla2[[#This Row],[Contiene Datos Personales]]=\"SÍ\",Tabla2[[#This Row],[Clasificación Datos Personales]]=\"SEMIPRIVADO\"),\"Medio\",\"Bajo\")),\"\")","v":"Bajo"},null,null,"No Aplica","No Aplica",null,null,null,{"$f":"+IF(Tabla2[[#This Row],[Integridad]]=\"Grave\",0.5,IF(Tabla2[[#This Row],[Integridad]]=\"Importante\",0.3,IF(Tabla2[[#This Row],[Integridad]]=\"Leve\",0.2,\"\")))","v":""},null,{"$f":"+IF(Tabla2[[#This Row],[Disponibilidad Interna]]=\"Sí\",0.1,IF(Tabla2[[#This Row],[Disponibilidad Interna]]=\"NO\",0,\"\"))","v":""},null,{"$f":"+IF(Tabla2[[#This Row],[Disponibilidad Terceros]]=\"Sí\",0.1,IF(Tabla2[[#This Row],[Disponibilidad Terceros]]=\"No\",0,\"\"))","v":""},{"$f":"+Tabla2[[#This Row],[Columna32]]+Tabla2[[#This Row],[Columna34]]+Tabla2[[#This Row],[Columna1]]+Tabla2[[#This Row],[Columna3]]","v":{"$error":"#VALUE!"}},{"$f":"IFERROR(IF(Tabla2[[#This Row],[Columna33]]<0.45,\"BAJA\",IF(Tabla2[[#This Row],[Columna33]]>0.75,\"ALTA\",\"MEDIA\")),\"\")","v":""},"No Aplica",{"$f":"+IF(Tabla2[[#This Row],[Información Publicada (WEB)]]=\"Sí\",\"Digite URL\",\"No Aplica\")","v":"No Aplica"},null,{"$f":"IF(Tabla2[[#This Row],[ Clasificación ICBF]]=\"Pública\",1,IF(Tabla2[[#This Row],[ Clasificación ICBF]]=\"Clasificada\",2,IF(Tabla2[[#This Row],[ Clasificación ICBF]]=\"Reservada\",3,0)))","v":0},{"$f":"IF(#REF!=8,4,IF(#REF!=16,3,IF(#REF!=24,2,IF(#REF!=48,1,0))))","v":{"$error":"#REF!"}},{"$f":"IF(#REF!=8,\"Alto\",IF(#REF!=16,\"Medio\",IF(#REF!=24,\"Medio\",IF(#REF!=48,\"Bajo\",0))))","v":{"$error":"#REF!"}},null,{"$f":"+MID(Tabla2[[#This Row],[Área/Dependencia]],17,8)","v":""}]
["",null,null,null,{"$f":"+VLOOKUP(Tabla2[[#This Row],[SEDE - REGIONAL]],DATOS!B157:D190,3,FALSE)","v":{"$error":"#N/A"}},{"$f":"+IF(OR(Tabla2[[#This Row],[Área/Dependencia]]=\"Subdirección de Sistemas Integrados\",Tabla2[[#This Row],[Área/Dependencia]]=\"Subdirección de Recursos Tecnológicos\"),\"X\",\"\")","v":""},{"$f":"+CONCATENATE(Tabla2[[#This Row],[Tipo de Proceso]],Tabla2[[#This Row],[Columna4]])","v":{"$error":"#N/A"}},null,null,null,null,null,null,null,null,null,null,null,null,null,{"$f":"+IF(Tabla2[[#This Row],[Nivel de acceso ]]=\"Alto\",0.5,IF(Tabla2[[#This Row],[Nivel de acceso ]]=\"Medio\",0.3,IF(Tabla2[[#This Row],[Nivel de acceso ]]=\"Bajo\",0.2,\"\")))","v":""},null,{"$f":"+IF(Tabla2[[#This Row],[Es  Reservada]]=\"Sí\",\"Escriba Ley\",\"No Aplica\")","v":"No Aplica"},null,null,null,null,{"$f":"IFERROR(IF(AND(Tabla2[[#This Row],[Contiene Datos Personales]]=\"SÍ\",OR(Tabla2[[#This Row],[Clasificación Datos Personales]]=\"Sensible\",Tabla2[[#This Row],[Clasificación Datos Personales]]=\"NNA\",Tabla2[[#This Row],[Clasificación Datos Personales]]=\"privado\")),\"Alto\",IF(AND(Tabla2[[#This Row],[Contiene Datos Personales]]=\"SÍ\",Tabla2[[#This Row],[Clasificación Datos Personales]]=\"SEMIPRIVADO\"),\"Medio\",\"Bajo\")),\"\")","v":"Bajo"},null,null,"No Aplica","No Aplica",null,null,null,{"$f":"+IF(Tabla2[[#This Row],[Integridad]]=\"Grave\",0.5,IF(Tabla2[[#This Row],[Integridad]]=\"Importante\",0.3,IF(Tabla2[[#This Row],[Integridad]]=\"Leve\",0.2,\"\")))","v":""},null,{"$f":"+IF(Tabla2[[#This Row],[Disponibilidad Interna]]=\"Sí\",0.1,IF(Tabla2[[#This Row],[Disponibilidad Interna]]=\"NO\",0,\"\"))","v":""},null,{"$f":"+IF(Tabla2[[#This Row],[Disponibilidad Terceros]]=\"Sí\",0.1,IF(Tabla2[[#This Row],[Disponibilidad Terceros]]=\"No\",0,\"\"))","v":""},{"$f":"+Tabla2[[#This Row],[Columna32]]+Tabla2[[#This Row],[Columna34]]+Tabla2[[#This Row],[Columna1]]+Tabla2[[#This Row],[Columna3]]","v":{"$error":"#VALUE!"}},{"$f":"IFERROR(IF(Tabla2[[#This Row],[Columna33]]<0.45,\"BAJA\",IF(Tabla2[[#This Row],[Columna33]]>0.75,\"ALTA\",\"MEDIA\")),\"\")","v":""},"No Aplica",{"$f":"+IF(Tabla2[[#This Row],[Información Publicada (WEB)]]=\"Sí\",\"Digite URL\",\"No Aplica\")","v":"No Aplica"},null,{"$f":"IF(Tabla2[[#This Row],[ Clasificación ICBF]]=\"Pública\",1,IF(Tabla2[[#This Row],[ Clasificación ICBF]]=\"Clasificada\",2,IF(Tabla2[[#This Row],[ Clasificación ICBF]]=\"Reservada\",3,0)))","v":0},{"$f":"IF(#REF!=8,4,IF(#REF!=16,3,IF(#REF!=24,2,IF(#REF!=48,1,0))))","v":{"$error":"#REF!"}},{"$f":"IF(#REF!=8,\"Alto\",IF(#REF!=16,\"Medio\",IF(#REF!=24,\"Medio\",IF(#REF!=48,\"Bajo\",0))))","v":{"$error":"#REF!"}},null,{"$f":"+MID(Tabla2[[#This Row],[Área/Dependencia]],17,8)","v":""}]
["",null,null,null,{"$f":"+VLOOKUP(Tabla2[[#This Row],[SEDE - REGIONAL]],DATOS!B158:D191,3,FALSE)","v":{"$error":"#N/A"}},{"$f":"+IF(OR(Tabla2[[#This Row],[Área/Dependencia]]=\"Subdirección de Sistemas Integrados\",Tabla2[[#This Row],[Área/Dependencia]]=\"Subdirección de Recursos Tecnológicos\"),\"X\",\"\")","v":""},{"$f":"+CONCATENATE(Tabla2[[#This Row],[Tipo de Proceso]],Tabla2[[#This Row],[Columna4]])","v":{"$error":"#N/A"}},null,null,null,null,null,null,null,null,null,null,null,null,null,{"$f":"+IF(Tabla2[[#This Row],[Nivel de acceso ]]=\"Alto\",0.5,IF(Tabla2[[#This Row],[Nivel de acceso ]]=\"Medio\",0.3,IF(Tabla2[[#This Row],[Nivel de acceso ]]=\"Bajo\",0.2,\"\")))","v":""},null,{"$f":"+IF(Tabla2[[#This Row],[Es  Reservada]]=\"Sí\",\"Escriba Ley\",\"No Aplica\")","v":"No Aplica"},null,null,null,null,{"$f":"IFERROR(IF(AND(Tabla2[[#This Row],[Contiene Datos Personales]]=\"SÍ\",OR(Tabla2[[#This Row],[Clasificación Datos Personales]]=\"Sensible\",Tabla2[[#This Row],[Clasificación Datos Personales]]=\"NNA\",Tabla2[[#This Row],[Clasificación Datos Personales]]=\"privado\")),\"Alto\",IF(AND(Tabla2[[#This Row],[Contiene Datos Personales]]=\"SÍ\",Tabla2[[#This Row],[Clasificación Datos Personales]]=\"SEMIPRIVADO\"),\"Medio\",\"Bajo\")),\"\")","v":"Bajo"},null,null,"No Aplica","No Aplica",null,null,null,{"$f":"+IF(Tabla2[[#This Row],[Integridad]]=\"Grave\",0.5,IF(Tabla2[[#This Row],[Integridad]]=\"Importante\",0.3,IF(Tabla2[[#This Row],[Integridad]]=\"Leve\",0.2,\"\")))","v":""},null,{"$f":"+IF(Tabla2[[#This Row],[Disponibilidad Interna]]=\"Sí\",0.1,IF(Tabla2[[#This Row],[Disponibilidad Interna]]=\"NO\",0,\"\"))","v":""},null,{"$f":"+IF(Tabla2[[#This Row],[Disponibilidad Terceros]]=\"Sí\",0.1,IF(Tabla2[[#This Row],[Disponibilidad Terceros]]=\"No\",0,\"\"))","v":""},{"$f":"+Tabla2[[#This Row],[Columna32]]+Tabla2[[#This Row],[Columna34]]+Tabla2[[#This Row],[Columna1]]+Tabla2[[#This Row],[Columna3]]","v":{"$error":"#VALUE!"}},{"$f":"IFERROR(IF(Tabla2[[#This Row],[Columna33]]<0.45,\"BAJA\",IF(Tabla2[[#This Row],[Columna33]]>0.75,\"ALTA\",\"MEDIA\")),\"\")","v":""},"No Aplica",{"$f":"+IF(Tabla2[[#This Row],[Información Publicada (WEB)]]=\"Sí\",\"Digite URL\",\"No Aplica\")","v":"No Aplica"},null,{"$f":"IF(Tabla2[[#This Row],[ Clasificación ICBF]]=\"Pública\",1,IF(Tabla2[[#This Row],[ Clasificación ICBF]]=\"Clasificada\",2,IF(Tabla2[[#This Row],[ Clasificación ICBF]]=\"Reservada\",3,0)))","v":0},{"$f":"IF(#REF!=8,4,IF(#REF!=16,3,IF(#REF!=24,2,IF(#REF!=48,1,0))))","v":{"$error":"#REF!"}},{"$f":"IF(#REF!=8,\"Alto\",IF(#REF!=16,\"Medio\",IF(#REF!=24,\"Medio\",IF(#REF!=48,\"Bajo\",0))))","v":{"$error":"#REF!"}},null,{"$f":"+MID(Tabla2[[#This Row],[Área/Dependencia]],17,8)","v":""}]
["",null,null,null,{"$f":"+VLOOKUP(Tabla2[[#This Row],[SEDE - REGIONAL]],DATOS!B159:D192,3,FALSE)","v":{"$error":"#N/A"}},{"$f":"+IF(OR(Tabla2[[#This Row],[Área/Dependencia]]=\"Subdirección de Sistemas Integrados\",Tabla2[[#This Row],[Área/Dependencia]]=\"Subdirección de Recursos Tecnológicos\"),\"X\",\"\")","v":""},{"$f":"+CONCATENATE(Tabla2[[#This Row],[Tipo de Proceso]],Tabla2[[#This Row],[Columna4]])","v":{"$error":"#N/A"}},null,null,null,null,null,null,null,null,null,null,null,null,null,{"$f":"+IF(Tabla2[[#This Row],[Nivel de acceso ]]=\"Alto\",0.5,IF(Tabla2[[#This Row],[Nivel de acceso ]]=\"Medio\",0.3,IF(Tabla2[[#This Row],[Nivel de acceso ]]=\"Bajo\",0.2,\"\")))","v":""},null,{"$f":"+IF(Tabla2[[#This Row],[Es  Reservada]]=\"Sí\",\"Escriba Ley\",\"No Aplica\")","v":"No Aplica"},null,null,null,null,{"$f":"IFERROR(IF(AND(Tabla2[[#This Row],[Contiene Datos Personales]]=\"SÍ\",OR(Tabla2[[#This Row],[Clasificación Datos Personales]]=\"Sensible\",Tabla2[[#This Row],[Clasificación Datos Personales]]=\"NNA\",Tabla2[[#This Row],[Clasificación Datos Personales]]=\"privado\")),\"Alto\",IF(AND(Tabla2[[#This Row],[Contiene Datos Personales]]=\"SÍ\",Tabla2[[#This Row],[Clasificación Datos Personales]]=\"SEMIPRIVADO\"),\"Medio\",\"Bajo\")),\"\")","v":"Bajo"},null,null,"No Aplica","No Aplica",null,null,null,{"$f":"+IF(Tabla2[[#This Row],[Integridad]]=\"Grave\",0.5,IF(Tabla2[[#This Row],[Integridad]]=\"Importante\",0.3,IF(Tabla2[[#This Row],[Integridad]]=\"Leve\",0.2,\"\")))","v":""},null,{"$f":"+IF(Tabla2[[#This Row],[Disponibilidad Interna]]=\"Sí\",0.1,IF(Tabla2[[#This Row],[Disponibilidad Interna]]=\"NO\",0,\"\"))","v":""},null,{"$f":"+IF(Tabla2[[#This Row],[Disponibilidad Terceros]]=\"Sí\",0.1,IF(Tabla2[[#This Row],[Disponibilidad Terceros]]=\"No\",0,\"\"))","v":""},{"$f":"+Tabla2[[#This Row],[Columna32]]+Tabla2[[#This Row],[Columna34]]+Tabla2[[#This Row],[Columna1]]+Tabla2[[#This Row],[Columna3]]","v":{"$error":"#VALUE!"}},{"$f":"IFERROR(IF(Tabla2[[#This Row],[Columna33]]<0.45,\"BAJA\",IF(Tabla2[[#This Row],[Columna33]]>0.75,\"ALTA\",\"MEDIA\")),\"\")","v":""},"No Aplica",{"$f":"+IF(Tabla2[[#This Row],[Información Publicada (WEB)]]=\"Sí\",\"Digite URL\",\"No Aplica\")","v":"No Aplica"},null,{"$f":"IF(Tabla2[[#This Row],[ Clasificación ICBF]]=\"Pública\",1,IF(Tabla2[[#This Row],[ Clasificación ICBF]]=\"Clasificada\",2,IF(Tabla2[[#This Row],[ Clasificación ICBF]]=\"Reservada\",3,0)))","v":0},{"$f":"IF(#REF!=8,4,IF(#REF!=16,3,IF(#REF!=24,2,IF(#REF!=48,1,0))))","v":{"$error":"#REF!"}},{"$f":"IF(#REF!=8,\"Alto\",IF(#REF!=16,\"Medio\",IF(#REF!=24,\"Medio\",IF(#REF!=48,\"Bajo\",0))))","v":{"$error":"#REF!"}},null,{"$f":"+MID(Tabla2[[#This Row],[Área/Dependencia]],17,8)","v":""}]
["",null,null,null,{"$f":"+VLOOKUP(Tabla2[[#This Row],[SEDE - REGIONAL]],DATOS!B160:D193,3,FALSE)","v":{"$error":"#N/A"}},{"$f":"+IF(OR(Tabla2[[#This Row],[Área/Dependencia]]=\"Subdirección de Sistemas Integrados\",Tabla2[[#This Row],[Área/Dependencia]]=\"Subdirección de Recursos Tecnológicos\"),\"X\",\"\")","v":""},{"$f":"+CONCATENATE(Tabla2[[#This Row],[Tipo de Proceso]],Tabla2[[#This Row],[Columna4]])","v":{"$error":"#N/A"}},null,null,null,null,null,null,null,null,null,null,null,null,null,{"$f":"+IF(Tabla2[[#This Row],[Nivel de acceso ]]=\"Alto\",0.5,IF(Tabla2[[#This Row],[Nivel de acceso ]]=\"Medio\",0.3,IF(Tabla2[[#This Row],[Nivel de acceso ]]=\"Bajo\",0.2,\"\")))","v":""},null,{"$f":"+IF(Tabla2[[#This Row],[Es  Reservada]]=\"Sí\",\"Escriba Ley\",\"No Aplica\")","v":"No Aplica"},null,null,null,null,{"$f":"IFERROR(IF(AND(Tabla2[[#This Row],[Contiene Datos Personales]]=\"SÍ\",OR(Tabla2[[#This Row],[Clasificación Datos Personales]]=\"Sensible\",Tabla2[[#This Row],[Clasificación Datos Personales]]=\"NNA\",Tabla2[[#This Row],[Clasificación Datos Personales]]=\"privado\")),\"Alto\",IF(AND(Tabla2[[#This Row],[Contiene Datos Personales]]=\"SÍ\",Tabla2[[#This Row],[Clasificación Datos Personales]]=\"SEMIPRIVADO\"),\"Medio\",\"Bajo\")),\"\")","v":"Bajo"},null,null,"No Aplica","No Aplica",null,null,null,{"$f":"+IF(Tabla2[[#This Row],[Integridad]]=\"Grave\",0.5,IF(Tabla2[[#This Row],[Integridad]]=\"Importante\",0.3,IF(Tabla2[[#This Row],[Integridad]]=\"Leve\",0.2,\"\")))","v":""},null,{"$f":"+IF(Tabla2[[#This Row],[Disponibilidad Interna]]=\"Sí\",0.1,IF(Tabla2[[#This Row],[Disponibilidad Interna]]=\"NO\",0,\"\"))","v":""},null,{"$f":"+IF(Tabla2[[#This Row],[Disponibilidad Terceros]]=\"Sí\",0.1,IF(Tabla2[[#This Row],[Disponibilidad Terceros]]=\"No\",0,\"\"))","v":""},{"$f":"+Tabla2[[#This Row],[Columna32]]+Tabla2[[#This Row],[Columna34]]+Tabla2[[#This Row],[Columna1]]+Tabla2[[#This Row],[Columna3]]","v":{"$error":"#VALUE!"}},{"$f":"IFERROR(IF(Tabla2[[#This Row],[Columna33]]<0.45,\"BAJA\",IF(Tabla2[[#This Row],[Columna33]]>0.75,\"ALTA\",\"MEDIA\")),\"\")","v":""},"No Aplica",{"$f":"+IF(Tabla2[[#This Row],[Información Publicada (WEB)]]=\"Sí\",\"Digite URL\",\"No Aplica\")","v":"No Aplica"},null,{"$f":"IF(Tabla2[[#This Row],[ Clasificación ICBF]]=\"Pública\",1,IF(Tabla2[[#This Row],[ Clasificación ICBF]]=\"Clasificada\",2,IF(Tabla2[[#This Row],[ Clasificación ICBF]]=\"Reservada\",3,0)))","v":0},{"$f":"IF(#REF!=8,4,IF(#REF!=16,3,IF(#REF!=24,2,IF(#REF!=48,1,0))))","v":{"$error":"#REF!"}},{"$f":"IF(#REF!=8,\"Alto\",IF(#REF!=16,\"Medio\",IF(#REF!=24,\"Medio\",IF(#REF!=48,\"Bajo\",0))))","v":{"$error":"#REF!"}},null,{"$f":"+MID(Tabla2[[#This Row],[Área/Dependencia]],17,8)","v":""}]
["",null,null,null,{"$f":"+VLOOKUP(Tabla2[[#This Row],[SEDE - REGIONAL]],DATOS!B161:D194,3,FALSE)","v":{"$error":"#N/A"}},{"$f":"+IF(OR(Tabla2[[#This Row],[Área/Dependencia]]=\"Subdirección de Sistemas Integrados\",Tabla2[[#This Row],[Área/Dependencia]]=\"Subdirección de Recursos Tecnológicos\"),\"X\",\"\")","v":""},{"$f":"+CONCATENATE(Tabla2[[#This Row],[Tipo de Proceso]],Tabla2[[#This Row],[Columna4]])","v":{"$error":"#N/A"}},null,null,null,null,null,null,null,null,null,null,null,null,null,{"$f":"+IF(Tabla2[[#This Row],[Nivel de acceso ]]=\"Alto\",0.5,IF(Tabla2[[#This Row],[Nivel de acceso ]]=\"Medio\",0.3,IF(Tabla2[[#This Row],[Nivel de acceso ]]=\"Bajo\",0.2,\"\")))","v":""},null,{"$f":"+IF(Tabla2[[#This Row],[Es  Reservada]]=\"Sí\",\"Escriba Ley\",\"No Aplica\")","v":"No Aplica"},null,null,null,null,{"$f":"IFERROR(IF(AND(Tabla2[[#This Row],[Contiene Datos Personales]]=\"SÍ\",OR(Tabla2[[#This Row],[Clasificación Datos Personales]]=\"Sensible\",Tabla2[[#This Row],[Clasificación Datos Personales]]=\"NNA\",Tabla2[[#This Row],[Clasificación Datos Personales]]=\"privado\")),\"Alto\",IF(AND(Tabla2[[#This Row],[Contiene Datos Personales]]=\"SÍ\",Tabla2[[#This Row],[Clasificación Datos Personales]]=\"SEMIPRIVADO\"),\"Medio\",\"Bajo\")),\"\")","v":"Bajo"},null,null,"No Aplica","No Aplica",null,null,null,{"$f":"+IF(Tabla2[[#This Row],[Integridad]]=\"Grave\",0.5,IF(Tabla2[[#This Row],[Integridad]]=\"Importante\",0.3,IF(Tabla2[[#This Row],[Integridad]]=\"Leve\",0.2,\"\")))","v":""},null,{"$f":"+IF(Tabla2[[#This Row],[Disponibilidad Interna]]=\"Sí\",0.1,IF(Tabla2[[#This Row],[Disponibilidad Interna]]=\"NO\",0,\"\"))","v":""},null,{"$f":"+IF(Tabla2[[#This Row],[Disponibilidad Terceros]]=\"Sí\",0.1,IF(Tabla2[[#This Row],[Disponibilidad Terceros]]=\"No\",0,\"\"))","v":""},{"$f":"+Tabla2[[#This Row],[Columna32]]+Tabla2[[#This Row],[Columna34]]+Tabla2[[#This Row],[Columna1]]+Tabla2[[#This Row],[Columna3]]","v":{"$error":"#VALUE!"}},{"$f":"IFERROR(IF(Tabla2[[#This Row],[Columna33]]<0.45,\"BAJA\",IF(Tabla2[[#This Row],[Columna33]]>0.75,\"ALTA\",\"MEDIA\")),\"\")","v":""},"No Aplica",{"$f":"+IF(Tabla2[[#This Row],[Información Publicada (WEB)]]=\"Sí\",\"Digite URL\",\"No Aplica\")","v":"No Aplica"},null,{"$f":"IF(Tabla2[[#This Row],[ Clasificación ICBF]]=\"Pública\",1,IF(Tabla2[[#This Row],[ Clasificación ICBF]]=\"Clasificada\",2,IF(Tabla2[[#This Row],[ Clasificación ICBF]]=\"Reservada\",3,0)))","v":0},{"$f":"IF(#REF!=8,4,IF(#REF!=16,3,IF(#REF!=24,2,IF(#REF!=48,1,0))))","v":{"$error":"#REF!"}},{"$f":"IF(#REF!=8,\"Alto\",IF(#REF!=16,\"Medio\",IF(#REF!=24,\"Medio\",IF(#REF!=48,\"Bajo\",0))))","v":{"$error":"#REF!"}},null,{"$f":"+MID(Tabla2[[#This Row],[Área/Dependencia]],17,8)","v":""}]
["",null,null,null,{"$f":"+VLOOKUP(Tabla2[[#This Row],[SEDE - REGIONAL]],DATOS!B162:D195,3,FALSE)","v":{"$error":"#N/A"}},{"$f":"+IF(OR(Tabla2[[#This Row],[Área/Dependencia]]=\"Subdirección de Sistemas Integrados\",Tabla2[[#This Row],[Área/Dependencia]]=\"Subdirección de Recursos Tecnológicos\"),\"X\",\"\")","v":""},{"$f":"+CONCATENATE(Tabla2[[#This Row],[Tipo de Proceso]],Tabla2[[#This Row],[Columna4]])","v":{"$error":"#N/A"}},null,null,null,null,null,null,null,null,null,null,null,null,null,{"$f":"+IF(Tabla2[[#This Row],[Nivel de acceso ]]=\"Alto\",0.5,IF(Tabla2[[#This Row],[Nivel de acceso ]]=\"Medio\",0.3,IF(Tabla2[[#This Row],[Nivel de acceso ]]=\"Bajo\",0.2,\"\")))","v":""},null,{"$f":"+IF(Tabla2[[#This Row],[Es  Reservada]]=\"Sí\",\"Escriba Ley\",\"No Aplica\")","v":"No Aplica"},null,null,null,null,{"$f":"IFERROR(IF(AND(Tabla2[[#This Row],[Contiene Datos Personales]]=\"SÍ\",OR(Tabla2[[#This Row],[Clasificación Datos Personales]]=\"Sensible\",Tabla2[[#This Row],[Clasificación Datos Personales]]=\"NNA\",Tabla2[[#This Row],[Clasificación Datos Personales]]=\"privado\")),\"Alto\",IF(AND(Tabla2[[#This Row],[Contiene Datos Personales]]=\"SÍ\",Tabla2[[#This Row],[Clasificación Datos Personales]]=\"SEMIPRIVADO\"),\"Medio\",\"Bajo\")),\"\")","v":"Bajo"},null,null,"No Aplica","No Aplica",null,null,null,{"$f":"+IF(Tabla2[[#This Row],[Integridad]]=\"Grave\",0.5,IF(Tabla2[[#This Row],[Integridad]]=\"Importante\",0.3,IF(Tabla2[[#This Row],[Integridad]]=\"Leve\",0.2,\"\")))","v":""},null,{"$f":"+IF(Tabla2[[#This Row],[Disponibilidad Interna]]=\"Sí\",0.1,IF(Tabla2[[#This Row],[Disponibilidad Interna]]=\"NO\",0,\"\"))","v":""},null,{"$f":"+IF(Tabla2[[#This Row],[Disponibilidad Terceros]]=\"Sí\",0.1,IF(Tabla2[[#This Row],[Disponibilidad Terceros]]=\"No\",0,\"\"))","v":""},{"$f":"+Tabla2[[#This Row],[Columna32]]+Tabla2[[#This Row],[Columna34]]+Tabla2[[#This Row],[Columna1]]+Tabla2[[#This Row],[Columna3]]","v":{"$error":"#VALUE!"}},{"$f":"IFERROR(IF(Tabla2[[#This Row],[Columna33]]<0.45,\"BAJA\",IF(Tabla2[[#This Row],[Columna33]]>0.75,\"ALTA\",\"MEDIA\")),\"\")","v":""},"No Aplica",{"$f":"+IF(Tabla2[[#This Row],[Información Publicada (WEB)]]=\"Sí\",\"Digite URL\",\"No Aplica\")","v":"No Aplica"},null,{"$f":"IF(Tabla2[[#This Row],[ Clasificación ICBF]]=\"Pública\",1,IF(Tabla2[[#This Row],[ Clasificación ICBF]]=\"Clasificada\",2,IF(Tabla2[[#This Row],[ Clasificación ICBF]]=\"Reservada\",3,0)))","v":0},{"$f":"IF(#REF!=8,4,IF(#REF!=16,3,IF(#REF!=24,2,IF(#REF!=48,1,0))))","v":{"$error":"#REF!"}},{"$f":"IF(#REF!=8,\"Alto\",IF(#REF!=16,\"Medio\",IF(#REF!=24,\"Medio\",IF(#REF!=48,\"Bajo\",0))))","v":{"$error":"#REF!"}},null,{"$f":"+MID(Tabla2[[#This Row],[Área/Dependencia]],17,8)","v":""}]
["",null,null,null,{"$f":"+VLOOKUP(Tabla2[[#This Row],[SEDE - REGIONAL]],DATOS!B163:D196,3,FALSE)","v":{"$error":"#N/A"}},{"$f":"+IF(OR(Tabla2[[#This Row],[Área/Dependencia]]=\"Subdirección de Sistemas Integrados\",Tabla2[[#This Row],[Área/Dependencia]]=\"Subdirección de Recursos Tecnológicos\"),\"X\",\"\")","v":""},{"$f":"+CONCATENATE(Tabla2[[#This Row],[Tipo de Proceso]],Tabla2[[#This Row],[Columna4]])","v":{"$error":"#N/A"}},null,null,null,null,null,null,null,null,null,null,null,null,null,{"$f":"+IF(Tabla2[[#This Row],[Nivel de acceso ]]=\"Alto\",0.5,IF(Tabla2[[#This Row],[Nivel de acceso ]]=\"Medio\",0.3,IF(Tabla2[[#This Row],[Nivel de acceso ]]=\"Bajo\",0.2,\"\")))","v":""},null,{"$f":"+IF(Tabla2[[#This Row],[Es  Reservada]]=\"Sí\",\"Escriba Ley\",\"No Aplica\")","v":"No Aplica"},null,null,null,null,{"$f":"IFERROR(IF(AND(Tabla2[[#This Row],[Contiene Datos Personales]]=\"SÍ\",OR(Tabla2[[#This Row],[Clasificación Datos Personales]]=\"Sensible\",Tabla2[[#This Row],[Clasificación Datos Personales]]=\"NNA\",Tabla2[[#This Row],[Clasificación Datos Personales]]=\"privado\")),\"Alto\",IF(AND(Tabla2[[#This Row],[Contiene Datos Personales]]=\"SÍ\",Tabla2[[#This Row],[Clasificación Datos Personales]]=\"SEMIPRIVADO\"),\"Medio\",\"Bajo\")),\"\")","v":"Bajo"},null,null,"No Aplica","No Aplica",null,null,null,{"$f":"+IF(Tabla2[[#This Row],[Integridad]]=\"Grave\",0.5,IF(Tabla2[[#This Row],[Integridad]]=\"Importante\",0.3,IF(Tabla2[[#This Row],[Integridad]]=\"Leve\",0.2,\"\")))","v":""},null,{"$f":"+IF(Tabla2[[#This Row],[Disponibilidad Interna]]=\"Sí\",0.1,IF(Tabla2[[#This Row],[Disponibilidad Interna]]=\"NO\",0,\"\"))","v":""},null,{"$f":"+IF(Tabla2[[#This Row],[Disponibilidad Terceros]]=\"Sí\",0.1,IF(Tabla2[[#This Row],[Disponibilidad Terceros]]=\"No\",0,\"\"))","v":""},{"$f":"+Tabla2[[#This Row],[Columna32]]+Tabla2[[#This Row],[Columna34]]+Tabla2[[#This Row],[Columna1]]+Tabla2[[#This Row],[Columna3]]","v":{"$error":"#VALUE!"}},{"$f":"IFERROR(IF(Tabla2[[#This Row],[Columna33]]<0.45,\"BAJA\",IF(Tabla2[[#This Row],[Columna33]]>0.75,\"ALTA\",\"MEDIA\")),\"\")","v":""},"No Aplica",{"$f":"+IF(Tabla2[[#This Row],[Información Publicada (WEB)]]=\"Sí\",\"Digite URL\",\"No Aplica\")","v":"No Aplica"},null,{"$f":"IF(Tabla2[[#This Row],[ Clasificación ICBF]]=\"Pública\",1,IF(Tabla2[[#This Row],[ Clasificación ICBF]]=\"Clasificada\",2,IF(Tabla2[[#This Row],[ Clasificación ICBF]]=\"Reservada\",3,0)))","v":0},{"$f":"IF(#REF!=8,4,IF(#REF!=16,3,IF(#REF!=24,2,IF(#REF!=48,1,0))))","v":{"$error":"#REF!"}},{"$f":"IF(#REF!=8,\"Alto\",IF(#REF!=16,\"Medio\",IF(#REF!=24,\"Medio\",IF(#REF!=48,\"Bajo\",0))))","v":{"$error":"#REF!"}},null,{"$f":"+MID(Tabla2[[#This Row],[Área/Dependencia]],17,8)","v":""}]
["",null,null,null,{"$f":"+VLOOKUP(Tabla2[[#This Row],[SEDE - REGIONAL]],DATOS!B164:D197,3,FALSE)","v":{"$error":"#N/A"}},{"$f":"+IF(OR(Tabla2[[#This Row],[Área/Dependencia]]=\"Subdirección de Sistemas Integrados\",Tabla2[[#This Row],[Área/Dependencia]]=\"Subdirección de Recursos Tecnológicos\"),\"X\",\"\")","v":""},{"$f":"+CONCATENATE(Tabla2[[#This Row],[Tipo de Proceso]],Tabla2[[#This Row],[Columna4]])","v":{"$error":"#N/A"}},null,null,null,null,null,null,null,null,null,null,null,null,null,{"$f":"+IF(Tabla2[[#This Row],[Nivel de acceso ]]=\"Alto\",0.5,IF(Tabla2[[#This Row],[Nivel de acceso ]]=\"Medio\",0.3,IF(Tabla2[[#This Row],[Nivel de acceso ]]=\"Bajo\",0.2,\"\")))","v":""},null,{"$f":"+IF(Tabla2[[#This Row],[Es  Reservada]]=\"Sí\",\"Escriba Ley\",\"No Aplica\")","v":"No Aplica"},null,null,null,null,{"$f":"IFERROR(IF(AND(Tabla2[[#This Row],[Contiene Datos Personales]]=\"SÍ\",OR(Tabla2[[#This Row],[Clasificación Datos Personales]]=\"Sensible\",Tabla2[[#This Row],[Clasificación Datos Personales]]=\"NNA\",Tabla2[[#This Row],[Clasificación Datos Personales]]=\"privado\")),\"Alto\",IF(AND(Tabla2[[#This Row],[Contiene Datos Personales]]=\"SÍ\",Tabla2[[#This Row],[Clasificación Datos Personales]]=\"SEMIPRIVADO\"),\"Medio\",\"Bajo\")),\"\")","v":"Bajo"},null,null,"No Aplica","No Aplica",null,null,null,{"$f":"+IF(Tabla2[[#This Row],[Integridad]]=\"Grave\",0.5,IF(Tabla2[[#This Row],[Integridad]]=\"Importante\",0.3,IF(Tabla2[[#This Row],[Integridad]]=\"Leve\",0.2,\"\")))","v":""},null,{"$f":"+IF(Tabla2[[#This Row],[Disponibilidad Interna]]=\"Sí\",0.1,IF(Tabla2[[#This Row],[Disponibilidad Interna]]=\"NO\",0,\"\"))","v":""},null,{"$f":"+IF(Tabla2[[#This Row],[Disponibilidad Terceros]]=\"Sí\",0.1,IF(Tabla2[[#This Row],[Disponibilidad Terceros]]=\"No\",0,\"\"))","v":""},{"$f":"+Tabla2[[#This Row],[Columna32]]+Tabla2[[#This Row],[Columna34]]+Tabla2[[#This Row],[Columna1]]+Tabla2[[#This Row],[Columna3]]","v":{"$error":"#VALUE!"}},{"$f":"IFERROR(IF(Tabla2[[#This Row],[Columna33]]<0.45,\"BAJA\",IF(Tabla2[[#This Row],[Columna33]]>0.75,\"ALTA\",\"MEDIA\")),\"\")","v":""},"No Aplica",{"$f":"+IF(Tabla2[[#This Row],[Información Publicada (WEB)]]=\"Sí\",\"Digite URL\",\"No Aplica\")","v":"No Aplica"},null,{"$f":"IF(Tabla2[[#This Row],[ Clasificación ICBF]]=\"Pública\",1,IF(Tabla2[[#This Row],[ Clasificación ICBF]]=\"Clasificada\",2,IF(Tabla2[[#This Row],[ Clasificación ICBF]]=\"Reservada\",3,0)))","v":0},{"$f":"IF(#REF!=8,4,IF(#REF!=16,3,IF(#REF!=24,2,IF(#REF!=48,1,0))))","v":{"$error":"#REF!"}},{"$f":"IF(#REF!=8,\"Alto\",IF(#REF!=16,\"Medio\",IF(#REF!=24,\"Medio\",IF(#REF!=48,\"Bajo\",0))))","v":{"$error":"#REF!"}},null,{"$f":"+MID(Tabla2[[#This Row],[Área/Dependencia]],17,8)","v":""}]
["",null,null,null,{"$f":"+VLOOKUP(Tabla2[[#This Row],[SEDE - REGIONAL]],DATOS!B165:D198,3,FALSE)","v":{"$error":"#N/A"}},{"$f":"+IF(OR(Tabla2[[#This Row],[Área/Dependencia]]=\"Subdirección de Sistemas Integrados\",Tabla2[[#This Row],[Área/Dependencia]]=\"Subdirección de Recursos Tecnológicos\"),\"X\",\"\")","v":""},{"$f":"+CONCATENATE(Tabla2[[#This Row],[Tipo de Proceso]],Tabla2[[#This Row],[Columna4]])","v":{"$error":"#N/A"}},null,null,null,null,null,null,null,null,null,null,null,null,null,{"$f":"+IF(Tabla2[[#This Row],[Nivel de acceso ]]=\"Alto\",0.5,IF(Tabla2[[#This Row],[Nivel de acceso ]]=\"Medio\",0.3,IF(Tabla2[[#This Row],[Nivel de acceso ]]=\"Bajo\",0.2,\"\")))","v":""},null,{"$f":"+IF(Tabla2[[#This Row],[Es  Reservada]]=\"Sí\",\"Escriba Ley\",\"No Aplica\")","v":"No Aplica"},null,null,null,null,{"$f":"IFERROR(IF(AND(Tabla2[[#This Row],[Contiene Datos Personales]]=\"SÍ\",OR(Tabla2[[#This Row],[Clasificación Datos Personales]]=\"Sensible\",Tabla2[[#This Row],[Clasificación Datos Personales]]=\"NNA\",Tabla2[[#This Row],[Clasificación Datos Personales]]=\"privado\")),\"Alto\",IF(AND(Tabla2[[#This Row],[Contiene Datos Personales]]=\"SÍ\",Tabla2[[#This Row],[Clasificación Datos Personales]]=\"SEMIPRIVADO\"),\"Medio\",\"Bajo\")),\"\")","v":"Bajo"},null,null,"No Aplica","No Aplica",null,null,null,{"$f":"+IF(Tabla2[[#This Row],[Integridad]]=\"Grave\",0.5,IF(Tabla2[[#This Row],[Integridad]]=\"Importante\",0.3,IF(Tabla2[[#This Row],[Integridad]]=\"Leve\",0.2,\"\")))","v":""},null,{"$f":"+IF(Tabla2[[#This Row],[Disponibilidad Interna]]=\"Sí\",0.1,IF(Tabla2[[#This Row],[Disponibilidad Interna]]=\"NO\",0,\"\"))","v":""},null,{"$f":"+IF(Tabla2[[#This Row],[Disponibilidad Terceros]]=\"Sí\",0.1,IF(Tabla2[[#This Row],[Disponibilidad Terceros]]=\"No\",0,\"\"))","v":""},{"$f":"+Tabla2[[#This Row],[Columna32]]+Tabla2[[#This Row],[Columna34]]+Tabla2[[#This Row],[Columna1]]+Tabla2[[#This Row],[Columna3]]","v":{"$error":"#VALUE!"}},{"$f":"IFERROR(IF(Tabla2[[#This Row],[Columna33]]<0.45,\"BAJA\",IF(Tabla2[[#This Row],[Columna33]]>0.75,\"ALTA\",\"MEDIA\")),\"\")","v":""},"No Aplica",{"$f":"+IF(Tabla2[[#This Row],[Información Publicada (WEB)]]=\"Sí\",\"Digite URL\",\"No Aplica\")","v":"No Aplica"},null,{"$f":"IF(Tabla2[[#This Row],[ Clasificación ICBF]]=\"Pública\",1,IF(Tabla2[[#This Row],[ Clasificación ICBF]]=\"Clasificada\",2,IF(Tabla2[[#This Row],[ Clasificación ICBF]]=\"Reservada\",3,0)))","v":0},{"$f":"IF(#REF!=8,4,IF(#REF!=16,3,IF(#REF!=24,2,IF(#REF!=48,1,0))))","v":{"$error":"#REF!"}},{"$f":"IF(#REF!=8,\"Alto\",IF(#REF!=16,\"Medio\",IF(#REF!=24,\"Medio\",IF(#REF!=48,\"Bajo\",0))))","v":{"$error":"#REF!"}},null,{"$f":"+MID(Tabla2[[#This Row],[Área/Dependencia]],17,8)","v":""}]
["",null,null,null,{"$f":"+VLOOKUP(Tabla2[[#This Row],[SEDE - REGIONAL]],DATOS!B166:D199,3,FALSE)","v":{"$error":"#N/A"}},{"$f":"+IF(OR(Tabla2[[#This Row],[Área/Dependencia]]=\"Subdirección de Sistemas Integrados\",Tabla2[[#This Row],[Área/Dependencia]]=\"Subdirección de Recursos Tecnológicos\"),\"X\",\"\")","v":""},{"$f":"+CONCATENATE(Tabla2[[#This Row],[Tipo de Proceso]],Tabla2[[#This Row],[Columna4]])","v":{"$error":"#N/A"}},null,null,null,null,null,null,null,null,null,null,null,null,null,{"$f":"+IF(Tabla2[[#This Row],[Nivel de acceso ]]=\"Alto\",0.5,IF(Tabla2[[#This Row],[Nivel de acceso ]]=\"Medio\",0.3,IF(Tabla2[[#This Row],[Nivel de acceso ]]=\"Bajo\",0.2,\"\")))","v":""},null,{"$f":"+IF(Tabla2[[#This Row],[Es  Reservada]]=\"Sí\",\"Escriba Ley\",\"No Aplica\")","v":"No Aplica"},null,null,null,null,{"$f":"IFERROR(IF(AND(Tabla2[[#This Row],[Contiene Datos Personales]]=\"SÍ\",OR(Tabla2[[#This Row],[Clasificación Datos Personales]]=\"Sensible\",Tabla2[[#This Row],[Clasificación Datos Personales]]=\"NNA\",Tabla2[[#This Row],[Clasificación Datos Personales]]=\"privado\")),\"Alto\",IF(AND(Tabla2[[#This Row],[Contiene Datos Personales]]=\"SÍ\",Tabla2[[#This Row],[Clasificación Datos Personales]]=\"SEMIPRIVADO\"),\"Medio\",\"Bajo\")),\"\")","v":"Bajo"},null,null,"No Aplica","No Aplica",null,null,null,{"$f":"+IF(Tabla2[[#This Row],[Integridad]]=\"Grave\",0.5,IF(Tabla2[[#This Row],[Integridad]]=\"Importante\",0.3,IF(Tabla2[[#This Row],[Integridad]]=\"Leve\",0.2,\"\")))","v":""},null,{"$f":"+IF(Tabla2[[#This Row],[Disponibilidad Interna]]=\"Sí\",0.1,IF(Tabla2[[#This Row],[Disponibilidad Interna]]=\"NO\",0,\"\"))","v":""},null,{"$f":"+IF(Tabla2[[#This Row],[Disponibilidad Terceros]]=\"Sí\",0.1,IF(Tabla2[[#This Row],[Disponibilidad Terceros]]=\"No\",0,\"\"))","v":""},{"$f":"+Tabla2[[#This Row],[Columna32]]+Tabla2[[#This Row],[Columna34]]+Tabla2[[#This Row],[Columna1]]+Tabla2[[#This Row],[Columna3]]","v":{"$error":"#VALUE!"}},{"$f":"IFERROR(IF(Tabla2[[#This Row],[Columna33]]<0.45,\"BAJA\",IF(Tabla2[[#This Row],[Columna33]]>0.75,\"ALTA\",\"MEDIA\")),\"\")","v":""},"No Aplica",{"$f":"+IF(Tabla2[[#This Row],[Información Publicada (WEB)]]=\"Sí\",\"Digite URL\",\"No Aplica\")","v":"No Aplica"},null,{"$f":"IF(Tabla2[[#This Row],[ Clasificación ICBF]]=\"Pública\",1,IF(Tabla2[[#This Row],[ Clasificación ICBF]]=\"Clasificada\",2,IF(Tabla2[[#This Row],[ Clasificación ICBF]]=\"Reservada\",3,0)))","v":0},{"$f":"IF(#REF!=8,4,IF(#REF!=16,3,IF(#REF!=24,2,IF(#REF!=48,1,0))))","v":{"$error":"#REF!"}},{"$f":"IF(#REF!=8,\"Alto\",IF(#REF!=16,\"Medio\",IF(#REF!=24,\"Medio\",IF(#REF!=48,\"Bajo\",0))))","v":{"$error":"#REF!"}},null,{"$f":"+MID(Tabla2[[#This Row],[Área/Dependencia]],17,8)","v":""}]
["",null,null,null,{"$f":"+VLOOKUP(Tabla2[[#This Row],[SEDE - REGIONAL]],DATOS!B167:D200,3,FALSE)","v":{"$error":"#N/A"}},{"$f":"+IF(OR(Tabla2[[#This Row],[Área/Dependencia]]=\"Subdirección de Sistemas Integrados\",Tabla2[[#This Row],[Área/Dependencia]]=\"Subdirección de Recursos Tecnológicos\"),\"X\",\"\")","v":""},{"$f":"+CONCATENATE(Tabla2[[#This Row],[Tipo de Proceso]],Tabla2[[#This Row],[Columna4]])","v":{"$error":"#N/A"}},null,null,null,null,null,null,null,null,null,null,null,null,null,{"$f":"+IF(Tabla2[[#This Row],[Nivel de acceso ]]=\"Alto\",0.5,IF(Tabla2[[#This Row],[Nivel de acceso ]]=\"Medio\",0.3,IF(Tabla2[[#This Row],[Nivel de acceso ]]=\"Bajo\",0.2,\"\")))","v":""},null,{"$f":"+IF(Tabla2[[#This Row],[Es  Reservada]]=\"Sí\",\"Escriba Ley\",\"No Aplica\")","v":"No Aplica"},null,null,null,null,{"$f":"IFERROR(IF(AND(Tabla2[[#This Row],[Contiene Datos Personales]]=\"SÍ\",OR(Tabla2[[#This Row],[Clasificación Datos Personales]]=\"Sensible\",Tabla2[[#This Row],[Clasificación Datos Personales]]=\"NNA\",Tabla2[[#This Row],[Clasificación Datos Personales]]=\"privado\")),\"Alto\",IF(AND(Tabla2[[#This Row],[Contiene Datos Personales]]=\"SÍ\",Tabla2[[#This Row],[Clasificación Datos Personales]]=\"SEMIPRIVADO\"),\"Medio\",\"Bajo\")),\"\")","v":"Bajo"},null,null,"No Aplica","No Aplica",null,null,null,{"$f":"+IF(Tabla2[[#This Row],[Integridad]]=\"Grave\",0.5,IF(Tabla2[[#This Row],[Integridad]]=\"Importante\",0.3,IF(Tabla2[[#This Row],[Integridad]]=\"Leve\",0.2,\"\")))","v":""},null,{"$f":"+IF(Tabla2[[#This Row],[Disponibilidad Interna]]=\"Sí\",0.1,IF(Tabla2[[#This Row],[Disponibilidad Interna]]=\"NO\",0,\"\"))","v":""},null,{"$f":"+IF(Tabla2[[#This Row],[Disponibilidad Terceros]]=\"Sí\",0.1,IF(Tabla2[[#This Row],[Disponibilidad Terceros]]=\"No\",0,\"\"))","v":""},{"$f":"+Tabla2[[#This Row],[Columna32]]+Tabla2[[#This Row],[Columna34]]+Tabla2[[#This Row],[Columna1]]+Tabla2[[#This Row],[Columna3]]","v":{"$error":"#VALUE!"}},{"$f":"IFERROR(IF(Tabla2[[#This Row],[Columna33]]<0.45,\"BAJA\",IF(Tabla2[[#This Row],[Columna33]]>0.75,\"ALTA\",\"MEDIA\")),\"\")","v":""},"No Aplica",{"$f":"+IF(Tabla2[[#This Row],[Información Publicada (WEB)]]=\"Sí\",\"Digite URL\",\"No Aplica\")","v":"No Aplica"},null,{"$f":"IF(Tabla2[[#This Row],[ Clasificación ICBF]]=\"Pública\",1,IF(Tabla2[[#This Row],[ Clasificación ICBF]]=\"Clasificada\",2,IF(Tabla2[[#This Row],[ Clasificación ICBF]]=\"Reservada\",3,0)))","v":0},{"$f":"IF(#REF!=8,4,IF(#REF!=16,3,IF(#REF!=24,2,IF(#REF!=48,1,0))))","v":{"$error":"#REF!"}},{"$f":"IF(#REF!=8,\"Alto\",IF(#REF!=16,\"Medio\",IF(#REF!=24,\"Medio\",IF(#REF!=48,\"Bajo\",0))))","v":{"$error":"#REF!"}},null,{"$f":"+MID(Tabla2[[#This Row],[Área/Dependencia]],17,8)","v":""}]
["",null,null,null,{"$f":"+VLOOKUP(Tabla2[[#This Row],[SEDE - REGIONAL]],DATOS!B168:D201,3,FALSE)","v":{"$error":"#N/A"}},{"$f":"+IF(OR(Tabla2[[#This Row],[Área/Dependencia]]=\"Subdirección de Sistemas Integrados\",Tabla2[[#This Row],[Área/Dependencia]]=\"Subdirección de Recursos Tecnológicos\"),\"X\",\"\")","v":""},{"$f":"+CONCATENATE(Tabla2[[#This Row],[Tipo de Proceso]],Tabla2[[#This Row],[Columna4]])","v":{"$error":"#N/A"}},null,null,null,null,null,null,null,null,null,null,null,null,null,{"$f":"+IF(Tabla2[[#This Row],[Nivel de acceso ]]=\"Alto\",0.5,IF(Tabla2[[#This Row],[Nivel de acceso ]]=\"Medio\",0.3,IF(Tabla2[[#This Row],[Nivel de acceso ]]=\"Bajo\",0.2,\"\")))","v":""},null,{"$f":"+IF(Tabla2[[#This Row],[Es  Reservada]]=\"Sí\",\"Escriba Ley\",\"No Aplica\")","v":"No Aplica"},null,null,null,null,{"$f":"IFERROR(IF(AND(Tabla2[[#This Row],[Contiene Datos Personales]]=\"SÍ\",OR(Tabla2[[#This Row],[Clasificación Datos Personales]]=\"Sensible\",Tabla2[[#This Row],[Clasificación Datos Personales]]=\"NNA\",Tabla2[[#This Row],[Clasificación Datos Personales]]=\"privado\")),\"Alto\",IF(AND(Tabla2[[#This Row],[Contiene Datos Personales]]=\"SÍ\",Tabla2[[#This Row],[Clasificación Datos Personales]]=\"SEMIPRIVADO\"),\"Medio\",\"Bajo\")),\"\")","v":"Bajo"},null,null,"No Aplica","No Aplica",null,null,null,{"$f":"+IF(Tabla2[[#This Row],[Integridad]]=\"Grave\",0.5,IF(Tabla2[[#This Row],[Integridad]]=\"Importante\",0.3,IF(Tabla2[[#This Row],[Integridad]]=\"Leve\",0.2,\"\")))","v":""},null,{"$f":"+IF(Tabla2[[#This Row],[Disponibilidad Interna]]=\"Sí\",0.1,IF(Tabla2[[#This Row],[Disponibilidad Interna]]=\"NO\",0,\"\"))","v":""},null,{"$f":"+IF(Tabla2[[#This Row],[Disponibilidad Terceros]]=\"Sí\",0.1,IF(Tabla2[[#This Row],[Disponibilidad Terceros]]=\"No\",0,\"\"))","v":""},{"$f":"+Tabla2[[#This Row],[Columna32]]+Tabla2[[#This Row],[Columna34]]+Tabla2[[#This Row],[Columna1]]+Tabla2[[#This Row],[Columna3]]","v":{"$error":"#VALUE!"}},{"$f":"IFERROR(IF(Tabla2[[#This Row],[Columna33]]<0.45,\"BAJA\",IF(Tabla2[[#This Row],[Columna33]]>0.75,\"ALTA\",\"MEDIA\")),\"\")","v":""},"No Aplica",{"$f":"+IF(Tabla2[[#This Row],[Información Publicada (WEB)]]=\"Sí\",\"Digite URL\",\"No Aplica\")","v":"No Aplica"},null,{"$f":"IF(Tabla2[[#This Row],[ Clasificación ICBF]]=\"Pública\",1,IF(Tabla2[[#This Row],[ Clasificación ICBF]]=\"Clasificada\",2,IF(Tabla2[[#This Row],[ Clasificación ICBF]]=\"Reservada\",3,0)))","v":0},{"$f":"IF(#REF!=8,4,IF(#REF!=16,3,IF(#REF!=24,2,IF(#REF!=48,1,0))))","v":{"$error":"#REF!"}},{"$f":"IF(#REF!=8,\"Alto\",IF(#REF!=16,\"Medio\",IF(#REF!=24,\"Medio\",IF(#REF!=48,\"Bajo\",0))))","v":{"$error":"#REF!"}},null,{"$f":"+MID(Tabla2[[#This Row],[Área/Dependencia]],17,8)","v":""}]
["",null,null,null,{"$f":"+VLOOKUP(Tabla2[[#This Row],[SEDE - REGIONAL]],DATOS!B169:D202,3,FALSE)","v":{"$error":"#N/A"}},{"$f":"+IF(OR(Tabla2[[#This Row],[Área/Dependencia]]=\"Subdirección de Sistemas Integrados\",Tabla2[[#This Row],[Área/Dependencia]]=\"Subdirección de Recursos Tecnológicos\"),\"X\",\"\")","v":""},{"$f":"+CONCATENATE(Tabla2[[#This Row],[Tipo de Proceso]],Tabla2[[#This Row],[Columna4]])","v":{"$error":"#N/A"}},null,null,null,null,null,null,null,null,null,null,null,null,null,{"$f":"+IF(Tabla2[[#This Row],[Nivel de acceso ]]=\"Alto\",0.5,IF(Tabla2[[#This Row],[Nivel de acceso ]]=\"Medio\",0.3,IF(Tabla2[[#This Row],[Nivel de acceso ]]=\"Bajo\",0.2,\"\")))","v":""},null,{"$f":"+IF(Tabla2[[#This Row],[Es  Reservada]]=\"Sí\",\"Escriba Ley\",\"No Aplica\")","v":"No Aplica"},null,null,null,null,{"$f":"IFERROR(IF(AND(Tabla2[[#This Row],[Contiene Datos Personales]]=\"SÍ\",OR(Tabla2[[#This Row],[Clasificación Datos Personales]]=\"Sensible\",Tabla2[[#This Row],[Clasificación Datos Personales]]=\"NNA\",Tabla2[[#This Row],[Clasificación Datos Personales]]=\"privado\")),\"Alto\",IF(AND(Tabla2[[#This Row],[Contiene Datos Personales]]=\"SÍ\",Tabla2[[#This Row],[Clasificación Datos Personales]]=\"SEMIPRIVADO\"),\"Medio\",\"Bajo\")),\"\")","v":"Bajo"},null,null,"No Aplica","No Aplica",null,null,null,{"$f":"+IF(Tabla2[[#This Row],[Integridad]]=\"Grave\",0.5,IF(Tabla2[[#This Row],[Integridad]]=\"Importante\",0.3,IF(Tabla2[[#This Row],[Integridad]]=\"Leve\",0.2,\"\")))","v":""},null,{"$f":"+IF(Tabla2[[#This Row],[Disponibilidad Interna]]=\"Sí\",0.1,IF(Tabla2[[#This Row],[Disponibilidad Interna]]=\"NO\",0,\"\"))","v":""},null,{"$f":"+IF(Tabla2[[#This Row],[Disponibilidad Terceros]]=\"Sí\",0.1,IF(Tabla2[[#This Row],[Disponibilidad Terceros]]=\"No\",0,\"\"))","v":""},{"$f":"+Tabla2[[#This Row],[Columna32]]+Tabla2[[#This Row],[Columna34]]+Tabla2[[#This Row],[Columna1]]+Tabla2[[#This Row],[Columna3]]","v":{"$error":"#VALUE!"}},{"$f":"IFERROR(IF(Tabla2[[#This Row],[Columna33]]<0.45,\"BAJA\",IF(Tabla2[[#This Row],[Columna33]]>0.75,\"ALTA\",\"MEDIA\")),\"\")","v":""},"No Aplica",{"$f":"+IF(Tabla2[[#This Row],[Información Publicada (WEB)]]=\"Sí\",\"Digite URL\",\"No Aplica\")","v":"No Aplica"},null,{"$f":"IF(Tabla2[[#This Row],[ Clasificación ICBF]]=\"Pública\",1,IF(Tabla2[[#This Row],[ Clasificación ICBF]]=\"Clasificada\",2,IF(Tabla2[[#This Row],[ Clasificación ICBF]]=\"Reservada\",3,0)))","v":0},{"$f":"IF(#REF!=8,4,IF(#REF!=16,3,IF(#REF!=24,2,IF(#REF!=48,1,0))))","v":{"$error":"#REF!"}},{"$f":"IF(#REF!=8,\"Alto\",IF(#REF!=16,\"Medio\",IF(#REF!=24,\"Medio\",IF(#REF!=48,\"Bajo\",0))))","v":{"$error":"#REF!"}},null,{"$f":"+MID(Tabla2[[#This Row],[Área/Dependencia]],17,8)","v":""}]
["",null,null,null,{"$f":"+VLOOKUP(Tabla2[[#This Row],[SEDE - REGIONAL]],DATOS!B170:D203,3,FALSE)","v":{"$error":"#N/A"}},{"$f":"+IF(OR(Tabla2[[#This Row],[Área/Dependencia]]=\"Subdirección de Sistemas Integrados\",Tabla2[[#This Row],[Área/Dependencia]]=\"Subdirección de Recursos Tecnológicos\"),\"X\",\"\")","v":""},{"$f":"+CONCATENATE(Tabla2[[#This Row],[Tipo de Proceso]],Tabla2[[#This Row],[Columna4]])","v":{"$error":"#N/A"}},null,null,null,null,null,null,null,null,null,null,null,null,null,{"$f":"+IF(Tabla2[[#This Row],[Nivel de acceso ]]=\"Alto\",0.5,IF(Tabla2[[#This Row],[Nivel de acceso ]]=\"Medio\",0.3,IF(Tabla2[[#This Row],[Nivel de acceso ]]=\"Bajo\",0.2,\"\")))","v":""},null,{"$f":"+IF(Tabla2[[#This Row],[Es  Reservada]]=\"Sí\",\"Escriba Ley\",\"No Aplica\")","v":"No Aplica"},null,null,null,null,{"$f":"IFERROR(IF(AND(Tabla2[[#This Row],[Contiene Datos Personales]]=\"SÍ\",OR(Tabla2[[#This Row],[Clasificación Datos Personales]]=\"Sensible\",Tabla2[[#This Row],[Clasificación Datos Personales]]=\"NNA\",Tabla2[[#This Row],[Clasificación Datos Personales]]=\"privado\")),\"Alto\",IF(AND(Tabla2[[#This Row],[Contiene Datos Personales]]=\"SÍ\",Tabla2[[#This Row],[Clasificación Datos Personales]]=\"SEMIPRIVADO\"),\"Medio\",\"Bajo\")),\"\")","v":"Bajo"},null,null,"No Aplica","No Aplica",null,null,null,{"$f":"+IF(Tabla2[[#This Row],[Integridad]]=\"Grave\",0.5,IF(Tabla2[[#This Row],[Integridad]]=\"Importante\",0.3,IF(Tabla2[[#This Row],[Integridad]]=\"Leve\",0.2,\"\")))","v":""},null,{"$f":"+IF(Tabla2[[#This Row],[Disponibilidad Interna]]=\"Sí\",0.1,IF(Tabla2[[#This Row],[Disponibilidad Interna]]=\"NO\",0,\"\"))","v":""},null,{"$f":"+IF(Tabla2[[#This Row],[Disponibilidad Terceros]]=\"Sí\",0.1,IF(Tabla2[[#This Row],[Disponibilidad Terceros]]=\"No\",0,\"\"))","v":""},{"$f":"+Tabla2[[#This Row],[Columna32]]+Tabla2[[#This Row],[Columna34]]+Tabla2[[#This Row],[Columna1]]+Tabla2[[#This Row],[Columna3]]","v":{"$error":"#VALUE!"}},{"$f":"IFERROR(IF(Tabla2[[#This Row],[Columna33]]<0.45,\"BAJA\",IF(Tabla2[[#This Row],[Columna33]]>0.75,\"ALTA\",\"MEDIA\")),\"\")","v":""},"No Aplica",{"$f":"+IF(Tabla2[[#This Row],[Información Publicada (WEB)]]=\"Sí\",\"Digite URL\",\"No Aplica\")","v":"No Aplica"},null,{"$f":"IF(Tabla2[[#This Row],[ Clasificación ICBF]]=\"Pública\",1,IF(Tabla2[[#This Row],[ Clasificación ICBF]]=\"Clasificada\",2,IF(Tabla2[[#This Row],[ Clasificación ICBF]]=\"Reservada\",3,0)))","v":0},{"$f":"IF(#REF!=8,4,IF(#REF!=16,3,IF(#REF!=24,2,IF(#REF!=48,1,0))))","v":{"$error":"#REF!"}},{"$f":"IF(#REF!=8,\"Alto\",IF(#REF!=16,\"Medio\",IF(#REF!=24,\"Medio\",IF(#REF!=48,\"Bajo\",0))))","v":{"$error":"#REF!"}},null,{"$f":"+MID(Tabla2[[#This Row],[Área/Dependencia]],17,8)","v":""}]
["",null,null,null,{"$f":"+VLOOKUP(Tabla2[[#This Row],[SEDE - REGIONAL]],DATOS!B171:D204,3,FALSE)","v":{"$error":"#N/A"}},{"$f":"+IF(OR(Tabla2[[#This Row],[Área/Dependencia]]=\"Subdirección de Sistemas Integrados\",Tabla2[[#This Row],[Área/Dependencia]]=\"Subdirección de Recursos Tecnológicos\"),\"X\",\"\")","v":""},{"$f":"+CONCATENATE(Tabla2[[#This Row],[Tipo de Proceso]],Tabla2[[#This Row],[Columna4]])","v":{"$error":"#N/A"}},null,null,null,null,null,null,null,null,null,null,null,null,null,{"$f":"+IF(Tabla2[[#This Row],[Nivel de acceso ]]=\"Alto\",0.5,IF(Tabla2[[#This Row],[Nivel de acceso ]]=\"Medio\",0.3,IF(Tabla2[[#This Row],[Nivel de acceso ]]=\"Bajo\",0.2,\"\")))","v":""},null,{"$f":"+IF(Tabla2[[#This Row],[Es  Reservada]]=\"Sí\",\"Escriba Ley\",\"No Aplica\")","v":"No Aplica"},null,null,null,null,{"$f":"IFERROR(IF(AND(Tabla2[[#This Row],[Contiene Datos Personales]]=\"SÍ\",OR(Tabla2[[#This Row],[Clasificación Datos Personales]]=\"Sensible\",Tabla2[[#This Row],[Clasificación Datos Personales]]=\"NNA\",Tabla2[[#This Row],[Clasificación Datos Personales]]=\"privado\")),\"Alto\",IF(AND(Tabla2[[#This Row],[Contiene Datos Personales]]=\"SÍ\",Tabla2[[#This Row],[Clasificación Datos Personales]]=\"SEMIPRIVADO\"),\"Medio\",\"Bajo\")),\"\")","v":"Bajo"},null,null,"No Aplica","No Aplica",null,null,null,{"$f":"+IF(Tabla2[[#This Row],[Integridad]]=\"Grave\",0.5,IF(Tabla2[[#This Row],[Integridad]]=\"Importante\",0.3,IF(Tabla2[[#This Row],[Integridad]]=\"Leve\",0.2,\"\")))","v":""},null,{"$f":"+IF(Tabla2[[#This Row],[Disponibilidad Interna]]=\"Sí\",0.1,IF(Tabla2[[#This Row],[Disponibilidad Interna]]=\"NO\",0,\"\"))","v":""},null,{"$f":"+IF(Tabla2[[#This Row],[Disponibilidad Terceros]]=\"Sí\",0.1,IF(Tabla2[[#This Row],[Disponibilidad Terceros]]=\"No\",0,\"\"))","v":""},{"$f":"+Tabla2[[#This Row],[Columna32]]+Tabla2[[#This Row],[Columna34]]+Tabla2[[#This Row],[Columna1]]+Tabla2[[#This Row],[Columna3]]","v":{"$error":"#VALUE!"}},{"$f":"IFERROR(IF(Tabla2[[#This Row],[Columna33]]<0.45,\"BAJA\",IF(Tabla2[[#This Row],[Columna33]]>0.75,\"ALTA\",\"MEDIA\")),\"\")","v":""},"No Aplica",{"$f":"+IF(Tabla2[[#This Row],[Información Publicada (WEB)]]=\"Sí\",\"Digite URL\",\"No Aplica\")","v":"No Aplica"},null,{"$f":"IF(Tabla2[[#This Row],[ Clasificación ICBF]]=\"Pública\",1,IF(Tabla2[[#This Row],[ Clasificación ICBF]]=\"Clasificada\",2,IF(Tabla2[[#This Row],[ Clasificación ICBF]]=\"Reservada\",3,0)))","v":0},{"$f":"IF(#REF!=8,4,IF(#REF!=16,3,IF(#REF!=24,2,IF(#REF!=48,1,0))))","v":{"$error":"#REF!"}},{"$f":"IF(#REF!=8,\"Alto\",IF(#REF!=16,\"Medio\",IF(#REF!=24,\"Medio\",IF(#REF!=48,\"Bajo\",0))))","v":{"$error":"#REF!"}},null,{"$f":"+MID(Tabla2[[#This Row],[Área/Dependencia]],17,8)","v":""}]
["",null,null,null,{"$f":"+VLOOKUP(Tabla2[[#This Row],[SEDE - REGIONAL]],DATOS!B172:D205,3,FALSE)","v":{"$error":"#N/A"}},{"$f":"+IF(OR(Tabla2[[#This Row],[Área/Dependencia]]=\"Subdirección de Sistemas Integrados\",Tabla2[[#This Row],[Área/Dependencia]]=\"Subdirección de Recursos Tecnológicos\"),\"X\",\"\")","v":""},{"$f":"+CONCATENATE(Tabla2[[#This Row],[Tipo de Proceso]],Tabla2[[#This Row],[Columna4]])","v":{"$error":"#N/A"}},null,null,null,null,null,null,null,null,null,null,null,null,null,{"$f":"+IF(Tabla2[[#This Row],[Nivel de acceso ]]=\"Alto\",0.5,IF(Tabla2[[#This Row],[Nivel de acceso ]]=\"Medio\",0.3,IF(Tabla2[[#This Row],[Nivel de acceso ]]=\"Bajo\",0.2,\"\")))","v":""},null,{"$f":"+IF(Tabla2[[#This Row],[Es  Reservada]]=\"Sí\",\"Escriba Ley\",\"No Aplica\")","v":"No Aplica"},null,null,null,null,{"$f":"IFERROR(IF(AND(Tabla2[[#This Row],[Contiene Datos Personales]]=\"SÍ\",OR(Tabla2[[#This Row],[Clasificación Datos Personales]]=\"Sensible\",Tabla2[[#This Row],[Clasificación Datos Personales]]=\"NNA\",Tabla2[[#This Row],[Clasificación Datos Personales]]=\"privado\")),\"Alto\",IF(AND(Tabla2[[#This Row],[Contiene Datos Personales]]=\"SÍ\",Tabla2[[#This Row],[Clasificación Datos Personales]]=\"SEMIPRIVADO\"),\"Medio\",\"Bajo\")),\"\")","v":"Bajo"},null,null,"No Aplica","No Aplica",null,null,null,{"$f":"+IF(Tabla2[[#This Row],[Integridad]]=\"Grave\",0.5,IF(Tabla2[[#This Row],[Integridad]]=\"Importante\",0.3,IF(Tabla2[[#This Row],[Integridad]]=\"Leve\",0.2,\"\")))","v":""},null,{"$f":"+IF(Tabla2[[#This Row],[Disponibilidad Interna]]=\"Sí\",0.1,IF(Tabla2[[#This Row],[Disponibilidad Interna]]=\"NO\",0,\"\"))","v":""},null,{"$f":"+IF(Tabla2[[#This Row],[Disponibilidad Terceros]]=\"Sí\",0.1,IF(Tabla2[[#This Row],[Disponibilidad Terceros]]=\"No\",0,\"\"))","v":""},{"$f":"+Tabla2[[#This Row],[Columna32]]+Tabla2[[#This Row],[Columna34]]+Tabla2[[#This Row],[Columna1]]+Tabla2[[#This Row],[Columna3]]","v":{"$error":"#VALUE!"}},{"$f":"IFERROR(IF(Tabla2[[#This Row],[Columna33]]<0.45,\"BAJA\",IF(Tabla2[[#This Row],[Columna33]]>0.75,\"ALTA\",\"MEDIA\")),\"\")","v":""},"No Aplica",{"$f":"+IF(Tabla2[[#This Row],[Información Publicada (WEB)]]=\"Sí\",\"Digite URL\",\"No Aplica\")","v":"No Aplica"},null,{"$f":"IF(Tabla2[[#This Row],[ Clasificación ICBF]]=\"Pública\",1,IF(Tabla2[[#This Row],[ Clasificación ICBF]]=\"Clasificada\",2,IF(Tabla2[[#This Row],[ Clasificación ICBF]]=\"Reservada\",3,0)))","v":0},{"$f":"IF(#REF!=8,4,IF(#REF!=16,3,IF(#REF!=24,2,IF(#REF!=48,1,0))))","v":{"$error":"#REF!"}},{"$f":"IF(#REF!=8,\"Alto\",IF(#REF!=16,\"Medio\",IF(#REF!=24,\"Medio\",IF(#REF!=48,\"Bajo\",0))))","v":{"$error":"#REF!"}},null,{"$f":"+MID(Tabla2[[#This Row],[Área/Dependencia]],17,8)","v":""}]
["",null,null,null,{"$f":"+VLOOKUP(Tabla2[[#This Row],[SEDE - REGIONAL]],DATOS!B173:D206,3,FALSE)","v":{"$error":"#N/A"}},{"$f":"+IF(OR(Tabla2[[#This Row],[Área/Dependencia]]=\"Subdirección de Sistemas Integrados\",Tabla2[[#This Row],[Área/Dependencia]]=\"Subdirección de Recursos Tecnológicos\"),\"X\",\"\")","v":""},{"$f":"+CONCATENATE(Tabla2[[#This Row],[Tipo de Proceso]],Tabla2[[#This Row],[Columna4]])","v":{"$error":"#N/A"}},null,null,null,null,null,null,null,null,null,null,null,null,null,{"$f":"+IF(Tabla2[[#This Row],[Nivel de acceso ]]=\"Alto\",0.5,IF(Tabla2[[#This Row],[Nivel de acceso ]]=\"Medio\",0.3,IF(Tabla2[[#This Row],[Nivel de acceso ]]=\"Bajo\",0.2,\"\")))","v":""},null,{"$f":"+IF(Tabla2[[#This Row],[Es  Reservada]]=\"Sí\",\"Escriba Ley\",\"No Aplica\")","v":"No Aplica"},null,null,null,null,{"$f":"IFERROR(IF(AND(Tabla2[[#This Row],[Contiene Datos Personales]]=\"SÍ\",OR(Tabla2[[#This Row],[Clasificación Datos Personales]]=\"Sensible\",Tabla2[[#This Row],[Clasificación Datos Personales]]=\"NNA\",Tabla2[[#This Row],[Clasificación Datos Personales]]=\"privado\")),\"Alto\",IF(AND(Tabla2[[#This Row],[Contiene Datos Personales]]=\"SÍ\",Tabla2[[#This Row],[Clasificación Datos Personales]]=\"SEMIPRIVADO\"),\"Medio\",\"Bajo\")),\"\")","v":"Bajo"},null,null,"No Aplica","No Aplica",null,null,null,{"$f":"+IF(Tabla2[[#This Row],[Integridad]]=\"Grave\",0.5,IF(Tabla2[[#This Row],[Integridad]]=\"Importante\",0.3,IF(Tabla2[[#This Row],[Integridad]]=\"Leve\",0.2,\"\")))","v":""},null,{"$f":"+IF(Tabla2[[#This Row],[Disponibilidad Interna]]=\"Sí\",0.1,IF(Tabla2[[#This Row],[Disponibilidad Interna]]=\"NO\",0,\"\"))","v":""},null,{"$f":"+IF(Tabla2[[#This Row],[Disponibilidad Terceros]]=\"Sí\",0.1,IF(Tabla2[[#This Row],[Disponibilidad Terceros]]=\"No\",0,\"\"))","v":""},{"$f":"+Tabla2[[#This Row],[Columna32]]+Tabla2[[#This Row],[Columna34]]+Tabla2[[#This Row],[Columna1]]+Tabla2[[#This Row],[Columna3]]","v":{"$error":"#VALUE!"}},{"$f":"IFERROR(IF(Tabla2[[#This Row],[Columna33]]<0.45,\"BAJA\",IF(Tabla2[[#This Row],[Columna33]]>0.75,\"ALTA\",\"MEDIA\")),\"\")","v":""},"No Aplica",{"$f":"+IF(Tabla2[[#This Row],[Información Publicada (WEB)]]=\"Sí\",\"Digite URL\",\"No Aplica\")","v":"No Aplica"},null,{"$f":"IF(Tabla2[[#This Row],[ Clasificación ICBF]]=\"Pública\",1,IF(Tabla2[[#This Row],[ Clasificación ICBF]]=\"Clasificada\",2,IF(Tabla2[[#This Row],[ Clasificación ICBF]]=\"Reservada\",3,0)))","v":0},{"$f":"IF(#REF!=8,4,IF(#REF!=16,3,IF(#REF!=24,2,IF(#REF!=48,1,0))))","v":{"$error":"#REF!"}},{"$f":"IF(#REF!=8,\"Alto\",IF(#REF!=16,\"Medio\",IF(#REF!=24,\"Medio\",IF(#REF!=48,\"Bajo\",0))))","v":{"$error":"#REF!"}},null,{"$f":"+MID(Tabla2[[#This Row],[Área/Dependencia]],17,8)","v":""}]
["",null,null,null,{"$f":"+VLOOKUP(Tabla2[[#This Row],[SEDE - REGIONAL]],DATOS!B174:D207,3,FALSE)","v":{"$error":"#N/A"}},{"$f":"+IF(OR(Tabla2[[#This Row],[Área/Dependencia]]=\"Subdirección de Sistemas Integrados\",Tabla2[[#This Row],[Área/Dependencia]]=\"Subdirección de Recursos Tecnológicos\"),\"X\",\"\")","v":""},{"$f":"+CONCATENATE(Tabla2[[#This Row],[Tipo de Proceso]],Tabla2[[#This Row],[Columna4]])","v":{"$error":"#N/A"}},null,null,null,null,null,null,null,null,null,null,null,null,null,{"$f":"+IF(Tabla2[[#This Row],[Nivel de acceso ]]=\"Alto\",0.5,IF(Tabla2[[#This Row],[Nivel de acceso ]]=\"Medio\",0.3,IF(Tabla2[[#This Row],[Nivel de acceso ]]=\"Bajo\",0.2,\"\")))","v":""},null,{"$f":"+IF(Tabla2[[#This Row],[Es  Reservada]]=\"Sí\",\"Escriba Ley\",\"No Aplica\")","v":"No Aplica"},null,null,null,null,{"$f":"IFERROR(IF(AND(Tabla2[[#This Row],[Contiene Datos Personales]]=\"SÍ\",OR(Tabla2[[#This Row],[Clasificación Datos Personales]]=\"Sensible\",Tabla2[[#This Row],[Clasificación Datos Personales]]=\"NNA\",Tabla2[[#This Row],[Clasificación Datos Personales]]=\"privado\")),\"Alto\",IF(AND(Tabla2[[#This Row],[Contiene Datos Personales]]=\"SÍ\",Tabla2[[#This Row],[Clasificación Datos Personales]]=\"SEMIPRIVADO\"),\"Medio\",\"Bajo\")),\"\")","v":"Bajo"},null,null,"No Aplica","No Aplica",null,null,null,{"$f":"+IF(Tabla2[[#This Row],[Integridad]]=\"Grave\",0.5,IF(Tabla2[[#This Row],[Integridad]]=\"Importante\",0.3,IF(Tabla2[[#This Row],[Integridad]]=\"Leve\",0.2,\"\")))","v":""},null,{"$f":"+IF(Tabla2[[#This Row],[Disponibilidad Interna]]=\"Sí\",0.1,IF(Tabla2[[#This Row],[Disponibilidad Interna]]=\"NO\",0,\"\"))","v":""},null,{"$f":"+IF(Tabla2[[#This Row],[Disponibilidad Terceros]]=\"Sí\",0.1,IF(Tabla2[[#This Row],[Disponibilidad Terceros]]=\"No\",0,\"\"))","v":""},{"$f":"+Tabla2[[#This Row],[Columna32]]+Tabla2[[#This Row],[Columna34]]+Tabla2[[#This Row],[Columna1]]+Tabla2[[#This Row],[Columna3]]","v":{"$error":"#VALUE!"}},{"$f":"IFERROR(IF(Tabla2[[#This Row],[Columna33]]<0.45,\"BAJA\",IF(Tabla2[[#This Row],[Columna33]]>0.75,\"ALTA\",\"MEDIA\")),\"\")","v":""},"No Aplica",{"$f":"+IF(Tabla2[[#This Row],[Información Publicada (WEB)]]=\"Sí\",\"Digite URL\",\"No Aplica\")","v":"No Aplica"},null,{"$f":"IF(Tabla2[[#This Row],[ Clasificación ICBF]]=\"Pública\",1,IF(Tabla2[[#This Row],[ Clasificación ICBF]]=\"Clasificada\",2,IF(Tabla2[[#This Row],[ Clasificación ICBF]]=\"Reservada\",3,0)))","v":0},{"$f":"IF(#REF!=8,4,IF(#REF!=16,3,IF(#REF!=24,2,IF(#REF!=48,1,0))))","v":{"$error":"#REF!"}},{"$f":"IF(#REF!=8,\"Alto\",IF(#REF!=16,\"Medio\",IF(#REF!=24,\"Medio\",IF(#REF!=48,\"Bajo\",0))))","v":{"$error":"#REF!"}},null,{"$f":"+MID(Tabla2[[#This Row],[Área/Dependencia]],17,8)","v":""}]
["",null,null,null,{"$f":"+VLOOKUP(Tabla2[[#This Row],[SEDE - REGIONAL]],DATOS!B175:D208,3,FALSE)","v":{"$error":"#N/A"}},{"$f":"+IF(OR(Tabla2[[#This Row],[Área/Dependencia]]=\"Subdirección de Sistemas Integrados\",Tabla2[[#This Row],[Área/Dependencia]]=\"Subdirección de Recursos Tecnológicos\"),\"X\",\"\")","v":""},{"$f":"+CONCATENATE(Tabla2[[#This Row],[Tipo de Proceso]],Tabla2[[#This Row],[Columna4]])","v":{"$error":"#N/A"}},null,null,null,null,null,null,null,null,null,null,null,null,null,{"$f":"+IF(Tabla2[[#This Row],[Nivel de acceso ]]=\"Alto\",0.5,IF(Tabla2[[#This Row],[Nivel de acceso ]]=\"Medio\",0.3,IF(Tabla2[[#This Row],[Nivel de acceso ]]=\"Bajo\",0.2,\"\")))","v":""},null,{"$f":"+IF(Tabla2[[#This Row],[Es  Reservada]]=\"Sí\",\"Escriba Ley\",\"No Aplica\")","v":"No Aplica"},null,null,null,null,{"$f":"IFERROR(IF(AND(Tabla2[[#This Row],[Contiene Datos Personales]]=\"SÍ\",OR(Tabla2[[#This Row],[Clasificación Datos Personales]]=\"Sensible\",Tabla2[[#This Row],[Clasificación Datos Personales]]=\"NNA\",Tabla2[[#This Row],[Clasificación Datos Personales]]=\"privado\")),\"Alto\",IF(AND(Tabla2[[#This Row],[Contiene Datos Personales]]=\"SÍ\",Tabla2[[#This Row],[Clasificación Datos Personales]]=\"SEMIPRIVADO\"),\"Medio\",\"Bajo\")),\"\")","v":"Bajo"},null,null,"No Aplica","No Aplica",null,null,null,{"$f":"+IF(Tabla2[[#This Row],[Integridad]]=\"Grave\",0.5,IF(Tabla2[[#This Row],[Integridad]]=\"Importante\",0.3,IF(Tabla2[[#This Row],[Integridad]]=\"Leve\",0.2,\"\")))","v":""},null,{"$f":"+IF(Tabla2[[#This Row],[Disponibilidad Interna]]=\"Sí\",0.1,IF(Tabla2[[#This Row],[Disponibilidad Interna]]=\"NO\",0,\"\"))","v":""},null,{"$f":"+IF(Tabla2[[#This Row],[Disponibilidad Terceros]]=\"Sí\",0.1,IF(Tabla2[[#This Row],[Disponibilidad Terceros]]=\"No\",0,\"\"))","v":""},{"$f":"+Tabla2[[#This Row],[Columna32]]+Tabla2[[#This Row],[Columna34]]+Tabla2[[#This Row],[Columna1]]+Tabla2[[#This Row],[Columna3]]","v":{"$error":"#VALUE!"}},{"$f":"IFERROR(IF(Tabla2[[#This Row],[Columna33]]<0.45,\"BAJA\",IF(Tabla2[[#This Row],[Columna33]]>0.75,\"ALTA\",\"MEDIA\")),\"\")","v":""},"No Aplica",{"$f":"+IF(Tabla2[[#This Row],[Información Publicada (WEB)]]=\"Sí\",\"Digite URL\",\"No Aplica\")","v":"No Aplica"},null,{"$f":"IF(Tabla2[[#This Row],[ Clasificación ICBF]]=\"Pública\",1,IF(Tabla2[[#This Row],[ Clasificación ICBF]]=\"Clasificada\",2,IF(Tabla2[[#This Row],[ Clasificación ICBF]]=\"Reservada\",3,0)))","v":0},{"$f":"IF(#REF!=8,4,IF(#REF!=16,3,IF(#REF!=24,2,IF(#REF!=48,1,0))))","v":{"$error":"#REF!"}},{"$f":"IF(#REF!=8,\"Alto\",IF(#REF!=16,\"Medio\",IF(#REF!=24,\"Medio\",IF(#REF!=48,\"Bajo\",0))))","v":{"$error":"#REF!"}},null,{"$f":"+MID(Tabla2[[#This Row],[Área/Dependencia]],17,8)","v":""}]
["",null,null,null,{"$f":"+VLOOKUP(Tabla2[[#This Row],[SEDE - REGIONAL]],DATOS!B176:D209,3,FALSE)","v":{"$error":"#N/A"}},{"$f":"+IF(OR(Tabla2[[#This Row],[Área/Dependencia]]=\"Subdirección de Sistemas Integrados\",Tabla2[[#This Row],[Área/Dependencia]]=\"Subdirección de Recursos Tecnológicos\"),\"X\",\"\")","v":""},{"$f":"+CONCATENATE(Tabla2[[#This Row],[Tipo de Proceso]],Tabla2[[#This Row],[Columna4]])","v":{"$error":"#N/A"}},null,null,null,null,null,null,null,null,null,null,null,null,null,{"$f":"+IF(Tabla2[[#This Row],[Nivel de acceso ]]=\"Alto\",0.5,IF(Tabla2[[#This Row],[Nivel de acceso ]]=\"Medio\",0.3,IF(Tabla2[[#This Row],[Nivel de acceso ]]=\"Bajo\",0.2,\"\")))","v":""},null,{"$f":"+IF(Tabla2[[#This Row],[Es  Reservada]]=\"Sí\",\"Escriba Ley\",\"No Aplica\")","v":"No Aplica"},null,null,null,null,{"$f":"IFERROR(IF(AND(Tabla2[[#This Row],[Contiene Datos Personales]]=\"SÍ\",OR(Tabla2[[#This Row],[Clasificación Datos Personales]]=\"Sensible\",Tabla2[[#This Row],[Clasificación Datos Personales]]=\"NNA\",Tabla2[[#This Row],[Clasificación Datos Personales]]=\"privado\")),\"Alto\",IF(AND(Tabla2[[#This Row],[Contiene Datos Personales]]=\"SÍ\",Tabla2[[#This Row],[Clasificación Datos Personales]]=\"SEMIPRIVADO\"),\"Medio\",\"Bajo\")),\"\")","v":"Bajo"},null,null,"No Aplica","No Aplica",null,null,null,{"$f":"+IF(Tabla2[[#This Row],[Integridad]]=\"Grave\",0.5,IF(Tabla2[[#This Row],[Integridad]]=\"Importante\",0.3,IF(Tabla2[[#This Row],[Integridad]]=\"Leve\",0.2,\"\")))","v":""},null,{"$f":"+IF(Tabla2[[#This Row],[Disponibilidad Interna]]=\"Sí\",0.1,IF(Tabla2[[#This Row],[Disponibilidad Interna]]=\"NO\",0,\"\"))","v":""},null,{"$f":"+IF(Tabla2[[#This Row],[Disponibilidad Terceros]]=\"Sí\",0.1,IF(Tabla2[[#This Row],[Disponibilidad Terceros]]=\"No\",0,\"\"))","v":""},{"$f":"+Tabla2[[#This Row],[Columna32]]+Tabla2[[#This Row],[Columna34]]+Tabla2[[#This Row],[Columna1]]+Tabla2[[#This Row],[Columna3]]","v":{"$error":"#VALUE!"}},{"$f":"IFERROR(IF(Tabla2[[#This Row],[Columna33]]<0.45,\"BAJA\",IF(Tabla2[[#This Row],[Columna33]]>0.75,\"ALTA\",\"MEDIA\")),\"\")","v":""},"No Aplica",{"$f":"+IF(Tabla2[[#This Row],[Información Publicada (WEB)]]=\"Sí\",\"Digite URL\",\"No Aplica\")","v":"No Aplica"},null,{"$f":"IF(Tabla2[[#This Row],[ Clasificación ICBF]]=\"Pública\",1,IF(Tabla2[[#This Row],[ Clasificación ICBF]]=\"Clasificada\",2,IF(Tabla2[[#This Row],[ Clasificación ICBF]]=\"Reservada\",3,0)))","v":0},{"$f":"IF(#REF!=8,4,IF(#REF!=16,3,IF(#REF!=24,2,IF(#REF!=48,1,0))))","v":{"$error":"#REF!"}},{"$f":"IF(#REF!=8,\"Alto\",IF(#REF!=16,\"Medio\",IF(#REF!=24,\"Medio\",IF(#REF!=48,\"Bajo\",0))))","v":{"$error":"#REF!"}},null,{"$f":"+MID(Tabla2[[#This Row],[Área/Dependencia]],17,8)","v":""}]
["",null,null,null,{"$f":"+VLOOKUP(Tabla2[[#This Row],[SEDE - REGIONAL]],DATOS!B177:D210,3,FALSE)","v":{"$error":"#N/A"}},{"$f":"+IF(OR(Tabla2[[#This Row],[Área/Dependencia]]=\"Subdirección de Sistemas Integrados\",Tabla2[[#This Row],[Área/Dependencia]]=\"Subdirección de Recursos Tecnológicos\"),\"X\",\"\")","v":""},{"$f":"+CONCATENATE(Tabla2[[#This Row],[Tipo de Proceso]],Tabla2[[#This Row],[Columna4]])","v":{"$error":"#N/A"}},null,null,null,null,null,null,null,null,null,null,null,null,null,{"$f":"+IF(Tabla2[[#This Row],[Nivel de acceso ]]=\"Alto\",0.5,IF(Tabla2[[#This Row],[Nivel de acceso ]]=\"Medio\",0.3,IF(Tabla2[[#This Row],[Nivel de acceso ]]=\"Bajo\",0.2,\"\")))","v":""},null,{"$f":"+IF(Tabla2[[#This Row],[Es  Reservada]]=\"Sí\",\"Escriba Ley\",\"No Aplica\")","v":"No Aplica"},null,null,null,null,{"$f":"IFERROR(IF(AND(Tabla2[[#This Row],[Contiene Datos Personales]]=\"SÍ\",OR(Tabla2[[#This Row],[Clasificación Datos Personales]]=\"Sensible\",Tabla2[[#This Row],[Clasificación Datos Personales]]=\"NNA\",Tabla2[[#This Row],[Clasificación Datos Personales]]=\"privado\")),\"Alto\",IF(AND(Tabla2[[#This Row],[Contiene Datos Personales]]=\"SÍ\",Tabla2[[#This Row],[Clasificación Datos Personales]]=\"SEMIPRIVADO\"),\"Medio\",\"Bajo\")),\"\")","v":"Bajo"},null,null,"No Aplica","No Aplica",null,null,null,{"$f":"+IF(Tabla2[[#This Row],[Integridad]]=\"Grave\",0.5,IF(Tabla2[[#This Row],[Integridad]]=\"Importante\",0.3,IF(Tabla2[[#This Row],[Integridad]]=\"Leve\",0.2,\"\")))","v":""},null,{"$f":"+IF(Tabla2[[#This Row],[Disponibilidad Interna]]=\"Sí\",0.1,IF(Tabla2[[#This Row],[Disponibilidad Interna]]=\"NO\",0,\"\"))","v":""},null,{"$f":"+IF(Tabla2[[#This Row],[Disponibilidad Terceros]]=\"Sí\",0.1,IF(Tabla2[[#This Row],[Disponibilidad Terceros]]=\"No\",0,\"\"))","v":""},{"$f":"+Tabla2[[#This Row],[Columna32]]+Tabla2[[#This Row],[Columna34]]+Tabla2[[#This Row],[Columna1]]+Tabla2[[#This Row],[Columna3]]","v":{"$error":"#VALUE!"}},{"$f":"IFERROR(IF(Tabla2[[#This Row],[Columna33]]<0.45,\"BAJA\",IF(Tabla2[[#This Row],[Columna33]]>0.75,\"ALTA\",\"MEDIA\")),\"\")","v":""},"No Aplica",{"$f":"+IF(Tabla2[[#This Row],[Información Publicada (WEB)]]=\"Sí\",\"Digite URL\",\"No Aplica\")","v":"No Aplica"},null,{"$f":"IF(Tabla2[[#This Row],[ Clasificación ICBF]]=\"Pública\",1,IF(Tabla2[[#This Row],[ Clasificación ICBF]]=\"Clasificada\",2,IF(Tabla2[[#This Row],[ Clasificación ICBF]]=\"Reservada\",3,0)))","v":0},{"$f":"IF(#REF!=8,4,IF(#REF!=16,3,IF(#REF!=24,2,IF(#REF!=48,1,0))))","v":{"$error":"#REF!"}},{"$f":"IF(#REF!=8,\"Alto\",IF(#REF!=16,\"Medio\",IF(#REF!=24,\"Medio\",IF(#REF!=48,\"Bajo\",0))))","v":{"$error":"#REF!"}},null,{"$f":"+MID(Tabla2[[#This Row],[Área/Dependencia]],17,8)","v":""}]
["",null,null,null,{"$f":"+VLOOKUP(Tabla2[[#This Row],[SEDE - REGIONAL]],DATOS!B178:D211,3,FALSE)","v":{"$error":"#N/A"}},{"$f":"+IF(OR(Tabla2[[#This Row],[Área/Dependencia]]=\"Subdirección de Sistemas Integrados\",Tabla2[[#This Row],[Área/Dependencia]]=\"Subdirección de Recursos Tecnológicos\"),\"X\",\"\")","v":""},{"$f":"+CONCATENATE(Tabla2[[#This Row],[Tipo de Proceso]],Tabla2[[#This Row],[Columna4]])","v":{"$error":"#N/A"}},null,null,null,null,null,null,null,null,null,null,null,null,null,{"$f":"+IF(Tabla2[[#This Row],[Nivel de acceso ]]=\"Alto\",0.5,IF(Tabla2[[#This Row],[Nivel de acceso ]]=\"Medio\",0.3,IF(Tabla2[[#This Row],[Nivel de acceso ]]=\"Bajo\",0.2,\"\")))","v":""},null,{"$f":"+IF(Tabla2[[#This Row],[Es  Reservada]]=\"Sí\",\"Escriba Ley\",\"No Aplica\")","v":"No Aplica"},null,null,null,null,{"$f":"IFERROR(IF(AND(Tabla2[[#This Row],[Contiene Datos Personales]]=\"SÍ\",OR(Tabla2[[#This Row],[Clasificación Datos Personales]]=\"Sensible\",Tabla2[[#This Row],[Clasificación Datos Personales]]=\"NNA\",Tabla2[[#This Row],[Clasificación Datos Personales]]=\"privado\")),\"Alto\",IF(AND(Tabla2[[#This Row],[Contiene Datos Personales]]=\"SÍ\",Tabla2[[#This Row],[Clasificación Datos Personales]]=\"SEMIPRIVADO\"),\"Medio\",\"Bajo\")),\"\")","v":"Bajo"},null,null,"No Aplica","No Aplica",null,null,null,{"$f":"+IF(Tabla2[[#This Row],[Integridad]]=\"Grave\",0.5,IF(Tabla2[[#This Row],[Integridad]]=\"Importante\",0.3,IF(Tabla2[[#This Row],[Integridad]]=\"Leve\",0.2,\"\")))","v":""},null,{"$f":"+IF(Tabla2[[#This Row],[Disponibilidad Interna]]=\"Sí\",0.1,IF(Tabla2[[#This Row],[Disponibilidad Interna]]=\"NO\",0,\"\"))","v":""},null,{"$f":"+IF(Tabla2[[#This Row],[Disponibilidad Terceros]]=\"Sí\",0.1,IF(Tabla2[[#This Row],[Disponibilidad Terceros]]=\"No\",0,\"\"))","v":""},{"$f":"+Tabla2[[#This Row],[Columna32]]+Tabla2[[#This Row],[Columna34]]+Tabla2[[#This Row],[Columna1]]+Tabla2[[#This Row],[Columna3]]","v":{"$error":"#VALUE!"}},{"$f":"IFERROR(IF(Tabla2[[#This Row],[Columna33]]<0.45,\"BAJA\",IF(Tabla2[[#This Row],[Columna33]]>0.75,\"ALTA\",\"MEDIA\")),\"\")","v":""},"No Aplica",{"$f":"+IF(Tabla2[[#This Row],[Información Publicada (WEB)]]=\"Sí\",\"Digite URL\",\"No Aplica\")","v":"No Aplica"},null,{"$f":"IF(Tabla2[[#This Row],[ Clasificación ICBF]]=\"Pública\",1,IF(Tabla2[[#This Row],[ Clasificación ICBF]]=\"Clasificada\",2,IF(Tabla2[[#This Row],[ Clasificación ICBF]]=\"Reservada\",3,0)))","v":0},{"$f":"IF(#REF!=8,4,IF(#REF!=16,3,IF(#REF!=24,2,IF(#REF!=48,1,0))))","v":{"$error":"#REF!"}},{"$f":"IF(#REF!=8,\"Alto\",IF(#REF!=16,\"Medio\",IF(#REF!=24,\"Medio\",IF(#REF!=48,\"Bajo\",0))))","v":{"$error":"#REF!"}},null,{"$f":"+MID(Tabla2[[#This Row],[Área/Dependencia]],17,8)","v":""}]
["",null,null,null,{"$f":"+VLOOKUP(Tabla2[[#This Row],[SEDE - REGIONAL]],DATOS!B179:D212,3,FALSE)","v":{"$error":"#N/A"}},{"$f":"+IF(OR(Tabla2[[#This Row],[Área/Dependencia]]=\"Subdirección de Sistemas Integrados\",Tabla2[[#This Row],[Área/Dependencia]]=\"Subdirección de Recursos Tecnológicos\"),\"X\",\"\")","v":""},{"$f":"+CONCATENATE(Tabla2[[#This Row],[Tipo de Proceso]],Tabla2[[#This Row],[Columna4]])","v":{"$error":"#N/A"}},null,null,null,null,null,null,null,null,null,null,null,null,null,{"$f":"+IF(Tabla2[[#This Row],[Nivel de acceso ]]=\"Alto\",0.5,IF(Tabla2[[#This Row],[Nivel de acceso ]]=\"Medio\",0.3,IF(Tabla2[[#This Row],[Nivel de acceso ]]=\"Bajo\",0.2,\"\")))","v":""},null,{"$f":"+IF(Tabla2[[#This Row],[Es  Reservada]]=\"Sí\",\"Escriba Ley\",\"No Aplica\")","v":"No Aplica"},null,null,null,null,{"$f":"IFERROR(IF(AND(Tabla2[[#This Row],[Contiene Datos Personales]]=\"SÍ\",OR(Tabla2[[#This Row],[Clasificación Datos Personales]]=\"Sensible\",Tabla2[[#This Row],[Clasificación Datos Personales]]=\"NNA\",Tabla2[[#This Row],[Clasificación Datos Personales]]=\"privado\")),\"Alto\",IF(AND(Tabla2[[#This Row],[Contiene Datos Personales]]=\"SÍ\",Tabla2[[#This Row],[Clasificación Datos Personales]]=\"SEMIPRIVADO\"),\"Medio\",\"Bajo\")),\"\")","v":"Bajo"},null,null,"No Aplica","No Aplica",null,null,null,{"$f":"+IF(Tabla2[[#This Row],[Integridad]]=\"Grave\",0.5,IF(Tabla2[[#This Row],[Integridad]]=\"Importante\",0.3,IF(Tabla2[[#This Row],[Integridad]]=\"Leve\",0.2,\"\")))","v":""},null,{"$f":"+IF(Tabla2[[#This Row],[Disponibilidad Interna]]=\"Sí\",0.1,IF(Tabla2[[#This Row],[Disponibilidad Interna]]=\"NO\",0,\"\"))","v":""},null,{"$f":"+IF(Tabla2[[#This Row],[Disponibilidad Terceros]]=\"Sí\",0.1,IF(Tabla2[[#This Row],[Disponibilidad Terceros]]=\"No\",0,\"\"))","v":""},{"$f":"+Tabla2[[#This Row],[Columna32]]+Tabla2[[#This Row],[Columna34]]+Tabla2[[#This Row],[Columna1]]+Tabla2[[#This Row],[Columna3]]","v":{"$error":"#VALUE!"}},{"$f":"IFERROR(IF(Tabla2[[#This Row],[Columna33]]<0.45,\"BAJA\",IF(Tabla2[[#This Row],[Columna33]]>0.75,\"ALTA\",\"MEDIA\")),\"\")","v":""},"No Aplica",{"$f":"+IF(Tabla2[[#This Row],[Información Publicada (WEB)]]=\"Sí\",\"Digite URL\",\"No Aplica\")","v":"No Aplica"},null,{"$f":"IF(Tabla2[[#This Row],[ Clasificación ICBF]]=\"Pública\",1,IF(Tabla2[[#This Row],[ Clasificación ICBF]]=\"Clasificada\",2,IF(Tabla2[[#This Row],[ Clasificación ICBF]]=\"Reservada\",3,0)))","v":0},{"$f":"IF(#REF!=8,4,IF(#REF!=16,3,IF(#REF!=24,2,IF(#REF!=48,1,0))))","v":{"$error":"#REF!"}},{"$f":"IF(#REF!=8,\"Alto\",IF(#REF!=16,\"Medio\",IF(#REF!=24,\"Medio\",IF(#REF!=48,\"Bajo\",0))))","v":{"$error":"#REF!"}},null,{"$f":"+MID(Tabla2[[#This Row],[Área/Dependencia]],17,8)","v":""}]
["",null,null,null,{"$f":"+VLOOKUP(Tabla2[[#This Row],[SEDE - REGIONAL]],DATOS!B180:D213,3,FALSE)","v":{"$error":"#N/A"}},{"$f":"+IF(OR(Tabla2[[#This Row],[Área/Dependencia]]=\"Subdirección de Sistemas Integrados\",Tabla2[[#This Row],[Área/Dependencia]]=\"Subdirección de Recursos Tecnológicos\"),\"X\",\"\")","v":""},{"$f":"+CONCATENATE(Tabla2[[#This Row],[Tipo de Proceso]],Tabla2[[#This Row],[Columna4]])","v":{"$error":"#N/A"}},null,null,null,null,null,null,null,null,null,null,null,null,null,{"$f":"+IF(Tabla2[[#This Row],[Nivel de acceso ]]=\"Alto\",0.5,IF(Tabla2[[#This Row],[Nivel de acceso ]]=\"Medio\",0.3,IF(Tabla2[[#This Row],[Nivel de acceso ]]=\"Bajo\",0.2,\"\")))","v":""},null,{"$f":"+IF(Tabla2[[#This Row],[Es  Reservada]]=\"Sí\",\"Escriba Ley\",\"No Aplica\")","v":"No Aplica"},null,null,null,null,{"$f":"IFERROR(IF(AND(Tabla2[[#This Row],[Contiene Datos Personales]]=\"SÍ\",OR(Tabla2[[#This Row],[Clasificación Datos Personales]]=\"Sensible\",Tabla2[[#This Row],[Clasificación Datos Personales]]=\"NNA\",Tabla2[[#This Row],[Clasificación Datos Personales]]=\"privado\")),\"Alto\",IF(AND(Tabla2[[#This Row],[Contiene Datos Personales]]=\"SÍ\",Tabla2[[#This Row],[Clasificación Datos Personales]]=\"SEMIPRIVADO\"),\"Medio\",\"Bajo\")),\"\")","v":"Bajo"},null,null,"No Aplica","No Aplica",null,null,null,{"$f":"+IF(Tabla2[[#This Row],[Integridad]]=\"Grave\",0.5,IF(Tabla2[[#This Row],[Integridad]]=\"Importante\",0.3,IF(Tabla2[[#This Row],[Integridad]]=\"Leve\",0.2,\"\")))","v":""},null,{"$f":"+IF(Tabla2[[#This Row],[Disponibilidad Interna]]=\"Sí\",0.1,IF(Tabla2[[#This Row],[Disponibilidad Interna]]=\"NO\",0,\"\"))","v":""},null,{"$f":"+IF(Tabla2[[#This Row],[Disponibilidad Terceros]]=\"Sí\",0.1,IF(Tabla2[[#This Row],[Disponibilidad Terceros]]=\"No\",0,\"\"))","v":""},{"$f":"+Tabla2[[#This Row],[Columna32]]+Tabla2[[#This Row],[Columna34]]+Tabla2[[#This Row],[Columna1]]+Tabla2[[#This Row],[Columna3]]","v":{"$error":"#VALUE!"}},{"$f":"IFERROR(IF(Tabla2[[#This Row],[Columna33]]<0.45,\"BAJA\",IF(Tabla2[[#This Row],[Columna33]]>0.75,\"ALTA\",\"MEDIA\")),\"\")","v":""},"No Aplica",{"$f":"+IF(Tabla2[[#This Row],[Información Publicada (WEB)]]=\"Sí\",\"Digite URL\",\"No Aplica\")","v":"No Aplica"},null,{"$f":"IF(Tabla2[[#This Row],[ Clasificación ICBF]]=\"Pública\",1,IF(Tabla2[[#This Row],[ Clasificación ICBF]]=\"Clasificada\",2,IF(Tabla2[[#This Row],[ Clasificación ICBF]]=\"Reservada\",3,0)))","v":0},{"$f":"IF(#REF!=8,4,IF(#REF!=16,3,IF(#REF!=24,2,IF(#REF!=48,1,0))))","v":{"$error":"#REF!"}},{"$f":"IF(#REF!=8,\"Alto\",IF(#REF!=16,\"Medio\",IF(#REF!=24,\"Medio\",IF(#REF!=48,\"Bajo\",0))))","v":{"$error":"#REF!"}},null,{"$f":"+MID(Tabla2[[#This Row],[Área/Dependencia]],17,8)","v":""}]
["",null,null,null,{"$f":"+VLOOKUP(Tabla2[[#This Row],[SEDE - REGIONAL]],DATOS!B181:D214,3,FALSE)","v":{"$error":"#N/A"}},{"$f":"+IF(OR(Tabla2[[#This Row],[Área/Dependencia]]=\"Subdirección de Sistemas Integrados\",Tabla2[[#This Row],[Área/Dependencia]]=\"Subdirección de Recursos Tecnológicos\"),\"X\",\"\")","v":""},{"$f":"+CONCATENATE(Tabla2[[#This Row],[Tipo de Proceso]],Tabla2[[#This Row],[Columna4]])","v":{"$error":"#N/A"}},null,null,null,null,null,null,null,null,null,null,null,null,null,{"$f":"+IF(Tabla2[[#This Row],[Nivel de acceso ]]=\"Alto\",0.5,IF(Tabla2[[#This Row],[Nivel de acceso ]]=\"Medio\",0.3,IF(Tabla2[[#This Row],[Nivel de acceso ]]=\"Bajo\",0.2,\"\")))","v":""},null,{"$f":"+IF(Tabla2[[#This Row],[Es  Reservada]]=\"Sí\",\"Escriba Ley\",\"No Aplica\")","v":"No Aplica"},null,null,null,null,{"$f":"IFERROR(IF(AND(Tabla2[[#This Row],[Contiene Datos Personales]]=\"SÍ\",OR(Tabla2[[#This Row],[Clasificación Datos Personales]]=\"Sensible\",Tabla2[[#This Row],[Clasificación Datos Personales]]=\"NNA\",Tabla2[[#This Row],[Clasificación Datos Personales]]=\"privado\")),\"Alto\",IF(AND(Tabla2[[#This Row],[Contiene Datos Personales]]=\"SÍ\",Tabla2[[#This Row],[Clasificación Datos Personales]]=\"SEMIPRIVADO\"),\"Medio\",\"Bajo\")),\"\")","v":"Bajo"},null,null,"No Aplica","No Aplica",null,null,null,{"$f":"+IF(Tabla2[[#This Row],[Integridad]]=\"Grave\",0.5,IF(Tabla2[[#This Row],[Integridad]]=\"Importante\",0.3,IF(Tabla2[[#This Row],[Integridad]]=\"Leve\",0.2,\"\")))","v":""},null,{"$f":"+IF(Tabla2[[#This Row],[Disponibilidad Interna]]=\"Sí\",0.1,IF(Tabla2[[#This Row],[Disponibilidad Interna]]=\"NO\",0,\"\"))","v":""},null,{"$f":"+IF(Tabla2[[#This Row],[Disponibilidad Terceros]]=\"Sí\",0.1,IF(Tabla2[[#This Row],[Disponibilidad Terceros]]=\"No\",0,\"\"))","v":""},{"$f":"+Tabla2[[#This Row],[Columna32]]+Tabla2[[#This Row],[Columna34]]+Tabla2[[#This Row],[Columna1]]+Tabla2[[#This Row],[Columna3]]","v":{"$error":"#VALUE!"}},{"$f":"IFERROR(IF(Tabla2[[#This Row],[Columna33]]<0.45,\"BAJA\",IF(Tabla2[[#This Row],[Columna33]]>0.75,\"ALTA\",\"MEDIA\")),\"\")","v":""},"No Aplica",{"$f":"+IF(Tabla2[[#This Row],[Información Publicada (WEB)]]=\"Sí\",\"Digite URL\",\"No Aplica\")","v":"No Aplica"},null,{"$f":"IF(Tabla2[[#This Row],[ Clasificación ICBF]]=\"Pública\",1,IF(Tabla2[[#This Row],[ Clasificación ICBF]]=\"Clasificada\",2,IF(Tabla2[[#This Row],[ Clasificación ICBF]]=\"Reservada\",3,0)))","v":0},{"$f":"IF(#REF!=8,4,IF(#REF!=16,3,IF(#REF!=24,2,IF(#REF!=48,1,0))))","v":{"$error":"#REF!"}},{"$f":"IF(#REF!=8,\"Alto\",IF(#REF!=16,\"Medio\",IF(#REF!=24,\"Medio\",IF(#REF!=48,\"Bajo\",0))))","v":{"$error":"#REF!"}},null,{"$f":"+MID(Tabla2[[#This Row],[Área/Dependencia]],17,8)","v":""}]
["",null,null,null,{"$f":"+VLOOKUP(Tabla2[[#This Row],[SEDE - REGIONAL]],DATOS!B182:D215,3,FALSE)","v":{"$error":"#N/A"}},{"$f":"+IF(OR(Tabla2[[#This Row],[Área/Dependencia]]=\"Subdirección de Sistemas Integrados\",Tabla2[[#This Row],[Área/Dependencia]]=\"Subdirección de Recursos Tecnológicos\"),\"X\",\"\")","v":""},{"$f":"+CONCATENATE(Tabla2[[#This Row],[Tipo de Proceso]],Tabla2[[#This Row],[Columna4]])","v":{"$error":"#N/A"}},null,null,null,null,null,null,null,null,null,null,null,null,null,{"$f":"+IF(Tabla2[[#This Row],[Nivel de acceso ]]=\"Alto\",0.5,IF(Tabla2[[#This Row],[Nivel de acceso ]]=\"Medio\",0.3,IF(Tabla2[[#This Row],[Nivel de acceso ]]=\"Bajo\",0.2,\"\")))","v":""},null,{"$f":"+IF(Tabla2[[#This Row],[Es  Reservada]]=\"Sí\",\"Escriba Ley\",\"No Aplica\")","v":"No Aplica"},null,null,null,null,{"$f":"IFERROR(IF(AND(Tabla2[[#This Row],[Contiene Datos Personales]]=\"SÍ\",OR(Tabla2[[#This Row],[Clasificación Datos Personales]]=\"Sensible\",Tabla2[[#This Row],[Clasificación Datos Personales]]=\"NNA\",Tabla2[[#This Row],[Clasificación Datos Personales]]=\"privado\")),\"Alto\",IF(AND(Tabla2[[#This Row],[Contiene Datos Personales]]=\"SÍ\",Tabla2[[#This Row],[Clasificación Datos Personales]]=\"SEMIPRIVADO\"),\"Medio\",\"Bajo\")),\"\")","v":"Bajo"},null,null,"No Aplica","No Aplica",null,null,null,{"$f":"+IF(Tabla2[[#This Row],[Integridad]]=\"Grave\",0.5,IF(Tabla2[[#This Row],[Integridad]]=\"Importante\",0.3,IF(Tabla2[[#This Row],[Integridad]]=\"Leve\",0.2,\"\")))","v":""},null,{"$f":"+IF(Tabla2[[#This Row],[Disponibilidad Interna]]=\"Sí\",0.1,IF(Tabla2[[#This Row],[Disponibilidad Interna]]=\"NO\",0,\"\"))","v":""},null,{"$f":"+IF(Tabla2[[#This Row],[Disponibilidad Terceros]]=\"Sí\",0.1,IF(Tabla2[[#This Row],[Disponibilidad Terceros]]=\"No\",0,\"\"))","v":""},{"$f":"+Tabla2[[#This Row],[Columna32]]+Tabla2[[#This Row],[Columna34]]+Tabla2[[#This Row],[Columna1]]+Tabla2[[#This Row],[Columna3]]","v":{"$error":"#VALUE!"}},{"$f":"IFERROR(IF(Tabla2[[#This Row],[Columna33]]<0.45,\"BAJA\",IF(Tabla2[[#This Row],[Columna33]]>0.75,\"ALTA\",\"MEDIA\")),\"\")","v":""},"No Aplica",{"$f":"+IF(Tabla2[[#This Row],[Información Publicada (WEB)]]=\"Sí\",\"Digite URL\",\"No Aplica\")","v":"No Aplica"},null,{"$f":"IF(Tabla2[[#This Row],[ Clasificación ICBF]]=\"Pública\",1,IF(Tabla2[[#This Row],[ Clasificación ICBF]]=\"Clasificada\",2,IF(Tabla2[[#This Row],[ Clasificación ICBF]]=\"Reservada\",3,0)))","v":0},{"$f":"IF(#REF!=8,4,IF(#REF!=16,3,IF(#REF!=24,2,IF(#REF!=48,1,0))))","v":{"$error":"#REF!"}},{"$f":"IF(#REF!=8,\"Alto\",IF(#REF!=16,\"Medio\",IF(#REF!=24,\"Medio\",IF(#REF!=48,\"Bajo\",0))))","v":{"$error":"#REF!"}},null,{"$f":"+MID(Tabla2[[#This Row],[Área/Dependencia]],17,8)","v":""}]
["",null,null,null,{"$f":"+VLOOKUP(Tabla2[[#This Row],[SEDE - REGIONAL]],DATOS!B183:D216,3,FALSE)","v":{"$error":"#N/A"}},{"$f":"+IF(OR(Tabla2[[#This Row],[Área/Dependencia]]=\"Subdirección de Sistemas Integrados\",Tabla2[[#This Row],[Área/Dependencia]]=\"Subdirección de Recursos Tecnológicos\"),\"X\",\"\")","v":""},{"$f":"+CONCATENATE(Tabla2[[#This Row],[Tipo de Proceso]],Tabla2[[#This Row],[Columna4]])","v":{"$error":"#N/A"}},null,null,null,null,null,null,null,null,null,null,null,null,null,{"$f":"+IF(Tabla2[[#This Row],[Nivel de acceso ]]=\"Alto\",0.5,IF(Tabla2[[#This Row],[Nivel de acceso ]]=\"Medio\",0.3,IF(Tabla2[[#This Row],[Nivel de acceso ]]=\"Bajo\",0.2,\"\")))","v":""},null,{"$f":"+IF(Tabla2[[#This Row],[Es  Reservada]]=\"Sí\",\"Escriba Ley\",\"No Aplica\")","v":"No Aplica"},null,null,null,null,{"$f":"IFERROR(IF(AND(Tabla2[[#This Row],[Contiene Datos Personales]]=\"SÍ\",OR(Tabla2[[#This Row],[Clasificación Datos Personales]]=\"Sensible\",Tabla2[[#This Row],[Clasificación Datos Personales]]=\"NNA\",Tabla2[[#This Row],[Clasificación Datos Personales]]=\"privado\")),\"Alto\",IF(AND(Tabla2[[#This Row],[Contiene Datos Personales]]=\"SÍ\",Tabla2[[#This Row],[Clasificación Datos Personales]]=\"SEMIPRIVADO\"),\"Medio\",\"Bajo\")),\"\")","v":"Bajo"},null,null,"No Aplica","No Aplica",null,null,null,{"$f":"+IF(Tabla2[[#This Row],[Integridad]]=\"Grave\",0.5,IF(Tabla2[[#This Row],[Integridad]]=\"Importante\",0.3,IF(Tabla2[[#This Row],[Integridad]]=\"Leve\",0.2,\"\")))","v":""},null,{"$f":"+IF(Tabla2[[#This Row],[Disponibilidad Interna]]=\"Sí\",0.1,IF(Tabla2[[#This Row],[Disponibilidad Interna]]=\"NO\",0,\"\"))","v":""},null,{"$f":"+IF(Tabla2[[#This Row],[Disponibilidad Terceros]]=\"Sí\",0.1,IF(Tabla2[[#This Row],[Disponibilidad Terceros]]=\"No\",0,\"\"))","v":""},{"$f":"+Tabla2[[#This Row],[Columna32]]+Tabla2[[#This Row],[Columna34]]+Tabla2[[#This Row],[Columna1]]+Tabla2[[#This Row],[Columna3]]","v":{"$error":"#VALUE!"}},{"$f":"IFERROR(IF(Tabla2[[#This Row],[Columna33]]<0.45,\"BAJA\",IF(Tabla2[[#This Row],[Columna33]]>0.75,\"ALTA\",\"MEDIA\")),\"\")","v":""},"No Aplica",{"$f":"+IF(Tabla2[[#This Row],[Información Publicada (WEB)]]=\"Sí\",\"Digite URL\",\"No Aplica\")","v":"No Aplica"},null,{"$f":"IF(Tabla2[[#This Row],[ Clasificación ICBF]]=\"Pública\",1,IF(Tabla2[[#This Row],[ Clasificación ICBF]]=\"Clasificada\",2,IF(Tabla2[[#This Row],[ Clasificación ICBF]]=\"Reservada\",3,0)))","v":0},{"$f":"IF(#REF!=8,4,IF(#REF!=16,3,IF(#REF!=24,2,IF(#REF!=48,1,0))))","v":{"$error":"#REF!"}},{"$f":"IF(#REF!=8,\"Alto\",IF(#REF!=16,\"Medio\",IF(#REF!=24,\"Medio\",IF(#REF!=48,\"Bajo\",0))))","v":{"$error":"#REF!"}},null,{"$f":"+MID(Tabla2[[#This Row],[Área/Dependencia]],17,8)","v":""}]
["",null,null,null,{"$f":"+VLOOKUP(Tabla2[[#This Row],[SEDE - REGIONAL]],DATOS!B184:D217,3,FALSE)","v":{"$error":"#N/A"}},{"$f":"+IF(OR(Tabla2[[#This Row],[Área/Dependencia]]=\"Subdirección de Sistemas Integrados\",Tabla2[[#This Row],[Área/Dependencia]]=\"Subdirección de Recursos Tecnológicos\"),\"X\",\"\")","v":""},{"$f":"+CONCATENATE(Tabla2[[#This Row],[Tipo de Proceso]],Tabla2[[#This Row],[Columna4]])","v":{"$error":"#N/A"}},null,null,null,null,null,null,null,null,null,null,null,null,null,{"$f":"+IF(Tabla2[[#This Row],[Nivel de acceso ]]=\"Alto\",0.5,IF(Tabla2[[#This Row],[Nivel de acceso ]]=\"Medio\",0.3,IF(Tabla2[[#This Row],[Nivel de acceso ]]=\"Bajo\",0.2,\"\")))","v":""},null,{"$f":"+IF(Tabla2[[#This Row],[Es  Reservada]]=\"Sí\",\"Escriba Ley\",\"No Aplica\")","v":"No Aplica"},null,null,null,null,{"$f":"IFERROR(IF(AND(Tabla2[[#This Row],[Contiene Datos Personales]]=\"SÍ\",OR(Tabla2[[#This Row],[Clasificación Datos Personales]]=\"Sensible\",Tabla2[[#This Row],[Clasificación Datos Personales]]=\"NNA\",Tabla2[[#This Row],[Clasificación Datos Personales]]=\"privado\")),\"Alto\",IF(AND(Tabla2[[#This Row],[Contiene Datos Personales]]=\"SÍ\",Tabla2[[#This Row],[Clasificación Datos Personales]]=\"SEMIPRIVADO\"),\"Medio\",\"Bajo\")),\"\")","v":"Bajo"},null,null,"No Aplica","No Aplica",null,null,null,{"$f":"+IF(Tabla2[[#This Row],[Integridad]]=\"Grave\",0.5,IF(Tabla2[[#This Row],[Integridad]]=\"Importante\",0.3,IF(Tabla2[[#This Row],[Integridad]]=\"Leve\",0.2,\"\")))","v":""},null,{"$f":"+IF(Tabla2[[#This Row],[Disponibilidad Interna]]=\"Sí\",0.1,IF(Tabla2[[#This Row],[Disponibilidad Interna]]=\"NO\",0,\"\"))","v":""},null,{"$f":"+IF(Tabla2[[#This Row],[Disponibilidad Terceros]]=\"Sí\",0.1,IF(Tabla2[[#This Row],[Disponibilidad Terceros]]=\"No\",0,\"\"))","v":""},{"$f":"+Tabla2[[#This Row],[Columna32]]+Tabla2[[#This Row],[Columna34]]+Tabla2[[#This Row],[Columna1]]+Tabla2[[#This Row],[Columna3]]","v":{"$error":"#VALUE!"}},{"$f":"IFERROR(IF(Tabla2[[#This Row],[Columna33]]<0.45,\"BAJA\",IF(Tabla2[[#This Row],[Columna33]]>0.75,\"ALTA\",\"MEDIA\")),\"\")","v":""},"No Aplica",{"$f":"+IF(Tabla2[[#This Row],[Información Publicada (WEB)]]=\"Sí\",\"Digite URL\",\"No Aplica\")","v":"No Aplica"},null,{"$f":"IF(Tabla2[[#This Row],[ Clasificación ICBF]]=\"Pública\",1,IF(Tabla2[[#This Row],[ Clasificación ICBF]]=\"Clasificada\",2,IF(Tabla2[[#This Row],[ Clasificación ICBF]]=\"Reservada\",3,0)))","v":0},{"$f":"IF(#REF!=8,4,IF(#REF!=16,3,IF(#REF!=24,2,IF(#REF!=48,1,0))))","v":{"$error":"#REF!"}},{"$f":"IF(#REF!=8,\"Alto\",IF(#REF!=16,\"Medio\",IF(#REF!=24,\"Medio\",IF(#REF!=48,\"Bajo\",0))))","v":{"$error":"#REF!"}},null,{"$f":"+MID(Tabla2[[#This Row],[Área/Dependencia]],17,8)","v":""}]
["",null,null,null,{"$f":"+VLOOKUP(Tabla2[[#This Row],[SEDE - REGIONAL]],DATOS!B185:D218,3,FALSE)","v":{"$error":"#N/A"}},{"$f":"+IF(OR(Tabla2[[#This Row],[Área/Dependencia]]=\"Subdirección de Sistemas Integrados\",Tabla2[[#This Row],[Área/Dependencia]]=\"Subdirección de Recursos Tecnológicos\"),\"X\",\"\")","v":""},{"$f":"+CONCATENATE(Tabla2[[#This Row],[Tipo de Proceso]],Tabla2[[#This Row],[Columna4]])","v":{"$error":"#N/A"}},null,null,null,null,null,null,null,null,null,null,null,null,null,{"$f":"+IF(Tabla2[[#This Row],[Nivel de acceso ]]=\"Alto\",0.5,IF(Tabla2[[#This Row],[Nivel de acceso ]]=\"Medio\",0.3,IF(Tabla2[[#This Row],[Nivel de acceso ]]=\"Bajo\",0.2,\"\")))","v":""},null,{"$f":"+IF(Tabla2[[#This Row],[Es  Reservada]]=\"Sí\",\"Escriba Ley\",\"No Aplica\")","v":"No Aplica"},null,null,null,null,{"$f":"IFERROR(IF(AND(Tabla2[[#This Row],[Contiene Datos Personales]]=\"SÍ\",OR(Tabla2[[#This Row],[Clasificación Datos Personales]]=\"Sensible\",Tabla2[[#This Row],[Clasificación Datos Personales]]=\"NNA\",Tabla2[[#This Row],[Clasificación Datos Personales]]=\"privado\")),\"Alto\",IF(AND(Tabla2[[#This Row],[Contiene Datos Personales]]=\"SÍ\",Tabla2[[#This Row],[Clasificación Datos Personales]]=\"SEMIPRIVADO\"),\"Medio\",\"Bajo\")),\"\")","v":"Bajo"},null,null,"No Aplica","No Aplica",null,null,null,{"$f":"+IF(Tabla2[[#This Row],[Integridad]]=\"Grave\",0.5,IF(Tabla2[[#This Row],[Integridad]]=\"Importante\",0.3,IF(Tabla2[[#This Row],[Integridad]]=\"Leve\",0.2,\"\")))","v":""},null,{"$f":"+IF(Tabla2[[#This Row],[Disponibilidad Interna]]=\"Sí\",0.1,IF(Tabla2[[#This Row],[Disponibilidad Interna]]=\"NO\",0,\"\"))","v":""},null,{"$f":"+IF(Tabla2[[#This Row],[Disponibilidad Terceros]]=\"Sí\",0.1,IF(Tabla2[[#This Row],[Disponibilidad Terceros]]=\"No\",0,\"\"))","v":""},{"$f":"+Tabla2[[#This Row],[Columna32]]+Tabla2[[#This Row],[Columna34]]+Tabla2[[#This Row],[Columna1]]+Tabla2[[#This Row],[Columna3]]","v":{"$error":"#VALUE!"}},{"$f":"IFERROR(IF(Tabla2[[#This Row],[Columna33]]<0.45,\"BAJA\",IF(Tabla2[[#This Row],[Columna33]]>0.75,\"ALTA\",\"MEDIA\")),\"\")","v":""},"No Aplica",{"$f":"+IF(Tabla2[[#This Row],[Información Publicada (WEB)]]=\"Sí\",\"Digite URL\",\"No Aplica\")","v":"No Aplica"},null,{"$f":"IF(Tabla2[[#This Row],[ Clasificación ICBF]]=\"Pública\",1,IF(Tabla2[[#This Row],[ Clasificación ICBF]]=\"Clasificada\",2,IF(Tabla2[[#This Row],[ Clasificación ICBF]]=\"Reservada\",3,0)))","v":0},{"$f":"IF(#REF!=8,4,IF(#REF!=16,3,IF(#REF!=24,2,IF(#REF!=48,1,0))))","v":{"$error":"#REF!"}},{"$f":"IF(#REF!=8,\"Alto\",IF(#REF!=16,\"Medio\",IF(#REF!=24,\"Medio\",IF(#REF!=48,\"Bajo\",0))))","v":{"$error":"#REF!"}},null,{"$f":"+MID(Tabla2[[#This Row],[Área/Dependencia]],17,8)","v":""}]
["",null,null,null,{"$f":"+VLOOKUP(Tabla2[[#This Row],[SEDE - REGIONAL]],DATOS!B186:D219,3,FALSE)","v":{"$error":"#N/A"}},{"$f":"+IF(OR(Tabla2[[#This Row],[Área/Dependencia]]=\"Subdirección de Sistemas Integrados\",Tabla2[[#This Row],[Área/Dependencia]]=\"Subdirección de Recursos Tecnológicos\"),\"X\",\"\")","v":""},{"$f":"+CONCATENATE(Tabla2[[#This Row],[Tipo de Proceso]],Tabla2[[#This Row],[Columna4]])","v":{"$error":"#N/A"}},null,null,null,null,null,null,null,null,null,null,null,null,null,{"$f":"+IF(Tabla2[[#This Row],[Nivel de acceso ]]=\"Alto\",0.5,IF(Tabla2[[#This Row],[Nivel de acceso ]]=\"Medio\",0.3,IF(Tabla2[[#This Row],[Nivel de acceso ]]=\"Bajo\",0.2,\"\")))","v":""},null,{"$f":"+IF(Tabla2[[#This Row],[Es  Reservada]]=\"Sí\",\"Escriba Ley\",\"No Aplica\")","v":"No Aplica"},null,null,null,null,{"$f":"IFERROR(IF(AND(Tabla2[[#This Row],[Contiene Datos Personales]]=\"SÍ\",OR(Tabla2[[#This Row],[Clasificación Datos Personales]]=\"Sensible\",Tabla2[[#This Row],[Clasificación Datos Personales]]=\"NNA\",Tabla2[[#This Row],[Clasificación Datos Personales]]=\"privado\")),\"Alto\",IF(AND(Tabla2[[#This Row],[Contiene Datos Personales]]=\"SÍ\",Tabla2[[#This Row],[Clasificación Datos Personales]]=\"SEMIPRIVADO\"),\"Medio\",\"Bajo\")),\"\")","v":"Bajo"},null,null,"No Aplica","No Aplica",null,null,null,{"$f":"+IF(Tabla2[[#This Row],[Integridad]]=\"Grave\",0.5,IF(Tabla2[[#This Row],[Integridad]]=\"Importante\",0.3,IF(Tabla2[[#This Row],[Integridad]]=\"Leve\",0.2,\"\")))","v":""},null,{"$f":"+IF(Tabla2[[#This Row],[Disponibilidad Interna]]=\"Sí\",0.1,IF(Tabla2[[#This Row],[Disponibilidad Interna]]=\"NO\",0,\"\"))","v":""},null,{"$f":"+IF(Tabla2[[#This Row],[Disponibilidad Terceros]]=\"Sí\",0.1,IF(Tabla2[[#This Row],[Disponibilidad Terceros]]=\"No\",0,\"\"))","v":""},{"$f":"+Tabla2[[#This Row],[Columna32]]+Tabla2[[#This Row],[Columna34]]+Tabla2[[#This Row],[Columna1]]+Tabla2[[#This Row],[Columna3]]","v":{"$error":"#VALUE!"}},{"$f":"IFERROR(IF(Tabla2[[#This Row],[Columna33]]<0.45,\"BAJA\",IF(Tabla2[[#This Row],[Columna33]]>0.75,\"ALTA\",\"MEDIA\")),\"\")","v":""},"No Aplica",{"$f":"+IF(Tabla2[[#This Row],[Información Publicada (WEB)]]=\"Sí\",\"Digite URL\",\"No Aplica\")","v":"No Aplica"},null,{"$f":"IF(Tabla2[[#This Row],[ Clasificación ICBF]]=\"Pública\",1,IF(Tabla2[[#This Row],[ Clasificación ICBF]]=\"Clasificada\",2,IF(Tabla2[[#This Row],[ Clasificación ICBF]]=\"Reservada\",3,0)))","v":0},{"$f":"IF(#REF!=8,4,IF(#REF!=16,3,IF(#REF!=24,2,IF(#REF!=48,1,0))))","v":{"$error":"#REF!"}},{"$f":"IF(#REF!=8,\"Alto\",IF(#REF!=16,\"Medio\",IF(#REF!=24,\"Medio\",IF(#REF!=48,\"Bajo\",0))))","v":{"$error":"#REF!"}},null,{"$f":"+MID(Tabla2[[#This Row],[Área/Dependencia]],17,8)","v":""}]
["",null,null,null,{"$f":"+VLOOKUP(Tabla2[[#This Row],[SEDE - REGIONAL]],DATOS!B187:D220,3,FALSE)","v":{"$error":"#N/A"}},{"$f":"+IF(OR(Tabla2[[#This Row],[Área/Dependencia]]=\"Subdirección de Sistemas Integrados\",Tabla2[[#This Row],[Área/Dependencia]]=\"Subdirección de Recursos Tecnológicos\"),\"X\",\"\")","v":""},{"$f":"+CONCATENATE(Tabla2[[#This Row],[Tipo de Proceso]],Tabla2[[#This Row],[Columna4]])","v":{"$error":"#N/A"}},null,null,null,null,null,null,null,null,null,null,null,null,null,{"$f":"+IF(Tabla2[[#This Row],[Nivel de acceso ]]=\"Alto\",0.5,IF(Tabla2[[#This Row],[Nivel de acceso ]]=\"Medio\",0.3,IF(Tabla2[[#This Row],[Nivel de acceso ]]=\"Bajo\",0.2,\"\")))","v":""},null,{"$f":"+IF(Tabla2[[#This Row],[Es  Reservada]]=\"Sí\",\"Escriba Ley\",\"No Aplica\")","v":"No Aplica"},null,null,null,null,{"$f":"IFERROR(IF(AND(Tabla2[[#This Row],[Contiene Datos Personales]]=\"SÍ\",OR(Tabla2[[#This Row],[Clasificación Datos Personales]]=\"Sensible\",Tabla2[[#This Row],[Clasificación Datos Personales]]=\"NNA\",Tabla2[[#This Row],[Clasificación Datos Personales]]=\"privado\")),\"Alto\",IF(AND(Tabla2[[#This Row],[Contiene Datos Personales]]=\"SÍ\",Tabla2[[#This Row],[Clasificación Datos Personales]]=\"SEMIPRIVADO\"),\"Medio\",\"Bajo\")),\"\")","v":"Bajo"},null,null,"No Aplica","No Aplica",null,null,null,{"$f":"+IF(Tabla2[[#This Row],[Integridad]]=\"Grave\",0.5,IF(Tabla2[[#This Row],[Integridad]]=\"Importante\",0.3,IF(Tabla2[[#This Row],[Integridad]]=\"Leve\",0.2,\"\")))","v":""},null,{"$f":"+IF(Tabla2[[#This Row],[Disponibilidad Interna]]=\"Sí\",0.1,IF(Tabla2[[#This Row],[Disponibilidad Interna]]=\"NO\",0,\"\"))","v":""},null,{"$f":"+IF(Tabla2[[#This Row],[Disponibilidad Terceros]]=\"Sí\",0.1,IF(Tabla2[[#This Row],[Disponibilidad Terceros]]=\"No\",0,\"\"))","v":""},{"$f":"+Tabla2[[#This Row],[Columna32]]+Tabla2[[#This Row],[Columna34]]+Tabla2[[#This Row],[Columna1]]+Tabla2[[#This Row],[Columna3]]","v":{"$error":"#VALUE!"}},{"$f":"IFERROR(IF(Tabla2[[#This Row],[Columna33]]<0.45,\"BAJA\",IF(Tabla2[[#This Row],[Columna33]]>0.75,\"ALTA\",\"MEDIA\")),\"\")","v":""},"No Aplica",{"$f":"+IF(Tabla2[[#This Row],[Información Publicada (WEB)]]=\"Sí\",\"Digite URL\",\"No Aplica\")","v":"No Aplica"},null,{"$f":"IF(Tabla2[[#This Row],[ Clasificación ICBF]]=\"Pública\",1,IF(Tabla2[[#This Row],[ Clasificación ICBF]]=\"Clasificada\",2,IF(Tabla2[[#This Row],[ Clasificación ICBF]]=\"Reservada\",3,0)))","v":0},{"$f":"IF(#REF!=8,4,IF(#REF!=16,3,IF(#REF!=24,2,IF(#REF!=48,1,0))))","v":{"$error":"#REF!"}},{"$f":"IF(#REF!=8,\"Alto\",IF(#REF!=16,\"Medio\",IF(#REF!=24,\"Medio\",IF(#REF!=48,\"Bajo\",0))))","v":{"$error":"#REF!"}},null,{"$f":"+MID(Tabla2[[#This Row],[Área/Dependencia]],17,8)","v":""}]
["",null,null,null,{"$f":"+VLOOKUP(Tabla2[[#This Row],[SEDE - REGIONAL]],DATOS!B188:D221,3,FALSE)","v":{"$error":"#N/A"}},{"$f":"+IF(OR(Tabla2[[#This Row],[Área/Dependencia]]=\"Subdirección de Sistemas Integrados\",Tabla2[[#This Row],[Área/Dependencia]]=\"Subdirección de Recursos Tecnológicos\"),\"X\",\"\")","v":""},{"$f":"+CONCATENATE(Tabla2[[#This Row],[Tipo de Proceso]],Tabla2[[#This Row],[Columna4]])","v":{"$error":"#N/A"}},null,null,null,null,null,null,null,null,null,null,null,null,null,{"$f":"+IF(Tabla2[[#This Row],[Nivel de acceso ]]=\"Alto\",0.5,IF(Tabla2[[#This Row],[Nivel de acceso ]]=\"Medio\",0.3,IF(Tabla2[[#This Row],[Nivel de acceso ]]=\"Bajo\",0.2,\"\")))","v":""},null,{"$f":"+IF(Tabla2[[#This Row],[Es  Reservada]]=\"Sí\",\"Escriba Ley\",\"No Aplica\")","v":"No Aplica"},null,null,null,null,{"$f":"IFERROR(IF(AND(Tabla2[[#This Row],[Contiene Datos Personales]]=\"SÍ\",OR(Tabla2[[#This Row],[Clasificación Datos Personales]]=\"Sensible\",Tabla2[[#This Row],[Clasificación Datos Personales]]=\"NNA\",Tabla2[[#This Row],[Clasificación Datos Personales]]=\"privado\")),\"Alto\",IF(AND(Tabla2[[#This Row],[Contiene Datos Personales]]=\"SÍ\",Tabla2[[#This Row],[Clasificación Datos Personales]]=\"SEMIPRIVADO\"),\"Medio\",\"Bajo\")),\"\")","v":"Bajo"},null,null,"No Aplica","No Aplica",null,null,null,{"$f":"+IF(Tabla2[[#This Row],[Integridad]]=\"Grave\",0.5,IF(Tabla2[[#This Row],[Integridad]]=\"Importante\",0.3,IF(Tabla2[[#This Row],[Integridad]]=\"Leve\",0.2,\"\")))","v":""},null,{"$f":"+IF(Tabla2[[#This Row],[Disponibilidad Interna]]=\"Sí\",0.1,IF(Tabla2[[#This Row],[Disponibilidad Interna]]=\"NO\",0,\"\"))","v":""},null,{"$f":"+IF(Tabla2[[#This Row],[Disponibilidad Terceros]]=\"Sí\",0.1,IF(Tabla2[[#This Row],[Disponibilidad Terceros]]=\"No\",0,\"\"))","v":""},{"$f":"+Tabla2[[#This Row],[Columna32]]+Tabla2[[#This Row],[Columna34]]+Tabla2[[#This Row],[Columna1]]+Tabla2[[#This Row],[Columna3]]","v":{"$error":"#VALUE!"}},{"$f":"IFERROR(IF(Tabla2[[#This Row],[Columna33]]<0.45,\"BAJA\",IF(Tabla2[[#This Row],[Columna33]]>0.75,\"ALTA\",\"MEDIA\")),\"\")","v":""},"No Aplica",{"$f":"+IF(Tabla2[[#This Row],[Información Publicada (WEB)]]=\"Sí\",\"Digite URL\",\"No Aplica\")","v":"No Aplica"},null,{"$f":"IF(Tabla2[[#This Row],[ Clasificación ICBF]]=\"Pública\",1,IF(Tabla2[[#This Row],[ Clasificación ICBF]]=\"Clasificada\",2,IF(Tabla2[[#This Row],[ Clasificación ICBF]]=\"Reservada\",3,0)))","v":0},{"$f":"IF(#REF!=8,4,IF(#REF!=16,3,IF(#REF!=24,2,IF(#REF!=48,1,0))))","v":{"$error":"#REF!"}},{"$f":"IF(#REF!=8,\"Alto\",IF(#REF!=16,\"Medio\",IF(#REF!=24,\"Medio\",IF(#REF!=48,\"Bajo\",0))))","v":{"$error":"#REF!"}},null,{"$f":"+MID(Tabla2[[#This Row],[Área/Dependencia]],17,8)","v":""}]
["",null,null,null,{"$f":"+VLOOKUP(Tabla2[[#This Row],[SEDE - REGIONAL]],DATOS!B189:D222,3,FALSE)","v":{"$error":"#N/A"}},{"$f":"+IF(OR(Tabla2[[#This Row],[Área/Dependencia]]=\"Subdirección de Sistemas Integrados\",Tabla2[[#This Row],[Área/Dependencia]]=\"Subdirección de Recursos Tecnológicos\"),\"X\",\"\")","v":""},{"$f":"+CONCATENATE(Tabla2[[#This Row],[Tipo de Proceso]],Tabla2[[#This Row],[Columna4]])","v":{"$error":"#N/A"}},null,null,null,null,null,null,null,null,null,null,null,null,null,{"$f":"+IF(Tabla2[[#This Row],[Nivel de acceso ]]=\"Alto\",0.5,IF(Tabla2[[#This Row],[Nivel de acceso ]]=\"Medio\",0.3,IF(Tabla2[[#This Row],[Nivel de acceso ]]=\"Bajo\",0.2,\"\")))","v":""},null,{"$f":"+IF(Tabla2[[#This Row],[Es  Reservada]]=\"Sí\",\"Escriba Ley\",\"No Aplica\")","v":"No Aplica"},null,null,null,null,{"$f":"IFERROR(IF(AND(Tabla2[[#This Row],[Contiene Datos Personales]]=\"SÍ\",OR(Tabla2[[#This Row],[Clasificación Datos Personales]]=\"Sensible\",Tabla2[[#This Row],[Clasificación Datos Personales]]=\"NNA\",Tabla2[[#This Row],[Clasificación Datos Personales]]=\"privado\")),\"Alto\",IF(AND(Tabla2[[#This Row],[Contiene Datos Personales]]=\"SÍ\",Tabla2[[#This Row],[Clasificación Datos Personales]]=\"SEMIPRIVADO\"),\"Medio\",\"Bajo\")),\"\")","v":"Bajo"},null,null,"No Aplica","No Aplica",null,null,null,{"$f":"+IF(Tabla2[[#This Row],[Integridad]]=\"Grave\",0.5,IF(Tabla2[[#This Row],[Integridad]]=\"Importante\",0.3,IF(Tabla2[[#This Row],[Integridad]]=\"Leve\",0.2,\"\")))","v":""},null,{"$f":"+IF(Tabla2[[#This Row],[Disponibilidad Interna]]=\"Sí\",0.1,IF(Tabla2[[#This Row],[Disponibilidad Interna]]=\"NO\",0,\"\"))","v":""},null,{"$f":"+IF(Tabla2[[#This Row],[Disponibilidad Terceros]]=\"Sí\",0.1,IF(Tabla2[[#This Row],[Disponibilidad Terceros]]=\"No\",0,\"\"))","v":""},{"$f":"+Tabla2[[#This Row],[Columna32]]+Tabla2[[#This Row],[Columna34]]+Tabla2[[#This Row],[Columna1]]+Tabla2[[#This Row],[Columna3]]","v":{"$error":"#VALUE!"}},{"$f":"IFERROR(IF(Tabla2[[#This Row],[Columna33]]<0.45,\"BAJA\",IF(Tabla2[[#This Row],[Columna33]]>0.75,\"ALTA\",\"MEDIA\")),\"\")","v":""},"No Aplica",{"$f":"+IF(Tabla2[[#This Row],[Información Publicada (WEB)]]=\"Sí\",\"Digite URL\",\"No Aplica\")","v":"No Aplica"},null,{"$f":"IF(Tabla2[[#This Row],[ Clasificación ICBF]]=\"Pública\",1,IF(Tabla2[[#This Row],[ Clasificación ICBF]]=\"Clasificada\",2,IF(Tabla2[[#This Row],[ Clasificación ICBF]]=\"Reservada\",3,0)))","v":0},{"$f":"IF(#REF!=8,4,IF(#REF!=16,3,IF(#REF!=24,2,IF(#REF!=48,1,0))))","v":{"$error":"#REF!"}},{"$f":"IF(#REF!=8,\"Alto\",IF(#REF!=16,\"Medio\",IF(#REF!=24,\"Medio\",IF(#REF!=48,\"Bajo\",0))))","v":{"$error":"#REF!"}},null,{"$f":"+MID(Tabla2[[#This Row],[Área/Dependencia]],17,8)","v":""}]
["",null,null,null,{"$f":"+VLOOKUP(Tabla2[[#This Row],[SEDE - REGIONAL]],DATOS!B190:D223,3,FALSE)","v":{"$error":"#N/A"}},{"$f":"+IF(OR(Tabla2[[#This Row],[Área/Dependencia]]=\"Subdirección de Sistemas Integrados\",Tabla2[[#This Row],[Área/Dependencia]]=\"Subdirección de Recursos Tecnológicos\"),\"X\",\"\")","v":""},{"$f":"+CONCATENATE(Tabla2[[#This Row],[Tipo de Proceso]],Tabla2[[#This Row],[Columna4]])","v":{"$error":"#N/A"}},null,null,null,null,null,null,null,null,null,null,null,null,null,{"$f":"+IF(Tabla2[[#This Row],[Nivel de acceso ]]=\"Alto\",0.5,IF(Tabla2[[#This Row],[Nivel de acceso ]]=\"Medio\",0.3,IF(Tabla2[[#This Row],[Nivel de acceso ]]=\"Bajo\",0.2,\"\")))","v":""},null,{"$f":"+IF(Tabla2[[#This Row],[Es  Reservada]]=\"Sí\",\"Escriba Ley\",\"No Aplica\")","v":"No Aplica"},null,null,null,null,{"$f":"IFERROR(IF(AND(Tabla2[[#This Row],[Contiene Datos Personales]]=\"SÍ\",OR(Tabla2[[#This Row],[Clasificación Datos Personales]]=\"Sensible\",Tabla2[[#This Row],[Clasificación Datos Personales]]=\"NNA\",Tabla2[[#This Row],[Clasificación Datos Personales]]=\"privado\")),\"Alto\",IF(AND(Tabla2[[#This Row],[Contiene Datos Personales]]=\"SÍ\",Tabla2[[#This Row],[Clasificación Datos Personales]]=\"SEMIPRIVADO\"),\"Medio\",\"Bajo\")),\"\")","v":"Bajo"},null,null,"No Aplica","No Aplica",null,null,null,{"$f":"+IF(Tabla2[[#This Row],[Integridad]]=\"Grave\",0.5,IF(Tabla2[[#This Row],[Integridad]]=\"Importante\",0.3,IF(Tabla2[[#This Row],[Integridad]]=\"Leve\",0.2,\"\")))","v":""},null,{"$f":"+IF(Tabla2[[#This Row],[Disponibilidad Interna]]=\"Sí\",0.1,IF(Tabla2[[#This Row],[Disponibilidad Interna]]=\"NO\",0,\"\"))","v":""},null,{"$f":"+IF(Tabla2[[#This Row],[Disponibilidad Terceros]]=\"Sí\",0.1,IF(Tabla2[[#This Row],[Disponibilidad Terceros]]=\"No\",0,\"\"))","v":""},{"$f":"+Tabla2[[#This Row],[Columna32]]+Tabla2[[#This Row],[Columna34]]+Tabla2[[#This Row],[Columna1]]+Tabla2[[#This Row],[Columna3]]","v":{"$error":"#VALUE!"}},{"$f":"IFERROR(IF(Tabla2[[#This Row],[Columna33]]<0.45,\"BAJA\",IF(Tabla2[[#This Row],[Columna33]]>0.75,\"ALTA\",\"MEDIA\")),\"\")","v":""},"No Aplica",{"$f":"+IF(Tabla2[[#This Row],[Información Publicada (WEB)]]=\"Sí\",\"Digite URL\",\"No Aplica\")","v":"No Aplica"},null,{"$f":"IF(Tabla2[[#This Row],[ Clasificación ICBF]]=\"Pública\",1,IF(Tabla2[[#This Row],[ Clasificación ICBF]]=\"Clasificada\",2,IF(Tabla2[[#This Row],[ Clasificación ICBF]]=\"Reservada\",3,0)))","v":0},{"$f":"IF(#REF!=8,4,IF(#REF!=16,3,IF(#REF!=24,2,IF(#REF!=48,1,0))))","v":{"$error":"#REF!"}},{"$f":"IF(#REF!=8,\"Alto\",IF(#REF!=16,\"Medio\",IF(#REF!=24,\"Medio\",IF(#REF!=48,\"Bajo\",0))))","v":{"$error":"#REF!"}},null,{"$f":"+MID(Tabla2[[#This Row],[Área/Dependencia]],17,8)","v":""}]
["",null,null,null,{"$f":"+VLOOKUP(Tabla2[[#This Row],[SEDE - REGIONAL]],DATOS!B191:D224,3,FALSE)","v":{"$error":"#N/A"}},{"$f":"+IF(OR(Tabla2[[#This Row],[Área/Dependencia]]=\"Subdirección de Sistemas Integrados\",Tabla2[[#This Row],[Área/Dependencia]]=\"Subdirección de Recursos Tecnológicos\"),\"X\",\"\")","v":""},{"$f":"+CONCATENATE(Tabla2[[#This Row],[Tipo de Proceso]],Tabla2[[#This Row],[Columna4]])","v":{"$error":"#N/A"}},null,null,null,null,null,null,null,null,null,null,null,null,null,{"$f":"+IF(Tabla2[[#This Row],[Nivel de acceso ]]=\"Alto\",0.5,IF(Tabla2[[#This Row],[Nivel de acceso ]]=\"Medio\",0.3,IF(Tabla2[[#This Row],[Nivel de acceso ]]=\"Bajo\",0.2,\"\")))","v":""},null,{"$f":"+IF(Tabla2[[#This Row],[Es  Reservada]]=\"Sí\",\"Escriba Ley\",\"No Aplica\")","v":"No Aplica"},null,null,null,null,{"$f":"IFERROR(IF(AND(Tabla2[[#This Row],[Contiene Datos Personales]]=\"SÍ\",OR(Tabla2[[#This Row],[Clasificación Datos Personales]]=\"Sensible\",Tabla2[[#This Row],[Clasificación Datos Personales]]=\"NNA\",Tabla2[[#This Row],[Clasificación Datos Personales]]=\"privado\")),\"Alto\",IF(AND(Tabla2[[#This Row],[Contiene Datos Personales]]=\"SÍ\",Tabla2[[#This Row],[Clasificación Datos Personales]]=\"SEMIPRIVADO\"),\"Medio\",\"Bajo\")),\"\")","v":"Bajo"},null,null,"No Aplica","No Aplica",null,null,null,{"$f":"+IF(Tabla2[[#This Row],[Integridad]]=\"Grave\",0.5,IF(Tabla2[[#This Row],[Integridad]]=\"Importante\",0.3,IF(Tabla2[[#This Row],[Integridad]]=\"Leve\",0.2,\"\")))","v":""},null,{"$f":"+IF(Tabla2[[#This Row],[Disponibilidad Interna]]=\"Sí\",0.1,IF(Tabla2[[#This Row],[Disponibilidad Interna]]=\"NO\",0,\"\"))","v":""},null,{"$f":"+IF(Tabla2[[#This Row],[Disponibilidad Terceros]]=\"Sí\",0.1,IF(Tabla2[[#This Row],[Disponibilidad Terceros]]=\"No\",0,\"\"))","v":""},{"$f":"+Tabla2[[#This Row],[Columna32]]+Tabla2[[#This Row],[Columna34]]+Tabla2[[#This Row],[Columna1]]+Tabla2[[#This Row],[Columna3]]","v":{"$error":"#VALUE!"}},{"$f":"IFERROR(IF(Tabla2[[#This Row],[Columna33]]<0.45,\"BAJA\",IF(Tabla2[[#This Row],[Columna33]]>0.75,\"ALTA\",\"MEDIA\")),\"\")","v":""},"No Aplica",{"$f":"+IF(Tabla2[[#This Row],[Información Publicada (WEB)]]=\"Sí\",\"Digite URL\",\"No Aplica\")","v":"No Aplica"},null,{"$f":"IF(Tabla2[[#This Row],[ Clasificación ICBF]]=\"Pública\",1,IF(Tabla2[[#This Row],[ Clasificación ICBF]]=\"Clasificada\",2,IF(Tabla2[[#This Row],[ Clasificación ICBF]]=\"Reservada\",3,0)))","v":0},{"$f":"IF(#REF!=8,4,IF(#REF!=16,3,IF(#REF!=24,2,IF(#REF!=48,1,0))))","v":{"$error":"#REF!"}},{"$f":"IF(#REF!=8,\"Alto\",IF(#REF!=16,\"Medio\",IF(#REF!=24,\"Medio\",IF(#REF!=48,\"Bajo\",0))))","v":{"$error":"#REF!"}},null,{"$f":"+MID(Tabla2[[#This Row],[Área/Dependencia]],17,8)","v":""}]
["",null,null,null,{"$f":"+VLOOKUP(Tabla2[[#This Row],[SEDE - REGIONAL]],DATOS!B192:D225,3,FALSE)","v":{"$error":"#N/A"}},{"$f":"+IF(OR(Tabla2[[#This Row],[Área/Dependencia]]=\"Subdirección de Sistemas Integrados\",Tabla2[[#This Row],[Área/Dependencia]]=\"Subdirección de Recursos Tecnológicos\"),\"X\",\"\")","v":""},{"$f":"+CONCATENATE(Tabla2[[#This Row],[Tipo de Proceso]],Tabla2[[#This Row],[Columna4]])","v":{"$error":"#N/A"}},null,null,null,null,null,null,null,null,null,null,null,null,null,{"$f":"+IF(Tabla2[[#This Row],[Nivel de acceso ]]=\"Alto\",0.5,IF(Tabla2[[#This Row],[Nivel de acceso ]]=\"Medio\",0.3,IF(Tabla2[[#This Row],[Nivel de acceso ]]=\"Bajo\",0.2,\"\")))","v":""},null,{"$f":"+IF(Tabla2[[#This Row],[Es  Reservada]]=\"Sí\",\"Escriba Ley\",\"No Aplica\")","v":"No Aplica"},null,null,null,null,{"$f":"IFERROR(IF(AND(Tabla2[[#This Row],[Contiene Datos Personales]]=\"SÍ\",OR(Tabla2[[#This Row],[Clasificación Datos Personales]]=\"Sensible\",Tabla2[[#This Row],[Clasificación Datos Personales]]=\"NNA\",Tabla2[[#This Row],[Clasificación Datos Personales]]=\"privado\")),\"Alto\",IF(AND(Tabla2[[#This Row],[Contiene Datos Personales]]=\"SÍ\",Tabla2[[#This Row],[Clasificación Datos Personales]]=\"SEMIPRIVADO\"),\"Medio\",\"Bajo\")),\"\")","v":"Bajo"},null,null,"No Aplica","No Aplica",null,null,null,{"$f":"+IF(Tabla2[[#This Row],[Integridad]]=\"Grave\",0.5,IF(Tabla2[[#This Row],[Integridad]]=\"Importante\",0.3,IF(Tabla2[[#This Row],[Integridad]]=\"Leve\",0.2,\"\")))","v":""},null,{"$f":"+IF(Tabla2[[#This Row],[Disponibilidad Interna]]=\"Sí\",0.1,IF(Tabla2[[#This Row],[Disponibilidad Interna]]=\"NO\",0,\"\"))","v":""},null,{"$f":"+IF(Tabla2[[#This Row],[Disponibilidad Terceros]]=\"Sí\",0.1,IF(Tabla2[[#This Row],[Disponibilidad Terceros]]=\"No\",0,\"\"))","v":""},{"$f":"+Tabla2[[#This Row],[Columna32]]+Tabla2[[#This Row],[Columna34]]+Tabla2[[#This Row],[Columna1]]+Tabla2[[#This Row],[Columna3]]","v":{"$error":"#VALUE!"}},{"$f":"IFERROR(IF(Tabla2[[#This Row],[Columna33]]<0.45,\"BAJA\",IF(Tabla2[[#This Row],[Columna33]]>0.75,\"ALTA\",\"MEDIA\")),\"\")","v":""},"No Aplica",{"$f":"+IF(Tabla2[[#This Row],[Información Publicada (WEB)]]=\"Sí\",\"Digite URL\",\"No Aplica\")","v":"No Aplica"},null,{"$f":"IF(Tabla2[[#This Row],[ Clasificación ICBF]]=\"Pública\",1,IF(Tabla2[[#This Row],[ Clasificación ICBF]]=\"Clasificada\",2,IF(Tabla2[[#This Row],[ Clasificación ICBF]]=\"Reservada\",3,0)))","v":0},{"$f":"IF(#REF!=8,4,IF(#REF!=16,3,IF(#REF!=24,2,IF(#REF!=48,1,0))))","v":{"$error":"#REF!"}},{"$f":"IF(#REF!=8,\"Alto\",IF(#REF!=16,\"Medio\",IF(#REF!=24,\"Medio\",IF(#REF!=48,\"Bajo\",0))))","v":{"$error":"#REF!"}},null,{"$f":"+MID(Tabla2[[#This Row],[Área/Dependencia]],17,8)","v":""}]
["",null,null,null,{"$f":"+VLOOKUP(Tabla2[[#This Row],[SEDE - REGIONAL]],DATOS!B193:D226,3,FALSE)","v":{"$error":"#N/A"}},{"$f":"+IF(OR(Tabla2[[#This Row],[Área/Dependencia]]=\"Subdirección de Sistemas Integrados\",Tabla2[[#This Row],[Área/Dependencia]]=\"Subdirección de Recursos Tecnológicos\"),\"X\",\"\")","v":""},{"$f":"+CONCATENATE(Tabla2[[#This Row],[Tipo de Proceso]],Tabla2[[#This Row],[Columna4]])","v":{"$error":"#N/A"}},null,null,null,null,null,null,null,null,null,null,null,null,null,{"$f":"+IF(Tabla2[[#This Row],[Nivel de acceso ]]=\"Alto\",0.5,IF(Tabla2[[#This Row],[Nivel de acceso ]]=\"Medio\",0.3,IF(Tabla2[[#This Row],[Nivel de acceso ]]=\"Bajo\",0.2,\"\")))","v":""},null,{"$f":"+IF(Tabla2[[#This Row],[Es  Reservada]]=\"Sí\",\"Escriba Ley\",\"No Aplica\")","v":"No Aplica"},null,null,null,null,{"$f":"IFERROR(IF(AND(Tabla2[[#This Row],[Contiene Datos Personales]]=\"SÍ\",OR(Tabla2[[#This Row],[Clasificación Datos Personales]]=\"Sensible\",Tabla2[[#This Row],[Clasificación Datos Personales]]=\"NNA\",Tabla2[[#This Row],[Clasificación Datos Personales]]=\"privado\")),\"Alto\",IF(AND(Tabla2[[#This Row],[Contiene Datos Personales]]=\"SÍ\",Tabla2[[#This Row],[Clasificación Datos Personales]]=\"SEMIPRIVADO\"),\"Medio\",\"Bajo\")),\"\")","v":"Bajo"},null,null,"No Aplica","No Aplica",null,null,null,{"$f":"+IF(Tabla2[[#This Row],[Integridad]]=\"Grave\",0.5,IF(Tabla2[[#This Row],[Integridad]]=\"Importante\",0.3,IF(Tabla2[[#This Row],[Integridad]]=\"Leve\",0.2,\"\")))","v":""},null,{"$f":"+IF(Tabla2[[#This Row],[Disponibilidad Interna]]=\"Sí\",0.1,IF(Tabla2[[#This Row],[Disponibilidad Interna]]=\"NO\",0,\"\"))","v":""},null,{"$f":"+IF(Tabla2[[#This Row],[Disponibilidad Terceros]]=\"Sí\",0.1,IF(Tabla2[[#This Row],[Disponibilidad Terceros]]=\"No\",0,\"\"))","v":""},{"$f":"+Tabla2[[#This Row],[Columna32]]+Tabla2[[#This Row],[Columna34]]+Tabla2[[#This Row],[Columna1]]+Tabla2[[#This Row],[Columna3]]","v":{"$error":"#VALUE!"}},{"$f":"IFERROR(IF(Tabla2[[#This Row],[Columna33]]<0.45,\"BAJA\",IF(Tabla2[[#This Row],[Columna33]]>0.75,\"ALTA\",\"MEDIA\")),\"\")","v":""},"No Aplica",{"$f":"+IF(Tabla2[[#This Row],[Información Publicada (WEB)]]=\"Sí\",\"Digite URL\",\"No Aplica\")","v":"No Aplica"},null,{"$f":"IF(Tabla2[[#This Row],[ Clasificación ICBF]]=\"Pública\",1,IF(Tabla2[[#This Row],[ Clasificación ICBF]]=\"Clasificada\",2,IF(Tabla2[[#This Row],[ Clasificación ICBF]]=\"Reservada\",3,0)))","v":0},{"$f":"IF(#REF!=8,4,IF(#REF!=16,3,IF(#REF!=24,2,IF(#REF!=48,1,0))))","v":{"$error":"#REF!"}},{"$f":"IF(#REF!=8,\"Alto\",IF(#REF!=16,\"Medio\",IF(#REF!=24,\"Medio\",IF(#REF!=48,\"Bajo\",0))))","v":{"$error":"#REF!"}},null,{"$f":"+MID(Tabla2[[#This Row],[Área/Dependencia]],17,8)","v":""}]
["",null,null,null,{"$f":"+VLOOKUP(Tabla2[[#This Row],[SEDE - REGIONAL]],DATOS!B194:D227,3,FALSE)","v":{"$error":"#N/A"}},{"$f":"+IF(OR(Tabla2[[#This Row],[Área/Dependencia]]=\"Subdirección de Sistemas Integrados\",Tabla2[[#This Row],[Área/Dependencia]]=\"Subdirección de Recursos Tecnológicos\"),\"X\",\"\")","v":""},{"$f":"+CONCATENATE(Tabla2[[#This Row],[Tipo de Proceso]],Tabla2[[#This Row],[Columna4]])","v":{"$error":"#N/A"}},null,null,null,null,null,null,null,null,null,null,null,null,null,{"$f":"+IF(Tabla2[[#This Row],[Nivel de acceso ]]=\"Alto\",0.5,IF(Tabla2[[#This Row],[Nivel de acceso ]]=\"Medio\",0.3,IF(Tabla2[[#This Row],[Nivel de acceso ]]=\"Bajo\",0.2,\"\")))","v":""},null,{"$f":"+IF(Tabla2[[#This Row],[Es  Reservada]]=\"Sí\",\"Escriba Ley\",\"No Aplica\")","v":"No Aplica"},null,null,null,null,{"$f":"IFERROR(IF(AND(Tabla2[[#This Row],[Contiene Datos Personales]]=\"SÍ\",OR(Tabla2[[#This Row],[Clasificación Datos Personales]]=\"Sensible\",Tabla2[[#This Row],[Clasificación Datos Personales]]=\"NNA\",Tabla2[[#This Row],[Clasificación Datos Personales]]=\"privado\")),\"Alto\",IF(AND(Tabla2[[#This Row],[Contiene Datos Personales]]=\"SÍ\",Tabla2[[#This Row],[Clasificación Datos Personales]]=\"SEMIPRIVADO\"),\"Medio\",\"Bajo\")),\"\")","v":"Bajo"},null,null,"No Aplica","No Aplica",null,null,null,{"$f":"+IF(Tabla2[[#This Row],[Integridad]]=\"Grave\",0.5,IF(Tabla2[[#This Row],[Integridad]]=\"Importante\",0.3,IF(Tabla2[[#This Row],[Integridad]]=\"Leve\",0.2,\"\")))","v":""},null,{"$f":"+IF(Tabla2[[#This Row],[Disponibilidad Interna]]=\"Sí\",0.1,IF(Tabla2[[#This Row],[Disponibilidad Interna]]=\"NO\",0,\"\"))","v":""},null,{"$f":"+IF(Tabla2[[#This Row],[Disponibilidad Terceros]]=\"Sí\",0.1,IF(Tabla2[[#This Row],[Disponibilidad Terceros]]=\"No\",0,\"\"))","v":""},{"$f":"+Tabla2[[#This Row],[Columna32]]+Tabla2[[#This Row],[Columna34]]+Tabla2[[#This Row],[Columna1]]+Tabla2[[#This Row],[Columna3]]","v":{"$error":"#VALUE!"}},{"$f":"IFERROR(IF(Tabla2[[#This Row],[Columna33]]<0.45,\"BAJA\",IF(Tabla2[[#This Row],[Columna33]]>0.75,\"ALTA\",\"MEDIA\")),\"\")","v":""},"No Aplica",{"$f":"+IF(Tabla2[[#This Row],[Información Publicada (WEB)]]=\"Sí\",\"Digite URL\",\"No Aplica\")","v":"No Aplica"},null,{"$f":"IF(Tabla2[[#This Row],[ Clasificación ICBF]]=\"Pública\",1,IF(Tabla2[[#This Row],[ Clasificación ICBF]]=\"Clasificada\",2,IF(Tabla2[[#This Row],[ Clasificación ICBF]]=\"Reservada\",3,0)))","v":0},{"$f":"IF(#REF!=8,4,IF(#REF!=16,3,IF(#REF!=24,2,IF(#REF!=48,1,0))))","v":{"$error":"#REF!"}},{"$f":"IF(#REF!=8,\"Alto\",IF(#REF!=16,\"Medio\",IF(#REF!=24,\"Medio\",IF(#REF!=48,\"Bajo\",0))))","v":{"$error":"#REF!"}},null,{"$f":"+MID(Tabla2[[#This Row],[Área/Dependencia]],17,8)","v":""}]
["",null,null,null,{"$f":"+VLOOKUP(Tabla2[[#This Row],[SEDE - REGIONAL]],DATOS!B195:D228,3,FALSE)","v":{"$error":"#N/A"}},{"$f":"+IF(OR(Tabla2[[#This Row],[Área/Dependencia]]=\"Subdirección de Sistemas Integrados\",Tabla2[[#This Row],[Área/Dependencia]]=\"Subdirección de Recursos Tecnológicos\"),\"X\",\"\")","v":""},{"$f":"+CONCATENATE(Tabla2[[#This Row],[Tipo de Proceso]],Tabla2[[#This Row],[Columna4]])","v":{"$error":"#N/A"}},null,null,null,null,null,null,null,null,null,null,null,null,null,{"$f":"+IF(Tabla2[[#This Row],[Nivel de acceso ]]=\"Alto\",0.5,IF(Tabla2[[#This Row],[Nivel de acceso ]]=\"Medio\",0.3,IF(Tabla2[[#This Row],[Nivel de acceso ]]=\"Bajo\",0.2,\"\")))","v":""},null,{"$f":"+IF(Tabla2[[#This Row],[Es  Reservada]]=\"Sí\",\"Escriba Ley\",\"No Aplica\")","v":"No Aplica"},null,null,null,null,{"$f":"IFERROR(IF(AND(Tabla2[[#This Row],[Contiene Datos Personales]]=\"SÍ\",OR(Tabla2[[#This Row],[Clasificación Datos Personales]]=\"Sensible\",Tabla2[[#This Row],[Clasificación Datos Personales]]=\"NNA\",Tabla2[[#This Row],[Clasificación Datos Personales]]=\"privado\")),\"Alto\",IF(AND(Tabla2[[#This Row],[Contiene Datos Personales]]=\"SÍ\",Tabla2[[#This Row],[Clasificación Datos Personales]]=\"SEMIPRIVADO\"),\"Medio\",\"Bajo\")),\"\")","v":"Bajo"},null,null,{"$f":"+IF(OR(N200=\"FÍSICO-ELECTRÓNICO\",N200=\"FÍSICO\",N200=\"Hardware\"),\"Digite ubicación\",\"No Aplica\")","v":"No Aplica"},{"$f":"+IF(OR(N200=\"FÍSICO-ELECTRÓNICO\",N200=\"ELECTRÓNICO\",N200=\"Software\"),\"Digite ubicación\",\"No Aplica\")","v":"No Aplica"},null,null,null,{"$f":"+IF(Tabla2[[#This Row],[Integridad]]=\"Grave\",0.5,IF(Tabla2[[#This Row],[Integridad]]=\"Importante\",0.3,IF(Tabla2[[#This Row],[Integridad]]=\"Leve\",0.2,\"\")))","v":""},null,{"$f":"+IF(Tabla2[[#This Row],[Disponibilidad Interna]]=\"Sí\",0.1,IF(Tabla2[[#This Row],[Disponibilidad Interna]]=\"NO\",0,\"\"))","v":""},null,{"$f":"+IF(Tabla2[[#This Row],[Disponibilidad Terceros]]=\"Sí\",0.1,IF(Tabla2[[#This Row],[Disponibilidad Terceros]]=\"No\",0,\"\"))","v":""},{"$f":"+Tabla2[[#This Row],[Columna32]]+Tabla2[[#This Row],[Columna34]]+Tabla2[[#This Row],[Columna1]]+Tabla2[[#This Row],[Columna3]]","v":{"$error":"#VALUE!"}},{"$f":"IFERROR(IF(Tabla2[[#This Row],[Columna33]]<0.45,\"BAJA\",IF(Tabla2[[#This Row],[Columna33]]>0.75,\"ALTA\",\"MEDIA\")),\"\")","v":""},{"$f":"+IF(OR(N200=\"FÍSICO-ELECTRÓNICO\",N200=\"ELECTRÓNICO\"),\"Sí\",\"No Aplica\")","v":"No Aplica"},{"$f":"+IF(Tabla2[[#This Row],[Información Publicada (WEB)]]=\"Sí\",\"Digite URL\",\"No Aplica\")","v":"No Aplica"},null,{"$f":"IF(Tabla2[[#This Row],[ Clasificación ICBF]]=\"Pública\",1,IF(Tabla2[[#This Row],[ Clasificación ICBF]]=\"Clasificada\",2,IF(Tabla2[[#This Row],[ Clasificación ICBF]]=\"Reservada\",3,0)))","v":0},{"$f":"IF(#REF!=8,4,IF(#REF!=16,3,IF(#REF!=24,2,IF(#REF!=48,1,0))))","v":{"$error":"#REF!"}},{"$f":"IF(#REF!=8,\"Alto\",IF(#REF!=16,\"Medio\",IF(#REF!=24,\"Medio\",IF(#REF!=48,\"Bajo\",0))))","v":{"$error":"#REF!"}},null,{"$f":"+MID(Tabla2[[#This Row],[Área/Dependencia]],17,8)","v":""}]
["",null,null,null,{"$f":"+VLOOKUP(Tabla2[[#This Row],[SEDE - REGIONAL]],DATOS!B196:D229,3,FALSE)","v":{"$error":"#N/A"}},{"$f":"+IF(OR(Tabla2[[#This Row],[Área/Dependencia]]=\"Subdirección de Sistemas Integrados\",Tabla2[[#This Row],[Área/Dependencia]]=\"Subdirección de Recursos Tecnológicos\"),\"X\",\"\")","v":""},{"$f":"+CONCATENATE(Tabla2[[#This Row],[Tipo de Proceso]],Tabla2[[#This Row],[Columna4]])","v":{"$error":"#N/A"}},null,null,null,null,null,null,null,null,null,null,null,null,null,{"$f":"+IF(Tabla2[[#This Row],[Nivel de acceso ]]=\"Alto\",0.5,IF(Tabla2[[#This Row],[Nivel de acceso ]]=\"Medio\",0.3,IF(Tabla2[[#This Row],[Nivel de acceso ]]=\"Bajo\",0.2,\"\")))","v":""},null,{"$f":"+IF(Tabla2[[#This Row],[Es  Reservada]]=\"Sí\",\"Escriba Ley\",\"No Aplica\")","v":"No Aplica"},null,null,null,null,{"$f":"IFERROR(IF(AND(Tabla2[[#This Row],[Contiene Datos Personales]]=\"SÍ\",OR(Tabla2[[#This Row],[Clasificación Datos Personales]]=\"Sensible\",Tabla2[[#This Row],[Clasificación Datos Personales]]=\"NNA\",Tabla2[[#This Row],[Clasificación Datos Personales]]=\"privado\")),\"Alto\",IF(AND(Tabla2[[#This Row],[Contiene Datos Personales]]=\"SÍ\",Tabla2[[#This Row],[Clasificación Datos Personales]]=\"SEMIPRIVADO\"),\"Medio\",\"Bajo\")),\"\")","v":"Bajo"},null,null,"No Aplica","No Aplica",null,null,null,{"$f":"+IF(Tabla2[[#This Row],[Integridad]]=\"Grave\",0.5,IF(Tabla2[[#This Row],[Integridad]]=\"Importante\",0.3,IF(Tabla2[[#This Row],[Integridad]]=\"Leve\",0.2,\"\")))","v":""},null,{"$f":"+IF(Tabla2[[#This Row],[Disponibilidad Interna]]=\"Sí\",0.1,IF(Tabla2[[#This Row],[Disponibilidad Interna]]=\"NO\",0,\"\"))","v":""},null,{"$f":"+IF(Tabla2[[#This Row],[Disponibilidad Terceros]]=\"Sí\",0.1,IF(Tabla2[[#This Row],[Disponibilidad Terceros]]=\"No\",0,\"\"))","v":""},{"$f":"+Tabla2[[#This Row],[Columna32]]+Tabla2[[#This Row],[Columna34]]+Tabla2[[#This Row],[Columna1]]+Tabla2[[#This Row],[Columna3]]","v":{"$error":"#VALUE!"}},{"$f":"IFERROR(IF(Tabla2[[#This Row],[Columna33]]<0.45,\"BAJA\",IF(Tabla2[[#This Row],[Columna33]]>0.75,\"ALTA\",\"MEDIA\")),\"\")","v":""},"No Aplica",{"$f":"+IF(Tabla2[[#This Row],[Información Publicada (WEB)]]=\"Sí\",\"Digite URL\",\"No Aplica\")","v":"No Aplica"},null,{"$f":"IF(Tabla2[[#This Row],[ Clasificación ICBF]]=\"Pública\",1,IF(Tabla2[[#This Row],[ Clasificación ICBF]]=\"Clasificada\",2,IF(Tabla2[[#This Row],[ Clasificación ICBF]]=\"Reservada\",3,0)))","v":0},{"$f":"IF(#REF!=8,4,IF(#REF!=16,3,IF(#REF!=24,2,IF(#REF!=48,1,0))))","v":{"$error":"#REF!"}},{"$f":"IF(#REF!=8,\"Alto\",IF(#REF!=16,\"Medio\",IF(#REF!=24,\"Medio\",IF(#REF!=48,\"Bajo\",0))))","v":{"$error":"#REF!"}},null,{"$f":"+MID(Tabla2[[#This Row],[Área/Dependencia]],17,8)","v":""}]
[{"$f":"IFERROR(IF(B202<>\"\",A201+1,\"\"),\"\")","v":""},null,null,null,{"$f":"+VLOOKUP(Tabla2[[#This Row],[SEDE - REGIONAL]],DATOS!B197:D230,3,FALSE)","v":{"$error":"#N/A"}},{"$f":"+IF(OR(Tabla2[[#This Row],[Área/Dependencia]]=\"Subdirección de Sistemas Integrados\",Tabla2[[#This Row],[Área/Dependencia]]=\"Subdirección de Recursos Tecnológicos\"),\"X\",\"\")","v":""},{"$f":"+CONCATENATE(Tabla2[[#This Row],[Tipo de Proceso]],Tabla2[[#This Row],[Columna4]])","v":{"$error":"#N/A"}},null,null,null,null,null,null,null,null,null,null,null,null,null,{"$f":"+IF(Tabla2[[#This Row],[Nivel de acceso ]]=\"Alto\",0.5,IF(Tabla2[[#This Row],[Nivel de acceso ]]=\"Medio\",0.3,IF(Tabla2[[#This Row],[Nivel de acceso ]]=\"Bajo\",0.2,\"\")))","v":""},null,{"$f":"+IF(Tabla2[[#This Row],[Es  Reservada]]=\"Sí\",\"Escriba Ley\",\"No Aplica\")","v":"No Aplica"},null,null,null,null,{"$f":"IFERROR(IF(AND(Tabla2[[#This Row],[Contiene Datos Personales]]=\"SÍ\",OR(Tabla2[[#This Row],[Clasificación Datos Personales]]=\"Sensible\",Tabla2[[#This Row],[Clasificación Datos Personales]]=\"NNA\",Tabla2[[#This Row],[Clasificación Datos Personales]]=\"privado\")),\"Alto\",IF(AND(Tabla2[[#This Row],[Contiene Datos Personales]]=\"SÍ\",Tabla2[[#This Row],[Clasificación Datos Personales]]=\"SEMIPRIVADO\"),\"Medio\",\"Bajo\")),\"\")","v":"Bajo"},null,null,"No Aplica","No Aplica",null,null,null,{"$f":"+IF(Tabla2[[#This Row],[Integridad]]=\"Grave\",0.5,IF(Tabla2[[#This Row],[Integridad]]=\"Importante\",0.3,IF(Tabla2[[#This Row],[Integridad]]=\"Leve\",0.2,\"\")))","v":""},null,{"$f":"+IF(Tabla2[[#This Row],[Disponibilidad Interna]]=\"Sí\",0.1,IF(Tabla2[[#This Row],[Disponibilidad Interna]]=\"NO\",0,\"\"))","v":""},null,{"$f":"+IF(Tabla2[[#This Row],[Disponibilidad Terceros]]=\"Sí\",0.1,IF(Tabla2[[#This Row],[Disponibilidad Terceros]]=\"No\",0,\"\"))","v":""},{"$f":"+Tabla2[[#This Row],[Columna32]]+Tabla2[[#This Row],[Columna34]]+Tabla2[[#This Row],[Columna1]]+Tabla2[[#This Row],[Columna3]]","v":{"$error":"#VALUE!"}},{"$f":"IFERROR(IF(Tabla2[[#This Row],[Columna33]]<0.45,\"BAJA\",IF(Tabla2[[#This Row],[Columna33]]>0.75,\"ALTA\",\"MEDIA\")),\"\")","v":""},"No Aplica",{"$f":"+IF(Tabla2[[#This Row],[Información Publicada (WEB)]]=\"Sí\",\"Digite URL\",\"No Aplica\")","v":"No Aplica"},null,{"$f":"IF(Tabla2[[#This Row],[ Clasificación ICBF]]=\"Pública\",1,IF(Tabla2[[#This Row],[ Clasificación ICBF]]=\"Clasificada\",2,IF(Tabla2[[#This Row],[ Clasificación ICBF]]=\"Reservada\",3,0)))","v":0},{"$f":"IF(#REF!=8,4,IF(#REF!=16,3,IF(#REF!=24,2,IF(#REF!=48,1,0))))","v":{"$error":"#REF!"}},{"$f":"IF(#REF!=8,\"Alto\",IF(#REF!=16,\"Medio\",IF(#REF!=24,\"Medio\",IF(#REF!=48,\"Bajo\",0))))","v":{"$error":"#REF!"}},null,{"$f":"+MID(Tabla2[[#This Row],[Área/Dependencia]],17,8)","v":""}]
["",null,null,null,{"$f":"+VLOOKUP(Tabla2[[#This Row],[SEDE - REGIONAL]],DATOS!B198:D231,3,FALSE)","v":{"$error":"#N/A"}},{"$f":"+IF(OR(Tabla2[[#This Row],[Área/Dependencia]]=\"Subdirección de Sistemas Integrados\",Tabla2[[#This Row],[Área/Dependencia]]=\"Subdirección de Recursos Tecnológicos\"),\"X\",\"\")","v":""},{"$f":"+CONCATENATE(Tabla2[[#This Row],[Tipo de Proceso]],Tabla2[[#This Row],[Columna4]])","v":{"$error":"#N/A"}},null,null,null,null,null,null,null,null,null,null,null,null,null,{"$f":"+IF(Tabla2[[#This Row],[Nivel de acceso ]]=\"Alto\",0.5,IF(Tabla2[[#This Row],[Nivel de acceso ]]=\"Medio\",0.3,IF(Tabla2[[#This Row],[Nivel de acceso ]]=\"Bajo\",0.2,\"\")))","v":""},null,{"$f":"+IF(Tabla2[[#This Row],[Es  Reservada]]=\"Sí\",\"Escriba Ley\",\"No Aplica\")","v":"No Aplica"},null,null,null,null,{"$f":"IFERROR(IF(AND(Tabla2[[#This Row],[Contiene Datos Personales]]=\"SÍ\",OR(Tabla2[[#This Row],[Clasificación Datos Personales]]=\"Sensible\",Tabla2[[#This Row],[Clasificación Datos Personales]]=\"NNA\",Tabla2[[#This Row],[Clasificación Datos Personales]]=\"privado\")),\"Alto\",IF(AND(Tabla2[[#This Row],[Contiene Datos Personales]]=\"SÍ\",Tabla2[[#This Row],[Clasificación Datos Personales]]=\"SEMIPRIVADO\"),\"Medio\",\"Bajo\")),\"\")","v":"Bajo"},null,null,"No Aplica","No Aplica",null,null,null,{"$f":"+IF(Tabla2[[#This Row],[Integridad]]=\"Grave\",0.5,IF(Tabla2[[#This Row],[Integridad]]=\"Importante\",0.3,IF(Tabla2[[#This Row],[Integridad]]=\"Leve\",0.2,\"\")))","v":""},null,{"$f":"+IF(Tabla2[[#This Row],[Disponibilidad Interna]]=\"Sí\",0.1,IF(Tabla2[[#This Row],[Disponibilidad Interna]]=\"NO\",0,\"\"))","v":""},null,{"$f":"+IF(Tabla2[[#This Row],[Disponibilidad Terceros]]=\"Sí\",0.1,IF(Tabla2[[#This Row],[Disponibilidad Terceros]]=\"No\",0,\"\"))","v":""},{"$f":"+Tabla2[[#This Row],[Columna32]]+Tabla2[[#This Row],[Columna34]]+Tabla2[[#This Row],[Columna1]]+Tabla2[[#This Row],[Columna3]]","v":{"$error":"#VALUE!"}},{"$f":"IFERROR(IF(Tabla2[[#This Row],[Columna33]]<0.45,\"BAJA\",IF(Tabla2[[#This Row],[Columna33]]>0.75,\"ALTA\",\"MEDIA\")),\"\")","v":""},"No Aplica",{"$f":"+IF(Tabla2[[#This Row],[Información Publicada (WEB)]]=\"Sí\",\"Digite URL\",\"No Aplica\")","v":"No Aplica"},null,{"$f":"IF(Tabla2[[#This Row],[ Clasificación ICBF]]=\"Pública\",1,IF(Tabla2[[#This Row],[ Clasificación ICBF]]=\"Clasificada\",2,IF(Tabla2[[#This Row],[ Clasificación ICBF]]=\"Reservada\",3,0)))","v":0},{"$f":"IF(#REF!=8,4,IF(#REF!=16,3,IF(#REF!=24,2,IF(#REF!=48,1,0))))","v":{"$error":"#REF!"}},{"$f":"IF(#REF!=8,\"Alto\",IF(#REF!=16,\"Medio\",IF(#REF!=24,\"Medio\",IF(#REF!=48,\"Bajo\",0))))","v":{"$error":"#REF!"}},null,{"$f":"+MID(Tabla2[[#This Row],[Área/Dependencia]],17,8)","v":""}]
["",null,null,null,{"$f":"+VLOOKUP(Tabla2[[#This Row],[SEDE - REGIONAL]],DATOS!B199:D232,3,FALSE)","v":{"$error":"#N/A"}},{"$f":"+IF(OR(Tabla2[[#This Row],[Área/Dependencia]]=\"Subdirección de Sistemas Integrados\",Tabla2[[#This Row],[Área/Dependencia]]=\"Subdirección de Recursos Tecnológicos\"),\"X\",\"\")","v":""},{"$f":"+CONCATENATE(Tabla2[[#This Row],[Tipo de Proceso]],Tabla2[[#This Row],[Columna4]])","v":{"$error":"#N/A"}},null,null,null,null,null,null,null,null,null,null,null,null,null,{"$f":"+IF(Tabla2[[#This Row],[Nivel de acceso ]]=\"Alto\",0.5,IF(Tabla2[[#This Row],[Nivel de acceso ]]=\"Medio\",0.3,IF(Tabla2[[#This Row],[Nivel de acceso ]]=\"Bajo\",0.2,\"\")))","v":""},null,{"$f":"+IF(Tabla2[[#This Row],[Es  Reservada]]=\"Sí\",\"Escriba Ley\",\"No Aplica\")","v":"No Aplica"},null,null,null,null,{"$f":"IFERROR(IF(AND(Tabla2[[#This Row],[Contiene Datos Personales]]=\"SÍ\",OR(Tabla2[[#This Row],[Clasificación Datos Personales]]=\"Sensible\",Tabla2[[#This Row],[Clasificación Datos Personales]]=\"NNA\",Tabla2[[#This Row],[Clasificación Datos Personales]]=\"privado\")),\"Alto\",IF(AND(Tabla2[[#This Row],[Contiene Datos Personales]]=\"SÍ\",Tabla2[[#This Row],[Clasificación Datos Personales]]=\"SEMIPRIVADO\"),\"Medio\",\"Bajo\")),\"\")","v":"Bajo"},null,null,"No Aplica","No Aplica",null,null,null,{"$f":"+IF(Tabla2[[#This Row],[Integridad]]=\"Grave\",0.5,IF(Tabla2[[#This Row],[Integridad]]=\"Importante\",0.3,IF(Tabla2[[#This Row],[Integridad]]=\"Leve\",0.2,\"\")))","v":""},null,{"$f":"+IF(Tabla2[[#This Row],[Disponibilidad Interna]]=\"Sí\",0.1,IF(Tabla2[[#This Row],[Disponibilidad Interna]]=\"NO\",0,\"\"))","v":""},null,{"$f":"+IF(Tabla2[[#This Row],[Disponibilidad Terceros]]=\"Sí\",0.1,IF(Tabla2[[#This Row],[Disponibilidad Terceros]]=\"No\",0,\"\"))","v":""},{"$f":"+Tabla2[[#This Row],[Columna32]]+Tabla2[[#This Row],[Columna34]]+Tabla2[[#This Row],[Columna1]]+Tabla2[[#This Row],[Columna3]]","v":{"$error":"#VALUE!"}},{"$f":"IFERROR(IF(Tabla2[[#This Row],[Columna33]]<0.45,\"BAJA\",IF(Tabla2[[#This Row],[Columna33]]>0.75,\"ALTA\",\"MEDIA\")),\"\")","v":""},"No Aplica",{"$f":"+IF(Tabla2[[#This Row],[Información Publicada (WEB)]]=\"Sí\",\"Digite URL\",\"No Aplica\")","v":"No Aplica"},null,{"$f":"IF(Tabla2[[#This Row],[ Clasificación ICBF]]=\"Pública\",1,IF(Tabla2[[#This Row],[ Clasificación ICBF]]=\"Clasificada\",2,IF(Tabla2[[#This Row],[ Clasificación ICBF]]=\"Reservada\",3,0)))","v":0},{"$f":"IF(#REF!=8,4,IF(#REF!=16,3,IF(#REF!=24,2,IF(#REF!=48,1,0))))","v":{"$error":"#REF!"}},{"$f":"IF(#REF!=8,\"Alto\",IF(#REF!=16,\"Medio\",IF(#REF!=24,\"Medio\",IF(#REF!=48,\"Bajo\",0))))","v":{"$error":"#REF!"}},null,{"$f":"+MID(Tabla2[[#This Row],[Área/Dependencia]],17,8)","v":""}]
["",null,null,null,{"$f":"+VLOOKUP(Tabla2[[#This Row],[SEDE - REGIONAL]],DATOS!B200:D233,3,FALSE)","v":{"$error":"#N/A"}},{"$f":"+IF(OR(Tabla2[[#This Row],[Área/Dependencia]]=\"Subdirección de Sistemas Integrados\",Tabla2[[#This Row],[Área/Dependencia]]=\"Subdirección de Recursos Tecnológicos\"),\"X\",\"\")","v":""},{"$f":"+CONCATENATE(Tabla2[[#This Row],[Tipo de Proceso]],Tabla2[[#This Row],[Columna4]])","v":{"$error":"#N/A"}},null,null,null,null,null,null,null,null,null,null,null,null,null,{"$f":"+IF(Tabla2[[#This Row],[Nivel de acceso ]]=\"Alto\",0.5,IF(Tabla2[[#This Row],[Nivel de acceso ]]=\"Medio\",0.3,IF(Tabla2[[#This Row],[Nivel de acceso ]]=\"Bajo\",0.2,\"\")))","v":""},null,{"$f":"+IF(Tabla2[[#This Row],[Es  Reservada]]=\"Sí\",\"Escriba Ley\",\"No Aplica\")","v":"No Aplica"},null,null,null,null,{"$f":"IFERROR(IF(AND(Tabla2[[#This Row],[Contiene Datos Personales]]=\"SÍ\",OR(Tabla2[[#This Row],[Clasificación Datos Personales]]=\"Sensible\",Tabla2[[#This Row],[Clasificación Datos Personales]]=\"NNA\",Tabla2[[#This Row],[Clasificación Datos Personales]]=\"privado\")),\"Alto\",IF(AND(Tabla2[[#This Row],[Contiene Datos Personales]]=\"SÍ\",Tabla2[[#This Row],[Clasificación Datos Personales]]=\"SEMIPRIVADO\"),\"Medio\",\"Bajo\")),\"\")","v":"Bajo"},null,null,"No Aplica","No Aplica",null,null,null,{"$f":"+IF(Tabla2[[#This Row],[Integridad]]=\"Grave\",0.5,IF(Tabla2[[#This Row],[Integridad]]=\"Importante\",0.3,IF(Tabla2[[#This Row],[Integridad]]=\"Leve\",0.2,\"\")))","v":""},null,{"$f":"+IF(Tabla2[[#This Row],[Disponibilidad Interna]]=\"Sí\",0.1,IF(Tabla2[[#This Row],[Disponibilidad Interna]]=\"NO\",0,\"\"))","v":""},null,{"$f":"+IF(Tabla2[[#This Row],[Disponibilidad Terceros]]=\"Sí\",0.1,IF(Tabla2[[#This Row],[Disponibilidad Terceros]]=\"No\",0,\"\"))","v":""},{"$f":"+Tabla2[[#This Row],[Columna32]]+Tabla2[[#This Row],[Columna34]]+Tabla2[[#This Row],[Columna1]]+Tabla2[[#This Row],[Columna3]]","v":{"$error":"#VALUE!"}},{"$f":"IFERROR(IF(Tabla2[[#This Row],[Columna33]]<0.45,\"BAJA\",IF(Tabla2[[#This Row],[Columna33]]>0.75,\"ALTA\",\"MEDIA\")),\"\")","v":""},"No Aplica",{"$f":"+IF(Tabla2[[#This Row],[Información Publicada (WEB)]]=\"Sí\",\"Digite URL\",\"No Aplica\")","v":"No Aplica"},null,{"$f":"IF(Tabla2[[#This Row],[ Clasificación ICBF]]=\"Pública\",1,IF(Tabla2[[#This Row],[ Clasificación ICBF]]=\"Clasificada\",2,IF(Tabla2[[#This Row],[ Clasificación ICBF]]=\"Reservada\",3,0)))","v":0},{"$f":"IF(#REF!=8,4,IF(#REF!=16,3,IF(#REF!=24,2,IF(#REF!=48,1,0))))","v":{"$error":"#REF!"}},{"$f":"IF(#REF!=8,\"Alto\",IF(#REF!=16,\"Medio\",IF(#REF!=24,\"Medio\",IF(#REF!=48,\"Bajo\",0))))","v":{"$error":"#REF!"}},null,{"$f":"+MID(Tabla2[[#This Row],[Área/Dependencia]],17,8)","v":""}]
["",null,null,null,{"$f":"+VLOOKUP(Tabla2[[#This Row],[SEDE - REGIONAL]],DATOS!B201:D234,3,FALSE)","v":{"$error":"#N/A"}},{"$f":"+IF(OR(Tabla2[[#This Row],[Área/Dependencia]]=\"Subdirección de Sistemas Integrados\",Tabla2[[#This Row],[Área/Dependencia]]=\"Subdirección de Recursos Tecnológicos\"),\"X\",\"\")","v":""},{"$f":"+CONCATENATE(Tabla2[[#This Row],[Tipo de Proceso]],Tabla2[[#This Row],[Columna4]])","v":{"$error":"#N/A"}},null,null,null,null,null,null,null,null,null,null,null,null,null,{"$f":"+IF(Tabla2[[#This Row],[Nivel de acceso ]]=\"Alto\",0.5,IF(Tabla2[[#This Row],[Nivel de acceso ]]=\"Medio\",0.3,IF(Tabla2[[#This Row],[Nivel de acceso ]]=\"Bajo\",0.2,\"\")))","v":""},null,{"$f":"+IF(Tabla2[[#This Row],[Es  Reservada]]=\"Sí\",\"Escriba Ley\",\"No Aplica\")","v":"No Aplica"},null,null,null,null,{"$f":"IFERROR(IF(AND(Tabla2[[#This Row],[Contiene Datos Personales]]=\"SÍ\",OR(Tabla2[[#This Row],[Clasificación Datos Personales]]=\"Sensible\",Tabla2[[#This Row],[Clasificación Datos Personales]]=\"NNA\",Tabla2[[#This Row],[Clasificación Datos Personales]]=\"privado\")),\"Alto\",IF(AND(Tabla2[[#This Row],[Contiene Datos Personales]]=\"SÍ\",Tabla2[[#This Row],[Clasificación Datos Personales]]=\"SEMIPRIVADO\"),\"Medio\",\"Bajo\")),\"\")","v":"Bajo"},null,null,"No Aplica","No Aplica",null,null,null,{"$f":"+IF(Tabla2[[#This Row],[Integridad]]=\"Grave\",0.5,IF(Tabla2[[#This Row],[Integridad]]=\"Importante\",0.3,IF(Tabla2[[#This Row],[Integridad]]=\"Leve\",0.2,\"\")))","v":""},null,{"$f":"+IF(Tabla2[[#This Row],[Disponibilidad Interna]]=\"Sí\",0.1,IF(Tabla2[[#This Row],[Disponibilidad Interna]]=\"NO\",0,\"\"))","v":""},null,{"$f":"+IF(Tabla2[[#This Row],[Disponibilidad Terceros]]=\"Sí\",0.1,IF(Tabla2[[#This Row],[Disponibilidad Terceros]]=\"No\",0,\"\"))","v":""},{"$f":"+Tabla2[[#This Row],[Columna32]]+Tabla2[[#This Row],[Columna34]]+Tabla2[[#This Row],[Columna1]]+Tabla2[[#This Row],[Columna3]]","v":{"$error":"#VALUE!"}},{"$f":"IFERROR(IF(Tabla2[[#This Row],[Columna33]]<0.45,\"BAJA\",IF(Tabla2[[#This Row],[Columna33]]>0.75,\"ALTA\",\"MEDIA\")),\"\")","v":""},"No Aplica",{"$f":"+IF(Tabla2[[#This Row],[Información Publicada (WEB)]]=\"Sí\",\"Digite URL\",\"No Aplica\")","v":"No Aplica"},null,{"$f":"IF(Tabla2[[#This Row],[ Clasificación ICBF]]=\"Pública\",1,IF(Tabla2[[#This Row],[ Clasificación ICBF]]=\"Clasificada\",2,IF(Tabla2[[#This Row],[ Clasificación ICBF]]=\"Reservada\",3,0)))","v":0},{"$f":"IF(#REF!=8,4,IF(#REF!=16,3,IF(#REF!=24,2,IF(#REF!=48,1,0))))","v":{"$error":"#REF!"}},{"$f":"IF(#REF!=8,\"Alto\",IF(#REF!=16,\"Medio\",IF(#REF!=24,\"Medio\",IF(#REF!=48,\"Bajo\",0))))","v":{"$error":"#REF!"}},null,{"$f":"+MID(Tabla2[[#This Row],[Área/Dependencia]],17,8)","v":""}]
["",null,null,null,{"$f":"+VLOOKUP(Tabla2[[#This Row],[SEDE - REGIONAL]],DATOS!B202:D235,3,FALSE)","v":{"$error":"#N/A"}},{"$f":"+IF(OR(Tabla2[[#This Row],[Área/Dependencia]]=\"Subdirección de Sistemas Integrados\",Tabla2[[#This Row],[Área/Dependencia]]=\"Subdirección de Recursos Tecnológicos\"),\"X\",\"\")","v":""},{"$f":"+CONCATENATE(Tabla2[[#This Row],[Tipo de Proceso]],Tabla2[[#This Row],[Columna4]])","v":{"$error":"#N/A"}},null,null,null,null,null,null,null,null,null,null,null,null,null,{"$f":"+IF(Tabla2[[#This Row],[Nivel de acceso ]]=\"Alto\",0.5,IF(Tabla2[[#This Row],[Nivel de acceso ]]=\"Medio\",0.3,IF(Tabla2[[#This Row],[Nivel de acceso ]]=\"Bajo\",0.2,\"\")))","v":""},null,{"$f":"+IF(Tabla2[[#This Row],[Es  Reservada]]=\"Sí\",\"Escriba Ley\",\"No Aplica\")","v":"No Aplica"},null,null,null,null,{"$f":"IFERROR(IF(AND(Tabla2[[#This Row],[Contiene Datos Personales]]=\"SÍ\",OR(Tabla2[[#This Row],[Clasificación Datos Personales]]=\"Sensible\",Tabla2[[#This Row],[Clasificación Datos Personales]]=\"NNA\",Tabla2[[#This Row],[Clasificación Datos Personales]]=\"privado\")),\"Alto\",IF(AND(Tabla2[[#This Row],[Contiene Datos Personales]]=\"SÍ\",Tabla2[[#This Row],[Clasificación Datos Personales]]=\"SEMIPRIVADO\"),\"Medio\",\"Bajo\")),\"\")","v":"Bajo"},null,null,"No Aplica","No Aplica",null,null,null,{"$f":"+IF(Tabla2[[#This Row],[Integridad]]=\"Grave\",0.5,IF(Tabla2[[#This Row],[Integridad]]=\"Importante\",0.3,IF(Tabla2[[#This Row],[Integridad]]=\"Leve\",0.2,\"\")))","v":""},null,{"$f":"+IF(Tabla2[[#This Row],[Disponibilidad Interna]]=\"Sí\",0.1,IF(Tabla2[[#This Row],[Disponibilidad Interna]]=\"NO\",0,\"\"))","v":""},null,{"$f":"+IF(Tabla2[[#This Row],[Disponibilidad Terceros]]=\"Sí\",0.1,IF(Tabla2[[#This Row],[Disponibilidad Terceros]]=\"No\",0,\"\"))","v":""},{"$f":"+Tabla2[[#This Row],[Columna32]]+Tabla2[[#This Row],[Columna34]]+Tabla2[[#This Row],[Columna1]]+Tabla2[[#This Row],[Columna3]]","v":{"$error":"#VALUE!"}},{"$f":"IFERROR(IF(Tabla2[[#This Row],[Columna33]]<0.45,\"BAJA\",IF(Tabla2[[#This Row],[Columna33]]>0.75,\"ALTA\",\"MEDIA\")),\"\")","v":""},"No Aplica",{"$f":"+IF(Tabla2[[#This Row],[Información Publicada (WEB)]]=\"Sí\",\"Digite URL\",\"No Aplica\")","v":"No Aplica"},null,{"$f":"IF(Tabla2[[#This Row],[ Clasificación ICBF]]=\"Pública\",1,IF(Tabla2[[#This Row],[ Clasificación ICBF]]=\"Clasificada\",2,IF(Tabla2[[#This Row],[ Clasificación ICBF]]=\"Reservada\",3,0)))","v":0},{"$f":"IF(#REF!=8,4,IF(#REF!=16,3,IF(#REF!=24,2,IF(#REF!=48,1,0))))","v":{"$error":"#REF!"}},{"$f":"IF(#REF!=8,\"Alto\",IF(#REF!=16,\"Medio\",IF(#REF!=24,\"Medio\",IF(#REF!=48,\"Bajo\",0))))","v":{"$error":"#REF!"}},null,{"$f":"+MID(Tabla2[[#This Row],[Área/Dependencia]],17,8)","v":""}]
["",null,null,null,{"$f":"+VLOOKUP(Tabla2[[#This Row],[SEDE - REGIONAL]],DATOS!B203:D236,3,FALSE)","v":{"$error":"#N/A"}},{"$f":"+IF(OR(Tabla2[[#This Row],[Área/Dependencia]]=\"Subdirección de Sistemas Integrados\",Tabla2[[#This Row],[Área/Dependencia]]=\"Subdirección de Recursos Tecnológicos\"),\"X\",\"\")","v":""},{"$f":"+CONCATENATE(Tabla2[[#This Row],[Tipo de Proceso]],Tabla2[[#This Row],[Columna4]])","v":{"$error":"#N/A"}},null,null,null,null,null,null,null,null,null,null,null,null,null,{"$f":"+IF(Tabla2[[#This Row],[Nivel de acceso ]]=\"Alto\",0.5,IF(Tabla2[[#This Row],[Nivel de acceso ]]=\"Medio\",0.3,IF(Tabla2[[#This Row],[Nivel de acceso ]]=\"Bajo\",0.2,\"\")))","v":""},null,{"$f":"+IF(Tabla2[[#This Row],[Es  Reservada]]=\"Sí\",\"Escriba Ley\",\"No Aplica\")","v":"No Aplica"},null,null,null,null,{"$f":"IFERROR(IF(AND(Tabla2[[#This Row],[Contiene Datos Personales]]=\"SÍ\",OR(Tabla2[[#This Row],[Clasificación Datos Personales]]=\"Sensible\",Tabla2[[#This Row],[Clasificación Datos Personales]]=\"NNA\",Tabla2[[#This Row],[Clasificación Datos Personales]]=\"privado\")),\"Alto\",IF(AND(Tabla2[[#This Row],[Contiene Datos Personales]]=\"SÍ\",Tabla2[[#This Row],[Clasificación Datos Personales]]=\"SEMIPRIVADO\"),\"Medio\",\"Bajo\")),\"\")","v":"Bajo"},null,null,"No Aplica","No Aplica",null,null,null,{"$f":"+IF(Tabla2[[#This Row],[Integridad]]=\"Grave\",0.5,IF(Tabla2[[#This Row],[Integridad]]=\"Importante\",0.3,IF(Tabla2[[#This Row],[Integridad]]=\"Leve\",0.2,\"\")))","v":""},null,{"$f":"+IF(Tabla2[[#This Row],[Disponibilidad Interna]]=\"Sí\",0.1,IF(Tabla2[[#This Row],[Disponibilidad Interna]]=\"NO\",0,\"\"))","v":""},null,{"$f":"+IF(Tabla2[[#This Row],[Disponibilidad Terceros]]=\"Sí\",0.1,IF(Tabla2[[#This Row],[Disponibilidad Terceros]]=\"No\",0,\"\"))","v":""},{"$f":"+Tabla2[[#This Row],[Columna32]]+Tabla2[[#This Row],[Columna34]]+Tabla2[[#This Row],[Columna1]]+Tabla2[[#This Row],[Columna3]]","v":{"$error":"#VALUE!"}},{"$f":"IFERROR(IF(Tabla2[[#This Row],[Columna33]]<0.45,\"BAJA\",IF(Tabla2[[#This Row],[Columna33]]>0.75,\"ALTA\",\"MEDIA\")),\"\")","v":""},"No Aplica",{"$f":"+IF(Tabla2[[#This Row],[Información Publicada (WEB)]]=\"Sí\",\"Digite URL\",\"No Aplica\")","v":"No Aplica"},null,{"$f":"IF(Tabla2[[#This Row],[ Clasificación ICBF]]=\"Pública\",1,IF(Tabla2[[#This Row],[ Clasificación ICBF]]=\"Clasificada\",2,IF(Tabla2[[#This Row],[ Clasificación ICBF]]=\"Reservada\",3,0)))","v":0},{"$f":"IF(#REF!=8,4,IF(#REF!=16,3,IF(#REF!=24,2,IF(#REF!=48,1,0))))","v":{"$error":"#REF!"}},{"$f":"IF(#REF!=8,\"Alto\",IF(#REF!=16,\"Medio\",IF(#REF!=24,\"Medio\",IF(#REF!=48,\"Bajo\",0))))","v":{"$error":"#REF!"}},null,{"$f":"+MID(Tabla2[[#This Row],[Área/Dependencia]],17,8)","v":""}]
["",null,null,null,{"$f":"+VLOOKUP(Tabla2[[#This Row],[SEDE - REGIONAL]],DATOS!B204:D237,3,FALSE)","v":{"$error":"#N/A"}},{"$f":"+IF(OR(Tabla2[[#This Row],[Área/Dependencia]]=\"Subdirección de Sistemas Integrados\",Tabla2[[#This Row],[Área/Dependencia]]=\"Subdirección de Recursos Tecnológicos\"),\"X\",\"\")","v":""},{"$f":"+CONCATENATE(Tabla2[[#This Row],[Tipo de Proceso]],Tabla2[[#This Row],[Columna4]])","v":{"$error":"#N/A"}},null,null,null,null,null,null,null,null,null,null,null,null,null,{"$f":"+IF(Tabla2[[#This Row],[Nivel de acceso ]]=\"Alto\",0.5,IF(Tabla2[[#This Row],[Nivel de acceso ]]=\"Medio\",0.3,IF(Tabla2[[#This Row],[Nivel de acceso ]]=\"Bajo\",0.2,\"\")))","v":""},null,{"$f":"+IF(Tabla2[[#This Row],[Es  Reservada]]=\"Sí\",\"Escriba Ley\",\"No Aplica\")","v":"No Aplica"},null,null,null,null,{"$f":"IFERROR(IF(AND(Tabla2[[#This Row],[Contiene Datos Personales]]=\"SÍ\",OR(Tabla2[[#This Row],[Clasificación Datos Personales]]=\"Sensible\",Tabla2[[#This Row],[Clasificación Datos Personales]]=\"NNA\",Tabla2[[#This Row],[Clasificación Datos Personales]]=\"privado\")),\"Alto\",IF(AND(Tabla2[[#This Row],[Contiene Datos Personales]]=\"SÍ\",Tabla2[[#This Row],[Clasificación Datos Personales]]=\"SEMIPRIVADO\"),\"Medio\",\"Bajo\")),\"\")","v":"Bajo"},null,null,"No Aplica","No Aplica",null,null,null,{"$f":"+IF(Tabla2[[#This Row],[Integridad]]=\"Grave\",0.5,IF(Tabla2[[#This Row],[Integridad]]=\"Importante\",0.3,IF(Tabla2[[#This Row],[Integridad]]=\"Leve\",0.2,\"\")))","v":""},null,{"$f":"+IF(Tabla2[[#This Row],[Disponibilidad Interna]]=\"Sí\",0.1,IF(Tabla2[[#This Row],[Disponibilidad Interna]]=\"NO\",0,\"\"))","v":""},null,{"$f":"+IF(Tabla2[[#This Row],[Disponibilidad Terceros]]=\"Sí\",0.1,IF(Tabla2[[#This Row],[Disponibilidad Terceros]]=\"No\",0,\"\"))","v":""},{"$f":"+Tabla2[[#This Row],[Columna32]]+Tabla2[[#This Row],[Columna34]]+Tabla2[[#This Row],[Columna1]]+Tabla2[[#This Row],[Columna3]]","v":{"$error":"#VALUE!"}},{"$f":"IFERROR(IF(Tabla2[[#This Row],[Columna33]]<0.45,\"BAJA\",IF(Tabla2[[#This Row],[Columna33]]>0.75,\"ALTA\",\"MEDIA\")),\"\")","v":""},"No Aplica",{"$f":"+IF(Tabla2[[#This Row],[Información Publicada (WEB)]]=\"Sí\",\"Digite URL\",\"No Aplica\")","v":"No Aplica"},null,{"$f":"IF(Tabla2[[#This Row],[ Clasificación ICBF]]=\"Pública\",1,IF(Tabla2[[#This Row],[ Clasificación ICBF]]=\"Clasificada\",2,IF(Tabla2[[#This Row],[ Clasificación ICBF]]=\"Reservada\",3,0)))","v":0},{"$f":"IF(#REF!=8,4,IF(#REF!=16,3,IF(#REF!=24,2,IF(#REF!=48,1,0))))","v":{"$error":"#REF!"}},{"$f":"IF(#REF!=8,\"Alto\",IF(#REF!=16,\"Medio\",IF(#REF!=24,\"Medio\",IF(#REF!=48,\"Bajo\",0))))","v":{"$error":"#REF!"}},null,{"$f":"+MID(Tabla2[[#This Row],[Área/Dependencia]],17,8)","v":""}]
["",null,null,null,{"$f":"+VLOOKUP(Tabla2[[#This Row],[SEDE - REGIONAL]],DATOS!B205:D238,3,FALSE)","v":{"$error":"#N/A"}},{"$f":"+IF(OR(Tabla2[[#This Row],[Área/Dependencia]]=\"Subdirección de Sistemas Integrados\",Tabla2[[#This Row],[Área/Dependencia]]=\"Subdirección de Recursos Tecnológicos\"),\"X\",\"\")","v":""},{"$f":"+CONCATENATE(Tabla2[[#This Row],[Tipo de Proceso]],Tabla2[[#This Row],[Columna4]])","v":{"$error":"#N/A"}},null,null,null,null,null,null,null,null,null,null,null,null,null,{"$f":"+IF(Tabla2[[#This Row],[Nivel de acceso ]]=\"Alto\",0.5,IF(Tabla2[[#This Row],[Nivel de acceso ]]=\"Medio\",0.3,IF(Tabla2[[#This Row],[Nivel de acceso ]]=\"Bajo\",0.2,\"\")))","v":""},null,{"$f":"+IF(Tabla2[[#This Row],[Es  Reservada]]=\"Sí\",\"Escriba Ley\",\"No Aplica\")","v":"No Aplica"},null,null,null,null,{"$f":"IFERROR(IF(AND(Tabla2[[#This Row],[Contiene Datos Personales]]=\"SÍ\",OR(Tabla2[[#This Row],[Clasificación Datos Personales]]=\"Sensible\",Tabla2[[#This Row],[Clasificación Datos Personales]]=\"NNA\",Tabla2[[#This Row],[Clasificación Datos Personales]]=\"privado\")),\"Alto\",IF(AND(Tabla2[[#This Row],[Contiene Datos Personales]]=\"SÍ\",Tabla2[[#This Row],[Clasificación Datos Personales]]=\"SEMIPRIVADO\"),\"Medio\",\"Bajo\")),\"\")","v":"Bajo"},null,null,"No Aplica","No Aplica",null,null,null,{"$f":"+IF(Tabla2[[#This Row],[Integridad]]=\"Grave\",0.5,IF(Tabla2[[#This Row],[Integridad]]=\"Importante\",0.3,IF(Tabla2[[#This Row],[Integridad]]=\"Leve\",0.2,\"\")))","v":""},null,{"$f":"+IF(Tabla2[[#This Row],[Disponibilidad Interna]]=\"Sí\",0.1,IF(Tabla2[[#This Row],[Disponibilidad Interna]]=\"NO\",0,\"\"))","v":""},null,{"$f":"+IF(Tabla2[[#This Row],[Disponibilidad Terceros]]=\"Sí\",0.1,IF(Tabla2[[#This Row],[Disponibilidad Terceros]]=\"No\",0,\"\"))","v":""},{"$f":"+Tabla2[[#This Row],[Columna32]]+Tabla2[[#This Row],[Columna34]]+Tabla2[[#This Row],[Columna1]]+Tabla2[[#This Row],[Columna3]]","v":{"$error":"#VALUE!"}},{"$f":"IFERROR(IF(Tabla2[[#This Row],[Columna33]]<0.45,\"BAJA\",IF(Tabla2[[#This Row],[Columna33]]>0.75,\"ALTA\",\"MEDIA\")),\"\")","v":""},"No Aplica",{"$f":"+IF(Tabla2[[#This Row],[Información Publicada (WEB)]]=\"Sí\",\"Digite URL\",\"No Aplica\")","v":"No Aplica"},null,{"$f":"IF(Tabla2[[#This Row],[ Clasificación ICBF]]=\"Pública\",1,IF(Tabla2[[#This Row],[ Clasificación ICBF]]=\"Clasificada\",2,IF(Tabla2[[#This Row],[ Clasificación ICBF]]=\"Reservada\",3,0)))","v":0},{"$f":"IF(#REF!=8,4,IF(#REF!=16,3,IF(#REF!=24,2,IF(#REF!=48,1,0))))","v":{"$error":"#REF!"}},{"$f":"IF(#REF!=8,\"Alto\",IF(#REF!=16,\"Medio\",IF(#REF!=24,\"Medio\",IF(#REF!=48,\"Bajo\",0))))","v":{"$error":"#REF!"}},null,{"$f":"+MID(Tabla2[[#This Row],[Área/Dependencia]],17,8)","v":""}]
["",null,null,null,{"$f":"+VLOOKUP(Tabla2[[#This Row],[SEDE - REGIONAL]],DATOS!B206:D239,3,FALSE)","v":{"$error":"#N/A"}},{"$f":"+IF(OR(Tabla2[[#This Row],[Área/Dependencia]]=\"Subdirección de Sistemas Integrados\",Tabla2[[#This Row],[Área/Dependencia]]=\"Subdirección de Recursos Tecnológicos\"),\"X\",\"\")","v":""},{"$f":"+CONCATENATE(Tabla2[[#This Row],[Tipo de Proceso]],Tabla2[[#This Row],[Columna4]])","v":{"$error":"#N/A"}},null,null,null,null,null,null,null,null,null,null,null,null,null,{"$f":"+IF(Tabla2[[#This Row],[Nivel de acceso ]]=\"Alto\",0.5,IF(Tabla2[[#This Row],[Nivel de acceso ]]=\"Medio\",0.3,IF(Tabla2[[#This Row],[Nivel de acceso ]]=\"Bajo\",0.2,\"\")))","v":""},null,{"$f":"+IF(Tabla2[[#This Row],[Es  Reservada]]=\"Sí\",\"Escriba Ley\",\"No Aplica\")","v":"No Aplica"},null,null,null,null,{"$f":"IFERROR(IF(AND(Tabla2[[#This Row],[Contiene Datos Personales]]=\"SÍ\",OR(Tabla2[[#This Row],[Clasificación Datos Personales]]=\"Sensible\",Tabla2[[#This Row],[Clasificación Datos Personales]]=\"NNA\",Tabla2[[#This Row],[Clasificación Datos Personales]]=\"privado\")),\"Alto\",IF(AND(Tabla2[[#This Row],[Contiene Datos Personales]]=\"SÍ\",Tabla2[[#This Row],[Clasificación Datos Personales]]=\"SEMIPRIVADO\"),\"Medio\",\"Bajo\")),\"\")","v":"Bajo"},null,null,"No Aplica","No Aplica",null,null,null,{"$f":"+IF(Tabla2[[#This Row],[Integridad]]=\"Grave\",0.5,IF(Tabla2[[#This Row],[Integridad]]=\"Importante\",0.3,IF(Tabla2[[#This Row],[Integridad]]=\"Leve\",0.2,\"\")))","v":""},null,{"$f":"+IF(Tabla2[[#This Row],[Disponibilidad Interna]]=\"Sí\",0.1,IF(Tabla2[[#This Row],[Disponibilidad Interna]]=\"NO\",0,\"\"))","v":""},null,{"$f":"+IF(Tabla2[[#This Row],[Disponibilidad Terceros]]=\"Sí\",0.1,IF(Tabla2[[#This Row],[Disponibilidad Terceros]]=\"No\",0,\"\"))","v":""},{"$f":"+Tabla2[[#This Row],[Columna32]]+Tabla2[[#This Row],[Columna34]]+Tabla2[[#This Row],[Columna1]]+Tabla2[[#This Row],[Columna3]]","v":{"$error":"#VALUE!"}},{"$f":"IFERROR(IF(Tabla2[[#This Row],[Columna33]]<0.45,\"BAJA\",IF(Tabla2[[#This Row],[Columna33]]>0.75,\"ALTA\",\"MEDIA\")),\"\")","v":""},"No Aplica",{"$f":"+IF(Tabla2[[#This Row],[Información Publicada (WEB)]]=\"Sí\",\"Digite URL\",\"No Aplica\")","v":"No Aplica"},null,{"$f":"IF(Tabla2[[#This Row],[ Clasificación ICBF]]=\"Pública\",1,IF(Tabla2[[#This Row],[ Clasificación ICBF]]=\"Clasificada\",2,IF(Tabla2[[#This Row],[ Clasificación ICBF]]=\"Reservada\",3,0)))","v":0},{"$f":"IF(#REF!=8,4,IF(#REF!=16,3,IF(#REF!=24,2,IF(#REF!=48,1,0))))","v":{"$error":"#REF!"}},{"$f":"IF(#REF!=8,\"Alto\",IF(#REF!=16,\"Medio\",IF(#REF!=24,\"Medio\",IF(#REF!=48,\"Bajo\",0))))","v":{"$error":"#REF!"}},null,{"$f":"+MID(Tabla2[[#This Row],[Área/Dependencia]],17,8)","v":""}]
["",null,null,null,{"$f":"+VLOOKUP(Tabla2[[#This Row],[SEDE - REGIONAL]],DATOS!B207:D240,3,FALSE)","v":{"$error":"#N/A"}},{"$f":"+IF(OR(Tabla2[[#This Row],[Área/Dependencia]]=\"Subdirección de Sistemas Integrados\",Tabla2[[#This Row],[Área/Dependencia]]=\"Subdirección de Recursos Tecnológicos\"),\"X\",\"\")","v":""},{"$f":"+CONCATENATE(Tabla2[[#This Row],[Tipo de Proceso]],Tabla2[[#This Row],[Columna4]])","v":{"$error":"#N/A"}},null,null,null,null,null,null,null,null,null,null,null,null,null,{"$f":"+IF(Tabla2[[#This Row],[Nivel de acceso ]]=\"Alto\",0.5,IF(Tabla2[[#This Row],[Nivel de acceso ]]=\"Medio\",0.3,IF(Tabla2[[#This Row],[Nivel de acceso ]]=\"Bajo\",0.2,\"\")))","v":""},null,{"$f":"+IF(Tabla2[[#This Row],[Es  Reservada]]=\"Sí\",\"Escriba Ley\",\"No Aplica\")","v":"No Aplica"},null,null,null,null,{"$f":"IFERROR(IF(AND(Tabla2[[#This Row],[Contiene Datos Personales]]=\"SÍ\",OR(Tabla2[[#This Row],[Clasificación Datos Personales]]=\"Sensible\",Tabla2[[#This Row],[Clasificación Datos Personales]]=\"NNA\",Tabla2[[#This Row],[Clasificación Datos Personales]]=\"privado\")),\"Alto\",IF(AND(Tabla2[[#This Row],[Contiene Datos Personales]]=\"SÍ\",Tabla2[[#This Row],[Clasificación Datos Personales]]=\"SEMIPRIVADO\"),\"Medio\",\"Bajo\")),\"\")","v":"Bajo"},null,null,"No Aplica","No Aplica",null,null,null,{"$f":"+IF(Tabla2[[#This Row],[Integridad]]=\"Grave\",0.5,IF(Tabla2[[#This Row],[Integridad]]=\"Importante\",0.3,IF(Tabla2[[#This Row],[Integridad]]=\"Leve\",0.2,\"\")))","v":""},null,{"$f":"+IF(Tabla2[[#This Row],[Disponibilidad Interna]]=\"Sí\",0.1,IF(Tabla2[[#This Row],[Disponibilidad Interna]]=\"NO\",0,\"\"))","v":""},null,{"$f":"+IF(Tabla2[[#This Row],[Disponibilidad Terceros]]=\"Sí\",0.1,IF(Tabla2[[#This Row],[Disponibilidad Terceros]]=\"No\",0,\"\"))","v":""},{"$f":"+Tabla2[[#This Row],[Columna32]]+Tabla2[[#This Row],[Columna34]]+Tabla2[[#This Row],[Columna1]]+Tabla2[[#This Row],[Columna3]]","v":{"$error":"#VALUE!"}},{"$f":"IFERROR(IF(Tabla2[[#This Row],[Columna33]]<0.45,\"BAJA\",IF(Tabla2[[#This Row],[Columna33]]>0.75,\"ALTA\",\"MEDIA\")),\"\")","v":""},"No Aplica",{"$f":"+IF(Tabla2[[#This Row],[Información Publicada (WEB)]]=\"Sí\",\"Digite URL\",\"No Aplica\")","v":"No Aplica"},null,{"$f":"IF(Tabla2[[#This Row],[ Clasificación ICBF]]=\"Pública\",1,IF(Tabla2[[#This Row],[ Clasificación ICBF]]=\"Clasificada\",2,IF(Tabla2[[#This Row],[ Clasificación ICBF]]=\"Reservada\",3,0)))","v":0},{"$f":"IF(#REF!=8,4,IF(#REF!=16,3,IF(#REF!=24,2,IF(#REF!=48,1,0))))","v":{"$error":"#REF!"}},{"$f":"IF(#REF!=8,\"Alto\",IF(#REF!=16,\"Medio\",IF(#REF!=24,\"Medio\",IF(#REF!=48,\"Bajo\",0))))","v":{"$error":"#REF!"}},null,{"$f":"+MID(Tabla2[[#This Row],[Área/Dependencia]],17,8)","v":""}]
["",null,null,null,{"$f":"+VLOOKUP(Tabla2[[#This Row],[SEDE - REGIONAL]],DATOS!B208:D241,3,FALSE)","v":{"$error":"#N/A"}},{"$f":"+IF(OR(Tabla2[[#This Row],[Área/Dependencia]]=\"Subdirección de Sistemas Integrados\",Tabla2[[#This Row],[Área/Dependencia]]=\"Subdirección de Recursos Tecnológicos\"),\"X\",\"\")","v":""},{"$f":"+CONCATENATE(Tabla2[[#This Row],[Tipo de Proceso]],Tabla2[[#This Row],[Columna4]])","v":{"$error":"#N/A"}},null,null,null,null,null,null,null,null,null,null,null,null,null,{"$f":"+IF(Tabla2[[#This Row],[Nivel de acceso ]]=\"Alto\",0.5,IF(Tabla2[[#This Row],[Nivel de acceso ]]=\"Medio\",0.3,IF(Tabla2[[#This Row],[Nivel de acceso ]]=\"Bajo\",0.2,\"\")))","v":""},null,{"$f":"+IF(Tabla2[[#This Row],[Es  Reservada]]=\"Sí\",\"Escriba Ley\",\"No Aplica\")","v":"No Aplica"},null,null,null,null,{"$f":"IFERROR(IF(AND(Tabla2[[#This Row],[Contiene Datos Personales]]=\"SÍ\",OR(Tabla2[[#This Row],[Clasificación Datos Personales]]=\"Sensible\",Tabla2[[#This Row],[Clasificación Datos Personales]]=\"NNA\",Tabla2[[#This Row],[Clasificación Datos Personales]]=\"privado\")),\"Alto\",IF(AND(Tabla2[[#This Row],[Contiene Datos Personales]]=\"SÍ\",Tabla2[[#This Row],[Clasificación Datos Personales]]=\"SEMIPRIVADO\"),\"Medio\",\"Bajo\")),\"\")","v":"Bajo"},null,null,"No Aplica","No Aplica",null,null,null,{"$f":"+IF(Tabla2[[#This Row],[Integridad]]=\"Grave\",0.5,IF(Tabla2[[#This Row],[Integridad]]=\"Importante\",0.3,IF(Tabla2[[#This Row],[Integridad]]=\"Leve\",0.2,\"\")))","v":""},null,{"$f":"+IF(Tabla2[[#This Row],[Disponibilidad Interna]]=\"Sí\",0.1,IF(Tabla2[[#This Row],[Disponibilidad Interna]]=\"NO\",0,\"\"))","v":""},null,{"$f":"+IF(Tabla2[[#This Row],[Disponibilidad Terceros]]=\"Sí\",0.1,IF(Tabla2[[#This Row],[Disponibilidad Terceros]]=\"No\",0,\"\"))","v":""},{"$f":"+Tabla2[[#This Row],[Columna32]]+Tabla2[[#This Row],[Columna34]]+Tabla2[[#This Row],[Columna1]]+Tabla2[[#This Row],[Columna3]]","v":{"$error":"#VALUE!"}},{"$f":"IFERROR(IF(Tabla2[[#This Row],[Columna33]]<0.45,\"BAJA\",IF(Tabla2[[#This Row],[Columna33]]>0.75,\"ALTA\",\"MEDIA\")),\"\")","v":""},"No Aplica",{"$f":"+IF(Tabla2[[#This Row],[Información Publicada (WEB)]]=\"Sí\",\"Digite URL\",\"No Aplica\")","v":"No Aplica"},null,{"$f":"IF(Tabla2[[#This Row],[ Clasificación ICBF]]=\"Pública\",1,IF(Tabla2[[#This Row],[ Clasificación ICBF]]=\"Clasificada\",2,IF(Tabla2[[#This Row],[ Clasificación ICBF]]=\"Reservada\",3,0)))","v":0},{"$f":"IF(#REF!=8,4,IF(#REF!=16,3,IF(#REF!=24,2,IF(#REF!=48,1,0))))","v":{"$error":"#REF!"}},{"$f":"IF(#REF!=8,\"Alto\",IF(#REF!=16,\"Medio\",IF(#REF!=24,\"Medio\",IF(#REF!=48,\"Bajo\",0))))","v":{"$error":"#REF!"}},null,{"$f":"+MID(Tabla2[[#This Row],[Área/Dependencia]],17,8)","v":""}]
["",null,null,null,{"$f":"+VLOOKUP(Tabla2[[#This Row],[SEDE - REGIONAL]],DATOS!B209:D242,3,FALSE)","v":{"$error":"#N/A"}},{"$f":"+IF(OR(Tabla2[[#This Row],[Área/Dependencia]]=\"Subdirección de Sistemas Integrados\",Tabla2[[#This Row],[Área/Dependencia]]=\"Subdirección de Recursos Tecnológicos\"),\"X\",\"\")","v":""},{"$f":"+CONCATENATE(Tabla2[[#This Row],[Tipo de Proceso]],Tabla2[[#This Row],[Columna4]])","v":{"$error":"#N/A"}},null,null,null,null,null,null,null,null,null,null,null,null,null,{"$f":"+IF(Tabla2[[#This Row],[Nivel de acceso ]]=\"Alto\",0.5,IF(Tabla2[[#This Row],[Nivel de acceso ]]=\"Medio\",0.3,IF(Tabla2[[#This Row],[Nivel de acceso ]]=\"Bajo\",0.2,\"\")))","v":""},null,{"$f":"+IF(Tabla2[[#This Row],[Es  Reservada]]=\"Sí\",\"Escriba Ley\",\"No Aplica\")","v":"No Aplica"},null,null,null,null,{"$f":"IFERROR(IF(AND(Tabla2[[#This Row],[Contiene Datos Personales]]=\"SÍ\",OR(Tabla2[[#This Row],[Clasificación Datos Personales]]=\"Sensible\",Tabla2[[#This Row],[Clasificación Datos Personales]]=\"NNA\",Tabla2[[#This Row],[Clasificación Datos Personales]]=\"privado\")),\"Alto\",IF(AND(Tabla2[[#This Row],[Contiene Datos Personales]]=\"SÍ\",Tabla2[[#This Row],[Clasificación Datos Personales]]=\"SEMIPRIVADO\"),\"Medio\",\"Bajo\")),\"\")","v":"Bajo"},null,null,"No Aplica","No Aplica",null,null,null,{"$f":"+IF(Tabla2[[#This Row],[Integridad]]=\"Grave\",0.5,IF(Tabla2[[#This Row],[Integridad]]=\"Importante\",0.3,IF(Tabla2[[#This Row],[Integridad]]=\"Leve\",0.2,\"\")))","v":""},null,{"$f":"+IF(Tabla2[[#This Row],[Disponibilidad Interna]]=\"Sí\",0.1,IF(Tabla2[[#This Row],[Disponibilidad Interna]]=\"NO\",0,\"\"))","v":""},null,{"$f":"+IF(Tabla2[[#This Row],[Disponibilidad Terceros]]=\"Sí\",0.1,IF(Tabla2[[#This Row],[Disponibilidad Terceros]]=\"No\",0,\"\"))","v":""},{"$f":"+Tabla2[[#This Row],[Columna32]]+Tabla2[[#This Row],[Columna34]]+Tabla2[[#This Row],[Columna1]]+Tabla2[[#This Row],[Columna3]]","v":{"$error":"#VALUE!"}},{"$f":"IFERROR(IF(Tabla2[[#This Row],[Columna33]]<0.45,\"BAJA\",IF(Tabla2[[#This Row],[Columna33]]>0.75,\"ALTA\",\"MEDIA\")),\"\")","v":""},"No Aplica",{"$f":"+IF(Tabla2[[#This Row],[Información Publicada (WEB)]]=\"Sí\",\"Digite URL\",\"No Aplica\")","v":"No Aplica"},null,{"$f":"IF(Tabla2[[#This Row],[ Clasificación ICBF]]=\"Pública\",1,IF(Tabla2[[#This Row],[ Clasificación ICBF]]=\"Clasificada\",2,IF(Tabla2[[#This Row],[ Clasificación ICBF]]=\"Reservada\",3,0)))","v":0},{"$f":"IF(#REF!=8,4,IF(#REF!=16,3,IF(#REF!=24,2,IF(#REF!=48,1,0))))","v":{"$error":"#REF!"}},{"$f":"IF(#REF!=8,\"Alto\",IF(#REF!=16,\"Medio\",IF(#REF!=24,\"Medio\",IF(#REF!=48,\"Bajo\",0))))","v":{"$error":"#REF!"}},null,{"$f":"+MID(Tabla2[[#This Row],[Área/Dependencia]],17,8)","v":""}]
["",null,null,null,{"$f":"+VLOOKUP(Tabla2[[#This Row],[SEDE - REGIONAL]],DATOS!B210:D243,3,FALSE)","v":{"$error":"#N/A"}},{"$f":"+IF(OR(Tabla2[[#This Row],[Área/Dependencia]]=\"Subdirección de Sistemas Integrados\",Tabla2[[#This Row],[Área/Dependencia]]=\"Subdirección de Recursos Tecnológicos\"),\"X\",\"\")","v":""},{"$f":"+CONCATENATE(Tabla2[[#This Row],[Tipo de Proceso]],Tabla2[[#This Row],[Columna4]])","v":{"$error":"#N/A"}},null,null,null,null,null,null,null,null,null,null,null,null,null,{"$f":"+IF(Tabla2[[#This Row],[Nivel de acceso ]]=\"Alto\",0.5,IF(Tabla2[[#This Row],[Nivel de acceso ]]=\"Medio\",0.3,IF(Tabla2[[#This Row],[Nivel de acceso ]]=\"Bajo\",0.2,\"\")))","v":""},null,{"$f":"+IF(Tabla2[[#This Row],[Es  Reservada]]=\"Sí\",\"Escriba Ley\",\"No Aplica\")","v":"No Aplica"},null,null,null,null,{"$f":"IFERROR(IF(AND(Tabla2[[#This Row],[Contiene Datos Personales]]=\"SÍ\",OR(Tabla2[[#This Row],[Clasificación Datos Personales]]=\"Sensible\",Tabla2[[#This Row],[Clasificación Datos Personales]]=\"NNA\",Tabla2[[#This Row],[Clasificación Datos Personales]]=\"privado\")),\"Alto\",IF(AND(Tabla2[[#This Row],[Contiene Datos Personales]]=\"SÍ\",Tabla2[[#This Row],[Clasificación Datos Personales]]=\"SEMIPRIVADO\"),\"Medio\",\"Bajo\")),\"\")","v":"Bajo"},null,null,"No Aplica","No Aplica",null,null,null,{"$f":"+IF(Tabla2[[#This Row],[Integridad]]=\"Grave\",0.5,IF(Tabla2[[#This Row],[Integridad]]=\"Importante\",0.3,IF(Tabla2[[#This Row],[Integridad]]=\"Leve\",0.2,\"\")))","v":""},null,{"$f":"+IF(Tabla2[[#This Row],[Disponibilidad Interna]]=\"Sí\",0.1,IF(Tabla2[[#This Row],[Disponibilidad Interna]]=\"NO\",0,\"\"))","v":""},null,{"$f":"+IF(Tabla2[[#This Row],[Disponibilidad Terceros]]=\"Sí\",0.1,IF(Tabla2[[#This Row],[Disponibilidad Terceros]]=\"No\",0,\"\"))","v":""},{"$f":"+Tabla2[[#This Row],[Columna32]]+Tabla2[[#This Row],[Columna34]]+Tabla2[[#This Row],[Columna1]]+Tabla2[[#This Row],[Columna3]]","v":{"$error":"#VALUE!"}},{"$f":"IFERROR(IF(Tabla2[[#This Row],[Columna33]]<0.45,\"BAJA\",IF(Tabla2[[#This Row],[Columna33]]>0.75,\"ALTA\",\"MEDIA\")),\"\")","v":""},"No Aplica",{"$f":"+IF(Tabla2[[#This Row],[Información Publicada (WEB)]]=\"Sí\",\"Digite URL\",\"No Aplica\")","v":"No Aplica"},null,{"$f":"IF(Tabla2[[#This Row],[ Clasificación ICBF]]=\"Pública\",1,IF(Tabla2[[#This Row],[ Clasificación ICBF]]=\"Clasificada\",2,IF(Tabla2[[#This Row],[ Clasificación ICBF]]=\"Reservada\",3,0)))","v":0},{"$f":"IF(#REF!=8,4,IF(#REF!=16,3,IF(#REF!=24,2,IF(#REF!=48,1,0))))","v":{"$error":"#REF!"}},{"$f":"IF(#REF!=8,\"Alto\",IF(#REF!=16,\"Medio\",IF(#REF!=24,\"Medio\",IF(#REF!=48,\"Bajo\",0))))","v":{"$error":"#REF!"}},null,{"$f":"+MID(Tabla2[[#This Row],[Área/Dependencia]],17,8)","v":""}]
["",null,null,null,{"$f":"+VLOOKUP(Tabla2[[#This Row],[SEDE - REGIONAL]],DATOS!B211:D244,3,FALSE)","v":{"$error":"#N/A"}},{"$f":"+IF(OR(Tabla2[[#This Row],[Área/Dependencia]]=\"Subdirección de Sistemas Integrados\",Tabla2[[#This Row],[Área/Dependencia]]=\"Subdirección de Recursos Tecnológicos\"),\"X\",\"\")","v":""},{"$f":"+CONCATENATE(Tabla2[[#This Row],[Tipo de Proceso]],Tabla2[[#This Row],[Columna4]])","v":{"$error":"#N/A"}},null,null,null,null,null,null,null,null,null,null,null,null,null,{"$f":"+IF(Tabla2[[#This Row],[Nivel de acceso ]]=\"Alto\",0.5,IF(Tabla2[[#This Row],[Nivel de acceso ]]=\"Medio\",0.3,IF(Tabla2[[#This Row],[Nivel de acceso ]]=\"Bajo\",0.2,\"\")))","v":""},null,{"$f":"+IF(Tabla2[[#This Row],[Es  Reservada]]=\"Sí\",\"Escriba Ley\",\"No Aplica\")","v":"No Aplica"},null,null,null,null,{"$f":"IFERROR(IF(AND(Tabla2[[#This Row],[Contiene Datos Personales]]=\"SÍ\",OR(Tabla2[[#This Row],[Clasificación Datos Personales]]=\"Sensible\",Tabla2[[#This Row],[Clasificación Datos Personales]]=\"NNA\",Tabla2[[#This Row],[Clasificación Datos Personales]]=\"privado\")),\"Alto\",IF(AND(Tabla2[[#This Row],[Contiene Datos Personales]]=\"SÍ\",Tabla2[[#This Row],[Clasificación Datos Personales]]=\"SEMIPRIVADO\"),\"Medio\",\"Bajo\")),\"\")","v":"Bajo"},null,null,"No Aplica","No Aplica",null,null,null,{"$f":"+IF(Tabla2[[#This Row],[Integridad]]=\"Grave\",0.5,IF(Tabla2[[#This Row],[Integridad]]=\"Importante\",0.3,IF(Tabla2[[#This Row],[Integridad]]=\"Leve\",0.2,\"\")))","v":""},null,{"$f":"+IF(Tabla2[[#This Row],[Disponibilidad Interna]]=\"Sí\",0.1,IF(Tabla2[[#This Row],[Disponibilidad Interna]]=\"NO\",0,\"\"))","v":""},null,{"$f":"+IF(Tabla2[[#This Row],[Disponibilidad Terceros]]=\"Sí\",0.1,IF(Tabla2[[#This Row],[Disponibilidad Terceros]]=\"No\",0,\"\"))","v":""},{"$f":"+Tabla2[[#This Row],[Columna32]]+Tabla2[[#This Row],[Columna34]]+Tabla2[[#This Row],[Columna1]]+Tabla2[[#This Row],[Columna3]]","v":{"$error":"#VALUE!"}},{"$f":"IFERROR(IF(Tabla2[[#This Row],[Columna33]]<0.45,\"BAJA\",IF(Tabla2[[#This Row],[Columna33]]>0.75,\"ALTA\",\"MEDIA\")),\"\")","v":""},"No Aplica",{"$f":"+IF(Tabla2[[#This Row],[Información Publicada (WEB)]]=\"Sí\",\"Digite URL\",\"No Aplica\")","v":"No Aplica"},null,{"$f":"IF(Tabla2[[#This Row],[ Clasificación ICBF]]=\"Pública\",1,IF(Tabla2[[#This Row],[ Clasificación ICBF]]=\"Clasificada\",2,IF(Tabla2[[#This Row],[ Clasificación ICBF]]=\"Reservada\",3,0)))","v":0},{"$f":"IF(#REF!=8,4,IF(#REF!=16,3,IF(#REF!=24,2,IF(#REF!=48,1,0))))","v":{"$error":"#REF!"}},{"$f":"IF(#REF!=8,\"Alto\",IF(#REF!=16,\"Medio\",IF(#REF!=24,\"Medio\",IF(#REF!=48,\"Bajo\",0))))","v":{"$error":"#REF!"}},null,{"$f":"+MID(Tabla2[[#This Row],[Área/Dependencia]],17,8)","v":""}]
["",null,null,null,{"$f":"+VLOOKUP(Tabla2[[#This Row],[SEDE - REGIONAL]],DATOS!B212:D245,3,FALSE)","v":{"$error":"#N/A"}},{"$f":"+IF(OR(Tabla2[[#This Row],[Área/Dependencia]]=\"Subdirección de Sistemas Integrados\",Tabla2[[#This Row],[Área/Dependencia]]=\"Subdirección de Recursos Tecnológicos\"),\"X\",\"\")","v":""},{"$f":"+CONCATENATE(Tabla2[[#This Row],[Tipo de Proceso]],Tabla2[[#This Row],[Columna4]])","v":{"$error":"#N/A"}},null,null,null,null,null,null,null,null,null,null,null,null,null,{"$f":"+IF(Tabla2[[#This Row],[Nivel de acceso ]]=\"Alto\",0.5,IF(Tabla2[[#This Row],[Nivel de acceso ]]=\"Medio\",0.3,IF(Tabla2[[#This Row],[Nivel de acceso ]]=\"Bajo\",0.2,\"\")))","v":""},null,{"$f":"+IF(Tabla2[[#This Row],[Es  Reservada]]=\"Sí\",\"Escriba Ley\",\"No Aplica\")","v":"No Aplica"},null,null,null,null,{"$f":"IFERROR(IF(AND(Tabla2[[#This Row],[Contiene Datos Personales]]=\"SÍ\",OR(Tabla2[[#This Row],[Clasificación Datos Personales]]=\"Sensible\",Tabla2[[#This Row],[Clasificación Datos Personales]]=\"NNA\",Tabla2[[#This Row],[Clasificación Datos Personales]]=\"privado\")),\"Alto\",IF(AND(Tabla2[[#This Row],[Contiene Datos Personales]]=\"SÍ\",Tabla2[[#This Row],[Clasificación Datos Personales]]=\"SEMIPRIVADO\"),\"Medio\",\"Bajo\")),\"\")","v":"Bajo"},null,null,"No Aplica","No Aplica",null,null,null,{"$f":"+IF(Tabla2[[#This Row],[Integridad]]=\"Grave\",0.5,IF(Tabla2[[#This Row],[Integridad]]=\"Importante\",0.3,IF(Tabla2[[#This Row],[Integridad]]=\"Leve\",0.2,\"\")))","v":""},null,{"$f":"+IF(Tabla2[[#This Row],[Disponibilidad Interna]]=\"Sí\",0.1,IF(Tabla2[[#This Row],[Disponibilidad Interna]]=\"NO\",0,\"\"))","v":""},null,{"$f":"+IF(Tabla2[[#This Row],[Disponibilidad Terceros]]=\"Sí\",0.1,IF(Tabla2[[#This Row],[Disponibilidad Terceros]]=\"No\",0,\"\"))","v":""},{"$f":"+Tabla2[[#This Row],[Columna32]]+Tabla2[[#This Row],[Columna34]]+Tabla2[[#This Row],[Columna1]]+Tabla2[[#This Row],[Columna3]]","v":{"$error":"#VALUE!"}},{"$f":"IFERROR(IF(Tabla2[[#This Row],[Columna33]]<0.45,\"BAJA\",IF(Tabla2[[#This Row],[Columna33]]>0.75,\"ALTA\",\"MEDIA\")),\"\")","v":""},"No Aplica",{"$f":"+IF(Tabla2[[#This Row],[Información Publicada (WEB)]]=\"Sí\",\"Digite URL\",\"No Aplica\")","v":"No Aplica"},null,{"$f":"IF(Tabla2[[#This Row],[ Clasificación ICBF]]=\"Pública\",1,IF(Tabla2[[#This Row],[ Clasificación ICBF]]=\"Clasificada\",2,IF(Tabla2[[#This Row],[ Clasificación ICBF]]=\"Reservada\",3,0)))","v":0},{"$f":"IF(#REF!=8,4,IF(#REF!=16,3,IF(#REF!=24,2,IF(#REF!=48,1,0))))","v":{"$error":"#REF!"}},{"$f":"IF(#REF!=8,\"Alto\",IF(#REF!=16,\"Medio\",IF(#REF!=24,\"Medio\",IF(#REF!=48,\"Bajo\",0))))","v":{"$error":"#REF!"}},null,{"$f":"+MID(Tabla2[[#This Row],[Área/Dependencia]],17,8)","v":""}]
["",null,null,null,{"$f":"+VLOOKUP(Tabla2[[#This Row],[SEDE - REGIONAL]],DATOS!B213:D246,3,FALSE)","v":{"$error":"#N/A"}},{"$f":"+IF(OR(Tabla2[[#This Row],[Área/Dependencia]]=\"Subdirección de Sistemas Integrados\",Tabla2[[#This Row],[Área/Dependencia]]=\"Subdirección de Recursos Tecnológicos\"),\"X\",\"\")","v":""},{"$f":"+CONCATENATE(Tabla2[[#This Row],[Tipo de Proceso]],Tabla2[[#This Row],[Columna4]])","v":{"$error":"#N/A"}},null,null,null,null,null,null,null,null,null,null,null,null,null,{"$f":"+IF(Tabla2[[#This Row],[Nivel de acceso ]]=\"Alto\",0.5,IF(Tabla2[[#This Row],[Nivel de acceso ]]=\"Medio\",0.3,IF(Tabla2[[#This Row],[Nivel de acceso ]]=\"Bajo\",0.2,\"\")))","v":""},null,{"$f":"+IF(Tabla2[[#This Row],[Es  Reservada]]=\"Sí\",\"Escriba Ley\",\"No Aplica\")","v":"No Aplica"},null,null,null,null,{"$f":"IFERROR(IF(AND(Tabla2[[#This Row],[Contiene Datos Personales]]=\"SÍ\",OR(Tabla2[[#This Row],[Clasificación Datos Personales]]=\"Sensible\",Tabla2[[#This Row],[Clasificación Datos Personales]]=\"NNA\",Tabla2[[#This Row],[Clasificación Datos Personales]]=\"privado\")),\"Alto\",IF(AND(Tabla2[[#This Row],[Contiene Datos Personales]]=\"SÍ\",Tabla2[[#This Row],[Clasificación Datos Personales]]=\"SEMIPRIVADO\"),\"Medio\",\"Bajo\")),\"\")","v":"Bajo"},null,null,"No Aplica","No Aplica",null,null,null,{"$f":"+IF(Tabla2[[#This Row],[Integridad]]=\"Grave\",0.5,IF(Tabla2[[#This Row],[Integridad]]=\"Importante\",0.3,IF(Tabla2[[#This Row],[Integridad]]=\"Leve\",0.2,\"\")))","v":""},null,{"$f":"+IF(Tabla2[[#This Row],[Disponibilidad Interna]]=\"Sí\",0.1,IF(Tabla2[[#This Row],[Disponibilidad Interna]]=\"NO\",0,\"\"))","v":""},null,{"$f":"+IF(Tabla2[[#This Row],[Disponibilidad Terceros]]=\"Sí\",0.1,IF(Tabla2[[#This Row],[Disponibilidad Terceros]]=\"No\",0,\"\"))","v":""},{"$f":"+Tabla2[[#This Row],[Columna32]]+Tabla2[[#This Row],[Columna34]]+Tabla2[[#This Row],[Columna1]]+Tabla2[[#This Row],[Columna3]]","v":{"$error":"#VALUE!"}},{"$f":"IFERROR(IF(Tabla2[[#This Row],[Columna33]]<0.45,\"BAJA\",IF(Tabla2[[#This Row],[Columna33]]>0.75,\"ALTA\",\"MEDIA\")),\"\")","v":""},"No Aplica",{"$f":"+IF(Tabla2[[#This Row],[Información Publicada (WEB)]]=\"Sí\",\"Digite URL\",\"No Aplica\")","v":"No Aplica"},null,{"$f":"IF(Tabla2[[#This Row],[ Clasificación ICBF]]=\"Pública\",1,IF(Tabla2[[#This Row],[ Clasificación ICBF]]=\"Clasificada\",2,IF(Tabla2[[#This Row],[ Clasificación ICBF]]=\"Reservada\",3,0)))","v":0},{"$f":"IF(#REF!=8,4,IF(#REF!=16,3,IF(#REF!=24,2,IF(#REF!=48,1,0))))","v":{"$error":"#REF!"}},{"$f":"IF(#REF!=8,\"Alto\",IF(#REF!=16,\"Medio\",IF(#REF!=24,\"Medio\",IF(#REF!=48,\"Bajo\",0))))","v":{"$error":"#REF!"}},null,{"$f":"+MID(Tabla2[[#This Row],[Área/Dependencia]],17,8)","v":""}]
["",null,null,null,{"$f":"+VLOOKUP(Tabla2[[#This Row],[SEDE - REGIONAL]],DATOS!B214:D247,3,FALSE)","v":{"$error":"#N/A"}},{"$f":"+IF(OR(Tabla2[[#This Row],[Área/Dependencia]]=\"Subdirección de Sistemas Integrados\",Tabla2[[#This Row],[Área/Dependencia]]=\"Subdirección de Recursos Tecnológicos\"),\"X\",\"\")","v":""},{"$f":"+CONCATENATE(Tabla2[[#This Row],[Tipo de Proceso]],Tabla2[[#This Row],[Columna4]])","v":{"$error":"#N/A"}},null,null,null,null,null,null,null,null,null,null,null,null,null,{"$f":"+IF(Tabla2[[#This Row],[Nivel de acceso ]]=\"Alto\",0.5,IF(Tabla2[[#This Row],[Nivel de acceso ]]=\"Medio\",0.3,IF(Tabla2[[#This Row],[Nivel de acceso ]]=\"Bajo\",0.2,\"\")))","v":""},null,{"$f":"+IF(Tabla2[[#This Row],[Es  Reservada]]=\"Sí\",\"Escriba Ley\",\"No Aplica\")","v":"No Aplica"},null,null,null,null,{"$f":"IFERROR(IF(AND(Tabla2[[#This Row],[Contiene Datos Personales]]=\"SÍ\",OR(Tabla2[[#This Row],[Clasificación Datos Personales]]=\"Sensible\",Tabla2[[#This Row],[Clasificación Datos Personales]]=\"NNA\",Tabla2[[#This Row],[Clasificación Datos Personales]]=\"privado\")),\"Alto\",IF(AND(Tabla2[[#This Row],[Contiene Datos Personales]]=\"SÍ\",Tabla2[[#This Row],[Clasificación Datos Personales]]=\"SEMIPRIVADO\"),\"Medio\",\"Bajo\")),\"\")","v":"Bajo"},null,null,"No Aplica","No Aplica",null,null,null,{"$f":"+IF(Tabla2[[#This Row],[Integridad]]=\"Grave\",0.5,IF(Tabla2[[#This Row],[Integridad]]=\"Importante\",0.3,IF(Tabla2[[#This Row],[Integridad]]=\"Leve\",0.2,\"\")))","v":""},null,{"$f":"+IF(Tabla2[[#This Row],[Disponibilidad Interna]]=\"Sí\",0.1,IF(Tabla2[[#This Row],[Disponibilidad Interna]]=\"NO\",0,\"\"))","v":""},null,{"$f":"+IF(Tabla2[[#This Row],[Disponibilidad Terceros]]=\"Sí\",0.1,IF(Tabla2[[#This Row],[Disponibilidad Terceros]]=\"No\",0,\"\"))","v":""},{"$f":"+Tabla2[[#This Row],[Columna32]]+Tabla2[[#This Row],[Columna34]]+Tabla2[[#This Row],[Columna1]]+Tabla2[[#This Row],[Columna3]]","v":{"$error":"#VALUE!"}},{"$f":"IFERROR(IF(Tabla2[[#This Row],[Columna33]]<0.45,\"BAJA\",IF(Tabla2[[#This Row],[Columna33]]>0.75,\"ALTA\",\"MEDIA\")),\"\")","v":""},"No Aplica",{"$f":"+IF(Tabla2[[#This Row],[Información Publicada (WEB)]]=\"Sí\",\"Digite URL\",\"No Aplica\")","v":"No Aplica"},null,{"$f":"IF(Tabla2[[#This Row],[ Clasificación ICBF]]=\"Pública\",1,IF(Tabla2[[#This Row],[ Clasificación ICBF]]=\"Clasificada\",2,IF(Tabla2[[#This Row],[ Clasificación ICBF]]=\"Reservada\",3,0)))","v":0},{"$f":"IF(#REF!=8,4,IF(#REF!=16,3,IF(#REF!=24,2,IF(#REF!=48,1,0))))","v":{"$error":"#REF!"}},{"$f":"IF(#REF!=8,\"Alto\",IF(#REF!=16,\"Medio\",IF(#REF!=24,\"Medio\",IF(#REF!=48,\"Bajo\",0))))","v":{"$error":"#REF!"}},null,{"$f":"+MID(Tabla2[[#This Row],[Área/Dependencia]],17,8)","v":""}]
["",null,null,null,{"$f":"+VLOOKUP(Tabla2[[#This Row],[SEDE - REGIONAL]],DATOS!B215:D248,3,FALSE)","v":{"$error":"#N/A"}},{"$f":"+IF(OR(Tabla2[[#This Row],[Área/Dependencia]]=\"Subdirección de Sistemas Integrados\",Tabla2[[#This Row],[Área/Dependencia]]=\"Subdirección de Recursos Tecnológicos\"),\"X\",\"\")","v":""},{"$f":"+CONCATENATE(Tabla2[[#This Row],[Tipo de Proceso]],Tabla2[[#This Row],[Columna4]])","v":{"$error":"#N/A"}},null,null,null,null,null,null,null,null,null,null,null,null,null,{"$f":"+IF(Tabla2[[#This Row],[Nivel de acceso ]]=\"Alto\",0.5,IF(Tabla2[[#This Row],[Nivel de acceso ]]=\"Medio\",0.3,IF(Tabla2[[#This Row],[Nivel de acceso ]]=\"Bajo\",0.2,\"\")))","v":""},null,{"$f":"+IF(Tabla2[[#This Row],[Es  Reservada]]=\"Sí\",\"Escriba Ley\",\"No Aplica\")","v":"No Aplica"},null,null,null,null,{"$f":"IFERROR(IF(AND(Tabla2[[#This Row],[Contiene Datos Personales]]=\"SÍ\",OR(Tabla2[[#This Row],[Clasificación Datos Personales]]=\"Sensible\",Tabla2[[#This Row],[Clasificación Datos Personales]]=\"NNA\",Tabla2[[#This Row],[Clasificación Datos Personales]]=\"privado\")),\"Alto\",IF(AND(Tabla2[[#This Row],[Contiene Datos Personales]]=\"SÍ\",Tabla2[[#This Row],[Clasificación Datos Personales]]=\"SEMIPRIVADO\"),\"Medio\",\"Bajo\")),\"\")","v":"Bajo"},null,null,"No Aplica","No Aplica",null,null,null,{"$f":"+IF(Tabla2[[#This Row],[Integridad]]=\"Grave\",0.5,IF(Tabla2[[#This Row],[Integridad]]=\"Importante\",0.3,IF(Tabla2[[#This Row],[Integridad]]=\"Leve\",0.2,\"\")))","v":""},null,{"$f":"+IF(Tabla2[[#This Row],[Disponibilidad Interna]]=\"Sí\",0.1,IF(Tabla2[[#This Row],[Disponibilidad Interna]]=\"NO\",0,\"\"))","v":""},null,{"$f":"+IF(Tabla2[[#This Row],[Disponibilidad Terceros]]=\"Sí\",0.1,IF(Tabla2[[#This Row],[Disponibilidad Terceros]]=\"No\",0,\"\"))","v":""},{"$f":"+Tabla2[[#This Row],[Columna32]]+Tabla2[[#This Row],[Columna34]]+Tabla2[[#This Row],[Columna1]]+Tabla2[[#This Row],[Columna3]]","v":{"$error":"#VALUE!"}},{"$f":"IFERROR(IF(Tabla2[[#This Row],[Columna33]]<0.45,\"BAJA\",IF(Tabla2[[#This Row],[Columna33]]>0.75,\"ALTA\",\"MEDIA\")),\"\")","v":""},"No Aplica",{"$f":"+IF(Tabla2[[#This Row],[Información Publicada (WEB)]]=\"Sí\",\"Digite URL\",\"No Aplica\")","v":"No Aplica"},null,{"$f":"IF(Tabla2[[#This Row],[ Clasificación ICBF]]=\"Pública\",1,IF(Tabla2[[#This Row],[ Clasificación ICBF]]=\"Clasificada\",2,IF(Tabla2[[#This Row],[ Clasificación ICBF]]=\"Reservada\",3,0)))","v":0},{"$f":"IF(#REF!=8,4,IF(#REF!=16,3,IF(#REF!=24,2,IF(#REF!=48,1,0))))","v":{"$error":"#REF!"}},{"$f":"IF(#REF!=8,\"Alto\",IF(#REF!=16,\"Medio\",IF(#REF!=24,\"Medio\",IF(#REF!=48,\"Bajo\",0))))","v":{"$error":"#REF!"}},null,{"$f":"+MID(Tabla2[[#This Row],[Área/Dependencia]],17,8)","v":""}]
["",null,null,null,{"$f":"+VLOOKUP(Tabla2[[#This Row],[SEDE - REGIONAL]],DATOS!B216:D249,3,FALSE)","v":{"$error":"#N/A"}},{"$f":"+IF(OR(Tabla2[[#This Row],[Área/Dependencia]]=\"Subdirección de Sistemas Integrados\",Tabla2[[#This Row],[Área/Dependencia]]=\"Subdirección de Recursos Tecnológicos\"),\"X\",\"\")","v":""},{"$f":"+CONCATENATE(Tabla2[[#This Row],[Tipo de Proceso]],Tabla2[[#This Row],[Columna4]])","v":{"$error":"#N/A"}},null,null,null,null,null,null,null,null,null,null,null,null,null,{"$f":"+IF(Tabla2[[#This Row],[Nivel de acceso ]]=\"Alto\",0.5,IF(Tabla2[[#This Row],[Nivel de acceso ]]=\"Medio\",0.3,IF(Tabla2[[#This Row],[Nivel de acceso ]]=\"Bajo\",0.2,\"\")))","v":""},null,{"$f":"+IF(Tabla2[[#This Row],[Es  Reservada]]=\"Sí\",\"Escriba Ley\",\"No Aplica\")","v":"No Aplica"},null,null,null,null,{"$f":"IFERROR(IF(AND(Tabla2[[#This Row],[Contiene Datos Personales]]=\"SÍ\",OR(Tabla2[[#This Row],[Clasificación Datos Personales]]=\"Sensible\",Tabla2[[#This Row],[Clasificación Datos Personales]]=\"NNA\",Tabla2[[#This Row],[Clasificación Datos Personales]]=\"privado\")),\"Alto\",IF(AND(Tabla2[[#This Row],[Contiene Datos Personales]]=\"SÍ\",Tabla2[[#This Row],[Clasificación Datos Personales]]=\"SEMIPRIVADO\"),\"Medio\",\"Bajo\")),\"\")","v":"Bajo"},null,null,"No Aplica","No Aplica",null,null,null,{"$f":"+IF(Tabla2[[#This Row],[Integridad]]=\"Grave\",0.5,IF(Tabla2[[#This Row],[Integridad]]=\"Importante\",0.3,IF(Tabla2[[#This Row],[Integridad]]=\"Leve\",0.2,\"\")))","v":""},null,{"$f":"+IF(Tabla2[[#This Row],[Disponibilidad Interna]]=\"Sí\",0.1,IF(Tabla2[[#This Row],[Disponibilidad Interna]]=\"NO\",0,\"\"))","v":""},null,{"$f":"+IF(Tabla2[[#This Row],[Disponibilidad Terceros]]=\"Sí\",0.1,IF(Tabla2[[#This Row],[Disponibilidad Terceros]]=\"No\",0,\"\"))","v":""},{"$f":"+Tabla2[[#This Row],[Columna32]]+Tabla2[[#This Row],[Columna34]]+Tabla2[[#This Row],[Columna1]]+Tabla2[[#This Row],[Columna3]]","v":{"$error":"#VALUE!"}},{"$f":"IFERROR(IF(Tabla2[[#This Row],[Columna33]]<0.45,\"BAJA\",IF(Tabla2[[#This Row],[Columna33]]>0.75,\"ALTA\",\"MEDIA\")),\"\")","v":""},"No Aplica",{"$f":"+IF(Tabla2[[#This Row],[Información Publicada (WEB)]]=\"Sí\",\"Digite URL\",\"No Aplica\")","v":"No Aplica"},null,{"$f":"IF(Tabla2[[#This Row],[ Clasificación ICBF]]=\"Pública\",1,IF(Tabla2[[#This Row],[ Clasificación ICBF]]=\"Clasificada\",2,IF(Tabla2[[#This Row],[ Clasificación ICBF]]=\"Reservada\",3,0)))","v":0},{"$f":"IF(#REF!=8,4,IF(#REF!=16,3,IF(#REF!=24,2,IF(#REF!=48,1,0))))","v":{"$error":"#REF!"}},{"$f":"IF(#REF!=8,\"Alto\",IF(#REF!=16,\"Medio\",IF(#REF!=24,\"Medio\",IF(#REF!=48,\"Bajo\",0))))","v":{"$error":"#REF!"}},null,{"$f":"+MID(Tabla2[[#This Row],[Área/Dependencia]],17,8)","v":""}]
["",null,null,null,{"$f":"+VLOOKUP(Tabla2[[#This Row],[SEDE - REGIONAL]],DATOS!B217:D250,3,FALSE)","v":{"$error":"#N/A"}},{"$f":"+IF(OR(Tabla2[[#This Row],[Área/Dependencia]]=\"Subdirección de Sistemas Integrados\",Tabla2[[#This Row],[Área/Dependencia]]=\"Subdirección de Recursos Tecnológicos\"),\"X\",\"\")","v":""},{"$f":"+CONCATENATE(Tabla2[[#This Row],[Tipo de Proceso]],Tabla2[[#This Row],[Columna4]])","v":{"$error":"#N/A"}},null,null,null,null,null,null,null,null,null,null,null,null,null,{"$f":"+IF(Tabla2[[#This Row],[Nivel de acceso ]]=\"Alto\",0.5,IF(Tabla2[[#This Row],[Nivel de acceso ]]=\"Medio\",0.3,IF(Tabla2[[#This Row],[Nivel de acceso ]]=\"Bajo\",0.2,\"\")))","v":""},null,{"$f":"+IF(Tabla2[[#This Row],[Es  Reservada]]=\"Sí\",\"Escriba Ley\",\"No Aplica\")","v":"No Aplica"},null,null,null,null,{"$f":"IFERROR(IF(AND(Tabla2[[#This Row],[Contiene Datos Personales]]=\"SÍ\",OR(Tabla2[[#This Row],[Clasificación Datos Personales]]=\"Sensible\",Tabla2[[#This Row],[Clasificación Datos Personales]]=\"NNA\",Tabla2[[#This Row],[Clasificación Datos Personales]]=\"privado\")),\"Alto\",IF(AND(Tabla2[[#This Row],[Contiene Datos Personales]]=\"SÍ\",Tabla2[[#This Row],[Clasificación Datos Personales]]=\"SEMIPRIVADO\"),\"Medio\",\"Bajo\")),\"\")","v":"Bajo"},null,null,"No Aplica","No Aplica",null,null,null,{"$f":"+IF(Tabla2[[#This Row],[Integridad]]=\"Grave\",0.5,IF(Tabla2[[#This Row],[Integridad]]=\"Importante\",0.3,IF(Tabla2[[#This Row],[Integridad]]=\"Leve\",0.2,\"\")))","v":""},null,{"$f":"+IF(Tabla2[[#This Row],[Disponibilidad Interna]]=\"Sí\",0.1,IF(Tabla2[[#This Row],[Disponibilidad Interna]]=\"NO\",0,\"\"))","v":""},null,{"$f":"+IF(Tabla2[[#This Row],[Disponibilidad Terceros]]=\"Sí\",0.1,IF(Tabla2[[#This Row],[Disponibilidad Terceros]]=\"No\",0,\"\"))","v":""},{"$f":"+Tabla2[[#This Row],[Columna32]]+Tabla2[[#This Row],[Columna34]]+Tabla2[[#This Row],[Columna1]]+Tabla2[[#This Row],[Columna3]]","v":{"$error":"#VALUE!"}},{"$f":"IFERROR(IF(Tabla2[[#This Row],[Columna33]]<0.45,\"BAJA\",IF(Tabla2[[#This Row],[Columna33]]>0.75,\"ALTA\",\"MEDIA\")),\"\")","v":""},"No Aplica",{"$f":"+IF(Tabla2[[#This Row],[Información Publicada (WEB)]]=\"Sí\",\"Digite URL\",\"No Aplica\")","v":"No Aplica"},null,{"$f":"IF(Tabla2[[#This Row],[ Clasificación ICBF]]=\"Pública\",1,IF(Tabla2[[#This Row],[ Clasificación ICBF]]=\"Clasificada\",2,IF(Tabla2[[#This Row],[ Clasificación ICBF]]=\"Reservada\",3,0)))","v":0},{"$f":"IF(#REF!=8,4,IF(#REF!=16,3,IF(#REF!=24,2,IF(#REF!=48,1,0))))","v":{"$error":"#REF!"}},{"$f":"IF(#REF!=8,\"Alto\",IF(#REF!=16,\"Medio\",IF(#REF!=24,\"Medio\",IF(#REF!=48,\"Bajo\",0))))","v":{"$error":"#REF!"}},null,{"$f":"+MID(Tabla2[[#This Row],[Área/Dependencia]],17,8)","v":""}]
["",null,null,null,{"$f":"+VLOOKUP(Tabla2[[#This Row],[SEDE - REGIONAL]],DATOS!B218:D251,3,FALSE)","v":{"$error":"#N/A"}},{"$f":"+IF(OR(Tabla2[[#This Row],[Área/Dependencia]]=\"Subdirección de Sistemas Integrados\",Tabla2[[#This Row],[Área/Dependencia]]=\"Subdirección de Recursos Tecnológicos\"),\"X\",\"\")","v":""},{"$f":"+CONCATENATE(Tabla2[[#This Row],[Tipo de Proceso]],Tabla2[[#This Row],[Columna4]])","v":{"$error":"#N/A"}},null,null,null,null,null,null,null,null,null,null,null,null,null,{"$f":"+IF(Tabla2[[#This Row],[Nivel de acceso ]]=\"Alto\",0.5,IF(Tabla2[[#This Row],[Nivel de acceso ]]=\"Medio\",0.3,IF(Tabla2[[#This Row],[Nivel de acceso ]]=\"Bajo\",0.2,\"\")))","v":""},null,{"$f":"+IF(Tabla2[[#This Row],[Es  Reservada]]=\"Sí\",\"Escriba Ley\",\"No Aplica\")","v":"No Aplica"},null,null,null,null,{"$f":"IFERROR(IF(AND(Tabla2[[#This Row],[Contiene Datos Personales]]=\"SÍ\",OR(Tabla2[[#This Row],[Clasificación Datos Personales]]=\"Sensible\",Tabla2[[#This Row],[Clasificación Datos Personales]]=\"NNA\",Tabla2[[#This Row],[Clasificación Datos Personales]]=\"privado\")),\"Alto\",IF(AND(Tabla2[[#This Row],[Contiene Datos Personales]]=\"SÍ\",Tabla2[[#This Row],[Clasificación Datos Personales]]=\"SEMIPRIVADO\"),\"Medio\",\"Bajo\")),\"\")","v":"Bajo"},null,null,"No Aplica","No Aplica",null,null,null,{"$f":"+IF(Tabla2[[#This Row],[Integridad]]=\"Grave\",0.5,IF(Tabla2[[#This Row],[Integridad]]=\"Importante\",0.3,IF(Tabla2[[#This Row],[Integridad]]=\"Leve\",0.2,\"\")))","v":""},null,{"$f":"+IF(Tabla2[[#This Row],[Disponibilidad Interna]]=\"Sí\",0.1,IF(Tabla2[[#This Row],[Disponibilidad Interna]]=\"NO\",0,\"\"))","v":""},null,{"$f":"+IF(Tabla2[[#This Row],[Disponibilidad Terceros]]=\"Sí\",0.1,IF(Tabla2[[#This Row],[Disponibilidad Terceros]]=\"No\",0,\"\"))","v":""},{"$f":"+Tabla2[[#This Row],[Columna32]]+Tabla2[[#This Row],[Columna34]]+Tabla2[[#This Row],[Columna1]]+Tabla2[[#This Row],[Columna3]]","v":{"$error":"#VALUE!"}},{"$f":"IFERROR(IF(Tabla2[[#This Row],[Columna33]]<0.45,\"BAJA\",IF(Tabla2[[#This Row],[Columna33]]>0.75,\"ALTA\",\"MEDIA\")),\"\")","v":""},"No Aplica",{"$f":"+IF(Tabla2[[#This Row],[Información Publicada (WEB)]]=\"Sí\",\"Digite URL\",\"No Aplica\")","v":"No Aplica"},null,{"$f":"IF(Tabla2[[#This Row],[ Clasificación ICBF]]=\"Pública\",1,IF(Tabla2[[#This Row],[ Clasificación ICBF]]=\"Clasificada\",2,IF(Tabla2[[#This Row],[ Clasificación ICBF]]=\"Reservada\",3,0)))","v":0},{"$f":"IF(#REF!=8,4,IF(#REF!=16,3,IF(#REF!=24,2,IF(#REF!=48,1,0))))","v":{"$error":"#REF!"}},{"$f":"IF(#REF!=8,\"Alto\",IF(#REF!=16,\"Medio\",IF(#REF!=24,\"Medio\",IF(#REF!=48,\"Bajo\",0))))","v":{"$error":"#REF!"}},null,{"$f":"+MID(Tabla2[[#This Row],[Área/Dependencia]],17,8)","v":""}]
["",null,null,null,{"$f":"+VLOOKUP(Tabla2[[#This Row],[SEDE - REGIONAL]],DATOS!B219:D252,3,FALSE)","v":{"$error":"#N/A"}},{"$f":"+IF(OR(Tabla2[[#This Row],[Área/Dependencia]]=\"Subdirección de Sistemas Integrados\",Tabla2[[#This Row],[Área/Dependencia]]=\"Subdirección de Recursos Tecnológicos\"),\"X\",\"\")","v":""},{"$f":"+CONCATENATE(Tabla2[[#This Row],[Tipo de Proceso]],Tabla2[[#This Row],[Columna4]])","v":{"$error":"#N/A"}},null,null,null,null,null,null,null,null,null,null,null,null,null,{"$f":"+IF(Tabla2[[#This Row],[Nivel de acceso ]]=\"Alto\",0.5,IF(Tabla2[[#This Row],[Nivel de acceso ]]=\"Medio\",0.3,IF(Tabla2[[#This Row],[Nivel de acceso ]]=\"Bajo\",0.2,\"\")))","v":""},null,{"$f":"+IF(Tabla2[[#This Row],[Es  Reservada]]=\"Sí\",\"Escriba Ley\",\"No Aplica\")","v":"No Aplica"},null,null,null,null,{"$f":"IFERROR(IF(AND(Tabla2[[#This Row],[Contiene Datos Personales]]=\"SÍ\",OR(Tabla2[[#This Row],[Clasificación Datos Personales]]=\"Sensible\",Tabla2[[#This Row],[Clasificación Datos Personales]]=\"NNA\",Tabla2[[#This Row],[Clasificación Datos Personales]]=\"privado\")),\"Alto\",IF(AND(Tabla2[[#This Row],[Contiene Datos Personales]]=\"SÍ\",Tabla2[[#This Row],[Clasificación Datos Personales]]=\"SEMIPRIVADO\"),\"Medio\",\"Bajo\")),\"\")","v":"Bajo"},null,null,"No Aplica","No Aplica",null,null,null,{"$f":"+IF(Tabla2[[#This Row],[Integridad]]=\"Grave\",0.5,IF(Tabla2[[#This Row],[Integridad]]=\"Importante\",0.3,IF(Tabla2[[#This Row],[Integridad]]=\"Leve\",0.2,\"\")))","v":""},null,{"$f":"+IF(Tabla2[[#This Row],[Disponibilidad Interna]]=\"Sí\",0.1,IF(Tabla2[[#This Row],[Disponibilidad Interna]]=\"NO\",0,\"\"))","v":""},null,{"$f":"+IF(Tabla2[[#This Row],[Disponibilidad Terceros]]=\"Sí\",0.1,IF(Tabla2[[#This Row],[Disponibilidad Terceros]]=\"No\",0,\"\"))","v":""},{"$f":"+Tabla2[[#This Row],[Columna32]]+Tabla2[[#This Row],[Columna34]]+Tabla2[[#This Row],[Columna1]]+Tabla2[[#This Row],[Columna3]]","v":{"$error":"#VALUE!"}},{"$f":"IFERROR(IF(Tabla2[[#This Row],[Columna33]]<0.45,\"BAJA\",IF(Tabla2[[#This Row],[Columna33]]>0.75,\"ALTA\",\"MEDIA\")),\"\")","v":""},"No Aplica",{"$f":"+IF(Tabla2[[#This Row],[Información Publicada (WEB)]]=\"Sí\",\"Digite URL\",\"No Aplica\")","v":"No Aplica"},null,{"$f":"IF(Tabla2[[#This Row],[ Clasificación ICBF]]=\"Pública\",1,IF(Tabla2[[#This Row],[ Clasificación ICBF]]=\"Clasificada\",2,IF(Tabla2[[#This Row],[ Clasificación ICBF]]=\"Reservada\",3,0)))","v":0},{"$f":"IF(#REF!=8,4,IF(#REF!=16,3,IF(#REF!=24,2,IF(#REF!=48,1,0))))","v":{"$error":"#REF!"}},{"$f":"IF(#REF!=8,\"Alto\",IF(#REF!=16,\"Medio\",IF(#REF!=24,\"Medio\",IF(#REF!=48,\"Bajo\",0))))","v":{"$error":"#REF!"}},null,{"$f":"+MID(Tabla2[[#This Row],[Área/Dependencia]],17,8)","v":""}]
["",null,null,null,{"$f":"+VLOOKUP(Tabla2[[#This Row],[SEDE - REGIONAL]],DATOS!B220:D253,3,FALSE)","v":{"$error":"#N/A"}},{"$f":"+IF(OR(Tabla2[[#This Row],[Área/Dependencia]]=\"Subdirección de Sistemas Integrados\",Tabla2[[#This Row],[Área/Dependencia]]=\"Subdirección de Recursos Tecnológicos\"),\"X\",\"\")","v":""},{"$f":"+CONCATENATE(Tabla2[[#This Row],[Tipo de Proceso]],Tabla2[[#This Row],[Columna4]])","v":{"$error":"#N/A"}},null,null,null,null,null,null,null,null,null,null,null,null,null,{"$f":"+IF(Tabla2[[#This Row],[Nivel de acceso ]]=\"Alto\",0.5,IF(Tabla2[[#This Row],[Nivel de acceso ]]=\"Medio\",0.3,IF(Tabla2[[#This Row],[Nivel de acceso ]]=\"Bajo\",0.2,\"\")))","v":""},null,{"$f":"+IF(Tabla2[[#This Row],[Es  Reservada]]=\"Sí\",\"Escriba Ley\",\"No Aplica\")","v":"No Aplica"},null,null,null,null,{"$f":"IFERROR(IF(AND(Tabla2[[#This Row],[Contiene Datos Personales]]=\"SÍ\",OR(Tabla2[[#This Row],[Clasificación Datos Personales]]=\"Sensible\",Tabla2[[#This Row],[Clasificación Datos Personales]]=\"NNA\",Tabla2[[#This Row],[Clasificación Datos Personales]]=\"privado\")),\"Alto\",IF(AND(Tabla2[[#This Row],[Contiene Datos Personales]]=\"SÍ\",Tabla2[[#This Row],[Clasificación Datos Personales]]=\"SEMIPRIVADO\"),\"Medio\",\"Bajo\")),\"\")","v":"Bajo"},null,null,"No Aplica","No Aplica",null,null,null,{"$f":"+IF(Tabla2[[#This Row],[Integridad]]=\"Grave\",0.5,IF(Tabla2[[#This Row],[Integridad]]=\"Importante\",0.3,IF(Tabla2[[#This Row],[Integridad]]=\"Leve\",0.2,\"\")))","v":""},null,{"$f":"+IF(Tabla2[[#This Row],[Disponibilidad Interna]]=\"Sí\",0.1,IF(Tabla2[[#This Row],[Disponibilidad Interna]]=\"NO\",0,\"\"))","v":""},null,{"$f":"+IF(Tabla2[[#This Row],[Disponibilidad Terceros]]=\"Sí\",0.1,IF(Tabla2[[#This Row],[Disponibilidad Terceros]]=\"No\",0,\"\"))","v":""},{"$f":"+Tabla2[[#This Row],[Columna32]]+Tabla2[[#This Row],[Columna34]]+Tabla2[[#This Row],[Columna1]]+Tabla2[[#This Row],[Columna3]]","v":{"$error":"#VALUE!"}},{"$f":"IFERROR(IF(Tabla2[[#This Row],[Columna33]]<0.45,\"BAJA\",IF(Tabla2[[#This Row],[Columna33]]>0.75,\"ALTA\",\"MEDIA\")),\"\")","v":""},"No Aplica",{"$f":"+IF(Tabla2[[#This Row],[Información Publicada (WEB)]]=\"Sí\",\"Digite URL\",\"No Aplica\")","v":"No Aplica"},null,{"$f":"IF(Tabla2[[#This Row],[ Clasificación ICBF]]=\"Pública\",1,IF(Tabla2[[#This Row],[ Clasificación ICBF]]=\"Clasificada\",2,IF(Tabla2[[#This Row],[ Clasificación ICBF]]=\"Reservada\",3,0)))","v":0},{"$f":"IF(#REF!=8,4,IF(#REF!=16,3,IF(#REF!=24,2,IF(#REF!=48,1,0))))","v":{"$error":"#REF!"}},{"$f":"IF(#REF!=8,\"Alto\",IF(#REF!=16,\"Medio\",IF(#REF!=24,\"Medio\",IF(#REF!=48,\"Bajo\",0))))","v":{"$error":"#REF!"}},null,{"$f":"+MID(Tabla2[[#This Row],[Área/Dependencia]],17,8)","v":""}]
["",null,null,null,{"$f":"+VLOOKUP(Tabla2[[#This Row],[SEDE - REGIONAL]],DATOS!B221:D254,3,FALSE)","v":{"$error":"#N/A"}},{"$f":"+IF(OR(Tabla2[[#This Row],[Área/Dependencia]]=\"Subdirección de Sistemas Integrados\",Tabla2[[#This Row],[Área/Dependencia]]=\"Subdirección de Recursos Tecnológicos\"),\"X\",\"\")","v":""},{"$f":"+CONCATENATE(Tabla2[[#This Row],[Tipo de Proceso]],Tabla2[[#This Row],[Columna4]])","v":{"$error":"#N/A"}},null,null,null,null,null,null,null,null,null,null,null,null,null,{"$f":"+IF(Tabla2[[#This Row],[Nivel de acceso ]]=\"Alto\",0.5,IF(Tabla2[[#This Row],[Nivel de acceso ]]=\"Medio\",0.3,IF(Tabla2[[#This Row],[Nivel de acceso ]]=\"Bajo\",0.2,\"\")))","v":""},null,{"$f":"+IF(Tabla2[[#This Row],[Es  Reservada]]=\"Sí\",\"Escriba Ley\",\"No Aplica\")","v":"No Aplica"},null,null,null,null,{"$f":"IFERROR(IF(AND(Tabla2[[#This Row],[Contiene Datos Personales]]=\"SÍ\",OR(Tabla2[[#This Row],[Clasificación Datos Personales]]=\"Sensible\",Tabla2[[#This Row],[Clasificación Datos Personales]]=\"NNA\",Tabla2[[#This Row],[Clasificación Datos Personales]]=\"privado\")),\"Alto\",IF(AND(Tabla2[[#This Row],[Contiene Datos Personales]]=\"SÍ\",Tabla2[[#This Row],[Clasificación Datos Personales]]=\"SEMIPRIVADO\"),\"Medio\",\"Bajo\")),\"\")","v":"Bajo"},null,null,"No Aplica","No Aplica",null,null,null,{"$f":"+IF(Tabla2[[#This Row],[Integridad]]=\"Grave\",0.5,IF(Tabla2[[#This Row],[Integridad]]=\"Importante\",0.3,IF(Tabla2[[#This Row],[Integridad]]=\"Leve\",0.2,\"\")))","v":""},null,{"$f":"+IF(Tabla2[[#This Row],[Disponibilidad Interna]]=\"Sí\",0.1,IF(Tabla2[[#This Row],[Disponibilidad Interna]]=\"NO\",0,\"\"))","v":""},null,{"$f":"+IF(Tabla2[[#This Row],[Disponibilidad Terceros]]=\"Sí\",0.1,IF(Tabla2[[#This Row],[Disponibilidad Terceros]]=\"No\",0,\"\"))","v":""},{"$f":"+Tabla2[[#This Row],[Columna32]]+Tabla2[[#This Row],[Columna34]]+Tabla2[[#This Row],[Columna1]]+Tabla2[[#This Row],[Columna3]]","v":{"$error":"#VALUE!"}},{"$f":"IFERROR(IF(Tabla2[[#This Row],[Columna33]]<0.45,\"BAJA\",IF(Tabla2[[#This Row],[Columna33]]>0.75,\"ALTA\",\"MEDIA\")),\"\")","v":""},"No Aplica",{"$f":"+IF(Tabla2[[#This Row],[Información Publicada (WEB)]]=\"Sí\",\"Digite URL\",\"No Aplica\")","v":"No Aplica"},null,{"$f":"IF(Tabla2[[#This Row],[ Clasificación ICBF]]=\"Pública\",1,IF(Tabla2[[#This Row],[ Clasificación ICBF]]=\"Clasificada\",2,IF(Tabla2[[#This Row],[ Clasificación ICBF]]=\"Reservada\",3,0)))","v":0},{"$f":"IF(#REF!=8,4,IF(#REF!=16,3,IF(#REF!=24,2,IF(#REF!=48,1,0))))","v":{"$error":"#REF!"}},{"$f":"IF(#REF!=8,\"Alto\",IF(#REF!=16,\"Medio\",IF(#REF!=24,\"Medio\",IF(#REF!=48,\"Bajo\",0))))","v":{"$error":"#REF!"}},null,{"$f":"+MID(Tabla2[[#This Row],[Área/Dependencia]],17,8)","v":""}]
["",null,null,null,{"$f":"+VLOOKUP(Tabla2[[#This Row],[SEDE - REGIONAL]],DATOS!B222:D255,3,FALSE)","v":{"$error":"#N/A"}},{"$f":"+IF(OR(Tabla2[[#This Row],[Área/Dependencia]]=\"Subdirección de Sistemas Integrados\",Tabla2[[#This Row],[Área/Dependencia]]=\"Subdirección de Recursos Tecnológicos\"),\"X\",\"\")","v":""},{"$f":"+CONCATENATE(Tabla2[[#This Row],[Tipo de Proceso]],Tabla2[[#This Row],[Columna4]])","v":{"$error":"#N/A"}},null,null,null,null,null,null,null,null,null,null,null,null,null,{"$f":"+IF(Tabla2[[#This Row],[Nivel de acceso ]]=\"Alto\",0.5,IF(Tabla2[[#This Row],[Nivel de acceso ]]=\"Medio\",0.3,IF(Tabla2[[#This Row],[Nivel de acceso ]]=\"Bajo\",0.2,\"\")))","v":""},null,{"$f":"+IF(Tabla2[[#This Row],[Es  Reservada]]=\"Sí\",\"Escriba Ley\",\"No Aplica\")","v":"No Aplica"},null,null,null,null,{"$f":"IFERROR(IF(AND(Tabla2[[#This Row],[Contiene Datos Personales]]=\"SÍ\",OR(Tabla2[[#This Row],[Clasificación Datos Personales]]=\"Sensible\",Tabla2[[#This Row],[Clasificación Datos Personales]]=\"NNA\",Tabla2[[#This Row],[Clasificación Datos Personales]]=\"privado\")),\"Alto\",IF(AND(Tabla2[[#This Row],[Contiene Datos Personales]]=\"SÍ\",Tabla2[[#This Row],[Clasificación Datos Personales]]=\"SEMIPRIVADO\"),\"Medio\",\"Bajo\")),\"\")","v":"Bajo"},null,null,"No Aplica","No Aplica",null,null,null,{"$f":"+IF(Tabla2[[#This Row],[Integridad]]=\"Grave\",0.5,IF(Tabla2[[#This Row],[Integridad]]=\"Importante\",0.3,IF(Tabla2[[#This Row],[Integridad]]=\"Leve\",0.2,\"\")))","v":""},null,{"$f":"+IF(Tabla2[[#This Row],[Disponibilidad Interna]]=\"Sí\",0.1,IF(Tabla2[[#This Row],[Disponibilidad Interna]]=\"NO\",0,\"\"))","v":""},null,{"$f":"+IF(Tabla2[[#This Row],[Disponibilidad Terceros]]=\"Sí\",0.1,IF(Tabla2[[#This Row],[Disponibilidad Terceros]]=\"No\",0,\"\"))","v":""},{"$f":"+Tabla2[[#This Row],[Columna32]]+Tabla2[[#This Row],[Columna34]]+Tabla2[[#This Row],[Columna1]]+Tabla2[[#This Row],[Columna3]]","v":{"$error":"#VALUE!"}},{"$f":"IFERROR(IF(Tabla2[[#This Row],[Columna33]]<0.45,\"BAJA\",IF(Tabla2[[#This Row],[Columna33]]>0.75,\"ALTA\",\"MEDIA\")),\"\")","v":""},"No Aplica",{"$f":"+IF(Tabla2[[#This Row],[Información Publicada (WEB)]]=\"Sí\",\"Digite URL\",\"No Aplica\")","v":"No Aplica"},null,{"$f":"IF(Tabla2[[#This Row],[ Clasificación ICBF]]=\"Pública\",1,IF(Tabla2[[#This Row],[ Clasificación ICBF]]=\"Clasificada\",2,IF(Tabla2[[#This Row],[ Clasificación ICBF]]=\"Reservada\",3,0)))","v":0},{"$f":"IF(#REF!=8,4,IF(#REF!=16,3,IF(#REF!=24,2,IF(#REF!=48,1,0))))","v":{"$error":"#REF!"}},{"$f":"IF(#REF!=8,\"Alto\",IF(#REF!=16,\"Medio\",IF(#REF!=24,\"Medio\",IF(#REF!=48,\"Bajo\",0))))","v":{"$error":"#REF!"}},null,{"$f":"+MID(Tabla2[[#This Row],[Área/Dependencia]],17,8)","v":""}]
["",null,null,null,{"$f":"+VLOOKUP(Tabla2[[#This Row],[SEDE - REGIONAL]],DATOS!B223:D256,3,FALSE)","v":{"$error":"#N/A"}},{"$f":"+IF(OR(Tabla2[[#This Row],[Área/Dependencia]]=\"Subdirección de Sistemas Integrados\",Tabla2[[#This Row],[Área/Dependencia]]=\"Subdirección de Recursos Tecnológicos\"),\"X\",\"\")","v":""},{"$f":"+CONCATENATE(Tabla2[[#This Row],[Tipo de Proceso]],Tabla2[[#This Row],[Columna4]])","v":{"$error":"#N/A"}},null,null,null,null,null,null,null,null,null,null,null,null,null,{"$f":"+IF(Tabla2[[#This Row],[Nivel de acceso ]]=\"Alto\",0.5,IF(Tabla2[[#This Row],[Nivel de acceso ]]=\"Medio\",0.3,IF(Tabla2[[#This Row],[Nivel de acceso ]]=\"Bajo\",0.2,\"\")))","v":""},null,{"$f":"+IF(Tabla2[[#This Row],[Es  Reservada]]=\"Sí\",\"Escriba Ley\",\"No Aplica\")","v":"No Aplica"},null,null,null,null,{"$f":"IFERROR(IF(AND(Tabla2[[#This Row],[Contiene Datos Personales]]=\"SÍ\",OR(Tabla2[[#This Row],[Clasificación Datos Personales]]=\"Sensible\",Tabla2[[#This Row],[Clasificación Datos Personales]]=\"NNA\",Tabla2[[#This Row],[Clasificación Datos Personales]]=\"privado\")),\"Alto\",IF(AND(Tabla2[[#This Row],[Contiene Datos Personales]]=\"SÍ\",Tabla2[[#This Row],[Clasificación Datos Personales]]=\"SEMIPRIVADO\"),\"Medio\",\"Bajo\")),\"\")","v":"Bajo"},null,null,"No Aplica","No Aplica",null,null,null,{"$f":"+IF(Tabla2[[#This Row],[Integridad]]=\"Grave\",0.5,IF(Tabla2[[#This Row],[Integridad]]=\"Importante\",0.3,IF(Tabla2[[#This Row],[Integridad]]=\"Leve\",0.2,\"\")))","v":""},null,{"$f":"+IF(Tabla2[[#This Row],[Disponibilidad Interna]]=\"Sí\",0.1,IF(Tabla2[[#This Row],[Disponibilidad Interna]]=\"NO\",0,\"\"))","v":""},null,{"$f":"+IF(Tabla2[[#This Row],[Disponibilidad Terceros]]=\"Sí\",0.1,IF(Tabla2[[#This Row],[Disponibilidad Terceros]]=\"No\",0,\"\"))","v":""},{"$f":"+Tabla2[[#This Row],[Columna32]]+Tabla2[[#This Row],[Columna34]]+Tabla2[[#This Row],[Columna1]]+Tabla2[[#This Row],[Columna3]]","v":{"$error":"#VALUE!"}},{"$f":"IFERROR(IF(Tabla2[[#This Row],[Columna33]]<0.45,\"BAJA\",IF(Tabla2[[#This Row],[Columna33]]>0.75,\"ALTA\",\"MEDIA\")),\"\")","v":""},"No Aplica",{"$f":"+IF(Tabla2[[#This Row],[Información Publicada (WEB)]]=\"Sí\",\"Digite URL\",\"No Aplica\")","v":"No Aplica"},null,{"$f":"IF(Tabla2[[#This Row],[ Clasificación ICBF]]=\"Pública\",1,IF(Tabla2[[#This Row],[ Clasificación ICBF]]=\"Clasificada\",2,IF(Tabla2[[#This Row],[ Clasificación ICBF]]=\"Reservada\",3,0)))","v":0},{"$f":"IF(#REF!=8,4,IF(#REF!=16,3,IF(#REF!=24,2,IF(#REF!=48,1,0))))","v":{"$error":"#REF!"}},{"$f":"IF(#REF!=8,\"Alto\",IF(#REF!=16,\"Medio\",IF(#REF!=24,\"Medio\",IF(#REF!=48,\"Bajo\",0))))","v":{"$error":"#REF!"}},null,{"$f":"+MID(Tabla2[[#This Row],[Área/Dependencia]],17,8)","v":""}]
["",null,null,null,{"$f":"+VLOOKUP(Tabla2[[#This Row],[SEDE - REGIONAL]],DATOS!B224:D257,3,FALSE)","v":{"$error":"#N/A"}},{"$f":"+IF(OR(Tabla2[[#This Row],[Área/Dependencia]]=\"Subdirección de Sistemas Integrados\",Tabla2[[#This Row],[Área/Dependencia]]=\"Subdirección de Recursos Tecnológicos\"),\"X\",\"\")","v":""},{"$f":"+CONCATENATE(Tabla2[[#This Row],[Tipo de Proceso]],Tabla2[[#This Row],[Columna4]])","v":{"$error":"#N/A"}},null,null,null,null,null,null,null,null,null,null,null,null,null,{"$f":"+IF(Tabla2[[#This Row],[Nivel de acceso ]]=\"Alto\",0.5,IF(Tabla2[[#This Row],[Nivel de acceso ]]=\"Medio\",0.3,IF(Tabla2[[#This Row],[Nivel de acceso ]]=\"Bajo\",0.2,\"\")))","v":""},null,{"$f":"+IF(Tabla2[[#This Row],[Es  Reservada]]=\"Sí\",\"Escriba Ley\",\"No Aplica\")","v":"No Aplica"},null,null,null,null,{"$f":"IFERROR(IF(AND(Tabla2[[#This Row],[Contiene Datos Personales]]=\"SÍ\",OR(Tabla2[[#This Row],[Clasificación Datos Personales]]=\"Sensible\",Tabla2[[#This Row],[Clasificación Datos Personales]]=\"NNA\",Tabla2[[#This Row],[Clasificación Datos Personales]]=\"privado\")),\"Alto\",IF(AND(Tabla2[[#This Row],[Contiene Datos Personales]]=\"SÍ\",Tabla2[[#This Row],[Clasificación Datos Personales]]=\"SEMIPRIVADO\"),\"Medio\",\"Bajo\")),\"\")","v":"Bajo"},null,null,"No Aplica","No Aplica",null,null,null,{"$f":"+IF(Tabla2[[#This Row],[Integridad]]=\"Grave\",0.5,IF(Tabla2[[#This Row],[Integridad]]=\"Importante\",0.3,IF(Tabla2[[#This Row],[Integridad]]=\"Leve\",0.2,\"\")))","v":""},null,{"$f":"+IF(Tabla2[[#This Row],[Disponibilidad Interna]]=\"Sí\",0.1,IF(Tabla2[[#This Row],[Disponibilidad Interna]]=\"NO\",0,\"\"))","v":""},null,{"$f":"+IF(Tabla2[[#This Row],[Disponibilidad Terceros]]=\"Sí\",0.1,IF(Tabla2[[#This Row],[Disponibilidad Terceros]]=\"No\",0,\"\"))","v":""},{"$f":"+Tabla2[[#This Row],[Columna32]]+Tabla2[[#This Row],[Columna34]]+Tabla2[[#This Row],[Columna1]]+Tabla2[[#This Row],[Columna3]]","v":{"$error":"#VALUE!"}},{"$f":"IFERROR(IF(Tabla2[[#This Row],[Columna33]]<0.45,\"BAJA\",IF(Tabla2[[#This Row],[Columna33]]>0.75,\"ALTA\",\"MEDIA\")),\"\")","v":""},"No Aplica",{"$f":"+IF(Tabla2[[#This Row],[Información Publicada (WEB)]]=\"Sí\",\"Digite URL\",\"No Aplica\")","v":"No Aplica"},null,{"$f":"IF(Tabla2[[#This Row],[ Clasificación ICBF]]=\"Pública\",1,IF(Tabla2[[#This Row],[ Clasificación ICBF]]=\"Clasificada\",2,IF(Tabla2[[#This Row],[ Clasificación ICBF]]=\"Reservada\",3,0)))","v":0},{"$f":"IF(#REF!=8,4,IF(#REF!=16,3,IF(#REF!=24,2,IF(#REF!=48,1,0))))","v":{"$error":"#REF!"}},{"$f":"IF(#REF!=8,\"Alto\",IF(#REF!=16,\"Medio\",IF(#REF!=24,\"Medio\",IF(#REF!=48,\"Bajo\",0))))","v":{"$error":"#REF!"}},null,{"$f":"+MID(Tabla2[[#This Row],[Área/Dependencia]],17,8)","v":""}]
["",null,null,null,{"$f":"+VLOOKUP(Tabla2[[#This Row],[SEDE - REGIONAL]],DATOS!B225:D258,3,FALSE)","v":{"$error":"#N/A"}},{"$f":"+IF(OR(Tabla2[[#This Row],[Área/Dependencia]]=\"Subdirección de Sistemas Integrados\",Tabla2[[#This Row],[Área/Dependencia]]=\"Subdirección de Recursos Tecnológicos\"),\"X\",\"\")","v":""},{"$f":"+CONCATENATE(Tabla2[[#This Row],[Tipo de Proceso]],Tabla2[[#This Row],[Columna4]])","v":{"$error":"#N/A"}},null,null,null,null,null,null,null,null,null,null,null,null,null,{"$f":"+IF(Tabla2[[#This Row],[Nivel de acceso ]]=\"Alto\",0.5,IF(Tabla2[[#This Row],[Nivel de acceso ]]=\"Medio\",0.3,IF(Tabla2[[#This Row],[Nivel de acceso ]]=\"Bajo\",0.2,\"\")))","v":""},null,{"$f":"+IF(Tabla2[[#This Row],[Es  Reservada]]=\"Sí\",\"Escriba Ley\",\"No Aplica\")","v":"No Aplica"},null,null,null,null,{"$f":"IFERROR(IF(AND(Tabla2[[#This Row],[Contiene Datos Personales]]=\"SÍ\",OR(Tabla2[[#This Row],[Clasificación Datos Personales]]=\"Sensible\",Tabla2[[#This Row],[Clasificación Datos Personales]]=\"NNA\",Tabla2[[#This Row],[Clasificación Datos Personales]]=\"privado\")),\"Alto\",IF(AND(Tabla2[[#This Row],[Contiene Datos Personales]]=\"SÍ\",Tabla2[[#This Row],[Clasificación Datos Personales]]=\"SEMIPRIVADO\"),\"Medio\",\"Bajo\")),\"\")","v":"Bajo"},null,null,"No Aplica","No Aplica",null,null,null,{"$f":"+IF(Tabla2[[#This Row],[Integridad]]=\"Grave\",0.5,IF(Tabla2[[#This Row],[Integridad]]=\"Importante\",0.3,IF(Tabla2[[#This Row],[Integridad]]=\"Leve\",0.2,\"\")))","v":""},null,{"$f":"+IF(Tabla2[[#This Row],[Disponibilidad Interna]]=\"Sí\",0.1,IF(Tabla2[[#This Row],[Disponibilidad Interna]]=\"NO\",0,\"\"))","v":""},null,{"$f":"+IF(Tabla2[[#This Row],[Disponibilidad Terceros]]=\"Sí\",0.1,IF(Tabla2[[#This Row],[Disponibilidad Terceros]]=\"No\",0,\"\"))","v":""},{"$f":"+Tabla2[[#This Row],[Columna32]]+Tabla2[[#This Row],[Columna34]]+Tabla2[[#This Row],[Columna1]]+Tabla2[[#This Row],[Columna3]]","v":{"$error":"#VALUE!"}},{"$f":"IFERROR(IF(Tabla2[[#This Row],[Columna33]]<0.45,\"BAJA\",IF(Tabla2[[#This Row],[Columna33]]>0.75,\"ALTA\",\"MEDIA\")),\"\")","v":""},"No Aplica",{"$f":"+IF(Tabla2[[#This Row],[Información Publicada (WEB)]]=\"Sí\",\"Digite URL\",\"No Aplica\")","v":"No Aplica"},null,{"$f":"IF(Tabla2[[#This Row],[ Clasificación ICBF]]=\"Pública\",1,IF(Tabla2[[#This Row],[ Clasificación ICBF]]=\"Clasificada\",2,IF(Tabla2[[#This Row],[ Clasificación ICBF]]=\"Reservada\",3,0)))","v":0},{"$f":"IF(#REF!=8,4,IF(#REF!=16,3,IF(#REF!=24,2,IF(#REF!=48,1,0))))","v":{"$error":"#REF!"}},{"$f":"IF(#REF!=8,\"Alto\",IF(#REF!=16,\"Medio\",IF(#REF!=24,\"Medio\",IF(#REF!=48,\"Bajo\",0))))","v":{"$error":"#REF!"}},null,{"$f":"+MID(Tabla2[[#This Row],[Área/Dependencia]],17,8)","v":""}]
["",null,null,null,{"$f":"+VLOOKUP(Tabla2[[#This Row],[SEDE - REGIONAL]],DATOS!B226:D259,3,FALSE)","v":{"$error":"#N/A"}},{"$f":"+IF(OR(Tabla2[[#This Row],[Área/Dependencia]]=\"Subdirección de Sistemas Integrados\",Tabla2[[#This Row],[Área/Dependencia]]=\"Subdirección de Recursos Tecnológicos\"),\"X\",\"\")","v":""},{"$f":"+CONCATENATE(Tabla2[[#This Row],[Tipo de Proceso]],Tabla2[[#This Row],[Columna4]])","v":{"$error":"#N/A"}},null,null,null,null,null,null,null,null,null,null,null,null,null,{"$f":"+IF(Tabla2[[#This Row],[Nivel de acceso ]]=\"Alto\",0.5,IF(Tabla2[[#This Row],[Nivel de acceso ]]=\"Medio\",0.3,IF(Tabla2[[#This Row],[Nivel de acceso ]]=\"Bajo\",0.2,\"\")))","v":""},null,{"$f":"+IF(Tabla2[[#This Row],[Es  Reservada]]=\"Sí\",\"Escriba Ley\",\"No Aplica\")","v":"No Aplica"},null,null,null,null,{"$f":"IFERROR(IF(AND(Tabla2[[#This Row],[Contiene Datos Personales]]=\"SÍ\",OR(Tabla2[[#This Row],[Clasificación Datos Personales]]=\"Sensible\",Tabla2[[#This Row],[Clasificación Datos Personales]]=\"NNA\",Tabla2[[#This Row],[Clasificación Datos Personales]]=\"privado\")),\"Alto\",IF(AND(Tabla2[[#This Row],[Contiene Datos Personales]]=\"SÍ\",Tabla2[[#This Row],[Clasificación Datos Personales]]=\"SEMIPRIVADO\"),\"Medio\",\"Bajo\")),\"\")","v":"Bajo"},null,null,"No Aplica","No Aplica",null,null,null,{"$f":"+IF(Tabla2[[#This Row],[Integridad]]=\"Grave\",0.5,IF(Tabla2[[#This Row],[Integridad]]=\"Importante\",0.3,IF(Tabla2[[#This Row],[Integridad]]=\"Leve\",0.2,\"\")))","v":""},null,{"$f":"+IF(Tabla2[[#This Row],[Disponibilidad Interna]]=\"Sí\",0.1,IF(Tabla2[[#This Row],[Disponibilidad Interna]]=\"NO\",0,\"\"))","v":""},null,{"$f":"+IF(Tabla2[[#This Row],[Disponibilidad Terceros]]=\"Sí\",0.1,IF(Tabla2[[#This Row],[Disponibilidad Terceros]]=\"No\",0,\"\"))","v":""},{"$f":"+Tabla2[[#This Row],[Columna32]]+Tabla2[[#This Row],[Columna34]]+Tabla2[[#This Row],[Columna1]]+Tabla2[[#This Row],[Columna3]]","v":{"$error":"#VALUE!"}},{"$f":"IFERROR(IF(Tabla2[[#This Row],[Columna33]]<0.45,\"BAJA\",IF(Tabla2[[#This Row],[Columna33]]>0.75,\"ALTA\",\"MEDIA\")),\"\")","v":""},"No Aplica",{"$f":"+IF(Tabla2[[#This Row],[Información Publicada (WEB)]]=\"Sí\",\"Digite URL\",\"No Aplica\")","v":"No Aplica"},null,{"$f":"IF(Tabla2[[#This Row],[ Clasificación ICBF]]=\"Pública\",1,IF(Tabla2[[#This Row],[ Clasificación ICBF]]=\"Clasificada\",2,IF(Tabla2[[#This Row],[ Clasificación ICBF]]=\"Reservada\",3,0)))","v":0},{"$f":"IF(#REF!=8,4,IF(#REF!=16,3,IF(#REF!=24,2,IF(#REF!=48,1,0))))","v":{"$error":"#REF!"}},{"$f":"IF(#REF!=8,\"Alto\",IF(#REF!=16,\"Medio\",IF(#REF!=24,\"Medio\",IF(#REF!=48,\"Bajo\",0))))","v":{"$error":"#REF!"}},null,{"$f":"+MID(Tabla2[[#This Row],[Área/Dependencia]],17,8)","v":""}]
["",null,null,null,{"$f":"+VLOOKUP(Tabla2[[#This Row],[SEDE - REGIONAL]],DATOS!B227:D260,3,FALSE)","v":{"$error":"#N/A"}},{"$f":"+IF(OR(Tabla2[[#This Row],[Área/Dependencia]]=\"Subdirección de Sistemas Integrados\",Tabla2[[#This Row],[Área/Dependencia]]=\"Subdirección de Recursos Tecnológicos\"),\"X\",\"\")","v":""},{"$f":"+CONCATENATE(Tabla2[[#This Row],[Tipo de Proceso]],Tabla2[[#This Row],[Columna4]])","v":{"$error":"#N/A"}},null,null,null,null,null,null,null,null,null,null,null,null,null,{"$f":"+IF(Tabla2[[#This Row],[Nivel de acceso ]]=\"Alto\",0.5,IF(Tabla2[[#This Row],[Nivel de acceso ]]=\"Medio\",0.3,IF(Tabla2[[#This Row],[Nivel de acceso ]]=\"Bajo\",0.2,\"\")))","v":""},null,{"$f":"+IF(Tabla2[[#This Row],[Es  Reservada]]=\"Sí\",\"Escriba Ley\",\"No Aplica\")","v":"No Aplica"},null,null,null,null,{"$f":"IFERROR(IF(AND(Tabla2[[#This Row],[Contiene Datos Personales]]=\"SÍ\",OR(Tabla2[[#This Row],[Clasificación Datos Personales]]=\"Sensible\",Tabla2[[#This Row],[Clasificación Datos Personales]]=\"NNA\",Tabla2[[#This Row],[Clasificación Datos Personales]]=\"privado\")),\"Alto\",IF(AND(Tabla2[[#This Row],[Contiene Datos Personales]]=\"SÍ\",Tabla2[[#This Row],[Clasificación Datos Personales]]=\"SEMIPRIVADO\"),\"Medio\",\"Bajo\")),\"\")","v":"Bajo"},null,null,"No Aplica","No Aplica",null,null,null,{"$f":"+IF(Tabla2[[#This Row],[Integridad]]=\"Grave\",0.5,IF(Tabla2[[#This Row],[Integridad]]=\"Importante\",0.3,IF(Tabla2[[#This Row],[Integridad]]=\"Leve\",0.2,\"\")))","v":""},null,{"$f":"+IF(Tabla2[[#This Row],[Disponibilidad Interna]]=\"Sí\",0.1,IF(Tabla2[[#This Row],[Disponibilidad Interna]]=\"NO\",0,\"\"))","v":""},null,{"$f":"+IF(Tabla2[[#This Row],[Disponibilidad Terceros]]=\"Sí\",0.1,IF(Tabla2[[#This Row],[Disponibilidad Terceros]]=\"No\",0,\"\"))","v":""},{"$f":"+Tabla2[[#This Row],[Columna32]]+Tabla2[[#This Row],[Columna34]]+Tabla2[[#This Row],[Columna1]]+Tabla2[[#This Row],[Columna3]]","v":{"$error":"#VALUE!"}},{"$f":"IFERROR(IF(Tabla2[[#This Row],[Columna33]]<0.45,\"BAJA\",IF(Tabla2[[#This Row],[Columna33]]>0.75,\"ALTA\",\"MEDIA\")),\"\")","v":""},"No Aplica",{"$f":"+IF(Tabla2[[#This Row],[Información Publicada (WEB)]]=\"Sí\",\"Digite URL\",\"No Aplica\")","v":"No Aplica"},null,{"$f":"IF(Tabla2[[#This Row],[ Clasificación ICBF]]=\"Pública\",1,IF(Tabla2[[#This Row],[ Clasificación ICBF]]=\"Clasificada\",2,IF(Tabla2[[#This Row],[ Clasificación ICBF]]=\"Reservada\",3,0)))","v":0},{"$f":"IF(#REF!=8,4,IF(#REF!=16,3,IF(#REF!=24,2,IF(#REF!=48,1,0))))","v":{"$error":"#REF!"}},{"$f":"IF(#REF!=8,\"Alto\",IF(#REF!=16,\"Medio\",IF(#REF!=24,\"Medio\",IF(#REF!=48,\"Bajo\",0))))","v":{"$error":"#REF!"}},null,{"$f":"+MID(Tabla2[[#This Row],[Área/Dependencia]],17,8)","v":""}]
["",null,null,null,{"$f":"+VLOOKUP(Tabla2[[#This Row],[SEDE - REGIONAL]],DATOS!B228:D261,3,FALSE)","v":{"$error":"#N/A"}},{"$f":"+IF(OR(Tabla2[[#This Row],[Área/Dependencia]]=\"Subdirección de Sistemas Integrados\",Tabla2[[#This Row],[Área/Dependencia]]=\"Subdirección de Recursos Tecnológicos\"),\"X\",\"\")","v":""},{"$f":"+CONCATENATE(Tabla2[[#This Row],[Tipo de Proceso]],Tabla2[[#This Row],[Columna4]])","v":{"$error":"#N/A"}},null,null,null,null,null,null,null,null,null,null,null,null,null,{"$f":"+IF(Tabla2[[#This Row],[Nivel de acceso ]]=\"Alto\",0.5,IF(Tabla2[[#This Row],[Nivel de acceso ]]=\"Medio\",0.3,IF(Tabla2[[#This Row],[Nivel de acceso ]]=\"Bajo\",0.2,\"\")))","v":""},null,{"$f":"+IF(Tabla2[[#This Row],[Es  Reservada]]=\"Sí\",\"Escriba Ley\",\"No Aplica\")","v":"No Aplica"},null,null,null,null,{"$f":"IFERROR(IF(AND(Tabla2[[#This Row],[Contiene Datos Personales]]=\"SÍ\",OR(Tabla2[[#This Row],[Clasificación Datos Personales]]=\"Sensible\",Tabla2[[#This Row],[Clasificación Datos Personales]]=\"NNA\",Tabla2[[#This Row],[Clasificación Datos Personales]]=\"privado\")),\"Alto\",IF(AND(Tabla2[[#This Row],[Contiene Datos Personales]]=\"SÍ\",Tabla2[[#This Row],[Clasificación Datos Personales]]=\"SEMIPRIVADO\"),\"Medio\",\"Bajo\")),\"\")","v":"Bajo"},null,null,"No Aplica","No Aplica",null,null,null,{"$f":"+IF(Tabla2[[#This Row],[Integridad]]=\"Grave\",0.5,IF(Tabla2[[#This Row],[Integridad]]=\"Importante\",0.3,IF(Tabla2[[#This Row],[Integridad]]=\"Leve\",0.2,\"\")))","v":""},null,{"$f":"+IF(Tabla2[[#This Row],[Disponibilidad Interna]]=\"Sí\",0.1,IF(Tabla2[[#This Row],[Disponibilidad Interna]]=\"NO\",0,\"\"))","v":""},null,{"$f":"+IF(Tabla2[[#This Row],[Disponibilidad Terceros]]=\"Sí\",0.1,IF(Tabla2[[#This Row],[Disponibilidad Terceros]]=\"No\",0,\"\"))","v":""},{"$f":"+Tabla2[[#This Row],[Columna32]]+Tabla2[[#This Row],[Columna34]]+Tabla2[[#This Row],[Columna1]]+Tabla2[[#This Row],[Columna3]]","v":{"$error":"#VALUE!"}},{"$f":"IFERROR(IF(Tabla2[[#This Row],[Columna33]]<0.45,\"BAJA\",IF(Tabla2[[#This Row],[Columna33]]>0.75,\"ALTA\",\"MEDIA\")),\"\")","v":""},"No Aplica",{"$f":"+IF(Tabla2[[#This Row],[Información Publicada (WEB)]]=\"Sí\",\"Digite URL\",\"No Aplica\")","v":"No Aplica"},null,{"$f":"IF(Tabla2[[#This Row],[ Clasificación ICBF]]=\"Pública\",1,IF(Tabla2[[#This Row],[ Clasificación ICBF]]=\"Clasificada\",2,IF(Tabla2[[#This Row],[ Clasificación ICBF]]=\"Reservada\",3,0)))","v":0},{"$f":"IF(#REF!=8,4,IF(#REF!=16,3,IF(#REF!=24,2,IF(#REF!=48,1,0))))","v":{"$error":"#REF!"}},{"$f":"IF(#REF!=8,\"Alto\",IF(#REF!=16,\"Medio\",IF(#REF!=24,\"Medio\",IF(#REF!=48,\"Bajo\",0))))","v":{"$error":"#REF!"}},null,{"$f":"+MID(Tabla2[[#This Row],[Área/Dependencia]],17,8)","v":""}]
["",null,null,null,{"$f":"+VLOOKUP(Tabla2[[#This Row],[SEDE - REGIONAL]],DATOS!B229:D262,3,FALSE)","v":{"$error":"#N/A"}},{"$f":"+IF(OR(Tabla2[[#This Row],[Área/Dependencia]]=\"Subdirección de Sistemas Integrados\",Tabla2[[#This Row],[Área/Dependencia]]=\"Subdirección de Recursos Tecnológicos\"),\"X\",\"\")","v":""},{"$f":"+CONCATENATE(Tabla2[[#This Row],[Tipo de Proceso]],Tabla2[[#This Row],[Columna4]])","v":{"$error":"#N/A"}},null,null,null,null,null,null,null,null,null,null,null,null,null,{"$f":"+IF(Tabla2[[#This Row],[Nivel de acceso ]]=\"Alto\",0.5,IF(Tabla2[[#This Row],[Nivel de acceso ]]=\"Medio\",0.3,IF(Tabla2[[#This Row],[Nivel de acceso ]]=\"Bajo\",0.2,\"\")))","v":""},null,{"$f":"+IF(Tabla2[[#This Row],[Es  Reservada]]=\"Sí\",\"Escriba Ley\",\"No Aplica\")","v":"No Aplica"},null,null,null,null,{"$f":"IFERROR(IF(AND(Tabla2[[#This Row],[Contiene Datos Personales]]=\"SÍ\",OR(Tabla2[[#This Row],[Clasificación Datos Personales]]=\"Sensible\",Tabla2[[#This Row],[Clasificación Datos Personales]]=\"NNA\",Tabla2[[#This Row],[Clasificación Datos Personales]]=\"privado\")),\"Alto\",IF(AND(Tabla2[[#This Row],[Contiene Datos Personales]]=\"SÍ\",Tabla2[[#This Row],[Clasificación Datos Personales]]=\"SEMIPRIVADO\"),\"Medio\",\"Bajo\")),\"\")","v":"Bajo"},null,null,"No Aplica","No Aplica",null,null,null,{"$f":"+IF(Tabla2[[#This Row],[Integridad]]=\"Grave\",0.5,IF(Tabla2[[#This Row],[Integridad]]=\"Importante\",0.3,IF(Tabla2[[#This Row],[Integridad]]=\"Leve\",0.2,\"\")))","v":""},null,{"$f":"+IF(Tabla2[[#This Row],[Disponibilidad Interna]]=\"Sí\",0.1,IF(Tabla2[[#This Row],[Disponibilidad Interna]]=\"NO\",0,\"\"))","v":""},null,{"$f":"+IF(Tabla2[[#This Row],[Disponibilidad Terceros]]=\"Sí\",0.1,IF(Tabla2[[#This Row],[Disponibilidad Terceros]]=\"No\",0,\"\"))","v":""},{"$f":"+Tabla2[[#This Row],[Columna32]]+Tabla2[[#This Row],[Columna34]]+Tabla2[[#This Row],[Columna1]]+Tabla2[[#This Row],[Columna3]]","v":{"$error":"#VALUE!"}},{"$f":"IFERROR(IF(Tabla2[[#This Row],[Columna33]]<0.45,\"BAJA\",IF(Tabla2[[#This Row],[Columna33]]>0.75,\"ALTA\",\"MEDIA\")),\"\")","v":""},"No Aplica",{"$f":"+IF(Tabla2[[#This Row],[Información Publicada (WEB)]]=\"Sí\",\"Digite URL\",\"No Aplica\")","v":"No Aplica"},null,{"$f":"IF(Tabla2[[#This Row],[ Clasificación ICBF]]=\"Pública\",1,IF(Tabla2[[#This Row],[ Clasificación ICBF]]=\"Clasificada\",2,IF(Tabla2[[#This Row],[ Clasificación ICBF]]=\"Reservada\",3,0)))","v":0},{"$f":"IF(#REF!=8,4,IF(#REF!=16,3,IF(#REF!=24,2,IF(#REF!=48,1,0))))","v":{"$error":"#REF!"}},{"$f":"IF(#REF!=8,\"Alto\",IF(#REF!=16,\"Medio\",IF(#REF!=24,\"Medio\",IF(#REF!=48,\"Bajo\",0))))","v":{"$error":"#REF!"}},null,{"$f":"+MID(Tabla2[[#This Row],[Área/Dependencia]],17,8)","v":""}]
["",null,null,null,{"$f":"+VLOOKUP(Tabla2[[#This Row],[SEDE - REGIONAL]],DATOS!B230:D263,3,FALSE)","v":{"$error":"#N/A"}},{"$f":"+IF(OR(Tabla2[[#This Row],[Área/Dependencia]]=\"Subdirección de Sistemas Integrados\",Tabla2[[#This Row],[Área/Dependencia]]=\"Subdirección de Recursos Tecnológicos\"),\"X\",\"\")","v":""},{"$f":"+CONCATENATE(Tabla2[[#This Row],[Tipo de Proceso]],Tabla2[[#This Row],[Columna4]])","v":{"$error":"#N/A"}},null,null,null,null,null,null,null,null,null,null,null,null,null,{"$f":"+IF(Tabla2[[#This Row],[Nivel de acceso ]]=\"Alto\",0.5,IF(Tabla2[[#This Row],[Nivel de acceso ]]=\"Medio\",0.3,IF(Tabla2[[#This Row],[Nivel de acceso ]]=\"Bajo\",0.2,\"\")))","v":""},null,{"$f":"+IF(Tabla2[[#This Row],[Es  Reservada]]=\"Sí\",\"Escriba Ley\",\"No Aplica\")","v":"No Aplica"},null,null,null,null,{"$f":"IFERROR(IF(AND(Tabla2[[#This Row],[Contiene Datos Personales]]=\"SÍ\",OR(Tabla2[[#This Row],[Clasificación Datos Personales]]=\"Sensible\",Tabla2[[#This Row],[Clasificación Datos Personales]]=\"NNA\",Tabla2[[#This Row],[Clasificación Datos Personales]]=\"privado\")),\"Alto\",IF(AND(Tabla2[[#This Row],[Contiene Datos Personales]]=\"SÍ\",Tabla2[[#This Row],[Clasificación Datos Personales]]=\"SEMIPRIVADO\"),\"Medio\",\"Bajo\")),\"\")","v":"Bajo"},null,null,"No Aplica","No Aplica",null,null,null,{"$f":"+IF(Tabla2[[#This Row],[Integridad]]=\"Grave\",0.5,IF(Tabla2[[#This Row],[Integridad]]=\"Importante\",0.3,IF(Tabla2[[#This Row],[Integridad]]=\"Leve\",0.2,\"\")))","v":""},null,{"$f":"+IF(Tabla2[[#This Row],[Disponibilidad Interna]]=\"Sí\",0.1,IF(Tabla2[[#This Row],[Disponibilidad Interna]]=\"NO\",0,\"\"))","v":""},null,{"$f":"+IF(Tabla2[[#This Row],[Disponibilidad Terceros]]=\"Sí\",0.1,IF(Tabla2[[#This Row],[Disponibilidad Terceros]]=\"No\",0,\"\"))","v":""},{"$f":"+Tabla2[[#This Row],[Columna32]]+Tabla2[[#This Row],[Columna34]]+Tabla2[[#This Row],[Columna1]]+Tabla2[[#This Row],[Columna3]]","v":{"$error":"#VALUE!"}},{"$f":"IFERROR(IF(Tabla2[[#This Row],[Columna33]]<0.45,\"BAJA\",IF(Tabla2[[#This Row],[Columna33]]>0.75,\"ALTA\",\"MEDIA\")),\"\")","v":""},"No Aplica",{"$f":"+IF(Tabla2[[#This Row],[Información Publicada (WEB)]]=\"Sí\",\"Digite URL\",\"No Aplica\")","v":"No Aplica"},null,{"$f":"IF(Tabla2[[#This Row],[ Clasificación ICBF]]=\"Pública\",1,IF(Tabla2[[#This Row],[ Clasificación ICBF]]=\"Clasificada\",2,IF(Tabla2[[#This Row],[ Clasificación ICBF]]=\"Reservada\",3,0)))","v":0},{"$f":"IF(#REF!=8,4,IF(#REF!=16,3,IF(#REF!=24,2,IF(#REF!=48,1,0))))","v":{"$error":"#REF!"}},{"$f":"IF(#REF!=8,\"Alto\",IF(#REF!=16,\"Medio\",IF(#REF!=24,\"Medio\",IF(#REF!=48,\"Bajo\",0))))","v":{"$error":"#REF!"}},null,{"$f":"+MID(Tabla2[[#This Row],[Área/Dependencia]],17,8)","v":""}]
["",null,null,null,{"$f":"+VLOOKUP(Tabla2[[#This Row],[SEDE - REGIONAL]],DATOS!B231:D264,3,FALSE)","v":{"$error":"#N/A"}},{"$f":"+IF(OR(Tabla2[[#This Row],[Área/Dependencia]]=\"Subdirección de Sistemas Integrados\",Tabla2[[#This Row],[Área/Dependencia]]=\"Subdirección de Recursos Tecnológicos\"),\"X\",\"\")","v":""},{"$f":"+CONCATENATE(Tabla2[[#This Row],[Tipo de Proceso]],Tabla2[[#This Row],[Columna4]])","v":{"$error":"#N/A"}},null,null,null,null,null,null,null,null,null,null,null,null,null,{"$f":"+IF(Tabla2[[#This Row],[Nivel de acceso ]]=\"Alto\",0.5,IF(Tabla2[[#This Row],[Nivel de acceso ]]=\"Medio\",0.3,IF(Tabla2[[#This Row],[Nivel de acceso ]]=\"Bajo\",0.2,\"\")))","v":""},null,{"$f":"+IF(Tabla2[[#This Row],[Es  Reservada]]=\"Sí\",\"Escriba Ley\",\"No Aplica\")","v":"No Aplica"},null,null,null,null,{"$f":"IFERROR(IF(AND(Tabla2[[#This Row],[Contiene Datos Personales]]=\"SÍ\",OR(Tabla2[[#This Row],[Clasificación Datos Personales]]=\"Sensible\",Tabla2[[#This Row],[Clasificación Datos Personales]]=\"NNA\",Tabla2[[#This Row],[Clasificación Datos Personales]]=\"privado\")),\"Alto\",IF(AND(Tabla2[[#This Row],[Contiene Datos Personales]]=\"SÍ\",Tabla2[[#This Row],[Clasificación Datos Personales]]=\"SEMIPRIVADO\"),\"Medio\",\"Bajo\")),\"\")","v":"Bajo"},null,null,"No Aplica","No Aplica",null,null,null,{"$f":"+IF(Tabla2[[#This Row],[Integridad]]=\"Grave\",0.5,IF(Tabla2[[#This Row],[Integridad]]=\"Importante\",0.3,IF(Tabla2[[#This Row],[Integridad]]=\"Leve\",0.2,\"\")))","v":""},null,{"$f":"+IF(Tabla2[[#This Row],[Disponibilidad Interna]]=\"Sí\",0.1,IF(Tabla2[[#This Row],[Disponibilidad Interna]]=\"NO\",0,\"\"))","v":""},null,{"$f":"+IF(Tabla2[[#This Row],[Disponibilidad Terceros]]=\"Sí\",0.1,IF(Tabla2[[#This Row],[Disponibilidad Terceros]]=\"No\",0,\"\"))","v":""},{"$f":"+Tabla2[[#This Row],[Columna32]]+Tabla2[[#This Row],[Columna34]]+Tabla2[[#This Row],[Columna1]]+Tabla2[[#This Row],[Columna3]]","v":{"$error":"#VALUE!"}},{"$f":"IFERROR(IF(Tabla2[[#This Row],[Columna33]]<0.45,\"BAJA\",IF(Tabla2[[#This Row],[Columna33]]>0.75,\"ALTA\",\"MEDIA\")),\"\")","v":""},"No Aplica",{"$f":"+IF(Tabla2[[#This Row],[Información Publicada (WEB)]]=\"Sí\",\"Digite URL\",\"No Aplica\")","v":"No Aplica"},null,{"$f":"IF(Tabla2[[#This Row],[ Clasificación ICBF]]=\"Pública\",1,IF(Tabla2[[#This Row],[ Clasificación ICBF]]=\"Clasificada\",2,IF(Tabla2[[#This Row],[ Clasificación ICBF]]=\"Reservada\",3,0)))","v":0},{"$f":"IF(#REF!=8,4,IF(#REF!=16,3,IF(#REF!=24,2,IF(#REF!=48,1,0))))","v":{"$error":"#REF!"}},{"$f":"IF(#REF!=8,\"Alto\",IF(#REF!=16,\"Medio\",IF(#REF!=24,\"Medio\",IF(#REF!=48,\"Bajo\",0))))","v":{"$error":"#REF!"}},null,{"$f":"+MID(Tabla2[[#This Row],[Área/Dependencia]],17,8)","v":""}]
["",null,null,null,{"$f":"+VLOOKUP(Tabla2[[#This Row],[SEDE - REGIONAL]],DATOS!B232:D265,3,FALSE)","v":{"$error":"#N/A"}},{"$f":"+IF(OR(Tabla2[[#This Row],[Área/Dependencia]]=\"Subdirección de Sistemas Integrados\",Tabla2[[#This Row],[Área/Dependencia]]=\"Subdirección de Recursos Tecnológicos\"),\"X\",\"\")","v":""},{"$f":"+CONCATENATE(Tabla2[[#This Row],[Tipo de Proceso]],Tabla2[[#This Row],[Columna4]])","v":{"$error":"#N/A"}},null,null,null,null,null,null,null,null,null,null,null,null,null,{"$f":"+IF(Tabla2[[#This Row],[Nivel de acceso ]]=\"Alto\",0.5,IF(Tabla2[[#This Row],[Nivel de acceso ]]=\"Medio\",0.3,IF(Tabla2[[#This Row],[Nivel de acceso ]]=\"Bajo\",0.2,\"\")))","v":""},null,{"$f":"+IF(Tabla2[[#This Row],[Es  Reservada]]=\"Sí\",\"Escriba Ley\",\"No Aplica\")","v":"No Aplica"},null,null,null,null,{"$f":"IFERROR(IF(AND(Tabla2[[#This Row],[Contiene Datos Personales]]=\"SÍ\",OR(Tabla2[[#This Row],[Clasificación Datos Personales]]=\"Sensible\",Tabla2[[#This Row],[Clasificación Datos Personales]]=\"NNA\",Tabla2[[#This Row],[Clasificación Datos Personales]]=\"privado\")),\"Alto\",IF(AND(Tabla2[[#This Row],[Contiene Datos Personales]]=\"SÍ\",Tabla2[[#This Row],[Clasificación Datos Personales]]=\"SEMIPRIVADO\"),\"Medio\",\"Bajo\")),\"\")","v":"Bajo"},null,null,"No Aplica","No Aplica",null,null,null,{"$f":"+IF(Tabla2[[#This Row],[Integridad]]=\"Grave\",0.5,IF(Tabla2[[#This Row],[Integridad]]=\"Importante\",0.3,IF(Tabla2[[#This Row],[Integridad]]=\"Leve\",0.2,\"\")))","v":""},null,{"$f":"+IF(Tabla2[[#This Row],[Disponibilidad Interna]]=\"Sí\",0.1,IF(Tabla2[[#This Row],[Disponibilidad Interna]]=\"NO\",0,\"\"))","v":""},null,{"$f":"+IF(Tabla2[[#This Row],[Disponibilidad Terceros]]=\"Sí\",0.1,IF(Tabla2[[#This Row],[Disponibilidad Terceros]]=\"No\",0,\"\"))","v":""},{"$f":"+Tabla2[[#This Row],[Columna32]]+Tabla2[[#This Row],[Columna34]]+Tabla2[[#This Row],[Columna1]]+Tabla2[[#This Row],[Columna3]]","v":{"$error":"#VALUE!"}},{"$f":"IFERROR(IF(Tabla2[[#This Row],[Columna33]]<0.45,\"BAJA\",IF(Tabla2[[#This Row],[Columna33]]>0.75,\"ALTA\",\"MEDIA\")),\"\")","v":""},"No Aplica",{"$f":"+IF(Tabla2[[#This Row],[Información Publicada (WEB)]]=\"Sí\",\"Digite URL\",\"No Aplica\")","v":"No Aplica"},null,{"$f":"IF(Tabla2[[#This Row],[ Clasificación ICBF]]=\"Pública\",1,IF(Tabla2[[#This Row],[ Clasificación ICBF]]=\"Clasificada\",2,IF(Tabla2[[#This Row],[ Clasificación ICBF]]=\"Reservada\",3,0)))","v":0},{"$f":"IF(#REF!=8,4,IF(#REF!=16,3,IF(#REF!=24,2,IF(#REF!=48,1,0))))","v":{"$error":"#REF!"}},{"$f":"IF(#REF!=8,\"Alto\",IF(#REF!=16,\"Medio\",IF(#REF!=24,\"Medio\",IF(#REF!=48,\"Bajo\",0))))","v":{"$error":"#REF!"}},null,{"$f":"+MID(Tabla2[[#This Row],[Área/Dependencia]],17,8)","v":""}]
["",null,null,null,{"$f":"+VLOOKUP(Tabla2[[#This Row],[SEDE - REGIONAL]],DATOS!B233:D266,3,FALSE)","v":{"$error":"#N/A"}},{"$f":"+IF(OR(Tabla2[[#This Row],[Área/Dependencia]]=\"Subdirección de Sistemas Integrados\",Tabla2[[#This Row],[Área/Dependencia]]=\"Subdirección de Recursos Tecnológicos\"),\"X\",\"\")","v":""},{"$f":"+CONCATENATE(Tabla2[[#This Row],[Tipo de Proceso]],Tabla2[[#This Row],[Columna4]])","v":{"$error":"#N/A"}},null,null,null,null,null,null,null,null,null,null,null,null,null,{"$f":"+IF(Tabla2[[#This Row],[Nivel de acceso ]]=\"Alto\",0.5,IF(Tabla2[[#This Row],[Nivel de acceso ]]=\"Medio\",0.3,IF(Tabla2[[#This Row],[Nivel de acceso ]]=\"Bajo\",0.2,\"\")))","v":""},null,{"$f":"+IF(Tabla2[[#This Row],[Es  Reservada]]=\"Sí\",\"Escriba Ley\",\"No Aplica\")","v":"No Aplica"},null,null,null,null,{"$f":"IFERROR(IF(AND(Tabla2[[#This Row],[Contiene Datos Personales]]=\"SÍ\",OR(Tabla2[[#This Row],[Clasificación Datos Personales]]=\"Sensible\",Tabla2[[#This Row],[Clasificación Datos Personales]]=\"NNA\",Tabla2[[#This Row],[Clasificación Datos Personales]]=\"privado\")),\"Alto\",IF(AND(Tabla2[[#This Row],[Contiene Datos Personales]]=\"SÍ\",Tabla2[[#This Row],[Clasificación Datos Personales]]=\"SEMIPRIVADO\"),\"Medio\",\"Bajo\")),\"\")","v":"Bajo"},null,null,"No Aplica","No Aplica",null,null,null,{"$f":"+IF(Tabla2[[#This Row],[Integridad]]=\"Grave\",0.5,IF(Tabla2[[#This Row],[Integridad]]=\"Importante\",0.3,IF(Tabla2[[#This Row],[Integridad]]=\"Leve\",0.2,\"\")))","v":""},null,{"$f":"+IF(Tabla2[[#This Row],[Disponibilidad Interna]]=\"Sí\",0.1,IF(Tabla2[[#This Row],[Disponibilidad Interna]]=\"NO\",0,\"\"))","v":""},null,{"$f":"+IF(Tabla2[[#This Row],[Disponibilidad Terceros]]=\"Sí\",0.1,IF(Tabla2[[#This Row],[Disponibilidad Terceros]]=\"No\",0,\"\"))","v":""},{"$f":"+Tabla2[[#This Row],[Columna32]]+Tabla2[[#This Row],[Columna34]]+Tabla2[[#This Row],[Columna1]]+Tabla2[[#This Row],[Columna3]]","v":{"$error":"#VALUE!"}},{"$f":"IFERROR(IF(Tabla2[[#This Row],[Columna33]]<0.45,\"BAJA\",IF(Tabla2[[#This Row],[Columna33]]>0.75,\"ALTA\",\"MEDIA\")),\"\")","v":""},"No Aplica",{"$f":"+IF(Tabla2[[#This Row],[Información Publicada (WEB)]]=\"Sí\",\"Digite URL\",\"No Aplica\")","v":"No Aplica"},null,{"$f":"IF(Tabla2[[#This Row],[ Clasificación ICBF]]=\"Pública\",1,IF(Tabla2[[#This Row],[ Clasificación ICBF]]=\"Clasificada\",2,IF(Tabla2[[#This Row],[ Clasificación ICBF]]=\"Reservada\",3,0)))","v":0},{"$f":"IF(#REF!=8,4,IF(#REF!=16,3,IF(#REF!=24,2,IF(#REF!=48,1,0))))","v":{"$error":"#REF!"}},{"$f":"IF(#REF!=8,\"Alto\",IF(#REF!=16,\"Medio\",IF(#REF!=24,\"Medio\",IF(#REF!=48,\"Bajo\",0))))","v":{"$error":"#REF!"}},null,{"$f":"+MID(Tabla2[[#This Row],[Área/Dependencia]],17,8)","v":""}]
["",null,null,null,{"$f":"+VLOOKUP(Tabla2[[#This Row],[SEDE - REGIONAL]],DATOS!B234:D267,3,FALSE)","v":{"$error":"#N/A"}},{"$f":"+IF(OR(Tabla2[[#This Row],[Área/Dependencia]]=\"Subdirección de Sistemas Integrados\",Tabla2[[#This Row],[Área/Dependencia]]=\"Subdirección de Recursos Tecnológicos\"),\"X\",\"\")","v":""},{"$f":"+CONCATENATE(Tabla2[[#This Row],[Tipo de Proceso]],Tabla2[[#This Row],[Columna4]])","v":{"$error":"#N/A"}},null,null,null,null,null,null,null,null,null,null,null,null,null,{"$f":"+IF(Tabla2[[#This Row],[Nivel de acceso ]]=\"Alto\",0.5,IF(Tabla2[[#This Row],[Nivel de acceso ]]=\"Medio\",0.3,IF(Tabla2[[#This Row],[Nivel de acceso ]]=\"Bajo\",0.2,\"\")))","v":""},null,{"$f":"+IF(Tabla2[[#This Row],[Es  Reservada]]=\"Sí\",\"Escriba Ley\",\"No Aplica\")","v":"No Aplica"},null,null,null,null,{"$f":"IFERROR(IF(AND(Tabla2[[#This Row],[Contiene Datos Personales]]=\"SÍ\",OR(Tabla2[[#This Row],[Clasificación Datos Personales]]=\"Sensible\",Tabla2[[#This Row],[Clasificación Datos Personales]]=\"NNA\",Tabla2[[#This Row],[Clasificación Datos Personales]]=\"privado\")),\"Alto\",IF(AND(Tabla2[[#This Row],[Contiene Datos Personales]]=\"SÍ\",Tabla2[[#This Row],[Clasificación Datos Personales]]=\"SEMIPRIVADO\"),\"Medio\",\"Bajo\")),\"\")","v":"Bajo"},null,null,"No Aplica","No Aplica",null,null,null,{"$f":"+IF(Tabla2[[#This Row],[Integridad]]=\"Grave\",0.5,IF(Tabla2[[#This Row],[Integridad]]=\"Importante\",0.3,IF(Tabla2[[#This Row],[Integridad]]=\"Leve\",0.2,\"\")))","v":""},null,{"$f":"+IF(Tabla2[[#This Row],[Disponibilidad Interna]]=\"Sí\",0.1,IF(Tabla2[[#This Row],[Disponibilidad Interna]]=\"NO\",0,\"\"))","v":""},null,{"$f":"+IF(Tabla2[[#This Row],[Disponibilidad Terceros]]=\"Sí\",0.1,IF(Tabla2[[#This Row],[Disponibilidad Terceros]]=\"No\",0,\"\"))","v":""},{"$f":"+Tabla2[[#This Row],[Columna32]]+Tabla2[[#This Row],[Columna34]]+Tabla2[[#This Row],[Columna1]]+Tabla2[[#This Row],[Columna3]]","v":{"$error":"#VALUE!"}},{"$f":"IFERROR(IF(Tabla2[[#This Row],[Columna33]]<0.45,\"BAJA\",IF(Tabla2[[#This Row],[Columna33]]>0.75,\"ALTA\",\"MEDIA\")),\"\")","v":""},"No Aplica",{"$f":"+IF(Tabla2[[#This Row],[Información Publicada (WEB)]]=\"Sí\",\"Digite URL\",\"No Aplica\")","v":"No Aplica"},null,{"$f":"IF(Tabla2[[#This Row],[ Clasificación ICBF]]=\"Pública\",1,IF(Tabla2[[#This Row],[ Clasificación ICBF]]=\"Clasificada\",2,IF(Tabla2[[#This Row],[ Clasificación ICBF]]=\"Reservada\",3,0)))","v":0},{"$f":"IF(#REF!=8,4,IF(#REF!=16,3,IF(#REF!=24,2,IF(#REF!=48,1,0))))","v":{"$error":"#REF!"}},{"$f":"IF(#REF!=8,\"Alto\",IF(#REF!=16,\"Medio\",IF(#REF!=24,\"Medio\",IF(#REF!=48,\"Bajo\",0))))","v":{"$error":"#REF!"}},null,{"$f":"+MID(Tabla2[[#This Row],[Área/Dependencia]],17,8)","v":""}]
["",null,null,null,{"$f":"+VLOOKUP(Tabla2[[#This Row],[SEDE - REGIONAL]],DATOS!B235:D268,3,FALSE)","v":{"$error":"#N/A"}},{"$f":"+IF(OR(Tabla2[[#This Row],[Área/Dependencia]]=\"Subdirección de Sistemas Integrados\",Tabla2[[#This Row],[Área/Dependencia]]=\"Subdirección de Recursos Tecnológicos\"),\"X\",\"\")","v":""},{"$f":"+CONCATENATE(Tabla2[[#This Row],[Tipo de Proceso]],Tabla2[[#This Row],[Columna4]])","v":{"$error":"#N/A"}},null,null,null,null,null,null,null,null,null,null,null,null,null,{"$f":"+IF(Tabla2[[#This Row],[Nivel de acceso ]]=\"Alto\",0.5,IF(Tabla2[[#This Row],[Nivel de acceso ]]=\"Medio\",0.3,IF(Tabla2[[#This Row],[Nivel de acceso ]]=\"Bajo\",0.2,\"\")))","v":""},null,{"$f":"+IF(Tabla2[[#This Row],[Es  Reservada]]=\"Sí\",\"Escriba Ley\",\"No Aplica\")","v":"No Aplica"},null,null,null,null,{"$f":"IFERROR(IF(AND(Tabla2[[#This Row],[Contiene Datos Personales]]=\"SÍ\",OR(Tabla2[[#This Row],[Clasificación Datos Personales]]=\"Sensible\",Tabla2[[#This Row],[Clasificación Datos Personales]]=\"NNA\",Tabla2[[#This Row],[Clasificación Datos Personales]]=\"privado\")),\"Alto\",IF(AND(Tabla2[[#This Row],[Contiene Datos Personales]]=\"SÍ\",Tabla2[[#This Row],[Clasificación Datos Personales]]=\"SEMIPRIVADO\"),\"Medio\",\"Bajo\")),\"\")","v":"Bajo"},null,null,"No Aplica","No Aplica",null,null,null,{"$f":"+IF(Tabla2[[#This Row],[Integridad]]=\"Grave\",0.5,IF(Tabla2[[#This Row],[Integridad]]=\"Importante\",0.3,IF(Tabla2[[#This Row],[Integridad]]=\"Leve\",0.2,\"\")))","v":""},null,{"$f":"+IF(Tabla2[[#This Row],[Disponibilidad Interna]]=\"Sí\",0.1,IF(Tabla2[[#This Row],[Disponibilidad Interna]]=\"NO\",0,\"\"))","v":""},null,{"$f":"+IF(Tabla2[[#This Row],[Disponibilidad Terceros]]=\"Sí\",0.1,IF(Tabla2[[#This Row],[Disponibilidad Terceros]]=\"No\",0,\"\"))","v":""},{"$f":"+Tabla2[[#This Row],[Columna32]]+Tabla2[[#This Row],[Columna34]]+Tabla2[[#This Row],[Columna1]]+Tabla2[[#This Row],[Columna3]]","v":{"$error":"#VALUE!"}},{"$f":"IFERROR(IF(Tabla2[[#This Row],[Columna33]]<0.45,\"BAJA\",IF(Tabla2[[#This Row],[Columna33]]>0.75,\"ALTA\",\"MEDIA\")),\"\")","v":""},"No Aplica",{"$f":"+IF(Tabla2[[#This Row],[Información Publicada (WEB)]]=\"Sí\",\"Digite URL\",\"No Aplica\")","v":"No Aplica"},null,{"$f":"IF(Tabla2[[#This Row],[ Clasificación ICBF]]=\"Pública\",1,IF(Tabla2[[#This Row],[ Clasificación ICBF]]=\"Clasificada\",2,IF(Tabla2[[#This Row],[ Clasificación ICBF]]=\"Reservada\",3,0)))","v":0},{"$f":"IF(#REF!=8,4,IF(#REF!=16,3,IF(#REF!=24,2,IF(#REF!=48,1,0))))","v":{"$error":"#REF!"}},{"$f":"IF(#REF!=8,\"Alto\",IF(#REF!=16,\"Medio\",IF(#REF!=24,\"Medio\",IF(#REF!=48,\"Bajo\",0))))","v":{"$error":"#REF!"}},null,{"$f":"+MID(Tabla2[[#This Row],[Área/Dependencia]],17,8)","v":""}]
["",null,null,null,{"$f":"+VLOOKUP(Tabla2[[#This Row],[SEDE - REGIONAL]],DATOS!B236:D269,3,FALSE)","v":{"$error":"#N/A"}},{"$f":"+IF(OR(Tabla2[[#This Row],[Área/Dependencia]]=\"Subdirección de Sistemas Integrados\",Tabla2[[#This Row],[Área/Dependencia]]=\"Subdirección de Recursos Tecnológicos\"),\"X\",\"\")","v":""},{"$f":"+CONCATENATE(Tabla2[[#This Row],[Tipo de Proceso]],Tabla2[[#This Row],[Columna4]])","v":{"$error":"#N/A"}},null,null,null,null,null,null,null,null,null,null,null,null,null,{"$f":"+IF(Tabla2[[#This Row],[Nivel de acceso ]]=\"Alto\",0.5,IF(Tabla2[[#This Row],[Nivel de acceso ]]=\"Medio\",0.3,IF(Tabla2[[#This Row],[Nivel de acceso ]]=\"Bajo\",0.2,\"\")))","v":""},null,{"$f":"+IF(Tabla2[[#This Row],[Es  Reservada]]=\"Sí\",\"Escriba Ley\",\"No Aplica\")","v":"No Aplica"},null,null,null,null,{"$f":"IFERROR(IF(AND(Tabla2[[#This Row],[Contiene Datos Personales]]=\"SÍ\",OR(Tabla2[[#This Row],[Clasificación Datos Personales]]=\"Sensible\",Tabla2[[#This Row],[Clasificación Datos Personales]]=\"NNA\",Tabla2[[#This Row],[Clasificación Datos Personales]]=\"privado\")),\"Alto\",IF(AND(Tabla2[[#This Row],[Contiene Datos Personales]]=\"SÍ\",Tabla2[[#This Row],[Clasificación Datos Personales]]=\"SEMIPRIVADO\"),\"Medio\",\"Bajo\")),\"\")","v":"Bajo"},null,null,"No Aplica","No Aplica",null,null,null,{"$f":"+IF(Tabla2[[#This Row],[Integridad]]=\"Grave\",0.5,IF(Tabla2[[#This Row],[Integridad]]=\"Importante\",0.3,IF(Tabla2[[#This Row],[Integridad]]=\"Leve\",0.2,\"\")))","v":""},null,{"$f":"+IF(Tabla2[[#This Row],[Disponibilidad Interna]]=\"Sí\",0.1,IF(Tabla2[[#This Row],[Disponibilidad Interna]]=\"NO\",0,\"\"))","v":""},null,{"$f":"+IF(Tabla2[[#This Row],[Disponibilidad Terceros]]=\"Sí\",0.1,IF(Tabla2[[#This Row],[Disponibilidad Terceros]]=\"No\",0,\"\"))","v":""},{"$f":"+Tabla2[[#This Row],[Columna32]]+Tabla2[[#This Row],[Columna34]]+Tabla2[[#This Row],[Columna1]]+Tabla2[[#This Row],[Columna3]]","v":{"$error":"#VALUE!"}},{"$f":"IFERROR(IF(Tabla2[[#This Row],[Columna33]]<0.45,\"BAJA\",IF(Tabla2[[#This Row],[Columna33]]>0.75,\"ALTA\",\"MEDIA\")),\"\")","v":""},"No Aplica",{"$f":"+IF(Tabla2[[#This Row],[Información Publicada (WEB)]]=\"Sí\",\"Digite URL\",\"No Aplica\")","v":"No Aplica"},null,{"$f":"IF(Tabla2[[#This Row],[ Clasificación ICBF]]=\"Pública\",1,IF(Tabla2[[#This Row],[ Clasificación ICBF]]=\"Clasificada\",2,IF(Tabla2[[#This Row],[ Clasificación ICBF]]=\"Reservada\",3,0)))","v":0},{"$f":"IF(#REF!=8,4,IF(#REF!=16,3,IF(#REF!=24,2,IF(#REF!=48,1,0))))","v":{"$error":"#REF!"}},{"$f":"IF(#REF!=8,\"Alto\",IF(#REF!=16,\"Medio\",IF(#REF!=24,\"Medio\",IF(#REF!=48,\"Bajo\",0))))","v":{"$error":"#REF!"}},null,{"$f":"+MID(Tabla2[[#This Row],[Área/Dependencia]],17,8)","v":""}]
["",null,null,null,{"$f":"+VLOOKUP(Tabla2[[#This Row],[SEDE - REGIONAL]],DATOS!B237:D270,3,FALSE)","v":{"$error":"#N/A"}},{"$f":"+IF(OR(Tabla2[[#This Row],[Área/Dependencia]]=\"Subdirección de Sistemas Integrados\",Tabla2[[#This Row],[Área/Dependencia]]=\"Subdirección de Recursos Tecnológicos\"),\"X\",\"\")","v":""},{"$f":"+CONCATENATE(Tabla2[[#This Row],[Tipo de Proceso]],Tabla2[[#This Row],[Columna4]])","v":{"$error":"#N/A"}},null,null,null,null,null,null,null,null,null,null,null,null,null,{"$f":"+IF(Tabla2[[#This Row],[Nivel de acceso ]]=\"Alto\",0.5,IF(Tabla2[[#This Row],[Nivel de acceso ]]=\"Medio\",0.3,IF(Tabla2[[#This Row],[Nivel de acceso ]]=\"Bajo\",0.2,\"\")))","v":""},null,{"$f":"+IF(Tabla2[[#This Row],[Es  Reservada]]=\"Sí\",\"Escriba Ley\",\"No Aplica\")","v":"No Aplica"},null,null,null,null,{"$f":"IFERROR(IF(AND(Tabla2[[#This Row],[Contiene Datos Personales]]=\"SÍ\",OR(Tabla2[[#This Row],[Clasificación Datos Personales]]=\"Sensible\",Tabla2[[#This Row],[Clasificación Datos Personales]]=\"NNA\",Tabla2[[#This Row],[Clasificación Datos Personales]]=\"privado\")),\"Alto\",IF(AND(Tabla2[[#This Row],[Contiene Datos Personales]]=\"SÍ\",Tabla2[[#This Row],[Clasificación Datos Personales]]=\"SEMIPRIVADO\"),\"Medio\",\"Bajo\")),\"\")","v":"Bajo"},null,null,"No Aplica","No Aplica",null,null,null,{"$f":"+IF(Tabla2[[#This Row],[Integridad]]=\"Grave\",0.5,IF(Tabla2[[#This Row],[Integridad]]=\"Importante\",0.3,IF(Tabla2[[#This Row],[Integridad]]=\"Leve\",0.2,\"\")))","v":""},null,{"$f":"+IF(Tabla2[[#This Row],[Disponibilidad Interna]]=\"Sí\",0.1,IF(Tabla2[[#This Row],[Disponibilidad Interna]]=\"NO\",0,\"\"))","v":""},null,{"$f":"+IF(Tabla2[[#This Row],[Disponibilidad Terceros]]=\"Sí\",0.1,IF(Tabla2[[#This Row],[Disponibilidad Terceros]]=\"No\",0,\"\"))","v":""},{"$f":"+Tabla2[[#This Row],[Columna32]]+Tabla2[[#This Row],[Columna34]]+Tabla2[[#This Row],[Columna1]]+Tabla2[[#This Row],[Columna3]]","v":{"$error":"#VALUE!"}},{"$f":"IFERROR(IF(Tabla2[[#This Row],[Columna33]]<0.45,\"BAJA\",IF(Tabla2[[#This Row],[Columna33]]>0.75,\"ALTA\",\"MEDIA\")),\"\")","v":""},"No Aplica",{"$f":"+IF(Tabla2[[#This Row],[Información Publicada (WEB)]]=\"Sí\",\"Digite URL\",\"No Aplica\")","v":"No Aplica"},null,{"$f":"IF(Tabla2[[#This Row],[ Clasificación ICBF]]=\"Pública\",1,IF(Tabla2[[#This Row],[ Clasificación ICBF]]=\"Clasificada\",2,IF(Tabla2[[#This Row],[ Clasificación ICBF]]=\"Reservada\",3,0)))","v":0},{"$f":"IF(#REF!=8,4,IF(#REF!=16,3,IF(#REF!=24,2,IF(#REF!=48,1,0))))","v":{"$error":"#REF!"}},{"$f":"IF(#REF!=8,\"Alto\",IF(#REF!=16,\"Medio\",IF(#REF!=24,\"Medio\",IF(#REF!=48,\"Bajo\",0))))","v":{"$error":"#REF!"}},null,{"$f":"+MID(Tabla2[[#This Row],[Área/Dependencia]],17,8)","v":""}]
["",null,null,null,{"$f":"+VLOOKUP(Tabla2[[#This Row],[SEDE - REGIONAL]],DATOS!B238:D271,3,FALSE)","v":{"$error":"#N/A"}},{"$f":"+IF(OR(Tabla2[[#This Row],[Área/Dependencia]]=\"Subdirección de Sistemas Integrados\",Tabla2[[#This Row],[Área/Dependencia]]=\"Subdirección de Recursos Tecnológicos\"),\"X\",\"\")","v":""},{"$f":"+CONCATENATE(Tabla2[[#This Row],[Tipo de Proceso]],Tabla2[[#This Row],[Columna4]])","v":{"$error":"#N/A"}},null,null,null,null,null,null,null,null,null,null,null,null,null,{"$f":"+IF(Tabla2[[#This Row],[Nivel de acceso ]]=\"Alto\",0.5,IF(Tabla2[[#This Row],[Nivel de acceso ]]=\"Medio\",0.3,IF(Tabla2[[#This Row],[Nivel de acceso ]]=\"Bajo\",0.2,\"\")))","v":""},null,{"$f":"+IF(Tabla2[[#This Row],[Es  Reservada]]=\"Sí\",\"Escriba Ley\",\"No Aplica\")","v":"No Aplica"},null,null,null,null,{"$f":"IFERROR(IF(AND(Tabla2[[#This Row],[Contiene Datos Personales]]=\"SÍ\",OR(Tabla2[[#This Row],[Clasificación Datos Personales]]=\"Sensible\",Tabla2[[#This Row],[Clasificación Datos Personales]]=\"NNA\",Tabla2[[#This Row],[Clasificación Datos Personales]]=\"privado\")),\"Alto\",IF(AND(Tabla2[[#This Row],[Contiene Datos Personales]]=\"SÍ\",Tabla2[[#This Row],[Clasificación Datos Personales]]=\"SEMIPRIVADO\"),\"Medio\",\"Bajo\")),\"\")","v":"Bajo"},null,null,"No Aplica","No Aplica",null,null,null,{"$f":"+IF(Tabla2[[#This Row],[Integridad]]=\"Grave\",0.5,IF(Tabla2[[#This Row],[Integridad]]=\"Importante\",0.3,IF(Tabla2[[#This Row],[Integridad]]=\"Leve\",0.2,\"\")))","v":""},null,{"$f":"+IF(Tabla2[[#This Row],[Disponibilidad Interna]]=\"Sí\",0.1,IF(Tabla2[[#This Row],[Disponibilidad Interna]]=\"NO\",0,\"\"))","v":""},null,{"$f":"+IF(Tabla2[[#This Row],[Disponibilidad Terceros]]=\"Sí\",0.1,IF(Tabla2[[#This Row],[Disponibilidad Terceros]]=\"No\",0,\"\"))","v":""},{"$f":"+Tabla2[[#This Row],[Columna32]]+Tabla2[[#This Row],[Columna34]]+Tabla2[[#This Row],[Columna1]]+Tabla2[[#This Row],[Columna3]]","v":{"$error":"#VALUE!"}},{"$f":"IFERROR(IF(Tabla2[[#This Row],[Columna33]]<0.45,\"BAJA\",IF(Tabla2[[#This Row],[Columna33]]>0.75,\"ALTA\",\"MEDIA\")),\"\")","v":""},"No Aplica",{"$f":"+IF(Tabla2[[#This Row],[Información Publicada (WEB)]]=\"Sí\",\"Digite URL\",\"No Aplica\")","v":"No Aplica"},null,{"$f":"IF(Tabla2[[#This Row],[ Clasificación ICBF]]=\"Pública\",1,IF(Tabla2[[#This Row],[ Clasificación ICBF]]=\"Clasificada\",2,IF(Tabla2[[#This Row],[ Clasificación ICBF]]=\"Reservada\",3,0)))","v":0},{"$f":"IF(#REF!=8,4,IF(#REF!=16,3,IF(#REF!=24,2,IF(#REF!=48,1,0))))","v":{"$error":"#REF!"}},{"$f":"IF(#REF!=8,\"Alto\",IF(#REF!=16,\"Medio\",IF(#REF!=24,\"Medio\",IF(#REF!=48,\"Bajo\",0))))","v":{"$error":"#REF!"}},null,{"$f":"+MID(Tabla2[[#This Row],[Área/Dependencia]],17,8)","v":""}]
["",null,null,null,{"$f":"+VLOOKUP(Tabla2[[#This Row],[SEDE - REGIONAL]],DATOS!B239:D272,3,FALSE)","v":{"$error":"#N/A"}},{"$f":"+IF(OR(Tabla2[[#This Row],[Área/Dependencia]]=\"Subdirección de Sistemas Integrados\",Tabla2[[#This Row],[Área/Dependencia]]=\"Subdirección de Recursos Tecnológicos\"),\"X\",\"\")","v":""},{"$f":"+CONCATENATE(Tabla2[[#This Row],[Tipo de Proceso]],Tabla2[[#This Row],[Columna4]])","v":{"$error":"#N/A"}},null,null,null,null,null,null,null,null,null,null,null,null,null,{"$f":"+IF(Tabla2[[#This Row],[Nivel de acceso ]]=\"Alto\",0.5,IF(Tabla2[[#This Row],[Nivel de acceso ]]=\"Medio\",0.3,IF(Tabla2[[#This Row],[Nivel de acceso ]]=\"Bajo\",0.2,\"\")))","v":""},null,{"$f":"+IF(Tabla2[[#This Row],[Es  Reservada]]=\"Sí\",\"Escriba Ley\",\"No Aplica\")","v":"No Aplica"},null,null,null,null,{"$f":"IFERROR(IF(AND(Tabla2[[#This Row],[Contiene Datos Personales]]=\"SÍ\",OR(Tabla2[[#This Row],[Clasificación Datos Personales]]=\"Sensible\",Tabla2[[#This Row],[Clasificación Datos Personales]]=\"NNA\",Tabla2[[#This Row],[Clasificación Datos Personales]]=\"privado\")),\"Alto\",IF(AND(Tabla2[[#This Row],[Contiene Datos Personales]]=\"SÍ\",Tabla2[[#This Row],[Clasificación Datos Personales]]=\"SEMIPRIVADO\"),\"Medio\",\"Bajo\")),\"\")","v":"Bajo"},null,null,"No Aplica","No Aplica",null,null,null,{"$f":"+IF(Tabla2[[#This Row],[Integridad]]=\"Grave\",0.5,IF(Tabla2[[#This Row],[Integridad]]=\"Importante\",0.3,IF(Tabla2[[#This Row],[Integridad]]=\"Leve\",0.2,\"\")))","v":""},null,{"$f":"+IF(Tabla2[[#This Row],[Disponibilidad Interna]]=\"Sí\",0.1,IF(Tabla2[[#This Row],[Disponibilidad Interna]]=\"NO\",0,\"\"))","v":""},null,{"$f":"+IF(Tabla2[[#This Row],[Disponibilidad Terceros]]=\"Sí\",0.1,IF(Tabla2[[#This Row],[Disponibilidad Terceros]]=\"No\",0,\"\"))","v":""},{"$f":"+Tabla2[[#This Row],[Columna32]]+Tabla2[[#This Row],[Columna34]]+Tabla2[[#This Row],[Columna1]]+Tabla2[[#This Row],[Columna3]]","v":{"$error":"#VALUE!"}},{"$f":"IFERROR(IF(Tabla2[[#This Row],[Columna33]]<0.45,\"BAJA\",IF(Tabla2[[#This Row],[Columna33]]>0.75,\"ALTA\",\"MEDIA\")),\"\")","v":""},"No Aplica",{"$f":"+IF(Tabla2[[#This Row],[Información Publicada (WEB)]]=\"Sí\",\"Digite URL\",\"No Aplica\")","v":"No Aplica"},null,{"$f":"IF(Tabla2[[#This Row],[ Clasificación ICBF]]=\"Pública\",1,IF(Tabla2[[#This Row],[ Clasificación ICBF]]=\"Clasificada\",2,IF(Tabla2[[#This Row],[ Clasificación ICBF]]=\"Reservada\",3,0)))","v":0},{"$f":"IF(#REF!=8,4,IF(#REF!=16,3,IF(#REF!=24,2,IF(#REF!=48,1,0))))","v":{"$error":"#REF!"}},{"$f":"IF(#REF!=8,\"Alto\",IF(#REF!=16,\"Medio\",IF(#REF!=24,\"Medio\",IF(#REF!=48,\"Bajo\",0))))","v":{"$error":"#REF!"}},null,{"$f":"+MID(Tabla2[[#This Row],[Área/Dependencia]],17,8)","v":""}]
["",null,null,null,{"$f":"+VLOOKUP(Tabla2[[#This Row],[SEDE - REGIONAL]],DATOS!B240:D273,3,FALSE)","v":{"$error":"#N/A"}},{"$f":"+IF(OR(Tabla2[[#This Row],[Área/Dependencia]]=\"Subdirección de Sistemas Integrados\",Tabla2[[#This Row],[Área/Dependencia]]=\"Subdirección de Recursos Tecnológicos\"),\"X\",\"\")","v":""},{"$f":"+CONCATENATE(Tabla2[[#This Row],[Tipo de Proceso]],Tabla2[[#This Row],[Columna4]])","v":{"$error":"#N/A"}},null,null,null,null,null,null,null,null,null,null,null,null,null,{"$f":"+IF(Tabla2[[#This Row],[Nivel de acceso ]]=\"Alto\",0.5,IF(Tabla2[[#This Row],[Nivel de acceso ]]=\"Medio\",0.3,IF(Tabla2[[#This Row],[Nivel de acceso ]]=\"Bajo\",0.2,\"\")))","v":""},null,{"$f":"+IF(Tabla2[[#This Row],[Es  Reservada]]=\"Sí\",\"Escriba Ley\",\"No Aplica\")","v":"No Aplica"},null,null,null,null,{"$f":"IFERROR(IF(AND(Tabla2[[#This Row],[Contiene Datos Personales]]=\"SÍ\",OR(Tabla2[[#This Row],[Clasificación Datos Personales]]=\"Sensible\",Tabla2[[#This Row],[Clasificación Datos Personales]]=\"NNA\",Tabla2[[#This Row],[Clasificación Datos Personales]]=\"privado\")),\"Alto\",IF(AND(Tabla2[[#This Row],[Contiene Datos Personales]]=\"SÍ\",Tabla2[[#This Row],[Clasificación Datos Personales]]=\"SEMIPRIVADO\"),\"Medio\",\"Bajo\")),\"\")","v":"Bajo"},null,null,"No Aplica","No Aplica",null,null,null,{"$f":"+IF(Tabla2[[#This Row],[Integridad]]=\"Grave\",0.5,IF(Tabla2[[#This Row],[Integridad]]=\"Importante\",0.3,IF(Tabla2[[#This Row],[Integridad]]=\"Leve\",0.2,\"\")))","v":""},null,{"$f":"+IF(Tabla2[[#This Row],[Disponibilidad Interna]]=\"Sí\",0.1,IF(Tabla2[[#This Row],[Disponibilidad Interna]]=\"NO\",0,\"\"))","v":""},null,{"$f":"+IF(Tabla2[[#This Row],[Disponibilidad Terceros]]=\"Sí\",0.1,IF(Tabla2[[#This Row],[Disponibilidad Terceros]]=\"No\",0,\"\"))","v":""},{"$f":"+Tabla2[[#This Row],[Columna32]]+Tabla2[[#This Row],[Columna34]]+Tabla2[[#This Row],[Columna1]]+Tabla2[[#This Row],[Columna3]]","v":{"$error":"#VALUE!"}},{"$f":"IFERROR(IF(Tabla2[[#This Row],[Columna33]]<0.45,\"BAJA\",IF(Tabla2[[#This Row],[Columna33]]>0.75,\"ALTA\",\"MEDIA\")),\"\")","v":""},"No Aplica",{"$f":"+IF(Tabla2[[#This Row],[Información Publicada (WEB)]]=\"Sí\",\"Digite URL\",\"No Aplica\")","v":"No Aplica"},null,{"$f":"IF(Tabla2[[#This Row],[ Clasificación ICBF]]=\"Pública\",1,IF(Tabla2[[#This Row],[ Clasificación ICBF]]=\"Clasificada\",2,IF(Tabla2[[#This Row],[ Clasificación ICBF]]=\"Reservada\",3,0)))","v":0},{"$f":"IF(#REF!=8,4,IF(#REF!=16,3,IF(#REF!=24,2,IF(#REF!=48,1,0))))","v":{"$error":"#REF!"}},{"$f":"IF(#REF!=8,\"Alto\",IF(#REF!=16,\"Medio\",IF(#REF!=24,\"Medio\",IF(#REF!=48,\"Bajo\",0))))","v":{"$error":"#REF!"}},null,{"$f":"+MID(Tabla2[[#This Row],[Área/Dependencia]],17,8)","v":""}]
["",null,null,null,{"$f":"+VLOOKUP(Tabla2[[#This Row],[SEDE - REGIONAL]],DATOS!B241:D274,3,FALSE)","v":{"$error":"#N/A"}},{"$f":"+IF(OR(Tabla2[[#This Row],[Área/Dependencia]]=\"Subdirección de Sistemas Integrados\",Tabla2[[#This Row],[Área/Dependencia]]=\"Subdirección de Recursos Tecnológicos\"),\"X\",\"\")","v":""},{"$f":"+CONCATENATE(Tabla2[[#This Row],[Tipo de Proceso]],Tabla2[[#This Row],[Columna4]])","v":{"$error":"#N/A"}},null,null,null,null,null,null,null,null,null,null,null,null,null,{"$f":"+IF(Tabla2[[#This Row],[Nivel de acceso ]]=\"Alto\",0.5,IF(Tabla2[[#This Row],[Nivel de acceso ]]=\"Medio\",0.3,IF(Tabla2[[#This Row],[Nivel de acceso ]]=\"Bajo\",0.2,\"\")))","v":""},null,{"$f":"+IF(Tabla2[[#This Row],[Es  Reservada]]=\"Sí\",\"Escriba Ley\",\"No Aplica\")","v":"No Aplica"},null,null,null,null,{"$f":"IFERROR(IF(AND(Tabla2[[#This Row],[Contiene Datos Personales]]=\"SÍ\",OR(Tabla2[[#This Row],[Clasificación Datos Personales]]=\"Sensible\",Tabla2[[#This Row],[Clasificación Datos Personales]]=\"NNA\",Tabla2[[#This Row],[Clasificación Datos Personales]]=\"privado\")),\"Alto\",IF(AND(Tabla2[[#This Row],[Contiene Datos Personales]]=\"SÍ\",Tabla2[[#This Row],[Clasificación Datos Personales]]=\"SEMIPRIVADO\"),\"Medio\",\"Bajo\")),\"\")","v":"Bajo"},null,null,"No Aplica","No Aplica",null,null,null,{"$f":"+IF(Tabla2[[#This Row],[Integridad]]=\"Grave\",0.5,IF(Tabla2[[#This Row],[Integridad]]=\"Importante\",0.3,IF(Tabla2[[#This Row],[Integridad]]=\"Leve\",0.2,\"\")))","v":""},null,{"$f":"+IF(Tabla2[[#This Row],[Disponibilidad Interna]]=\"Sí\",0.1,IF(Tabla2[[#This Row],[Disponibilidad Interna]]=\"NO\",0,\"\"))","v":""},null,{"$f":"+IF(Tabla2[[#This Row],[Disponibilidad Terceros]]=\"Sí\",0.1,IF(Tabla2[[#This Row],[Disponibilidad Terceros]]=\"No\",0,\"\"))","v":""},{"$f":"+Tabla2[[#This Row],[Columna32]]+Tabla2[[#This Row],[Columna34]]+Tabla2[[#This Row],[Columna1]]+Tabla2[[#This Row],[Columna3]]","v":{"$error":"#VALUE!"}},{"$f":"IFERROR(IF(Tabla2[[#This Row],[Columna33]]<0.45,\"BAJA\",IF(Tabla2[[#This Row],[Columna33]]>0.75,\"ALTA\",\"MEDIA\")),\"\")","v":""},"No Aplica",{"$f":"+IF(Tabla2[[#This Row],[Información Publicada (WEB)]]=\"Sí\",\"Digite URL\",\"No Aplica\")","v":"No Aplica"},null,{"$f":"IF(Tabla2[[#This Row],[ Clasificación ICBF]]=\"Pública\",1,IF(Tabla2[[#This Row],[ Clasificación ICBF]]=\"Clasificada\",2,IF(Tabla2[[#This Row],[ Clasificación ICBF]]=\"Reservada\",3,0)))","v":0},{"$f":"IF(#REF!=8,4,IF(#REF!=16,3,IF(#REF!=24,2,IF(#REF!=48,1,0))))","v":{"$error":"#REF!"}},{"$f":"IF(#REF!=8,\"Alto\",IF(#REF!=16,\"Medio\",IF(#REF!=24,\"Medio\",IF(#REF!=48,\"Bajo\",0))))","v":{"$error":"#REF!"}},null,{"$f":"+MID(Tabla2[[#This Row],[Área/Dependencia]],17,8)","v":""}]
["",null,null,null,{"$f":"+VLOOKUP(Tabla2[[#This Row],[SEDE - REGIONAL]],DATOS!B242:D275,3,FALSE)","v":{"$error":"#N/A"}},{"$f":"+IF(OR(Tabla2[[#This Row],[Área/Dependencia]]=\"Subdirección de Sistemas Integrados\",Tabla2[[#This Row],[Área/Dependencia]]=\"Subdirección de Recursos Tecnológicos\"),\"X\",\"\")","v":""},{"$f":"+CONCATENATE(Tabla2[[#This Row],[Tipo de Proceso]],Tabla2[[#This Row],[Columna4]])","v":{"$error":"#N/A"}},null,null,null,null,null,null,null,null,null,null,null,null,null,{"$f":"+IF(Tabla2[[#This Row],[Nivel de acceso ]]=\"Alto\",0.5,IF(Tabla2[[#This Row],[Nivel de acceso ]]=\"Medio\",0.3,IF(Tabla2[[#This Row],[Nivel de acceso ]]=\"Bajo\",0.2,\"\")))","v":""},null,{"$f":"+IF(Tabla2[[#This Row],[Es  Reservada]]=\"Sí\",\"Escriba Ley\",\"No Aplica\")","v":"No Aplica"},null,null,null,null,{"$f":"IFERROR(IF(AND(Tabla2[[#This Row],[Contiene Datos Personales]]=\"SÍ\",OR(Tabla2[[#This Row],[Clasificación Datos Personales]]=\"Sensible\",Tabla2[[#This Row],[Clasificación Datos Personales]]=\"NNA\",Tabla2[[#This Row],[Clasificación Datos Personales]]=\"privado\")),\"Alto\",IF(AND(Tabla2[[#This Row],[Contiene Datos Personales]]=\"SÍ\",Tabla2[[#This Row],[Clasificación Datos Personales]]=\"SEMIPRIVADO\"),\"Medio\",\"Bajo\")),\"\")","v":"Bajo"},null,null,"No Aplica","No Aplica",null,null,null,{"$f":"+IF(Tabla2[[#This Row],[Integridad]]=\"Grave\",0.5,IF(Tabla2[[#This Row],[Integridad]]=\"Importante\",0.3,IF(Tabla2[[#This Row],[Integridad]]=\"Leve\",0.2,\"\")))","v":""},null,{"$f":"+IF(Tabla2[[#This Row],[Disponibilidad Interna]]=\"Sí\",0.1,IF(Tabla2[[#This Row],[Disponibilidad Interna]]=\"NO\",0,\"\"))","v":""},null,{"$f":"+IF(Tabla2[[#This Row],[Disponibilidad Terceros]]=\"Sí\",0.1,IF(Tabla2[[#This Row],[Disponibilidad Terceros]]=\"No\",0,\"\"))","v":""},{"$f":"+Tabla2[[#This Row],[Columna32]]+Tabla2[[#This Row],[Columna34]]+Tabla2[[#This Row],[Columna1]]+Tabla2[[#This Row],[Columna3]]","v":{"$error":"#VALUE!"}},{"$f":"IFERROR(IF(Tabla2[[#This Row],[Columna33]]<0.45,\"BAJA\",IF(Tabla2[[#This Row],[Columna33]]>0.75,\"ALTA\",\"MEDIA\")),\"\")","v":""},"No Aplica",{"$f":"+IF(Tabla2[[#This Row],[Información Publicada (WEB)]]=\"Sí\",\"Digite URL\",\"No Aplica\")","v":"No Aplica"},null,{"$f":"IF(Tabla2[[#This Row],[ Clasificación ICBF]]=\"Pública\",1,IF(Tabla2[[#This Row],[ Clasificación ICBF]]=\"Clasificada\",2,IF(Tabla2[[#This Row],[ Clasificación ICBF]]=\"Reservada\",3,0)))","v":0},{"$f":"IF(#REF!=8,4,IF(#REF!=16,3,IF(#REF!=24,2,IF(#REF!=48,1,0))))","v":{"$error":"#REF!"}},{"$f":"IF(#REF!=8,\"Alto\",IF(#REF!=16,\"Medio\",IF(#REF!=24,\"Medio\",IF(#REF!=48,\"Bajo\",0))))","v":{"$error":"#REF!"}},null,{"$f":"+MID(Tabla2[[#This Row],[Área/Dependencia]],17,8)","v":""}]
["",null,null,null,{"$f":"+VLOOKUP(Tabla2[[#This Row],[SEDE - REGIONAL]],DATOS!B243:D276,3,FALSE)","v":{"$error":"#N/A"}},{"$f":"+IF(OR(Tabla2[[#This Row],[Área/Dependencia]]=\"Subdirección de Sistemas Integrados\",Tabla2[[#This Row],[Área/Dependencia]]=\"Subdirección de Recursos Tecnológicos\"),\"X\",\"\")","v":""},{"$f":"+CONCATENATE(Tabla2[[#This Row],[Tipo de Proceso]],Tabla2[[#This Row],[Columna4]])","v":{"$error":"#N/A"}},null,null,null,null,null,null,null,null,null,null,null,null,null,{"$f":"+IF(Tabla2[[#This Row],[Nivel de acceso ]]=\"Alto\",0.5,IF(Tabla2[[#This Row],[Nivel de acceso ]]=\"Medio\",0.3,IF(Tabla2[[#This Row],[Nivel de acceso ]]=\"Bajo\",0.2,\"\")))","v":""},null,{"$f":"+IF(Tabla2[[#This Row],[Es  Reservada]]=\"Sí\",\"Escriba Ley\",\"No Aplica\")","v":"No Aplica"},null,null,null,null,{"$f":"IFERROR(IF(AND(Tabla2[[#This Row],[Contiene Datos Personales]]=\"SÍ\",OR(Tabla2[[#This Row],[Clasificación Datos Personales]]=\"Sensible\",Tabla2[[#This Row],[Clasificación Datos Personales]]=\"NNA\",Tabla2[[#This Row],[Clasificación Datos Personales]]=\"privado\")),\"Alto\",IF(AND(Tabla2[[#This Row],[Contiene Datos Personales]]=\"SÍ\",Tabla2[[#This Row],[Clasificación Datos Personales]]=\"SEMIPRIVADO\"),\"Medio\",\"Bajo\")),\"\")","v":"Bajo"},null,null,"No Aplica","No Aplica",null,null,null,{"$f":"+IF(Tabla2[[#This Row],[Integridad]]=\"Grave\",0.5,IF(Tabla2[[#This Row],[Integridad]]=\"Importante\",0.3,IF(Tabla2[[#This Row],[Integridad]]=\"Leve\",0.2,\"\")))","v":""},null,{"$f":"+IF(Tabla2[[#This Row],[Disponibilidad Interna]]=\"Sí\",0.1,IF(Tabla2[[#This Row],[Disponibilidad Interna]]=\"NO\",0,\"\"))","v":""},null,{"$f":"+IF(Tabla2[[#This Row],[Disponibilidad Terceros]]=\"Sí\",0.1,IF(Tabla2[[#This Row],[Disponibilidad Terceros]]=\"No\",0,\"\"))","v":""},{"$f":"+Tabla2[[#This Row],[Columna32]]+Tabla2[[#This Row],[Columna34]]+Tabla2[[#This Row],[Columna1]]+Tabla2[[#This Row],[Columna3]]","v":{"$error":"#VALUE!"}},{"$f":"IFERROR(IF(Tabla2[[#This Row],[Columna33]]<0.45,\"BAJA\",IF(Tabla2[[#This Row],[Columna33]]>0.75,\"ALTA\",\"MEDIA\")),\"\")","v":""},"No Aplica",{"$f":"+IF(Tabla2[[#This Row],[Información Publicada (WEB)]]=\"Sí\",\"Digite URL\",\"No Aplica\")","v":"No Aplica"},null,{"$f":"IF(Tabla2[[#This Row],[ Clasificación ICBF]]=\"Pública\",1,IF(Tabla2[[#This Row],[ Clasificación ICBF]]=\"Clasificada\",2,IF(Tabla2[[#This Row],[ Clasificación ICBF]]=\"Reservada\",3,0)))","v":0},{"$f":"IF(#REF!=8,4,IF(#REF!=16,3,IF(#REF!=24,2,IF(#REF!=48,1,0))))","v":{"$error":"#REF!"}},{"$f":"IF(#REF!=8,\"Alto\",IF(#REF!=16,\"Medio\",IF(#REF!=24,\"Medio\",IF(#REF!=48,\"Bajo\",0))))","v":{"$error":"#REF!"}},null,{"$f":"+MID(Tabla2[[#This Row],[Área/Dependencia]],17,8)","v":""}]
["",null,null,null,{"$f":"+VLOOKUP(Tabla2[[#This Row],[SEDE - REGIONAL]],DATOS!B244:D277,3,FALSE)","v":{"$error":"#N/A"}},{"$f":"+IF(OR(Tabla2[[#This Row],[Área/Dependencia]]=\"Subdirección de Sistemas Integrados\",Tabla2[[#This Row],[Área/Dependencia]]=\"Subdirección de Recursos Tecnológicos\"),\"X\",\"\")","v":""},{"$f":"+CONCATENATE(Tabla2[[#This Row],[Tipo de Proceso]],Tabla2[[#This Row],[Columna4]])","v":{"$error":"#N/A"}},null,null,null,null,null,null,null,null,null,null,null,null,null,{"$f":"+IF(Tabla2[[#This Row],[Nivel de acceso ]]=\"Alto\",0.5,IF(Tabla2[[#This Row],[Nivel de acceso ]]=\"Medio\",0.3,IF(Tabla2[[#This Row],[Nivel de acceso ]]=\"Bajo\",0.2,\"\")))","v":""},null,{"$f":"+IF(Tabla2[[#This Row],[Es  Reservada]]=\"Sí\",\"Escriba Ley\",\"No Aplica\")","v":"No Aplica"},null,null,null,null,{"$f":"IFERROR(IF(AND(Tabla2[[#This Row],[Contiene Datos Personales]]=\"SÍ\",OR(Tabla2[[#This Row],[Clasificación Datos Personales]]=\"Sensible\",Tabla2[[#This Row],[Clasificación Datos Personales]]=\"NNA\",Tabla2[[#This Row],[Clasificación Datos Personales]]=\"privado\")),\"Alto\",IF(AND(Tabla2[[#This Row],[Contiene Datos Personales]]=\"SÍ\",Tabla2[[#This Row],[Clasificación Datos Personales]]=\"SEMIPRIVADO\"),\"Medio\",\"Bajo\")),\"\")","v":"Bajo"},null,null,"No Aplica","No Aplica",null,null,null,{"$f":"+IF(Tabla2[[#This Row],[Integridad]]=\"Grave\",0.5,IF(Tabla2[[#This Row],[Integridad]]=\"Importante\",0.3,IF(Tabla2[[#This Row],[Integridad]]=\"Leve\",0.2,\"\")))","v":""},null,{"$f":"+IF(Tabla2[[#This Row],[Disponibilidad Interna]]=\"Sí\",0.1,IF(Tabla2[[#This Row],[Disponibilidad Interna]]=\"NO\",0,\"\"))","v":""},null,{"$f":"+IF(Tabla2[[#This Row],[Disponibilidad Terceros]]=\"Sí\",0.1,IF(Tabla2[[#This Row],[Disponibilidad Terceros]]=\"No\",0,\"\"))","v":""},{"$f":"+Tabla2[[#This Row],[Columna32]]+Tabla2[[#This Row],[Columna34]]+Tabla2[[#This Row],[Columna1]]+Tabla2[[#This Row],[Columna3]]","v":{"$error":"#VALUE!"}},{"$f":"IFERROR(IF(Tabla2[[#This Row],[Columna33]]<0.45,\"BAJA\",IF(Tabla2[[#This Row],[Columna33]]>0.75,\"ALTA\",\"MEDIA\")),\"\")","v":""},"No Aplica",{"$f":"+IF(Tabla2[[#This Row],[Información Publicada (WEB)]]=\"Sí\",\"Digite URL\",\"No Aplica\")","v":"No Aplica"},null,{"$f":"IF(Tabla2[[#This Row],[ Clasificación ICBF]]=\"Pública\",1,IF(Tabla2[[#This Row],[ Clasificación ICBF]]=\"Clasificada\",2,IF(Tabla2[[#This Row],[ Clasificación ICBF]]=\"Reservada\",3,0)))","v":0},{"$f":"IF(#REF!=8,4,IF(#REF!=16,3,IF(#REF!=24,2,IF(#REF!=48,1,0))))","v":{"$error":"#REF!"}},{"$f":"IF(#REF!=8,\"Alto\",IF(#REF!=16,\"Medio\",IF(#REF!=24,\"Medio\",IF(#REF!=48,\"Bajo\",0))))","v":{"$error":"#REF!"}},null,{"$f":"+MID(Tabla2[[#This Row],[Área/Dependencia]],17,8)","v":""}]
["",null,null,null,{"$f":"+VLOOKUP(Tabla2[[#This Row],[SEDE - REGIONAL]],DATOS!B245:D278,3,FALSE)","v":{"$error":"#N/A"}},{"$f":"+IF(OR(Tabla2[[#This Row],[Área/Dependencia]]=\"Subdirección de Sistemas Integrados\",Tabla2[[#This Row],[Área/Dependencia]]=\"Subdirección de Recursos Tecnológicos\"),\"X\",\"\")","v":""},{"$f":"+CONCATENATE(Tabla2[[#This Row],[Tipo de Proceso]],Tabla2[[#This Row],[Columna4]])","v":{"$error":"#N/A"}},null,null,null,null,null,null,null,null,null,null,null,null,null,{"$f":"+IF(Tabla2[[#This Row],[Nivel de acceso ]]=\"Alto\",0.5,IF(Tabla2[[#This Row],[Nivel de acceso ]]=\"Medio\",0.3,IF(Tabla2[[#This Row],[Nivel de acceso ]]=\"Bajo\",0.2,\"\")))","v":""},null,{"$f":"+IF(Tabla2[[#This Row],[Es  Reservada]]=\"Sí\",\"Escriba Ley\",\"No Aplica\")","v":"No Aplica"},null,null,null,null,{"$f":"IFERROR(IF(AND(Tabla2[[#This Row],[Contiene Datos Personales]]=\"SÍ\",OR(Tabla2[[#This Row],[Clasificación Datos Personales]]=\"Sensible\",Tabla2[[#This Row],[Clasificación Datos Personales]]=\"NNA\",Tabla2[[#This Row],[Clasificación Datos Personales]]=\"privado\")),\"Alto\",IF(AND(Tabla2[[#This Row],[Contiene Datos Personales]]=\"SÍ\",Tabla2[[#This Row],[Clasificación Datos Personales]]=\"SEMIPRIVADO\"),\"Medio\",\"Bajo\")),\"\")","v":"Bajo"},null,null,"No Aplica","No Aplica",null,null,null,{"$f":"+IF(Tabla2[[#This Row],[Integridad]]=\"Grave\",0.5,IF(Tabla2[[#This Row],[Integridad]]=\"Importante\",0.3,IF(Tabla2[[#This Row],[Integridad]]=\"Leve\",0.2,\"\")))","v":""},null,{"$f":"+IF(Tabla2[[#This Row],[Disponibilidad Interna]]=\"Sí\",0.1,IF(Tabla2[[#This Row],[Disponibilidad Interna]]=\"NO\",0,\"\"))","v":""},null,{"$f":"+IF(Tabla2[[#This Row],[Disponibilidad Terceros]]=\"Sí\",0.1,IF(Tabla2[[#This Row],[Disponibilidad Terceros]]=\"No\",0,\"\"))","v":""},{"$f":"+Tabla2[[#This Row],[Columna32]]+Tabla2[[#This Row],[Columna34]]+Tabla2[[#This Row],[Columna1]]+Tabla2[[#This Row],[Columna3]]","v":{"$error":"#VALUE!"}},{"$f":"IFERROR(IF(Tabla2[[#This Row],[Columna33]]<0.45,\"BAJA\",IF(Tabla2[[#This Row],[Columna33]]>0.75,\"ALTA\",\"MEDIA\")),\"\")","v":""},"No Aplica",{"$f":"+IF(Tabla2[[#This Row],[Información Publicada (WEB)]]=\"Sí\",\"Digite URL\",\"No Aplica\")","v":"No Aplica"},null,{"$f":"IF(Tabla2[[#This Row],[ Clasificación ICBF]]=\"Pública\",1,IF(Tabla2[[#This Row],[ Clasificación ICBF]]=\"Clasificada\",2,IF(Tabla2[[#This Row],[ Clasificación ICBF]]=\"Reservada\",3,0)))","v":0},{"$f":"IF(#REF!=8,4,IF(#REF!=16,3,IF(#REF!=24,2,IF(#REF!=48,1,0))))","v":{"$error":"#REF!"}},{"$f":"IF(#REF!=8,\"Alto\",IF(#REF!=16,\"Medio\",IF(#REF!=24,\"Medio\",IF(#REF!=48,\"Bajo\",0))))","v":{"$error":"#REF!"}},null,{"$f":"+MID(Tabla2[[#This Row],[Área/Dependencia]],17,8)","v":""}]
["",null,null,null,{"$f":"+VLOOKUP(Tabla2[[#This Row],[SEDE - REGIONAL]],DATOS!B246:D279,3,FALSE)","v":{"$error":"#N/A"}},{"$f":"+IF(OR(Tabla2[[#This Row],[Área/Dependencia]]=\"Subdirección de Sistemas Integrados\",Tabla2[[#This Row],[Área/Dependencia]]=\"Subdirección de Recursos Tecnológicos\"),\"X\",\"\")","v":""},{"$f":"+CONCATENATE(Tabla2[[#This Row],[Tipo de Proceso]],Tabla2[[#This Row],[Columna4]])","v":{"$error":"#N/A"}},null,null,null,null,null,null,null,null,null,null,null,null,null,{"$f":"+IF(Tabla2[[#This Row],[Nivel de acceso ]]=\"Alto\",0.5,IF(Tabla2[[#This Row],[Nivel de acceso ]]=\"Medio\",0.3,IF(Tabla2[[#This Row],[Nivel de acceso ]]=\"Bajo\",0.2,\"\")))","v":""},null,{"$f":"+IF(Tabla2[[#This Row],[Es  Reservada]]=\"Sí\",\"Escriba Ley\",\"No Aplica\")","v":"No Aplica"},null,null,null,null,{"$f":"IFERROR(IF(AND(Tabla2[[#This Row],[Contiene Datos Personales]]=\"SÍ\",OR(Tabla2[[#This Row],[Clasificación Datos Personales]]=\"Sensible\",Tabla2[[#This Row],[Clasificación Datos Personales]]=\"NNA\",Tabla2[[#This Row],[Clasificación Datos Personales]]=\"privado\")),\"Alto\",IF(AND(Tabla2[[#This Row],[Contiene Datos Personales]]=\"SÍ\",Tabla2[[#This Row],[Clasificación Datos Personales]]=\"SEMIPRIVADO\"),\"Medio\",\"Bajo\")),\"\")","v":"Bajo"},null,null,"No Aplica","No Aplica",null,null,null,{"$f":"+IF(Tabla2[[#This Row],[Integridad]]=\"Grave\",0.5,IF(Tabla2[[#This Row],[Integridad]]=\"Importante\",0.3,IF(Tabla2[[#This Row],[Integridad]]=\"Leve\",0.2,\"\")))","v":""},null,{"$f":"+IF(Tabla2[[#This Row],[Disponibilidad Interna]]=\"Sí\",0.1,IF(Tabla2[[#This Row],[Disponibilidad Interna]]=\"NO\",0,\"\"))","v":""},null,{"$f":"+IF(Tabla2[[#This Row],[Disponibilidad Terceros]]=\"Sí\",0.1,IF(Tabla2[[#This Row],[Disponibilidad Terceros]]=\"No\",0,\"\"))","v":""},{"$f":"+Tabla2[[#This Row],[Columna32]]+Tabla2[[#This Row],[Columna34]]+Tabla2[[#This Row],[Columna1]]+Tabla2[[#This Row],[Columna3]]","v":{"$error":"#VALUE!"}},{"$f":"IFERROR(IF(Tabla2[[#This Row],[Columna33]]<0.45,\"BAJA\",IF(Tabla2[[#This Row],[Columna33]]>0.75,\"ALTA\",\"MEDIA\")),\"\")","v":""},"No Aplica",{"$f":"+IF(Tabla2[[#This Row],[Información Publicada (WEB)]]=\"Sí\",\"Digite URL\",\"No Aplica\")","v":"No Aplica"},null,{"$f":"IF(Tabla2[[#This Row],[ Clasificación ICBF]]=\"Pública\",1,IF(Tabla2[[#This Row],[ Clasificación ICBF]]=\"Clasificada\",2,IF(Tabla2[[#This Row],[ Clasificación ICBF]]=\"Reservada\",3,0)))","v":0},{"$f":"IF(#REF!=8,4,IF(#REF!=16,3,IF(#REF!=24,2,IF(#REF!=48,1,0))))","v":{"$error":"#REF!"}},{"$f":"IF(#REF!=8,\"Alto\",IF(#REF!=16,\"Medio\",IF(#REF!=24,\"Medio\",IF(#REF!=48,\"Bajo\",0))))","v":{"$error":"#REF!"}},null,{"$f":"+MID(Tabla2[[#This Row],[Área/Dependencia]],17,8)","v":""}]
["",null,null,null,{"$f":"+VLOOKUP(Tabla2[[#This Row],[SEDE - REGIONAL]],DATOS!B247:D280,3,FALSE)","v":{"$error":"#N/A"}},{"$f":"+IF(OR(Tabla2[[#This Row],[Área/Dependencia]]=\"Subdirección de Sistemas Integrados\",Tabla2[[#This Row],[Área/Dependencia]]=\"Subdirección de Recursos Tecnológicos\"),\"X\",\"\")","v":""},{"$f":"+CONCATENATE(Tabla2[[#This Row],[Tipo de Proceso]],Tabla2[[#This Row],[Columna4]])","v":{"$error":"#N/A"}},null,null,null,null,null,null,null,null,null,null,null,null,null,{"$f":"+IF(Tabla2[[#This Row],[Nivel de acceso ]]=\"Alto\",0.5,IF(Tabla2[[#This Row],[Nivel de acceso ]]=\"Medio\",0.3,IF(Tabla2[[#This Row],[Nivel de acceso ]]=\"Bajo\",0.2,\"\")))","v":""},null,{"$f":"+IF(Tabla2[[#This Row],[Es  Reservada]]=\"Sí\",\"Escriba Ley\",\"No Aplica\")","v":"No Aplica"},null,null,null,null,{"$f":"IFERROR(IF(AND(Tabla2[[#This Row],[Contiene Datos Personales]]=\"SÍ\",OR(Tabla2[[#This Row],[Clasificación Datos Personales]]=\"Sensible\",Tabla2[[#This Row],[Clasificación Datos Personales]]=\"NNA\",Tabla2[[#This Row],[Clasificación Datos Personales]]=\"privado\")),\"Alto\",IF(AND(Tabla2[[#This Row],[Contiene Datos Personales]]=\"SÍ\",Tabla2[[#This Row],[Clasificación Datos Personales]]=\"SEMIPRIVADO\"),\"Medio\",\"Bajo\")),\"\")","v":"Bajo"},null,null,"No Aplica","No Aplica",null,null,null,{"$f":"+IF(Tabla2[[#This Row],[Integridad]]=\"Grave\",0.5,IF(Tabla2[[#This Row],[Integridad]]=\"Importante\",0.3,IF(Tabla2[[#This Row],[Integridad]]=\"Leve\",0.2,\"\")))","v":""},null,{"$f":"+IF(Tabla2[[#This Row],[Disponibilidad Interna]]=\"Sí\",0.1,IF(Tabla2[[#This Row],[Disponibilidad Interna]]=\"NO\",0,\"\"))","v":""},null,{"$f":"+IF(Tabla2[[#This Row],[Disponibilidad Terceros]]=\"Sí\",0.1,IF(Tabla2[[#This Row],[Disponibilidad Terceros]]=\"No\",0,\"\"))","v":""},{"$f":"+Tabla2[[#This Row],[Columna32]]+Tabla2[[#This Row],[Columna34]]+Tabla2[[#This Row],[Columna1]]+Tabla2[[#This Row],[Columna3]]","v":{"$error":"#VALUE!"}},{"$f":"IFERROR(IF(Tabla2[[#This Row],[Columna33]]<0.45,\"BAJA\",IF(Tabla2[[#This Row],[Columna33]]>0.75,\"ALTA\",\"MEDIA\")),\"\")","v":""},"No Aplica",{"$f":"+IF(Tabla2[[#This Row],[Información Publicada (WEB)]]=\"Sí\",\"Digite URL\",\"No Aplica\")","v":"No Aplica"},null,{"$f":"IF(Tabla2[[#This Row],[ Clasificación ICBF]]=\"Pública\",1,IF(Tabla2[[#This Row],[ Clasificación ICBF]]=\"Clasificada\",2,IF(Tabla2[[#This Row],[ Clasificación ICBF]]=\"Reservada\",3,0)))","v":0},{"$f":"IF(#REF!=8,4,IF(#REF!=16,3,IF(#REF!=24,2,IF(#REF!=48,1,0))))","v":{"$error":"#REF!"}},{"$f":"IF(#REF!=8,\"Alto\",IF(#REF!=16,\"Medio\",IF(#REF!=24,\"Medio\",IF(#REF!=48,\"Bajo\",0))))","v":{"$error":"#REF!"}},null,{"$f":"+MID(Tabla2[[#This Row],[Área/Dependencia]],17,8)","v":""}]
["",null,null,null,{"$f":"+VLOOKUP(Tabla2[[#This Row],[SEDE - REGIONAL]],DATOS!B248:D281,3,FALSE)","v":{"$error":"#N/A"}},{"$f":"+IF(OR(Tabla2[[#This Row],[Área/Dependencia]]=\"Subdirección de Sistemas Integrados\",Tabla2[[#This Row],[Área/Dependencia]]=\"Subdirección de Recursos Tecnológicos\"),\"X\",\"\")","v":""},{"$f":"+CONCATENATE(Tabla2[[#This Row],[Tipo de Proceso]],Tabla2[[#This Row],[Columna4]])","v":{"$error":"#N/A"}},null,null,null,null,null,null,null,null,null,null,null,null,null,{"$f":"+IF(Tabla2[[#This Row],[Nivel de acceso ]]=\"Alto\",0.5,IF(Tabla2[[#This Row],[Nivel de acceso ]]=\"Medio\",0.3,IF(Tabla2[[#This Row],[Nivel de acceso ]]=\"Bajo\",0.2,\"\")))","v":""},null,{"$f":"+IF(Tabla2[[#This Row],[Es  Reservada]]=\"Sí\",\"Escriba Ley\",\"No Aplica\")","v":"No Aplica"},null,null,null,null,{"$f":"IFERROR(IF(AND(Tabla2[[#This Row],[Contiene Datos Personales]]=\"SÍ\",OR(Tabla2[[#This Row],[Clasificación Datos Personales]]=\"Sensible\",Tabla2[[#This Row],[Clasificación Datos Personales]]=\"NNA\",Tabla2[[#This Row],[Clasificación Datos Personales]]=\"privado\")),\"Alto\",IF(AND(Tabla2[[#This Row],[Contiene Datos Personales]]=\"SÍ\",Tabla2[[#This Row],[Clasificación Datos Personales]]=\"SEMIPRIVADO\"),\"Medio\",\"Bajo\")),\"\")","v":"Bajo"},null,null,"No Aplica","No Aplica",null,null,null,{"$f":"+IF(Tabla2[[#This Row],[Integridad]]=\"Grave\",0.5,IF(Tabla2[[#This Row],[Integridad]]=\"Importante\",0.3,IF(Tabla2[[#This Row],[Integridad]]=\"Leve\",0.2,\"\")))","v":""},null,{"$f":"+IF(Tabla2[[#This Row],[Disponibilidad Interna]]=\"Sí\",0.1,IF(Tabla2[[#This Row],[Disponibilidad Interna]]=\"NO\",0,\"\"))","v":""},null,{"$f":"+IF(Tabla2[[#This Row],[Disponibilidad Terceros]]=\"Sí\",0.1,IF(Tabla2[[#This Row],[Disponibilidad Terceros]]=\"No\",0,\"\"))","v":""},{"$f":"+Tabla2[[#This Row],[Columna32]]+Tabla2[[#This Row],[Columna34]]+Tabla2[[#This Row],[Columna1]]+Tabla2[[#This Row],[Columna3]]","v":{"$error":"#VALUE!"}},{"$f":"IFERROR(IF(Tabla2[[#This Row],[Columna33]]<0.45,\"BAJA\",IF(Tabla2[[#This Row],[Columna33]]>0.75,\"ALTA\",\"MEDIA\")),\"\")","v":""},"No Aplica",{"$f":"+IF(Tabla2[[#This Row],[Información Publicada (WEB)]]=\"Sí\",\"Digite URL\",\"No Aplica\")","v":"No Aplica"},null,{"$f":"IF(Tabla2[[#This Row],[ Clasificación ICBF]]=\"Pública\",1,IF(Tabla2[[#This Row],[ Clasificación ICBF]]=\"Clasificada\",2,IF(Tabla2[[#This Row],[ Clasificación ICBF]]=\"Reservada\",3,0)))","v":0},{"$f":"IF(#REF!=8,4,IF(#REF!=16,3,IF(#REF!=24,2,IF(#REF!=48,1,0))))","v":{"$error":"#REF!"}},{"$f":"IF(#REF!=8,\"Alto\",IF(#REF!=16,\"Medio\",IF(#REF!=24,\"Medio\",IF(#REF!=48,\"Bajo\",0))))","v":{"$error":"#REF!"}},null,{"$f":"+MID(Tabla2[[#This Row],[Área/Dependencia]],17,8)","v":""}]
["",null,null,null,{"$f":"+VLOOKUP(Tabla2[[#This Row],[SEDE - REGIONAL]],DATOS!B249:D282,3,FALSE)","v":{"$error":"#N/A"}},{"$f":"+IF(OR(Tabla2[[#This Row],[Área/Dependencia]]=\"Subdirección de Sistemas Integrados\",Tabla2[[#This Row],[Área/Dependencia]]=\"Subdirección de Recursos Tecnológicos\"),\"X\",\"\")","v":""},{"$f":"+CONCATENATE(Tabla2[[#This Row],[Tipo de Proceso]],Tabla2[[#This Row],[Columna4]])","v":{"$error":"#N/A"}},null,null,null,null,null,null,null,null,null,null,null,null,null,{"$f":"+IF(Tabla2[[#This Row],[Nivel de acceso ]]=\"Alto\",0.5,IF(Tabla2[[#This Row],[Nivel de acceso ]]=\"Medio\",0.3,IF(Tabla2[[#This Row],[Nivel de acceso ]]=\"Bajo\",0.2,\"\")))","v":""},null,{"$f":"+IF(Tabla2[[#This Row],[Es  Reservada]]=\"Sí\",\"Escriba Ley\",\"No Aplica\")","v":"No Aplica"},null,null,null,null,{"$f":"IFERROR(IF(AND(Tabla2[[#This Row],[Contiene Datos Personales]]=\"SÍ\",OR(Tabla2[[#This Row],[Clasificación Datos Personales]]=\"Sensible\",Tabla2[[#This Row],[Clasificación Datos Personales]]=\"NNA\",Tabla2[[#This Row],[Clasificación Datos Personales]]=\"privado\")),\"Alto\",IF(AND(Tabla2[[#This Row],[Contiene Datos Personales]]=\"SÍ\",Tabla2[[#This Row],[Clasificación Datos Personales]]=\"SEMIPRIVADO\"),\"Medio\",\"Bajo\")),\"\")","v":"Bajo"},null,null,"No Aplica","No Aplica",null,null,null,{"$f":"+IF(Tabla2[[#This Row],[Integridad]]=\"Grave\",0.5,IF(Tabla2[[#This Row],[Integridad]]=\"Importante\",0.3,IF(Tabla2[[#This Row],[Integridad]]=\"Leve\",0.2,\"\")))","v":""},null,{"$f":"+IF(Tabla2[[#This Row],[Disponibilidad Interna]]=\"Sí\",0.1,IF(Tabla2[[#This Row],[Disponibilidad Interna]]=\"NO\",0,\"\"))","v":""},null,{"$f":"+IF(Tabla2[[#This Row],[Disponibilidad Terceros]]=\"Sí\",0.1,IF(Tabla2[[#This Row],[Disponibilidad Terceros]]=\"No\",0,\"\"))","v":""},{"$f":"+Tabla2[[#This Row],[Columna32]]+Tabla2[[#This Row],[Columna34]]+Tabla2[[#This Row],[Columna1]]+Tabla2[[#This Row],[Columna3]]","v":{"$error":"#VALUE!"}},{"$f":"IFERROR(IF(Tabla2[[#This Row],[Columna33]]<0.45,\"BAJA\",IF(Tabla2[[#This Row],[Columna33]]>0.75,\"ALTA\",\"MEDIA\")),\"\")","v":""},"No Aplica",{"$f":"+IF(Tabla2[[#This Row],[Información Publicada (WEB)]]=\"Sí\",\"Digite URL\",\"No Aplica\")","v":"No Aplica"},null,{"$f":"IF(Tabla2[[#This Row],[ Clasificación ICBF]]=\"Pública\",1,IF(Tabla2[[#This Row],[ Clasificación ICBF]]=\"Clasificada\",2,IF(Tabla2[[#This Row],[ Clasificación ICBF]]=\"Reservada\",3,0)))","v":0},{"$f":"IF(#REF!=8,4,IF(#REF!=16,3,IF(#REF!=24,2,IF(#REF!=48,1,0))))","v":{"$error":"#REF!"}},{"$f":"IF(#REF!=8,\"Alto\",IF(#REF!=16,\"Medio\",IF(#REF!=24,\"Medio\",IF(#REF!=48,\"Bajo\",0))))","v":{"$error":"#REF!"}},null,{"$f":"+MID(Tabla2[[#This Row],[Área/Dependencia]],17,8)","v":""}]
["",null,null,null,{"$f":"+VLOOKUP(Tabla2[[#This Row],[SEDE - REGIONAL]],DATOS!B250:D283,3,FALSE)","v":{"$error":"#N/A"}},{"$f":"+IF(OR(Tabla2[[#This Row],[Área/Dependencia]]=\"Subdirección de Sistemas Integrados\",Tabla2[[#This Row],[Área/Dependencia]]=\"Subdirección de Recursos Tecnológicos\"),\"X\",\"\")","v":""},{"$f":"+CONCATENATE(Tabla2[[#This Row],[Tipo de Proceso]],Tabla2[[#This Row],[Columna4]])","v":{"$error":"#N/A"}},null,null,null,null,null,null,null,null,null,null,null,null,null,{"$f":"+IF(Tabla2[[#This Row],[Nivel de acceso ]]=\"Alto\",0.5,IF(Tabla2[[#This Row],[Nivel de acceso ]]=\"Medio\",0.3,IF(Tabla2[[#This Row],[Nivel de acceso ]]=\"Bajo\",0.2,\"\")))","v":""},null,{"$f":"+IF(Tabla2[[#This Row],[Es  Reservada]]=\"Sí\",\"Escriba Ley\",\"No Aplica\")","v":"No Aplica"},null,null,null,null,{"$f":"IFERROR(IF(AND(Tabla2[[#This Row],[Contiene Datos Personales]]=\"SÍ\",OR(Tabla2[[#This Row],[Clasificación Datos Personales]]=\"Sensible\",Tabla2[[#This Row],[Clasificación Datos Personales]]=\"NNA\",Tabla2[[#This Row],[Clasificación Datos Personales]]=\"privado\")),\"Alto\",IF(AND(Tabla2[[#This Row],[Contiene Datos Personales]]=\"SÍ\",Tabla2[[#This Row],[Clasificación Datos Personales]]=\"SEMIPRIVADO\"),\"Medio\",\"Bajo\")),\"\")","v":"Bajo"},null,null,"No Aplica","No Aplica",null,null,null,{"$f":"+IF(Tabla2[[#This Row],[Integridad]]=\"Grave\",0.5,IF(Tabla2[[#This Row],[Integridad]]=\"Importante\",0.3,IF(Tabla2[[#This Row],[Integridad]]=\"Leve\",0.2,\"\")))","v":""},null,{"$f":"+IF(Tabla2[[#This Row],[Disponibilidad Interna]]=\"Sí\",0.1,IF(Tabla2[[#This Row],[Disponibilidad Interna]]=\"NO\",0,\"\"))","v":""},null,{"$f":"+IF(Tabla2[[#This Row],[Disponibilidad Terceros]]=\"Sí\",0.1,IF(Tabla2[[#This Row],[Disponibilidad Terceros]]=\"No\",0,\"\"))","v":""},{"$f":"+Tabla2[[#This Row],[Columna32]]+Tabla2[[#This Row],[Columna34]]+Tabla2[[#This Row],[Columna1]]+Tabla2[[#This Row],[Columna3]]","v":{"$error":"#VALUE!"}},{"$f":"IFERROR(IF(Tabla2[[#This Row],[Columna33]]<0.45,\"BAJA\",IF(Tabla2[[#This Row],[Columna33]]>0.75,\"ALTA\",\"MEDIA\")),\"\")","v":""},"No Aplica",{"$f":"+IF(Tabla2[[#This Row],[Información Publicada (WEB)]]=\"Sí\",\"Digite URL\",\"No Aplica\")","v":"No Aplica"},null,{"$f":"IF(Tabla2[[#This Row],[ Clasificación ICBF]]=\"Pública\",1,IF(Tabla2[[#This Row],[ Clasificación ICBF]]=\"Clasificada\",2,IF(Tabla2[[#This Row],[ Clasificación ICBF]]=\"Reservada\",3,0)))","v":0},{"$f":"IF(#REF!=8,4,IF(#REF!=16,3,IF(#REF!=24,2,IF(#REF!=48,1,0))))","v":{"$error":"#REF!"}},{"$f":"IF(#REF!=8,\"Alto\",IF(#REF!=16,\"Medio\",IF(#REF!=24,\"Medio\",IF(#REF!=48,\"Bajo\",0))))","v":{"$error":"#REF!"}},null,{"$f":"+MID(Tabla2[[#This Row],[Área/Dependencia]],17,8)","v":""}]
["",null,null,null,{"$f":"+VLOOKUP(Tabla2[[#This Row],[SEDE - REGIONAL]],DATOS!B251:D284,3,FALSE)","v":{"$error":"#N/A"}},{"$f":"+IF(OR(Tabla2[[#This Row],[Área/Dependencia]]=\"Subdirección de Sistemas Integrados\",Tabla2[[#This Row],[Área/Dependencia]]=\"Subdirección de Recursos Tecnológicos\"),\"X\",\"\")","v":""},{"$f":"+CONCATENATE(Tabla2[[#This Row],[Tipo de Proceso]],Tabla2[[#This Row],[Columna4]])","v":{"$error":"#N/A"}},null,null,null,null,null,null,null,null,null,null,null,null,null,{"$f":"+IF(Tabla2[[#This Row],[Nivel de acceso ]]=\"Alto\",0.5,IF(Tabla2[[#This Row],[Nivel de acceso ]]=\"Medio\",0.3,IF(Tabla2[[#This Row],[Nivel de acceso ]]=\"Bajo\",0.2,\"\")))","v":""},null,{"$f":"+IF(Tabla2[[#This Row],[Es  Reservada]]=\"Sí\",\"Escriba Ley\",\"No Aplica\")","v":"No Aplica"},null,null,null,null,{"$f":"IFERROR(IF(AND(Tabla2[[#This Row],[Contiene Datos Personales]]=\"SÍ\",OR(Tabla2[[#This Row],[Clasificación Datos Personales]]=\"Sensible\",Tabla2[[#This Row],[Clasificación Datos Personales]]=\"NNA\",Tabla2[[#This Row],[Clasificación Datos Personales]]=\"privado\")),\"Alto\",IF(AND(Tabla2[[#This Row],[Contiene Datos Personales]]=\"SÍ\",Tabla2[[#This Row],[Clasificación Datos Personales]]=\"SEMIPRIVADO\"),\"Medio\",\"Bajo\")),\"\")","v":"Bajo"},null,null,"No Aplica","No Aplica",null,null,null,{"$f":"+IF(Tabla2[[#This Row],[Integridad]]=\"Grave\",0.5,IF(Tabla2[[#This Row],[Integridad]]=\"Importante\",0.3,IF(Tabla2[[#This Row],[Integridad]]=\"Leve\",0.2,\"\")))","v":""},null,{"$f":"+IF(Tabla2[[#This Row],[Disponibilidad Interna]]=\"Sí\",0.1,IF(Tabla2[[#This Row],[Disponibilidad Interna]]=\"NO\",0,\"\"))","v":""},null,{"$f":"+IF(Tabla2[[#This Row],[Disponibilidad Terceros]]=\"Sí\",0.1,IF(Tabla2[[#This Row],[Disponibilidad Terceros]]=\"No\",0,\"\"))","v":""},{"$f":"+Tabla2[[#This Row],[Columna32]]+Tabla2[[#This Row],[Columna34]]+Tabla2[[#This Row],[Columna1]]+Tabla2[[#This Row],[Columna3]]","v":{"$error":"#VALUE!"}},{"$f":"IFERROR(IF(Tabla2[[#This Row],[Columna33]]<0.45,\"BAJA\",IF(Tabla2[[#This Row],[Columna33]]>0.75,\"ALTA\",\"MEDIA\")),\"\")","v":""},"No Aplica",{"$f":"+IF(Tabla2[[#This Row],[Información Publicada (WEB)]]=\"Sí\",\"Digite URL\",\"No Aplica\")","v":"No Aplica"},null,{"$f":"IF(Tabla2[[#This Row],[ Clasificación ICBF]]=\"Pública\",1,IF(Tabla2[[#This Row],[ Clasificación ICBF]]=\"Clasificada\",2,IF(Tabla2[[#This Row],[ Clasificación ICBF]]=\"Reservada\",3,0)))","v":0},{"$f":"IF(#REF!=8,4,IF(#REF!=16,3,IF(#REF!=24,2,IF(#REF!=48,1,0))))","v":{"$error":"#REF!"}},{"$f":"IF(#REF!=8,\"Alto\",IF(#REF!=16,\"Medio\",IF(#REF!=24,\"Medio\",IF(#REF!=48,\"Bajo\",0))))","v":{"$error":"#REF!"}},null,{"$f":"+MID(Tabla2[[#This Row],[Área/Dependencia]],17,8)","v":""}]
["",null,null,null,{"$f":"+VLOOKUP(Tabla2[[#This Row],[SEDE - REGIONAL]],DATOS!B252:D285,3,FALSE)","v":{"$error":"#N/A"}},{"$f":"+IF(OR(Tabla2[[#This Row],[Área/Dependencia]]=\"Subdirección de Sistemas Integrados\",Tabla2[[#This Row],[Área/Dependencia]]=\"Subdirección de Recursos Tecnológicos\"),\"X\",\"\")","v":""},{"$f":"+CONCATENATE(Tabla2[[#This Row],[Tipo de Proceso]],Tabla2[[#This Row],[Columna4]])","v":{"$error":"#N/A"}},null,null,null,null,null,null,null,null,null,null,null,null,null,{"$f":"+IF(Tabla2[[#This Row],[Nivel de acceso ]]=\"Alto\",0.5,IF(Tabla2[[#This Row],[Nivel de acceso ]]=\"Medio\",0.3,IF(Tabla2[[#This Row],[Nivel de acceso ]]=\"Bajo\",0.2,\"\")))","v":""},null,{"$f":"+IF(Tabla2[[#This Row],[Es  Reservada]]=\"Sí\",\"Escriba Ley\",\"No Aplica\")","v":"No Aplica"},null,null,null,null,{"$f":"IFERROR(IF(AND(Tabla2[[#This Row],[Contiene Datos Personales]]=\"SÍ\",OR(Tabla2[[#This Row],[Clasificación Datos Personales]]=\"Sensible\",Tabla2[[#This Row],[Clasificación Datos Personales]]=\"NNA\",Tabla2[[#This Row],[Clasificación Datos Personales]]=\"privado\")),\"Alto\",IF(AND(Tabla2[[#This Row],[Contiene Datos Personales]]=\"SÍ\",Tabla2[[#This Row],[Clasificación Datos Personales]]=\"SEMIPRIVADO\"),\"Medio\",\"Bajo\")),\"\")","v":"Bajo"},null,null,"No Aplica","No Aplica",null,null,null,{"$f":"+IF(Tabla2[[#This Row],[Integridad]]=\"Grave\",0.5,IF(Tabla2[[#This Row],[Integridad]]=\"Importante\",0.3,IF(Tabla2[[#This Row],[Integridad]]=\"Leve\",0.2,\"\")))","v":""},null,{"$f":"+IF(Tabla2[[#This Row],[Disponibilidad Interna]]=\"Sí\",0.1,IF(Tabla2[[#This Row],[Disponibilidad Interna]]=\"NO\",0,\"\"))","v":""},null,{"$f":"+IF(Tabla2[[#This Row],[Disponibilidad Terceros]]=\"Sí\",0.1,IF(Tabla2[[#This Row],[Disponibilidad Terceros]]=\"No\",0,\"\"))","v":""},{"$f":"+Tabla2[[#This Row],[Columna32]]+Tabla2[[#This Row],[Columna34]]+Tabla2[[#This Row],[Columna1]]+Tabla2[[#This Row],[Columna3]]","v":{"$error":"#VALUE!"}},{"$f":"IFERROR(IF(Tabla2[[#This Row],[Columna33]]<0.45,\"BAJA\",IF(Tabla2[[#This Row],[Columna33]]>0.75,\"ALTA\",\"MEDIA\")),\"\")","v":""},"No Aplica",{"$f":"+IF(Tabla2[[#This Row],[Información Publicada (WEB)]]=\"Sí\",\"Digite URL\",\"No Aplica\")","v":"No Aplica"},null,{"$f":"IF(Tabla2[[#This Row],[ Clasificación ICBF]]=\"Pública\",1,IF(Tabla2[[#This Row],[ Clasificación ICBF]]=\"Clasificada\",2,IF(Tabla2[[#This Row],[ Clasificación ICBF]]=\"Reservada\",3,0)))","v":0},{"$f":"IF(#REF!=8,4,IF(#REF!=16,3,IF(#REF!=24,2,IF(#REF!=48,1,0))))","v":{"$error":"#REF!"}},{"$f":"IF(#REF!=8,\"Alto\",IF(#REF!=16,\"Medio\",IF(#REF!=24,\"Medio\",IF(#REF!=48,\"Bajo\",0))))","v":{"$error":"#REF!"}},null,{"$f":"+MID(Tabla2[[#This Row],[Área/Dependencia]],17,8)","v":""}]
["",null,null,null,{"$f":"+VLOOKUP(Tabla2[[#This Row],[SEDE - REGIONAL]],DATOS!B253:D286,3,FALSE)","v":{"$error":"#N/A"}},{"$f":"+IF(OR(Tabla2[[#This Row],[Área/Dependencia]]=\"Subdirección de Sistemas Integrados\",Tabla2[[#This Row],[Área/Dependencia]]=\"Subdirección de Recursos Tecnológicos\"),\"X\",\"\")","v":""},{"$f":"+CONCATENATE(Tabla2[[#This Row],[Tipo de Proceso]],Tabla2[[#This Row],[Columna4]])","v":{"$error":"#N/A"}},null,null,null,null,null,null,null,null,null,null,null,null,null,{"$f":"+IF(Tabla2[[#This Row],[Nivel de acceso ]]=\"Alto\",0.5,IF(Tabla2[[#This Row],[Nivel de acceso ]]=\"Medio\",0.3,IF(Tabla2[[#This Row],[Nivel de acceso ]]=\"Bajo\",0.2,\"\")))","v":""},null,{"$f":"+IF(Tabla2[[#This Row],[Es  Reservada]]=\"Sí\",\"Escriba Ley\",\"No Aplica\")","v":"No Aplica"},null,null,null,null,{"$f":"IFERROR(IF(AND(Tabla2[[#This Row],[Contiene Datos Personales]]=\"SÍ\",OR(Tabla2[[#This Row],[Clasificación Datos Personales]]=\"Sensible\",Tabla2[[#This Row],[Clasificación Datos Personales]]=\"NNA\",Tabla2[[#This Row],[Clasificación Datos Personales]]=\"privado\")),\"Alto\",IF(AND(Tabla2[[#This Row],[Contiene Datos Personales]]=\"SÍ\",Tabla2[[#This Row],[Clasificación Datos Personales]]=\"SEMIPRIVADO\"),\"Medio\",\"Bajo\")),\"\")","v":"Bajo"},null,null,"No Aplica","No Aplica",null,null,null,{"$f":"+IF(Tabla2[[#This Row],[Integridad]]=\"Grave\",0.5,IF(Tabla2[[#This Row],[Integridad]]=\"Importante\",0.3,IF(Tabla2[[#This Row],[Integridad]]=\"Leve\",0.2,\"\")))","v":""},null,{"$f":"+IF(Tabla2[[#This Row],[Disponibilidad Interna]]=\"Sí\",0.1,IF(Tabla2[[#This Row],[Disponibilidad Interna]]=\"NO\",0,\"\"))","v":""},null,{"$f":"+IF(Tabla2[[#This Row],[Disponibilidad Terceros]]=\"Sí\",0.1,IF(Tabla2[[#This Row],[Disponibilidad Terceros]]=\"No\",0,\"\"))","v":""},{"$f":"+Tabla2[[#This Row],[Columna32]]+Tabla2[[#This Row],[Columna34]]+Tabla2[[#This Row],[Columna1]]+Tabla2[[#This Row],[Columna3]]","v":{"$error":"#VALUE!"}},{"$f":"IFERROR(IF(Tabla2[[#This Row],[Columna33]]<0.45,\"BAJA\",IF(Tabla2[[#This Row],[Columna33]]>0.75,\"ALTA\",\"MEDIA\")),\"\")","v":""},"No Aplica",{"$f":"+IF(Tabla2[[#This Row],[Información Publicada (WEB)]]=\"Sí\",\"Digite URL\",\"No Aplica\")","v":"No Aplica"},null,{"$f":"IF(Tabla2[[#This Row],[ Clasificación ICBF]]=\"Pública\",1,IF(Tabla2[[#This Row],[ Clasificación ICBF]]=\"Clasificada\",2,IF(Tabla2[[#This Row],[ Clasificación ICBF]]=\"Reservada\",3,0)))","v":0},{"$f":"IF(#REF!=8,4,IF(#REF!=16,3,IF(#REF!=24,2,IF(#REF!=48,1,0))))","v":{"$error":"#REF!"}},{"$f":"IF(#REF!=8,\"Alto\",IF(#REF!=16,\"Medio\",IF(#REF!=24,\"Medio\",IF(#REF!=48,\"Bajo\",0))))","v":{"$error":"#REF!"}},null,{"$f":"+MID(Tabla2[[#This Row],[Área/Dependencia]],17,8)","v":""}]
["",null,null,null,{"$f":"+VLOOKUP(Tabla2[[#This Row],[SEDE - REGIONAL]],DATOS!B254:D287,3,FALSE)","v":{"$error":"#N/A"}},{"$f":"+IF(OR(Tabla2[[#This Row],[Área/Dependencia]]=\"Subdirección de Sistemas Integrados\",Tabla2[[#This Row],[Área/Dependencia]]=\"Subdirección de Recursos Tecnológicos\"),\"X\",\"\")","v":""},{"$f":"+CONCATENATE(Tabla2[[#This Row],[Tipo de Proceso]],Tabla2[[#This Row],[Columna4]])","v":{"$error":"#N/A"}},null,null,null,null,null,null,null,null,null,null,null,null,null,{"$f":"+IF(Tabla2[[#This Row],[Nivel de acceso ]]=\"Alto\",0.5,IF(Tabla2[[#This Row],[Nivel de acceso ]]=\"Medio\",0.3,IF(Tabla2[[#This Row],[Nivel de acceso ]]=\"Bajo\",0.2,\"\")))","v":""},null,{"$f":"+IF(Tabla2[[#This Row],[Es  Reservada]]=\"Sí\",\"Escriba Ley\",\"No Aplica\")","v":"No Aplica"},null,null,null,null,{"$f":"IFERROR(IF(AND(Tabla2[[#This Row],[Contiene Datos Personales]]=\"SÍ\",OR(Tabla2[[#This Row],[Clasificación Datos Personales]]=\"Sensible\",Tabla2[[#This Row],[Clasificación Datos Personales]]=\"NNA\",Tabla2[[#This Row],[Clasificación Datos Personales]]=\"privado\")),\"Alto\",IF(AND(Tabla2[[#This Row],[Contiene Datos Personales]]=\"SÍ\",Tabla2[[#This Row],[Clasificación Datos Personales]]=\"SEMIPRIVADO\"),\"Medio\",\"Bajo\")),\"\")","v":"Bajo"},null,null,"No Aplica","No Aplica",null,null,null,{"$f":"+IF(Tabla2[[#This Row],[Integridad]]=\"Grave\",0.5,IF(Tabla2[[#This Row],[Integridad]]=\"Importante\",0.3,IF(Tabla2[[#This Row],[Integridad]]=\"Leve\",0.2,\"\")))","v":""},null,{"$f":"+IF(Tabla2[[#This Row],[Disponibilidad Interna]]=\"Sí\",0.1,IF(Tabla2[[#This Row],[Disponibilidad Interna]]=\"NO\",0,\"\"))","v":""},null,{"$f":"+IF(Tabla2[[#This Row],[Disponibilidad Terceros]]=\"Sí\",0.1,IF(Tabla2[[#This Row],[Disponibilidad Terceros]]=\"No\",0,\"\"))","v":""},{"$f":"+Tabla2[[#This Row],[Columna32]]+Tabla2[[#This Row],[Columna34]]+Tabla2[[#This Row],[Columna1]]+Tabla2[[#This Row],[Columna3]]","v":{"$error":"#VALUE!"}},{"$f":"IFERROR(IF(Tabla2[[#This Row],[Columna33]]<0.45,\"BAJA\",IF(Tabla2[[#This Row],[Columna33]]>0.75,\"ALTA\",\"MEDIA\")),\"\")","v":""},"No Aplica",{"$f":"+IF(Tabla2[[#This Row],[Información Publicada (WEB)]]=\"Sí\",\"Digite URL\",\"No Aplica\")","v":"No Aplica"},null,{"$f":"IF(Tabla2[[#This Row],[ Clasificación ICBF]]=\"Pública\",1,IF(Tabla2[[#This Row],[ Clasificación ICBF]]=\"Clasificada\",2,IF(Tabla2[[#This Row],[ Clasificación ICBF]]=\"Reservada\",3,0)))","v":0},{"$f":"IF(#REF!=8,4,IF(#REF!=16,3,IF(#REF!=24,2,IF(#REF!=48,1,0))))","v":{"$error":"#REF!"}},{"$f":"IF(#REF!=8,\"Alto\",IF(#REF!=16,\"Medio\",IF(#REF!=24,\"Medio\",IF(#REF!=48,\"Bajo\",0))))","v":{"$error":"#REF!"}},null,{"$f":"+MID(Tabla2[[#This Row],[Área/Dependencia]],17,8)","v":""}]
["",null,null,null,{"$f":"+VLOOKUP(Tabla2[[#This Row],[SEDE - REGIONAL]],DATOS!B255:D288,3,FALSE)","v":{"$error":"#N/A"}},{"$f":"+IF(OR(Tabla2[[#This Row],[Área/Dependencia]]=\"Subdirección de Sistemas Integrados\",Tabla2[[#This Row],[Área/Dependencia]]=\"Subdirección de Recursos Tecnológicos\"),\"X\",\"\")","v":""},{"$f":"+CONCATENATE(Tabla2[[#This Row],[Tipo de Proceso]],Tabla2[[#This Row],[Columna4]])","v":{"$error":"#N/A"}},null,null,null,null,null,null,null,null,null,null,null,null,null,{"$f":"+IF(Tabla2[[#This Row],[Nivel de acceso ]]=\"Alto\",0.5,IF(Tabla2[[#This Row],[Nivel de acceso ]]=\"Medio\",0.3,IF(Tabla2[[#This Row],[Nivel de acceso ]]=\"Bajo\",0.2,\"\")))","v":""},null,{"$f":"+IF(Tabla2[[#This Row],[Es  Reservada]]=\"Sí\",\"Escriba Ley\",\"No Aplica\")","v":"No Aplica"},null,null,null,null,{"$f":"IFERROR(IF(AND(Tabla2[[#This Row],[Contiene Datos Personales]]=\"SÍ\",OR(Tabla2[[#This Row],[Clasificación Datos Personales]]=\"Sensible\",Tabla2[[#This Row],[Clasificación Datos Personales]]=\"NNA\",Tabla2[[#This Row],[Clasificación Datos Personales]]=\"privado\")),\"Alto\",IF(AND(Tabla2[[#This Row],[Contiene Datos Personales]]=\"SÍ\",Tabla2[[#This Row],[Clasificación Datos Personales]]=\"SEMIPRIVADO\"),\"Medio\",\"Bajo\")),\"\")","v":"Bajo"},null,null,"No Aplica","No Aplica",null,null,null,{"$f":"+IF(Tabla2[[#This Row],[Integridad]]=\"Grave\",0.5,IF(Tabla2[[#This Row],[Integridad]]=\"Importante\",0.3,IF(Tabla2[[#This Row],[Integridad]]=\"Leve\",0.2,\"\")))","v":""},null,{"$f":"+IF(Tabla2[[#This Row],[Disponibilidad Interna]]=\"Sí\",0.1,IF(Tabla2[[#This Row],[Disponibilidad Interna]]=\"NO\",0,\"\"))","v":""},null,{"$f":"+IF(Tabla2[[#This Row],[Disponibilidad Terceros]]=\"Sí\",0.1,IF(Tabla2[[#This Row],[Disponibilidad Terceros]]=\"No\",0,\"\"))","v":""},{"$f":"+Tabla2[[#This Row],[Columna32]]+Tabla2[[#This Row],[Columna34]]+Tabla2[[#This Row],[Columna1]]+Tabla2[[#This Row],[Columna3]]","v":{"$error":"#VALUE!"}},{"$f":"IFERROR(IF(Tabla2[[#This Row],[Columna33]]<0.45,\"BAJA\",IF(Tabla2[[#This Row],[Columna33]]>0.75,\"ALTA\",\"MEDIA\")),\"\")","v":""},"No Aplica",{"$f":"+IF(Tabla2[[#This Row],[Información Publicada (WEB)]]=\"Sí\",\"Digite URL\",\"No Aplica\")","v":"No Aplica"},null,{"$f":"IF(Tabla2[[#This Row],[ Clasificación ICBF]]=\"Pública\",1,IF(Tabla2[[#This Row],[ Clasificación ICBF]]=\"Clasificada\",2,IF(Tabla2[[#This Row],[ Clasificación ICBF]]=\"Reservada\",3,0)))","v":0},{"$f":"IF(#REF!=8,4,IF(#REF!=16,3,IF(#REF!=24,2,IF(#REF!=48,1,0))))","v":{"$error":"#REF!"}},{"$f":"IF(#REF!=8,\"Alto\",IF(#REF!=16,\"Medio\",IF(#REF!=24,\"Medio\",IF(#REF!=48,\"Bajo\",0))))","v":{"$error":"#REF!"}},null,{"$f":"+MID(Tabla2[[#This Row],[Área/Dependencia]],17,8)","v":""}]
["",null,null,null,{"$f":"+VLOOKUP(Tabla2[[#This Row],[SEDE - REGIONAL]],DATOS!B256:D289,3,FALSE)","v":{"$error":"#N/A"}},{"$f":"+IF(OR(Tabla2[[#This Row],[Área/Dependencia]]=\"Subdirección de Sistemas Integrados\",Tabla2[[#This Row],[Área/Dependencia]]=\"Subdirección de Recursos Tecnológicos\"),\"X\",\"\")","v":""},{"$f":"+CONCATENATE(Tabla2[[#This Row],[Tipo de Proceso]],Tabla2[[#This Row],[Columna4]])","v":{"$error":"#N/A"}},null,null,null,null,null,null,null,null,null,null,null,null,null,{"$f":"+IF(Tabla2[[#This Row],[Nivel de acceso ]]=\"Alto\",0.5,IF(Tabla2[[#This Row],[Nivel de acceso ]]=\"Medio\",0.3,IF(Tabla2[[#This Row],[Nivel de acceso ]]=\"Bajo\",0.2,\"\")))","v":""},null,{"$f":"+IF(Tabla2[[#This Row],[Es  Reservada]]=\"Sí\",\"Escriba Ley\",\"No Aplica\")","v":"No Aplica"},null,null,null,null,{"$f":"IFERROR(IF(AND(Tabla2[[#This Row],[Contiene Datos Personales]]=\"SÍ\",OR(Tabla2[[#This Row],[Clasificación Datos Personales]]=\"Sensible\",Tabla2[[#This Row],[Clasificación Datos Personales]]=\"NNA\",Tabla2[[#This Row],[Clasificación Datos Personales]]=\"privado\")),\"Alto\",IF(AND(Tabla2[[#This Row],[Contiene Datos Personales]]=\"SÍ\",Tabla2[[#This Row],[Clasificación Datos Personales]]=\"SEMIPRIVADO\"),\"Medio\",\"Bajo\")),\"\")","v":"Bajo"},null,null,"No Aplica","No Aplica",null,null,null,{"$f":"+IF(Tabla2[[#This Row],[Integridad]]=\"Grave\",0.5,IF(Tabla2[[#This Row],[Integridad]]=\"Importante\",0.3,IF(Tabla2[[#This Row],[Integridad]]=\"Leve\",0.2,\"\")))","v":""},null,{"$f":"+IF(Tabla2[[#This Row],[Disponibilidad Interna]]=\"Sí\",0.1,IF(Tabla2[[#This Row],[Disponibilidad Interna]]=\"NO\",0,\"\"))","v":""},null,{"$f":"+IF(Tabla2[[#This Row],[Disponibilidad Terceros]]=\"Sí\",0.1,IF(Tabla2[[#This Row],[Disponibilidad Terceros]]=\"No\",0,\"\"))","v":""},{"$f":"+Tabla2[[#This Row],[Columna32]]+Tabla2[[#This Row],[Columna34]]+Tabla2[[#This Row],[Columna1]]+Tabla2[[#This Row],[Columna3]]","v":{"$error":"#VALUE!"}},{"$f":"IFERROR(IF(Tabla2[[#This Row],[Columna33]]<0.45,\"BAJA\",IF(Tabla2[[#This Row],[Columna33]]>0.75,\"ALTA\",\"MEDIA\")),\"\")","v":""},"No Aplica",{"$f":"+IF(Tabla2[[#This Row],[Información Publicada (WEB)]]=\"Sí\",\"Digite URL\",\"No Aplica\")","v":"No Aplica"},null,{"$f":"IF(Tabla2[[#This Row],[ Clasificación ICBF]]=\"Pública\",1,IF(Tabla2[[#This Row],[ Clasificación ICBF]]=\"Clasificada\",2,IF(Tabla2[[#This Row],[ Clasificación ICBF]]=\"Reservada\",3,0)))","v":0},{"$f":"IF(#REF!=8,4,IF(#REF!=16,3,IF(#REF!=24,2,IF(#REF!=48,1,0))))","v":{"$error":"#REF!"}},{"$f":"IF(#REF!=8,\"Alto\",IF(#REF!=16,\"Medio\",IF(#REF!=24,\"Medio\",IF(#REF!=48,\"Bajo\",0))))","v":{"$error":"#REF!"}},null,{"$f":"+MID(Tabla2[[#This Row],[Área/Dependencia]],17,8)","v":""}]
["",null,null,null,{"$f":"+VLOOKUP(Tabla2[[#This Row],[SEDE - REGIONAL]],DATOS!B257:D290,3,FALSE)","v":{"$error":"#N/A"}},{"$f":"+IF(OR(Tabla2[[#This Row],[Área/Dependencia]]=\"Subdirección de Sistemas Integrados\",Tabla2[[#This Row],[Área/Dependencia]]=\"Subdirección de Recursos Tecnológicos\"),\"X\",\"\")","v":""},{"$f":"+CONCATENATE(Tabla2[[#This Row],[Tipo de Proceso]],Tabla2[[#This Row],[Columna4]])","v":{"$error":"#N/A"}},null,null,null,null,null,null,null,null,null,null,null,null,null,{"$f":"+IF(Tabla2[[#This Row],[Nivel de acceso ]]=\"Alto\",0.5,IF(Tabla2[[#This Row],[Nivel de acceso ]]=\"Medio\",0.3,IF(Tabla2[[#This Row],[Nivel de acceso ]]=\"Bajo\",0.2,\"\")))","v":""},null,{"$f":"+IF(Tabla2[[#This Row],[Es  Reservada]]=\"Sí\",\"Escriba Ley\",\"No Aplica\")","v":"No Aplica"},null,null,null,null,{"$f":"IFERROR(IF(AND(Tabla2[[#This Row],[Contiene Datos Personales]]=\"SÍ\",OR(Tabla2[[#This Row],[Clasificación Datos Personales]]=\"Sensible\",Tabla2[[#This Row],[Clasificación Datos Personales]]=\"NNA\",Tabla2[[#This Row],[Clasificación Datos Personales]]=\"privado\")),\"Alto\",IF(AND(Tabla2[[#This Row],[Contiene Datos Personales]]=\"SÍ\",Tabla2[[#This Row],[Clasificación Datos Personales]]=\"SEMIPRIVADO\"),\"Medio\",\"Bajo\")),\"\")","v":"Bajo"},null,null,"No Aplica","No Aplica",null,null,null,{"$f":"+IF(Tabla2[[#This Row],[Integridad]]=\"Grave\",0.5,IF(Tabla2[[#This Row],[Integridad]]=\"Importante\",0.3,IF(Tabla2[[#This Row],[Integridad]]=\"Leve\",0.2,\"\")))","v":""},null,{"$f":"+IF(Tabla2[[#This Row],[Disponibilidad Interna]]=\"Sí\",0.1,IF(Tabla2[[#This Row],[Disponibilidad Interna]]=\"NO\",0,\"\"))","v":""},null,{"$f":"+IF(Tabla2[[#This Row],[Disponibilidad Terceros]]=\"Sí\",0.1,IF(Tabla2[[#This Row],[Disponibilidad Terceros]]=\"No\",0,\"\"))","v":""},{"$f":"+Tabla2[[#This Row],[Columna32]]+Tabla2[[#This Row],[Columna34]]+Tabla2[[#This Row],[Columna1]]+Tabla2[[#This Row],[Columna3]]","v":{"$error":"#VALUE!"}},{"$f":"IFERROR(IF(Tabla2[[#This Row],[Columna33]]<0.45,\"BAJA\",IF(Tabla2[[#This Row],[Columna33]]>0.75,\"ALTA\",\"MEDIA\")),\"\")","v":""},"No Aplica",{"$f":"+IF(Tabla2[[#This Row],[Información Publicada (WEB)]]=\"Sí\",\"Digite URL\",\"No Aplica\")","v":"No Aplica"},null,{"$f":"IF(Tabla2[[#This Row],[ Clasificación ICBF]]=\"Pública\",1,IF(Tabla2[[#This Row],[ Clasificación ICBF]]=\"Clasificada\",2,IF(Tabla2[[#This Row],[ Clasificación ICBF]]=\"Reservada\",3,0)))","v":0},{"$f":"IF(#REF!=8,4,IF(#REF!=16,3,IF(#REF!=24,2,IF(#REF!=48,1,0))))","v":{"$error":"#REF!"}},{"$f":"IF(#REF!=8,\"Alto\",IF(#REF!=16,\"Medio\",IF(#REF!=24,\"Medio\",IF(#REF!=48,\"Bajo\",0))))","v":{"$error":"#REF!"}},null,{"$f":"+MID(Tabla2[[#This Row],[Área/Dependencia]],17,8)","v":""}]
["",null,null,null,{"$f":"+VLOOKUP(Tabla2[[#This Row],[SEDE - REGIONAL]],DATOS!B258:D291,3,FALSE)","v":{"$error":"#N/A"}},{"$f":"+IF(OR(Tabla2[[#This Row],[Área/Dependencia]]=\"Subdirección de Sistemas Integrados\",Tabla2[[#This Row],[Área/Dependencia]]=\"Subdirección de Recursos Tecnológicos\"),\"X\",\"\")","v":""},{"$f":"+CONCATENATE(Tabla2[[#This Row],[Tipo de Proceso]],Tabla2[[#This Row],[Columna4]])","v":{"$error":"#N/A"}},null,null,null,null,null,null,null,null,null,null,null,null,null,{"$f":"+IF(Tabla2[[#This Row],[Nivel de acceso ]]=\"Alto\",0.5,IF(Tabla2[[#This Row],[Nivel de acceso ]]=\"Medio\",0.3,IF(Tabla2[[#This Row],[Nivel de acceso ]]=\"Bajo\",0.2,\"\")))","v":""},null,{"$f":"+IF(Tabla2[[#This Row],[Es  Reservada]]=\"Sí\",\"Escriba Ley\",\"No Aplica\")","v":"No Aplica"},null,null,null,null,{"$f":"IFERROR(IF(AND(Tabla2[[#This Row],[Contiene Datos Personales]]=\"SÍ\",OR(Tabla2[[#This Row],[Clasificación Datos Personales]]=\"Sensible\",Tabla2[[#This Row],[Clasificación Datos Personales]]=\"NNA\",Tabla2[[#This Row],[Clasificación Datos Personales]]=\"privado\")),\"Alto\",IF(AND(Tabla2[[#This Row],[Contiene Datos Personales]]=\"SÍ\",Tabla2[[#This Row],[Clasificación Datos Personales]]=\"SEMIPRIVADO\"),\"Medio\",\"Bajo\")),\"\")","v":"Bajo"},null,null,"No Aplica","No Aplica",null,null,null,{"$f":"+IF(Tabla2[[#This Row],[Integridad]]=\"Grave\",0.5,IF(Tabla2[[#This Row],[Integridad]]=\"Importante\",0.3,IF(Tabla2[[#This Row],[Integridad]]=\"Leve\",0.2,\"\")))","v":""},null,{"$f":"+IF(Tabla2[[#This Row],[Disponibilidad Interna]]=\"Sí\",0.1,IF(Tabla2[[#This Row],[Disponibilidad Interna]]=\"NO\",0,\"\"))","v":""},null,{"$f":"+IF(Tabla2[[#This Row],[Disponibilidad Terceros]]=\"Sí\",0.1,IF(Tabla2[[#This Row],[Disponibilidad Terceros]]=\"No\",0,\"\"))","v":""},{"$f":"+Tabla2[[#This Row],[Columna32]]+Tabla2[[#This Row],[Columna34]]+Tabla2[[#This Row],[Columna1]]+Tabla2[[#This Row],[Columna3]]","v":{"$error":"#VALUE!"}},{"$f":"IFERROR(IF(Tabla2[[#This Row],[Columna33]]<0.45,\"BAJA\",IF(Tabla2[[#This Row],[Columna33]]>0.75,\"ALTA\",\"MEDIA\")),\"\")","v":""},"No Aplica",{"$f":"+IF(Tabla2[[#This Row],[Información Publicada (WEB)]]=\"Sí\",\"Digite URL\",\"No Aplica\")","v":"No Aplica"},null,{"$f":"IF(Tabla2[[#This Row],[ Clasificación ICBF]]=\"Pública\",1,IF(Tabla2[[#This Row],[ Clasificación ICBF]]=\"Clasificada\",2,IF(Tabla2[[#This Row],[ Clasificación ICBF]]=\"Reservada\",3,0)))","v":0},{"$f":"IF(#REF!=8,4,IF(#REF!=16,3,IF(#REF!=24,2,IF(#REF!=48,1,0))))","v":{"$error":"#REF!"}},{"$f":"IF(#REF!=8,\"Alto\",IF(#REF!=16,\"Medio\",IF(#REF!=24,\"Medio\",IF(#REF!=48,\"Bajo\",0))))","v":{"$error":"#REF!"}},null,{"$f":"+MID(Tabla2[[#This Row],[Área/Dependencia]],17,8)","v":""}]
["",null,null,null,{"$f":"+VLOOKUP(Tabla2[[#This Row],[SEDE - REGIONAL]],DATOS!B259:D292,3,FALSE)","v":{"$error":"#N/A"}},{"$f":"+IF(OR(Tabla2[[#This Row],[Área/Dependencia]]=\"Subdirección de Sistemas Integrados\",Tabla2[[#This Row],[Área/Dependencia]]=\"Subdirección de Recursos Tecnológicos\"),\"X\",\"\")","v":""},{"$f":"+CONCATENATE(Tabla2[[#This Row],[Tipo de Proceso]],Tabla2[[#This Row],[Columna4]])","v":{"$error":"#N/A"}},null,null,null,null,null,null,null,null,null,null,null,null,null,{"$f":"+IF(Tabla2[[#This Row],[Nivel de acceso ]]=\"Alto\",0.5,IF(Tabla2[[#This Row],[Nivel de acceso ]]=\"Medio\",0.3,IF(Tabla2[[#This Row],[Nivel de acceso ]]=\"Bajo\",0.2,\"\")))","v":""},null,{"$f":"+IF(Tabla2[[#This Row],[Es  Reservada]]=\"Sí\",\"Escriba Ley\",\"No Aplica\")","v":"No Aplica"},null,null,null,null,{"$f":"IFERROR(IF(AND(Tabla2[[#This Row],[Contiene Datos Personales]]=\"SÍ\",OR(Tabla2[[#This Row],[Clasificación Datos Personales]]=\"Sensible\",Tabla2[[#This Row],[Clasificación Datos Personales]]=\"NNA\",Tabla2[[#This Row],[Clasificación Datos Personales]]=\"privado\")),\"Alto\",IF(AND(Tabla2[[#This Row],[Contiene Datos Personales]]=\"SÍ\",Tabla2[[#This Row],[Clasificación Datos Personales]]=\"SEMIPRIVADO\"),\"Medio\",\"Bajo\")),\"\")","v":"Bajo"},null,null,{"$f":"+IF(OR(N264=\"FÍSICO-ELECTRÓNICO\",N264=\"FÍSICO\",N264=\"Hardware\"),\"Digite ubicación\",\"No Aplica\")","v":"No Aplica"},{"$f":"+IF(OR(N264=\"FÍSICO-ELECTRÓNICO\",N264=\"ELECTRÓNICO\",N264=\"Software\"),\"Digite ubicación\",\"No Aplica\")","v":"No Aplica"},null,null,null,{"$f":"+IF(Tabla2[[#This Row],[Integridad]]=\"Grave\",0.5,IF(Tabla2[[#This Row],[Integridad]]=\"Importante\",0.3,IF(Tabla2[[#This Row],[Integridad]]=\"Leve\",0.2,\"\")))","v":""},null,{"$f":"+IF(Tabla2[[#This Row],[Disponibilidad Interna]]=\"Sí\",0.1,IF(Tabla2[[#This Row],[Disponibilidad Interna]]=\"NO\",0,\"\"))","v":""},null,{"$f":"+IF(Tabla2[[#This Row],[Disponibilidad Terceros]]=\"Sí\",0.1,IF(Tabla2[[#This Row],[Disponibilidad Terceros]]=\"No\",0,\"\"))","v":""},{"$f":"+Tabla2[[#This Row],[Columna32]]+Tabla2[[#This Row],[Columna34]]+Tabla2[[#This Row],[Columna1]]+Tabla2[[#This Row],[Columna3]]","v":{"$error":"#VALUE!"}},{"$f":"IFERROR(IF(Tabla2[[#This Row],[Columna33]]<0.45,\"BAJA\",IF(Tabla2[[#This Row],[Columna33]]>0.75,\"ALTA\",\"MEDIA\")),\"\")","v":""},{"$f":"+IF(OR(N264=\"FÍSICO-ELECTRÓNICO\",N264=\"ELECTRÓNICO\"),\"Sí\",\"No Aplica\")","v":"No Aplica"},{"$f":"+IF(Tabla2[[#This Row],[Información Publicada (WEB)]]=\"Sí\",\"Digite URL\",\"No Aplica\")","v":"No Aplica"},null,{"$f":"IF(Tabla2[[#This Row],[ Clasificación ICBF]]=\"Pública\",1,IF(Tabla2[[#This Row],[ Clasificación ICBF]]=\"Clasificada\",2,IF(Tabla2[[#This Row],[ Clasificación ICBF]]=\"Reservada\",3,0)))","v":0},{"$f":"IF(#REF!=8,4,IF(#REF!=16,3,IF(#REF!=24,2,IF(#REF!=48,1,0))))","v":{"$error":"#REF!"}},{"$f":"IF(#REF!=8,\"Alto\",IF(#REF!=16,\"Medio\",IF(#REF!=24,\"Medio\",IF(#REF!=48,\"Bajo\",0))))","v":{"$error":"#REF!"}},null,{"$f":"+MID(Tabla2[[#This Row],[Área/Dependencia]],17,8)","v":""}]
["",null,null,null,{"$f":"+VLOOKUP(Tabla2[[#This Row],[SEDE - REGIONAL]],DATOS!B260:D293,3,FALSE)","v":{"$error":"#N/A"}},{"$f":"+IF(OR(Tabla2[[#This Row],[Área/Dependencia]]=\"Subdirección de Sistemas Integrados\",Tabla2[[#This Row],[Área/Dependencia]]=\"Subdirección de Recursos Tecnológicos\"),\"X\",\"\")","v":""},{"$f":"+CONCATENATE(Tabla2[[#This Row],[Tipo de Proceso]],Tabla2[[#This Row],[Columna4]])","v":{"$error":"#N/A"}},null,null,null,null,null,null,null,null,null,null,null,null,null,{"$f":"+IF(Tabla2[[#This Row],[Nivel de acceso ]]=\"Alto\",0.5,IF(Tabla2[[#This Row],[Nivel de acceso ]]=\"Medio\",0.3,IF(Tabla2[[#This Row],[Nivel de acceso ]]=\"Bajo\",0.2,\"\")))","v":""},null,{"$f":"+IF(Tabla2[[#This Row],[Es  Reservada]]=\"Sí\",\"Escriba Ley\",\"No Aplica\")","v":"No Aplica"},null,null,null,null,{"$f":"IFERROR(IF(AND(Tabla2[[#This Row],[Contiene Datos Personales]]=\"SÍ\",OR(Tabla2[[#This Row],[Clasificación Datos Personales]]=\"Sensible\",Tabla2[[#This Row],[Clasificación Datos Personales]]=\"NNA\",Tabla2[[#This Row],[Clasificación Datos Personales]]=\"privado\")),\"Alto\",IF(AND(Tabla2[[#This Row],[Contiene Datos Personales]]=\"SÍ\",Tabla2[[#This Row],[Clasificación Datos Personales]]=\"SEMIPRIVADO\"),\"Medio\",\"Bajo\")),\"\")","v":"Bajo"},null,null,"No Aplica","No Aplica",null,null,null,{"$f":"+IF(Tabla2[[#This Row],[Integridad]]=\"Grave\",0.5,IF(Tabla2[[#This Row],[Integridad]]=\"Importante\",0.3,IF(Tabla2[[#This Row],[Integridad]]=\"Leve\",0.2,\"\")))","v":""},null,{"$f":"+IF(Tabla2[[#This Row],[Disponibilidad Interna]]=\"Sí\",0.1,IF(Tabla2[[#This Row],[Disponibilidad Interna]]=\"NO\",0,\"\"))","v":""},null,{"$f":"+IF(Tabla2[[#This Row],[Disponibilidad Terceros]]=\"Sí\",0.1,IF(Tabla2[[#This Row],[Disponibilidad Terceros]]=\"No\",0,\"\"))","v":""},{"$f":"+Tabla2[[#This Row],[Columna32]]+Tabla2[[#This Row],[Columna34]]+Tabla2[[#This Row],[Columna1]]+Tabla2[[#This Row],[Columna3]]","v":{"$error":"#VALUE!"}},{"$f":"IFERROR(IF(Tabla2[[#This Row],[Columna33]]<0.45,\"BAJA\",IF(Tabla2[[#This Row],[Columna33]]>0.75,\"ALTA\",\"MEDIA\")),\"\")","v":""},"No Aplica",{"$f":"+IF(Tabla2[[#This Row],[Información Publicada (WEB)]]=\"Sí\",\"Digite URL\",\"No Aplica\")","v":"No Aplica"},null,{"$f":"IF(Tabla2[[#This Row],[ Clasificación ICBF]]=\"Pública\",1,IF(Tabla2[[#This Row],[ Clasificación ICBF]]=\"Clasificada\",2,IF(Tabla2[[#This Row],[ Clasificación ICBF]]=\"Reservada\",3,0)))","v":0},{"$f":"IF(#REF!=8,4,IF(#REF!=16,3,IF(#REF!=24,2,IF(#REF!=48,1,0))))","v":{"$error":"#REF!"}},{"$f":"IF(#REF!=8,\"Alto\",IF(#REF!=16,\"Medio\",IF(#REF!=24,\"Medio\",IF(#REF!=48,\"Bajo\",0))))","v":{"$error":"#REF!"}},null,{"$f":"+MID(Tabla2[[#This Row],[Área/Dependencia]],17,8)","v":""}]
[{"$f":"IFERROR(IF(B266<>\"\",A265+1,\"\"),\"\")","v":""},null,null,null,{"$f":"+VLOOKUP(Tabla2[[#This Row],[SEDE - REGIONAL]],DATOS!B261:D294,3,FALSE)","v":{"$error":"#N/A"}},{"$f":"+IF(OR(Tabla2[[#This Row],[Área/Dependencia]]=\"Subdirección de Sistemas Integrados\",Tabla2[[#This Row],[Área/Dependencia]]=\"Subdirección de Recursos Tecnológicos\"),\"X\",\"\")","v":""},{"$f":"+CONCATENATE(Tabla2[[#This Row],[Tipo de Proceso]],Tabla2[[#This Row],[Columna4]])","v":{"$error":"#N/A"}},null,null,null,null,null,null,null,null,null,null,null,null,null,{"$f":"+IF(Tabla2[[#This Row],[Nivel de acceso ]]=\"Alto\",0.5,IF(Tabla2[[#This Row],[Nivel de acceso ]]=\"Medio\",0.3,IF(Tabla2[[#This Row],[Nivel de acceso ]]=\"Bajo\",0.2,\"\")))","v":""},null,{"$f":"+IF(Tabla2[[#This Row],[Es  Reservada]]=\"Sí\",\"Escriba Ley\",\"No Aplica\")","v":"No Aplica"},null,null,null,null,{"$f":"IFERROR(IF(AND(Tabla2[[#This Row],[Contiene Datos Personales]]=\"SÍ\",OR(Tabla2[[#This Row],[Clasificación Datos Personales]]=\"Sensible\",Tabla2[[#This Row],[Clasificación Datos Personales]]=\"NNA\",Tabla2[[#This Row],[Clasificación Datos Personales]]=\"privado\")),\"Alto\",IF(AND(Tabla2[[#This Row],[Contiene Datos Personales]]=\"SÍ\",Tabla2[[#This Row],[Clasificación Datos Personales]]=\"SEMIPRIVADO\"),\"Medio\",\"Bajo\")),\"\")","v":"Bajo"},null,null,"No Aplica","No Aplica",null,null,null,{"$f":"+IF(Tabla2[[#This Row],[Integridad]]=\"Grave\",0.5,IF(Tabla2[[#This Row],[Integridad]]=\"Importante\",0.3,IF(Tabla2[[#This Row],[Integridad]]=\"Leve\",0.2,\"\")))","v":""},null,{"$f":"+IF(Tabla2[[#This Row],[Disponibilidad Interna]]=\"Sí\",0.1,IF(Tabla2[[#This Row],[Disponibilidad Interna]]=\"NO\",0,\"\"))","v":""},null,{"$f":"+IF(Tabla2[[#This Row],[Disponibilidad Terceros]]=\"Sí\",0.1,IF(Tabla2[[#This Row],[Disponibilidad Terceros]]=\"No\",0,\"\"))","v":""},{"$f":"+Tabla2[[#This Row],[Columna32]]+Tabla2[[#This Row],[Columna34]]+Tabla2[[#This Row],[Columna1]]+Tabla2[[#This Row],[Columna3]]","v":{"$error":"#VALUE!"}},{"$f":"IFERROR(IF(Tabla2[[#This Row],[Columna33]]<0.45,\"BAJA\",IF(Tabla2[[#This Row],[Columna33]]>0.75,\"ALTA\",\"MEDIA\")),\"\")","v":""},"No Aplica",{"$f":"+IF(Tabla2[[#This Row],[Información Publicada (WEB)]]=\"Sí\",\"Digite URL\",\"No Aplica\")","v":"No Aplica"},null,{"$f":"IF(Tabla2[[#This Row],[ Clasificación ICBF]]=\"Pública\",1,IF(Tabla2[[#This Row],[ Clasificación ICBF]]=\"Clasificada\",2,IF(Tabla2[[#This Row],[ Clasificación ICBF]]=\"Reservada\",3,0)))","v":0},{"$f":"IF(#REF!=8,4,IF(#REF!=16,3,IF(#REF!=24,2,IF(#REF!=48,1,0))))","v":{"$error":"#REF!"}},{"$f":"IF(#REF!=8,\"Alto\",IF(#REF!=16,\"Medio\",IF(#REF!=24,\"Medio\",IF(#REF!=48,\"Bajo\",0))))","v":{"$error":"#REF!"}},null,{"$f":"+MID(Tabla2[[#This Row],[Área/Dependencia]],17,8)","v":""}]
["",null,null,null,{"$f":"+VLOOKUP(Tabla2[[#This Row],[SEDE - REGIONAL]],DATOS!B262:D295,3,FALSE)","v":{"$error":"#N/A"}},{"$f":"+IF(OR(Tabla2[[#This Row],[Área/Dependencia]]=\"Subdirección de Sistemas Integrados\",Tabla2[[#This Row],[Área/Dependencia]]=\"Subdirección de Recursos Tecnológicos\"),\"X\",\"\")","v":""},{"$f":"+CONCATENATE(Tabla2[[#This Row],[Tipo de Proceso]],Tabla2[[#This Row],[Columna4]])","v":{"$error":"#N/A"}},null,null,null,null,null,null,null,null,null,null,null,null,null,{"$f":"+IF(Tabla2[[#This Row],[Nivel de acceso ]]=\"Alto\",0.5,IF(Tabla2[[#This Row],[Nivel de acceso ]]=\"Medio\",0.3,IF(Tabla2[[#This Row],[Nivel de acceso ]]=\"Bajo\",0.2,\"\")))","v":""},null,{"$f":"+IF(Tabla2[[#This Row],[Es  Reservada]]=\"Sí\",\"Escriba Ley\",\"No Aplica\")","v":"No Aplica"},null,null,null,null,{"$f":"IFERROR(IF(AND(Tabla2[[#This Row],[Contiene Datos Personales]]=\"SÍ\",OR(Tabla2[[#This Row],[Clasificación Datos Personales]]=\"Sensible\",Tabla2[[#This Row],[Clasificación Datos Personales]]=\"NNA\",Tabla2[[#This Row],[Clasificación Datos Personales]]=\"privado\")),\"Alto\",IF(AND(Tabla2[[#This Row],[Contiene Datos Personales]]=\"SÍ\",Tabla2[[#This Row],[Clasificación Datos Personales]]=\"SEMIPRIVADO\"),\"Medio\",\"Bajo\")),\"\")","v":"Bajo"},null,null,"No Aplica","No Aplica",null,null,null,{"$f":"+IF(Tabla2[[#This Row],[Integridad]]=\"Grave\",0.5,IF(Tabla2[[#This Row],[Integridad]]=\"Importante\",0.3,IF(Tabla2[[#This Row],[Integridad]]=\"Leve\",0.2,\"\")))","v":""},null,{"$f":"+IF(Tabla2[[#This Row],[Disponibilidad Interna]]=\"Sí\",0.1,IF(Tabla2[[#This Row],[Disponibilidad Interna]]=\"NO\",0,\"\"))","v":""},null,{"$f":"+IF(Tabla2[[#This Row],[Disponibilidad Terceros]]=\"Sí\",0.1,IF(Tabla2[[#This Row],[Disponibilidad Terceros]]=\"No\",0,\"\"))","v":""},{"$f":"+Tabla2[[#This Row],[Columna32]]+Tabla2[[#This Row],[Columna34]]+Tabla2[[#This Row],[Columna1]]+Tabla2[[#This Row],[Columna3]]","v":{"$error":"#VALUE!"}},{"$f":"IFERROR(IF(Tabla2[[#This Row],[Columna33]]<0.45,\"BAJA\",IF(Tabla2[[#This Row],[Columna33]]>0.75,\"ALTA\",\"MEDIA\")),\"\")","v":""},"No Aplica",{"$f":"+IF(Tabla2[[#This Row],[Información Publicada (WEB)]]=\"Sí\",\"Digite URL\",\"No Aplica\")","v":"No Aplica"},null,{"$f":"IF(Tabla2[[#This Row],[ Clasificación ICBF]]=\"Pública\",1,IF(Tabla2[[#This Row],[ Clasificación ICBF]]=\"Clasificada\",2,IF(Tabla2[[#This Row],[ Clasificación ICBF]]=\"Reservada\",3,0)))","v":0},{"$f":"IF(#REF!=8,4,IF(#REF!=16,3,IF(#REF!=24,2,IF(#REF!=48,1,0))))","v":{"$error":"#REF!"}},{"$f":"IF(#REF!=8,\"Alto\",IF(#REF!=16,\"Medio\",IF(#REF!=24,\"Medio\",IF(#REF!=48,\"Bajo\",0))))","v":{"$error":"#REF!"}},null,{"$f":"+MID(Tabla2[[#This Row],[Área/Dependencia]],17,8)","v":""}]
["",null,null,null,{"$f":"+VLOOKUP(Tabla2[[#This Row],[SEDE - REGIONAL]],DATOS!B263:D296,3,FALSE)","v":{"$error":"#N/A"}},{"$f":"+IF(OR(Tabla2[[#This Row],[Área/Dependencia]]=\"Subdirección de Sistemas Integrados\",Tabla2[[#This Row],[Área/Dependencia]]=\"Subdirección de Recursos Tecnológicos\"),\"X\",\"\")","v":""},{"$f":"+CONCATENATE(Tabla2[[#This Row],[Tipo de Proceso]],Tabla2[[#This Row],[Columna4]])","v":{"$error":"#N/A"}},null,null,null,null,null,null,null,null,null,null,null,null,null,{"$f":"+IF(Tabla2[[#This Row],[Nivel de acceso ]]=\"Alto\",0.5,IF(Tabla2[[#This Row],[Nivel de acceso ]]=\"Medio\",0.3,IF(Tabla2[[#This Row],[Nivel de acceso ]]=\"Bajo\",0.2,\"\")))","v":""},null,{"$f":"+IF(Tabla2[[#This Row],[Es  Reservada]]=\"Sí\",\"Escriba Ley\",\"No Aplica\")","v":"No Aplica"},null,null,null,null,{"$f":"IFERROR(IF(AND(Tabla2[[#This Row],[Contiene Datos Personales]]=\"SÍ\",OR(Tabla2[[#This Row],[Clasificación Datos Personales]]=\"Sensible\",Tabla2[[#This Row],[Clasificación Datos Personales]]=\"NNA\",Tabla2[[#This Row],[Clasificación Datos Personales]]=\"privado\")),\"Alto\",IF(AND(Tabla2[[#This Row],[Contiene Datos Personales]]=\"SÍ\",Tabla2[[#This Row],[Clasificación Datos Personales]]=\"SEMIPRIVADO\"),\"Medio\",\"Bajo\")),\"\")","v":"Bajo"},null,null,"No Aplica","No Aplica",null,null,null,{"$f":"+IF(Tabla2[[#This Row],[Integridad]]=\"Grave\",0.5,IF(Tabla2[[#This Row],[Integridad]]=\"Importante\",0.3,IF(Tabla2[[#This Row],[Integridad]]=\"Leve\",0.2,\"\")))","v":""},null,{"$f":"+IF(Tabla2[[#This Row],[Disponibilidad Interna]]=\"Sí\",0.1,IF(Tabla2[[#This Row],[Disponibilidad Interna]]=\"NO\",0,\"\"))","v":""},null,{"$f":"+IF(Tabla2[[#This Row],[Disponibilidad Terceros]]=\"Sí\",0.1,IF(Tabla2[[#This Row],[Disponibilidad Terceros]]=\"No\",0,\"\"))","v":""},{"$f":"+Tabla2[[#This Row],[Columna32]]+Tabla2[[#This Row],[Columna34]]+Tabla2[[#This Row],[Columna1]]+Tabla2[[#This Row],[Columna3]]","v":{"$error":"#VALUE!"}},{"$f":"IFERROR(IF(Tabla2[[#This Row],[Columna33]]<0.45,\"BAJA\",IF(Tabla2[[#This Row],[Columna33]]>0.75,\"ALTA\",\"MEDIA\")),\"\")","v":""},"No Aplica",{"$f":"+IF(Tabla2[[#This Row],[Información Publicada (WEB)]]=\"Sí\",\"Digite URL\",\"No Aplica\")","v":"No Aplica"},null,{"$f":"IF(Tabla2[[#This Row],[ Clasificación ICBF]]=\"Pública\",1,IF(Tabla2[[#This Row],[ Clasificación ICBF]]=\"Clasificada\",2,IF(Tabla2[[#This Row],[ Clasificación ICBF]]=\"Reservada\",3,0)))","v":0},{"$f":"IF(#REF!=8,4,IF(#REF!=16,3,IF(#REF!=24,2,IF(#REF!=48,1,0))))","v":{"$error":"#REF!"}},{"$f":"IF(#REF!=8,\"Alto\",IF(#REF!=16,\"Medio\",IF(#REF!=24,\"Medio\",IF(#REF!=48,\"Bajo\",0))))","v":{"$error":"#REF!"}},null,{"$f":"+MID(Tabla2[[#This Row],[Área/Dependencia]],17,8)","v":""}]
["",null,null,null,{"$f":"+VLOOKUP(Tabla2[[#This Row],[SEDE - REGIONAL]],DATOS!B264:D297,3,FALSE)","v":{"$error":"#N/A"}},{"$f":"+IF(OR(Tabla2[[#This Row],[Área/Dependencia]]=\"Subdirección de Sistemas Integrados\",Tabla2[[#This Row],[Área/Dependencia]]=\"Subdirección de Recursos Tecnológicos\"),\"X\",\"\")","v":""},{"$f":"+CONCATENATE(Tabla2[[#This Row],[Tipo de Proceso]],Tabla2[[#This Row],[Columna4]])","v":{"$error":"#N/A"}},null,null,null,null,null,null,null,null,null,null,null,null,null,{"$f":"+IF(Tabla2[[#This Row],[Nivel de acceso ]]=\"Alto\",0.5,IF(Tabla2[[#This Row],[Nivel de acceso ]]=\"Medio\",0.3,IF(Tabla2[[#This Row],[Nivel de acceso ]]=\"Bajo\",0.2,\"\")))","v":""},null,{"$f":"+IF(Tabla2[[#This Row],[Es  Reservada]]=\"Sí\",\"Escriba Ley\",\"No Aplica\")","v":"No Aplica"},null,null,null,null,{"$f":"IFERROR(IF(AND(Tabla2[[#This Row],[Contiene Datos Personales]]=\"SÍ\",OR(Tabla2[[#This Row],[Clasificación Datos Personales]]=\"Sensible\",Tabla2[[#This Row],[Clasificación Datos Personales]]=\"NNA\",Tabla2[[#This Row],[Clasificación Datos Personales]]=\"privado\")),\"Alto\",IF(AND(Tabla2[[#This Row],[Contiene Datos Personales]]=\"SÍ\",Tabla2[[#This Row],[Clasificación Datos Personales]]=\"SEMIPRIVADO\"),\"Medio\",\"Bajo\")),\"\")","v":"Bajo"},null,null,"No Aplica","No Aplica",null,null,null,{"$f":"+IF(Tabla2[[#This Row],[Integridad]]=\"Grave\",0.5,IF(Tabla2[[#This Row],[Integridad]]=\"Importante\",0.3,IF(Tabla2[[#This Row],[Integridad]]=\"Leve\",0.2,\"\")))","v":""},null,{"$f":"+IF(Tabla2[[#This Row],[Disponibilidad Interna]]=\"Sí\",0.1,IF(Tabla2[[#This Row],[Disponibilidad Interna]]=\"NO\",0,\"\"))","v":""},null,{"$f":"+IF(Tabla2[[#This Row],[Disponibilidad Terceros]]=\"Sí\",0.1,IF(Tabla2[[#This Row],[Disponibilidad Terceros]]=\"No\",0,\"\"))","v":""},{"$f":"+Tabla2[[#This Row],[Columna32]]+Tabla2[[#This Row],[Columna34]]+Tabla2[[#This Row],[Columna1]]+Tabla2[[#This Row],[Columna3]]","v":{"$error":"#VALUE!"}},{"$f":"IFERROR(IF(Tabla2[[#This Row],[Columna33]]<0.45,\"BAJA\",IF(Tabla2[[#This Row],[Columna33]]>0.75,\"ALTA\",\"MEDIA\")),\"\")","v":""},"No Aplica",{"$f":"+IF(Tabla2[[#This Row],[Información Publicada (WEB)]]=\"Sí\",\"Digite URL\",\"No Aplica\")","v":"No Aplica"},null,{"$f":"IF(Tabla2[[#This Row],[ Clasificación ICBF]]=\"Pública\",1,IF(Tabla2[[#This Row],[ Clasificación ICBF]]=\"Clasificada\",2,IF(Tabla2[[#This Row],[ Clasificación ICBF]]=\"Reservada\",3,0)))","v":0},{"$f":"IF(#REF!=8,4,IF(#REF!=16,3,IF(#REF!=24,2,IF(#REF!=48,1,0))))","v":{"$error":"#REF!"}},{"$f":"IF(#REF!=8,\"Alto\",IF(#REF!=16,\"Medio\",IF(#REF!=24,\"Medio\",IF(#REF!=48,\"Bajo\",0))))","v":{"$error":"#REF!"}},null,{"$f":"+MID(Tabla2[[#This Row],[Área/Dependencia]],17,8)","v":""}]
["",null,null,null,{"$f":"+VLOOKUP(Tabla2[[#This Row],[SEDE - REGIONAL]],DATOS!B265:D298,3,FALSE)","v":{"$error":"#N/A"}},{"$f":"+IF(OR(Tabla2[[#This Row],[Área/Dependencia]]=\"Subdirección de Sistemas Integrados\",Tabla2[[#This Row],[Área/Dependencia]]=\"Subdirección de Recursos Tecnológicos\"),\"X\",\"\")","v":""},{"$f":"+CONCATENATE(Tabla2[[#This Row],[Tipo de Proceso]],Tabla2[[#This Row],[Columna4]])","v":{"$error":"#N/A"}},null,null,null,null,null,null,null,null,null,null,null,null,null,{"$f":"+IF(Tabla2[[#This Row],[Nivel de acceso ]]=\"Alto\",0.5,IF(Tabla2[[#This Row],[Nivel de acceso ]]=\"Medio\",0.3,IF(Tabla2[[#This Row],[Nivel de acceso ]]=\"Bajo\",0.2,\"\")))","v":""},null,{"$f":"+IF(Tabla2[[#This Row],[Es  Reservada]]=\"Sí\",\"Escriba Ley\",\"No Aplica\")","v":"No Aplica"},null,null,null,null,{"$f":"IFERROR(IF(AND(Tabla2[[#This Row],[Contiene Datos Personales]]=\"SÍ\",OR(Tabla2[[#This Row],[Clasificación Datos Personales]]=\"Sensible\",Tabla2[[#This Row],[Clasificación Datos Personales]]=\"NNA\",Tabla2[[#This Row],[Clasificación Datos Personales]]=\"privado\")),\"Alto\",IF(AND(Tabla2[[#This Row],[Contiene Datos Personales]]=\"SÍ\",Tabla2[[#This Row],[Clasificación Datos Personales]]=\"SEMIPRIVADO\"),\"Medio\",\"Bajo\")),\"\")","v":"Bajo"},null,null,"No Aplica","No Aplica",null,null,null,{"$f":"+IF(Tabla2[[#This Row],[Integridad]]=\"Grave\",0.5,IF(Tabla2[[#This Row],[Integridad]]=\"Importante\",0.3,IF(Tabla2[[#This Row],[Integridad]]=\"Leve\",0.2,\"\")))","v":""},null,{"$f":"+IF(Tabla2[[#This Row],[Disponibilidad Interna]]=\"Sí\",0.1,IF(Tabla2[[#This Row],[Disponibilidad Interna]]=\"NO\",0,\"\"))","v":""},null,{"$f":"+IF(Tabla2[[#This Row],[Disponibilidad Terceros]]=\"Sí\",0.1,IF(Tabla2[[#This Row],[Disponibilidad Terceros]]=\"No\",0,\"\"))","v":""},{"$f":"+Tabla2[[#This Row],[Columna32]]+Tabla2[[#This Row],[Columna34]]+Tabla2[[#This Row],[Columna1]]+Tabla2[[#This Row],[Columna3]]","v":{"$error":"#VALUE!"}},{"$f":"IFERROR(IF(Tabla2[[#This Row],[Columna33]]<0.45,\"BAJA\",IF(Tabla2[[#This Row],[Columna33]]>0.75,\"ALTA\",\"MEDIA\")),\"\")","v":""},"No Aplica",{"$f":"+IF(Tabla2[[#This Row],[Información Publicada (WEB)]]=\"Sí\",\"Digite URL\",\"No Aplica\")","v":"No Aplica"},null,{"$f":"IF(Tabla2[[#This Row],[ Clasificación ICBF]]=\"Pública\",1,IF(Tabla2[[#This Row],[ Clasificación ICBF]]=\"Clasificada\",2,IF(Tabla2[[#This Row],[ Clasificación ICBF]]=\"Reservada\",3,0)))","v":0},{"$f":"IF(#REF!=8,4,IF(#REF!=16,3,IF(#REF!=24,2,IF(#REF!=48,1,0))))","v":{"$error":"#REF!"}},{"$f":"IF(#REF!=8,\"Alto\",IF(#REF!=16,\"Medio\",IF(#REF!=24,\"Medio\",IF(#REF!=48,\"Bajo\",0))))","v":{"$error":"#REF!"}},null,{"$f":"+MID(Tabla2[[#This Row],[Área/Dependencia]],17,8)","v":""}]
["",null,null,null,{"$f":"+VLOOKUP(Tabla2[[#This Row],[SEDE - REGIONAL]],DATOS!B266:D299,3,FALSE)","v":{"$error":"#N/A"}},{"$f":"+IF(OR(Tabla2[[#This Row],[Área/Dependencia]]=\"Subdirección de Sistemas Integrados\",Tabla2[[#This Row],[Área/Dependencia]]=\"Subdirección de Recursos Tecnológicos\"),\"X\",\"\")","v":""},{"$f":"+CONCATENATE(Tabla2[[#This Row],[Tipo de Proceso]],Tabla2[[#This Row],[Columna4]])","v":{"$error":"#N/A"}},null,null,null,null,null,null,null,null,null,null,null,null,null,{"$f":"+IF(Tabla2[[#This Row],[Nivel de acceso ]]=\"Alto\",0.5,IF(Tabla2[[#This Row],[Nivel de acceso ]]=\"Medio\",0.3,IF(Tabla2[[#This Row],[Nivel de acceso ]]=\"Bajo\",0.2,\"\")))","v":""},null,{"$f":"+IF(Tabla2[[#This Row],[Es  Reservada]]=\"Sí\",\"Escriba Ley\",\"No Aplica\")","v":"No Aplica"},null,null,null,null,{"$f":"IFERROR(IF(AND(Tabla2[[#This Row],[Contiene Datos Personales]]=\"SÍ\",OR(Tabla2[[#This Row],[Clasificación Datos Personales]]=\"Sensible\",Tabla2[[#This Row],[Clasificación Datos Personales]]=\"NNA\",Tabla2[[#This Row],[Clasificación Datos Personales]]=\"privado\")),\"Alto\",IF(AND(Tabla2[[#This Row],[Contiene Datos Personales]]=\"SÍ\",Tabla2[[#This Row],[Clasificación Datos Personales]]=\"SEMIPRIVADO\"),\"Medio\",\"Bajo\")),\"\")","v":"Bajo"},null,null,"No Aplica","No Aplica",null,null,null,{"$f":"+IF(Tabla2[[#This Row],[Integridad]]=\"Grave\",0.5,IF(Tabla2[[#This Row],[Integridad]]=\"Importante\",0.3,IF(Tabla2[[#This Row],[Integridad]]=\"Leve\",0.2,\"\")))","v":""},null,{"$f":"+IF(Tabla2[[#This Row],[Disponibilidad Interna]]=\"Sí\",0.1,IF(Tabla2[[#This Row],[Disponibilidad Interna]]=\"NO\",0,\"\"))","v":""},null,{"$f":"+IF(Tabla2[[#This Row],[Disponibilidad Terceros]]=\"Sí\",0.1,IF(Tabla2[[#This Row],[Disponibilidad Terceros]]=\"No\",0,\"\"))","v":""},{"$f":"+Tabla2[[#This Row],[Columna32]]+Tabla2[[#This Row],[Columna34]]+Tabla2[[#This Row],[Columna1]]+Tabla2[[#This Row],[Columna3]]","v":{"$error":"#VALUE!"}},{"$f":"IFERROR(IF(Tabla2[[#This Row],[Columna33]]<0.45,\"BAJA\",IF(Tabla2[[#This Row],[Columna33]]>0.75,\"ALTA\",\"MEDIA\")),\"\")","v":""},"No Aplica",{"$f":"+IF(Tabla2[[#This Row],[Información Publicada (WEB)]]=\"Sí\",\"Digite URL\",\"No Aplica\")","v":"No Aplica"},null,{"$f":"IF(Tabla2[[#This Row],[ Clasificación ICBF]]=\"Pública\",1,IF(Tabla2[[#This Row],[ Clasificación ICBF]]=\"Clasificada\",2,IF(Tabla2[[#This Row],[ Clasificación ICBF]]=\"Reservada\",3,0)))","v":0},{"$f":"IF(#REF!=8,4,IF(#REF!=16,3,IF(#REF!=24,2,IF(#REF!=48,1,0))))","v":{"$error":"#REF!"}},{"$f":"IF(#REF!=8,\"Alto\",IF(#REF!=16,\"Medio\",IF(#REF!=24,\"Medio\",IF(#REF!=48,\"Bajo\",0))))","v":{"$error":"#REF!"}},null,{"$f":"+MID(Tabla2[[#This Row],[Área/Dependencia]],17,8)","v":""}]
["",null,null,null,{"$f":"+VLOOKUP(Tabla2[[#This Row],[SEDE - REGIONAL]],DATOS!B267:D300,3,FALSE)","v":{"$error":"#N/A"}},{"$f":"+IF(OR(Tabla2[[#This Row],[Área/Dependencia]]=\"Subdirección de Sistemas Integrados\",Tabla2[[#This Row],[Área/Dependencia]]=\"Subdirección de Recursos Tecnológicos\"),\"X\",\"\")","v":""},{"$f":"+CONCATENATE(Tabla2[[#This Row],[Tipo de Proceso]],Tabla2[[#This Row],[Columna4]])","v":{"$error":"#N/A"}},null,null,null,null,null,null,null,null,null,null,null,null,null,{"$f":"+IF(Tabla2[[#This Row],[Nivel de acceso ]]=\"Alto\",0.5,IF(Tabla2[[#This Row],[Nivel de acceso ]]=\"Medio\",0.3,IF(Tabla2[[#This Row],[Nivel de acceso ]]=\"Bajo\",0.2,\"\")))","v":""},null,{"$f":"+IF(Tabla2[[#This Row],[Es  Reservada]]=\"Sí\",\"Escriba Ley\",\"No Aplica\")","v":"No Aplica"},null,null,null,null,{"$f":"IFERROR(IF(AND(Tabla2[[#This Row],[Contiene Datos Personales]]=\"SÍ\",OR(Tabla2[[#This Row],[Clasificación Datos Personales]]=\"Sensible\",Tabla2[[#This Row],[Clasificación Datos Personales]]=\"NNA\",Tabla2[[#This Row],[Clasificación Datos Personales]]=\"privado\")),\"Alto\",IF(AND(Tabla2[[#This Row],[Contiene Datos Personales]]=\"SÍ\",Tabla2[[#This Row],[Clasificación Datos Personales]]=\"SEMIPRIVADO\"),\"Medio\",\"Bajo\")),\"\")","v":"Bajo"},null,null,"No Aplica","No Aplica",null,null,null,{"$f":"+IF(Tabla2[[#This Row],[Integridad]]=\"Grave\",0.5,IF(Tabla2[[#This Row],[Integridad]]=\"Importante\",0.3,IF(Tabla2[[#This Row],[Integridad]]=\"Leve\",0.2,\"\")))","v":""},null,{"$f":"+IF(Tabla2[[#This Row],[Disponibilidad Interna]]=\"Sí\",0.1,IF(Tabla2[[#This Row],[Disponibilidad Interna]]=\"NO\",0,\"\"))","v":""},null,{"$f":"+IF(Tabla2[[#This Row],[Disponibilidad Terceros]]=\"Sí\",0.1,IF(Tabla2[[#This Row],[Disponibilidad Terceros]]=\"No\",0,\"\"))","v":""},{"$f":"+Tabla2[[#This Row],[Columna32]]+Tabla2[[#This Row],[Columna34]]+Tabla2[[#This Row],[Columna1]]+Tabla2[[#This Row],[Columna3]]","v":{"$error":"#VALUE!"}},{"$f":"IFERROR(IF(Tabla2[[#This Row],[Columna33]]<0.45,\"BAJA\",IF(Tabla2[[#This Row],[Columna33]]>0.75,\"ALTA\",\"MEDIA\")),\"\")","v":""},"No Aplica",{"$f":"+IF(Tabla2[[#This Row],[Información Publicada (WEB)]]=\"Sí\",\"Digite URL\",\"No Aplica\")","v":"No Aplica"},null,{"$f":"IF(Tabla2[[#This Row],[ Clasificación ICBF]]=\"Pública\",1,IF(Tabla2[[#This Row],[ Clasificación ICBF]]=\"Clasificada\",2,IF(Tabla2[[#This Row],[ Clasificación ICBF]]=\"Reservada\",3,0)))","v":0},{"$f":"IF(#REF!=8,4,IF(#REF!=16,3,IF(#REF!=24,2,IF(#REF!=48,1,0))))","v":{"$error":"#REF!"}},{"$f":"IF(#REF!=8,\"Alto\",IF(#REF!=16,\"Medio\",IF(#REF!=24,\"Medio\",IF(#REF!=48,\"Bajo\",0))))","v":{"$error":"#REF!"}},null,{"$f":"+MID(Tabla2[[#This Row],[Área/Dependencia]],17,8)","v":""}]
["",null,null,null,{"$f":"+VLOOKUP(Tabla2[[#This Row],[SEDE - REGIONAL]],DATOS!B268:D301,3,FALSE)","v":{"$error":"#N/A"}},{"$f":"+IF(OR(Tabla2[[#This Row],[Área/Dependencia]]=\"Subdirección de Sistemas Integrados\",Tabla2[[#This Row],[Área/Dependencia]]=\"Subdirección de Recursos Tecnológicos\"),\"X\",\"\")","v":""},{"$f":"+CONCATENATE(Tabla2[[#This Row],[Tipo de Proceso]],Tabla2[[#This Row],[Columna4]])","v":{"$error":"#N/A"}},null,null,null,null,null,null,null,null,null,null,null,null,null,{"$f":"+IF(Tabla2[[#This Row],[Nivel de acceso ]]=\"Alto\",0.5,IF(Tabla2[[#This Row],[Nivel de acceso ]]=\"Medio\",0.3,IF(Tabla2[[#This Row],[Nivel de acceso ]]=\"Bajo\",0.2,\"\")))","v":""},null,{"$f":"+IF(Tabla2[[#This Row],[Es  Reservada]]=\"Sí\",\"Escriba Ley\",\"No Aplica\")","v":"No Aplica"},null,null,null,null,{"$f":"IFERROR(IF(AND(Tabla2[[#This Row],[Contiene Datos Personales]]=\"SÍ\",OR(Tabla2[[#This Row],[Clasificación Datos Personales]]=\"Sensible\",Tabla2[[#This Row],[Clasificación Datos Personales]]=\"NNA\",Tabla2[[#This Row],[Clasificación Datos Personales]]=\"privado\")),\"Alto\",IF(AND(Tabla2[[#This Row],[Contiene Datos Personales]]=\"SÍ\",Tabla2[[#This Row],[Clasificación Datos Personales]]=\"SEMIPRIVADO\"),\"Medio\",\"Bajo\")),\"\")","v":"Bajo"},null,null,"No Aplica","No Aplica",null,null,null,{"$f":"+IF(Tabla2[[#This Row],[Integridad]]=\"Grave\",0.5,IF(Tabla2[[#This Row],[Integridad]]=\"Importante\",0.3,IF(Tabla2[[#This Row],[Integridad]]=\"Leve\",0.2,\"\")))","v":""},null,{"$f":"+IF(Tabla2[[#This Row],[Disponibilidad Interna]]=\"Sí\",0.1,IF(Tabla2[[#This Row],[Disponibilidad Interna]]=\"NO\",0,\"\"))","v":""},null,{"$f":"+IF(Tabla2[[#This Row],[Disponibilidad Terceros]]=\"Sí\",0.1,IF(Tabla2[[#This Row],[Disponibilidad Terceros]]=\"No\",0,\"\"))","v":""},{"$f":"+Tabla2[[#This Row],[Columna32]]+Tabla2[[#This Row],[Columna34]]+Tabla2[[#This Row],[Columna1]]+Tabla2[[#This Row],[Columna3]]","v":{"$error":"#VALUE!"}},{"$f":"IFERROR(IF(Tabla2[[#This Row],[Columna33]]<0.45,\"BAJA\",IF(Tabla2[[#This Row],[Columna33]]>0.75,\"ALTA\",\"MEDIA\")),\"\")","v":""},"No Aplica",{"$f":"+IF(Tabla2[[#This Row],[Información Publicada (WEB)]]=\"Sí\",\"Digite URL\",\"No Aplica\")","v":"No Aplica"},null,{"$f":"IF(Tabla2[[#This Row],[ Clasificación ICBF]]=\"Pública\",1,IF(Tabla2[[#This Row],[ Clasificación ICBF]]=\"Clasificada\",2,IF(Tabla2[[#This Row],[ Clasificación ICBF]]=\"Reservada\",3,0)))","v":0},{"$f":"IF(#REF!=8,4,IF(#REF!=16,3,IF(#REF!=24,2,IF(#REF!=48,1,0))))","v":{"$error":"#REF!"}},{"$f":"IF(#REF!=8,\"Alto\",IF(#REF!=16,\"Medio\",IF(#REF!=24,\"Medio\",IF(#REF!=48,\"Bajo\",0))))","v":{"$error":"#REF!"}},null,{"$f":"+MID(Tabla2[[#This Row],[Área/Dependencia]],17,8)","v":""}]
["",null,null,null,{"$f":"+VLOOKUP(Tabla2[[#This Row],[SEDE - REGIONAL]],DATOS!B269:D302,3,FALSE)","v":{"$error":"#N/A"}},{"$f":"+IF(OR(Tabla2[[#This Row],[Área/Dependencia]]=\"Subdirección de Sistemas Integrados\",Tabla2[[#This Row],[Área/Dependencia]]=\"Subdirección de Recursos Tecnológicos\"),\"X\",\"\")","v":""},{"$f":"+CONCATENATE(Tabla2[[#This Row],[Tipo de Proceso]],Tabla2[[#This Row],[Columna4]])","v":{"$error":"#N/A"}},null,null,null,null,null,null,null,null,null,null,null,null,null,{"$f":"+IF(Tabla2[[#This Row],[Nivel de acceso ]]=\"Alto\",0.5,IF(Tabla2[[#This Row],[Nivel de acceso ]]=\"Medio\",0.3,IF(Tabla2[[#This Row],[Nivel de acceso ]]=\"Bajo\",0.2,\"\")))","v":""},null,{"$f":"+IF(Tabla2[[#This Row],[Es  Reservada]]=\"Sí\",\"Escriba Ley\",\"No Aplica\")","v":"No Aplica"},null,null,null,null,{"$f":"IFERROR(IF(AND(Tabla2[[#This Row],[Contiene Datos Personales]]=\"SÍ\",OR(Tabla2[[#This Row],[Clasificación Datos Personales]]=\"Sensible\",Tabla2[[#This Row],[Clasificación Datos Personales]]=\"NNA\",Tabla2[[#This Row],[Clasificación Datos Personales]]=\"privado\")),\"Alto\",IF(AND(Tabla2[[#This Row],[Contiene Datos Personales]]=\"SÍ\",Tabla2[[#This Row],[Clasificación Datos Personales]]=\"SEMIPRIVADO\"),\"Medio\",\"Bajo\")),\"\")","v":"Bajo"},null,null,"No Aplica","No Aplica",null,null,null,{"$f":"+IF(Tabla2[[#This Row],[Integridad]]=\"Grave\",0.5,IF(Tabla2[[#This Row],[Integridad]]=\"Importante\",0.3,IF(Tabla2[[#This Row],[Integridad]]=\"Leve\",0.2,\"\")))","v":""},null,{"$f":"+IF(Tabla2[[#This Row],[Disponibilidad Interna]]=\"Sí\",0.1,IF(Tabla2[[#This Row],[Disponibilidad Interna]]=\"NO\",0,\"\"))","v":""},null,{"$f":"+IF(Tabla2[[#This Row],[Disponibilidad Terceros]]=\"Sí\",0.1,IF(Tabla2[[#This Row],[Disponibilidad Terceros]]=\"No\",0,\"\"))","v":""},{"$f":"+Tabla2[[#This Row],[Columna32]]+Tabla2[[#This Row],[Columna34]]+Tabla2[[#This Row],[Columna1]]+Tabla2[[#This Row],[Columna3]]","v":{"$error":"#VALUE!"}},{"$f":"IFERROR(IF(Tabla2[[#This Row],[Columna33]]<0.45,\"BAJA\",IF(Tabla2[[#This Row],[Columna33]]>0.75,\"ALTA\",\"MEDIA\")),\"\")","v":""},"No Aplica",{"$f":"+IF(Tabla2[[#This Row],[Información Publicada (WEB)]]=\"Sí\",\"Digite URL\",\"No Aplica\")","v":"No Aplica"},null,{"$f":"IF(Tabla2[[#This Row],[ Clasificación ICBF]]=\"Pública\",1,IF(Tabla2[[#This Row],[ Clasificación ICBF]]=\"Clasificada\",2,IF(Tabla2[[#This Row],[ Clasificación ICBF]]=\"Reservada\",3,0)))","v":0},{"$f":"IF(#REF!=8,4,IF(#REF!=16,3,IF(#REF!=24,2,IF(#REF!=48,1,0))))","v":{"$error":"#REF!"}},{"$f":"IF(#REF!=8,\"Alto\",IF(#REF!=16,\"Medio\",IF(#REF!=24,\"Medio\",IF(#REF!=48,\"Bajo\",0))))","v":{"$error":"#REF!"}},null,{"$f":"+MID(Tabla2[[#This Row],[Área/Dependencia]],17,8)","v":""}]
["",null,null,null,{"$f":"+VLOOKUP(Tabla2[[#This Row],[SEDE - REGIONAL]],DATOS!B270:D303,3,FALSE)","v":{"$error":"#N/A"}},{"$f":"+IF(OR(Tabla2[[#This Row],[Área/Dependencia]]=\"Subdirección de Sistemas Integrados\",Tabla2[[#This Row],[Área/Dependencia]]=\"Subdirección de Recursos Tecnológicos\"),\"X\",\"\")","v":""},{"$f":"+CONCATENATE(Tabla2[[#This Row],[Tipo de Proceso]],Tabla2[[#This Row],[Columna4]])","v":{"$error":"#N/A"}},null,null,null,null,null,null,null,null,null,null,null,null,null,{"$f":"+IF(Tabla2[[#This Row],[Nivel de acceso ]]=\"Alto\",0.5,IF(Tabla2[[#This Row],[Nivel de acceso ]]=\"Medio\",0.3,IF(Tabla2[[#This Row],[Nivel de acceso ]]=\"Bajo\",0.2,\"\")))","v":""},null,{"$f":"+IF(Tabla2[[#This Row],[Es  Reservada]]=\"Sí\",\"Escriba Ley\",\"No Aplica\")","v":"No Aplica"},null,null,null,null,{"$f":"IFERROR(IF(AND(Tabla2[[#This Row],[Contiene Datos Personales]]=\"SÍ\",OR(Tabla2[[#This Row],[Clasificación Datos Personales]]=\"Sensible\",Tabla2[[#This Row],[Clasificación Datos Personales]]=\"NNA\",Tabla2[[#This Row],[Clasificación Datos Personales]]=\"privado\")),\"Alto\",IF(AND(Tabla2[[#This Row],[Contiene Datos Personales]]=\"SÍ\",Tabla2[[#This Row],[Clasificación Datos Personales]]=\"SEMIPRIVADO\"),\"Medio\",\"Bajo\")),\"\")","v":"Bajo"},null,null,"No Aplica","No Aplica",null,null,null,{"$f":"+IF(Tabla2[[#This Row],[Integridad]]=\"Grave\",0.5,IF(Tabla2[[#This Row],[Integridad]]=\"Importante\",0.3,IF(Tabla2[[#This Row],[Integridad]]=\"Leve\",0.2,\"\")))","v":""},null,{"$f":"+IF(Tabla2[[#This Row],[Disponibilidad Interna]]=\"Sí\",0.1,IF(Tabla2[[#This Row],[Disponibilidad Interna]]=\"NO\",0,\"\"))","v":""},null,{"$f":"+IF(Tabla2[[#This Row],[Disponibilidad Terceros]]=\"Sí\",0.1,IF(Tabla2[[#This Row],[Disponibilidad Terceros]]=\"No\",0,\"\"))","v":""},{"$f":"+Tabla2[[#This Row],[Columna32]]+Tabla2[[#This Row],[Columna34]]+Tabla2[[#This Row],[Columna1]]+Tabla2[[#This Row],[Columna3]]","v":{"$error":"#VALUE!"}},{"$f":"IFERROR(IF(Tabla2[[#This Row],[Columna33]]<0.45,\"BAJA\",IF(Tabla2[[#This Row],[Columna33]]>0.75,\"ALTA\",\"MEDIA\")),\"\")","v":""},"No Aplica",{"$f":"+IF(Tabla2[[#This Row],[Información Publicada (WEB)]]=\"Sí\",\"Digite URL\",\"No Aplica\")","v":"No Aplica"},null,{"$f":"IF(Tabla2[[#This Row],[ Clasificación ICBF]]=\"Pública\",1,IF(Tabla2[[#This Row],[ Clasificación ICBF]]=\"Clasificada\",2,IF(Tabla2[[#This Row],[ Clasificación ICBF]]=\"Reservada\",3,0)))","v":0},{"$f":"IF(#REF!=8,4,IF(#REF!=16,3,IF(#REF!=24,2,IF(#REF!=48,1,0))))","v":{"$error":"#REF!"}},{"$f":"IF(#REF!=8,\"Alto\",IF(#REF!=16,\"Medio\",IF(#REF!=24,\"Medio\",IF(#REF!=48,\"Bajo\",0))))","v":{"$error":"#REF!"}},null,{"$f":"+MID(Tabla2[[#This Row],[Área/Dependencia]],17,8)","v":""}]
["",null,null,null,{"$f":"+VLOOKUP(Tabla2[[#This Row],[SEDE - REGIONAL]],DATOS!B271:D304,3,FALSE)","v":{"$error":"#N/A"}},{"$f":"+IF(OR(Tabla2[[#This Row],[Área/Dependencia]]=\"Subdirección de Sistemas Integrados\",Tabla2[[#This Row],[Área/Dependencia]]=\"Subdirección de Recursos Tecnológicos\"),\"X\",\"\")","v":""},{"$f":"+CONCATENATE(Tabla2[[#This Row],[Tipo de Proceso]],Tabla2[[#This Row],[Columna4]])","v":{"$error":"#N/A"}},null,null,null,null,null,null,null,null,null,null,null,null,null,{"$f":"+IF(Tabla2[[#This Row],[Nivel de acceso ]]=\"Alto\",0.5,IF(Tabla2[[#This Row],[Nivel de acceso ]]=\"Medio\",0.3,IF(Tabla2[[#This Row],[Nivel de acceso ]]=\"Bajo\",0.2,\"\")))","v":""},null,{"$f":"+IF(Tabla2[[#This Row],[Es  Reservada]]=\"Sí\",\"Escriba Ley\",\"No Aplica\")","v":"No Aplica"},null,null,null,null,{"$f":"IFERROR(IF(AND(Tabla2[[#This Row],[Contiene Datos Personales]]=\"SÍ\",OR(Tabla2[[#This Row],[Clasificación Datos Personales]]=\"Sensible\",Tabla2[[#This Row],[Clasificación Datos Personales]]=\"NNA\",Tabla2[[#This Row],[Clasificación Datos Personales]]=\"privado\")),\"Alto\",IF(AND(Tabla2[[#This Row],[Contiene Datos Personales]]=\"SÍ\",Tabla2[[#This Row],[Clasificación Datos Personales]]=\"SEMIPRIVADO\"),\"Medio\",\"Bajo\")),\"\")","v":"Bajo"},null,null,"No Aplica","No Aplica",null,null,null,{"$f":"+IF(Tabla2[[#This Row],[Integridad]]=\"Grave\",0.5,IF(Tabla2[[#This Row],[Integridad]]=\"Importante\",0.3,IF(Tabla2[[#This Row],[Integridad]]=\"Leve\",0.2,\"\")))","v":""},null,{"$f":"+IF(Tabla2[[#This Row],[Disponibilidad Interna]]=\"Sí\",0.1,IF(Tabla2[[#This Row],[Disponibilidad Interna]]=\"NO\",0,\"\"))","v":""},null,{"$f":"+IF(Tabla2[[#This Row],[Disponibilidad Terceros]]=\"Sí\",0.1,IF(Tabla2[[#This Row],[Disponibilidad Terceros]]=\"No\",0,\"\"))","v":""},{"$f":"+Tabla2[[#This Row],[Columna32]]+Tabla2[[#This Row],[Columna34]]+Tabla2[[#This Row],[Columna1]]+Tabla2[[#This Row],[Columna3]]","v":{"$error":"#VALUE!"}},{"$f":"IFERROR(IF(Tabla2[[#This Row],[Columna33]]<0.45,\"BAJA\",IF(Tabla2[[#This Row],[Columna33]]>0.75,\"ALTA\",\"MEDIA\")),\"\")","v":""},"No Aplica",{"$f":"+IF(Tabla2[[#This Row],[Información Publicada (WEB)]]=\"Sí\",\"Digite URL\",\"No Aplica\")","v":"No Aplica"},null,{"$f":"IF(Tabla2[[#This Row],[ Clasificación ICBF]]=\"Pública\",1,IF(Tabla2[[#This Row],[ Clasificación ICBF]]=\"Clasificada\",2,IF(Tabla2[[#This Row],[ Clasificación ICBF]]=\"Reservada\",3,0)))","v":0},{"$f":"IF(#REF!=8,4,IF(#REF!=16,3,IF(#REF!=24,2,IF(#REF!=48,1,0))))","v":{"$error":"#REF!"}},{"$f":"IF(#REF!=8,\"Alto\",IF(#REF!=16,\"Medio\",IF(#REF!=24,\"Medio\",IF(#REF!=48,\"Bajo\",0))))","v":{"$error":"#REF!"}},null,{"$f":"+MID(Tabla2[[#This Row],[Área/Dependencia]],17,8)","v":""}]
["",null,null,null,{"$f":"+VLOOKUP(Tabla2[[#This Row],[SEDE - REGIONAL]],DATOS!B272:D305,3,FALSE)","v":{"$error":"#N/A"}},{"$f":"+IF(OR(Tabla2[[#This Row],[Área/Dependencia]]=\"Subdirección de Sistemas Integrados\",Tabla2[[#This Row],[Área/Dependencia]]=\"Subdirección de Recursos Tecnológicos\"),\"X\",\"\")","v":""},{"$f":"+CONCATENATE(Tabla2[[#This Row],[Tipo de Proceso]],Tabla2[[#This Row],[Columna4]])","v":{"$error":"#N/A"}},null,null,null,null,null,null,null,null,null,null,null,null,null,{"$f":"+IF(Tabla2[[#This Row],[Nivel de acceso ]]=\"Alto\",0.5,IF(Tabla2[[#This Row],[Nivel de acceso ]]=\"Medio\",0.3,IF(Tabla2[[#This Row],[Nivel de acceso ]]=\"Bajo\",0.2,\"\")))","v":""},null,{"$f":"+IF(Tabla2[[#This Row],[Es  Reservada]]=\"Sí\",\"Escriba Ley\",\"No Aplica\")","v":"No Aplica"},null,null,null,null,{"$f":"IFERROR(IF(AND(Tabla2[[#This Row],[Contiene Datos Personales]]=\"SÍ\",OR(Tabla2[[#This Row],[Clasificación Datos Personales]]=\"Sensible\",Tabla2[[#This Row],[Clasificación Datos Personales]]=\"NNA\",Tabla2[[#This Row],[Clasificación Datos Personales]]=\"privado\")),\"Alto\",IF(AND(Tabla2[[#This Row],[Contiene Datos Personales]]=\"SÍ\",Tabla2[[#This Row],[Clasificación Datos Personales]]=\"SEMIPRIVADO\"),\"Medio\",\"Bajo\")),\"\")","v":"Bajo"},null,null,"No Aplica","No Aplica",null,null,null,{"$f":"+IF(Tabla2[[#This Row],[Integridad]]=\"Grave\",0.5,IF(Tabla2[[#This Row],[Integridad]]=\"Importante\",0.3,IF(Tabla2[[#This Row],[Integridad]]=\"Leve\",0.2,\"\")))","v":""},null,{"$f":"+IF(Tabla2[[#This Row],[Disponibilidad Interna]]=\"Sí\",0.1,IF(Tabla2[[#This Row],[Disponibilidad Interna]]=\"NO\",0,\"\"))","v":""},null,{"$f":"+IF(Tabla2[[#This Row],[Disponibilidad Terceros]]=\"Sí\",0.1,IF(Tabla2[[#This Row],[Disponibilidad Terceros]]=\"No\",0,\"\"))","v":""},{"$f":"+Tabla2[[#This Row],[Columna32]]+Tabla2[[#This Row],[Columna34]]+Tabla2[[#This Row],[Columna1]]+Tabla2[[#This Row],[Columna3]]","v":{"$error":"#VALUE!"}},{"$f":"IFERROR(IF(Tabla2[[#This Row],[Columna33]]<0.45,\"BAJA\",IF(Tabla2[[#This Row],[Columna33]]>0.75,\"ALTA\",\"MEDIA\")),\"\")","v":""},"No Aplica",{"$f":"+IF(Tabla2[[#This Row],[Información Publicada (WEB)]]=\"Sí\",\"Digite URL\",\"No Aplica\")","v":"No Aplica"},null,{"$f":"IF(Tabla2[[#This Row],[ Clasificación ICBF]]=\"Pública\",1,IF(Tabla2[[#This Row],[ Clasificación ICBF]]=\"Clasificada\",2,IF(Tabla2[[#This Row],[ Clasificación ICBF]]=\"Reservada\",3,0)))","v":0},{"$f":"IF(#REF!=8,4,IF(#REF!=16,3,IF(#REF!=24,2,IF(#REF!=48,1,0))))","v":{"$error":"#REF!"}},{"$f":"IF(#REF!=8,\"Alto\",IF(#REF!=16,\"Medio\",IF(#REF!=24,\"Medio\",IF(#REF!=48,\"Bajo\",0))))","v":{"$error":"#REF!"}},null,{"$f":"+MID(Tabla2[[#This Row],[Área/Dependencia]],17,8)","v":""}]
["",null,null,null,{"$f":"+VLOOKUP(Tabla2[[#This Row],[SEDE - REGIONAL]],DATOS!B273:D306,3,FALSE)","v":{"$error":"#N/A"}},{"$f":"+IF(OR(Tabla2[[#This Row],[Área/Dependencia]]=\"Subdirección de Sistemas Integrados\",Tabla2[[#This Row],[Área/Dependencia]]=\"Subdirección de Recursos Tecnológicos\"),\"X\",\"\")","v":""},{"$f":"+CONCATENATE(Tabla2[[#This Row],[Tipo de Proceso]],Tabla2[[#This Row],[Columna4]])","v":{"$error":"#N/A"}},null,null,null,null,null,null,null,null,null,null,null,null,null,{"$f":"+IF(Tabla2[[#This Row],[Nivel de acceso ]]=\"Alto\",0.5,IF(Tabla2[[#This Row],[Nivel de acceso ]]=\"Medio\",0.3,IF(Tabla2[[#This Row],[Nivel de acceso ]]=\"Bajo\",0.2,\"\")))","v":""},null,{"$f":"+IF(Tabla2[[#This Row],[Es  Reservada]]=\"Sí\",\"Escriba Ley\",\"No Aplica\")","v":"No Aplica"},null,null,null,null,{"$f":"IFERROR(IF(AND(Tabla2[[#This Row],[Contiene Datos Personales]]=\"SÍ\",OR(Tabla2[[#This Row],[Clasificación Datos Personales]]=\"Sensible\",Tabla2[[#This Row],[Clasificación Datos Personales]]=\"NNA\",Tabla2[[#This Row],[Clasificación Datos Personales]]=\"privado\")),\"Alto\",IF(AND(Tabla2[[#This Row],[Contiene Datos Personales]]=\"SÍ\",Tabla2[[#This Row],[Clasificación Datos Personales]]=\"SEMIPRIVADO\"),\"Medio\",\"Bajo\")),\"\")","v":"Bajo"},null,null,"No Aplica","No Aplica",null,null,null,{"$f":"+IF(Tabla2[[#This Row],[Integridad]]=\"Grave\",0.5,IF(Tabla2[[#This Row],[Integridad]]=\"Importante\",0.3,IF(Tabla2[[#This Row],[Integridad]]=\"Leve\",0.2,\"\")))","v":""},null,{"$f":"+IF(Tabla2[[#This Row],[Disponibilidad Interna]]=\"Sí\",0.1,IF(Tabla2[[#This Row],[Disponibilidad Interna]]=\"NO\",0,\"\"))","v":""},null,{"$f":"+IF(Tabla2[[#This Row],[Disponibilidad Terceros]]=\"Sí\",0.1,IF(Tabla2[[#This Row],[Disponibilidad Terceros]]=\"No\",0,\"\"))","v":""},{"$f":"+Tabla2[[#This Row],[Columna32]]+Tabla2[[#This Row],[Columna34]]+Tabla2[[#This Row],[Columna1]]+Tabla2[[#This Row],[Columna3]]","v":{"$error":"#VALUE!"}},{"$f":"IFERROR(IF(Tabla2[[#This Row],[Columna33]]<0.45,\"BAJA\",IF(Tabla2[[#This Row],[Columna33]]>0.75,\"ALTA\",\"MEDIA\")),\"\")","v":""},"No Aplica",{"$f":"+IF(Tabla2[[#This Row],[Información Publicada (WEB)]]=\"Sí\",\"Digite URL\",\"No Aplica\")","v":"No Aplica"},null,{"$f":"IF(Tabla2[[#This Row],[ Clasificación ICBF]]=\"Pública\",1,IF(Tabla2[[#This Row],[ Clasificación ICBF]]=\"Clasificada\",2,IF(Tabla2[[#This Row],[ Clasificación ICBF]]=\"Reservada\",3,0)))","v":0},{"$f":"IF(#REF!=8,4,IF(#REF!=16,3,IF(#REF!=24,2,IF(#REF!=48,1,0))))","v":{"$error":"#REF!"}},{"$f":"IF(#REF!=8,\"Alto\",IF(#REF!=16,\"Medio\",IF(#REF!=24,\"Medio\",IF(#REF!=48,\"Bajo\",0))))","v":{"$error":"#REF!"}},null,{"$f":"+MID(Tabla2[[#This Row],[Área/Dependencia]],17,8)","v":""}]
["",null,null,null,{"$f":"+VLOOKUP(Tabla2[[#This Row],[SEDE - REGIONAL]],DATOS!B274:D307,3,FALSE)","v":{"$error":"#N/A"}},{"$f":"+IF(OR(Tabla2[[#This Row],[Área/Dependencia]]=\"Subdirección de Sistemas Integrados\",Tabla2[[#This Row],[Área/Dependencia]]=\"Subdirección de Recursos Tecnológicos\"),\"X\",\"\")","v":""},{"$f":"+CONCATENATE(Tabla2[[#This Row],[Tipo de Proceso]],Tabla2[[#This Row],[Columna4]])","v":{"$error":"#N/A"}},null,null,null,null,null,null,null,null,null,null,null,null,null,{"$f":"+IF(Tabla2[[#This Row],[Nivel de acceso ]]=\"Alto\",0.5,IF(Tabla2[[#This Row],[Nivel de acceso ]]=\"Medio\",0.3,IF(Tabla2[[#This Row],[Nivel de acceso ]]=\"Bajo\",0.2,\"\")))","v":""},null,{"$f":"+IF(Tabla2[[#This Row],[Es  Reservada]]=\"Sí\",\"Escriba Ley\",\"No Aplica\")","v":"No Aplica"},null,null,null,null,{"$f":"IFERROR(IF(AND(Tabla2[[#This Row],[Contiene Datos Personales]]=\"SÍ\",OR(Tabla2[[#This Row],[Clasificación Datos Personales]]=\"Sensible\",Tabla2[[#This Row],[Clasificación Datos Personales]]=\"NNA\",Tabla2[[#This Row],[Clasificación Datos Personales]]=\"privado\")),\"Alto\",IF(AND(Tabla2[[#This Row],[Contiene Datos Personales]]=\"SÍ\",Tabla2[[#This Row],[Clasificación Datos Personales]]=\"SEMIPRIVADO\"),\"Medio\",\"Bajo\")),\"\")","v":"Bajo"},null,null,"No Aplica","No Aplica",null,null,null,{"$f":"+IF(Tabla2[[#This Row],[Integridad]]=\"Grave\",0.5,IF(Tabla2[[#This Row],[Integridad]]=\"Importante\",0.3,IF(Tabla2[[#This Row],[Integridad]]=\"Leve\",0.2,\"\")))","v":""},null,{"$f":"+IF(Tabla2[[#This Row],[Disponibilidad Interna]]=\"Sí\",0.1,IF(Tabla2[[#This Row],[Disponibilidad Interna]]=\"NO\",0,\"\"))","v":""},null,{"$f":"+IF(Tabla2[[#This Row],[Disponibilidad Terceros]]=\"Sí\",0.1,IF(Tabla2[[#This Row],[Disponibilidad Terceros]]=\"No\",0,\"\"))","v":""},{"$f":"+Tabla2[[#This Row],[Columna32]]+Tabla2[[#This Row],[Columna34]]+Tabla2[[#This Row],[Columna1]]+Tabla2[[#This Row],[Columna3]]","v":{"$error":"#VALUE!"}},{"$f":"IFERROR(IF(Tabla2[[#This Row],[Columna33]]<0.45,\"BAJA\",IF(Tabla2[[#This Row],[Columna33]]>0.75,\"ALTA\",\"MEDIA\")),\"\")","v":""},"No Aplica",{"$f":"+IF(Tabla2[[#This Row],[Información Publicada (WEB)]]=\"Sí\",\"Digite URL\",\"No Aplica\")","v":"No Aplica"},null,{"$f":"IF(Tabla2[[#This Row],[ Clasificación ICBF]]=\"Pública\",1,IF(Tabla2[[#This Row],[ Clasificación ICBF]]=\"Clasificada\",2,IF(Tabla2[[#This Row],[ Clasificación ICBF]]=\"Reservada\",3,0)))","v":0},{"$f":"IF(#REF!=8,4,IF(#REF!=16,3,IF(#REF!=24,2,IF(#REF!=48,1,0))))","v":{"$error":"#REF!"}},{"$f":"IF(#REF!=8,\"Alto\",IF(#REF!=16,\"Medio\",IF(#REF!=24,\"Medio\",IF(#REF!=48,\"Bajo\",0))))","v":{"$error":"#REF!"}},null,{"$f":"+MID(Tabla2[[#This Row],[Área/Dependencia]],17,8)","v":""}]
["",null,null,null,{"$f":"+VLOOKUP(Tabla2[[#This Row],[SEDE - REGIONAL]],DATOS!B275:D308,3,FALSE)","v":{"$error":"#N/A"}},{"$f":"+IF(OR(Tabla2[[#This Row],[Área/Dependencia]]=\"Subdirección de Sistemas Integrados\",Tabla2[[#This Row],[Área/Dependencia]]=\"Subdirección de Recursos Tecnológicos\"),\"X\",\"\")","v":""},{"$f":"+CONCATENATE(Tabla2[[#This Row],[Tipo de Proceso]],Tabla2[[#This Row],[Columna4]])","v":{"$error":"#N/A"}},null,null,null,null,null,null,null,null,null,null,null,null,null,{"$f":"+IF(Tabla2[[#This Row],[Nivel de acceso ]]=\"Alto\",0.5,IF(Tabla2[[#This Row],[Nivel de acceso ]]=\"Medio\",0.3,IF(Tabla2[[#This Row],[Nivel de acceso ]]=\"Bajo\",0.2,\"\")))","v":""},null,{"$f":"+IF(Tabla2[[#This Row],[Es  Reservada]]=\"Sí\",\"Escriba Ley\",\"No Aplica\")","v":"No Aplica"},null,null,null,null,{"$f":"IFERROR(IF(AND(Tabla2[[#This Row],[Contiene Datos Personales]]=\"SÍ\",OR(Tabla2[[#This Row],[Clasificación Datos Personales]]=\"Sensible\",Tabla2[[#This Row],[Clasificación Datos Personales]]=\"NNA\",Tabla2[[#This Row],[Clasificación Datos Personales]]=\"privado\")),\"Alto\",IF(AND(Tabla2[[#This Row],[Contiene Datos Personales]]=\"SÍ\",Tabla2[[#This Row],[Clasificación Datos Personales]]=\"SEMIPRIVADO\"),\"Medio\",\"Bajo\")),\"\")","v":"Bajo"},null,null,"No Aplica","No Aplica",null,null,null,{"$f":"+IF(Tabla2[[#This Row],[Integridad]]=\"Grave\",0.5,IF(Tabla2[[#This Row],[Integridad]]=\"Importante\",0.3,IF(Tabla2[[#This Row],[Integridad]]=\"Leve\",0.2,\"\")))","v":""},null,{"$f":"+IF(Tabla2[[#This Row],[Disponibilidad Interna]]=\"Sí\",0.1,IF(Tabla2[[#This Row],[Disponibilidad Interna]]=\"NO\",0,\"\"))","v":""},null,{"$f":"+IF(Tabla2[[#This Row],[Disponibilidad Terceros]]=\"Sí\",0.1,IF(Tabla2[[#This Row],[Disponibilidad Terceros]]=\"No\",0,\"\"))","v":""},{"$f":"+Tabla2[[#This Row],[Columna32]]+Tabla2[[#This Row],[Columna34]]+Tabla2[[#This Row],[Columna1]]+Tabla2[[#This Row],[Columna3]]","v":{"$error":"#VALUE!"}},{"$f":"IFERROR(IF(Tabla2[[#This Row],[Columna33]]<0.45,\"BAJA\",IF(Tabla2[[#This Row],[Columna33]]>0.75,\"ALTA\",\"MEDIA\")),\"\")","v":""},"No Aplica",{"$f":"+IF(Tabla2[[#This Row],[Información Publicada (WEB)]]=\"Sí\",\"Digite URL\",\"No Aplica\")","v":"No Aplica"},null,{"$f":"IF(Tabla2[[#This Row],[ Clasificación ICBF]]=\"Pública\",1,IF(Tabla2[[#This Row],[ Clasificación ICBF]]=\"Clasificada\",2,IF(Tabla2[[#This Row],[ Clasificación ICBF]]=\"Reservada\",3,0)))","v":0},{"$f":"IF(#REF!=8,4,IF(#REF!=16,3,IF(#REF!=24,2,IF(#REF!=48,1,0))))","v":{"$error":"#REF!"}},{"$f":"IF(#REF!=8,\"Alto\",IF(#REF!=16,\"Medio\",IF(#REF!=24,\"Medio\",IF(#REF!=48,\"Bajo\",0))))","v":{"$error":"#REF!"}},null,{"$f":"+MID(Tabla2[[#This Row],[Área/Dependencia]],17,8)","v":""}]
["",null,null,null,{"$f":"+VLOOKUP(Tabla2[[#This Row],[SEDE - REGIONAL]],DATOS!B276:D309,3,FALSE)","v":{"$error":"#N/A"}},{"$f":"+IF(OR(Tabla2[[#This Row],[Área/Dependencia]]=\"Subdirección de Sistemas Integrados\",Tabla2[[#This Row],[Área/Dependencia]]=\"Subdirección de Recursos Tecnológicos\"),\"X\",\"\")","v":""},{"$f":"+CONCATENATE(Tabla2[[#This Row],[Tipo de Proceso]],Tabla2[[#This Row],[Columna4]])","v":{"$error":"#N/A"}},null,null,null,null,null,null,null,null,null,null,null,null,null,{"$f":"+IF(Tabla2[[#This Row],[Nivel de acceso ]]=\"Alto\",0.5,IF(Tabla2[[#This Row],[Nivel de acceso ]]=\"Medio\",0.3,IF(Tabla2[[#This Row],[Nivel de acceso ]]=\"Bajo\",0.2,\"\")))","v":""},null,{"$f":"+IF(Tabla2[[#This Row],[Es  Reservada]]=\"Sí\",\"Escriba Ley\",\"No Aplica\")","v":"No Aplica"},null,null,null,null,{"$f":"IFERROR(IF(AND(Tabla2[[#This Row],[Contiene Datos Personales]]=\"SÍ\",OR(Tabla2[[#This Row],[Clasificación Datos Personales]]=\"Sensible\",Tabla2[[#This Row],[Clasificación Datos Personales]]=\"NNA\",Tabla2[[#This Row],[Clasificación Datos Personales]]=\"privado\")),\"Alto\",IF(AND(Tabla2[[#This Row],[Contiene Datos Personales]]=\"SÍ\",Tabla2[[#This Row],[Clasificación Datos Personales]]=\"SEMIPRIVADO\"),\"Medio\",\"Bajo\")),\"\")","v":"Bajo"},null,null,"No Aplica","No Aplica",null,null,null,{"$f":"+IF(Tabla2[[#This Row],[Integridad]]=\"Grave\",0.5,IF(Tabla2[[#This Row],[Integridad]]=\"Importante\",0.3,IF(Tabla2[[#This Row],[Integridad]]=\"Leve\",0.2,\"\")))","v":""},null,{"$f":"+IF(Tabla2[[#This Row],[Disponibilidad Interna]]=\"Sí\",0.1,IF(Tabla2[[#This Row],[Disponibilidad Interna]]=\"NO\",0,\"\"))","v":""},null,{"$f":"+IF(Tabla2[[#This Row],[Disponibilidad Terceros]]=\"Sí\",0.1,IF(Tabla2[[#This Row],[Disponibilidad Terceros]]=\"No\",0,\"\"))","v":""},{"$f":"+Tabla2[[#This Row],[Columna32]]+Tabla2[[#This Row],[Columna34]]+Tabla2[[#This Row],[Columna1]]+Tabla2[[#This Row],[Columna3]]","v":{"$error":"#VALUE!"}},{"$f":"IFERROR(IF(Tabla2[[#This Row],[Columna33]]<0.45,\"BAJA\",IF(Tabla2[[#This Row],[Columna33]]>0.75,\"ALTA\",\"MEDIA\")),\"\")","v":""},"No Aplica",{"$f":"+IF(Tabla2[[#This Row],[Información Publicada (WEB)]]=\"Sí\",\"Digite URL\",\"No Aplica\")","v":"No Aplica"},null,{"$f":"IF(Tabla2[[#This Row],[ Clasificación ICBF]]=\"Pública\",1,IF(Tabla2[[#This Row],[ Clasificación ICBF]]=\"Clasificada\",2,IF(Tabla2[[#This Row],[ Clasificación ICBF]]=\"Reservada\",3,0)))","v":0},{"$f":"IF(#REF!=8,4,IF(#REF!=16,3,IF(#REF!=24,2,IF(#REF!=48,1,0))))","v":{"$error":"#REF!"}},{"$f":"IF(#REF!=8,\"Alto\",IF(#REF!=16,\"Medio\",IF(#REF!=24,\"Medio\",IF(#REF!=48,\"Bajo\",0))))","v":{"$error":"#REF!"}},null,{"$f":"+MID(Tabla2[[#This Row],[Área/Dependencia]],17,8)","v":""}]
["",null,null,null,{"$f":"+VLOOKUP(Tabla2[[#This Row],[SEDE - REGIONAL]],DATOS!B277:D310,3,FALSE)","v":{"$error":"#N/A"}},{"$f":"+IF(OR(Tabla2[[#This Row],[Área/Dependencia]]=\"Subdirección de Sistemas Integrados\",Tabla2[[#This Row],[Área/Dependencia]]=\"Subdirección de Recursos Tecnológicos\"),\"X\",\"\")","v":""},{"$f":"+CONCATENATE(Tabla2[[#This Row],[Tipo de Proceso]],Tabla2[[#This Row],[Columna4]])","v":{"$error":"#N/A"}},null,null,null,null,null,null,null,null,null,null,null,null,null,{"$f":"+IF(Tabla2[[#This Row],[Nivel de acceso ]]=\"Alto\",0.5,IF(Tabla2[[#This Row],[Nivel de acceso ]]=\"Medio\",0.3,IF(Tabla2[[#This Row],[Nivel de acceso ]]=\"Bajo\",0.2,\"\")))","v":""},null,{"$f":"+IF(Tabla2[[#This Row],[Es  Reservada]]=\"Sí\",\"Escriba Ley\",\"No Aplica\")","v":"No Aplica"},null,null,null,null,{"$f":"IFERROR(IF(AND(Tabla2[[#This Row],[Contiene Datos Personales]]=\"SÍ\",OR(Tabla2[[#This Row],[Clasificación Datos Personales]]=\"Sensible\",Tabla2[[#This Row],[Clasificación Datos Personales]]=\"NNA\",Tabla2[[#This Row],[Clasificación Datos Personales]]=\"privado\")),\"Alto\",IF(AND(Tabla2[[#This Row],[Contiene Datos Personales]]=\"SÍ\",Tabla2[[#This Row],[Clasificación Datos Personales]]=\"SEMIPRIVADO\"),\"Medio\",\"Bajo\")),\"\")","v":"Bajo"},null,null,"No Aplica","No Aplica",null,null,null,{"$f":"+IF(Tabla2[[#This Row],[Integridad]]=\"Grave\",0.5,IF(Tabla2[[#This Row],[Integridad]]=\"Importante\",0.3,IF(Tabla2[[#This Row],[Integridad]]=\"Leve\",0.2,\"\")))","v":""},null,{"$f":"+IF(Tabla2[[#This Row],[Disponibilidad Interna]]=\"Sí\",0.1,IF(Tabla2[[#This Row],[Disponibilidad Interna]]=\"NO\",0,\"\"))","v":""},null,{"$f":"+IF(Tabla2[[#This Row],[Disponibilidad Terceros]]=\"Sí\",0.1,IF(Tabla2[[#This Row],[Disponibilidad Terceros]]=\"No\",0,\"\"))","v":""},{"$f":"+Tabla2[[#This Row],[Columna32]]+Tabla2[[#This Row],[Columna34]]+Tabla2[[#This Row],[Columna1]]+Tabla2[[#This Row],[Columna3]]","v":{"$error":"#VALUE!"}},{"$f":"IFERROR(IF(Tabla2[[#This Row],[Columna33]]<0.45,\"BAJA\",IF(Tabla2[[#This Row],[Columna33]]>0.75,\"ALTA\",\"MEDIA\")),\"\")","v":""},"No Aplica",{"$f":"+IF(Tabla2[[#This Row],[Información Publicada (WEB)]]=\"Sí\",\"Digite URL\",\"No Aplica\")","v":"No Aplica"},null,{"$f":"IF(Tabla2[[#This Row],[ Clasificación ICBF]]=\"Pública\",1,IF(Tabla2[[#This Row],[ Clasificación ICBF]]=\"Clasificada\",2,IF(Tabla2[[#This Row],[ Clasificación ICBF]]=\"Reservada\",3,0)))","v":0},{"$f":"IF(#REF!=8,4,IF(#REF!=16,3,IF(#REF!=24,2,IF(#REF!=48,1,0))))","v":{"$error":"#REF!"}},{"$f":"IF(#REF!=8,\"Alto\",IF(#REF!=16,\"Medio\",IF(#REF!=24,\"Medio\",IF(#REF!=48,\"Bajo\",0))))","v":{"$error":"#REF!"}},null,{"$f":"+MID(Tabla2[[#This Row],[Área/Dependencia]],17,8)","v":""}]
["",null,null,null,{"$f":"+VLOOKUP(Tabla2[[#This Row],[SEDE - REGIONAL]],DATOS!B278:D311,3,FALSE)","v":{"$error":"#N/A"}},{"$f":"+IF(OR(Tabla2[[#This Row],[Área/Dependencia]]=\"Subdirección de Sistemas Integrados\",Tabla2[[#This Row],[Área/Dependencia]]=\"Subdirección de Recursos Tecnológicos\"),\"X\",\"\")","v":""},{"$f":"+CONCATENATE(Tabla2[[#This Row],[Tipo de Proceso]],Tabla2[[#This Row],[Columna4]])","v":{"$error":"#N/A"}},null,null,null,null,null,null,null,null,null,null,null,null,null,{"$f":"+IF(Tabla2[[#This Row],[Nivel de acceso ]]=\"Alto\",0.5,IF(Tabla2[[#This Row],[Nivel de acceso ]]=\"Medio\",0.3,IF(Tabla2[[#This Row],[Nivel de acceso ]]=\"Bajo\",0.2,\"\")))","v":""},null,{"$f":"+IF(Tabla2[[#This Row],[Es  Reservada]]=\"Sí\",\"Escriba Ley\",\"No Aplica\")","v":"No Aplica"},null,null,null,null,{"$f":"IFERROR(IF(AND(Tabla2[[#This Row],[Contiene Datos Personales]]=\"SÍ\",OR(Tabla2[[#This Row],[Clasificación Datos Personales]]=\"Sensible\",Tabla2[[#This Row],[Clasificación Datos Personales]]=\"NNA\",Tabla2[[#This Row],[Clasificación Datos Personales]]=\"privado\")),\"Alto\",IF(AND(Tabla2[[#This Row],[Contiene Datos Personales]]=\"SÍ\",Tabla2[[#This Row],[Clasificación Datos Personales]]=\"SEMIPRIVADO\"),\"Medio\",\"Bajo\")),\"\")","v":"Bajo"},null,null,"No Aplica","No Aplica",null,null,null,{"$f":"+IF(Tabla2[[#This Row],[Integridad]]=\"Grave\",0.5,IF(Tabla2[[#This Row],[Integridad]]=\"Importante\",0.3,IF(Tabla2[[#This Row],[Integridad]]=\"Leve\",0.2,\"\")))","v":""},null,{"$f":"+IF(Tabla2[[#This Row],[Disponibilidad Interna]]=\"Sí\",0.1,IF(Tabla2[[#This Row],[Disponibilidad Interna]]=\"NO\",0,\"\"))","v":""},null,{"$f":"+IF(Tabla2[[#This Row],[Disponibilidad Terceros]]=\"Sí\",0.1,IF(Tabla2[[#This Row],[Disponibilidad Terceros]]=\"No\",0,\"\"))","v":""},{"$f":"+Tabla2[[#This Row],[Columna32]]+Tabla2[[#This Row],[Columna34]]+Tabla2[[#This Row],[Columna1]]+Tabla2[[#This Row],[Columna3]]","v":{"$error":"#VALUE!"}},{"$f":"IFERROR(IF(Tabla2[[#This Row],[Columna33]]<0.45,\"BAJA\",IF(Tabla2[[#This Row],[Columna33]]>0.75,\"ALTA\",\"MEDIA\")),\"\")","v":""},"No Aplica",{"$f":"+IF(Tabla2[[#This Row],[Información Publicada (WEB)]]=\"Sí\",\"Digite URL\",\"No Aplica\")","v":"No Aplica"},null,{"$f":"IF(Tabla2[[#This Row],[ Clasificación ICBF]]=\"Pública\",1,IF(Tabla2[[#This Row],[ Clasificación ICBF]]=\"Clasificada\",2,IF(Tabla2[[#This Row],[ Clasificación ICBF]]=\"Reservada\",3,0)))","v":0},{"$f":"IF(#REF!=8,4,IF(#REF!=16,3,IF(#REF!=24,2,IF(#REF!=48,1,0))))","v":{"$error":"#REF!"}},{"$f":"IF(#REF!=8,\"Alto\",IF(#REF!=16,\"Medio\",IF(#REF!=24,\"Medio\",IF(#REF!=48,\"Bajo\",0))))","v":{"$error":"#REF!"}},null,{"$f":"+MID(Tabla2[[#This Row],[Área/Dependencia]],17,8)","v":""}]
["",null,null,null,{"$f":"+VLOOKUP(Tabla2[[#This Row],[SEDE - REGIONAL]],DATOS!B279:D312,3,FALSE)","v":{"$error":"#N/A"}},{"$f":"+IF(OR(Tabla2[[#This Row],[Área/Dependencia]]=\"Subdirección de Sistemas Integrados\",Tabla2[[#This Row],[Área/Dependencia]]=\"Subdirección de Recursos Tecnológicos\"),\"X\",\"\")","v":""},{"$f":"+CONCATENATE(Tabla2[[#This Row],[Tipo de Proceso]],Tabla2[[#This Row],[Columna4]])","v":{"$error":"#N/A"}},null,null,null,null,null,null,null,null,null,null,null,null,null,{"$f":"+IF(Tabla2[[#This Row],[Nivel de acceso ]]=\"Alto\",0.5,IF(Tabla2[[#This Row],[Nivel de acceso ]]=\"Medio\",0.3,IF(Tabla2[[#This Row],[Nivel de acceso ]]=\"Bajo\",0.2,\"\")))","v":""},null,{"$f":"+IF(Tabla2[[#This Row],[Es  Reservada]]=\"Sí\",\"Escriba Ley\",\"No Aplica\")","v":"No Aplica"},null,null,null,null,{"$f":"IFERROR(IF(AND(Tabla2[[#This Row],[Contiene Datos Personales]]=\"SÍ\",OR(Tabla2[[#This Row],[Clasificación Datos Personales]]=\"Sensible\",Tabla2[[#This Row],[Clasificación Datos Personales]]=\"NNA\",Tabla2[[#This Row],[Clasificación Datos Personales]]=\"privado\")),\"Alto\",IF(AND(Tabla2[[#This Row],[Contiene Datos Personales]]=\"SÍ\",Tabla2[[#This Row],[Clasificación Datos Personales]]=\"SEMIPRIVADO\"),\"Medio\",\"Bajo\")),\"\")","v":"Bajo"},null,null,"No Aplica","No Aplica",null,null,null,{"$f":"+IF(Tabla2[[#This Row],[Integridad]]=\"Grave\",0.5,IF(Tabla2[[#This Row],[Integridad]]=\"Importante\",0.3,IF(Tabla2[[#This Row],[Integridad]]=\"Leve\",0.2,\"\")))","v":""},null,{"$f":"+IF(Tabla2[[#This Row],[Disponibilidad Interna]]=\"Sí\",0.1,IF(Tabla2[[#This Row],[Disponibilidad Interna]]=\"NO\",0,\"\"))","v":""},null,{"$f":"+IF(Tabla2[[#This Row],[Disponibilidad Terceros]]=\"Sí\",0.1,IF(Tabla2[[#This Row],[Disponibilidad Terceros]]=\"No\",0,\"\"))","v":""},{"$f":"+Tabla2[[#This Row],[Columna32]]+Tabla2[[#This Row],[Columna34]]+Tabla2[[#This Row],[Columna1]]+Tabla2[[#This Row],[Columna3]]","v":{"$error":"#VALUE!"}},{"$f":"IFERROR(IF(Tabla2[[#This Row],[Columna33]]<0.45,\"BAJA\",IF(Tabla2[[#This Row],[Columna33]]>0.75,\"ALTA\",\"MEDIA\")),\"\")","v":""},"No Aplica",{"$f":"+IF(Tabla2[[#This Row],[Información Publicada (WEB)]]=\"Sí\",\"Digite URL\",\"No Aplica\")","v":"No Aplica"},null,{"$f":"IF(Tabla2[[#This Row],[ Clasificación ICBF]]=\"Pública\",1,IF(Tabla2[[#This Row],[ Clasificación ICBF]]=\"Clasificada\",2,IF(Tabla2[[#This Row],[ Clasificación ICBF]]=\"Reservada\",3,0)))","v":0},{"$f":"IF(#REF!=8,4,IF(#REF!=16,3,IF(#REF!=24,2,IF(#REF!=48,1,0))))","v":{"$error":"#REF!"}},{"$f":"IF(#REF!=8,\"Alto\",IF(#REF!=16,\"Medio\",IF(#REF!=24,\"Medio\",IF(#REF!=48,\"Bajo\",0))))","v":{"$error":"#REF!"}},null,{"$f":"+MID(Tabla2[[#This Row],[Área/Dependencia]],17,8)","v":""}]
["",null,null,null,{"$f":"+VLOOKUP(Tabla2[[#This Row],[SEDE - REGIONAL]],DATOS!B280:D313,3,FALSE)","v":{"$error":"#N/A"}},{"$f":"+IF(OR(Tabla2[[#This Row],[Área/Dependencia]]=\"Subdirección de Sistemas Integrados\",Tabla2[[#This Row],[Área/Dependencia]]=\"Subdirección de Recursos Tecnológicos\"),\"X\",\"\")","v":""},{"$f":"+CONCATENATE(Tabla2[[#This Row],[Tipo de Proceso]],Tabla2[[#This Row],[Columna4]])","v":{"$error":"#N/A"}},null,null,null,null,null,null,null,null,null,null,null,null,null,{"$f":"+IF(Tabla2[[#This Row],[Nivel de acceso ]]=\"Alto\",0.5,IF(Tabla2[[#This Row],[Nivel de acceso ]]=\"Medio\",0.3,IF(Tabla2[[#This Row],[Nivel de acceso ]]=\"Bajo\",0.2,\"\")))","v":""},null,{"$f":"+IF(Tabla2[[#This Row],[Es  Reservada]]=\"Sí\",\"Escriba Ley\",\"No Aplica\")","v":"No Aplica"},null,null,null,null,{"$f":"IFERROR(IF(AND(Tabla2[[#This Row],[Contiene Datos Personales]]=\"SÍ\",OR(Tabla2[[#This Row],[Clasificación Datos Personales]]=\"Sensible\",Tabla2[[#This Row],[Clasificación Datos Personales]]=\"NNA\",Tabla2[[#This Row],[Clasificación Datos Personales]]=\"privado\")),\"Alto\",IF(AND(Tabla2[[#This Row],[Contiene Datos Personales]]=\"SÍ\",Tabla2[[#This Row],[Clasificación Datos Personales]]=\"SEMIPRIVADO\"),\"Medio\",\"Bajo\")),\"\")","v":"Bajo"},null,null,"No Aplica","No Aplica",null,null,null,{"$f":"+IF(Tabla2[[#This Row],[Integridad]]=\"Grave\",0.5,IF(Tabla2[[#This Row],[Integridad]]=\"Importante\",0.3,IF(Tabla2[[#This Row],[Integridad]]=\"Leve\",0.2,\"\")))","v":""},null,{"$f":"+IF(Tabla2[[#This Row],[Disponibilidad Interna]]=\"Sí\",0.1,IF(Tabla2[[#This Row],[Disponibilidad Interna]]=\"NO\",0,\"\"))","v":""},null,{"$f":"+IF(Tabla2[[#This Row],[Disponibilidad Terceros]]=\"Sí\",0.1,IF(Tabla2[[#This Row],[Disponibilidad Terceros]]=\"No\",0,\"\"))","v":""},{"$f":"+Tabla2[[#This Row],[Columna32]]+Tabla2[[#This Row],[Columna34]]+Tabla2[[#This Row],[Columna1]]+Tabla2[[#This Row],[Columna3]]","v":{"$error":"#VALUE!"}},{"$f":"IFERROR(IF(Tabla2[[#This Row],[Columna33]]<0.45,\"BAJA\",IF(Tabla2[[#This Row],[Columna33]]>0.75,\"ALTA\",\"MEDIA\")),\"\")","v":""},"No Aplica",{"$f":"+IF(Tabla2[[#This Row],[Información Publicada (WEB)]]=\"Sí\",\"Digite URL\",\"No Aplica\")","v":"No Aplica"},null,{"$f":"IF(Tabla2[[#This Row],[ Clasificación ICBF]]=\"Pública\",1,IF(Tabla2[[#This Row],[ Clasificación ICBF]]=\"Clasificada\",2,IF(Tabla2[[#This Row],[ Clasificación ICBF]]=\"Reservada\",3,0)))","v":0},{"$f":"IF(#REF!=8,4,IF(#REF!=16,3,IF(#REF!=24,2,IF(#REF!=48,1,0))))","v":{"$error":"#REF!"}},{"$f":"IF(#REF!=8,\"Alto\",IF(#REF!=16,\"Medio\",IF(#REF!=24,\"Medio\",IF(#REF!=48,\"Bajo\",0))))","v":{"$error":"#REF!"}},null,{"$f":"+MID(Tabla2[[#This Row],[Área/Dependencia]],17,8)","v":""}]
["",null,null,null,{"$f":"+VLOOKUP(Tabla2[[#This Row],[SEDE - REGIONAL]],DATOS!B281:D314,3,FALSE)","v":{"$error":"#N/A"}},{"$f":"+IF(OR(Tabla2[[#This Row],[Área/Dependencia]]=\"Subdirección de Sistemas Integrados\",Tabla2[[#This Row],[Área/Dependencia]]=\"Subdirección de Recursos Tecnológicos\"),\"X\",\"\")","v":""},{"$f":"+CONCATENATE(Tabla2[[#This Row],[Tipo de Proceso]],Tabla2[[#This Row],[Columna4]])","v":{"$error":"#N/A"}},null,null,null,null,null,null,null,null,null,null,null,null,null,{"$f":"+IF(Tabla2[[#This Row],[Nivel de acceso ]]=\"Alto\",0.5,IF(Tabla2[[#This Row],[Nivel de acceso ]]=\"Medio\",0.3,IF(Tabla2[[#This Row],[Nivel de acceso ]]=\"Bajo\",0.2,\"\")))","v":""},null,{"$f":"+IF(Tabla2[[#This Row],[Es  Reservada]]=\"Sí\",\"Escriba Ley\",\"No Aplica\")","v":"No Aplica"},null,null,null,null,{"$f":"IFERROR(IF(AND(Tabla2[[#This Row],[Contiene Datos Personales]]=\"SÍ\",OR(Tabla2[[#This Row],[Clasificación Datos Personales]]=\"Sensible\",Tabla2[[#This Row],[Clasificación Datos Personales]]=\"NNA\",Tabla2[[#This Row],[Clasificación Datos Personales]]=\"privado\")),\"Alto\",IF(AND(Tabla2[[#This Row],[Contiene Datos Personales]]=\"SÍ\",Tabla2[[#This Row],[Clasificación Datos Personales]]=\"SEMIPRIVADO\"),\"Medio\",\"Bajo\")),\"\")","v":"Bajo"},null,null,"No Aplica","No Aplica",null,null,null,{"$f":"+IF(Tabla2[[#This Row],[Integridad]]=\"Grave\",0.5,IF(Tabla2[[#This Row],[Integridad]]=\"Importante\",0.3,IF(Tabla2[[#This Row],[Integridad]]=\"Leve\",0.2,\"\")))","v":""},null,{"$f":"+IF(Tabla2[[#This Row],[Disponibilidad Interna]]=\"Sí\",0.1,IF(Tabla2[[#This Row],[Disponibilidad Interna]]=\"NO\",0,\"\"))","v":""},null,{"$f":"+IF(Tabla2[[#This Row],[Disponibilidad Terceros]]=\"Sí\",0.1,IF(Tabla2[[#This Row],[Disponibilidad Terceros]]=\"No\",0,\"\"))","v":""},{"$f":"+Tabla2[[#This Row],[Columna32]]+Tabla2[[#This Row],[Columna34]]+Tabla2[[#This Row],[Columna1]]+Tabla2[[#This Row],[Columna3]]","v":{"$error":"#VALUE!"}},{"$f":"IFERROR(IF(Tabla2[[#This Row],[Columna33]]<0.45,\"BAJA\",IF(Tabla2[[#This Row],[Columna33]]>0.75,\"ALTA\",\"MEDIA\")),\"\")","v":""},"No Aplica",{"$f":"+IF(Tabla2[[#This Row],[Información Publicada (WEB)]]=\"Sí\",\"Digite URL\",\"No Aplica\")","v":"No Aplica"},null,{"$f":"IF(Tabla2[[#This Row],[ Clasificación ICBF]]=\"Pública\",1,IF(Tabla2[[#This Row],[ Clasificación ICBF]]=\"Clasificada\",2,IF(Tabla2[[#This Row],[ Clasificación ICBF]]=\"Reservada\",3,0)))","v":0},{"$f":"IF(#REF!=8,4,IF(#REF!=16,3,IF(#REF!=24,2,IF(#REF!=48,1,0))))","v":{"$error":"#REF!"}},{"$f":"IF(#REF!=8,\"Alto\",IF(#REF!=16,\"Medio\",IF(#REF!=24,\"Medio\",IF(#REF!=48,\"Bajo\",0))))","v":{"$error":"#REF!"}},null,{"$f":"+MID(Tabla2[[#This Row],[Área/Dependencia]],17,8)","v":""}]
["",null,null,null,{"$f":"+VLOOKUP(Tabla2[[#This Row],[SEDE - REGIONAL]],DATOS!B282:D315,3,FALSE)","v":{"$error":"#N/A"}},{"$f":"+IF(OR(Tabla2[[#This Row],[Área/Dependencia]]=\"Subdirección de Sistemas Integrados\",Tabla2[[#This Row],[Área/Dependencia]]=\"Subdirección de Recursos Tecnológicos\"),\"X\",\"\")","v":""},{"$f":"+CONCATENATE(Tabla2[[#This Row],[Tipo de Proceso]],Tabla2[[#This Row],[Columna4]])","v":{"$error":"#N/A"}},null,null,null,null,null,null,null,null,null,null,null,null,null,{"$f":"+IF(Tabla2[[#This Row],[Nivel de acceso ]]=\"Alto\",0.5,IF(Tabla2[[#This Row],[Nivel de acceso ]]=\"Medio\",0.3,IF(Tabla2[[#This Row],[Nivel de acceso ]]=\"Bajo\",0.2,\"\")))","v":""},null,{"$f":"+IF(Tabla2[[#This Row],[Es  Reservada]]=\"Sí\",\"Escriba Ley\",\"No Aplica\")","v":"No Aplica"},null,null,null,null,{"$f":"IFERROR(IF(AND(Tabla2[[#This Row],[Contiene Datos Personales]]=\"SÍ\",OR(Tabla2[[#This Row],[Clasificación Datos Personales]]=\"Sensible\",Tabla2[[#This Row],[Clasificación Datos Personales]]=\"NNA\",Tabla2[[#This Row],[Clasificación Datos Personales]]=\"privado\")),\"Alto\",IF(AND(Tabla2[[#This Row],[Contiene Datos Personales]]=\"SÍ\",Tabla2[[#This Row],[Clasificación Datos Personales]]=\"SEMIPRIVADO\"),\"Medio\",\"Bajo\")),\"\")","v":"Bajo"},null,null,"No Aplica","No Aplica",null,null,null,{"$f":"+IF(Tabla2[[#This Row],[Integridad]]=\"Grave\",0.5,IF(Tabla2[[#This Row],[Integridad]]=\"Importante\",0.3,IF(Tabla2[[#This Row],[Integridad]]=\"Leve\",0.2,\"\")))","v":""},null,{"$f":"+IF(Tabla2[[#This Row],[Disponibilidad Interna]]=\"Sí\",0.1,IF(Tabla2[[#This Row],[Disponibilidad Interna]]=\"NO\",0,\"\"))","v":""},null,{"$f":"+IF(Tabla2[[#This Row],[Disponibilidad Terceros]]=\"Sí\",0.1,IF(Tabla2[[#This Row],[Disponibilidad Terceros]]=\"No\",0,\"\"))","v":""},{"$f":"+Tabla2[[#This Row],[Columna32]]+Tabla2[[#This Row],[Columna34]]+Tabla2[[#This Row],[Columna1]]+Tabla2[[#This Row],[Columna3]]","v":{"$error":"#VALUE!"}},{"$f":"IFERROR(IF(Tabla2[[#This Row],[Columna33]]<0.45,\"BAJA\",IF(Tabla2[[#This Row],[Columna33]]>0.75,\"ALTA\",\"MEDIA\")),\"\")","v":""},"No Aplica",{"$f":"+IF(Tabla2[[#This Row],[Información Publicada (WEB)]]=\"Sí\",\"Digite URL\",\"No Aplica\")","v":"No Aplica"},null,{"$f":"IF(Tabla2[[#This Row],[ Clasificación ICBF]]=\"Pública\",1,IF(Tabla2[[#This Row],[ Clasificación ICBF]]=\"Clasificada\",2,IF(Tabla2[[#This Row],[ Clasificación ICBF]]=\"Reservada\",3,0)))","v":0},{"$f":"IF(#REF!=8,4,IF(#REF!=16,3,IF(#REF!=24,2,IF(#REF!=48,1,0))))","v":{"$error":"#REF!"}},{"$f":"IF(#REF!=8,\"Alto\",IF(#REF!=16,\"Medio\",IF(#REF!=24,\"Medio\",IF(#REF!=48,\"Bajo\",0))))","v":{"$error":"#REF!"}},null,{"$f":"+MID(Tabla2[[#This Row],[Área/Dependencia]],17,8)","v":""}]
["",null,null,null,{"$f":"+VLOOKUP(Tabla2[[#This Row],[SEDE - REGIONAL]],DATOS!B283:D316,3,FALSE)","v":{"$error":"#N/A"}},{"$f":"+IF(OR(Tabla2[[#This Row],[Área/Dependencia]]=\"Subdirección de Sistemas Integrados\",Tabla2[[#This Row],[Área/Dependencia]]=\"Subdirección de Recursos Tecnológicos\"),\"X\",\"\")","v":""},{"$f":"+CONCATENATE(Tabla2[[#This Row],[Tipo de Proceso]],Tabla2[[#This Row],[Columna4]])","v":{"$error":"#N/A"}},null,null,null,null,null,null,null,null,null,null,null,null,null,{"$f":"+IF(Tabla2[[#This Row],[Nivel de acceso ]]=\"Alto\",0.5,IF(Tabla2[[#This Row],[Nivel de acceso ]]=\"Medio\",0.3,IF(Tabla2[[#This Row],[Nivel de acceso ]]=\"Bajo\",0.2,\"\")))","v":""},null,{"$f":"+IF(Tabla2[[#This Row],[Es  Reservada]]=\"Sí\",\"Escriba Ley\",\"No Aplica\")","v":"No Aplica"},null,null,null,null,{"$f":"IFERROR(IF(AND(Tabla2[[#This Row],[Contiene Datos Personales]]=\"SÍ\",OR(Tabla2[[#This Row],[Clasificación Datos Personales]]=\"Sensible\",Tabla2[[#This Row],[Clasificación Datos Personales]]=\"NNA\",Tabla2[[#This Row],[Clasificación Datos Personales]]=\"privado\")),\"Alto\",IF(AND(Tabla2[[#This Row],[Contiene Datos Personales]]=\"SÍ\",Tabla2[[#This Row],[Clasificación Datos Personales]]=\"SEMIPRIVADO\"),\"Medio\",\"Bajo\")),\"\")","v":"Bajo"},null,null,"No Aplica","No Aplica",null,null,null,{"$f":"+IF(Tabla2[[#This Row],[Integridad]]=\"Grave\",0.5,IF(Tabla2[[#This Row],[Integridad]]=\"Importante\",0.3,IF(Tabla2[[#This Row],[Integridad]]=\"Leve\",0.2,\"\")))","v":""},null,{"$f":"+IF(Tabla2[[#This Row],[Disponibilidad Interna]]=\"Sí\",0.1,IF(Tabla2[[#This Row],[Disponibilidad Interna]]=\"NO\",0,\"\"))","v":""},null,{"$f":"+IF(Tabla2[[#This Row],[Disponibilidad Terceros]]=\"Sí\",0.1,IF(Tabla2[[#This Row],[Disponibilidad Terceros]]=\"No\",0,\"\"))","v":""},{"$f":"+Tabla2[[#This Row],[Columna32]]+Tabla2[[#This Row],[Columna34]]+Tabla2[[#This Row],[Columna1]]+Tabla2[[#This Row],[Columna3]]","v":{"$error":"#VALUE!"}},{"$f":"IFERROR(IF(Tabla2[[#This Row],[Columna33]]<0.45,\"BAJA\",IF(Tabla2[[#This Row],[Columna33]]>0.75,\"ALTA\",\"MEDIA\")),\"\")","v":""},"No Aplica",{"$f":"+IF(Tabla2[[#This Row],[Información Publicada (WEB)]]=\"Sí\",\"Digite URL\",\"No Aplica\")","v":"No Aplica"},null,{"$f":"IF(Tabla2[[#This Row],[ Clasificación ICBF]]=\"Pública\",1,IF(Tabla2[[#This Row],[ Clasificación ICBF]]=\"Clasificada\",2,IF(Tabla2[[#This Row],[ Clasificación ICBF]]=\"Reservada\",3,0)))","v":0},{"$f":"IF(#REF!=8,4,IF(#REF!=16,3,IF(#REF!=24,2,IF(#REF!=48,1,0))))","v":{"$error":"#REF!"}},{"$f":"IF(#REF!=8,\"Alto\",IF(#REF!=16,\"Medio\",IF(#REF!=24,\"Medio\",IF(#REF!=48,\"Bajo\",0))))","v":{"$error":"#REF!"}},null,{"$f":"+MID(Tabla2[[#This Row],[Área/Dependencia]],17,8)","v":""}]
["",null,null,null,{"$f":"+VLOOKUP(Tabla2[[#This Row],[SEDE - REGIONAL]],DATOS!B284:D317,3,FALSE)","v":{"$error":"#N/A"}},{"$f":"+IF(OR(Tabla2[[#This Row],[Área/Dependencia]]=\"Subdirección de Sistemas Integrados\",Tabla2[[#This Row],[Área/Dependencia]]=\"Subdirección de Recursos Tecnológicos\"),\"X\",\"\")","v":""},{"$f":"+CONCATENATE(Tabla2[[#This Row],[Tipo de Proceso]],Tabla2[[#This Row],[Columna4]])","v":{"$error":"#N/A"}},null,null,null,null,null,null,null,null,null,null,null,null,null,{"$f":"+IF(Tabla2[[#This Row],[Nivel de acceso ]]=\"Alto\",0.5,IF(Tabla2[[#This Row],[Nivel de acceso ]]=\"Medio\",0.3,IF(Tabla2[[#This Row],[Nivel de acceso ]]=\"Bajo\",0.2,\"\")))","v":""},null,{"$f":"+IF(Tabla2[[#This Row],[Es  Reservada]]=\"Sí\",\"Escriba Ley\",\"No Aplica\")","v":"No Aplica"},null,null,null,null,{"$f":"IFERROR(IF(AND(Tabla2[[#This Row],[Contiene Datos Personales]]=\"SÍ\",OR(Tabla2[[#This Row],[Clasificación Datos Personales]]=\"Sensible\",Tabla2[[#This Row],[Clasificación Datos Personales]]=\"NNA\",Tabla2[[#This Row],[Clasificación Datos Personales]]=\"privado\")),\"Alto\",IF(AND(Tabla2[[#This Row],[Contiene Datos Personales]]=\"SÍ\",Tabla2[[#This Row],[Clasificación Datos Personales]]=\"SEMIPRIVADO\"),\"Medio\",\"Bajo\")),\"\")","v":"Bajo"},null,null,"No Aplica","No Aplica",null,null,null,{"$f":"+IF(Tabla2[[#This Row],[Integridad]]=\"Grave\",0.5,IF(Tabla2[[#This Row],[Integridad]]=\"Importante\",0.3,IF(Tabla2[[#This Row],[Integridad]]=\"Leve\",0.2,\"\")))","v":""},null,{"$f":"+IF(Tabla2[[#This Row],[Disponibilidad Interna]]=\"Sí\",0.1,IF(Tabla2[[#This Row],[Disponibilidad Interna]]=\"NO\",0,\"\"))","v":""},null,{"$f":"+IF(Tabla2[[#This Row],[Disponibilidad Terceros]]=\"Sí\",0.1,IF(Tabla2[[#This Row],[Disponibilidad Terceros]]=\"No\",0,\"\"))","v":""},{"$f":"+Tabla2[[#This Row],[Columna32]]+Tabla2[[#This Row],[Columna34]]+Tabla2[[#This Row],[Columna1]]+Tabla2[[#This Row],[Columna3]]","v":{"$error":"#VALUE!"}},{"$f":"IFERROR(IF(Tabla2[[#This Row],[Columna33]]<0.45,\"BAJA\",IF(Tabla2[[#This Row],[Columna33]]>0.75,\"ALTA\",\"MEDIA\")),\"\")","v":""},"No Aplica",{"$f":"+IF(Tabla2[[#This Row],[Información Publicada (WEB)]]=\"Sí\",\"Digite URL\",\"No Aplica\")","v":"No Aplica"},null,{"$f":"IF(Tabla2[[#This Row],[ Clasificación ICBF]]=\"Pública\",1,IF(Tabla2[[#This Row],[ Clasificación ICBF]]=\"Clasificada\",2,IF(Tabla2[[#This Row],[ Clasificación ICBF]]=\"Reservada\",3,0)))","v":0},{"$f":"IF(#REF!=8,4,IF(#REF!=16,3,IF(#REF!=24,2,IF(#REF!=48,1,0))))","v":{"$error":"#REF!"}},{"$f":"IF(#REF!=8,\"Alto\",IF(#REF!=16,\"Medio\",IF(#REF!=24,\"Medio\",IF(#REF!=48,\"Bajo\",0))))","v":{"$error":"#REF!"}},null,{"$f":"+MID(Tabla2[[#This Row],[Área/Dependencia]],17,8)","v":""}]
["",null,null,null,{"$f":"+VLOOKUP(Tabla2[[#This Row],[SEDE - REGIONAL]],DATOS!B285:D318,3,FALSE)","v":{"$error":"#N/A"}},{"$f":"+IF(OR(Tabla2[[#This Row],[Área/Dependencia]]=\"Subdirección de Sistemas Integrados\",Tabla2[[#This Row],[Área/Dependencia]]=\"Subdirección de Recursos Tecnológicos\"),\"X\",\"\")","v":""},{"$f":"+CONCATENATE(Tabla2[[#This Row],[Tipo de Proceso]],Tabla2[[#This Row],[Columna4]])","v":{"$error":"#N/A"}},null,null,null,null,null,null,null,null,null,null,null,null,null,{"$f":"+IF(Tabla2[[#This Row],[Nivel de acceso ]]=\"Alto\",0.5,IF(Tabla2[[#This Row],[Nivel de acceso ]]=\"Medio\",0.3,IF(Tabla2[[#This Row],[Nivel de acceso ]]=\"Bajo\",0.2,\"\")))","v":""},null,{"$f":"+IF(Tabla2[[#This Row],[Es  Reservada]]=\"Sí\",\"Escriba Ley\",\"No Aplica\")","v":"No Aplica"},null,null,null,null,{"$f":"IFERROR(IF(AND(Tabla2[[#This Row],[Contiene Datos Personales]]=\"SÍ\",OR(Tabla2[[#This Row],[Clasificación Datos Personales]]=\"Sensible\",Tabla2[[#This Row],[Clasificación Datos Personales]]=\"NNA\",Tabla2[[#This Row],[Clasificación Datos Personales]]=\"privado\")),\"Alto\",IF(AND(Tabla2[[#This Row],[Contiene Datos Personales]]=\"SÍ\",Tabla2[[#This Row],[Clasificación Datos Personales]]=\"SEMIPRIVADO\"),\"Medio\",\"Bajo\")),\"\")","v":"Bajo"},null,null,"No Aplica","No Aplica",null,null,null,{"$f":"+IF(Tabla2[[#This Row],[Integridad]]=\"Grave\",0.5,IF(Tabla2[[#This Row],[Integridad]]=\"Importante\",0.3,IF(Tabla2[[#This Row],[Integridad]]=\"Leve\",0.2,\"\")))","v":""},null,{"$f":"+IF(Tabla2[[#This Row],[Disponibilidad Interna]]=\"Sí\",0.1,IF(Tabla2[[#This Row],[Disponibilidad Interna]]=\"NO\",0,\"\"))","v":""},null,{"$f":"+IF(Tabla2[[#This Row],[Disponibilidad Terceros]]=\"Sí\",0.1,IF(Tabla2[[#This Row],[Disponibilidad Terceros]]=\"No\",0,\"\"))","v":""},{"$f":"+Tabla2[[#This Row],[Columna32]]+Tabla2[[#This Row],[Columna34]]+Tabla2[[#This Row],[Columna1]]+Tabla2[[#This Row],[Columna3]]","v":{"$error":"#VALUE!"}},{"$f":"IFERROR(IF(Tabla2[[#This Row],[Columna33]]<0.45,\"BAJA\",IF(Tabla2[[#This Row],[Columna33]]>0.75,\"ALTA\",\"MEDIA\")),\"\")","v":""},"No Aplica",{"$f":"+IF(Tabla2[[#This Row],[Información Publicada (WEB)]]=\"Sí\",\"Digite URL\",\"No Aplica\")","v":"No Aplica"},null,{"$f":"IF(Tabla2[[#This Row],[ Clasificación ICBF]]=\"Pública\",1,IF(Tabla2[[#This Row],[ Clasificación ICBF]]=\"Clasificada\",2,IF(Tabla2[[#This Row],[ Clasificación ICBF]]=\"Reservada\",3,0)))","v":0},{"$f":"IF(#REF!=8,4,IF(#REF!=16,3,IF(#REF!=24,2,IF(#REF!=48,1,0))))","v":{"$error":"#REF!"}},{"$f":"IF(#REF!=8,\"Alto\",IF(#REF!=16,\"Medio\",IF(#REF!=24,\"Medio\",IF(#REF!=48,\"Bajo\",0))))","v":{"$error":"#REF!"}},null,{"$f":"+MID(Tabla2[[#This Row],[Área/Dependencia]],17,8)","v":""}]
["",null,null,null,{"$f":"+VLOOKUP(Tabla2[[#This Row],[SEDE - REGIONAL]],DATOS!B286:D319,3,FALSE)","v":{"$error":"#N/A"}},{"$f":"+IF(OR(Tabla2[[#This Row],[Área/Dependencia]]=\"Subdirección de Sistemas Integrados\",Tabla2[[#This Row],[Área/Dependencia]]=\"Subdirección de Recursos Tecnológicos\"),\"X\",\"\")","v":""},{"$f":"+CONCATENATE(Tabla2[[#This Row],[Tipo de Proceso]],Tabla2[[#This Row],[Columna4]])","v":{"$error":"#N/A"}},null,null,null,null,null,null,null,null,null,null,null,null,null,{"$f":"+IF(Tabla2[[#This Row],[Nivel de acceso ]]=\"Alto\",0.5,IF(Tabla2[[#This Row],[Nivel de acceso ]]=\"Medio\",0.3,IF(Tabla2[[#This Row],[Nivel de acceso ]]=\"Bajo\",0.2,\"\")))","v":""},null,{"$f":"+IF(Tabla2[[#This Row],[Es  Reservada]]=\"Sí\",\"Escriba Ley\",\"No Aplica\")","v":"No Aplica"},null,null,null,null,{"$f":"IFERROR(IF(AND(Tabla2[[#This Row],[Contiene Datos Personales]]=\"SÍ\",OR(Tabla2[[#This Row],[Clasificación Datos Personales]]=\"Sensible\",Tabla2[[#This Row],[Clasificación Datos Personales]]=\"NNA\",Tabla2[[#This Row],[Clasificación Datos Personales]]=\"privado\")),\"Alto\",IF(AND(Tabla2[[#This Row],[Contiene Datos Personales]]=\"SÍ\",Tabla2[[#This Row],[Clasificación Datos Personales]]=\"SEMIPRIVADO\"),\"Medio\",\"Bajo\")),\"\")","v":"Bajo"},null,null,"No Aplica","No Aplica",null,null,null,{"$f":"+IF(Tabla2[[#This Row],[Integridad]]=\"Grave\",0.5,IF(Tabla2[[#This Row],[Integridad]]=\"Importante\",0.3,IF(Tabla2[[#This Row],[Integridad]]=\"Leve\",0.2,\"\")))","v":""},null,{"$f":"+IF(Tabla2[[#This Row],[Disponibilidad Interna]]=\"Sí\",0.1,IF(Tabla2[[#This Row],[Disponibilidad Interna]]=\"NO\",0,\"\"))","v":""},null,{"$f":"+IF(Tabla2[[#This Row],[Disponibilidad Terceros]]=\"Sí\",0.1,IF(Tabla2[[#This Row],[Disponibilidad Terceros]]=\"No\",0,\"\"))","v":""},{"$f":"+Tabla2[[#This Row],[Columna32]]+Tabla2[[#This Row],[Columna34]]+Tabla2[[#This Row],[Columna1]]+Tabla2[[#This Row],[Columna3]]","v":{"$error":"#VALUE!"}},{"$f":"IFERROR(IF(Tabla2[[#This Row],[Columna33]]<0.45,\"BAJA\",IF(Tabla2[[#This Row],[Columna33]]>0.75,\"ALTA\",\"MEDIA\")),\"\")","v":""},"No Aplica",{"$f":"+IF(Tabla2[[#This Row],[Información Publicada (WEB)]]=\"Sí\",\"Digite URL\",\"No Aplica\")","v":"No Aplica"},null,{"$f":"IF(Tabla2[[#This Row],[ Clasificación ICBF]]=\"Pública\",1,IF(Tabla2[[#This Row],[ Clasificación ICBF]]=\"Clasificada\",2,IF(Tabla2[[#This Row],[ Clasificación ICBF]]=\"Reservada\",3,0)))","v":0},{"$f":"IF(#REF!=8,4,IF(#REF!=16,3,IF(#REF!=24,2,IF(#REF!=48,1,0))))","v":{"$error":"#REF!"}},{"$f":"IF(#REF!=8,\"Alto\",IF(#REF!=16,\"Medio\",IF(#REF!=24,\"Medio\",IF(#REF!=48,\"Bajo\",0))))","v":{"$error":"#REF!"}},null,{"$f":"+MID(Tabla2[[#This Row],[Área/Dependencia]],17,8)","v":""}]
["",null,null,null,{"$f":"+VLOOKUP(Tabla2[[#This Row],[SEDE - REGIONAL]],DATOS!B287:D320,3,FALSE)","v":{"$error":"#N/A"}},{"$f":"+IF(OR(Tabla2[[#This Row],[Área/Dependencia]]=\"Subdirección de Sistemas Integrados\",Tabla2[[#This Row],[Área/Dependencia]]=\"Subdirección de Recursos Tecnológicos\"),\"X\",\"\")","v":""},{"$f":"+CONCATENATE(Tabla2[[#This Row],[Tipo de Proceso]],Tabla2[[#This Row],[Columna4]])","v":{"$error":"#N/A"}},null,null,null,null,null,null,null,null,null,null,null,null,null,{"$f":"+IF(Tabla2[[#This Row],[Nivel de acceso ]]=\"Alto\",0.5,IF(Tabla2[[#This Row],[Nivel de acceso ]]=\"Medio\",0.3,IF(Tabla2[[#This Row],[Nivel de acceso ]]=\"Bajo\",0.2,\"\")))","v":""},null,{"$f":"+IF(Tabla2[[#This Row],[Es  Reservada]]=\"Sí\",\"Escriba Ley\",\"No Aplica\")","v":"No Aplica"},null,null,null,null,{"$f":"IFERROR(IF(AND(Tabla2[[#This Row],[Contiene Datos Personales]]=\"SÍ\",OR(Tabla2[[#This Row],[Clasificación Datos Personales]]=\"Sensible\",Tabla2[[#This Row],[Clasificación Datos Personales]]=\"NNA\",Tabla2[[#This Row],[Clasificación Datos Personales]]=\"privado\")),\"Alto\",IF(AND(Tabla2[[#This Row],[Contiene Datos Personales]]=\"SÍ\",Tabla2[[#This Row],[Clasificación Datos Personales]]=\"SEMIPRIVADO\"),\"Medio\",\"Bajo\")),\"\")","v":"Bajo"},null,null,"No Aplica","No Aplica",null,null,null,{"$f":"+IF(Tabla2[[#This Row],[Integridad]]=\"Grave\",0.5,IF(Tabla2[[#This Row],[Integridad]]=\"Importante\",0.3,IF(Tabla2[[#This Row],[Integridad]]=\"Leve\",0.2,\"\")))","v":""},null,{"$f":"+IF(Tabla2[[#This Row],[Disponibilidad Interna]]=\"Sí\",0.1,IF(Tabla2[[#This Row],[Disponibilidad Interna]]=\"NO\",0,\"\"))","v":""},null,{"$f":"+IF(Tabla2[[#This Row],[Disponibilidad Terceros]]=\"Sí\",0.1,IF(Tabla2[[#This Row],[Disponibilidad Terceros]]=\"No\",0,\"\"))","v":""},{"$f":"+Tabla2[[#This Row],[Columna32]]+Tabla2[[#This Row],[Columna34]]+Tabla2[[#This Row],[Columna1]]+Tabla2[[#This Row],[Columna3]]","v":{"$error":"#VALUE!"}},{"$f":"IFERROR(IF(Tabla2[[#This Row],[Columna33]]<0.45,\"BAJA\",IF(Tabla2[[#This Row],[Columna33]]>0.75,\"ALTA\",\"MEDIA\")),\"\")","v":""},"No Aplica",{"$f":"+IF(Tabla2[[#This Row],[Información Publicada (WEB)]]=\"Sí\",\"Digite URL\",\"No Aplica\")","v":"No Aplica"},null,{"$f":"IF(Tabla2[[#This Row],[ Clasificación ICBF]]=\"Pública\",1,IF(Tabla2[[#This Row],[ Clasificación ICBF]]=\"Clasificada\",2,IF(Tabla2[[#This Row],[ Clasificación ICBF]]=\"Reservada\",3,0)))","v":0},{"$f":"IF(#REF!=8,4,IF(#REF!=16,3,IF(#REF!=24,2,IF(#REF!=48,1,0))))","v":{"$error":"#REF!"}},{"$f":"IF(#REF!=8,\"Alto\",IF(#REF!=16,\"Medio\",IF(#REF!=24,\"Medio\",IF(#REF!=48,\"Bajo\",0))))","v":{"$error":"#REF!"}},null,{"$f":"+MID(Tabla2[[#This Row],[Área/Dependencia]],17,8)","v":""}]
["",null,null,null,{"$f":"+VLOOKUP(Tabla2[[#This Row],[SEDE - REGIONAL]],DATOS!B288:D321,3,FALSE)","v":{"$error":"#N/A"}},{"$f":"+IF(OR(Tabla2[[#This Row],[Área/Dependencia]]=\"Subdirección de Sistemas Integrados\",Tabla2[[#This Row],[Área/Dependencia]]=\"Subdirección de Recursos Tecnológicos\"),\"X\",\"\")","v":""},{"$f":"+CONCATENATE(Tabla2[[#This Row],[Tipo de Proceso]],Tabla2[[#This Row],[Columna4]])","v":{"$error":"#N/A"}},null,null,null,null,null,null,null,null,null,null,null,null,null,{"$f":"+IF(Tabla2[[#This Row],[Nivel de acceso ]]=\"Alto\",0.5,IF(Tabla2[[#This Row],[Nivel de acceso ]]=\"Medio\",0.3,IF(Tabla2[[#This Row],[Nivel de acceso ]]=\"Bajo\",0.2,\"\")))","v":""},null,{"$f":"+IF(Tabla2[[#This Row],[Es  Reservada]]=\"Sí\",\"Escriba Ley\",\"No Aplica\")","v":"No Aplica"},null,null,null,null,{"$f":"IFERROR(IF(AND(Tabla2[[#This Row],[Contiene Datos Personales]]=\"SÍ\",OR(Tabla2[[#This Row],[Clasificación Datos Personales]]=\"Sensible\",Tabla2[[#This Row],[Clasificación Datos Personales]]=\"NNA\",Tabla2[[#This Row],[Clasificación Datos Personales]]=\"privado\")),\"Alto\",IF(AND(Tabla2[[#This Row],[Contiene Datos Personales]]=\"SÍ\",Tabla2[[#This Row],[Clasificación Datos Personales]]=\"SEMIPRIVADO\"),\"Medio\",\"Bajo\")),\"\")","v":"Bajo"},null,null,"No Aplica","No Aplica",null,null,null,{"$f":"+IF(Tabla2[[#This Row],[Integridad]]=\"Grave\",0.5,IF(Tabla2[[#This Row],[Integridad]]=\"Importante\",0.3,IF(Tabla2[[#This Row],[Integridad]]=\"Leve\",0.2,\"\")))","v":""},null,{"$f":"+IF(Tabla2[[#This Row],[Disponibilidad Interna]]=\"Sí\",0.1,IF(Tabla2[[#This Row],[Disponibilidad Interna]]=\"NO\",0,\"\"))","v":""},null,{"$f":"+IF(Tabla2[[#This Row],[Disponibilidad Terceros]]=\"Sí\",0.1,IF(Tabla2[[#This Row],[Disponibilidad Terceros]]=\"No\",0,\"\"))","v":""},{"$f":"+Tabla2[[#This Row],[Columna32]]+Tabla2[[#This Row],[Columna34]]+Tabla2[[#This Row],[Columna1]]+Tabla2[[#This Row],[Columna3]]","v":{"$error":"#VALUE!"}},{"$f":"IFERROR(IF(Tabla2[[#This Row],[Columna33]]<0.45,\"BAJA\",IF(Tabla2[[#This Row],[Columna33]]>0.75,\"ALTA\",\"MEDIA\")),\"\")","v":""},"No Aplica",{"$f":"+IF(Tabla2[[#This Row],[Información Publicada (WEB)]]=\"Sí\",\"Digite URL\",\"No Aplica\")","v":"No Aplica"},null,{"$f":"IF(Tabla2[[#This Row],[ Clasificación ICBF]]=\"Pública\",1,IF(Tabla2[[#This Row],[ Clasificación ICBF]]=\"Clasificada\",2,IF(Tabla2[[#This Row],[ Clasificación ICBF]]=\"Reservada\",3,0)))","v":0},{"$f":"IF(#REF!=8,4,IF(#REF!=16,3,IF(#REF!=24,2,IF(#REF!=48,1,0))))","v":{"$error":"#REF!"}},{"$f":"IF(#REF!=8,\"Alto\",IF(#REF!=16,\"Medio\",IF(#REF!=24,\"Medio\",IF(#REF!=48,\"Bajo\",0))))","v":{"$error":"#REF!"}},null,{"$f":"+MID(Tabla2[[#This Row],[Área/Dependencia]],17,8)","v":""}]
["",null,null,null,{"$f":"+VLOOKUP(Tabla2[[#This Row],[SEDE - REGIONAL]],DATOS!B289:D322,3,FALSE)","v":{"$error":"#N/A"}},{"$f":"+IF(OR(Tabla2[[#This Row],[Área/Dependencia]]=\"Subdirección de Sistemas Integrados\",Tabla2[[#This Row],[Área/Dependencia]]=\"Subdirección de Recursos Tecnológicos\"),\"X\",\"\")","v":""},{"$f":"+CONCATENATE(Tabla2[[#This Row],[Tipo de Proceso]],Tabla2[[#This Row],[Columna4]])","v":{"$error":"#N/A"}},null,null,null,null,null,null,null,null,null,null,null,null,null,{"$f":"+IF(Tabla2[[#This Row],[Nivel de acceso ]]=\"Alto\",0.5,IF(Tabla2[[#This Row],[Nivel de acceso ]]=\"Medio\",0.3,IF(Tabla2[[#This Row],[Nivel de acceso ]]=\"Bajo\",0.2,\"\")))","v":""},null,{"$f":"+IF(Tabla2[[#This Row],[Es  Reservada]]=\"Sí\",\"Escriba Ley\",\"No Aplica\")","v":"No Aplica"},null,null,null,null,{"$f":"IFERROR(IF(AND(Tabla2[[#This Row],[Contiene Datos Personales]]=\"SÍ\",OR(Tabla2[[#This Row],[Clasificación Datos Personales]]=\"Sensible\",Tabla2[[#This Row],[Clasificación Datos Personales]]=\"NNA\",Tabla2[[#This Row],[Clasificación Datos Personales]]=\"privado\")),\"Alto\",IF(AND(Tabla2[[#This Row],[Contiene Datos Personales]]=\"SÍ\",Tabla2[[#This Row],[Clasificación Datos Personales]]=\"SEMIPRIVADO\"),\"Medio\",\"Bajo\")),\"\")","v":"Bajo"},null,null,"No Aplica","No Aplica",null,null,null,{"$f":"+IF(Tabla2[[#This Row],[Integridad]]=\"Grave\",0.5,IF(Tabla2[[#This Row],[Integridad]]=\"Importante\",0.3,IF(Tabla2[[#This Row],[Integridad]]=\"Leve\",0.2,\"\")))","v":""},null,{"$f":"+IF(Tabla2[[#This Row],[Disponibilidad Interna]]=\"Sí\",0.1,IF(Tabla2[[#This Row],[Disponibilidad Interna]]=\"NO\",0,\"\"))","v":""},null,{"$f":"+IF(Tabla2[[#This Row],[Disponibilidad Terceros]]=\"Sí\",0.1,IF(Tabla2[[#This Row],[Disponibilidad Terceros]]=\"No\",0,\"\"))","v":""},{"$f":"+Tabla2[[#This Row],[Columna32]]+Tabla2[[#This Row],[Columna34]]+Tabla2[[#This Row],[Columna1]]+Tabla2[[#This Row],[Columna3]]","v":{"$error":"#VALUE!"}},{"$f":"IFERROR(IF(Tabla2[[#This Row],[Columna33]]<0.45,\"BAJA\",IF(Tabla2[[#This Row],[Columna33]]>0.75,\"ALTA\",\"MEDIA\")),\"\")","v":""},"No Aplica",{"$f":"+IF(Tabla2[[#This Row],[Información Publicada (WEB)]]=\"Sí\",\"Digite URL\",\"No Aplica\")","v":"No Aplica"},null,{"$f":"IF(Tabla2[[#This Row],[ Clasificación ICBF]]=\"Pública\",1,IF(Tabla2[[#This Row],[ Clasificación ICBF]]=\"Clasificada\",2,IF(Tabla2[[#This Row],[ Clasificación ICBF]]=\"Reservada\",3,0)))","v":0},{"$f":"IF(#REF!=8,4,IF(#REF!=16,3,IF(#REF!=24,2,IF(#REF!=48,1,0))))","v":{"$error":"#REF!"}},{"$f":"IF(#REF!=8,\"Alto\",IF(#REF!=16,\"Medio\",IF(#REF!=24,\"Medio\",IF(#REF!=48,\"Bajo\",0))))","v":{"$error":"#REF!"}},null,{"$f":"+MID(Tabla2[[#This Row],[Área/Dependencia]],17,8)","v":""}]
["",null,null,null,{"$f":"+VLOOKUP(Tabla2[[#This Row],[SEDE - REGIONAL]],DATOS!B290:D323,3,FALSE)","v":{"$error":"#N/A"}},{"$f":"+IF(OR(Tabla2[[#This Row],[Área/Dependencia]]=\"Subdirección de Sistemas Integrados\",Tabla2[[#This Row],[Área/Dependencia]]=\"Subdirección de Recursos Tecnológicos\"),\"X\",\"\")","v":""},{"$f":"+CONCATENATE(Tabla2[[#This Row],[Tipo de Proceso]],Tabla2[[#This Row],[Columna4]])","v":{"$error":"#N/A"}},null,null,null,null,null,null,null,null,null,null,null,null,null,{"$f":"+IF(Tabla2[[#This Row],[Nivel de acceso ]]=\"Alto\",0.5,IF(Tabla2[[#This Row],[Nivel de acceso ]]=\"Medio\",0.3,IF(Tabla2[[#This Row],[Nivel de acceso ]]=\"Bajo\",0.2,\"\")))","v":""},null,{"$f":"+IF(Tabla2[[#This Row],[Es  Reservada]]=\"Sí\",\"Escriba Ley\",\"No Aplica\")","v":"No Aplica"},null,null,null,null,{"$f":"IFERROR(IF(AND(Tabla2[[#This Row],[Contiene Datos Personales]]=\"SÍ\",OR(Tabla2[[#This Row],[Clasificación Datos Personales]]=\"Sensible\",Tabla2[[#This Row],[Clasificación Datos Personales]]=\"NNA\",Tabla2[[#This Row],[Clasificación Datos Personales]]=\"privado\")),\"Alto\",IF(AND(Tabla2[[#This Row],[Contiene Datos Personales]]=\"SÍ\",Tabla2[[#This Row],[Clasificación Datos Personales]]=\"SEMIPRIVADO\"),\"Medio\",\"Bajo\")),\"\")","v":"Bajo"},null,null,"No Aplica","No Aplica",null,null,null,{"$f":"+IF(Tabla2[[#This Row],[Integridad]]=\"Grave\",0.5,IF(Tabla2[[#This Row],[Integridad]]=\"Importante\",0.3,IF(Tabla2[[#This Row],[Integridad]]=\"Leve\",0.2,\"\")))","v":""},null,{"$f":"+IF(Tabla2[[#This Row],[Disponibilidad Interna]]=\"Sí\",0.1,IF(Tabla2[[#This Row],[Disponibilidad Interna]]=\"NO\",0,\"\"))","v":""},null,{"$f":"+IF(Tabla2[[#This Row],[Disponibilidad Terceros]]=\"Sí\",0.1,IF(Tabla2[[#This Row],[Disponibilidad Terceros]]=\"No\",0,\"\"))","v":""},{"$f":"+Tabla2[[#This Row],[Columna32]]+Tabla2[[#This Row],[Columna34]]+Tabla2[[#This Row],[Columna1]]+Tabla2[[#This Row],[Columna3]]","v":{"$error":"#VALUE!"}},{"$f":"IFERROR(IF(Tabla2[[#This Row],[Columna33]]<0.45,\"BAJA\",IF(Tabla2[[#This Row],[Columna33]]>0.75,\"ALTA\",\"MEDIA\")),\"\")","v":""},"No Aplica",{"$f":"+IF(Tabla2[[#This Row],[Información Publicada (WEB)]]=\"Sí\",\"Digite URL\",\"No Aplica\")","v":"No Aplica"},null,{"$f":"IF(Tabla2[[#This Row],[ Clasificación ICBF]]=\"Pública\",1,IF(Tabla2[[#This Row],[ Clasificación ICBF]]=\"Clasificada\",2,IF(Tabla2[[#This Row],[ Clasificación ICBF]]=\"Reservada\",3,0)))","v":0},{"$f":"IF(#REF!=8,4,IF(#REF!=16,3,IF(#REF!=24,2,IF(#REF!=48,1,0))))","v":{"$error":"#REF!"}},{"$f":"IF(#REF!=8,\"Alto\",IF(#REF!=16,\"Medio\",IF(#REF!=24,\"Medio\",IF(#REF!=48,\"Bajo\",0))))","v":{"$error":"#REF!"}},null,{"$f":"+MID(Tabla2[[#This Row],[Área/Dependencia]],17,8)","v":""}]
["",null,null,null,{"$f":"+VLOOKUP(Tabla2[[#This Row],[SEDE - REGIONAL]],DATOS!B291:D324,3,FALSE)","v":{"$error":"#N/A"}},{"$f":"+IF(OR(Tabla2[[#This Row],[Área/Dependencia]]=\"Subdirección de Sistemas Integrados\",Tabla2[[#This Row],[Área/Dependencia]]=\"Subdirección de Recursos Tecnológicos\"),\"X\",\"\")","v":""},{"$f":"+CONCATENATE(Tabla2[[#This Row],[Tipo de Proceso]],Tabla2[[#This Row],[Columna4]])","v":{"$error":"#N/A"}},null,null,null,null,null,null,null,null,null,null,null,null,null,{"$f":"+IF(Tabla2[[#This Row],[Nivel de acceso ]]=\"Alto\",0.5,IF(Tabla2[[#This Row],[Nivel de acceso ]]=\"Medio\",0.3,IF(Tabla2[[#This Row],[Nivel de acceso ]]=\"Bajo\",0.2,\"\")))","v":""},null,{"$f":"+IF(Tabla2[[#This Row],[Es  Reservada]]=\"Sí\",\"Escriba Ley\",\"No Aplica\")","v":"No Aplica"},null,null,null,null,{"$f":"IFERROR(IF(AND(Tabla2[[#This Row],[Contiene Datos Personales]]=\"SÍ\",OR(Tabla2[[#This Row],[Clasificación Datos Personales]]=\"Sensible\",Tabla2[[#This Row],[Clasificación Datos Personales]]=\"NNA\",Tabla2[[#This Row],[Clasificación Datos Personales]]=\"privado\")),\"Alto\",IF(AND(Tabla2[[#This Row],[Contiene Datos Personales]]=\"SÍ\",Tabla2[[#This Row],[Clasificación Datos Personales]]=\"SEMIPRIVADO\"),\"Medio\",\"Bajo\")),\"\")","v":"Bajo"},null,null,"No Aplica","No Aplica",null,null,null,{"$f":"+IF(Tabla2[[#This Row],[Integridad]]=\"Grave\",0.5,IF(Tabla2[[#This Row],[Integridad]]=\"Importante\",0.3,IF(Tabla2[[#This Row],[Integridad]]=\"Leve\",0.2,\"\")))","v":""},null,{"$f":"+IF(Tabla2[[#This Row],[Disponibilidad Interna]]=\"Sí\",0.1,IF(Tabla2[[#This Row],[Disponibilidad Interna]]=\"NO\",0,\"\"))","v":""},null,{"$f":"+IF(Tabla2[[#This Row],[Disponibilidad Terceros]]=\"Sí\",0.1,IF(Tabla2[[#This Row],[Disponibilidad Terceros]]=\"No\",0,\"\"))","v":""},{"$f":"+Tabla2[[#This Row],[Columna32]]+Tabla2[[#This Row],[Columna34]]+Tabla2[[#This Row],[Columna1]]+Tabla2[[#This Row],[Columna3]]","v":{"$error":"#VALUE!"}},{"$f":"IFERROR(IF(Tabla2[[#This Row],[Columna33]]<0.45,\"BAJA\",IF(Tabla2[[#This Row],[Columna33]]>0.75,\"ALTA\",\"MEDIA\")),\"\")","v":""},"No Aplica",{"$f":"+IF(Tabla2[[#This Row],[Información Publicada (WEB)]]=\"Sí\",\"Digite URL\",\"No Aplica\")","v":"No Aplica"},null,{"$f":"IF(Tabla2[[#This Row],[ Clasificación ICBF]]=\"Pública\",1,IF(Tabla2[[#This Row],[ Clasificación ICBF]]=\"Clasificada\",2,IF(Tabla2[[#This Row],[ Clasificación ICBF]]=\"Reservada\",3,0)))","v":0},{"$f":"IF(#REF!=8,4,IF(#REF!=16,3,IF(#REF!=24,2,IF(#REF!=48,1,0))))","v":{"$error":"#REF!"}},{"$f":"IF(#REF!=8,\"Alto\",IF(#REF!=16,\"Medio\",IF(#REF!=24,\"Medio\",IF(#REF!=48,\"Bajo\",0))))","v":{"$error":"#REF!"}},null,{"$f":"+MID(Tabla2[[#This Row],[Área/Dependencia]],17,8)","v":""}]
["",null,null,null,{"$f":"+VLOOKUP(Tabla2[[#This Row],[SEDE - REGIONAL]],DATOS!B292:D325,3,FALSE)","v":{"$error":"#N/A"}},{"$f":"+IF(OR(Tabla2[[#This Row],[Área/Dependencia]]=\"Subdirección de Sistemas Integrados\",Tabla2[[#This Row],[Área/Dependencia]]=\"Subdirección de Recursos Tecnológicos\"),\"X\",\"\")","v":""},{"$f":"+CONCATENATE(Tabla2[[#This Row],[Tipo de Proceso]],Tabla2[[#This Row],[Columna4]])","v":{"$error":"#N/A"}},null,null,null,null,null,null,null,null,null,null,null,null,null,{"$f":"+IF(Tabla2[[#This Row],[Nivel de acceso ]]=\"Alto\",0.5,IF(Tabla2[[#This Row],[Nivel de acceso ]]=\"Medio\",0.3,IF(Tabla2[[#This Row],[Nivel de acceso ]]=\"Bajo\",0.2,\"\")))","v":""},null,{"$f":"+IF(Tabla2[[#This Row],[Es  Reservada]]=\"Sí\",\"Escriba Ley\",\"No Aplica\")","v":"No Aplica"},null,null,null,null,{"$f":"IFERROR(IF(AND(Tabla2[[#This Row],[Contiene Datos Personales]]=\"SÍ\",OR(Tabla2[[#This Row],[Clasificación Datos Personales]]=\"Sensible\",Tabla2[[#This Row],[Clasificación Datos Personales]]=\"NNA\",Tabla2[[#This Row],[Clasificación Datos Personales]]=\"privado\")),\"Alto\",IF(AND(Tabla2[[#This Row],[Contiene Datos Personales]]=\"SÍ\",Tabla2[[#This Row],[Clasificación Datos Personales]]=\"SEMIPRIVADO\"),\"Medio\",\"Bajo\")),\"\")","v":"Bajo"},null,null,"No Aplica","No Aplica",null,null,null,{"$f":"+IF(Tabla2[[#This Row],[Integridad]]=\"Grave\",0.5,IF(Tabla2[[#This Row],[Integridad]]=\"Importante\",0.3,IF(Tabla2[[#This Row],[Integridad]]=\"Leve\",0.2,\"\")))","v":""},null,{"$f":"+IF(Tabla2[[#This Row],[Disponibilidad Interna]]=\"Sí\",0.1,IF(Tabla2[[#This Row],[Disponibilidad Interna]]=\"NO\",0,\"\"))","v":""},null,{"$f":"+IF(Tabla2[[#This Row],[Disponibilidad Terceros]]=\"Sí\",0.1,IF(Tabla2[[#This Row],[Disponibilidad Terceros]]=\"No\",0,\"\"))","v":""},{"$f":"+Tabla2[[#This Row],[Columna32]]+Tabla2[[#This Row],[Columna34]]+Tabla2[[#This Row],[Columna1]]+Tabla2[[#This Row],[Columna3]]","v":{"$error":"#VALUE!"}},{"$f":"IFERROR(IF(Tabla2[[#This Row],[Columna33]]<0.45,\"BAJA\",IF(Tabla2[[#This Row],[Columna33]]>0.75,\"ALTA\",\"MEDIA\")),\"\")","v":""},"No Aplica",{"$f":"+IF(Tabla2[[#This Row],[Información Publicada (WEB)]]=\"Sí\",\"Digite URL\",\"No Aplica\")","v":"No Aplica"},null,{"$f":"IF(Tabla2[[#This Row],[ Clasificación ICBF]]=\"Pública\",1,IF(Tabla2[[#This Row],[ Clasificación ICBF]]=\"Clasificada\",2,IF(Tabla2[[#This Row],[ Clasificación ICBF]]=\"Reservada\",3,0)))","v":0},{"$f":"IF(#REF!=8,4,IF(#REF!=16,3,IF(#REF!=24,2,IF(#REF!=48,1,0))))","v":{"$error":"#REF!"}},{"$f":"IF(#REF!=8,\"Alto\",IF(#REF!=16,\"Medio\",IF(#REF!=24,\"Medio\",IF(#REF!=48,\"Bajo\",0))))","v":{"$error":"#REF!"}},null,{"$f":"+MID(Tabla2[[#This Row],[Área/Dependencia]],17,8)","v":""}]
["",null,null,null,{"$f":"+VLOOKUP(Tabla2[[#This Row],[SEDE - REGIONAL]],DATOS!B293:D326,3,FALSE)","v":{"$error":"#N/A"}},{"$f":"+IF(OR(Tabla2[[#This Row],[Área/Dependencia]]=\"Subdirección de Sistemas Integrados\",Tabla2[[#This Row],[Área/Dependencia]]=\"Subdirección de Recursos Tecnológicos\"),\"X\",\"\")","v":""},{"$f":"+CONCATENATE(Tabla2[[#This Row],[Tipo de Proceso]],Tabla2[[#This Row],[Columna4]])","v":{"$error":"#N/A"}},null,null,null,null,null,null,null,null,null,null,null,null,null,{"$f":"+IF(Tabla2[[#This Row],[Nivel de acceso ]]=\"Alto\",0.5,IF(Tabla2[[#This Row],[Nivel de acceso ]]=\"Medio\",0.3,IF(Tabla2[[#This Row],[Nivel de acceso ]]=\"Bajo\",0.2,\"\")))","v":""},null,{"$f":"+IF(Tabla2[[#This Row],[Es  Reservada]]=\"Sí\",\"Escriba Ley\",\"No Aplica\")","v":"No Aplica"},null,null,null,null,{"$f":"IFERROR(IF(AND(Tabla2[[#This Row],[Contiene Datos Personales]]=\"SÍ\",OR(Tabla2[[#This Row],[Clasificación Datos Personales]]=\"Sensible\",Tabla2[[#This Row],[Clasificación Datos Personales]]=\"NNA\",Tabla2[[#This Row],[Clasificación Datos Personales]]=\"privado\")),\"Alto\",IF(AND(Tabla2[[#This Row],[Contiene Datos Personales]]=\"SÍ\",Tabla2[[#This Row],[Clasificación Datos Personales]]=\"SEMIPRIVADO\"),\"Medio\",\"Bajo\")),\"\")","v":"Bajo"},null,null,"No Aplica","No Aplica",null,null,null,{"$f":"+IF(Tabla2[[#This Row],[Integridad]]=\"Grave\",0.5,IF(Tabla2[[#This Row],[Integridad]]=\"Importante\",0.3,IF(Tabla2[[#This Row],[Integridad]]=\"Leve\",0.2,\"\")))","v":""},null,{"$f":"+IF(Tabla2[[#This Row],[Disponibilidad Interna]]=\"Sí\",0.1,IF(Tabla2[[#This Row],[Disponibilidad Interna]]=\"NO\",0,\"\"))","v":""},null,{"$f":"+IF(Tabla2[[#This Row],[Disponibilidad Terceros]]=\"Sí\",0.1,IF(Tabla2[[#This Row],[Disponibilidad Terceros]]=\"No\",0,\"\"))","v":""},{"$f":"+Tabla2[[#This Row],[Columna32]]+Tabla2[[#This Row],[Columna34]]+Tabla2[[#This Row],[Columna1]]+Tabla2[[#This Row],[Columna3]]","v":{"$error":"#VALUE!"}},{"$f":"IFERROR(IF(Tabla2[[#This Row],[Columna33]]<0.45,\"BAJA\",IF(Tabla2[[#This Row],[Columna33]]>0.75,\"ALTA\",\"MEDIA\")),\"\")","v":""},"No Aplica",{"$f":"+IF(Tabla2[[#This Row],[Información Publicada (WEB)]]=\"Sí\",\"Digite URL\",\"No Aplica\")","v":"No Aplica"},null,{"$f":"IF(Tabla2[[#This Row],[ Clasificación ICBF]]=\"Pública\",1,IF(Tabla2[[#This Row],[ Clasificación ICBF]]=\"Clasificada\",2,IF(Tabla2[[#This Row],[ Clasificación ICBF]]=\"Reservada\",3,0)))","v":0},{"$f":"IF(#REF!=8,4,IF(#REF!=16,3,IF(#REF!=24,2,IF(#REF!=48,1,0))))","v":{"$error":"#REF!"}},{"$f":"IF(#REF!=8,\"Alto\",IF(#REF!=16,\"Medio\",IF(#REF!=24,\"Medio\",IF(#REF!=48,\"Bajo\",0))))","v":{"$error":"#REF!"}},null,{"$f":"+MID(Tabla2[[#This Row],[Área/Dependencia]],17,8)","v":""}]
["",null,null,null,{"$f":"+VLOOKUP(Tabla2[[#This Row],[SEDE - REGIONAL]],DATOS!B294:D327,3,FALSE)","v":{"$error":"#N/A"}},{"$f":"+IF(OR(Tabla2[[#This Row],[Área/Dependencia]]=\"Subdirección de Sistemas Integrados\",Tabla2[[#This Row],[Área/Dependencia]]=\"Subdirección de Recursos Tecnológicos\"),\"X\",\"\")","v":""},{"$f":"+CONCATENATE(Tabla2[[#This Row],[Tipo de Proceso]],Tabla2[[#This Row],[Columna4]])","v":{"$error":"#N/A"}},null,null,null,null,null,null,null,null,null,null,null,null,null,{"$f":"+IF(Tabla2[[#This Row],[Nivel de acceso ]]=\"Alto\",0.5,IF(Tabla2[[#This Row],[Nivel de acceso ]]=\"Medio\",0.3,IF(Tabla2[[#This Row],[Nivel de acceso ]]=\"Bajo\",0.2,\"\")))","v":""},null,{"$f":"+IF(Tabla2[[#This Row],[Es  Reservada]]=\"Sí\",\"Escriba Ley\",\"No Aplica\")","v":"No Aplica"},null,null,null,null,{"$f":"IFERROR(IF(AND(Tabla2[[#This Row],[Contiene Datos Personales]]=\"SÍ\",OR(Tabla2[[#This Row],[Clasificación Datos Personales]]=\"Sensible\",Tabla2[[#This Row],[Clasificación Datos Personales]]=\"NNA\",Tabla2[[#This Row],[Clasificación Datos Personales]]=\"privado\")),\"Alto\",IF(AND(Tabla2[[#This Row],[Contiene Datos Personales]]=\"SÍ\",Tabla2[[#This Row],[Clasificación Datos Personales]]=\"SEMIPRIVADO\"),\"Medio\",\"Bajo\")),\"\")","v":"Bajo"},null,null,"No Aplica","No Aplica",null,null,null,{"$f":"+IF(Tabla2[[#This Row],[Integridad]]=\"Grave\",0.5,IF(Tabla2[[#This Row],[Integridad]]=\"Importante\",0.3,IF(Tabla2[[#This Row],[Integridad]]=\"Leve\",0.2,\"\")))","v":""},null,{"$f":"+IF(Tabla2[[#This Row],[Disponibilidad Interna]]=\"Sí\",0.1,IF(Tabla2[[#This Row],[Disponibilidad Interna]]=\"NO\",0,\"\"))","v":""},null,{"$f":"+IF(Tabla2[[#This Row],[Disponibilidad Terceros]]=\"Sí\",0.1,IF(Tabla2[[#This Row],[Disponibilidad Terceros]]=\"No\",0,\"\"))","v":""},{"$f":"+Tabla2[[#This Row],[Columna32]]+Tabla2[[#This Row],[Columna34]]+Tabla2[[#This Row],[Columna1]]+Tabla2[[#This Row],[Columna3]]","v":{"$error":"#VALUE!"}},{"$f":"IFERROR(IF(Tabla2[[#This Row],[Columna33]]<0.45,\"BAJA\",IF(Tabla2[[#This Row],[Columna33]]>0.75,\"ALTA\",\"MEDIA\")),\"\")","v":""},"No Aplica",{"$f":"+IF(Tabla2[[#This Row],[Información Publicada (WEB)]]=\"Sí\",\"Digite URL\",\"No Aplica\")","v":"No Aplica"},null,{"$f":"IF(Tabla2[[#This Row],[ Clasificación ICBF]]=\"Pública\",1,IF(Tabla2[[#This Row],[ Clasificación ICBF]]=\"Clasificada\",2,IF(Tabla2[[#This Row],[ Clasificación ICBF]]=\"Reservada\",3,0)))","v":0},{"$f":"IF(#REF!=8,4,IF(#REF!=16,3,IF(#REF!=24,2,IF(#REF!=48,1,0))))","v":{"$error":"#REF!"}},{"$f":"IF(#REF!=8,\"Alto\",IF(#REF!=16,\"Medio\",IF(#REF!=24,\"Medio\",IF(#REF!=48,\"Bajo\",0))))","v":{"$error":"#REF!"}},null,{"$f":"+MID(Tabla2[[#This Row],[Área/Dependencia]],17,8)","v":""}]
["",null,null,null,{"$f":"+VLOOKUP(Tabla2[[#This Row],[SEDE - REGIONAL]],DATOS!B295:D328,3,FALSE)","v":{"$error":"#N/A"}},{"$f":"+IF(OR(Tabla2[[#This Row],[Área/Dependencia]]=\"Subdirección de Sistemas Integrados\",Tabla2[[#This Row],[Área/Dependencia]]=\"Subdirección de Recursos Tecnológicos\"),\"X\",\"\")","v":""},{"$f":"+CONCATENATE(Tabla2[[#This Row],[Tipo de Proceso]],Tabla2[[#This Row],[Columna4]])","v":{"$error":"#N/A"}},null,null,null,null,null,null,null,null,null,null,null,null,null,{"$f":"+IF(Tabla2[[#This Row],[Nivel de acceso ]]=\"Alto\",0.5,IF(Tabla2[[#This Row],[Nivel de acceso ]]=\"Medio\",0.3,IF(Tabla2[[#This Row],[Nivel de acceso ]]=\"Bajo\",0.2,\"\")))","v":""},null,{"$f":"+IF(Tabla2[[#This Row],[Es  Reservada]]=\"Sí\",\"Escriba Ley\",\"No Aplica\")","v":"No Aplica"},null,null,null,null,{"$f":"IFERROR(IF(AND(Tabla2[[#This Row],[Contiene Datos Personales]]=\"SÍ\",OR(Tabla2[[#This Row],[Clasificación Datos Personales]]=\"Sensible\",Tabla2[[#This Row],[Clasificación Datos Personales]]=\"NNA\",Tabla2[[#This Row],[Clasificación Datos Personales]]=\"privado\")),\"Alto\",IF(AND(Tabla2[[#This Row],[Contiene Datos Personales]]=\"SÍ\",Tabla2[[#This Row],[Clasificación Datos Personales]]=\"SEMIPRIVADO\"),\"Medio\",\"Bajo\")),\"\")","v":"Bajo"},null,null,"No Aplica","No Aplica",null,null,null,{"$f":"+IF(Tabla2[[#This Row],[Integridad]]=\"Grave\",0.5,IF(Tabla2[[#This Row],[Integridad]]=\"Importante\",0.3,IF(Tabla2[[#This Row],[Integridad]]=\"Leve\",0.2,\"\")))","v":""},null,{"$f":"+IF(Tabla2[[#This Row],[Disponibilidad Interna]]=\"Sí\",0.1,IF(Tabla2[[#This Row],[Disponibilidad Interna]]=\"NO\",0,\"\"))","v":""},null,{"$f":"+IF(Tabla2[[#This Row],[Disponibilidad Terceros]]=\"Sí\",0.1,IF(Tabla2[[#This Row],[Disponibilidad Terceros]]=\"No\",0,\"\"))","v":""},{"$f":"+Tabla2[[#This Row],[Columna32]]+Tabla2[[#This Row],[Columna34]]+Tabla2[[#This Row],[Columna1]]+Tabla2[[#This Row],[Columna3]]","v":{"$error":"#VALUE!"}},{"$f":"IFERROR(IF(Tabla2[[#This Row],[Columna33]]<0.45,\"BAJA\",IF(Tabla2[[#This Row],[Columna33]]>0.75,\"ALTA\",\"MEDIA\")),\"\")","v":""},"No Aplica",{"$f":"+IF(Tabla2[[#This Row],[Información Publicada (WEB)]]=\"Sí\",\"Digite URL\",\"No Aplica\")","v":"No Aplica"},null,{"$f":"IF(Tabla2[[#This Row],[ Clasificación ICBF]]=\"Pública\",1,IF(Tabla2[[#This Row],[ Clasificación ICBF]]=\"Clasificada\",2,IF(Tabla2[[#This Row],[ Clasificación ICBF]]=\"Reservada\",3,0)))","v":0},{"$f":"IF(#REF!=8,4,IF(#REF!=16,3,IF(#REF!=24,2,IF(#REF!=48,1,0))))","v":{"$error":"#REF!"}},{"$f":"IF(#REF!=8,\"Alto\",IF(#REF!=16,\"Medio\",IF(#REF!=24,\"Medio\",IF(#REF!=48,\"Bajo\",0))))","v":{"$error":"#REF!"}},null,{"$f":"+MID(Tabla2[[#This Row],[Área/Dependencia]],17,8)","v":""}]
["",null,null,null,{"$f":"+VLOOKUP(Tabla2[[#This Row],[SEDE - REGIONAL]],DATOS!B296:D329,3,FALSE)","v":{"$error":"#N/A"}},{"$f":"+IF(OR(Tabla2[[#This Row],[Área/Dependencia]]=\"Subdirección de Sistemas Integrados\",Tabla2[[#This Row],[Área/Dependencia]]=\"Subdirección de Recursos Tecnológicos\"),\"X\",\"\")","v":""},{"$f":"+CONCATENATE(Tabla2[[#This Row],[Tipo de Proceso]],Tabla2[[#This Row],[Columna4]])","v":{"$error":"#N/A"}},null,null,null,null,null,null,null,null,null,null,null,null,null,{"$f":"+IF(Tabla2[[#This Row],[Nivel de acceso ]]=\"Alto\",0.5,IF(Tabla2[[#This Row],[Nivel de acceso ]]=\"Medio\",0.3,IF(Tabla2[[#This Row],[Nivel de acceso ]]=\"Bajo\",0.2,\"\")))","v":""},null,{"$f":"+IF(Tabla2[[#This Row],[Es  Reservada]]=\"Sí\",\"Escriba Ley\",\"No Aplica\")","v":"No Aplica"},null,null,null,null,{"$f":"IFERROR(IF(AND(Tabla2[[#This Row],[Contiene Datos Personales]]=\"SÍ\",OR(Tabla2[[#This Row],[Clasificación Datos Personales]]=\"Sensible\",Tabla2[[#This Row],[Clasificación Datos Personales]]=\"NNA\",Tabla2[[#This Row],[Clasificación Datos Personales]]=\"privado\")),\"Alto\",IF(AND(Tabla2[[#This Row],[Contiene Datos Personales]]=\"SÍ\",Tabla2[[#This Row],[Clasificación Datos Personales]]=\"SEMIPRIVADO\"),\"Medio\",\"Bajo\")),\"\")","v":"Bajo"},null,null,"No Aplica","No Aplica",null,null,null,{"$f":"+IF(Tabla2[[#This Row],[Integridad]]=\"Grave\",0.5,IF(Tabla2[[#This Row],[Integridad]]=\"Importante\",0.3,IF(Tabla2[[#This Row],[Integridad]]=\"Leve\",0.2,\"\")))","v":""},null,{"$f":"+IF(Tabla2[[#This Row],[Disponibilidad Interna]]=\"Sí\",0.1,IF(Tabla2[[#This Row],[Disponibilidad Interna]]=\"NO\",0,\"\"))","v":""},null,{"$f":"+IF(Tabla2[[#This Row],[Disponibilidad Terceros]]=\"Sí\",0.1,IF(Tabla2[[#This Row],[Disponibilidad Terceros]]=\"No\",0,\"\"))","v":""},{"$f":"+Tabla2[[#This Row],[Columna32]]+Tabla2[[#This Row],[Columna34]]+Tabla2[[#This Row],[Columna1]]+Tabla2[[#This Row],[Columna3]]","v":{"$error":"#VALUE!"}},{"$f":"IFERROR(IF(Tabla2[[#This Row],[Columna33]]<0.45,\"BAJA\",IF(Tabla2[[#This Row],[Columna33]]>0.75,\"ALTA\",\"MEDIA\")),\"\")","v":""},"No Aplica",{"$f":"+IF(Tabla2[[#This Row],[Información Publicada (WEB)]]=\"Sí\",\"Digite URL\",\"No Aplica\")","v":"No Aplica"},null,{"$f":"IF(Tabla2[[#This Row],[ Clasificación ICBF]]=\"Pública\",1,IF(Tabla2[[#This Row],[ Clasificación ICBF]]=\"Clasificada\",2,IF(Tabla2[[#This Row],[ Clasificación ICBF]]=\"Reservada\",3,0)))","v":0},{"$f":"IF(#REF!=8,4,IF(#REF!=16,3,IF(#REF!=24,2,IF(#REF!=48,1,0))))","v":{"$error":"#REF!"}},{"$f":"IF(#REF!=8,\"Alto\",IF(#REF!=16,\"Medio\",IF(#REF!=24,\"Medio\",IF(#REF!=48,\"Bajo\",0))))","v":{"$error":"#REF!"}},null,{"$f":"+MID(Tabla2[[#This Row],[Área/Dependencia]],17,8)","v":""}]
["",null,null,null,{"$f":"+VLOOKUP(Tabla2[[#This Row],[SEDE - REGIONAL]],DATOS!B297:D330,3,FALSE)","v":{"$error":"#N/A"}},{"$f":"+IF(OR(Tabla2[[#This Row],[Área/Dependencia]]=\"Subdirección de Sistemas Integrados\",Tabla2[[#This Row],[Área/Dependencia]]=\"Subdirección de Recursos Tecnológicos\"),\"X\",\"\")","v":""},{"$f":"+CONCATENATE(Tabla2[[#This Row],[Tipo de Proceso]],Tabla2[[#This Row],[Columna4]])","v":{"$error":"#N/A"}},null,null,null,null,null,null,null,null,null,null,null,null,null,{"$f":"+IF(Tabla2[[#This Row],[Nivel de acceso ]]=\"Alto\",0.5,IF(Tabla2[[#This Row],[Nivel de acceso ]]=\"Medio\",0.3,IF(Tabla2[[#This Row],[Nivel de acceso ]]=\"Bajo\",0.2,\"\")))","v":""},null,{"$f":"+IF(Tabla2[[#This Row],[Es  Reservada]]=\"Sí\",\"Escriba Ley\",\"No Aplica\")","v":"No Aplica"},null,null,null,null,{"$f":"IFERROR(IF(AND(Tabla2[[#This Row],[Contiene Datos Personales]]=\"SÍ\",OR(Tabla2[[#This Row],[Clasificación Datos Personales]]=\"Sensible\",Tabla2[[#This Row],[Clasificación Datos Personales]]=\"NNA\",Tabla2[[#This Row],[Clasificación Datos Personales]]=\"privado\")),\"Alto\",IF(AND(Tabla2[[#This Row],[Contiene Datos Personales]]=\"SÍ\",Tabla2[[#This Row],[Clasificación Datos Personales]]=\"SEMIPRIVADO\"),\"Medio\",\"Bajo\")),\"\")","v":"Bajo"},null,null,"No Aplica","No Aplica",null,null,null,{"$f":"+IF(Tabla2[[#This Row],[Integridad]]=\"Grave\",0.5,IF(Tabla2[[#This Row],[Integridad]]=\"Importante\",0.3,IF(Tabla2[[#This Row],[Integridad]]=\"Leve\",0.2,\"\")))","v":""},null,{"$f":"+IF(Tabla2[[#This Row],[Disponibilidad Interna]]=\"Sí\",0.1,IF(Tabla2[[#This Row],[Disponibilidad Interna]]=\"NO\",0,\"\"))","v":""},null,{"$f":"+IF(Tabla2[[#This Row],[Disponibilidad Terceros]]=\"Sí\",0.1,IF(Tabla2[[#This Row],[Disponibilidad Terceros]]=\"No\",0,\"\"))","v":""},{"$f":"+Tabla2[[#This Row],[Columna32]]+Tabla2[[#This Row],[Columna34]]+Tabla2[[#This Row],[Columna1]]+Tabla2[[#This Row],[Columna3]]","v":{"$error":"#VALUE!"}},{"$f":"IFERROR(IF(Tabla2[[#This Row],[Columna33]]<0.45,\"BAJA\",IF(Tabla2[[#This Row],[Columna33]]>0.75,\"ALTA\",\"MEDIA\")),\"\")","v":""},"No Aplica",{"$f":"+IF(Tabla2[[#This Row],[Información Publicada (WEB)]]=\"Sí\",\"Digite URL\",\"No Aplica\")","v":"No Aplica"},null,{"$f":"IF(Tabla2[[#This Row],[ Clasificación ICBF]]=\"Pública\",1,IF(Tabla2[[#This Row],[ Clasificación ICBF]]=\"Clasificada\",2,IF(Tabla2[[#This Row],[ Clasificación ICBF]]=\"Reservada\",3,0)))","v":0},{"$f":"IF(#REF!=8,4,IF(#REF!=16,3,IF(#REF!=24,2,IF(#REF!=48,1,0))))","v":{"$error":"#REF!"}},{"$f":"IF(#REF!=8,\"Alto\",IF(#REF!=16,\"Medio\",IF(#REF!=24,\"Medio\",IF(#REF!=48,\"Bajo\",0))))","v":{"$error":"#REF!"}},null,{"$f":"+MID(Tabla2[[#This Row],[Área/Dependencia]],17,8)","v":""}]
["",null,null,null,{"$f":"+VLOOKUP(Tabla2[[#This Row],[SEDE - REGIONAL]],DATOS!B298:D331,3,FALSE)","v":{"$error":"#N/A"}},{"$f":"+IF(OR(Tabla2[[#This Row],[Área/Dependencia]]=\"Subdirección de Sistemas Integrados\",Tabla2[[#This Row],[Área/Dependencia]]=\"Subdirección de Recursos Tecnológicos\"),\"X\",\"\")","v":""},{"$f":"+CONCATENATE(Tabla2[[#This Row],[Tipo de Proceso]],Tabla2[[#This Row],[Columna4]])","v":{"$error":"#N/A"}},null,null,null,null,null,null,null,null,null,null,null,null,null,{"$f":"+IF(Tabla2[[#This Row],[Nivel de acceso ]]=\"Alto\",0.5,IF(Tabla2[[#This Row],[Nivel de acceso ]]=\"Medio\",0.3,IF(Tabla2[[#This Row],[Nivel de acceso ]]=\"Bajo\",0.2,\"\")))","v":""},null,{"$f":"+IF(Tabla2[[#This Row],[Es  Reservada]]=\"Sí\",\"Escriba Ley\",\"No Aplica\")","v":"No Aplica"},null,null,null,null,{"$f":"IFERROR(IF(AND(Tabla2[[#This Row],[Contiene Datos Personales]]=\"SÍ\",OR(Tabla2[[#This Row],[Clasificación Datos Personales]]=\"Sensible\",Tabla2[[#This Row],[Clasificación Datos Personales]]=\"NNA\",Tabla2[[#This Row],[Clasificación Datos Personales]]=\"privado\")),\"Alto\",IF(AND(Tabla2[[#This Row],[Contiene Datos Personales]]=\"SÍ\",Tabla2[[#This Row],[Clasificación Datos Personales]]=\"SEMIPRIVADO\"),\"Medio\",\"Bajo\")),\"\")","v":"Bajo"},null,null,"No Aplica","No Aplica",null,null,null,{"$f":"+IF(Tabla2[[#This Row],[Integridad]]=\"Grave\",0.5,IF(Tabla2[[#This Row],[Integridad]]=\"Importante\",0.3,IF(Tabla2[[#This Row],[Integridad]]=\"Leve\",0.2,\"\")))","v":""},null,{"$f":"+IF(Tabla2[[#This Row],[Disponibilidad Interna]]=\"Sí\",0.1,IF(Tabla2[[#This Row],[Disponibilidad Interna]]=\"NO\",0,\"\"))","v":""},null,{"$f":"+IF(Tabla2[[#This Row],[Disponibilidad Terceros]]=\"Sí\",0.1,IF(Tabla2[[#This Row],[Disponibilidad Terceros]]=\"No\",0,\"\"))","v":""},{"$f":"+Tabla2[[#This Row],[Columna32]]+Tabla2[[#This Row],[Columna34]]+Tabla2[[#This Row],[Columna1]]+Tabla2[[#This Row],[Columna3]]","v":{"$error":"#VALUE!"}},{"$f":"IFERROR(IF(Tabla2[[#This Row],[Columna33]]<0.45,\"BAJA\",IF(Tabla2[[#This Row],[Columna33]]>0.75,\"ALTA\",\"MEDIA\")),\"\")","v":""},"No Aplica",{"$f":"+IF(Tabla2[[#This Row],[Información Publicada (WEB)]]=\"Sí\",\"Digite URL\",\"No Aplica\")","v":"No Aplica"},null,{"$f":"IF(Tabla2[[#This Row],[ Clasificación ICBF]]=\"Pública\",1,IF(Tabla2[[#This Row],[ Clasificación ICBF]]=\"Clasificada\",2,IF(Tabla2[[#This Row],[ Clasificación ICBF]]=\"Reservada\",3,0)))","v":0},{"$f":"IF(#REF!=8,4,IF(#REF!=16,3,IF(#REF!=24,2,IF(#REF!=48,1,0))))","v":{"$error":"#REF!"}},{"$f":"IF(#REF!=8,\"Alto\",IF(#REF!=16,\"Medio\",IF(#REF!=24,\"Medio\",IF(#REF!=48,\"Bajo\",0))))","v":{"$error":"#REF!"}},null,{"$f":"+MID(Tabla2[[#This Row],[Área/Dependencia]],17,8)","v":""}]
["",null,null,null,{"$f":"+VLOOKUP(Tabla2[[#This Row],[SEDE - REGIONAL]],DATOS!B299:D332,3,FALSE)","v":{"$error":"#N/A"}},{"$f":"+IF(OR(Tabla2[[#This Row],[Área/Dependencia]]=\"Subdirección de Sistemas Integrados\",Tabla2[[#This Row],[Área/Dependencia]]=\"Subdirección de Recursos Tecnológicos\"),\"X\",\"\")","v":""},{"$f":"+CONCATENATE(Tabla2[[#This Row],[Tipo de Proceso]],Tabla2[[#This Row],[Columna4]])","v":{"$error":"#N/A"}},null,null,null,null,null,null,null,null,null,null,null,null,null,{"$f":"+IF(Tabla2[[#This Row],[Nivel de acceso ]]=\"Alto\",0.5,IF(Tabla2[[#This Row],[Nivel de acceso ]]=\"Medio\",0.3,IF(Tabla2[[#This Row],[Nivel de acceso ]]=\"Bajo\",0.2,\"\")))","v":""},null,{"$f":"+IF(Tabla2[[#This Row],[Es  Reservada]]=\"Sí\",\"Escriba Ley\",\"No Aplica\")","v":"No Aplica"},null,null,null,null,{"$f":"IFERROR(IF(AND(Tabla2[[#This Row],[Contiene Datos Personales]]=\"SÍ\",OR(Tabla2[[#This Row],[Clasificación Datos Personales]]=\"Sensible\",Tabla2[[#This Row],[Clasificación Datos Personales]]=\"NNA\",Tabla2[[#This Row],[Clasificación Datos Personales]]=\"privado\")),\"Alto\",IF(AND(Tabla2[[#This Row],[Contiene Datos Personales]]=\"SÍ\",Tabla2[[#This Row],[Clasificación Datos Personales]]=\"SEMIPRIVADO\"),\"Medio\",\"Bajo\")),\"\")","v":"Bajo"},null,null,"No Aplica","No Aplica",null,null,null,{"$f":"+IF(Tabla2[[#This Row],[Integridad]]=\"Grave\",0.5,IF(Tabla2[[#This Row],[Integridad]]=\"Importante\",0.3,IF(Tabla2[[#This Row],[Integridad]]=\"Leve\",0.2,\"\")))","v":""},null,{"$f":"+IF(Tabla2[[#This Row],[Disponibilidad Interna]]=\"Sí\",0.1,IF(Tabla2[[#This Row],[Disponibilidad Interna]]=\"NO\",0,\"\"))","v":""},null,{"$f":"+IF(Tabla2[[#This Row],[Disponibilidad Terceros]]=\"Sí\",0.1,IF(Tabla2[[#This Row],[Disponibilidad Terceros]]=\"No\",0,\"\"))","v":""},{"$f":"+Tabla2[[#This Row],[Columna32]]+Tabla2[[#This Row],[Columna34]]+Tabla2[[#This Row],[Columna1]]+Tabla2[[#This Row],[Columna3]]","v":{"$error":"#VALUE!"}},{"$f":"IFERROR(IF(Tabla2[[#This Row],[Columna33]]<0.45,\"BAJA\",IF(Tabla2[[#This Row],[Columna33]]>0.75,\"ALTA\",\"MEDIA\")),\"\")","v":""},"No Aplica",{"$f":"+IF(Tabla2[[#This Row],[Información Publicada (WEB)]]=\"Sí\",\"Digite URL\",\"No Aplica\")","v":"No Aplica"},null,{"$f":"IF(Tabla2[[#This Row],[ Clasificación ICBF]]=\"Pública\",1,IF(Tabla2[[#This Row],[ Clasificación ICBF]]=\"Clasificada\",2,IF(Tabla2[[#This Row],[ Clasificación ICBF]]=\"Reservada\",3,0)))","v":0},{"$f":"IF(#REF!=8,4,IF(#REF!=16,3,IF(#REF!=24,2,IF(#REF!=48,1,0))))","v":{"$error":"#REF!"}},{"$f":"IF(#REF!=8,\"Alto\",IF(#REF!=16,\"Medio\",IF(#REF!=24,\"Medio\",IF(#REF!=48,\"Bajo\",0))))","v":{"$error":"#REF!"}},null,{"$f":"+MID(Tabla2[[#This Row],[Área/Dependencia]],17,8)","v":""}]
["",null,null,null,{"$f":"+VLOOKUP(Tabla2[[#This Row],[SEDE - REGIONAL]],DATOS!B300:D333,3,FALSE)","v":{"$error":"#N/A"}},{"$f":"+IF(OR(Tabla2[[#This Row],[Área/Dependencia]]=\"Subdirección de Sistemas Integrados\",Tabla2[[#This Row],[Área/Dependencia]]=\"Subdirección de Recursos Tecnológicos\"),\"X\",\"\")","v":""},{"$f":"+CONCATENATE(Tabla2[[#This Row],[Tipo de Proceso]],Tabla2[[#This Row],[Columna4]])","v":{"$error":"#N/A"}},null,null,null,null,null,null,null,null,null,null,null,null,null,{"$f":"+IF(Tabla2[[#This Row],[Nivel de acceso ]]=\"Alto\",0.5,IF(Tabla2[[#This Row],[Nivel de acceso ]]=\"Medio\",0.3,IF(Tabla2[[#This Row],[Nivel de acceso ]]=\"Bajo\",0.2,\"\")))","v":""},null,{"$f":"+IF(Tabla2[[#This Row],[Es  Reservada]]=\"Sí\",\"Escriba Ley\",\"No Aplica\")","v":"No Aplica"},null,null,null,null,{"$f":"IFERROR(IF(AND(Tabla2[[#This Row],[Contiene Datos Personales]]=\"SÍ\",OR(Tabla2[[#This Row],[Clasificación Datos Personales]]=\"Sensible\",Tabla2[[#This Row],[Clasificación Datos Personales]]=\"NNA\",Tabla2[[#This Row],[Clasificación Datos Personales]]=\"privado\")),\"Alto\",IF(AND(Tabla2[[#This Row],[Contiene Datos Personales]]=\"SÍ\",Tabla2[[#This Row],[Clasificación Datos Personales]]=\"SEMIPRIVADO\"),\"Medio\",\"Bajo\")),\"\")","v":"Bajo"},null,null,"No Aplica","No Aplica",null,null,null,{"$f":"+IF(Tabla2[[#This Row],[Integridad]]=\"Grave\",0.5,IF(Tabla2[[#This Row],[Integridad]]=\"Importante\",0.3,IF(Tabla2[[#This Row],[Integridad]]=\"Leve\",0.2,\"\")))","v":""},null,{"$f":"+IF(Tabla2[[#This Row],[Disponibilidad Interna]]=\"Sí\",0.1,IF(Tabla2[[#This Row],[Disponibilidad Interna]]=\"NO\",0,\"\"))","v":""},null,{"$f":"+IF(Tabla2[[#This Row],[Disponibilidad Terceros]]=\"Sí\",0.1,IF(Tabla2[[#This Row],[Disponibilidad Terceros]]=\"No\",0,\"\"))","v":""},{"$f":"+Tabla2[[#This Row],[Columna32]]+Tabla2[[#This Row],[Columna34]]+Tabla2[[#This Row],[Columna1]]+Tabla2[[#This Row],[Columna3]]","v":{"$error":"#VALUE!"}},{"$f":"IFERROR(IF(Tabla2[[#This Row],[Columna33]]<0.45,\"BAJA\",IF(Tabla2[[#This Row],[Columna33]]>0.75,\"ALTA\",\"MEDIA\")),\"\")","v":""},"No Aplica",{"$f":"+IF(Tabla2[[#This Row],[Información Publicada (WEB)]]=\"Sí\",\"Digite URL\",\"No Aplica\")","v":"No Aplica"},null,{"$f":"IF(Tabla2[[#This Row],[ Clasificación ICBF]]=\"Pública\",1,IF(Tabla2[[#This Row],[ Clasificación ICBF]]=\"Clasificada\",2,IF(Tabla2[[#This Row],[ Clasificación ICBF]]=\"Reservada\",3,0)))","v":0},{"$f":"IF(#REF!=8,4,IF(#REF!=16,3,IF(#REF!=24,2,IF(#REF!=48,1,0))))","v":{"$error":"#REF!"}},{"$f":"IF(#REF!=8,\"Alto\",IF(#REF!=16,\"Medio\",IF(#REF!=24,\"Medio\",IF(#REF!=48,\"Bajo\",0))))","v":{"$error":"#REF!"}},null,{"$f":"+MID(Tabla2[[#This Row],[Área/Dependencia]],17,8)","v":""}]
["",null,null,null,{"$f":"+VLOOKUP(Tabla2[[#This Row],[SEDE - REGIONAL]],DATOS!B301:D334,3,FALSE)","v":{"$error":"#N/A"}},{"$f":"+IF(OR(Tabla2[[#This Row],[Área/Dependencia]]=\"Subdirección de Sistemas Integrados\",Tabla2[[#This Row],[Área/Dependencia]]=\"Subdirección de Recursos Tecnológicos\"),\"X\",\"\")","v":""},{"$f":"+CONCATENATE(Tabla2[[#This Row],[Tipo de Proceso]],Tabla2[[#This Row],[Columna4]])","v":{"$error":"#N/A"}},null,null,null,null,null,null,null,null,null,null,null,null,null,{"$f":"+IF(Tabla2[[#This Row],[Nivel de acceso ]]=\"Alto\",0.5,IF(Tabla2[[#This Row],[Nivel de acceso ]]=\"Medio\",0.3,IF(Tabla2[[#This Row],[Nivel de acceso ]]=\"Bajo\",0.2,\"\")))","v":""},null,{"$f":"+IF(Tabla2[[#This Row],[Es  Reservada]]=\"Sí\",\"Escriba Ley\",\"No Aplica\")","v":"No Aplica"},null,null,null,null,{"$f":"IFERROR(IF(AND(Tabla2[[#This Row],[Contiene Datos Personales]]=\"SÍ\",OR(Tabla2[[#This Row],[Clasificación Datos Personales]]=\"Sensible\",Tabla2[[#This Row],[Clasificación Datos Personales]]=\"NNA\",Tabla2[[#This Row],[Clasificación Datos Personales]]=\"privado\")),\"Alto\",IF(AND(Tabla2[[#This Row],[Contiene Datos Personales]]=\"SÍ\",Tabla2[[#This Row],[Clasificación Datos Personales]]=\"SEMIPRIVADO\"),\"Medio\",\"Bajo\")),\"\")","v":"Bajo"},null,null,"No Aplica","No Aplica",null,null,null,{"$f":"+IF(Tabla2[[#This Row],[Integridad]]=\"Grave\",0.5,IF(Tabla2[[#This Row],[Integridad]]=\"Importante\",0.3,IF(Tabla2[[#This Row],[Integridad]]=\"Leve\",0.2,\"\")))","v":""},null,{"$f":"+IF(Tabla2[[#This Row],[Disponibilidad Interna]]=\"Sí\",0.1,IF(Tabla2[[#This Row],[Disponibilidad Interna]]=\"NO\",0,\"\"))","v":""},null,{"$f":"+IF(Tabla2[[#This Row],[Disponibilidad Terceros]]=\"Sí\",0.1,IF(Tabla2[[#This Row],[Disponibilidad Terceros]]=\"No\",0,\"\"))","v":""},{"$f":"+Tabla2[[#This Row],[Columna32]]+Tabla2[[#This Row],[Columna34]]+Tabla2[[#This Row],[Columna1]]+Tabla2[[#This Row],[Columna3]]","v":{"$error":"#VALUE!"}},{"$f":"IFERROR(IF(Tabla2[[#This Row],[Columna33]]<0.45,\"BAJA\",IF(Tabla2[[#This Row],[Columna33]]>0.75,\"ALTA\",\"MEDIA\")),\"\")","v":""},"No Aplica",{"$f":"+IF(Tabla2[[#This Row],[Información Publicada (WEB)]]=\"Sí\",\"Digite URL\",\"No Aplica\")","v":"No Aplica"},null,{"$f":"IF(Tabla2[[#This Row],[ Clasificación ICBF]]=\"Pública\",1,IF(Tabla2[[#This Row],[ Clasificación ICBF]]=\"Clasificada\",2,IF(Tabla2[[#This Row],[ Clasificación ICBF]]=\"Reservada\",3,0)))","v":0},{"$f":"IF(#REF!=8,4,IF(#REF!=16,3,IF(#REF!=24,2,IF(#REF!=48,1,0))))","v":{"$error":"#REF!"}},{"$f":"IF(#REF!=8,\"Alto\",IF(#REF!=16,\"Medio\",IF(#REF!=24,\"Medio\",IF(#REF!=48,\"Bajo\",0))))","v":{"$error":"#REF!"}},null,{"$f":"+MID(Tabla2[[#This Row],[Área/Dependencia]],17,8)","v":""}]
["",null,null,null,{"$f":"+VLOOKUP(Tabla2[[#This Row],[SEDE - REGIONAL]],DATOS!B302:D335,3,FALSE)","v":{"$error":"#N/A"}},{"$f":"+IF(OR(Tabla2[[#This Row],[Área/Dependencia]]=\"Subdirección de Sistemas Integrados\",Tabla2[[#This Row],[Área/Dependencia]]=\"Subdirección de Recursos Tecnológicos\"),\"X\",\"\")","v":""},{"$f":"+CONCATENATE(Tabla2[[#This Row],[Tipo de Proceso]],Tabla2[[#This Row],[Columna4]])","v":{"$error":"#N/A"}},null,null,null,null,null,null,null,null,null,null,null,null,null,{"$f":"+IF(Tabla2[[#This Row],[Nivel de acceso ]]=\"Alto\",0.5,IF(Tabla2[[#This Row],[Nivel de acceso ]]=\"Medio\",0.3,IF(Tabla2[[#This Row],[Nivel de acceso ]]=\"Bajo\",0.2,\"\")))","v":""},null,{"$f":"+IF(Tabla2[[#This Row],[Es  Reservada]]=\"Sí\",\"Escriba Ley\",\"No Aplica\")","v":"No Aplica"},null,null,null,null,{"$f":"IFERROR(IF(AND(Tabla2[[#This Row],[Contiene Datos Personales]]=\"SÍ\",OR(Tabla2[[#This Row],[Clasificación Datos Personales]]=\"Sensible\",Tabla2[[#This Row],[Clasificación Datos Personales]]=\"NNA\",Tabla2[[#This Row],[Clasificación Datos Personales]]=\"privado\")),\"Alto\",IF(AND(Tabla2[[#This Row],[Contiene Datos Personales]]=\"SÍ\",Tabla2[[#This Row],[Clasificación Datos Personales]]=\"SEMIPRIVADO\"),\"Medio\",\"Bajo\")),\"\")","v":"Bajo"},null,null,"No Aplica","No Aplica",null,null,null,{"$f":"+IF(Tabla2[[#This Row],[Integridad]]=\"Grave\",0.5,IF(Tabla2[[#This Row],[Integridad]]=\"Importante\",0.3,IF(Tabla2[[#This Row],[Integridad]]=\"Leve\",0.2,\"\")))","v":""},null,{"$f":"+IF(Tabla2[[#This Row],[Disponibilidad Interna]]=\"Sí\",0.1,IF(Tabla2[[#This Row],[Disponibilidad Interna]]=\"NO\",0,\"\"))","v":""},null,{"$f":"+IF(Tabla2[[#This Row],[Disponibilidad Terceros]]=\"Sí\",0.1,IF(Tabla2[[#This Row],[Disponibilidad Terceros]]=\"No\",0,\"\"))","v":""},{"$f":"+Tabla2[[#This Row],[Columna32]]+Tabla2[[#This Row],[Columna34]]+Tabla2[[#This Row],[Columna1]]+Tabla2[[#This Row],[Columna3]]","v":{"$error":"#VALUE!"}},{"$f":"IFERROR(IF(Tabla2[[#This Row],[Columna33]]<0.45,\"BAJA\",IF(Tabla2[[#This Row],[Columna33]]>0.75,\"ALTA\",\"MEDIA\")),\"\")","v":""},"No Aplica",{"$f":"+IF(Tabla2[[#This Row],[Información Publicada (WEB)]]=\"Sí\",\"Digite URL\",\"No Aplica\")","v":"No Aplica"},null,{"$f":"IF(Tabla2[[#This Row],[ Clasificación ICBF]]=\"Pública\",1,IF(Tabla2[[#This Row],[ Clasificación ICBF]]=\"Clasificada\",2,IF(Tabla2[[#This Row],[ Clasificación ICBF]]=\"Reservada\",3,0)))","v":0},{"$f":"IF(#REF!=8,4,IF(#REF!=16,3,IF(#REF!=24,2,IF(#REF!=48,1,0))))","v":{"$error":"#REF!"}},{"$f":"IF(#REF!=8,\"Alto\",IF(#REF!=16,\"Medio\",IF(#REF!=24,\"Medio\",IF(#REF!=48,\"Bajo\",0))))","v":{"$error":"#REF!"}},null,{"$f":"+MID(Tabla2[[#This Row],[Área/Dependencia]],17,8)","v":""}]
["",null,null,null,{"$f":"+VLOOKUP(Tabla2[[#This Row],[SEDE - REGIONAL]],DATOS!B303:D336,3,FALSE)","v":{"$error":"#N/A"}},{"$f":"+IF(OR(Tabla2[[#This Row],[Área/Dependencia]]=\"Subdirección de Sistemas Integrados\",Tabla2[[#This Row],[Área/Dependencia]]=\"Subdirección de Recursos Tecnológicos\"),\"X\",\"\")","v":""},{"$f":"+CONCATENATE(Tabla2[[#This Row],[Tipo de Proceso]],Tabla2[[#This Row],[Columna4]])","v":{"$error":"#N/A"}},null,null,null,null,null,null,null,null,null,null,null,null,null,{"$f":"+IF(Tabla2[[#This Row],[Nivel de acceso ]]=\"Alto\",0.5,IF(Tabla2[[#This Row],[Nivel de acceso ]]=\"Medio\",0.3,IF(Tabla2[[#This Row],[Nivel de acceso ]]=\"Bajo\",0.2,\"\")))","v":""},null,{"$f":"+IF(Tabla2[[#This Row],[Es  Reservada]]=\"Sí\",\"Escriba Ley\",\"No Aplica\")","v":"No Aplica"},null,null,null,null,{"$f":"IFERROR(IF(AND(Tabla2[[#This Row],[Contiene Datos Personales]]=\"SÍ\",OR(Tabla2[[#This Row],[Clasificación Datos Personales]]=\"Sensible\",Tabla2[[#This Row],[Clasificación Datos Personales]]=\"NNA\",Tabla2[[#This Row],[Clasificación Datos Personales]]=\"privado\")),\"Alto\",IF(AND(Tabla2[[#This Row],[Contiene Datos Personales]]=\"SÍ\",Tabla2[[#This Row],[Clasificación Datos Personales]]=\"SEMIPRIVADO\"),\"Medio\",\"Bajo\")),\"\")","v":"Bajo"},null,null,"No Aplica","No Aplica",null,null,null,{"$f":"+IF(Tabla2[[#This Row],[Integridad]]=\"Grave\",0.5,IF(Tabla2[[#This Row],[Integridad]]=\"Importante\",0.3,IF(Tabla2[[#This Row],[Integridad]]=\"Leve\",0.2,\"\")))","v":""},null,{"$f":"+IF(Tabla2[[#This Row],[Disponibilidad Interna]]=\"Sí\",0.1,IF(Tabla2[[#This Row],[Disponibilidad Interna]]=\"NO\",0,\"\"))","v":""},null,{"$f":"+IF(Tabla2[[#This Row],[Disponibilidad Terceros]]=\"Sí\",0.1,IF(Tabla2[[#This Row],[Disponibilidad Terceros]]=\"No\",0,\"\"))","v":""},{"$f":"+Tabla2[[#This Row],[Columna32]]+Tabla2[[#This Row],[Columna34]]+Tabla2[[#This Row],[Columna1]]+Tabla2[[#This Row],[Columna3]]","v":{"$error":"#VALUE!"}},{"$f":"IFERROR(IF(Tabla2[[#This Row],[Columna33]]<0.45,\"BAJA\",IF(Tabla2[[#This Row],[Columna33]]>0.75,\"ALTA\",\"MEDIA\")),\"\")","v":""},"No Aplica",{"$f":"+IF(Tabla2[[#This Row],[Información Publicada (WEB)]]=\"Sí\",\"Digite URL\",\"No Aplica\")","v":"No Aplica"},null,{"$f":"IF(Tabla2[[#This Row],[ Clasificación ICBF]]=\"Pública\",1,IF(Tabla2[[#This Row],[ Clasificación ICBF]]=\"Clasificada\",2,IF(Tabla2[[#This Row],[ Clasificación ICBF]]=\"Reservada\",3,0)))","v":0},{"$f":"IF(#REF!=8,4,IF(#REF!=16,3,IF(#REF!=24,2,IF(#REF!=48,1,0))))","v":{"$error":"#REF!"}},{"$f":"IF(#REF!=8,\"Alto\",IF(#REF!=16,\"Medio\",IF(#REF!=24,\"Medio\",IF(#REF!=48,\"Bajo\",0))))","v":{"$error":"#REF!"}},null,{"$f":"+MID(Tabla2[[#This Row],[Área/Dependencia]],17,8)","v":""}]
["",null,null,null,{"$f":"+VLOOKUP(Tabla2[[#This Row],[SEDE - REGIONAL]],DATOS!B304:D337,3,FALSE)","v":{"$error":"#N/A"}},{"$f":"+IF(OR(Tabla2[[#This Row],[Área/Dependencia]]=\"Subdirección de Sistemas Integrados\",Tabla2[[#This Row],[Área/Dependencia]]=\"Subdirección de Recursos Tecnológicos\"),\"X\",\"\")","v":""},{"$f":"+CONCATENATE(Tabla2[[#This Row],[Tipo de Proceso]],Tabla2[[#This Row],[Columna4]])","v":{"$error":"#N/A"}},null,null,null,null,null,null,null,null,null,null,null,null,null,{"$f":"+IF(Tabla2[[#This Row],[Nivel de acceso ]]=\"Alto\",0.5,IF(Tabla2[[#This Row],[Nivel de acceso ]]=\"Medio\",0.3,IF(Tabla2[[#This Row],[Nivel de acceso ]]=\"Bajo\",0.2,\"\")))","v":""},null,{"$f":"+IF(Tabla2[[#This Row],[Es  Reservada]]=\"Sí\",\"Escriba Ley\",\"No Aplica\")","v":"No Aplica"},null,null,null,null,{"$f":"IFERROR(IF(AND(Tabla2[[#This Row],[Contiene Datos Personales]]=\"SÍ\",OR(Tabla2[[#This Row],[Clasificación Datos Personales]]=\"Sensible\",Tabla2[[#This Row],[Clasificación Datos Personales]]=\"NNA\",Tabla2[[#This Row],[Clasificación Datos Personales]]=\"privado\")),\"Alto\",IF(AND(Tabla2[[#This Row],[Contiene Datos Personales]]=\"SÍ\",Tabla2[[#This Row],[Clasificación Datos Personales]]=\"SEMIPRIVADO\"),\"Medio\",\"Bajo\")),\"\")","v":"Bajo"},null,null,"No Aplica","No Aplica",null,null,null,{"$f":"+IF(Tabla2[[#This Row],[Integridad]]=\"Grave\",0.5,IF(Tabla2[[#This Row],[Integridad]]=\"Importante\",0.3,IF(Tabla2[[#This Row],[Integridad]]=\"Leve\",0.2,\"\")))","v":""},null,{"$f":"+IF(Tabla2[[#This Row],[Disponibilidad Interna]]=\"Sí\",0.1,IF(Tabla2[[#This Row],[Disponibilidad Interna]]=\"NO\",0,\"\"))","v":""},null,{"$f":"+IF(Tabla2[[#This Row],[Disponibilidad Terceros]]=\"Sí\",0.1,IF(Tabla2[[#This Row],[Disponibilidad Terceros]]=\"No\",0,\"\"))","v":""},{"$f":"+Tabla2[[#This Row],[Columna32]]+Tabla2[[#This Row],[Columna34]]+Tabla2[[#This Row],[Columna1]]+Tabla2[[#This Row],[Columna3]]","v":{"$error":"#VALUE!"}},{"$f":"IFERROR(IF(Tabla2[[#This Row],[Columna33]]<0.45,\"BAJA\",IF(Tabla2[[#This Row],[Columna33]]>0.75,\"ALTA\",\"MEDIA\")),\"\")","v":""},"No Aplica",{"$f":"+IF(Tabla2[[#This Row],[Información Publicada (WEB)]]=\"Sí\",\"Digite URL\",\"No Aplica\")","v":"No Aplica"},null,{"$f":"IF(Tabla2[[#This Row],[ Clasificación ICBF]]=\"Pública\",1,IF(Tabla2[[#This Row],[ Clasificación ICBF]]=\"Clasificada\",2,IF(Tabla2[[#This Row],[ Clasificación ICBF]]=\"Reservada\",3,0)))","v":0},{"$f":"IF(#REF!=8,4,IF(#REF!=16,3,IF(#REF!=24,2,IF(#REF!=48,1,0))))","v":{"$error":"#REF!"}},{"$f":"IF(#REF!=8,\"Alto\",IF(#REF!=16,\"Medio\",IF(#REF!=24,\"Medio\",IF(#REF!=48,\"Bajo\",0))))","v":{"$error":"#REF!"}},null,{"$f":"+MID(Tabla2[[#This Row],[Área/Dependencia]],17,8)","v":""}]
["",null,null,null,{"$f":"+VLOOKUP(Tabla2[[#This Row],[SEDE - REGIONAL]],DATOS!B305:D338,3,FALSE)","v":{"$error":"#N/A"}},{"$f":"+IF(OR(Tabla2[[#This Row],[Área/Dependencia]]=\"Subdirección de Sistemas Integrados\",Tabla2[[#This Row],[Área/Dependencia]]=\"Subdirección de Recursos Tecnológicos\"),\"X\",\"\")","v":""},{"$f":"+CONCATENATE(Tabla2[[#This Row],[Tipo de Proceso]],Tabla2[[#This Row],[Columna4]])","v":{"$error":"#N/A"}},null,null,null,null,null,null,null,null,null,null,null,null,null,{"$f":"+IF(Tabla2[[#This Row],[Nivel de acceso ]]=\"Alto\",0.5,IF(Tabla2[[#This Row],[Nivel de acceso ]]=\"Medio\",0.3,IF(Tabla2[[#This Row],[Nivel de acceso ]]=\"Bajo\",0.2,\"\")))","v":""},null,{"$f":"+IF(Tabla2[[#This Row],[Es  Reservada]]=\"Sí\",\"Escriba Ley\",\"No Aplica\")","v":"No Aplica"},null,null,null,null,{"$f":"IFERROR(IF(AND(Tabla2[[#This Row],[Contiene Datos Personales]]=\"SÍ\",OR(Tabla2[[#This Row],[Clasificación Datos Personales]]=\"Sensible\",Tabla2[[#This Row],[Clasificación Datos Personales]]=\"NNA\",Tabla2[[#This Row],[Clasificación Datos Personales]]=\"privado\")),\"Alto\",IF(AND(Tabla2[[#This Row],[Contiene Datos Personales]]=\"SÍ\",Tabla2[[#This Row],[Clasificación Datos Personales]]=\"SEMIPRIVADO\"),\"Medio\",\"Bajo\")),\"\")","v":"Bajo"},null,null,"No Aplica","No Aplica",null,null,null,{"$f":"+IF(Tabla2[[#This Row],[Integridad]]=\"Grave\",0.5,IF(Tabla2[[#This Row],[Integridad]]=\"Importante\",0.3,IF(Tabla2[[#This Row],[Integridad]]=\"Leve\",0.2,\"\")))","v":""},null,{"$f":"+IF(Tabla2[[#This Row],[Disponibilidad Interna]]=\"Sí\",0.1,IF(Tabla2[[#This Row],[Disponibilidad Interna]]=\"NO\",0,\"\"))","v":""},null,{"$f":"+IF(Tabla2[[#This Row],[Disponibilidad Terceros]]=\"Sí\",0.1,IF(Tabla2[[#This Row],[Disponibilidad Terceros]]=\"No\",0,\"\"))","v":""},{"$f":"+Tabla2[[#This Row],[Columna32]]+Tabla2[[#This Row],[Columna34]]+Tabla2[[#This Row],[Columna1]]+Tabla2[[#This Row],[Columna3]]","v":{"$error":"#VALUE!"}},{"$f":"IFERROR(IF(Tabla2[[#This Row],[Columna33]]<0.45,\"BAJA\",IF(Tabla2[[#This Row],[Columna33]]>0.75,\"ALTA\",\"MEDIA\")),\"\")","v":""},"No Aplica",{"$f":"+IF(Tabla2[[#This Row],[Información Publicada (WEB)]]=\"Sí\",\"Digite URL\",\"No Aplica\")","v":"No Aplica"},null,{"$f":"IF(Tabla2[[#This Row],[ Clasificación ICBF]]=\"Pública\",1,IF(Tabla2[[#This Row],[ Clasificación ICBF]]=\"Clasificada\",2,IF(Tabla2[[#This Row],[ Clasificación ICBF]]=\"Reservada\",3,0)))","v":0},{"$f":"IF(#REF!=8,4,IF(#REF!=16,3,IF(#REF!=24,2,IF(#REF!=48,1,0))))","v":{"$error":"#REF!"}},{"$f":"IF(#REF!=8,\"Alto\",IF(#REF!=16,\"Medio\",IF(#REF!=24,\"Medio\",IF(#REF!=48,\"Bajo\",0))))","v":{"$error":"#REF!"}},null,{"$f":"+MID(Tabla2[[#This Row],[Área/Dependencia]],17,8)","v":""}]
["",null,null,null,{"$f":"+VLOOKUP(Tabla2[[#This Row],[SEDE - REGIONAL]],DATOS!B306:D339,3,FALSE)","v":{"$error":"#N/A"}},{"$f":"+IF(OR(Tabla2[[#This Row],[Área/Dependencia]]=\"Subdirección de Sistemas Integrados\",Tabla2[[#This Row],[Área/Dependencia]]=\"Subdirección de Recursos Tecnológicos\"),\"X\",\"\")","v":""},{"$f":"+CONCATENATE(Tabla2[[#This Row],[Tipo de Proceso]],Tabla2[[#This Row],[Columna4]])","v":{"$error":"#N/A"}},null,null,null,null,null,null,null,null,null,null,null,null,null,{"$f":"+IF(Tabla2[[#This Row],[Nivel de acceso ]]=\"Alto\",0.5,IF(Tabla2[[#This Row],[Nivel de acceso ]]=\"Medio\",0.3,IF(Tabla2[[#This Row],[Nivel de acceso ]]=\"Bajo\",0.2,\"\")))","v":""},null,{"$f":"+IF(Tabla2[[#This Row],[Es  Reservada]]=\"Sí\",\"Escriba Ley\",\"No Aplica\")","v":"No Aplica"},null,null,null,null,{"$f":"IFERROR(IF(AND(Tabla2[[#This Row],[Contiene Datos Personales]]=\"SÍ\",OR(Tabla2[[#This Row],[Clasificación Datos Personales]]=\"Sensible\",Tabla2[[#This Row],[Clasificación Datos Personales]]=\"NNA\",Tabla2[[#This Row],[Clasificación Datos Personales]]=\"privado\")),\"Alto\",IF(AND(Tabla2[[#This Row],[Contiene Datos Personales]]=\"SÍ\",Tabla2[[#This Row],[Clasificación Datos Personales]]=\"SEMIPRIVADO\"),\"Medio\",\"Bajo\")),\"\")","v":"Bajo"},null,null,"No Aplica","No Aplica",null,null,null,{"$f":"+IF(Tabla2[[#This Row],[Integridad]]=\"Grave\",0.5,IF(Tabla2[[#This Row],[Integridad]]=\"Importante\",0.3,IF(Tabla2[[#This Row],[Integridad]]=\"Leve\",0.2,\"\")))","v":""},null,{"$f":"+IF(Tabla2[[#This Row],[Disponibilidad Interna]]=\"Sí\",0.1,IF(Tabla2[[#This Row],[Disponibilidad Interna]]=\"NO\",0,\"\"))","v":""},null,{"$f":"+IF(Tabla2[[#This Row],[Disponibilidad Terceros]]=\"Sí\",0.1,IF(Tabla2[[#This Row],[Disponibilidad Terceros]]=\"No\",0,\"\"))","v":""},{"$f":"+Tabla2[[#This Row],[Columna32]]+Tabla2[[#This Row],[Columna34]]+Tabla2[[#This Row],[Columna1]]+Tabla2[[#This Row],[Columna3]]","v":{"$error":"#VALUE!"}},{"$f":"IFERROR(IF(Tabla2[[#This Row],[Columna33]]<0.45,\"BAJA\",IF(Tabla2[[#This Row],[Columna33]]>0.75,\"ALTA\",\"MEDIA\")),\"\")","v":""},"No Aplica",{"$f":"+IF(Tabla2[[#This Row],[Información Publicada (WEB)]]=\"Sí\",\"Digite URL\",\"No Aplica\")","v":"No Aplica"},null,{"$f":"IF(Tabla2[[#This Row],[ Clasificación ICBF]]=\"Pública\",1,IF(Tabla2[[#This Row],[ Clasificación ICBF]]=\"Clasificada\",2,IF(Tabla2[[#This Row],[ Clasificación ICBF]]=\"Reservada\",3,0)))","v":0},{"$f":"IF(#REF!=8,4,IF(#REF!=16,3,IF(#REF!=24,2,IF(#REF!=48,1,0))))","v":{"$error":"#REF!"}},{"$f":"IF(#REF!=8,\"Alto\",IF(#REF!=16,\"Medio\",IF(#REF!=24,\"Medio\",IF(#REF!=48,\"Bajo\",0))))","v":{"$error":"#REF!"}},null,{"$f":"+MID(Tabla2[[#This Row],[Área/Dependencia]],17,8)","v":""}]
["",null,null,null,{"$f":"+VLOOKUP(Tabla2[[#This Row],[SEDE - REGIONAL]],DATOS!B307:D340,3,FALSE)","v":{"$error":"#N/A"}},{"$f":"+IF(OR(Tabla2[[#This Row],[Área/Dependencia]]=\"Subdirección de Sistemas Integrados\",Tabla2[[#This Row],[Área/Dependencia]]=\"Subdirección de Recursos Tecnológicos\"),\"X\",\"\")","v":""},{"$f":"+CONCATENATE(Tabla2[[#This Row],[Tipo de Proceso]],Tabla2[[#This Row],[Columna4]])","v":{"$error":"#N/A"}},null,null,null,null,null,null,null,null,null,null,null,null,null,{"$f":"+IF(Tabla2[[#This Row],[Nivel de acceso ]]=\"Alto\",0.5,IF(Tabla2[[#This Row],[Nivel de acceso ]]=\"Medio\",0.3,IF(Tabla2[[#This Row],[Nivel de acceso ]]=\"Bajo\",0.2,\"\")))","v":""},null,{"$f":"+IF(Tabla2[[#This Row],[Es  Reservada]]=\"Sí\",\"Escriba Ley\",\"No Aplica\")","v":"No Aplica"},null,null,null,null,{"$f":"IFERROR(IF(AND(Tabla2[[#This Row],[Contiene Datos Personales]]=\"SÍ\",OR(Tabla2[[#This Row],[Clasificación Datos Personales]]=\"Sensible\",Tabla2[[#This Row],[Clasificación Datos Personales]]=\"NNA\",Tabla2[[#This Row],[Clasificación Datos Personales]]=\"privado\")),\"Alto\",IF(AND(Tabla2[[#This Row],[Contiene Datos Personales]]=\"SÍ\",Tabla2[[#This Row],[Clasificación Datos Personales]]=\"SEMIPRIVADO\"),\"Medio\",\"Bajo\")),\"\")","v":"Bajo"},null,null,"No Aplica","No Aplica",null,null,null,{"$f":"+IF(Tabla2[[#This Row],[Integridad]]=\"Grave\",0.5,IF(Tabla2[[#This Row],[Integridad]]=\"Importante\",0.3,IF(Tabla2[[#This Row],[Integridad]]=\"Leve\",0.2,\"\")))","v":""},null,{"$f":"+IF(Tabla2[[#This Row],[Disponibilidad Interna]]=\"Sí\",0.1,IF(Tabla2[[#This Row],[Disponibilidad Interna]]=\"NO\",0,\"\"))","v":""},null,{"$f":"+IF(Tabla2[[#This Row],[Disponibilidad Terceros]]=\"Sí\",0.1,IF(Tabla2[[#This Row],[Disponibilidad Terceros]]=\"No\",0,\"\"))","v":""},{"$f":"+Tabla2[[#This Row],[Columna32]]+Tabla2[[#This Row],[Columna34]]+Tabla2[[#This Row],[Columna1]]+Tabla2[[#This Row],[Columna3]]","v":{"$error":"#VALUE!"}},{"$f":"IFERROR(IF(Tabla2[[#This Row],[Columna33]]<0.45,\"BAJA\",IF(Tabla2[[#This Row],[Columna33]]>0.75,\"ALTA\",\"MEDIA\")),\"\")","v":""},"No Aplica",{"$f":"+IF(Tabla2[[#This Row],[Información Publicada (WEB)]]=\"Sí\",\"Digite URL\",\"No Aplica\")","v":"No Aplica"},null,{"$f":"IF(Tabla2[[#This Row],[ Clasificación ICBF]]=\"Pública\",1,IF(Tabla2[[#This Row],[ Clasificación ICBF]]=\"Clasificada\",2,IF(Tabla2[[#This Row],[ Clasificación ICBF]]=\"Reservada\",3,0)))","v":0},{"$f":"IF(#REF!=8,4,IF(#REF!=16,3,IF(#REF!=24,2,IF(#REF!=48,1,0))))","v":{"$error":"#REF!"}},{"$f":"IF(#REF!=8,\"Alto\",IF(#REF!=16,\"Medio\",IF(#REF!=24,\"Medio\",IF(#REF!=48,\"Bajo\",0))))","v":{"$error":"#REF!"}},null,{"$f":"+MID(Tabla2[[#This Row],[Área/Dependencia]],17,8)","v":""}]
["",null,null,null,{"$f":"+VLOOKUP(Tabla2[[#This Row],[SEDE - REGIONAL]],DATOS!B308:D341,3,FALSE)","v":{"$error":"#N/A"}},{"$f":"+IF(OR(Tabla2[[#This Row],[Área/Dependencia]]=\"Subdirección de Sistemas Integrados\",Tabla2[[#This Row],[Área/Dependencia]]=\"Subdirección de Recursos Tecnológicos\"),\"X\",\"\")","v":""},{"$f":"+CONCATENATE(Tabla2[[#This Row],[Tipo de Proceso]],Tabla2[[#This Row],[Columna4]])","v":{"$error":"#N/A"}},null,null,null,null,null,null,null,null,null,null,null,null,null,{"$f":"+IF(Tabla2[[#This Row],[Nivel de acceso ]]=\"Alto\",0.5,IF(Tabla2[[#This Row],[Nivel de acceso ]]=\"Medio\",0.3,IF(Tabla2[[#This Row],[Nivel de acceso ]]=\"Bajo\",0.2,\"\")))","v":""},null,{"$f":"+IF(Tabla2[[#This Row],[Es  Reservada]]=\"Sí\",\"Escriba Ley\",\"No Aplica\")","v":"No Aplica"},null,null,null,null,{"$f":"IFERROR(IF(AND(Tabla2[[#This Row],[Contiene Datos Personales]]=\"SÍ\",OR(Tabla2[[#This Row],[Clasificación Datos Personales]]=\"Sensible\",Tabla2[[#This Row],[Clasificación Datos Personales]]=\"NNA\",Tabla2[[#This Row],[Clasificación Datos Personales]]=\"privado\")),\"Alto\",IF(AND(Tabla2[[#This Row],[Contiene Datos Personales]]=\"SÍ\",Tabla2[[#This Row],[Clasificación Datos Personales]]=\"SEMIPRIVADO\"),\"Medio\",\"Bajo\")),\"\")","v":"Bajo"},null,null,"No Aplica","No Aplica",null,null,null,{"$f":"+IF(Tabla2[[#This Row],[Integridad]]=\"Grave\",0.5,IF(Tabla2[[#This Row],[Integridad]]=\"Importante\",0.3,IF(Tabla2[[#This Row],[Integridad]]=\"Leve\",0.2,\"\")))","v":""},null,{"$f":"+IF(Tabla2[[#This Row],[Disponibilidad Interna]]=\"Sí\",0.1,IF(Tabla2[[#This Row],[Disponibilidad Interna]]=\"NO\",0,\"\"))","v":""},null,{"$f":"+IF(Tabla2[[#This Row],[Disponibilidad Terceros]]=\"Sí\",0.1,IF(Tabla2[[#This Row],[Disponibilidad Terceros]]=\"No\",0,\"\"))","v":""},{"$f":"+Tabla2[[#This Row],[Columna32]]+Tabla2[[#This Row],[Columna34]]+Tabla2[[#This Row],[Columna1]]+Tabla2[[#This Row],[Columna3]]","v":{"$error":"#VALUE!"}},{"$f":"IFERROR(IF(Tabla2[[#This Row],[Columna33]]<0.45,\"BAJA\",IF(Tabla2[[#This Row],[Columna33]]>0.75,\"ALTA\",\"MEDIA\")),\"\")","v":""},"No Aplica",{"$f":"+IF(Tabla2[[#This Row],[Información Publicada (WEB)]]=\"Sí\",\"Digite URL\",\"No Aplica\")","v":"No Aplica"},null,{"$f":"IF(Tabla2[[#This Row],[ Clasificación ICBF]]=\"Pública\",1,IF(Tabla2[[#This Row],[ Clasificación ICBF]]=\"Clasificada\",2,IF(Tabla2[[#This Row],[ Clasificación ICBF]]=\"Reservada\",3,0)))","v":0},{"$f":"IF(#REF!=8,4,IF(#REF!=16,3,IF(#REF!=24,2,IF(#REF!=48,1,0))))","v":{"$error":"#REF!"}},{"$f":"IF(#REF!=8,\"Alto\",IF(#REF!=16,\"Medio\",IF(#REF!=24,\"Medio\",IF(#REF!=48,\"Bajo\",0))))","v":{"$error":"#REF!"}},null,{"$f":"+MID(Tabla2[[#This Row],[Área/Dependencia]],17,8)","v":""}]
["",null,null,null,{"$f":"+VLOOKUP(Tabla2[[#This Row],[SEDE - REGIONAL]],DATOS!B309:D342,3,FALSE)","v":{"$error":"#N/A"}},{"$f":"+IF(OR(Tabla2[[#This Row],[Área/Dependencia]]=\"Subdirección de Sistemas Integrados\",Tabla2[[#This Row],[Área/Dependencia]]=\"Subdirección de Recursos Tecnológicos\"),\"X\",\"\")","v":""},{"$f":"+CONCATENATE(Tabla2[[#This Row],[Tipo de Proceso]],Tabla2[[#This Row],[Columna4]])","v":{"$error":"#N/A"}},null,null,null,null,null,null,null,null,null,null,null,null,null,{"$f":"+IF(Tabla2[[#This Row],[Nivel de acceso ]]=\"Alto\",0.5,IF(Tabla2[[#This Row],[Nivel de acceso ]]=\"Medio\",0.3,IF(Tabla2[[#This Row],[Nivel de acceso ]]=\"Bajo\",0.2,\"\")))","v":""},null,{"$f":"+IF(Tabla2[[#This Row],[Es  Reservada]]=\"Sí\",\"Escriba Ley\",\"No Aplica\")","v":"No Aplica"},null,null,null,null,{"$f":"IFERROR(IF(AND(Tabla2[[#This Row],[Contiene Datos Personales]]=\"SÍ\",OR(Tabla2[[#This Row],[Clasificación Datos Personales]]=\"Sensible\",Tabla2[[#This Row],[Clasificación Datos Personales]]=\"NNA\",Tabla2[[#This Row],[Clasificación Datos Personales]]=\"privado\")),\"Alto\",IF(AND(Tabla2[[#This Row],[Contiene Datos Personales]]=\"SÍ\",Tabla2[[#This Row],[Clasificación Datos Personales]]=\"SEMIPRIVADO\"),\"Medio\",\"Bajo\")),\"\")","v":"Bajo"},null,null,"No Aplica","No Aplica",null,null,null,{"$f":"+IF(Tabla2[[#This Row],[Integridad]]=\"Grave\",0.5,IF(Tabla2[[#This Row],[Integridad]]=\"Importante\",0.3,IF(Tabla2[[#This Row],[Integridad]]=\"Leve\",0.2,\"\")))","v":""},null,{"$f":"+IF(Tabla2[[#This Row],[Disponibilidad Interna]]=\"Sí\",0.1,IF(Tabla2[[#This Row],[Disponibilidad Interna]]=\"NO\",0,\"\"))","v":""},null,{"$f":"+IF(Tabla2[[#This Row],[Disponibilidad Terceros]]=\"Sí\",0.1,IF(Tabla2[[#This Row],[Disponibilidad Terceros]]=\"No\",0,\"\"))","v":""},{"$f":"+Tabla2[[#This Row],[Columna32]]+Tabla2[[#This Row],[Columna34]]+Tabla2[[#This Row],[Columna1]]+Tabla2[[#This Row],[Columna3]]","v":{"$error":"#VALUE!"}},{"$f":"IFERROR(IF(Tabla2[[#This Row],[Columna33]]<0.45,\"BAJA\",IF(Tabla2[[#This Row],[Columna33]]>0.75,\"ALTA\",\"MEDIA\")),\"\")","v":""},"No Aplica",{"$f":"+IF(Tabla2[[#This Row],[Información Publicada (WEB)]]=\"Sí\",\"Digite URL\",\"No Aplica\")","v":"No Aplica"},null,{"$f":"IF(Tabla2[[#This Row],[ Clasificación ICBF]]=\"Pública\",1,IF(Tabla2[[#This Row],[ Clasificación ICBF]]=\"Clasificada\",2,IF(Tabla2[[#This Row],[ Clasificación ICBF]]=\"Reservada\",3,0)))","v":0},{"$f":"IF(#REF!=8,4,IF(#REF!=16,3,IF(#REF!=24,2,IF(#REF!=48,1,0))))","v":{"$error":"#REF!"}},{"$f":"IF(#REF!=8,\"Alto\",IF(#REF!=16,\"Medio\",IF(#REF!=24,\"Medio\",IF(#REF!=48,\"Bajo\",0))))","v":{"$error":"#REF!"}},null,{"$f":"+MID(Tabla2[[#This Row],[Área/Dependencia]],17,8)","v":""}]
["",null,null,null,{"$f":"+VLOOKUP(Tabla2[[#This Row],[SEDE - REGIONAL]],DATOS!B310:D343,3,FALSE)","v":{"$error":"#N/A"}},{"$f":"+IF(OR(Tabla2[[#This Row],[Área/Dependencia]]=\"Subdirección de Sistemas Integrados\",Tabla2[[#This Row],[Área/Dependencia]]=\"Subdirección de Recursos Tecnológicos\"),\"X\",\"\")","v":""},{"$f":"+CONCATENATE(Tabla2[[#This Row],[Tipo de Proceso]],Tabla2[[#This Row],[Columna4]])","v":{"$error":"#N/A"}},null,null,null,null,null,null,null,null,null,null,null,null,null,{"$f":"+IF(Tabla2[[#This Row],[Nivel de acceso ]]=\"Alto\",0.5,IF(Tabla2[[#This Row],[Nivel de acceso ]]=\"Medio\",0.3,IF(Tabla2[[#This Row],[Nivel de acceso ]]=\"Bajo\",0.2,\"\")))","v":""},null,{"$f":"+IF(Tabla2[[#This Row],[Es  Reservada]]=\"Sí\",\"Escriba Ley\",\"No Aplica\")","v":"No Aplica"},null,null,null,null,{"$f":"IFERROR(IF(AND(Tabla2[[#This Row],[Contiene Datos Personales]]=\"SÍ\",OR(Tabla2[[#This Row],[Clasificación Datos Personales]]=\"Sensible\",Tabla2[[#This Row],[Clasificación Datos Personales]]=\"NNA\",Tabla2[[#This Row],[Clasificación Datos Personales]]=\"privado\")),\"Alto\",IF(AND(Tabla2[[#This Row],[Contiene Datos Personales]]=\"SÍ\",Tabla2[[#This Row],[Clasificación Datos Personales]]=\"SEMIPRIVADO\"),\"Medio\",\"Bajo\")),\"\")","v":"Bajo"},null,null,"No Aplica","No Aplica",null,null,null,{"$f":"+IF(Tabla2[[#This Row],[Integridad]]=\"Grave\",0.5,IF(Tabla2[[#This Row],[Integridad]]=\"Importante\",0.3,IF(Tabla2[[#This Row],[Integridad]]=\"Leve\",0.2,\"\")))","v":""},null,{"$f":"+IF(Tabla2[[#This Row],[Disponibilidad Interna]]=\"Sí\",0.1,IF(Tabla2[[#This Row],[Disponibilidad Interna]]=\"NO\",0,\"\"))","v":""},null,{"$f":"+IF(Tabla2[[#This Row],[Disponibilidad Terceros]]=\"Sí\",0.1,IF(Tabla2[[#This Row],[Disponibilidad Terceros]]=\"No\",0,\"\"))","v":""},{"$f":"+Tabla2[[#This Row],[Columna32]]+Tabla2[[#This Row],[Columna34]]+Tabla2[[#This Row],[Columna1]]+Tabla2[[#This Row],[Columna3]]","v":{"$error":"#VALUE!"}},{"$f":"IFERROR(IF(Tabla2[[#This Row],[Columna33]]<0.45,\"BAJA\",IF(Tabla2[[#This Row],[Columna33]]>0.75,\"ALTA\",\"MEDIA\")),\"\")","v":""},"No Aplica",{"$f":"+IF(Tabla2[[#This Row],[Información Publicada (WEB)]]=\"Sí\",\"Digite URL\",\"No Aplica\")","v":"No Aplica"},null,{"$f":"IF(Tabla2[[#This Row],[ Clasificación ICBF]]=\"Pública\",1,IF(Tabla2[[#This Row],[ Clasificación ICBF]]=\"Clasificada\",2,IF(Tabla2[[#This Row],[ Clasificación ICBF]]=\"Reservada\",3,0)))","v":0},{"$f":"IF(#REF!=8,4,IF(#REF!=16,3,IF(#REF!=24,2,IF(#REF!=48,1,0))))","v":{"$error":"#REF!"}},{"$f":"IF(#REF!=8,\"Alto\",IF(#REF!=16,\"Medio\",IF(#REF!=24,\"Medio\",IF(#REF!=48,\"Bajo\",0))))","v":{"$error":"#REF!"}},null,{"$f":"+MID(Tabla2[[#This Row],[Área/Dependencia]],17,8)","v":""}]
["",null,null,null,{"$f":"+VLOOKUP(Tabla2[[#This Row],[SEDE - REGIONAL]],DATOS!B311:D344,3,FALSE)","v":{"$error":"#N/A"}},{"$f":"+IF(OR(Tabla2[[#This Row],[Área/Dependencia]]=\"Subdirección de Sistemas Integrados\",Tabla2[[#This Row],[Área/Dependencia]]=\"Subdirección de Recursos Tecnológicos\"),\"X\",\"\")","v":""},{"$f":"+CONCATENATE(Tabla2[[#This Row],[Tipo de Proceso]],Tabla2[[#This Row],[Columna4]])","v":{"$error":"#N/A"}},null,null,null,null,null,null,null,null,null,null,null,null,null,{"$f":"+IF(Tabla2[[#This Row],[Nivel de acceso ]]=\"Alto\",0.5,IF(Tabla2[[#This Row],[Nivel de acceso ]]=\"Medio\",0.3,IF(Tabla2[[#This Row],[Nivel de acceso ]]=\"Bajo\",0.2,\"\")))","v":""},null,{"$f":"+IF(Tabla2[[#This Row],[Es  Reservada]]=\"Sí\",\"Escriba Ley\",\"No Aplica\")","v":"No Aplica"},null,null,null,null,{"$f":"IFERROR(IF(AND(Tabla2[[#This Row],[Contiene Datos Personales]]=\"SÍ\",OR(Tabla2[[#This Row],[Clasificación Datos Personales]]=\"Sensible\",Tabla2[[#This Row],[Clasificación Datos Personales]]=\"NNA\",Tabla2[[#This Row],[Clasificación Datos Personales]]=\"privado\")),\"Alto\",IF(AND(Tabla2[[#This Row],[Contiene Datos Personales]]=\"SÍ\",Tabla2[[#This Row],[Clasificación Datos Personales]]=\"SEMIPRIVADO\"),\"Medio\",\"Bajo\")),\"\")","v":"Bajo"},null,null,"No Aplica","No Aplica",null,null,null,{"$f":"+IF(Tabla2[[#This Row],[Integridad]]=\"Grave\",0.5,IF(Tabla2[[#This Row],[Integridad]]=\"Importante\",0.3,IF(Tabla2[[#This Row],[Integridad]]=\"Leve\",0.2,\"\")))","v":""},null,{"$f":"+IF(Tabla2[[#This Row],[Disponibilidad Interna]]=\"Sí\",0.1,IF(Tabla2[[#This Row],[Disponibilidad Interna]]=\"NO\",0,\"\"))","v":""},null,{"$f":"+IF(Tabla2[[#This Row],[Disponibilidad Terceros]]=\"Sí\",0.1,IF(Tabla2[[#This Row],[Disponibilidad Terceros]]=\"No\",0,\"\"))","v":""},{"$f":"+Tabla2[[#This Row],[Columna32]]+Tabla2[[#This Row],[Columna34]]+Tabla2[[#This Row],[Columna1]]+Tabla2[[#This Row],[Columna3]]","v":{"$error":"#VALUE!"}},{"$f":"IFERROR(IF(Tabla2[[#This Row],[Columna33]]<0.45,\"BAJA\",IF(Tabla2[[#This Row],[Columna33]]>0.75,\"ALTA\",\"MEDIA\")),\"\")","v":""},"No Aplica",{"$f":"+IF(Tabla2[[#This Row],[Información Publicada (WEB)]]=\"Sí\",\"Digite URL\",\"No Aplica\")","v":"No Aplica"},null,{"$f":"IF(Tabla2[[#This Row],[ Clasificación ICBF]]=\"Pública\",1,IF(Tabla2[[#This Row],[ Clasificación ICBF]]=\"Clasificada\",2,IF(Tabla2[[#This Row],[ Clasificación ICBF]]=\"Reservada\",3,0)))","v":0},{"$f":"IF(#REF!=8,4,IF(#REF!=16,3,IF(#REF!=24,2,IF(#REF!=48,1,0))))","v":{"$error":"#REF!"}},{"$f":"IF(#REF!=8,\"Alto\",IF(#REF!=16,\"Medio\",IF(#REF!=24,\"Medio\",IF(#REF!=48,\"Bajo\",0))))","v":{"$error":"#REF!"}},null,{"$f":"+MID(Tabla2[[#This Row],[Área/Dependencia]],17,8)","v":""}]
["",null,null,null,{"$f":"+VLOOKUP(Tabla2[[#This Row],[SEDE - REGIONAL]],DATOS!B312:D345,3,FALSE)","v":{"$error":"#N/A"}},{"$f":"+IF(OR(Tabla2[[#This Row],[Área/Dependencia]]=\"Subdirección de Sistemas Integrados\",Tabla2[[#This Row],[Área/Dependencia]]=\"Subdirección de Recursos Tecnológicos\"),\"X\",\"\")","v":""},{"$f":"+CONCATENATE(Tabla2[[#This Row],[Tipo de Proceso]],Tabla2[[#This Row],[Columna4]])","v":{"$error":"#N/A"}},null,null,null,null,null,null,null,null,null,null,null,null,null,{"$f":"+IF(Tabla2[[#This Row],[Nivel de acceso ]]=\"Alto\",0.5,IF(Tabla2[[#This Row],[Nivel de acceso ]]=\"Medio\",0.3,IF(Tabla2[[#This Row],[Nivel de acceso ]]=\"Bajo\",0.2,\"\")))","v":""},null,{"$f":"+IF(Tabla2[[#This Row],[Es  Reservada]]=\"Sí\",\"Escriba Ley\",\"No Aplica\")","v":"No Aplica"},null,null,null,null,{"$f":"IFERROR(IF(AND(Tabla2[[#This Row],[Contiene Datos Personales]]=\"SÍ\",OR(Tabla2[[#This Row],[Clasificación Datos Personales]]=\"Sensible\",Tabla2[[#This Row],[Clasificación Datos Personales]]=\"NNA\",Tabla2[[#This Row],[Clasificación Datos Personales]]=\"privado\")),\"Alto\",IF(AND(Tabla2[[#This Row],[Contiene Datos Personales]]=\"SÍ\",Tabla2[[#This Row],[Clasificación Datos Personales]]=\"SEMIPRIVADO\"),\"Medio\",\"Bajo\")),\"\")","v":"Bajo"},null,null,"No Aplica","No Aplica",null,null,null,{"$f":"+IF(Tabla2[[#This Row],[Integridad]]=\"Grave\",0.5,IF(Tabla2[[#This Row],[Integridad]]=\"Importante\",0.3,IF(Tabla2[[#This Row],[Integridad]]=\"Leve\",0.2,\"\")))","v":""},null,{"$f":"+IF(Tabla2[[#This Row],[Disponibilidad Interna]]=\"Sí\",0.1,IF(Tabla2[[#This Row],[Disponibilidad Interna]]=\"NO\",0,\"\"))","v":""},null,{"$f":"+IF(Tabla2[[#This Row],[Disponibilidad Terceros]]=\"Sí\",0.1,IF(Tabla2[[#This Row],[Disponibilidad Terceros]]=\"No\",0,\"\"))","v":""},{"$f":"+Tabla2[[#This Row],[Columna32]]+Tabla2[[#This Row],[Columna34]]+Tabla2[[#This Row],[Columna1]]+Tabla2[[#This Row],[Columna3]]","v":{"$error":"#VALUE!"}},{"$f":"IFERROR(IF(Tabla2[[#This Row],[Columna33]]<0.45,\"BAJA\",IF(Tabla2[[#This Row],[Columna33]]>0.75,\"ALTA\",\"MEDIA\")),\"\")","v":""},"No Aplica",{"$f":"+IF(Tabla2[[#This Row],[Información Publicada (WEB)]]=\"Sí\",\"Digite URL\",\"No Aplica\")","v":"No Aplica"},null,{"$f":"IF(Tabla2[[#This Row],[ Clasificación ICBF]]=\"Pública\",1,IF(Tabla2[[#This Row],[ Clasificación ICBF]]=\"Clasificada\",2,IF(Tabla2[[#This Row],[ Clasificación ICBF]]=\"Reservada\",3,0)))","v":0},{"$f":"IF(#REF!=8,4,IF(#REF!=16,3,IF(#REF!=24,2,IF(#REF!=48,1,0))))","v":{"$error":"#REF!"}},{"$f":"IF(#REF!=8,\"Alto\",IF(#REF!=16,\"Medio\",IF(#REF!=24,\"Medio\",IF(#REF!=48,\"Bajo\",0))))","v":{"$error":"#REF!"}},null,{"$f":"+MID(Tabla2[[#This Row],[Área/Dependencia]],17,8)","v":""}]
["",null,null,null,{"$f":"+VLOOKUP(Tabla2[[#This Row],[SEDE - REGIONAL]],DATOS!B313:D346,3,FALSE)","v":{"$error":"#N/A"}},{"$f":"+IF(OR(Tabla2[[#This Row],[Área/Dependencia]]=\"Subdirección de Sistemas Integrados\",Tabla2[[#This Row],[Área/Dependencia]]=\"Subdirección de Recursos Tecnológicos\"),\"X\",\"\")","v":""},{"$f":"+CONCATENATE(Tabla2[[#This Row],[Tipo de Proceso]],Tabla2[[#This Row],[Columna4]])","v":{"$error":"#N/A"}},null,null,null,null,null,null,null,null,null,null,null,null,null,{"$f":"+IF(Tabla2[[#This Row],[Nivel de acceso ]]=\"Alto\",0.5,IF(Tabla2[[#This Row],[Nivel de acceso ]]=\"Medio\",0.3,IF(Tabla2[[#This Row],[Nivel de acceso ]]=\"Bajo\",0.2,\"\")))","v":""},null,{"$f":"+IF(Tabla2[[#This Row],[Es  Reservada]]=\"Sí\",\"Escriba Ley\",\"No Aplica\")","v":"No Aplica"},null,null,null,null,{"$f":"IFERROR(IF(AND(Tabla2[[#This Row],[Contiene Datos Personales]]=\"SÍ\",OR(Tabla2[[#This Row],[Clasificación Datos Personales]]=\"Sensible\",Tabla2[[#This Row],[Clasificación Datos Personales]]=\"NNA\",Tabla2[[#This Row],[Clasificación Datos Personales]]=\"privado\")),\"Alto\",IF(AND(Tabla2[[#This Row],[Contiene Datos Personales]]=\"SÍ\",Tabla2[[#This Row],[Clasificación Datos Personales]]=\"SEMIPRIVADO\"),\"Medio\",\"Bajo\")),\"\")","v":"Bajo"},null,null,"No Aplica","No Aplica",null,null,null,{"$f":"+IF(Tabla2[[#This Row],[Integridad]]=\"Grave\",0.5,IF(Tabla2[[#This Row],[Integridad]]=\"Importante\",0.3,IF(Tabla2[[#This Row],[Integridad]]=\"Leve\",0.2,\"\")))","v":""},null,{"$f":"+IF(Tabla2[[#This Row],[Disponibilidad Interna]]=\"Sí\",0.1,IF(Tabla2[[#This Row],[Disponibilidad Interna]]=\"NO\",0,\"\"))","v":""},null,{"$f":"+IF(Tabla2[[#This Row],[Disponibilidad Terceros]]=\"Sí\",0.1,IF(Tabla2[[#This Row],[Disponibilidad Terceros]]=\"No\",0,\"\"))","v":""},{"$f":"+Tabla2[[#This Row],[Columna32]]+Tabla2[[#This Row],[Columna34]]+Tabla2[[#This Row],[Columna1]]+Tabla2[[#This Row],[Columna3]]","v":{"$error":"#VALUE!"}},{"$f":"IFERROR(IF(Tabla2[[#This Row],[Columna33]]<0.45,\"BAJA\",IF(Tabla2[[#This Row],[Columna33]]>0.75,\"ALTA\",\"MEDIA\")),\"\")","v":""},"No Aplica",{"$f":"+IF(Tabla2[[#This Row],[Información Publicada (WEB)]]=\"Sí\",\"Digite URL\",\"No Aplica\")","v":"No Aplica"},null,{"$f":"IF(Tabla2[[#This Row],[ Clasificación ICBF]]=\"Pública\",1,IF(Tabla2[[#This Row],[ Clasificación ICBF]]=\"Clasificada\",2,IF(Tabla2[[#This Row],[ Clasificación ICBF]]=\"Reservada\",3,0)))","v":0},{"$f":"IF(#REF!=8,4,IF(#REF!=16,3,IF(#REF!=24,2,IF(#REF!=48,1,0))))","v":{"$error":"#REF!"}},{"$f":"IF(#REF!=8,\"Alto\",IF(#REF!=16,\"Medio\",IF(#REF!=24,\"Medio\",IF(#REF!=48,\"Bajo\",0))))","v":{"$error":"#REF!"}},null,{"$f":"+MID(Tabla2[[#This Row],[Área/Dependencia]],17,8)","v":""}]
["",null,null,null,{"$f":"+VLOOKUP(Tabla2[[#This Row],[SEDE - REGIONAL]],DATOS!B314:D347,3,FALSE)","v":{"$error":"#N/A"}},{"$f":"+IF(OR(Tabla2[[#This Row],[Área/Dependencia]]=\"Subdirección de Sistemas Integrados\",Tabla2[[#This Row],[Área/Dependencia]]=\"Subdirección de Recursos Tecnológicos\"),\"X\",\"\")","v":""},{"$f":"+CONCATENATE(Tabla2[[#This Row],[Tipo de Proceso]],Tabla2[[#This Row],[Columna4]])","v":{"$error":"#N/A"}},null,null,null,null,null,null,null,null,null,null,null,null,null,{"$f":"+IF(Tabla2[[#This Row],[Nivel de acceso ]]=\"Alto\",0.5,IF(Tabla2[[#This Row],[Nivel de acceso ]]=\"Medio\",0.3,IF(Tabla2[[#This Row],[Nivel de acceso ]]=\"Bajo\",0.2,\"\")))","v":""},null,{"$f":"+IF(Tabla2[[#This Row],[Es  Reservada]]=\"Sí\",\"Escriba Ley\",\"No Aplica\")","v":"No Aplica"},null,null,null,null,{"$f":"IFERROR(IF(AND(Tabla2[[#This Row],[Contiene Datos Personales]]=\"SÍ\",OR(Tabla2[[#This Row],[Clasificación Datos Personales]]=\"Sensible\",Tabla2[[#This Row],[Clasificación Datos Personales]]=\"NNA\",Tabla2[[#This Row],[Clasificación Datos Personales]]=\"privado\")),\"Alto\",IF(AND(Tabla2[[#This Row],[Contiene Datos Personales]]=\"SÍ\",Tabla2[[#This Row],[Clasificación Datos Personales]]=\"SEMIPRIVADO\"),\"Medio\",\"Bajo\")),\"\")","v":"Bajo"},null,null,"No Aplica","No Aplica",null,null,null,{"$f":"+IF(Tabla2[[#This Row],[Integridad]]=\"Grave\",0.5,IF(Tabla2[[#This Row],[Integridad]]=\"Importante\",0.3,IF(Tabla2[[#This Row],[Integridad]]=\"Leve\",0.2,\"\")))","v":""},null,{"$f":"+IF(Tabla2[[#This Row],[Disponibilidad Interna]]=\"Sí\",0.1,IF(Tabla2[[#This Row],[Disponibilidad Interna]]=\"NO\",0,\"\"))","v":""},null,{"$f":"+IF(Tabla2[[#This Row],[Disponibilidad Terceros]]=\"Sí\",0.1,IF(Tabla2[[#This Row],[Disponibilidad Terceros]]=\"No\",0,\"\"))","v":""},{"$f":"+Tabla2[[#This Row],[Columna32]]+Tabla2[[#This Row],[Columna34]]+Tabla2[[#This Row],[Columna1]]+Tabla2[[#This Row],[Columna3]]","v":{"$error":"#VALUE!"}},{"$f":"IFERROR(IF(Tabla2[[#This Row],[Columna33]]<0.45,\"BAJA\",IF(Tabla2[[#This Row],[Columna33]]>0.75,\"ALTA\",\"MEDIA\")),\"\")","v":""},"No Aplica",{"$f":"+IF(Tabla2[[#This Row],[Información Publicada (WEB)]]=\"Sí\",\"Digite URL\",\"No Aplica\")","v":"No Aplica"},null,{"$f":"IF(Tabla2[[#This Row],[ Clasificación ICBF]]=\"Pública\",1,IF(Tabla2[[#This Row],[ Clasificación ICBF]]=\"Clasificada\",2,IF(Tabla2[[#This Row],[ Clasificación ICBF]]=\"Reservada\",3,0)))","v":0},{"$f":"IF(#REF!=8,4,IF(#REF!=16,3,IF(#REF!=24,2,IF(#REF!=48,1,0))))","v":{"$error":"#REF!"}},{"$f":"IF(#REF!=8,\"Alto\",IF(#REF!=16,\"Medio\",IF(#REF!=24,\"Medio\",IF(#REF!=48,\"Bajo\",0))))","v":{"$error":"#REF!"}},null,{"$f":"+MID(Tabla2[[#This Row],[Área/Dependencia]],17,8)","v":""}]
["",null,null,null,{"$f":"+VLOOKUP(Tabla2[[#This Row],[SEDE - REGIONAL]],DATOS!B315:D348,3,FALSE)","v":{"$error":"#N/A"}},{"$f":"+IF(OR(Tabla2[[#This Row],[Área/Dependencia]]=\"Subdirección de Sistemas Integrados\",Tabla2[[#This Row],[Área/Dependencia]]=\"Subdirección de Recursos Tecnológicos\"),\"X\",\"\")","v":""},{"$f":"+CONCATENATE(Tabla2[[#This Row],[Tipo de Proceso]],Tabla2[[#This Row],[Columna4]])","v":{"$error":"#N/A"}},null,null,null,null,null,null,null,null,null,null,null,null,null,{"$f":"+IF(Tabla2[[#This Row],[Nivel de acceso ]]=\"Alto\",0.5,IF(Tabla2[[#This Row],[Nivel de acceso ]]=\"Medio\",0.3,IF(Tabla2[[#This Row],[Nivel de acceso ]]=\"Bajo\",0.2,\"\")))","v":""},null,{"$f":"+IF(Tabla2[[#This Row],[Es  Reservada]]=\"Sí\",\"Escriba Ley\",\"No Aplica\")","v":"No Aplica"},null,null,null,null,{"$f":"IFERROR(IF(AND(Tabla2[[#This Row],[Contiene Datos Personales]]=\"SÍ\",OR(Tabla2[[#This Row],[Clasificación Datos Personales]]=\"Sensible\",Tabla2[[#This Row],[Clasificación Datos Personales]]=\"NNA\",Tabla2[[#This Row],[Clasificación Datos Personales]]=\"privado\")),\"Alto\",IF(AND(Tabla2[[#This Row],[Contiene Datos Personales]]=\"SÍ\",Tabla2[[#This Row],[Clasificación Datos Personales]]=\"SEMIPRIVADO\"),\"Medio\",\"Bajo\")),\"\")","v":"Bajo"},null,null,"No Aplica","No Aplica",null,null,null,{"$f":"+IF(Tabla2[[#This Row],[Integridad]]=\"Grave\",0.5,IF(Tabla2[[#This Row],[Integridad]]=\"Importante\",0.3,IF(Tabla2[[#This Row],[Integridad]]=\"Leve\",0.2,\"\")))","v":""},null,{"$f":"+IF(Tabla2[[#This Row],[Disponibilidad Interna]]=\"Sí\",0.1,IF(Tabla2[[#This Row],[Disponibilidad Interna]]=\"NO\",0,\"\"))","v":""},null,{"$f":"+IF(Tabla2[[#This Row],[Disponibilidad Terceros]]=\"Sí\",0.1,IF(Tabla2[[#This Row],[Disponibilidad Terceros]]=\"No\",0,\"\"))","v":""},{"$f":"+Tabla2[[#This Row],[Columna32]]+Tabla2[[#This Row],[Columna34]]+Tabla2[[#This Row],[Columna1]]+Tabla2[[#This Row],[Columna3]]","v":{"$error":"#VALUE!"}},{"$f":"IFERROR(IF(Tabla2[[#This Row],[Columna33]]<0.45,\"BAJA\",IF(Tabla2[[#This Row],[Columna33]]>0.75,\"ALTA\",\"MEDIA\")),\"\")","v":""},"No Aplica",{"$f":"+IF(Tabla2[[#This Row],[Información Publicada (WEB)]]=\"Sí\",\"Digite URL\",\"No Aplica\")","v":"No Aplica"},null,{"$f":"IF(Tabla2[[#This Row],[ Clasificación ICBF]]=\"Pública\",1,IF(Tabla2[[#This Row],[ Clasificación ICBF]]=\"Clasificada\",2,IF(Tabla2[[#This Row],[ Clasificación ICBF]]=\"Reservada\",3,0)))","v":0},{"$f":"IF(#REF!=8,4,IF(#REF!=16,3,IF(#REF!=24,2,IF(#REF!=48,1,0))))","v":{"$error":"#REF!"}},{"$f":"IF(#REF!=8,\"Alto\",IF(#REF!=16,\"Medio\",IF(#REF!=24,\"Medio\",IF(#REF!=48,\"Bajo\",0))))","v":{"$error":"#REF!"}},null,{"$f":"+MID(Tabla2[[#This Row],[Área/Dependencia]],17,8)","v":""}]
["",null,null,null,{"$f":"+VLOOKUP(Tabla2[[#This Row],[SEDE - REGIONAL]],DATOS!B316:D349,3,FALSE)","v":{"$error":"#N/A"}},{"$f":"+IF(OR(Tabla2[[#This Row],[Área/Dependencia]]=\"Subdirección de Sistemas Integrados\",Tabla2[[#This Row],[Área/Dependencia]]=\"Subdirección de Recursos Tecnológicos\"),\"X\",\"\")","v":""},{"$f":"+CONCATENATE(Tabla2[[#This Row],[Tipo de Proceso]],Tabla2[[#This Row],[Columna4]])","v":{"$error":"#N/A"}},null,null,null,null,null,null,null,null,null,null,null,null,null,{"$f":"+IF(Tabla2[[#This Row],[Nivel de acceso ]]=\"Alto\",0.5,IF(Tabla2[[#This Row],[Nivel de acceso ]]=\"Medio\",0.3,IF(Tabla2[[#This Row],[Nivel de acceso ]]=\"Bajo\",0.2,\"\")))","v":""},null,{"$f":"+IF(Tabla2[[#This Row],[Es  Reservada]]=\"Sí\",\"Escriba Ley\",\"No Aplica\")","v":"No Aplica"},null,null,null,null,{"$f":"IFERROR(IF(AND(Tabla2[[#This Row],[Contiene Datos Personales]]=\"SÍ\",OR(Tabla2[[#This Row],[Clasificación Datos Personales]]=\"Sensible\",Tabla2[[#This Row],[Clasificación Datos Personales]]=\"NNA\",Tabla2[[#This Row],[Clasificación Datos Personales]]=\"privado\")),\"Alto\",IF(AND(Tabla2[[#This Row],[Contiene Datos Personales]]=\"SÍ\",Tabla2[[#This Row],[Clasificación Datos Personales]]=\"SEMIPRIVADO\"),\"Medio\",\"Bajo\")),\"\")","v":"Bajo"},null,null,"No Aplica","No Aplica",null,null,null,{"$f":"+IF(Tabla2[[#This Row],[Integridad]]=\"Grave\",0.5,IF(Tabla2[[#This Row],[Integridad]]=\"Importante\",0.3,IF(Tabla2[[#This Row],[Integridad]]=\"Leve\",0.2,\"\")))","v":""},null,{"$f":"+IF(Tabla2[[#This Row],[Disponibilidad Interna]]=\"Sí\",0.1,IF(Tabla2[[#This Row],[Disponibilidad Interna]]=\"NO\",0,\"\"))","v":""},null,{"$f":"+IF(Tabla2[[#This Row],[Disponibilidad Terceros]]=\"Sí\",0.1,IF(Tabla2[[#This Row],[Disponibilidad Terceros]]=\"No\",0,\"\"))","v":""},{"$f":"+Tabla2[[#This Row],[Columna32]]+Tabla2[[#This Row],[Columna34]]+Tabla2[[#This Row],[Columna1]]+Tabla2[[#This Row],[Columna3]]","v":{"$error":"#VALUE!"}},{"$f":"IFERROR(IF(Tabla2[[#This Row],[Columna33]]<0.45,\"BAJA\",IF(Tabla2[[#This Row],[Columna33]]>0.75,\"ALTA\",\"MEDIA\")),\"\")","v":""},"No Aplica",{"$f":"+IF(Tabla2[[#This Row],[Información Publicada (WEB)]]=\"Sí\",\"Digite URL\",\"No Aplica\")","v":"No Aplica"},null,{"$f":"IF(Tabla2[[#This Row],[ Clasificación ICBF]]=\"Pública\",1,IF(Tabla2[[#This Row],[ Clasificación ICBF]]=\"Clasificada\",2,IF(Tabla2[[#This Row],[ Clasificación ICBF]]=\"Reservada\",3,0)))","v":0},{"$f":"IF(#REF!=8,4,IF(#REF!=16,3,IF(#REF!=24,2,IF(#REF!=48,1,0))))","v":{"$error":"#REF!"}},{"$f":"IF(#REF!=8,\"Alto\",IF(#REF!=16,\"Medio\",IF(#REF!=24,\"Medio\",IF(#REF!=48,\"Bajo\",0))))","v":{"$error":"#REF!"}},null,{"$f":"+MID(Tabla2[[#This Row],[Área/Dependencia]],17,8)","v":""}]
["",null,null,null,{"$f":"+VLOOKUP(Tabla2[[#This Row],[SEDE - REGIONAL]],DATOS!B317:D350,3,FALSE)","v":{"$error":"#N/A"}},{"$f":"+IF(OR(Tabla2[[#This Row],[Área/Dependencia]]=\"Subdirección de Sistemas Integrados\",Tabla2[[#This Row],[Área/Dependencia]]=\"Subdirección de Recursos Tecnológicos\"),\"X\",\"\")","v":""},{"$f":"+CONCATENATE(Tabla2[[#This Row],[Tipo de Proceso]],Tabla2[[#This Row],[Columna4]])","v":{"$error":"#N/A"}},null,null,null,null,null,null,null,null,null,null,null,null,null,{"$f":"+IF(Tabla2[[#This Row],[Nivel de acceso ]]=\"Alto\",0.5,IF(Tabla2[[#This Row],[Nivel de acceso ]]=\"Medio\",0.3,IF(Tabla2[[#This Row],[Nivel de acceso ]]=\"Bajo\",0.2,\"\")))","v":""},null,{"$f":"+IF(Tabla2[[#This Row],[Es  Reservada]]=\"Sí\",\"Escriba Ley\",\"No Aplica\")","v":"No Aplica"},null,null,null,null,{"$f":"IFERROR(IF(AND(Tabla2[[#This Row],[Contiene Datos Personales]]=\"SÍ\",OR(Tabla2[[#This Row],[Clasificación Datos Personales]]=\"Sensible\",Tabla2[[#This Row],[Clasificación Datos Personales]]=\"NNA\",Tabla2[[#This Row],[Clasificación Datos Personales]]=\"privado\")),\"Alto\",IF(AND(Tabla2[[#This Row],[Contiene Datos Personales]]=\"SÍ\",Tabla2[[#This Row],[Clasificación Datos Personales]]=\"SEMIPRIVADO\"),\"Medio\",\"Bajo\")),\"\")","v":"Bajo"},null,null,"No Aplica","No Aplica",null,null,null,{"$f":"+IF(Tabla2[[#This Row],[Integridad]]=\"Grave\",0.5,IF(Tabla2[[#This Row],[Integridad]]=\"Importante\",0.3,IF(Tabla2[[#This Row],[Integridad]]=\"Leve\",0.2,\"\")))","v":""},null,{"$f":"+IF(Tabla2[[#This Row],[Disponibilidad Interna]]=\"Sí\",0.1,IF(Tabla2[[#This Row],[Disponibilidad Interna]]=\"NO\",0,\"\"))","v":""},null,{"$f":"+IF(Tabla2[[#This Row],[Disponibilidad Terceros]]=\"Sí\",0.1,IF(Tabla2[[#This Row],[Disponibilidad Terceros]]=\"No\",0,\"\"))","v":""},{"$f":"+Tabla2[[#This Row],[Columna32]]+Tabla2[[#This Row],[Columna34]]+Tabla2[[#This Row],[Columna1]]+Tabla2[[#This Row],[Columna3]]","v":{"$error":"#VALUE!"}},{"$f":"IFERROR(IF(Tabla2[[#This Row],[Columna33]]<0.45,\"BAJA\",IF(Tabla2[[#This Row],[Columna33]]>0.75,\"ALTA\",\"MEDIA\")),\"\")","v":""},"No Aplica",{"$f":"+IF(Tabla2[[#This Row],[Información Publicada (WEB)]]=\"Sí\",\"Digite URL\",\"No Aplica\")","v":"No Aplica"},null,{"$f":"IF(Tabla2[[#This Row],[ Clasificación ICBF]]=\"Pública\",1,IF(Tabla2[[#This Row],[ Clasificación ICBF]]=\"Clasificada\",2,IF(Tabla2[[#This Row],[ Clasificación ICBF]]=\"Reservada\",3,0)))","v":0},{"$f":"IF(#REF!=8,4,IF(#REF!=16,3,IF(#REF!=24,2,IF(#REF!=48,1,0))))","v":{"$error":"#REF!"}},{"$f":"IF(#REF!=8,\"Alto\",IF(#REF!=16,\"Medio\",IF(#REF!=24,\"Medio\",IF(#REF!=48,\"Bajo\",0))))","v":{"$error":"#REF!"}},null,{"$f":"+MID(Tabla2[[#This Row],[Área/Dependencia]],17,8)","v":""}]
["",null,null,null,{"$f":"+VLOOKUP(Tabla2[[#This Row],[SEDE - REGIONAL]],DATOS!B318:D351,3,FALSE)","v":{"$error":"#N/A"}},{"$f":"+IF(OR(Tabla2[[#This Row],[Área/Dependencia]]=\"Subdirección de Sistemas Integrados\",Tabla2[[#This Row],[Área/Dependencia]]=\"Subdirección de Recursos Tecnológicos\"),\"X\",\"\")","v":""},{"$f":"+CONCATENATE(Tabla2[[#This Row],[Tipo de Proceso]],Tabla2[[#This Row],[Columna4]])","v":{"$error":"#N/A"}},null,null,null,null,null,null,null,null,null,null,null,null,null,{"$f":"+IF(Tabla2[[#This Row],[Nivel de acceso ]]=\"Alto\",0.5,IF(Tabla2[[#This Row],[Nivel de acceso ]]=\"Medio\",0.3,IF(Tabla2[[#This Row],[Nivel de acceso ]]=\"Bajo\",0.2,\"\")))","v":""},null,{"$f":"+IF(Tabla2[[#This Row],[Es  Reservada]]=\"Sí\",\"Escriba Ley\",\"No Aplica\")","v":"No Aplica"},null,null,null,null,{"$f":"IFERROR(IF(AND(Tabla2[[#This Row],[Contiene Datos Personales]]=\"SÍ\",OR(Tabla2[[#This Row],[Clasificación Datos Personales]]=\"Sensible\",Tabla2[[#This Row],[Clasificación Datos Personales]]=\"NNA\",Tabla2[[#This Row],[Clasificación Datos Personales]]=\"privado\")),\"Alto\",IF(AND(Tabla2[[#This Row],[Contiene Datos Personales]]=\"SÍ\",Tabla2[[#This Row],[Clasificación Datos Personales]]=\"SEMIPRIVADO\"),\"Medio\",\"Bajo\")),\"\")","v":"Bajo"},null,null,"No Aplica","No Aplica",null,null,null,{"$f":"+IF(Tabla2[[#This Row],[Integridad]]=\"Grave\",0.5,IF(Tabla2[[#This Row],[Integridad]]=\"Importante\",0.3,IF(Tabla2[[#This Row],[Integridad]]=\"Leve\",0.2,\"\")))","v":""},null,{"$f":"+IF(Tabla2[[#This Row],[Disponibilidad Interna]]=\"Sí\",0.1,IF(Tabla2[[#This Row],[Disponibilidad Interna]]=\"NO\",0,\"\"))","v":""},null,{"$f":"+IF(Tabla2[[#This Row],[Disponibilidad Terceros]]=\"Sí\",0.1,IF(Tabla2[[#This Row],[Disponibilidad Terceros]]=\"No\",0,\"\"))","v":""},{"$f":"+Tabla2[[#This Row],[Columna32]]+Tabla2[[#This Row],[Columna34]]+Tabla2[[#This Row],[Columna1]]+Tabla2[[#This Row],[Columna3]]","v":{"$error":"#VALUE!"}},{"$f":"IFERROR(IF(Tabla2[[#This Row],[Columna33]]<0.45,\"BAJA\",IF(Tabla2[[#This Row],[Columna33]]>0.75,\"ALTA\",\"MEDIA\")),\"\")","v":""},"No Aplica",{"$f":"+IF(Tabla2[[#This Row],[Información Publicada (WEB)]]=\"Sí\",\"Digite URL\",\"No Aplica\")","v":"No Aplica"},null,{"$f":"IF(Tabla2[[#This Row],[ Clasificación ICBF]]=\"Pública\",1,IF(Tabla2[[#This Row],[ Clasificación ICBF]]=\"Clasificada\",2,IF(Tabla2[[#This Row],[ Clasificación ICBF]]=\"Reservada\",3,0)))","v":0},{"$f":"IF(#REF!=8,4,IF(#REF!=16,3,IF(#REF!=24,2,IF(#REF!=48,1,0))))","v":{"$error":"#REF!"}},{"$f":"IF(#REF!=8,\"Alto\",IF(#REF!=16,\"Medio\",IF(#REF!=24,\"Medio\",IF(#REF!=48,\"Bajo\",0))))","v":{"$error":"#REF!"}},null,{"$f":"+MID(Tabla2[[#This Row],[Área/Dependencia]],17,8)","v":""}]
["",null,null,null,{"$f":"+VLOOKUP(Tabla2[[#This Row],[SEDE - REGIONAL]],DATOS!B319:D352,3,FALSE)","v":{"$error":"#N/A"}},{"$f":"+IF(OR(Tabla2[[#This Row],[Área/Dependencia]]=\"Subdirección de Sistemas Integrados\",Tabla2[[#This Row],[Área/Dependencia]]=\"Subdirección de Recursos Tecnológicos\"),\"X\",\"\")","v":""},{"$f":"+CONCATENATE(Tabla2[[#This Row],[Tipo de Proceso]],Tabla2[[#This Row],[Columna4]])","v":{"$error":"#N/A"}},null,null,null,null,null,null,null,null,null,null,null,null,null,{"$f":"+IF(Tabla2[[#This Row],[Nivel de acceso ]]=\"Alto\",0.5,IF(Tabla2[[#This Row],[Nivel de acceso ]]=\"Medio\",0.3,IF(Tabla2[[#This Row],[Nivel de acceso ]]=\"Bajo\",0.2,\"\")))","v":""},null,{"$f":"+IF(Tabla2[[#This Row],[Es  Reservada]]=\"Sí\",\"Escriba Ley\",\"No Aplica\")","v":"No Aplica"},null,null,null,null,{"$f":"IFERROR(IF(AND(Tabla2[[#This Row],[Contiene Datos Personales]]=\"SÍ\",OR(Tabla2[[#This Row],[Clasificación Datos Personales]]=\"Sensible\",Tabla2[[#This Row],[Clasificación Datos Personales]]=\"NNA\",Tabla2[[#This Row],[Clasificación Datos Personales]]=\"privado\")),\"Alto\",IF(AND(Tabla2[[#This Row],[Contiene Datos Personales]]=\"SÍ\",Tabla2[[#This Row],[Clasificación Datos Personales]]=\"SEMIPRIVADO\"),\"Medio\",\"Bajo\")),\"\")","v":"Bajo"},null,null,"No Aplica","No Aplica",null,null,null,{"$f":"+IF(Tabla2[[#This Row],[Integridad]]=\"Grave\",0.5,IF(Tabla2[[#This Row],[Integridad]]=\"Importante\",0.3,IF(Tabla2[[#This Row],[Integridad]]=\"Leve\",0.2,\"\")))","v":""},null,{"$f":"+IF(Tabla2[[#This Row],[Disponibilidad Interna]]=\"Sí\",0.1,IF(Tabla2[[#This Row],[Disponibilidad Interna]]=\"NO\",0,\"\"))","v":""},null,{"$f":"+IF(Tabla2[[#This Row],[Disponibilidad Terceros]]=\"Sí\",0.1,IF(Tabla2[[#This Row],[Disponibilidad Terceros]]=\"No\",0,\"\"))","v":""},{"$f":"+Tabla2[[#This Row],[Columna32]]+Tabla2[[#This Row],[Columna34]]+Tabla2[[#This Row],[Columna1]]+Tabla2[[#This Row],[Columna3]]","v":{"$error":"#VALUE!"}},{"$f":"IFERROR(IF(Tabla2[[#This Row],[Columna33]]<0.45,\"BAJA\",IF(Tabla2[[#This Row],[Columna33]]>0.75,\"ALTA\",\"MEDIA\")),\"\")","v":""},"No Aplica",{"$f":"+IF(Tabla2[[#This Row],[Información Publicada (WEB)]]=\"Sí\",\"Digite URL\",\"No Aplica\")","v":"No Aplica"},null,{"$f":"IF(Tabla2[[#This Row],[ Clasificación ICBF]]=\"Pública\",1,IF(Tabla2[[#This Row],[ Clasificación ICBF]]=\"Clasificada\",2,IF(Tabla2[[#This Row],[ Clasificación ICBF]]=\"Reservada\",3,0)))","v":0},{"$f":"IF(#REF!=8,4,IF(#REF!=16,3,IF(#REF!=24,2,IF(#REF!=48,1,0))))","v":{"$error":"#REF!"}},{"$f":"IF(#REF!=8,\"Alto\",IF(#REF!=16,\"Medio\",IF(#REF!=24,\"Medio\",IF(#REF!=48,\"Bajo\",0))))","v":{"$error":"#REF!"}},null,{"$f":"+MID(Tabla2[[#This Row],[Área/Dependencia]],17,8)","v":""}]
["",null,null,null,{"$f":"+VLOOKUP(Tabla2[[#This Row],[SEDE - REGIONAL]],DATOS!B320:D353,3,FALSE)","v":{"$error":"#N/A"}},{"$f":"+IF(OR(Tabla2[[#This Row],[Área/Dependencia]]=\"Subdirección de Sistemas Integrados\",Tabla2[[#This Row],[Área/Dependencia]]=\"Subdirección de Recursos Tecnológicos\"),\"X\",\"\")","v":""},{"$f":"+CONCATENATE(Tabla2[[#This Row],[Tipo de Proceso]],Tabla2[[#This Row],[Columna4]])","v":{"$error":"#N/A"}},null,null,null,null,null,null,null,null,null,null,null,null,null,{"$f":"+IF(Tabla2[[#This Row],[Nivel de acceso ]]=\"Alto\",0.5,IF(Tabla2[[#This Row],[Nivel de acceso ]]=\"Medio\",0.3,IF(Tabla2[[#This Row],[Nivel de acceso ]]=\"Bajo\",0.2,\"\")))","v":""},null,{"$f":"+IF(Tabla2[[#This Row],[Es  Reservada]]=\"Sí\",\"Escriba Ley\",\"No Aplica\")","v":"No Aplica"},null,null,null,null,{"$f":"IFERROR(IF(AND(Tabla2[[#This Row],[Contiene Datos Personales]]=\"SÍ\",OR(Tabla2[[#This Row],[Clasificación Datos Personales]]=\"Sensible\",Tabla2[[#This Row],[Clasificación Datos Personales]]=\"NNA\",Tabla2[[#This Row],[Clasificación Datos Personales]]=\"privado\")),\"Alto\",IF(AND(Tabla2[[#This Row],[Contiene Datos Personales]]=\"SÍ\",Tabla2[[#This Row],[Clasificación Datos Personales]]=\"SEMIPRIVADO\"),\"Medio\",\"Bajo\")),\"\")","v":"Bajo"},null,null,"No Aplica","No Aplica",null,null,null,{"$f":"+IF(Tabla2[[#This Row],[Integridad]]=\"Grave\",0.5,IF(Tabla2[[#This Row],[Integridad]]=\"Importante\",0.3,IF(Tabla2[[#This Row],[Integridad]]=\"Leve\",0.2,\"\")))","v":""},null,{"$f":"+IF(Tabla2[[#This Row],[Disponibilidad Interna]]=\"Sí\",0.1,IF(Tabla2[[#This Row],[Disponibilidad Interna]]=\"NO\",0,\"\"))","v":""},null,{"$f":"+IF(Tabla2[[#This Row],[Disponibilidad Terceros]]=\"Sí\",0.1,IF(Tabla2[[#This Row],[Disponibilidad Terceros]]=\"No\",0,\"\"))","v":""},{"$f":"+Tabla2[[#This Row],[Columna32]]+Tabla2[[#This Row],[Columna34]]+Tabla2[[#This Row],[Columna1]]+Tabla2[[#This Row],[Columna3]]","v":{"$error":"#VALUE!"}},{"$f":"IFERROR(IF(Tabla2[[#This Row],[Columna33]]<0.45,\"BAJA\",IF(Tabla2[[#This Row],[Columna33]]>0.75,\"ALTA\",\"MEDIA\")),\"\")","v":""},"No Aplica",{"$f":"+IF(Tabla2[[#This Row],[Información Publicada (WEB)]]=\"Sí\",\"Digite URL\",\"No Aplica\")","v":"No Aplica"},null,{"$f":"IF(Tabla2[[#This Row],[ Clasificación ICBF]]=\"Pública\",1,IF(Tabla2[[#This Row],[ Clasificación ICBF]]=\"Clasificada\",2,IF(Tabla2[[#This Row],[ Clasificación ICBF]]=\"Reservada\",3,0)))","v":0},{"$f":"IF(#REF!=8,4,IF(#REF!=16,3,IF(#REF!=24,2,IF(#REF!=48,1,0))))","v":{"$error":"#REF!"}},{"$f":"IF(#REF!=8,\"Alto\",IF(#REF!=16,\"Medio\",IF(#REF!=24,\"Medio\",IF(#REF!=48,\"Bajo\",0))))","v":{"$error":"#REF!"}},null,{"$f":"+MID(Tabla2[[#This Row],[Área/Dependencia]],17,8)","v":""}]
["",null,null,null,{"$f":"+VLOOKUP(Tabla2[[#This Row],[SEDE - REGIONAL]],DATOS!B321:D354,3,FALSE)","v":{"$error":"#N/A"}},{"$f":"+IF(OR(Tabla2[[#This Row],[Área/Dependencia]]=\"Subdirección de Sistemas Integrados\",Tabla2[[#This Row],[Área/Dependencia]]=\"Subdirección de Recursos Tecnológicos\"),\"X\",\"\")","v":""},{"$f":"+CONCATENATE(Tabla2[[#This Row],[Tipo de Proceso]],Tabla2[[#This Row],[Columna4]])","v":{"$error":"#N/A"}},null,null,null,null,null,null,null,null,null,null,null,null,null,{"$f":"+IF(Tabla2[[#This Row],[Nivel de acceso ]]=\"Alto\",0.5,IF(Tabla2[[#This Row],[Nivel de acceso ]]=\"Medio\",0.3,IF(Tabla2[[#This Row],[Nivel de acceso ]]=\"Bajo\",0.2,\"\")))","v":""},null,{"$f":"+IF(Tabla2[[#This Row],[Es  Reservada]]=\"Sí\",\"Escriba Ley\",\"No Aplica\")","v":"No Aplica"},null,null,null,null,{"$f":"IFERROR(IF(AND(Tabla2[[#This Row],[Contiene Datos Personales]]=\"SÍ\",OR(Tabla2[[#This Row],[Clasificación Datos Personales]]=\"Sensible\",Tabla2[[#This Row],[Clasificación Datos Personales]]=\"NNA\",Tabla2[[#This Row],[Clasificación Datos Personales]]=\"privado\")),\"Alto\",IF(AND(Tabla2[[#This Row],[Contiene Datos Personales]]=\"SÍ\",Tabla2[[#This Row],[Clasificación Datos Personales]]=\"SEMIPRIVADO\"),\"Medio\",\"Bajo\")),\"\")","v":"Bajo"},null,null,"No Aplica","No Aplica",null,null,null,{"$f":"+IF(Tabla2[[#This Row],[Integridad]]=\"Grave\",0.5,IF(Tabla2[[#This Row],[Integridad]]=\"Importante\",0.3,IF(Tabla2[[#This Row],[Integridad]]=\"Leve\",0.2,\"\")))","v":""},null,{"$f":"+IF(Tabla2[[#This Row],[Disponibilidad Interna]]=\"Sí\",0.1,IF(Tabla2[[#This Row],[Disponibilidad Interna]]=\"NO\",0,\"\"))","v":""},null,{"$f":"+IF(Tabla2[[#This Row],[Disponibilidad Terceros]]=\"Sí\",0.1,IF(Tabla2[[#This Row],[Disponibilidad Terceros]]=\"No\",0,\"\"))","v":""},{"$f":"+Tabla2[[#This Row],[Columna32]]+Tabla2[[#This Row],[Columna34]]+Tabla2[[#This Row],[Columna1]]+Tabla2[[#This Row],[Columna3]]","v":{"$error":"#VALUE!"}},{"$f":"IFERROR(IF(Tabla2[[#This Row],[Columna33]]<0.45,\"BAJA\",IF(Tabla2[[#This Row],[Columna33]]>0.75,\"ALTA\",\"MEDIA\")),\"\")","v":""},"No Aplica",{"$f":"+IF(Tabla2[[#This Row],[Información Publicada (WEB)]]=\"Sí\",\"Digite URL\",\"No Aplica\")","v":"No Aplica"},null,{"$f":"IF(Tabla2[[#This Row],[ Clasificación ICBF]]=\"Pública\",1,IF(Tabla2[[#This Row],[ Clasificación ICBF]]=\"Clasificada\",2,IF(Tabla2[[#This Row],[ Clasificación ICBF]]=\"Reservada\",3,0)))","v":0},{"$f":"IF(#REF!=8,4,IF(#REF!=16,3,IF(#REF!=24,2,IF(#REF!=48,1,0))))","v":{"$error":"#REF!"}},{"$f":"IF(#REF!=8,\"Alto\",IF(#REF!=16,\"Medio\",IF(#REF!=24,\"Medio\",IF(#REF!=48,\"Bajo\",0))))","v":{"$error":"#REF!"}},null,{"$f":"+MID(Tabla2[[#This Row],[Área/Dependencia]],17,8)","v":""}]
["",null,null,null,{"$f":"+VLOOKUP(Tabla2[[#This Row],[SEDE - REGIONAL]],DATOS!B322:D355,3,FALSE)","v":{"$error":"#N/A"}},{"$f":"+IF(OR(Tabla2[[#This Row],[Área/Dependencia]]=\"Subdirección de Sistemas Integrados\",Tabla2[[#This Row],[Área/Dependencia]]=\"Subdirección de Recursos Tecnológicos\"),\"X\",\"\")","v":""},{"$f":"+CONCATENATE(Tabla2[[#This Row],[Tipo de Proceso]],Tabla2[[#This Row],[Columna4]])","v":{"$error":"#N/A"}},null,null,null,null,null,null,null,null,null,null,null,null,null,{"$f":"+IF(Tabla2[[#This Row],[Nivel de acceso ]]=\"Alto\",0.5,IF(Tabla2[[#This Row],[Nivel de acceso ]]=\"Medio\",0.3,IF(Tabla2[[#This Row],[Nivel de acceso ]]=\"Bajo\",0.2,\"\")))","v":""},null,{"$f":"+IF(Tabla2[[#This Row],[Es  Reservada]]=\"Sí\",\"Escriba Ley\",\"No Aplica\")","v":"No Aplica"},null,null,null,null,{"$f":"IFERROR(IF(AND(Tabla2[[#This Row],[Contiene Datos Personales]]=\"SÍ\",OR(Tabla2[[#This Row],[Clasificación Datos Personales]]=\"Sensible\",Tabla2[[#This Row],[Clasificación Datos Personales]]=\"NNA\",Tabla2[[#This Row],[Clasificación Datos Personales]]=\"privado\")),\"Alto\",IF(AND(Tabla2[[#This Row],[Contiene Datos Personales]]=\"SÍ\",Tabla2[[#This Row],[Clasificación Datos Personales]]=\"SEMIPRIVADO\"),\"Medio\",\"Bajo\")),\"\")","v":"Bajo"},null,null,"No Aplica","No Aplica",null,null,null,{"$f":"+IF(Tabla2[[#This Row],[Integridad]]=\"Grave\",0.5,IF(Tabla2[[#This Row],[Integridad]]=\"Importante\",0.3,IF(Tabla2[[#This Row],[Integridad]]=\"Leve\",0.2,\"\")))","v":""},null,{"$f":"+IF(Tabla2[[#This Row],[Disponibilidad Interna]]=\"Sí\",0.1,IF(Tabla2[[#This Row],[Disponibilidad Interna]]=\"NO\",0,\"\"))","v":""},null,{"$f":"+IF(Tabla2[[#This Row],[Disponibilidad Terceros]]=\"Sí\",0.1,IF(Tabla2[[#This Row],[Disponibilidad Terceros]]=\"No\",0,\"\"))","v":""},{"$f":"+Tabla2[[#This Row],[Columna32]]+Tabla2[[#This Row],[Columna34]]+Tabla2[[#This Row],[Columna1]]+Tabla2[[#This Row],[Columna3]]","v":{"$error":"#VALUE!"}},{"$f":"IFERROR(IF(Tabla2[[#This Row],[Columna33]]<0.45,\"BAJA\",IF(Tabla2[[#This Row],[Columna33]]>0.75,\"ALTA\",\"MEDIA\")),\"\")","v":""},"No Aplica",{"$f":"+IF(Tabla2[[#This Row],[Información Publicada (WEB)]]=\"Sí\",\"Digite URL\",\"No Aplica\")","v":"No Aplica"},null,{"$f":"IF(Tabla2[[#This Row],[ Clasificación ICBF]]=\"Pública\",1,IF(Tabla2[[#This Row],[ Clasificación ICBF]]=\"Clasificada\",2,IF(Tabla2[[#This Row],[ Clasificación ICBF]]=\"Reservada\",3,0)))","v":0},{"$f":"IF(#REF!=8,4,IF(#REF!=16,3,IF(#REF!=24,2,IF(#REF!=48,1,0))))","v":{"$error":"#REF!"}},{"$f":"IF(#REF!=8,\"Alto\",IF(#REF!=16,\"Medio\",IF(#REF!=24,\"Medio\",IF(#REF!=48,\"Bajo\",0))))","v":{"$error":"#REF!"}},null,{"$f":"+MID(Tabla2[[#This Row],[Área/Dependencia]],17,8)","v":""}]
["",null,null,null,{"$f":"+VLOOKUP(Tabla2[[#This Row],[SEDE - REGIONAL]],DATOS!B323:D356,3,FALSE)","v":{"$error":"#N/A"}},{"$f":"+IF(OR(Tabla2[[#This Row],[Área/Dependencia]]=\"Subdirección de Sistemas Integrados\",Tabla2[[#This Row],[Área/Dependencia]]=\"Subdirección de Recursos Tecnológicos\"),\"X\",\"\")","v":""},{"$f":"+CONCATENATE(Tabla2[[#This Row],[Tipo de Proceso]],Tabla2[[#This Row],[Columna4]])","v":{"$error":"#N/A"}},null,null,null,null,null,null,null,null,null,null,null,null,null,{"$f":"+IF(Tabla2[[#This Row],[Nivel de acceso ]]=\"Alto\",0.5,IF(Tabla2[[#This Row],[Nivel de acceso ]]=\"Medio\",0.3,IF(Tabla2[[#This Row],[Nivel de acceso ]]=\"Bajo\",0.2,\"\")))","v":""},null,{"$f":"+IF(Tabla2[[#This Row],[Es  Reservada]]=\"Sí\",\"Escriba Ley\",\"No Aplica\")","v":"No Aplica"},null,null,null,null,{"$f":"IFERROR(IF(AND(Tabla2[[#This Row],[Contiene Datos Personales]]=\"SÍ\",OR(Tabla2[[#This Row],[Clasificación Datos Personales]]=\"Sensible\",Tabla2[[#This Row],[Clasificación Datos Personales]]=\"NNA\",Tabla2[[#This Row],[Clasificación Datos Personales]]=\"privado\")),\"Alto\",IF(AND(Tabla2[[#This Row],[Contiene Datos Personales]]=\"SÍ\",Tabla2[[#This Row],[Clasificación Datos Personales]]=\"SEMIPRIVADO\"),\"Medio\",\"Bajo\")),\"\")","v":"Bajo"},null,null,{"$f":"+IF(OR(N328=\"FÍSICO-ELECTRÓNICO\",N328=\"FÍSICO\",N328=\"Hardware\"),\"Digite ubicación\",\"No Aplica\")","v":"No Aplica"},{"$f":"+IF(OR(N328=\"FÍSICO-ELECTRÓNICO\",N328=\"ELECTRÓNICO\",N328=\"Software\"),\"Digite ubicación\",\"No Aplica\")","v":"No Aplica"},null,null,null,{"$f":"+IF(Tabla2[[#This Row],[Integridad]]=\"Grave\",0.5,IF(Tabla2[[#This Row],[Integridad]]=\"Importante\",0.3,IF(Tabla2[[#This Row],[Integridad]]=\"Leve\",0.2,\"\")))","v":""},null,{"$f":"+IF(Tabla2[[#This Row],[Disponibilidad Interna]]=\"Sí\",0.1,IF(Tabla2[[#This Row],[Disponibilidad Interna]]=\"NO\",0,\"\"))","v":""},null,{"$f":"+IF(Tabla2[[#This Row],[Disponibilidad Terceros]]=\"Sí\",0.1,IF(Tabla2[[#This Row],[Disponibilidad Terceros]]=\"No\",0,\"\"))","v":""},{"$f":"+Tabla2[[#This Row],[Columna32]]+Tabla2[[#This Row],[Columna34]]+Tabla2[[#This Row],[Columna1]]+Tabla2[[#This Row],[Columna3]]","v":{"$error":"#VALUE!"}},{"$f":"IFERROR(IF(Tabla2[[#This Row],[Columna33]]<0.45,\"BAJA\",IF(Tabla2[[#This Row],[Columna33]]>0.75,\"ALTA\",\"MEDIA\")),\"\")","v":""},{"$f":"+IF(OR(N328=\"FÍSICO-ELECTRÓNICO\",N328=\"ELECTRÓNICO\"),\"Sí\",\"No Aplica\")","v":"No Aplica"},{"$f":"+IF(Tabla2[[#This Row],[Información Publicada (WEB)]]=\"Sí\",\"Digite URL\",\"No Aplica\")","v":"No Aplica"},null,{"$f":"IF(Tabla2[[#This Row],[ Clasificación ICBF]]=\"Pública\",1,IF(Tabla2[[#This Row],[ Clasificación ICBF]]=\"Clasificada\",2,IF(Tabla2[[#This Row],[ Clasificación ICBF]]=\"Reservada\",3,0)))","v":0},{"$f":"IF(#REF!=8,4,IF(#REF!=16,3,IF(#REF!=24,2,IF(#REF!=48,1,0))))","v":{"$error":"#REF!"}},{"$f":"IF(#REF!=8,\"Alto\",IF(#REF!=16,\"Medio\",IF(#REF!=24,\"Medio\",IF(#REF!=48,\"Bajo\",0))))","v":{"$error":"#REF!"}},null,{"$f":"+MID(Tabla2[[#This Row],[Área/Dependencia]],17,8)","v":""}]
["",null,null,null,{"$f":"+VLOOKUP(Tabla2[[#This Row],[SEDE - REGIONAL]],DATOS!B324:D357,3,FALSE)","v":{"$error":"#N/A"}},{"$f":"+IF(OR(Tabla2[[#This Row],[Área/Dependencia]]=\"Subdirección de Sistemas Integrados\",Tabla2[[#This Row],[Área/Dependencia]]=\"Subdirección de Recursos Tecnológicos\"),\"X\",\"\")","v":""},{"$f":"+CONCATENATE(Tabla2[[#This Row],[Tipo de Proceso]],Tabla2[[#This Row],[Columna4]])","v":{"$error":"#N/A"}},null,null,null,null,null,null,null,null,null,null,null,null,null,{"$f":"+IF(Tabla2[[#This Row],[Nivel de acceso ]]=\"Alto\",0.5,IF(Tabla2[[#This Row],[Nivel de acceso ]]=\"Medio\",0.3,IF(Tabla2[[#This Row],[Nivel de acceso ]]=\"Bajo\",0.2,\"\")))","v":""},null,{"$f":"+IF(Tabla2[[#This Row],[Es  Reservada]]=\"Sí\",\"Escriba Ley\",\"No Aplica\")","v":"No Aplica"},null,null,null,null,{"$f":"IFERROR(IF(AND(Tabla2[[#This Row],[Contiene Datos Personales]]=\"SÍ\",OR(Tabla2[[#This Row],[Clasificación Datos Personales]]=\"Sensible\",Tabla2[[#This Row],[Clasificación Datos Personales]]=\"NNA\",Tabla2[[#This Row],[Clasificación Datos Personales]]=\"privado\")),\"Alto\",IF(AND(Tabla2[[#This Row],[Contiene Datos Personales]]=\"SÍ\",Tabla2[[#This Row],[Clasificación Datos Personales]]=\"SEMIPRIVADO\"),\"Medio\",\"Bajo\")),\"\")","v":"Bajo"},null,null,"No Aplica","No Aplica",null,null,null,{"$f":"+IF(Tabla2[[#This Row],[Integridad]]=\"Grave\",0.5,IF(Tabla2[[#This Row],[Integridad]]=\"Importante\",0.3,IF(Tabla2[[#This Row],[Integridad]]=\"Leve\",0.2,\"\")))","v":""},null,{"$f":"+IF(Tabla2[[#This Row],[Disponibilidad Interna]]=\"Sí\",0.1,IF(Tabla2[[#This Row],[Disponibilidad Interna]]=\"NO\",0,\"\"))","v":""},null,{"$f":"+IF(Tabla2[[#This Row],[Disponibilidad Terceros]]=\"Sí\",0.1,IF(Tabla2[[#This Row],[Disponibilidad Terceros]]=\"No\",0,\"\"))","v":""},{"$f":"+Tabla2[[#This Row],[Columna32]]+Tabla2[[#This Row],[Columna34]]+Tabla2[[#This Row],[Columna1]]+Tabla2[[#This Row],[Columna3]]","v":{"$error":"#VALUE!"}},{"$f":"IFERROR(IF(Tabla2[[#This Row],[Columna33]]<0.45,\"BAJA\",IF(Tabla2[[#This Row],[Columna33]]>0.75,\"ALTA\",\"MEDIA\")),\"\")","v":""},"No Aplica",{"$f":"+IF(Tabla2[[#This Row],[Información Publicada (WEB)]]=\"Sí\",\"Digite URL\",\"No Aplica\")","v":"No Aplica"},null,{"$f":"IF(Tabla2[[#This Row],[ Clasificación ICBF]]=\"Pública\",1,IF(Tabla2[[#This Row],[ Clasificación ICBF]]=\"Clasificada\",2,IF(Tabla2[[#This Row],[ Clasificación ICBF]]=\"Reservada\",3,0)))","v":0},{"$f":"IF(#REF!=8,4,IF(#REF!=16,3,IF(#REF!=24,2,IF(#REF!=48,1,0))))","v":{"$error":"#REF!"}},{"$f":"IF(#REF!=8,\"Alto\",IF(#REF!=16,\"Medio\",IF(#REF!=24,\"Medio\",IF(#REF!=48,\"Bajo\",0))))","v":{"$error":"#REF!"}},null,{"$f":"+MID(Tabla2[[#This Row],[Área/Dependencia]],17,8)","v":""}]
[{"$f":"IFERROR(IF(B330<>\"\",A329+1,\"\"),\"\")","v":""},null,null,null,{"$f":"+VLOOKUP(Tabla2[[#This Row],[SEDE - REGIONAL]],DATOS!B325:D358,3,FALSE)","v":{"$error":"#N/A"}},{"$f":"+IF(OR(Tabla2[[#This Row],[Área/Dependencia]]=\"Subdirección de Sistemas Integrados\",Tabla2[[#This Row],[Área/Dependencia]]=\"Subdirección de Recursos Tecnológicos\"),\"X\",\"\")","v":""},{"$f":"+CONCATENATE(Tabla2[[#This Row],[Tipo de Proceso]],Tabla2[[#This Row],[Columna4]])","v":{"$error":"#N/A"}},null,null,null,null,null,null,null,null,null,null,null,null,null,{"$f":"+IF(Tabla2[[#This Row],[Nivel de acceso ]]=\"Alto\",0.5,IF(Tabla2[[#This Row],[Nivel de acceso ]]=\"Medio\",0.3,IF(Tabla2[[#This Row],[Nivel de acceso ]]=\"Bajo\",0.2,\"\")))","v":""},null,{"$f":"+IF(Tabla2[[#This Row],[Es  Reservada]]=\"Sí\",\"Escriba Ley\",\"No Aplica\")","v":"No Aplica"},null,null,null,null,{"$f":"IFERROR(IF(AND(Tabla2[[#This Row],[Contiene Datos Personales]]=\"SÍ\",OR(Tabla2[[#This Row],[Clasificación Datos Personales]]=\"Sensible\",Tabla2[[#This Row],[Clasificación Datos Personales]]=\"NNA\",Tabla2[[#This Row],[Clasificación Datos Personales]]=\"privado\")),\"Alto\",IF(AND(Tabla2[[#This Row],[Contiene Datos Personales]]=\"SÍ\",Tabla2[[#This Row],[Clasificación Datos Personales]]=\"SEMIPRIVADO\"),\"Medio\",\"Bajo\")),\"\")","v":"Bajo"},null,null,"No Aplica","No Aplica",null,null,null,{"$f":"+IF(Tabla2[[#This Row],[Integridad]]=\"Grave\",0.5,IF(Tabla2[[#This Row],[Integridad]]=\"Importante\",0.3,IF(Tabla2[[#This Row],[Integridad]]=\"Leve\",0.2,\"\")))","v":""},null,{"$f":"+IF(Tabla2[[#This Row],[Disponibilidad Interna]]=\"Sí\",0.1,IF(Tabla2[[#This Row],[Disponibilidad Interna]]=\"NO\",0,\"\"))","v":""},null,{"$f":"+IF(Tabla2[[#This Row],[Disponibilidad Terceros]]=\"Sí\",0.1,IF(Tabla2[[#This Row],[Disponibilidad Terceros]]=\"No\",0,\"\"))","v":""},{"$f":"+Tabla2[[#This Row],[Columna32]]+Tabla2[[#This Row],[Columna34]]+Tabla2[[#This Row],[Columna1]]+Tabla2[[#This Row],[Columna3]]","v":{"$error":"#VALUE!"}},{"$f":"IFERROR(IF(Tabla2[[#This Row],[Columna33]]<0.45,\"BAJA\",IF(Tabla2[[#This Row],[Columna33]]>0.75,\"ALTA\",\"MEDIA\")),\"\")","v":""},"No Aplica",{"$f":"+IF(Tabla2[[#This Row],[Información Publicada (WEB)]]=\"Sí\",\"Digite URL\",\"No Aplica\")","v":"No Aplica"},null,{"$f":"IF(Tabla2[[#This Row],[ Clasificación ICBF]]=\"Pública\",1,IF(Tabla2[[#This Row],[ Clasificación ICBF]]=\"Clasificada\",2,IF(Tabla2[[#This Row],[ Clasificación ICBF]]=\"Reservada\",3,0)))","v":0},{"$f":"IF(#REF!=8,4,IF(#REF!=16,3,IF(#REF!=24,2,IF(#REF!=48,1,0))))","v":{"$error":"#REF!"}},{"$f":"IF(#REF!=8,\"Alto\",IF(#REF!=16,\"Medio\",IF(#REF!=24,\"Medio\",IF(#REF!=48,\"Bajo\",0))))","v":{"$error":"#REF!"}},null,{"$f":"+MID(Tabla2[[#This Row],[Área/Dependencia]],17,8)","v":""}]
["",null,null,null,{"$f":"+VLOOKUP(Tabla2[[#This Row],[SEDE - REGIONAL]],DATOS!B326:D359,3,FALSE)","v":{"$error":"#N/A"}},{"$f":"+IF(OR(Tabla2[[#This Row],[Área/Dependencia]]=\"Subdirección de Sistemas Integrados\",Tabla2[[#This Row],[Área/Dependencia]]=\"Subdirección de Recursos Tecnológicos\"),\"X\",\"\")","v":""},{"$f":"+CONCATENATE(Tabla2[[#This Row],[Tipo de Proceso]],Tabla2[[#This Row],[Columna4]])","v":{"$error":"#N/A"}},null,null,null,null,null,null,null,null,null,null,null,null,null,{"$f":"+IF(Tabla2[[#This Row],[Nivel de acceso ]]=\"Alto\",0.5,IF(Tabla2[[#This Row],[Nivel de acceso ]]=\"Medio\",0.3,IF(Tabla2[[#This Row],[Nivel de acceso ]]=\"Bajo\",0.2,\"\")))","v":""},null,{"$f":"+IF(Tabla2[[#This Row],[Es  Reservada]]=\"Sí\",\"Escriba Ley\",\"No Aplica\")","v":"No Aplica"},null,null,null,null,{"$f":"IFERROR(IF(AND(Tabla2[[#This Row],[Contiene Datos Personales]]=\"SÍ\",OR(Tabla2[[#This Row],[Clasificación Datos Personales]]=\"Sensible\",Tabla2[[#This Row],[Clasificación Datos Personales]]=\"NNA\",Tabla2[[#This Row],[Clasificación Datos Personales]]=\"privado\")),\"Alto\",IF(AND(Tabla2[[#This Row],[Contiene Datos Personales]]=\"SÍ\",Tabla2[[#This Row],[Clasificación Datos Personales]]=\"SEMIPRIVADO\"),\"Medio\",\"Bajo\")),\"\")","v":"Bajo"},null,null,"No Aplica","No Aplica",null,null,null,{"$f":"+IF(Tabla2[[#This Row],[Integridad]]=\"Grave\",0.5,IF(Tabla2[[#This Row],[Integridad]]=\"Importante\",0.3,IF(Tabla2[[#This Row],[Integridad]]=\"Leve\",0.2,\"\")))","v":""},null,{"$f":"+IF(Tabla2[[#This Row],[Disponibilidad Interna]]=\"Sí\",0.1,IF(Tabla2[[#This Row],[Disponibilidad Interna]]=\"NO\",0,\"\"))","v":""},null,{"$f":"+IF(Tabla2[[#This Row],[Disponibilidad Terceros]]=\"Sí\",0.1,IF(Tabla2[[#This Row],[Disponibilidad Terceros]]=\"No\",0,\"\"))","v":""},{"$f":"+Tabla2[[#This Row],[Columna32]]+Tabla2[[#This Row],[Columna34]]+Tabla2[[#This Row],[Columna1]]+Tabla2[[#This Row],[Columna3]]","v":{"$error":"#VALUE!"}},{"$f":"IFERROR(IF(Tabla2[[#This Row],[Columna33]]<0.45,\"BAJA\",IF(Tabla2[[#This Row],[Columna33]]>0.75,\"ALTA\",\"MEDIA\")),\"\")","v":""},"No Aplica",{"$f":"+IF(Tabla2[[#This Row],[Información Publicada (WEB)]]=\"Sí\",\"Digite URL\",\"No Aplica\")","v":"No Aplica"},null,{"$f":"IF(Tabla2[[#This Row],[ Clasificación ICBF]]=\"Pública\",1,IF(Tabla2[[#This Row],[ Clasificación ICBF]]=\"Clasificada\",2,IF(Tabla2[[#This Row],[ Clasificación ICBF]]=\"Reservada\",3,0)))","v":0},{"$f":"IF(#REF!=8,4,IF(#REF!=16,3,IF(#REF!=24,2,IF(#REF!=48,1,0))))","v":{"$error":"#REF!"}},{"$f":"IF(#REF!=8,\"Alto\",IF(#REF!=16,\"Medio\",IF(#REF!=24,\"Medio\",IF(#REF!=48,\"Bajo\",0))))","v":{"$error":"#REF!"}},null,{"$f":"+MID(Tabla2[[#This Row],[Área/Dependencia]],17,8)","v":""}]
["",null,null,null,{"$f":"+VLOOKUP(Tabla2[[#This Row],[SEDE - REGIONAL]],DATOS!B327:D360,3,FALSE)","v":{"$error":"#N/A"}},{"$f":"+IF(OR(Tabla2[[#This Row],[Área/Dependencia]]=\"Subdirección de Sistemas Integrados\",Tabla2[[#This Row],[Área/Dependencia]]=\"Subdirección de Recursos Tecnológicos\"),\"X\",\"\")","v":""},{"$f":"+CONCATENATE(Tabla2[[#This Row],[Tipo de Proceso]],Tabla2[[#This Row],[Columna4]])","v":{"$error":"#N/A"}},null,null,null,null,null,null,null,null,null,null,null,null,null,{"$f":"+IF(Tabla2[[#This Row],[Nivel de acceso ]]=\"Alto\",0.5,IF(Tabla2[[#This Row],[Nivel de acceso ]]=\"Medio\",0.3,IF(Tabla2[[#This Row],[Nivel de acceso ]]=\"Bajo\",0.2,\"\")))","v":""},null,{"$f":"+IF(Tabla2[[#This Row],[Es  Reservada]]=\"Sí\",\"Escriba Ley\",\"No Aplica\")","v":"No Aplica"},null,null,null,null,{"$f":"IFERROR(IF(AND(Tabla2[[#This Row],[Contiene Datos Personales]]=\"SÍ\",OR(Tabla2[[#This Row],[Clasificación Datos Personales]]=\"Sensible\",Tabla2[[#This Row],[Clasificación Datos Personales]]=\"NNA\",Tabla2[[#This Row],[Clasificación Datos Personales]]=\"privado\")),\"Alto\",IF(AND(Tabla2[[#This Row],[Contiene Datos Personales]]=\"SÍ\",Tabla2[[#This Row],[Clasificación Datos Personales]]=\"SEMIPRIVADO\"),\"Medio\",\"Bajo\")),\"\")","v":"Bajo"},null,null,"No Aplica","No Aplica",null,null,null,{"$f":"+IF(Tabla2[[#This Row],[Integridad]]=\"Grave\",0.5,IF(Tabla2[[#This Row],[Integridad]]=\"Importante\",0.3,IF(Tabla2[[#This Row],[Integridad]]=\"Leve\",0.2,\"\")))","v":""},null,{"$f":"+IF(Tabla2[[#This Row],[Disponibilidad Interna]]=\"Sí\",0.1,IF(Tabla2[[#This Row],[Disponibilidad Interna]]=\"NO\",0,\"\"))","v":""},null,{"$f":"+IF(Tabla2[[#This Row],[Disponibilidad Terceros]]=\"Sí\",0.1,IF(Tabla2[[#This Row],[Disponibilidad Terceros]]=\"No\",0,\"\"))","v":""},{"$f":"+Tabla2[[#This Row],[Columna32]]+Tabla2[[#This Row],[Columna34]]+Tabla2[[#This Row],[Columna1]]+Tabla2[[#This Row],[Columna3]]","v":{"$error":"#VALUE!"}},{"$f":"IFERROR(IF(Tabla2[[#This Row],[Columna33]]<0.45,\"BAJA\",IF(Tabla2[[#This Row],[Columna33]]>0.75,\"ALTA\",\"MEDIA\")),\"\")","v":""},"No Aplica",{"$f":"+IF(Tabla2[[#This Row],[Información Publicada (WEB)]]=\"Sí\",\"Digite URL\",\"No Aplica\")","v":"No Aplica"},null,{"$f":"IF(Tabla2[[#This Row],[ Clasificación ICBF]]=\"Pública\",1,IF(Tabla2[[#This Row],[ Clasificación ICBF]]=\"Clasificada\",2,IF(Tabla2[[#This Row],[ Clasificación ICBF]]=\"Reservada\",3,0)))","v":0},{"$f":"IF(#REF!=8,4,IF(#REF!=16,3,IF(#REF!=24,2,IF(#REF!=48,1,0))))","v":{"$error":"#REF!"}},{"$f":"IF(#REF!=8,\"Alto\",IF(#REF!=16,\"Medio\",IF(#REF!=24,\"Medio\",IF(#REF!=48,\"Bajo\",0))))","v":{"$error":"#REF!"}},null,{"$f":"+MID(Tabla2[[#This Row],[Área/Dependencia]],17,8)","v":""}]
["",null,null,null,{"$f":"+VLOOKUP(Tabla2[[#This Row],[SEDE - REGIONAL]],DATOS!B328:D361,3,FALSE)","v":{"$error":"#N/A"}},{"$f":"+IF(OR(Tabla2[[#This Row],[Área/Dependencia]]=\"Subdirección de Sistemas Integrados\",Tabla2[[#This Row],[Área/Dependencia]]=\"Subdirección de Recursos Tecnológicos\"),\"X\",\"\")","v":""},{"$f":"+CONCATENATE(Tabla2[[#This Row],[Tipo de Proceso]],Tabla2[[#This Row],[Columna4]])","v":{"$error":"#N/A"}},null,null,null,null,null,null,null,null,null,null,null,null,null,{"$f":"+IF(Tabla2[[#This Row],[Nivel de acceso ]]=\"Alto\",0.5,IF(Tabla2[[#This Row],[Nivel de acceso ]]=\"Medio\",0.3,IF(Tabla2[[#This Row],[Nivel de acceso ]]=\"Bajo\",0.2,\"\")))","v":""},null,{"$f":"+IF(Tabla2[[#This Row],[Es  Reservada]]=\"Sí\",\"Escriba Ley\",\"No Aplica\")","v":"No Aplica"},null,null,null,null,{"$f":"IFERROR(IF(AND(Tabla2[[#This Row],[Contiene Datos Personales]]=\"SÍ\",OR(Tabla2[[#This Row],[Clasificación Datos Personales]]=\"Sensible\",Tabla2[[#This Row],[Clasificación Datos Personales]]=\"NNA\",Tabla2[[#This Row],[Clasificación Datos Personales]]=\"privado\")),\"Alto\",IF(AND(Tabla2[[#This Row],[Contiene Datos Personales]]=\"SÍ\",Tabla2[[#This Row],[Clasificación Datos Personales]]=\"SEMIPRIVADO\"),\"Medio\",\"Bajo\")),\"\")","v":"Bajo"},null,null,"No Aplica","No Aplica",null,null,null,{"$f":"+IF(Tabla2[[#This Row],[Integridad]]=\"Grave\",0.5,IF(Tabla2[[#This Row],[Integridad]]=\"Importante\",0.3,IF(Tabla2[[#This Row],[Integridad]]=\"Leve\",0.2,\"\")))","v":""},null,{"$f":"+IF(Tabla2[[#This Row],[Disponibilidad Interna]]=\"Sí\",0.1,IF(Tabla2[[#This Row],[Disponibilidad Interna]]=\"NO\",0,\"\"))","v":""},null,{"$f":"+IF(Tabla2[[#This Row],[Disponibilidad Terceros]]=\"Sí\",0.1,IF(Tabla2[[#This Row],[Disponibilidad Terceros]]=\"No\",0,\"\"))","v":""},{"$f":"+Tabla2[[#This Row],[Columna32]]+Tabla2[[#This Row],[Columna34]]+Tabla2[[#This Row],[Columna1]]+Tabla2[[#This Row],[Columna3]]","v":{"$error":"#VALUE!"}},{"$f":"IFERROR(IF(Tabla2[[#This Row],[Columna33]]<0.45,\"BAJA\",IF(Tabla2[[#This Row],[Columna33]]>0.75,\"ALTA\",\"MEDIA\")),\"\")","v":""},"No Aplica",{"$f":"+IF(Tabla2[[#This Row],[Información Publicada (WEB)]]=\"Sí\",\"Digite URL\",\"No Aplica\")","v":"No Aplica"},null,{"$f":"IF(Tabla2[[#This Row],[ Clasificación ICBF]]=\"Pública\",1,IF(Tabla2[[#This Row],[ Clasificación ICBF]]=\"Clasificada\",2,IF(Tabla2[[#This Row],[ Clasificación ICBF]]=\"Reservada\",3,0)))","v":0},{"$f":"IF(#REF!=8,4,IF(#REF!=16,3,IF(#REF!=24,2,IF(#REF!=48,1,0))))","v":{"$error":"#REF!"}},{"$f":"IF(#REF!=8,\"Alto\",IF(#REF!=16,\"Medio\",IF(#REF!=24,\"Medio\",IF(#REF!=48,\"Bajo\",0))))","v":{"$error":"#REF!"}},null,{"$f":"+MID(Tabla2[[#This Row],[Área/Dependencia]],17,8)","v":""}]
["",null,null,null,{"$f":"+VLOOKUP(Tabla2[[#This Row],[SEDE - REGIONAL]],DATOS!B329:D362,3,FALSE)","v":{"$error":"#N/A"}},{"$f":"+IF(OR(Tabla2[[#This Row],[Área/Dependencia]]=\"Subdirección de Sistemas Integrados\",Tabla2[[#This Row],[Área/Dependencia]]=\"Subdirección de Recursos Tecnológicos\"),\"X\",\"\")","v":""},{"$f":"+CONCATENATE(Tabla2[[#This Row],[Tipo de Proceso]],Tabla2[[#This Row],[Columna4]])","v":{"$error":"#N/A"}},null,null,null,null,null,null,null,null,null,null,null,null,null,{"$f":"+IF(Tabla2[[#This Row],[Nivel de acceso ]]=\"Alto\",0.5,IF(Tabla2[[#This Row],[Nivel de acceso ]]=\"Medio\",0.3,IF(Tabla2[[#This Row],[Nivel de acceso ]]=\"Bajo\",0.2,\"\")))","v":""},null,{"$f":"+IF(Tabla2[[#This Row],[Es  Reservada]]=\"Sí\",\"Escriba Ley\",\"No Aplica\")","v":"No Aplica"},null,null,null,null,{"$f":"IFERROR(IF(AND(Tabla2[[#This Row],[Contiene Datos Personales]]=\"SÍ\",OR(Tabla2[[#This Row],[Clasificación Datos Personales]]=\"Sensible\",Tabla2[[#This Row],[Clasificación Datos Personales]]=\"NNA\",Tabla2[[#This Row],[Clasificación Datos Personales]]=\"privado\")),\"Alto\",IF(AND(Tabla2[[#This Row],[Contiene Datos Personales]]=\"SÍ\",Tabla2[[#This Row],[Clasificación Datos Personales]]=\"SEMIPRIVADO\"),\"Medio\",\"Bajo\")),\"\")","v":"Bajo"},null,null,"No Aplica","No Aplica",null,null,null,{"$f":"+IF(Tabla2[[#This Row],[Integridad]]=\"Grave\",0.5,IF(Tabla2[[#This Row],[Integridad]]=\"Importante\",0.3,IF(Tabla2[[#This Row],[Integridad]]=\"Leve\",0.2,\"\")))","v":""},null,{"$f":"+IF(Tabla2[[#This Row],[Disponibilidad Interna]]=\"Sí\",0.1,IF(Tabla2[[#This Row],[Disponibilidad Interna]]=\"NO\",0,\"\"))","v":""},null,{"$f":"+IF(Tabla2[[#This Row],[Disponibilidad Terceros]]=\"Sí\",0.1,IF(Tabla2[[#This Row],[Disponibilidad Terceros]]=\"No\",0,\"\"))","v":""},{"$f":"+Tabla2[[#This Row],[Columna32]]+Tabla2[[#This Row],[Columna34]]+Tabla2[[#This Row],[Columna1]]+Tabla2[[#This Row],[Columna3]]","v":{"$error":"#VALUE!"}},{"$f":"IFERROR(IF(Tabla2[[#This Row],[Columna33]]<0.45,\"BAJA\",IF(Tabla2[[#This Row],[Columna33]]>0.75,\"ALTA\",\"MEDIA\")),\"\")","v":""},"No Aplica",{"$f":"+IF(Tabla2[[#This Row],[Información Publicada (WEB)]]=\"Sí\",\"Digite URL\",\"No Aplica\")","v":"No Aplica"},null,{"$f":"IF(Tabla2[[#This Row],[ Clasificación ICBF]]=\"Pública\",1,IF(Tabla2[[#This Row],[ Clasificación ICBF]]=\"Clasificada\",2,IF(Tabla2[[#This Row],[ Clasificación ICBF]]=\"Reservada\",3,0)))","v":0},{"$f":"IF(#REF!=8,4,IF(#REF!=16,3,IF(#REF!=24,2,IF(#REF!=48,1,0))))","v":{"$error":"#REF!"}},{"$f":"IF(#REF!=8,\"Alto\",IF(#REF!=16,\"Medio\",IF(#REF!=24,\"Medio\",IF(#REF!=48,\"Bajo\",0))))","v":{"$error":"#REF!"}},null,{"$f":"+MID(Tabla2[[#This Row],[Área/Dependencia]],17,8)","v":""}]
["",null,null,null,{"$f":"+VLOOKUP(Tabla2[[#This Row],[SEDE - REGIONAL]],DATOS!B330:D363,3,FALSE)","v":{"$error":"#N/A"}},{"$f":"+IF(OR(Tabla2[[#This Row],[Área/Dependencia]]=\"Subdirección de Sistemas Integrados\",Tabla2[[#This Row],[Área/Dependencia]]=\"Subdirección de Recursos Tecnológicos\"),\"X\",\"\")","v":""},{"$f":"+CONCATENATE(Tabla2[[#This Row],[Tipo de Proceso]],Tabla2[[#This Row],[Columna4]])","v":{"$error":"#N/A"}},null,null,null,null,null,null,null,null,null,null,null,null,null,{"$f":"+IF(Tabla2[[#This Row],[Nivel de acceso ]]=\"Alto\",0.5,IF(Tabla2[[#This Row],[Nivel de acceso ]]=\"Medio\",0.3,IF(Tabla2[[#This Row],[Nivel de acceso ]]=\"Bajo\",0.2,\"\")))","v":""},null,{"$f":"+IF(Tabla2[[#This Row],[Es  Reservada]]=\"Sí\",\"Escriba Ley\",\"No Aplica\")","v":"No Aplica"},null,null,null,null,{"$f":"IFERROR(IF(AND(Tabla2[[#This Row],[Contiene Datos Personales]]=\"SÍ\",OR(Tabla2[[#This Row],[Clasificación Datos Personales]]=\"Sensible\",Tabla2[[#This Row],[Clasificación Datos Personales]]=\"NNA\",Tabla2[[#This Row],[Clasificación Datos Personales]]=\"privado\")),\"Alto\",IF(AND(Tabla2[[#This Row],[Contiene Datos Personales]]=\"SÍ\",Tabla2[[#This Row],[Clasificación Datos Personales]]=\"SEMIPRIVADO\"),\"Medio\",\"Bajo\")),\"\")","v":"Bajo"},null,null,"No Aplica","No Aplica",null,null,null,{"$f":"+IF(Tabla2[[#This Row],[Integridad]]=\"Grave\",0.5,IF(Tabla2[[#This Row],[Integridad]]=\"Importante\",0.3,IF(Tabla2[[#This Row],[Integridad]]=\"Leve\",0.2,\"\")))","v":""},null,{"$f":"+IF(Tabla2[[#This Row],[Disponibilidad Interna]]=\"Sí\",0.1,IF(Tabla2[[#This Row],[Disponibilidad Interna]]=\"NO\",0,\"\"))","v":""},null,{"$f":"+IF(Tabla2[[#This Row],[Disponibilidad Terceros]]=\"Sí\",0.1,IF(Tabla2[[#This Row],[Disponibilidad Terceros]]=\"No\",0,\"\"))","v":""},{"$f":"+Tabla2[[#This Row],[Columna32]]+Tabla2[[#This Row],[Columna34]]+Tabla2[[#This Row],[Columna1]]+Tabla2[[#This Row],[Columna3]]","v":{"$error":"#VALUE!"}},{"$f":"IFERROR(IF(Tabla2[[#This Row],[Columna33]]<0.45,\"BAJA\",IF(Tabla2[[#This Row],[Columna33]]>0.75,\"ALTA\",\"MEDIA\")),\"\")","v":""},"No Aplica",{"$f":"+IF(Tabla2[[#This Row],[Información Publicada (WEB)]]=\"Sí\",\"Digite URL\",\"No Aplica\")","v":"No Aplica"},null,{"$f":"IF(Tabla2[[#This Row],[ Clasificación ICBF]]=\"Pública\",1,IF(Tabla2[[#This Row],[ Clasificación ICBF]]=\"Clasificada\",2,IF(Tabla2[[#This Row],[ Clasificación ICBF]]=\"Reservada\",3,0)))","v":0},{"$f":"IF(#REF!=8,4,IF(#REF!=16,3,IF(#REF!=24,2,IF(#REF!=48,1,0))))","v":{"$error":"#REF!"}},{"$f":"IF(#REF!=8,\"Alto\",IF(#REF!=16,\"Medio\",IF(#REF!=24,\"Medio\",IF(#REF!=48,\"Bajo\",0))))","v":{"$error":"#REF!"}},null,{"$f":"+MID(Tabla2[[#This Row],[Área/Dependencia]],17,8)","v":""}]
["",null,null,null,{"$f":"+VLOOKUP(Tabla2[[#This Row],[SEDE - REGIONAL]],DATOS!B331:D364,3,FALSE)","v":{"$error":"#N/A"}},{"$f":"+IF(OR(Tabla2[[#This Row],[Área/Dependencia]]=\"Subdirección de Sistemas Integrados\",Tabla2[[#This Row],[Área/Dependencia]]=\"Subdirección de Recursos Tecnológicos\"),\"X\",\"\")","v":""},{"$f":"+CONCATENATE(Tabla2[[#This Row],[Tipo de Proceso]],Tabla2[[#This Row],[Columna4]])","v":{"$error":"#N/A"}},null,null,null,null,null,null,null,null,null,null,null,null,null,{"$f":"+IF(Tabla2[[#This Row],[Nivel de acceso ]]=\"Alto\",0.5,IF(Tabla2[[#This Row],[Nivel de acceso ]]=\"Medio\",0.3,IF(Tabla2[[#This Row],[Nivel de acceso ]]=\"Bajo\",0.2,\"\")))","v":""},null,{"$f":"+IF(Tabla2[[#This Row],[Es  Reservada]]=\"Sí\",\"Escriba Ley\",\"No Aplica\")","v":"No Aplica"},null,null,null,null,{"$f":"IFERROR(IF(AND(Tabla2[[#This Row],[Contiene Datos Personales]]=\"SÍ\",OR(Tabla2[[#This Row],[Clasificación Datos Personales]]=\"Sensible\",Tabla2[[#This Row],[Clasificación Datos Personales]]=\"NNA\",Tabla2[[#This Row],[Clasificación Datos Personales]]=\"privado\")),\"Alto\",IF(AND(Tabla2[[#This Row],[Contiene Datos Personales]]=\"SÍ\",Tabla2[[#This Row],[Clasificación Datos Personales]]=\"SEMIPRIVADO\"),\"Medio\",\"Bajo\")),\"\")","v":"Bajo"},null,null,"No Aplica","No Aplica",null,null,null,{"$f":"+IF(Tabla2[[#This Row],[Integridad]]=\"Grave\",0.5,IF(Tabla2[[#This Row],[Integridad]]=\"Importante\",0.3,IF(Tabla2[[#This Row],[Integridad]]=\"Leve\",0.2,\"\")))","v":""},null,{"$f":"+IF(Tabla2[[#This Row],[Disponibilidad Interna]]=\"Sí\",0.1,IF(Tabla2[[#This Row],[Disponibilidad Interna]]=\"NO\",0,\"\"))","v":""},null,{"$f":"+IF(Tabla2[[#This Row],[Disponibilidad Terceros]]=\"Sí\",0.1,IF(Tabla2[[#This Row],[Disponibilidad Terceros]]=\"No\",0,\"\"))","v":""},{"$f":"+Tabla2[[#This Row],[Columna32]]+Tabla2[[#This Row],[Columna34]]+Tabla2[[#This Row],[Columna1]]+Tabla2[[#This Row],[Columna3]]","v":{"$error":"#VALUE!"}},{"$f":"IFERROR(IF(Tabla2[[#This Row],[Columna33]]<0.45,\"BAJA\",IF(Tabla2[[#This Row],[Columna33]]>0.75,\"ALTA\",\"MEDIA\")),\"\")","v":""},"No Aplica",{"$f":"+IF(Tabla2[[#This Row],[Información Publicada (WEB)]]=\"Sí\",\"Digite URL\",\"No Aplica\")","v":"No Aplica"},null,{"$f":"IF(Tabla2[[#This Row],[ Clasificación ICBF]]=\"Pública\",1,IF(Tabla2[[#This Row],[ Clasificación ICBF]]=\"Clasificada\",2,IF(Tabla2[[#This Row],[ Clasificación ICBF]]=\"Reservada\",3,0)))","v":0},{"$f":"IF(#REF!=8,4,IF(#REF!=16,3,IF(#REF!=24,2,IF(#REF!=48,1,0))))","v":{"$error":"#REF!"}},{"$f":"IF(#REF!=8,\"Alto\",IF(#REF!=16,\"Medio\",IF(#REF!=24,\"Medio\",IF(#REF!=48,\"Bajo\",0))))","v":{"$error":"#REF!"}},null,{"$f":"+MID(Tabla2[[#This Row],[Área/Dependencia]],17,8)","v":""}]
["",null,null,null,{"$f":"+VLOOKUP(Tabla2[[#This Row],[SEDE - REGIONAL]],DATOS!B332:D365,3,FALSE)","v":{"$error":"#N/A"}},{"$f":"+IF(OR(Tabla2[[#This Row],[Área/Dependencia]]=\"Subdirección de Sistemas Integrados\",Tabla2[[#This Row],[Área/Dependencia]]=\"Subdirección de Recursos Tecnológicos\"),\"X\",\"\")","v":""},{"$f":"+CONCATENATE(Tabla2[[#This Row],[Tipo de Proceso]],Tabla2[[#This Row],[Columna4]])","v":{"$error":"#N/A"}},null,null,null,null,null,null,null,null,null,null,null,null,null,{"$f":"+IF(Tabla2[[#This Row],[Nivel de acceso ]]=\"Alto\",0.5,IF(Tabla2[[#This Row],[Nivel de acceso ]]=\"Medio\",0.3,IF(Tabla2[[#This Row],[Nivel de acceso ]]=\"Bajo\",0.2,\"\")))","v":""},null,{"$f":"+IF(Tabla2[[#This Row],[Es  Reservada]]=\"Sí\",\"Escriba Ley\",\"No Aplica\")","v":"No Aplica"},null,null,null,null,{"$f":"IFERROR(IF(AND(Tabla2[[#This Row],[Contiene Datos Personales]]=\"SÍ\",OR(Tabla2[[#This Row],[Clasificación Datos Personales]]=\"Sensible\",Tabla2[[#This Row],[Clasificación Datos Personales]]=\"NNA\",Tabla2[[#This Row],[Clasificación Datos Personales]]=\"privado\")),\"Alto\",IF(AND(Tabla2[[#This Row],[Contiene Datos Personales]]=\"SÍ\",Tabla2[[#This Row],[Clasificación Datos Personales]]=\"SEMIPRIVADO\"),\"Medio\",\"Bajo\")),\"\")","v":"Bajo"},null,null,"No Aplica","No Aplica",null,null,null,{"$f":"+IF(Tabla2[[#This Row],[Integridad]]=\"Grave\",0.5,IF(Tabla2[[#This Row],[Integridad]]=\"Importante\",0.3,IF(Tabla2[[#This Row],[Integridad]]=\"Leve\",0.2,\"\")))","v":""},null,{"$f":"+IF(Tabla2[[#This Row],[Disponibilidad Interna]]=\"Sí\",0.1,IF(Tabla2[[#This Row],[Disponibilidad Interna]]=\"NO\",0,\"\"))","v":""},null,{"$f":"+IF(Tabla2[[#This Row],[Disponibilidad Terceros]]=\"Sí\",0.1,IF(Tabla2[[#This Row],[Disponibilidad Terceros]]=\"No\",0,\"\"))","v":""},{"$f":"+Tabla2[[#This Row],[Columna32]]+Tabla2[[#This Row],[Columna34]]+Tabla2[[#This Row],[Columna1]]+Tabla2[[#This Row],[Columna3]]","v":{"$error":"#VALUE!"}},{"$f":"IFERROR(IF(Tabla2[[#This Row],[Columna33]]<0.45,\"BAJA\",IF(Tabla2[[#This Row],[Columna33]]>0.75,\"ALTA\",\"MEDIA\")),\"\")","v":""},"No Aplica",{"$f":"+IF(Tabla2[[#This Row],[Información Publicada (WEB)]]=\"Sí\",\"Digite URL\",\"No Aplica\")","v":"No Aplica"},null,{"$f":"IF(Tabla2[[#This Row],[ Clasificación ICBF]]=\"Pública\",1,IF(Tabla2[[#This Row],[ Clasificación ICBF]]=\"Clasificada\",2,IF(Tabla2[[#This Row],[ Clasificación ICBF]]=\"Reservada\",3,0)))","v":0},{"$f":"IF(#REF!=8,4,IF(#REF!=16,3,IF(#REF!=24,2,IF(#REF!=48,1,0))))","v":{"$error":"#REF!"}},{"$f":"IF(#REF!=8,\"Alto\",IF(#REF!=16,\"Medio\",IF(#REF!=24,\"Medio\",IF(#REF!=48,\"Bajo\",0))))","v":{"$error":"#REF!"}},null,{"$f":"+MID(Tabla2[[#This Row],[Área/Dependencia]],17,8)","v":""}]
["",null,null,null,{"$f":"+VLOOKUP(Tabla2[[#This Row],[SEDE - REGIONAL]],DATOS!B333:D366,3,FALSE)","v":{"$error":"#N/A"}},{"$f":"+IF(OR(Tabla2[[#This Row],[Área/Dependencia]]=\"Subdirección de Sistemas Integrados\",Tabla2[[#This Row],[Área/Dependencia]]=\"Subdirección de Recursos Tecnológicos\"),\"X\",\"\")","v":""},{"$f":"+CONCATENATE(Tabla2[[#This Row],[Tipo de Proceso]],Tabla2[[#This Row],[Columna4]])","v":{"$error":"#N/A"}},null,null,null,null,null,null,null,null,null,null,null,null,null,{"$f":"+IF(Tabla2[[#This Row],[Nivel de acceso ]]=\"Alto\",0.5,IF(Tabla2[[#This Row],[Nivel de acceso ]]=\"Medio\",0.3,IF(Tabla2[[#This Row],[Nivel de acceso ]]=\"Bajo\",0.2,\"\")))","v":""},null,{"$f":"+IF(Tabla2[[#This Row],[Es  Reservada]]=\"Sí\",\"Escriba Ley\",\"No Aplica\")","v":"No Aplica"},null,null,null,null,{"$f":"IFERROR(IF(AND(Tabla2[[#This Row],[Contiene Datos Personales]]=\"SÍ\",OR(Tabla2[[#This Row],[Clasificación Datos Personales]]=\"Sensible\",Tabla2[[#This Row],[Clasificación Datos Personales]]=\"NNA\",Tabla2[[#This Row],[Clasificación Datos Personales]]=\"privado\")),\"Alto\",IF(AND(Tabla2[[#This Row],[Contiene Datos Personales]]=\"SÍ\",Tabla2[[#This Row],[Clasificación Datos Personales]]=\"SEMIPRIVADO\"),\"Medio\",\"Bajo\")),\"\")","v":"Bajo"},null,null,"No Aplica","No Aplica",null,null,null,{"$f":"+IF(Tabla2[[#This Row],[Integridad]]=\"Grave\",0.5,IF(Tabla2[[#This Row],[Integridad]]=\"Importante\",0.3,IF(Tabla2[[#This Row],[Integridad]]=\"Leve\",0.2,\"\")))","v":""},null,{"$f":"+IF(Tabla2[[#This Row],[Disponibilidad Interna]]=\"Sí\",0.1,IF(Tabla2[[#This Row],[Disponibilidad Interna]]=\"NO\",0,\"\"))","v":""},null,{"$f":"+IF(Tabla2[[#This Row],[Disponibilidad Terceros]]=\"Sí\",0.1,IF(Tabla2[[#This Row],[Disponibilidad Terceros]]=\"No\",0,\"\"))","v":""},{"$f":"+Tabla2[[#This Row],[Columna32]]+Tabla2[[#This Row],[Columna34]]+Tabla2[[#This Row],[Columna1]]+Tabla2[[#This Row],[Columna3]]","v":{"$error":"#VALUE!"}},{"$f":"IFERROR(IF(Tabla2[[#This Row],[Columna33]]<0.45,\"BAJA\",IF(Tabla2[[#This Row],[Columna33]]>0.75,\"ALTA\",\"MEDIA\")),\"\")","v":""},"No Aplica",{"$f":"+IF(Tabla2[[#This Row],[Información Publicada (WEB)]]=\"Sí\",\"Digite URL\",\"No Aplica\")","v":"No Aplica"},null,{"$f":"IF(Tabla2[[#This Row],[ Clasificación ICBF]]=\"Pública\",1,IF(Tabla2[[#This Row],[ Clasificación ICBF]]=\"Clasificada\",2,IF(Tabla2[[#This Row],[ Clasificación ICBF]]=\"Reservada\",3,0)))","v":0},{"$f":"IF(#REF!=8,4,IF(#REF!=16,3,IF(#REF!=24,2,IF(#REF!=48,1,0))))","v":{"$error":"#REF!"}},{"$f":"IF(#REF!=8,\"Alto\",IF(#REF!=16,\"Medio\",IF(#REF!=24,\"Medio\",IF(#REF!=48,\"Bajo\",0))))","v":{"$error":"#REF!"}},null,{"$f":"+MID(Tabla2[[#This Row],[Área/Dependencia]],17,8)","v":""}]
["",null,null,null,{"$f":"+VLOOKUP(Tabla2[[#This Row],[SEDE - REGIONAL]],DATOS!B334:D367,3,FALSE)","v":{"$error":"#N/A"}},{"$f":"+IF(OR(Tabla2[[#This Row],[Área/Dependencia]]=\"Subdirección de Sistemas Integrados\",Tabla2[[#This Row],[Área/Dependencia]]=\"Subdirección de Recursos Tecnológicos\"),\"X\",\"\")","v":""},{"$f":"+CONCATENATE(Tabla2[[#This Row],[Tipo de Proceso]],Tabla2[[#This Row],[Columna4]])","v":{"$error":"#N/A"}},null,null,null,null,null,null,null,null,null,null,null,null,null,{"$f":"+IF(Tabla2[[#This Row],[Nivel de acceso ]]=\"Alto\",0.5,IF(Tabla2[[#This Row],[Nivel de acceso ]]=\"Medio\",0.3,IF(Tabla2[[#This Row],[Nivel de acceso ]]=\"Bajo\",0.2,\"\")))","v":""},null,{"$f":"+IF(Tabla2[[#This Row],[Es  Reservada]]=\"Sí\",\"Escriba Ley\",\"No Aplica\")","v":"No Aplica"},null,null,null,null,{"$f":"IFERROR(IF(AND(Tabla2[[#This Row],[Contiene Datos Personales]]=\"SÍ\",OR(Tabla2[[#This Row],[Clasificación Datos Personales]]=\"Sensible\",Tabla2[[#This Row],[Clasificación Datos Personales]]=\"NNA\",Tabla2[[#This Row],[Clasificación Datos Personales]]=\"privado\")),\"Alto\",IF(AND(Tabla2[[#This Row],[Contiene Datos Personales]]=\"SÍ\",Tabla2[[#This Row],[Clasificación Datos Personales]]=\"SEMIPRIVADO\"),\"Medio\",\"Bajo\")),\"\")","v":"Bajo"},null,null,"No Aplica","No Aplica",null,null,null,{"$f":"+IF(Tabla2[[#This Row],[Integridad]]=\"Grave\",0.5,IF(Tabla2[[#This Row],[Integridad]]=\"Importante\",0.3,IF(Tabla2[[#This Row],[Integridad]]=\"Leve\",0.2,\"\")))","v":""},null,{"$f":"+IF(Tabla2[[#This Row],[Disponibilidad Interna]]=\"Sí\",0.1,IF(Tabla2[[#This Row],[Disponibilidad Interna]]=\"NO\",0,\"\"))","v":""},null,{"$f":"+IF(Tabla2[[#This Row],[Disponibilidad Terceros]]=\"Sí\",0.1,IF(Tabla2[[#This Row],[Disponibilidad Terceros]]=\"No\",0,\"\"))","v":""},{"$f":"+Tabla2[[#This Row],[Columna32]]+Tabla2[[#This Row],[Columna34]]+Tabla2[[#This Row],[Columna1]]+Tabla2[[#This Row],[Columna3]]","v":{"$error":"#VALUE!"}},{"$f":"IFERROR(IF(Tabla2[[#This Row],[Columna33]]<0.45,\"BAJA\",IF(Tabla2[[#This Row],[Columna33]]>0.75,\"ALTA\",\"MEDIA\")),\"\")","v":""},"No Aplica",{"$f":"+IF(Tabla2[[#This Row],[Información Publicada (WEB)]]=\"Sí\",\"Digite URL\",\"No Aplica\")","v":"No Aplica"},null,{"$f":"IF(Tabla2[[#This Row],[ Clasificación ICBF]]=\"Pública\",1,IF(Tabla2[[#This Row],[ Clasificación ICBF]]=\"Clasificada\",2,IF(Tabla2[[#This Row],[ Clasificación ICBF]]=\"Reservada\",3,0)))","v":0},{"$f":"IF(#REF!=8,4,IF(#REF!=16,3,IF(#REF!=24,2,IF(#REF!=48,1,0))))","v":{"$error":"#REF!"}},{"$f":"IF(#REF!=8,\"Alto\",IF(#REF!=16,\"Medio\",IF(#REF!=24,\"Medio\",IF(#REF!=48,\"Bajo\",0))))","v":{"$error":"#REF!"}},null,{"$f":"+MID(Tabla2[[#This Row],[Área/Dependencia]],17,8)","v":""}]
["",null,null,null,{"$f":"+VLOOKUP(Tabla2[[#This Row],[SEDE - REGIONAL]],DATOS!B335:D368,3,FALSE)","v":{"$error":"#N/A"}},{"$f":"+IF(OR(Tabla2[[#This Row],[Área/Dependencia]]=\"Subdirección de Sistemas Integrados\",Tabla2[[#This Row],[Área/Dependencia]]=\"Subdirección de Recursos Tecnológicos\"),\"X\",\"\")","v":""},{"$f":"+CONCATENATE(Tabla2[[#This Row],[Tipo de Proceso]],Tabla2[[#This Row],[Columna4]])","v":{"$error":"#N/A"}},null,null,null,null,null,null,null,null,null,null,null,null,null,{"$f":"+IF(Tabla2[[#This Row],[Nivel de acceso ]]=\"Alto\",0.5,IF(Tabla2[[#This Row],[Nivel de acceso ]]=\"Medio\",0.3,IF(Tabla2[[#This Row],[Nivel de acceso ]]=\"Bajo\",0.2,\"\")))","v":""},null,{"$f":"+IF(Tabla2[[#This Row],[Es  Reservada]]=\"Sí\",\"Escriba Ley\",\"No Aplica\")","v":"No Aplica"},null,null,null,null,{"$f":"IFERROR(IF(AND(Tabla2[[#This Row],[Contiene Datos Personales]]=\"SÍ\",OR(Tabla2[[#This Row],[Clasificación Datos Personales]]=\"Sensible\",Tabla2[[#This Row],[Clasificación Datos Personales]]=\"NNA\",Tabla2[[#This Row],[Clasificación Datos Personales]]=\"privado\")),\"Alto\",IF(AND(Tabla2[[#This Row],[Contiene Datos Personales]]=\"SÍ\",Tabla2[[#This Row],[Clasificación Datos Personales]]=\"SEMIPRIVADO\"),\"Medio\",\"Bajo\")),\"\")","v":"Bajo"},null,null,"No Aplica","No Aplica",null,null,null,{"$f":"+IF(Tabla2[[#This Row],[Integridad]]=\"Grave\",0.5,IF(Tabla2[[#This Row],[Integridad]]=\"Importante\",0.3,IF(Tabla2[[#This Row],[Integridad]]=\"Leve\",0.2,\"\")))","v":""},null,{"$f":"+IF(Tabla2[[#This Row],[Disponibilidad Interna]]=\"Sí\",0.1,IF(Tabla2[[#This Row],[Disponibilidad Interna]]=\"NO\",0,\"\"))","v":""},null,{"$f":"+IF(Tabla2[[#This Row],[Disponibilidad Terceros]]=\"Sí\",0.1,IF(Tabla2[[#This Row],[Disponibilidad Terceros]]=\"No\",0,\"\"))","v":""},{"$f":"+Tabla2[[#This Row],[Columna32]]+Tabla2[[#This Row],[Columna34]]+Tabla2[[#This Row],[Columna1]]+Tabla2[[#This Row],[Columna3]]","v":{"$error":"#VALUE!"}},{"$f":"IFERROR(IF(Tabla2[[#This Row],[Columna33]]<0.45,\"BAJA\",IF(Tabla2[[#This Row],[Columna33]]>0.75,\"ALTA\",\"MEDIA\")),\"\")","v":""},"No Aplica",{"$f":"+IF(Tabla2[[#This Row],[Información Publicada (WEB)]]=\"Sí\",\"Digite URL\",\"No Aplica\")","v":"No Aplica"},null,{"$f":"IF(Tabla2[[#This Row],[ Clasificación ICBF]]=\"Pública\",1,IF(Tabla2[[#This Row],[ Clasificación ICBF]]=\"Clasificada\",2,IF(Tabla2[[#This Row],[ Clasificación ICBF]]=\"Reservada\",3,0)))","v":0},{"$f":"IF(#REF!=8,4,IF(#REF!=16,3,IF(#REF!=24,2,IF(#REF!=48,1,0))))","v":{"$error":"#REF!"}},{"$f":"IF(#REF!=8,\"Alto\",IF(#REF!=16,\"Medio\",IF(#REF!=24,\"Medio\",IF(#REF!=48,\"Bajo\",0))))","v":{"$error":"#REF!"}},null,{"$f":"+MID(Tabla2[[#This Row],[Área/Dependencia]],17,8)","v":""}]
["",null,null,null,{"$f":"+VLOOKUP(Tabla2[[#This Row],[SEDE - REGIONAL]],DATOS!B336:D369,3,FALSE)","v":{"$error":"#N/A"}},{"$f":"+IF(OR(Tabla2[[#This Row],[Área/Dependencia]]=\"Subdirección de Sistemas Integrados\",Tabla2[[#This Row],[Área/Dependencia]]=\"Subdirección de Recursos Tecnológicos\"),\"X\",\"\")","v":""},{"$f":"+CONCATENATE(Tabla2[[#This Row],[Tipo de Proceso]],Tabla2[[#This Row],[Columna4]])","v":{"$error":"#N/A"}},null,null,null,null,null,null,null,null,null,null,null,null,null,{"$f":"+IF(Tabla2[[#This Row],[Nivel de acceso ]]=\"Alto\",0.5,IF(Tabla2[[#This Row],[Nivel de acceso ]]=\"Medio\",0.3,IF(Tabla2[[#This Row],[Nivel de acceso ]]=\"Bajo\",0.2,\"\")))","v":""},null,{"$f":"+IF(Tabla2[[#This Row],[Es  Reservada]]=\"Sí\",\"Escriba Ley\",\"No Aplica\")","v":"No Aplica"},null,null,null,null,{"$f":"IFERROR(IF(AND(Tabla2[[#This Row],[Contiene Datos Personales]]=\"SÍ\",OR(Tabla2[[#This Row],[Clasificación Datos Personales]]=\"Sensible\",Tabla2[[#This Row],[Clasificación Datos Personales]]=\"NNA\",Tabla2[[#This Row],[Clasificación Datos Personales]]=\"privado\")),\"Alto\",IF(AND(Tabla2[[#This Row],[Contiene Datos Personales]]=\"SÍ\",Tabla2[[#This Row],[Clasificación Datos Personales]]=\"SEMIPRIVADO\"),\"Medio\",\"Bajo\")),\"\")","v":"Bajo"},null,null,"No Aplica","No Aplica",null,null,null,{"$f":"+IF(Tabla2[[#This Row],[Integridad]]=\"Grave\",0.5,IF(Tabla2[[#This Row],[Integridad]]=\"Importante\",0.3,IF(Tabla2[[#This Row],[Integridad]]=\"Leve\",0.2,\"\")))","v":""},null,{"$f":"+IF(Tabla2[[#This Row],[Disponibilidad Interna]]=\"Sí\",0.1,IF(Tabla2[[#This Row],[Disponibilidad Interna]]=\"NO\",0,\"\"))","v":""},null,{"$f":"+IF(Tabla2[[#This Row],[Disponibilidad Terceros]]=\"Sí\",0.1,IF(Tabla2[[#This Row],[Disponibilidad Terceros]]=\"No\",0,\"\"))","v":""},{"$f":"+Tabla2[[#This Row],[Columna32]]+Tabla2[[#This Row],[Columna34]]+Tabla2[[#This Row],[Columna1]]+Tabla2[[#This Row],[Columna3]]","v":{"$error":"#VALUE!"}},{"$f":"IFERROR(IF(Tabla2[[#This Row],[Columna33]]<0.45,\"BAJA\",IF(Tabla2[[#This Row],[Columna33]]>0.75,\"ALTA\",\"MEDIA\")),\"\")","v":""},"No Aplica",{"$f":"+IF(Tabla2[[#This Row],[Información Publicada (WEB)]]=\"Sí\",\"Digite URL\",\"No Aplica\")","v":"No Aplica"},null,{"$f":"IF(Tabla2[[#This Row],[ Clasificación ICBF]]=\"Pública\",1,IF(Tabla2[[#This Row],[ Clasificación ICBF]]=\"Clasificada\",2,IF(Tabla2[[#This Row],[ Clasificación ICBF]]=\"Reservada\",3,0)))","v":0},{"$f":"IF(#REF!=8,4,IF(#REF!=16,3,IF(#REF!=24,2,IF(#REF!=48,1,0))))","v":{"$error":"#REF!"}},{"$f":"IF(#REF!=8,\"Alto\",IF(#REF!=16,\"Medio\",IF(#REF!=24,\"Medio\",IF(#REF!=48,\"Bajo\",0))))","v":{"$error":"#REF!"}},null,{"$f":"+MID(Tabla2[[#This Row],[Área/Dependencia]],17,8)","v":""}]
["",null,null,null,{"$f":"+VLOOKUP(Tabla2[[#This Row],[SEDE - REGIONAL]],DATOS!B337:D370,3,FALSE)","v":{"$error":"#N/A"}},{"$f":"+IF(OR(Tabla2[[#This Row],[Área/Dependencia]]=\"Subdirección de Sistemas Integrados\",Tabla2[[#This Row],[Área/Dependencia]]=\"Subdirección de Recursos Tecnológicos\"),\"X\",\"\")","v":""},{"$f":"+CONCATENATE(Tabla2[[#This Row],[Tipo de Proceso]],Tabla2[[#This Row],[Columna4]])","v":{"$error":"#N/A"}},null,null,null,null,null,null,null,null,null,null,null,null,null,{"$f":"+IF(Tabla2[[#This Row],[Nivel de acceso ]]=\"Alto\",0.5,IF(Tabla2[[#This Row],[Nivel de acceso ]]=\"Medio\",0.3,IF(Tabla2[[#This Row],[Nivel de acceso ]]=\"Bajo\",0.2,\"\")))","v":""},null,{"$f":"+IF(Tabla2[[#This Row],[Es  Reservada]]=\"Sí\",\"Escriba Ley\",\"No Aplica\")","v":"No Aplica"},null,null,null,null,{"$f":"IFERROR(IF(AND(Tabla2[[#This Row],[Contiene Datos Personales]]=\"SÍ\",OR(Tabla2[[#This Row],[Clasificación Datos Personales]]=\"Sensible\",Tabla2[[#This Row],[Clasificación Datos Personales]]=\"NNA\",Tabla2[[#This Row],[Clasificación Datos Personales]]=\"privado\")),\"Alto\",IF(AND(Tabla2[[#This Row],[Contiene Datos Personales]]=\"SÍ\",Tabla2[[#This Row],[Clasificación Datos Personales]]=\"SEMIPRIVADO\"),\"Medio\",\"Bajo\")),\"\")","v":"Bajo"},null,null,"No Aplica","No Aplica",null,null,null,{"$f":"+IF(Tabla2[[#This Row],[Integridad]]=\"Grave\",0.5,IF(Tabla2[[#This Row],[Integridad]]=\"Importante\",0.3,IF(Tabla2[[#This Row],[Integridad]]=\"Leve\",0.2,\"\")))","v":""},null,{"$f":"+IF(Tabla2[[#This Row],[Disponibilidad Interna]]=\"Sí\",0.1,IF(Tabla2[[#This Row],[Disponibilidad Interna]]=\"NO\",0,\"\"))","v":""},null,{"$f":"+IF(Tabla2[[#This Row],[Disponibilidad Terceros]]=\"Sí\",0.1,IF(Tabla2[[#This Row],[Disponibilidad Terceros]]=\"No\",0,\"\"))","v":""},{"$f":"+Tabla2[[#This Row],[Columna32]]+Tabla2[[#This Row],[Columna34]]+Tabla2[[#This Row],[Columna1]]+Tabla2[[#This Row],[Columna3]]","v":{"$error":"#VALUE!"}},{"$f":"IFERROR(IF(Tabla2[[#This Row],[Columna33]]<0.45,\"BAJA\",IF(Tabla2[[#This Row],[Columna33]]>0.75,\"ALTA\",\"MEDIA\")),\"\")","v":""},"No Aplica",{"$f":"+IF(Tabla2[[#This Row],[Información Publicada (WEB)]]=\"Sí\",\"Digite URL\",\"No Aplica\")","v":"No Aplica"},null,{"$f":"IF(Tabla2[[#This Row],[ Clasificación ICBF]]=\"Pública\",1,IF(Tabla2[[#This Row],[ Clasificación ICBF]]=\"Clasificada\",2,IF(Tabla2[[#This Row],[ Clasificación ICBF]]=\"Reservada\",3,0)))","v":0},{"$f":"IF(#REF!=8,4,IF(#REF!=16,3,IF(#REF!=24,2,IF(#REF!=48,1,0))))","v":{"$error":"#REF!"}},{"$f":"IF(#REF!=8,\"Alto\",IF(#REF!=16,\"Medio\",IF(#REF!=24,\"Medio\",IF(#REF!=48,\"Bajo\",0))))","v":{"$error":"#REF!"}},null,{"$f":"+MID(Tabla2[[#This Row],[Área/Dependencia]],17,8)","v":""}]
["",null,null,null,{"$f":"+VLOOKUP(Tabla2[[#This Row],[SEDE - REGIONAL]],DATOS!B338:D371,3,FALSE)","v":{"$error":"#N/A"}},{"$f":"+IF(OR(Tabla2[[#This Row],[Área/Dependencia]]=\"Subdirección de Sistemas Integrados\",Tabla2[[#This Row],[Área/Dependencia]]=\"Subdirección de Recursos Tecnológicos\"),\"X\",\"\")","v":""},{"$f":"+CONCATENATE(Tabla2[[#This Row],[Tipo de Proceso]],Tabla2[[#This Row],[Columna4]])","v":{"$error":"#N/A"}},null,null,null,null,null,null,null,null,null,null,null,null,null,{"$f":"+IF(Tabla2[[#This Row],[Nivel de acceso ]]=\"Alto\",0.5,IF(Tabla2[[#This Row],[Nivel de acceso ]]=\"Medio\",0.3,IF(Tabla2[[#This Row],[Nivel de acceso ]]=\"Bajo\",0.2,\"\")))","v":""},null,{"$f":"+IF(Tabla2[[#This Row],[Es  Reservada]]=\"Sí\",\"Escriba Ley\",\"No Aplica\")","v":"No Aplica"},null,null,null,null,{"$f":"IFERROR(IF(AND(Tabla2[[#This Row],[Contiene Datos Personales]]=\"SÍ\",OR(Tabla2[[#This Row],[Clasificación Datos Personales]]=\"Sensible\",Tabla2[[#This Row],[Clasificación Datos Personales]]=\"NNA\",Tabla2[[#This Row],[Clasificación Datos Personales]]=\"privado\")),\"Alto\",IF(AND(Tabla2[[#This Row],[Contiene Datos Personales]]=\"SÍ\",Tabla2[[#This Row],[Clasificación Datos Personales]]=\"SEMIPRIVADO\"),\"Medio\",\"Bajo\")),\"\")","v":"Bajo"},null,null,"No Aplica","No Aplica",null,null,null,{"$f":"+IF(Tabla2[[#This Row],[Integridad]]=\"Grave\",0.5,IF(Tabla2[[#This Row],[Integridad]]=\"Importante\",0.3,IF(Tabla2[[#This Row],[Integridad]]=\"Leve\",0.2,\"\")))","v":""},null,{"$f":"+IF(Tabla2[[#This Row],[Disponibilidad Interna]]=\"Sí\",0.1,IF(Tabla2[[#This Row],[Disponibilidad Interna]]=\"NO\",0,\"\"))","v":""},null,{"$f":"+IF(Tabla2[[#This Row],[Disponibilidad Terceros]]=\"Sí\",0.1,IF(Tabla2[[#This Row],[Disponibilidad Terceros]]=\"No\",0,\"\"))","v":""},{"$f":"+Tabla2[[#This Row],[Columna32]]+Tabla2[[#This Row],[Columna34]]+Tabla2[[#This Row],[Columna1]]+Tabla2[[#This Row],[Columna3]]","v":{"$error":"#VALUE!"}},{"$f":"IFERROR(IF(Tabla2[[#This Row],[Columna33]]<0.45,\"BAJA\",IF(Tabla2[[#This Row],[Columna33]]>0.75,\"ALTA\",\"MEDIA\")),\"\")","v":""},"No Aplica",{"$f":"+IF(Tabla2[[#This Row],[Información Publicada (WEB)]]=\"Sí\",\"Digite URL\",\"No Aplica\")","v":"No Aplica"},null,{"$f":"IF(Tabla2[[#This Row],[ Clasificación ICBF]]=\"Pública\",1,IF(Tabla2[[#This Row],[ Clasificación ICBF]]=\"Clasificada\",2,IF(Tabla2[[#This Row],[ Clasificación ICBF]]=\"Reservada\",3,0)))","v":0},{"$f":"IF(#REF!=8,4,IF(#REF!=16,3,IF(#REF!=24,2,IF(#REF!=48,1,0))))","v":{"$error":"#REF!"}},{"$f":"IF(#REF!=8,\"Alto\",IF(#REF!=16,\"Medio\",IF(#REF!=24,\"Medio\",IF(#REF!=48,\"Bajo\",0))))","v":{"$error":"#REF!"}},null,{"$f":"+MID(Tabla2[[#This Row],[Área/Dependencia]],17,8)","v":""}]
["",null,null,null,{"$f":"+VLOOKUP(Tabla2[[#This Row],[SEDE - REGIONAL]],DATOS!B339:D372,3,FALSE)","v":{"$error":"#N/A"}},{"$f":"+IF(OR(Tabla2[[#This Row],[Área/Dependencia]]=\"Subdirección de Sistemas Integrados\",Tabla2[[#This Row],[Área/Dependencia]]=\"Subdirección de Recursos Tecnológicos\"),\"X\",\"\")","v":""},{"$f":"+CONCATENATE(Tabla2[[#This Row],[Tipo de Proceso]],Tabla2[[#This Row],[Columna4]])","v":{"$error":"#N/A"}},null,null,null,null,null,null,null,null,null,null,null,null,null,{"$f":"+IF(Tabla2[[#This Row],[Nivel de acceso ]]=\"Alto\",0.5,IF(Tabla2[[#This Row],[Nivel de acceso ]]=\"Medio\",0.3,IF(Tabla2[[#This Row],[Nivel de acceso ]]=\"Bajo\",0.2,\"\")))","v":""},null,{"$f":"+IF(Tabla2[[#This Row],[Es  Reservada]]=\"Sí\",\"Escriba Ley\",\"No Aplica\")","v":"No Aplica"},null,null,null,null,{"$f":"IFERROR(IF(AND(Tabla2[[#This Row],[Contiene Datos Personales]]=\"SÍ\",OR(Tabla2[[#This Row],[Clasificación Datos Personales]]=\"Sensible\",Tabla2[[#This Row],[Clasificación Datos Personales]]=\"NNA\",Tabla2[[#This Row],[Clasificación Datos Personales]]=\"privado\")),\"Alto\",IF(AND(Tabla2[[#This Row],[Contiene Datos Personales]]=\"SÍ\",Tabla2[[#This Row],[Clasificación Datos Personales]]=\"SEMIPRIVADO\"),\"Medio\",\"Bajo\")),\"\")","v":"Bajo"},null,null,"No Aplica","No Aplica",null,null,null,{"$f":"+IF(Tabla2[[#This Row],[Integridad]]=\"Grave\",0.5,IF(Tabla2[[#This Row],[Integridad]]=\"Importante\",0.3,IF(Tabla2[[#This Row],[Integridad]]=\"Leve\",0.2,\"\")))","v":""},null,{"$f":"+IF(Tabla2[[#This Row],[Disponibilidad Interna]]=\"Sí\",0.1,IF(Tabla2[[#This Row],[Disponibilidad Interna]]=\"NO\",0,\"\"))","v":""},null,{"$f":"+IF(Tabla2[[#This Row],[Disponibilidad Terceros]]=\"Sí\",0.1,IF(Tabla2[[#This Row],[Disponibilidad Terceros]]=\"No\",0,\"\"))","v":""},{"$f":"+Tabla2[[#This Row],[Columna32]]+Tabla2[[#This Row],[Columna34]]+Tabla2[[#This Row],[Columna1]]+Tabla2[[#This Row],[Columna3]]","v":{"$error":"#VALUE!"}},{"$f":"IFERROR(IF(Tabla2[[#This Row],[Columna33]]<0.45,\"BAJA\",IF(Tabla2[[#This Row],[Columna33]]>0.75,\"ALTA\",\"MEDIA\")),\"\")","v":""},"No Aplica",{"$f":"+IF(Tabla2[[#This Row],[Información Publicada (WEB)]]=\"Sí\",\"Digite URL\",\"No Aplica\")","v":"No Aplica"},null,{"$f":"IF(Tabla2[[#This Row],[ Clasificación ICBF]]=\"Pública\",1,IF(Tabla2[[#This Row],[ Clasificación ICBF]]=\"Clasificada\",2,IF(Tabla2[[#This Row],[ Clasificación ICBF]]=\"Reservada\",3,0)))","v":0},{"$f":"IF(#REF!=8,4,IF(#REF!=16,3,IF(#REF!=24,2,IF(#REF!=48,1,0))))","v":{"$error":"#REF!"}},{"$f":"IF(#REF!=8,\"Alto\",IF(#REF!=16,\"Medio\",IF(#REF!=24,\"Medio\",IF(#REF!=48,\"Bajo\",0))))","v":{"$error":"#REF!"}},null,{"$f":"+MID(Tabla2[[#This Row],[Área/Dependencia]],17,8)","v":""}]
["",null,null,null,{"$f":"+VLOOKUP(Tabla2[[#This Row],[SEDE - REGIONAL]],DATOS!B340:D373,3,FALSE)","v":{"$error":"#N/A"}},{"$f":"+IF(OR(Tabla2[[#This Row],[Área/Dependencia]]=\"Subdirección de Sistemas Integrados\",Tabla2[[#This Row],[Área/Dependencia]]=\"Subdirección de Recursos Tecnológicos\"),\"X\",\"\")","v":""},{"$f":"+CONCATENATE(Tabla2[[#This Row],[Tipo de Proceso]],Tabla2[[#This Row],[Columna4]])","v":{"$error":"#N/A"}},null,null,null,null,null,null,null,null,null,null,null,null,null,{"$f":"+IF(Tabla2[[#This Row],[Nivel de acceso ]]=\"Alto\",0.5,IF(Tabla2[[#This Row],[Nivel de acceso ]]=\"Medio\",0.3,IF(Tabla2[[#This Row],[Nivel de acceso ]]=\"Bajo\",0.2,\"\")))","v":""},null,{"$f":"+IF(Tabla2[[#This Row],[Es  Reservada]]=\"Sí\",\"Escriba Ley\",\"No Aplica\")","v":"No Aplica"},null,null,null,null,{"$f":"IFERROR(IF(AND(Tabla2[[#This Row],[Contiene Datos Personales]]=\"SÍ\",OR(Tabla2[[#This Row],[Clasificación Datos Personales]]=\"Sensible\",Tabla2[[#This Row],[Clasificación Datos Personales]]=\"NNA\",Tabla2[[#This Row],[Clasificación Datos Personales]]=\"privado\")),\"Alto\",IF(AND(Tabla2[[#This Row],[Contiene Datos Personales]]=\"SÍ\",Tabla2[[#This Row],[Clasificación Datos Personales]]=\"SEMIPRIVADO\"),\"Medio\",\"Bajo\")),\"\")","v":"Bajo"},null,null,"No Aplica","No Aplica",null,null,null,{"$f":"+IF(Tabla2[[#This Row],[Integridad]]=\"Grave\",0.5,IF(Tabla2[[#This Row],[Integridad]]=\"Importante\",0.3,IF(Tabla2[[#This Row],[Integridad]]=\"Leve\",0.2,\"\")))","v":""},null,{"$f":"+IF(Tabla2[[#This Row],[Disponibilidad Interna]]=\"Sí\",0.1,IF(Tabla2[[#This Row],[Disponibilidad Interna]]=\"NO\",0,\"\"))","v":""},null,{"$f":"+IF(Tabla2[[#This Row],[Disponibilidad Terceros]]=\"Sí\",0.1,IF(Tabla2[[#This Row],[Disponibilidad Terceros]]=\"No\",0,\"\"))","v":""},{"$f":"+Tabla2[[#This Row],[Columna32]]+Tabla2[[#This Row],[Columna34]]+Tabla2[[#This Row],[Columna1]]+Tabla2[[#This Row],[Columna3]]","v":{"$error":"#VALUE!"}},{"$f":"IFERROR(IF(Tabla2[[#This Row],[Columna33]]<0.45,\"BAJA\",IF(Tabla2[[#This Row],[Columna33]]>0.75,\"ALTA\",\"MEDIA\")),\"\")","v":""},"No Aplica",{"$f":"+IF(Tabla2[[#This Row],[Información Publicada (WEB)]]=\"Sí\",\"Digite URL\",\"No Aplica\")","v":"No Aplica"},null,{"$f":"IF(Tabla2[[#This Row],[ Clasificación ICBF]]=\"Pública\",1,IF(Tabla2[[#This Row],[ Clasificación ICBF]]=\"Clasificada\",2,IF(Tabla2[[#This Row],[ Clasificación ICBF]]=\"Reservada\",3,0)))","v":0},{"$f":"IF(#REF!=8,4,IF(#REF!=16,3,IF(#REF!=24,2,IF(#REF!=48,1,0))))","v":{"$error":"#REF!"}},{"$f":"IF(#REF!=8,\"Alto\",IF(#REF!=16,\"Medio\",IF(#REF!=24,\"Medio\",IF(#REF!=48,\"Bajo\",0))))","v":{"$error":"#REF!"}},null,{"$f":"+MID(Tabla2[[#This Row],[Área/Dependencia]],17,8)","v":""}]
["",null,null,null,{"$f":"+VLOOKUP(Tabla2[[#This Row],[SEDE - REGIONAL]],DATOS!B341:D374,3,FALSE)","v":{"$error":"#N/A"}},{"$f":"+IF(OR(Tabla2[[#This Row],[Área/Dependencia]]=\"Subdirección de Sistemas Integrados\",Tabla2[[#This Row],[Área/Dependencia]]=\"Subdirección de Recursos Tecnológicos\"),\"X\",\"\")","v":""},{"$f":"+CONCATENATE(Tabla2[[#This Row],[Tipo de Proceso]],Tabla2[[#This Row],[Columna4]])","v":{"$error":"#N/A"}},null,null,null,null,null,null,null,null,null,null,null,null,null,{"$f":"+IF(Tabla2[[#This Row],[Nivel de acceso ]]=\"Alto\",0.5,IF(Tabla2[[#This Row],[Nivel de acceso ]]=\"Medio\",0.3,IF(Tabla2[[#This Row],[Nivel de acceso ]]=\"Bajo\",0.2,\"\")))","v":""},null,{"$f":"+IF(Tabla2[[#This Row],[Es  Reservada]]=\"Sí\",\"Escriba Ley\",\"No Aplica\")","v":"No Aplica"},null,null,null,null,{"$f":"IFERROR(IF(AND(Tabla2[[#This Row],[Contiene Datos Personales]]=\"SÍ\",OR(Tabla2[[#This Row],[Clasificación Datos Personales]]=\"Sensible\",Tabla2[[#This Row],[Clasificación Datos Personales]]=\"NNA\",Tabla2[[#This Row],[Clasificación Datos Personales]]=\"privado\")),\"Alto\",IF(AND(Tabla2[[#This Row],[Contiene Datos Personales]]=\"SÍ\",Tabla2[[#This Row],[Clasificación Datos Personales]]=\"SEMIPRIVADO\"),\"Medio\",\"Bajo\")),\"\")","v":"Bajo"},null,null,"No Aplica","No Aplica",null,null,null,{"$f":"+IF(Tabla2[[#This Row],[Integridad]]=\"Grave\",0.5,IF(Tabla2[[#This Row],[Integridad]]=\"Importante\",0.3,IF(Tabla2[[#This Row],[Integridad]]=\"Leve\",0.2,\"\")))","v":""},null,{"$f":"+IF(Tabla2[[#This Row],[Disponibilidad Interna]]=\"Sí\",0.1,IF(Tabla2[[#This Row],[Disponibilidad Interna]]=\"NO\",0,\"\"))","v":""},null,{"$f":"+IF(Tabla2[[#This Row],[Disponibilidad Terceros]]=\"Sí\",0.1,IF(Tabla2[[#This Row],[Disponibilidad Terceros]]=\"No\",0,\"\"))","v":""},{"$f":"+Tabla2[[#This Row],[Columna32]]+Tabla2[[#This Row],[Columna34]]+Tabla2[[#This Row],[Columna1]]+Tabla2[[#This Row],[Columna3]]","v":{"$error":"#VALUE!"}},{"$f":"IFERROR(IF(Tabla2[[#This Row],[Columna33]]<0.45,\"BAJA\",IF(Tabla2[[#This Row],[Columna33]]>0.75,\"ALTA\",\"MEDIA\")),\"\")","v":""},"No Aplica",{"$f":"+IF(Tabla2[[#This Row],[Información Publicada (WEB)]]=\"Sí\",\"Digite URL\",\"No Aplica\")","v":"No Aplica"},null,{"$f":"IF(Tabla2[[#This Row],[ Clasificación ICBF]]=\"Pública\",1,IF(Tabla2[[#This Row],[ Clasificación ICBF]]=\"Clasificada\",2,IF(Tabla2[[#This Row],[ Clasificación ICBF]]=\"Reservada\",3,0)))","v":0},{"$f":"IF(#REF!=8,4,IF(#REF!=16,3,IF(#REF!=24,2,IF(#REF!=48,1,0))))","v":{"$error":"#REF!"}},{"$f":"IF(#REF!=8,\"Alto\",IF(#REF!=16,\"Medio\",IF(#REF!=24,\"Medio\",IF(#REF!=48,\"Bajo\",0))))","v":{"$error":"#REF!"}},null,{"$f":"+MID(Tabla2[[#This Row],[Área/Dependencia]],17,8)","v":""}]
["",null,null,null,{"$f":"+VLOOKUP(Tabla2[[#This Row],[SEDE - REGIONAL]],DATOS!B342:D375,3,FALSE)","v":{"$error":"#N/A"}},{"$f":"+IF(OR(Tabla2[[#This Row],[Área/Dependencia]]=\"Subdirección de Sistemas Integrados\",Tabla2[[#This Row],[Área/Dependencia]]=\"Subdirección de Recursos Tecnológicos\"),\"X\",\"\")","v":""},{"$f":"+CONCATENATE(Tabla2[[#This Row],[Tipo de Proceso]],Tabla2[[#This Row],[Columna4]])","v":{"$error":"#N/A"}},null,null,null,null,null,null,null,null,null,null,null,null,null,{"$f":"+IF(Tabla2[[#This Row],[Nivel de acceso ]]=\"Alto\",0.5,IF(Tabla2[[#This Row],[Nivel de acceso ]]=\"Medio\",0.3,IF(Tabla2[[#This Row],[Nivel de acceso ]]=\"Bajo\",0.2,\"\")))","v":""},null,{"$f":"+IF(Tabla2[[#This Row],[Es  Reservada]]=\"Sí\",\"Escriba Ley\",\"No Aplica\")","v":"No Aplica"},null,null,null,null,{"$f":"IFERROR(IF(AND(Tabla2[[#This Row],[Contiene Datos Personales]]=\"SÍ\",OR(Tabla2[[#This Row],[Clasificación Datos Personales]]=\"Sensible\",Tabla2[[#This Row],[Clasificación Datos Personales]]=\"NNA\",Tabla2[[#This Row],[Clasificación Datos Personales]]=\"privado\")),\"Alto\",IF(AND(Tabla2[[#This Row],[Contiene Datos Personales]]=\"SÍ\",Tabla2[[#This Row],[Clasificación Datos Personales]]=\"SEMIPRIVADO\"),\"Medio\",\"Bajo\")),\"\")","v":"Bajo"},null,null,"No Aplica","No Aplica",null,null,null,{"$f":"+IF(Tabla2[[#This Row],[Integridad]]=\"Grave\",0.5,IF(Tabla2[[#This Row],[Integridad]]=\"Importante\",0.3,IF(Tabla2[[#This Row],[Integridad]]=\"Leve\",0.2,\"\")))","v":""},null,{"$f":"+IF(Tabla2[[#This Row],[Disponibilidad Interna]]=\"Sí\",0.1,IF(Tabla2[[#This Row],[Disponibilidad Interna]]=\"NO\",0,\"\"))","v":""},null,{"$f":"+IF(Tabla2[[#This Row],[Disponibilidad Terceros]]=\"Sí\",0.1,IF(Tabla2[[#This Row],[Disponibilidad Terceros]]=\"No\",0,\"\"))","v":""},{"$f":"+Tabla2[[#This Row],[Columna32]]+Tabla2[[#This Row],[Columna34]]+Tabla2[[#This Row],[Columna1]]+Tabla2[[#This Row],[Columna3]]","v":{"$error":"#VALUE!"}},{"$f":"IFERROR(IF(Tabla2[[#This Row],[Columna33]]<0.45,\"BAJA\",IF(Tabla2[[#This Row],[Columna33]]>0.75,\"ALTA\",\"MEDIA\")),\"\")","v":""},"No Aplica",{"$f":"+IF(Tabla2[[#This Row],[Información Publicada (WEB)]]=\"Sí\",\"Digite URL\",\"No Aplica\")","v":"No Aplica"},null,{"$f":"IF(Tabla2[[#This Row],[ Clasificación ICBF]]=\"Pública\",1,IF(Tabla2[[#This Row],[ Clasificación ICBF]]=\"Clasificada\",2,IF(Tabla2[[#This Row],[ Clasificación ICBF]]=\"Reservada\",3,0)))","v":0},{"$f":"IF(#REF!=8,4,IF(#REF!=16,3,IF(#REF!=24,2,IF(#REF!=48,1,0))))","v":{"$error":"#REF!"}},{"$f":"IF(#REF!=8,\"Alto\",IF(#REF!=16,\"Medio\",IF(#REF!=24,\"Medio\",IF(#REF!=48,\"Bajo\",0))))","v":{"$error":"#REF!"}},null,{"$f":"+MID(Tabla2[[#This Row],[Área/Dependencia]],17,8)","v":""}]
["",null,null,null,{"$f":"+VLOOKUP(Tabla2[[#This Row],[SEDE - REGIONAL]],DATOS!B343:D376,3,FALSE)","v":{"$error":"#N/A"}},{"$f":"+IF(OR(Tabla2[[#This Row],[Área/Dependencia]]=\"Subdirección de Sistemas Integrados\",Tabla2[[#This Row],[Área/Dependencia]]=\"Subdirección de Recursos Tecnológicos\"),\"X\",\"\")","v":""},{"$f":"+CONCATENATE(Tabla2[[#This Row],[Tipo de Proceso]],Tabla2[[#This Row],[Columna4]])","v":{"$error":"#N/A"}},null,null,null,null,null,null,null,null,null,null,null,null,null,{"$f":"+IF(Tabla2[[#This Row],[Nivel de acceso ]]=\"Alto\",0.5,IF(Tabla2[[#This Row],[Nivel de acceso ]]=\"Medio\",0.3,IF(Tabla2[[#This Row],[Nivel de acceso ]]=\"Bajo\",0.2,\"\")))","v":""},null,{"$f":"+IF(Tabla2[[#This Row],[Es  Reservada]]=\"Sí\",\"Escriba Ley\",\"No Aplica\")","v":"No Aplica"},null,null,null,null,{"$f":"IFERROR(IF(AND(Tabla2[[#This Row],[Contiene Datos Personales]]=\"SÍ\",OR(Tabla2[[#This Row],[Clasificación Datos Personales]]=\"Sensible\",Tabla2[[#This Row],[Clasificación Datos Personales]]=\"NNA\",Tabla2[[#This Row],[Clasificación Datos Personales]]=\"privado\")),\"Alto\",IF(AND(Tabla2[[#This Row],[Contiene Datos Personales]]=\"SÍ\",Tabla2[[#This Row],[Clasificación Datos Personales]]=\"SEMIPRIVADO\"),\"Medio\",\"Bajo\")),\"\")","v":"Bajo"},null,null,"No Aplica","No Aplica",null,null,null,{"$f":"+IF(Tabla2[[#This Row],[Integridad]]=\"Grave\",0.5,IF(Tabla2[[#This Row],[Integridad]]=\"Importante\",0.3,IF(Tabla2[[#This Row],[Integridad]]=\"Leve\",0.2,\"\")))","v":""},null,{"$f":"+IF(Tabla2[[#This Row],[Disponibilidad Interna]]=\"Sí\",0.1,IF(Tabla2[[#This Row],[Disponibilidad Interna]]=\"NO\",0,\"\"))","v":""},null,{"$f":"+IF(Tabla2[[#This Row],[Disponibilidad Terceros]]=\"Sí\",0.1,IF(Tabla2[[#This Row],[Disponibilidad Terceros]]=\"No\",0,\"\"))","v":""},{"$f":"+Tabla2[[#This Row],[Columna32]]+Tabla2[[#This Row],[Columna34]]+Tabla2[[#This Row],[Columna1]]+Tabla2[[#This Row],[Columna3]]","v":{"$error":"#VALUE!"}},{"$f":"IFERROR(IF(Tabla2[[#This Row],[Columna33]]<0.45,\"BAJA\",IF(Tabla2[[#This Row],[Columna33]]>0.75,\"ALTA\",\"MEDIA\")),\"\")","v":""},"No Aplica",{"$f":"+IF(Tabla2[[#This Row],[Información Publicada (WEB)]]=\"Sí\",\"Digite URL\",\"No Aplica\")","v":"No Aplica"},null,{"$f":"IF(Tabla2[[#This Row],[ Clasificación ICBF]]=\"Pública\",1,IF(Tabla2[[#This Row],[ Clasificación ICBF]]=\"Clasificada\",2,IF(Tabla2[[#This Row],[ Clasificación ICBF]]=\"Reservada\",3,0)))","v":0},{"$f":"IF(#REF!=8,4,IF(#REF!=16,3,IF(#REF!=24,2,IF(#REF!=48,1,0))))","v":{"$error":"#REF!"}},{"$f":"IF(#REF!=8,\"Alto\",IF(#REF!=16,\"Medio\",IF(#REF!=24,\"Medio\",IF(#REF!=48,\"Bajo\",0))))","v":{"$error":"#REF!"}},null,{"$f":"+MID(Tabla2[[#This Row],[Área/Dependencia]],17,8)","v":""}]
["",null,null,null,{"$f":"+VLOOKUP(Tabla2[[#This Row],[SEDE - REGIONAL]],DATOS!B344:D377,3,FALSE)","v":{"$error":"#N/A"}},{"$f":"+IF(OR(Tabla2[[#This Row],[Área/Dependencia]]=\"Subdirección de Sistemas Integrados\",Tabla2[[#This Row],[Área/Dependencia]]=\"Subdirección de Recursos Tecnológicos\"),\"X\",\"\")","v":""},{"$f":"+CONCATENATE(Tabla2[[#This Row],[Tipo de Proceso]],Tabla2[[#This Row],[Columna4]])","v":{"$error":"#N/A"}},null,null,null,null,null,null,null,null,null,null,null,null,null,{"$f":"+IF(Tabla2[[#This Row],[Nivel de acceso ]]=\"Alto\",0.5,IF(Tabla2[[#This Row],[Nivel de acceso ]]=\"Medio\",0.3,IF(Tabla2[[#This Row],[Nivel de acceso ]]=\"Bajo\",0.2,\"\")))","v":""},null,{"$f":"+IF(Tabla2[[#This Row],[Es  Reservada]]=\"Sí\",\"Escriba Ley\",\"No Aplica\")","v":"No Aplica"},null,null,null,null,{"$f":"IFERROR(IF(AND(Tabla2[[#This Row],[Contiene Datos Personales]]=\"SÍ\",OR(Tabla2[[#This Row],[Clasificación Datos Personales]]=\"Sensible\",Tabla2[[#This Row],[Clasificación Datos Personales]]=\"NNA\",Tabla2[[#This Row],[Clasificación Datos Personales]]=\"privado\")),\"Alto\",IF(AND(Tabla2[[#This Row],[Contiene Datos Personales]]=\"SÍ\",Tabla2[[#This Row],[Clasificación Datos Personales]]=\"SEMIPRIVADO\"),\"Medio\",\"Bajo\")),\"\")","v":"Bajo"},null,null,"No Aplica","No Aplica",null,null,null,{"$f":"+IF(Tabla2[[#This Row],[Integridad]]=\"Grave\",0.5,IF(Tabla2[[#This Row],[Integridad]]=\"Importante\",0.3,IF(Tabla2[[#This Row],[Integridad]]=\"Leve\",0.2,\"\")))","v":""},null,{"$f":"+IF(Tabla2[[#This Row],[Disponibilidad Interna]]=\"Sí\",0.1,IF(Tabla2[[#This Row],[Disponibilidad Interna]]=\"NO\",0,\"\"))","v":""},null,{"$f":"+IF(Tabla2[[#This Row],[Disponibilidad Terceros]]=\"Sí\",0.1,IF(Tabla2[[#This Row],[Disponibilidad Terceros]]=\"No\",0,\"\"))","v":""},{"$f":"+Tabla2[[#This Row],[Columna32]]+Tabla2[[#This Row],[Columna34]]+Tabla2[[#This Row],[Columna1]]+Tabla2[[#This Row],[Columna3]]","v":{"$error":"#VALUE!"}},{"$f":"IFERROR(IF(Tabla2[[#This Row],[Columna33]]<0.45,\"BAJA\",IF(Tabla2[[#This Row],[Columna33]]>0.75,\"ALTA\",\"MEDIA\")),\"\")","v":""},"No Aplica",{"$f":"+IF(Tabla2[[#This Row],[Información Publicada (WEB)]]=\"Sí\",\"Digite URL\",\"No Aplica\")","v":"No Aplica"},null,{"$f":"IF(Tabla2[[#This Row],[ Clasificación ICBF]]=\"Pública\",1,IF(Tabla2[[#This Row],[ Clasificación ICBF]]=\"Clasificada\",2,IF(Tabla2[[#This Row],[ Clasificación ICBF]]=\"Reservada\",3,0)))","v":0},{"$f":"IF(#REF!=8,4,IF(#REF!=16,3,IF(#REF!=24,2,IF(#REF!=48,1,0))))","v":{"$error":"#REF!"}},{"$f":"IF(#REF!=8,\"Alto\",IF(#REF!=16,\"Medio\",IF(#REF!=24,\"Medio\",IF(#REF!=48,\"Bajo\",0))))","v":{"$error":"#REF!"}},null,{"$f":"+MID(Tabla2[[#This Row],[Área/Dependencia]],17,8)","v":""}]
["",null,null,null,{"$f":"+VLOOKUP(Tabla2[[#This Row],[SEDE - REGIONAL]],DATOS!B345:D378,3,FALSE)","v":{"$error":"#N/A"}},{"$f":"+IF(OR(Tabla2[[#This Row],[Área/Dependencia]]=\"Subdirección de Sistemas Integrados\",Tabla2[[#This Row],[Área/Dependencia]]=\"Subdirección de Recursos Tecnológicos\"),\"X\",\"\")","v":""},{"$f":"+CONCATENATE(Tabla2[[#This Row],[Tipo de Proceso]],Tabla2[[#This Row],[Columna4]])","v":{"$error":"#N/A"}},null,null,null,null,null,null,null,null,null,null,null,null,null,{"$f":"+IF(Tabla2[[#This Row],[Nivel de acceso ]]=\"Alto\",0.5,IF(Tabla2[[#This Row],[Nivel de acceso ]]=\"Medio\",0.3,IF(Tabla2[[#This Row],[Nivel de acceso ]]=\"Bajo\",0.2,\"\")))","v":""},null,{"$f":"+IF(Tabla2[[#This Row],[Es  Reservada]]=\"Sí\",\"Escriba Ley\",\"No Aplica\")","v":"No Aplica"},null,null,null,null,{"$f":"IFERROR(IF(AND(Tabla2[[#This Row],[Contiene Datos Personales]]=\"SÍ\",OR(Tabla2[[#This Row],[Clasificación Datos Personales]]=\"Sensible\",Tabla2[[#This Row],[Clasificación Datos Personales]]=\"NNA\",Tabla2[[#This Row],[Clasificación Datos Personales]]=\"privado\")),\"Alto\",IF(AND(Tabla2[[#This Row],[Contiene Datos Personales]]=\"SÍ\",Tabla2[[#This Row],[Clasificación Datos Personales]]=\"SEMIPRIVADO\"),\"Medio\",\"Bajo\")),\"\")","v":"Bajo"},null,null,"No Aplica","No Aplica",null,null,null,{"$f":"+IF(Tabla2[[#This Row],[Integridad]]=\"Grave\",0.5,IF(Tabla2[[#This Row],[Integridad]]=\"Importante\",0.3,IF(Tabla2[[#This Row],[Integridad]]=\"Leve\",0.2,\"\")))","v":""},null,{"$f":"+IF(Tabla2[[#This Row],[Disponibilidad Interna]]=\"Sí\",0.1,IF(Tabla2[[#This Row],[Disponibilidad Interna]]=\"NO\",0,\"\"))","v":""},null,{"$f":"+IF(Tabla2[[#This Row],[Disponibilidad Terceros]]=\"Sí\",0.1,IF(Tabla2[[#This Row],[Disponibilidad Terceros]]=\"No\",0,\"\"))","v":""},{"$f":"+Tabla2[[#This Row],[Columna32]]+Tabla2[[#This Row],[Columna34]]+Tabla2[[#This Row],[Columna1]]+Tabla2[[#This Row],[Columna3]]","v":{"$error":"#VALUE!"}},{"$f":"IFERROR(IF(Tabla2[[#This Row],[Columna33]]<0.45,\"BAJA\",IF(Tabla2[[#This Row],[Columna33]]>0.75,\"ALTA\",\"MEDIA\")),\"\")","v":""},"No Aplica",{"$f":"+IF(Tabla2[[#This Row],[Información Publicada (WEB)]]=\"Sí\",\"Digite URL\",\"No Aplica\")","v":"No Aplica"},null,{"$f":"IF(Tabla2[[#This Row],[ Clasificación ICBF]]=\"Pública\",1,IF(Tabla2[[#This Row],[ Clasificación ICBF]]=\"Clasificada\",2,IF(Tabla2[[#This Row],[ Clasificación ICBF]]=\"Reservada\",3,0)))","v":0},{"$f":"IF(#REF!=8,4,IF(#REF!=16,3,IF(#REF!=24,2,IF(#REF!=48,1,0))))","v":{"$error":"#REF!"}},{"$f":"IF(#REF!=8,\"Alto\",IF(#REF!=16,\"Medio\",IF(#REF!=24,\"Medio\",IF(#REF!=48,\"Bajo\",0))))","v":{"$error":"#REF!"}},null,{"$f":"+MID(Tabla2[[#This Row],[Área/Dependencia]],17,8)","v":""}]
["",null,null,null,{"$f":"+VLOOKUP(Tabla2[[#This Row],[SEDE - REGIONAL]],DATOS!B346:D379,3,FALSE)","v":{"$error":"#N/A"}},{"$f":"+IF(OR(Tabla2[[#This Row],[Área/Dependencia]]=\"Subdirección de Sistemas Integrados\",Tabla2[[#This Row],[Área/Dependencia]]=\"Subdirección de Recursos Tecnológicos\"),\"X\",\"\")","v":""},{"$f":"+CONCATENATE(Tabla2[[#This Row],[Tipo de Proceso]],Tabla2[[#This Row],[Columna4]])","v":{"$error":"#N/A"}},null,null,null,null,null,null,null,null,null,null,null,null,null,{"$f":"+IF(Tabla2[[#This Row],[Nivel de acceso ]]=\"Alto\",0.5,IF(Tabla2[[#This Row],[Nivel de acceso ]]=\"Medio\",0.3,IF(Tabla2[[#This Row],[Nivel de acceso ]]=\"Bajo\",0.2,\"\")))","v":""},null,{"$f":"+IF(Tabla2[[#This Row],[Es  Reservada]]=\"Sí\",\"Escriba Ley\",\"No Aplica\")","v":"No Aplica"},null,null,null,null,{"$f":"IFERROR(IF(AND(Tabla2[[#This Row],[Contiene Datos Personales]]=\"SÍ\",OR(Tabla2[[#This Row],[Clasificación Datos Personales]]=\"Sensible\",Tabla2[[#This Row],[Clasificación Datos Personales]]=\"NNA\",Tabla2[[#This Row],[Clasificación Datos Personales]]=\"privado\")),\"Alto\",IF(AND(Tabla2[[#This Row],[Contiene Datos Personales]]=\"SÍ\",Tabla2[[#This Row],[Clasificación Datos Personales]]=\"SEMIPRIVADO\"),\"Medio\",\"Bajo\")),\"\")","v":"Bajo"},null,null,"No Aplica","No Aplica",null,null,null,{"$f":"+IF(Tabla2[[#This Row],[Integridad]]=\"Grave\",0.5,IF(Tabla2[[#This Row],[Integridad]]=\"Importante\",0.3,IF(Tabla2[[#This Row],[Integridad]]=\"Leve\",0.2,\"\")))","v":""},null,{"$f":"+IF(Tabla2[[#This Row],[Disponibilidad Interna]]=\"Sí\",0.1,IF(Tabla2[[#This Row],[Disponibilidad Interna]]=\"NO\",0,\"\"))","v":""},null,{"$f":"+IF(Tabla2[[#This Row],[Disponibilidad Terceros]]=\"Sí\",0.1,IF(Tabla2[[#This Row],[Disponibilidad Terceros]]=\"No\",0,\"\"))","v":""},{"$f":"+Tabla2[[#This Row],[Columna32]]+Tabla2[[#This Row],[Columna34]]+Tabla2[[#This Row],[Columna1]]+Tabla2[[#This Row],[Columna3]]","v":{"$error":"#VALUE!"}},{"$f":"IFERROR(IF(Tabla2[[#This Row],[Columna33]]<0.45,\"BAJA\",IF(Tabla2[[#This Row],[Columna33]]>0.75,\"ALTA\",\"MEDIA\")),\"\")","v":""},"No Aplica",{"$f":"+IF(Tabla2[[#This Row],[Información Publicada (WEB)]]=\"Sí\",\"Digite URL\",\"No Aplica\")","v":"No Aplica"},null,{"$f":"IF(Tabla2[[#This Row],[ Clasificación ICBF]]=\"Pública\",1,IF(Tabla2[[#This Row],[ Clasificación ICBF]]=\"Clasificada\",2,IF(Tabla2[[#This Row],[ Clasificación ICBF]]=\"Reservada\",3,0)))","v":0},{"$f":"IF(#REF!=8,4,IF(#REF!=16,3,IF(#REF!=24,2,IF(#REF!=48,1,0))))","v":{"$error":"#REF!"}},{"$f":"IF(#REF!=8,\"Alto\",IF(#REF!=16,\"Medio\",IF(#REF!=24,\"Medio\",IF(#REF!=48,\"Bajo\",0))))","v":{"$error":"#REF!"}},null,{"$f":"+MID(Tabla2[[#This Row],[Área/Dependencia]],17,8)","v":""}]
["",null,null,null,{"$f":"+VLOOKUP(Tabla2[[#This Row],[SEDE - REGIONAL]],DATOS!B347:D380,3,FALSE)","v":{"$error":"#N/A"}},{"$f":"+IF(OR(Tabla2[[#This Row],[Área/Dependencia]]=\"Subdirección de Sistemas Integrados\",Tabla2[[#This Row],[Área/Dependencia]]=\"Subdirección de Recursos Tecnológicos\"),\"X\",\"\")","v":""},{"$f":"+CONCATENATE(Tabla2[[#This Row],[Tipo de Proceso]],Tabla2[[#This Row],[Columna4]])","v":{"$error":"#N/A"}},null,null,null,null,null,null,null,null,null,null,null,null,null,{"$f":"+IF(Tabla2[[#This Row],[Nivel de acceso ]]=\"Alto\",0.5,IF(Tabla2[[#This Row],[Nivel de acceso ]]=\"Medio\",0.3,IF(Tabla2[[#This Row],[Nivel de acceso ]]=\"Bajo\",0.2,\"\")))","v":""},null,{"$f":"+IF(Tabla2[[#This Row],[Es  Reservada]]=\"Sí\",\"Escriba Ley\",\"No Aplica\")","v":"No Aplica"},null,null,null,null,{"$f":"IFERROR(IF(AND(Tabla2[[#This Row],[Contiene Datos Personales]]=\"SÍ\",OR(Tabla2[[#This Row],[Clasificación Datos Personales]]=\"Sensible\",Tabla2[[#This Row],[Clasificación Datos Personales]]=\"NNA\",Tabla2[[#This Row],[Clasificación Datos Personales]]=\"privado\")),\"Alto\",IF(AND(Tabla2[[#This Row],[Contiene Datos Personales]]=\"SÍ\",Tabla2[[#This Row],[Clasificación Datos Personales]]=\"SEMIPRIVADO\"),\"Medio\",\"Bajo\")),\"\")","v":"Bajo"},null,null,"No Aplica","No Aplica",null,null,null,{"$f":"+IF(Tabla2[[#This Row],[Integridad]]=\"Grave\",0.5,IF(Tabla2[[#This Row],[Integridad]]=\"Importante\",0.3,IF(Tabla2[[#This Row],[Integridad]]=\"Leve\",0.2,\"\")))","v":""},null,{"$f":"+IF(Tabla2[[#This Row],[Disponibilidad Interna]]=\"Sí\",0.1,IF(Tabla2[[#This Row],[Disponibilidad Interna]]=\"NO\",0,\"\"))","v":""},null,{"$f":"+IF(Tabla2[[#This Row],[Disponibilidad Terceros]]=\"Sí\",0.1,IF(Tabla2[[#This Row],[Disponibilidad Terceros]]=\"No\",0,\"\"))","v":""},{"$f":"+Tabla2[[#This Row],[Columna32]]+Tabla2[[#This Row],[Columna34]]+Tabla2[[#This Row],[Columna1]]+Tabla2[[#This Row],[Columna3]]","v":{"$error":"#VALUE!"}},{"$f":"IFERROR(IF(Tabla2[[#This Row],[Columna33]]<0.45,\"BAJA\",IF(Tabla2[[#This Row],[Columna33]]>0.75,\"ALTA\",\"MEDIA\")),\"\")","v":""},"No Aplica",{"$f":"+IF(Tabla2[[#This Row],[Información Publicada (WEB)]]=\"Sí\",\"Digite URL\",\"No Aplica\")","v":"No Aplica"},null,{"$f":"IF(Tabla2[[#This Row],[ Clasificación ICBF]]=\"Pública\",1,IF(Tabla2[[#This Row],[ Clasificación ICBF]]=\"Clasificada\",2,IF(Tabla2[[#This Row],[ Clasificación ICBF]]=\"Reservada\",3,0)))","v":0},{"$f":"IF(#REF!=8,4,IF(#REF!=16,3,IF(#REF!=24,2,IF(#REF!=48,1,0))))","v":{"$error":"#REF!"}},{"$f":"IF(#REF!=8,\"Alto\",IF(#REF!=16,\"Medio\",IF(#REF!=24,\"Medio\",IF(#REF!=48,\"Bajo\",0))))","v":{"$error":"#REF!"}},null,{"$f":"+MID(Tabla2[[#This Row],[Área/Dependencia]],17,8)","v":""}]
["",null,null,null,{"$f":"+VLOOKUP(Tabla2[[#This Row],[SEDE - REGIONAL]],DATOS!B348:D381,3,FALSE)","v":{"$error":"#N/A"}},{"$f":"+IF(OR(Tabla2[[#This Row],[Área/Dependencia]]=\"Subdirección de Sistemas Integrados\",Tabla2[[#This Row],[Área/Dependencia]]=\"Subdirección de Recursos Tecnológicos\"),\"X\",\"\")","v":""},{"$f":"+CONCATENATE(Tabla2[[#This Row],[Tipo de Proceso]],Tabla2[[#This Row],[Columna4]])","v":{"$error":"#N/A"}},null,null,null,null,null,null,null,null,null,null,null,null,null,{"$f":"+IF(Tabla2[[#This Row],[Nivel de acceso ]]=\"Alto\",0.5,IF(Tabla2[[#This Row],[Nivel de acceso ]]=\"Medio\",0.3,IF(Tabla2[[#This Row],[Nivel de acceso ]]=\"Bajo\",0.2,\"\")))","v":""},null,{"$f":"+IF(Tabla2[[#This Row],[Es  Reservada]]=\"Sí\",\"Escriba Ley\",\"No Aplica\")","v":"No Aplica"},null,null,null,null,{"$f":"IFERROR(IF(AND(Tabla2[[#This Row],[Contiene Datos Personales]]=\"SÍ\",OR(Tabla2[[#This Row],[Clasificación Datos Personales]]=\"Sensible\",Tabla2[[#This Row],[Clasificación Datos Personales]]=\"NNA\",Tabla2[[#This Row],[Clasificación Datos Personales]]=\"privado\")),\"Alto\",IF(AND(Tabla2[[#This Row],[Contiene Datos Personales]]=\"SÍ\",Tabla2[[#This Row],[Clasificación Datos Personales]]=\"SEMIPRIVADO\"),\"Medio\",\"Bajo\")),\"\")","v":"Bajo"},null,null,"No Aplica","No Aplica",null,null,null,{"$f":"+IF(Tabla2[[#This Row],[Integridad]]=\"Grave\",0.5,IF(Tabla2[[#This Row],[Integridad]]=\"Importante\",0.3,IF(Tabla2[[#This Row],[Integridad]]=\"Leve\",0.2,\"\")))","v":""},null,{"$f":"+IF(Tabla2[[#This Row],[Disponibilidad Interna]]=\"Sí\",0.1,IF(Tabla2[[#This Row],[Disponibilidad Interna]]=\"NO\",0,\"\"))","v":""},null,{"$f":"+IF(Tabla2[[#This Row],[Disponibilidad Terceros]]=\"Sí\",0.1,IF(Tabla2[[#This Row],[Disponibilidad Terceros]]=\"No\",0,\"\"))","v":""},{"$f":"+Tabla2[[#This Row],[Columna32]]+Tabla2[[#This Row],[Columna34]]+Tabla2[[#This Row],[Columna1]]+Tabla2[[#This Row],[Columna3]]","v":{"$error":"#VALUE!"}},{"$f":"IFERROR(IF(Tabla2[[#This Row],[Columna33]]<0.45,\"BAJA\",IF(Tabla2[[#This Row],[Columna33]]>0.75,\"ALTA\",\"MEDIA\")),\"\")","v":""},"No Aplica",{"$f":"+IF(Tabla2[[#This Row],[Información Publicada (WEB)]]=\"Sí\",\"Digite URL\",\"No Aplica\")","v":"No Aplica"},null,{"$f":"IF(Tabla2[[#This Row],[ Clasificación ICBF]]=\"Pública\",1,IF(Tabla2[[#This Row],[ Clasificación ICBF]]=\"Clasificada\",2,IF(Tabla2[[#This Row],[ Clasificación ICBF]]=\"Reservada\",3,0)))","v":0},{"$f":"IF(#REF!=8,4,IF(#REF!=16,3,IF(#REF!=24,2,IF(#REF!=48,1,0))))","v":{"$error":"#REF!"}},{"$f":"IF(#REF!=8,\"Alto\",IF(#REF!=16,\"Medio\",IF(#REF!=24,\"Medio\",IF(#REF!=48,\"Bajo\",0))))","v":{"$error":"#REF!"}},null,{"$f":"+MID(Tabla2[[#This Row],[Área/Dependencia]],17,8)","v":""}]
["",null,null,null,{"$f":"+VLOOKUP(Tabla2[[#This Row],[SEDE - REGIONAL]],DATOS!B349:D382,3,FALSE)","v":{"$error":"#N/A"}},{"$f":"+IF(OR(Tabla2[[#This Row],[Área/Dependencia]]=\"Subdirección de Sistemas Integrados\",Tabla2[[#This Row],[Área/Dependencia]]=\"Subdirección de Recursos Tecnológicos\"),\"X\",\"\")","v":""},{"$f":"+CONCATENATE(Tabla2[[#This Row],[Tipo de Proceso]],Tabla2[[#This Row],[Columna4]])","v":{"$error":"#N/A"}},null,null,null,null,null,null,null,null,null,null,null,null,null,{"$f":"+IF(Tabla2[[#This Row],[Nivel de acceso ]]=\"Alto\",0.5,IF(Tabla2[[#This Row],[Nivel de acceso ]]=\"Medio\",0.3,IF(Tabla2[[#This Row],[Nivel de acceso ]]=\"Bajo\",0.2,\"\")))","v":""},null,{"$f":"+IF(Tabla2[[#This Row],[Es  Reservada]]=\"Sí\",\"Escriba Ley\",\"No Aplica\")","v":"No Aplica"},null,null,null,null,{"$f":"IFERROR(IF(AND(Tabla2[[#This Row],[Contiene Datos Personales]]=\"SÍ\",OR(Tabla2[[#This Row],[Clasificación Datos Personales]]=\"Sensible\",Tabla2[[#This Row],[Clasificación Datos Personales]]=\"NNA\",Tabla2[[#This Row],[Clasificación Datos Personales]]=\"privado\")),\"Alto\",IF(AND(Tabla2[[#This Row],[Contiene Datos Personales]]=\"SÍ\",Tabla2[[#This Row],[Clasificación Datos Personales]]=\"SEMIPRIVADO\"),\"Medio\",\"Bajo\")),\"\")","v":"Bajo"},null,null,"No Aplica","No Aplica",null,null,null,{"$f":"+IF(Tabla2[[#This Row],[Integridad]]=\"Grave\",0.5,IF(Tabla2[[#This Row],[Integridad]]=\"Importante\",0.3,IF(Tabla2[[#This Row],[Integridad]]=\"Leve\",0.2,\"\")))","v":""},null,{"$f":"+IF(Tabla2[[#This Row],[Disponibilidad Interna]]=\"Sí\",0.1,IF(Tabla2[[#This Row],[Disponibilidad Interna]]=\"NO\",0,\"\"))","v":""},null,{"$f":"+IF(Tabla2[[#This Row],[Disponibilidad Terceros]]=\"Sí\",0.1,IF(Tabla2[[#This Row],[Disponibilidad Terceros]]=\"No\",0,\"\"))","v":""},{"$f":"+Tabla2[[#This Row],[Columna32]]+Tabla2[[#This Row],[Columna34]]+Tabla2[[#This Row],[Columna1]]+Tabla2[[#This Row],[Columna3]]","v":{"$error":"#VALUE!"}},{"$f":"IFERROR(IF(Tabla2[[#This Row],[Columna33]]<0.45,\"BAJA\",IF(Tabla2[[#This Row],[Columna33]]>0.75,\"ALTA\",\"MEDIA\")),\"\")","v":""},"No Aplica",{"$f":"+IF(Tabla2[[#This Row],[Información Publicada (WEB)]]=\"Sí\",\"Digite URL\",\"No Aplica\")","v":"No Aplica"},null,{"$f":"IF(Tabla2[[#This Row],[ Clasificación ICBF]]=\"Pública\",1,IF(Tabla2[[#This Row],[ Clasificación ICBF]]=\"Clasificada\",2,IF(Tabla2[[#This Row],[ Clasificación ICBF]]=\"Reservada\",3,0)))","v":0},{"$f":"IF(#REF!=8,4,IF(#REF!=16,3,IF(#REF!=24,2,IF(#REF!=48,1,0))))","v":{"$error":"#REF!"}},{"$f":"IF(#REF!=8,\"Alto\",IF(#REF!=16,\"Medio\",IF(#REF!=24,\"Medio\",IF(#REF!=48,\"Bajo\",0))))","v":{"$error":"#REF!"}},null,{"$f":"+MID(Tabla2[[#This Row],[Área/Dependencia]],17,8)","v":""}]
["",null,null,null,{"$f":"+VLOOKUP(Tabla2[[#This Row],[SEDE - REGIONAL]],DATOS!B350:D383,3,FALSE)","v":{"$error":"#N/A"}},{"$f":"+IF(OR(Tabla2[[#This Row],[Área/Dependencia]]=\"Subdirección de Sistemas Integrados\",Tabla2[[#This Row],[Área/Dependencia]]=\"Subdirección de Recursos Tecnológicos\"),\"X\",\"\")","v":""},{"$f":"+CONCATENATE(Tabla2[[#This Row],[Tipo de Proceso]],Tabla2[[#This Row],[Columna4]])","v":{"$error":"#N/A"}},null,null,null,null,null,null,null,null,null,null,null,null,null,{"$f":"+IF(Tabla2[[#This Row],[Nivel de acceso ]]=\"Alto\",0.5,IF(Tabla2[[#This Row],[Nivel de acceso ]]=\"Medio\",0.3,IF(Tabla2[[#This Row],[Nivel de acceso ]]=\"Bajo\",0.2,\"\")))","v":""},null,{"$f":"+IF(Tabla2[[#This Row],[Es  Reservada]]=\"Sí\",\"Escriba Ley\",\"No Aplica\")","v":"No Aplica"},null,null,null,null,{"$f":"IFERROR(IF(AND(Tabla2[[#This Row],[Contiene Datos Personales]]=\"SÍ\",OR(Tabla2[[#This Row],[Clasificación Datos Personales]]=\"Sensible\",Tabla2[[#This Row],[Clasificación Datos Personales]]=\"NNA\",Tabla2[[#This Row],[Clasificación Datos Personales]]=\"privado\")),\"Alto\",IF(AND(Tabla2[[#This Row],[Contiene Datos Personales]]=\"SÍ\",Tabla2[[#This Row],[Clasificación Datos Personales]]=\"SEMIPRIVADO\"),\"Medio\",\"Bajo\")),\"\")","v":"Bajo"},null,null,"No Aplica","No Aplica",null,null,null,{"$f":"+IF(Tabla2[[#This Row],[Integridad]]=\"Grave\",0.5,IF(Tabla2[[#This Row],[Integridad]]=\"Importante\",0.3,IF(Tabla2[[#This Row],[Integridad]]=\"Leve\",0.2,\"\")))","v":""},null,{"$f":"+IF(Tabla2[[#This Row],[Disponibilidad Interna]]=\"Sí\",0.1,IF(Tabla2[[#This Row],[Disponibilidad Interna]]=\"NO\",0,\"\"))","v":""},null,{"$f":"+IF(Tabla2[[#This Row],[Disponibilidad Terceros]]=\"Sí\",0.1,IF(Tabla2[[#This Row],[Disponibilidad Terceros]]=\"No\",0,\"\"))","v":""},{"$f":"+Tabla2[[#This Row],[Columna32]]+Tabla2[[#This Row],[Columna34]]+Tabla2[[#This Row],[Columna1]]+Tabla2[[#This Row],[Columna3]]","v":{"$error":"#VALUE!"}},{"$f":"IFERROR(IF(Tabla2[[#This Row],[Columna33]]<0.45,\"BAJA\",IF(Tabla2[[#This Row],[Columna33]]>0.75,\"ALTA\",\"MEDIA\")),\"\")","v":""},"No Aplica",{"$f":"+IF(Tabla2[[#This Row],[Información Publicada (WEB)]]=\"Sí\",\"Digite URL\",\"No Aplica\")","v":"No Aplica"},null,{"$f":"IF(Tabla2[[#This Row],[ Clasificación ICBF]]=\"Pública\",1,IF(Tabla2[[#This Row],[ Clasificación ICBF]]=\"Clasificada\",2,IF(Tabla2[[#This Row],[ Clasificación ICBF]]=\"Reservada\",3,0)))","v":0},{"$f":"IF(#REF!=8,4,IF(#REF!=16,3,IF(#REF!=24,2,IF(#REF!=48,1,0))))","v":{"$error":"#REF!"}},{"$f":"IF(#REF!=8,\"Alto\",IF(#REF!=16,\"Medio\",IF(#REF!=24,\"Medio\",IF(#REF!=48,\"Bajo\",0))))","v":{"$error":"#REF!"}},null,{"$f":"+MID(Tabla2[[#This Row],[Área/Dependencia]],17,8)","v":""}]
["",null,null,null,{"$f":"+VLOOKUP(Tabla2[[#This Row],[SEDE - REGIONAL]],DATOS!B351:D384,3,FALSE)","v":{"$error":"#N/A"}},{"$f":"+IF(OR(Tabla2[[#This Row],[Área/Dependencia]]=\"Subdirección de Sistemas Integrados\",Tabla2[[#This Row],[Área/Dependencia]]=\"Subdirección de Recursos Tecnológicos\"),\"X\",\"\")","v":""},{"$f":"+CONCATENATE(Tabla2[[#This Row],[Tipo de Proceso]],Tabla2[[#This Row],[Columna4]])","v":{"$error":"#N/A"}},null,null,null,null,null,null,null,null,null,null,null,null,null,{"$f":"+IF(Tabla2[[#This Row],[Nivel de acceso ]]=\"Alto\",0.5,IF(Tabla2[[#This Row],[Nivel de acceso ]]=\"Medio\",0.3,IF(Tabla2[[#This Row],[Nivel de acceso ]]=\"Bajo\",0.2,\"\")))","v":""},null,{"$f":"+IF(Tabla2[[#This Row],[Es  Reservada]]=\"Sí\",\"Escriba Ley\",\"No Aplica\")","v":"No Aplica"},null,null,null,null,{"$f":"IFERROR(IF(AND(Tabla2[[#This Row],[Contiene Datos Personales]]=\"SÍ\",OR(Tabla2[[#This Row],[Clasificación Datos Personales]]=\"Sensible\",Tabla2[[#This Row],[Clasificación Datos Personales]]=\"NNA\",Tabla2[[#This Row],[Clasificación Datos Personales]]=\"privado\")),\"Alto\",IF(AND(Tabla2[[#This Row],[Contiene Datos Personales]]=\"SÍ\",Tabla2[[#This Row],[Clasificación Datos Personales]]=\"SEMIPRIVADO\"),\"Medio\",\"Bajo\")),\"\")","v":"Bajo"},null,null,"No Aplica","No Aplica",null,null,null,{"$f":"+IF(Tabla2[[#This Row],[Integridad]]=\"Grave\",0.5,IF(Tabla2[[#This Row],[Integridad]]=\"Importante\",0.3,IF(Tabla2[[#This Row],[Integridad]]=\"Leve\",0.2,\"\")))","v":""},null,{"$f":"+IF(Tabla2[[#This Row],[Disponibilidad Interna]]=\"Sí\",0.1,IF(Tabla2[[#This Row],[Disponibilidad Interna]]=\"NO\",0,\"\"))","v":""},null,{"$f":"+IF(Tabla2[[#This Row],[Disponibilidad Terceros]]=\"Sí\",0.1,IF(Tabla2[[#This Row],[Disponibilidad Terceros]]=\"No\",0,\"\"))","v":""},{"$f":"+Tabla2[[#This Row],[Columna32]]+Tabla2[[#This Row],[Columna34]]+Tabla2[[#This Row],[Columna1]]+Tabla2[[#This Row],[Columna3]]","v":{"$error":"#VALUE!"}},{"$f":"IFERROR(IF(Tabla2[[#This Row],[Columna33]]<0.45,\"BAJA\",IF(Tabla2[[#This Row],[Columna33]]>0.75,\"ALTA\",\"MEDIA\")),\"\")","v":""},"No Aplica",{"$f":"+IF(Tabla2[[#This Row],[Información Publicada (WEB)]]=\"Sí\",\"Digite URL\",\"No Aplica\")","v":"No Aplica"},null,{"$f":"IF(Tabla2[[#This Row],[ Clasificación ICBF]]=\"Pública\",1,IF(Tabla2[[#This Row],[ Clasificación ICBF]]=\"Clasificada\",2,IF(Tabla2[[#This Row],[ Clasificación ICBF]]=\"Reservada\",3,0)))","v":0},{"$f":"IF(#REF!=8,4,IF(#REF!=16,3,IF(#REF!=24,2,IF(#REF!=48,1,0))))","v":{"$error":"#REF!"}},{"$f":"IF(#REF!=8,\"Alto\",IF(#REF!=16,\"Medio\",IF(#REF!=24,\"Medio\",IF(#REF!=48,\"Bajo\",0))))","v":{"$error":"#REF!"}},null,{"$f":"+MID(Tabla2[[#This Row],[Área/Dependencia]],17,8)","v":""}]
["",null,null,null,{"$f":"+VLOOKUP(Tabla2[[#This Row],[SEDE - REGIONAL]],DATOS!B352:D385,3,FALSE)","v":{"$error":"#N/A"}},{"$f":"+IF(OR(Tabla2[[#This Row],[Área/Dependencia]]=\"Subdirección de Sistemas Integrados\",Tabla2[[#This Row],[Área/Dependencia]]=\"Subdirección de Recursos Tecnológicos\"),\"X\",\"\")","v":""},{"$f":"+CONCATENATE(Tabla2[[#This Row],[Tipo de Proceso]],Tabla2[[#This Row],[Columna4]])","v":{"$error":"#N/A"}},null,null,null,null,null,null,null,null,null,null,null,null,null,{"$f":"+IF(Tabla2[[#This Row],[Nivel de acceso ]]=\"Alto\",0.5,IF(Tabla2[[#This Row],[Nivel de acceso ]]=\"Medio\",0.3,IF(Tabla2[[#This Row],[Nivel de acceso ]]=\"Bajo\",0.2,\"\")))","v":""},null,{"$f":"+IF(Tabla2[[#This Row],[Es  Reservada]]=\"Sí\",\"Escriba Ley\",\"No Aplica\")","v":"No Aplica"},null,null,null,null,{"$f":"IFERROR(IF(AND(Tabla2[[#This Row],[Contiene Datos Personales]]=\"SÍ\",OR(Tabla2[[#This Row],[Clasificación Datos Personales]]=\"Sensible\",Tabla2[[#This Row],[Clasificación Datos Personales]]=\"NNA\",Tabla2[[#This Row],[Clasificación Datos Personales]]=\"privado\")),\"Alto\",IF(AND(Tabla2[[#This Row],[Contiene Datos Personales]]=\"SÍ\",Tabla2[[#This Row],[Clasificación Datos Personales]]=\"SEMIPRIVADO\"),\"Medio\",\"Bajo\")),\"\")","v":"Bajo"},null,null,"No Aplica","No Aplica",null,null,null,{"$f":"+IF(Tabla2[[#This Row],[Integridad]]=\"Grave\",0.5,IF(Tabla2[[#This Row],[Integridad]]=\"Importante\",0.3,IF(Tabla2[[#This Row],[Integridad]]=\"Leve\",0.2,\"\")))","v":""},null,{"$f":"+IF(Tabla2[[#This Row],[Disponibilidad Interna]]=\"Sí\",0.1,IF(Tabla2[[#This Row],[Disponibilidad Interna]]=\"NO\",0,\"\"))","v":""},null,{"$f":"+IF(Tabla2[[#This Row],[Disponibilidad Terceros]]=\"Sí\",0.1,IF(Tabla2[[#This Row],[Disponibilidad Terceros]]=\"No\",0,\"\"))","v":""},{"$f":"+Tabla2[[#This Row],[Columna32]]+Tabla2[[#This Row],[Columna34]]+Tabla2[[#This Row],[Columna1]]+Tabla2[[#This Row],[Columna3]]","v":{"$error":"#VALUE!"}},{"$f":"IFERROR(IF(Tabla2[[#This Row],[Columna33]]<0.45,\"BAJA\",IF(Tabla2[[#This Row],[Columna33]]>0.75,\"ALTA\",\"MEDIA\")),\"\")","v":""},"No Aplica",{"$f":"+IF(Tabla2[[#This Row],[Información Publicada (WEB)]]=\"Sí\",\"Digite URL\",\"No Aplica\")","v":"No Aplica"},null,{"$f":"IF(Tabla2[[#This Row],[ Clasificación ICBF]]=\"Pública\",1,IF(Tabla2[[#This Row],[ Clasificación ICBF]]=\"Clasificada\",2,IF(Tabla2[[#This Row],[ Clasificación ICBF]]=\"Reservada\",3,0)))","v":0},{"$f":"IF(#REF!=8,4,IF(#REF!=16,3,IF(#REF!=24,2,IF(#REF!=48,1,0))))","v":{"$error":"#REF!"}},{"$f":"IF(#REF!=8,\"Alto\",IF(#REF!=16,\"Medio\",IF(#REF!=24,\"Medio\",IF(#REF!=48,\"Bajo\",0))))","v":{"$error":"#REF!"}},null,{"$f":"+MID(Tabla2[[#This Row],[Área/Dependencia]],17,8)","v":""}]
["",null,null,null,{"$f":"+VLOOKUP(Tabla2[[#This Row],[SEDE - REGIONAL]],DATOS!B353:D386,3,FALSE)","v":{"$error":"#N/A"}},{"$f":"+IF(OR(Tabla2[[#This Row],[Área/Dependencia]]=\"Subdirección de Sistemas Integrados\",Tabla2[[#This Row],[Área/Dependencia]]=\"Subdirección de Recursos Tecnológicos\"),\"X\",\"\")","v":""},{"$f":"+CONCATENATE(Tabla2[[#This Row],[Tipo de Proceso]],Tabla2[[#This Row],[Columna4]])","v":{"$error":"#N/A"}},null,null,null,null,null,null,null,null,null,null,null,null,null,{"$f":"+IF(Tabla2[[#This Row],[Nivel de acceso ]]=\"Alto\",0.5,IF(Tabla2[[#This Row],[Nivel de acceso ]]=\"Medio\",0.3,IF(Tabla2[[#This Row],[Nivel de acceso ]]=\"Bajo\",0.2,\"\")))","v":""},null,{"$f":"+IF(Tabla2[[#This Row],[Es  Reservada]]=\"Sí\",\"Escriba Ley\",\"No Aplica\")","v":"No Aplica"},null,null,null,null,{"$f":"IFERROR(IF(AND(Tabla2[[#This Row],[Contiene Datos Personales]]=\"SÍ\",OR(Tabla2[[#This Row],[Clasificación Datos Personales]]=\"Sensible\",Tabla2[[#This Row],[Clasificación Datos Personales]]=\"NNA\",Tabla2[[#This Row],[Clasificación Datos Personales]]=\"privado\")),\"Alto\",IF(AND(Tabla2[[#This Row],[Contiene Datos Personales]]=\"SÍ\",Tabla2[[#This Row],[Clasificación Datos Personales]]=\"SEMIPRIVADO\"),\"Medio\",\"Bajo\")),\"\")","v":"Bajo"},null,null,"No Aplica","No Aplica",null,null,null,{"$f":"+IF(Tabla2[[#This Row],[Integridad]]=\"Grave\",0.5,IF(Tabla2[[#This Row],[Integridad]]=\"Importante\",0.3,IF(Tabla2[[#This Row],[Integridad]]=\"Leve\",0.2,\"\")))","v":""},null,{"$f":"+IF(Tabla2[[#This Row],[Disponibilidad Interna]]=\"Sí\",0.1,IF(Tabla2[[#This Row],[Disponibilidad Interna]]=\"NO\",0,\"\"))","v":""},null,{"$f":"+IF(Tabla2[[#This Row],[Disponibilidad Terceros]]=\"Sí\",0.1,IF(Tabla2[[#This Row],[Disponibilidad Terceros]]=\"No\",0,\"\"))","v":""},{"$f":"+Tabla2[[#This Row],[Columna32]]+Tabla2[[#This Row],[Columna34]]+Tabla2[[#This Row],[Columna1]]+Tabla2[[#This Row],[Columna3]]","v":{"$error":"#VALUE!"}},{"$f":"IFERROR(IF(Tabla2[[#This Row],[Columna33]]<0.45,\"BAJA\",IF(Tabla2[[#This Row],[Columna33]]>0.75,\"ALTA\",\"MEDIA\")),\"\")","v":""},"No Aplica",{"$f":"+IF(Tabla2[[#This Row],[Información Publicada (WEB)]]=\"Sí\",\"Digite URL\",\"No Aplica\")","v":"No Aplica"},null,{"$f":"IF(Tabla2[[#This Row],[ Clasificación ICBF]]=\"Pública\",1,IF(Tabla2[[#This Row],[ Clasificación ICBF]]=\"Clasificada\",2,IF(Tabla2[[#This Row],[ Clasificación ICBF]]=\"Reservada\",3,0)))","v":0},{"$f":"IF(#REF!=8,4,IF(#REF!=16,3,IF(#REF!=24,2,IF(#REF!=48,1,0))))","v":{"$error":"#REF!"}},{"$f":"IF(#REF!=8,\"Alto\",IF(#REF!=16,\"Medio\",IF(#REF!=24,\"Medio\",IF(#REF!=48,\"Bajo\",0))))","v":{"$error":"#REF!"}},null,{"$f":"+MID(Tabla2[[#This Row],[Área/Dependencia]],17,8)","v":""}]
["",null,null,null,{"$f":"+VLOOKUP(Tabla2[[#This Row],[SEDE - REGIONAL]],DATOS!B354:D387,3,FALSE)","v":{"$error":"#N/A"}},{"$f":"+IF(OR(Tabla2[[#This Row],[Área/Dependencia]]=\"Subdirección de Sistemas Integrados\",Tabla2[[#This Row],[Área/Dependencia]]=\"Subdirección de Recursos Tecnológicos\"),\"X\",\"\")","v":""},{"$f":"+CONCATENATE(Tabla2[[#This Row],[Tipo de Proceso]],Tabla2[[#This Row],[Columna4]])","v":{"$error":"#N/A"}},null,null,null,null,null,null,null,null,null,null,null,null,null,{"$f":"+IF(Tabla2[[#This Row],[Nivel de acceso ]]=\"Alto\",0.5,IF(Tabla2[[#This Row],[Nivel de acceso ]]=\"Medio\",0.3,IF(Tabla2[[#This Row],[Nivel de acceso ]]=\"Bajo\",0.2,\"\")))","v":""},null,{"$f":"+IF(Tabla2[[#This Row],[Es  Reservada]]=\"Sí\",\"Escriba Ley\",\"No Aplica\")","v":"No Aplica"},null,null,null,null,{"$f":"IFERROR(IF(AND(Tabla2[[#This Row],[Contiene Datos Personales]]=\"SÍ\",OR(Tabla2[[#This Row],[Clasificación Datos Personales]]=\"Sensible\",Tabla2[[#This Row],[Clasificación Datos Personales]]=\"NNA\",Tabla2[[#This Row],[Clasificación Datos Personales]]=\"privado\")),\"Alto\",IF(AND(Tabla2[[#This Row],[Contiene Datos Personales]]=\"SÍ\",Tabla2[[#This Row],[Clasificación Datos Personales]]=\"SEMIPRIVADO\"),\"Medio\",\"Bajo\")),\"\")","v":"Bajo"},null,null,"No Aplica","No Aplica",null,null,null,{"$f":"+IF(Tabla2[[#This Row],[Integridad]]=\"Grave\",0.5,IF(Tabla2[[#This Row],[Integridad]]=\"Importante\",0.3,IF(Tabla2[[#This Row],[Integridad]]=\"Leve\",0.2,\"\")))","v":""},null,{"$f":"+IF(Tabla2[[#This Row],[Disponibilidad Interna]]=\"Sí\",0.1,IF(Tabla2[[#This Row],[Disponibilidad Interna]]=\"NO\",0,\"\"))","v":""},null,{"$f":"+IF(Tabla2[[#This Row],[Disponibilidad Terceros]]=\"Sí\",0.1,IF(Tabla2[[#This Row],[Disponibilidad Terceros]]=\"No\",0,\"\"))","v":""},{"$f":"+Tabla2[[#This Row],[Columna32]]+Tabla2[[#This Row],[Columna34]]+Tabla2[[#This Row],[Columna1]]+Tabla2[[#This Row],[Columna3]]","v":{"$error":"#VALUE!"}},{"$f":"IFERROR(IF(Tabla2[[#This Row],[Columna33]]<0.45,\"BAJA\",IF(Tabla2[[#This Row],[Columna33]]>0.75,\"ALTA\",\"MEDIA\")),\"\")","v":""},"No Aplica",{"$f":"+IF(Tabla2[[#This Row],[Información Publicada (WEB)]]=\"Sí\",\"Digite URL\",\"No Aplica\")","v":"No Aplica"},null,{"$f":"IF(Tabla2[[#This Row],[ Clasificación ICBF]]=\"Pública\",1,IF(Tabla2[[#This Row],[ Clasificación ICBF]]=\"Clasificada\",2,IF(Tabla2[[#This Row],[ Clasificación ICBF]]=\"Reservada\",3,0)))","v":0},{"$f":"IF(#REF!=8,4,IF(#REF!=16,3,IF(#REF!=24,2,IF(#REF!=48,1,0))))","v":{"$error":"#REF!"}},{"$f":"IF(#REF!=8,\"Alto\",IF(#REF!=16,\"Medio\",IF(#REF!=24,\"Medio\",IF(#REF!=48,\"Bajo\",0))))","v":{"$error":"#REF!"}},null,{"$f":"+MID(Tabla2[[#This Row],[Área/Dependencia]],17,8)","v":""}]
["",null,null,null,{"$f":"+VLOOKUP(Tabla2[[#This Row],[SEDE - REGIONAL]],DATOS!B355:D388,3,FALSE)","v":{"$error":"#N/A"}},{"$f":"+IF(OR(Tabla2[[#This Row],[Área/Dependencia]]=\"Subdirección de Sistemas Integrados\",Tabla2[[#This Row],[Área/Dependencia]]=\"Subdirección de Recursos Tecnológicos\"),\"X\",\"\")","v":""},{"$f":"+CONCATENATE(Tabla2[[#This Row],[Tipo de Proceso]],Tabla2[[#This Row],[Columna4]])","v":{"$error":"#N/A"}},null,null,null,null,null,null,null,null,null,null,null,null,null,{"$f":"+IF(Tabla2[[#This Row],[Nivel de acceso ]]=\"Alto\",0.5,IF(Tabla2[[#This Row],[Nivel de acceso ]]=\"Medio\",0.3,IF(Tabla2[[#This Row],[Nivel de acceso ]]=\"Bajo\",0.2,\"\")))","v":""},null,{"$f":"+IF(Tabla2[[#This Row],[Es  Reservada]]=\"Sí\",\"Escriba Ley\",\"No Aplica\")","v":"No Aplica"},null,null,null,null,{"$f":"IFERROR(IF(AND(Tabla2[[#This Row],[Contiene Datos Personales]]=\"SÍ\",OR(Tabla2[[#This Row],[Clasificación Datos Personales]]=\"Sensible\",Tabla2[[#This Row],[Clasificación Datos Personales]]=\"NNA\",Tabla2[[#This Row],[Clasificación Datos Personales]]=\"privado\")),\"Alto\",IF(AND(Tabla2[[#This Row],[Contiene Datos Personales]]=\"SÍ\",Tabla2[[#This Row],[Clasificación Datos Personales]]=\"SEMIPRIVADO\"),\"Medio\",\"Bajo\")),\"\")","v":"Bajo"},null,null,"No Aplica","No Aplica",null,null,null,{"$f":"+IF(Tabla2[[#This Row],[Integridad]]=\"Grave\",0.5,IF(Tabla2[[#This Row],[Integridad]]=\"Importante\",0.3,IF(Tabla2[[#This Row],[Integridad]]=\"Leve\",0.2,\"\")))","v":""},null,{"$f":"+IF(Tabla2[[#This Row],[Disponibilidad Interna]]=\"Sí\",0.1,IF(Tabla2[[#This Row],[Disponibilidad Interna]]=\"NO\",0,\"\"))","v":""},null,{"$f":"+IF(Tabla2[[#This Row],[Disponibilidad Terceros]]=\"Sí\",0.1,IF(Tabla2[[#This Row],[Disponibilidad Terceros]]=\"No\",0,\"\"))","v":""},{"$f":"+Tabla2[[#This Row],[Columna32]]+Tabla2[[#This Row],[Columna34]]+Tabla2[[#This Row],[Columna1]]+Tabla2[[#This Row],[Columna3]]","v":{"$error":"#VALUE!"}},{"$f":"IFERROR(IF(Tabla2[[#This Row],[Columna33]]<0.45,\"BAJA\",IF(Tabla2[[#This Row],[Columna33]]>0.75,\"ALTA\",\"MEDIA\")),\"\")","v":""},"No Aplica",{"$f":"+IF(Tabla2[[#This Row],[Información Publicada (WEB)]]=\"Sí\",\"Digite URL\",\"No Aplica\")","v":"No Aplica"},null,{"$f":"IF(Tabla2[[#This Row],[ Clasificación ICBF]]=\"Pública\",1,IF(Tabla2[[#This Row],[ Clasificación ICBF]]=\"Clasificada\",2,IF(Tabla2[[#This Row],[ Clasificación ICBF]]=\"Reservada\",3,0)))","v":0},{"$f":"IF(#REF!=8,4,IF(#REF!=16,3,IF(#REF!=24,2,IF(#REF!=48,1,0))))","v":{"$error":"#REF!"}},{"$f":"IF(#REF!=8,\"Alto\",IF(#REF!=16,\"Medio\",IF(#REF!=24,\"Medio\",IF(#REF!=48,\"Bajo\",0))))","v":{"$error":"#REF!"}},null,{"$f":"+MID(Tabla2[[#This Row],[Área/Dependencia]],17,8)","v":""}]
["",null,null,null,{"$f":"+VLOOKUP(Tabla2[[#This Row],[SEDE - REGIONAL]],DATOS!B356:D389,3,FALSE)","v":{"$error":"#N/A"}},{"$f":"+IF(OR(Tabla2[[#This Row],[Área/Dependencia]]=\"Subdirección de Sistemas Integrados\",Tabla2[[#This Row],[Área/Dependencia]]=\"Subdirección de Recursos Tecnológicos\"),\"X\",\"\")","v":""},{"$f":"+CONCATENATE(Tabla2[[#This Row],[Tipo de Proceso]],Tabla2[[#This Row],[Columna4]])","v":{"$error":"#N/A"}},null,null,null,null,null,null,null,null,null,null,null,null,null,{"$f":"+IF(Tabla2[[#This Row],[Nivel de acceso ]]=\"Alto\",0.5,IF(Tabla2[[#This Row],[Nivel de acceso ]]=\"Medio\",0.3,IF(Tabla2[[#This Row],[Nivel de acceso ]]=\"Bajo\",0.2,\"\")))","v":""},null,{"$f":"+IF(Tabla2[[#This Row],[Es  Reservada]]=\"Sí\",\"Escriba Ley\",\"No Aplica\")","v":"No Aplica"},null,null,null,null,{"$f":"IFERROR(IF(AND(Tabla2[[#This Row],[Contiene Datos Personales]]=\"SÍ\",OR(Tabla2[[#This Row],[Clasificación Datos Personales]]=\"Sensible\",Tabla2[[#This Row],[Clasificación Datos Personales]]=\"NNA\",Tabla2[[#This Row],[Clasificación Datos Personales]]=\"privado\")),\"Alto\",IF(AND(Tabla2[[#This Row],[Contiene Datos Personales]]=\"SÍ\",Tabla2[[#This Row],[Clasificación Datos Personales]]=\"SEMIPRIVADO\"),\"Medio\",\"Bajo\")),\"\")","v":"Bajo"},null,null,"No Aplica","No Aplica",null,null,null,{"$f":"+IF(Tabla2[[#This Row],[Integridad]]=\"Grave\",0.5,IF(Tabla2[[#This Row],[Integridad]]=\"Importante\",0.3,IF(Tabla2[[#This Row],[Integridad]]=\"Leve\",0.2,\"\")))","v":""},null,{"$f":"+IF(Tabla2[[#This Row],[Disponibilidad Interna]]=\"Sí\",0.1,IF(Tabla2[[#This Row],[Disponibilidad Interna]]=\"NO\",0,\"\"))","v":""},null,{"$f":"+IF(Tabla2[[#This Row],[Disponibilidad Terceros]]=\"Sí\",0.1,IF(Tabla2[[#This Row],[Disponibilidad Terceros]]=\"No\",0,\"\"))","v":""},{"$f":"+Tabla2[[#This Row],[Columna32]]+Tabla2[[#This Row],[Columna34]]+Tabla2[[#This Row],[Columna1]]+Tabla2[[#This Row],[Columna3]]","v":{"$error":"#VALUE!"}},{"$f":"IFERROR(IF(Tabla2[[#This Row],[Columna33]]<0.45,\"BAJA\",IF(Tabla2[[#This Row],[Columna33]]>0.75,\"ALTA\",\"MEDIA\")),\"\")","v":""},"No Aplica",{"$f":"+IF(Tabla2[[#This Row],[Información Publicada (WEB)]]=\"Sí\",\"Digite URL\",\"No Aplica\")","v":"No Aplica"},null,{"$f":"IF(Tabla2[[#This Row],[ Clasificación ICBF]]=\"Pública\",1,IF(Tabla2[[#This Row],[ Clasificación ICBF]]=\"Clasificada\",2,IF(Tabla2[[#This Row],[ Clasificación ICBF]]=\"Reservada\",3,0)))","v":0},{"$f":"IF(#REF!=8,4,IF(#REF!=16,3,IF(#REF!=24,2,IF(#REF!=48,1,0))))","v":{"$error":"#REF!"}},{"$f":"IF(#REF!=8,\"Alto\",IF(#REF!=16,\"Medio\",IF(#REF!=24,\"Medio\",IF(#REF!=48,\"Bajo\",0))))","v":{"$error":"#REF!"}},null,{"$f":"+MID(Tabla2[[#This Row],[Área/Dependencia]],17,8)","v":""}]
["",null,null,null,{"$f":"+VLOOKUP(Tabla2[[#This Row],[SEDE - REGIONAL]],DATOS!B357:D390,3,FALSE)","v":{"$error":"#N/A"}},{"$f":"+IF(OR(Tabla2[[#This Row],[Área/Dependencia]]=\"Subdirección de Sistemas Integrados\",Tabla2[[#This Row],[Área/Dependencia]]=\"Subdirección de Recursos Tecnológicos\"),\"X\",\"\")","v":""},{"$f":"+CONCATENATE(Tabla2[[#This Row],[Tipo de Proceso]],Tabla2[[#This Row],[Columna4]])","v":{"$error":"#N/A"}},null,null,null,null,null,null,null,null,null,null,null,null,null,{"$f":"+IF(Tabla2[[#This Row],[Nivel de acceso ]]=\"Alto\",0.5,IF(Tabla2[[#This Row],[Nivel de acceso ]]=\"Medio\",0.3,IF(Tabla2[[#This Row],[Nivel de acceso ]]=\"Bajo\",0.2,\"\")))","v":""},null,{"$f":"+IF(Tabla2[[#This Row],[Es  Reservada]]=\"Sí\",\"Escriba Ley\",\"No Aplica\")","v":"No Aplica"},null,null,null,null,{"$f":"IFERROR(IF(AND(Tabla2[[#This Row],[Contiene Datos Personales]]=\"SÍ\",OR(Tabla2[[#This Row],[Clasificación Datos Personales]]=\"Sensible\",Tabla2[[#This Row],[Clasificación Datos Personales]]=\"NNA\",Tabla2[[#This Row],[Clasificación Datos Personales]]=\"privado\")),\"Alto\",IF(AND(Tabla2[[#This Row],[Contiene Datos Personales]]=\"SÍ\",Tabla2[[#This Row],[Clasificación Datos Personales]]=\"SEMIPRIVADO\"),\"Medio\",\"Bajo\")),\"\")","v":"Bajo"},null,null,"No Aplica","No Aplica",null,null,null,{"$f":"+IF(Tabla2[[#This Row],[Integridad]]=\"Grave\",0.5,IF(Tabla2[[#This Row],[Integridad]]=\"Importante\",0.3,IF(Tabla2[[#This Row],[Integridad]]=\"Leve\",0.2,\"\")))","v":""},null,{"$f":"+IF(Tabla2[[#This Row],[Disponibilidad Interna]]=\"Sí\",0.1,IF(Tabla2[[#This Row],[Disponibilidad Interna]]=\"NO\",0,\"\"))","v":""},null,{"$f":"+IF(Tabla2[[#This Row],[Disponibilidad Terceros]]=\"Sí\",0.1,IF(Tabla2[[#This Row],[Disponibilidad Terceros]]=\"No\",0,\"\"))","v":""},{"$f":"+Tabla2[[#This Row],[Columna32]]+Tabla2[[#This Row],[Columna34]]+Tabla2[[#This Row],[Columna1]]+Tabla2[[#This Row],[Columna3]]","v":{"$error":"#VALUE!"}},{"$f":"IFERROR(IF(Tabla2[[#This Row],[Columna33]]<0.45,\"BAJA\",IF(Tabla2[[#This Row],[Columna33]]>0.75,\"ALTA\",\"MEDIA\")),\"\")","v":""},"No Aplica",{"$f":"+IF(Tabla2[[#This Row],[Información Publicada (WEB)]]=\"Sí\",\"Digite URL\",\"No Aplica\")","v":"No Aplica"},null,{"$f":"IF(Tabla2[[#This Row],[ Clasificación ICBF]]=\"Pública\",1,IF(Tabla2[[#This Row],[ Clasificación ICBF]]=\"Clasificada\",2,IF(Tabla2[[#This Row],[ Clasificación ICBF]]=\"Reservada\",3,0)))","v":0},{"$f":"IF(#REF!=8,4,IF(#REF!=16,3,IF(#REF!=24,2,IF(#REF!=48,1,0))))","v":{"$error":"#REF!"}},{"$f":"IF(#REF!=8,\"Alto\",IF(#REF!=16,\"Medio\",IF(#REF!=24,\"Medio\",IF(#REF!=48,\"Bajo\",0))))","v":{"$error":"#REF!"}},null,{"$f":"+MID(Tabla2[[#This Row],[Área/Dependencia]],17,8)","v":""}]
["",null,null,null,{"$f":"+VLOOKUP(Tabla2[[#This Row],[SEDE - REGIONAL]],DATOS!B358:D391,3,FALSE)","v":{"$error":"#N/A"}},{"$f":"+IF(OR(Tabla2[[#This Row],[Área/Dependencia]]=\"Subdirección de Sistemas Integrados\",Tabla2[[#This Row],[Área/Dependencia]]=\"Subdirección de Recursos Tecnológicos\"),\"X\",\"\")","v":""},{"$f":"+CONCATENATE(Tabla2[[#This Row],[Tipo de Proceso]],Tabla2[[#This Row],[Columna4]])","v":{"$error":"#N/A"}},null,null,null,null,null,null,null,null,null,null,null,null,null,{"$f":"+IF(Tabla2[[#This Row],[Nivel de acceso ]]=\"Alto\",0.5,IF(Tabla2[[#This Row],[Nivel de acceso ]]=\"Medio\",0.3,IF(Tabla2[[#This Row],[Nivel de acceso ]]=\"Bajo\",0.2,\"\")))","v":""},null,{"$f":"+IF(Tabla2[[#This Row],[Es  Reservada]]=\"Sí\",\"Escriba Ley\",\"No Aplica\")","v":"No Aplica"},null,null,null,null,{"$f":"IFERROR(IF(AND(Tabla2[[#This Row],[Contiene Datos Personales]]=\"SÍ\",OR(Tabla2[[#This Row],[Clasificación Datos Personales]]=\"Sensible\",Tabla2[[#This Row],[Clasificación Datos Personales]]=\"NNA\",Tabla2[[#This Row],[Clasificación Datos Personales]]=\"privado\")),\"Alto\",IF(AND(Tabla2[[#This Row],[Contiene Datos Personales]]=\"SÍ\",Tabla2[[#This Row],[Clasificación Datos Personales]]=\"SEMIPRIVADO\"),\"Medio\",\"Bajo\")),\"\")","v":"Bajo"},null,null,"No Aplica","No Aplica",null,null,null,{"$f":"+IF(Tabla2[[#This Row],[Integridad]]=\"Grave\",0.5,IF(Tabla2[[#This Row],[Integridad]]=\"Importante\",0.3,IF(Tabla2[[#This Row],[Integridad]]=\"Leve\",0.2,\"\")))","v":""},null,{"$f":"+IF(Tabla2[[#This Row],[Disponibilidad Interna]]=\"Sí\",0.1,IF(Tabla2[[#This Row],[Disponibilidad Interna]]=\"NO\",0,\"\"))","v":""},null,{"$f":"+IF(Tabla2[[#This Row],[Disponibilidad Terceros]]=\"Sí\",0.1,IF(Tabla2[[#This Row],[Disponibilidad Terceros]]=\"No\",0,\"\"))","v":""},{"$f":"+Tabla2[[#This Row],[Columna32]]+Tabla2[[#This Row],[Columna34]]+Tabla2[[#This Row],[Columna1]]+Tabla2[[#This Row],[Columna3]]","v":{"$error":"#VALUE!"}},{"$f":"IFERROR(IF(Tabla2[[#This Row],[Columna33]]<0.45,\"BAJA\",IF(Tabla2[[#This Row],[Columna33]]>0.75,\"ALTA\",\"MEDIA\")),\"\")","v":""},"No Aplica",{"$f":"+IF(Tabla2[[#This Row],[Información Publicada (WEB)]]=\"Sí\",\"Digite URL\",\"No Aplica\")","v":"No Aplica"},null,{"$f":"IF(Tabla2[[#This Row],[ Clasificación ICBF]]=\"Pública\",1,IF(Tabla2[[#This Row],[ Clasificación ICBF]]=\"Clasificada\",2,IF(Tabla2[[#This Row],[ Clasificación ICBF]]=\"Reservada\",3,0)))","v":0},{"$f":"IF(#REF!=8,4,IF(#REF!=16,3,IF(#REF!=24,2,IF(#REF!=48,1,0))))","v":{"$error":"#REF!"}},{"$f":"IF(#REF!=8,\"Alto\",IF(#REF!=16,\"Medio\",IF(#REF!=24,\"Medio\",IF(#REF!=48,\"Bajo\",0))))","v":{"$error":"#REF!"}},null,{"$f":"+MID(Tabla2[[#This Row],[Área/Dependencia]],17,8)","v":""}]
["",null,null,null,{"$f":"+VLOOKUP(Tabla2[[#This Row],[SEDE - REGIONAL]],DATOS!B359:D392,3,FALSE)","v":{"$error":"#N/A"}},{"$f":"+IF(OR(Tabla2[[#This Row],[Área/Dependencia]]=\"Subdirección de Sistemas Integrados\",Tabla2[[#This Row],[Área/Dependencia]]=\"Subdirección de Recursos Tecnológicos\"),\"X\",\"\")","v":""},{"$f":"+CONCATENATE(Tabla2[[#This Row],[Tipo de Proceso]],Tabla2[[#This Row],[Columna4]])","v":{"$error":"#N/A"}},null,null,null,null,null,null,null,null,null,null,null,null,null,{"$f":"+IF(Tabla2[[#This Row],[Nivel de acceso ]]=\"Alto\",0.5,IF(Tabla2[[#This Row],[Nivel de acceso ]]=\"Medio\",0.3,IF(Tabla2[[#This Row],[Nivel de acceso ]]=\"Bajo\",0.2,\"\")))","v":""},null,{"$f":"+IF(Tabla2[[#This Row],[Es  Reservada]]=\"Sí\",\"Escriba Ley\",\"No Aplica\")","v":"No Aplica"},null,null,null,null,{"$f":"IFERROR(IF(AND(Tabla2[[#This Row],[Contiene Datos Personales]]=\"SÍ\",OR(Tabla2[[#This Row],[Clasificación Datos Personales]]=\"Sensible\",Tabla2[[#This Row],[Clasificación Datos Personales]]=\"NNA\",Tabla2[[#This Row],[Clasificación Datos Personales]]=\"privado\")),\"Alto\",IF(AND(Tabla2[[#This Row],[Contiene Datos Personales]]=\"SÍ\",Tabla2[[#This Row],[Clasificación Datos Personales]]=\"SEMIPRIVADO\"),\"Medio\",\"Bajo\")),\"\")","v":"Bajo"},null,null,"No Aplica","No Aplica",null,null,null,{"$f":"+IF(Tabla2[[#This Row],[Integridad]]=\"Grave\",0.5,IF(Tabla2[[#This Row],[Integridad]]=\"Importante\",0.3,IF(Tabla2[[#This Row],[Integridad]]=\"Leve\",0.2,\"\")))","v":""},null,{"$f":"+IF(Tabla2[[#This Row],[Disponibilidad Interna]]=\"Sí\",0.1,IF(Tabla2[[#This Row],[Disponibilidad Interna]]=\"NO\",0,\"\"))","v":""},null,{"$f":"+IF(Tabla2[[#This Row],[Disponibilidad Terceros]]=\"Sí\",0.1,IF(Tabla2[[#This Row],[Disponibilidad Terceros]]=\"No\",0,\"\"))","v":""},{"$f":"+Tabla2[[#This Row],[Columna32]]+Tabla2[[#This Row],[Columna34]]+Tabla2[[#This Row],[Columna1]]+Tabla2[[#This Row],[Columna3]]","v":{"$error":"#VALUE!"}},{"$f":"IFERROR(IF(Tabla2[[#This Row],[Columna33]]<0.45,\"BAJA\",IF(Tabla2[[#This Row],[Columna33]]>0.75,\"ALTA\",\"MEDIA\")),\"\")","v":""},"No Aplica",{"$f":"+IF(Tabla2[[#This Row],[Información Publicada (WEB)]]=\"Sí\",\"Digite URL\",\"No Aplica\")","v":"No Aplica"},null,{"$f":"IF(Tabla2[[#This Row],[ Clasificación ICBF]]=\"Pública\",1,IF(Tabla2[[#This Row],[ Clasificación ICBF]]=\"Clasificada\",2,IF(Tabla2[[#This Row],[ Clasificación ICBF]]=\"Reservada\",3,0)))","v":0},{"$f":"IF(#REF!=8,4,IF(#REF!=16,3,IF(#REF!=24,2,IF(#REF!=48,1,0))))","v":{"$error":"#REF!"}},{"$f":"IF(#REF!=8,\"Alto\",IF(#REF!=16,\"Medio\",IF(#REF!=24,\"Medio\",IF(#REF!=48,\"Bajo\",0))))","v":{"$error":"#REF!"}},null,{"$f":"+MID(Tabla2[[#This Row],[Área/Dependencia]],17,8)","v":""}]
["",null,null,null,{"$f":"+VLOOKUP(Tabla2[[#This Row],[SEDE - REGIONAL]],DATOS!B360:D393,3,FALSE)","v":{"$error":"#N/A"}},{"$f":"+IF(OR(Tabla2[[#This Row],[Área/Dependencia]]=\"Subdirección de Sistemas Integrados\",Tabla2[[#This Row],[Área/Dependencia]]=\"Subdirección de Recursos Tecnológicos\"),\"X\",\"\")","v":""},{"$f":"+CONCATENATE(Tabla2[[#This Row],[Tipo de Proceso]],Tabla2[[#This Row],[Columna4]])","v":{"$error":"#N/A"}},null,null,null,null,null,null,null,null,null,null,null,null,null,{"$f":"+IF(Tabla2[[#This Row],[Nivel de acceso ]]=\"Alto\",0.5,IF(Tabla2[[#This Row],[Nivel de acceso ]]=\"Medio\",0.3,IF(Tabla2[[#This Row],[Nivel de acceso ]]=\"Bajo\",0.2,\"\")))","v":""},null,{"$f":"+IF(Tabla2[[#This Row],[Es  Reservada]]=\"Sí\",\"Escriba Ley\",\"No Aplica\")","v":"No Aplica"},null,null,null,null,{"$f":"IFERROR(IF(AND(Tabla2[[#This Row],[Contiene Datos Personales]]=\"SÍ\",OR(Tabla2[[#This Row],[Clasificación Datos Personales]]=\"Sensible\",Tabla2[[#This Row],[Clasificación Datos Personales]]=\"NNA\",Tabla2[[#This Row],[Clasificación Datos Personales]]=\"privado\")),\"Alto\",IF(AND(Tabla2[[#This Row],[Contiene Datos Personales]]=\"SÍ\",Tabla2[[#This Row],[Clasificación Datos Personales]]=\"SEMIPRIVADO\"),\"Medio\",\"Bajo\")),\"\")","v":"Bajo"},null,null,"No Aplica","No Aplica",null,null,null,{"$f":"+IF(Tabla2[[#This Row],[Integridad]]=\"Grave\",0.5,IF(Tabla2[[#This Row],[Integridad]]=\"Importante\",0.3,IF(Tabla2[[#This Row],[Integridad]]=\"Leve\",0.2,\"\")))","v":""},null,{"$f":"+IF(Tabla2[[#This Row],[Disponibilidad Interna]]=\"Sí\",0.1,IF(Tabla2[[#This Row],[Disponibilidad Interna]]=\"NO\",0,\"\"))","v":""},null,{"$f":"+IF(Tabla2[[#This Row],[Disponibilidad Terceros]]=\"Sí\",0.1,IF(Tabla2[[#This Row],[Disponibilidad Terceros]]=\"No\",0,\"\"))","v":""},{"$f":"+Tabla2[[#This Row],[Columna32]]+Tabla2[[#This Row],[Columna34]]+Tabla2[[#This Row],[Columna1]]+Tabla2[[#This Row],[Columna3]]","v":{"$error":"#VALUE!"}},{"$f":"IFERROR(IF(Tabla2[[#This Row],[Columna33]]<0.45,\"BAJA\",IF(Tabla2[[#This Row],[Columna33]]>0.75,\"ALTA\",\"MEDIA\")),\"\")","v":""},"No Aplica",{"$f":"+IF(Tabla2[[#This Row],[Información Publicada (WEB)]]=\"Sí\",\"Digite URL\",\"No Aplica\")","v":"No Aplica"},null,{"$f":"IF(Tabla2[[#This Row],[ Clasificación ICBF]]=\"Pública\",1,IF(Tabla2[[#This Row],[ Clasificación ICBF]]=\"Clasificada\",2,IF(Tabla2[[#This Row],[ Clasificación ICBF]]=\"Reservada\",3,0)))","v":0},{"$f":"IF(#REF!=8,4,IF(#REF!=16,3,IF(#REF!=24,2,IF(#REF!=48,1,0))))","v":{"$error":"#REF!"}},{"$f":"IF(#REF!=8,\"Alto\",IF(#REF!=16,\"Medio\",IF(#REF!=24,\"Medio\",IF(#REF!=48,\"Bajo\",0))))","v":{"$error":"#REF!"}},null,{"$f":"+MID(Tabla2[[#This Row],[Área/Dependencia]],17,8)","v":""}]
["",null,null,null,{"$f":"+VLOOKUP(Tabla2[[#This Row],[SEDE - REGIONAL]],DATOS!B361:D394,3,FALSE)","v":{"$error":"#N/A"}},{"$f":"+IF(OR(Tabla2[[#This Row],[Área/Dependencia]]=\"Subdirección de Sistemas Integrados\",Tabla2[[#This Row],[Área/Dependencia]]=\"Subdirección de Recursos Tecnológicos\"),\"X\",\"\")","v":""},{"$f":"+CONCATENATE(Tabla2[[#This Row],[Tipo de Proceso]],Tabla2[[#This Row],[Columna4]])","v":{"$error":"#N/A"}},null,null,null,null,null,null,null,null,null,null,null,null,null,{"$f":"+IF(Tabla2[[#This Row],[Nivel de acceso ]]=\"Alto\",0.5,IF(Tabla2[[#This Row],[Nivel de acceso ]]=\"Medio\",0.3,IF(Tabla2[[#This Row],[Nivel de acceso ]]=\"Bajo\",0.2,\"\")))","v":""},null,{"$f":"+IF(Tabla2[[#This Row],[Es  Reservada]]=\"Sí\",\"Escriba Ley\",\"No Aplica\")","v":"No Aplica"},null,null,null,null,{"$f":"IFERROR(IF(AND(Tabla2[[#This Row],[Contiene Datos Personales]]=\"SÍ\",OR(Tabla2[[#This Row],[Clasificación Datos Personales]]=\"Sensible\",Tabla2[[#This Row],[Clasificación Datos Personales]]=\"NNA\",Tabla2[[#This Row],[Clasificación Datos Personales]]=\"privado\")),\"Alto\",IF(AND(Tabla2[[#This Row],[Contiene Datos Personales]]=\"SÍ\",Tabla2[[#This Row],[Clasificación Datos Personales]]=\"SEMIPRIVADO\"),\"Medio\",\"Bajo\")),\"\")","v":"Bajo"},null,null,"No Aplica","No Aplica",null,null,null,{"$f":"+IF(Tabla2[[#This Row],[Integridad]]=\"Grave\",0.5,IF(Tabla2[[#This Row],[Integridad]]=\"Importante\",0.3,IF(Tabla2[[#This Row],[Integridad]]=\"Leve\",0.2,\"\")))","v":""},null,{"$f":"+IF(Tabla2[[#This Row],[Disponibilidad Interna]]=\"Sí\",0.1,IF(Tabla2[[#This Row],[Disponibilidad Interna]]=\"NO\",0,\"\"))","v":""},null,{"$f":"+IF(Tabla2[[#This Row],[Disponibilidad Terceros]]=\"Sí\",0.1,IF(Tabla2[[#This Row],[Disponibilidad Terceros]]=\"No\",0,\"\"))","v":""},{"$f":"+Tabla2[[#This Row],[Columna32]]+Tabla2[[#This Row],[Columna34]]+Tabla2[[#This Row],[Columna1]]+Tabla2[[#This Row],[Columna3]]","v":{"$error":"#VALUE!"}},{"$f":"IFERROR(IF(Tabla2[[#This Row],[Columna33]]<0.45,\"BAJA\",IF(Tabla2[[#This Row],[Columna33]]>0.75,\"ALTA\",\"MEDIA\")),\"\")","v":""},"No Aplica",{"$f":"+IF(Tabla2[[#This Row],[Información Publicada (WEB)]]=\"Sí\",\"Digite URL\",\"No Aplica\")","v":"No Aplica"},null,{"$f":"IF(Tabla2[[#This Row],[ Clasificación ICBF]]=\"Pública\",1,IF(Tabla2[[#This Row],[ Clasificación ICBF]]=\"Clasificada\",2,IF(Tabla2[[#This Row],[ Clasificación ICBF]]=\"Reservada\",3,0)))","v":0},{"$f":"IF(#REF!=8,4,IF(#REF!=16,3,IF(#REF!=24,2,IF(#REF!=48,1,0))))","v":{"$error":"#REF!"}},{"$f":"IF(#REF!=8,\"Alto\",IF(#REF!=16,\"Medio\",IF(#REF!=24,\"Medio\",IF(#REF!=48,\"Bajo\",0))))","v":{"$error":"#REF!"}},null,{"$f":"+MID(Tabla2[[#This Row],[Área/Dependencia]],17,8)","v":""}]
["",null,null,null,{"$f":"+VLOOKUP(Tabla2[[#This Row],[SEDE - REGIONAL]],DATOS!B362:D395,3,FALSE)","v":{"$error":"#N/A"}},{"$f":"+IF(OR(Tabla2[[#This Row],[Área/Dependencia]]=\"Subdirección de Sistemas Integrados\",Tabla2[[#This Row],[Área/Dependencia]]=\"Subdirección de Recursos Tecnológicos\"),\"X\",\"\")","v":""},{"$f":"+CONCATENATE(Tabla2[[#This Row],[Tipo de Proceso]],Tabla2[[#This Row],[Columna4]])","v":{"$error":"#N/A"}},null,null,null,null,null,null,null,null,null,null,null,null,null,{"$f":"+IF(Tabla2[[#This Row],[Nivel de acceso ]]=\"Alto\",0.5,IF(Tabla2[[#This Row],[Nivel de acceso ]]=\"Medio\",0.3,IF(Tabla2[[#This Row],[Nivel de acceso ]]=\"Bajo\",0.2,\"\")))","v":""},null,{"$f":"+IF(Tabla2[[#This Row],[Es  Reservada]]=\"Sí\",\"Escriba Ley\",\"No Aplica\")","v":"No Aplica"},null,null,null,null,{"$f":"IFERROR(IF(AND(Tabla2[[#This Row],[Contiene Datos Personales]]=\"SÍ\",OR(Tabla2[[#This Row],[Clasificación Datos Personales]]=\"Sensible\",Tabla2[[#This Row],[Clasificación Datos Personales]]=\"NNA\",Tabla2[[#This Row],[Clasificación Datos Personales]]=\"privado\")),\"Alto\",IF(AND(Tabla2[[#This Row],[Contiene Datos Personales]]=\"SÍ\",Tabla2[[#This Row],[Clasificación Datos Personales]]=\"SEMIPRIVADO\"),\"Medio\",\"Bajo\")),\"\")","v":"Bajo"},null,null,"No Aplica","No Aplica",null,null,null,{"$f":"+IF(Tabla2[[#This Row],[Integridad]]=\"Grave\",0.5,IF(Tabla2[[#This Row],[Integridad]]=\"Importante\",0.3,IF(Tabla2[[#This Row],[Integridad]]=\"Leve\",0.2,\"\")))","v":""},null,{"$f":"+IF(Tabla2[[#This Row],[Disponibilidad Interna]]=\"Sí\",0.1,IF(Tabla2[[#This Row],[Disponibilidad Interna]]=\"NO\",0,\"\"))","v":""},null,{"$f":"+IF(Tabla2[[#This Row],[Disponibilidad Terceros]]=\"Sí\",0.1,IF(Tabla2[[#This Row],[Disponibilidad Terceros]]=\"No\",0,\"\"))","v":""},{"$f":"+Tabla2[[#This Row],[Columna32]]+Tabla2[[#This Row],[Columna34]]+Tabla2[[#This Row],[Columna1]]+Tabla2[[#This Row],[Columna3]]","v":{"$error":"#VALUE!"}},{"$f":"IFERROR(IF(Tabla2[[#This Row],[Columna33]]<0.45,\"BAJA\",IF(Tabla2[[#This Row],[Columna33]]>0.75,\"ALTA\",\"MEDIA\")),\"\")","v":""},"No Aplica",{"$f":"+IF(Tabla2[[#This Row],[Información Publicada (WEB)]]=\"Sí\",\"Digite URL\",\"No Aplica\")","v":"No Aplica"},null,{"$f":"IF(Tabla2[[#This Row],[ Clasificación ICBF]]=\"Pública\",1,IF(Tabla2[[#This Row],[ Clasificación ICBF]]=\"Clasificada\",2,IF(Tabla2[[#This Row],[ Clasificación ICBF]]=\"Reservada\",3,0)))","v":0},{"$f":"IF(#REF!=8,4,IF(#REF!=16,3,IF(#REF!=24,2,IF(#REF!=48,1,0))))","v":{"$error":"#REF!"}},{"$f":"IF(#REF!=8,\"Alto\",IF(#REF!=16,\"Medio\",IF(#REF!=24,\"Medio\",IF(#REF!=48,\"Bajo\",0))))","v":{"$error":"#REF!"}},null,{"$f":"+MID(Tabla2[[#This Row],[Área/Dependencia]],17,8)","v":""}]
["",null,null,null,{"$f":"+VLOOKUP(Tabla2[[#This Row],[SEDE - REGIONAL]],DATOS!B363:D396,3,FALSE)","v":{"$error":"#N/A"}},{"$f":"+IF(OR(Tabla2[[#This Row],[Área/Dependencia]]=\"Subdirección de Sistemas Integrados\",Tabla2[[#This Row],[Área/Dependencia]]=\"Subdirección de Recursos Tecnológicos\"),\"X\",\"\")","v":""},{"$f":"+CONCATENATE(Tabla2[[#This Row],[Tipo de Proceso]],Tabla2[[#This Row],[Columna4]])","v":{"$error":"#N/A"}},null,null,null,null,null,null,null,null,null,null,null,null,null,{"$f":"+IF(Tabla2[[#This Row],[Nivel de acceso ]]=\"Alto\",0.5,IF(Tabla2[[#This Row],[Nivel de acceso ]]=\"Medio\",0.3,IF(Tabla2[[#This Row],[Nivel de acceso ]]=\"Bajo\",0.2,\"\")))","v":""},null,{"$f":"+IF(Tabla2[[#This Row],[Es  Reservada]]=\"Sí\",\"Escriba Ley\",\"No Aplica\")","v":"No Aplica"},null,null,null,null,{"$f":"IFERROR(IF(AND(Tabla2[[#This Row],[Contiene Datos Personales]]=\"SÍ\",OR(Tabla2[[#This Row],[Clasificación Datos Personales]]=\"Sensible\",Tabla2[[#This Row],[Clasificación Datos Personales]]=\"NNA\",Tabla2[[#This Row],[Clasificación Datos Personales]]=\"privado\")),\"Alto\",IF(AND(Tabla2[[#This Row],[Contiene Datos Personales]]=\"SÍ\",Tabla2[[#This Row],[Clasificación Datos Personales]]=\"SEMIPRIVADO\"),\"Medio\",\"Bajo\")),\"\")","v":"Bajo"},null,null,"No Aplica","No Aplica",null,null,null,{"$f":"+IF(Tabla2[[#This Row],[Integridad]]=\"Grave\",0.5,IF(Tabla2[[#This Row],[Integridad]]=\"Importante\",0.3,IF(Tabla2[[#This Row],[Integridad]]=\"Leve\",0.2,\"\")))","v":""},null,{"$f":"+IF(Tabla2[[#This Row],[Disponibilidad Interna]]=\"Sí\",0.1,IF(Tabla2[[#This Row],[Disponibilidad Interna]]=\"NO\",0,\"\"))","v":""},null,{"$f":"+IF(Tabla2[[#This Row],[Disponibilidad Terceros]]=\"Sí\",0.1,IF(Tabla2[[#This Row],[Disponibilidad Terceros]]=\"No\",0,\"\"))","v":""},{"$f":"+Tabla2[[#This Row],[Columna32]]+Tabla2[[#This Row],[Columna34]]+Tabla2[[#This Row],[Columna1]]+Tabla2[[#This Row],[Columna3]]","v":{"$error":"#VALUE!"}},{"$f":"IFERROR(IF(Tabla2[[#This Row],[Columna33]]<0.45,\"BAJA\",IF(Tabla2[[#This Row],[Columna33]]>0.75,\"ALTA\",\"MEDIA\")),\"\")","v":""},"No Aplica",{"$f":"+IF(Tabla2[[#This Row],[Información Publicada (WEB)]]=\"Sí\",\"Digite URL\",\"No Aplica\")","v":"No Aplica"},null,{"$f":"IF(Tabla2[[#This Row],[ Clasificación ICBF]]=\"Pública\",1,IF(Tabla2[[#This Row],[ Clasificación ICBF]]=\"Clasificada\",2,IF(Tabla2[[#This Row],[ Clasificación ICBF]]=\"Reservada\",3,0)))","v":0},{"$f":"IF(#REF!=8,4,IF(#REF!=16,3,IF(#REF!=24,2,IF(#REF!=48,1,0))))","v":{"$error":"#REF!"}},{"$f":"IF(#REF!=8,\"Alto\",IF(#REF!=16,\"Medio\",IF(#REF!=24,\"Medio\",IF(#REF!=48,\"Bajo\",0))))","v":{"$error":"#REF!"}},null,{"$f":"+MID(Tabla2[[#This Row],[Área/Dependencia]],17,8)","v":""}]
["",null,null,null,{"$f":"+VLOOKUP(Tabla2[[#This Row],[SEDE - REGIONAL]],DATOS!B364:D397,3,FALSE)","v":{"$error":"#N/A"}},{"$f":"+IF(OR(Tabla2[[#This Row],[Área/Dependencia]]=\"Subdirección de Sistemas Integrados\",Tabla2[[#This Row],[Área/Dependencia]]=\"Subdirección de Recursos Tecnológicos\"),\"X\",\"\")","v":""},{"$f":"+CONCATENATE(Tabla2[[#This Row],[Tipo de Proceso]],Tabla2[[#This Row],[Columna4]])","v":{"$error":"#N/A"}},null,null,null,null,null,null,null,null,null,null,null,null,null,{"$f":"+IF(Tabla2[[#This Row],[Nivel de acceso ]]=\"Alto\",0.5,IF(Tabla2[[#This Row],[Nivel de acceso ]]=\"Medio\",0.3,IF(Tabla2[[#This Row],[Nivel de acceso ]]=\"Bajo\",0.2,\"\")))","v":""},null,{"$f":"+IF(Tabla2[[#This Row],[Es  Reservada]]=\"Sí\",\"Escriba Ley\",\"No Aplica\")","v":"No Aplica"},null,null,null,null,{"$f":"IFERROR(IF(AND(Tabla2[[#This Row],[Contiene Datos Personales]]=\"SÍ\",OR(Tabla2[[#This Row],[Clasificación Datos Personales]]=\"Sensible\",Tabla2[[#This Row],[Clasificación Datos Personales]]=\"NNA\",Tabla2[[#This Row],[Clasificación Datos Personales]]=\"privado\")),\"Alto\",IF(AND(Tabla2[[#This Row],[Contiene Datos Personales]]=\"SÍ\",Tabla2[[#This Row],[Clasificación Datos Personales]]=\"SEMIPRIVADO\"),\"Medio\",\"Bajo\")),\"\")","v":"Bajo"},null,null,"No Aplica","No Aplica",null,null,null,{"$f":"+IF(Tabla2[[#This Row],[Integridad]]=\"Grave\",0.5,IF(Tabla2[[#This Row],[Integridad]]=\"Importante\",0.3,IF(Tabla2[[#This Row],[Integridad]]=\"Leve\",0.2,\"\")))","v":""},null,{"$f":"+IF(Tabla2[[#This Row],[Disponibilidad Interna]]=\"Sí\",0.1,IF(Tabla2[[#This Row],[Disponibilidad Interna]]=\"NO\",0,\"\"))","v":""},null,{"$f":"+IF(Tabla2[[#This Row],[Disponibilidad Terceros]]=\"Sí\",0.1,IF(Tabla2[[#This Row],[Disponibilidad Terceros]]=\"No\",0,\"\"))","v":""},{"$f":"+Tabla2[[#This Row],[Columna32]]+Tabla2[[#This Row],[Columna34]]+Tabla2[[#This Row],[Columna1]]+Tabla2[[#This Row],[Columna3]]","v":{"$error":"#VALUE!"}},{"$f":"IFERROR(IF(Tabla2[[#This Row],[Columna33]]<0.45,\"BAJA\",IF(Tabla2[[#This Row],[Columna33]]>0.75,\"ALTA\",\"MEDIA\")),\"\")","v":""},"No Aplica",{"$f":"+IF(Tabla2[[#This Row],[Información Publicada (WEB)]]=\"Sí\",\"Digite URL\",\"No Aplica\")","v":"No Aplica"},null,{"$f":"IF(Tabla2[[#This Row],[ Clasificación ICBF]]=\"Pública\",1,IF(Tabla2[[#This Row],[ Clasificación ICBF]]=\"Clasificada\",2,IF(Tabla2[[#This Row],[ Clasificación ICBF]]=\"Reservada\",3,0)))","v":0},{"$f":"IF(#REF!=8,4,IF(#REF!=16,3,IF(#REF!=24,2,IF(#REF!=48,1,0))))","v":{"$error":"#REF!"}},{"$f":"IF(#REF!=8,\"Alto\",IF(#REF!=16,\"Medio\",IF(#REF!=24,\"Medio\",IF(#REF!=48,\"Bajo\",0))))","v":{"$error":"#REF!"}},null,{"$f":"+MID(Tabla2[[#This Row],[Área/Dependencia]],17,8)","v":""}]
["",null,null,null,{"$f":"+VLOOKUP(Tabla2[[#This Row],[SEDE - REGIONAL]],DATOS!B365:D398,3,FALSE)","v":{"$error":"#N/A"}},{"$f":"+IF(OR(Tabla2[[#This Row],[Área/Dependencia]]=\"Subdirección de Sistemas Integrados\",Tabla2[[#This Row],[Área/Dependencia]]=\"Subdirección de Recursos Tecnológicos\"),\"X\",\"\")","v":""},{"$f":"+CONCATENATE(Tabla2[[#This Row],[Tipo de Proceso]],Tabla2[[#This Row],[Columna4]])","v":{"$error":"#N/A"}},null,null,null,null,null,null,null,null,null,null,null,null,null,{"$f":"+IF(Tabla2[[#This Row],[Nivel de acceso ]]=\"Alto\",0.5,IF(Tabla2[[#This Row],[Nivel de acceso ]]=\"Medio\",0.3,IF(Tabla2[[#This Row],[Nivel de acceso ]]=\"Bajo\",0.2,\"\")))","v":""},null,{"$f":"+IF(Tabla2[[#This Row],[Es  Reservada]]=\"Sí\",\"Escriba Ley\",\"No Aplica\")","v":"No Aplica"},null,null,null,null,{"$f":"IFERROR(IF(AND(Tabla2[[#This Row],[Contiene Datos Personales]]=\"SÍ\",OR(Tabla2[[#This Row],[Clasificación Datos Personales]]=\"Sensible\",Tabla2[[#This Row],[Clasificación Datos Personales]]=\"NNA\",Tabla2[[#This Row],[Clasificación Datos Personales]]=\"privado\")),\"Alto\",IF(AND(Tabla2[[#This Row],[Contiene Datos Personales]]=\"SÍ\",Tabla2[[#This Row],[Clasificación Datos Personales]]=\"SEMIPRIVADO\"),\"Medio\",\"Bajo\")),\"\")","v":"Bajo"},null,null,"No Aplica","No Aplica",null,null,null,{"$f":"+IF(Tabla2[[#This Row],[Integridad]]=\"Grave\",0.5,IF(Tabla2[[#This Row],[Integridad]]=\"Importante\",0.3,IF(Tabla2[[#This Row],[Integridad]]=\"Leve\",0.2,\"\")))","v":""},null,{"$f":"+IF(Tabla2[[#This Row],[Disponibilidad Interna]]=\"Sí\",0.1,IF(Tabla2[[#This Row],[Disponibilidad Interna]]=\"NO\",0,\"\"))","v":""},null,{"$f":"+IF(Tabla2[[#This Row],[Disponibilidad Terceros]]=\"Sí\",0.1,IF(Tabla2[[#This Row],[Disponibilidad Terceros]]=\"No\",0,\"\"))","v":""},{"$f":"+Tabla2[[#This Row],[Columna32]]+Tabla2[[#This Row],[Columna34]]+Tabla2[[#This Row],[Columna1]]+Tabla2[[#This Row],[Columna3]]","v":{"$error":"#VALUE!"}},{"$f":"IFERROR(IF(Tabla2[[#This Row],[Columna33]]<0.45,\"BAJA\",IF(Tabla2[[#This Row],[Columna33]]>0.75,\"ALTA\",\"MEDIA\")),\"\")","v":""},"No Aplica",{"$f":"+IF(Tabla2[[#This Row],[Información Publicada (WEB)]]=\"Sí\",\"Digite URL\",\"No Aplica\")","v":"No Aplica"},null,{"$f":"IF(Tabla2[[#This Row],[ Clasificación ICBF]]=\"Pública\",1,IF(Tabla2[[#This Row],[ Clasificación ICBF]]=\"Clasificada\",2,IF(Tabla2[[#This Row],[ Clasificación ICBF]]=\"Reservada\",3,0)))","v":0},{"$f":"IF(#REF!=8,4,IF(#REF!=16,3,IF(#REF!=24,2,IF(#REF!=48,1,0))))","v":{"$error":"#REF!"}},{"$f":"IF(#REF!=8,\"Alto\",IF(#REF!=16,\"Medio\",IF(#REF!=24,\"Medio\",IF(#REF!=48,\"Bajo\",0))))","v":{"$error":"#REF!"}},null,{"$f":"+MID(Tabla2[[#This Row],[Área/Dependencia]],17,8)","v":""}]
["",null,null,null,{"$f":"+VLOOKUP(Tabla2[[#This Row],[SEDE - REGIONAL]],DATOS!B366:D399,3,FALSE)","v":{"$error":"#N/A"}},{"$f":"+IF(OR(Tabla2[[#This Row],[Área/Dependencia]]=\"Subdirección de Sistemas Integrados\",Tabla2[[#This Row],[Área/Dependencia]]=\"Subdirección de Recursos Tecnológicos\"),\"X\",\"\")","v":""},{"$f":"+CONCATENATE(Tabla2[[#This Row],[Tipo de Proceso]],Tabla2[[#This Row],[Columna4]])","v":{"$error":"#N/A"}},null,null,null,null,null,null,null,null,null,null,null,null,null,{"$f":"+IF(Tabla2[[#This Row],[Nivel de acceso ]]=\"Alto\",0.5,IF(Tabla2[[#This Row],[Nivel de acceso ]]=\"Medio\",0.3,IF(Tabla2[[#This Row],[Nivel de acceso ]]=\"Bajo\",0.2,\"\")))","v":""},null,{"$f":"+IF(Tabla2[[#This Row],[Es  Reservada]]=\"Sí\",\"Escriba Ley\",\"No Aplica\")","v":"No Aplica"},null,null,null,null,{"$f":"IFERROR(IF(AND(Tabla2[[#This Row],[Contiene Datos Personales]]=\"SÍ\",OR(Tabla2[[#This Row],[Clasificación Datos Personales]]=\"Sensible\",Tabla2[[#This Row],[Clasificación Datos Personales]]=\"NNA\",Tabla2[[#This Row],[Clasificación Datos Personales]]=\"privado\")),\"Alto\",IF(AND(Tabla2[[#This Row],[Contiene Datos Personales]]=\"SÍ\",Tabla2[[#This Row],[Clasificación Datos Personales]]=\"SEMIPRIVADO\"),\"Medio\",\"Bajo\")),\"\")","v":"Bajo"},null,null,"No Aplica","No Aplica",null,null,null,{"$f":"+IF(Tabla2[[#This Row],[Integridad]]=\"Grave\",0.5,IF(Tabla2[[#This Row],[Integridad]]=\"Importante\",0.3,IF(Tabla2[[#This Row],[Integridad]]=\"Leve\",0.2,\"\")))","v":""},null,{"$f":"+IF(Tabla2[[#This Row],[Disponibilidad Interna]]=\"Sí\",0.1,IF(Tabla2[[#This Row],[Disponibilidad Interna]]=\"NO\",0,\"\"))","v":""},null,{"$f":"+IF(Tabla2[[#This Row],[Disponibilidad Terceros]]=\"Sí\",0.1,IF(Tabla2[[#This Row],[Disponibilidad Terceros]]=\"No\",0,\"\"))","v":""},{"$f":"+Tabla2[[#This Row],[Columna32]]+Tabla2[[#This Row],[Columna34]]+Tabla2[[#This Row],[Columna1]]+Tabla2[[#This Row],[Columna3]]","v":{"$error":"#VALUE!"}},{"$f":"IFERROR(IF(Tabla2[[#This Row],[Columna33]]<0.45,\"BAJA\",IF(Tabla2[[#This Row],[Columna33]]>0.75,\"ALTA\",\"MEDIA\")),\"\")","v":""},"No Aplica",{"$f":"+IF(Tabla2[[#This Row],[Información Publicada (WEB)]]=\"Sí\",\"Digite URL\",\"No Aplica\")","v":"No Aplica"},null,{"$f":"IF(Tabla2[[#This Row],[ Clasificación ICBF]]=\"Pública\",1,IF(Tabla2[[#This Row],[ Clasificación ICBF]]=\"Clasificada\",2,IF(Tabla2[[#This Row],[ Clasificación ICBF]]=\"Reservada\",3,0)))","v":0},{"$f":"IF(#REF!=8,4,IF(#REF!=16,3,IF(#REF!=24,2,IF(#REF!=48,1,0))))","v":{"$error":"#REF!"}},{"$f":"IF(#REF!=8,\"Alto\",IF(#REF!=16,\"Medio\",IF(#REF!=24,\"Medio\",IF(#REF!=48,\"Bajo\",0))))","v":{"$error":"#REF!"}},null,{"$f":"+MID(Tabla2[[#This Row],[Área/Dependencia]],17,8)","v":""}]
["",null,null,null,{"$f":"+VLOOKUP(Tabla2[[#This Row],[SEDE - REGIONAL]],DATOS!B367:D400,3,FALSE)","v":{"$error":"#N/A"}},{"$f":"+IF(OR(Tabla2[[#This Row],[Área/Dependencia]]=\"Subdirección de Sistemas Integrados\",Tabla2[[#This Row],[Área/Dependencia]]=\"Subdirección de Recursos Tecnológicos\"),\"X\",\"\")","v":""},{"$f":"+CONCATENATE(Tabla2[[#This Row],[Tipo de Proceso]],Tabla2[[#This Row],[Columna4]])","v":{"$error":"#N/A"}},null,null,null,null,null,null,null,null,null,null,null,null,null,{"$f":"+IF(Tabla2[[#This Row],[Nivel de acceso ]]=\"Alto\",0.5,IF(Tabla2[[#This Row],[Nivel de acceso ]]=\"Medio\",0.3,IF(Tabla2[[#This Row],[Nivel de acceso ]]=\"Bajo\",0.2,\"\")))","v":""},null,{"$f":"+IF(Tabla2[[#This Row],[Es  Reservada]]=\"Sí\",\"Escriba Ley\",\"No Aplica\")","v":"No Aplica"},null,null,null,null,{"$f":"IFERROR(IF(AND(Tabla2[[#This Row],[Contiene Datos Personales]]=\"SÍ\",OR(Tabla2[[#This Row],[Clasificación Datos Personales]]=\"Sensible\",Tabla2[[#This Row],[Clasificación Datos Personales]]=\"NNA\",Tabla2[[#This Row],[Clasificación Datos Personales]]=\"privado\")),\"Alto\",IF(AND(Tabla2[[#This Row],[Contiene Datos Personales]]=\"SÍ\",Tabla2[[#This Row],[Clasificación Datos Personales]]=\"SEMIPRIVADO\"),\"Medio\",\"Bajo\")),\"\")","v":"Bajo"},null,null,"No Aplica","No Aplica",null,null,null,{"$f":"+IF(Tabla2[[#This Row],[Integridad]]=\"Grave\",0.5,IF(Tabla2[[#This Row],[Integridad]]=\"Importante\",0.3,IF(Tabla2[[#This Row],[Integridad]]=\"Leve\",0.2,\"\")))","v":""},null,{"$f":"+IF(Tabla2[[#This Row],[Disponibilidad Interna]]=\"Sí\",0.1,IF(Tabla2[[#This Row],[Disponibilidad Interna]]=\"NO\",0,\"\"))","v":""},null,{"$f":"+IF(Tabla2[[#This Row],[Disponibilidad Terceros]]=\"Sí\",0.1,IF(Tabla2[[#This Row],[Disponibilidad Terceros]]=\"No\",0,\"\"))","v":""},{"$f":"+Tabla2[[#This Row],[Columna32]]+Tabla2[[#This Row],[Columna34]]+Tabla2[[#This Row],[Columna1]]+Tabla2[[#This Row],[Columna3]]","v":{"$error":"#VALUE!"}},{"$f":"IFERROR(IF(Tabla2[[#This Row],[Columna33]]<0.45,\"BAJA\",IF(Tabla2[[#This Row],[Columna33]]>0.75,\"ALTA\",\"MEDIA\")),\"\")","v":""},"No Aplica",{"$f":"+IF(Tabla2[[#This Row],[Información Publicada (WEB)]]=\"Sí\",\"Digite URL\",\"No Aplica\")","v":"No Aplica"},null,{"$f":"IF(Tabla2[[#This Row],[ Clasificación ICBF]]=\"Pública\",1,IF(Tabla2[[#This Row],[ Clasificación ICBF]]=\"Clasificada\",2,IF(Tabla2[[#This Row],[ Clasificación ICBF]]=\"Reservada\",3,0)))","v":0},{"$f":"IF(#REF!=8,4,IF(#REF!=16,3,IF(#REF!=24,2,IF(#REF!=48,1,0))))","v":{"$error":"#REF!"}},{"$f":"IF(#REF!=8,\"Alto\",IF(#REF!=16,\"Medio\",IF(#REF!=24,\"Medio\",IF(#REF!=48,\"Bajo\",0))))","v":{"$error":"#REF!"}},null,{"$f":"+MID(Tabla2[[#This Row],[Área/Dependencia]],17,8)","v":""}]
["",null,null,null,{"$f":"+VLOOKUP(Tabla2[[#This Row],[SEDE - REGIONAL]],DATOS!B368:D401,3,FALSE)","v":{"$error":"#N/A"}},{"$f":"+IF(OR(Tabla2[[#This Row],[Área/Dependencia]]=\"Subdirección de Sistemas Integrados\",Tabla2[[#This Row],[Área/Dependencia]]=\"Subdirección de Recursos Tecnológicos\"),\"X\",\"\")","v":""},{"$f":"+CONCATENATE(Tabla2[[#This Row],[Tipo de Proceso]],Tabla2[[#This Row],[Columna4]])","v":{"$error":"#N/A"}},null,null,null,null,null,null,null,null,null,null,null,null,null,{"$f":"+IF(Tabla2[[#This Row],[Nivel de acceso ]]=\"Alto\",0.5,IF(Tabla2[[#This Row],[Nivel de acceso ]]=\"Medio\",0.3,IF(Tabla2[[#This Row],[Nivel de acceso ]]=\"Bajo\",0.2,\"\")))","v":""},null,{"$f":"+IF(Tabla2[[#This Row],[Es  Reservada]]=\"Sí\",\"Escriba Ley\",\"No Aplica\")","v":"No Aplica"},null,null,null,null,{"$f":"IFERROR(IF(AND(Tabla2[[#This Row],[Contiene Datos Personales]]=\"SÍ\",OR(Tabla2[[#This Row],[Clasificación Datos Personales]]=\"Sensible\",Tabla2[[#This Row],[Clasificación Datos Personales]]=\"NNA\",Tabla2[[#This Row],[Clasificación Datos Personales]]=\"privado\")),\"Alto\",IF(AND(Tabla2[[#This Row],[Contiene Datos Personales]]=\"SÍ\",Tabla2[[#This Row],[Clasificación Datos Personales]]=\"SEMIPRIVADO\"),\"Medio\",\"Bajo\")),\"\")","v":"Bajo"},null,null,"No Aplica","No Aplica",null,null,null,{"$f":"+IF(Tabla2[[#This Row],[Integridad]]=\"Grave\",0.5,IF(Tabla2[[#This Row],[Integridad]]=\"Importante\",0.3,IF(Tabla2[[#This Row],[Integridad]]=\"Leve\",0.2,\"\")))","v":""},null,{"$f":"+IF(Tabla2[[#This Row],[Disponibilidad Interna]]=\"Sí\",0.1,IF(Tabla2[[#This Row],[Disponibilidad Interna]]=\"NO\",0,\"\"))","v":""},null,{"$f":"+IF(Tabla2[[#This Row],[Disponibilidad Terceros]]=\"Sí\",0.1,IF(Tabla2[[#This Row],[Disponibilidad Terceros]]=\"No\",0,\"\"))","v":""},{"$f":"+Tabla2[[#This Row],[Columna32]]+Tabla2[[#This Row],[Columna34]]+Tabla2[[#This Row],[Columna1]]+Tabla2[[#This Row],[Columna3]]","v":{"$error":"#VALUE!"}},{"$f":"IFERROR(IF(Tabla2[[#This Row],[Columna33]]<0.45,\"BAJA\",IF(Tabla2[[#This Row],[Columna33]]>0.75,\"ALTA\",\"MEDIA\")),\"\")","v":""},"No Aplica",{"$f":"+IF(Tabla2[[#This Row],[Información Publicada (WEB)]]=\"Sí\",\"Digite URL\",\"No Aplica\")","v":"No Aplica"},null,{"$f":"IF(Tabla2[[#This Row],[ Clasificación ICBF]]=\"Pública\",1,IF(Tabla2[[#This Row],[ Clasificación ICBF]]=\"Clasificada\",2,IF(Tabla2[[#This Row],[ Clasificación ICBF]]=\"Reservada\",3,0)))","v":0},{"$f":"IF(#REF!=8,4,IF(#REF!=16,3,IF(#REF!=24,2,IF(#REF!=48,1,0))))","v":{"$error":"#REF!"}},{"$f":"IF(#REF!=8,\"Alto\",IF(#REF!=16,\"Medio\",IF(#REF!=24,\"Medio\",IF(#REF!=48,\"Bajo\",0))))","v":{"$error":"#REF!"}},null,{"$f":"+MID(Tabla2[[#This Row],[Área/Dependencia]],17,8)","v":""}]
["",null,null,null,{"$f":"+VLOOKUP(Tabla2[[#This Row],[SEDE - REGIONAL]],DATOS!B369:D402,3,FALSE)","v":{"$error":"#N/A"}},{"$f":"+IF(OR(Tabla2[[#This Row],[Área/Dependencia]]=\"Subdirección de Sistemas Integrados\",Tabla2[[#This Row],[Área/Dependencia]]=\"Subdirección de Recursos Tecnológicos\"),\"X\",\"\")","v":""},{"$f":"+CONCATENATE(Tabla2[[#This Row],[Tipo de Proceso]],Tabla2[[#This Row],[Columna4]])","v":{"$error":"#N/A"}},null,null,null,null,null,null,null,null,null,null,null,null,null,{"$f":"+IF(Tabla2[[#This Row],[Nivel de acceso ]]=\"Alto\",0.5,IF(Tabla2[[#This Row],[Nivel de acceso ]]=\"Medio\",0.3,IF(Tabla2[[#This Row],[Nivel de acceso ]]=\"Bajo\",0.2,\"\")))","v":""},null,{"$f":"+IF(Tabla2[[#This Row],[Es  Reservada]]=\"Sí\",\"Escriba Ley\",\"No Aplica\")","v":"No Aplica"},null,null,null,null,{"$f":"IFERROR(IF(AND(Tabla2[[#This Row],[Contiene Datos Personales]]=\"SÍ\",OR(Tabla2[[#This Row],[Clasificación Datos Personales]]=\"Sensible\",Tabla2[[#This Row],[Clasificación Datos Personales]]=\"NNA\",Tabla2[[#This Row],[Clasificación Datos Personales]]=\"privado\")),\"Alto\",IF(AND(Tabla2[[#This Row],[Contiene Datos Personales]]=\"SÍ\",Tabla2[[#This Row],[Clasificación Datos Personales]]=\"SEMIPRIVADO\"),\"Medio\",\"Bajo\")),\"\")","v":"Bajo"},null,null,"No Aplica","No Aplica",null,null,null,{"$f":"+IF(Tabla2[[#This Row],[Integridad]]=\"Grave\",0.5,IF(Tabla2[[#This Row],[Integridad]]=\"Importante\",0.3,IF(Tabla2[[#This Row],[Integridad]]=\"Leve\",0.2,\"\")))","v":""},null,{"$f":"+IF(Tabla2[[#This Row],[Disponibilidad Interna]]=\"Sí\",0.1,IF(Tabla2[[#This Row],[Disponibilidad Interna]]=\"NO\",0,\"\"))","v":""},null,{"$f":"+IF(Tabla2[[#This Row],[Disponibilidad Terceros]]=\"Sí\",0.1,IF(Tabla2[[#This Row],[Disponibilidad Terceros]]=\"No\",0,\"\"))","v":""},{"$f":"+Tabla2[[#This Row],[Columna32]]+Tabla2[[#This Row],[Columna34]]+Tabla2[[#This Row],[Columna1]]+Tabla2[[#This Row],[Columna3]]","v":{"$error":"#VALUE!"}},{"$f":"IFERROR(IF(Tabla2[[#This Row],[Columna33]]<0.45,\"BAJA\",IF(Tabla2[[#This Row],[Columna33]]>0.75,\"ALTA\",\"MEDIA\")),\"\")","v":""},"No Aplica",{"$f":"+IF(Tabla2[[#This Row],[Información Publicada (WEB)]]=\"Sí\",\"Digite URL\",\"No Aplica\")","v":"No Aplica"},null,{"$f":"IF(Tabla2[[#This Row],[ Clasificación ICBF]]=\"Pública\",1,IF(Tabla2[[#This Row],[ Clasificación ICBF]]=\"Clasificada\",2,IF(Tabla2[[#This Row],[ Clasificación ICBF]]=\"Reservada\",3,0)))","v":0},{"$f":"IF(#REF!=8,4,IF(#REF!=16,3,IF(#REF!=24,2,IF(#REF!=48,1,0))))","v":{"$error":"#REF!"}},{"$f":"IF(#REF!=8,\"Alto\",IF(#REF!=16,\"Medio\",IF(#REF!=24,\"Medio\",IF(#REF!=48,\"Bajo\",0))))","v":{"$error":"#REF!"}},null,{"$f":"+MID(Tabla2[[#This Row],[Área/Dependencia]],17,8)","v":""}]
["",null,null,null,{"$f":"+VLOOKUP(Tabla2[[#This Row],[SEDE - REGIONAL]],DATOS!B370:D403,3,FALSE)","v":{"$error":"#N/A"}},{"$f":"+IF(OR(Tabla2[[#This Row],[Área/Dependencia]]=\"Subdirección de Sistemas Integrados\",Tabla2[[#This Row],[Área/Dependencia]]=\"Subdirección de Recursos Tecnológicos\"),\"X\",\"\")","v":""},{"$f":"+CONCATENATE(Tabla2[[#This Row],[Tipo de Proceso]],Tabla2[[#This Row],[Columna4]])","v":{"$error":"#N/A"}},null,null,null,null,null,null,null,null,null,null,null,null,null,{"$f":"+IF(Tabla2[[#This Row],[Nivel de acceso ]]=\"Alto\",0.5,IF(Tabla2[[#This Row],[Nivel de acceso ]]=\"Medio\",0.3,IF(Tabla2[[#This Row],[Nivel de acceso ]]=\"Bajo\",0.2,\"\")))","v":""},null,{"$f":"+IF(Tabla2[[#This Row],[Es  Reservada]]=\"Sí\",\"Escriba Ley\",\"No Aplica\")","v":"No Aplica"},null,null,null,null,{"$f":"IFERROR(IF(AND(Tabla2[[#This Row],[Contiene Datos Personales]]=\"SÍ\",OR(Tabla2[[#This Row],[Clasificación Datos Personales]]=\"Sensible\",Tabla2[[#This Row],[Clasificación Datos Personales]]=\"NNA\",Tabla2[[#This Row],[Clasificación Datos Personales]]=\"privado\")),\"Alto\",IF(AND(Tabla2[[#This Row],[Contiene Datos Personales]]=\"SÍ\",Tabla2[[#This Row],[Clasificación Datos Personales]]=\"SEMIPRIVADO\"),\"Medio\",\"Bajo\")),\"\")","v":"Bajo"},null,null,"No Aplica","No Aplica",null,null,null,{"$f":"+IF(Tabla2[[#This Row],[Integridad]]=\"Grave\",0.5,IF(Tabla2[[#This Row],[Integridad]]=\"Importante\",0.3,IF(Tabla2[[#This Row],[Integridad]]=\"Leve\",0.2,\"\")))","v":""},null,{"$f":"+IF(Tabla2[[#This Row],[Disponibilidad Interna]]=\"Sí\",0.1,IF(Tabla2[[#This Row],[Disponibilidad Interna]]=\"NO\",0,\"\"))","v":""},null,{"$f":"+IF(Tabla2[[#This Row],[Disponibilidad Terceros]]=\"Sí\",0.1,IF(Tabla2[[#This Row],[Disponibilidad Terceros]]=\"No\",0,\"\"))","v":""},{"$f":"+Tabla2[[#This Row],[Columna32]]+Tabla2[[#This Row],[Columna34]]+Tabla2[[#This Row],[Columna1]]+Tabla2[[#This Row],[Columna3]]","v":{"$error":"#VALUE!"}},{"$f":"IFERROR(IF(Tabla2[[#This Row],[Columna33]]<0.45,\"BAJA\",IF(Tabla2[[#This Row],[Columna33]]>0.75,\"ALTA\",\"MEDIA\")),\"\")","v":""},"No Aplica",{"$f":"+IF(Tabla2[[#This Row],[Información Publicada (WEB)]]=\"Sí\",\"Digite URL\",\"No Aplica\")","v":"No Aplica"},null,{"$f":"IF(Tabla2[[#This Row],[ Clasificación ICBF]]=\"Pública\",1,IF(Tabla2[[#This Row],[ Clasificación ICBF]]=\"Clasificada\",2,IF(Tabla2[[#This Row],[ Clasificación ICBF]]=\"Reservada\",3,0)))","v":0},{"$f":"IF(#REF!=8,4,IF(#REF!=16,3,IF(#REF!=24,2,IF(#REF!=48,1,0))))","v":{"$error":"#REF!"}},{"$f":"IF(#REF!=8,\"Alto\",IF(#REF!=16,\"Medio\",IF(#REF!=24,\"Medio\",IF(#REF!=48,\"Bajo\",0))))","v":{"$error":"#REF!"}},null,{"$f":"+MID(Tabla2[[#This Row],[Área/Dependencia]],17,8)","v":""}]
["",null,null,null,{"$f":"+VLOOKUP(Tabla2[[#This Row],[SEDE - REGIONAL]],DATOS!B371:D404,3,FALSE)","v":{"$error":"#N/A"}},{"$f":"+IF(OR(Tabla2[[#This Row],[Área/Dependencia]]=\"Subdirección de Sistemas Integrados\",Tabla2[[#This Row],[Área/Dependencia]]=\"Subdirección de Recursos Tecnológicos\"),\"X\",\"\")","v":""},{"$f":"+CONCATENATE(Tabla2[[#This Row],[Tipo de Proceso]],Tabla2[[#This Row],[Columna4]])","v":{"$error":"#N/A"}},null,null,null,null,null,null,null,null,null,null,null,null,null,{"$f":"+IF(Tabla2[[#This Row],[Nivel de acceso ]]=\"Alto\",0.5,IF(Tabla2[[#This Row],[Nivel de acceso ]]=\"Medio\",0.3,IF(Tabla2[[#This Row],[Nivel de acceso ]]=\"Bajo\",0.2,\"\")))","v":""},null,{"$f":"+IF(Tabla2[[#This Row],[Es  Reservada]]=\"Sí\",\"Escriba Ley\",\"No Aplica\")","v":"No Aplica"},null,null,null,null,{"$f":"IFERROR(IF(AND(Tabla2[[#This Row],[Contiene Datos Personales]]=\"SÍ\",OR(Tabla2[[#This Row],[Clasificación Datos Personales]]=\"Sensible\",Tabla2[[#This Row],[Clasificación Datos Personales]]=\"NNA\",Tabla2[[#This Row],[Clasificación Datos Personales]]=\"privado\")),\"Alto\",IF(AND(Tabla2[[#This Row],[Contiene Datos Personales]]=\"SÍ\",Tabla2[[#This Row],[Clasificación Datos Personales]]=\"SEMIPRIVADO\"),\"Medio\",\"Bajo\")),\"\")","v":"Bajo"},null,null,"No Aplica","No Aplica",null,null,null,{"$f":"+IF(Tabla2[[#This Row],[Integridad]]=\"Grave\",0.5,IF(Tabla2[[#This Row],[Integridad]]=\"Importante\",0.3,IF(Tabla2[[#This Row],[Integridad]]=\"Leve\",0.2,\"\")))","v":""},null,{"$f":"+IF(Tabla2[[#This Row],[Disponibilidad Interna]]=\"Sí\",0.1,IF(Tabla2[[#This Row],[Disponibilidad Interna]]=\"NO\",0,\"\"))","v":""},null,{"$f":"+IF(Tabla2[[#This Row],[Disponibilidad Terceros]]=\"Sí\",0.1,IF(Tabla2[[#This Row],[Disponibilidad Terceros]]=\"No\",0,\"\"))","v":""},{"$f":"+Tabla2[[#This Row],[Columna32]]+Tabla2[[#This Row],[Columna34]]+Tabla2[[#This Row],[Columna1]]+Tabla2[[#This Row],[Columna3]]","v":{"$error":"#VALUE!"}},{"$f":"IFERROR(IF(Tabla2[[#This Row],[Columna33]]<0.45,\"BAJA\",IF(Tabla2[[#This Row],[Columna33]]>0.75,\"ALTA\",\"MEDIA\")),\"\")","v":""},"No Aplica",{"$f":"+IF(Tabla2[[#This Row],[Información Publicada (WEB)]]=\"Sí\",\"Digite URL\",\"No Aplica\")","v":"No Aplica"},null,{"$f":"IF(Tabla2[[#This Row],[ Clasificación ICBF]]=\"Pública\",1,IF(Tabla2[[#This Row],[ Clasificación ICBF]]=\"Clasificada\",2,IF(Tabla2[[#This Row],[ Clasificación ICBF]]=\"Reservada\",3,0)))","v":0},{"$f":"IF(#REF!=8,4,IF(#REF!=16,3,IF(#REF!=24,2,IF(#REF!=48,1,0))))","v":{"$error":"#REF!"}},{"$f":"IF(#REF!=8,\"Alto\",IF(#REF!=16,\"Medio\",IF(#REF!=24,\"Medio\",IF(#REF!=48,\"Bajo\",0))))","v":{"$error":"#REF!"}},null,{"$f":"+MID(Tabla2[[#This Row],[Área/Dependencia]],17,8)","v":""}]
["",null,null,null,{"$f":"+VLOOKUP(Tabla2[[#This Row],[SEDE - REGIONAL]],DATOS!B372:D405,3,FALSE)","v":{"$error":"#N/A"}},{"$f":"+IF(OR(Tabla2[[#This Row],[Área/Dependencia]]=\"Subdirección de Sistemas Integrados\",Tabla2[[#This Row],[Área/Dependencia]]=\"Subdirección de Recursos Tecnológicos\"),\"X\",\"\")","v":""},{"$f":"+CONCATENATE(Tabla2[[#This Row],[Tipo de Proceso]],Tabla2[[#This Row],[Columna4]])","v":{"$error":"#N/A"}},null,null,null,null,null,null,null,null,null,null,null,null,null,{"$f":"+IF(Tabla2[[#This Row],[Nivel de acceso ]]=\"Alto\",0.5,IF(Tabla2[[#This Row],[Nivel de acceso ]]=\"Medio\",0.3,IF(Tabla2[[#This Row],[Nivel de acceso ]]=\"Bajo\",0.2,\"\")))","v":""},null,{"$f":"+IF(Tabla2[[#This Row],[Es  Reservada]]=\"Sí\",\"Escriba Ley\",\"No Aplica\")","v":"No Aplica"},null,null,null,null,{"$f":"IFERROR(IF(AND(Tabla2[[#This Row],[Contiene Datos Personales]]=\"SÍ\",OR(Tabla2[[#This Row],[Clasificación Datos Personales]]=\"Sensible\",Tabla2[[#This Row],[Clasificación Datos Personales]]=\"NNA\",Tabla2[[#This Row],[Clasificación Datos Personales]]=\"privado\")),\"Alto\",IF(AND(Tabla2[[#This Row],[Contiene Datos Personales]]=\"SÍ\",Tabla2[[#This Row],[Clasificación Datos Personales]]=\"SEMIPRIVADO\"),\"Medio\",\"Bajo\")),\"\")","v":"Bajo"},null,null,"No Aplica","No Aplica",null,null,null,{"$f":"+IF(Tabla2[[#This Row],[Integridad]]=\"Grave\",0.5,IF(Tabla2[[#This Row],[Integridad]]=\"Importante\",0.3,IF(Tabla2[[#This Row],[Integridad]]=\"Leve\",0.2,\"\")))","v":""},null,{"$f":"+IF(Tabla2[[#This Row],[Disponibilidad Interna]]=\"Sí\",0.1,IF(Tabla2[[#This Row],[Disponibilidad Interna]]=\"NO\",0,\"\"))","v":""},null,{"$f":"+IF(Tabla2[[#This Row],[Disponibilidad Terceros]]=\"Sí\",0.1,IF(Tabla2[[#This Row],[Disponibilidad Terceros]]=\"No\",0,\"\"))","v":""},{"$f":"+Tabla2[[#This Row],[Columna32]]+Tabla2[[#This Row],[Columna34]]+Tabla2[[#This Row],[Columna1]]+Tabla2[[#This Row],[Columna3]]","v":{"$error":"#VALUE!"}},{"$f":"IFERROR(IF(Tabla2[[#This Row],[Columna33]]<0.45,\"BAJA\",IF(Tabla2[[#This Row],[Columna33]]>0.75,\"ALTA\",\"MEDIA\")),\"\")","v":""},"No Aplica",{"$f":"+IF(Tabla2[[#This Row],[Información Publicada (WEB)]]=\"Sí\",\"Digite URL\",\"No Aplica\")","v":"No Aplica"},null,{"$f":"IF(Tabla2[[#This Row],[ Clasificación ICBF]]=\"Pública\",1,IF(Tabla2[[#This Row],[ Clasificación ICBF]]=\"Clasificada\",2,IF(Tabla2[[#This Row],[ Clasificación ICBF]]=\"Reservada\",3,0)))","v":0},{"$f":"IF(#REF!=8,4,IF(#REF!=16,3,IF(#REF!=24,2,IF(#REF!=48,1,0))))","v":{"$error":"#REF!"}},{"$f":"IF(#REF!=8,\"Alto\",IF(#REF!=16,\"Medio\",IF(#REF!=24,\"Medio\",IF(#REF!=48,\"Bajo\",0))))","v":{"$error":"#REF!"}},null,{"$f":"+MID(Tabla2[[#This Row],[Área/Dependencia]],17,8)","v":""}]
["",null,null,null,{"$f":"+VLOOKUP(Tabla2[[#This Row],[SEDE - REGIONAL]],DATOS!B373:D406,3,FALSE)","v":{"$error":"#N/A"}},{"$f":"+IF(OR(Tabla2[[#This Row],[Área/Dependencia]]=\"Subdirección de Sistemas Integrados\",Tabla2[[#This Row],[Área/Dependencia]]=\"Subdirección de Recursos Tecnológicos\"),\"X\",\"\")","v":""},{"$f":"+CONCATENATE(Tabla2[[#This Row],[Tipo de Proceso]],Tabla2[[#This Row],[Columna4]])","v":{"$error":"#N/A"}},null,null,null,null,null,null,null,null,null,null,null,null,null,{"$f":"+IF(Tabla2[[#This Row],[Nivel de acceso ]]=\"Alto\",0.5,IF(Tabla2[[#This Row],[Nivel de acceso ]]=\"Medio\",0.3,IF(Tabla2[[#This Row],[Nivel de acceso ]]=\"Bajo\",0.2,\"\")))","v":""},null,{"$f":"+IF(Tabla2[[#This Row],[Es  Reservada]]=\"Sí\",\"Escriba Ley\",\"No Aplica\")","v":"No Aplica"},null,null,null,null,{"$f":"IFERROR(IF(AND(Tabla2[[#This Row],[Contiene Datos Personales]]=\"SÍ\",OR(Tabla2[[#This Row],[Clasificación Datos Personales]]=\"Sensible\",Tabla2[[#This Row],[Clasificación Datos Personales]]=\"NNA\",Tabla2[[#This Row],[Clasificación Datos Personales]]=\"privado\")),\"Alto\",IF(AND(Tabla2[[#This Row],[Contiene Datos Personales]]=\"SÍ\",Tabla2[[#This Row],[Clasificación Datos Personales]]=\"SEMIPRIVADO\"),\"Medio\",\"Bajo\")),\"\")","v":"Bajo"},null,null,"No Aplica","No Aplica",null,null,null,{"$f":"+IF(Tabla2[[#This Row],[Integridad]]=\"Grave\",0.5,IF(Tabla2[[#This Row],[Integridad]]=\"Importante\",0.3,IF(Tabla2[[#This Row],[Integridad]]=\"Leve\",0.2,\"\")))","v":""},null,{"$f":"+IF(Tabla2[[#This Row],[Disponibilidad Interna]]=\"Sí\",0.1,IF(Tabla2[[#This Row],[Disponibilidad Interna]]=\"NO\",0,\"\"))","v":""},null,{"$f":"+IF(Tabla2[[#This Row],[Disponibilidad Terceros]]=\"Sí\",0.1,IF(Tabla2[[#This Row],[Disponibilidad Terceros]]=\"No\",0,\"\"))","v":""},{"$f":"+Tabla2[[#This Row],[Columna32]]+Tabla2[[#This Row],[Columna34]]+Tabla2[[#This Row],[Columna1]]+Tabla2[[#This Row],[Columna3]]","v":{"$error":"#VALUE!"}},{"$f":"IFERROR(IF(Tabla2[[#This Row],[Columna33]]<0.45,\"BAJA\",IF(Tabla2[[#This Row],[Columna33]]>0.75,\"ALTA\",\"MEDIA\")),\"\")","v":""},"No Aplica",{"$f":"+IF(Tabla2[[#This Row],[Información Publicada (WEB)]]=\"Sí\",\"Digite URL\",\"No Aplica\")","v":"No Aplica"},null,{"$f":"IF(Tabla2[[#This Row],[ Clasificación ICBF]]=\"Pública\",1,IF(Tabla2[[#This Row],[ Clasificación ICBF]]=\"Clasificada\",2,IF(Tabla2[[#This Row],[ Clasificación ICBF]]=\"Reservada\",3,0)))","v":0},{"$f":"IF(#REF!=8,4,IF(#REF!=16,3,IF(#REF!=24,2,IF(#REF!=48,1,0))))","v":{"$error":"#REF!"}},{"$f":"IF(#REF!=8,\"Alto\",IF(#REF!=16,\"Medio\",IF(#REF!=24,\"Medio\",IF(#REF!=48,\"Bajo\",0))))","v":{"$error":"#REF!"}},null,{"$f":"+MID(Tabla2[[#This Row],[Área/Dependencia]],17,8)","v":""}]
["",null,null,null,{"$f":"+VLOOKUP(Tabla2[[#This Row],[SEDE - REGIONAL]],DATOS!B374:D407,3,FALSE)","v":{"$error":"#N/A"}},{"$f":"+IF(OR(Tabla2[[#This Row],[Área/Dependencia]]=\"Subdirección de Sistemas Integrados\",Tabla2[[#This Row],[Área/Dependencia]]=\"Subdirección de Recursos Tecnológicos\"),\"X\",\"\")","v":""},{"$f":"+CONCATENATE(Tabla2[[#This Row],[Tipo de Proceso]],Tabla2[[#This Row],[Columna4]])","v":{"$error":"#N/A"}},null,null,null,null,null,null,null,null,null,null,null,null,null,{"$f":"+IF(Tabla2[[#This Row],[Nivel de acceso ]]=\"Alto\",0.5,IF(Tabla2[[#This Row],[Nivel de acceso ]]=\"Medio\",0.3,IF(Tabla2[[#This Row],[Nivel de acceso ]]=\"Bajo\",0.2,\"\")))","v":""},null,{"$f":"+IF(Tabla2[[#This Row],[Es  Reservada]]=\"Sí\",\"Escriba Ley\",\"No Aplica\")","v":"No Aplica"},null,null,null,null,{"$f":"IFERROR(IF(AND(Tabla2[[#This Row],[Contiene Datos Personales]]=\"SÍ\",OR(Tabla2[[#This Row],[Clasificación Datos Personales]]=\"Sensible\",Tabla2[[#This Row],[Clasificación Datos Personales]]=\"NNA\",Tabla2[[#This Row],[Clasificación Datos Personales]]=\"privado\")),\"Alto\",IF(AND(Tabla2[[#This Row],[Contiene Datos Personales]]=\"SÍ\",Tabla2[[#This Row],[Clasificación Datos Personales]]=\"SEMIPRIVADO\"),\"Medio\",\"Bajo\")),\"\")","v":"Bajo"},null,null,"No Aplica","No Aplica",null,null,null,{"$f":"+IF(Tabla2[[#This Row],[Integridad]]=\"Grave\",0.5,IF(Tabla2[[#This Row],[Integridad]]=\"Importante\",0.3,IF(Tabla2[[#This Row],[Integridad]]=\"Leve\",0.2,\"\")))","v":""},null,{"$f":"+IF(Tabla2[[#This Row],[Disponibilidad Interna]]=\"Sí\",0.1,IF(Tabla2[[#This Row],[Disponibilidad Interna]]=\"NO\",0,\"\"))","v":""},null,{"$f":"+IF(Tabla2[[#This Row],[Disponibilidad Terceros]]=\"Sí\",0.1,IF(Tabla2[[#This Row],[Disponibilidad Terceros]]=\"No\",0,\"\"))","v":""},{"$f":"+Tabla2[[#This Row],[Columna32]]+Tabla2[[#This Row],[Columna34]]+Tabla2[[#This Row],[Columna1]]+Tabla2[[#This Row],[Columna3]]","v":{"$error":"#VALUE!"}},{"$f":"IFERROR(IF(Tabla2[[#This Row],[Columna33]]<0.45,\"BAJA\",IF(Tabla2[[#This Row],[Columna33]]>0.75,\"ALTA\",\"MEDIA\")),\"\")","v":""},"No Aplica",{"$f":"+IF(Tabla2[[#This Row],[Información Publicada (WEB)]]=\"Sí\",\"Digite URL\",\"No Aplica\")","v":"No Aplica"},null,{"$f":"IF(Tabla2[[#This Row],[ Clasificación ICBF]]=\"Pública\",1,IF(Tabla2[[#This Row],[ Clasificación ICBF]]=\"Clasificada\",2,IF(Tabla2[[#This Row],[ Clasificación ICBF]]=\"Reservada\",3,0)))","v":0},{"$f":"IF(#REF!=8,4,IF(#REF!=16,3,IF(#REF!=24,2,IF(#REF!=48,1,0))))","v":{"$error":"#REF!"}},{"$f":"IF(#REF!=8,\"Alto\",IF(#REF!=16,\"Medio\",IF(#REF!=24,\"Medio\",IF(#REF!=48,\"Bajo\",0))))","v":{"$error":"#REF!"}},null,{"$f":"+MID(Tabla2[[#This Row],[Área/Dependencia]],17,8)","v":""}]
["",null,null,null,{"$f":"+VLOOKUP(Tabla2[[#This Row],[SEDE - REGIONAL]],DATOS!B375:D408,3,FALSE)","v":{"$error":"#N/A"}},{"$f":"+IF(OR(Tabla2[[#This Row],[Área/Dependencia]]=\"Subdirección de Sistemas Integrados\",Tabla2[[#This Row],[Área/Dependencia]]=\"Subdirección de Recursos Tecnológicos\"),\"X\",\"\")","v":""},{"$f":"+CONCATENATE(Tabla2[[#This Row],[Tipo de Proceso]],Tabla2[[#This Row],[Columna4]])","v":{"$error":"#N/A"}},null,null,null,null,null,null,null,null,null,null,null,null,null,{"$f":"+IF(Tabla2[[#This Row],[Nivel de acceso ]]=\"Alto\",0.5,IF(Tabla2[[#This Row],[Nivel de acceso ]]=\"Medio\",0.3,IF(Tabla2[[#This Row],[Nivel de acceso ]]=\"Bajo\",0.2,\"\")))","v":""},null,{"$f":"+IF(Tabla2[[#This Row],[Es  Reservada]]=\"Sí\",\"Escriba Ley\",\"No Aplica\")","v":"No Aplica"},null,null,null,null,{"$f":"IFERROR(IF(AND(Tabla2[[#This Row],[Contiene Datos Personales]]=\"SÍ\",OR(Tabla2[[#This Row],[Clasificación Datos Personales]]=\"Sensible\",Tabla2[[#This Row],[Clasificación Datos Personales]]=\"NNA\",Tabla2[[#This Row],[Clasificación Datos Personales]]=\"privado\")),\"Alto\",IF(AND(Tabla2[[#This Row],[Contiene Datos Personales]]=\"SÍ\",Tabla2[[#This Row],[Clasificación Datos Personales]]=\"SEMIPRIVADO\"),\"Medio\",\"Bajo\")),\"\")","v":"Bajo"},null,null,"No Aplica","No Aplica",null,null,null,{"$f":"+IF(Tabla2[[#This Row],[Integridad]]=\"Grave\",0.5,IF(Tabla2[[#This Row],[Integridad]]=\"Importante\",0.3,IF(Tabla2[[#This Row],[Integridad]]=\"Leve\",0.2,\"\")))","v":""},null,{"$f":"+IF(Tabla2[[#This Row],[Disponibilidad Interna]]=\"Sí\",0.1,IF(Tabla2[[#This Row],[Disponibilidad Interna]]=\"NO\",0,\"\"))","v":""},null,{"$f":"+IF(Tabla2[[#This Row],[Disponibilidad Terceros]]=\"Sí\",0.1,IF(Tabla2[[#This Row],[Disponibilidad Terceros]]=\"No\",0,\"\"))","v":""},{"$f":"+Tabla2[[#This Row],[Columna32]]+Tabla2[[#This Row],[Columna34]]+Tabla2[[#This Row],[Columna1]]+Tabla2[[#This Row],[Columna3]]","v":{"$error":"#VALUE!"}},{"$f":"IFERROR(IF(Tabla2[[#This Row],[Columna33]]<0.45,\"BAJA\",IF(Tabla2[[#This Row],[Columna33]]>0.75,\"ALTA\",\"MEDIA\")),\"\")","v":""},"No Aplica",{"$f":"+IF(Tabla2[[#This Row],[Información Publicada (WEB)]]=\"Sí\",\"Digite URL\",\"No Aplica\")","v":"No Aplica"},null,{"$f":"IF(Tabla2[[#This Row],[ Clasificación ICBF]]=\"Pública\",1,IF(Tabla2[[#This Row],[ Clasificación ICBF]]=\"Clasificada\",2,IF(Tabla2[[#This Row],[ Clasificación ICBF]]=\"Reservada\",3,0)))","v":0},{"$f":"IF(#REF!=8,4,IF(#REF!=16,3,IF(#REF!=24,2,IF(#REF!=48,1,0))))","v":{"$error":"#REF!"}},{"$f":"IF(#REF!=8,\"Alto\",IF(#REF!=16,\"Medio\",IF(#REF!=24,\"Medio\",IF(#REF!=48,\"Bajo\",0))))","v":{"$error":"#REF!"}},null,{"$f":"+MID(Tabla2[[#This Row],[Área/Dependencia]],17,8)","v":""}]
["",null,null,null,{"$f":"+VLOOKUP(Tabla2[[#This Row],[SEDE - REGIONAL]],DATOS!B376:D409,3,FALSE)","v":{"$error":"#N/A"}},{"$f":"+IF(OR(Tabla2[[#This Row],[Área/Dependencia]]=\"Subdirección de Sistemas Integrados\",Tabla2[[#This Row],[Área/Dependencia]]=\"Subdirección de Recursos Tecnológicos\"),\"X\",\"\")","v":""},{"$f":"+CONCATENATE(Tabla2[[#This Row],[Tipo de Proceso]],Tabla2[[#This Row],[Columna4]])","v":{"$error":"#N/A"}},null,null,null,null,null,null,null,null,null,null,null,null,null,{"$f":"+IF(Tabla2[[#This Row],[Nivel de acceso ]]=\"Alto\",0.5,IF(Tabla2[[#This Row],[Nivel de acceso ]]=\"Medio\",0.3,IF(Tabla2[[#This Row],[Nivel de acceso ]]=\"Bajo\",0.2,\"\")))","v":""},null,{"$f":"+IF(Tabla2[[#This Row],[Es  Reservada]]=\"Sí\",\"Escriba Ley\",\"No Aplica\")","v":"No Aplica"},null,null,null,null,{"$f":"IFERROR(IF(AND(Tabla2[[#This Row],[Contiene Datos Personales]]=\"SÍ\",OR(Tabla2[[#This Row],[Clasificación Datos Personales]]=\"Sensible\",Tabla2[[#This Row],[Clasificación Datos Personales]]=\"NNA\",Tabla2[[#This Row],[Clasificación Datos Personales]]=\"privado\")),\"Alto\",IF(AND(Tabla2[[#This Row],[Contiene Datos Personales]]=\"SÍ\",Tabla2[[#This Row],[Clasificación Datos Personales]]=\"SEMIPRIVADO\"),\"Medio\",\"Bajo\")),\"\")","v":"Bajo"},null,null,"No Aplica","No Aplica",null,null,null,{"$f":"+IF(Tabla2[[#This Row],[Integridad]]=\"Grave\",0.5,IF(Tabla2[[#This Row],[Integridad]]=\"Importante\",0.3,IF(Tabla2[[#This Row],[Integridad]]=\"Leve\",0.2,\"\")))","v":""},null,{"$f":"+IF(Tabla2[[#This Row],[Disponibilidad Interna]]=\"Sí\",0.1,IF(Tabla2[[#This Row],[Disponibilidad Interna]]=\"NO\",0,\"\"))","v":""},null,{"$f":"+IF(Tabla2[[#This Row],[Disponibilidad Terceros]]=\"Sí\",0.1,IF(Tabla2[[#This Row],[Disponibilidad Terceros]]=\"No\",0,\"\"))","v":""},{"$f":"+Tabla2[[#This Row],[Columna32]]+Tabla2[[#This Row],[Columna34]]+Tabla2[[#This Row],[Columna1]]+Tabla2[[#This Row],[Columna3]]","v":{"$error":"#VALUE!"}},{"$f":"IFERROR(IF(Tabla2[[#This Row],[Columna33]]<0.45,\"BAJA\",IF(Tabla2[[#This Row],[Columna33]]>0.75,\"ALTA\",\"MEDIA\")),\"\")","v":""},"No Aplica",{"$f":"+IF(Tabla2[[#This Row],[Información Publicada (WEB)]]=\"Sí\",\"Digite URL\",\"No Aplica\")","v":"No Aplica"},null,{"$f":"IF(Tabla2[[#This Row],[ Clasificación ICBF]]=\"Pública\",1,IF(Tabla2[[#This Row],[ Clasificación ICBF]]=\"Clasificada\",2,IF(Tabla2[[#This Row],[ Clasificación ICBF]]=\"Reservada\",3,0)))","v":0},{"$f":"IF(#REF!=8,4,IF(#REF!=16,3,IF(#REF!=24,2,IF(#REF!=48,1,0))))","v":{"$error":"#REF!"}},{"$f":"IF(#REF!=8,\"Alto\",IF(#REF!=16,\"Medio\",IF(#REF!=24,\"Medio\",IF(#REF!=48,\"Bajo\",0))))","v":{"$error":"#REF!"}},null,{"$f":"+MID(Tabla2[[#This Row],[Área/Dependencia]],17,8)","v":""}]
["",null,null,null,{"$f":"+VLOOKUP(Tabla2[[#This Row],[SEDE - REGIONAL]],DATOS!B377:D410,3,FALSE)","v":{"$error":"#N/A"}},{"$f":"+IF(OR(Tabla2[[#This Row],[Área/Dependencia]]=\"Subdirección de Sistemas Integrados\",Tabla2[[#This Row],[Área/Dependencia]]=\"Subdirección de Recursos Tecnológicos\"),\"X\",\"\")","v":""},{"$f":"+CONCATENATE(Tabla2[[#This Row],[Tipo de Proceso]],Tabla2[[#This Row],[Columna4]])","v":{"$error":"#N/A"}},null,null,null,null,null,null,null,null,null,null,null,null,null,{"$f":"+IF(Tabla2[[#This Row],[Nivel de acceso ]]=\"Alto\",0.5,IF(Tabla2[[#This Row],[Nivel de acceso ]]=\"Medio\",0.3,IF(Tabla2[[#This Row],[Nivel de acceso ]]=\"Bajo\",0.2,\"\")))","v":""},null,{"$f":"+IF(Tabla2[[#This Row],[Es  Reservada]]=\"Sí\",\"Escriba Ley\",\"No Aplica\")","v":"No Aplica"},null,null,null,null,{"$f":"IFERROR(IF(AND(Tabla2[[#This Row],[Contiene Datos Personales]]=\"SÍ\",OR(Tabla2[[#This Row],[Clasificación Datos Personales]]=\"Sensible\",Tabla2[[#This Row],[Clasificación Datos Personales]]=\"NNA\",Tabla2[[#This Row],[Clasificación Datos Personales]]=\"privado\")),\"Alto\",IF(AND(Tabla2[[#This Row],[Contiene Datos Personales]]=\"SÍ\",Tabla2[[#This Row],[Clasificación Datos Personales]]=\"SEMIPRIVADO\"),\"Medio\",\"Bajo\")),\"\")","v":"Bajo"},null,null,"No Aplica","No Aplica",null,null,null,{"$f":"+IF(Tabla2[[#This Row],[Integridad]]=\"Grave\",0.5,IF(Tabla2[[#This Row],[Integridad]]=\"Importante\",0.3,IF(Tabla2[[#This Row],[Integridad]]=\"Leve\",0.2,\"\")))","v":""},null,{"$f":"+IF(Tabla2[[#This Row],[Disponibilidad Interna]]=\"Sí\",0.1,IF(Tabla2[[#This Row],[Disponibilidad Interna]]=\"NO\",0,\"\"))","v":""},null,{"$f":"+IF(Tabla2[[#This Row],[Disponibilidad Terceros]]=\"Sí\",0.1,IF(Tabla2[[#This Row],[Disponibilidad Terceros]]=\"No\",0,\"\"))","v":""},{"$f":"+Tabla2[[#This Row],[Columna32]]+Tabla2[[#This Row],[Columna34]]+Tabla2[[#This Row],[Columna1]]+Tabla2[[#This Row],[Columna3]]","v":{"$error":"#VALUE!"}},{"$f":"IFERROR(IF(Tabla2[[#This Row],[Columna33]]<0.45,\"BAJA\",IF(Tabla2[[#This Row],[Columna33]]>0.75,\"ALTA\",\"MEDIA\")),\"\")","v":""},"No Aplica",{"$f":"+IF(Tabla2[[#This Row],[Información Publicada (WEB)]]=\"Sí\",\"Digite URL\",\"No Aplica\")","v":"No Aplica"},null,{"$f":"IF(Tabla2[[#This Row],[ Clasificación ICBF]]=\"Pública\",1,IF(Tabla2[[#This Row],[ Clasificación ICBF]]=\"Clasificada\",2,IF(Tabla2[[#This Row],[ Clasificación ICBF]]=\"Reservada\",3,0)))","v":0},{"$f":"IF(#REF!=8,4,IF(#REF!=16,3,IF(#REF!=24,2,IF(#REF!=48,1,0))))","v":{"$error":"#REF!"}},{"$f":"IF(#REF!=8,\"Alto\",IF(#REF!=16,\"Medio\",IF(#REF!=24,\"Medio\",IF(#REF!=48,\"Bajo\",0))))","v":{"$error":"#REF!"}},null,{"$f":"+MID(Tabla2[[#This Row],[Área/Dependencia]],17,8)","v":""}]
["",null,null,null,{"$f":"+VLOOKUP(Tabla2[[#This Row],[SEDE - REGIONAL]],DATOS!B378:D411,3,FALSE)","v":{"$error":"#N/A"}},{"$f":"+IF(OR(Tabla2[[#This Row],[Área/Dependencia]]=\"Subdirección de Sistemas Integrados\",Tabla2[[#This Row],[Área/Dependencia]]=\"Subdirección de Recursos Tecnológicos\"),\"X\",\"\")","v":""},{"$f":"+CONCATENATE(Tabla2[[#This Row],[Tipo de Proceso]],Tabla2[[#This Row],[Columna4]])","v":{"$error":"#N/A"}},null,null,null,null,null,null,null,null,null,null,null,null,null,{"$f":"+IF(Tabla2[[#This Row],[Nivel de acceso ]]=\"Alto\",0.5,IF(Tabla2[[#This Row],[Nivel de acceso ]]=\"Medio\",0.3,IF(Tabla2[[#This Row],[Nivel de acceso ]]=\"Bajo\",0.2,\"\")))","v":""},null,{"$f":"+IF(Tabla2[[#This Row],[Es  Reservada]]=\"Sí\",\"Escriba Ley\",\"No Aplica\")","v":"No Aplica"},null,null,null,null,{"$f":"IFERROR(IF(AND(Tabla2[[#This Row],[Contiene Datos Personales]]=\"SÍ\",OR(Tabla2[[#This Row],[Clasificación Datos Personales]]=\"Sensible\",Tabla2[[#This Row],[Clasificación Datos Personales]]=\"NNA\",Tabla2[[#This Row],[Clasificación Datos Personales]]=\"privado\")),\"Alto\",IF(AND(Tabla2[[#This Row],[Contiene Datos Personales]]=\"SÍ\",Tabla2[[#This Row],[Clasificación Datos Personales]]=\"SEMIPRIVADO\"),\"Medio\",\"Bajo\")),\"\")","v":"Bajo"},null,null,"No Aplica","No Aplica",null,null,null,{"$f":"+IF(Tabla2[[#This Row],[Integridad]]=\"Grave\",0.5,IF(Tabla2[[#This Row],[Integridad]]=\"Importante\",0.3,IF(Tabla2[[#This Row],[Integridad]]=\"Leve\",0.2,\"\")))","v":""},null,{"$f":"+IF(Tabla2[[#This Row],[Disponibilidad Interna]]=\"Sí\",0.1,IF(Tabla2[[#This Row],[Disponibilidad Interna]]=\"NO\",0,\"\"))","v":""},null,{"$f":"+IF(Tabla2[[#This Row],[Disponibilidad Terceros]]=\"Sí\",0.1,IF(Tabla2[[#This Row],[Disponibilidad Terceros]]=\"No\",0,\"\"))","v":""},{"$f":"+Tabla2[[#This Row],[Columna32]]+Tabla2[[#This Row],[Columna34]]+Tabla2[[#This Row],[Columna1]]+Tabla2[[#This Row],[Columna3]]","v":{"$error":"#VALUE!"}},{"$f":"IFERROR(IF(Tabla2[[#This Row],[Columna33]]<0.45,\"BAJA\",IF(Tabla2[[#This Row],[Columna33]]>0.75,\"ALTA\",\"MEDIA\")),\"\")","v":""},"No Aplica",{"$f":"+IF(Tabla2[[#This Row],[Información Publicada (WEB)]]=\"Sí\",\"Digite URL\",\"No Aplica\")","v":"No Aplica"},null,{"$f":"IF(Tabla2[[#This Row],[ Clasificación ICBF]]=\"Pública\",1,IF(Tabla2[[#This Row],[ Clasificación ICBF]]=\"Clasificada\",2,IF(Tabla2[[#This Row],[ Clasificación ICBF]]=\"Reservada\",3,0)))","v":0},{"$f":"IF(#REF!=8,4,IF(#REF!=16,3,IF(#REF!=24,2,IF(#REF!=48,1,0))))","v":{"$error":"#REF!"}},{"$f":"IF(#REF!=8,\"Alto\",IF(#REF!=16,\"Medio\",IF(#REF!=24,\"Medio\",IF(#REF!=48,\"Bajo\",0))))","v":{"$error":"#REF!"}},null,{"$f":"+MID(Tabla2[[#This Row],[Área/Dependencia]],17,8)","v":""}]
["",null,null,null,{"$f":"+VLOOKUP(Tabla2[[#This Row],[SEDE - REGIONAL]],DATOS!B379:D412,3,FALSE)","v":{"$error":"#N/A"}},{"$f":"+IF(OR(Tabla2[[#This Row],[Área/Dependencia]]=\"Subdirección de Sistemas Integrados\",Tabla2[[#This Row],[Área/Dependencia]]=\"Subdirección de Recursos Tecnológicos\"),\"X\",\"\")","v":""},{"$f":"+CONCATENATE(Tabla2[[#This Row],[Tipo de Proceso]],Tabla2[[#This Row],[Columna4]])","v":{"$error":"#N/A"}},null,null,null,null,null,null,null,null,null,null,null,null,null,{"$f":"+IF(Tabla2[[#This Row],[Nivel de acceso ]]=\"Alto\",0.5,IF(Tabla2[[#This Row],[Nivel de acceso ]]=\"Medio\",0.3,IF(Tabla2[[#This Row],[Nivel de acceso ]]=\"Bajo\",0.2,\"\")))","v":""},null,{"$f":"+IF(Tabla2[[#This Row],[Es  Reservada]]=\"Sí\",\"Escriba Ley\",\"No Aplica\")","v":"No Aplica"},null,null,null,null,{"$f":"IFERROR(IF(AND(Tabla2[[#This Row],[Contiene Datos Personales]]=\"SÍ\",OR(Tabla2[[#This Row],[Clasificación Datos Personales]]=\"Sensible\",Tabla2[[#This Row],[Clasificación Datos Personales]]=\"NNA\",Tabla2[[#This Row],[Clasificación Datos Personales]]=\"privado\")),\"Alto\",IF(AND(Tabla2[[#This Row],[Contiene Datos Personales]]=\"SÍ\",Tabla2[[#This Row],[Clasificación Datos Personales]]=\"SEMIPRIVADO\"),\"Medio\",\"Bajo\")),\"\")","v":"Bajo"},null,null,"No Aplica","No Aplica",null,null,null,{"$f":"+IF(Tabla2[[#This Row],[Integridad]]=\"Grave\",0.5,IF(Tabla2[[#This Row],[Integridad]]=\"Importante\",0.3,IF(Tabla2[[#This Row],[Integridad]]=\"Leve\",0.2,\"\")))","v":""},null,{"$f":"+IF(Tabla2[[#This Row],[Disponibilidad Interna]]=\"Sí\",0.1,IF(Tabla2[[#This Row],[Disponibilidad Interna]]=\"NO\",0,\"\"))","v":""},null,{"$f":"+IF(Tabla2[[#This Row],[Disponibilidad Terceros]]=\"Sí\",0.1,IF(Tabla2[[#This Row],[Disponibilidad Terceros]]=\"No\",0,\"\"))","v":""},{"$f":"+Tabla2[[#This Row],[Columna32]]+Tabla2[[#This Row],[Columna34]]+Tabla2[[#This Row],[Columna1]]+Tabla2[[#This Row],[Columna3]]","v":{"$error":"#VALUE!"}},{"$f":"IFERROR(IF(Tabla2[[#This Row],[Columna33]]<0.45,\"BAJA\",IF(Tabla2[[#This Row],[Columna33]]>0.75,\"ALTA\",\"MEDIA\")),\"\")","v":""},"No Aplica",{"$f":"+IF(Tabla2[[#This Row],[Información Publicada (WEB)]]=\"Sí\",\"Digite URL\",\"No Aplica\")","v":"No Aplica"},null,{"$f":"IF(Tabla2[[#This Row],[ Clasificación ICBF]]=\"Pública\",1,IF(Tabla2[[#This Row],[ Clasificación ICBF]]=\"Clasificada\",2,IF(Tabla2[[#This Row],[ Clasificación ICBF]]=\"Reservada\",3,0)))","v":0},{"$f":"IF(#REF!=8,4,IF(#REF!=16,3,IF(#REF!=24,2,IF(#REF!=48,1,0))))","v":{"$error":"#REF!"}},{"$f":"IF(#REF!=8,\"Alto\",IF(#REF!=16,\"Medio\",IF(#REF!=24,\"Medio\",IF(#REF!=48,\"Bajo\",0))))","v":{"$error":"#REF!"}},null,{"$f":"+MID(Tabla2[[#This Row],[Área/Dependencia]],17,8)","v":""}]
["",null,null,null,{"$f":"+VLOOKUP(Tabla2[[#This Row],[SEDE - REGIONAL]],DATOS!B380:D413,3,FALSE)","v":{"$error":"#N/A"}},{"$f":"+IF(OR(Tabla2[[#This Row],[Área/Dependencia]]=\"Subdirección de Sistemas Integrados\",Tabla2[[#This Row],[Área/Dependencia]]=\"Subdirección de Recursos Tecnológicos\"),\"X\",\"\")","v":""},{"$f":"+CONCATENATE(Tabla2[[#This Row],[Tipo de Proceso]],Tabla2[[#This Row],[Columna4]])","v":{"$error":"#N/A"}},null,null,null,null,null,null,null,null,null,null,null,null,null,{"$f":"+IF(Tabla2[[#This Row],[Nivel de acceso ]]=\"Alto\",0.5,IF(Tabla2[[#This Row],[Nivel de acceso ]]=\"Medio\",0.3,IF(Tabla2[[#This Row],[Nivel de acceso ]]=\"Bajo\",0.2,\"\")))","v":""},null,{"$f":"+IF(Tabla2[[#This Row],[Es  Reservada]]=\"Sí\",\"Escriba Ley\",\"No Aplica\")","v":"No Aplica"},null,null,null,null,{"$f":"IFERROR(IF(AND(Tabla2[[#This Row],[Contiene Datos Personales]]=\"SÍ\",OR(Tabla2[[#This Row],[Clasificación Datos Personales]]=\"Sensible\",Tabla2[[#This Row],[Clasificación Datos Personales]]=\"NNA\",Tabla2[[#This Row],[Clasificación Datos Personales]]=\"privado\")),\"Alto\",IF(AND(Tabla2[[#This Row],[Contiene Datos Personales]]=\"SÍ\",Tabla2[[#This Row],[Clasificación Datos Personales]]=\"SEMIPRIVADO\"),\"Medio\",\"Bajo\")),\"\")","v":"Bajo"},null,null,"No Aplica","No Aplica",null,null,null,{"$f":"+IF(Tabla2[[#This Row],[Integridad]]=\"Grave\",0.5,IF(Tabla2[[#This Row],[Integridad]]=\"Importante\",0.3,IF(Tabla2[[#This Row],[Integridad]]=\"Leve\",0.2,\"\")))","v":""},null,{"$f":"+IF(Tabla2[[#This Row],[Disponibilidad Interna]]=\"Sí\",0.1,IF(Tabla2[[#This Row],[Disponibilidad Interna]]=\"NO\",0,\"\"))","v":""},null,{"$f":"+IF(Tabla2[[#This Row],[Disponibilidad Terceros]]=\"Sí\",0.1,IF(Tabla2[[#This Row],[Disponibilidad Terceros]]=\"No\",0,\"\"))","v":""},{"$f":"+Tabla2[[#This Row],[Columna32]]+Tabla2[[#This Row],[Columna34]]+Tabla2[[#This Row],[Columna1]]+Tabla2[[#This Row],[Columna3]]","v":{"$error":"#VALUE!"}},{"$f":"IFERROR(IF(Tabla2[[#This Row],[Columna33]]<0.45,\"BAJA\",IF(Tabla2[[#This Row],[Columna33]]>0.75,\"ALTA\",\"MEDIA\")),\"\")","v":""},"No Aplica",{"$f":"+IF(Tabla2[[#This Row],[Información Publicada (WEB)]]=\"Sí\",\"Digite URL\",\"No Aplica\")","v":"No Aplica"},null,{"$f":"IF(Tabla2[[#This Row],[ Clasificación ICBF]]=\"Pública\",1,IF(Tabla2[[#This Row],[ Clasificación ICBF]]=\"Clasificada\",2,IF(Tabla2[[#This Row],[ Clasificación ICBF]]=\"Reservada\",3,0)))","v":0},{"$f":"IF(#REF!=8,4,IF(#REF!=16,3,IF(#REF!=24,2,IF(#REF!=48,1,0))))","v":{"$error":"#REF!"}},{"$f":"IF(#REF!=8,\"Alto\",IF(#REF!=16,\"Medio\",IF(#REF!=24,\"Medio\",IF(#REF!=48,\"Bajo\",0))))","v":{"$error":"#REF!"}},null,{"$f":"+MID(Tabla2[[#This Row],[Área/Dependencia]],17,8)","v":""}]
["",null,null,null,{"$f":"+VLOOKUP(Tabla2[[#This Row],[SEDE - REGIONAL]],DATOS!B381:D414,3,FALSE)","v":{"$error":"#N/A"}},{"$f":"+IF(OR(Tabla2[[#This Row],[Área/Dependencia]]=\"Subdirección de Sistemas Integrados\",Tabla2[[#This Row],[Área/Dependencia]]=\"Subdirección de Recursos Tecnológicos\"),\"X\",\"\")","v":""},{"$f":"+CONCATENATE(Tabla2[[#This Row],[Tipo de Proceso]],Tabla2[[#This Row],[Columna4]])","v":{"$error":"#N/A"}},null,null,null,null,null,null,null,null,null,null,null,null,null,{"$f":"+IF(Tabla2[[#This Row],[Nivel de acceso ]]=\"Alto\",0.5,IF(Tabla2[[#This Row],[Nivel de acceso ]]=\"Medio\",0.3,IF(Tabla2[[#This Row],[Nivel de acceso ]]=\"Bajo\",0.2,\"\")))","v":""},null,{"$f":"+IF(Tabla2[[#This Row],[Es  Reservada]]=\"Sí\",\"Escriba Ley\",\"No Aplica\")","v":"No Aplica"},null,null,null,null,{"$f":"IFERROR(IF(AND(Tabla2[[#This Row],[Contiene Datos Personales]]=\"SÍ\",OR(Tabla2[[#This Row],[Clasificación Datos Personales]]=\"Sensible\",Tabla2[[#This Row],[Clasificación Datos Personales]]=\"NNA\",Tabla2[[#This Row],[Clasificación Datos Personales]]=\"privado\")),\"Alto\",IF(AND(Tabla2[[#This Row],[Contiene Datos Personales]]=\"SÍ\",Tabla2[[#This Row],[Clasificación Datos Personales]]=\"SEMIPRIVADO\"),\"Medio\",\"Bajo\")),\"\")","v":"Bajo"},null,null,"No Aplica","No Aplica",null,null,null,{"$f":"+IF(Tabla2[[#This Row],[Integridad]]=\"Grave\",0.5,IF(Tabla2[[#This Row],[Integridad]]=\"Importante\",0.3,IF(Tabla2[[#This Row],[Integridad]]=\"Leve\",0.2,\"\")))","v":""},null,{"$f":"+IF(Tabla2[[#This Row],[Disponibilidad Interna]]=\"Sí\",0.1,IF(Tabla2[[#This Row],[Disponibilidad Interna]]=\"NO\",0,\"\"))","v":""},null,{"$f":"+IF(Tabla2[[#This Row],[Disponibilidad Terceros]]=\"Sí\",0.1,IF(Tabla2[[#This Row],[Disponibilidad Terceros]]=\"No\",0,\"\"))","v":""},{"$f":"+Tabla2[[#This Row],[Columna32]]+Tabla2[[#This Row],[Columna34]]+Tabla2[[#This Row],[Columna1]]+Tabla2[[#This Row],[Columna3]]","v":{"$error":"#VALUE!"}},{"$f":"IFERROR(IF(Tabla2[[#This Row],[Columna33]]<0.45,\"BAJA\",IF(Tabla2[[#This Row],[Columna33]]>0.75,\"ALTA\",\"MEDIA\")),\"\")","v":""},"No Aplica",{"$f":"+IF(Tabla2[[#This Row],[Información Publicada (WEB)]]=\"Sí\",\"Digite URL\",\"No Aplica\")","v":"No Aplica"},null,{"$f":"IF(Tabla2[[#This Row],[ Clasificación ICBF]]=\"Pública\",1,IF(Tabla2[[#This Row],[ Clasificación ICBF]]=\"Clasificada\",2,IF(Tabla2[[#This Row],[ Clasificación ICBF]]=\"Reservada\",3,0)))","v":0},{"$f":"IF(#REF!=8,4,IF(#REF!=16,3,IF(#REF!=24,2,IF(#REF!=48,1,0))))","v":{"$error":"#REF!"}},{"$f":"IF(#REF!=8,\"Alto\",IF(#REF!=16,\"Medio\",IF(#REF!=24,\"Medio\",IF(#REF!=48,\"Bajo\",0))))","v":{"$error":"#REF!"}},null,{"$f":"+MID(Tabla2[[#This Row],[Área/Dependencia]],17,8)","v":""}]
["",null,null,null,{"$f":"+VLOOKUP(Tabla2[[#This Row],[SEDE - REGIONAL]],DATOS!B382:D415,3,FALSE)","v":{"$error":"#N/A"}},{"$f":"+IF(OR(Tabla2[[#This Row],[Área/Dependencia]]=\"Subdirección de Sistemas Integrados\",Tabla2[[#This Row],[Área/Dependencia]]=\"Subdirección de Recursos Tecnológicos\"),\"X\",\"\")","v":""},{"$f":"+CONCATENATE(Tabla2[[#This Row],[Tipo de Proceso]],Tabla2[[#This Row],[Columna4]])","v":{"$error":"#N/A"}},null,null,null,null,null,null,null,null,null,null,null,null,null,{"$f":"+IF(Tabla2[[#This Row],[Nivel de acceso ]]=\"Alto\",0.5,IF(Tabla2[[#This Row],[Nivel de acceso ]]=\"Medio\",0.3,IF(Tabla2[[#This Row],[Nivel de acceso ]]=\"Bajo\",0.2,\"\")))","v":""},null,{"$f":"+IF(Tabla2[[#This Row],[Es  Reservada]]=\"Sí\",\"Escriba Ley\",\"No Aplica\")","v":"No Aplica"},null,null,null,null,{"$f":"IFERROR(IF(AND(Tabla2[[#This Row],[Contiene Datos Personales]]=\"SÍ\",OR(Tabla2[[#This Row],[Clasificación Datos Personales]]=\"Sensible\",Tabla2[[#This Row],[Clasificación Datos Personales]]=\"NNA\",Tabla2[[#This Row],[Clasificación Datos Personales]]=\"privado\")),\"Alto\",IF(AND(Tabla2[[#This Row],[Contiene Datos Personales]]=\"SÍ\",Tabla2[[#This Row],[Clasificación Datos Personales]]=\"SEMIPRIVADO\"),\"Medio\",\"Bajo\")),\"\")","v":"Bajo"},null,null,"No Aplica","No Aplica",null,null,null,{"$f":"+IF(Tabla2[[#This Row],[Integridad]]=\"Grave\",0.5,IF(Tabla2[[#This Row],[Integridad]]=\"Importante\",0.3,IF(Tabla2[[#This Row],[Integridad]]=\"Leve\",0.2,\"\")))","v":""},null,{"$f":"+IF(Tabla2[[#This Row],[Disponibilidad Interna]]=\"Sí\",0.1,IF(Tabla2[[#This Row],[Disponibilidad Interna]]=\"NO\",0,\"\"))","v":""},null,{"$f":"+IF(Tabla2[[#This Row],[Disponibilidad Terceros]]=\"Sí\",0.1,IF(Tabla2[[#This Row],[Disponibilidad Terceros]]=\"No\",0,\"\"))","v":""},{"$f":"+Tabla2[[#This Row],[Columna32]]+Tabla2[[#This Row],[Columna34]]+Tabla2[[#This Row],[Columna1]]+Tabla2[[#This Row],[Columna3]]","v":{"$error":"#VALUE!"}},{"$f":"IFERROR(IF(Tabla2[[#This Row],[Columna33]]<0.45,\"BAJA\",IF(Tabla2[[#This Row],[Columna33]]>0.75,\"ALTA\",\"MEDIA\")),\"\")","v":""},"No Aplica",{"$f":"+IF(Tabla2[[#This Row],[Información Publicada (WEB)]]=\"Sí\",\"Digite URL\",\"No Aplica\")","v":"No Aplica"},null,{"$f":"IF(Tabla2[[#This Row],[ Clasificación ICBF]]=\"Pública\",1,IF(Tabla2[[#This Row],[ Clasificación ICBF]]=\"Clasificada\",2,IF(Tabla2[[#This Row],[ Clasificación ICBF]]=\"Reservada\",3,0)))","v":0},{"$f":"IF(#REF!=8,4,IF(#REF!=16,3,IF(#REF!=24,2,IF(#REF!=48,1,0))))","v":{"$error":"#REF!"}},{"$f":"IF(#REF!=8,\"Alto\",IF(#REF!=16,\"Medio\",IF(#REF!=24,\"Medio\",IF(#REF!=48,\"Bajo\",0))))","v":{"$error":"#REF!"}},null,{"$f":"+MID(Tabla2[[#This Row],[Área/Dependencia]],17,8)","v":""}]
["",null,null,null,{"$f":"+VLOOKUP(Tabla2[[#This Row],[SEDE - REGIONAL]],DATOS!B383:D416,3,FALSE)","v":{"$error":"#N/A"}},{"$f":"+IF(OR(Tabla2[[#This Row],[Área/Dependencia]]=\"Subdirección de Sistemas Integrados\",Tabla2[[#This Row],[Área/Dependencia]]=\"Subdirección de Recursos Tecnológicos\"),\"X\",\"\")","v":""},{"$f":"+CONCATENATE(Tabla2[[#This Row],[Tipo de Proceso]],Tabla2[[#This Row],[Columna4]])","v":{"$error":"#N/A"}},null,null,null,null,null,null,null,null,null,null,null,null,null,{"$f":"+IF(Tabla2[[#This Row],[Nivel de acceso ]]=\"Alto\",0.5,IF(Tabla2[[#This Row],[Nivel de acceso ]]=\"Medio\",0.3,IF(Tabla2[[#This Row],[Nivel de acceso ]]=\"Bajo\",0.2,\"\")))","v":""},null,{"$f":"+IF(Tabla2[[#This Row],[Es  Reservada]]=\"Sí\",\"Escriba Ley\",\"No Aplica\")","v":"No Aplica"},null,null,null,null,{"$f":"IFERROR(IF(AND(Tabla2[[#This Row],[Contiene Datos Personales]]=\"SÍ\",OR(Tabla2[[#This Row],[Clasificación Datos Personales]]=\"Sensible\",Tabla2[[#This Row],[Clasificación Datos Personales]]=\"NNA\",Tabla2[[#This Row],[Clasificación Datos Personales]]=\"privado\")),\"Alto\",IF(AND(Tabla2[[#This Row],[Contiene Datos Personales]]=\"SÍ\",Tabla2[[#This Row],[Clasificación Datos Personales]]=\"SEMIPRIVADO\"),\"Medio\",\"Bajo\")),\"\")","v":"Bajo"},null,null,"No Aplica","No Aplica",null,null,null,{"$f":"+IF(Tabla2[[#This Row],[Integridad]]=\"Grave\",0.5,IF(Tabla2[[#This Row],[Integridad]]=\"Importante\",0.3,IF(Tabla2[[#This Row],[Integridad]]=\"Leve\",0.2,\"\")))","v":""},null,{"$f":"+IF(Tabla2[[#This Row],[Disponibilidad Interna]]=\"Sí\",0.1,IF(Tabla2[[#This Row],[Disponibilidad Interna]]=\"NO\",0,\"\"))","v":""},null,{"$f":"+IF(Tabla2[[#This Row],[Disponibilidad Terceros]]=\"Sí\",0.1,IF(Tabla2[[#This Row],[Disponibilidad Terceros]]=\"No\",0,\"\"))","v":""},{"$f":"+Tabla2[[#This Row],[Columna32]]+Tabla2[[#This Row],[Columna34]]+Tabla2[[#This Row],[Columna1]]+Tabla2[[#This Row],[Columna3]]","v":{"$error":"#VALUE!"}},{"$f":"IFERROR(IF(Tabla2[[#This Row],[Columna33]]<0.45,\"BAJA\",IF(Tabla2[[#This Row],[Columna33]]>0.75,\"ALTA\",\"MEDIA\")),\"\")","v":""},"No Aplica",{"$f":"+IF(Tabla2[[#This Row],[Información Publicada (WEB)]]=\"Sí\",\"Digite URL\",\"No Aplica\")","v":"No Aplica"},null,{"$f":"IF(Tabla2[[#This Row],[ Clasificación ICBF]]=\"Pública\",1,IF(Tabla2[[#This Row],[ Clasificación ICBF]]=\"Clasificada\",2,IF(Tabla2[[#This Row],[ Clasificación ICBF]]=\"Reservada\",3,0)))","v":0},{"$f":"IF(#REF!=8,4,IF(#REF!=16,3,IF(#REF!=24,2,IF(#REF!=48,1,0))))","v":{"$error":"#REF!"}},{"$f":"IF(#REF!=8,\"Alto\",IF(#REF!=16,\"Medio\",IF(#REF!=24,\"Medio\",IF(#REF!=48,\"Bajo\",0))))","v":{"$error":"#REF!"}},null,{"$f":"+MID(Tabla2[[#This Row],[Área/Dependencia]],17,8)","v":""}]
["",null,null,null,{"$f":"+VLOOKUP(Tabla2[[#This Row],[SEDE - REGIONAL]],DATOS!B384:D417,3,FALSE)","v":{"$error":"#N/A"}},{"$f":"+IF(OR(Tabla2[[#This Row],[Área/Dependencia]]=\"Subdirección de Sistemas Integrados\",Tabla2[[#This Row],[Área/Dependencia]]=\"Subdirección de Recursos Tecnológicos\"),\"X\",\"\")","v":""},{"$f":"+CONCATENATE(Tabla2[[#This Row],[Tipo de Proceso]],Tabla2[[#This Row],[Columna4]])","v":{"$error":"#N/A"}},null,null,null,null,null,null,null,null,null,null,null,null,null,{"$f":"+IF(Tabla2[[#This Row],[Nivel de acceso ]]=\"Alto\",0.5,IF(Tabla2[[#This Row],[Nivel de acceso ]]=\"Medio\",0.3,IF(Tabla2[[#This Row],[Nivel de acceso ]]=\"Bajo\",0.2,\"\")))","v":""},null,{"$f":"+IF(Tabla2[[#This Row],[Es  Reservada]]=\"Sí\",\"Escriba Ley\",\"No Aplica\")","v":"No Aplica"},null,null,null,null,{"$f":"IFERROR(IF(AND(Tabla2[[#This Row],[Contiene Datos Personales]]=\"SÍ\",OR(Tabla2[[#This Row],[Clasificación Datos Personales]]=\"Sensible\",Tabla2[[#This Row],[Clasificación Datos Personales]]=\"NNA\",Tabla2[[#This Row],[Clasificación Datos Personales]]=\"privado\")),\"Alto\",IF(AND(Tabla2[[#This Row],[Contiene Datos Personales]]=\"SÍ\",Tabla2[[#This Row],[Clasificación Datos Personales]]=\"SEMIPRIVADO\"),\"Medio\",\"Bajo\")),\"\")","v":"Bajo"},null,null,"No Aplica","No Aplica",null,null,null,{"$f":"+IF(Tabla2[[#This Row],[Integridad]]=\"Grave\",0.5,IF(Tabla2[[#This Row],[Integridad]]=\"Importante\",0.3,IF(Tabla2[[#This Row],[Integridad]]=\"Leve\",0.2,\"\")))","v":""},null,{"$f":"+IF(Tabla2[[#This Row],[Disponibilidad Interna]]=\"Sí\",0.1,IF(Tabla2[[#This Row],[Disponibilidad Interna]]=\"NO\",0,\"\"))","v":""},null,{"$f":"+IF(Tabla2[[#This Row],[Disponibilidad Terceros]]=\"Sí\",0.1,IF(Tabla2[[#This Row],[Disponibilidad Terceros]]=\"No\",0,\"\"))","v":""},{"$f":"+Tabla2[[#This Row],[Columna32]]+Tabla2[[#This Row],[Columna34]]+Tabla2[[#This Row],[Columna1]]+Tabla2[[#This Row],[Columna3]]","v":{"$error":"#VALUE!"}},{"$f":"IFERROR(IF(Tabla2[[#This Row],[Columna33]]<0.45,\"BAJA\",IF(Tabla2[[#This Row],[Columna33]]>0.75,\"ALTA\",\"MEDIA\")),\"\")","v":""},"No Aplica",{"$f":"+IF(Tabla2[[#This Row],[Información Publicada (WEB)]]=\"Sí\",\"Digite URL\",\"No Aplica\")","v":"No Aplica"},null,{"$f":"IF(Tabla2[[#This Row],[ Clasificación ICBF]]=\"Pública\",1,IF(Tabla2[[#This Row],[ Clasificación ICBF]]=\"Clasificada\",2,IF(Tabla2[[#This Row],[ Clasificación ICBF]]=\"Reservada\",3,0)))","v":0},{"$f":"IF(#REF!=8,4,IF(#REF!=16,3,IF(#REF!=24,2,IF(#REF!=48,1,0))))","v":{"$error":"#REF!"}},{"$f":"IF(#REF!=8,\"Alto\",IF(#REF!=16,\"Medio\",IF(#REF!=24,\"Medio\",IF(#REF!=48,\"Bajo\",0))))","v":{"$error":"#REF!"}},null,{"$f":"+MID(Tabla2[[#This Row],[Área/Dependencia]],17,8)","v":""}]
["",null,null,null,{"$f":"+VLOOKUP(Tabla2[[#This Row],[SEDE - REGIONAL]],DATOS!B385:D418,3,FALSE)","v":{"$error":"#N/A"}},{"$f":"+IF(OR(Tabla2[[#This Row],[Área/Dependencia]]=\"Subdirección de Sistemas Integrados\",Tabla2[[#This Row],[Área/Dependencia]]=\"Subdirección de Recursos Tecnológicos\"),\"X\",\"\")","v":""},{"$f":"+CONCATENATE(Tabla2[[#This Row],[Tipo de Proceso]],Tabla2[[#This Row],[Columna4]])","v":{"$error":"#N/A"}},null,null,null,null,null,null,null,null,null,null,null,null,null,{"$f":"+IF(Tabla2[[#This Row],[Nivel de acceso ]]=\"Alto\",0.5,IF(Tabla2[[#This Row],[Nivel de acceso ]]=\"Medio\",0.3,IF(Tabla2[[#This Row],[Nivel de acceso ]]=\"Bajo\",0.2,\"\")))","v":""},null,{"$f":"+IF(Tabla2[[#This Row],[Es  Reservada]]=\"Sí\",\"Escriba Ley\",\"No Aplica\")","v":"No Aplica"},null,null,null,null,{"$f":"IFERROR(IF(AND(Tabla2[[#This Row],[Contiene Datos Personales]]=\"SÍ\",OR(Tabla2[[#This Row],[Clasificación Datos Personales]]=\"Sensible\",Tabla2[[#This Row],[Clasificación Datos Personales]]=\"NNA\",Tabla2[[#This Row],[Clasificación Datos Personales]]=\"privado\")),\"Alto\",IF(AND(Tabla2[[#This Row],[Contiene Datos Personales]]=\"SÍ\",Tabla2[[#This Row],[Clasificación Datos Personales]]=\"SEMIPRIVADO\"),\"Medio\",\"Bajo\")),\"\")","v":"Bajo"},null,null,"No Aplica","No Aplica",null,null,null,{"$f":"+IF(Tabla2[[#This Row],[Integridad]]=\"Grave\",0.5,IF(Tabla2[[#This Row],[Integridad]]=\"Importante\",0.3,IF(Tabla2[[#This Row],[Integridad]]=\"Leve\",0.2,\"\")))","v":""},null,{"$f":"+IF(Tabla2[[#This Row],[Disponibilidad Interna]]=\"Sí\",0.1,IF(Tabla2[[#This Row],[Disponibilidad Interna]]=\"NO\",0,\"\"))","v":""},null,{"$f":"+IF(Tabla2[[#This Row],[Disponibilidad Terceros]]=\"Sí\",0.1,IF(Tabla2[[#This Row],[Disponibilidad Terceros]]=\"No\",0,\"\"))","v":""},{"$f":"+Tabla2[[#This Row],[Columna32]]+Tabla2[[#This Row],[Columna34]]+Tabla2[[#This Row],[Columna1]]+Tabla2[[#This Row],[Columna3]]","v":{"$error":"#VALUE!"}},{"$f":"IFERROR(IF(Tabla2[[#This Row],[Columna33]]<0.45,\"BAJA\",IF(Tabla2[[#This Row],[Columna33]]>0.75,\"ALTA\",\"MEDIA\")),\"\")","v":""},"No Aplica",{"$f":"+IF(Tabla2[[#This Row],[Información Publicada (WEB)]]=\"Sí\",\"Digite URL\",\"No Aplica\")","v":"No Aplica"},null,{"$f":"IF(Tabla2[[#This Row],[ Clasificación ICBF]]=\"Pública\",1,IF(Tabla2[[#This Row],[ Clasificación ICBF]]=\"Clasificada\",2,IF(Tabla2[[#This Row],[ Clasificación ICBF]]=\"Reservada\",3,0)))","v":0},{"$f":"IF(#REF!=8,4,IF(#REF!=16,3,IF(#REF!=24,2,IF(#REF!=48,1,0))))","v":{"$error":"#REF!"}},{"$f":"IF(#REF!=8,\"Alto\",IF(#REF!=16,\"Medio\",IF(#REF!=24,\"Medio\",IF(#REF!=48,\"Bajo\",0))))","v":{"$error":"#REF!"}},null,{"$f":"+MID(Tabla2[[#This Row],[Área/Dependencia]],17,8)","v":""}]
["",null,null,null,{"$f":"+VLOOKUP(Tabla2[[#This Row],[SEDE - REGIONAL]],DATOS!B386:D419,3,FALSE)","v":{"$error":"#N/A"}},{"$f":"+IF(OR(Tabla2[[#This Row],[Área/Dependencia]]=\"Subdirección de Sistemas Integrados\",Tabla2[[#This Row],[Área/Dependencia]]=\"Subdirección de Recursos Tecnológicos\"),\"X\",\"\")","v":""},{"$f":"+CONCATENATE(Tabla2[[#This Row],[Tipo de Proceso]],Tabla2[[#This Row],[Columna4]])","v":{"$error":"#N/A"}},null,null,null,null,null,null,null,null,null,null,null,null,null,{"$f":"+IF(Tabla2[[#This Row],[Nivel de acceso ]]=\"Alto\",0.5,IF(Tabla2[[#This Row],[Nivel de acceso ]]=\"Medio\",0.3,IF(Tabla2[[#This Row],[Nivel de acceso ]]=\"Bajo\",0.2,\"\")))","v":""},null,{"$f":"+IF(Tabla2[[#This Row],[Es  Reservada]]=\"Sí\",\"Escriba Ley\",\"No Aplica\")","v":"No Aplica"},null,null,null,null,{"$f":"IFERROR(IF(AND(Tabla2[[#This Row],[Contiene Datos Personales]]=\"SÍ\",OR(Tabla2[[#This Row],[Clasificación Datos Personales]]=\"Sensible\",Tabla2[[#This Row],[Clasificación Datos Personales]]=\"NNA\",Tabla2[[#This Row],[Clasificación Datos Personales]]=\"privado\")),\"Alto\",IF(AND(Tabla2[[#This Row],[Contiene Datos Personales]]=\"SÍ\",Tabla2[[#This Row],[Clasificación Datos Personales]]=\"SEMIPRIVADO\"),\"Medio\",\"Bajo\")),\"\")","v":"Bajo"},null,null,"No Aplica","No Aplica",null,null,null,{"$f":"+IF(Tabla2[[#This Row],[Integridad]]=\"Grave\",0.5,IF(Tabla2[[#This Row],[Integridad]]=\"Importante\",0.3,IF(Tabla2[[#This Row],[Integridad]]=\"Leve\",0.2,\"\")))","v":""},null,{"$f":"+IF(Tabla2[[#This Row],[Disponibilidad Interna]]=\"Sí\",0.1,IF(Tabla2[[#This Row],[Disponibilidad Interna]]=\"NO\",0,\"\"))","v":""},null,{"$f":"+IF(Tabla2[[#This Row],[Disponibilidad Terceros]]=\"Sí\",0.1,IF(Tabla2[[#This Row],[Disponibilidad Terceros]]=\"No\",0,\"\"))","v":""},{"$f":"+Tabla2[[#This Row],[Columna32]]+Tabla2[[#This Row],[Columna34]]+Tabla2[[#This Row],[Columna1]]+Tabla2[[#This Row],[Columna3]]","v":{"$error":"#VALUE!"}},{"$f":"IFERROR(IF(Tabla2[[#This Row],[Columna33]]<0.45,\"BAJA\",IF(Tabla2[[#This Row],[Columna33]]>0.75,\"ALTA\",\"MEDIA\")),\"\")","v":""},"No Aplica",{"$f":"+IF(Tabla2[[#This Row],[Información Publicada (WEB)]]=\"Sí\",\"Digite URL\",\"No Aplica\")","v":"No Aplica"},null,{"$f":"IF(Tabla2[[#This Row],[ Clasificación ICBF]]=\"Pública\",1,IF(Tabla2[[#This Row],[ Clasificación ICBF]]=\"Clasificada\",2,IF(Tabla2[[#This Row],[ Clasificación ICBF]]=\"Reservada\",3,0)))","v":0},{"$f":"IF(#REF!=8,4,IF(#REF!=16,3,IF(#REF!=24,2,IF(#REF!=48,1,0))))","v":{"$error":"#REF!"}},{"$f":"IF(#REF!=8,\"Alto\",IF(#REF!=16,\"Medio\",IF(#REF!=24,\"Medio\",IF(#REF!=48,\"Bajo\",0))))","v":{"$error":"#REF!"}},null,{"$f":"+MID(Tabla2[[#This Row],[Área/Dependencia]],17,8)","v":""}]
["",null,null,null,{"$f":"+VLOOKUP(Tabla2[[#This Row],[SEDE - REGIONAL]],DATOS!B387:D420,3,FALSE)","v":{"$error":"#N/A"}},{"$f":"+IF(OR(Tabla2[[#This Row],[Área/Dependencia]]=\"Subdirección de Sistemas Integrados\",Tabla2[[#This Row],[Área/Dependencia]]=\"Subdirección de Recursos Tecnológicos\"),\"X\",\"\")","v":""},{"$f":"+CONCATENATE(Tabla2[[#This Row],[Tipo de Proceso]],Tabla2[[#This Row],[Columna4]])","v":{"$error":"#N/A"}},null,null,null,null,null,null,null,null,null,null,null,null,null,{"$f":"+IF(Tabla2[[#This Row],[Nivel de acceso ]]=\"Alto\",0.5,IF(Tabla2[[#This Row],[Nivel de acceso ]]=\"Medio\",0.3,IF(Tabla2[[#This Row],[Nivel de acceso ]]=\"Bajo\",0.2,\"\")))","v":""},null,{"$f":"+IF(Tabla2[[#This Row],[Es  Reservada]]=\"Sí\",\"Escriba Ley\",\"No Aplica\")","v":"No Aplica"},null,null,null,null,{"$f":"IFERROR(IF(AND(Tabla2[[#This Row],[Contiene Datos Personales]]=\"SÍ\",OR(Tabla2[[#This Row],[Clasificación Datos Personales]]=\"Sensible\",Tabla2[[#This Row],[Clasificación Datos Personales]]=\"NNA\",Tabla2[[#This Row],[Clasificación Datos Personales]]=\"privado\")),\"Alto\",IF(AND(Tabla2[[#This Row],[Contiene Datos Personales]]=\"SÍ\",Tabla2[[#This Row],[Clasificación Datos Personales]]=\"SEMIPRIVADO\"),\"Medio\",\"Bajo\")),\"\")","v":"Bajo"},null,null,{"$f":"+IF(OR(N392=\"FÍSICO-ELECTRÓNICO\",N392=\"FÍSICO\",N392=\"Hardware\"),\"Digite ubicación\",\"No Aplica\")","v":"No Aplica"},{"$f":"+IF(OR(N392=\"FÍSICO-ELECTRÓNICO\",N392=\"ELECTRÓNICO\",N392=\"Software\"),\"Digite ubicación\",\"No Aplica\")","v":"No Aplica"},null,null,null,{"$f":"+IF(Tabla2[[#This Row],[Integridad]]=\"Grave\",0.5,IF(Tabla2[[#This Row],[Integridad]]=\"Importante\",0.3,IF(Tabla2[[#This Row],[Integridad]]=\"Leve\",0.2,\"\")))","v":""},null,{"$f":"+IF(Tabla2[[#This Row],[Disponibilidad Interna]]=\"Sí\",0.1,IF(Tabla2[[#This Row],[Disponibilidad Interna]]=\"NO\",0,\"\"))","v":""},null,{"$f":"+IF(Tabla2[[#This Row],[Disponibilidad Terceros]]=\"Sí\",0.1,IF(Tabla2[[#This Row],[Disponibilidad Terceros]]=\"No\",0,\"\"))","v":""},{"$f":"+Tabla2[[#This Row],[Columna32]]+Tabla2[[#This Row],[Columna34]]+Tabla2[[#This Row],[Columna1]]+Tabla2[[#This Row],[Columna3]]","v":{"$error":"#VALUE!"}},{"$f":"IFERROR(IF(Tabla2[[#This Row],[Columna33]]<0.45,\"BAJA\",IF(Tabla2[[#This Row],[Columna33]]>0.75,\"ALTA\",\"MEDIA\")),\"\")","v":""},{"$f":"+IF(OR(N392=\"FÍSICO-ELECTRÓNICO\",N392=\"ELECTRÓNICO\"),\"Sí\",\"No Aplica\")","v":"No Aplica"},{"$f":"+IF(Tabla2[[#This Row],[Información Publicada (WEB)]]=\"Sí\",\"Digite URL\",\"No Aplica\")","v":"No Aplica"},null,{"$f":"IF(Tabla2[[#This Row],[ Clasificación ICBF]]=\"Pública\",1,IF(Tabla2[[#This Row],[ Clasificación ICBF]]=\"Clasificada\",2,IF(Tabla2[[#This Row],[ Clasificación ICBF]]=\"Reservada\",3,0)))","v":0},{"$f":"IF(#REF!=8,4,IF(#REF!=16,3,IF(#REF!=24,2,IF(#REF!=48,1,0))))","v":{"$error":"#REF!"}},{"$f":"IF(#REF!=8,\"Alto\",IF(#REF!=16,\"Medio\",IF(#REF!=24,\"Medio\",IF(#REF!=48,\"Bajo\",0))))","v":{"$error":"#REF!"}},null,{"$f":"+MID(Tabla2[[#This Row],[Área/Dependencia]],17,8)","v":""}]
["",null,null,null,{"$f":"+VLOOKUP(Tabla2[[#This Row],[SEDE - REGIONAL]],DATOS!B388:D421,3,FALSE)","v":{"$error":"#N/A"}},{"$f":"+IF(OR(Tabla2[[#This Row],[Área/Dependencia]]=\"Subdirección de Sistemas Integrados\",Tabla2[[#This Row],[Área/Dependencia]]=\"Subdirección de Recursos Tecnológicos\"),\"X\",\"\")","v":""},{"$f":"+CONCATENATE(Tabla2[[#This Row],[Tipo de Proceso]],Tabla2[[#This Row],[Columna4]])","v":{"$error":"#N/A"}},null,null,null,null,null,null,null,null,null,null,null,null,null,{"$f":"+IF(Tabla2[[#This Row],[Nivel de acceso ]]=\"Alto\",0.5,IF(Tabla2[[#This Row],[Nivel de acceso ]]=\"Medio\",0.3,IF(Tabla2[[#This Row],[Nivel de acceso ]]=\"Bajo\",0.2,\"\")))","v":""},null,{"$f":"+IF(Tabla2[[#This Row],[Es  Reservada]]=\"Sí\",\"Escriba Ley\",\"No Aplica\")","v":"No Aplica"},null,null,null,null,{"$f":"IFERROR(IF(AND(Tabla2[[#This Row],[Contiene Datos Personales]]=\"SÍ\",OR(Tabla2[[#This Row],[Clasificación Datos Personales]]=\"Sensible\",Tabla2[[#This Row],[Clasificación Datos Personales]]=\"NNA\",Tabla2[[#This Row],[Clasificación Datos Personales]]=\"privado\")),\"Alto\",IF(AND(Tabla2[[#This Row],[Contiene Datos Personales]]=\"SÍ\",Tabla2[[#This Row],[Clasificación Datos Personales]]=\"SEMIPRIVADO\"),\"Medio\",\"Bajo\")),\"\")","v":"Bajo"},null,null,"No Aplica","No Aplica",null,null,null,{"$f":"+IF(Tabla2[[#This Row],[Integridad]]=\"Grave\",0.5,IF(Tabla2[[#This Row],[Integridad]]=\"Importante\",0.3,IF(Tabla2[[#This Row],[Integridad]]=\"Leve\",0.2,\"\")))","v":""},null,{"$f":"+IF(Tabla2[[#This Row],[Disponibilidad Interna]]=\"Sí\",0.1,IF(Tabla2[[#This Row],[Disponibilidad Interna]]=\"NO\",0,\"\"))","v":""},null,{"$f":"+IF(Tabla2[[#This Row],[Disponibilidad Terceros]]=\"Sí\",0.1,IF(Tabla2[[#This Row],[Disponibilidad Terceros]]=\"No\",0,\"\"))","v":""},{"$f":"+Tabla2[[#This Row],[Columna32]]+Tabla2[[#This Row],[Columna34]]+Tabla2[[#This Row],[Columna1]]+Tabla2[[#This Row],[Columna3]]","v":{"$error":"#VALUE!"}},{"$f":"IFERROR(IF(Tabla2[[#This Row],[Columna33]]<0.45,\"BAJA\",IF(Tabla2[[#This Row],[Columna33]]>0.75,\"ALTA\",\"MEDIA\")),\"\")","v":""},"No Aplica",{"$f":"+IF(Tabla2[[#This Row],[Información Publicada (WEB)]]=\"Sí\",\"Digite URL\",\"No Aplica\")","v":"No Aplica"},null,{"$f":"IF(Tabla2[[#This Row],[ Clasificación ICBF]]=\"Pública\",1,IF(Tabla2[[#This Row],[ Clasificación ICBF]]=\"Clasificada\",2,IF(Tabla2[[#This Row],[ Clasificación ICBF]]=\"Reservada\",3,0)))","v":0},{"$f":"IF(#REF!=8,4,IF(#REF!=16,3,IF(#REF!=24,2,IF(#REF!=48,1,0))))","v":{"$error":"#REF!"}},{"$f":"IF(#REF!=8,\"Alto\",IF(#REF!=16,\"Medio\",IF(#REF!=24,\"Medio\",IF(#REF!=48,\"Bajo\",0))))","v":{"$error":"#REF!"}},null,{"$f":"+MID(Tabla2[[#This Row],[Área/Dependencia]],17,8)","v":""}]
[{"$f":"IFERROR(IF(B394<>\"\",A393+1,\"\"),\"\")","v":""},null,null,null,{"$f":"+VLOOKUP(Tabla2[[#This Row],[SEDE - REGIONAL]],DATOS!B389:D422,3,FALSE)","v":{"$error":"#N/A"}},{"$f":"+IF(OR(Tabla2[[#This Row],[Área/Dependencia]]=\"Subdirección de Sistemas Integrados\",Tabla2[[#This Row],[Área/Dependencia]]=\"Subdirección de Recursos Tecnológicos\"),\"X\",\"\")","v":""},{"$f":"+CONCATENATE(Tabla2[[#This Row],[Tipo de Proceso]],Tabla2[[#This Row],[Columna4]])","v":{"$error":"#N/A"}},null,null,null,null,null,null,null,null,null,null,null,null,null,{"$f":"+IF(Tabla2[[#This Row],[Nivel de acceso ]]=\"Alto\",0.5,IF(Tabla2[[#This Row],[Nivel de acceso ]]=\"Medio\",0.3,IF(Tabla2[[#This Row],[Nivel de acceso ]]=\"Bajo\",0.2,\"\")))","v":""},null,{"$f":"+IF(Tabla2[[#This Row],[Es  Reservada]]=\"Sí\",\"Escriba Ley\",\"No Aplica\")","v":"No Aplica"},null,null,null,null,{"$f":"IFERROR(IF(AND(Tabla2[[#This Row],[Contiene Datos Personales]]=\"SÍ\",OR(Tabla2[[#This Row],[Clasificación Datos Personales]]=\"Sensible\",Tabla2[[#This Row],[Clasificación Datos Personales]]=\"NNA\",Tabla2[[#This Row],[Clasificación Datos Personales]]=\"privado\")),\"Alto\",IF(AND(Tabla2[[#This Row],[Contiene Datos Personales]]=\"SÍ\",Tabla2[[#This Row],[Clasificación Datos Personales]]=\"SEMIPRIVADO\"),\"Medio\",\"Bajo\")),\"\")","v":"Bajo"},null,null,"No Aplica","No Aplica",null,null,null,{"$f":"+IF(Tabla2[[#This Row],[Integridad]]=\"Grave\",0.5,IF(Tabla2[[#This Row],[Integridad]]=\"Importante\",0.3,IF(Tabla2[[#This Row],[Integridad]]=\"Leve\",0.2,\"\")))","v":""},null,{"$f":"+IF(Tabla2[[#This Row],[Disponibilidad Interna]]=\"Sí\",0.1,IF(Tabla2[[#This Row],[Disponibilidad Interna]]=\"NO\",0,\"\"))","v":""},null,{"$f":"+IF(Tabla2[[#This Row],[Disponibilidad Terceros]]=\"Sí\",0.1,IF(Tabla2[[#This Row],[Disponibilidad Terceros]]=\"No\",0,\"\"))","v":""},{"$f":"+Tabla2[[#This Row],[Columna32]]+Tabla2[[#This Row],[Columna34]]+Tabla2[[#This Row],[Columna1]]+Tabla2[[#This Row],[Columna3]]","v":{"$error":"#VALUE!"}},{"$f":"IFERROR(IF(Tabla2[[#This Row],[Columna33]]<0.45,\"BAJA\",IF(Tabla2[[#This Row],[Columna33]]>0.75,\"ALTA\",\"MEDIA\")),\"\")","v":""},"No Aplica",{"$f":"+IF(Tabla2[[#This Row],[Información Publicada (WEB)]]=\"Sí\",\"Digite URL\",\"No Aplica\")","v":"No Aplica"},null,{"$f":"IF(Tabla2[[#This Row],[ Clasificación ICBF]]=\"Pública\",1,IF(Tabla2[[#This Row],[ Clasificación ICBF]]=\"Clasificada\",2,IF(Tabla2[[#This Row],[ Clasificación ICBF]]=\"Reservada\",3,0)))","v":0},{"$f":"IF(#REF!=8,4,IF(#REF!=16,3,IF(#REF!=24,2,IF(#REF!=48,1,0))))","v":{"$error":"#REF!"}},{"$f":"IF(#REF!=8,\"Alto\",IF(#REF!=16,\"Medio\",IF(#REF!=24,\"Medio\",IF(#REF!=48,\"Bajo\",0))))","v":{"$error":"#REF!"}},null,{"$f":"+MID(Tabla2[[#This Row],[Área/Dependencia]],17,8)","v":""}]
["",null,null,null,{"$f":"+VLOOKUP(Tabla2[[#This Row],[SEDE - REGIONAL]],DATOS!B390:D423,3,FALSE)","v":{"$error":"#N/A"}},{"$f":"+IF(OR(Tabla2[[#This Row],[Área/Dependencia]]=\"Subdirección de Sistemas Integrados\",Tabla2[[#This Row],[Área/Dependencia]]=\"Subdirección de Recursos Tecnológicos\"),\"X\",\"\")","v":""},{"$f":"+CONCATENATE(Tabla2[[#This Row],[Tipo de Proceso]],Tabla2[[#This Row],[Columna4]])","v":{"$error":"#N/A"}},null,null,null,null,null,null,null,null,null,null,null,null,null,{"$f":"+IF(Tabla2[[#This Row],[Nivel de acceso ]]=\"Alto\",0.5,IF(Tabla2[[#This Row],[Nivel de acceso ]]=\"Medio\",0.3,IF(Tabla2[[#This Row],[Nivel de acceso ]]=\"Bajo\",0.2,\"\")))","v":""},null,{"$f":"+IF(Tabla2[[#This Row],[Es  Reservada]]=\"Sí\",\"Escriba Ley\",\"No Aplica\")","v":"No Aplica"},null,null,null,null,{"$f":"IFERROR(IF(AND(Tabla2[[#This Row],[Contiene Datos Personales]]=\"SÍ\",OR(Tabla2[[#This Row],[Clasificación Datos Personales]]=\"Sensible\",Tabla2[[#This Row],[Clasificación Datos Personales]]=\"NNA\",Tabla2[[#This Row],[Clasificación Datos Personales]]=\"privado\")),\"Alto\",IF(AND(Tabla2[[#This Row],[Contiene Datos Personales]]=\"SÍ\",Tabla2[[#This Row],[Clasificación Datos Personales]]=\"SEMIPRIVADO\"),\"Medio\",\"Bajo\")),\"\")","v":"Bajo"},null,null,"No Aplica","No Aplica",null,null,null,{"$f":"+IF(Tabla2[[#This Row],[Integridad]]=\"Grave\",0.5,IF(Tabla2[[#This Row],[Integridad]]=\"Importante\",0.3,IF(Tabla2[[#This Row],[Integridad]]=\"Leve\",0.2,\"\")))","v":""},null,{"$f":"+IF(Tabla2[[#This Row],[Disponibilidad Interna]]=\"Sí\",0.1,IF(Tabla2[[#This Row],[Disponibilidad Interna]]=\"NO\",0,\"\"))","v":""},null,{"$f":"+IF(Tabla2[[#This Row],[Disponibilidad Terceros]]=\"Sí\",0.1,IF(Tabla2[[#This Row],[Disponibilidad Terceros]]=\"No\",0,\"\"))","v":""},{"$f":"+Tabla2[[#This Row],[Columna32]]+Tabla2[[#This Row],[Columna34]]+Tabla2[[#This Row],[Columna1]]+Tabla2[[#This Row],[Columna3]]","v":{"$error":"#VALUE!"}},{"$f":"IFERROR(IF(Tabla2[[#This Row],[Columna33]]<0.45,\"BAJA\",IF(Tabla2[[#This Row],[Columna33]]>0.75,\"ALTA\",\"MEDIA\")),\"\")","v":""},"No Aplica",{"$f":"+IF(Tabla2[[#This Row],[Información Publicada (WEB)]]=\"Sí\",\"Digite URL\",\"No Aplica\")","v":"No Aplica"},null,{"$f":"IF(Tabla2[[#This Row],[ Clasificación ICBF]]=\"Pública\",1,IF(Tabla2[[#This Row],[ Clasificación ICBF]]=\"Clasificada\",2,IF(Tabla2[[#This Row],[ Clasificación ICBF]]=\"Reservada\",3,0)))","v":0},{"$f":"IF(#REF!=8,4,IF(#REF!=16,3,IF(#REF!=24,2,IF(#REF!=48,1,0))))","v":{"$error":"#REF!"}},{"$f":"IF(#REF!=8,\"Alto\",IF(#REF!=16,\"Medio\",IF(#REF!=24,\"Medio\",IF(#REF!=48,\"Bajo\",0))))","v":{"$error":"#REF!"}},null,{"$f":"+MID(Tabla2[[#This Row],[Área/Dependencia]],17,8)","v":""}]
["",null,null,null,{"$f":"+VLOOKUP(Tabla2[[#This Row],[SEDE - REGIONAL]],DATOS!B391:D424,3,FALSE)","v":{"$error":"#N/A"}},{"$f":"+IF(OR(Tabla2[[#This Row],[Área/Dependencia]]=\"Subdirección de Sistemas Integrados\",Tabla2[[#This Row],[Área/Dependencia]]=\"Subdirección de Recursos Tecnológicos\"),\"X\",\"\")","v":""},{"$f":"+CONCATENATE(Tabla2[[#This Row],[Tipo de Proceso]],Tabla2[[#This Row],[Columna4]])","v":{"$error":"#N/A"}},null,null,null,null,null,null,null,null,null,null,null,null,null,{"$f":"+IF(Tabla2[[#This Row],[Nivel de acceso ]]=\"Alto\",0.5,IF(Tabla2[[#This Row],[Nivel de acceso ]]=\"Medio\",0.3,IF(Tabla2[[#This Row],[Nivel de acceso ]]=\"Bajo\",0.2,\"\")))","v":""},null,{"$f":"+IF(Tabla2[[#This Row],[Es  Reservada]]=\"Sí\",\"Escriba Ley\",\"No Aplica\")","v":"No Aplica"},null,null,null,null,{"$f":"IFERROR(IF(AND(Tabla2[[#This Row],[Contiene Datos Personales]]=\"SÍ\",OR(Tabla2[[#This Row],[Clasificación Datos Personales]]=\"Sensible\",Tabla2[[#This Row],[Clasificación Datos Personales]]=\"NNA\",Tabla2[[#This Row],[Clasificación Datos Personales]]=\"privado\")),\"Alto\",IF(AND(Tabla2[[#This Row],[Contiene Datos Personales]]=\"SÍ\",Tabla2[[#This Row],[Clasificación Datos Personales]]=\"SEMIPRIVADO\"),\"Medio\",\"Bajo\")),\"\")","v":"Bajo"},null,null,"No Aplica","No Aplica",null,null,null,{"$f":"+IF(Tabla2[[#This Row],[Integridad]]=\"Grave\",0.5,IF(Tabla2[[#This Row],[Integridad]]=\"Importante\",0.3,IF(Tabla2[[#This Row],[Integridad]]=\"Leve\",0.2,\"\")))","v":""},null,{"$f":"+IF(Tabla2[[#This Row],[Disponibilidad Interna]]=\"Sí\",0.1,IF(Tabla2[[#This Row],[Disponibilidad Interna]]=\"NO\",0,\"\"))","v":""},null,{"$f":"+IF(Tabla2[[#This Row],[Disponibilidad Terceros]]=\"Sí\",0.1,IF(Tabla2[[#This Row],[Disponibilidad Terceros]]=\"No\",0,\"\"))","v":""},{"$f":"+Tabla2[[#This Row],[Columna32]]+Tabla2[[#This Row],[Columna34]]+Tabla2[[#This Row],[Columna1]]+Tabla2[[#This Row],[Columna3]]","v":{"$error":"#VALUE!"}},{"$f":"IFERROR(IF(Tabla2[[#This Row],[Columna33]]<0.45,\"BAJA\",IF(Tabla2[[#This Row],[Columna33]]>0.75,\"ALTA\",\"MEDIA\")),\"\")","v":""},"No Aplica",{"$f":"+IF(Tabla2[[#This Row],[Información Publicada (WEB)]]=\"Sí\",\"Digite URL\",\"No Aplica\")","v":"No Aplica"},null,{"$f":"IF(Tabla2[[#This Row],[ Clasificación ICBF]]=\"Pública\",1,IF(Tabla2[[#This Row],[ Clasificación ICBF]]=\"Clasificada\",2,IF(Tabla2[[#This Row],[ Clasificación ICBF]]=\"Reservada\",3,0)))","v":0},{"$f":"IF(#REF!=8,4,IF(#REF!=16,3,IF(#REF!=24,2,IF(#REF!=48,1,0))))","v":{"$error":"#REF!"}},{"$f":"IF(#REF!=8,\"Alto\",IF(#REF!=16,\"Medio\",IF(#REF!=24,\"Medio\",IF(#REF!=48,\"Bajo\",0))))","v":{"$error":"#REF!"}},null,{"$f":"+MID(Tabla2[[#This Row],[Área/Dependencia]],17,8)","v":""}]
["",null,null,null,{"$f":"+VLOOKUP(Tabla2[[#This Row],[SEDE - REGIONAL]],DATOS!B392:D425,3,FALSE)","v":{"$error":"#N/A"}},{"$f":"+IF(OR(Tabla2[[#This Row],[Área/Dependencia]]=\"Subdirección de Sistemas Integrados\",Tabla2[[#This Row],[Área/Dependencia]]=\"Subdirección de Recursos Tecnológicos\"),\"X\",\"\")","v":""},{"$f":"+CONCATENATE(Tabla2[[#This Row],[Tipo de Proceso]],Tabla2[[#This Row],[Columna4]])","v":{"$error":"#N/A"}},null,null,null,null,null,null,null,null,null,null,null,null,null,{"$f":"+IF(Tabla2[[#This Row],[Nivel de acceso ]]=\"Alto\",0.5,IF(Tabla2[[#This Row],[Nivel de acceso ]]=\"Medio\",0.3,IF(Tabla2[[#This Row],[Nivel de acceso ]]=\"Bajo\",0.2,\"\")))","v":""},null,{"$f":"+IF(Tabla2[[#This Row],[Es  Reservada]]=\"Sí\",\"Escriba Ley\",\"No Aplica\")","v":"No Aplica"},null,null,null,null,{"$f":"IFERROR(IF(AND(Tabla2[[#This Row],[Contiene Datos Personales]]=\"SÍ\",OR(Tabla2[[#This Row],[Clasificación Datos Personales]]=\"Sensible\",Tabla2[[#This Row],[Clasificación Datos Personales]]=\"NNA\",Tabla2[[#This Row],[Clasificación Datos Personales]]=\"privado\")),\"Alto\",IF(AND(Tabla2[[#This Row],[Contiene Datos Personales]]=\"SÍ\",Tabla2[[#This Row],[Clasificación Datos Personales]]=\"SEMIPRIVADO\"),\"Medio\",\"Bajo\")),\"\")","v":"Bajo"},null,null,"No Aplica","No Aplica",null,null,null,{"$f":"+IF(Tabla2[[#This Row],[Integridad]]=\"Grave\",0.5,IF(Tabla2[[#This Row],[Integridad]]=\"Importante\",0.3,IF(Tabla2[[#This Row],[Integridad]]=\"Leve\",0.2,\"\")))","v":""},null,{"$f":"+IF(Tabla2[[#This Row],[Disponibilidad Interna]]=\"Sí\",0.1,IF(Tabla2[[#This Row],[Disponibilidad Interna]]=\"NO\",0,\"\"))","v":""},null,{"$f":"+IF(Tabla2[[#This Row],[Disponibilidad Terceros]]=\"Sí\",0.1,IF(Tabla2[[#This Row],[Disponibilidad Terceros]]=\"No\",0,\"\"))","v":""},{"$f":"+Tabla2[[#This Row],[Columna32]]+Tabla2[[#This Row],[Columna34]]+Tabla2[[#This Row],[Columna1]]+Tabla2[[#This Row],[Columna3]]","v":{"$error":"#VALUE!"}},{"$f":"IFERROR(IF(Tabla2[[#This Row],[Columna33]]<0.45,\"BAJA\",IF(Tabla2[[#This Row],[Columna33]]>0.75,\"ALTA\",\"MEDIA\")),\"\")","v":""},"No Aplica",{"$f":"+IF(Tabla2[[#This Row],[Información Publicada (WEB)]]=\"Sí\",\"Digite URL\",\"No Aplica\")","v":"No Aplica"},null,{"$f":"IF(Tabla2[[#This Row],[ Clasificación ICBF]]=\"Pública\",1,IF(Tabla2[[#This Row],[ Clasificación ICBF]]=\"Clasificada\",2,IF(Tabla2[[#This Row],[ Clasificación ICBF]]=\"Reservada\",3,0)))","v":0},{"$f":"IF(#REF!=8,4,IF(#REF!=16,3,IF(#REF!=24,2,IF(#REF!=48,1,0))))","v":{"$error":"#REF!"}},{"$f":"IF(#REF!=8,\"Alto\",IF(#REF!=16,\"Medio\",IF(#REF!=24,\"Medio\",IF(#REF!=48,\"Bajo\",0))))","v":{"$error":"#REF!"}},null,{"$f":"+MID(Tabla2[[#This Row],[Área/Dependencia]],17,8)","v":""}]
["",null,null,null,{"$f":"+VLOOKUP(Tabla2[[#This Row],[SEDE - REGIONAL]],DATOS!B393:D426,3,FALSE)","v":{"$error":"#N/A"}},{"$f":"+IF(OR(Tabla2[[#This Row],[Área/Dependencia]]=\"Subdirección de Sistemas Integrados\",Tabla2[[#This Row],[Área/Dependencia]]=\"Subdirección de Recursos Tecnológicos\"),\"X\",\"\")","v":""},{"$f":"+CONCATENATE(Tabla2[[#This Row],[Tipo de Proceso]],Tabla2[[#This Row],[Columna4]])","v":{"$error":"#N/A"}},null,null,null,null,null,null,null,null,null,null,null,null,null,{"$f":"+IF(Tabla2[[#This Row],[Nivel de acceso ]]=\"Alto\",0.5,IF(Tabla2[[#This Row],[Nivel de acceso ]]=\"Medio\",0.3,IF(Tabla2[[#This Row],[Nivel de acceso ]]=\"Bajo\",0.2,\"\")))","v":""},null,{"$f":"+IF(Tabla2[[#This Row],[Es  Reservada]]=\"Sí\",\"Escriba Ley\",\"No Aplica\")","v":"No Aplica"},null,null,null,null,{"$f":"IFERROR(IF(AND(Tabla2[[#This Row],[Contiene Datos Personales]]=\"SÍ\",OR(Tabla2[[#This Row],[Clasificación Datos Personales]]=\"Sensible\",Tabla2[[#This Row],[Clasificación Datos Personales]]=\"NNA\",Tabla2[[#This Row],[Clasificación Datos Personales]]=\"privado\")),\"Alto\",IF(AND(Tabla2[[#This Row],[Contiene Datos Personales]]=\"SÍ\",Tabla2[[#This Row],[Clasificación Datos Personales]]=\"SEMIPRIVADO\"),\"Medio\",\"Bajo\")),\"\")","v":"Bajo"},null,null,"No Aplica","No Aplica",null,null,null,{"$f":"+IF(Tabla2[[#This Row],[Integridad]]=\"Grave\",0.5,IF(Tabla2[[#This Row],[Integridad]]=\"Importante\",0.3,IF(Tabla2[[#This Row],[Integridad]]=\"Leve\",0.2,\"\")))","v":""},null,{"$f":"+IF(Tabla2[[#This Row],[Disponibilidad Interna]]=\"Sí\",0.1,IF(Tabla2[[#This Row],[Disponibilidad Interna]]=\"NO\",0,\"\"))","v":""},null,{"$f":"+IF(Tabla2[[#This Row],[Disponibilidad Terceros]]=\"Sí\",0.1,IF(Tabla2[[#This Row],[Disponibilidad Terceros]]=\"No\",0,\"\"))","v":""},{"$f":"+Tabla2[[#This Row],[Columna32]]+Tabla2[[#This Row],[Columna34]]+Tabla2[[#This Row],[Columna1]]+Tabla2[[#This Row],[Columna3]]","v":{"$error":"#VALUE!"}},{"$f":"IFERROR(IF(Tabla2[[#This Row],[Columna33]]<0.45,\"BAJA\",IF(Tabla2[[#This Row],[Columna33]]>0.75,\"ALTA\",\"MEDIA\")),\"\")","v":""},"No Aplica",{"$f":"+IF(Tabla2[[#This Row],[Información Publicada (WEB)]]=\"Sí\",\"Digite URL\",\"No Aplica\")","v":"No Aplica"},null,{"$f":"IF(Tabla2[[#This Row],[ Clasificación ICBF]]=\"Pública\",1,IF(Tabla2[[#This Row],[ Clasificación ICBF]]=\"Clasificada\",2,IF(Tabla2[[#This Row],[ Clasificación ICBF]]=\"Reservada\",3,0)))","v":0},{"$f":"IF(#REF!=8,4,IF(#REF!=16,3,IF(#REF!=24,2,IF(#REF!=48,1,0))))","v":{"$error":"#REF!"}},{"$f":"IF(#REF!=8,\"Alto\",IF(#REF!=16,\"Medio\",IF(#REF!=24,\"Medio\",IF(#REF!=48,\"Bajo\",0))))","v":{"$error":"#REF!"}},null,{"$f":"+MID(Tabla2[[#This Row],[Área/Dependencia]],17,8)","v":""}]
["",null,null,null,{"$f":"+VLOOKUP(Tabla2[[#This Row],[SEDE - REGIONAL]],DATOS!B394:D427,3,FALSE)","v":{"$error":"#N/A"}},{"$f":"+IF(OR(Tabla2[[#This Row],[Área/Dependencia]]=\"Subdirección de Sistemas Integrados\",Tabla2[[#This Row],[Área/Dependencia]]=\"Subdirección de Recursos Tecnológicos\"),\"X\",\"\")","v":""},{"$f":"+CONCATENATE(Tabla2[[#This Row],[Tipo de Proceso]],Tabla2[[#This Row],[Columna4]])","v":{"$error":"#N/A"}},null,null,null,null,null,null,null,null,null,null,null,null,null,{"$f":"+IF(Tabla2[[#This Row],[Nivel de acceso ]]=\"Alto\",0.5,IF(Tabla2[[#This Row],[Nivel de acceso ]]=\"Medio\",0.3,IF(Tabla2[[#This Row],[Nivel de acceso ]]=\"Bajo\",0.2,\"\")))","v":""},null,{"$f":"+IF(Tabla2[[#This Row],[Es  Reservada]]=\"Sí\",\"Escriba Ley\",\"No Aplica\")","v":"No Aplica"},null,null,null,null,{"$f":"IFERROR(IF(AND(Tabla2[[#This Row],[Contiene Datos Personales]]=\"SÍ\",OR(Tabla2[[#This Row],[Clasificación Datos Personales]]=\"Sensible\",Tabla2[[#This Row],[Clasificación Datos Personales]]=\"NNA\",Tabla2[[#This Row],[Clasificación Datos Personales]]=\"privado\")),\"Alto\",IF(AND(Tabla2[[#This Row],[Contiene Datos Personales]]=\"SÍ\",Tabla2[[#This Row],[Clasificación Datos Personales]]=\"SEMIPRIVADO\"),\"Medio\",\"Bajo\")),\"\")","v":"Bajo"},null,null,"No Aplica","No Aplica",null,null,null,{"$f":"+IF(Tabla2[[#This Row],[Integridad]]=\"Grave\",0.5,IF(Tabla2[[#This Row],[Integridad]]=\"Importante\",0.3,IF(Tabla2[[#This Row],[Integridad]]=\"Leve\",0.2,\"\")))","v":""},null,{"$f":"+IF(Tabla2[[#This Row],[Disponibilidad Interna]]=\"Sí\",0.1,IF(Tabla2[[#This Row],[Disponibilidad Interna]]=\"NO\",0,\"\"))","v":""},null,{"$f":"+IF(Tabla2[[#This Row],[Disponibilidad Terceros]]=\"Sí\",0.1,IF(Tabla2[[#This Row],[Disponibilidad Terceros]]=\"No\",0,\"\"))","v":""},{"$f":"+Tabla2[[#This Row],[Columna32]]+Tabla2[[#This Row],[Columna34]]+Tabla2[[#This Row],[Columna1]]+Tabla2[[#This Row],[Columna3]]","v":{"$error":"#VALUE!"}},{"$f":"IFERROR(IF(Tabla2[[#This Row],[Columna33]]<0.45,\"BAJA\",IF(Tabla2[[#This Row],[Columna33]]>0.75,\"ALTA\",\"MEDIA\")),\"\")","v":""},"No Aplica",{"$f":"+IF(Tabla2[[#This Row],[Información Publicada (WEB)]]=\"Sí\",\"Digite URL\",\"No Aplica\")","v":"No Aplica"},null,{"$f":"IF(Tabla2[[#This Row],[ Clasificación ICBF]]=\"Pública\",1,IF(Tabla2[[#This Row],[ Clasificación ICBF]]=\"Clasificada\",2,IF(Tabla2[[#This Row],[ Clasificación ICBF]]=\"Reservada\",3,0)))","v":0},{"$f":"IF(#REF!=8,4,IF(#REF!=16,3,IF(#REF!=24,2,IF(#REF!=48,1,0))))","v":{"$error":"#REF!"}},{"$f":"IF(#REF!=8,\"Alto\",IF(#REF!=16,\"Medio\",IF(#REF!=24,\"Medio\",IF(#REF!=48,\"Bajo\",0))))","v":{"$error":"#REF!"}},null,{"$f":"+MID(Tabla2[[#This Row],[Área/Dependencia]],17,8)","v":""}]
["",null,null,null,{"$f":"+VLOOKUP(Tabla2[[#This Row],[SEDE - REGIONAL]],DATOS!B395:D428,3,FALSE)","v":{"$error":"#N/A"}},{"$f":"+IF(OR(Tabla2[[#This Row],[Área/Dependencia]]=\"Subdirección de Sistemas Integrados\",Tabla2[[#This Row],[Área/Dependencia]]=\"Subdirección de Recursos Tecnológicos\"),\"X\",\"\")","v":""},{"$f":"+CONCATENATE(Tabla2[[#This Row],[Tipo de Proceso]],Tabla2[[#This Row],[Columna4]])","v":{"$error":"#N/A"}},null,null,null,null,null,null,null,null,null,null,null,null,null,{"$f":"+IF(Tabla2[[#This Row],[Nivel de acceso ]]=\"Alto\",0.5,IF(Tabla2[[#This Row],[Nivel de acceso ]]=\"Medio\",0.3,IF(Tabla2[[#This Row],[Nivel de acceso ]]=\"Bajo\",0.2,\"\")))","v":""},null,{"$f":"+IF(Tabla2[[#This Row],[Es  Reservada]]=\"Sí\",\"Escriba Ley\",\"No Aplica\")","v":"No Aplica"},null,null,null,null,{"$f":"IFERROR(IF(AND(Tabla2[[#This Row],[Contiene Datos Personales]]=\"SÍ\",OR(Tabla2[[#This Row],[Clasificación Datos Personales]]=\"Sensible\",Tabla2[[#This Row],[Clasificación Datos Personales]]=\"NNA\",Tabla2[[#This Row],[Clasificación Datos Personales]]=\"privado\")),\"Alto\",IF(AND(Tabla2[[#This Row],[Contiene Datos Personales]]=\"SÍ\",Tabla2[[#This Row],[Clasificación Datos Personales]]=\"SEMIPRIVADO\"),\"Medio\",\"Bajo\")),\"\")","v":"Bajo"},null,null,"No Aplica","No Aplica",null,null,null,{"$f":"+IF(Tabla2[[#This Row],[Integridad]]=\"Grave\",0.5,IF(Tabla2[[#This Row],[Integridad]]=\"Importante\",0.3,IF(Tabla2[[#This Row],[Integridad]]=\"Leve\",0.2,\"\")))","v":""},null,{"$f":"+IF(Tabla2[[#This Row],[Disponibilidad Interna]]=\"Sí\",0.1,IF(Tabla2[[#This Row],[Disponibilidad Interna]]=\"NO\",0,\"\"))","v":""},null,{"$f":"+IF(Tabla2[[#This Row],[Disponibilidad Terceros]]=\"Sí\",0.1,IF(Tabla2[[#This Row],[Disponibilidad Terceros]]=\"No\",0,\"\"))","v":""},{"$f":"+Tabla2[[#This Row],[Columna32]]+Tabla2[[#This Row],[Columna34]]+Tabla2[[#This Row],[Columna1]]+Tabla2[[#This Row],[Columna3]]","v":{"$error":"#VALUE!"}},{"$f":"IFERROR(IF(Tabla2[[#This Row],[Columna33]]<0.45,\"BAJA\",IF(Tabla2[[#This Row],[Columna33]]>0.75,\"ALTA\",\"MEDIA\")),\"\")","v":""},"No Aplica",{"$f":"+IF(Tabla2[[#This Row],[Información Publicada (WEB)]]=\"Sí\",\"Digite URL\",\"No Aplica\")","v":"No Aplica"},null,{"$f":"IF(Tabla2[[#This Row],[ Clasificación ICBF]]=\"Pública\",1,IF(Tabla2[[#This Row],[ Clasificación ICBF]]=\"Clasificada\",2,IF(Tabla2[[#This Row],[ Clasificación ICBF]]=\"Reservada\",3,0)))","v":0},{"$f":"IF(#REF!=8,4,IF(#REF!=16,3,IF(#REF!=24,2,IF(#REF!=48,1,0))))","v":{"$error":"#REF!"}},{"$f":"IF(#REF!=8,\"Alto\",IF(#REF!=16,\"Medio\",IF(#REF!=24,\"Medio\",IF(#REF!=48,\"Bajo\",0))))","v":{"$error":"#REF!"}},null,{"$f":"+MID(Tabla2[[#This Row],[Área/Dependencia]],17,8)","v":""}]
["",null,null,null,{"$f":"+VLOOKUP(Tabla2[[#This Row],[SEDE - REGIONAL]],DATOS!B396:D429,3,FALSE)","v":{"$error":"#N/A"}},{"$f":"+IF(OR(Tabla2[[#This Row],[Área/Dependencia]]=\"Subdirección de Sistemas Integrados\",Tabla2[[#This Row],[Área/Dependencia]]=\"Subdirección de Recursos Tecnológicos\"),\"X\",\"\")","v":""},{"$f":"+CONCATENATE(Tabla2[[#This Row],[Tipo de Proceso]],Tabla2[[#This Row],[Columna4]])","v":{"$error":"#N/A"}},null,null,null,null,null,null,null,null,null,null,null,null,null,{"$f":"+IF(Tabla2[[#This Row],[Nivel de acceso ]]=\"Alto\",0.5,IF(Tabla2[[#This Row],[Nivel de acceso ]]=\"Medio\",0.3,IF(Tabla2[[#This Row],[Nivel de acceso ]]=\"Bajo\",0.2,\"\")))","v":""},null,{"$f":"+IF(Tabla2[[#This Row],[Es  Reservada]]=\"Sí\",\"Escriba Ley\",\"No Aplica\")","v":"No Aplica"},null,null,null,null,{"$f":"IFERROR(IF(AND(Tabla2[[#This Row],[Contiene Datos Personales]]=\"SÍ\",OR(Tabla2[[#This Row],[Clasificación Datos Personales]]=\"Sensible\",Tabla2[[#This Row],[Clasificación Datos Personales]]=\"NNA\",Tabla2[[#This Row],[Clasificación Datos Personales]]=\"privado\")),\"Alto\",IF(AND(Tabla2[[#This Row],[Contiene Datos Personales]]=\"SÍ\",Tabla2[[#This Row],[Clasificación Datos Personales]]=\"SEMIPRIVADO\"),\"Medio\",\"Bajo\")),\"\")","v":"Bajo"},null,null,"No Aplica","No Aplica",null,null,null,{"$f":"+IF(Tabla2[[#This Row],[Integridad]]=\"Grave\",0.5,IF(Tabla2[[#This Row],[Integridad]]=\"Importante\",0.3,IF(Tabla2[[#This Row],[Integridad]]=\"Leve\",0.2,\"\")))","v":""},null,{"$f":"+IF(Tabla2[[#This Row],[Disponibilidad Interna]]=\"Sí\",0.1,IF(Tabla2[[#This Row],[Disponibilidad Interna]]=\"NO\",0,\"\"))","v":""},null,{"$f":"+IF(Tabla2[[#This Row],[Disponibilidad Terceros]]=\"Sí\",0.1,IF(Tabla2[[#This Row],[Disponibilidad Terceros]]=\"No\",0,\"\"))","v":""},{"$f":"+Tabla2[[#This Row],[Columna32]]+Tabla2[[#This Row],[Columna34]]+Tabla2[[#This Row],[Columna1]]+Tabla2[[#This Row],[Columna3]]","v":{"$error":"#VALUE!"}},{"$f":"IFERROR(IF(Tabla2[[#This Row],[Columna33]]<0.45,\"BAJA\",IF(Tabla2[[#This Row],[Columna33]]>0.75,\"ALTA\",\"MEDIA\")),\"\")","v":""},"No Aplica",{"$f":"+IF(Tabla2[[#This Row],[Información Publicada (WEB)]]=\"Sí\",\"Digite URL\",\"No Aplica\")","v":"No Aplica"},null,{"$f":"IF(Tabla2[[#This Row],[ Clasificación ICBF]]=\"Pública\",1,IF(Tabla2[[#This Row],[ Clasificación ICBF]]=\"Clasificada\",2,IF(Tabla2[[#This Row],[ Clasificación ICBF]]=\"Reservada\",3,0)))","v":0},{"$f":"IF(#REF!=8,4,IF(#REF!=16,3,IF(#REF!=24,2,IF(#REF!=48,1,0))))","v":{"$error":"#REF!"}},{"$f":"IF(#REF!=8,\"Alto\",IF(#REF!=16,\"Medio\",IF(#REF!=24,\"Medio\",IF(#REF!=48,\"Bajo\",0))))","v":{"$error":"#REF!"}},null,{"$f":"+MID(Tabla2[[#This Row],[Área/Dependencia]],17,8)","v":""}]
["",null,null,null,{"$f":"+VLOOKUP(Tabla2[[#This Row],[SEDE - REGIONAL]],DATOS!B397:D430,3,FALSE)","v":{"$error":"#N/A"}},{"$f":"+IF(OR(Tabla2[[#This Row],[Área/Dependencia]]=\"Subdirección de Sistemas Integrados\",Tabla2[[#This Row],[Área/Dependencia]]=\"Subdirección de Recursos Tecnológicos\"),\"X\",\"\")","v":""},{"$f":"+CONCATENATE(Tabla2[[#This Row],[Tipo de Proceso]],Tabla2[[#This Row],[Columna4]])","v":{"$error":"#N/A"}},null,null,null,null,null,null,null,null,null,null,null,null,null,{"$f":"+IF(Tabla2[[#This Row],[Nivel de acceso ]]=\"Alto\",0.5,IF(Tabla2[[#This Row],[Nivel de acceso ]]=\"Medio\",0.3,IF(Tabla2[[#This Row],[Nivel de acceso ]]=\"Bajo\",0.2,\"\")))","v":""},null,{"$f":"+IF(Tabla2[[#This Row],[Es  Reservada]]=\"Sí\",\"Escriba Ley\",\"No Aplica\")","v":"No Aplica"},null,null,null,null,{"$f":"IFERROR(IF(AND(Tabla2[[#This Row],[Contiene Datos Personales]]=\"SÍ\",OR(Tabla2[[#This Row],[Clasificación Datos Personales]]=\"Sensible\",Tabla2[[#This Row],[Clasificación Datos Personales]]=\"NNA\",Tabla2[[#This Row],[Clasificación Datos Personales]]=\"privado\")),\"Alto\",IF(AND(Tabla2[[#This Row],[Contiene Datos Personales]]=\"SÍ\",Tabla2[[#This Row],[Clasificación Datos Personales]]=\"SEMIPRIVADO\"),\"Medio\",\"Bajo\")),\"\")","v":"Bajo"},null,null,"No Aplica","No Aplica",null,null,null,{"$f":"+IF(Tabla2[[#This Row],[Integridad]]=\"Grave\",0.5,IF(Tabla2[[#This Row],[Integridad]]=\"Importante\",0.3,IF(Tabla2[[#This Row],[Integridad]]=\"Leve\",0.2,\"\")))","v":""},null,{"$f":"+IF(Tabla2[[#This Row],[Disponibilidad Interna]]=\"Sí\",0.1,IF(Tabla2[[#This Row],[Disponibilidad Interna]]=\"NO\",0,\"\"))","v":""},null,{"$f":"+IF(Tabla2[[#This Row],[Disponibilidad Terceros]]=\"Sí\",0.1,IF(Tabla2[[#This Row],[Disponibilidad Terceros]]=\"No\",0,\"\"))","v":""},{"$f":"+Tabla2[[#This Row],[Columna32]]+Tabla2[[#This Row],[Columna34]]+Tabla2[[#This Row],[Columna1]]+Tabla2[[#This Row],[Columna3]]","v":{"$error":"#VALUE!"}},{"$f":"IFERROR(IF(Tabla2[[#This Row],[Columna33]]<0.45,\"BAJA\",IF(Tabla2[[#This Row],[Columna33]]>0.75,\"ALTA\",\"MEDIA\")),\"\")","v":""},"No Aplica",{"$f":"+IF(Tabla2[[#This Row],[Información Publicada (WEB)]]=\"Sí\",\"Digite URL\",\"No Aplica\")","v":"No Aplica"},null,{"$f":"IF(Tabla2[[#This Row],[ Clasificación ICBF]]=\"Pública\",1,IF(Tabla2[[#This Row],[ Clasificación ICBF]]=\"Clasificada\",2,IF(Tabla2[[#This Row],[ Clasificación ICBF]]=\"Reservada\",3,0)))","v":0},{"$f":"IF(#REF!=8,4,IF(#REF!=16,3,IF(#REF!=24,2,IF(#REF!=48,1,0))))","v":{"$error":"#REF!"}},{"$f":"IF(#REF!=8,\"Alto\",IF(#REF!=16,\"Medio\",IF(#REF!=24,\"Medio\",IF(#REF!=48,\"Bajo\",0))))","v":{"$error":"#REF!"}},null,{"$f":"+MID(Tabla2[[#This Row],[Área/Dependencia]],17,8)","v":""}]
["",null,null,null,{"$f":"+VLOOKUP(Tabla2[[#This Row],[SEDE - REGIONAL]],DATOS!B398:D431,3,FALSE)","v":{"$error":"#N/A"}},{"$f":"+IF(OR(Tabla2[[#This Row],[Área/Dependencia]]=\"Subdirección de Sistemas Integrados\",Tabla2[[#This Row],[Área/Dependencia]]=\"Subdirección de Recursos Tecnológicos\"),\"X\",\"\")","v":""},{"$f":"+CONCATENATE(Tabla2[[#This Row],[Tipo de Proceso]],Tabla2[[#This Row],[Columna4]])","v":{"$error":"#N/A"}},null,null,null,null,null,null,null,null,null,null,null,null,null,{"$f":"+IF(Tabla2[[#This Row],[Nivel de acceso ]]=\"Alto\",0.5,IF(Tabla2[[#This Row],[Nivel de acceso ]]=\"Medio\",0.3,IF(Tabla2[[#This Row],[Nivel de acceso ]]=\"Bajo\",0.2,\"\")))","v":""},null,{"$f":"+IF(Tabla2[[#This Row],[Es  Reservada]]=\"Sí\",\"Escriba Ley\",\"No Aplica\")","v":"No Aplica"},null,null,null,null,{"$f":"IFERROR(IF(AND(Tabla2[[#This Row],[Contiene Datos Personales]]=\"SÍ\",OR(Tabla2[[#This Row],[Clasificación Datos Personales]]=\"Sensible\",Tabla2[[#This Row],[Clasificación Datos Personales]]=\"NNA\",Tabla2[[#This Row],[Clasificación Datos Personales]]=\"privado\")),\"Alto\",IF(AND(Tabla2[[#This Row],[Contiene Datos Personales]]=\"SÍ\",Tabla2[[#This Row],[Clasificación Datos Personales]]=\"SEMIPRIVADO\"),\"Medio\",\"Bajo\")),\"\")","v":"Bajo"},null,null,"No Aplica","No Aplica",null,null,null,{"$f":"+IF(Tabla2[[#This Row],[Integridad]]=\"Grave\",0.5,IF(Tabla2[[#This Row],[Integridad]]=\"Importante\",0.3,IF(Tabla2[[#This Row],[Integridad]]=\"Leve\",0.2,\"\")))","v":""},null,{"$f":"+IF(Tabla2[[#This Row],[Disponibilidad Interna]]=\"Sí\",0.1,IF(Tabla2[[#This Row],[Disponibilidad Interna]]=\"NO\",0,\"\"))","v":""},null,{"$f":"+IF(Tabla2[[#This Row],[Disponibilidad Terceros]]=\"Sí\",0.1,IF(Tabla2[[#This Row],[Disponibilidad Terceros]]=\"No\",0,\"\"))","v":""},{"$f":"+Tabla2[[#This Row],[Columna32]]+Tabla2[[#This Row],[Columna34]]+Tabla2[[#This Row],[Columna1]]+Tabla2[[#This Row],[Columna3]]","v":{"$error":"#VALUE!"}},{"$f":"IFERROR(IF(Tabla2[[#This Row],[Columna33]]<0.45,\"BAJA\",IF(Tabla2[[#This Row],[Columna33]]>0.75,\"ALTA\",\"MEDIA\")),\"\")","v":""},"No Aplica",{"$f":"+IF(Tabla2[[#This Row],[Información Publicada (WEB)]]=\"Sí\",\"Digite URL\",\"No Aplica\")","v":"No Aplica"},null,{"$f":"IF(Tabla2[[#This Row],[ Clasificación ICBF]]=\"Pública\",1,IF(Tabla2[[#This Row],[ Clasificación ICBF]]=\"Clasificada\",2,IF(Tabla2[[#This Row],[ Clasificación ICBF]]=\"Reservada\",3,0)))","v":0},{"$f":"IF(#REF!=8,4,IF(#REF!=16,3,IF(#REF!=24,2,IF(#REF!=48,1,0))))","v":{"$error":"#REF!"}},{"$f":"IF(#REF!=8,\"Alto\",IF(#REF!=16,\"Medio\",IF(#REF!=24,\"Medio\",IF(#REF!=48,\"Bajo\",0))))","v":{"$error":"#REF!"}},null,{"$f":"+MID(Tabla2[[#This Row],[Área/Dependencia]],17,8)","v":""}]
["",null,null,null,{"$f":"+VLOOKUP(Tabla2[[#This Row],[SEDE - REGIONAL]],DATOS!B399:D432,3,FALSE)","v":{"$error":"#N/A"}},{"$f":"+IF(OR(Tabla2[[#This Row],[Área/Dependencia]]=\"Subdirección de Sistemas Integrados\",Tabla2[[#This Row],[Área/Dependencia]]=\"Subdirección de Recursos Tecnológicos\"),\"X\",\"\")","v":""},{"$f":"+CONCATENATE(Tabla2[[#This Row],[Tipo de Proceso]],Tabla2[[#This Row],[Columna4]])","v":{"$error":"#N/A"}},null,null,null,null,null,null,null,null,null,null,null,null,null,{"$f":"+IF(Tabla2[[#This Row],[Nivel de acceso ]]=\"Alto\",0.5,IF(Tabla2[[#This Row],[Nivel de acceso ]]=\"Medio\",0.3,IF(Tabla2[[#This Row],[Nivel de acceso ]]=\"Bajo\",0.2,\"\")))","v":""},null,{"$f":"+IF(Tabla2[[#This Row],[Es  Reservada]]=\"Sí\",\"Escriba Ley\",\"No Aplica\")","v":"No Aplica"},null,null,null,null,{"$f":"IFERROR(IF(AND(Tabla2[[#This Row],[Contiene Datos Personales]]=\"SÍ\",OR(Tabla2[[#This Row],[Clasificación Datos Personales]]=\"Sensible\",Tabla2[[#This Row],[Clasificación Datos Personales]]=\"NNA\",Tabla2[[#This Row],[Clasificación Datos Personales]]=\"privado\")),\"Alto\",IF(AND(Tabla2[[#This Row],[Contiene Datos Personales]]=\"SÍ\",Tabla2[[#This Row],[Clasificación Datos Personales]]=\"SEMIPRIVADO\"),\"Medio\",\"Bajo\")),\"\")","v":"Bajo"},null,null,"No Aplica","No Aplica",null,null,null,{"$f":"+IF(Tabla2[[#This Row],[Integridad]]=\"Grave\",0.5,IF(Tabla2[[#This Row],[Integridad]]=\"Importante\",0.3,IF(Tabla2[[#This Row],[Integridad]]=\"Leve\",0.2,\"\")))","v":""},null,{"$f":"+IF(Tabla2[[#This Row],[Disponibilidad Interna]]=\"Sí\",0.1,IF(Tabla2[[#This Row],[Disponibilidad Interna]]=\"NO\",0,\"\"))","v":""},null,{"$f":"+IF(Tabla2[[#This Row],[Disponibilidad Terceros]]=\"Sí\",0.1,IF(Tabla2[[#This Row],[Disponibilidad Terceros]]=\"No\",0,\"\"))","v":""},{"$f":"+Tabla2[[#This Row],[Columna32]]+Tabla2[[#This Row],[Columna34]]+Tabla2[[#This Row],[Columna1]]+Tabla2[[#This Row],[Columna3]]","v":{"$error":"#VALUE!"}},{"$f":"IFERROR(IF(Tabla2[[#This Row],[Columna33]]<0.45,\"BAJA\",IF(Tabla2[[#This Row],[Columna33]]>0.75,\"ALTA\",\"MEDIA\")),\"\")","v":""},"No Aplica",{"$f":"+IF(Tabla2[[#This Row],[Información Publicada (WEB)]]=\"Sí\",\"Digite URL\",\"No Aplica\")","v":"No Aplica"},null,{"$f":"IF(Tabla2[[#This Row],[ Clasificación ICBF]]=\"Pública\",1,IF(Tabla2[[#This Row],[ Clasificación ICBF]]=\"Clasificada\",2,IF(Tabla2[[#This Row],[ Clasificación ICBF]]=\"Reservada\",3,0)))","v":0},{"$f":"IF(#REF!=8,4,IF(#REF!=16,3,IF(#REF!=24,2,IF(#REF!=48,1,0))))","v":{"$error":"#REF!"}},{"$f":"IF(#REF!=8,\"Alto\",IF(#REF!=16,\"Medio\",IF(#REF!=24,\"Medio\",IF(#REF!=48,\"Bajo\",0))))","v":{"$error":"#REF!"}},null,{"$f":"+MID(Tabla2[[#This Row],[Área/Dependencia]],17,8)","v":""}]
["",null,null,null,{"$f":"+VLOOKUP(Tabla2[[#This Row],[SEDE - REGIONAL]],DATOS!B400:D433,3,FALSE)","v":{"$error":"#N/A"}},{"$f":"+IF(OR(Tabla2[[#This Row],[Área/Dependencia]]=\"Subdirección de Sistemas Integrados\",Tabla2[[#This Row],[Área/Dependencia]]=\"Subdirección de Recursos Tecnológicos\"),\"X\",\"\")","v":""},{"$f":"+CONCATENATE(Tabla2[[#This Row],[Tipo de Proceso]],Tabla2[[#This Row],[Columna4]])","v":{"$error":"#N/A"}},null,null,null,null,null,null,null,null,null,null,null,null,null,{"$f":"+IF(Tabla2[[#This Row],[Nivel de acceso ]]=\"Alto\",0.5,IF(Tabla2[[#This Row],[Nivel de acceso ]]=\"Medio\",0.3,IF(Tabla2[[#This Row],[Nivel de acceso ]]=\"Bajo\",0.2,\"\")))","v":""},null,{"$f":"+IF(Tabla2[[#This Row],[Es  Reservada]]=\"Sí\",\"Escriba Ley\",\"No Aplica\")","v":"No Aplica"},null,null,null,null,{"$f":"IFERROR(IF(AND(Tabla2[[#This Row],[Contiene Datos Personales]]=\"SÍ\",OR(Tabla2[[#This Row],[Clasificación Datos Personales]]=\"Sensible\",Tabla2[[#This Row],[Clasificación Datos Personales]]=\"NNA\",Tabla2[[#This Row],[Clasificación Datos Personales]]=\"privado\")),\"Alto\",IF(AND(Tabla2[[#This Row],[Contiene Datos Personales]]=\"SÍ\",Tabla2[[#This Row],[Clasificación Datos Personales]]=\"SEMIPRIVADO\"),\"Medio\",\"Bajo\")),\"\")","v":"Bajo"},null,null,"No Aplica","No Aplica",null,null,null,{"$f":"+IF(Tabla2[[#This Row],[Integridad]]=\"Grave\",0.5,IF(Tabla2[[#This Row],[Integridad]]=\"Importante\",0.3,IF(Tabla2[[#This Row],[Integridad]]=\"Leve\",0.2,\"\")))","v":""},null,{"$f":"+IF(Tabla2[[#This Row],[Disponibilidad Interna]]=\"Sí\",0.1,IF(Tabla2[[#This Row],[Disponibilidad Interna]]=\"NO\",0,\"\"))","v":""},null,{"$f":"+IF(Tabla2[[#This Row],[Disponibilidad Terceros]]=\"Sí\",0.1,IF(Tabla2[[#This Row],[Disponibilidad Terceros]]=\"No\",0,\"\"))","v":""},{"$f":"+Tabla2[[#This Row],[Columna32]]+Tabla2[[#This Row],[Columna34]]+Tabla2[[#This Row],[Columna1]]+Tabla2[[#This Row],[Columna3]]","v":{"$error":"#VALUE!"}},{"$f":"IFERROR(IF(Tabla2[[#This Row],[Columna33]]<0.45,\"BAJA\",IF(Tabla2[[#This Row],[Columna33]]>0.75,\"ALTA\",\"MEDIA\")),\"\")","v":""},"No Aplica",{"$f":"+IF(Tabla2[[#This Row],[Información Publicada (WEB)]]=\"Sí\",\"Digite URL\",\"No Aplica\")","v":"No Aplica"},null,{"$f":"IF(Tabla2[[#This Row],[ Clasificación ICBF]]=\"Pública\",1,IF(Tabla2[[#This Row],[ Clasificación ICBF]]=\"Clasificada\",2,IF(Tabla2[[#This Row],[ Clasificación ICBF]]=\"Reservada\",3,0)))","v":0},{"$f":"IF(#REF!=8,4,IF(#REF!=16,3,IF(#REF!=24,2,IF(#REF!=48,1,0))))","v":{"$error":"#REF!"}},{"$f":"IF(#REF!=8,\"Alto\",IF(#REF!=16,\"Medio\",IF(#REF!=24,\"Medio\",IF(#REF!=48,\"Bajo\",0))))","v":{"$error":"#REF!"}},null,{"$f":"+MID(Tabla2[[#This Row],[Área/Dependencia]],17,8)","v":""}]
["",null,null,null,{"$f":"+VLOOKUP(Tabla2[[#This Row],[SEDE - REGIONAL]],DATOS!B401:D434,3,FALSE)","v":{"$error":"#N/A"}},{"$f":"+IF(OR(Tabla2[[#This Row],[Área/Dependencia]]=\"Subdirección de Sistemas Integrados\",Tabla2[[#This Row],[Área/Dependencia]]=\"Subdirección de Recursos Tecnológicos\"),\"X\",\"\")","v":""},{"$f":"+CONCATENATE(Tabla2[[#This Row],[Tipo de Proceso]],Tabla2[[#This Row],[Columna4]])","v":{"$error":"#N/A"}},null,null,null,null,null,null,null,null,null,null,null,null,null,{"$f":"+IF(Tabla2[[#This Row],[Nivel de acceso ]]=\"Alto\",0.5,IF(Tabla2[[#This Row],[Nivel de acceso ]]=\"Medio\",0.3,IF(Tabla2[[#This Row],[Nivel de acceso ]]=\"Bajo\",0.2,\"\")))","v":""},null,{"$f":"+IF(Tabla2[[#This Row],[Es  Reservada]]=\"Sí\",\"Escriba Ley\",\"No Aplica\")","v":"No Aplica"},null,null,null,null,{"$f":"IFERROR(IF(AND(Tabla2[[#This Row],[Contiene Datos Personales]]=\"SÍ\",OR(Tabla2[[#This Row],[Clasificación Datos Personales]]=\"Sensible\",Tabla2[[#This Row],[Clasificación Datos Personales]]=\"NNA\",Tabla2[[#This Row],[Clasificación Datos Personales]]=\"privado\")),\"Alto\",IF(AND(Tabla2[[#This Row],[Contiene Datos Personales]]=\"SÍ\",Tabla2[[#This Row],[Clasificación Datos Personales]]=\"SEMIPRIVADO\"),\"Medio\",\"Bajo\")),\"\")","v":"Bajo"},null,null,"No Aplica","No Aplica",null,null,null,{"$f":"+IF(Tabla2[[#This Row],[Integridad]]=\"Grave\",0.5,IF(Tabla2[[#This Row],[Integridad]]=\"Importante\",0.3,IF(Tabla2[[#This Row],[Integridad]]=\"Leve\",0.2,\"\")))","v":""},null,{"$f":"+IF(Tabla2[[#This Row],[Disponibilidad Interna]]=\"Sí\",0.1,IF(Tabla2[[#This Row],[Disponibilidad Interna]]=\"NO\",0,\"\"))","v":""},null,{"$f":"+IF(Tabla2[[#This Row],[Disponibilidad Terceros]]=\"Sí\",0.1,IF(Tabla2[[#This Row],[Disponibilidad Terceros]]=\"No\",0,\"\"))","v":""},{"$f":"+Tabla2[[#This Row],[Columna32]]+Tabla2[[#This Row],[Columna34]]+Tabla2[[#This Row],[Columna1]]+Tabla2[[#This Row],[Columna3]]","v":{"$error":"#VALUE!"}},{"$f":"IFERROR(IF(Tabla2[[#This Row],[Columna33]]<0.45,\"BAJA\",IF(Tabla2[[#This Row],[Columna33]]>0.75,\"ALTA\",\"MEDIA\")),\"\")","v":""},"No Aplica",{"$f":"+IF(Tabla2[[#This Row],[Información Publicada (WEB)]]=\"Sí\",\"Digite URL\",\"No Aplica\")","v":"No Aplica"},null,{"$f":"IF(Tabla2[[#This Row],[ Clasificación ICBF]]=\"Pública\",1,IF(Tabla2[[#This Row],[ Clasificación ICBF]]=\"Clasificada\",2,IF(Tabla2[[#This Row],[ Clasificación ICBF]]=\"Reservada\",3,0)))","v":0},{"$f":"IF(#REF!=8,4,IF(#REF!=16,3,IF(#REF!=24,2,IF(#REF!=48,1,0))))","v":{"$error":"#REF!"}},{"$f":"IF(#REF!=8,\"Alto\",IF(#REF!=16,\"Medio\",IF(#REF!=24,\"Medio\",IF(#REF!=48,\"Bajo\",0))))","v":{"$error":"#REF!"}},null,{"$f":"+MID(Tabla2[[#This Row],[Área/Dependencia]],17,8)","v":""}]
["",null,null,null,{"$f":"+VLOOKUP(Tabla2[[#This Row],[SEDE - REGIONAL]],DATOS!B402:D435,3,FALSE)","v":{"$error":"#N/A"}},{"$f":"+IF(OR(Tabla2[[#This Row],[Área/Dependencia]]=\"Subdirección de Sistemas Integrados\",Tabla2[[#This Row],[Área/Dependencia]]=\"Subdirección de Recursos Tecnológicos\"),\"X\",\"\")","v":""},{"$f":"+CONCATENATE(Tabla2[[#This Row],[Tipo de Proceso]],Tabla2[[#This Row],[Columna4]])","v":{"$error":"#N/A"}},null,null,null,null,null,null,null,null,null,null,null,null,null,{"$f":"+IF(Tabla2[[#This Row],[Nivel de acceso ]]=\"Alto\",0.5,IF(Tabla2[[#This Row],[Nivel de acceso ]]=\"Medio\",0.3,IF(Tabla2[[#This Row],[Nivel de acceso ]]=\"Bajo\",0.2,\"\")))","v":""},null,{"$f":"+IF(Tabla2[[#This Row],[Es  Reservada]]=\"Sí\",\"Escriba Ley\",\"No Aplica\")","v":"No Aplica"},null,null,null,null,{"$f":"IFERROR(IF(AND(Tabla2[[#This Row],[Contiene Datos Personales]]=\"SÍ\",OR(Tabla2[[#This Row],[Clasificación Datos Personales]]=\"Sensible\",Tabla2[[#This Row],[Clasificación Datos Personales]]=\"NNA\",Tabla2[[#This Row],[Clasificación Datos Personales]]=\"privado\")),\"Alto\",IF(AND(Tabla2[[#This Row],[Contiene Datos Personales]]=\"SÍ\",Tabla2[[#This Row],[Clasificación Datos Personales]]=\"SEMIPRIVADO\"),\"Medio\",\"Bajo\")),\"\")","v":"Bajo"},null,null,"No Aplica","No Aplica",null,null,null,{"$f":"+IF(Tabla2[[#This Row],[Integridad]]=\"Grave\",0.5,IF(Tabla2[[#This Row],[Integridad]]=\"Importante\",0.3,IF(Tabla2[[#This Row],[Integridad]]=\"Leve\",0.2,\"\")))","v":""},null,{"$f":"+IF(Tabla2[[#This Row],[Disponibilidad Interna]]=\"Sí\",0.1,IF(Tabla2[[#This Row],[Disponibilidad Interna]]=\"NO\",0,\"\"))","v":""},null,{"$f":"+IF(Tabla2[[#This Row],[Disponibilidad Terceros]]=\"Sí\",0.1,IF(Tabla2[[#This Row],[Disponibilidad Terceros]]=\"No\",0,\"\"))","v":""},{"$f":"+Tabla2[[#This Row],[Columna32]]+Tabla2[[#This Row],[Columna34]]+Tabla2[[#This Row],[Columna1]]+Tabla2[[#This Row],[Columna3]]","v":{"$error":"#VALUE!"}},{"$f":"IFERROR(IF(Tabla2[[#This Row],[Columna33]]<0.45,\"BAJA\",IF(Tabla2[[#This Row],[Columna33]]>0.75,\"ALTA\",\"MEDIA\")),\"\")","v":""},"No Aplica",{"$f":"+IF(Tabla2[[#This Row],[Información Publicada (WEB)]]=\"Sí\",\"Digite URL\",\"No Aplica\")","v":"No Aplica"},null,{"$f":"IF(Tabla2[[#This Row],[ Clasificación ICBF]]=\"Pública\",1,IF(Tabla2[[#This Row],[ Clasificación ICBF]]=\"Clasificada\",2,IF(Tabla2[[#This Row],[ Clasificación ICBF]]=\"Reservada\",3,0)))","v":0},{"$f":"IF(#REF!=8,4,IF(#REF!=16,3,IF(#REF!=24,2,IF(#REF!=48,1,0))))","v":{"$error":"#REF!"}},{"$f":"IF(#REF!=8,\"Alto\",IF(#REF!=16,\"Medio\",IF(#REF!=24,\"Medio\",IF(#REF!=48,\"Bajo\",0))))","v":{"$error":"#REF!"}},null,{"$f":"+MID(Tabla2[[#This Row],[Área/Dependencia]],17,8)","v":""}]
["",null,null,null,{"$f":"+VLOOKUP(Tabla2[[#This Row],[SEDE - REGIONAL]],DATOS!B403:D436,3,FALSE)","v":{"$error":"#N/A"}},{"$f":"+IF(OR(Tabla2[[#This Row],[Área/Dependencia]]=\"Subdirección de Sistemas Integrados\",Tabla2[[#This Row],[Área/Dependencia]]=\"Subdirección de Recursos Tecnológicos\"),\"X\",\"\")","v":""},{"$f":"+CONCATENATE(Tabla2[[#This Row],[Tipo de Proceso]],Tabla2[[#This Row],[Columna4]])","v":{"$error":"#N/A"}},null,null,null,null,null,null,null,null,null,null,null,null,null,{"$f":"+IF(Tabla2[[#This Row],[Nivel de acceso ]]=\"Alto\",0.5,IF(Tabla2[[#This Row],[Nivel de acceso ]]=\"Medio\",0.3,IF(Tabla2[[#This Row],[Nivel de acceso ]]=\"Bajo\",0.2,\"\")))","v":""},null,{"$f":"+IF(Tabla2[[#This Row],[Es  Reservada]]=\"Sí\",\"Escriba Ley\",\"No Aplica\")","v":"No Aplica"},null,null,null,null,{"$f":"IFERROR(IF(AND(Tabla2[[#This Row],[Contiene Datos Personales]]=\"SÍ\",OR(Tabla2[[#This Row],[Clasificación Datos Personales]]=\"Sensible\",Tabla2[[#This Row],[Clasificación Datos Personales]]=\"NNA\",Tabla2[[#This Row],[Clasificación Datos Personales]]=\"privado\")),\"Alto\",IF(AND(Tabla2[[#This Row],[Contiene Datos Personales]]=\"SÍ\",Tabla2[[#This Row],[Clasificación Datos Personales]]=\"SEMIPRIVADO\"),\"Medio\",\"Bajo\")),\"\")","v":"Bajo"},null,null,"No Aplica","No Aplica",null,null,null,{"$f":"+IF(Tabla2[[#This Row],[Integridad]]=\"Grave\",0.5,IF(Tabla2[[#This Row],[Integridad]]=\"Importante\",0.3,IF(Tabla2[[#This Row],[Integridad]]=\"Leve\",0.2,\"\")))","v":""},null,{"$f":"+IF(Tabla2[[#This Row],[Disponibilidad Interna]]=\"Sí\",0.1,IF(Tabla2[[#This Row],[Disponibilidad Interna]]=\"NO\",0,\"\"))","v":""},null,{"$f":"+IF(Tabla2[[#This Row],[Disponibilidad Terceros]]=\"Sí\",0.1,IF(Tabla2[[#This Row],[Disponibilidad Terceros]]=\"No\",0,\"\"))","v":""},{"$f":"+Tabla2[[#This Row],[Columna32]]+Tabla2[[#This Row],[Columna34]]+Tabla2[[#This Row],[Columna1]]+Tabla2[[#This Row],[Columna3]]","v":{"$error":"#VALUE!"}},{"$f":"IFERROR(IF(Tabla2[[#This Row],[Columna33]]<0.45,\"BAJA\",IF(Tabla2[[#This Row],[Columna33]]>0.75,\"ALTA\",\"MEDIA\")),\"\")","v":""},"No Aplica",{"$f":"+IF(Tabla2[[#This Row],[Información Publicada (WEB)]]=\"Sí\",\"Digite URL\",\"No Aplica\")","v":"No Aplica"},null,{"$f":"IF(Tabla2[[#This Row],[ Clasificación ICBF]]=\"Pública\",1,IF(Tabla2[[#This Row],[ Clasificación ICBF]]=\"Clasificada\",2,IF(Tabla2[[#This Row],[ Clasificación ICBF]]=\"Reservada\",3,0)))","v":0},{"$f":"IF(#REF!=8,4,IF(#REF!=16,3,IF(#REF!=24,2,IF(#REF!=48,1,0))))","v":{"$error":"#REF!"}},{"$f":"IF(#REF!=8,\"Alto\",IF(#REF!=16,\"Medio\",IF(#REF!=24,\"Medio\",IF(#REF!=48,\"Bajo\",0))))","v":{"$error":"#REF!"}},null,{"$f":"+MID(Tabla2[[#This Row],[Área/Dependencia]],17,8)","v":""}]
["",null,null,null,{"$f":"+VLOOKUP(Tabla2[[#This Row],[SEDE - REGIONAL]],DATOS!B404:D437,3,FALSE)","v":{"$error":"#N/A"}},{"$f":"+IF(OR(Tabla2[[#This Row],[Área/Dependencia]]=\"Subdirección de Sistemas Integrados\",Tabla2[[#This Row],[Área/Dependencia]]=\"Subdirección de Recursos Tecnológicos\"),\"X\",\"\")","v":""},{"$f":"+CONCATENATE(Tabla2[[#This Row],[Tipo de Proceso]],Tabla2[[#This Row],[Columna4]])","v":{"$error":"#N/A"}},null,null,null,null,null,null,null,null,null,null,null,null,null,{"$f":"+IF(Tabla2[[#This Row],[Nivel de acceso ]]=\"Alto\",0.5,IF(Tabla2[[#This Row],[Nivel de acceso ]]=\"Medio\",0.3,IF(Tabla2[[#This Row],[Nivel de acceso ]]=\"Bajo\",0.2,\"\")))","v":""},null,{"$f":"+IF(Tabla2[[#This Row],[Es  Reservada]]=\"Sí\",\"Escriba Ley\",\"No Aplica\")","v":"No Aplica"},null,null,null,null,{"$f":"IFERROR(IF(AND(Tabla2[[#This Row],[Contiene Datos Personales]]=\"SÍ\",OR(Tabla2[[#This Row],[Clasificación Datos Personales]]=\"Sensible\",Tabla2[[#This Row],[Clasificación Datos Personales]]=\"NNA\",Tabla2[[#This Row],[Clasificación Datos Personales]]=\"privado\")),\"Alto\",IF(AND(Tabla2[[#This Row],[Contiene Datos Personales]]=\"SÍ\",Tabla2[[#This Row],[Clasificación Datos Personales]]=\"SEMIPRIVADO\"),\"Medio\",\"Bajo\")),\"\")","v":"Bajo"},null,null,"No Aplica","No Aplica",null,null,null,{"$f":"+IF(Tabla2[[#This Row],[Integridad]]=\"Grave\",0.5,IF(Tabla2[[#This Row],[Integridad]]=\"Importante\",0.3,IF(Tabla2[[#This Row],[Integridad]]=\"Leve\",0.2,\"\")))","v":""},null,{"$f":"+IF(Tabla2[[#This Row],[Disponibilidad Interna]]=\"Sí\",0.1,IF(Tabla2[[#This Row],[Disponibilidad Interna]]=\"NO\",0,\"\"))","v":""},null,{"$f":"+IF(Tabla2[[#This Row],[Disponibilidad Terceros]]=\"Sí\",0.1,IF(Tabla2[[#This Row],[Disponibilidad Terceros]]=\"No\",0,\"\"))","v":""},{"$f":"+Tabla2[[#This Row],[Columna32]]+Tabla2[[#This Row],[Columna34]]+Tabla2[[#This Row],[Columna1]]+Tabla2[[#This Row],[Columna3]]","v":{"$error":"#VALUE!"}},{"$f":"IFERROR(IF(Tabla2[[#This Row],[Columna33]]<0.45,\"BAJA\",IF(Tabla2[[#This Row],[Columna33]]>0.75,\"ALTA\",\"MEDIA\")),\"\")","v":""},"No Aplica",{"$f":"+IF(Tabla2[[#This Row],[Información Publicada (WEB)]]=\"Sí\",\"Digite URL\",\"No Aplica\")","v":"No Aplica"},null,{"$f":"IF(Tabla2[[#This Row],[ Clasificación ICBF]]=\"Pública\",1,IF(Tabla2[[#This Row],[ Clasificación ICBF]]=\"Clasificada\",2,IF(Tabla2[[#This Row],[ Clasificación ICBF]]=\"Reservada\",3,0)))","v":0},{"$f":"IF(#REF!=8,4,IF(#REF!=16,3,IF(#REF!=24,2,IF(#REF!=48,1,0))))","v":{"$error":"#REF!"}},{"$f":"IF(#REF!=8,\"Alto\",IF(#REF!=16,\"Medio\",IF(#REF!=24,\"Medio\",IF(#REF!=48,\"Bajo\",0))))","v":{"$error":"#REF!"}},null,{"$f":"+MID(Tabla2[[#This Row],[Área/Dependencia]],17,8)","v":""}]
["",null,null,null,{"$f":"+VLOOKUP(Tabla2[[#This Row],[SEDE - REGIONAL]],DATOS!B405:D438,3,FALSE)","v":{"$error":"#N/A"}},{"$f":"+IF(OR(Tabla2[[#This Row],[Área/Dependencia]]=\"Subdirección de Sistemas Integrados\",Tabla2[[#This Row],[Área/Dependencia]]=\"Subdirección de Recursos Tecnológicos\"),\"X\",\"\")","v":""},{"$f":"+CONCATENATE(Tabla2[[#This Row],[Tipo de Proceso]],Tabla2[[#This Row],[Columna4]])","v":{"$error":"#N/A"}},null,null,null,null,null,null,null,null,null,null,null,null,null,{"$f":"+IF(Tabla2[[#This Row],[Nivel de acceso ]]=\"Alto\",0.5,IF(Tabla2[[#This Row],[Nivel de acceso ]]=\"Medio\",0.3,IF(Tabla2[[#This Row],[Nivel de acceso ]]=\"Bajo\",0.2,\"\")))","v":""},null,{"$f":"+IF(Tabla2[[#This Row],[Es  Reservada]]=\"Sí\",\"Escriba Ley\",\"No Aplica\")","v":"No Aplica"},null,null,null,null,{"$f":"IFERROR(IF(AND(Tabla2[[#This Row],[Contiene Datos Personales]]=\"SÍ\",OR(Tabla2[[#This Row],[Clasificación Datos Personales]]=\"Sensible\",Tabla2[[#This Row],[Clasificación Datos Personales]]=\"NNA\",Tabla2[[#This Row],[Clasificación Datos Personales]]=\"privado\")),\"Alto\",IF(AND(Tabla2[[#This Row],[Contiene Datos Personales]]=\"SÍ\",Tabla2[[#This Row],[Clasificación Datos Personales]]=\"SEMIPRIVADO\"),\"Medio\",\"Bajo\")),\"\")","v":"Bajo"},null,null,"No Aplica","No Aplica",null,null,null,{"$f":"+IF(Tabla2[[#This Row],[Integridad]]=\"Grave\",0.5,IF(Tabla2[[#This Row],[Integridad]]=\"Importante\",0.3,IF(Tabla2[[#This Row],[Integridad]]=\"Leve\",0.2,\"\")))","v":""},null,{"$f":"+IF(Tabla2[[#This Row],[Disponibilidad Interna]]=\"Sí\",0.1,IF(Tabla2[[#This Row],[Disponibilidad Interna]]=\"NO\",0,\"\"))","v":""},null,{"$f":"+IF(Tabla2[[#This Row],[Disponibilidad Terceros]]=\"Sí\",0.1,IF(Tabla2[[#This Row],[Disponibilidad Terceros]]=\"No\",0,\"\"))","v":""},{"$f":"+Tabla2[[#This Row],[Columna32]]+Tabla2[[#This Row],[Columna34]]+Tabla2[[#This Row],[Columna1]]+Tabla2[[#This Row],[Columna3]]","v":{"$error":"#VALUE!"}},{"$f":"IFERROR(IF(Tabla2[[#This Row],[Columna33]]<0.45,\"BAJA\",IF(Tabla2[[#This Row],[Columna33]]>0.75,\"ALTA\",\"MEDIA\")),\"\")","v":""},"No Aplica",{"$f":"+IF(Tabla2[[#This Row],[Información Publicada (WEB)]]=\"Sí\",\"Digite URL\",\"No Aplica\")","v":"No Aplica"},null,{"$f":"IF(Tabla2[[#This Row],[ Clasificación ICBF]]=\"Pública\",1,IF(Tabla2[[#This Row],[ Clasificación ICBF]]=\"Clasificada\",2,IF(Tabla2[[#This Row],[ Clasificación ICBF]]=\"Reservada\",3,0)))","v":0},{"$f":"IF(#REF!=8,4,IF(#REF!=16,3,IF(#REF!=24,2,IF(#REF!=48,1,0))))","v":{"$error":"#REF!"}},{"$f":"IF(#REF!=8,\"Alto\",IF(#REF!=16,\"Medio\",IF(#REF!=24,\"Medio\",IF(#REF!=48,\"Bajo\",0))))","v":{"$error":"#REF!"}},null,{"$f":"+MID(Tabla2[[#This Row],[Área/Dependencia]],17,8)","v":""}]
["",null,null,null,{"$f":"+VLOOKUP(Tabla2[[#This Row],[SEDE - REGIONAL]],DATOS!B406:D439,3,FALSE)","v":{"$error":"#N/A"}},{"$f":"+IF(OR(Tabla2[[#This Row],[Área/Dependencia]]=\"Subdirección de Sistemas Integrados\",Tabla2[[#This Row],[Área/Dependencia]]=\"Subdirección de Recursos Tecnológicos\"),\"X\",\"\")","v":""},{"$f":"+CONCATENATE(Tabla2[[#This Row],[Tipo de Proceso]],Tabla2[[#This Row],[Columna4]])","v":{"$error":"#N/A"}},null,null,null,null,null,null,null,null,null,null,null,null,null,{"$f":"+IF(Tabla2[[#This Row],[Nivel de acceso ]]=\"Alto\",0.5,IF(Tabla2[[#This Row],[Nivel de acceso ]]=\"Medio\",0.3,IF(Tabla2[[#This Row],[Nivel de acceso ]]=\"Bajo\",0.2,\"\")))","v":""},null,{"$f":"+IF(Tabla2[[#This Row],[Es  Reservada]]=\"Sí\",\"Escriba Ley\",\"No Aplica\")","v":"No Aplica"},null,null,null,null,{"$f":"IFERROR(IF(AND(Tabla2[[#This Row],[Contiene Datos Personales]]=\"SÍ\",OR(Tabla2[[#This Row],[Clasificación Datos Personales]]=\"Sensible\",Tabla2[[#This Row],[Clasificación Datos Personales]]=\"NNA\",Tabla2[[#This Row],[Clasificación Datos Personales]]=\"privado\")),\"Alto\",IF(AND(Tabla2[[#This Row],[Contiene Datos Personales]]=\"SÍ\",Tabla2[[#This Row],[Clasificación Datos Personales]]=\"SEMIPRIVADO\"),\"Medio\",\"Bajo\")),\"\")","v":"Bajo"},null,null,"No Aplica","No Aplica",null,null,null,{"$f":"+IF(Tabla2[[#This Row],[Integridad]]=\"Grave\",0.5,IF(Tabla2[[#This Row],[Integridad]]=\"Importante\",0.3,IF(Tabla2[[#This Row],[Integridad]]=\"Leve\",0.2,\"\")))","v":""},null,{"$f":"+IF(Tabla2[[#This Row],[Disponibilidad Interna]]=\"Sí\",0.1,IF(Tabla2[[#This Row],[Disponibilidad Interna]]=\"NO\",0,\"\"))","v":""},null,{"$f":"+IF(Tabla2[[#This Row],[Disponibilidad Terceros]]=\"Sí\",0.1,IF(Tabla2[[#This Row],[Disponibilidad Terceros]]=\"No\",0,\"\"))","v":""},{"$f":"+Tabla2[[#This Row],[Columna32]]+Tabla2[[#This Row],[Columna34]]+Tabla2[[#This Row],[Columna1]]+Tabla2[[#This Row],[Columna3]]","v":{"$error":"#VALUE!"}},{"$f":"IFERROR(IF(Tabla2[[#This Row],[Columna33]]<0.45,\"BAJA\",IF(Tabla2[[#This Row],[Columna33]]>0.75,\"ALTA\",\"MEDIA\")),\"\")","v":""},"No Aplica",{"$f":"+IF(Tabla2[[#This Row],[Información Publicada (WEB)]]=\"Sí\",\"Digite URL\",\"No Aplica\")","v":"No Aplica"},null,{"$f":"IF(Tabla2[[#This Row],[ Clasificación ICBF]]=\"Pública\",1,IF(Tabla2[[#This Row],[ Clasificación ICBF]]=\"Clasificada\",2,IF(Tabla2[[#This Row],[ Clasificación ICBF]]=\"Reservada\",3,0)))","v":0},{"$f":"IF(#REF!=8,4,IF(#REF!=16,3,IF(#REF!=24,2,IF(#REF!=48,1,0))))","v":{"$error":"#REF!"}},{"$f":"IF(#REF!=8,\"Alto\",IF(#REF!=16,\"Medio\",IF(#REF!=24,\"Medio\",IF(#REF!=48,\"Bajo\",0))))","v":{"$error":"#REF!"}},null,{"$f":"+MID(Tabla2[[#This Row],[Área/Dependencia]],17,8)","v":""}]
["",null,null,null,{"$f":"+VLOOKUP(Tabla2[[#This Row],[SEDE - REGIONAL]],DATOS!B407:D440,3,FALSE)","v":{"$error":"#N/A"}},{"$f":"+IF(OR(Tabla2[[#This Row],[Área/Dependencia]]=\"Subdirección de Sistemas Integrados\",Tabla2[[#This Row],[Área/Dependencia]]=\"Subdirección de Recursos Tecnológicos\"),\"X\",\"\")","v":""},{"$f":"+CONCATENATE(Tabla2[[#This Row],[Tipo de Proceso]],Tabla2[[#This Row],[Columna4]])","v":{"$error":"#N/A"}},null,null,null,null,null,null,null,null,null,null,null,null,null,{"$f":"+IF(Tabla2[[#This Row],[Nivel de acceso ]]=\"Alto\",0.5,IF(Tabla2[[#This Row],[Nivel de acceso ]]=\"Medio\",0.3,IF(Tabla2[[#This Row],[Nivel de acceso ]]=\"Bajo\",0.2,\"\")))","v":""},null,{"$f":"+IF(Tabla2[[#This Row],[Es  Reservada]]=\"Sí\",\"Escriba Ley\",\"No Aplica\")","v":"No Aplica"},null,null,null,null,{"$f":"IFERROR(IF(AND(Tabla2[[#This Row],[Contiene Datos Personales]]=\"SÍ\",OR(Tabla2[[#This Row],[Clasificación Datos Personales]]=\"Sensible\",Tabla2[[#This Row],[Clasificación Datos Personales]]=\"NNA\",Tabla2[[#This Row],[Clasificación Datos Personales]]=\"privado\")),\"Alto\",IF(AND(Tabla2[[#This Row],[Contiene Datos Personales]]=\"SÍ\",Tabla2[[#This Row],[Clasificación Datos Personales]]=\"SEMIPRIVADO\"),\"Medio\",\"Bajo\")),\"\")","v":"Bajo"},null,null,"No Aplica","No Aplica",null,null,null,{"$f":"+IF(Tabla2[[#This Row],[Integridad]]=\"Grave\",0.5,IF(Tabla2[[#This Row],[Integridad]]=\"Importante\",0.3,IF(Tabla2[[#This Row],[Integridad]]=\"Leve\",0.2,\"\")))","v":""},null,{"$f":"+IF(Tabla2[[#This Row],[Disponibilidad Interna]]=\"Sí\",0.1,IF(Tabla2[[#This Row],[Disponibilidad Interna]]=\"NO\",0,\"\"))","v":""},null,{"$f":"+IF(Tabla2[[#This Row],[Disponibilidad Terceros]]=\"Sí\",0.1,IF(Tabla2[[#This Row],[Disponibilidad Terceros]]=\"No\",0,\"\"))","v":""},{"$f":"+Tabla2[[#This Row],[Columna32]]+Tabla2[[#This Row],[Columna34]]+Tabla2[[#This Row],[Columna1]]+Tabla2[[#This Row],[Columna3]]","v":{"$error":"#VALUE!"}},{"$f":"IFERROR(IF(Tabla2[[#This Row],[Columna33]]<0.45,\"BAJA\",IF(Tabla2[[#This Row],[Columna33]]>0.75,\"ALTA\",\"MEDIA\")),\"\")","v":""},"No Aplica",{"$f":"+IF(Tabla2[[#This Row],[Información Publicada (WEB)]]=\"Sí\",\"Digite URL\",\"No Aplica\")","v":"No Aplica"},null,{"$f":"IF(Tabla2[[#This Row],[ Clasificación ICBF]]=\"Pública\",1,IF(Tabla2[[#This Row],[ Clasificación ICBF]]=\"Clasificada\",2,IF(Tabla2[[#This Row],[ Clasificación ICBF]]=\"Reservada\",3,0)))","v":0},{"$f":"IF(#REF!=8,4,IF(#REF!=16,3,IF(#REF!=24,2,IF(#REF!=48,1,0))))","v":{"$error":"#REF!"}},{"$f":"IF(#REF!=8,\"Alto\",IF(#REF!=16,\"Medio\",IF(#REF!=24,\"Medio\",IF(#REF!=48,\"Bajo\",0))))","v":{"$error":"#REF!"}},null,{"$f":"+MID(Tabla2[[#This Row],[Área/Dependencia]],17,8)","v":""}]
["",null,null,null,{"$f":"+VLOOKUP(Tabla2[[#This Row],[SEDE - REGIONAL]],DATOS!B408:D441,3,FALSE)","v":{"$error":"#N/A"}},{"$f":"+IF(OR(Tabla2[[#This Row],[Área/Dependencia]]=\"Subdirección de Sistemas Integrados\",Tabla2[[#This Row],[Área/Dependencia]]=\"Subdirección de Recursos Tecnológicos\"),\"X\",\"\")","v":""},{"$f":"+CONCATENATE(Tabla2[[#This Row],[Tipo de Proceso]],Tabla2[[#This Row],[Columna4]])","v":{"$error":"#N/A"}},null,null,null,null,null,null,null,null,null,null,null,null,null,{"$f":"+IF(Tabla2[[#This Row],[Nivel de acceso ]]=\"Alto\",0.5,IF(Tabla2[[#This Row],[Nivel de acceso ]]=\"Medio\",0.3,IF(Tabla2[[#This Row],[Nivel de acceso ]]=\"Bajo\",0.2,\"\")))","v":""},null,{"$f":"+IF(Tabla2[[#This Row],[Es  Reservada]]=\"Sí\",\"Escriba Ley\",\"No Aplica\")","v":"No Aplica"},null,null,null,null,{"$f":"IFERROR(IF(AND(Tabla2[[#This Row],[Contiene Datos Personales]]=\"SÍ\",OR(Tabla2[[#This Row],[Clasificación Datos Personales]]=\"Sensible\",Tabla2[[#This Row],[Clasificación Datos Personales]]=\"NNA\",Tabla2[[#This Row],[Clasificación Datos Personales]]=\"privado\")),\"Alto\",IF(AND(Tabla2[[#This Row],[Contiene Datos Personales]]=\"SÍ\",Tabla2[[#This Row],[Clasificación Datos Personales]]=\"SEMIPRIVADO\"),\"Medio\",\"Bajo\")),\"\")","v":"Bajo"},null,null,"No Aplica","No Aplica",null,null,null,{"$f":"+IF(Tabla2[[#This Row],[Integridad]]=\"Grave\",0.5,IF(Tabla2[[#This Row],[Integridad]]=\"Importante\",0.3,IF(Tabla2[[#This Row],[Integridad]]=\"Leve\",0.2,\"\")))","v":""},null,{"$f":"+IF(Tabla2[[#This Row],[Disponibilidad Interna]]=\"Sí\",0.1,IF(Tabla2[[#This Row],[Disponibilidad Interna]]=\"NO\",0,\"\"))","v":""},null,{"$f":"+IF(Tabla2[[#This Row],[Disponibilidad Terceros]]=\"Sí\",0.1,IF(Tabla2[[#This Row],[Disponibilidad Terceros]]=\"No\",0,\"\"))","v":""},{"$f":"+Tabla2[[#This Row],[Columna32]]+Tabla2[[#This Row],[Columna34]]+Tabla2[[#This Row],[Columna1]]+Tabla2[[#This Row],[Columna3]]","v":{"$error":"#VALUE!"}},{"$f":"IFERROR(IF(Tabla2[[#This Row],[Columna33]]<0.45,\"BAJA\",IF(Tabla2[[#This Row],[Columna33]]>0.75,\"ALTA\",\"MEDIA\")),\"\")","v":""},"No Aplica",{"$f":"+IF(Tabla2[[#This Row],[Información Publicada (WEB)]]=\"Sí\",\"Digite URL\",\"No Aplica\")","v":"No Aplica"},null,{"$f":"IF(Tabla2[[#This Row],[ Clasificación ICBF]]=\"Pública\",1,IF(Tabla2[[#This Row],[ Clasificación ICBF]]=\"Clasificada\",2,IF(Tabla2[[#This Row],[ Clasificación ICBF]]=\"Reservada\",3,0)))","v":0},{"$f":"IF(#REF!=8,4,IF(#REF!=16,3,IF(#REF!=24,2,IF(#REF!=48,1,0))))","v":{"$error":"#REF!"}},{"$f":"IF(#REF!=8,\"Alto\",IF(#REF!=16,\"Medio\",IF(#REF!=24,\"Medio\",IF(#REF!=48,\"Bajo\",0))))","v":{"$error":"#REF!"}},null,{"$f":"+MID(Tabla2[[#This Row],[Área/Dependencia]],17,8)","v":""}]
["",null,null,null,{"$f":"+VLOOKUP(Tabla2[[#This Row],[SEDE - REGIONAL]],DATOS!B409:D442,3,FALSE)","v":{"$error":"#N/A"}},{"$f":"+IF(OR(Tabla2[[#This Row],[Área/Dependencia]]=\"Subdirección de Sistemas Integrados\",Tabla2[[#This Row],[Área/Dependencia]]=\"Subdirección de Recursos Tecnológicos\"),\"X\",\"\")","v":""},{"$f":"+CONCATENATE(Tabla2[[#This Row],[Tipo de Proceso]],Tabla2[[#This Row],[Columna4]])","v":{"$error":"#N/A"}},null,null,null,null,null,null,null,null,null,null,null,null,null,{"$f":"+IF(Tabla2[[#This Row],[Nivel de acceso ]]=\"Alto\",0.5,IF(Tabla2[[#This Row],[Nivel de acceso ]]=\"Medio\",0.3,IF(Tabla2[[#This Row],[Nivel de acceso ]]=\"Bajo\",0.2,\"\")))","v":""},null,{"$f":"+IF(Tabla2[[#This Row],[Es  Reservada]]=\"Sí\",\"Escriba Ley\",\"No Aplica\")","v":"No Aplica"},null,null,null,null,{"$f":"IFERROR(IF(AND(Tabla2[[#This Row],[Contiene Datos Personales]]=\"SÍ\",OR(Tabla2[[#This Row],[Clasificación Datos Personales]]=\"Sensible\",Tabla2[[#This Row],[Clasificación Datos Personales]]=\"NNA\",Tabla2[[#This Row],[Clasificación Datos Personales]]=\"privado\")),\"Alto\",IF(AND(Tabla2[[#This Row],[Contiene Datos Personales]]=\"SÍ\",Tabla2[[#This Row],[Clasificación Datos Personales]]=\"SEMIPRIVADO\"),\"Medio\",\"Bajo\")),\"\")","v":"Bajo"},null,null,"No Aplica","No Aplica",null,null,null,{"$f":"+IF(Tabla2[[#This Row],[Integridad]]=\"Grave\",0.5,IF(Tabla2[[#This Row],[Integridad]]=\"Importante\",0.3,IF(Tabla2[[#This Row],[Integridad]]=\"Leve\",0.2,\"\")))","v":""},null,{"$f":"+IF(Tabla2[[#This Row],[Disponibilidad Interna]]=\"Sí\",0.1,IF(Tabla2[[#This Row],[Disponibilidad Interna]]=\"NO\",0,\"\"))","v":""},null,{"$f":"+IF(Tabla2[[#This Row],[Disponibilidad Terceros]]=\"Sí\",0.1,IF(Tabla2[[#This Row],[Disponibilidad Terceros]]=\"No\",0,\"\"))","v":""},{"$f":"+Tabla2[[#This Row],[Columna32]]+Tabla2[[#This Row],[Columna34]]+Tabla2[[#This Row],[Columna1]]+Tabla2[[#This Row],[Columna3]]","v":{"$error":"#VALUE!"}},{"$f":"IFERROR(IF(Tabla2[[#This Row],[Columna33]]<0.45,\"BAJA\",IF(Tabla2[[#This Row],[Columna33]]>0.75,\"ALTA\",\"MEDIA\")),\"\")","v":""},"No Aplica",{"$f":"+IF(Tabla2[[#This Row],[Información Publicada (WEB)]]=\"Sí\",\"Digite URL\",\"No Aplica\")","v":"No Aplica"},null,{"$f":"IF(Tabla2[[#This Row],[ Clasificación ICBF]]=\"Pública\",1,IF(Tabla2[[#This Row],[ Clasificación ICBF]]=\"Clasificada\",2,IF(Tabla2[[#This Row],[ Clasificación ICBF]]=\"Reservada\",3,0)))","v":0},{"$f":"IF(#REF!=8,4,IF(#REF!=16,3,IF(#REF!=24,2,IF(#REF!=48,1,0))))","v":{"$error":"#REF!"}},{"$f":"IF(#REF!=8,\"Alto\",IF(#REF!=16,\"Medio\",IF(#REF!=24,\"Medio\",IF(#REF!=48,\"Bajo\",0))))","v":{"$error":"#REF!"}},null,{"$f":"+MID(Tabla2[[#This Row],[Área/Dependencia]],17,8)","v":""}]
["",null,null,null,{"$f":"+VLOOKUP(Tabla2[[#This Row],[SEDE - REGIONAL]],DATOS!B410:D443,3,FALSE)","v":{"$error":"#N/A"}},{"$f":"+IF(OR(Tabla2[[#This Row],[Área/Dependencia]]=\"Subdirección de Sistemas Integrados\",Tabla2[[#This Row],[Área/Dependencia]]=\"Subdirección de Recursos Tecnológicos\"),\"X\",\"\")","v":""},{"$f":"+CONCATENATE(Tabla2[[#This Row],[Tipo de Proceso]],Tabla2[[#This Row],[Columna4]])","v":{"$error":"#N/A"}},null,null,null,null,null,null,null,null,null,null,null,null,null,{"$f":"+IF(Tabla2[[#This Row],[Nivel de acceso ]]=\"Alto\",0.5,IF(Tabla2[[#This Row],[Nivel de acceso ]]=\"Medio\",0.3,IF(Tabla2[[#This Row],[Nivel de acceso ]]=\"Bajo\",0.2,\"\")))","v":""},null,{"$f":"+IF(Tabla2[[#This Row],[Es  Reservada]]=\"Sí\",\"Escriba Ley\",\"No Aplica\")","v":"No Aplica"},null,null,null,null,{"$f":"IFERROR(IF(AND(Tabla2[[#This Row],[Contiene Datos Personales]]=\"SÍ\",OR(Tabla2[[#This Row],[Clasificación Datos Personales]]=\"Sensible\",Tabla2[[#This Row],[Clasificación Datos Personales]]=\"NNA\",Tabla2[[#This Row],[Clasificación Datos Personales]]=\"privado\")),\"Alto\",IF(AND(Tabla2[[#This Row],[Contiene Datos Personales]]=\"SÍ\",Tabla2[[#This Row],[Clasificación Datos Personales]]=\"SEMIPRIVADO\"),\"Medio\",\"Bajo\")),\"\")","v":"Bajo"},null,null,"No Aplica","No Aplica",null,null,null,{"$f":"+IF(Tabla2[[#This Row],[Integridad]]=\"Grave\",0.5,IF(Tabla2[[#This Row],[Integridad]]=\"Importante\",0.3,IF(Tabla2[[#This Row],[Integridad]]=\"Leve\",0.2,\"\")))","v":""},null,{"$f":"+IF(Tabla2[[#This Row],[Disponibilidad Interna]]=\"Sí\",0.1,IF(Tabla2[[#This Row],[Disponibilidad Interna]]=\"NO\",0,\"\"))","v":""},null,{"$f":"+IF(Tabla2[[#This Row],[Disponibilidad Terceros]]=\"Sí\",0.1,IF(Tabla2[[#This Row],[Disponibilidad Terceros]]=\"No\",0,\"\"))","v":""},{"$f":"+Tabla2[[#This Row],[Columna32]]+Tabla2[[#This Row],[Columna34]]+Tabla2[[#This Row],[Columna1]]+Tabla2[[#This Row],[Columna3]]","v":{"$error":"#VALUE!"}},{"$f":"IFERROR(IF(Tabla2[[#This Row],[Columna33]]<0.45,\"BAJA\",IF(Tabla2[[#This Row],[Columna33]]>0.75,\"ALTA\",\"MEDIA\")),\"\")","v":""},"No Aplica",{"$f":"+IF(Tabla2[[#This Row],[Información Publicada (WEB)]]=\"Sí\",\"Digite URL\",\"No Aplica\")","v":"No Aplica"},null,{"$f":"IF(Tabla2[[#This Row],[ Clasificación ICBF]]=\"Pública\",1,IF(Tabla2[[#This Row],[ Clasificación ICBF]]=\"Clasificada\",2,IF(Tabla2[[#This Row],[ Clasificación ICBF]]=\"Reservada\",3,0)))","v":0},{"$f":"IF(#REF!=8,4,IF(#REF!=16,3,IF(#REF!=24,2,IF(#REF!=48,1,0))))","v":{"$error":"#REF!"}},{"$f":"IF(#REF!=8,\"Alto\",IF(#REF!=16,\"Medio\",IF(#REF!=24,\"Medio\",IF(#REF!=48,\"Bajo\",0))))","v":{"$error":"#REF!"}},null,{"$f":"+MID(Tabla2[[#This Row],[Área/Dependencia]],17,8)","v":""}]
["",null,null,null,{"$f":"+VLOOKUP(Tabla2[[#This Row],[SEDE - REGIONAL]],DATOS!B411:D444,3,FALSE)","v":{"$error":"#N/A"}},{"$f":"+IF(OR(Tabla2[[#This Row],[Área/Dependencia]]=\"Subdirección de Sistemas Integrados\",Tabla2[[#This Row],[Área/Dependencia]]=\"Subdirección de Recursos Tecnológicos\"),\"X\",\"\")","v":""},{"$f":"+CONCATENATE(Tabla2[[#This Row],[Tipo de Proceso]],Tabla2[[#This Row],[Columna4]])","v":{"$error":"#N/A"}},null,null,null,null,null,null,null,null,null,null,null,null,null,{"$f":"+IF(Tabla2[[#This Row],[Nivel de acceso ]]=\"Alto\",0.5,IF(Tabla2[[#This Row],[Nivel de acceso ]]=\"Medio\",0.3,IF(Tabla2[[#This Row],[Nivel de acceso ]]=\"Bajo\",0.2,\"\")))","v":""},null,{"$f":"+IF(Tabla2[[#This Row],[Es  Reservada]]=\"Sí\",\"Escriba Ley\",\"No Aplica\")","v":"No Aplica"},null,null,null,null,{"$f":"IFERROR(IF(AND(Tabla2[[#This Row],[Contiene Datos Personales]]=\"SÍ\",OR(Tabla2[[#This Row],[Clasificación Datos Personales]]=\"Sensible\",Tabla2[[#This Row],[Clasificación Datos Personales]]=\"NNA\",Tabla2[[#This Row],[Clasificación Datos Personales]]=\"privado\")),\"Alto\",IF(AND(Tabla2[[#This Row],[Contiene Datos Personales]]=\"SÍ\",Tabla2[[#This Row],[Clasificación Datos Personales]]=\"SEMIPRIVADO\"),\"Medio\",\"Bajo\")),\"\")","v":"Bajo"},null,null,"No Aplica","No Aplica",null,null,null,{"$f":"+IF(Tabla2[[#This Row],[Integridad]]=\"Grave\",0.5,IF(Tabla2[[#This Row],[Integridad]]=\"Importante\",0.3,IF(Tabla2[[#This Row],[Integridad]]=\"Leve\",0.2,\"\")))","v":""},null,{"$f":"+IF(Tabla2[[#This Row],[Disponibilidad Interna]]=\"Sí\",0.1,IF(Tabla2[[#This Row],[Disponibilidad Interna]]=\"NO\",0,\"\"))","v":""},null,{"$f":"+IF(Tabla2[[#This Row],[Disponibilidad Terceros]]=\"Sí\",0.1,IF(Tabla2[[#This Row],[Disponibilidad Terceros]]=\"No\",0,\"\"))","v":""},{"$f":"+Tabla2[[#This Row],[Columna32]]+Tabla2[[#This Row],[Columna34]]+Tabla2[[#This Row],[Columna1]]+Tabla2[[#This Row],[Columna3]]","v":{"$error":"#VALUE!"}},{"$f":"IFERROR(IF(Tabla2[[#This Row],[Columna33]]<0.45,\"BAJA\",IF(Tabla2[[#This Row],[Columna33]]>0.75,\"ALTA\",\"MEDIA\")),\"\")","v":""},"No Aplica",{"$f":"+IF(Tabla2[[#This Row],[Información Publicada (WEB)]]=\"Sí\",\"Digite URL\",\"No Aplica\")","v":"No Aplica"},null,{"$f":"IF(Tabla2[[#This Row],[ Clasificación ICBF]]=\"Pública\",1,IF(Tabla2[[#This Row],[ Clasificación ICBF]]=\"Clasificada\",2,IF(Tabla2[[#This Row],[ Clasificación ICBF]]=\"Reservada\",3,0)))","v":0},{"$f":"IF(#REF!=8,4,IF(#REF!=16,3,IF(#REF!=24,2,IF(#REF!=48,1,0))))","v":{"$error":"#REF!"}},{"$f":"IF(#REF!=8,\"Alto\",IF(#REF!=16,\"Medio\",IF(#REF!=24,\"Medio\",IF(#REF!=48,\"Bajo\",0))))","v":{"$error":"#REF!"}},null,{"$f":"+MID(Tabla2[[#This Row],[Área/Dependencia]],17,8)","v":""}]
["",null,null,null,{"$f":"+VLOOKUP(Tabla2[[#This Row],[SEDE - REGIONAL]],DATOS!B412:D445,3,FALSE)","v":{"$error":"#N/A"}},{"$f":"+IF(OR(Tabla2[[#This Row],[Área/Dependencia]]=\"Subdirección de Sistemas Integrados\",Tabla2[[#This Row],[Área/Dependencia]]=\"Subdirección de Recursos Tecnológicos\"),\"X\",\"\")","v":""},{"$f":"+CONCATENATE(Tabla2[[#This Row],[Tipo de Proceso]],Tabla2[[#This Row],[Columna4]])","v":{"$error":"#N/A"}},null,null,null,null,null,null,null,null,null,null,null,null,null,{"$f":"+IF(Tabla2[[#This Row],[Nivel de acceso ]]=\"Alto\",0.5,IF(Tabla2[[#This Row],[Nivel de acceso ]]=\"Medio\",0.3,IF(Tabla2[[#This Row],[Nivel de acceso ]]=\"Bajo\",0.2,\"\")))","v":""},null,{"$f":"+IF(Tabla2[[#This Row],[Es  Reservada]]=\"Sí\",\"Escriba Ley\",\"No Aplica\")","v":"No Aplica"},null,null,null,null,{"$f":"IFERROR(IF(AND(Tabla2[[#This Row],[Contiene Datos Personales]]=\"SÍ\",OR(Tabla2[[#This Row],[Clasificación Datos Personales]]=\"Sensible\",Tabla2[[#This Row],[Clasificación Datos Personales]]=\"NNA\",Tabla2[[#This Row],[Clasificación Datos Personales]]=\"privado\")),\"Alto\",IF(AND(Tabla2[[#This Row],[Contiene Datos Personales]]=\"SÍ\",Tabla2[[#This Row],[Clasificación Datos Personales]]=\"SEMIPRIVADO\"),\"Medio\",\"Bajo\")),\"\")","v":"Bajo"},null,null,"No Aplica","No Aplica",null,null,null,{"$f":"+IF(Tabla2[[#This Row],[Integridad]]=\"Grave\",0.5,IF(Tabla2[[#This Row],[Integridad]]=\"Importante\",0.3,IF(Tabla2[[#This Row],[Integridad]]=\"Leve\",0.2,\"\")))","v":""},null,{"$f":"+IF(Tabla2[[#This Row],[Disponibilidad Interna]]=\"Sí\",0.1,IF(Tabla2[[#This Row],[Disponibilidad Interna]]=\"NO\",0,\"\"))","v":""},null,{"$f":"+IF(Tabla2[[#This Row],[Disponibilidad Terceros]]=\"Sí\",0.1,IF(Tabla2[[#This Row],[Disponibilidad Terceros]]=\"No\",0,\"\"))","v":""},{"$f":"+Tabla2[[#This Row],[Columna32]]+Tabla2[[#This Row],[Columna34]]+Tabla2[[#This Row],[Columna1]]+Tabla2[[#This Row],[Columna3]]","v":{"$error":"#VALUE!"}},{"$f":"IFERROR(IF(Tabla2[[#This Row],[Columna33]]<0.45,\"BAJA\",IF(Tabla2[[#This Row],[Columna33]]>0.75,\"ALTA\",\"MEDIA\")),\"\")","v":""},"No Aplica",{"$f":"+IF(Tabla2[[#This Row],[Información Publicada (WEB)]]=\"Sí\",\"Digite URL\",\"No Aplica\")","v":"No Aplica"},null,{"$f":"IF(Tabla2[[#This Row],[ Clasificación ICBF]]=\"Pública\",1,IF(Tabla2[[#This Row],[ Clasificación ICBF]]=\"Clasificada\",2,IF(Tabla2[[#This Row],[ Clasificación ICBF]]=\"Reservada\",3,0)))","v":0},{"$f":"IF(#REF!=8,4,IF(#REF!=16,3,IF(#REF!=24,2,IF(#REF!=48,1,0))))","v":{"$error":"#REF!"}},{"$f":"IF(#REF!=8,\"Alto\",IF(#REF!=16,\"Medio\",IF(#REF!=24,\"Medio\",IF(#REF!=48,\"Bajo\",0))))","v":{"$error":"#REF!"}},null,{"$f":"+MID(Tabla2[[#This Row],[Área/Dependencia]],17,8)","v":""}]
["",null,null,null,{"$f":"+VLOOKUP(Tabla2[[#This Row],[SEDE - REGIONAL]],DATOS!B413:D446,3,FALSE)","v":{"$error":"#N/A"}},{"$f":"+IF(OR(Tabla2[[#This Row],[Área/Dependencia]]=\"Subdirección de Sistemas Integrados\",Tabla2[[#This Row],[Área/Dependencia]]=\"Subdirección de Recursos Tecnológicos\"),\"X\",\"\")","v":""},{"$f":"+CONCATENATE(Tabla2[[#This Row],[Tipo de Proceso]],Tabla2[[#This Row],[Columna4]])","v":{"$error":"#N/A"}},null,null,null,null,null,null,null,null,null,null,null,null,null,{"$f":"+IF(Tabla2[[#This Row],[Nivel de acceso ]]=\"Alto\",0.5,IF(Tabla2[[#This Row],[Nivel de acceso ]]=\"Medio\",0.3,IF(Tabla2[[#This Row],[Nivel de acceso ]]=\"Bajo\",0.2,\"\")))","v":""},null,{"$f":"+IF(Tabla2[[#This Row],[Es  Reservada]]=\"Sí\",\"Escriba Ley\",\"No Aplica\")","v":"No Aplica"},null,null,null,null,{"$f":"IFERROR(IF(AND(Tabla2[[#This Row],[Contiene Datos Personales]]=\"SÍ\",OR(Tabla2[[#This Row],[Clasificación Datos Personales]]=\"Sensible\",Tabla2[[#This Row],[Clasificación Datos Personales]]=\"NNA\",Tabla2[[#This Row],[Clasificación Datos Personales]]=\"privado\")),\"Alto\",IF(AND(Tabla2[[#This Row],[Contiene Datos Personales]]=\"SÍ\",Tabla2[[#This Row],[Clasificación Datos Personales]]=\"SEMIPRIVADO\"),\"Medio\",\"Bajo\")),\"\")","v":"Bajo"},null,null,"No Aplica","No Aplica",null,null,null,{"$f":"+IF(Tabla2[[#This Row],[Integridad]]=\"Grave\",0.5,IF(Tabla2[[#This Row],[Integridad]]=\"Importante\",0.3,IF(Tabla2[[#This Row],[Integridad]]=\"Leve\",0.2,\"\")))","v":""},null,{"$f":"+IF(Tabla2[[#This Row],[Disponibilidad Interna]]=\"Sí\",0.1,IF(Tabla2[[#This Row],[Disponibilidad Interna]]=\"NO\",0,\"\"))","v":""},null,{"$f":"+IF(Tabla2[[#This Row],[Disponibilidad Terceros]]=\"Sí\",0.1,IF(Tabla2[[#This Row],[Disponibilidad Terceros]]=\"No\",0,\"\"))","v":""},{"$f":"+Tabla2[[#This Row],[Columna32]]+Tabla2[[#This Row],[Columna34]]+Tabla2[[#This Row],[Columna1]]+Tabla2[[#This Row],[Columna3]]","v":{"$error":"#VALUE!"}},{"$f":"IFERROR(IF(Tabla2[[#This Row],[Columna33]]<0.45,\"BAJA\",IF(Tabla2[[#This Row],[Columna33]]>0.75,\"ALTA\",\"MEDIA\")),\"\")","v":""},"No Aplica",{"$f":"+IF(Tabla2[[#This Row],[Información Publicada (WEB)]]=\"Sí\",\"Digite URL\",\"No Aplica\")","v":"No Aplica"},null,{"$f":"IF(Tabla2[[#This Row],[ Clasificación ICBF]]=\"Pública\",1,IF(Tabla2[[#This Row],[ Clasificación ICBF]]=\"Clasificada\",2,IF(Tabla2[[#This Row],[ Clasificación ICBF]]=\"Reservada\",3,0)))","v":0},{"$f":"IF(#REF!=8,4,IF(#REF!=16,3,IF(#REF!=24,2,IF(#REF!=48,1,0))))","v":{"$error":"#REF!"}},{"$f":"IF(#REF!=8,\"Alto\",IF(#REF!=16,\"Medio\",IF(#REF!=24,\"Medio\",IF(#REF!=48,\"Bajo\",0))))","v":{"$error":"#REF!"}},null,{"$f":"+MID(Tabla2[[#This Row],[Área/Dependencia]],17,8)","v":""}]
["",null,null,null,{"$f":"+VLOOKUP(Tabla2[[#This Row],[SEDE - REGIONAL]],DATOS!B414:D447,3,FALSE)","v":{"$error":"#N/A"}},{"$f":"+IF(OR(Tabla2[[#This Row],[Área/Dependencia]]=\"Subdirección de Sistemas Integrados\",Tabla2[[#This Row],[Área/Dependencia]]=\"Subdirección de Recursos Tecnológicos\"),\"X\",\"\")","v":""},{"$f":"+CONCATENATE(Tabla2[[#This Row],[Tipo de Proceso]],Tabla2[[#This Row],[Columna4]])","v":{"$error":"#N/A"}},null,null,null,null,null,null,null,null,null,null,null,null,null,{"$f":"+IF(Tabla2[[#This Row],[Nivel de acceso ]]=\"Alto\",0.5,IF(Tabla2[[#This Row],[Nivel de acceso ]]=\"Medio\",0.3,IF(Tabla2[[#This Row],[Nivel de acceso ]]=\"Bajo\",0.2,\"\")))","v":""},null,{"$f":"+IF(Tabla2[[#This Row],[Es  Reservada]]=\"Sí\",\"Escriba Ley\",\"No Aplica\")","v":"No Aplica"},null,null,null,null,{"$f":"IFERROR(IF(AND(Tabla2[[#This Row],[Contiene Datos Personales]]=\"SÍ\",OR(Tabla2[[#This Row],[Clasificación Datos Personales]]=\"Sensible\",Tabla2[[#This Row],[Clasificación Datos Personales]]=\"NNA\",Tabla2[[#This Row],[Clasificación Datos Personales]]=\"privado\")),\"Alto\",IF(AND(Tabla2[[#This Row],[Contiene Datos Personales]]=\"SÍ\",Tabla2[[#This Row],[Clasificación Datos Personales]]=\"SEMIPRIVADO\"),\"Medio\",\"Bajo\")),\"\")","v":"Bajo"},null,null,"No Aplica","No Aplica",null,null,null,{"$f":"+IF(Tabla2[[#This Row],[Integridad]]=\"Grave\",0.5,IF(Tabla2[[#This Row],[Integridad]]=\"Importante\",0.3,IF(Tabla2[[#This Row],[Integridad]]=\"Leve\",0.2,\"\")))","v":""},null,{"$f":"+IF(Tabla2[[#This Row],[Disponibilidad Interna]]=\"Sí\",0.1,IF(Tabla2[[#This Row],[Disponibilidad Interna]]=\"NO\",0,\"\"))","v":""},null,{"$f":"+IF(Tabla2[[#This Row],[Disponibilidad Terceros]]=\"Sí\",0.1,IF(Tabla2[[#This Row],[Disponibilidad Terceros]]=\"No\",0,\"\"))","v":""},{"$f":"+Tabla2[[#This Row],[Columna32]]+Tabla2[[#This Row],[Columna34]]+Tabla2[[#This Row],[Columna1]]+Tabla2[[#This Row],[Columna3]]","v":{"$error":"#VALUE!"}},{"$f":"IFERROR(IF(Tabla2[[#This Row],[Columna33]]<0.45,\"BAJA\",IF(Tabla2[[#This Row],[Columna33]]>0.75,\"ALTA\",\"MEDIA\")),\"\")","v":""},"No Aplica",{"$f":"+IF(Tabla2[[#This Row],[Información Publicada (WEB)]]=\"Sí\",\"Digite URL\",\"No Aplica\")","v":"No Aplica"},null,{"$f":"IF(Tabla2[[#This Row],[ Clasificación ICBF]]=\"Pública\",1,IF(Tabla2[[#This Row],[ Clasificación ICBF]]=\"Clasificada\",2,IF(Tabla2[[#This Row],[ Clasificación ICBF]]=\"Reservada\",3,0)))","v":0},{"$f":"IF(#REF!=8,4,IF(#REF!=16,3,IF(#REF!=24,2,IF(#REF!=48,1,0))))","v":{"$error":"#REF!"}},{"$f":"IF(#REF!=8,\"Alto\",IF(#REF!=16,\"Medio\",IF(#REF!=24,\"Medio\",IF(#REF!=48,\"Bajo\",0))))","v":{"$error":"#REF!"}},null,{"$f":"+MID(Tabla2[[#This Row],[Área/Dependencia]],17,8)","v":""}]
["",null,null,null,{"$f":"+VLOOKUP(Tabla2[[#This Row],[SEDE - REGIONAL]],DATOS!B415:D448,3,FALSE)","v":{"$error":"#N/A"}},{"$f":"+IF(OR(Tabla2[[#This Row],[Área/Dependencia]]=\"Subdirección de Sistemas Integrados\",Tabla2[[#This Row],[Área/Dependencia]]=\"Subdirección de Recursos Tecnológicos\"),\"X\",\"\")","v":""},{"$f":"+CONCATENATE(Tabla2[[#This Row],[Tipo de Proceso]],Tabla2[[#This Row],[Columna4]])","v":{"$error":"#N/A"}},null,null,null,null,null,null,null,null,null,null,null,null,null,{"$f":"+IF(Tabla2[[#This Row],[Nivel de acceso ]]=\"Alto\",0.5,IF(Tabla2[[#This Row],[Nivel de acceso ]]=\"Medio\",0.3,IF(Tabla2[[#This Row],[Nivel de acceso ]]=\"Bajo\",0.2,\"\")))","v":""},null,{"$f":"+IF(Tabla2[[#This Row],[Es  Reservada]]=\"Sí\",\"Escriba Ley\",\"No Aplica\")","v":"No Aplica"},null,null,null,null,{"$f":"IFERROR(IF(AND(Tabla2[[#This Row],[Contiene Datos Personales]]=\"SÍ\",OR(Tabla2[[#This Row],[Clasificación Datos Personales]]=\"Sensible\",Tabla2[[#This Row],[Clasificación Datos Personales]]=\"NNA\",Tabla2[[#This Row],[Clasificación Datos Personales]]=\"privado\")),\"Alto\",IF(AND(Tabla2[[#This Row],[Contiene Datos Personales]]=\"SÍ\",Tabla2[[#This Row],[Clasificación Datos Personales]]=\"SEMIPRIVADO\"),\"Medio\",\"Bajo\")),\"\")","v":"Bajo"},null,null,"No Aplica","No Aplica",null,null,null,{"$f":"+IF(Tabla2[[#This Row],[Integridad]]=\"Grave\",0.5,IF(Tabla2[[#This Row],[Integridad]]=\"Importante\",0.3,IF(Tabla2[[#This Row],[Integridad]]=\"Leve\",0.2,\"\")))","v":""},null,{"$f":"+IF(Tabla2[[#This Row],[Disponibilidad Interna]]=\"Sí\",0.1,IF(Tabla2[[#This Row],[Disponibilidad Interna]]=\"NO\",0,\"\"))","v":""},null,{"$f":"+IF(Tabla2[[#This Row],[Disponibilidad Terceros]]=\"Sí\",0.1,IF(Tabla2[[#This Row],[Disponibilidad Terceros]]=\"No\",0,\"\"))","v":""},{"$f":"+Tabla2[[#This Row],[Columna32]]+Tabla2[[#This Row],[Columna34]]+Tabla2[[#This Row],[Columna1]]+Tabla2[[#This Row],[Columna3]]","v":{"$error":"#VALUE!"}},{"$f":"IFERROR(IF(Tabla2[[#This Row],[Columna33]]<0.45,\"BAJA\",IF(Tabla2[[#This Row],[Columna33]]>0.75,\"ALTA\",\"MEDIA\")),\"\")","v":""},"No Aplica",{"$f":"+IF(Tabla2[[#This Row],[Información Publicada (WEB)]]=\"Sí\",\"Digite URL\",\"No Aplica\")","v":"No Aplica"},null,{"$f":"IF(Tabla2[[#This Row],[ Clasificación ICBF]]=\"Pública\",1,IF(Tabla2[[#This Row],[ Clasificación ICBF]]=\"Clasificada\",2,IF(Tabla2[[#This Row],[ Clasificación ICBF]]=\"Reservada\",3,0)))","v":0},{"$f":"IF(#REF!=8,4,IF(#REF!=16,3,IF(#REF!=24,2,IF(#REF!=48,1,0))))","v":{"$error":"#REF!"}},{"$f":"IF(#REF!=8,\"Alto\",IF(#REF!=16,\"Medio\",IF(#REF!=24,\"Medio\",IF(#REF!=48,\"Bajo\",0))))","v":{"$error":"#REF!"}},null,{"$f":"+MID(Tabla2[[#This Row],[Área/Dependencia]],17,8)","v":""}]
["",null,null,null,{"$f":"+VLOOKUP(Tabla2[[#This Row],[SEDE - REGIONAL]],DATOS!B416:D449,3,FALSE)","v":{"$error":"#N/A"}},{"$f":"+IF(OR(Tabla2[[#This Row],[Área/Dependencia]]=\"Subdirección de Sistemas Integrados\",Tabla2[[#This Row],[Área/Dependencia]]=\"Subdirección de Recursos Tecnológicos\"),\"X\",\"\")","v":""},{"$f":"+CONCATENATE(Tabla2[[#This Row],[Tipo de Proceso]],Tabla2[[#This Row],[Columna4]])","v":{"$error":"#N/A"}},null,null,null,null,null,null,null,null,null,null,null,null,null,{"$f":"+IF(Tabla2[[#This Row],[Nivel de acceso ]]=\"Alto\",0.5,IF(Tabla2[[#This Row],[Nivel de acceso ]]=\"Medio\",0.3,IF(Tabla2[[#This Row],[Nivel de acceso ]]=\"Bajo\",0.2,\"\")))","v":""},null,{"$f":"+IF(Tabla2[[#This Row],[Es  Reservada]]=\"Sí\",\"Escriba Ley\",\"No Aplica\")","v":"No Aplica"},null,null,null,null,{"$f":"IFERROR(IF(AND(Tabla2[[#This Row],[Contiene Datos Personales]]=\"SÍ\",OR(Tabla2[[#This Row],[Clasificación Datos Personales]]=\"Sensible\",Tabla2[[#This Row],[Clasificación Datos Personales]]=\"NNA\",Tabla2[[#This Row],[Clasificación Datos Personales]]=\"privado\")),\"Alto\",IF(AND(Tabla2[[#This Row],[Contiene Datos Personales]]=\"SÍ\",Tabla2[[#This Row],[Clasificación Datos Personales]]=\"SEMIPRIVADO\"),\"Medio\",\"Bajo\")),\"\")","v":"Bajo"},null,null,"No Aplica","No Aplica",null,null,null,{"$f":"+IF(Tabla2[[#This Row],[Integridad]]=\"Grave\",0.5,IF(Tabla2[[#This Row],[Integridad]]=\"Importante\",0.3,IF(Tabla2[[#This Row],[Integridad]]=\"Leve\",0.2,\"\")))","v":""},null,{"$f":"+IF(Tabla2[[#This Row],[Disponibilidad Interna]]=\"Sí\",0.1,IF(Tabla2[[#This Row],[Disponibilidad Interna]]=\"NO\",0,\"\"))","v":""},null,{"$f":"+IF(Tabla2[[#This Row],[Disponibilidad Terceros]]=\"Sí\",0.1,IF(Tabla2[[#This Row],[Disponibilidad Terceros]]=\"No\",0,\"\"))","v":""},{"$f":"+Tabla2[[#This Row],[Columna32]]+Tabla2[[#This Row],[Columna34]]+Tabla2[[#This Row],[Columna1]]+Tabla2[[#This Row],[Columna3]]","v":{"$error":"#VALUE!"}},{"$f":"IFERROR(IF(Tabla2[[#This Row],[Columna33]]<0.45,\"BAJA\",IF(Tabla2[[#This Row],[Columna33]]>0.75,\"ALTA\",\"MEDIA\")),\"\")","v":""},"No Aplica",{"$f":"+IF(Tabla2[[#This Row],[Información Publicada (WEB)]]=\"Sí\",\"Digite URL\",\"No Aplica\")","v":"No Aplica"},null,{"$f":"IF(Tabla2[[#This Row],[ Clasificación ICBF]]=\"Pública\",1,IF(Tabla2[[#This Row],[ Clasificación ICBF]]=\"Clasificada\",2,IF(Tabla2[[#This Row],[ Clasificación ICBF]]=\"Reservada\",3,0)))","v":0},{"$f":"IF(#REF!=8,4,IF(#REF!=16,3,IF(#REF!=24,2,IF(#REF!=48,1,0))))","v":{"$error":"#REF!"}},{"$f":"IF(#REF!=8,\"Alto\",IF(#REF!=16,\"Medio\",IF(#REF!=24,\"Medio\",IF(#REF!=48,\"Bajo\",0))))","v":{"$error":"#REF!"}},null,{"$f":"+MID(Tabla2[[#This Row],[Área/Dependencia]],17,8)","v":""}]
["",null,null,null,{"$f":"+VLOOKUP(Tabla2[[#This Row],[SEDE - REGIONAL]],DATOS!B417:D450,3,FALSE)","v":{"$error":"#N/A"}},{"$f":"+IF(OR(Tabla2[[#This Row],[Área/Dependencia]]=\"Subdirección de Sistemas Integrados\",Tabla2[[#This Row],[Área/Dependencia]]=\"Subdirección de Recursos Tecnológicos\"),\"X\",\"\")","v":""},{"$f":"+CONCATENATE(Tabla2[[#This Row],[Tipo de Proceso]],Tabla2[[#This Row],[Columna4]])","v":{"$error":"#N/A"}},null,null,null,null,null,null,null,null,null,null,null,null,null,{"$f":"+IF(Tabla2[[#This Row],[Nivel de acceso ]]=\"Alto\",0.5,IF(Tabla2[[#This Row],[Nivel de acceso ]]=\"Medio\",0.3,IF(Tabla2[[#This Row],[Nivel de acceso ]]=\"Bajo\",0.2,\"\")))","v":""},null,{"$f":"+IF(Tabla2[[#This Row],[Es  Reservada]]=\"Sí\",\"Escriba Ley\",\"No Aplica\")","v":"No Aplica"},null,null,null,null,{"$f":"IFERROR(IF(AND(Tabla2[[#This Row],[Contiene Datos Personales]]=\"SÍ\",OR(Tabla2[[#This Row],[Clasificación Datos Personales]]=\"Sensible\",Tabla2[[#This Row],[Clasificación Datos Personales]]=\"NNA\",Tabla2[[#This Row],[Clasificación Datos Personales]]=\"privado\")),\"Alto\",IF(AND(Tabla2[[#This Row],[Contiene Datos Personales]]=\"SÍ\",Tabla2[[#This Row],[Clasificación Datos Personales]]=\"SEMIPRIVADO\"),\"Medio\",\"Bajo\")),\"\")","v":"Bajo"},null,null,"No Aplica","No Aplica",null,null,null,{"$f":"+IF(Tabla2[[#This Row],[Integridad]]=\"Grave\",0.5,IF(Tabla2[[#This Row],[Integridad]]=\"Importante\",0.3,IF(Tabla2[[#This Row],[Integridad]]=\"Leve\",0.2,\"\")))","v":""},null,{"$f":"+IF(Tabla2[[#This Row],[Disponibilidad Interna]]=\"Sí\",0.1,IF(Tabla2[[#This Row],[Disponibilidad Interna]]=\"NO\",0,\"\"))","v":""},null,{"$f":"+IF(Tabla2[[#This Row],[Disponibilidad Terceros]]=\"Sí\",0.1,IF(Tabla2[[#This Row],[Disponibilidad Terceros]]=\"No\",0,\"\"))","v":""},{"$f":"+Tabla2[[#This Row],[Columna32]]+Tabla2[[#This Row],[Columna34]]+Tabla2[[#This Row],[Columna1]]+Tabla2[[#This Row],[Columna3]]","v":{"$error":"#VALUE!"}},{"$f":"IFERROR(IF(Tabla2[[#This Row],[Columna33]]<0.45,\"BAJA\",IF(Tabla2[[#This Row],[Columna33]]>0.75,\"ALTA\",\"MEDIA\")),\"\")","v":""},"No Aplica",{"$f":"+IF(Tabla2[[#This Row],[Información Publicada (WEB)]]=\"Sí\",\"Digite URL\",\"No Aplica\")","v":"No Aplica"},null,{"$f":"IF(Tabla2[[#This Row],[ Clasificación ICBF]]=\"Pública\",1,IF(Tabla2[[#This Row],[ Clasificación ICBF]]=\"Clasificada\",2,IF(Tabla2[[#This Row],[ Clasificación ICBF]]=\"Reservada\",3,0)))","v":0},{"$f":"IF(#REF!=8,4,IF(#REF!=16,3,IF(#REF!=24,2,IF(#REF!=48,1,0))))","v":{"$error":"#REF!"}},{"$f":"IF(#REF!=8,\"Alto\",IF(#REF!=16,\"Medio\",IF(#REF!=24,\"Medio\",IF(#REF!=48,\"Bajo\",0))))","v":{"$error":"#REF!"}},null,{"$f":"+MID(Tabla2[[#This Row],[Área/Dependencia]],17,8)","v":""}]
["",null,null,null,{"$f":"+VLOOKUP(Tabla2[[#This Row],[SEDE - REGIONAL]],DATOS!B418:D451,3,FALSE)","v":{"$error":"#N/A"}},{"$f":"+IF(OR(Tabla2[[#This Row],[Área/Dependencia]]=\"Subdirección de Sistemas Integrados\",Tabla2[[#This Row],[Área/Dependencia]]=\"Subdirección de Recursos Tecnológicos\"),\"X\",\"\")","v":""},{"$f":"+CONCATENATE(Tabla2[[#This Row],[Tipo de Proceso]],Tabla2[[#This Row],[Columna4]])","v":{"$error":"#N/A"}},null,null,null,null,null,null,null,null,null,null,null,null,null,{"$f":"+IF(Tabla2[[#This Row],[Nivel de acceso ]]=\"Alto\",0.5,IF(Tabla2[[#This Row],[Nivel de acceso ]]=\"Medio\",0.3,IF(Tabla2[[#This Row],[Nivel de acceso ]]=\"Bajo\",0.2,\"\")))","v":""},null,{"$f":"+IF(Tabla2[[#This Row],[Es  Reservada]]=\"Sí\",\"Escriba Ley\",\"No Aplica\")","v":"No Aplica"},null,null,null,null,{"$f":"IFERROR(IF(AND(Tabla2[[#This Row],[Contiene Datos Personales]]=\"SÍ\",OR(Tabla2[[#This Row],[Clasificación Datos Personales]]=\"Sensible\",Tabla2[[#This Row],[Clasificación Datos Personales]]=\"NNA\",Tabla2[[#This Row],[Clasificación Datos Personales]]=\"privado\")),\"Alto\",IF(AND(Tabla2[[#This Row],[Contiene Datos Personales]]=\"SÍ\",Tabla2[[#This Row],[Clasificación Datos Personales]]=\"SEMIPRIVADO\"),\"Medio\",\"Bajo\")),\"\")","v":"Bajo"},null,null,"No Aplica","No Aplica",null,null,null,{"$f":"+IF(Tabla2[[#This Row],[Integridad]]=\"Grave\",0.5,IF(Tabla2[[#This Row],[Integridad]]=\"Importante\",0.3,IF(Tabla2[[#This Row],[Integridad]]=\"Leve\",0.2,\"\")))","v":""},null,{"$f":"+IF(Tabla2[[#This Row],[Disponibilidad Interna]]=\"Sí\",0.1,IF(Tabla2[[#This Row],[Disponibilidad Interna]]=\"NO\",0,\"\"))","v":""},null,{"$f":"+IF(Tabla2[[#This Row],[Disponibilidad Terceros]]=\"Sí\",0.1,IF(Tabla2[[#This Row],[Disponibilidad Terceros]]=\"No\",0,\"\"))","v":""},{"$f":"+Tabla2[[#This Row],[Columna32]]+Tabla2[[#This Row],[Columna34]]+Tabla2[[#This Row],[Columna1]]+Tabla2[[#This Row],[Columna3]]","v":{"$error":"#VALUE!"}},{"$f":"IFERROR(IF(Tabla2[[#This Row],[Columna33]]<0.45,\"BAJA\",IF(Tabla2[[#This Row],[Columna33]]>0.75,\"ALTA\",\"MEDIA\")),\"\")","v":""},"No Aplica",{"$f":"+IF(Tabla2[[#This Row],[Información Publicada (WEB)]]=\"Sí\",\"Digite URL\",\"No Aplica\")","v":"No Aplica"},null,{"$f":"IF(Tabla2[[#This Row],[ Clasificación ICBF]]=\"Pública\",1,IF(Tabla2[[#This Row],[ Clasificación ICBF]]=\"Clasificada\",2,IF(Tabla2[[#This Row],[ Clasificación ICBF]]=\"Reservada\",3,0)))","v":0},{"$f":"IF(#REF!=8,4,IF(#REF!=16,3,IF(#REF!=24,2,IF(#REF!=48,1,0))))","v":{"$error":"#REF!"}},{"$f":"IF(#REF!=8,\"Alto\",IF(#REF!=16,\"Medio\",IF(#REF!=24,\"Medio\",IF(#REF!=48,\"Bajo\",0))))","v":{"$error":"#REF!"}},null,{"$f":"+MID(Tabla2[[#This Row],[Área/Dependencia]],17,8)","v":""}]
["",null,null,null,{"$f":"+VLOOKUP(Tabla2[[#This Row],[SEDE - REGIONAL]],DATOS!B419:D452,3,FALSE)","v":{"$error":"#N/A"}},{"$f":"+IF(OR(Tabla2[[#This Row],[Área/Dependencia]]=\"Subdirección de Sistemas Integrados\",Tabla2[[#This Row],[Área/Dependencia]]=\"Subdirección de Recursos Tecnológicos\"),\"X\",\"\")","v":""},{"$f":"+CONCATENATE(Tabla2[[#This Row],[Tipo de Proceso]],Tabla2[[#This Row],[Columna4]])","v":{"$error":"#N/A"}},null,null,null,null,null,null,null,null,null,null,null,null,null,{"$f":"+IF(Tabla2[[#This Row],[Nivel de acceso ]]=\"Alto\",0.5,IF(Tabla2[[#This Row],[Nivel de acceso ]]=\"Medio\",0.3,IF(Tabla2[[#This Row],[Nivel de acceso ]]=\"Bajo\",0.2,\"\")))","v":""},null,{"$f":"+IF(Tabla2[[#This Row],[Es  Reservada]]=\"Sí\",\"Escriba Ley\",\"No Aplica\")","v":"No Aplica"},null,null,null,null,{"$f":"IFERROR(IF(AND(Tabla2[[#This Row],[Contiene Datos Personales]]=\"SÍ\",OR(Tabla2[[#This Row],[Clasificación Datos Personales]]=\"Sensible\",Tabla2[[#This Row],[Clasificación Datos Personales]]=\"NNA\",Tabla2[[#This Row],[Clasificación Datos Personales]]=\"privado\")),\"Alto\",IF(AND(Tabla2[[#This Row],[Contiene Datos Personales]]=\"SÍ\",Tabla2[[#This Row],[Clasificación Datos Personales]]=\"SEMIPRIVADO\"),\"Medio\",\"Bajo\")),\"\")","v":"Bajo"},null,null,"No Aplica","No Aplica",null,null,null,{"$f":"+IF(Tabla2[[#This Row],[Integridad]]=\"Grave\",0.5,IF(Tabla2[[#This Row],[Integridad]]=\"Importante\",0.3,IF(Tabla2[[#This Row],[Integridad]]=\"Leve\",0.2,\"\")))","v":""},null,{"$f":"+IF(Tabla2[[#This Row],[Disponibilidad Interna]]=\"Sí\",0.1,IF(Tabla2[[#This Row],[Disponibilidad Interna]]=\"NO\",0,\"\"))","v":""},null,{"$f":"+IF(Tabla2[[#This Row],[Disponibilidad Terceros]]=\"Sí\",0.1,IF(Tabla2[[#This Row],[Disponibilidad Terceros]]=\"No\",0,\"\"))","v":""},{"$f":"+Tabla2[[#This Row],[Columna32]]+Tabla2[[#This Row],[Columna34]]+Tabla2[[#This Row],[Columna1]]+Tabla2[[#This Row],[Columna3]]","v":{"$error":"#VALUE!"}},{"$f":"IFERROR(IF(Tabla2[[#This Row],[Columna33]]<0.45,\"BAJA\",IF(Tabla2[[#This Row],[Columna33]]>0.75,\"ALTA\",\"MEDIA\")),\"\")","v":""},"No Aplica",{"$f":"+IF(Tabla2[[#This Row],[Información Publicada (WEB)]]=\"Sí\",\"Digite URL\",\"No Aplica\")","v":"No Aplica"},null,{"$f":"IF(Tabla2[[#This Row],[ Clasificación ICBF]]=\"Pública\",1,IF(Tabla2[[#This Row],[ Clasificación ICBF]]=\"Clasificada\",2,IF(Tabla2[[#This Row],[ Clasificación ICBF]]=\"Reservada\",3,0)))","v":0},{"$f":"IF(#REF!=8,4,IF(#REF!=16,3,IF(#REF!=24,2,IF(#REF!=48,1,0))))","v":{"$error":"#REF!"}},{"$f":"IF(#REF!=8,\"Alto\",IF(#REF!=16,\"Medio\",IF(#REF!=24,\"Medio\",IF(#REF!=48,\"Bajo\",0))))","v":{"$error":"#REF!"}},null,{"$f":"+MID(Tabla2[[#This Row],[Área/Dependencia]],17,8)","v":""}]
["",null,null,null,{"$f":"+VLOOKUP(Tabla2[[#This Row],[SEDE - REGIONAL]],DATOS!B420:D453,3,FALSE)","v":{"$error":"#N/A"}},{"$f":"+IF(OR(Tabla2[[#This Row],[Área/Dependencia]]=\"Subdirección de Sistemas Integrados\",Tabla2[[#This Row],[Área/Dependencia]]=\"Subdirección de Recursos Tecnológicos\"),\"X\",\"\")","v":""},{"$f":"+CONCATENATE(Tabla2[[#This Row],[Tipo de Proceso]],Tabla2[[#This Row],[Columna4]])","v":{"$error":"#N/A"}},null,null,null,null,null,null,null,null,null,null,null,null,null,{"$f":"+IF(Tabla2[[#This Row],[Nivel de acceso ]]=\"Alto\",0.5,IF(Tabla2[[#This Row],[Nivel de acceso ]]=\"Medio\",0.3,IF(Tabla2[[#This Row],[Nivel de acceso ]]=\"Bajo\",0.2,\"\")))","v":""},null,{"$f":"+IF(Tabla2[[#This Row],[Es  Reservada]]=\"Sí\",\"Escriba Ley\",\"No Aplica\")","v":"No Aplica"},null,null,null,null,{"$f":"IFERROR(IF(AND(Tabla2[[#This Row],[Contiene Datos Personales]]=\"SÍ\",OR(Tabla2[[#This Row],[Clasificación Datos Personales]]=\"Sensible\",Tabla2[[#This Row],[Clasificación Datos Personales]]=\"NNA\",Tabla2[[#This Row],[Clasificación Datos Personales]]=\"privado\")),\"Alto\",IF(AND(Tabla2[[#This Row],[Contiene Datos Personales]]=\"SÍ\",Tabla2[[#This Row],[Clasificación Datos Personales]]=\"SEMIPRIVADO\"),\"Medio\",\"Bajo\")),\"\")","v":"Bajo"},null,null,"No Aplica","No Aplica",null,null,null,{"$f":"+IF(Tabla2[[#This Row],[Integridad]]=\"Grave\",0.5,IF(Tabla2[[#This Row],[Integridad]]=\"Importante\",0.3,IF(Tabla2[[#This Row],[Integridad]]=\"Leve\",0.2,\"\")))","v":""},null,{"$f":"+IF(Tabla2[[#This Row],[Disponibilidad Interna]]=\"Sí\",0.1,IF(Tabla2[[#This Row],[Disponibilidad Interna]]=\"NO\",0,\"\"))","v":""},null,{"$f":"+IF(Tabla2[[#This Row],[Disponibilidad Terceros]]=\"Sí\",0.1,IF(Tabla2[[#This Row],[Disponibilidad Terceros]]=\"No\",0,\"\"))","v":""},{"$f":"+Tabla2[[#This Row],[Columna32]]+Tabla2[[#This Row],[Columna34]]+Tabla2[[#This Row],[Columna1]]+Tabla2[[#This Row],[Columna3]]","v":{"$error":"#VALUE!"}},{"$f":"IFERROR(IF(Tabla2[[#This Row],[Columna33]]<0.45,\"BAJA\",IF(Tabla2[[#This Row],[Columna33]]>0.75,\"ALTA\",\"MEDIA\")),\"\")","v":""},"No Aplica",{"$f":"+IF(Tabla2[[#This Row],[Información Publicada (WEB)]]=\"Sí\",\"Digite URL\",\"No Aplica\")","v":"No Aplica"},null,{"$f":"IF(Tabla2[[#This Row],[ Clasificación ICBF]]=\"Pública\",1,IF(Tabla2[[#This Row],[ Clasificación ICBF]]=\"Clasificada\",2,IF(Tabla2[[#This Row],[ Clasificación ICBF]]=\"Reservada\",3,0)))","v":0},{"$f":"IF(#REF!=8,4,IF(#REF!=16,3,IF(#REF!=24,2,IF(#REF!=48,1,0))))","v":{"$error":"#REF!"}},{"$f":"IF(#REF!=8,\"Alto\",IF(#REF!=16,\"Medio\",IF(#REF!=24,\"Medio\",IF(#REF!=48,\"Bajo\",0))))","v":{"$error":"#REF!"}},null,{"$f":"+MID(Tabla2[[#This Row],[Área/Dependencia]],17,8)","v":""}]
["",null,null,null,{"$f":"+VLOOKUP(Tabla2[[#This Row],[SEDE - REGIONAL]],DATOS!B421:D454,3,FALSE)","v":{"$error":"#N/A"}},{"$f":"+IF(OR(Tabla2[[#This Row],[Área/Dependencia]]=\"Subdirección de Sistemas Integrados\",Tabla2[[#This Row],[Área/Dependencia]]=\"Subdirección de Recursos Tecnológicos\"),\"X\",\"\")","v":""},{"$f":"+CONCATENATE(Tabla2[[#This Row],[Tipo de Proceso]],Tabla2[[#This Row],[Columna4]])","v":{"$error":"#N/A"}},null,null,null,null,null,null,null,null,null,null,null,null,null,{"$f":"+IF(Tabla2[[#This Row],[Nivel de acceso ]]=\"Alto\",0.5,IF(Tabla2[[#This Row],[Nivel de acceso ]]=\"Medio\",0.3,IF(Tabla2[[#This Row],[Nivel de acceso ]]=\"Bajo\",0.2,\"\")))","v":""},null,{"$f":"+IF(Tabla2[[#This Row],[Es  Reservada]]=\"Sí\",\"Escriba Ley\",\"No Aplica\")","v":"No Aplica"},null,null,null,null,{"$f":"IFERROR(IF(AND(Tabla2[[#This Row],[Contiene Datos Personales]]=\"SÍ\",OR(Tabla2[[#This Row],[Clasificación Datos Personales]]=\"Sensible\",Tabla2[[#This Row],[Clasificación Datos Personales]]=\"NNA\",Tabla2[[#This Row],[Clasificación Datos Personales]]=\"privado\")),\"Alto\",IF(AND(Tabla2[[#This Row],[Contiene Datos Personales]]=\"SÍ\",Tabla2[[#This Row],[Clasificación Datos Personales]]=\"SEMIPRIVADO\"),\"Medio\",\"Bajo\")),\"\")","v":"Bajo"},null,null,"No Aplica","No Aplica",null,null,null,{"$f":"+IF(Tabla2[[#This Row],[Integridad]]=\"Grave\",0.5,IF(Tabla2[[#This Row],[Integridad]]=\"Importante\",0.3,IF(Tabla2[[#This Row],[Integridad]]=\"Leve\",0.2,\"\")))","v":""},null,{"$f":"+IF(Tabla2[[#This Row],[Disponibilidad Interna]]=\"Sí\",0.1,IF(Tabla2[[#This Row],[Disponibilidad Interna]]=\"NO\",0,\"\"))","v":""},null,{"$f":"+IF(Tabla2[[#This Row],[Disponibilidad Terceros]]=\"Sí\",0.1,IF(Tabla2[[#This Row],[Disponibilidad Terceros]]=\"No\",0,\"\"))","v":""},{"$f":"+Tabla2[[#This Row],[Columna32]]+Tabla2[[#This Row],[Columna34]]+Tabla2[[#This Row],[Columna1]]+Tabla2[[#This Row],[Columna3]]","v":{"$error":"#VALUE!"}},{"$f":"IFERROR(IF(Tabla2[[#This Row],[Columna33]]<0.45,\"BAJA\",IF(Tabla2[[#This Row],[Columna33]]>0.75,\"ALTA\",\"MEDIA\")),\"\")","v":""},"No Aplica",{"$f":"+IF(Tabla2[[#This Row],[Información Publicada (WEB)]]=\"Sí\",\"Digite URL\",\"No Aplica\")","v":"No Aplica"},null,{"$f":"IF(Tabla2[[#This Row],[ Clasificación ICBF]]=\"Pública\",1,IF(Tabla2[[#This Row],[ Clasificación ICBF]]=\"Clasificada\",2,IF(Tabla2[[#This Row],[ Clasificación ICBF]]=\"Reservada\",3,0)))","v":0},{"$f":"IF(#REF!=8,4,IF(#REF!=16,3,IF(#REF!=24,2,IF(#REF!=48,1,0))))","v":{"$error":"#REF!"}},{"$f":"IF(#REF!=8,\"Alto\",IF(#REF!=16,\"Medio\",IF(#REF!=24,\"Medio\",IF(#REF!=48,\"Bajo\",0))))","v":{"$error":"#REF!"}},null,{"$f":"+MID(Tabla2[[#This Row],[Área/Dependencia]],17,8)","v":""}]
["",null,null,null,{"$f":"+VLOOKUP(Tabla2[[#This Row],[SEDE - REGIONAL]],DATOS!B422:D455,3,FALSE)","v":{"$error":"#N/A"}},{"$f":"+IF(OR(Tabla2[[#This Row],[Área/Dependencia]]=\"Subdirección de Sistemas Integrados\",Tabla2[[#This Row],[Área/Dependencia]]=\"Subdirección de Recursos Tecnológicos\"),\"X\",\"\")","v":""},{"$f":"+CONCATENATE(Tabla2[[#This Row],[Tipo de Proceso]],Tabla2[[#This Row],[Columna4]])","v":{"$error":"#N/A"}},null,null,null,null,null,null,null,null,null,null,null,null,null,{"$f":"+IF(Tabla2[[#This Row],[Nivel de acceso ]]=\"Alto\",0.5,IF(Tabla2[[#This Row],[Nivel de acceso ]]=\"Medio\",0.3,IF(Tabla2[[#This Row],[Nivel de acceso ]]=\"Bajo\",0.2,\"\")))","v":""},null,{"$f":"+IF(Tabla2[[#This Row],[Es  Reservada]]=\"Sí\",\"Escriba Ley\",\"No Aplica\")","v":"No Aplica"},null,null,null,null,{"$f":"IFERROR(IF(AND(Tabla2[[#This Row],[Contiene Datos Personales]]=\"SÍ\",OR(Tabla2[[#This Row],[Clasificación Datos Personales]]=\"Sensible\",Tabla2[[#This Row],[Clasificación Datos Personales]]=\"NNA\",Tabla2[[#This Row],[Clasificación Datos Personales]]=\"privado\")),\"Alto\",IF(AND(Tabla2[[#This Row],[Contiene Datos Personales]]=\"SÍ\",Tabla2[[#This Row],[Clasificación Datos Personales]]=\"SEMIPRIVADO\"),\"Medio\",\"Bajo\")),\"\")","v":"Bajo"},null,null,"No Aplica","No Aplica",null,null,null,{"$f":"+IF(Tabla2[[#This Row],[Integridad]]=\"Grave\",0.5,IF(Tabla2[[#This Row],[Integridad]]=\"Importante\",0.3,IF(Tabla2[[#This Row],[Integridad]]=\"Leve\",0.2,\"\")))","v":""},null,{"$f":"+IF(Tabla2[[#This Row],[Disponibilidad Interna]]=\"Sí\",0.1,IF(Tabla2[[#This Row],[Disponibilidad Interna]]=\"NO\",0,\"\"))","v":""},null,{"$f":"+IF(Tabla2[[#This Row],[Disponibilidad Terceros]]=\"Sí\",0.1,IF(Tabla2[[#This Row],[Disponibilidad Terceros]]=\"No\",0,\"\"))","v":""},{"$f":"+Tabla2[[#This Row],[Columna32]]+Tabla2[[#This Row],[Columna34]]+Tabla2[[#This Row],[Columna1]]+Tabla2[[#This Row],[Columna3]]","v":{"$error":"#VALUE!"}},{"$f":"IFERROR(IF(Tabla2[[#This Row],[Columna33]]<0.45,\"BAJA\",IF(Tabla2[[#This Row],[Columna33]]>0.75,\"ALTA\",\"MEDIA\")),\"\")","v":""},"No Aplica",{"$f":"+IF(Tabla2[[#This Row],[Información Publicada (WEB)]]=\"Sí\",\"Digite URL\",\"No Aplica\")","v":"No Aplica"},null,{"$f":"IF(Tabla2[[#This Row],[ Clasificación ICBF]]=\"Pública\",1,IF(Tabla2[[#This Row],[ Clasificación ICBF]]=\"Clasificada\",2,IF(Tabla2[[#This Row],[ Clasificación ICBF]]=\"Reservada\",3,0)))","v":0},{"$f":"IF(#REF!=8,4,IF(#REF!=16,3,IF(#REF!=24,2,IF(#REF!=48,1,0))))","v":{"$error":"#REF!"}},{"$f":"IF(#REF!=8,\"Alto\",IF(#REF!=16,\"Medio\",IF(#REF!=24,\"Medio\",IF(#REF!=48,\"Bajo\",0))))","v":{"$error":"#REF!"}},null,{"$f":"+MID(Tabla2[[#This Row],[Área/Dependencia]],17,8)","v":""}]
["",null,null,null,{"$f":"+VLOOKUP(Tabla2[[#This Row],[SEDE - REGIONAL]],DATOS!B423:D456,3,FALSE)","v":{"$error":"#N/A"}},{"$f":"+IF(OR(Tabla2[[#This Row],[Área/Dependencia]]=\"Subdirección de Sistemas Integrados\",Tabla2[[#This Row],[Área/Dependencia]]=\"Subdirección de Recursos Tecnológicos\"),\"X\",\"\")","v":""},{"$f":"+CONCATENATE(Tabla2[[#This Row],[Tipo de Proceso]],Tabla2[[#This Row],[Columna4]])","v":{"$error":"#N/A"}},null,null,null,null,null,null,null,null,null,null,null,null,null,{"$f":"+IF(Tabla2[[#This Row],[Nivel de acceso ]]=\"Alto\",0.5,IF(Tabla2[[#This Row],[Nivel de acceso ]]=\"Medio\",0.3,IF(Tabla2[[#This Row],[Nivel de acceso ]]=\"Bajo\",0.2,\"\")))","v":""},null,{"$f":"+IF(Tabla2[[#This Row],[Es  Reservada]]=\"Sí\",\"Escriba Ley\",\"No Aplica\")","v":"No Aplica"},null,null,null,null,{"$f":"IFERROR(IF(AND(Tabla2[[#This Row],[Contiene Datos Personales]]=\"SÍ\",OR(Tabla2[[#This Row],[Clasificación Datos Personales]]=\"Sensible\",Tabla2[[#This Row],[Clasificación Datos Personales]]=\"NNA\",Tabla2[[#This Row],[Clasificación Datos Personales]]=\"privado\")),\"Alto\",IF(AND(Tabla2[[#This Row],[Contiene Datos Personales]]=\"SÍ\",Tabla2[[#This Row],[Clasificación Datos Personales]]=\"SEMIPRIVADO\"),\"Medio\",\"Bajo\")),\"\")","v":"Bajo"},null,null,"No Aplica","No Aplica",null,null,null,{"$f":"+IF(Tabla2[[#This Row],[Integridad]]=\"Grave\",0.5,IF(Tabla2[[#This Row],[Integridad]]=\"Importante\",0.3,IF(Tabla2[[#This Row],[Integridad]]=\"Leve\",0.2,\"\")))","v":""},null,{"$f":"+IF(Tabla2[[#This Row],[Disponibilidad Interna]]=\"Sí\",0.1,IF(Tabla2[[#This Row],[Disponibilidad Interna]]=\"NO\",0,\"\"))","v":""},null,{"$f":"+IF(Tabla2[[#This Row],[Disponibilidad Terceros]]=\"Sí\",0.1,IF(Tabla2[[#This Row],[Disponibilidad Terceros]]=\"No\",0,\"\"))","v":""},{"$f":"+Tabla2[[#This Row],[Columna32]]+Tabla2[[#This Row],[Columna34]]+Tabla2[[#This Row],[Columna1]]+Tabla2[[#This Row],[Columna3]]","v":{"$error":"#VALUE!"}},{"$f":"IFERROR(IF(Tabla2[[#This Row],[Columna33]]<0.45,\"BAJA\",IF(Tabla2[[#This Row],[Columna33]]>0.75,\"ALTA\",\"MEDIA\")),\"\")","v":""},"No Aplica",{"$f":"+IF(Tabla2[[#This Row],[Información Publicada (WEB)]]=\"Sí\",\"Digite URL\",\"No Aplica\")","v":"No Aplica"},null,{"$f":"IF(Tabla2[[#This Row],[ Clasificación ICBF]]=\"Pública\",1,IF(Tabla2[[#This Row],[ Clasificación ICBF]]=\"Clasificada\",2,IF(Tabla2[[#This Row],[ Clasificación ICBF]]=\"Reservada\",3,0)))","v":0},{"$f":"IF(#REF!=8,4,IF(#REF!=16,3,IF(#REF!=24,2,IF(#REF!=48,1,0))))","v":{"$error":"#REF!"}},{"$f":"IF(#REF!=8,\"Alto\",IF(#REF!=16,\"Medio\",IF(#REF!=24,\"Medio\",IF(#REF!=48,\"Bajo\",0))))","v":{"$error":"#REF!"}},null,{"$f":"+MID(Tabla2[[#This Row],[Área/Dependencia]],17,8)","v":""}]
["",null,null,null,{"$f":"+VLOOKUP(Tabla2[[#This Row],[SEDE - REGIONAL]],DATOS!B424:D457,3,FALSE)","v":{"$error":"#N/A"}},{"$f":"+IF(OR(Tabla2[[#This Row],[Área/Dependencia]]=\"Subdirección de Sistemas Integrados\",Tabla2[[#This Row],[Área/Dependencia]]=\"Subdirección de Recursos Tecnológicos\"),\"X\",\"\")","v":""},{"$f":"+CONCATENATE(Tabla2[[#This Row],[Tipo de Proceso]],Tabla2[[#This Row],[Columna4]])","v":{"$error":"#N/A"}},null,null,null,null,null,null,null,null,null,null,null,null,null,{"$f":"+IF(Tabla2[[#This Row],[Nivel de acceso ]]=\"Alto\",0.5,IF(Tabla2[[#This Row],[Nivel de acceso ]]=\"Medio\",0.3,IF(Tabla2[[#This Row],[Nivel de acceso ]]=\"Bajo\",0.2,\"\")))","v":""},null,{"$f":"+IF(Tabla2[[#This Row],[Es  Reservada]]=\"Sí\",\"Escriba Ley\",\"No Aplica\")","v":"No Aplica"},null,null,null,null,{"$f":"IFERROR(IF(AND(Tabla2[[#This Row],[Contiene Datos Personales]]=\"SÍ\",OR(Tabla2[[#This Row],[Clasificación Datos Personales]]=\"Sensible\",Tabla2[[#This Row],[Clasificación Datos Personales]]=\"NNA\",Tabla2[[#This Row],[Clasificación Datos Personales]]=\"privado\")),\"Alto\",IF(AND(Tabla2[[#This Row],[Contiene Datos Personales]]=\"SÍ\",Tabla2[[#This Row],[Clasificación Datos Personales]]=\"SEMIPRIVADO\"),\"Medio\",\"Bajo\")),\"\")","v":"Bajo"},null,null,"No Aplica","No Aplica",null,null,null,{"$f":"+IF(Tabla2[[#This Row],[Integridad]]=\"Grave\",0.5,IF(Tabla2[[#This Row],[Integridad]]=\"Importante\",0.3,IF(Tabla2[[#This Row],[Integridad]]=\"Leve\",0.2,\"\")))","v":""},null,{"$f":"+IF(Tabla2[[#This Row],[Disponibilidad Interna]]=\"Sí\",0.1,IF(Tabla2[[#This Row],[Disponibilidad Interna]]=\"NO\",0,\"\"))","v":""},null,{"$f":"+IF(Tabla2[[#This Row],[Disponibilidad Terceros]]=\"Sí\",0.1,IF(Tabla2[[#This Row],[Disponibilidad Terceros]]=\"No\",0,\"\"))","v":""},{"$f":"+Tabla2[[#This Row],[Columna32]]+Tabla2[[#This Row],[Columna34]]+Tabla2[[#This Row],[Columna1]]+Tabla2[[#This Row],[Columna3]]","v":{"$error":"#VALUE!"}},{"$f":"IFERROR(IF(Tabla2[[#This Row],[Columna33]]<0.45,\"BAJA\",IF(Tabla2[[#This Row],[Columna33]]>0.75,\"ALTA\",\"MEDIA\")),\"\")","v":""},"No Aplica",{"$f":"+IF(Tabla2[[#This Row],[Información Publicada (WEB)]]=\"Sí\",\"Digite URL\",\"No Aplica\")","v":"No Aplica"},null,{"$f":"IF(Tabla2[[#This Row],[ Clasificación ICBF]]=\"Pública\",1,IF(Tabla2[[#This Row],[ Clasificación ICBF]]=\"Clasificada\",2,IF(Tabla2[[#This Row],[ Clasificación ICBF]]=\"Reservada\",3,0)))","v":0},{"$f":"IF(#REF!=8,4,IF(#REF!=16,3,IF(#REF!=24,2,IF(#REF!=48,1,0))))","v":{"$error":"#REF!"}},{"$f":"IF(#REF!=8,\"Alto\",IF(#REF!=16,\"Medio\",IF(#REF!=24,\"Medio\",IF(#REF!=48,\"Bajo\",0))))","v":{"$error":"#REF!"}},null,{"$f":"+MID(Tabla2[[#This Row],[Área/Dependencia]],17,8)","v":""}]
["",null,null,null,{"$f":"+VLOOKUP(Tabla2[[#This Row],[SEDE - REGIONAL]],DATOS!B425:D458,3,FALSE)","v":{"$error":"#N/A"}},{"$f":"+IF(OR(Tabla2[[#This Row],[Área/Dependencia]]=\"Subdirección de Sistemas Integrados\",Tabla2[[#This Row],[Área/Dependencia]]=\"Subdirección de Recursos Tecnológicos\"),\"X\",\"\")","v":""},{"$f":"+CONCATENATE(Tabla2[[#This Row],[Tipo de Proceso]],Tabla2[[#This Row],[Columna4]])","v":{"$error":"#N/A"}},null,null,null,null,null,null,null,null,null,null,null,null,null,{"$f":"+IF(Tabla2[[#This Row],[Nivel de acceso ]]=\"Alto\",0.5,IF(Tabla2[[#This Row],[Nivel de acceso ]]=\"Medio\",0.3,IF(Tabla2[[#This Row],[Nivel de acceso ]]=\"Bajo\",0.2,\"\")))","v":""},null,{"$f":"+IF(Tabla2[[#This Row],[Es  Reservada]]=\"Sí\",\"Escriba Ley\",\"No Aplica\")","v":"No Aplica"},null,null,null,null,{"$f":"IFERROR(IF(AND(Tabla2[[#This Row],[Contiene Datos Personales]]=\"SÍ\",OR(Tabla2[[#This Row],[Clasificación Datos Personales]]=\"Sensible\",Tabla2[[#This Row],[Clasificación Datos Personales]]=\"NNA\",Tabla2[[#This Row],[Clasificación Datos Personales]]=\"privado\")),\"Alto\",IF(AND(Tabla2[[#This Row],[Contiene Datos Personales]]=\"SÍ\",Tabla2[[#This Row],[Clasificación Datos Personales]]=\"SEMIPRIVADO\"),\"Medio\",\"Bajo\")),\"\")","v":"Bajo"},null,null,"No Aplica","No Aplica",null,null,null,{"$f":"+IF(Tabla2[[#This Row],[Integridad]]=\"Grave\",0.5,IF(Tabla2[[#This Row],[Integridad]]=\"Importante\",0.3,IF(Tabla2[[#This Row],[Integridad]]=\"Leve\",0.2,\"\")))","v":""},null,{"$f":"+IF(Tabla2[[#This Row],[Disponibilidad Interna]]=\"Sí\",0.1,IF(Tabla2[[#This Row],[Disponibilidad Interna]]=\"NO\",0,\"\"))","v":""},null,{"$f":"+IF(Tabla2[[#This Row],[Disponibilidad Terceros]]=\"Sí\",0.1,IF(Tabla2[[#This Row],[Disponibilidad Terceros]]=\"No\",0,\"\"))","v":""},{"$f":"+Tabla2[[#This Row],[Columna32]]+Tabla2[[#This Row],[Columna34]]+Tabla2[[#This Row],[Columna1]]+Tabla2[[#This Row],[Columna3]]","v":{"$error":"#VALUE!"}},{"$f":"IFERROR(IF(Tabla2[[#This Row],[Columna33]]<0.45,\"BAJA\",IF(Tabla2[[#This Row],[Columna33]]>0.75,\"ALTA\",\"MEDIA\")),\"\")","v":""},"No Aplica",{"$f":"+IF(Tabla2[[#This Row],[Información Publicada (WEB)]]=\"Sí\",\"Digite URL\",\"No Aplica\")","v":"No Aplica"},null,{"$f":"IF(Tabla2[[#This Row],[ Clasificación ICBF]]=\"Pública\",1,IF(Tabla2[[#This Row],[ Clasificación ICBF]]=\"Clasificada\",2,IF(Tabla2[[#This Row],[ Clasificación ICBF]]=\"Reservada\",3,0)))","v":0},{"$f":"IF(#REF!=8,4,IF(#REF!=16,3,IF(#REF!=24,2,IF(#REF!=48,1,0))))","v":{"$error":"#REF!"}},{"$f":"IF(#REF!=8,\"Alto\",IF(#REF!=16,\"Medio\",IF(#REF!=24,\"Medio\",IF(#REF!=48,\"Bajo\",0))))","v":{"$error":"#REF!"}},null,{"$f":"+MID(Tabla2[[#This Row],[Área/Dependencia]],17,8)","v":""}]
["",null,null,null,{"$f":"+VLOOKUP(Tabla2[[#This Row],[SEDE - REGIONAL]],DATOS!B426:D459,3,FALSE)","v":{"$error":"#N/A"}},{"$f":"+IF(OR(Tabla2[[#This Row],[Área/Dependencia]]=\"Subdirección de Sistemas Integrados\",Tabla2[[#This Row],[Área/Dependencia]]=\"Subdirección de Recursos Tecnológicos\"),\"X\",\"\")","v":""},{"$f":"+CONCATENATE(Tabla2[[#This Row],[Tipo de Proceso]],Tabla2[[#This Row],[Columna4]])","v":{"$error":"#N/A"}},null,null,null,null,null,null,null,null,null,null,null,null,null,{"$f":"+IF(Tabla2[[#This Row],[Nivel de acceso ]]=\"Alto\",0.5,IF(Tabla2[[#This Row],[Nivel de acceso ]]=\"Medio\",0.3,IF(Tabla2[[#This Row],[Nivel de acceso ]]=\"Bajo\",0.2,\"\")))","v":""},null,{"$f":"+IF(Tabla2[[#This Row],[Es  Reservada]]=\"Sí\",\"Escriba Ley\",\"No Aplica\")","v":"No Aplica"},null,null,null,null,{"$f":"IFERROR(IF(AND(Tabla2[[#This Row],[Contiene Datos Personales]]=\"SÍ\",OR(Tabla2[[#This Row],[Clasificación Datos Personales]]=\"Sensible\",Tabla2[[#This Row],[Clasificación Datos Personales]]=\"NNA\",Tabla2[[#This Row],[Clasificación Datos Personales]]=\"privado\")),\"Alto\",IF(AND(Tabla2[[#This Row],[Contiene Datos Personales]]=\"SÍ\",Tabla2[[#This Row],[Clasificación Datos Personales]]=\"SEMIPRIVADO\"),\"Medio\",\"Bajo\")),\"\")","v":"Bajo"},null,null,"No Aplica","No Aplica",null,null,null,{"$f":"+IF(Tabla2[[#This Row],[Integridad]]=\"Grave\",0.5,IF(Tabla2[[#This Row],[Integridad]]=\"Importante\",0.3,IF(Tabla2[[#This Row],[Integridad]]=\"Leve\",0.2,\"\")))","v":""},null,{"$f":"+IF(Tabla2[[#This Row],[Disponibilidad Interna]]=\"Sí\",0.1,IF(Tabla2[[#This Row],[Disponibilidad Interna]]=\"NO\",0,\"\"))","v":""},null,{"$f":"+IF(Tabla2[[#This Row],[Disponibilidad Terceros]]=\"Sí\",0.1,IF(Tabla2[[#This Row],[Disponibilidad Terceros]]=\"No\",0,\"\"))","v":""},{"$f":"+Tabla2[[#This Row],[Columna32]]+Tabla2[[#This Row],[Columna34]]+Tabla2[[#This Row],[Columna1]]+Tabla2[[#This Row],[Columna3]]","v":{"$error":"#VALUE!"}},{"$f":"IFERROR(IF(Tabla2[[#This Row],[Columna33]]<0.45,\"BAJA\",IF(Tabla2[[#This Row],[Columna33]]>0.75,\"ALTA\",\"MEDIA\")),\"\")","v":""},"No Aplica",{"$f":"+IF(Tabla2[[#This Row],[Información Publicada (WEB)]]=\"Sí\",\"Digite URL\",\"No Aplica\")","v":"No Aplica"},null,{"$f":"IF(Tabla2[[#This Row],[ Clasificación ICBF]]=\"Pública\",1,IF(Tabla2[[#This Row],[ Clasificación ICBF]]=\"Clasificada\",2,IF(Tabla2[[#This Row],[ Clasificación ICBF]]=\"Reservada\",3,0)))","v":0},{"$f":"IF(#REF!=8,4,IF(#REF!=16,3,IF(#REF!=24,2,IF(#REF!=48,1,0))))","v":{"$error":"#REF!"}},{"$f":"IF(#REF!=8,\"Alto\",IF(#REF!=16,\"Medio\",IF(#REF!=24,\"Medio\",IF(#REF!=48,\"Bajo\",0))))","v":{"$error":"#REF!"}},null,{"$f":"+MID(Tabla2[[#This Row],[Área/Dependencia]],17,8)","v":""}]
["",null,null,null,{"$f":"+VLOOKUP(Tabla2[[#This Row],[SEDE - REGIONAL]],DATOS!B427:D460,3,FALSE)","v":{"$error":"#N/A"}},{"$f":"+IF(OR(Tabla2[[#This Row],[Área/Dependencia]]=\"Subdirección de Sistemas Integrados\",Tabla2[[#This Row],[Área/Dependencia]]=\"Subdirección de Recursos Tecnológicos\"),\"X\",\"\")","v":""},{"$f":"+CONCATENATE(Tabla2[[#This Row],[Tipo de Proceso]],Tabla2[[#This Row],[Columna4]])","v":{"$error":"#N/A"}},null,null,null,null,null,null,null,null,null,null,null,null,null,{"$f":"+IF(Tabla2[[#This Row],[Nivel de acceso ]]=\"Alto\",0.5,IF(Tabla2[[#This Row],[Nivel de acceso ]]=\"Medio\",0.3,IF(Tabla2[[#This Row],[Nivel de acceso ]]=\"Bajo\",0.2,\"\")))","v":""},null,{"$f":"+IF(Tabla2[[#This Row],[Es  Reservada]]=\"Sí\",\"Escriba Ley\",\"No Aplica\")","v":"No Aplica"},null,null,null,null,{"$f":"IFERROR(IF(AND(Tabla2[[#This Row],[Contiene Datos Personales]]=\"SÍ\",OR(Tabla2[[#This Row],[Clasificación Datos Personales]]=\"Sensible\",Tabla2[[#This Row],[Clasificación Datos Personales]]=\"NNA\",Tabla2[[#This Row],[Clasificación Datos Personales]]=\"privado\")),\"Alto\",IF(AND(Tabla2[[#This Row],[Contiene Datos Personales]]=\"SÍ\",Tabla2[[#This Row],[Clasificación Datos Personales]]=\"SEMIPRIVADO\"),\"Medio\",\"Bajo\")),\"\")","v":"Bajo"},null,null,"No Aplica","No Aplica",null,null,null,{"$f":"+IF(Tabla2[[#This Row],[Integridad]]=\"Grave\",0.5,IF(Tabla2[[#This Row],[Integridad]]=\"Importante\",0.3,IF(Tabla2[[#This Row],[Integridad]]=\"Leve\",0.2,\"\")))","v":""},null,{"$f":"+IF(Tabla2[[#This Row],[Disponibilidad Interna]]=\"Sí\",0.1,IF(Tabla2[[#This Row],[Disponibilidad Interna]]=\"NO\",0,\"\"))","v":""},null,{"$f":"+IF(Tabla2[[#This Row],[Disponibilidad Terceros]]=\"Sí\",0.1,IF(Tabla2[[#This Row],[Disponibilidad Terceros]]=\"No\",0,\"\"))","v":""},{"$f":"+Tabla2[[#This Row],[Columna32]]+Tabla2[[#This Row],[Columna34]]+Tabla2[[#This Row],[Columna1]]+Tabla2[[#This Row],[Columna3]]","v":{"$error":"#VALUE!"}},{"$f":"IFERROR(IF(Tabla2[[#This Row],[Columna33]]<0.45,\"BAJA\",IF(Tabla2[[#This Row],[Columna33]]>0.75,\"ALTA\",\"MEDIA\")),\"\")","v":""},"No Aplica",{"$f":"+IF(Tabla2[[#This Row],[Información Publicada (WEB)]]=\"Sí\",\"Digite URL\",\"No Aplica\")","v":"No Aplica"},null,{"$f":"IF(Tabla2[[#This Row],[ Clasificación ICBF]]=\"Pública\",1,IF(Tabla2[[#This Row],[ Clasificación ICBF]]=\"Clasificada\",2,IF(Tabla2[[#This Row],[ Clasificación ICBF]]=\"Reservada\",3,0)))","v":0},{"$f":"IF(#REF!=8,4,IF(#REF!=16,3,IF(#REF!=24,2,IF(#REF!=48,1,0))))","v":{"$error":"#REF!"}},{"$f":"IF(#REF!=8,\"Alto\",IF(#REF!=16,\"Medio\",IF(#REF!=24,\"Medio\",IF(#REF!=48,\"Bajo\",0))))","v":{"$error":"#REF!"}},null,{"$f":"+MID(Tabla2[[#This Row],[Área/Dependencia]],17,8)","v":""}]
["",null,null,null,{"$f":"+VLOOKUP(Tabla2[[#This Row],[SEDE - REGIONAL]],DATOS!B428:D461,3,FALSE)","v":{"$error":"#N/A"}},{"$f":"+IF(OR(Tabla2[[#This Row],[Área/Dependencia]]=\"Subdirección de Sistemas Integrados\",Tabla2[[#This Row],[Área/Dependencia]]=\"Subdirección de Recursos Tecnológicos\"),\"X\",\"\")","v":""},{"$f":"+CONCATENATE(Tabla2[[#This Row],[Tipo de Proceso]],Tabla2[[#This Row],[Columna4]])","v":{"$error":"#N/A"}},null,null,null,null,null,null,null,null,null,null,null,null,null,{"$f":"+IF(Tabla2[[#This Row],[Nivel de acceso ]]=\"Alto\",0.5,IF(Tabla2[[#This Row],[Nivel de acceso ]]=\"Medio\",0.3,IF(Tabla2[[#This Row],[Nivel de acceso ]]=\"Bajo\",0.2,\"\")))","v":""},null,{"$f":"+IF(Tabla2[[#This Row],[Es  Reservada]]=\"Sí\",\"Escriba Ley\",\"No Aplica\")","v":"No Aplica"},null,null,null,null,{"$f":"IFERROR(IF(AND(Tabla2[[#This Row],[Contiene Datos Personales]]=\"SÍ\",OR(Tabla2[[#This Row],[Clasificación Datos Personales]]=\"Sensible\",Tabla2[[#This Row],[Clasificación Datos Personales]]=\"NNA\",Tabla2[[#This Row],[Clasificación Datos Personales]]=\"privado\")),\"Alto\",IF(AND(Tabla2[[#This Row],[Contiene Datos Personales]]=\"SÍ\",Tabla2[[#This Row],[Clasificación Datos Personales]]=\"SEMIPRIVADO\"),\"Medio\",\"Bajo\")),\"\")","v":"Bajo"},null,null,"No Aplica","No Aplica",null,null,null,{"$f":"+IF(Tabla2[[#This Row],[Integridad]]=\"Grave\",0.5,IF(Tabla2[[#This Row],[Integridad]]=\"Importante\",0.3,IF(Tabla2[[#This Row],[Integridad]]=\"Leve\",0.2,\"\")))","v":""},null,{"$f":"+IF(Tabla2[[#This Row],[Disponibilidad Interna]]=\"Sí\",0.1,IF(Tabla2[[#This Row],[Disponibilidad Interna]]=\"NO\",0,\"\"))","v":""},null,{"$f":"+IF(Tabla2[[#This Row],[Disponibilidad Terceros]]=\"Sí\",0.1,IF(Tabla2[[#This Row],[Disponibilidad Terceros]]=\"No\",0,\"\"))","v":""},{"$f":"+Tabla2[[#This Row],[Columna32]]+Tabla2[[#This Row],[Columna34]]+Tabla2[[#This Row],[Columna1]]+Tabla2[[#This Row],[Columna3]]","v":{"$error":"#VALUE!"}},{"$f":"IFERROR(IF(Tabla2[[#This Row],[Columna33]]<0.45,\"BAJA\",IF(Tabla2[[#This Row],[Columna33]]>0.75,\"ALTA\",\"MEDIA\")),\"\")","v":""},"No Aplica",{"$f":"+IF(Tabla2[[#This Row],[Información Publicada (WEB)]]=\"Sí\",\"Digite URL\",\"No Aplica\")","v":"No Aplica"},null,{"$f":"IF(Tabla2[[#This Row],[ Clasificación ICBF]]=\"Pública\",1,IF(Tabla2[[#This Row],[ Clasificación ICBF]]=\"Clasificada\",2,IF(Tabla2[[#This Row],[ Clasificación ICBF]]=\"Reservada\",3,0)))","v":0},{"$f":"IF(#REF!=8,4,IF(#REF!=16,3,IF(#REF!=24,2,IF(#REF!=48,1,0))))","v":{"$error":"#REF!"}},{"$f":"IF(#REF!=8,\"Alto\",IF(#REF!=16,\"Medio\",IF(#REF!=24,\"Medio\",IF(#REF!=48,\"Bajo\",0))))","v":{"$error":"#REF!"}},null,{"$f":"+MID(Tabla2[[#This Row],[Área/Dependencia]],17,8)","v":""}]
["",null,null,null,{"$f":"+VLOOKUP(Tabla2[[#This Row],[SEDE - REGIONAL]],DATOS!B429:D462,3,FALSE)","v":{"$error":"#N/A"}},{"$f":"+IF(OR(Tabla2[[#This Row],[Área/Dependencia]]=\"Subdirección de Sistemas Integrados\",Tabla2[[#This Row],[Área/Dependencia]]=\"Subdirección de Recursos Tecnológicos\"),\"X\",\"\")","v":""},{"$f":"+CONCATENATE(Tabla2[[#This Row],[Tipo de Proceso]],Tabla2[[#This Row],[Columna4]])","v":{"$error":"#N/A"}},null,null,null,null,null,null,null,null,null,null,null,null,null,{"$f":"+IF(Tabla2[[#This Row],[Nivel de acceso ]]=\"Alto\",0.5,IF(Tabla2[[#This Row],[Nivel de acceso ]]=\"Medio\",0.3,IF(Tabla2[[#This Row],[Nivel de acceso ]]=\"Bajo\",0.2,\"\")))","v":""},null,{"$f":"+IF(Tabla2[[#This Row],[Es  Reservada]]=\"Sí\",\"Escriba Ley\",\"No Aplica\")","v":"No Aplica"},null,null,null,null,{"$f":"IFERROR(IF(AND(Tabla2[[#This Row],[Contiene Datos Personales]]=\"SÍ\",OR(Tabla2[[#This Row],[Clasificación Datos Personales]]=\"Sensible\",Tabla2[[#This Row],[Clasificación Datos Personales]]=\"NNA\",Tabla2[[#This Row],[Clasificación Datos Personales]]=\"privado\")),\"Alto\",IF(AND(Tabla2[[#This Row],[Contiene Datos Personales]]=\"SÍ\",Tabla2[[#This Row],[Clasificación Datos Personales]]=\"SEMIPRIVADO\"),\"Medio\",\"Bajo\")),\"\")","v":"Bajo"},null,null,"No Aplica","No Aplica",null,null,null,{"$f":"+IF(Tabla2[[#This Row],[Integridad]]=\"Grave\",0.5,IF(Tabla2[[#This Row],[Integridad]]=\"Importante\",0.3,IF(Tabla2[[#This Row],[Integridad]]=\"Leve\",0.2,\"\")))","v":""},null,{"$f":"+IF(Tabla2[[#This Row],[Disponibilidad Interna]]=\"Sí\",0.1,IF(Tabla2[[#This Row],[Disponibilidad Interna]]=\"NO\",0,\"\"))","v":""},null,{"$f":"+IF(Tabla2[[#This Row],[Disponibilidad Terceros]]=\"Sí\",0.1,IF(Tabla2[[#This Row],[Disponibilidad Terceros]]=\"No\",0,\"\"))","v":""},{"$f":"+Tabla2[[#This Row],[Columna32]]+Tabla2[[#This Row],[Columna34]]+Tabla2[[#This Row],[Columna1]]+Tabla2[[#This Row],[Columna3]]","v":{"$error":"#VALUE!"}},{"$f":"IFERROR(IF(Tabla2[[#This Row],[Columna33]]<0.45,\"BAJA\",IF(Tabla2[[#This Row],[Columna33]]>0.75,\"ALTA\",\"MEDIA\")),\"\")","v":""},"No Aplica",{"$f":"+IF(Tabla2[[#This Row],[Información Publicada (WEB)]]=\"Sí\",\"Digite URL\",\"No Aplica\")","v":"No Aplica"},null,{"$f":"IF(Tabla2[[#This Row],[ Clasificación ICBF]]=\"Pública\",1,IF(Tabla2[[#This Row],[ Clasificación ICBF]]=\"Clasificada\",2,IF(Tabla2[[#This Row],[ Clasificación ICBF]]=\"Reservada\",3,0)))","v":0},{"$f":"IF(#REF!=8,4,IF(#REF!=16,3,IF(#REF!=24,2,IF(#REF!=48,1,0))))","v":{"$error":"#REF!"}},{"$f":"IF(#REF!=8,\"Alto\",IF(#REF!=16,\"Medio\",IF(#REF!=24,\"Medio\",IF(#REF!=48,\"Bajo\",0))))","v":{"$error":"#REF!"}},null,{"$f":"+MID(Tabla2[[#This Row],[Área/Dependencia]],17,8)","v":""}]
["",null,null,null,{"$f":"+VLOOKUP(Tabla2[[#This Row],[SEDE - REGIONAL]],DATOS!B430:D463,3,FALSE)","v":{"$error":"#N/A"}},{"$f":"+IF(OR(Tabla2[[#This Row],[Área/Dependencia]]=\"Subdirección de Sistemas Integrados\",Tabla2[[#This Row],[Área/Dependencia]]=\"Subdirección de Recursos Tecnológicos\"),\"X\",\"\")","v":""},{"$f":"+CONCATENATE(Tabla2[[#This Row],[Tipo de Proceso]],Tabla2[[#This Row],[Columna4]])","v":{"$error":"#N/A"}},null,null,null,null,null,null,null,null,null,null,null,null,null,{"$f":"+IF(Tabla2[[#This Row],[Nivel de acceso ]]=\"Alto\",0.5,IF(Tabla2[[#This Row],[Nivel de acceso ]]=\"Medio\",0.3,IF(Tabla2[[#This Row],[Nivel de acceso ]]=\"Bajo\",0.2,\"\")))","v":""},null,{"$f":"+IF(Tabla2[[#This Row],[Es  Reservada]]=\"Sí\",\"Escriba Ley\",\"No Aplica\")","v":"No Aplica"},null,null,null,null,{"$f":"IFERROR(IF(AND(Tabla2[[#This Row],[Contiene Datos Personales]]=\"SÍ\",OR(Tabla2[[#This Row],[Clasificación Datos Personales]]=\"Sensible\",Tabla2[[#This Row],[Clasificación Datos Personales]]=\"NNA\",Tabla2[[#This Row],[Clasificación Datos Personales]]=\"privado\")),\"Alto\",IF(AND(Tabla2[[#This Row],[Contiene Datos Personales]]=\"SÍ\",Tabla2[[#This Row],[Clasificación Datos Personales]]=\"SEMIPRIVADO\"),\"Medio\",\"Bajo\")),\"\")","v":"Bajo"},null,null,"No Aplica","No Aplica",null,null,null,{"$f":"+IF(Tabla2[[#This Row],[Integridad]]=\"Grave\",0.5,IF(Tabla2[[#This Row],[Integridad]]=\"Importante\",0.3,IF(Tabla2[[#This Row],[Integridad]]=\"Leve\",0.2,\"\")))","v":""},null,{"$f":"+IF(Tabla2[[#This Row],[Disponibilidad Interna]]=\"Sí\",0.1,IF(Tabla2[[#This Row],[Disponibilidad Interna]]=\"NO\",0,\"\"))","v":""},null,{"$f":"+IF(Tabla2[[#This Row],[Disponibilidad Terceros]]=\"Sí\",0.1,IF(Tabla2[[#This Row],[Disponibilidad Terceros]]=\"No\",0,\"\"))","v":""},{"$f":"+Tabla2[[#This Row],[Columna32]]+Tabla2[[#This Row],[Columna34]]+Tabla2[[#This Row],[Columna1]]+Tabla2[[#This Row],[Columna3]]","v":{"$error":"#VALUE!"}},{"$f":"IFERROR(IF(Tabla2[[#This Row],[Columna33]]<0.45,\"BAJA\",IF(Tabla2[[#This Row],[Columna33]]>0.75,\"ALTA\",\"MEDIA\")),\"\")","v":""},"No Aplica",{"$f":"+IF(Tabla2[[#This Row],[Información Publicada (WEB)]]=\"Sí\",\"Digite URL\",\"No Aplica\")","v":"No Aplica"},null,{"$f":"IF(Tabla2[[#This Row],[ Clasificación ICBF]]=\"Pública\",1,IF(Tabla2[[#This Row],[ Clasificación ICBF]]=\"Clasificada\",2,IF(Tabla2[[#This Row],[ Clasificación ICBF]]=\"Reservada\",3,0)))","v":0},{"$f":"IF(#REF!=8,4,IF(#REF!=16,3,IF(#REF!=24,2,IF(#REF!=48,1,0))))","v":{"$error":"#REF!"}},{"$f":"IF(#REF!=8,\"Alto\",IF(#REF!=16,\"Medio\",IF(#REF!=24,\"Medio\",IF(#REF!=48,\"Bajo\",0))))","v":{"$error":"#REF!"}},null,{"$f":"+MID(Tabla2[[#This Row],[Área/Dependencia]],17,8)","v":""}]
["",null,null,null,{"$f":"+VLOOKUP(Tabla2[[#This Row],[SEDE - REGIONAL]],DATOS!B431:D464,3,FALSE)","v":{"$error":"#N/A"}},{"$f":"+IF(OR(Tabla2[[#This Row],[Área/Dependencia]]=\"Subdirección de Sistemas Integrados\",Tabla2[[#This Row],[Área/Dependencia]]=\"Subdirección de Recursos Tecnológicos\"),\"X\",\"\")","v":""},{"$f":"+CONCATENATE(Tabla2[[#This Row],[Tipo de Proceso]],Tabla2[[#This Row],[Columna4]])","v":{"$error":"#N/A"}},null,null,null,null,null,null,null,null,null,null,null,null,null,{"$f":"+IF(Tabla2[[#This Row],[Nivel de acceso ]]=\"Alto\",0.5,IF(Tabla2[[#This Row],[Nivel de acceso ]]=\"Medio\",0.3,IF(Tabla2[[#This Row],[Nivel de acceso ]]=\"Bajo\",0.2,\"\")))","v":""},null,{"$f":"+IF(Tabla2[[#This Row],[Es  Reservada]]=\"Sí\",\"Escriba Ley\",\"No Aplica\")","v":"No Aplica"},null,null,null,null,{"$f":"IFERROR(IF(AND(Tabla2[[#This Row],[Contiene Datos Personales]]=\"SÍ\",OR(Tabla2[[#This Row],[Clasificación Datos Personales]]=\"Sensible\",Tabla2[[#This Row],[Clasificación Datos Personales]]=\"NNA\",Tabla2[[#This Row],[Clasificación Datos Personales]]=\"privado\")),\"Alto\",IF(AND(Tabla2[[#This Row],[Contiene Datos Personales]]=\"SÍ\",Tabla2[[#This Row],[Clasificación Datos Personales]]=\"SEMIPRIVADO\"),\"Medio\",\"Bajo\")),\"\")","v":"Bajo"},null,null,"No Aplica","No Aplica",null,null,null,{"$f":"+IF(Tabla2[[#This Row],[Integridad]]=\"Grave\",0.5,IF(Tabla2[[#This Row],[Integridad]]=\"Importante\",0.3,IF(Tabla2[[#This Row],[Integridad]]=\"Leve\",0.2,\"\")))","v":""},null,{"$f":"+IF(Tabla2[[#This Row],[Disponibilidad Interna]]=\"Sí\",0.1,IF(Tabla2[[#This Row],[Disponibilidad Interna]]=\"NO\",0,\"\"))","v":""},null,{"$f":"+IF(Tabla2[[#This Row],[Disponibilidad Terceros]]=\"Sí\",0.1,IF(Tabla2[[#This Row],[Disponibilidad Terceros]]=\"No\",0,\"\"))","v":""},{"$f":"+Tabla2[[#This Row],[Columna32]]+Tabla2[[#This Row],[Columna34]]+Tabla2[[#This Row],[Columna1]]+Tabla2[[#This Row],[Columna3]]","v":{"$error":"#VALUE!"}},{"$f":"IFERROR(IF(Tabla2[[#This Row],[Columna33]]<0.45,\"BAJA\",IF(Tabla2[[#This Row],[Columna33]]>0.75,\"ALTA\",\"MEDIA\")),\"\")","v":""},"No Aplica",{"$f":"+IF(Tabla2[[#This Row],[Información Publicada (WEB)]]=\"Sí\",\"Digite URL\",\"No Aplica\")","v":"No Aplica"},null,{"$f":"IF(Tabla2[[#This Row],[ Clasificación ICBF]]=\"Pública\",1,IF(Tabla2[[#This Row],[ Clasificación ICBF]]=\"Clasificada\",2,IF(Tabla2[[#This Row],[ Clasificación ICBF]]=\"Reservada\",3,0)))","v":0},{"$f":"IF(#REF!=8,4,IF(#REF!=16,3,IF(#REF!=24,2,IF(#REF!=48,1,0))))","v":{"$error":"#REF!"}},{"$f":"IF(#REF!=8,\"Alto\",IF(#REF!=16,\"Medio\",IF(#REF!=24,\"Medio\",IF(#REF!=48,\"Bajo\",0))))","v":{"$error":"#REF!"}},null,{"$f":"+MID(Tabla2[[#This Row],[Área/Dependencia]],17,8)","v":""}]
["",null,null,null,{"$f":"+VLOOKUP(Tabla2[[#This Row],[SEDE - REGIONAL]],DATOS!B432:D465,3,FALSE)","v":{"$error":"#N/A"}},{"$f":"+IF(OR(Tabla2[[#This Row],[Área/Dependencia]]=\"Subdirección de Sistemas Integrados\",Tabla2[[#This Row],[Área/Dependencia]]=\"Subdirección de Recursos Tecnológicos\"),\"X\",\"\")","v":""},{"$f":"+CONCATENATE(Tabla2[[#This Row],[Tipo de Proceso]],Tabla2[[#This Row],[Columna4]])","v":{"$error":"#N/A"}},null,null,null,null,null,null,null,null,null,null,null,null,null,{"$f":"+IF(Tabla2[[#This Row],[Nivel de acceso ]]=\"Alto\",0.5,IF(Tabla2[[#This Row],[Nivel de acceso ]]=\"Medio\",0.3,IF(Tabla2[[#This Row],[Nivel de acceso ]]=\"Bajo\",0.2,\"\")))","v":""},null,{"$f":"+IF(Tabla2[[#This Row],[Es  Reservada]]=\"Sí\",\"Escriba Ley\",\"No Aplica\")","v":"No Aplica"},null,null,null,null,{"$f":"IFERROR(IF(AND(Tabla2[[#This Row],[Contiene Datos Personales]]=\"SÍ\",OR(Tabla2[[#This Row],[Clasificación Datos Personales]]=\"Sensible\",Tabla2[[#This Row],[Clasificación Datos Personales]]=\"NNA\",Tabla2[[#This Row],[Clasificación Datos Personales]]=\"privado\")),\"Alto\",IF(AND(Tabla2[[#This Row],[Contiene Datos Personales]]=\"SÍ\",Tabla2[[#This Row],[Clasificación Datos Personales]]=\"SEMIPRIVADO\"),\"Medio\",\"Bajo\")),\"\")","v":"Bajo"},null,null,"No Aplica","No Aplica",null,null,null,{"$f":"+IF(Tabla2[[#This Row],[Integridad]]=\"Grave\",0.5,IF(Tabla2[[#This Row],[Integridad]]=\"Importante\",0.3,IF(Tabla2[[#This Row],[Integridad]]=\"Leve\",0.2,\"\")))","v":""},null,{"$f":"+IF(Tabla2[[#This Row],[Disponibilidad Interna]]=\"Sí\",0.1,IF(Tabla2[[#This Row],[Disponibilidad Interna]]=\"NO\",0,\"\"))","v":""},null,{"$f":"+IF(Tabla2[[#This Row],[Disponibilidad Terceros]]=\"Sí\",0.1,IF(Tabla2[[#This Row],[Disponibilidad Terceros]]=\"No\",0,\"\"))","v":""},{"$f":"+Tabla2[[#This Row],[Columna32]]+Tabla2[[#This Row],[Columna34]]+Tabla2[[#This Row],[Columna1]]+Tabla2[[#This Row],[Columna3]]","v":{"$error":"#VALUE!"}},{"$f":"IFERROR(IF(Tabla2[[#This Row],[Columna33]]<0.45,\"BAJA\",IF(Tabla2[[#This Row],[Columna33]]>0.75,\"ALTA\",\"MEDIA\")),\"\")","v":""},"No Aplica",{"$f":"+IF(Tabla2[[#This Row],[Información Publicada (WEB)]]=\"Sí\",\"Digite URL\",\"No Aplica\")","v":"No Aplica"},null,{"$f":"IF(Tabla2[[#This Row],[ Clasificación ICBF]]=\"Pública\",1,IF(Tabla2[[#This Row],[ Clasificación ICBF]]=\"Clasificada\",2,IF(Tabla2[[#This Row],[ Clasificación ICBF]]=\"Reservada\",3,0)))","v":0},{"$f":"IF(#REF!=8,4,IF(#REF!=16,3,IF(#REF!=24,2,IF(#REF!=48,1,0))))","v":{"$error":"#REF!"}},{"$f":"IF(#REF!=8,\"Alto\",IF(#REF!=16,\"Medio\",IF(#REF!=24,\"Medio\",IF(#REF!=48,\"Bajo\",0))))","v":{"$error":"#REF!"}},null,{"$f":"+MID(Tabla2[[#This Row],[Área/Dependencia]],17,8)","v":""}]
["",null,null,null,{"$f":"+VLOOKUP(Tabla2[[#This Row],[SEDE - REGIONAL]],DATOS!B433:D466,3,FALSE)","v":{"$error":"#N/A"}},{"$f":"+IF(OR(Tabla2[[#This Row],[Área/Dependencia]]=\"Subdirección de Sistemas Integrados\",Tabla2[[#This Row],[Área/Dependencia]]=\"Subdirección de Recursos Tecnológicos\"),\"X\",\"\")","v":""},{"$f":"+CONCATENATE(Tabla2[[#This Row],[Tipo de Proceso]],Tabla2[[#This Row],[Columna4]])","v":{"$error":"#N/A"}},null,null,null,null,null,null,null,null,null,null,null,null,null,{"$f":"+IF(Tabla2[[#This Row],[Nivel de acceso ]]=\"Alto\",0.5,IF(Tabla2[[#This Row],[Nivel de acceso ]]=\"Medio\",0.3,IF(Tabla2[[#This Row],[Nivel de acceso ]]=\"Bajo\",0.2,\"\")))","v":""},null,{"$f":"+IF(Tabla2[[#This Row],[Es  Reservada]]=\"Sí\",\"Escriba Ley\",\"No Aplica\")","v":"No Aplica"},null,null,null,null,{"$f":"IFERROR(IF(AND(Tabla2[[#This Row],[Contiene Datos Personales]]=\"SÍ\",OR(Tabla2[[#This Row],[Clasificación Datos Personales]]=\"Sensible\",Tabla2[[#This Row],[Clasificación Datos Personales]]=\"NNA\",Tabla2[[#This Row],[Clasificación Datos Personales]]=\"privado\")),\"Alto\",IF(AND(Tabla2[[#This Row],[Contiene Datos Personales]]=\"SÍ\",Tabla2[[#This Row],[Clasificación Datos Personales]]=\"SEMIPRIVADO\"),\"Medio\",\"Bajo\")),\"\")","v":"Bajo"},null,null,"No Aplica","No Aplica",null,null,null,{"$f":"+IF(Tabla2[[#This Row],[Integridad]]=\"Grave\",0.5,IF(Tabla2[[#This Row],[Integridad]]=\"Importante\",0.3,IF(Tabla2[[#This Row],[Integridad]]=\"Leve\",0.2,\"\")))","v":""},null,{"$f":"+IF(Tabla2[[#This Row],[Disponibilidad Interna]]=\"Sí\",0.1,IF(Tabla2[[#This Row],[Disponibilidad Interna]]=\"NO\",0,\"\"))","v":""},null,{"$f":"+IF(Tabla2[[#This Row],[Disponibilidad Terceros]]=\"Sí\",0.1,IF(Tabla2[[#This Row],[Disponibilidad Terceros]]=\"No\",0,\"\"))","v":""},{"$f":"+Tabla2[[#This Row],[Columna32]]+Tabla2[[#This Row],[Columna34]]+Tabla2[[#This Row],[Columna1]]+Tabla2[[#This Row],[Columna3]]","v":{"$error":"#VALUE!"}},{"$f":"IFERROR(IF(Tabla2[[#This Row],[Columna33]]<0.45,\"BAJA\",IF(Tabla2[[#This Row],[Columna33]]>0.75,\"ALTA\",\"MEDIA\")),\"\")","v":""},"No Aplica",{"$f":"+IF(Tabla2[[#This Row],[Información Publicada (WEB)]]=\"Sí\",\"Digite URL\",\"No Aplica\")","v":"No Aplica"},null,{"$f":"IF(Tabla2[[#This Row],[ Clasificación ICBF]]=\"Pública\",1,IF(Tabla2[[#This Row],[ Clasificación ICBF]]=\"Clasificada\",2,IF(Tabla2[[#This Row],[ Clasificación ICBF]]=\"Reservada\",3,0)))","v":0},{"$f":"IF(#REF!=8,4,IF(#REF!=16,3,IF(#REF!=24,2,IF(#REF!=48,1,0))))","v":{"$error":"#REF!"}},{"$f":"IF(#REF!=8,\"Alto\",IF(#REF!=16,\"Medio\",IF(#REF!=24,\"Medio\",IF(#REF!=48,\"Bajo\",0))))","v":{"$error":"#REF!"}},null,{"$f":"+MID(Tabla2[[#This Row],[Área/Dependencia]],17,8)","v":""}]
["",null,null,null,{"$f":"+VLOOKUP(Tabla2[[#This Row],[SEDE - REGIONAL]],DATOS!B434:D467,3,FALSE)","v":{"$error":"#N/A"}},{"$f":"+IF(OR(Tabla2[[#This Row],[Área/Dependencia]]=\"Subdirección de Sistemas Integrados\",Tabla2[[#This Row],[Área/Dependencia]]=\"Subdirección de Recursos Tecnológicos\"),\"X\",\"\")","v":""},{"$f":"+CONCATENATE(Tabla2[[#This Row],[Tipo de Proceso]],Tabla2[[#This Row],[Columna4]])","v":{"$error":"#N/A"}},null,null,null,null,null,null,null,null,null,null,null,null,null,{"$f":"+IF(Tabla2[[#This Row],[Nivel de acceso ]]=\"Alto\",0.5,IF(Tabla2[[#This Row],[Nivel de acceso ]]=\"Medio\",0.3,IF(Tabla2[[#This Row],[Nivel de acceso ]]=\"Bajo\",0.2,\"\")))","v":""},null,{"$f":"+IF(Tabla2[[#This Row],[Es  Reservada]]=\"Sí\",\"Escriba Ley\",\"No Aplica\")","v":"No Aplica"},null,null,null,null,{"$f":"IFERROR(IF(AND(Tabla2[[#This Row],[Contiene Datos Personales]]=\"SÍ\",OR(Tabla2[[#This Row],[Clasificación Datos Personales]]=\"Sensible\",Tabla2[[#This Row],[Clasificación Datos Personales]]=\"NNA\",Tabla2[[#This Row],[Clasificación Datos Personales]]=\"privado\")),\"Alto\",IF(AND(Tabla2[[#This Row],[Contiene Datos Personales]]=\"SÍ\",Tabla2[[#This Row],[Clasificación Datos Personales]]=\"SEMIPRIVADO\"),\"Medio\",\"Bajo\")),\"\")","v":"Bajo"},null,null,"No Aplica","No Aplica",null,null,null,{"$f":"+IF(Tabla2[[#This Row],[Integridad]]=\"Grave\",0.5,IF(Tabla2[[#This Row],[Integridad]]=\"Importante\",0.3,IF(Tabla2[[#This Row],[Integridad]]=\"Leve\",0.2,\"\")))","v":""},null,{"$f":"+IF(Tabla2[[#This Row],[Disponibilidad Interna]]=\"Sí\",0.1,IF(Tabla2[[#This Row],[Disponibilidad Interna]]=\"NO\",0,\"\"))","v":""},null,{"$f":"+IF(Tabla2[[#This Row],[Disponibilidad Terceros]]=\"Sí\",0.1,IF(Tabla2[[#This Row],[Disponibilidad Terceros]]=\"No\",0,\"\"))","v":""},{"$f":"+Tabla2[[#This Row],[Columna32]]+Tabla2[[#This Row],[Columna34]]+Tabla2[[#This Row],[Columna1]]+Tabla2[[#This Row],[Columna3]]","v":{"$error":"#VALUE!"}},{"$f":"IFERROR(IF(Tabla2[[#This Row],[Columna33]]<0.45,\"BAJA\",IF(Tabla2[[#This Row],[Columna33]]>0.75,\"ALTA\",\"MEDIA\")),\"\")","v":""},"No Aplica",{"$f":"+IF(Tabla2[[#This Row],[Información Publicada (WEB)]]=\"Sí\",\"Digite URL\",\"No Aplica\")","v":"No Aplica"},null,{"$f":"IF(Tabla2[[#This Row],[ Clasificación ICBF]]=\"Pública\",1,IF(Tabla2[[#This Row],[ Clasificación ICBF]]=\"Clasificada\",2,IF(Tabla2[[#This Row],[ Clasificación ICBF]]=\"Reservada\",3,0)))","v":0},{"$f":"IF(#REF!=8,4,IF(#REF!=16,3,IF(#REF!=24,2,IF(#REF!=48,1,0))))","v":{"$error":"#REF!"}},{"$f":"IF(#REF!=8,\"Alto\",IF(#REF!=16,\"Medio\",IF(#REF!=24,\"Medio\",IF(#REF!=48,\"Bajo\",0))))","v":{"$error":"#REF!"}},null,{"$f":"+MID(Tabla2[[#This Row],[Área/Dependencia]],17,8)","v":""}]
["",null,null,null,{"$f":"+VLOOKUP(Tabla2[[#This Row],[SEDE - REGIONAL]],DATOS!B435:D468,3,FALSE)","v":{"$error":"#N/A"}},{"$f":"+IF(OR(Tabla2[[#This Row],[Área/Dependencia]]=\"Subdirección de Sistemas Integrados\",Tabla2[[#This Row],[Área/Dependencia]]=\"Subdirección de Recursos Tecnológicos\"),\"X\",\"\")","v":""},{"$f":"+CONCATENATE(Tabla2[[#This Row],[Tipo de Proceso]],Tabla2[[#This Row],[Columna4]])","v":{"$error":"#N/A"}},null,null,null,null,null,null,null,null,null,null,null,null,null,{"$f":"+IF(Tabla2[[#This Row],[Nivel de acceso ]]=\"Alto\",0.5,IF(Tabla2[[#This Row],[Nivel de acceso ]]=\"Medio\",0.3,IF(Tabla2[[#This Row],[Nivel de acceso ]]=\"Bajo\",0.2,\"\")))","v":""},null,{"$f":"+IF(Tabla2[[#This Row],[Es  Reservada]]=\"Sí\",\"Escriba Ley\",\"No Aplica\")","v":"No Aplica"},null,null,null,null,{"$f":"IFERROR(IF(AND(Tabla2[[#This Row],[Contiene Datos Personales]]=\"SÍ\",OR(Tabla2[[#This Row],[Clasificación Datos Personales]]=\"Sensible\",Tabla2[[#This Row],[Clasificación Datos Personales]]=\"NNA\",Tabla2[[#This Row],[Clasificación Datos Personales]]=\"privado\")),\"Alto\",IF(AND(Tabla2[[#This Row],[Contiene Datos Personales]]=\"SÍ\",Tabla2[[#This Row],[Clasificación Datos Personales]]=\"SEMIPRIVADO\"),\"Medio\",\"Bajo\")),\"\")","v":"Bajo"},null,null,"No Aplica","No Aplica",null,null,null,{"$f":"+IF(Tabla2[[#This Row],[Integridad]]=\"Grave\",0.5,IF(Tabla2[[#This Row],[Integridad]]=\"Importante\",0.3,IF(Tabla2[[#This Row],[Integridad]]=\"Leve\",0.2,\"\")))","v":""},null,{"$f":"+IF(Tabla2[[#This Row],[Disponibilidad Interna]]=\"Sí\",0.1,IF(Tabla2[[#This Row],[Disponibilidad Interna]]=\"NO\",0,\"\"))","v":""},null,{"$f":"+IF(Tabla2[[#This Row],[Disponibilidad Terceros]]=\"Sí\",0.1,IF(Tabla2[[#This Row],[Disponibilidad Terceros]]=\"No\",0,\"\"))","v":""},{"$f":"+Tabla2[[#This Row],[Columna32]]+Tabla2[[#This Row],[Columna34]]+Tabla2[[#This Row],[Columna1]]+Tabla2[[#This Row],[Columna3]]","v":{"$error":"#VALUE!"}},{"$f":"IFERROR(IF(Tabla2[[#This Row],[Columna33]]<0.45,\"BAJA\",IF(Tabla2[[#This Row],[Columna33]]>0.75,\"ALTA\",\"MEDIA\")),\"\")","v":""},"No Aplica",{"$f":"+IF(Tabla2[[#This Row],[Información Publicada (WEB)]]=\"Sí\",\"Digite URL\",\"No Aplica\")","v":"No Aplica"},null,{"$f":"IF(Tabla2[[#This Row],[ Clasificación ICBF]]=\"Pública\",1,IF(Tabla2[[#This Row],[ Clasificación ICBF]]=\"Clasificada\",2,IF(Tabla2[[#This Row],[ Clasificación ICBF]]=\"Reservada\",3,0)))","v":0},{"$f":"IF(#REF!=8,4,IF(#REF!=16,3,IF(#REF!=24,2,IF(#REF!=48,1,0))))","v":{"$error":"#REF!"}},{"$f":"IF(#REF!=8,\"Alto\",IF(#REF!=16,\"Medio\",IF(#REF!=24,\"Medio\",IF(#REF!=48,\"Bajo\",0))))","v":{"$error":"#REF!"}},null,{"$f":"+MID(Tabla2[[#This Row],[Área/Dependencia]],17,8)","v":""}]
["",null,null,null,{"$f":"+VLOOKUP(Tabla2[[#This Row],[SEDE - REGIONAL]],DATOS!B436:D469,3,FALSE)","v":{"$error":"#N/A"}},{"$f":"+IF(OR(Tabla2[[#This Row],[Área/Dependencia]]=\"Subdirección de Sistemas Integrados\",Tabla2[[#This Row],[Área/Dependencia]]=\"Subdirección de Recursos Tecnológicos\"),\"X\",\"\")","v":""},{"$f":"+CONCATENATE(Tabla2[[#This Row],[Tipo de Proceso]],Tabla2[[#This Row],[Columna4]])","v":{"$error":"#N/A"}},null,null,null,null,null,null,null,null,null,null,null,null,null,{"$f":"+IF(Tabla2[[#This Row],[Nivel de acceso ]]=\"Alto\",0.5,IF(Tabla2[[#This Row],[Nivel de acceso ]]=\"Medio\",0.3,IF(Tabla2[[#This Row],[Nivel de acceso ]]=\"Bajo\",0.2,\"\")))","v":""},null,{"$f":"+IF(Tabla2[[#This Row],[Es  Reservada]]=\"Sí\",\"Escriba Ley\",\"No Aplica\")","v":"No Aplica"},null,null,null,null,{"$f":"IFERROR(IF(AND(Tabla2[[#This Row],[Contiene Datos Personales]]=\"SÍ\",OR(Tabla2[[#This Row],[Clasificación Datos Personales]]=\"Sensible\",Tabla2[[#This Row],[Clasificación Datos Personales]]=\"NNA\",Tabla2[[#This Row],[Clasificación Datos Personales]]=\"privado\")),\"Alto\",IF(AND(Tabla2[[#This Row],[Contiene Datos Personales]]=\"SÍ\",Tabla2[[#This Row],[Clasificación Datos Personales]]=\"SEMIPRIVADO\"),\"Medio\",\"Bajo\")),\"\")","v":"Bajo"},null,null,"No Aplica","No Aplica",null,null,null,{"$f":"+IF(Tabla2[[#This Row],[Integridad]]=\"Grave\",0.5,IF(Tabla2[[#This Row],[Integridad]]=\"Importante\",0.3,IF(Tabla2[[#This Row],[Integridad]]=\"Leve\",0.2,\"\")))","v":""},null,{"$f":"+IF(Tabla2[[#This Row],[Disponibilidad Interna]]=\"Sí\",0.1,IF(Tabla2[[#This Row],[Disponibilidad Interna]]=\"NO\",0,\"\"))","v":""},null,{"$f":"+IF(Tabla2[[#This Row],[Disponibilidad Terceros]]=\"Sí\",0.1,IF(Tabla2[[#This Row],[Disponibilidad Terceros]]=\"No\",0,\"\"))","v":""},{"$f":"+Tabla2[[#This Row],[Columna32]]+Tabla2[[#This Row],[Columna34]]+Tabla2[[#This Row],[Columna1]]+Tabla2[[#This Row],[Columna3]]","v":{"$error":"#VALUE!"}},{"$f":"IFERROR(IF(Tabla2[[#This Row],[Columna33]]<0.45,\"BAJA\",IF(Tabla2[[#This Row],[Columna33]]>0.75,\"ALTA\",\"MEDIA\")),\"\")","v":""},"No Aplica",{"$f":"+IF(Tabla2[[#This Row],[Información Publicada (WEB)]]=\"Sí\",\"Digite URL\",\"No Aplica\")","v":"No Aplica"},null,{"$f":"IF(Tabla2[[#This Row],[ Clasificación ICBF]]=\"Pública\",1,IF(Tabla2[[#This Row],[ Clasificación ICBF]]=\"Clasificada\",2,IF(Tabla2[[#This Row],[ Clasificación ICBF]]=\"Reservada\",3,0)))","v":0},{"$f":"IF(#REF!=8,4,IF(#REF!=16,3,IF(#REF!=24,2,IF(#REF!=48,1,0))))","v":{"$error":"#REF!"}},{"$f":"IF(#REF!=8,\"Alto\",IF(#REF!=16,\"Medio\",IF(#REF!=24,\"Medio\",IF(#REF!=48,\"Bajo\",0))))","v":{"$error":"#REF!"}},null,{"$f":"+MID(Tabla2[[#This Row],[Área/Dependencia]],17,8)","v":""}]
["",null,null,null,{"$f":"+VLOOKUP(Tabla2[[#This Row],[SEDE - REGIONAL]],DATOS!B437:D470,3,FALSE)","v":{"$error":"#N/A"}},{"$f":"+IF(OR(Tabla2[[#This Row],[Área/Dependencia]]=\"Subdirección de Sistemas Integrados\",Tabla2[[#This Row],[Área/Dependencia]]=\"Subdirección de Recursos Tecnológicos\"),\"X\",\"\")","v":""},{"$f":"+CONCATENATE(Tabla2[[#This Row],[Tipo de Proceso]],Tabla2[[#This Row],[Columna4]])","v":{"$error":"#N/A"}},null,null,null,null,null,null,null,null,null,null,null,null,null,{"$f":"+IF(Tabla2[[#This Row],[Nivel de acceso ]]=\"Alto\",0.5,IF(Tabla2[[#This Row],[Nivel de acceso ]]=\"Medio\",0.3,IF(Tabla2[[#This Row],[Nivel de acceso ]]=\"Bajo\",0.2,\"\")))","v":""},null,{"$f":"+IF(Tabla2[[#This Row],[Es  Reservada]]=\"Sí\",\"Escriba Ley\",\"No Aplica\")","v":"No Aplica"},null,null,null,null,{"$f":"IFERROR(IF(AND(Tabla2[[#This Row],[Contiene Datos Personales]]=\"SÍ\",OR(Tabla2[[#This Row],[Clasificación Datos Personales]]=\"Sensible\",Tabla2[[#This Row],[Clasificación Datos Personales]]=\"NNA\",Tabla2[[#This Row],[Clasificación Datos Personales]]=\"privado\")),\"Alto\",IF(AND(Tabla2[[#This Row],[Contiene Datos Personales]]=\"SÍ\",Tabla2[[#This Row],[Clasificación Datos Personales]]=\"SEMIPRIVADO\"),\"Medio\",\"Bajo\")),\"\")","v":"Bajo"},null,null,"No Aplica","No Aplica",null,null,null,{"$f":"+IF(Tabla2[[#This Row],[Integridad]]=\"Grave\",0.5,IF(Tabla2[[#This Row],[Integridad]]=\"Importante\",0.3,IF(Tabla2[[#This Row],[Integridad]]=\"Leve\",0.2,\"\")))","v":""},null,{"$f":"+IF(Tabla2[[#This Row],[Disponibilidad Interna]]=\"Sí\",0.1,IF(Tabla2[[#This Row],[Disponibilidad Interna]]=\"NO\",0,\"\"))","v":""},null,{"$f":"+IF(Tabla2[[#This Row],[Disponibilidad Terceros]]=\"Sí\",0.1,IF(Tabla2[[#This Row],[Disponibilidad Terceros]]=\"No\",0,\"\"))","v":""},{"$f":"+Tabla2[[#This Row],[Columna32]]+Tabla2[[#This Row],[Columna34]]+Tabla2[[#This Row],[Columna1]]+Tabla2[[#This Row],[Columna3]]","v":{"$error":"#VALUE!"}},{"$f":"IFERROR(IF(Tabla2[[#This Row],[Columna33]]<0.45,\"BAJA\",IF(Tabla2[[#This Row],[Columna33]]>0.75,\"ALTA\",\"MEDIA\")),\"\")","v":""},"No Aplica",{"$f":"+IF(Tabla2[[#This Row],[Información Publicada (WEB)]]=\"Sí\",\"Digite URL\",\"No Aplica\")","v":"No Aplica"},null,{"$f":"IF(Tabla2[[#This Row],[ Clasificación ICBF]]=\"Pública\",1,IF(Tabla2[[#This Row],[ Clasificación ICBF]]=\"Clasificada\",2,IF(Tabla2[[#This Row],[ Clasificación ICBF]]=\"Reservada\",3,0)))","v":0},{"$f":"IF(#REF!=8,4,IF(#REF!=16,3,IF(#REF!=24,2,IF(#REF!=48,1,0))))","v":{"$error":"#REF!"}},{"$f":"IF(#REF!=8,\"Alto\",IF(#REF!=16,\"Medio\",IF(#REF!=24,\"Medio\",IF(#REF!=48,\"Bajo\",0))))","v":{"$error":"#REF!"}},null,{"$f":"+MID(Tabla2[[#This Row],[Área/Dependencia]],17,8)","v":""}]
["",null,null,null,{"$f":"+VLOOKUP(Tabla2[[#This Row],[SEDE - REGIONAL]],DATOS!B438:D471,3,FALSE)","v":{"$error":"#N/A"}},{"$f":"+IF(OR(Tabla2[[#This Row],[Área/Dependencia]]=\"Subdirección de Sistemas Integrados\",Tabla2[[#This Row],[Área/Dependencia]]=\"Subdirección de Recursos Tecnológicos\"),\"X\",\"\")","v":""},{"$f":"+CONCATENATE(Tabla2[[#This Row],[Tipo de Proceso]],Tabla2[[#This Row],[Columna4]])","v":{"$error":"#N/A"}},null,null,null,null,null,null,null,null,null,null,null,null,null,{"$f":"+IF(Tabla2[[#This Row],[Nivel de acceso ]]=\"Alto\",0.5,IF(Tabla2[[#This Row],[Nivel de acceso ]]=\"Medio\",0.3,IF(Tabla2[[#This Row],[Nivel de acceso ]]=\"Bajo\",0.2,\"\")))","v":""},null,{"$f":"+IF(Tabla2[[#This Row],[Es  Reservada]]=\"Sí\",\"Escriba Ley\",\"No Aplica\")","v":"No Aplica"},null,null,null,null,{"$f":"IFERROR(IF(AND(Tabla2[[#This Row],[Contiene Datos Personales]]=\"SÍ\",OR(Tabla2[[#This Row],[Clasificación Datos Personales]]=\"Sensible\",Tabla2[[#This Row],[Clasificación Datos Personales]]=\"NNA\",Tabla2[[#This Row],[Clasificación Datos Personales]]=\"privado\")),\"Alto\",IF(AND(Tabla2[[#This Row],[Contiene Datos Personales]]=\"SÍ\",Tabla2[[#This Row],[Clasificación Datos Personales]]=\"SEMIPRIVADO\"),\"Medio\",\"Bajo\")),\"\")","v":"Bajo"},null,null,"No Aplica","No Aplica",null,null,null,{"$f":"+IF(Tabla2[[#This Row],[Integridad]]=\"Grave\",0.5,IF(Tabla2[[#This Row],[Integridad]]=\"Importante\",0.3,IF(Tabla2[[#This Row],[Integridad]]=\"Leve\",0.2,\"\")))","v":""},null,{"$f":"+IF(Tabla2[[#This Row],[Disponibilidad Interna]]=\"Sí\",0.1,IF(Tabla2[[#This Row],[Disponibilidad Interna]]=\"NO\",0,\"\"))","v":""},null,{"$f":"+IF(Tabla2[[#This Row],[Disponibilidad Terceros]]=\"Sí\",0.1,IF(Tabla2[[#This Row],[Disponibilidad Terceros]]=\"No\",0,\"\"))","v":""},{"$f":"+Tabla2[[#This Row],[Columna32]]+Tabla2[[#This Row],[Columna34]]+Tabla2[[#This Row],[Columna1]]+Tabla2[[#This Row],[Columna3]]","v":{"$error":"#VALUE!"}},{"$f":"IFERROR(IF(Tabla2[[#This Row],[Columna33]]<0.45,\"BAJA\",IF(Tabla2[[#This Row],[Columna33]]>0.75,\"ALTA\",\"MEDIA\")),\"\")","v":""},"No Aplica",{"$f":"+IF(Tabla2[[#This Row],[Información Publicada (WEB)]]=\"Sí\",\"Digite URL\",\"No Aplica\")","v":"No Aplica"},null,{"$f":"IF(Tabla2[[#This Row],[ Clasificación ICBF]]=\"Pública\",1,IF(Tabla2[[#This Row],[ Clasificación ICBF]]=\"Clasificada\",2,IF(Tabla2[[#This Row],[ Clasificación ICBF]]=\"Reservada\",3,0)))","v":0},{"$f":"IF(#REF!=8,4,IF(#REF!=16,3,IF(#REF!=24,2,IF(#REF!=48,1,0))))","v":{"$error":"#REF!"}},{"$f":"IF(#REF!=8,\"Alto\",IF(#REF!=16,\"Medio\",IF(#REF!=24,\"Medio\",IF(#REF!=48,\"Bajo\",0))))","v":{"$error":"#REF!"}},null,{"$f":"+MID(Tabla2[[#This Row],[Área/Dependencia]],17,8)","v":""}]
["",null,null,null,{"$f":"+VLOOKUP(Tabla2[[#This Row],[SEDE - REGIONAL]],DATOS!B439:D472,3,FALSE)","v":{"$error":"#N/A"}},{"$f":"+IF(OR(Tabla2[[#This Row],[Área/Dependencia]]=\"Subdirección de Sistemas Integrados\",Tabla2[[#This Row],[Área/Dependencia]]=\"Subdirección de Recursos Tecnológicos\"),\"X\",\"\")","v":""},{"$f":"+CONCATENATE(Tabla2[[#This Row],[Tipo de Proceso]],Tabla2[[#This Row],[Columna4]])","v":{"$error":"#N/A"}},null,null,null,null,null,null,null,null,null,null,null,null,null,{"$f":"+IF(Tabla2[[#This Row],[Nivel de acceso ]]=\"Alto\",0.5,IF(Tabla2[[#This Row],[Nivel de acceso ]]=\"Medio\",0.3,IF(Tabla2[[#This Row],[Nivel de acceso ]]=\"Bajo\",0.2,\"\")))","v":""},null,{"$f":"+IF(Tabla2[[#This Row],[Es  Reservada]]=\"Sí\",\"Escriba Ley\",\"No Aplica\")","v":"No Aplica"},null,null,null,null,{"$f":"IFERROR(IF(AND(Tabla2[[#This Row],[Contiene Datos Personales]]=\"SÍ\",OR(Tabla2[[#This Row],[Clasificación Datos Personales]]=\"Sensible\",Tabla2[[#This Row],[Clasificación Datos Personales]]=\"NNA\",Tabla2[[#This Row],[Clasificación Datos Personales]]=\"privado\")),\"Alto\",IF(AND(Tabla2[[#This Row],[Contiene Datos Personales]]=\"SÍ\",Tabla2[[#This Row],[Clasificación Datos Personales]]=\"SEMIPRIVADO\"),\"Medio\",\"Bajo\")),\"\")","v":"Bajo"},null,null,"No Aplica","No Aplica",null,null,null,{"$f":"+IF(Tabla2[[#This Row],[Integridad]]=\"Grave\",0.5,IF(Tabla2[[#This Row],[Integridad]]=\"Importante\",0.3,IF(Tabla2[[#This Row],[Integridad]]=\"Leve\",0.2,\"\")))","v":""},null,{"$f":"+IF(Tabla2[[#This Row],[Disponibilidad Interna]]=\"Sí\",0.1,IF(Tabla2[[#This Row],[Disponibilidad Interna]]=\"NO\",0,\"\"))","v":""},null,{"$f":"+IF(Tabla2[[#This Row],[Disponibilidad Terceros]]=\"Sí\",0.1,IF(Tabla2[[#This Row],[Disponibilidad Terceros]]=\"No\",0,\"\"))","v":""},{"$f":"+Tabla2[[#This Row],[Columna32]]+Tabla2[[#This Row],[Columna34]]+Tabla2[[#This Row],[Columna1]]+Tabla2[[#This Row],[Columna3]]","v":{"$error":"#VALUE!"}},{"$f":"IFERROR(IF(Tabla2[[#This Row],[Columna33]]<0.45,\"BAJA\",IF(Tabla2[[#This Row],[Columna33]]>0.75,\"ALTA\",\"MEDIA\")),\"\")","v":""},"No Aplica",{"$f":"+IF(Tabla2[[#This Row],[Información Publicada (WEB)]]=\"Sí\",\"Digite URL\",\"No Aplica\")","v":"No Aplica"},null,{"$f":"IF(Tabla2[[#This Row],[ Clasificación ICBF]]=\"Pública\",1,IF(Tabla2[[#This Row],[ Clasificación ICBF]]=\"Clasificada\",2,IF(Tabla2[[#This Row],[ Clasificación ICBF]]=\"Reservada\",3,0)))","v":0},{"$f":"IF(#REF!=8,4,IF(#REF!=16,3,IF(#REF!=24,2,IF(#REF!=48,1,0))))","v":{"$error":"#REF!"}},{"$f":"IF(#REF!=8,\"Alto\",IF(#REF!=16,\"Medio\",IF(#REF!=24,\"Medio\",IF(#REF!=48,\"Bajo\",0))))","v":{"$error":"#REF!"}},null,{"$f":"+MID(Tabla2[[#This Row],[Área/Dependencia]],17,8)","v":""}]
["",null,null,null,{"$f":"+VLOOKUP(Tabla2[[#This Row],[SEDE - REGIONAL]],DATOS!B440:D473,3,FALSE)","v":{"$error":"#N/A"}},{"$f":"+IF(OR(Tabla2[[#This Row],[Área/Dependencia]]=\"Subdirección de Sistemas Integrados\",Tabla2[[#This Row],[Área/Dependencia]]=\"Subdirección de Recursos Tecnológicos\"),\"X\",\"\")","v":""},{"$f":"+CONCATENATE(Tabla2[[#This Row],[Tipo de Proceso]],Tabla2[[#This Row],[Columna4]])","v":{"$error":"#N/A"}},null,null,null,null,null,null,null,null,null,null,null,null,null,{"$f":"+IF(Tabla2[[#This Row],[Nivel de acceso ]]=\"Alto\",0.5,IF(Tabla2[[#This Row],[Nivel de acceso ]]=\"Medio\",0.3,IF(Tabla2[[#This Row],[Nivel de acceso ]]=\"Bajo\",0.2,\"\")))","v":""},null,{"$f":"+IF(Tabla2[[#This Row],[Es  Reservada]]=\"Sí\",\"Escriba Ley\",\"No Aplica\")","v":"No Aplica"},null,null,null,null,{"$f":"IFERROR(IF(AND(Tabla2[[#This Row],[Contiene Datos Personales]]=\"SÍ\",OR(Tabla2[[#This Row],[Clasificación Datos Personales]]=\"Sensible\",Tabla2[[#This Row],[Clasificación Datos Personales]]=\"NNA\",Tabla2[[#This Row],[Clasificación Datos Personales]]=\"privado\")),\"Alto\",IF(AND(Tabla2[[#This Row],[Contiene Datos Personales]]=\"SÍ\",Tabla2[[#This Row],[Clasificación Datos Personales]]=\"SEMIPRIVADO\"),\"Medio\",\"Bajo\")),\"\")","v":"Bajo"},null,null,"No Aplica","No Aplica",null,null,null,{"$f":"+IF(Tabla2[[#This Row],[Integridad]]=\"Grave\",0.5,IF(Tabla2[[#This Row],[Integridad]]=\"Importante\",0.3,IF(Tabla2[[#This Row],[Integridad]]=\"Leve\",0.2,\"\")))","v":""},null,{"$f":"+IF(Tabla2[[#This Row],[Disponibilidad Interna]]=\"Sí\",0.1,IF(Tabla2[[#This Row],[Disponibilidad Interna]]=\"NO\",0,\"\"))","v":""},null,{"$f":"+IF(Tabla2[[#This Row],[Disponibilidad Terceros]]=\"Sí\",0.1,IF(Tabla2[[#This Row],[Disponibilidad Terceros]]=\"No\",0,\"\"))","v":""},{"$f":"+Tabla2[[#This Row],[Columna32]]+Tabla2[[#This Row],[Columna34]]+Tabla2[[#This Row],[Columna1]]+Tabla2[[#This Row],[Columna3]]","v":{"$error":"#VALUE!"}},{"$f":"IFERROR(IF(Tabla2[[#This Row],[Columna33]]<0.45,\"BAJA\",IF(Tabla2[[#This Row],[Columna33]]>0.75,\"ALTA\",\"MEDIA\")),\"\")","v":""},"No Aplica",{"$f":"+IF(Tabla2[[#This Row],[Información Publicada (WEB)]]=\"Sí\",\"Digite URL\",\"No Aplica\")","v":"No Aplica"},null,{"$f":"IF(Tabla2[[#This Row],[ Clasificación ICBF]]=\"Pública\",1,IF(Tabla2[[#This Row],[ Clasificación ICBF]]=\"Clasificada\",2,IF(Tabla2[[#This Row],[ Clasificación ICBF]]=\"Reservada\",3,0)))","v":0},{"$f":"IF(#REF!=8,4,IF(#REF!=16,3,IF(#REF!=24,2,IF(#REF!=48,1,0))))","v":{"$error":"#REF!"}},{"$f":"IF(#REF!=8,\"Alto\",IF(#REF!=16,\"Medio\",IF(#REF!=24,\"Medio\",IF(#REF!=48,\"Bajo\",0))))","v":{"$error":"#REF!"}},null,{"$f":"+MID(Tabla2[[#This Row],[Área/Dependencia]],17,8)","v":""}]
["",null,null,null,{"$f":"+VLOOKUP(Tabla2[[#This Row],[SEDE - REGIONAL]],DATOS!B441:D474,3,FALSE)","v":{"$error":"#N/A"}},{"$f":"+IF(OR(Tabla2[[#This Row],[Área/Dependencia]]=\"Subdirección de Sistemas Integrados\",Tabla2[[#This Row],[Área/Dependencia]]=\"Subdirección de Recursos Tecnológicos\"),\"X\",\"\")","v":""},{"$f":"+CONCATENATE(Tabla2[[#This Row],[Tipo de Proceso]],Tabla2[[#This Row],[Columna4]])","v":{"$error":"#N/A"}},null,null,null,null,null,null,null,null,null,null,null,null,null,{"$f":"+IF(Tabla2[[#This Row],[Nivel de acceso ]]=\"Alto\",0.5,IF(Tabla2[[#This Row],[Nivel de acceso ]]=\"Medio\",0.3,IF(Tabla2[[#This Row],[Nivel de acceso ]]=\"Bajo\",0.2,\"\")))","v":""},null,{"$f":"+IF(Tabla2[[#This Row],[Es  Reservada]]=\"Sí\",\"Escriba Ley\",\"No Aplica\")","v":"No Aplica"},null,null,null,null,{"$f":"IFERROR(IF(AND(Tabla2[[#This Row],[Contiene Datos Personales]]=\"SÍ\",OR(Tabla2[[#This Row],[Clasificación Datos Personales]]=\"Sensible\",Tabla2[[#This Row],[Clasificación Datos Personales]]=\"NNA\",Tabla2[[#This Row],[Clasificación Datos Personales]]=\"privado\")),\"Alto\",IF(AND(Tabla2[[#This Row],[Contiene Datos Personales]]=\"SÍ\",Tabla2[[#This Row],[Clasificación Datos Personales]]=\"SEMIPRIVADO\"),\"Medio\",\"Bajo\")),\"\")","v":"Bajo"},null,null,"No Aplica","No Aplica",null,null,null,{"$f":"+IF(Tabla2[[#This Row],[Integridad]]=\"Grave\",0.5,IF(Tabla2[[#This Row],[Integridad]]=\"Importante\",0.3,IF(Tabla2[[#This Row],[Integridad]]=\"Leve\",0.2,\"\")))","v":""},null,{"$f":"+IF(Tabla2[[#This Row],[Disponibilidad Interna]]=\"Sí\",0.1,IF(Tabla2[[#This Row],[Disponibilidad Interna]]=\"NO\",0,\"\"))","v":""},null,{"$f":"+IF(Tabla2[[#This Row],[Disponibilidad Terceros]]=\"Sí\",0.1,IF(Tabla2[[#This Row],[Disponibilidad Terceros]]=\"No\",0,\"\"))","v":""},{"$f":"+Tabla2[[#This Row],[Columna32]]+Tabla2[[#This Row],[Columna34]]+Tabla2[[#This Row],[Columna1]]+Tabla2[[#This Row],[Columna3]]","v":{"$error":"#VALUE!"}},{"$f":"IFERROR(IF(Tabla2[[#This Row],[Columna33]]<0.45,\"BAJA\",IF(Tabla2[[#This Row],[Columna33]]>0.75,\"ALTA\",\"MEDIA\")),\"\")","v":""},"No Aplica",{"$f":"+IF(Tabla2[[#This Row],[Información Publicada (WEB)]]=\"Sí\",\"Digite URL\",\"No Aplica\")","v":"No Aplica"},null,{"$f":"IF(Tabla2[[#This Row],[ Clasificación ICBF]]=\"Pública\",1,IF(Tabla2[[#This Row],[ Clasificación ICBF]]=\"Clasificada\",2,IF(Tabla2[[#This Row],[ Clasificación ICBF]]=\"Reservada\",3,0)))","v":0},{"$f":"IF(#REF!=8,4,IF(#REF!=16,3,IF(#REF!=24,2,IF(#REF!=48,1,0))))","v":{"$error":"#REF!"}},{"$f":"IF(#REF!=8,\"Alto\",IF(#REF!=16,\"Medio\",IF(#REF!=24,\"Medio\",IF(#REF!=48,\"Bajo\",0))))","v":{"$error":"#REF!"}},null,{"$f":"+MID(Tabla2[[#This Row],[Área/Dependencia]],17,8)","v":""}]
["",null,null,null,{"$f":"+VLOOKUP(Tabla2[[#This Row],[SEDE - REGIONAL]],DATOS!B442:D475,3,FALSE)","v":{"$error":"#N/A"}},{"$f":"+IF(OR(Tabla2[[#This Row],[Área/Dependencia]]=\"Subdirección de Sistemas Integrados\",Tabla2[[#This Row],[Área/Dependencia]]=\"Subdirección de Recursos Tecnológicos\"),\"X\",\"\")","v":""},{"$f":"+CONCATENATE(Tabla2[[#This Row],[Tipo de Proceso]],Tabla2[[#This Row],[Columna4]])","v":{"$error":"#N/A"}},null,null,null,null,null,null,null,null,null,null,null,null,null,{"$f":"+IF(Tabla2[[#This Row],[Nivel de acceso ]]=\"Alto\",0.5,IF(Tabla2[[#This Row],[Nivel de acceso ]]=\"Medio\",0.3,IF(Tabla2[[#This Row],[Nivel de acceso ]]=\"Bajo\",0.2,\"\")))","v":""},null,{"$f":"+IF(Tabla2[[#This Row],[Es  Reservada]]=\"Sí\",\"Escriba Ley\",\"No Aplica\")","v":"No Aplica"},null,null,null,null,{"$f":"IFERROR(IF(AND(Tabla2[[#This Row],[Contiene Datos Personales]]=\"SÍ\",OR(Tabla2[[#This Row],[Clasificación Datos Personales]]=\"Sensible\",Tabla2[[#This Row],[Clasificación Datos Personales]]=\"NNA\",Tabla2[[#This Row],[Clasificación Datos Personales]]=\"privado\")),\"Alto\",IF(AND(Tabla2[[#This Row],[Contiene Datos Personales]]=\"SÍ\",Tabla2[[#This Row],[Clasificación Datos Personales]]=\"SEMIPRIVADO\"),\"Medio\",\"Bajo\")),\"\")","v":"Bajo"},null,null,"No Aplica","No Aplica",null,null,null,{"$f":"+IF(Tabla2[[#This Row],[Integridad]]=\"Grave\",0.5,IF(Tabla2[[#This Row],[Integridad]]=\"Importante\",0.3,IF(Tabla2[[#This Row],[Integridad]]=\"Leve\",0.2,\"\")))","v":""},null,{"$f":"+IF(Tabla2[[#This Row],[Disponibilidad Interna]]=\"Sí\",0.1,IF(Tabla2[[#This Row],[Disponibilidad Interna]]=\"NO\",0,\"\"))","v":""},null,{"$f":"+IF(Tabla2[[#This Row],[Disponibilidad Terceros]]=\"Sí\",0.1,IF(Tabla2[[#This Row],[Disponibilidad Terceros]]=\"No\",0,\"\"))","v":""},{"$f":"+Tabla2[[#This Row],[Columna32]]+Tabla2[[#This Row],[Columna34]]+Tabla2[[#This Row],[Columna1]]+Tabla2[[#This Row],[Columna3]]","v":{"$error":"#VALUE!"}},{"$f":"IFERROR(IF(Tabla2[[#This Row],[Columna33]]<0.45,\"BAJA\",IF(Tabla2[[#This Row],[Columna33]]>0.75,\"ALTA\",\"MEDIA\")),\"\")","v":""},"No Aplica",{"$f":"+IF(Tabla2[[#This Row],[Información Publicada (WEB)]]=\"Sí\",\"Digite URL\",\"No Aplica\")","v":"No Aplica"},null,{"$f":"IF(Tabla2[[#This Row],[ Clasificación ICBF]]=\"Pública\",1,IF(Tabla2[[#This Row],[ Clasificación ICBF]]=\"Clasificada\",2,IF(Tabla2[[#This Row],[ Clasificación ICBF]]=\"Reservada\",3,0)))","v":0},{"$f":"IF(#REF!=8,4,IF(#REF!=16,3,IF(#REF!=24,2,IF(#REF!=48,1,0))))","v":{"$error":"#REF!"}},{"$f":"IF(#REF!=8,\"Alto\",IF(#REF!=16,\"Medio\",IF(#REF!=24,\"Medio\",IF(#REF!=48,\"Bajo\",0))))","v":{"$error":"#REF!"}},null,{"$f":"+MID(Tabla2[[#This Row],[Área/Dependencia]],17,8)","v":""}]
["",null,null,null,{"$f":"+VLOOKUP(Tabla2[[#This Row],[SEDE - REGIONAL]],DATOS!B443:D476,3,FALSE)","v":{"$error":"#N/A"}},{"$f":"+IF(OR(Tabla2[[#This Row],[Área/Dependencia]]=\"Subdirección de Sistemas Integrados\",Tabla2[[#This Row],[Área/Dependencia]]=\"Subdirección de Recursos Tecnológicos\"),\"X\",\"\")","v":""},{"$f":"+CONCATENATE(Tabla2[[#This Row],[Tipo de Proceso]],Tabla2[[#This Row],[Columna4]])","v":{"$error":"#N/A"}},null,null,null,null,null,null,null,null,null,null,null,null,null,{"$f":"+IF(Tabla2[[#This Row],[Nivel de acceso ]]=\"Alto\",0.5,IF(Tabla2[[#This Row],[Nivel de acceso ]]=\"Medio\",0.3,IF(Tabla2[[#This Row],[Nivel de acceso ]]=\"Bajo\",0.2,\"\")))","v":""},null,{"$f":"+IF(Tabla2[[#This Row],[Es  Reservada]]=\"Sí\",\"Escriba Ley\",\"No Aplica\")","v":"No Aplica"},null,null,null,null,{"$f":"IFERROR(IF(AND(Tabla2[[#This Row],[Contiene Datos Personales]]=\"SÍ\",OR(Tabla2[[#This Row],[Clasificación Datos Personales]]=\"Sensible\",Tabla2[[#This Row],[Clasificación Datos Personales]]=\"NNA\",Tabla2[[#This Row],[Clasificación Datos Personales]]=\"privado\")),\"Alto\",IF(AND(Tabla2[[#This Row],[Contiene Datos Personales]]=\"SÍ\",Tabla2[[#This Row],[Clasificación Datos Personales]]=\"SEMIPRIVADO\"),\"Medio\",\"Bajo\")),\"\")","v":"Bajo"},null,null,"No Aplica","No Aplica",null,null,null,{"$f":"+IF(Tabla2[[#This Row],[Integridad]]=\"Grave\",0.5,IF(Tabla2[[#This Row],[Integridad]]=\"Importante\",0.3,IF(Tabla2[[#This Row],[Integridad]]=\"Leve\",0.2,\"\")))","v":""},null,{"$f":"+IF(Tabla2[[#This Row],[Disponibilidad Interna]]=\"Sí\",0.1,IF(Tabla2[[#This Row],[Disponibilidad Interna]]=\"NO\",0,\"\"))","v":""},null,{"$f":"+IF(Tabla2[[#This Row],[Disponibilidad Terceros]]=\"Sí\",0.1,IF(Tabla2[[#This Row],[Disponibilidad Terceros]]=\"No\",0,\"\"))","v":""},{"$f":"+Tabla2[[#This Row],[Columna32]]+Tabla2[[#This Row],[Columna34]]+Tabla2[[#This Row],[Columna1]]+Tabla2[[#This Row],[Columna3]]","v":{"$error":"#VALUE!"}},{"$f":"IFERROR(IF(Tabla2[[#This Row],[Columna33]]<0.45,\"BAJA\",IF(Tabla2[[#This Row],[Columna33]]>0.75,\"ALTA\",\"MEDIA\")),\"\")","v":""},"No Aplica",{"$f":"+IF(Tabla2[[#This Row],[Información Publicada (WEB)]]=\"Sí\",\"Digite URL\",\"No Aplica\")","v":"No Aplica"},null,{"$f":"IF(Tabla2[[#This Row],[ Clasificación ICBF]]=\"Pública\",1,IF(Tabla2[[#This Row],[ Clasificación ICBF]]=\"Clasificada\",2,IF(Tabla2[[#This Row],[ Clasificación ICBF]]=\"Reservada\",3,0)))","v":0},{"$f":"IF(#REF!=8,4,IF(#REF!=16,3,IF(#REF!=24,2,IF(#REF!=48,1,0))))","v":{"$error":"#REF!"}},{"$f":"IF(#REF!=8,\"Alto\",IF(#REF!=16,\"Medio\",IF(#REF!=24,\"Medio\",IF(#REF!=48,\"Bajo\",0))))","v":{"$error":"#REF!"}},null,{"$f":"+MID(Tabla2[[#This Row],[Área/Dependencia]],17,8)","v":""}]
["",null,null,null,{"$f":"+VLOOKUP(Tabla2[[#This Row],[SEDE - REGIONAL]],DATOS!B444:D477,3,FALSE)","v":{"$error":"#N/A"}},{"$f":"+IF(OR(Tabla2[[#This Row],[Área/Dependencia]]=\"Subdirección de Sistemas Integrados\",Tabla2[[#This Row],[Área/Dependencia]]=\"Subdirección de Recursos Tecnológicos\"),\"X\",\"\")","v":""},{"$f":"+CONCATENATE(Tabla2[[#This Row],[Tipo de Proceso]],Tabla2[[#This Row],[Columna4]])","v":{"$error":"#N/A"}},null,null,null,null,null,null,null,null,null,null,null,null,null,{"$f":"+IF(Tabla2[[#This Row],[Nivel de acceso ]]=\"Alto\",0.5,IF(Tabla2[[#This Row],[Nivel de acceso ]]=\"Medio\",0.3,IF(Tabla2[[#This Row],[Nivel de acceso ]]=\"Bajo\",0.2,\"\")))","v":""},null,{"$f":"+IF(Tabla2[[#This Row],[Es  Reservada]]=\"Sí\",\"Escriba Ley\",\"No Aplica\")","v":"No Aplica"},null,null,null,null,{"$f":"IFERROR(IF(AND(Tabla2[[#This Row],[Contiene Datos Personales]]=\"SÍ\",OR(Tabla2[[#This Row],[Clasificación Datos Personales]]=\"Sensible\",Tabla2[[#This Row],[Clasificación Datos Personales]]=\"NNA\",Tabla2[[#This Row],[Clasificación Datos Personales]]=\"privado\")),\"Alto\",IF(AND(Tabla2[[#This Row],[Contiene Datos Personales]]=\"SÍ\",Tabla2[[#This Row],[Clasificación Datos Personales]]=\"SEMIPRIVADO\"),\"Medio\",\"Bajo\")),\"\")","v":"Bajo"},null,null,"No Aplica","No Aplica",null,null,null,{"$f":"+IF(Tabla2[[#This Row],[Integridad]]=\"Grave\",0.5,IF(Tabla2[[#This Row],[Integridad]]=\"Importante\",0.3,IF(Tabla2[[#This Row],[Integridad]]=\"Leve\",0.2,\"\")))","v":""},null,{"$f":"+IF(Tabla2[[#This Row],[Disponibilidad Interna]]=\"Sí\",0.1,IF(Tabla2[[#This Row],[Disponibilidad Interna]]=\"NO\",0,\"\"))","v":""},null,{"$f":"+IF(Tabla2[[#This Row],[Disponibilidad Terceros]]=\"Sí\",0.1,IF(Tabla2[[#This Row],[Disponibilidad Terceros]]=\"No\",0,\"\"))","v":""},{"$f":"+Tabla2[[#This Row],[Columna32]]+Tabla2[[#This Row],[Columna34]]+Tabla2[[#This Row],[Columna1]]+Tabla2[[#This Row],[Columna3]]","v":{"$error":"#VALUE!"}},{"$f":"IFERROR(IF(Tabla2[[#This Row],[Columna33]]<0.45,\"BAJA\",IF(Tabla2[[#This Row],[Columna33]]>0.75,\"ALTA\",\"MEDIA\")),\"\")","v":""},"No Aplica",{"$f":"+IF(Tabla2[[#This Row],[Información Publicada (WEB)]]=\"Sí\",\"Digite URL\",\"No Aplica\")","v":"No Aplica"},null,{"$f":"IF(Tabla2[[#This Row],[ Clasificación ICBF]]=\"Pública\",1,IF(Tabla2[[#This Row],[ Clasificación ICBF]]=\"Clasificada\",2,IF(Tabla2[[#This Row],[ Clasificación ICBF]]=\"Reservada\",3,0)))","v":0},{"$f":"IF(#REF!=8,4,IF(#REF!=16,3,IF(#REF!=24,2,IF(#REF!=48,1,0))))","v":{"$error":"#REF!"}},{"$f":"IF(#REF!=8,\"Alto\",IF(#REF!=16,\"Medio\",IF(#REF!=24,\"Medio\",IF(#REF!=48,\"Bajo\",0))))","v":{"$error":"#REF!"}},null,{"$f":"+MID(Tabla2[[#This Row],[Área/Dependencia]],17,8)","v":""}]
["",null,null,null,{"$f":"+VLOOKUP(Tabla2[[#This Row],[SEDE - REGIONAL]],DATOS!B445:D478,3,FALSE)","v":{"$error":"#N/A"}},{"$f":"+IF(OR(Tabla2[[#This Row],[Área/Dependencia]]=\"Subdirección de Sistemas Integrados\",Tabla2[[#This Row],[Área/Dependencia]]=\"Subdirección de Recursos Tecnológicos\"),\"X\",\"\")","v":""},{"$f":"+CONCATENATE(Tabla2[[#This Row],[Tipo de Proceso]],Tabla2[[#This Row],[Columna4]])","v":{"$error":"#N/A"}},null,null,null,null,null,null,null,null,null,null,null,null,null,{"$f":"+IF(Tabla2[[#This Row],[Nivel de acceso ]]=\"Alto\",0.5,IF(Tabla2[[#This Row],[Nivel de acceso ]]=\"Medio\",0.3,IF(Tabla2[[#This Row],[Nivel de acceso ]]=\"Bajo\",0.2,\"\")))","v":""},null,{"$f":"+IF(Tabla2[[#This Row],[Es  Reservada]]=\"Sí\",\"Escriba Ley\",\"No Aplica\")","v":"No Aplica"},null,null,null,null,{"$f":"IFERROR(IF(AND(Tabla2[[#This Row],[Contiene Datos Personales]]=\"SÍ\",OR(Tabla2[[#This Row],[Clasificación Datos Personales]]=\"Sensible\",Tabla2[[#This Row],[Clasificación Datos Personales]]=\"NNA\",Tabla2[[#This Row],[Clasificación Datos Personales]]=\"privado\")),\"Alto\",IF(AND(Tabla2[[#This Row],[Contiene Datos Personales]]=\"SÍ\",Tabla2[[#This Row],[Clasificación Datos Personales]]=\"SEMIPRIVADO\"),\"Medio\",\"Bajo\")),\"\")","v":"Bajo"},null,null,"No Aplica","No Aplica",null,null,null,{"$f":"+IF(Tabla2[[#This Row],[Integridad]]=\"Grave\",0.5,IF(Tabla2[[#This Row],[Integridad]]=\"Importante\",0.3,IF(Tabla2[[#This Row],[Integridad]]=\"Leve\",0.2,\"\")))","v":""},null,{"$f":"+IF(Tabla2[[#This Row],[Disponibilidad Interna]]=\"Sí\",0.1,IF(Tabla2[[#This Row],[Disponibilidad Interna]]=\"NO\",0,\"\"))","v":""},null,{"$f":"+IF(Tabla2[[#This Row],[Disponibilidad Terceros]]=\"Sí\",0.1,IF(Tabla2[[#This Row],[Disponibilidad Terceros]]=\"No\",0,\"\"))","v":""},{"$f":"+Tabla2[[#This Row],[Columna32]]+Tabla2[[#This Row],[Columna34]]+Tabla2[[#This Row],[Columna1]]+Tabla2[[#This Row],[Columna3]]","v":{"$error":"#VALUE!"}},{"$f":"IFERROR(IF(Tabla2[[#This Row],[Columna33]]<0.45,\"BAJA\",IF(Tabla2[[#This Row],[Columna33]]>0.75,\"ALTA\",\"MEDIA\")),\"\")","v":""},"No Aplica",{"$f":"+IF(Tabla2[[#This Row],[Información Publicada (WEB)]]=\"Sí\",\"Digite URL\",\"No Aplica\")","v":"No Aplica"},null,{"$f":"IF(Tabla2[[#This Row],[ Clasificación ICBF]]=\"Pública\",1,IF(Tabla2[[#This Row],[ Clasificación ICBF]]=\"Clasificada\",2,IF(Tabla2[[#This Row],[ Clasificación ICBF]]=\"Reservada\",3,0)))","v":0},{"$f":"IF(#REF!=8,4,IF(#REF!=16,3,IF(#REF!=24,2,IF(#REF!=48,1,0))))","v":{"$error":"#REF!"}},{"$f":"IF(#REF!=8,\"Alto\",IF(#REF!=16,\"Medio\",IF(#REF!=24,\"Medio\",IF(#REF!=48,\"Bajo\",0))))","v":{"$error":"#REF!"}},null,{"$f":"+MID(Tabla2[[#This Row],[Área/Dependencia]],17,8)","v":""}]
["",null,null,null,{"$f":"+VLOOKUP(Tabla2[[#This Row],[SEDE - REGIONAL]],DATOS!B446:D479,3,FALSE)","v":{"$error":"#N/A"}},{"$f":"+IF(OR(Tabla2[[#This Row],[Área/Dependencia]]=\"Subdirección de Sistemas Integrados\",Tabla2[[#This Row],[Área/Dependencia]]=\"Subdirección de Recursos Tecnológicos\"),\"X\",\"\")","v":""},{"$f":"+CONCATENATE(Tabla2[[#This Row],[Tipo de Proceso]],Tabla2[[#This Row],[Columna4]])","v":{"$error":"#N/A"}},null,null,null,null,null,null,null,null,null,null,null,null,null,{"$f":"+IF(Tabla2[[#This Row],[Nivel de acceso ]]=\"Alto\",0.5,IF(Tabla2[[#This Row],[Nivel de acceso ]]=\"Medio\",0.3,IF(Tabla2[[#This Row],[Nivel de acceso ]]=\"Bajo\",0.2,\"\")))","v":""},null,{"$f":"+IF(Tabla2[[#This Row],[Es  Reservada]]=\"Sí\",\"Escriba Ley\",\"No Aplica\")","v":"No Aplica"},null,null,null,null,{"$f":"IFERROR(IF(AND(Tabla2[[#This Row],[Contiene Datos Personales]]=\"SÍ\",OR(Tabla2[[#This Row],[Clasificación Datos Personales]]=\"Sensible\",Tabla2[[#This Row],[Clasificación Datos Personales]]=\"NNA\",Tabla2[[#This Row],[Clasificación Datos Personales]]=\"privado\")),\"Alto\",IF(AND(Tabla2[[#This Row],[Contiene Datos Personales]]=\"SÍ\",Tabla2[[#This Row],[Clasificación Datos Personales]]=\"SEMIPRIVADO\"),\"Medio\",\"Bajo\")),\"\")","v":"Bajo"},null,null,"No Aplica","No Aplica",null,null,null,{"$f":"+IF(Tabla2[[#This Row],[Integridad]]=\"Grave\",0.5,IF(Tabla2[[#This Row],[Integridad]]=\"Importante\",0.3,IF(Tabla2[[#This Row],[Integridad]]=\"Leve\",0.2,\"\")))","v":""},null,{"$f":"+IF(Tabla2[[#This Row],[Disponibilidad Interna]]=\"Sí\",0.1,IF(Tabla2[[#This Row],[Disponibilidad Interna]]=\"NO\",0,\"\"))","v":""},null,{"$f":"+IF(Tabla2[[#This Row],[Disponibilidad Terceros]]=\"Sí\",0.1,IF(Tabla2[[#This Row],[Disponibilidad Terceros]]=\"No\",0,\"\"))","v":""},{"$f":"+Tabla2[[#This Row],[Columna32]]+Tabla2[[#This Row],[Columna34]]+Tabla2[[#This Row],[Columna1]]+Tabla2[[#This Row],[Columna3]]","v":{"$error":"#VALUE!"}},{"$f":"IFERROR(IF(Tabla2[[#This Row],[Columna33]]<0.45,\"BAJA\",IF(Tabla2[[#This Row],[Columna33]]>0.75,\"ALTA\",\"MEDIA\")),\"\")","v":""},"No Aplica",{"$f":"+IF(Tabla2[[#This Row],[Información Publicada (WEB)]]=\"Sí\",\"Digite URL\",\"No Aplica\")","v":"No Aplica"},null,{"$f":"IF(Tabla2[[#This Row],[ Clasificación ICBF]]=\"Pública\",1,IF(Tabla2[[#This Row],[ Clasificación ICBF]]=\"Clasificada\",2,IF(Tabla2[[#This Row],[ Clasificación ICBF]]=\"Reservada\",3,0)))","v":0},{"$f":"IF(#REF!=8,4,IF(#REF!=16,3,IF(#REF!=24,2,IF(#REF!=48,1,0))))","v":{"$error":"#REF!"}},{"$f":"IF(#REF!=8,\"Alto\",IF(#REF!=16,\"Medio\",IF(#REF!=24,\"Medio\",IF(#REF!=48,\"Bajo\",0))))","v":{"$error":"#REF!"}},null,{"$f":"+MID(Tabla2[[#This Row],[Área/Dependencia]],17,8)","v":""}]
["",null,null,null,{"$f":"+VLOOKUP(Tabla2[[#This Row],[SEDE - REGIONAL]],DATOS!B447:D480,3,FALSE)","v":{"$error":"#N/A"}},{"$f":"+IF(OR(Tabla2[[#This Row],[Área/Dependencia]]=\"Subdirección de Sistemas Integrados\",Tabla2[[#This Row],[Área/Dependencia]]=\"Subdirección de Recursos Tecnológicos\"),\"X\",\"\")","v":""},{"$f":"+CONCATENATE(Tabla2[[#This Row],[Tipo de Proceso]],Tabla2[[#This Row],[Columna4]])","v":{"$error":"#N/A"}},null,null,null,null,null,null,null,null,null,null,null,null,null,{"$f":"+IF(Tabla2[[#This Row],[Nivel de acceso ]]=\"Alto\",0.5,IF(Tabla2[[#This Row],[Nivel de acceso ]]=\"Medio\",0.3,IF(Tabla2[[#This Row],[Nivel de acceso ]]=\"Bajo\",0.2,\"\")))","v":""},null,{"$f":"+IF(Tabla2[[#This Row],[Es  Reservada]]=\"Sí\",\"Escriba Ley\",\"No Aplica\")","v":"No Aplica"},null,null,null,null,{"$f":"IFERROR(IF(AND(Tabla2[[#This Row],[Contiene Datos Personales]]=\"SÍ\",OR(Tabla2[[#This Row],[Clasificación Datos Personales]]=\"Sensible\",Tabla2[[#This Row],[Clasificación Datos Personales]]=\"NNA\",Tabla2[[#This Row],[Clasificación Datos Personales]]=\"privado\")),\"Alto\",IF(AND(Tabla2[[#This Row],[Contiene Datos Personales]]=\"SÍ\",Tabla2[[#This Row],[Clasificación Datos Personales]]=\"SEMIPRIVADO\"),\"Medio\",\"Bajo\")),\"\")","v":"Bajo"},null,null,"No Aplica","No Aplica",null,null,null,{"$f":"+IF(Tabla2[[#This Row],[Integridad]]=\"Grave\",0.5,IF(Tabla2[[#This Row],[Integridad]]=\"Importante\",0.3,IF(Tabla2[[#This Row],[Integridad]]=\"Leve\",0.2,\"\")))","v":""},null,{"$f":"+IF(Tabla2[[#This Row],[Disponibilidad Interna]]=\"Sí\",0.1,IF(Tabla2[[#This Row],[Disponibilidad Interna]]=\"NO\",0,\"\"))","v":""},null,{"$f":"+IF(Tabla2[[#This Row],[Disponibilidad Terceros]]=\"Sí\",0.1,IF(Tabla2[[#This Row],[Disponibilidad Terceros]]=\"No\",0,\"\"))","v":""},{"$f":"+Tabla2[[#This Row],[Columna32]]+Tabla2[[#This Row],[Columna34]]+Tabla2[[#This Row],[Columna1]]+Tabla2[[#This Row],[Columna3]]","v":{"$error":"#VALUE!"}},{"$f":"IFERROR(IF(Tabla2[[#This Row],[Columna33]]<0.45,\"BAJA\",IF(Tabla2[[#This Row],[Columna33]]>0.75,\"ALTA\",\"MEDIA\")),\"\")","v":""},"No Aplica",{"$f":"+IF(Tabla2[[#This Row],[Información Publicada (WEB)]]=\"Sí\",\"Digite URL\",\"No Aplica\")","v":"No Aplica"},null,{"$f":"IF(Tabla2[[#This Row],[ Clasificación ICBF]]=\"Pública\",1,IF(Tabla2[[#This Row],[ Clasificación ICBF]]=\"Clasificada\",2,IF(Tabla2[[#This Row],[ Clasificación ICBF]]=\"Reservada\",3,0)))","v":0},{"$f":"IF(#REF!=8,4,IF(#REF!=16,3,IF(#REF!=24,2,IF(#REF!=48,1,0))))","v":{"$error":"#REF!"}},{"$f":"IF(#REF!=8,\"Alto\",IF(#REF!=16,\"Medio\",IF(#REF!=24,\"Medio\",IF(#REF!=48,\"Bajo\",0))))","v":{"$error":"#REF!"}},null,{"$f":"+MID(Tabla2[[#This Row],[Área/Dependencia]],17,8)","v":""}]
["",null,null,null,{"$f":"+VLOOKUP(Tabla2[[#This Row],[SEDE - REGIONAL]],DATOS!B448:D481,3,FALSE)","v":{"$error":"#N/A"}},{"$f":"+IF(OR(Tabla2[[#This Row],[Área/Dependencia]]=\"Subdirección de Sistemas Integrados\",Tabla2[[#This Row],[Área/Dependencia]]=\"Subdirección de Recursos Tecnológicos\"),\"X\",\"\")","v":""},{"$f":"+CONCATENATE(Tabla2[[#This Row],[Tipo de Proceso]],Tabla2[[#This Row],[Columna4]])","v":{"$error":"#N/A"}},null,null,null,null,null,null,null,null,null,null,null,null,null,{"$f":"+IF(Tabla2[[#This Row],[Nivel de acceso ]]=\"Alto\",0.5,IF(Tabla2[[#This Row],[Nivel de acceso ]]=\"Medio\",0.3,IF(Tabla2[[#This Row],[Nivel de acceso ]]=\"Bajo\",0.2,\"\")))","v":""},null,{"$f":"+IF(Tabla2[[#This Row],[Es  Reservada]]=\"Sí\",\"Escriba Ley\",\"No Aplica\")","v":"No Aplica"},null,null,null,null,{"$f":"IFERROR(IF(AND(Tabla2[[#This Row],[Contiene Datos Personales]]=\"SÍ\",OR(Tabla2[[#This Row],[Clasificación Datos Personales]]=\"Sensible\",Tabla2[[#This Row],[Clasificación Datos Personales]]=\"NNA\",Tabla2[[#This Row],[Clasificación Datos Personales]]=\"privado\")),\"Alto\",IF(AND(Tabla2[[#This Row],[Contiene Datos Personales]]=\"SÍ\",Tabla2[[#This Row],[Clasificación Datos Personales]]=\"SEMIPRIVADO\"),\"Medio\",\"Bajo\")),\"\")","v":"Bajo"},null,null,"No Aplica","No Aplica",null,null,null,{"$f":"+IF(Tabla2[[#This Row],[Integridad]]=\"Grave\",0.5,IF(Tabla2[[#This Row],[Integridad]]=\"Importante\",0.3,IF(Tabla2[[#This Row],[Integridad]]=\"Leve\",0.2,\"\")))","v":""},null,{"$f":"+IF(Tabla2[[#This Row],[Disponibilidad Interna]]=\"Sí\",0.1,IF(Tabla2[[#This Row],[Disponibilidad Interna]]=\"NO\",0,\"\"))","v":""},null,{"$f":"+IF(Tabla2[[#This Row],[Disponibilidad Terceros]]=\"Sí\",0.1,IF(Tabla2[[#This Row],[Disponibilidad Terceros]]=\"No\",0,\"\"))","v":""},{"$f":"+Tabla2[[#This Row],[Columna32]]+Tabla2[[#This Row],[Columna34]]+Tabla2[[#This Row],[Columna1]]+Tabla2[[#This Row],[Columna3]]","v":{"$error":"#VALUE!"}},{"$f":"IFERROR(IF(Tabla2[[#This Row],[Columna33]]<0.45,\"BAJA\",IF(Tabla2[[#This Row],[Columna33]]>0.75,\"ALTA\",\"MEDIA\")),\"\")","v":""},"No Aplica",{"$f":"+IF(Tabla2[[#This Row],[Información Publicada (WEB)]]=\"Sí\",\"Digite URL\",\"No Aplica\")","v":"No Aplica"},null,{"$f":"IF(Tabla2[[#This Row],[ Clasificación ICBF]]=\"Pública\",1,IF(Tabla2[[#This Row],[ Clasificación ICBF]]=\"Clasificada\",2,IF(Tabla2[[#This Row],[ Clasificación ICBF]]=\"Reservada\",3,0)))","v":0},{"$f":"IF(#REF!=8,4,IF(#REF!=16,3,IF(#REF!=24,2,IF(#REF!=48,1,0))))","v":{"$error":"#REF!"}},{"$f":"IF(#REF!=8,\"Alto\",IF(#REF!=16,\"Medio\",IF(#REF!=24,\"Medio\",IF(#REF!=48,\"Bajo\",0))))","v":{"$error":"#REF!"}},null,{"$f":"+MID(Tabla2[[#This Row],[Área/Dependencia]],17,8)","v":""}]
["",null,null,null,{"$f":"+VLOOKUP(Tabla2[[#This Row],[SEDE - REGIONAL]],DATOS!B449:D482,3,FALSE)","v":{"$error":"#N/A"}},{"$f":"+IF(OR(Tabla2[[#This Row],[Área/Dependencia]]=\"Subdirección de Sistemas Integrados\",Tabla2[[#This Row],[Área/Dependencia]]=\"Subdirección de Recursos Tecnológicos\"),\"X\",\"\")","v":""},{"$f":"+CONCATENATE(Tabla2[[#This Row],[Tipo de Proceso]],Tabla2[[#This Row],[Columna4]])","v":{"$error":"#N/A"}},null,null,null,null,null,null,null,null,null,null,null,null,null,{"$f":"+IF(Tabla2[[#This Row],[Nivel de acceso ]]=\"Alto\",0.5,IF(Tabla2[[#This Row],[Nivel de acceso ]]=\"Medio\",0.3,IF(Tabla2[[#This Row],[Nivel de acceso ]]=\"Bajo\",0.2,\"\")))","v":""},null,{"$f":"+IF(Tabla2[[#This Row],[Es  Reservada]]=\"Sí\",\"Escriba Ley\",\"No Aplica\")","v":"No Aplica"},null,null,null,null,{"$f":"IFERROR(IF(AND(Tabla2[[#This Row],[Contiene Datos Personales]]=\"SÍ\",OR(Tabla2[[#This Row],[Clasificación Datos Personales]]=\"Sensible\",Tabla2[[#This Row],[Clasificación Datos Personales]]=\"NNA\",Tabla2[[#This Row],[Clasificación Datos Personales]]=\"privado\")),\"Alto\",IF(AND(Tabla2[[#This Row],[Contiene Datos Personales]]=\"SÍ\",Tabla2[[#This Row],[Clasificación Datos Personales]]=\"SEMIPRIVADO\"),\"Medio\",\"Bajo\")),\"\")","v":"Bajo"},null,null,"No Aplica","No Aplica",null,null,null,{"$f":"+IF(Tabla2[[#This Row],[Integridad]]=\"Grave\",0.5,IF(Tabla2[[#This Row],[Integridad]]=\"Importante\",0.3,IF(Tabla2[[#This Row],[Integridad]]=\"Leve\",0.2,\"\")))","v":""},null,{"$f":"+IF(Tabla2[[#This Row],[Disponibilidad Interna]]=\"Sí\",0.1,IF(Tabla2[[#This Row],[Disponibilidad Interna]]=\"NO\",0,\"\"))","v":""},null,{"$f":"+IF(Tabla2[[#This Row],[Disponibilidad Terceros]]=\"Sí\",0.1,IF(Tabla2[[#This Row],[Disponibilidad Terceros]]=\"No\",0,\"\"))","v":""},{"$f":"+Tabla2[[#This Row],[Columna32]]+Tabla2[[#This Row],[Columna34]]+Tabla2[[#This Row],[Columna1]]+Tabla2[[#This Row],[Columna3]]","v":{"$error":"#VALUE!"}},{"$f":"IFERROR(IF(Tabla2[[#This Row],[Columna33]]<0.45,\"BAJA\",IF(Tabla2[[#This Row],[Columna33]]>0.75,\"ALTA\",\"MEDIA\")),\"\")","v":""},"No Aplica",{"$f":"+IF(Tabla2[[#This Row],[Información Publicada (WEB)]]=\"Sí\",\"Digite URL\",\"No Aplica\")","v":"No Aplica"},null,{"$f":"IF(Tabla2[[#This Row],[ Clasificación ICBF]]=\"Pública\",1,IF(Tabla2[[#This Row],[ Clasificación ICBF]]=\"Clasificada\",2,IF(Tabla2[[#This Row],[ Clasificación ICBF]]=\"Reservada\",3,0)))","v":0},{"$f":"IF(#REF!=8,4,IF(#REF!=16,3,IF(#REF!=24,2,IF(#REF!=48,1,0))))","v":{"$error":"#REF!"}},{"$f":"IF(#REF!=8,\"Alto\",IF(#REF!=16,\"Medio\",IF(#REF!=24,\"Medio\",IF(#REF!=48,\"Bajo\",0))))","v":{"$error":"#REF!"}},null,{"$f":"+MID(Tabla2[[#This Row],[Área/Dependencia]],17,8)","v":""}]
["",null,null,null,{"$f":"+VLOOKUP(Tabla2[[#This Row],[SEDE - REGIONAL]],DATOS!B450:D483,3,FALSE)","v":{"$error":"#N/A"}},{"$f":"+IF(OR(Tabla2[[#This Row],[Área/Dependencia]]=\"Subdirección de Sistemas Integrados\",Tabla2[[#This Row],[Área/Dependencia]]=\"Subdirección de Recursos Tecnológicos\"),\"X\",\"\")","v":""},{"$f":"+CONCATENATE(Tabla2[[#This Row],[Tipo de Proceso]],Tabla2[[#This Row],[Columna4]])","v":{"$error":"#N/A"}},null,null,null,null,null,null,null,null,null,null,null,null,null,{"$f":"+IF(Tabla2[[#This Row],[Nivel de acceso ]]=\"Alto\",0.5,IF(Tabla2[[#This Row],[Nivel de acceso ]]=\"Medio\",0.3,IF(Tabla2[[#This Row],[Nivel de acceso ]]=\"Bajo\",0.2,\"\")))","v":""},null,{"$f":"+IF(Tabla2[[#This Row],[Es  Reservada]]=\"Sí\",\"Escriba Ley\",\"No Aplica\")","v":"No Aplica"},null,null,null,null,{"$f":"IFERROR(IF(AND(Tabla2[[#This Row],[Contiene Datos Personales]]=\"SÍ\",OR(Tabla2[[#This Row],[Clasificación Datos Personales]]=\"Sensible\",Tabla2[[#This Row],[Clasificación Datos Personales]]=\"NNA\",Tabla2[[#This Row],[Clasificación Datos Personales]]=\"privado\")),\"Alto\",IF(AND(Tabla2[[#This Row],[Contiene Datos Personales]]=\"SÍ\",Tabla2[[#This Row],[Clasificación Datos Personales]]=\"SEMIPRIVADO\"),\"Medio\",\"Bajo\")),\"\")","v":"Bajo"},null,null,"No Aplica","No Aplica",null,null,null,{"$f":"+IF(Tabla2[[#This Row],[Integridad]]=\"Grave\",0.5,IF(Tabla2[[#This Row],[Integridad]]=\"Importante\",0.3,IF(Tabla2[[#This Row],[Integridad]]=\"Leve\",0.2,\"\")))","v":""},null,{"$f":"+IF(Tabla2[[#This Row],[Disponibilidad Interna]]=\"Sí\",0.1,IF(Tabla2[[#This Row],[Disponibilidad Interna]]=\"NO\",0,\"\"))","v":""},null,{"$f":"+IF(Tabla2[[#This Row],[Disponibilidad Terceros]]=\"Sí\",0.1,IF(Tabla2[[#This Row],[Disponibilidad Terceros]]=\"No\",0,\"\"))","v":""},{"$f":"+Tabla2[[#This Row],[Columna32]]+Tabla2[[#This Row],[Columna34]]+Tabla2[[#This Row],[Columna1]]+Tabla2[[#This Row],[Columna3]]","v":{"$error":"#VALUE!"}},{"$f":"IFERROR(IF(Tabla2[[#This Row],[Columna33]]<0.45,\"BAJA\",IF(Tabla2[[#This Row],[Columna33]]>0.75,\"ALTA\",\"MEDIA\")),\"\")","v":""},"No Aplica",{"$f":"+IF(Tabla2[[#This Row],[Información Publicada (WEB)]]=\"Sí\",\"Digite URL\",\"No Aplica\")","v":"No Aplica"},null,{"$f":"IF(Tabla2[[#This Row],[ Clasificación ICBF]]=\"Pública\",1,IF(Tabla2[[#This Row],[ Clasificación ICBF]]=\"Clasificada\",2,IF(Tabla2[[#This Row],[ Clasificación ICBF]]=\"Reservada\",3,0)))","v":0},{"$f":"IF(#REF!=8,4,IF(#REF!=16,3,IF(#REF!=24,2,IF(#REF!=48,1,0))))","v":{"$error":"#REF!"}},{"$f":"IF(#REF!=8,\"Alto\",IF(#REF!=16,\"Medio\",IF(#REF!=24,\"Medio\",IF(#REF!=48,\"Bajo\",0))))","v":{"$error":"#REF!"}},null,{"$f":"+MID(Tabla2[[#This Row],[Área/Dependencia]],17,8)","v":""}]
["",null,null,null,{"$f":"+VLOOKUP(Tabla2[[#This Row],[SEDE - REGIONAL]],DATOS!B451:D484,3,FALSE)","v":{"$error":"#N/A"}},{"$f":"+IF(OR(Tabla2[[#This Row],[Área/Dependencia]]=\"Subdirección de Sistemas Integrados\",Tabla2[[#This Row],[Área/Dependencia]]=\"Subdirección de Recursos Tecnológicos\"),\"X\",\"\")","v":""},{"$f":"+CONCATENATE(Tabla2[[#This Row],[Tipo de Proceso]],Tabla2[[#This Row],[Columna4]])","v":{"$error":"#N/A"}},null,null,null,null,null,null,null,null,null,null,null,null,null,{"$f":"+IF(Tabla2[[#This Row],[Nivel de acceso ]]=\"Alto\",0.5,IF(Tabla2[[#This Row],[Nivel de acceso ]]=\"Medio\",0.3,IF(Tabla2[[#This Row],[Nivel de acceso ]]=\"Bajo\",0.2,\"\")))","v":""},null,{"$f":"+IF(Tabla2[[#This Row],[Es  Reservada]]=\"Sí\",\"Escriba Ley\",\"No Aplica\")","v":"No Aplica"},null,null,null,null,{"$f":"IFERROR(IF(AND(Tabla2[[#This Row],[Contiene Datos Personales]]=\"SÍ\",OR(Tabla2[[#This Row],[Clasificación Datos Personales]]=\"Sensible\",Tabla2[[#This Row],[Clasificación Datos Personales]]=\"NNA\",Tabla2[[#This Row],[Clasificación Datos Personales]]=\"privado\")),\"Alto\",IF(AND(Tabla2[[#This Row],[Contiene Datos Personales]]=\"SÍ\",Tabla2[[#This Row],[Clasificación Datos Personales]]=\"SEMIPRIVADO\"),\"Medio\",\"Bajo\")),\"\")","v":"Bajo"},null,null,{"$f":"+IF(OR(N456=\"FÍSICO-ELECTRÓNICO\",N456=\"FÍSICO\",N456=\"Hardware\"),\"Digite ubicación\",\"No Aplica\")","v":"No Aplica"},{"$f":"+IF(OR(N456=\"FÍSICO-ELECTRÓNICO\",N456=\"ELECTRÓNICO\",N456=\"Software\"),\"Digite ubicación\",\"No Aplica\")","v":"No Aplica"},null,null,null,{"$f":"+IF(Tabla2[[#This Row],[Integridad]]=\"Grave\",0.5,IF(Tabla2[[#This Row],[Integridad]]=\"Importante\",0.3,IF(Tabla2[[#This Row],[Integridad]]=\"Leve\",0.2,\"\")))","v":""},null,{"$f":"+IF(Tabla2[[#This Row],[Disponibilidad Interna]]=\"Sí\",0.1,IF(Tabla2[[#This Row],[Disponibilidad Interna]]=\"NO\",0,\"\"))","v":""},null,{"$f":"+IF(Tabla2[[#This Row],[Disponibilidad Terceros]]=\"Sí\",0.1,IF(Tabla2[[#This Row],[Disponibilidad Terceros]]=\"No\",0,\"\"))","v":""},{"$f":"+Tabla2[[#This Row],[Columna32]]+Tabla2[[#This Row],[Columna34]]+Tabla2[[#This Row],[Columna1]]+Tabla2[[#This Row],[Columna3]]","v":{"$error":"#VALUE!"}},{"$f":"IFERROR(IF(Tabla2[[#This Row],[Columna33]]<0.45,\"BAJA\",IF(Tabla2[[#This Row],[Columna33]]>0.75,\"ALTA\",\"MEDIA\")),\"\")","v":""},{"$f":"+IF(OR(N456=\"FÍSICO-ELECTRÓNICO\",N456=\"ELECTRÓNICO\"),\"Sí\",\"No Aplica\")","v":"No Aplica"},{"$f":"+IF(Tabla2[[#This Row],[Información Publicada (WEB)]]=\"Sí\",\"Digite URL\",\"No Aplica\")","v":"No Aplica"},null,{"$f":"IF(Tabla2[[#This Row],[ Clasificación ICBF]]=\"Pública\",1,IF(Tabla2[[#This Row],[ Clasificación ICBF]]=\"Clasificada\",2,IF(Tabla2[[#This Row],[ Clasificación ICBF]]=\"Reservada\",3,0)))","v":0},{"$f":"IF(#REF!=8,4,IF(#REF!=16,3,IF(#REF!=24,2,IF(#REF!=48,1,0))))","v":{"$error":"#REF!"}},{"$f":"IF(#REF!=8,\"Alto\",IF(#REF!=16,\"Medio\",IF(#REF!=24,\"Medio\",IF(#REF!=48,\"Bajo\",0))))","v":{"$error":"#REF!"}},null,{"$f":"+MID(Tabla2[[#This Row],[Área/Dependencia]],17,8)","v":""}]
["",null,null,null,{"$f":"+VLOOKUP(Tabla2[[#This Row],[SEDE - REGIONAL]],DATOS!B452:D485,3,FALSE)","v":{"$error":"#N/A"}},{"$f":"+IF(OR(Tabla2[[#This Row],[Área/Dependencia]]=\"Subdirección de Sistemas Integrados\",Tabla2[[#This Row],[Área/Dependencia]]=\"Subdirección de Recursos Tecnológicos\"),\"X\",\"\")","v":""},{"$f":"+CONCATENATE(Tabla2[[#This Row],[Tipo de Proceso]],Tabla2[[#This Row],[Columna4]])","v":{"$error":"#N/A"}},null,null,null,null,null,null,null,null,null,null,null,null,null,{"$f":"+IF(Tabla2[[#This Row],[Nivel de acceso ]]=\"Alto\",0.5,IF(Tabla2[[#This Row],[Nivel de acceso ]]=\"Medio\",0.3,IF(Tabla2[[#This Row],[Nivel de acceso ]]=\"Bajo\",0.2,\"\")))","v":""},null,{"$f":"+IF(Tabla2[[#This Row],[Es  Reservada]]=\"Sí\",\"Escriba Ley\",\"No Aplica\")","v":"No Aplica"},null,null,null,null,{"$f":"IFERROR(IF(AND(Tabla2[[#This Row],[Contiene Datos Personales]]=\"SÍ\",OR(Tabla2[[#This Row],[Clasificación Datos Personales]]=\"Sensible\",Tabla2[[#This Row],[Clasificación Datos Personales]]=\"NNA\",Tabla2[[#This Row],[Clasificación Datos Personales]]=\"privado\")),\"Alto\",IF(AND(Tabla2[[#This Row],[Contiene Datos Personales]]=\"SÍ\",Tabla2[[#This Row],[Clasificación Datos Personales]]=\"SEMIPRIVADO\"),\"Medio\",\"Bajo\")),\"\")","v":"Bajo"},null,null,"No Aplica","No Aplica",null,null,null,{"$f":"+IF(Tabla2[[#This Row],[Integridad]]=\"Grave\",0.5,IF(Tabla2[[#This Row],[Integridad]]=\"Importante\",0.3,IF(Tabla2[[#This Row],[Integridad]]=\"Leve\",0.2,\"\")))","v":""},null,{"$f":"+IF(Tabla2[[#This Row],[Disponibilidad Interna]]=\"Sí\",0.1,IF(Tabla2[[#This Row],[Disponibilidad Interna]]=\"NO\",0,\"\"))","v":""},null,{"$f":"+IF(Tabla2[[#This Row],[Disponibilidad Terceros]]=\"Sí\",0.1,IF(Tabla2[[#This Row],[Disponibilidad Terceros]]=\"No\",0,\"\"))","v":""},{"$f":"+Tabla2[[#This Row],[Columna32]]+Tabla2[[#This Row],[Columna34]]+Tabla2[[#This Row],[Columna1]]+Tabla2[[#This Row],[Columna3]]","v":{"$error":"#VALUE!"}},{"$f":"IFERROR(IF(Tabla2[[#This Row],[Columna33]]<0.45,\"BAJA\",IF(Tabla2[[#This Row],[Columna33]]>0.75,\"ALTA\",\"MEDIA\")),\"\")","v":""},"No Aplica",{"$f":"+IF(Tabla2[[#This Row],[Información Publicada (WEB)]]=\"Sí\",\"Digite URL\",\"No Aplica\")","v":"No Aplica"},null,{"$f":"IF(Tabla2[[#This Row],[ Clasificación ICBF]]=\"Pública\",1,IF(Tabla2[[#This Row],[ Clasificación ICBF]]=\"Clasificada\",2,IF(Tabla2[[#This Row],[ Clasificación ICBF]]=\"Reservada\",3,0)))","v":0},{"$f":"IF(#REF!=8,4,IF(#REF!=16,3,IF(#REF!=24,2,IF(#REF!=48,1,0))))","v":{"$error":"#REF!"}},{"$f":"IF(#REF!=8,\"Alto\",IF(#REF!=16,\"Medio\",IF(#REF!=24,\"Medio\",IF(#REF!=48,\"Bajo\",0))))","v":{"$error":"#REF!"}},null,{"$f":"+MID(Tabla2[[#This Row],[Área/Dependencia]],17,8)","v":""}]
[{"$f":"IFERROR(IF(B458<>\"\",A457+1,\"\"),\"\")","v":""},null,null,null,{"$f":"+VLOOKUP(Tabla2[[#This Row],[SEDE - REGIONAL]],DATOS!B453:D486,3,FALSE)","v":{"$error":"#N/A"}},{"$f":"+IF(OR(Tabla2[[#This Row],[Área/Dependencia]]=\"Subdirección de Sistemas Integrados\",Tabla2[[#This Row],[Área/Dependencia]]=\"Subdirección de Recursos Tecnológicos\"),\"X\",\"\")","v":""},{"$f":"+CONCATENATE(Tabla2[[#This Row],[Tipo de Proceso]],Tabla2[[#This Row],[Columna4]])","v":{"$error":"#N/A"}},null,null,null,null,null,null,null,null,null,null,null,null,null,{"$f":"+IF(Tabla2[[#This Row],[Nivel de acceso ]]=\"Alto\",0.5,IF(Tabla2[[#This Row],[Nivel de acceso ]]=\"Medio\",0.3,IF(Tabla2[[#This Row],[Nivel de acceso ]]=\"Bajo\",0.2,\"\")))","v":""},null,{"$f":"+IF(Tabla2[[#This Row],[Es  Reservada]]=\"Sí\",\"Escriba Ley\",\"No Aplica\")","v":"No Aplica"},null,null,null,null,{"$f":"IFERROR(IF(AND(Tabla2[[#This Row],[Contiene Datos Personales]]=\"SÍ\",OR(Tabla2[[#This Row],[Clasificación Datos Personales]]=\"Sensible\",Tabla2[[#This Row],[Clasificación Datos Personales]]=\"NNA\",Tabla2[[#This Row],[Clasificación Datos Personales]]=\"privado\")),\"Alto\",IF(AND(Tabla2[[#This Row],[Contiene Datos Personales]]=\"SÍ\",Tabla2[[#This Row],[Clasificación Datos Personales]]=\"SEMIPRIVADO\"),\"Medio\",\"Bajo\")),\"\")","v":"Bajo"},null,null,"No Aplica","No Aplica",null,null,null,{"$f":"+IF(Tabla2[[#This Row],[Integridad]]=\"Grave\",0.5,IF(Tabla2[[#This Row],[Integridad]]=\"Importante\",0.3,IF(Tabla2[[#This Row],[Integridad]]=\"Leve\",0.2,\"\")))","v":""},null,{"$f":"+IF(Tabla2[[#This Row],[Disponibilidad Interna]]=\"Sí\",0.1,IF(Tabla2[[#This Row],[Disponibilidad Interna]]=\"NO\",0,\"\"))","v":""},null,{"$f":"+IF(Tabla2[[#This Row],[Disponibilidad Terceros]]=\"Sí\",0.1,IF(Tabla2[[#This Row],[Disponibilidad Terceros]]=\"No\",0,\"\"))","v":""},{"$f":"+Tabla2[[#This Row],[Columna32]]+Tabla2[[#This Row],[Columna34]]+Tabla2[[#This Row],[Columna1]]+Tabla2[[#This Row],[Columna3]]","v":{"$error":"#VALUE!"}},{"$f":"IFERROR(IF(Tabla2[[#This Row],[Columna33]]<0.45,\"BAJA\",IF(Tabla2[[#This Row],[Columna33]]>0.75,\"ALTA\",\"MEDIA\")),\"\")","v":""},"No Aplica",{"$f":"+IF(Tabla2[[#This Row],[Información Publicada (WEB)]]=\"Sí\",\"Digite URL\",\"No Aplica\")","v":"No Aplica"},null,{"$f":"IF(Tabla2[[#This Row],[ Clasificación ICBF]]=\"Pública\",1,IF(Tabla2[[#This Row],[ Clasificación ICBF]]=\"Clasificada\",2,IF(Tabla2[[#This Row],[ Clasificación ICBF]]=\"Reservada\",3,0)))","v":0},{"$f":"IF(#REF!=8,4,IF(#REF!=16,3,IF(#REF!=24,2,IF(#REF!=48,1,0))))","v":{"$error":"#REF!"}},{"$f":"IF(#REF!=8,\"Alto\",IF(#REF!=16,\"Medio\",IF(#REF!=24,\"Medio\",IF(#REF!=48,\"Bajo\",0))))","v":{"$error":"#REF!"}},null,{"$f":"+MID(Tabla2[[#This Row],[Área/Dependencia]],17,8)","v":""}]
["",null,null,null,{"$f":"+VLOOKUP(Tabla2[[#This Row],[SEDE - REGIONAL]],DATOS!B454:D487,3,FALSE)","v":{"$error":"#N/A"}},{"$f":"+IF(OR(Tabla2[[#This Row],[Área/Dependencia]]=\"Subdirección de Sistemas Integrados\",Tabla2[[#This Row],[Área/Dependencia]]=\"Subdirección de Recursos Tecnológicos\"),\"X\",\"\")","v":""},{"$f":"+CONCATENATE(Tabla2[[#This Row],[Tipo de Proceso]],Tabla2[[#This Row],[Columna4]])","v":{"$error":"#N/A"}},null,null,null,null,null,null,null,null,null,null,null,null,null,{"$f":"+IF(Tabla2[[#This Row],[Nivel de acceso ]]=\"Alto\",0.5,IF(Tabla2[[#This Row],[Nivel de acceso ]]=\"Medio\",0.3,IF(Tabla2[[#This Row],[Nivel de acceso ]]=\"Bajo\",0.2,\"\")))","v":""},null,{"$f":"+IF(Tabla2[[#This Row],[Es  Reservada]]=\"Sí\",\"Escriba Ley\",\"No Aplica\")","v":"No Aplica"},null,null,null,null,{"$f":"IFERROR(IF(AND(Tabla2[[#This Row],[Contiene Datos Personales]]=\"SÍ\",OR(Tabla2[[#This Row],[Clasificación Datos Personales]]=\"Sensible\",Tabla2[[#This Row],[Clasificación Datos Personales]]=\"NNA\",Tabla2[[#This Row],[Clasificación Datos Personales]]=\"privado\")),\"Alto\",IF(AND(Tabla2[[#This Row],[Contiene Datos Personales]]=\"SÍ\",Tabla2[[#This Row],[Clasificación Datos Personales]]=\"SEMIPRIVADO\"),\"Medio\",\"Bajo\")),\"\")","v":"Bajo"},null,null,"No Aplica","No Aplica",null,null,null,{"$f":"+IF(Tabla2[[#This Row],[Integridad]]=\"Grave\",0.5,IF(Tabla2[[#This Row],[Integridad]]=\"Importante\",0.3,IF(Tabla2[[#This Row],[Integridad]]=\"Leve\",0.2,\"\")))","v":""},null,{"$f":"+IF(Tabla2[[#This Row],[Disponibilidad Interna]]=\"Sí\",0.1,IF(Tabla2[[#This Row],[Disponibilidad Interna]]=\"NO\",0,\"\"))","v":""},null,{"$f":"+IF(Tabla2[[#This Row],[Disponibilidad Terceros]]=\"Sí\",0.1,IF(Tabla2[[#This Row],[Disponibilidad Terceros]]=\"No\",0,\"\"))","v":""},{"$f":"+Tabla2[[#This Row],[Columna32]]+Tabla2[[#This Row],[Columna34]]+Tabla2[[#This Row],[Columna1]]+Tabla2[[#This Row],[Columna3]]","v":{"$error":"#VALUE!"}},{"$f":"IFERROR(IF(Tabla2[[#This Row],[Columna33]]<0.45,\"BAJA\",IF(Tabla2[[#This Row],[Columna33]]>0.75,\"ALTA\",\"MEDIA\")),\"\")","v":""},"No Aplica",{"$f":"+IF(Tabla2[[#This Row],[Información Publicada (WEB)]]=\"Sí\",\"Digite URL\",\"No Aplica\")","v":"No Aplica"},null,{"$f":"IF(Tabla2[[#This Row],[ Clasificación ICBF]]=\"Pública\",1,IF(Tabla2[[#This Row],[ Clasificación ICBF]]=\"Clasificada\",2,IF(Tabla2[[#This Row],[ Clasificación ICBF]]=\"Reservada\",3,0)))","v":0},{"$f":"IF(#REF!=8,4,IF(#REF!=16,3,IF(#REF!=24,2,IF(#REF!=48,1,0))))","v":{"$error":"#REF!"}},{"$f":"IF(#REF!=8,\"Alto\",IF(#REF!=16,\"Medio\",IF(#REF!=24,\"Medio\",IF(#REF!=48,\"Bajo\",0))))","v":{"$error":"#REF!"}},null,{"$f":"+MID(Tabla2[[#This Row],[Área/Dependencia]],17,8)","v":""}]
["",null,null,null,{"$f":"+VLOOKUP(Tabla2[[#This Row],[SEDE - REGIONAL]],DATOS!B455:D488,3,FALSE)","v":{"$error":"#N/A"}},{"$f":"+IF(OR(Tabla2[[#This Row],[Área/Dependencia]]=\"Subdirección de Sistemas Integrados\",Tabla2[[#This Row],[Área/Dependencia]]=\"Subdirección de Recursos Tecnológicos\"),\"X\",\"\")","v":""},{"$f":"+CONCATENATE(Tabla2[[#This Row],[Tipo de Proceso]],Tabla2[[#This Row],[Columna4]])","v":{"$error":"#N/A"}},null,null,null,null,null,null,null,null,null,null,null,null,null,{"$f":"+IF(Tabla2[[#This Row],[Nivel de acceso ]]=\"Alto\",0.5,IF(Tabla2[[#This Row],[Nivel de acceso ]]=\"Medio\",0.3,IF(Tabla2[[#This Row],[Nivel de acceso ]]=\"Bajo\",0.2,\"\")))","v":""},null,{"$f":"+IF(Tabla2[[#This Row],[Es  Reservada]]=\"Sí\",\"Escriba Ley\",\"No Aplica\")","v":"No Aplica"},null,null,null,null,{"$f":"IFERROR(IF(AND(Tabla2[[#This Row],[Contiene Datos Personales]]=\"SÍ\",OR(Tabla2[[#This Row],[Clasificación Datos Personales]]=\"Sensible\",Tabla2[[#This Row],[Clasificación Datos Personales]]=\"NNA\",Tabla2[[#This Row],[Clasificación Datos Personales]]=\"privado\")),\"Alto\",IF(AND(Tabla2[[#This Row],[Contiene Datos Personales]]=\"SÍ\",Tabla2[[#This Row],[Clasificación Datos Personales]]=\"SEMIPRIVADO\"),\"Medio\",\"Bajo\")),\"\")","v":"Bajo"},null,null,"No Aplica","No Aplica",null,null,null,{"$f":"+IF(Tabla2[[#This Row],[Integridad]]=\"Grave\",0.5,IF(Tabla2[[#This Row],[Integridad]]=\"Importante\",0.3,IF(Tabla2[[#This Row],[Integridad]]=\"Leve\",0.2,\"\")))","v":""},null,{"$f":"+IF(Tabla2[[#This Row],[Disponibilidad Interna]]=\"Sí\",0.1,IF(Tabla2[[#This Row],[Disponibilidad Interna]]=\"NO\",0,\"\"))","v":""},null,{"$f":"+IF(Tabla2[[#This Row],[Disponibilidad Terceros]]=\"Sí\",0.1,IF(Tabla2[[#This Row],[Disponibilidad Terceros]]=\"No\",0,\"\"))","v":""},{"$f":"+Tabla2[[#This Row],[Columna32]]+Tabla2[[#This Row],[Columna34]]+Tabla2[[#This Row],[Columna1]]+Tabla2[[#This Row],[Columna3]]","v":{"$error":"#VALUE!"}},{"$f":"IFERROR(IF(Tabla2[[#This Row],[Columna33]]<0.45,\"BAJA\",IF(Tabla2[[#This Row],[Columna33]]>0.75,\"ALTA\",\"MEDIA\")),\"\")","v":""},"No Aplica",{"$f":"+IF(Tabla2[[#This Row],[Información Publicada (WEB)]]=\"Sí\",\"Digite URL\",\"No Aplica\")","v":"No Aplica"},null,{"$f":"IF(Tabla2[[#This Row],[ Clasificación ICBF]]=\"Pública\",1,IF(Tabla2[[#This Row],[ Clasificación ICBF]]=\"Clasificada\",2,IF(Tabla2[[#This Row],[ Clasificación ICBF]]=\"Reservada\",3,0)))","v":0},{"$f":"IF(#REF!=8,4,IF(#REF!=16,3,IF(#REF!=24,2,IF(#REF!=48,1,0))))","v":{"$error":"#REF!"}},{"$f":"IF(#REF!=8,\"Alto\",IF(#REF!=16,\"Medio\",IF(#REF!=24,\"Medio\",IF(#REF!=48,\"Bajo\",0))))","v":{"$error":"#REF!"}},null,{"$f":"+MID(Tabla2[[#This Row],[Área/Dependencia]],17,8)","v":""}]
["",null,null,null,{"$f":"+VLOOKUP(Tabla2[[#This Row],[SEDE - REGIONAL]],DATOS!B456:D489,3,FALSE)","v":{"$error":"#N/A"}},{"$f":"+IF(OR(Tabla2[[#This Row],[Área/Dependencia]]=\"Subdirección de Sistemas Integrados\",Tabla2[[#This Row],[Área/Dependencia]]=\"Subdirección de Recursos Tecnológicos\"),\"X\",\"\")","v":""},{"$f":"+CONCATENATE(Tabla2[[#This Row],[Tipo de Proceso]],Tabla2[[#This Row],[Columna4]])","v":{"$error":"#N/A"}},null,null,null,null,null,null,null,null,null,null,null,null,null,{"$f":"+IF(Tabla2[[#This Row],[Nivel de acceso ]]=\"Alto\",0.5,IF(Tabla2[[#This Row],[Nivel de acceso ]]=\"Medio\",0.3,IF(Tabla2[[#This Row],[Nivel de acceso ]]=\"Bajo\",0.2,\"\")))","v":""},null,{"$f":"+IF(Tabla2[[#This Row],[Es  Reservada]]=\"Sí\",\"Escriba Ley\",\"No Aplica\")","v":"No Aplica"},null,null,null,null,{"$f":"IFERROR(IF(AND(Tabla2[[#This Row],[Contiene Datos Personales]]=\"SÍ\",OR(Tabla2[[#This Row],[Clasificación Datos Personales]]=\"Sensible\",Tabla2[[#This Row],[Clasificación Datos Personales]]=\"NNA\",Tabla2[[#This Row],[Clasificación Datos Personales]]=\"privado\")),\"Alto\",IF(AND(Tabla2[[#This Row],[Contiene Datos Personales]]=\"SÍ\",Tabla2[[#This Row],[Clasificación Datos Personales]]=\"SEMIPRIVADO\"),\"Medio\",\"Bajo\")),\"\")","v":"Bajo"},null,null,"No Aplica","No Aplica",null,null,null,{"$f":"+IF(Tabla2[[#This Row],[Integridad]]=\"Grave\",0.5,IF(Tabla2[[#This Row],[Integridad]]=\"Importante\",0.3,IF(Tabla2[[#This Row],[Integridad]]=\"Leve\",0.2,\"\")))","v":""},null,{"$f":"+IF(Tabla2[[#This Row],[Disponibilidad Interna]]=\"Sí\",0.1,IF(Tabla2[[#This Row],[Disponibilidad Interna]]=\"NO\",0,\"\"))","v":""},null,{"$f":"+IF(Tabla2[[#This Row],[Disponibilidad Terceros]]=\"Sí\",0.1,IF(Tabla2[[#This Row],[Disponibilidad Terceros]]=\"No\",0,\"\"))","v":""},{"$f":"+Tabla2[[#This Row],[Columna32]]+Tabla2[[#This Row],[Columna34]]+Tabla2[[#This Row],[Columna1]]+Tabla2[[#This Row],[Columna3]]","v":{"$error":"#VALUE!"}},{"$f":"IFERROR(IF(Tabla2[[#This Row],[Columna33]]<0.45,\"BAJA\",IF(Tabla2[[#This Row],[Columna33]]>0.75,\"ALTA\",\"MEDIA\")),\"\")","v":""},"No Aplica",{"$f":"+IF(Tabla2[[#This Row],[Información Publicada (WEB)]]=\"Sí\",\"Digite URL\",\"No Aplica\")","v":"No Aplica"},null,{"$f":"IF(Tabla2[[#This Row],[ Clasificación ICBF]]=\"Pública\",1,IF(Tabla2[[#This Row],[ Clasificación ICBF]]=\"Clasificada\",2,IF(Tabla2[[#This Row],[ Clasificación ICBF]]=\"Reservada\",3,0)))","v":0},{"$f":"IF(#REF!=8,4,IF(#REF!=16,3,IF(#REF!=24,2,IF(#REF!=48,1,0))))","v":{"$error":"#REF!"}},{"$f":"IF(#REF!=8,\"Alto\",IF(#REF!=16,\"Medio\",IF(#REF!=24,\"Medio\",IF(#REF!=48,\"Bajo\",0))))","v":{"$error":"#REF!"}},null,{"$f":"+MID(Tabla2[[#This Row],[Área/Dependencia]],17,8)","v":""}]
["",null,null,null,{"$f":"+VLOOKUP(Tabla2[[#This Row],[SEDE - REGIONAL]],DATOS!B457:D490,3,FALSE)","v":{"$error":"#N/A"}},{"$f":"+IF(OR(Tabla2[[#This Row],[Área/Dependencia]]=\"Subdirección de Sistemas Integrados\",Tabla2[[#This Row],[Área/Dependencia]]=\"Subdirección de Recursos Tecnológicos\"),\"X\",\"\")","v":""},{"$f":"+CONCATENATE(Tabla2[[#This Row],[Tipo de Proceso]],Tabla2[[#This Row],[Columna4]])","v":{"$error":"#N/A"}},null,null,null,null,null,null,null,null,null,null,null,null,null,{"$f":"+IF(Tabla2[[#This Row],[Nivel de acceso ]]=\"Alto\",0.5,IF(Tabla2[[#This Row],[Nivel de acceso ]]=\"Medio\",0.3,IF(Tabla2[[#This Row],[Nivel de acceso ]]=\"Bajo\",0.2,\"\")))","v":""},null,{"$f":"+IF(Tabla2[[#This Row],[Es  Reservada]]=\"Sí\",\"Escriba Ley\",\"No Aplica\")","v":"No Aplica"},null,null,null,null,{"$f":"IFERROR(IF(AND(Tabla2[[#This Row],[Contiene Datos Personales]]=\"SÍ\",OR(Tabla2[[#This Row],[Clasificación Datos Personales]]=\"Sensible\",Tabla2[[#This Row],[Clasificación Datos Personales]]=\"NNA\",Tabla2[[#This Row],[Clasificación Datos Personales]]=\"privado\")),\"Alto\",IF(AND(Tabla2[[#This Row],[Contiene Datos Personales]]=\"SÍ\",Tabla2[[#This Row],[Clasificación Datos Personales]]=\"SEMIPRIVADO\"),\"Medio\",\"Bajo\")),\"\")","v":"Bajo"},null,null,"No Aplica","No Aplica",null,null,null,{"$f":"+IF(Tabla2[[#This Row],[Integridad]]=\"Grave\",0.5,IF(Tabla2[[#This Row],[Integridad]]=\"Importante\",0.3,IF(Tabla2[[#This Row],[Integridad]]=\"Leve\",0.2,\"\")))","v":""},null,{"$f":"+IF(Tabla2[[#This Row],[Disponibilidad Interna]]=\"Sí\",0.1,IF(Tabla2[[#This Row],[Disponibilidad Interna]]=\"NO\",0,\"\"))","v":""},null,{"$f":"+IF(Tabla2[[#This Row],[Disponibilidad Terceros]]=\"Sí\",0.1,IF(Tabla2[[#This Row],[Disponibilidad Terceros]]=\"No\",0,\"\"))","v":""},{"$f":"+Tabla2[[#This Row],[Columna32]]+Tabla2[[#This Row],[Columna34]]+Tabla2[[#This Row],[Columna1]]+Tabla2[[#This Row],[Columna3]]","v":{"$error":"#VALUE!"}},{"$f":"IFERROR(IF(Tabla2[[#This Row],[Columna33]]<0.45,\"BAJA\",IF(Tabla2[[#This Row],[Columna33]]>0.75,\"ALTA\",\"MEDIA\")),\"\")","v":""},"No Aplica",{"$f":"+IF(Tabla2[[#This Row],[Información Publicada (WEB)]]=\"Sí\",\"Digite URL\",\"No Aplica\")","v":"No Aplica"},null,{"$f":"IF(Tabla2[[#This Row],[ Clasificación ICBF]]=\"Pública\",1,IF(Tabla2[[#This Row],[ Clasificación ICBF]]=\"Clasificada\",2,IF(Tabla2[[#This Row],[ Clasificación ICBF]]=\"Reservada\",3,0)))","v":0},{"$f":"IF(#REF!=8,4,IF(#REF!=16,3,IF(#REF!=24,2,IF(#REF!=48,1,0))))","v":{"$error":"#REF!"}},{"$f":"IF(#REF!=8,\"Alto\",IF(#REF!=16,\"Medio\",IF(#REF!=24,\"Medio\",IF(#REF!=48,\"Bajo\",0))))","v":{"$error":"#REF!"}},null,{"$f":"+MID(Tabla2[[#This Row],[Área/Dependencia]],17,8)","v":""}]
["",null,null,null,{"$f":"+VLOOKUP(Tabla2[[#This Row],[SEDE - REGIONAL]],DATOS!B458:D491,3,FALSE)","v":{"$error":"#N/A"}},{"$f":"+IF(OR(Tabla2[[#This Row],[Área/Dependencia]]=\"Subdirección de Sistemas Integrados\",Tabla2[[#This Row],[Área/Dependencia]]=\"Subdirección de Recursos Tecnológicos\"),\"X\",\"\")","v":""},{"$f":"+CONCATENATE(Tabla2[[#This Row],[Tipo de Proceso]],Tabla2[[#This Row],[Columna4]])","v":{"$error":"#N/A"}},null,null,null,null,null,null,null,null,null,null,null,null,null,{"$f":"+IF(Tabla2[[#This Row],[Nivel de acceso ]]=\"Alto\",0.5,IF(Tabla2[[#This Row],[Nivel de acceso ]]=\"Medio\",0.3,IF(Tabla2[[#This Row],[Nivel de acceso ]]=\"Bajo\",0.2,\"\")))","v":""},null,{"$f":"+IF(Tabla2[[#This Row],[Es  Reservada]]=\"Sí\",\"Escriba Ley\",\"No Aplica\")","v":"No Aplica"},null,null,null,null,{"$f":"IFERROR(IF(AND(Tabla2[[#This Row],[Contiene Datos Personales]]=\"SÍ\",OR(Tabla2[[#This Row],[Clasificación Datos Personales]]=\"Sensible\",Tabla2[[#This Row],[Clasificación Datos Personales]]=\"NNA\",Tabla2[[#This Row],[Clasificación Datos Personales]]=\"privado\")),\"Alto\",IF(AND(Tabla2[[#This Row],[Contiene Datos Personales]]=\"SÍ\",Tabla2[[#This Row],[Clasificación Datos Personales]]=\"SEMIPRIVADO\"),\"Medio\",\"Bajo\")),\"\")","v":"Bajo"},null,null,"No Aplica","No Aplica",null,null,null,{"$f":"+IF(Tabla2[[#This Row],[Integridad]]=\"Grave\",0.5,IF(Tabla2[[#This Row],[Integridad]]=\"Importante\",0.3,IF(Tabla2[[#This Row],[Integridad]]=\"Leve\",0.2,\"\")))","v":""},null,{"$f":"+IF(Tabla2[[#This Row],[Disponibilidad Interna]]=\"Sí\",0.1,IF(Tabla2[[#This Row],[Disponibilidad Interna]]=\"NO\",0,\"\"))","v":""},null,{"$f":"+IF(Tabla2[[#This Row],[Disponibilidad Terceros]]=\"Sí\",0.1,IF(Tabla2[[#This Row],[Disponibilidad Terceros]]=\"No\",0,\"\"))","v":""},{"$f":"+Tabla2[[#This Row],[Columna32]]+Tabla2[[#This Row],[Columna34]]+Tabla2[[#This Row],[Columna1]]+Tabla2[[#This Row],[Columna3]]","v":{"$error":"#VALUE!"}},{"$f":"IFERROR(IF(Tabla2[[#This Row],[Columna33]]<0.45,\"BAJA\",IF(Tabla2[[#This Row],[Columna33]]>0.75,\"ALTA\",\"MEDIA\")),\"\")","v":""},"No Aplica",{"$f":"+IF(Tabla2[[#This Row],[Información Publicada (WEB)]]=\"Sí\",\"Digite URL\",\"No Aplica\")","v":"No Aplica"},null,{"$f":"IF(Tabla2[[#This Row],[ Clasificación ICBF]]=\"Pública\",1,IF(Tabla2[[#This Row],[ Clasificación ICBF]]=\"Clasificada\",2,IF(Tabla2[[#This Row],[ Clasificación ICBF]]=\"Reservada\",3,0)))","v":0},{"$f":"IF(#REF!=8,4,IF(#REF!=16,3,IF(#REF!=24,2,IF(#REF!=48,1,0))))","v":{"$error":"#REF!"}},{"$f":"IF(#REF!=8,\"Alto\",IF(#REF!=16,\"Medio\",IF(#REF!=24,\"Medio\",IF(#REF!=48,\"Bajo\",0))))","v":{"$error":"#REF!"}},null,{"$f":"+MID(Tabla2[[#This Row],[Área/Dependencia]],17,8)","v":""}]
["",null,null,null,{"$f":"+VLOOKUP(Tabla2[[#This Row],[SEDE - REGIONAL]],DATOS!B459:D492,3,FALSE)","v":{"$error":"#N/A"}},{"$f":"+IF(OR(Tabla2[[#This Row],[Área/Dependencia]]=\"Subdirección de Sistemas Integrados\",Tabla2[[#This Row],[Área/Dependencia]]=\"Subdirección de Recursos Tecnológicos\"),\"X\",\"\")","v":""},{"$f":"+CONCATENATE(Tabla2[[#This Row],[Tipo de Proceso]],Tabla2[[#This Row],[Columna4]])","v":{"$error":"#N/A"}},null,null,null,null,null,null,null,null,null,null,null,null,null,{"$f":"+IF(Tabla2[[#This Row],[Nivel de acceso ]]=\"Alto\",0.5,IF(Tabla2[[#This Row],[Nivel de acceso ]]=\"Medio\",0.3,IF(Tabla2[[#This Row],[Nivel de acceso ]]=\"Bajo\",0.2,\"\")))","v":""},null,{"$f":"+IF(Tabla2[[#This Row],[Es  Reservada]]=\"Sí\",\"Escriba Ley\",\"No Aplica\")","v":"No Aplica"},null,null,null,null,{"$f":"IFERROR(IF(AND(Tabla2[[#This Row],[Contiene Datos Personales]]=\"SÍ\",OR(Tabla2[[#This Row],[Clasificación Datos Personales]]=\"Sensible\",Tabla2[[#This Row],[Clasificación Datos Personales]]=\"NNA\",Tabla2[[#This Row],[Clasificación Datos Personales]]=\"privado\")),\"Alto\",IF(AND(Tabla2[[#This Row],[Contiene Datos Personales]]=\"SÍ\",Tabla2[[#This Row],[Clasificación Datos Personales]]=\"SEMIPRIVADO\"),\"Medio\",\"Bajo\")),\"\")","v":"Bajo"},null,null,"No Aplica","No Aplica",null,null,null,{"$f":"+IF(Tabla2[[#This Row],[Integridad]]=\"Grave\",0.5,IF(Tabla2[[#This Row],[Integridad]]=\"Importante\",0.3,IF(Tabla2[[#This Row],[Integridad]]=\"Leve\",0.2,\"\")))","v":""},null,{"$f":"+IF(Tabla2[[#This Row],[Disponibilidad Interna]]=\"Sí\",0.1,IF(Tabla2[[#This Row],[Disponibilidad Interna]]=\"NO\",0,\"\"))","v":""},null,{"$f":"+IF(Tabla2[[#This Row],[Disponibilidad Terceros]]=\"Sí\",0.1,IF(Tabla2[[#This Row],[Disponibilidad Terceros]]=\"No\",0,\"\"))","v":""},{"$f":"+Tabla2[[#This Row],[Columna32]]+Tabla2[[#This Row],[Columna34]]+Tabla2[[#This Row],[Columna1]]+Tabla2[[#This Row],[Columna3]]","v":{"$error":"#VALUE!"}},{"$f":"IFERROR(IF(Tabla2[[#This Row],[Columna33]]<0.45,\"BAJA\",IF(Tabla2[[#This Row],[Columna33]]>0.75,\"ALTA\",\"MEDIA\")),\"\")","v":""},"No Aplica",{"$f":"+IF(Tabla2[[#This Row],[Información Publicada (WEB)]]=\"Sí\",\"Digite URL\",\"No Aplica\")","v":"No Aplica"},null,{"$f":"IF(Tabla2[[#This Row],[ Clasificación ICBF]]=\"Pública\",1,IF(Tabla2[[#This Row],[ Clasificación ICBF]]=\"Clasificada\",2,IF(Tabla2[[#This Row],[ Clasificación ICBF]]=\"Reservada\",3,0)))","v":0},{"$f":"IF(#REF!=8,4,IF(#REF!=16,3,IF(#REF!=24,2,IF(#REF!=48,1,0))))","v":{"$error":"#REF!"}},{"$f":"IF(#REF!=8,\"Alto\",IF(#REF!=16,\"Medio\",IF(#REF!=24,\"Medio\",IF(#REF!=48,\"Bajo\",0))))","v":{"$error":"#REF!"}},null,{"$f":"+MID(Tabla2[[#This Row],[Área/Dependencia]],17,8)","v":""}]
["",null,null,null,{"$f":"+VLOOKUP(Tabla2[[#This Row],[SEDE - REGIONAL]],DATOS!B460:D493,3,FALSE)","v":{"$error":"#N/A"}},{"$f":"+IF(OR(Tabla2[[#This Row],[Área/Dependencia]]=\"Subdirección de Sistemas Integrados\",Tabla2[[#This Row],[Área/Dependencia]]=\"Subdirección de Recursos Tecnológicos\"),\"X\",\"\")","v":""},{"$f":"+CONCATENATE(Tabla2[[#This Row],[Tipo de Proceso]],Tabla2[[#This Row],[Columna4]])","v":{"$error":"#N/A"}},null,null,null,null,null,null,null,null,null,null,null,null,null,{"$f":"+IF(Tabla2[[#This Row],[Nivel de acceso ]]=\"Alto\",0.5,IF(Tabla2[[#This Row],[Nivel de acceso ]]=\"Medio\",0.3,IF(Tabla2[[#This Row],[Nivel de acceso ]]=\"Bajo\",0.2,\"\")))","v":""},null,{"$f":"+IF(Tabla2[[#This Row],[Es  Reservada]]=\"Sí\",\"Escriba Ley\",\"No Aplica\")","v":"No Aplica"},null,null,null,null,{"$f":"IFERROR(IF(AND(Tabla2[[#This Row],[Contiene Datos Personales]]=\"SÍ\",OR(Tabla2[[#This Row],[Clasificación Datos Personales]]=\"Sensible\",Tabla2[[#This Row],[Clasificación Datos Personales]]=\"NNA\",Tabla2[[#This Row],[Clasificación Datos Personales]]=\"privado\")),\"Alto\",IF(AND(Tabla2[[#This Row],[Contiene Datos Personales]]=\"SÍ\",Tabla2[[#This Row],[Clasificación Datos Personales]]=\"SEMIPRIVADO\"),\"Medio\",\"Bajo\")),\"\")","v":"Bajo"},null,null,"No Aplica","No Aplica",null,null,null,{"$f":"+IF(Tabla2[[#This Row],[Integridad]]=\"Grave\",0.5,IF(Tabla2[[#This Row],[Integridad]]=\"Importante\",0.3,IF(Tabla2[[#This Row],[Integridad]]=\"Leve\",0.2,\"\")))","v":""},null,{"$f":"+IF(Tabla2[[#This Row],[Disponibilidad Interna]]=\"Sí\",0.1,IF(Tabla2[[#This Row],[Disponibilidad Interna]]=\"NO\",0,\"\"))","v":""},null,{"$f":"+IF(Tabla2[[#This Row],[Disponibilidad Terceros]]=\"Sí\",0.1,IF(Tabla2[[#This Row],[Disponibilidad Terceros]]=\"No\",0,\"\"))","v":""},{"$f":"+Tabla2[[#This Row],[Columna32]]+Tabla2[[#This Row],[Columna34]]+Tabla2[[#This Row],[Columna1]]+Tabla2[[#This Row],[Columna3]]","v":{"$error":"#VALUE!"}},{"$f":"IFERROR(IF(Tabla2[[#This Row],[Columna33]]<0.45,\"BAJA\",IF(Tabla2[[#This Row],[Columna33]]>0.75,\"ALTA\",\"MEDIA\")),\"\")","v":""},"No Aplica",{"$f":"+IF(Tabla2[[#This Row],[Información Publicada (WEB)]]=\"Sí\",\"Digite URL\",\"No Aplica\")","v":"No Aplica"},null,{"$f":"IF(Tabla2[[#This Row],[ Clasificación ICBF]]=\"Pública\",1,IF(Tabla2[[#This Row],[ Clasificación ICBF]]=\"Clasificada\",2,IF(Tabla2[[#This Row],[ Clasificación ICBF]]=\"Reservada\",3,0)))","v":0},{"$f":"IF(#REF!=8,4,IF(#REF!=16,3,IF(#REF!=24,2,IF(#REF!=48,1,0))))","v":{"$error":"#REF!"}},{"$f":"IF(#REF!=8,\"Alto\",IF(#REF!=16,\"Medio\",IF(#REF!=24,\"Medio\",IF(#REF!=48,\"Bajo\",0))))","v":{"$error":"#REF!"}},null,{"$f":"+MID(Tabla2[[#This Row],[Área/Dependencia]],17,8)","v":""}]
["",null,null,null,{"$f":"+VLOOKUP(Tabla2[[#This Row],[SEDE - REGIONAL]],DATOS!B461:D494,3,FALSE)","v":{"$error":"#N/A"}},{"$f":"+IF(OR(Tabla2[[#This Row],[Área/Dependencia]]=\"Subdirección de Sistemas Integrados\",Tabla2[[#This Row],[Área/Dependencia]]=\"Subdirección de Recursos Tecnológicos\"),\"X\",\"\")","v":""},{"$f":"+CONCATENATE(Tabla2[[#This Row],[Tipo de Proceso]],Tabla2[[#This Row],[Columna4]])","v":{"$error":"#N/A"}},null,null,null,null,null,null,null,null,null,null,null,null,null,{"$f":"+IF(Tabla2[[#This Row],[Nivel de acceso ]]=\"Alto\",0.5,IF(Tabla2[[#This Row],[Nivel de acceso ]]=\"Medio\",0.3,IF(Tabla2[[#This Row],[Nivel de acceso ]]=\"Bajo\",0.2,\"\")))","v":""},null,{"$f":"+IF(Tabla2[[#This Row],[Es  Reservada]]=\"Sí\",\"Escriba Ley\",\"No Aplica\")","v":"No Aplica"},null,null,null,null,{"$f":"IFERROR(IF(AND(Tabla2[[#This Row],[Contiene Datos Personales]]=\"SÍ\",OR(Tabla2[[#This Row],[Clasificación Datos Personales]]=\"Sensible\",Tabla2[[#This Row],[Clasificación Datos Personales]]=\"NNA\",Tabla2[[#This Row],[Clasificación Datos Personales]]=\"privado\")),\"Alto\",IF(AND(Tabla2[[#This Row],[Contiene Datos Personales]]=\"SÍ\",Tabla2[[#This Row],[Clasificación Datos Personales]]=\"SEMIPRIVADO\"),\"Medio\",\"Bajo\")),\"\")","v":"Bajo"},null,null,"No Aplica","No Aplica",null,null,null,{"$f":"+IF(Tabla2[[#This Row],[Integridad]]=\"Grave\",0.5,IF(Tabla2[[#This Row],[Integridad]]=\"Importante\",0.3,IF(Tabla2[[#This Row],[Integridad]]=\"Leve\",0.2,\"\")))","v":""},null,{"$f":"+IF(Tabla2[[#This Row],[Disponibilidad Interna]]=\"Sí\",0.1,IF(Tabla2[[#This Row],[Disponibilidad Interna]]=\"NO\",0,\"\"))","v":""},null,{"$f":"+IF(Tabla2[[#This Row],[Disponibilidad Terceros]]=\"Sí\",0.1,IF(Tabla2[[#This Row],[Disponibilidad Terceros]]=\"No\",0,\"\"))","v":""},{"$f":"+Tabla2[[#This Row],[Columna32]]+Tabla2[[#This Row],[Columna34]]+Tabla2[[#This Row],[Columna1]]+Tabla2[[#This Row],[Columna3]]","v":{"$error":"#VALUE!"}},{"$f":"IFERROR(IF(Tabla2[[#This Row],[Columna33]]<0.45,\"BAJA\",IF(Tabla2[[#This Row],[Columna33]]>0.75,\"ALTA\",\"MEDIA\")),\"\")","v":""},"No Aplica",{"$f":"+IF(Tabla2[[#This Row],[Información Publicada (WEB)]]=\"Sí\",\"Digite URL\",\"No Aplica\")","v":"No Aplica"},null,{"$f":"IF(Tabla2[[#This Row],[ Clasificación ICBF]]=\"Pública\",1,IF(Tabla2[[#This Row],[ Clasificación ICBF]]=\"Clasificada\",2,IF(Tabla2[[#This Row],[ Clasificación ICBF]]=\"Reservada\",3,0)))","v":0},{"$f":"IF(#REF!=8,4,IF(#REF!=16,3,IF(#REF!=24,2,IF(#REF!=48,1,0))))","v":{"$error":"#REF!"}},{"$f":"IF(#REF!=8,\"Alto\",IF(#REF!=16,\"Medio\",IF(#REF!=24,\"Medio\",IF(#REF!=48,\"Bajo\",0))))","v":{"$error":"#REF!"}},null,{"$f":"+MID(Tabla2[[#This Row],[Área/Dependencia]],17,8)","v":""}]
["",null,null,null,{"$f":"+VLOOKUP(Tabla2[[#This Row],[SEDE - REGIONAL]],DATOS!B462:D495,3,FALSE)","v":{"$error":"#N/A"}},{"$f":"+IF(OR(Tabla2[[#This Row],[Área/Dependencia]]=\"Subdirección de Sistemas Integrados\",Tabla2[[#This Row],[Área/Dependencia]]=\"Subdirección de Recursos Tecnológicos\"),\"X\",\"\")","v":""},{"$f":"+CONCATENATE(Tabla2[[#This Row],[Tipo de Proceso]],Tabla2[[#This Row],[Columna4]])","v":{"$error":"#N/A"}},null,null,null,null,null,null,null,null,null,null,null,null,null,{"$f":"+IF(Tabla2[[#This Row],[Nivel de acceso ]]=\"Alto\",0.5,IF(Tabla2[[#This Row],[Nivel de acceso ]]=\"Medio\",0.3,IF(Tabla2[[#This Row],[Nivel de acceso ]]=\"Bajo\",0.2,\"\")))","v":""},null,{"$f":"+IF(Tabla2[[#This Row],[Es  Reservada]]=\"Sí\",\"Escriba Ley\",\"No Aplica\")","v":"No Aplica"},null,null,null,null,{"$f":"IFERROR(IF(AND(Tabla2[[#This Row],[Contiene Datos Personales]]=\"SÍ\",OR(Tabla2[[#This Row],[Clasificación Datos Personales]]=\"Sensible\",Tabla2[[#This Row],[Clasificación Datos Personales]]=\"NNA\",Tabla2[[#This Row],[Clasificación Datos Personales]]=\"privado\")),\"Alto\",IF(AND(Tabla2[[#This Row],[Contiene Datos Personales]]=\"SÍ\",Tabla2[[#This Row],[Clasificación Datos Personales]]=\"SEMIPRIVADO\"),\"Medio\",\"Bajo\")),\"\")","v":"Bajo"},null,null,"No Aplica","No Aplica",null,null,null,{"$f":"+IF(Tabla2[[#This Row],[Integridad]]=\"Grave\",0.5,IF(Tabla2[[#This Row],[Integridad]]=\"Importante\",0.3,IF(Tabla2[[#This Row],[Integridad]]=\"Leve\",0.2,\"\")))","v":""},null,{"$f":"+IF(Tabla2[[#This Row],[Disponibilidad Interna]]=\"Sí\",0.1,IF(Tabla2[[#This Row],[Disponibilidad Interna]]=\"NO\",0,\"\"))","v":""},null,{"$f":"+IF(Tabla2[[#This Row],[Disponibilidad Terceros]]=\"Sí\",0.1,IF(Tabla2[[#This Row],[Disponibilidad Terceros]]=\"No\",0,\"\"))","v":""},{"$f":"+Tabla2[[#This Row],[Columna32]]+Tabla2[[#This Row],[Columna34]]+Tabla2[[#This Row],[Columna1]]+Tabla2[[#This Row],[Columna3]]","v":{"$error":"#VALUE!"}},{"$f":"IFERROR(IF(Tabla2[[#This Row],[Columna33]]<0.45,\"BAJA\",IF(Tabla2[[#This Row],[Columna33]]>0.75,\"ALTA\",\"MEDIA\")),\"\")","v":""},"No Aplica",{"$f":"+IF(Tabla2[[#This Row],[Información Publicada (WEB)]]=\"Sí\",\"Digite URL\",\"No Aplica\")","v":"No Aplica"},null,{"$f":"IF(Tabla2[[#This Row],[ Clasificación ICBF]]=\"Pública\",1,IF(Tabla2[[#This Row],[ Clasificación ICBF]]=\"Clasificada\",2,IF(Tabla2[[#This Row],[ Clasificación ICBF]]=\"Reservada\",3,0)))","v":0},{"$f":"IF(#REF!=8,4,IF(#REF!=16,3,IF(#REF!=24,2,IF(#REF!=48,1,0))))","v":{"$error":"#REF!"}},{"$f":"IF(#REF!=8,\"Alto\",IF(#REF!=16,\"Medio\",IF(#REF!=24,\"Medio\",IF(#REF!=48,\"Bajo\",0))))","v":{"$error":"#REF!"}},null,{"$f":"+MID(Tabla2[[#This Row],[Área/Dependencia]],17,8)","v":""}]
["",null,null,null,{"$f":"+VLOOKUP(Tabla2[[#This Row],[SEDE - REGIONAL]],DATOS!B463:D496,3,FALSE)","v":{"$error":"#N/A"}},{"$f":"+IF(OR(Tabla2[[#This Row],[Área/Dependencia]]=\"Subdirección de Sistemas Integrados\",Tabla2[[#This Row],[Área/Dependencia]]=\"Subdirección de Recursos Tecnológicos\"),\"X\",\"\")","v":""},{"$f":"+CONCATENATE(Tabla2[[#This Row],[Tipo de Proceso]],Tabla2[[#This Row],[Columna4]])","v":{"$error":"#N/A"}},null,null,null,null,null,null,null,null,null,null,null,null,null,{"$f":"+IF(Tabla2[[#This Row],[Nivel de acceso ]]=\"Alto\",0.5,IF(Tabla2[[#This Row],[Nivel de acceso ]]=\"Medio\",0.3,IF(Tabla2[[#This Row],[Nivel de acceso ]]=\"Bajo\",0.2,\"\")))","v":""},null,{"$f":"+IF(Tabla2[[#This Row],[Es  Reservada]]=\"Sí\",\"Escriba Ley\",\"No Aplica\")","v":"No Aplica"},null,null,null,null,{"$f":"IFERROR(IF(AND(Tabla2[[#This Row],[Contiene Datos Personales]]=\"SÍ\",OR(Tabla2[[#This Row],[Clasificación Datos Personales]]=\"Sensible\",Tabla2[[#This Row],[Clasificación Datos Personales]]=\"NNA\",Tabla2[[#This Row],[Clasificación Datos Personales]]=\"privado\")),\"Alto\",IF(AND(Tabla2[[#This Row],[Contiene Datos Personales]]=\"SÍ\",Tabla2[[#This Row],[Clasificación Datos Personales]]=\"SEMIPRIVADO\"),\"Medio\",\"Bajo\")),\"\")","v":"Bajo"},null,null,"No Aplica","No Aplica",null,null,null,{"$f":"+IF(Tabla2[[#This Row],[Integridad]]=\"Grave\",0.5,IF(Tabla2[[#This Row],[Integridad]]=\"Importante\",0.3,IF(Tabla2[[#This Row],[Integridad]]=\"Leve\",0.2,\"\")))","v":""},null,{"$f":"+IF(Tabla2[[#This Row],[Disponibilidad Interna]]=\"Sí\",0.1,IF(Tabla2[[#This Row],[Disponibilidad Interna]]=\"NO\",0,\"\"))","v":""},null,{"$f":"+IF(Tabla2[[#This Row],[Disponibilidad Terceros]]=\"Sí\",0.1,IF(Tabla2[[#This Row],[Disponibilidad Terceros]]=\"No\",0,\"\"))","v":""},{"$f":"+Tabla2[[#This Row],[Columna32]]+Tabla2[[#This Row],[Columna34]]+Tabla2[[#This Row],[Columna1]]+Tabla2[[#This Row],[Columna3]]","v":{"$error":"#VALUE!"}},{"$f":"IFERROR(IF(Tabla2[[#This Row],[Columna33]]<0.45,\"BAJA\",IF(Tabla2[[#This Row],[Columna33]]>0.75,\"ALTA\",\"MEDIA\")),\"\")","v":""},"No Aplica",{"$f":"+IF(Tabla2[[#This Row],[Información Publicada (WEB)]]=\"Sí\",\"Digite URL\",\"No Aplica\")","v":"No Aplica"},null,{"$f":"IF(Tabla2[[#This Row],[ Clasificación ICBF]]=\"Pública\",1,IF(Tabla2[[#This Row],[ Clasificación ICBF]]=\"Clasificada\",2,IF(Tabla2[[#This Row],[ Clasificación ICBF]]=\"Reservada\",3,0)))","v":0},{"$f":"IF(#REF!=8,4,IF(#REF!=16,3,IF(#REF!=24,2,IF(#REF!=48,1,0))))","v":{"$error":"#REF!"}},{"$f":"IF(#REF!=8,\"Alto\",IF(#REF!=16,\"Medio\",IF(#REF!=24,\"Medio\",IF(#REF!=48,\"Bajo\",0))))","v":{"$error":"#REF!"}},null,{"$f":"+MID(Tabla2[[#This Row],[Área/Dependencia]],17,8)","v":""}]
["",null,null,null,{"$f":"+VLOOKUP(Tabla2[[#This Row],[SEDE - REGIONAL]],DATOS!B464:D497,3,FALSE)","v":{"$error":"#N/A"}},{"$f":"+IF(OR(Tabla2[[#This Row],[Área/Dependencia]]=\"Subdirección de Sistemas Integrados\",Tabla2[[#This Row],[Área/Dependencia]]=\"Subdirección de Recursos Tecnológicos\"),\"X\",\"\")","v":""},{"$f":"+CONCATENATE(Tabla2[[#This Row],[Tipo de Proceso]],Tabla2[[#This Row],[Columna4]])","v":{"$error":"#N/A"}},null,null,null,null,null,null,null,null,null,null,null,null,null,{"$f":"+IF(Tabla2[[#This Row],[Nivel de acceso ]]=\"Alto\",0.5,IF(Tabla2[[#This Row],[Nivel de acceso ]]=\"Medio\",0.3,IF(Tabla2[[#This Row],[Nivel de acceso ]]=\"Bajo\",0.2,\"\")))","v":""},null,{"$f":"+IF(Tabla2[[#This Row],[Es  Reservada]]=\"Sí\",\"Escriba Ley\",\"No Aplica\")","v":"No Aplica"},null,null,null,null,{"$f":"IFERROR(IF(AND(Tabla2[[#This Row],[Contiene Datos Personales]]=\"SÍ\",OR(Tabla2[[#This Row],[Clasificación Datos Personales]]=\"Sensible\",Tabla2[[#This Row],[Clasificación Datos Personales]]=\"NNA\",Tabla2[[#This Row],[Clasificación Datos Personales]]=\"privado\")),\"Alto\",IF(AND(Tabla2[[#This Row],[Contiene Datos Personales]]=\"SÍ\",Tabla2[[#This Row],[Clasificación Datos Personales]]=\"SEMIPRIVADO\"),\"Medio\",\"Bajo\")),\"\")","v":"Bajo"},null,null,"No Aplica","No Aplica",null,null,null,{"$f":"+IF(Tabla2[[#This Row],[Integridad]]=\"Grave\",0.5,IF(Tabla2[[#This Row],[Integridad]]=\"Importante\",0.3,IF(Tabla2[[#This Row],[Integridad]]=\"Leve\",0.2,\"\")))","v":""},null,{"$f":"+IF(Tabla2[[#This Row],[Disponibilidad Interna]]=\"Sí\",0.1,IF(Tabla2[[#This Row],[Disponibilidad Interna]]=\"NO\",0,\"\"))","v":""},null,{"$f":"+IF(Tabla2[[#This Row],[Disponibilidad Terceros]]=\"Sí\",0.1,IF(Tabla2[[#This Row],[Disponibilidad Terceros]]=\"No\",0,\"\"))","v":""},{"$f":"+Tabla2[[#This Row],[Columna32]]+Tabla2[[#This Row],[Columna34]]+Tabla2[[#This Row],[Columna1]]+Tabla2[[#This Row],[Columna3]]","v":{"$error":"#VALUE!"}},{"$f":"IFERROR(IF(Tabla2[[#This Row],[Columna33]]<0.45,\"BAJA\",IF(Tabla2[[#This Row],[Columna33]]>0.75,\"ALTA\",\"MEDIA\")),\"\")","v":""},"No Aplica",{"$f":"+IF(Tabla2[[#This Row],[Información Publicada (WEB)]]=\"Sí\",\"Digite URL\",\"No Aplica\")","v":"No Aplica"},null,{"$f":"IF(Tabla2[[#This Row],[ Clasificación ICBF]]=\"Pública\",1,IF(Tabla2[[#This Row],[ Clasificación ICBF]]=\"Clasificada\",2,IF(Tabla2[[#This Row],[ Clasificación ICBF]]=\"Reservada\",3,0)))","v":0},{"$f":"IF(#REF!=8,4,IF(#REF!=16,3,IF(#REF!=24,2,IF(#REF!=48,1,0))))","v":{"$error":"#REF!"}},{"$f":"IF(#REF!=8,\"Alto\",IF(#REF!=16,\"Medio\",IF(#REF!=24,\"Medio\",IF(#REF!=48,\"Bajo\",0))))","v":{"$error":"#REF!"}},null,{"$f":"+MID(Tabla2[[#This Row],[Área/Dependencia]],17,8)","v":""}]
["",null,null,null,{"$f":"+VLOOKUP(Tabla2[[#This Row],[SEDE - REGIONAL]],DATOS!B465:D498,3,FALSE)","v":{"$error":"#N/A"}},{"$f":"+IF(OR(Tabla2[[#This Row],[Área/Dependencia]]=\"Subdirección de Sistemas Integrados\",Tabla2[[#This Row],[Área/Dependencia]]=\"Subdirección de Recursos Tecnológicos\"),\"X\",\"\")","v":""},{"$f":"+CONCATENATE(Tabla2[[#This Row],[Tipo de Proceso]],Tabla2[[#This Row],[Columna4]])","v":{"$error":"#N/A"}},null,null,null,null,null,null,null,null,null,null,null,null,null,{"$f":"+IF(Tabla2[[#This Row],[Nivel de acceso ]]=\"Alto\",0.5,IF(Tabla2[[#This Row],[Nivel de acceso ]]=\"Medio\",0.3,IF(Tabla2[[#This Row],[Nivel de acceso ]]=\"Bajo\",0.2,\"\")))","v":""},null,{"$f":"+IF(Tabla2[[#This Row],[Es  Reservada]]=\"Sí\",\"Escriba Ley\",\"No Aplica\")","v":"No Aplica"},null,null,null,null,{"$f":"IFERROR(IF(AND(Tabla2[[#This Row],[Contiene Datos Personales]]=\"SÍ\",OR(Tabla2[[#This Row],[Clasificación Datos Personales]]=\"Sensible\",Tabla2[[#This Row],[Clasificación Datos Personales]]=\"NNA\",Tabla2[[#This Row],[Clasificación Datos Personales]]=\"privado\")),\"Alto\",IF(AND(Tabla2[[#This Row],[Contiene Datos Personales]]=\"SÍ\",Tabla2[[#This Row],[Clasificación Datos Personales]]=\"SEMIPRIVADO\"),\"Medio\",\"Bajo\")),\"\")","v":"Bajo"},null,null,"No Aplica","No Aplica",null,null,null,{"$f":"+IF(Tabla2[[#This Row],[Integridad]]=\"Grave\",0.5,IF(Tabla2[[#This Row],[Integridad]]=\"Importante\",0.3,IF(Tabla2[[#This Row],[Integridad]]=\"Leve\",0.2,\"\")))","v":""},null,{"$f":"+IF(Tabla2[[#This Row],[Disponibilidad Interna]]=\"Sí\",0.1,IF(Tabla2[[#This Row],[Disponibilidad Interna]]=\"NO\",0,\"\"))","v":""},null,{"$f":"+IF(Tabla2[[#This Row],[Disponibilidad Terceros]]=\"Sí\",0.1,IF(Tabla2[[#This Row],[Disponibilidad Terceros]]=\"No\",0,\"\"))","v":""},{"$f":"+Tabla2[[#This Row],[Columna32]]+Tabla2[[#This Row],[Columna34]]+Tabla2[[#This Row],[Columna1]]+Tabla2[[#This Row],[Columna3]]","v":{"$error":"#VALUE!"}},{"$f":"IFERROR(IF(Tabla2[[#This Row],[Columna33]]<0.45,\"BAJA\",IF(Tabla2[[#This Row],[Columna33]]>0.75,\"ALTA\",\"MEDIA\")),\"\")","v":""},"No Aplica",{"$f":"+IF(Tabla2[[#This Row],[Información Publicada (WEB)]]=\"Sí\",\"Digite URL\",\"No Aplica\")","v":"No Aplica"},null,{"$f":"IF(Tabla2[[#This Row],[ Clasificación ICBF]]=\"Pública\",1,IF(Tabla2[[#This Row],[ Clasificación ICBF]]=\"Clasificada\",2,IF(Tabla2[[#This Row],[ Clasificación ICBF]]=\"Reservada\",3,0)))","v":0},{"$f":"IF(#REF!=8,4,IF(#REF!=16,3,IF(#REF!=24,2,IF(#REF!=48,1,0))))","v":{"$error":"#REF!"}},{"$f":"IF(#REF!=8,\"Alto\",IF(#REF!=16,\"Medio\",IF(#REF!=24,\"Medio\",IF(#REF!=48,\"Bajo\",0))))","v":{"$error":"#REF!"}},null,{"$f":"+MID(Tabla2[[#This Row],[Área/Dependencia]],17,8)","v":""}]
["",null,null,null,{"$f":"+VLOOKUP(Tabla2[[#This Row],[SEDE - REGIONAL]],DATOS!B466:D499,3,FALSE)","v":{"$error":"#N/A"}},{"$f":"+IF(OR(Tabla2[[#This Row],[Área/Dependencia]]=\"Subdirección de Sistemas Integrados\",Tabla2[[#This Row],[Área/Dependencia]]=\"Subdirección de Recursos Tecnológicos\"),\"X\",\"\")","v":""},{"$f":"+CONCATENATE(Tabla2[[#This Row],[Tipo de Proceso]],Tabla2[[#This Row],[Columna4]])","v":{"$error":"#N/A"}},null,null,null,null,null,null,null,null,null,null,null,null,null,{"$f":"+IF(Tabla2[[#This Row],[Nivel de acceso ]]=\"Alto\",0.5,IF(Tabla2[[#This Row],[Nivel de acceso ]]=\"Medio\",0.3,IF(Tabla2[[#This Row],[Nivel de acceso ]]=\"Bajo\",0.2,\"\")))","v":""},null,{"$f":"+IF(Tabla2[[#This Row],[Es  Reservada]]=\"Sí\",\"Escriba Ley\",\"No Aplica\")","v":"No Aplica"},null,null,null,null,{"$f":"IFERROR(IF(AND(Tabla2[[#This Row],[Contiene Datos Personales]]=\"SÍ\",OR(Tabla2[[#This Row],[Clasificación Datos Personales]]=\"Sensible\",Tabla2[[#This Row],[Clasificación Datos Personales]]=\"NNA\",Tabla2[[#This Row],[Clasificación Datos Personales]]=\"privado\")),\"Alto\",IF(AND(Tabla2[[#This Row],[Contiene Datos Personales]]=\"SÍ\",Tabla2[[#This Row],[Clasificación Datos Personales]]=\"SEMIPRIVADO\"),\"Medio\",\"Bajo\")),\"\")","v":"Bajo"},null,null,"No Aplica","No Aplica",null,null,null,{"$f":"+IF(Tabla2[[#This Row],[Integridad]]=\"Grave\",0.5,IF(Tabla2[[#This Row],[Integridad]]=\"Importante\",0.3,IF(Tabla2[[#This Row],[Integridad]]=\"Leve\",0.2,\"\")))","v":""},null,{"$f":"+IF(Tabla2[[#This Row],[Disponibilidad Interna]]=\"Sí\",0.1,IF(Tabla2[[#This Row],[Disponibilidad Interna]]=\"NO\",0,\"\"))","v":""},null,{"$f":"+IF(Tabla2[[#This Row],[Disponibilidad Terceros]]=\"Sí\",0.1,IF(Tabla2[[#This Row],[Disponibilidad Terceros]]=\"No\",0,\"\"))","v":""},{"$f":"+Tabla2[[#This Row],[Columna32]]+Tabla2[[#This Row],[Columna34]]+Tabla2[[#This Row],[Columna1]]+Tabla2[[#This Row],[Columna3]]","v":{"$error":"#VALUE!"}},{"$f":"IFERROR(IF(Tabla2[[#This Row],[Columna33]]<0.45,\"BAJA\",IF(Tabla2[[#This Row],[Columna33]]>0.75,\"ALTA\",\"MEDIA\")),\"\")","v":""},"No Aplica",{"$f":"+IF(Tabla2[[#This Row],[Información Publicada (WEB)]]=\"Sí\",\"Digite URL\",\"No Aplica\")","v":"No Aplica"},null,{"$f":"IF(Tabla2[[#This Row],[ Clasificación ICBF]]=\"Pública\",1,IF(Tabla2[[#This Row],[ Clasificación ICBF]]=\"Clasificada\",2,IF(Tabla2[[#This Row],[ Clasificación ICBF]]=\"Reservada\",3,0)))","v":0},{"$f":"IF(#REF!=8,4,IF(#REF!=16,3,IF(#REF!=24,2,IF(#REF!=48,1,0))))","v":{"$error":"#REF!"}},{"$f":"IF(#REF!=8,\"Alto\",IF(#REF!=16,\"Medio\",IF(#REF!=24,\"Medio\",IF(#REF!=48,\"Bajo\",0))))","v":{"$error":"#REF!"}},null,{"$f":"+MID(Tabla2[[#This Row],[Área/Dependencia]],17,8)","v":""}]
["¡Antes de imprimir este documento… piense en el medio ambiente!\nCualquier copia impresa de este documento se considera como COPIA NO CONTROLADA"]

{"sheet":"DATOS","index":1,"n_rows":110,"n_cols":76,"rows_kept":110,"cut":false,"hidden":true,"merged":[[1,7,1,39],[1,41,1,44],[74,1,79,1]]}
[]
[null,"REGIONAL","COD_REG","TIPO",null,null,null,"CENTROS ZONALES POR REGIONAL",null,null,null,null,null,null,null,null,null,null,null,null,null,null,null,null,null,null,null,null,null,null,null,null,null,null,null,null,null,null,null,null,null,"DEPENDENCIA REGIONAL SEGÚN TIPO REGIONAL",null,null,null,null,null,"TIPO ACTIVO",null,"DATOS PERSONALES ",null,"Clasificación Datos Personales",null,"FORMATO",null,"TRATAMIENTO INTERNACIONAL ",null,"IDIOMA",null,"CLASIFICACIÓN DEL A INFO","DEPENDENCIAS_SEDE","CARGOS",null,"Sede y/o Regional",null,"INSUMO",null,"Nivel de Seguridad ",null,"Nivel de Servicio",null,null,48,24,16,8]
[null,"AMAZONAS",91,"regional_tipo_4",null,"PROCESOS",null,"AMAZONAS","ANTIOQUIA","ARAUCA","ATLÁNTICO","BOGOTÁ","BOLÍVAR","BOYACÁ","CALDAS","CAQUETÁ","CASANARE","CAUCA","CESAR","CHOCÓ","CÓRDOBA","CUNDINAMARCA","GUAINÍA","GUAVIARE","HUILA","LA_GUAJIRA","MAGDALENA","META","NARIÑO","N_SANTANDER","PUTUMAYO","QUINDÍO","RISARALDA","SAN_ANDRÉS","SANTANDER","SUCRE","TOLIMA","VALLE","VAUPÉS","VICHADA","SEDE_DE_LA_DIRECCIÓN_GENERAL","regional_tipo_1","regional_tipo_2","regional_tipo_3","regional_tipo_4","No Aplica",null,"FÍSICO",null,"SÍ",null,"PÚBLICO",null,"HOJA DE CÁLCULO",null,"Transferir",null,"INGLES",null,"Pública","Dirección Administrativa","DIRECTOR ADMINISTRATIVO",null,"SDG",null,"ACTIVOS VIGENCIA ANTERIOR",null,"Protegido",null,48,null,"Pública","B","B","M","M"]
[null,"ANTIOQUIA",5,"regional_tipo_2",null,"ADQUISICIÓN DE BIENES Y SERVICIOS",null,"R. Amazonas","R. Antioquia","R. Arauca","R. Atlántico","R. Bogotá","R. Bolívar","R. Boyacá","R. Caldas","R. Caquetá","R.Casanare","R. Cauca","R. Cesar","R. Chocó","R. Córdoba","R. Cundinamarca","R. Guainía","R. Guaviare","R. Huila","R. La Guajira","R. Magdalena","R. Meta","R. Nariño","R. Norte de Santander","R. Putumayo","R. Quindío","R. Risaralda","R. San Andrés","R. Santander","R. Sucre","R. Tolima","R. Valle","R. Vaupés","Regional Vichada","No Aplica","Centro Zonal","Centro Zonal","Centro Zonal","Centro Zonal",null,null,"ELECTRÓNICO",null,"NO",null,"PRIVADO",null,"IMAGEN",null,"Transmitir",null,"ESPAÑOL",null,"Clasificada","Dirección de Contratación","DIRECTOR DE CONTRATACIÓN",null,"REGIONAL",null,"TRD",null,"Desprotegido",null,24,null,"Clasificada","B","M","A","A"]
[null,"ARAUCA",81,"regional_tipo_3",null,"COMUNICACIÓN ESTRATÉGICA",null,"CZ Leticia","CZ Urabá","CZ Arauca","CZ Norte Centro Histórico","CZ Usaquén","CZ Histórico y del Caribe Norte","CZ Tunja 1 ","CZ Suroriente","CZ Florencia 1","CZ Yopal","CZ Popayán ","CZ Valledupar 1","CZ Quibdó","CZ Montería 1","CZ Soacha",null,"CZ  San José del Guaviare","CZ Neiva","CZ Riohacha 1 ","CZ Santa Marta Sur","CZ Villavicencio 1","CZ Pasto 1","CZ Cúcuta 1","CZ Mocoa","CZ Armenia Norte","CZ Pereira","CZ Los Almendros","CZ Antonia Santos","CZ  Boston ","CZ Ibagué","CZ Nororiental",null,"CZ Puerto Carreño",null,"Dirección Regional","Dirección Regional","Dirección Regional","Dirección Regional",null,null,"FÍSICO-ELECTRÓNICO",null,"No Aplica",null,"SEMIPRIVADO",null,"AUDIO",null,"No Aplica ",null,"WAYUUNAIKI",null,"Reservada","Dirección de Familias y Comunidades","DIRECTOR DE FAMILIA Y COMUNIDADES",null,"SDG-REGIONAL",null,"LMD",null,"No Aplica",null,16,null,"Reservada","M","A","A","A"]
[null,"ATLÁNTICO",8,"regional_tipo_3",null,"COORDINACIÓN Y ARTICULACIÓN DEL SNBF Y AGENTES ",null,"Unidad Local - CZ Leticia","CZ Suroriental","CZ Saravena","CZ Sur Occidente","CZ Santafé","CZ De la Virgen y Turístico","CZ Tunja 2 ","CZ Oriente","CZ Florencia 2","CZ Paz de Ariporo","CZ Popayán - Centro","CZ Valledupar 2","CZ Istmina","CZ Cereté","CZ Zipaquirá",null,"Casa de Justicia - CZ  San José del Guaviare","CZ La Gaitana","CZ Riohacha 2 ","CZ Santa Marta Norte","CZ Villavicencio 2 ","CZ Pasto 2","CZ Cúcuta 2","CZ Puerto Asís","CZ Armenia Sur","CZ Santa Rosa de Cabal","Unidad Local - CZ Los Almendros","CZ Bucaramanga Sur","CZ Norte","CZ Jordán","CZ Ladera",null,"Unidad Local - CZ Puerto Carreño",null,"Grupo de Contratación","Grupo de Gestión Humana","Grupo Administrativo","Gestión de Soporte",null,null,"SOFTWARE",null,null,null,"SENSIBLE",null,"VIDEO",null,null,null,null,null,null,"Dirección de Gestión Humana","DIRECTOR GESTIÓN HUMANA",null,null,null,"CARACTERIZACIÓN",null,null,null,8]
[null,"BOGOTÁ",11,"regional_tipo_1",null,"DIRECCIONAMIENTO ESTRATÉGICO",null,"Caivas - CZ Leticia","CZ Suroeste","CZ Tame","CZ Baranoa","CZ San Cristóbal Sur","CZ Industrial de la Bahía","CZ Sogamoso","CZ Occidente","CZ Belén de los Andaquíes","CZ Villanueva","CZ Indígena","CZ Chiriguaná","CZ Bahía Solano","CZ Planeta Rica","CZ Ubaté",null,null,"CZ Garzón","CZ Fonseca","CZ Del Río","CZ Granada","CZ Tumaco","CZ Cúcuta 3","CZ La Hormiga","CZ Calarcá","CZ Dos Quebradas","Caivas - CZ Los Almendros","CZ Carlos Lleras Restrepo","CZ Sincelejo","CZ Galán ","CZ Cali Centro",null,null,null,"Grupo Administrativo","Grupo Administrativo","Grupo de Asistencia Técnica","Grupo de Asistencia Técnica",null,null,"HARDWARE",null,null,null,"NNA\n",null,"DOCUMENTO DE TEXTO",null,null,null,null,null,null,"Dirección de Información y Tecnología","DIRECTOR DE INFORMACIÓN Y TECNOLOGÍA",null,null,null,"NO APLICA"]
[null,"BOLÍVAR",13,"regional_tipo_3",null,"EVALUACIÓN INDEPENDIENTE",null,null,"CZ Porce Nus","Caivas - CZ Arauca","CZ Sabanalarga","CZ Usme","CZ Turbaco","CZ Duitama","CZ Manizales 1  ","CZ Puerto Rico","Caivas - CZ Yopal","CZ Sur","CZ Aguachica","CZ Riosucio","CZ Tierra Alta","CZ Pacho",null,null,"CZ Pitalito","CZ Manaure","CZ Ciénaga","CZ Acacías","CZ Ipiales","CZ Pamplona","CZ Sibundoy","Cavif - CZ Armenia Sur","CZ La Virginia",null,"CZ Yariguíes","CZ La Mojana","CZ Líbano","CZ Sur",null,null,null,"Grupo de Atención en Ciclos de Vida y Nutrición","Grupo de Atención en Ciclos de Vida y Nutrición","Grupo de Planeación y Sistemas",null,null,null,"SOPORTE",null,null,null,"No Aplica",null,"BASE DE DATOS",null,null,null,null,null,null,"Dirección de Logística y Abastecimiento","DIRECTOR DE LOGÍSTICA Y ABASTACIMIENTO",null,null,null,null,null,null,null,null,null,"Nivel de acceso","A","M","B"]
[null,"BOYACÁ",15,"regional_tipo_3",null,"GESTIÓN DE LA TECNOLOGÍA E INFORMACIÓN",null,null,"CZ Penderisco","Unidad Local - CZ Saravena","CZ Sabanagrande","CZ Tunjuelito","CZ El Carmen de Bolívar","CZ Chiquinquirá","CZ Manizales 2 ","Casa de Justicia - CZ Florencia 1","Cespa - CZ Yopal","CZ Norte","CZ Codazzi","CZ Tadó","CZ Montelíbano","CZ Villeta",null,null,"CZ La Plata","CZ  Maicao","CZ Fundación","CZ Puerto López","CZ Túquerres","CZ Ocaña","Unidad Local - CZ Mocoa","Caivas - CZ Armenia Sur","CZ Belén de Umbría",null,"CZ San Gil","Caivas - CZ Sincelejo","CZ Lérida","CZ Suroriental",null,null,null,"Grupo de Gestión Humana","Grupo de Planeación y Sistemas","Grupo Financiero",null,null,null,"RECURSO HUMANO -P",null,null,null,null,null,"SOFTWARE",null,null,null,null,null,null,"Dirección de Niñez y Adolescencia ","DIRECTOR DE NIÑEZ Y ADOLESCENCIA",null,null,null,null,null,"Integridad",null,null,null,"nivel de servicio","A","M","B"]
[null,"CALDAS",17,"regional_tipo_3",null,"GESTIÓN DE TALENTO HUMANO",null,null,"CZ Oriente Medio",null,"CZ Hipódromo","CZ Bosa 1","CZ Magangué","CZ Garagoa","CZ Norte","Caivas - CZ Florencia 2",null,"CZ Macizo Colombiano ","Unidad Local - CZ Chiriguaná","CaVIF - CZ Quibdó","CZ Lorica","CZ Facatativá",null,null,"Casa de Justicia - CZ La Plata","CZ  Nazareth","CZ Plato","Casa de Justicia - CZ Villavicencio 2 ","CZ La Unión","CZ Tibú","Unidad Local - CZ Puerto Asís","SRPA - CZ Armenia Norte","Caivas - CZ Pereira",null,"CZ Socorro","SRPA - CZ Sincelejo","CZ Honda","CZ Jamundí",null,null,null,"Grupo de Planeación y Sistemas","Grupo de Protección","Grupo Jurídico",null,null,null,"RECURSO HUMANO -C",null,null,null,"Nivel de acceso ",null,"No Aplica",null,null,null,null,null,null,"Dirección de Nutrición","DIRECTOR DE NUTRICIÓN",null,null,null,"Pública",null,"Grave",null,null,null,"privacidad","A","M","B"]
[null,"CAQUETÁ",18,"regional_tipo_3",null,"GESTIÓN FINANCIERA",null,null,"CZ Oriente",null,"CZ Sur Oriente","CZ Bosa 2","CZ Mompox","CZ Puerto Boyacá","CZ Café","SRPA - CZ Florencia 2",null,"CZ Costa Pacífica","Unidad Local - CZ Aguachica","Caivas - CZ Quibdó","CZ Sahagún","CZ Fusagasugá",null,null,"Defensoría - CZ Gaitana","Caivas - CZ Riohacha 2 ","CZ El Banco","Caivas - CZ Villavicencio 2 ","CZ Barbacoas","Caivas - CZ Cúcuta 2","Unidad Local - CZ La Hormiga",null,"SRPA - CZ Pereira",null,"CZ Vélez",null,"CZ Espinal","CZ Yumbo",null,null,null,"Grupo de Protección","Grupo Financiero",null,null,null,null,"SERVICIO",null,null,null,"Alto",null,null,null,null,null,null,null,null,"Dirección de Planeación y Control de Gestión","DIRECTOR DE PLANEACIÓN Y CONTROL DE GESTIÓN",null,null,null,"Clasificada",null,"Importante",null,null,null,"Ley de reserva","SI","NO"]
[null,"CASANARE",85,"regional_tipo_3",null,"GESTIÓN JURÍDICA",null,null,"CZ Occidente Medio",null,"Caivas - Norte Centro Histórico","CZ Kennedy","CZ Simití","CZ Soatá","Caivas - Manizales 2",null,null,"SRPA - CZ Norte","Unidad Local - CZ Codazzi","SRPA - CZ Quibdó","CZ San Andrés de Sotavento","CZ Cáqueza",null,null,"Caivas - CZ La Gaitana","SRPA - CZ Riohacha 2 ","CZ Santa Ana","Cespa - CZ Villavicencio 2 ","CZ Remolino","Cespa - CZ Cúcuta 1",null,null,null,null,"CZ Málaga",null,"CZ Chaparral","CZ Palmira",null,null,null,"Grupo de Recaudo","Grupo Jurídico",null,null,null,null,"INTANGIBLE",null,null,null,"Medio",null,null,null,"X",null,null,null,null,"Dirección de Primera Infancia","DIRECTOR DE PRIMERA INFANCIA",null,null,null,"Reservada",null,"Leve"]
[null,"CAUCA",19,"regional_tipo_3",null,"INSPECCIÓN, VIGILANCIA Y CONTROL ",null,null,"CZ Occidente",null,"Cespa - Norte Centro Histórico","CZ Fontibón","SRPA - CZ Histórico y del Caribe Norte","CZ El Cocuy","Cespa - Manizales 2",null,null,"Unidad Local - CZ Norte","Caivas - CZ Valledupar 2","Casa de Justicia - CZ Quibdó","Caivas","CZ Gachetá",null,null,"Casa de Justicia - CZ La Gaitana",null,"Caivas - CZ Santa Marta Sur",null,"Caivas - CZ Tumaco",null,null,null,null,null,"CZ La Floresta",null,"CZ Purificación","CZ Buga",null,null,null,"Grupo de Responsabilidad Penal",null,null,null,null,null,"No Aplica",null,null,null,"Bajo",null,null,null,"No Aplica",null,null,null,null,"Dirección de Protección","DIRECTOR DE PROTECCIÓN "]
[null,"CESAR",20,"regional_tipo_3",null,"MEJORA E INNOVACIÓN",null,null,"CZ Nororiental",null,null,"CZ Engativá","Caivas - CZ Histórico y del Caribe Norte","CZ Miraflores","Sede Linares - R. Caldas",null,null,"SRPA - CZ Popayán","Cespa - CZ Valledupar 2",null,"Cespa","CZ Girardot",null,null,null,null,"Cespa - CZ Santa Marta Norte",null,"Caivas - CZ Pasto 1",null,null,null,null,null,"CZ Luis Carlos Galán Sarmiento",null,"CZ Melgar","CZ Tulúa",null,null,null,"Grupo Financiero",null,null,null,null,null,null,null,null,null,null,null,null,null,null,null,null,null,null,"Dirección de Servicios y Atención","DIRECTOR DE SERVICIOS Y ATENCIÓN",null,null,null,null,null,null,null,null,null,"PÚBLICO","Bajo"]
[null,"CHOCÓ",27,"regional_tipo_3",null,"MONITOREO Y SEGUIMIENTO A LA GESTIÓN ",null,null,"CZ Noroccidental ",null,null,"CZ Suba","Cespa - CZ Histórico y del Caribe Norte","CZ Moniquirá",null,null,null,"Casa de Justicia - CZ Popayán ",null,null,null,"CZ Chocontá",null,null,null,null,null,null,"SRPA - CZ Pasto 2",null,null,null,null,null,"CZ Resurgir",null,"Caivas - CZ Jordán","CZ Sevilla",null,null,null,"Grupo Jurídico",null,null,null,null,null,null,null,null,null,null,null,null,null,null,null,null,null,null,"Dirección Financiera","DIRECTOR FINANCIERO",null,null,null,null,null,null,null,null,null,"PRIVADO","Alto"]
[null,"CÓRDOBA",23,"regional_tipo_3",null,"PROMOCIÓN Y PREVENCIÓN ",null,null,"CZ Magdalena Medio ",null,null,"CZ Barrios Unidos",null,"CZ Otanche",null,null,null,"Caivas - CZ Popayán ",null,null,null,"CZ La Mesa",null,null,null,null,null,null,null,null,null,null,null,null,"Caivas - CZ Luis Carlos Galán Sarmiento",null,"SRPA - CZ Jordán","CZ Roldanillo",null,null,null,null,null,null,null,null,null,null,null,null,null,null,null,null,null,"Sí",null,null,null,null,"Dirección General ","DIRECTOR GENERAL",null,null,null,null,null,null,null,null,null,"SEMIPRIVADO","Medio"]
[null,"CUNDINAMARCA",25,"regional_tipo_3",null,"PROTECCIÓN",null,null,"CZ La Meseta",null,null,"CZ Mártires",null,"Caivas - CZ Tunja 2 ",null,null,null,null,null,null,null,"CZ San Juan de Rioseco",null,null,null,null,null,null,null,null,null,null,null,null,"SRPA - CZ La Floresta",null,null,"CZ Cartago",null,null,null,null,null,null,null,null,null,null,null,null,null,null,null,null,null,"No",null,null,null,null,"Dirección Sistema Nacional de Bienestar Familiar","DIRECTOR SISTEMA NACIONAL DE BIENESTAR FAMILIAR",null,null,null,null,null,null,null,null,null,"SENSIBLE","Alto"]
[null,"GUAINÍA",94,"regional_tipo_4",null,"RELACIÓN CON EL CIUDADANO",null,null,"CZ Bajo Cauca",null,null,"CZ CREER",null,"Cespa - CZ Tunja 2 ",null,null,null,null,null,null,null,"Cespa -  CZ Girardot",null,null,null,null,null,null,null,null,null,null,null,null,null,null,null,"CZ Buenaventura",null,null,null,null,null,null,null,null,null,null,null,null,null,null,null,null,null,"No Aplica",null,null,null,null,"Oficina Asesora de Comunicaciones","JEFE OFICINA ASESORA DE COMUNJICACIONES",null,null,null,null,null,null,null,null,null,"DATOS DE NIÑOS,  NIÑAS O ADOLESCENTES.\n","Alto"]
[null,"GUAVIARE",95,"regional_tipo_4",null,"SERVICIOS ADMINISTRATIVOS",null,null,"CZ Aburra Sur",null,null,"CZ Rafael Uribe",null,"Cespa - CZ Sogamoso",null,null,null,null,null,null,null,"Cespa - CZ Ubaté",null,null,null,null,null,null,null,null,null,null,null,null,null,null,null,"CZ Restaurar",null,null,null,null,null,null,null,null,null,null,null,null,null,null,null,null,null,null,null,null,null,null,"Oficina Asesora Jurídica","JEFE OFICINA ASESORA JURÍDICA"]
[null,"HUILA",41,"regional_tipo_3",null,null,null,null,"CZ Aburra Norte",null,null,"CZ Ciudad Bolívar",null,"Cespa - CZ Garagoa",null,null,null,null,null,null,null,"Cespa - CZ Fusagasugá",null,null,null,null,null,null,null,null,null,null,null,null,null,null,null,"SRPA - CZ Buenaventura",null,null,null,null,null,null,null,null,null,null,null,null,null,null,null,null,null,null,null,null,null,null,"Oficina de Aseguramiento a la Calidad","JEFE OFICINA DE ASEGURAMIENTO A LA CALIDAD"]
[null,"LA_GUAJIRA",44,"regional_tipo_3",null,null,null,null,"CZ La Floresta",null,null,"CZ Revivir",null,"Cespa - CZ Duitama",null,null,null,null,null,null,null,"Caivas - CZ Fusagasugá",null,null,null,null,null,null,null,null,null,null,null,null,null,null,null,"Caivas - CZ Palmira",null,null,null,null,null,null,null,null,null,null,null,null,null,null,null,null,null,null,null,null,null,null,"Oficina de Control Interno","JEFE OFICINA DE CONTROL INTERNO "]
[null,"MAGDALENA",47,"regional_tipo_3",null,null,null,null,"SRPA Medellín - CZ La Floresta",null,null,"Casa de Justicia - CZ Ciudad Bolívar",null,"Casas de Justicia  - CZ Tunja 2",null,null,null,null,null,null,null,"Cespa - CZ Facatativá",null,null,null,null,null,null,null,null,null,null,null,null,null,null,null,"SRPA - CZ Palmira",null,null,null,null,null,null,null,null,null,null,null,null,null,null,null,null,null,null,null,null,null,null,"Oficina de Control Interno Disciplinario","JEFE OFICINA DE CONTROL INTERNO DISCIPLINARIO"]
[null,"META",50,"regional_tipo_3",null,null,null,null,"SRPA Rionegro - CZ Oriente",null,null,"Casa de Justicia - CZ  Suba",null,null,null,null,null,null,null,null,null,"Caivas - CZ Facatativá",null,null,null,null,null,null,null,null,null,null,null,null,null,null,null,"Caivas - CZ Cartago",null,null,null,null,null,null,null,null,null,null,null,null,null,null,null,null,null,null,null,null,null,null,"Oficina de Cooperación y Convenios","JEFE OFICINA COOPERACIÓN Y CONVENIOS"]
[null,"NARIÑO",52,"regional_tipo_3",null,null,null,null,"Defensoría - CZ Noroccidental ",null,null,"Cespa- CZ Puente Aranda",null,null,null,null,null,null,null,null,null,"Cespa - CZ  Zipaquirá",null,null,null,null,null,null,null,null,null,null,null,null,null,null,null,"SRPA - CZ Cartago",null,null,null,null,null,null,null,null,null,null,null,null,null,null,null,null,null,null,null,null,null,null,"Oficina de Gestión Regional","JEFE OFICINA GESTIÓN REGIONAL DIRECCIÓN GENERAL"]
[null,"N_SANTANDER",54,"regional_tipo_3",null,"Recursos",null,null,"Defensoría - CZ Nororiental",null,null,"SRPA  -  CZ Puente Aranda",null,null,null,null,null,null,null,null,null,"Caivas - CZ Soacha",null,null,null,null,null,null,null,null,null,null,null,null,null,null,null,"Caivas - CZ Buga",null,null,null,null,null,null,null,null,null,null,null,null,null,null,null,null,null,null,null,null,null,null,"Secretaría General","SECRETARIO GENERAL SEDE NACIONAL"]
[null,"PUTUMAYO",86,"regional_tipo_3",null,"Servidores ",null,null,"Unidad de Emergencia  - CZ Nororiental",null,null,"Cavif - R. Bogotá",null,null,null,null,null,null,null,null,null,"Cespa - CZ Soacha",null,null,null,null,null,null,null,null,null,null,null,null,null,null,null,"SRPA - CZ Buga",null,null,null,null,null,null,null,null,null,null,null,null,null,null,null,null,null,null,null,null,null,null,"Subdirección de Adopciones","SUBDIRECTOR DE ADOPCIONES"]
[null,"QUINDÍO",63,"regional_tipo_3",null,"UPS",null,null,"Caivas - CZ Rosales",null,null,"Cavip - R. Bogotá",null,null,null,null,null,null,null,null,null,null,null,null,null,null,null,null,null,null,null,null,null,null,null,null,null,null,null,null,null,null,null,null,null,null,null,null,null,null,null,null,null,null,null,null,null,null,null,null,"Subdirección de Articulación Nacional del SNBF","SUBDIRECTOR DE ARTICULACIÓN NACIONAL DEL SNBF"]
[null,"RISARALDA",66,"regional_tipo_3",null,"LAN ",null,null,"Defensoría - CZ Rosales",null,null,"Defensoría - R. Bogotá",null,null,null,null,null,null,null,null,null,null,null,null,null,null,null,null,null,null,null,null,null,null,null,null,null,null,null,null,null,null,null,null,null,null,null,null,null,null,null,null,null,null,null,null,null,null,null,null,"Subdirección de Articulación Territorial del SNBF","SUBDIRECTOR DE ARTICULACIÓN TERRITORIAL DEL SNBF"]
[null,"SAN_ANDRÉS",88,"regional_tipo_3",null,"No Aplica",null,null,"CAIF - CZ Rosales",null,null,"Caivas - CZ CREER",null,null,null,null,null,null,null,null,null,null,null,null,null,null,null,null,null,null,null,null,null,null,null,null,null,null,null,null,null,null,null,null,null,null,null,null,null,null,null,null,null,null,null,null,null,null,null,null,"Subdirección de Gestión Técnica para la Atención a la Familia y Comunidades","SUBDIRECTOR DE GESTIÓN TÉCNICA DE FAMILIA Y COMUNIDADES"]
[null,"SANTANDER",68,"regional_tipo_3",null,null,null,null,null,null,null,"Defensoría - CZ CREER",null,null,null,null,null,null,null,null,null,null,null,null,null,null,null,null,null,null,null,null,null,null,null,null,null,null,null,null,null,null,null,null,null,null,null,null,null,null,null,null,null,null,null,null,null,null,null,null,"Subdirección de Gestión Técnica para la Atención a la Niñez y a la Adolescencia","SUBDIRECTOR DE GESTIÓN TÉCNICA PARA LA ATENCIÓN A LA NIÑEZ Y A LA ADOLESCENCIA"]
[null,"SEDE_DE_LA_DIRECCIÓN_GENERAL",1,"regional_tipo_0",null,null,null,null,null,null,null,null,null,null,null,null,null,null,null,null,null,null,null,null,null,null,null,null,null,null,null,null,null,null,null,null,null,null,null,null,null,null,null,null,null,null,null,null,null,null,null,null,null,null,null,null,null,null,null,null,"Subdirección de Gestión Técnica para la Atención a la Primera Infancia","SUBDIRECTOR DE GESTIÓN TÉCNICA PARA LA ATENCIÓN A PRIMERA INFANCIA"]
[null,"SUCRE",70,"regional_tipo_3",null,null,null,null,null,null,null,null,null,null,null,null,null,null,null,null,null,null,null,null,null,null,null,null,null,null,null,null,null,null,null,null,null,null,null,null,null,null,null,null,null,null,null,null,null,null,null,null,null,null,null,null,null,null,null,null,"Subdirección de Mejoramiento Organizacional","SUBDIRECTOR DE MEJORAMIENTO ORGANIZACIONAL"]
[null,"TOLIMA",73,"regional_tipo_3",null,null,null,null,null,null,null,null,null,null,null,null,null,null,null,null,null,null,null,null,null,null,null,null,null,null,null,null,null,null,null,null,null,null,null,null,null,null,null,null,null,null,null,null,null,null,null,null,null,null,null,null,null,null,null,null,"Subdirección de Monitoreo y Evaluación","SUBDIRECTOR DE MONITOREO Y EVALUACIÓN"]
[null,"VALLE",76,"regional_tipo_2",null,null,null,null,null,null,null,null,null,null,null,null,null,null,null,null,null,null,null,null,null,null,null,null,null,null,null,null,null,null,null,null,null,null,null,null,null,null,null,null,null,null,null,null,null,null,null,null,null,null,null,null,null,null,null,null,"Subdirección de Operación de la Atención a la Familia y Comunidades.","SUBDIRECTOR DE OPERACIÓN DE LA ATENCIÓN  A LA FAMILIA Y COMUNIDADES"]
[null,"VAUPÉS",97,"regional_tipo_4",null,null,null,null,null,null,null,null,null,null,null,null,null,null,null,null,null,null,null,null,null,null,null,null,null,null,null,null,null,null,null,null,null,null,null,null,null,null,null,null,null,null,null,null,null,null,null,null,null,null,null,null,null,null,null,null,"Subdirección de Operación de la Atención a la Niñez y a la Adolescencia","SUBDIRECTOR DE OPERACIÓN DE LA ATENCIÓN A LA NIÑEZ Y A LA ADOLESCENCIA"]
[null,"VICHADA",99,"regional_tipo_4",null,null,null,null,null,null,null,null,null,null,null,null,null,null,null,null,null,null,null,null,null,null,null,null,null,null,null,null,null,null,null,null,null,null,null,null,null,null,null,null,null,null,null,null,null,null,null,null,null,null,null,null,null,null,null,null,"Subdirección de Operación de la Atención a la Primera Infancia","SUBDIRECTOR DE OPERACIÓN DE LA ATENCIÓN A LA PRIMERA INFANCIA"]
[null,null,null,null,null,null,null,null,null,null,null,null,null,null,null,null,null,null,null,null,null,null,null,null,null,null,null,null,null,null,null,null,null,null,null,null,null,null,null,null,null,null,null,null,null,null,null,null,null,null,null,null,null,null,null,null,null,null,null,null,"Subdirección de Programación","SUBDIRECTOR DE PROGRAMACIÓN"]
[null,null,null,null,null,null,null,null,null,null,null,null,null,null,null,null,null,null,null,null,null,null,null,null,null,null,null,null,null,null,null,null,null,null,null,null,null,null,null,null,null,null,null,null,null,null,null,null,null,null,null,null,null,null,null,null,null,null,null,null,"Subdirección de Recursos Tecnológicos","SUBDIRECTOR DE RECURSOS TECNOLÓGICOS"]
[null,"ÁREAS/DEPENDENCIAS SDG",null,null,null,null,null,null,null,null,null,null,null,null,null,null,null,null,null,null,null,null,null,null,null,null,null,null,null,null,null,null,null,null,null,null,null,null,null,null,null,null,null,null,null,null,null,null,null,null,null,null,null,null,null,null,null,null,null,null,"Subdirección de Responsabilidad Penal","SUBDIRECTOR DE RESPONSABILIDAD PENAL"]
[null,"Dirección de Abastecimiento",null,null,null,null,null,null,null,null,null,null,null,null,null,null,null,null,null,null,null,null,null,null,null,null,null,null,null,null,null,null,null,null,null,null,null,null,null,null,null,null,null,null,null,null,null,null,null,null,null,null,null,null,null,null,null,null,null,null,"Subdirección de Restablecimiento de Derechos","SUBDIRECTOR DE RESTABLECIMIENTO DE DERECHOS"]
[null,"Dirección de Contratación",null,null,null,null,null,null,null,null,null,null,null,null,null,null,null,null,null,null,null,null,null,null,null,null,null,null,null,null,null,null,null,null,null,null,null,null,null,null,null,null,null,null,null,null,null,null,null,null,null,null,null,null,null,null,null,null,null,null,"Subdirección de Sistemas Integrados de Información","SUBDIRECTOR DE SISTEMAS INTEGRADOS DE INFORMACIÓN"]
[null,"Oficina de Cooperación y Convenios ",null,null,null,null,null,null,null,null,null,null,null,null,null,null,null,null,null,null,null,null,null,null,null,null,null,null,null,null,null,null,null,null,null,null,null,null,null,null,null,null,null,null,null,null,null,null,null,null,null,null,null,null,null,null,null,null,null,null,"Subdirección General","SUBDIRECTOR GENERAL"]
[null,"Oficina Asesora de Comunicaciones",null,null,null,null,null,null,null,null,null,null,null,null,null,null,null,null,null,null,null,null,null,null,null,null,null,null,null,null,null,null,null,null,null,null,null,null,null,null,null,null,null,null,null,null,null,null,null,null,null,null,null,null,null,null,null,null,null,null,null,"COORDINADOR DE ADMINISTRACIÓN DE LA CARRERA ADMINISTRATIVA"]
[null,"Dirección de Sistema Nacional de Bienestar Familiar",null,null,null,null,null,null,null,null,null,null,null,null,null,null,null,null,null,null,null,null,null,null,null,null,null,null,null,null,null,null,null,null,null,null,null,null,null,null,null,null,null,null,null,null,null,null,null,null,null,null,null,null,null,null,null,null,null,null,null,"DIRECTOR ADMINISTRATRATIVO"]
[null,"Oficina de Cooperación y Convenios ",null,null,null,null,null,null,null,null,null,null,null,null,null,null,null,null,null,null,null,null,null,null,null,null,null,null,null,null,null,null,null,null,null,null,null,null,null,null,null,null,null,null,null,null,null,null,null,null,null,null,null,null,null,null,null,null,null,null,null,"COORDINADOR DE APOYO LOGISTICO"]
[null,"Dirección de Planeación y Control de Gestión",null,null,null,null,null,null,null,null,null,null,null,null,null,null,null,null,null,null,null,null,null,null,null,null,null,null,null,null,null,null,null,null,null,null,null,null,null,null,null,null,null,null,null,null,null,null,null,null,null,null,null,null,null,null,null,null,null,null,null,"COORDINADOR DE GESTIÓN DOCUMENTAL"]
[null,"Oficina de Gestión Regional",null,null,null,null,null,null,null,null,null,null,null,null,null,null,null,null,null,null,null,null,null,null,null,null,null,null,null,null,null,null,null,null,null,null,null,null,null,null,null,null,null,null,null,null,null,null,null,null,null,null,null,null,null,null,null,null,null,null,null,"COORDINADOR DE INFRAESTRUCTURA INMOBILIARIA"]
[null,"Oficina de Control Interno",null,null,null,null,"Sí",null,null,null,null,null,null,null,null,null,null,null,null,null,null,null,null,null,null,null,null,null,null,null,null,null,null,null,null,null,null,null,null,null,null,null,null,null,null,null,null,null,null,null,null,null,null,null,null,null,null,null,null,null,null,"COORDINADOR DE GESTIÓN DE BIENES"]
[null,"Dirección de Información y Tecnología",null,null,null,null,"No",null,null,null,null,null,null,null,null,null,null,null,null,null,null,null,null,null,null,null,null,null,null,null,null,null,null,null,null,null,null,null,null,null,null,null,null,null,null,null,null,null,null,null,null,null,null,null,null,null,null,null,null,null,null,"COORDINADOR DE PLANEACIÓN ADMINISTRATIVA"]
[null,"Subdirección de Recursos Tecnológicos",null,null,null,null,"No Aplica",null,null,null,null,null,null,null,null,null,null,null,null,null,null,null,null,null,null,null,null,null,null,null,null,null,null,null,null,null,null,null,null,null,null,null,null,null,null,null,null,null,null,null,null,null,null,null,null,null,null,null,null,null,null,"DIRECTOR FINANCIERO"]
[null,"Subdirección de Sistemas Integrados",null,null,null,null,null,null,null,null,null,null,null,null,null,null,null,null,null,null,null,null,null,null,null,null,null,null,null,null,null,null,null,null,null,null,null,null,null,null,null,null,null,null,null,null,null,null,null,null,null,null,null,null,null,null,null,null,null,null,null,"COORDINADOR DE PRESUPUESTO"]
[null,"Dirección de Planeación y Control de Gestión",null,null,null,null,null,null,null,null,null,null,null,null,null,null,null,null,null,null,null,null,null,null,null,null,null,null,null,null,null,null,null,null,null,null,null,null,null,null,null,null,null,null,null,null,null,null,null,null,null,null,null,null,null,null,null,null,null,null,null,"COORDINADOR DE CONTABILIDAD"]
[null,"Dirección de Gestión Humana",null,null,null,null,null,null,null,null,null,null,null,null,null,null,null,null,null,null,null,null,null,null,null,null,null,null,null,null,null,null,null,null,null,null,null,null,null,null,null,null,null,null,null,null,null,null,null,null,null,null,null,null,null,null,null,null,null,null,null,"COORDINADOR DE PLANEACIÓN Y SEGUIMIENTO FINANCIERO Y DE GESTIÓN"]
[null,"Oficina de Control Interno Disciplinario",null,null,null,null,null,null,null,null,null,null,null,null,null,null,null,null,null,null,null,null,null,null,null,null,null,null,null,null,null,null,null,null,null,null,null,null,null,null,null,null,null,null,null,null,null,null,null,null,null,null,null,null,null,null,null,null,null,null,null,"COORDINADOR DE TESORERÍA"]
[null,"Dirección Financiera",null,null,null,null,null,null,null,null,null,null,null,null,null,null,null,null,null,null,null,null,null,null,null,null,null,null,null,null,null,null,null,null,null,null,null,null,null,null,null,null,null,null,null,null,null,null,null,null,null,null,null,null,null,null,null,null,null,null,null,"COORDINADOR DE RECAUDO"]
[null,"Oficina Asesora Jurídica ",null,null,null,null,null,null,null,null,null,null,null,null,null,null,null,null,null,null,null,null,null,null,null,null,null,null,null,null,null,null,null,null,null,null,null,null,null,null,null,null,null,null,null,null,null,null,null,null,null,null,null,null,null,null,null,null,null,null,null,"COORDINADOR FINANCIERO DE LA SEDE DE LA DIRECCIÓN GENERAL"]
[null,"Oficina de Aseguramiento a la Calidad",null,null,null,null,null,null,null,null,null,null,null,null,null,null,null,null,null,null,null,null,null,null,null,null,null,null,null,null,null,null,null,null,null,null,null,null,null,null,null,null,null,null,null,null,null,null,null,null,null,null,null,null,null,null,null,null,null,null,null,"JEFE OFICINA DE CONTROL INTERNO DISCIPLINARIO"]
[null,"Subdirección de Mejoramiento Organizacional",null,null,null,null,null,null,null,null,null,null,null,null,null,null,null,null,null,null,null,null,null,null,null,null,null,null,null,null,null,null,null,null,null,null,null,null,null,null,null,null,null,null,null,null,null,null,null,null,null,null,null,null,null,null,null,null,null,null,null,"COORDINADOR DE QUEJAS"]
[null,"Dirección de Planeación y Control de Gestión",null,null,null,null,null,null,null,null,null,null,null,null,null,null,null,null,null,null,null,null,null,null,null,null,null,null,null,null,null,null,null,null,null,null,null,null,null,null,null,null,null,null,null,null,null,null,null,null,null,null,null,null,null,null,null,null,null,null,null,"COORDINADOR DE PREVENCIÓN"]
[null,"Subdirección de Monitoreo y Evaluación ",null,null,null,null,null,null,null,null,null,null,null,null,null,null,null,null,null,null,null,null,null,null,null,null,null,null,null,null,null,null,null,null,null,null,null,null,null,null,null,null,null,null,null,null,null,null,null,null,null,null,null,null,null,null,null,null,null,null,null,"COORDINADOR DE INVESTIGACIONES DISCIPLINARIAS"]
[null,"Dirección de Primera Infancia",null,null,null,null,null,null,null,null,null,null,null,null,null,null,null,null,null,null,null,null,null,null,null,null,null,null,null,null,null,null,null,null,null,null,null,null,null,null,null,null,null,null,null,null,null,null,null,null,null,null,null,null,null,null,null,null,null,null,null,"COORDINADOR ESPECIAL DE ACTUACIÓN INMEDIATA"]
[null,"Dirección de Familia y Comunidades",null,null,null,null,null,null,null,null,null,null,null,null,null,null,null,null,null,null,null,null,null,null,null,null,null,null,null,null,null,null,null,null,null,null,null,null,null,null,null,null,null,null,null,null,null,null,null,null,null,null,null,null,null,null,null,null,null,null,null,"DIRECTOR DE CONTRATACIÓN"]
[null,"Dirección de Niñez y Adolescencia",null,null,null,null,null,null,null,null,null,null,null,null,null,null,null,null,null,null,null,null,null,null,null,null,null,null,null,null,null,null,null,null,null,null,null,null,null,null,null,null,null,null,null,null,null,null,null,null,null,null,null,null,null,null,null,null,null,null,null,"DIRECTOR DE SERVICIOS Y ATENCIÓN"]
[null,"Dirección de Nutrición",null,null,null,null,null,null,null,null,null,null,null,null,null,null,null,null,null,null,null,null,null,null,null,null,null,null,null,null,null,null,null,null,null,null,null,null,null,null,null,null,null,null,null,null,null,null,null,null,null,null,null,null,null,null,null,null,null,null,null,"COORDINADOR DE GESTIÓN DE CALIDAD PARA EL SERVICIO Y LA ATENCIÓN"]
[null,"Dirección de Protección",null,null,null,null,null,null,null,null,null,null,null,null,null,null,null,null,null,null,null,null,null,null,null,null,null,null,null,null,null,null,null,null,null,null,null,null,null,null,null,null,null,null,null,null,null,null,null,null,null,null,null,null,null,null,null,null,null,null,null,"COORDINADOR DE GESTIÓN DE CANALES CENTRO DE CONTACTO"]
[null,"Subdirección de Restablecimiento de Derechos",null,null,null,null,null,null,null,null,null,null,null,null,null,null,null,null,null,null,null,null,null,null,null,null,null,null,null,null,null,null,null,null,null,null,null,null,null,null,null,null,null,null,null,null,null,null,null,null,null,null,null,null,null,null,null,null,null,null,null,"DIRECTOR DE LOGÍSTICA Y ABASTACIMIENTO"]
[null,"Subdirección de Adopciones",null,null,null,null,null,null,null,null,null,null,null,null,null,null,null,null,null,null,null,null,null,null,null,null,null,null,null,null,null,null,null,null,null,null,null,null,null,null,null,null,null,null,null,null,null,null,null,null,null,null,null,null,null,null,null,null,null,null,null,"DIRECTOR DE PLANEACIÓN Y CONTROL DE GESTIÓN"]
[null,"Subdirección de Responsabilidad Penal",null,null,null,null,null,null,null,null,null,null,null,null,null,null,null,null,null,null,null,null,null,null,null,null,null,null,null,null,null,null,null,null,null,null,null,null,null,null,null,null,null,null,null,null,null,null,null,null,null,null,null,null,null,null,null,null,null,null,null,"COORDINADOR DE ESTADÍSTICA Y GESTIÓN DE INFORMACIÓN"]
[null,"Dirección de Nutrición",null,null,null,null,null,null,null,null,null,null,null,null,null,null,null,null,null,null,null,null,null,null,null,null,null,null,null,null,null,null,null,null,null,null,null,null,null,null,null,null,null,null,null,null,null,null,null,null,null,null,null,null,null,null,null,null,null,null,null,"SUBDIRECTOR DE PROGRAMACIÓN"]
[null,"Dirección de Servicios y Atención",null,null,null,null,null,null,null,null,null,null,null,null,null,null,null,null,null,null,null,null,null,null,null,null,null,null,null,null,null,null,null,null,null,null,null,null,null,null,null,null,null,null,null,null,null,null,null,null,null,null,null,null,null,null,null,null,null,null,null,"SUBDIRECTOR DE MEJORAMIENTO ORGANIZACIONAL"]
[null,"Dirección de Planeación y Control de Gestión",null,null,null,null,null,null,null,null,null,null,null,null,null,null,null,null,null,null,null,null,null,null,null,null,null,null,null,null,null,null,null,null,null,null,null,null,null,null,null,null,null,null,null,null,null,null,null,null,null,null,null,null,null,null,null,null,null,null,null,"SUBDIRECTOR DE MONITOREO Y EVALUACIÓN"]
[null,"Dirección Administrativa",null,null,null,null,null,null,null,null,null,null,null,null,null,null,null,null,null,null,null,null,null,null,null,null,null,null,null,null,null,null,null,null,null,null,null,null,null,null,null,null,null,null,null,null,null,null,null,null,null,null,null,null,null,null,null,null,null,null,null,"DIRECTOR SISTEMA NACIONAL DE BIENESTAR FAMILIAR"]
[null,"No Aplica",null,null,null,null,null,null,null,null,null,"GESTIÓN_FINANCIERA",null,null,null,null,null,null,null,null,null,null,null,null,null,null,null,null,null,null,null,null,null,null,null,null,null,null,null,null,null,null,null,null,null,null,null,null,null,null,null,null,null,null,null,null,null,null,null,null,null,"SUBDIRECTOR DE ARTICULACIÓN NACIONAL DEL SNBF"]
[null,null,null,null,null,null,null,null,null,null,null,"Dirección Financiera",null,null,null,null,null,null,null,null,null,null,null,null,null,null,null,null,null,null,null,null,null,null,null,null,null,null,null,null,null,null,null,null,null,null,null,null,null,null,null,null,null,null,null,null,null,null,null,null,null,"SUBDIRECTOR DE ARTICULACIÓN TERRITORIAL DEL SNBF"]
[null,"RESPONSABLES NIVEL SEDE GEENRAL",null,null,"ADQUISICIÓN_DE_BIENES_Y_SERVICIOS","COMUNICACIÓN_ESTRATÉGICA","COORDINACIÓN_Y_ARTICULACIÓN_DEL_SNBF_Y_AGENTES",null,null,"GESTIÓN_DE_LA_TECNOLOGÍA_E_INFORMACIÓN","GESTIÓN_DEL_TALENTO_HUMANO",null,null,"INSPECCIÓN_VIGILANCIA_Y_CONTROL","MEJORA_E_INNOVACIÓN",null,"PROMOCIÓN_Y_PREVENCIÓN",null,null,null,null,null,null,null,null,null,null,null,null,null,null,null,null,null,null,null,null,null,null,null,null,null,null,null,null,null,null,null,null,null,null,null,null,null,null,null,null,null,null,null,null,"DIRECTOR DE INFORMACIÓN Y TECNOLOGÍA"]
[null,null,null,null,"Dirección de Abastecimiento","Oficina Asesora de Comunicaciones","Dirección de Sistema Nacional de Bienestar Familiar","DIRECCIONAMIENTO_ESTRATÉGICO",null,"Dirección de Información y Tecnología","Dirección de Gestión Humana",null,"GESTIÓN_JURÍDICA","Oficina de Aseguramiento a la Calidad","Subdirección de Mejoramiento Organizacional","MONITOREO_Y_SEGUIMIENTO_A_LA_GESTIÓN","Dirección de Primera Infancia",null,null,"SERVICIOS_ADMINISTRATIVOS",null,null,null,null,null,null,null,null,null,null,null,null,null,null,null,null,null,null,null,null,null,null,null,null,null,null,null,null,null,null,null,null,null,null,null,null,null,null,null,null,null,"SUBDIRECTOR DE SISTEMAS INTEGRADOS DE INFORMACIÓN"]
[null,null,null,null,"Dirección de Contratación",null,"Oficina de Cooperación y Convenios ","Dirección de Planeación y Control de Gestión","EVALUACIÓN_INDEPENDIENTE","Subdirección de Recursos Tecnológicos","Grupo de Administración Carrera Administrativa",null,"Oficina Asesora Jurídica ",null,"Dirección de Planeación y Control de Gestión","Subdirección de Monitoreo y Evaluación ","Subdirección de Gestión Técnica API",null,null,"Dirección Administrativa",null,null,null,null,null,null,null,null,null,null,null,null,null,null,null,null,null,null,null,null,null,null,null,null,null,null,null,null,null,null,null,null,null,null,null,null,null,null,null,null,null,"SUBDIRECTOR DE RECURSOS TECNOLÓGICOS"]
[null,null,null,null,"Secretaría General",null,null,"Oficina de Gestión Regional","Oficina de Control Interno","Subdirección de Sistemas Integrados","Grupo de Administración de la Carrera Administrativa",null,null,null,null,null,"Subdirección de Operación API",null,"RELACIÓN_CON_EL_CIUDADANO","Grupo de Almacén e inventarios",null,null,null,null,null,null,null,null,null,null,null,null,null,null,null,null,null,null,null,null,null,null,null,null,null,null,null,null,null,null,null,null,null,null,null,null,null,null,null,null,null,"DIRECTOR DE PRIMERA INFANCIA"]
[null,null,null,null,"Oficina de Cooperación y Convenios ",null,null,null,null,null,"Grupo de Desarrollo del Talento Humano",null,null,null,null,null,"Dirección de Familia y Comunidades","PROTECCIÓN","Dirección de Servicios y Atención","Grupo de Apoyo Logístico",null,null,null,null,null,null,null,null,null,null,null,null,null,null,null,null,null,null,null,null,null,null,null,null,null,null,null,null,null,null,null,null,null,null,null,null,null,null,null,null,null,"SUBDIRECTOR DE GESTIÓN TÉCNICA PARA LA ATENCIÓN A PRIMERA INFANCIA"]
[null,null,null,null,null,null,null,null,null,null,"Grupo de Nómina y Seguridad Social",null,null,null,null,null,"Subdirección Gestión Técnica AFC","Dirección de Protección","Grupo de Gestión de Calidad para el Servicio y la Atención","Grupo de Gestión de Bienes",null,null,null,null,null,null,null,null,null,null,null,null,null,null,null,null,null,null,null,null,null,null,null,null,null,null,null,null,null,null,null,null,null,null,null,null,null,null,null,null,null,"SUBDIRECTOR DE OPERACIÓN DE LA ATENCIÓN A LA PRIMERA INFANCIA"]
[null,null,null,null,null,null,null,null,null,null,"Grupo de Registro y Control",null,null,null,null,null,"Subdirección de Operación AFC","Subdirección de Restablecimiento de Derechos","Grupo de Gestión de Canales Centro de Contacto","Grupo de Gestión Documental"]
[null,null,null,null,null,null,null,null,null,null,"Oficina de Control Interno Disciplinario",null,null,null,null,null,"Dirección de Niñez y Adolescencia","Subdirección de Adopciones",null,"Grupo de Infraestructura Inmobiliaria"]
[null,null,null,null,null,null,null,null,null,null,null,null,null,null,null,null,"Subdirección Gestión Técnica Niñez","Subdirección de Responsabilidad Penal",null,"Grupo de Planeación Administrativa"]
[null,null,null,null,null,null,null,null,null,null,null,null,null,null,null,null,"Subdirección de Operación Niñez","Dirección de Nutrición"]
[null,null,null,null,null,null,null,null,null,null,null,null,null,null,null,null,"Dirección de Nutrición"]
[null,null,null,null,null,null,null,null,null,null,null,"Director Financiera",null,null,null,null,"Grupo Gestión Técnica Nutrición"]
[null,null,null,null,null,null,null,null,null,null,null,null,null,null,null,null,null,null,null,null,null,null,null,null,null,null,null,null,null,null,null,null,null,null,null,null,null,null,null,null,null,null,null,null,null,null,null,null,null,null,null,null,null,null,null,null,null,null,null,null,null,"DIRECTOR DE NIÑEZ Y ADOLESCENCIA"]
[null,null,null,null,"Director de Abastecimiento","Jefe de Oficina de Comunicaciones","Director de de Sistema Nacional de Bienestar Familiar ",null,null,"Director de información y Tecnología","Director de Gestión Humana",null,null,"Jefe de Oficina de Aseguramiento a la Calidad","Subdirector de Mejoramiento Organizacional",null,null,null,null,null,null,null,null,null,null,null,null,null,null,null,null,null,null,null,null,null,null,null,null,null,null,null,null,null,null,null,null,null,null,null,null,null,null,null,null,null,null,null,null,null,null,"SUBDIRECTOR DE GESTIÓN TÉCNICA PARA LA ATENCIÓN A LA NIÑEZ Y A LA ADOLESCENCIA"]
[null,null,null,null,"Director de Contratación",null,"Jefe de Oficina de Cooperación y Convenios","Director de Planeación y Control de Gestión",null,"Subdirector de Recursos Tecnológicos","Jefe Oficina de Control Interno Disciplinario",null,"Jefe de Oficina Asesora Jurídica",null,"Director  de Planeación y Control de Gestión","Subdirector de Monitoreo y Evaluación",null,null,null,"Director Administrativa",null,null,null,null,null,null,null,null,null,null,null,null,null,null,null,null,null,null,null,null,null,null,null,null,null,null,null,null,null,null,null,null,null,null,null,null,null,null,null,null,null,"SUBDIRECTOR DE OPERACIÓN DE LA ATENCIÓN A LA NIÑEZ Y A LA ADOLESCENCIA"]
[null,null,null,null,"Jefe de Oficina de Cooperación y Convenios",null,null,"Jefe de Oficina de Gestión Regional","Jefe de Oficina de Control Interno","Subdirector de Sistemas Integrados de Información",null,null,null,null,null,null,null,null,null,null,null,null,null,null,null,null,null,null,null,null,null,null,null,null,null,null,null,null,null,null,null,null,null,null,null,null,null,null,null,null,null,null,null,null,null,null,null,null,null,null,null,"DIRECTOR DE FAMILIA Y COMUNIDADES"]
[null,null,null,null,null,null,null,null,null,"Director de Planeación y Control de Gestión",null,null,null,null,null,null,null,null,"Director de Planeación y Control de Gestión",null,null,null,null,null,null,null,null,null,null,null,null,null,null,null,null,null,null,null,null,null,null,null,null,null,null,null,null,null,null,null,null,null,null,null,null,null,null,null,null,null,null,"SUBDIRECTOR DE GESTIÓN TÉCNICA DE FAMILIA Y COMUNIDADES"]
[null,null,null,null,null,null,null,null,null,null,null,null,null,null,null,null,null,"Director de Protección","Director de Servicios y Atención",null,null,null,null,null,null,null,null,null,null,null,null,null,null,null,null,null,null,null,null,null,null,null,null,null,null,null,null,null,null,null,null,null,null,null,null,null,null,null,null,null,null,"SUBDIRECTOR DE OPERACIÓN DE LA ATENCIÓN  A LA FAMILIA Y COMUNIDADES"]
[null,null,null,null,null,null,null,null,null,null,null,null,null,null,null,null,null,"Subdirector de Restablecimiento de Derechos",null,null,null,null,null,null,null,null,null,null,null,null,null,null,null,null,null,null,null,null,null,null,null,null,null,null,null,null,null,null,null,null,null,null,null,null,null,null,null,null,null,null,null,"DIRECTOR DE NUTRICIÓN"]
[null,null,null,null,null,null,null,null,null,null,null,null,null,null,null,null,null,"Subdirector de Adopciones",null,null,null,null,null,null,null,null,null,null,null,null,null,null,null,null,null,null,null,null,null,null,null,null,null,null,null,null,null,null,null,null,null,null,null,null,null,null,null,null,null,null,null,"DIRECTOR DE PROTECCIÓN "]
[null,"ADQUISICIÓN_DE_BIENES_Y_SERVICIOS","Apoyo",null,null,null,null,null,null,null,null,null,null,null,null,null,null,"Subdirector de Responsabilidad Penal",null,null,null,null,null,null,null,null,null,null,null,null,null,null,null,null,null,null,null,null,null,null,null,null,null,null,null,null,null,null,null,null,null,null,null,null,null,null,null,null,null,null,null,"SUBDIRECTOR DE RESTABLECIMIENTO DE DERECHOS"]
[null,"COMUNICACIÓN_ESTRATÉGICA","Estratégico",null,null,null,null,null,null,null,null,null,null,null,null,null,null,null,null,null,null,null,null,null,null,null,null,null,null,null,null,null,null,null,null,null,null,null,null,null,null,null,null,null,null,null,null,null,null,null,null,null,null,null,null,null,null,null,null,null,null,"SUBDIRECTOR DE RESPONSABILIDAD PENAL"]
[null,"COORDINACIÓN_Y_ARTICULACIÓN_DEL_SNBF_Y_AGENTES","Estratégico",null,null,null,null,null,null,null,null,null,null,null,null,null,null,null,null,null,null,null,null,null,null,null,null,null,null,null,null,null,null,null,null,null,null,null,null,null,null,null,null,null,null,null,null,null,null,null,null,null,null,null,null,null,null,null,null,null,null,"SUBDIRECTOR DE ADOPCIONES"]
[null,"DIRECCIONAMIENTO_ESTRATÉGICO","Estratégico"]
[null,"EVALUACIÓN_INDEPENDIENTE","Evaluación"]
[null,"GESTIÓN_DE_LA_TECNOLOGÍA_E_INFORMACIÓN","Estratégico"]
[null,"GESTIÓN_DEL_TALENTO_HUMANO","Apoyo"]
[null,"GESTIÓN_FINANCIERA","Apoyo"]
[null,"GESTIÓN_JURÍDICA","Apoyo"]
[null,"INSPECCIÓN_VIGILANCIA_Y_CONTROL","Evaluación"]
[null,"MEJORA_E_INNOVACIÓN","Estratégico"]
[null,"MONITOREO_Y_SEGUIMIENTO_A_LA_GESTIÓN","Evaluación"]
[null,"PROMOCIÓN_Y_PREVENCIÓN","Misional"]
[null,"PROTECCIÓN","Misional"]
[null,"RELACIÓN_CON_EL_CIUDADANO","Misional"]
[null,"SERVICIOS_ADMINISTRATIVOS","Apoyo"]

{"sheet":"Hoja4","index":2,"n_rows":20,"n_cols":4,"rows_kept":20,"cut":false,"hidden":true,"merged":[]}
["SERVICIOS_SDG",null,"SERVICIOS REGIONALES"]
["Servicio de Aplicaciones","SAT","Servidores ","SSR"]
["Servicio de Servidores","SST","UPS","SUPSR"]
["Servicios de Bases de Datos","SBDT","LAN ","SLANR"]
["Servicio Video conferencia","SVCT"]
["Servicio Implementación Regional y Zonal ","SIRZ"]
["Servicio Soporte en Sitio ","SSST"]
["Servicio Backup","SBKT"]
["Servicio Seguridad Informática ","SSIT"]
["Servicio Antivirus","SATT"]
["Servicio LAN WLAN ","SLWT"]
["Servicio Internet Móvil","SIMT"]
["Servicio WAN","SWT"]
["servicio NAS","SNT"]
["Servicio Telefonía","STLT"]
["Servicio UPS","SUT"]
["Servicio Licenciamiento","SLCT"]
[]
[]
["No aplica","NA"]

{"sheet":"Hoja3","index":3,"n_rows":72,"n_cols":15,"rows_kept":72,"cut":false,"hidden":true,"merged":[[31,14,34,16],[35,14,42,16],[44,14,51,16],[53,14,57,16],[59,14,65,16],[28,14,30,16],[0,14,0,16],[2,0,2,1],[2,2,3,2],[2,3,2,4],[2,5,2,7],[2,8,2,9],[2,10,2,13],[2,14,3,16],[5,14,8,16],[9,14,12,16],[13,14,17,16],[18,14,22,16],[23,14,26,16]]}
["Entidad Productora: INSTITUTO COLOMBIANO DE BIENESTAR FAMILIAR"]
["Código Dependencia: 139",null,null,null,"Dependencia Productora:  SUBDIRECCIÓN DE MEJORAMIENTO ORGANIZACIONAL"]
["CÓDIGO",null,"SERIES, SUBSERIES, TIPOS DOCUMENTALES","SOPORTE",null,"INDICE DE CLASIFICACIÓN",null,null,"TIEMPO DE RETENCIÓN",null,"DISPOSICION FINAL",null,null,null,"PROCEDIMIENTO "]
["SERIE","SUBSERIE",null,"E","F","P","Cl","R","GESTIÓN","CENTRAL","C","Mt","E","S"]
[3,null,"ACTAS"]
[3,8,"Acta de Comité de Coordinación del Sistema Integrado de Gestión",null,null,null,"X",null,3,7,null,null,null,"X","Estas actas contienen información sobre el mapa de operación por procesos, el estudio y aprobación de las políticas de SIGE, el análisis de incidentes de la seguridad de la información, entre otros temas, de acuerdo a la Resolución 7070 de 2017, artículo 9.\n\nLuego de su tiempo de retención en el archivo central, se hará una selección del 5%, de acuerdo al procedimiento establecido por la entidad."]
[null,null,"Acta","X","X"]
[null,null,"Informe","X","X"]
[null,null,"Anexos documentales según lo tratado en Comité","X","X"]
[3,33,"Acta de Subcomité de Coordinación del Sistema Integrado de Gestión",null,null,null,"X",null,3,7,null,null,null,"X","Estas actas contienen información sobre el mapa de operación por procesos, el estudio y aprobación de las políticas de SIGE, el análisis de incidentes de la seguridad de la información, entre otros temas, de acuerdo a la Resolución 7070 de 2017, artículo 13.\n\nLuego de su tiempo de retención en el archivo central, se hará una selección del 5%, de acuerdo al procedimiento establecido por la entidad."]
[null,null,"Acta","X","X"]
[null,null,"Informe","X","X"]
[null,null,"Anexos documentales según lo tratado en Comité","X","X"]
[7,null,"ANALISIS DE CARGAS LABORALES",null,null,null,"X",null,3,7,null,null,null,"X","Esta subserie hace referencia a los  estudios de procedimientos y tramites  que sirvan para determinar las las cargas de trabajo, en concordancia  con el Decreto 0987 de 2012 del Departamento Administrativo para la Protección Social artículo 20, numeral 9.\n\nLuego de su tiempo de retención en el archivo central, se hará una selección del 5%, de acuerdo al procedimiento establecido por la entidad."]
[null,null,"Actas","X","X"]
[null,null,"Analisis de Cargas","X","X"]
[null,null,"Conceptos Tecnicos","X","X"]
[null,null,"Informes","X","X"]
[11,null,"ASISTENCIA TÉCNICA",null,null,null,"X",null,1,9,null,null,null,"X","Esta serie documental hace referencia a las asesorías y asistencias que se brindan relacionadas con los temas de planeación en la entidad, en concordancia con el Decreto 987 de 2012, artículo 20, numeral 9 y 16.\n\nUna vez cumplido el tiempo de retención en el archivo central se seleccionará el cinco porciento (5%) de la información aplicando el procedimiento establecido por la institución."]
[null,null,"Solicitud","X","X"]
[null,null,"Actas",null,"X"]
[null,null,"Informe","X","X"]
[null,null,"Anexos documentales soporte de la asistencia","X","X"]
[32,null,"COORDINACION DEL SISTEMA UNICO DE INFORMACION DE TRAMITES",null,null,null,"X",null,2,8,null,null,"X",null,"Esta serie contienen la información sobre la coordinación del SUIT, de acuerdo a la Resolución 7666 de 2016, artículo 3.\n\nLuego de su tiempo de retención en el archivo central, se elimina de acuerdo al procedimiento establecido por la entidad."]
[null,null,"Plan de racionalización de tramites","X"]
[null,null,"Actas","X","X"]
[null,null,"Informe","X","X"]
[67,null,"PLANES"]
[67,25,"Plan Operativo Sistema de Gestión POSIGE - Eje Calidad",null,null,"X",null,null,2,8,null,null,null,"X","Este plan contiene los indicadores de atención a las metas proyectadas a corto y mediano plazo, en concordancia con el Decreto 987 de 2012, artículo 18, numeral 3, y la Resolución 7070 de 2017, articulo 17 numerales A y B.\n\nLuego de su tiempo de retención en el archivo central, se hará una selección del 5%, de acuerdo al procedimiento establecido por la entidad."]
[null,null,"Plan ",null,"X"]
[null,null,"Evidencias",null,"X"]
[71,null,"POSTULACION A MODELOS DE EXCELENCIA",null,null,"X",null,null,2,8,null,null,null,"X","Esta serie contienen la información sobre la Postulación que hace la entidad para obtener el reconocimiento del Gobierno sobre el desarrollo de procesos hacia la calidad, de acuerdo al Decreto 0987 de 2012 del Departamento Administrativo para la Protección Social artículo 20, numeral 5.\n\nLuego de su tiempo de retención en el archivo central, se hará una selección del 5%, de acuerdo al procedimiento establecido por la entidad."]
[null,null,"Informe para postulación","X","X"]
[null,null,"Actas de acompañamiento","X","X"]
[null,null,"Anexos documentales soporte a la postulación","X","X"]
[81,null,"PROYECTOS DE GESTION DEL CONOCIMIENTO E INNOVACION",null,null,"X",null,null,2,8,null,null,"X",null,"Esta serie contienen la información sobre los proyectos que abarcan la Gestión del Conocimiento y la innovación en concordancia con el Decreto 0987 de 2012 del Departamento Administrativo para la Protección Social artículo 20, numeral 2 y 8.\n\nLuego de su tiempo de retención en el archivo central, se elimina de acuerdo al procedimiento establecido por la entidad."]
[null,null,"Actas","X","X"]
[null,null,"Informes","X","X"]
[null,null,"Caracterización de Problemas","X"]
[null,null,"Proyectos de Innovación","X"]
[null,null,"Evaluación de Proyectos de innovación","X"]
[null,null,"Presentación de experiencias innovadoras","X"]
[]
[92,null,"SEGUIMIENTOS"]
[92,5,"Seguimiento y mejora continua al SIGE",null,null,"X",null,null,3,7,null,null,"X",null,"Esta subserie hace referencia al seguimiento que debe realizar el area en pro de la mejora continua al SIGE,  en concordancia  con el Decreto 0987 de 2012 del Departamento Administrativo para la Protección Social artículo 20, numeral 4.\n\nLuego de su tiempo de retención en el archivo central, se elimina de acuerdo al procedimiento establecido por la entidad."]
[null,null,"Matriz de riesgos","X"]
[null,null,"Evaluaciones de requisitos legales y otros requisitos","X"]
[null,null,"Informes de Auditoria Ente calificador","X","X"]
[null,null,"Plan de Mejora","X"]
[null,null,"Actas","X","X"]
[null,null,"Anexos documentales soporte del seguimiento","X","X"]
[null,null,"Presentaciones soporte","X"]
[94,null,"SISTEMA INTEGRADO DE GESTIÓN"]
[94,1,"Control de creación y Actualización",null,null,"X",null,null,3,12,null,null,"X",null,"Esta subserie hace referencia al Tramite para la creación y actualización de documentos referentes al SIGE,  en concordancia  con el Decreto 0987 de 2012 del Departamento Administrativo para la Protección Social artículo 20, numeral 6.\n\nLuego de su tiempo de retención en el archivo central, se elimina de acuerdo al procedimiento establecido por la entidad."]
[null,null,"Solicitud","X","X"]
[null,null,"Anexos documentales soporte del cambio","X"]
[null,null,"Aprobación de la solicitud","X","X"]
[null,null,"Listado maestro de documentos","X"]
[94,2,"Información Documentada",null,null,"X",null,null,2,8,null,null,null,"X"]
[null,null,"Manual del Sistema Integrado de Gestión","X",null,null,null,null,null,null,null,null,null,null,"En esta subserie se pueden encontrar los manuales, guías, instructivos y lineamientos que conforman los diferentes módulos del sistema integrado de gestión (seguridad de la información, gestión de documentos, política ambiental, etc.), en concordancia con la Ley 87 de 1993, Resolución 10232 de 2015 del ICBF, Resolución 9364 de 2016 del ICBF, artículo 55, 57, 60, 61, 62, del CPACA, y el Decreto 987 de 2012, artículo 20, numerales 1, 3 y 6. \n\nLuego de su tiempo de retención en el archivo central, se hará una selección del 5% del total de la documentación, teniendo en cuenta el procedimiento establecido por la entidad en su momento."]
[null,null,"Lineamientos ","X"]
[null,null,"Procedimientos","X"]
[null,null,"Manuales Operativos","X"]
[null,null,"Guías","X"]
[null,null,"Instructivos","X"]
[null,null,"Formatos","X"]
["Convenciones"]
["Soporte:",null,"Electrónico: E","Disposición Final",null,null,null,"Conservar: C"]
[null,null,"Físico: F",null,null,null,null,"Medio Técnico: Mt"]
["Indice de Clasificación",null,"Pública: P",null,null,null,null,"Eliminar: E"]
[null,null,"Clasificada: Cl",null,null,null,null,"Seleccionar: S"]
[null,null,"Reservada: R"]

{"sheet":"Hoja5","index":4,"n_rows":18,"n_cols":5,"rows_kept":18,"cut":false,"hidden":true,"merged":[]}
[]
[]
["ADQUISICIÓN_DE_BIENES_Y_SERVICIOS","Apoyo"]
["COMUNICACIÓN_ESTRATÉGICA","Estratégico"]
["COORDINACIÓN_Y_ARTICULACIÓN_DEL_SNBF_Y_AGENTES","Estratégico",null,null,"EstratégicoX"]
["DIRECCIONAMIENTO_ESTRATÉGICO","Estratégico",null,null,"Misional"]
["EVALUACIÓN_INDEPENDIENTE","Evaluación"]
["GESTIÓN_DE_LA_TECNOLOGÍA_E_INFORMACIÓN","Estratégico"]
["GESTIÓN_DEL_TALENTO_HUMANO","Apoyo",null,null,"Servicio UPS"]
["GESTIÓN_FINANCIERA","Apoyo",null,null,"aaa sasas qwqw UPS"]
["GESTIÓN_JURÍDICA","Apoyo"]
["INSPECCIÓN_VIGILANCIA_Y_CONTROL","Evaluación"]
["MEJORA_E_INNOVACIÓN","Estratégico"]
["MONITOREO_Y_SEGUIMIENTO_A_LA_GESTIÓN","Evaluación"]
["PROMOCIÓN_Y_PREVENCIÓN","Misional"]
["PROTECCIÓN","Misional"]
["RELACIÓN_CON_EL_CIUDADANO","Misional"]
["SERVICIOS_ADMINISTRATIVOS","Apoyo"]

{"sheet":"Hoja1","index":5,"n_rows":51,"n_cols":27,"rows_kept":51,"cut":false,"hidden":true,"merged":[]}
[]
[null,null,null," Clasificación ICBF"," Clasificación ICBF"," Clasificación ICBF","Nivel de acceso ","Nivel de acceso ","Nivel de acceso ","Nivel de Servicio",null,null,null,"FÍSICO ","Reservada","Alto",8,{"$f":"+CONCATENATE(N2,O2,P2,Q2)","v":"FÍSICO ReservadaAlto8"},"Alto",null,"FÍSICO ","Pública"]
[null,null,"FÍSICO ","Reservada","Clasificada",null,"Alto","Medio",null,8,"Alto",{"$f":"+CONCATENATE(C3,C4,C5,C6,C7,C8,C9,C10,C11)","v":"FÍSICO ELECTRÓNICOFÍSICO-ELECTRÓNICOSOFTWAREHARDWARESOPORTERECURSO HUMANO -PRECURSO HUMANO -CSERVICIO"},null,"ELECTRÓNICO","Reservada","Alto",8,{"$f":"+CONCATENATE(N3,O3,P3,Q3)","v":"ELECTRÓNICOReservadaAlto8"},"Alto",null,"ELECTRÓNICO","Pública"]
[null,null,"ELECTRÓNICO","Reservada","Clasificada",null,"Alto","Medio",null,8,null,null,null,"FÍSICO-ELECTRÓNICO","Reservada","Alto",8,"FÍSICO-ELECTRÓNICOReservadaAlto8","Alto",null,"FÍSICO-ELECTRÓNICO","Pública"]
[null,null,"FÍSICO-ELECTRÓNICO","Reservada","Clasificada",null,"Alto","Medio",null,8,null,null,null,"SOFTWARE","Reservada","Alto",8,"SOFTWAREReservadaAlto8","Alto",null,"SOFTWARE","Pública"]
[null,null,"SOFTWARE","Reservada","Clasificada",null,"Alto",null,null,8,null,null,null,"HARDWARE","Reservada","Alto",8,"HARDWAREReservadaAlto8","Alto",null,"HARDWARE","Pública"]
[null,null,"HARDWARE","Reservada","Clasificada",null,"Alto",null,null,8,"ok","(Y(O(N7=\"FÍSICO\";N7=\"ELECTRÓNICO\";N7=\"FÍSICO-ELECTRÓNICO\";N7=\"SOFTWARE\";N7=\"HARDWARE\";N7=\"SOPORTE\";N7=\"RECURSO HUMANO -P\";N7=\"RECURSO HUMANO -C\";N7=\"SERVICIO\");O(Y7=\"Reservada\";Y7=\"Clasificada\");S7=\"Alto\";T7=8);\"Alto\";SI(Y(O(N7=\"FÍSICO\";N7=\"ELECTRÓNICO\";N7=\"FÍSICO-ELECTRÓNICO\");O(Y7=\"Reservada\";Y7=\"Clasificada\");S7=\"Medio\";T7=8);\"Alto\";\"me jodi\"))",null,"SOPORTE","Reservada","Alto",8,"SOPORTEReservadaAlto8","Alto",null,"SOPORTE","Pública"]
[null,null,"SOPORTE","Reservada","Clasificada",null,"Alto",null,null,8,null,null,null,"RECURSO HUMANO -P","Reservada","Alto",8,"RECURSO HUMANO -PReservadaAlto8","Alto",null,"RECURSO HUMANO -P","Pública"]
[null,null,"RECURSO HUMANO -P","Reservada","Clasificada",null,"Alto",null,null,8,null,"\"Reservada\";\"Clasificada\"",null,"RECURSO HUMANO -C","Reservada","Alto",8,"RECURSO HUMANO -CReservadaAlto8","Alto",null,"RECURSO HUMANO -C","Pública"]
[null,null,"RECURSO HUMANO -C","Reservada","Clasificada",null,"Alto",null,null,8,null,null,null,"SERVICIO","Reservada","Alto",8,"SERVICIOReservadaAlto8","Alto",null,"SERVICIO","Pública"]
[null,null,"SERVICIO","Reservada","Clasificada",null,"Alto",null,null,8,null,8,null,"FÍSICO ","Clasificada","Alto",8,"FÍSICO ClasificadaAlto8","Alto"]
[null,null,null,null,null,null,null,null,null,null,null,null,null,"ELECTRÓNICO","Clasificada","Alto",8,"ELECTRÓNICOClasificadaAlto8","Alto"]
[null,null,null,null,null,null,null,null,null,null,null,null,null,"FÍSICO-ELECTRÓNICO","Clasificada","Alto",8,"FÍSICO-ELECTRÓNICOClasificadaAlto8","Alto"]
[null," Clasificación ICBF","Reservada","Clasificada","Pública",null,null,null,null,null,null,null,null,"SOFTWARE","Clasificada","Alto",8,"SOFTWAREClasificadaAlto8","Alto",null,null,null,9,3,3,4,{"$f":"+W14*X14*Y14*Z14","v":324}]
[null,null,null,null,null,null,null,null,null,null,null,null,null,"HARDWARE","Clasificada","Alto",8,"HARDWAREClasificadaAlto8","Alto"]
[null,"Nivel de acceso ","Alto","Medio","Bajo",null,null,null,null,null,null,null,null,"SOPORTE","Clasificada","Alto",8,"SOPORTEClasificadaAlto8","Alto"]
[null,null,null,null,null,null,null,null,null,null,null,null,null,"RECURSO HUMANO -P","Clasificada","Alto",8,"RECURSO HUMANO -PClasificadaAlto8","Alto"]
[null,"Nivel de Servicio",8,16,24,48,null,null,null,null,null,null,null,"RECURSO HUMANO -C","Clasificada","Alto",8,"RECURSO HUMANO -CClasificadaAlto8","Alto"]
[null,null,null,null,null,null,null,null,null,null,null,null,null,"SERVICIO","Clasificada","Alto",8,"SERVICIOClasificadaAlto8","Alto"]
[null,null," Clasificación ICBF"," Clasificación ICBF"," Clasificación ICBF","Nivel de acceso ","Nivel de acceso ","Nivel de acceso ","Nivel de Servicio","Medio",null,null,null,"FÍSICO ","Reservada","Medio",8,"FÍSICO ReservadaMedio8","Alto"]
[null,"FÍSICO ","Clasificada",null,null,"Medio",null,null,24,null,null,null,null,"ELECTRÓNICO","Reservada","Medio",8,"ELECTRÓNICOReservadaMedio8","Alto"]
[null,"ELECTRÓNICO","Clasificada",null,null,"Medio",null,null,24,null,null,"(Y(O(N7=\"FÍSICO\";N7=\"ELECTRÓNICO\";N7=\"FÍSICO-ELECTRÓNICO\";N7=\"SOFTWARE\";N7=\"HARDWARE\";N7=\"SOPORTE\";N7=\"RECURSO HUMANO -P\";N7=\"RECURSO HUMANO -C\";N7=\"SERVICIO\")",null,"FÍSICO-ELECTRÓNICO","Reservada","Medio",8,"FÍSICO-ELECTRÓNICOReservadaMedio8","Alto"]
[null,"FÍSICO-ELECTRÓNICO","Clasificada",null,null,"Medio",null,null,24]
[null,"SOFTWARE","Reservada","Clasificada",null,"Medio",null,null,8]
[null,"HARDWARE","Reservada","Clasificada",null,"Medio",null,null,8]
[null,"SOPORTE","Reservada","Clasificada",null,"Medio",null,null,8,null,null,null,null,"FÍSICO ","Clasificada","Medio",24,{"$f":"+CONCATENATE(N26,O26,P26,Q26)","v":"FÍSICO ClasificadaMedio24"}]
[null,"RECURSO HUMANO -P","Reservada","Clasificada",null,"Medio",null,null,16,null,null,null,null,"ELECTRÓNICO","Clasificada","Medio",24,{"$f":"+CONCATENATE(N27,O27,P27,Q27)","v":"ELECTRÓNICOClasificadaMedio24"}]
[null,"RECURSO HUMANO -C","Reservada","Clasificada",null,"Medio",null,null,16,null,null,null,null,"FÍSICO-ELECTRÓNICO","Clasificada","Medio",24,"FÍSICO-ELECTRÓNICOClasificadaMedio24"]
[null,"SERVICIO","Reservada","Clasificada",null,"Medio",null,null,8,null,null,null,null,"SOFTWARE","Clasificada","Medio",8,"SOFTWAREClasificadaMedio8"]
[null,null,null,null,null,null,null,null,null,null,null,null,null,"HARDWARE","Clasificada","Medio",8,"HARDWAREClasificadaMedio8"]
[null,null,null,null,null,null,null,null,null,null,null,null,null,"SOPORTE","Clasificada","Medio",8,"SOPORTEClasificadaMedio8"]
[null,null," Clasificación ICBF"," Clasificación ICBF"," Clasificación ICBF","Nivel de acceso ","Nivel de acceso ","Nivel de acceso ","Nivel de Servicio",null,null,null,null,"RECURSO HUMANO -P","Clasificada","Medio",16,"RECURSO HUMANO -PClasificadaMedio16"]
[null,"FÍSICO ","Pública",null,null,"Bajo",null,null,48,null,null,null,null,"RECURSO HUMANO -C","Clasificada","Medio",16,"RECURSO HUMANO -CClasificadaMedio16"]
[null,"ELECTRÓNICO","Pública",null,null,"Bajo",null,null,48,null,null,null,null,"SERVICIO","Clasificada","Medio",8,"SERVICIOClasificadaMedio8"]
[null,"FÍSICO-ELECTRÓNICO","Pública",null,null,"Bajo",null,null,48,null,null,null,null,"SOFTWARE","Reservada","Medio",8,"SOFTWAREReservadaMedio8"]
[null,"SOFTWARE","Clasificada",null,null,"Bajo",null,null,48,null,null,null,null,"HARDWARE","Reservada","Medio",8,"HARDWAREReservadaMedio8"]
[null,"HARDWARE","Clasificada",null,null,"Bajo",null,null,48,null,null,null,null,"SOPORTE","Reservada","Medio",8,"SOPORTEReservadaMedio8"]
[null,"SOPORTE","Clasificada",null,null,"Bajo",null,null,48,null,null,null,null,"RECURSO HUMANO -P","Reservada","Medio",16,"RECURSO HUMANO -PReservadaMedio16"]
[null,"RECURSO HUMANO -P","Clasificada",null,null,"Bajo",null,null,24,null,null,null,null,"RECURSO HUMANO -C","Reservada","Medio",16,"RECURSO HUMANO -CReservadaMedio16"]
[null,"RECURSO HUMANO -C","Clasificada",null,null,"Bajo",null,null,24,null,null,null,null,"SERVICIO","Reservada","Medio",8,{"$f":"+CONCATENATE(N40,O40,P40,Q40)","v":"SERVICIOReservadaMedio8"}]
[null,"SERVICIO","Clasificada",null,null,"Bajo",null,null,48]
[]
[null,null,null,null,null,null,null,null,null,null,null,null,null,"FÍSICO ","Pública","Bajo",48,{"$f":"+CONCATENATE(N43,O43,P43,Q43)","v":"FÍSICO PúblicaBajo48"}]
[null,null,null,null,null,null,null,null,null,null,null,null,null,"ELECTRÓNICO","Pública","Bajo",48,"ELECTRÓNICOPúblicaBajo48"]
[null,null,null,null,null,null,null,null,null,null,null,null,null,"FÍSICO-ELECTRÓNICO","Pública","Bajo",48,"FÍSICO-ELECTRÓNICOPúblicaBajo48"]
[null,null,null,null,null,null,null,null,null,null,null,null,null,"SOFTWARE","Clasificada","Bajo",48,"SOFTWAREClasificadaBajo48"]
[null,null,null,null,null,null,null,null,null,null,null,null,null,"HARDWARE","Clasificada","Bajo",48,"HARDWAREClasificadaBajo48"]
[null,null,null,null,null,null,null,null,null,null,null,null,null,"SOPORTE","Clasificada","Bajo",48,"SOPORTEClasificadaBajo48"]
[null,null,null,null,null,null,null,null,null,null,null,null,null,"RECURSO HUMANO -P","Clasificada","Bajo",48,"RECURSO HUMANO -PClasificadaBajo48"]
[null,null,null,null,null,null,null,null,null,null,null,null,null,"RECURSO HUMANO -C","Clasificada","Bajo",48,"RECURSO HUMANO -CClasificadaBajo48"]
[null,null,null,null,null,null,null,null,null,null,null,null,null,"SERVICIO","Clasificada","Bajo",48,"SERVICIOClasificadaBajo48"]

{"sheet":"Hoja2","index":6,"n_rows":325,"n_cols":7,"rows_kept":325,"cut":false,"hidden":true,"merged":[]}
[null,"Tipo de Activo","Nivel de acceso ","Nivel de Servicio","CLASIFICACIÓN DEL A INFO","Tipo","CID"]
[null,"FÍSICO","Bajo",8,"Pública","FÍSICOBajo8Pública","Bajo"]
[null,"FÍSICO","Bajo",8,"Clasificada","FÍSICOBajo8Clasificada","Bajo"]
[null,"FÍSICO","Bajo",8,"Reservada","FÍSICOBajo8Reservada","Medio"]
[null,"FÍSICO","Medio",8,"Pública","FÍSICOMedio8Pública","Medio"]
[null,"FÍSICO","Medio",8,"Clasificada","FÍSICOMedio8Clasificada","Bajo"]
[null,"FÍSICO","Medio",8,"Reservada","FÍSICOMedio8Reservada","Medio"]
[null,"FÍSICO","Alto",8,"Pública","FÍSICOAlto8Pública","Medio"]
[null,"FÍSICO","Alto",8,"Clasificada","FÍSICOAlto8Clasificada","Alto"]
[null,"FÍSICO","Alto",8,"Reservada","FÍSICOAlto8Reservada","Alto"]
[null,"FÍSICO","Bajo",16,"Pública","FÍSICOBajo16Pública","Bajo"]
[null,"FÍSICO","Bajo",16,"Clasificada","FÍSICOBajo16Clasificada","Medio"]
[null,"FÍSICO","Bajo",16,"Reservada","FÍSICOBajo16Reservada","Medio"]
[null,"FÍSICO","Medio",16,"Pública","FÍSICOMedio16Pública","Bajo"]
[null,"FÍSICO","Medio",16,"Clasificada","FÍSICOMedio16Clasificada","Medio"]
[null,"FÍSICO","Medio",16,"Reservada","FÍSICOMedio16Reservada","Medio"]
[null,"FÍSICO","Alto",16,"Pública","FÍSICOAlto16Pública","Medio"]
[null,"FÍSICO","Alto",16,"Clasificada","FÍSICOAlto16Clasificada","Medio"]
[null,"FÍSICO","Alto",16,"Reservada","FÍSICOAlto16Reservada","Medio"]
[null,"FÍSICO","Bajo",24,"Pública","FÍSICOBajo24Pública","Bajo"]
[null,"FÍSICO","Bajo",24,"Clasificada","FÍSICOBajo24Clasificada","Medio"]
[null,"FÍSICO","Bajo",24,"Reservada","FÍSICOBajo24Reservada","Medio"]
[null,"FÍSICO","Medio",24,"Pública","FÍSICOMedio24Pública","Bajo"]
[null,"FÍSICO","Medio",24,"Clasificada","FÍSICOMedio24Clasificada","Medio"]
[null,"FÍSICO","Medio",24,"Reservada","FÍSICOMedio24Reservada","Medio"]
[null,"FÍSICO","Alto",24,"Pública","FÍSICOAlto24Pública","Bajo"]
[null,"FÍSICO","Alto",24,"Clasificada","FÍSICOAlto24Clasificada","Medio"]
[null,"FÍSICO","Alto",24,"Reservada","FÍSICOAlto24Reservada","Medio"]
[null,"FÍSICO","Bajo",48,"Pública","FÍSICOBajo48Pública","Bajo"]
[null,"FÍSICO","Bajo",48,"Clasificada","FÍSICOBajo48Clasificada","Medio"]
[null,"FÍSICO","Bajo",48,"Reservada","FÍSICOBajo48Reservada","Medio"]
[null,"FÍSICO","Medio",48,"Pública","FÍSICOMedio48Pública","Bajo"]
[null,"FÍSICO","Medio",48,"Clasificada","FÍSICOMedio48Clasificada","Medio"]
[null,"FÍSICO","Medio",48,"Reservada","FÍSICOMedio48Reservada","Medio"]
[null,"FÍSICO","Alto",48,"Pública","FÍSICOAlto48Pública","Bajo"]
[null,"FÍSICO","Alto",48,"Clasificada","FÍSICOAlto48Clasificada","Medio"]
[null,"FÍSICO","Alto",48,"Reservada","FÍSICOAlto48Reservada","Medio"]
[null,"ELECTRÓNICO","Bajo",8,"Pública","ELECTRÓNICOBajo8Pública","Bajo"]
[null,"ELECTRÓNICO","Bajo",8,"Clasificada","ELECTRÓNICOBajo8Clasificada","Bajo"]
[null,"ELECTRÓNICO","Bajo",8,"Reservada","ELECTRÓNICOBajo8Reservada","Medio"]
[null,"ELECTRÓNICO","Medio",8,"Pública","ELECTRÓNICOMedio8Pública","Medio"]
[null,"ELECTRÓNICO","Medio",8,"Clasificada","ELECTRÓNICOMedio8Clasificada","Bajo"]
[null,"ELECTRÓNICO","Medio",8,"Reservada","ELECTRÓNICOMedio8Reservada","Medio"]
[null,"ELECTRÓNICO","Alto",8,"Pública","ELECTRÓNICOAlto8Pública","Medio"]
[null,"ELECTRÓNICO","Alto",8,"Clasificada","ELECTRÓNICOAlto8Clasificada","Alto"]
[null,"ELECTRÓNICO","Alto",8,"Reservada","ELECTRÓNICOAlto8Reservada","Alto"]
[null,"ELECTRÓNICO","Bajo",16,"Pública","ELECTRÓNICOBajo16Pública","Bajo"]
[null,"ELECTRÓNICO","Bajo",16,"Clasificada","ELECTRÓNICOBajo16Clasificada","Medio"]
[null,"ELECTRÓNICO","Bajo",16,"Reservada","ELECTRÓNICOBajo16Reservada","Medio"]
[null,"ELECTRÓNICO","Medio",16,"Pública","ELECTRÓNICOMedio16Pública","Bajo"]
[null,"ELECTRÓNICO","Medio",16,"Clasificada","ELECTRÓNICOMedio16Clasificada","Medio"]
[null,"ELECTRÓNICO","Medio",16,"Reservada","ELECTRÓNICOMedio16Reservada","Medio"]
[null,"ELECTRÓNICO","Alto",16,"Pública","ELECTRÓNICOAlto16Pública","Medio"]
[null,"ELECTRÓNICO","Alto",16,"Clasificada","ELECTRÓNICOAlto16Clasificada","Medio"]
[null,"ELECTRÓNICO","Alto",16,"Reservada","ELECTRÓNICOAlto16Reservada","Medio"]
[null,"ELECTRÓNICO","Bajo",24,"Pública","ELECTRÓNICOBajo24Pública","Bajo"]
[null,"ELECTRÓNICO","Bajo",24,"Clasificada","ELECTRÓNICOBajo24Clasificada","Medio"]
[null,"ELECTRÓNICO","Bajo",24,"Reservada","ELECTRÓNICOBajo24Reservada","Medio"]
[null,"ELECTRÓNICO","Medio",24,"Pública","ELECTRÓNICOMedio24Pública","Bajo"]
[null,"ELECTRÓNICO","Medio",24,"Clasificada","ELECTRÓNICOMedio24Clasificada","Medio"]
[null,"ELECTRÓNICO","Medio",24,"Reservada","ELECTRÓNICOMedio24Reservada","Medio"]
[null,"ELECTRÓNICO","Alto",24,"Pública","ELECTRÓNICOAlto24Pública","Bajo"]
[null,"ELECTRÓNICO","Alto",24,"Clasificada","ELECTRÓNICOAlto24Clasificada","Medio"]
[null,"ELECTRÓNICO","Alto",24,"Reservada","ELECTRÓNICOAlto24Reservada","Medio"]
[null,"ELECTRÓNICO","Bajo",48,"Pública","ELECTRÓNICOBajo48Pública","Bajo"]
[null,"ELECTRÓNICO","Bajo",48,"Clasificada","ELECTRÓNICOBajo48Clasificada","Medio"]
[null,"ELECTRÓNICO","Bajo",48,"Reservada","ELECTRÓNICOBajo48Reservada","Medio"]
[null,"ELECTRÓNICO","Medio",48,"Pública","ELECTRÓNICOMedio48Pública","Bajo"]
[null,"ELECTRÓNICO","Medio",48,"Clasificada","ELECTRÓNICOMedio48Clasificada","Medio"]
[null,"ELECTRÓNICO","Medio",48,"Reservada","ELECTRÓNICOMedio48Reservada","Medio"]
[null,"ELECTRÓNICO","Alto",48,"Pública","ELECTRÓNICOAlto48Pública","Bajo"]
[null,"ELECTRÓNICO","Alto",48,"Clasificada","ELECTRÓNICOAlto48Clasificada","Medio"]
[null,"ELECTRÓNICO","Alto",48,"Reservada","ELECTRÓNICOAlto48Reservada","Medio"]
[null,"FÍSICO-ELECTRÓNICO","Bajo",8,"Pública","FÍSICO-ELECTRÓNICOBajo8Pública","Bajo"]
[null,"FÍSICO-ELECTRÓNICO","Bajo",8,"Clasificada","FÍSICO-ELECTRÓNICOBajo8Clasificada","Bajo"]
[null,"FÍSICO-ELECTRÓNICO","Bajo",8,"Reservada","FÍSICO-ELECTRÓNICOBajo8Reservada","Medio"]
[null,"FÍSICO-ELECTRÓNICO","Medio",8,"Pública","FÍSICO-ELECTRÓNICOMedio8Pública","Medio"]
[null,"FÍSICO-ELECTRÓNICO","Medio",8,"Clasificada","FÍSICO-ELECTRÓNICOMedio8Clasificada","Bajo"]
[null,"FÍSICO-ELECTRÓNICO","Medio",8,"Reservada","FÍSICO-ELECTRÓNICOMedio8Reservada","Medio"]
[null,"FÍSICO-ELECTRÓNICO","Alto",8,"Pública","FÍSICO-ELECTRÓNICOAlto8Pública","Medio"]
[null,"FÍSICO-ELECTRÓNICO","Alto",8,"Clasificada","FÍSICO-ELECTRÓNICOAlto8Clasificada","Alto"]
[null,"FÍSICO-ELECTRÓNICO","Alto",8,"Reservada","FÍSICO-ELECTRÓNICOAlto8Reservada","Alto"]
[null,"FÍSICO-ELECTRÓNICO","Bajo",16,"Pública","FÍSICO-ELECTRÓNICOBajo16Pública","Bajo"]
[null,"FÍSICO-ELECTRÓNICO","Bajo",16,"Clasificada","FÍSICO-ELECTRÓNICOBajo16Clasificada","Medio"]
[null,"FÍSICO-ELECTRÓNICO","Bajo",16,"Reservada","FÍSICO-ELECTRÓNICOBajo16Reservada","Medio"]
[null,"FÍSICO-ELECTRÓNICO","Medio",16,"Pública","FÍSICO-ELECTRÓNICOMedio16Pública","Bajo"]
[null,"FÍSICO-ELECTRÓNICO","Medio",16,"Clasificada","FÍSICO-ELECTRÓNICOMedio16Clasificada","Medio"]
[null,"FÍSICO-ELECTRÓNICO","Medio",16,"Reservada","FÍSICO-ELECTRÓNICOMedio16Reservada","Medio"]
[null,"FÍSICO-ELECTRÓNICO","Alto",16,"Pública","FÍSICO-ELECTRÓNICOAlto16Pública","Medio"]
[null,"FÍSICO-ELECTRÓNICO","Alto",16,"Clasificada","FÍSICO-ELECTRÓNICOAlto16Clasificada","Medio"]
[null,"FÍSICO-ELECTRÓNICO","Alto",16,"Reservada","FÍSICO-ELECTRÓNICOAlto16Reservada","Medio"]
[null,"FÍSICO-ELECTRÓNICO","Bajo",24,"Pública","FÍSICO-ELECTRÓNICOBajo24Pública","Bajo"]
[null,"FÍSICO-ELECTRÓNICO","Bajo",24,"Clasificada","FÍSICO-ELECTRÓNICOBajo24Clasificada","Medio"]
[null,"FÍSICO-ELECTRÓNICO","Bajo",24,"Reservada","FÍSICO-ELECTRÓNICOBajo24Reservada","Medio"]
[null,"FÍSICO-ELECTRÓNICO","Medio",24,"Pública","FÍSICO-ELECTRÓNICOMedio24Pública","Bajo"]
[null,"FÍSICO-ELECTRÓNICO","Medio",24,"Clasificada","FÍSICO-ELECTRÓNICOMedio24Clasificada","Medio"]
[null,"FÍSICO-ELECTRÓNICO","Medio",24,"Reservada","FÍSICO-ELECTRÓNICOMedio24Reservada","Medio"]
[null,"FÍSICO-ELECTRÓNICO","Alto",24,"Pública","FÍSICO-ELECTRÓNICOAlto24Pública","Bajo"]
[null,"FÍSICO-ELECTRÓNICO","Alto",24,"Clasificada","FÍSICO-ELECTRÓNICOAlto24Clasificada","Medio"]
[null,"FÍSICO-ELECTRÓNICO","Alto",24,"Reservada","FÍSICO-ELECTRÓNICOAlto24Reservada","Medio"]
[null,"FÍSICO-ELECTRÓNICO","Bajo",48,"Pública","FÍSICO-ELECTRÓNICOBajo48Pública","Bajo"]
[null,"FÍSICO-ELECTRÓNICO","Bajo",48,"Clasificada","FÍSICO-ELECTRÓNICOBajo48Clasificada","Medio"]
[null,"FÍSICO-ELECTRÓNICO","Bajo",48,"Reservada","FÍSICO-ELECTRÓNICOBajo48Reservada","Medio"]
[null,"FÍSICO-ELECTRÓNICO","Medio",48,"Pública","FÍSICO-ELECTRÓNICOMedio48Pública","Bajo"]
[null,"FÍSICO-ELECTRÓNICO","Medio",48,"Clasificada","FÍSICO-ELECTRÓNICOMedio48Clasificada","Medio"]
[null,"FÍSICO-ELECTRÓNICO","Medio",48,"Reservada","FÍSICO-ELECTRÓNICOMedio48Reservada","Medio"]
[null,"FÍSICO-ELECTRÓNICO","Alto",48,"Pública","FÍSICO-ELECTRÓNICOAlto48Pública","Bajo"]
[null,"FÍSICO-ELECTRÓNICO","Alto",48,"Clasificada","FÍSICO-ELECTRÓNICOAlto48Clasificada","Medio"]
[null,"FÍSICO-ELECTRÓNICO","Alto",48,"Reservada","FÍSICO-ELECTRÓNICOAlto48Reservada","Medio"]
[null,"SOFTWARE","Bajo",8,"Pública","SOFTWAREBajo8Pública","Bajo"]
[null,"SOFTWARE","Bajo",8,"Clasificada","SOFTWAREBajo8Clasificada","Bajo"]
[null,"SOFTWARE","Bajo",8,"Reservada","SOFTWAREBajo8Reservada","Medio"]
[null,"SOFTWARE","Medio",8,"Pública","SOFTWAREMedio8Pública","Medio"]
[null,"SOFTWARE","Medio",8,"Clasificada","SOFTWAREMedio8Clasificada","Medio"]
[null,"SOFTWARE","Medio",8,"Reservada","SOFTWAREMedio8Reservada","Medio"]
[null,"SOFTWARE","Alto",8,"Pública","SOFTWAREAlto8Pública","Medio"]
[null,"SOFTWARE","Alto",8,"Clasificada","SOFTWAREAlto8Clasificada","Alto"]
[null,"SOFTWARE","Alto",8,"Reservada","SOFTWAREAlto8Reservada","Alto"]
[null,"SOFTWARE","Bajo",16,"Pública","SOFTWAREBajo16Pública","Bajo"]
[null,"SOFTWARE","Bajo",16,"Clasificada","SOFTWAREBajo16Clasificada","Medio"]
[null,"SOFTWARE","Bajo",16,"Reservada","SOFTWAREBajo16Reservada","Medio"]
[null,"SOFTWARE","Medio",16,"Pública","SOFTWAREMedio16Pública","Bajo"]
[null,"SOFTWARE","Medio",16,"Clasificada","SOFTWAREMedio16Clasificada","Medio"]
[null,"SOFTWARE","Medio",16,"Reservada","SOFTWAREMedio16Reservada","Medio"]
[null,"SOFTWARE","Alto",16,"Pública","SOFTWAREAlto16Pública","Medio"]
[null,"SOFTWARE","Alto",16,"Clasificada","SOFTWAREAlto16Clasificada","Medio"]
[null,"SOFTWARE","Alto",16,"Reservada","SOFTWAREAlto16Reservada","Medio"]
[null,"SOFTWARE","Bajo",24,"Pública","SOFTWAREBajo24Pública","Bajo"]
[null,"SOFTWARE","Bajo",24,"Clasificada","SOFTWAREBajo24Clasificada","Medio"]
[null,"SOFTWARE","Bajo",24,"Reservada","SOFTWAREBajo24Reservada","Medio"]
[null,"SOFTWARE","Medio",24,"Pública","SOFTWAREMedio24Pública","Bajo"]
[null,"SOFTWARE","Medio",24,"Clasificada","SOFTWAREMedio24Clasificada","Medio"]
[null,"SOFTWARE","Medio",24,"Reservada","SOFTWAREMedio24Reservada","Medio"]
[null,"SOFTWARE","Alto",24,"Pública","SOFTWAREAlto24Pública","Bajo"]
[null,"SOFTWARE","Alto",24,"Clasificada","SOFTWAREAlto24Clasificada","Medio"]
[null,"SOFTWARE","Alto",24,"Reservada","SOFTWAREAlto24Reservada","Medio"]
[null,"SOFTWARE","Bajo",48,"Pública","SOFTWAREBajo48Pública","Bajo"]
[null,"SOFTWARE","Bajo",48,"Clasificada","SOFTWAREBajo48Clasificada","Medio"]
[null,"SOFTWARE","Bajo",48,"Reservada","SOFTWAREBajo48Reservada","Medio"]
[null,"SOFTWARE","Medio",48,"Pública","SOFTWAREMedio48Pública","Bajo"]
[null,"SOFTWARE","Medio",48,"Clasificada","SOFTWAREMedio48Clasificada","Medio"]
[null,"SOFTWARE","Medio",48,"Reservada","SOFTWAREMedio48Reservada","Medio"]
[null,"SOFTWARE","Alto",48,"Pública","SOFTWAREAlto48Pública","Bajo"]
[null,"SOFTWARE","Alto",48,"Clasificada","SOFTWAREAlto48Clasificada","Medio"]
[null,"SOFTWARE","Alto",48,"Reservada","SOFTWAREAlto48Reservada","Medio"]
[null,"HARDWARE","Bajo",8,"Pública","HARDWAREBajo8Pública","Bajo"]
[null,"HARDWARE","Bajo",8,"Clasificada","HARDWAREBajo8Clasificada","Bajo"]
[null,"HARDWARE","Bajo",8,"Reservada","HARDWAREBajo8Reservada","Medio"]
[null,"HARDWARE","Medio",8,"Pública","HARDWAREMedio8Pública","Medio"]
[null,"HARDWARE","Medio",8,"Clasificada","HARDWAREMedio8Clasificada","Medio"]
[null,"HARDWARE","Medio",8,"Reservada","HARDWAREMedio8Reservada","Medio"]
[null,"HARDWARE","Alto",8,"Pública","HARDWAREAlto8Pública","Medio"]
[null,"HARDWARE","Alto",8,"Clasificada","HARDWAREAlto8Clasificada","Alto"]
[null,"HARDWARE","Alto",8,"Reservada","HARDWAREAlto8Reservada","Alto"]
[null,"HARDWARE","Bajo",16,"Pública","HARDWAREBajo16Pública","Bajo"]
[null,"HARDWARE","Bajo",16,"Clasificada","HARDWAREBajo16Clasificada","Medio"]
[null,"HARDWARE","Bajo",16,"Reservada","HARDWAREBajo16Reservada","Medio"]
[null,"HARDWARE","Medio",16,"Pública","HARDWAREMedio16Pública","Bajo"]
[null,"HARDWARE","Medio",16,"Clasificada","HARDWAREMedio16Clasificada","Medio"]
[null,"HARDWARE","Medio",16,"Reservada","HARDWAREMedio16Reservada","Medio"]
[null,"HARDWARE","Alto",16,"Pública","HARDWAREAlto16Pública","Medio"]
[null,"HARDWARE","Alto",16,"Clasificada","HARDWAREAlto16Clasificada","Medio"]
[null,"HARDWARE","Alto",16,"Reservada","HARDWAREAlto16Reservada","Medio"]
[null,"HARDWARE","Bajo",24,"Pública","HARDWAREBajo24Pública","Bajo"]
[null,"HARDWARE","Bajo",24,"Clasificada","HARDWAREBajo24Clasificada","Medio"]
[null,"HARDWARE","Bajo",24,"Reservada","HARDWAREBajo24Reservada","Medio"]
[null,"HARDWARE","Medio",24,"Pública","HARDWAREMedio24Pública","Bajo"]
[null,"HARDWARE","Medio",24,"Clasificada","HARDWAREMedio24Clasificada","Medio"]
[null,"HARDWARE","Medio",24,"Reservada","HARDWAREMedio24Reservada","Medio"]
[null,"HARDWARE","Alto",24,"Pública","HARDWAREAlto24Pública","Bajo"]
[null,"HARDWARE","Alto",24,"Clasificada","HARDWAREAlto24Clasificada","Medio"]
[null,"HARDWARE","Alto",24,"Reservada","HARDWAREAlto24Reservada","Medio"]
[null,"HARDWARE","Bajo",48,"Pública","HARDWAREBajo48Pública","Bajo"]
[null,"HARDWARE","Bajo",48,"Clasificada","HARDWAREBajo48Clasificada","Medio"]
[null,"HARDWARE","Bajo",48,"Reservada","HARDWAREBajo48Reservada","Medio"]
[null,"HARDWARE","Medio",48,"Pública","HARDWAREMedio48Pública","Bajo"]
[null,"HARDWARE","Medio",48,"Clasificada","HARDWAREMedio48Clasificada","Medio"]
[null,"HARDWARE","Medio",48,"Reservada","HARDWAREMedio48Reservada","Medio"]
[null,"HARDWARE","Alto",48,"Pública","HARDWAREAlto48Pública","Bajo"]
[null,"HARDWARE","Alto",48,"Clasificada","HARDWAREAlto48Clasificada","Medio"]
[null,"HARDWARE","Alto",48,"Reservada","HARDWAREAlto48Reservada","Medio"]
[null,"SOPORTE","Bajo",8,"Pública","SOPORTEBajo8Pública","Bajo"]
[null,"SOPORTE","Bajo",8,"Clasificada","SOPORTEBajo8Clasificada","Bajo"]
[null,"SOPORTE","Bajo",8,"Reservada","SOPORTEBajo8Reservada","Medio"]
[null,"SOPORTE","Medio",8,"Pública","SOPORTEMedio8Pública","Medio"]
[null,"SOPORTE","Medio",8,"Clasificada","SOPORTEMedio8Clasificada","Medio"]
[null,"SOPORTE","Medio",8,"Reservada","SOPORTEMedio8Reservada","Medio"]
[null,"SOPORTE","Alto",8,"Pública","SOPORTEAlto8Pública","Medio"]
[null,"SOPORTE","Alto",8,"Clasificada","SOPORTEAlto8Clasificada","Alto"]
[null,"SOPORTE","Alto",8,"Reservada","SOPORTEAlto8Reservada","Alto"]
[null,"SOPORTE","Bajo",16,"Pública","SOPORTEBajo16Pública","Bajo"]
[null,"SOPORTE","Bajo",16,"Clasificada","SOPORTEBajo16Clasificada","Medio"]
[null,"SOPORTE","Bajo",16,"Reservada","SOPORTEBajo16Reservada","Medio"]
[null,"SOPORTE","Medio",16,"Pública","SOPORTEMedio16Pública","Bajo"]
[null,"SOPORTE","Medio",16,"Clasificada","SOPORTEMedio16Clasificada","Medio"]
[null,"SOPORTE","Medio",16,"Reservada","SOPORTEMedio16Reservada","Medio"]
[null,"SOPORTE","Alto",16,"Pública","SOPORTEAlto16Pública","Medio"]
[null,"SOPORTE","Alto",16,"Clasificada","SOPORTEAlto16Clasificada","Medio"]
[null,"SOPORTE","Alto",16,"Reservada","SOPORTEAlto16Reservada","Medio"]
[null,"SOPORTE","Bajo",24,"Pública","SOPORTEBajo24Pública","Bajo"]
[null,"SOPORTE","Bajo",24,"Clasificada","SOPORTEBajo24Clasificada","Medio"]
[null,"SOPORTE","Bajo",24,"Reservada","SOPORTEBajo24Reservada","Medio"]
[null,"SOPORTE","Medio",24,"Pública","SOPORTEMedio24Pública","Bajo"]
[null,"SOPORTE","Medio",24,"Clasificada","SOPORTEMedio24Clasificada","Medio"]
[null,"SOPORTE","Medio",24,"Reservada","SOPORTEMedio24Reservada","Medio"]
[null,"SOPORTE","Alto",24,"Pública","SOPORTEAlto24Pública","Bajo"]
[null,"SOPORTE","Alto",24,"Clasificada","SOPORTEAlto24Clasificada","Medio"]
[null,"SOPORTE","Alto",24,"Reservada","SOPORTEAlto24Reservada","Medio"]
[null,"SOPORTE","Bajo",48,"Pública","SOPORTEBajo48Pública","Bajo"]
[null,"SOPORTE","Bajo",48,"Clasificada","SOPORTEBajo48Clasificada","Medio"]
[null,"SOPORTE","Bajo",48,"Reservada","SOPORTEBajo48Reservada","Medio"]
[null,"SOPORTE","Medio",48,"Pública","SOPORTEMedio48Pública","Bajo"]
[null,"SOPORTE","Medio",48,"Clasificada","SOPORTEMedio48Clasificada","Medio"]
[null,"SOPORTE","Medio",48,"Reservada","SOPORTEMedio48Reservada","Medio"]
[null,"SOPORTE","Alto",48,"Pública","SOPORTEAlto48Pública","Medio"]
[null,"SOPORTE","Alto",48,"Clasificada","SOPORTEAlto48Clasificada","Medio"]
[null,"SOPORTE","Alto",48,"Reservada","SOPORTEAlto48Reservada","Medio"]
[null,"RECURSO HUMANO -P","Bajo",8,"Pública","RECURSO HUMANO -PBajo8Pública","Bajo"]
[null,"RECURSO HUMANO -P","Bajo",8,"Clasificada","RECURSO HUMANO -PBajo8Clasificada","Bajo"]
[null,"RECURSO HUMANO -P","Bajo",8,"Reservada","RECURSO HUMANO -PBajo8Reservada","Medio"]
[null,"RECURSO HUMANO -P","Medio",8,"Pública","RECURSO HUMANO -PMedio8Pública","Medio"]
[null,"RECURSO HUMANO -P","Medio",8,"Clasificada","RECURSO HUMANO -PMedio8Clasificada","Medio"]
[null,"RECURSO HUMANO -P","Medio",8,"Reservada","RECURSO HUMANO -PMedio8Reservada","Medio"]
[null,"RECURSO HUMANO -P","Alto",8,"Pública","RECURSO HUMANO -PAlto8Pública","Medio"]
[null,"RECURSO HUMANO -P","Alto",8,"Clasificada","RECURSO HUMANO -PAlto8Clasificada","Alto"]
[null,"RECURSO HUMANO -P","Alto",8,"Reservada","RECURSO HUMANO -PAlto8Reservada","Alto"]
[null,"RECURSO HUMANO -P","Bajo",16,"Pública","RECURSO HUMANO -PBajo16Pública","Bajo"]
[null,"RECURSO HUMANO -P","Bajo",16,"Clasificada","RECURSO HUMANO -PBajo16Clasificada","Medio"]
[null,"RECURSO HUMANO -P","Bajo",16,"Reservada","RECURSO HUMANO -PBajo16Reservada","Medio"]
[null,"RECURSO HUMANO -P","Medio",16,"Pública","RECURSO HUMANO -PMedio16Pública","Medio"]
[null,"RECURSO HUMANO -P","Medio",16,"Clasificada","RECURSO HUMANO -PMedio16Clasificada","Medio"]
[null,"RECURSO HUMANO -P","Medio",16,"Reservada","RECURSO HUMANO -PMedio16Reservada","Medio"]
[null,"RECURSO HUMANO -P","Alto",16,"Pública","RECURSO HUMANO -PAlto16Pública","Medio"]
[null,"RECURSO HUMANO -P","Alto",16,"Clasificada","RECURSO HUMANO -PAlto16Clasificada","Medio"]
[null,"RECURSO HUMANO -P","Alto",16,"Reservada","RECURSO HUMANO -PAlto16Reservada","Medio"]
[null,"RECURSO HUMANO -P","Bajo",24,"Pública","RECURSO HUMANO -PBajo24Pública","Bajo"]
[null,"RECURSO HUMANO -P","Bajo",24,"Clasificada","RECURSO HUMANO -PBajo24Clasificada","Medio"]
[null,"RECURSO HUMANO -P","Bajo",24,"Reservada","RECURSO HUMANO -PBajo24Reservada","Medio"]
[null,"RECURSO HUMANO -P","Medio",24,"Pública","RECURSO HUMANO -PMedio24Pública","Bajo"]
[null,"RECURSO HUMANO -P","Medio",24,"Clasificada","RECURSO HUMANO -PMedio24Clasificada","Medio"]
[null,"RECURSO HUMANO -P","Medio",24,"Reservada","RECURSO HUMANO -PMedio24Reservada","Medio"]
[null,"RECURSO HUMANO -P","Alto",24,"Pública","RECURSO HUMANO -PAlto24Pública","Bajo"]
[null,"RECURSO HUMANO -P","Alto",24,"Clasificada","RECURSO HUMANO -PAlto24Clasificada","Medio"]
[null,"RECURSO HUMANO -P","Alto",24,"Reservada","RECURSO HUMANO -PAlto24Reservada","Medio"]
[null,"RECURSO HUMANO -P","Bajo",48,"Pública","RECURSO HUMANO -PBajo48Pública","Bajo"]
[null,"RECURSO HUMANO -P","Bajo",48,"Clasificada","RECURSO HUMANO -PBajo48Clasificada","Medio"]
[null,"RECURSO HUMANO -P","Bajo",48,"Reservada","RECURSO HUMANO -PBajo48Reservada","Medio"]
[null,"RECURSO HUMANO -P","Medio",48,"Pública","RECURSO HUMANO -PMedio48Pública","Bajo"]
[null,"RECURSO HUMANO -P","Medio",48,"Clasificada","RECURSO HUMANO -PMedio48Clasificada","Medio"]
[null,"RECURSO HUMANO -P","Medio",48,"Reservada","RECURSO HUMANO -PMedio48Reservada","Medio"]
[null,"RECURSO HUMANO -P","Alto",48,"Pública","RECURSO HUMANO -PAlto48Pública","Medio"]
[null,"RECURSO HUMANO -P","Alto",48,"Clasificada","RECURSO HUMANO -PAlto48Clasificada","Medio"]
[null,"RECURSO HUMANO -P","Alto",48,"Reservada","RECURSO HUMANO -PAlto48Reservada","Medio"]
[null,"RECURSO HUMANO -C","Bajo",8,"Pública","RECURSO HUMANO -CBajo8Pública","Bajo"]
[null,"RECURSO HUMANO -C","Bajo",8,"Clasificada","RECURSO HUMANO -CBajo8Clasificada","Bajo"]
[null,"RECURSO HUMANO -C","Bajo",8,"Reservada","RECURSO HUMANO -CBajo8Reservada","Medio"]
[null,"RECURSO HUMANO -C","Medio",8,"Pública","RECURSO HUMANO -CMedio8Pública","Medio"]
[null,"RECURSO HUMANO -C","Medio",8,"Clasificada","RECURSO HUMANO -CMedio8Clasificada","Medio"]
[null,"RECURSO HUMANO -C","Medio",8,"Reservada","RECURSO HUMANO -CMedio8Reservada","Medio"]
[null,"RECURSO HUMANO -C","Alto",8,"Pública","RECURSO HUMANO -CAlto8Pública","Medio"]
[null,"RECURSO HUMANO -C","Alto",8,"Clasificada","RECURSO HUMANO -CAlto8Clasificada","Alto"]
[null,"RECURSO HUMANO -C","Alto",8,"Reservada","RECURSO HUMANO -CAlto8Reservada","Alto"]
[null,"RECURSO HUMANO -C","Bajo",16,"Pública","RECURSO HUMANO -CBajo16Pública","Bajo"]
[null,"RECURSO HUMANO -C","Bajo",16,"Clasificada","RECURSO HUMANO -CBajo16Clasificada","Medio"]
[null,"RECURSO HUMANO -C","Bajo",16,"Reservada","RECURSO HUMANO -CBajo16Reservada","Medio"]
[null,"RECURSO HUMANO -C","Medio",16,"Pública","RECURSO HUMANO -CMedio16Pública","Medio"]
[null,"RECURSO HUMANO -C","Medio",16,"Clasificada","RECURSO HUMANO -CMedio16Clasificada","Medio"]
[null,"RECURSO HUMANO -C","Medio",16,"Reservada","RECURSO HUMANO -CMedio16Reservada","Medio"]
[null,"RECURSO HUMANO -C","Alto",16,"Pública","RECURSO HUMANO -CAlto16Pública","Medio"]
[null,"RECURSO HUMANO -C","Alto",16,"Clasificada","RECURSO HUMANO -CAlto16Clasificada","Medio"]
[null,"RECURSO HUMANO -C","Alto",16,"Reservada","RECURSO HUMANO -CAlto16Reservada","Medio"]
[null,"RECURSO HUMANO -C","Bajo",24,"Pública","RECURSO HUMANO -CBajo24Pública","Bajo"]
[null,"RECURSO HUMANO -C","Bajo",24,"Clasificada","RECURSO HUMANO -CBajo24Clasificada","Medio"]
[null,"RECURSO HUMANO -C","Bajo",24,"Reservada","RECURSO HUMANO -CBajo24Reservada","Medio"]
[null,"RECURSO HUMANO -C","Medio",24,"Pública","RECURSO HUMANO -CMedio24Pública","Bajo"]
[null,"RECURSO HUMANO -C","Medio",24,"Clasificada","RECURSO HUMANO -CMedio24Clasificada","Medio"]
[null,"RECURSO HUMANO -C","Medio",24,"Reservada","RECURSO HUMANO -CMedio24Reservada","Medio"]
[null,"RECURSO HUMANO -C","Alto",24,"Pública","RECURSO HUMANO -CAlto24Pública","Bajo"]
[null,"RECURSO HUMANO -C","Alto",24,"Clasificada","RECURSO HUMANO -CAlto24Clasificada","Medio"]
[null,"RECURSO HUMANO -C","Alto",24,"Reservada","RECURSO HUMANO -CAlto24Reservada","Medio"]
[null,"RECURSO HUMANO -C","Bajo",48,"Pública","RECURSO HUMANO -CBajo48Pública","Bajo"]
[null,"RECURSO HUMANO -C","Bajo",48,"Clasificada","RECURSO HUMANO -CBajo48Clasificada","Medio"]
[null,"RECURSO HUMANO -C","Bajo",48,"Reservada","RECURSO HUMANO -CBajo48Reservada","Medio"]
[null,"RECURSO HUMANO -C","Medio",48,"Pública","RECURSO HUMANO -CMedio48Pública","Bajo"]
[null,"RECURSO HUMANO -C","Medio",48,"Clasificada","RECURSO HUMANO -CMedio48Clasificada","Medio"]
[null,"RECURSO HUMANO -C","Medio",48,"Reservada","RECURSO HUMANO -CMedio48Reservada","Medio"]
[null,"RECURSO HUMANO -C","Alto",48,"Pública","RECURSO HUMANO -CAlto48Pública","Medio"]
[null,"RECURSO HUMANO -C","Alto",48,"Clasificada","RECURSO HUMANO -CAlto48Clasificada","Medio"]
[null,"RECURSO HUMANO -C","Alto",48,"Reservada","RECURSO HUMANO -CAlto48Reservada","Medio"]
[null,"SERVICIO","Bajo",8,"Pública","SERVICIOBajo8Pública","Bajo"]
[null,"SERVICIO","Bajo",8,"Clasificada","SERVICIOBajo8Clasificada","Bajo"]
[null,"SERVICIO","Bajo",8,"Reservada","SERVICIOBajo8Reservada","Medio"]
[null,"SERVICIO","Medio",8,"Pública","SERVICIOMedio8Pública","Medio"]
[null,"SERVICIO","Medio",8,"Clasificada","SERVICIOMedio8Clasificada","Medio"]
[null,"SERVICIO","Medio",8,"Reservada","SERVICIOMedio8Reservada","Medio"]
[null,"SERVICIO","Alto",8,"Pública","SERVICIOAlto8Pública","Medio"]
[null,"SERVICIO","Alto",8,"Clasificada","SERVICIOAlto8Clasificada","Alto"]
[null,"SERVICIO","Alto",8,"Reservada","SERVICIOAlto8Reservada","Alto"]
[null,"SERVICIO","Bajo",16,"Pública","SERVICIOBajo16Pública","Bajo"]
[null,"SERVICIO","Bajo",16,"Clasificada","SERVICIOBajo16Clasificada","Medio"]
[null,"SERVICIO","Bajo",16,"Reservada","SERVICIOBajo16Reservada","Medio"]
[null,"SERVICIO","Medio",16,"Pública","SERVICIOMedio16Pública","Bajo"]
[null,"SERVICIO","Medio",16,"Clasificada","SERVICIOMedio16Clasificada","Medio"]
[null,"SERVICIO","Medio",16,"Reservada","SERVICIOMedio16Reservada","Medio"]
[null,"SERVICIO","Alto",16,"Pública","SERVICIOAlto16Pública","Medio"]
[null,"SERVICIO","Alto",16,"Clasificada","SERVICIOAlto16Clasificada","Medio"]
[null,"SERVICIO","Alto",16,"Reservada","SERVICIOAlto16Reservada","Medio"]
[null,"SERVICIO","Bajo",24,"Pública","SERVICIOBajo24Pública","Bajo"]
[null,"SERVICIO","Bajo",24,"Clasificada","SERVICIOBajo24Clasificada","Medio"]
[null,"SERVICIO","Bajo",24,"Reservada","SERVICIOBajo24Reservada","Medio"]
[null,"SERVICIO","Medio",24,"Pública","SERVICIOMedio24Pública","Bajo"]
[null,"SERVICIO","Medio",24,"Clasificada","SERVICIOMedio24Clasificada","Medio"]
[null,"SERVICIO","Medio",24,"Reservada","SERVICIOMedio24Reservada","Medio"]
[null,"SERVICIO","Alto",24,"Pública","SERVICIOAlto24Pública","Bajo"]
[null,"SERVICIO","Alto",24,"Clasificada","SERVICIOAlto24Clasificada","Medio"]
[null,"SERVICIO","Alto",24,"Reservada","SERVICIOAlto24Reservada","Medio"]
[null,"SERVICIO","Bajo",48,"Pública","SERVICIOBajo48Pública","Bajo"]
[null,"SERVICIO","Bajo",48,"Clasificada","SERVICIOBajo48Clasificada","Medio"]
[null,"SERVICIO","Bajo",48,"Reservada","SERVICIOBajo48Reservada","Medio"]
[null,"SERVICIO","Medio",48,"Pública","SERVICIOMedio48Pública","Bajo"]
[null,"SERVICIO","Medio",48,"Clasificada","SERVICIOMedio48Clasificada","Medio"]
[null,"SERVICIO","Medio",48,"Reservada","SERVICIOMedio48Reservada","Medio"]
[null,"SERVICIO","Alto",48,"Pública","SERVICIOAlto48Pública","Medio"]
[null,"SERVICIO","Alto",48,"Clasificada","SERVICIOAlto48Clasificada","Medio"]
[null,"SERVICIO","Alto",48,"Reservada","SERVICIOAlto48Reservada","Medio"]