{"text_format":"1","workbook":"xlsx","n_sheets":15,"sheets":["Hoja2","Inicio","ENERO","FEBRERO","MARZO","ABRIL","MAYO","JUNIO","JULIO","AGOSTO","SEPTIEMBRE","OCTUBRE","NOVIEMBRE","DICIEMBRE","Hoja_Aux_Observaciones"],"not_rendered":{"charts":0,"images":4,"macros":1,"external_links":0,"defined_names":64,"comments":13,"pivot_tables":0},"unopened":[],"bounds":{"document_bytes":16777216,"sheet_cells":100000,"rows_first":2000,"rows_last":500,"rows_between":2000,"halvings":0,"cell_chars":16384,"cell_head_chars":4096},"cells_cut":0,"cells_raw":0,"read":"whole","date_system":"1900"}

{"sheet":"Hoja2","index":0,"n_rows":232,"n_cols":15,"rows_kept":232,"cut":false,"hidden":true,"merged":[]}
["INSTITUCIONAL","Centros de Desarrollo Infantil -CDI CON ARRIENDO",null,null,null,"VIGENTE",null,"BANCO AGRARIO DE COLOMBIA S.A.",null,null,null,null,"RAM","Regional_Amazonas","CZ_LETICIA"]
["FAMILIAR","Centros de Desarrollo Infantil -CDI SIN ARRIENDO",null,null,null,"EN PROCESO DE LIQUIDACION",null,"BANCO BILBAO VIZCAYA ARGENTARIA COLOMBIA S.A. BBVA",null,null,null,null,"CUENTAME","Regional_Amazonas","CZ_REGIONAL_AMAZONAS"]
["COMUNITARIA","Hogares Infantiles -HI",null,null,null,"LIQUIDADO",null,"BANCO COLPATRIA RED MULTIBANCA COLPATRIA S.A.",null,null,null,null,"CERTIFICADO DE COBERTURA","Regional_Antioquia","BC_ANTIOQUIA"]
["PROPIA_E_INTERCULTURAL","Desarrollo Infantil en Establecimientos de Reclusión -DIER",null,null,null,null,null,"BANCO COMERCIAL AV VILLAS S.A.",null,null,null,null,"INFORME FINANCIERO","Regional_Antioquia","BC_MEDELLIN"]
["NO_APLICA","Hogares Empresariales",null,null,null,null,null,"BANCO COMPARTIR SA",null,null,null,null,"OTRO (Se Especifica en Observaciones)","Regional_Antioquia","CZ_ABURRA_NORTE"]
[null,"Jardines Sociales",null,null,null,null,null,"BANCO COOPERATIVO COOPCENTRAL",null,null,null,null,"NO APLICA","Regional_Antioquia","CZ_ABURRA_SUR"]
["DIGITAL","Preescolar integral",null,null,null,null,null,"BANCO DAVIVIENDA S.A.",null,null,null,null,null,"Regional_Antioquia","CZ_BAJO_CAUCA"]
["FISICO","Hogares Comunitarios de Bienestar Múltiples -HCB Múltiples",null,null,null,null,null,"BANCO DE BOGOTA S. A.",null,null,null,null,null,"Regional_Antioquia","CZ_INTEGRAL_NOROCCIDENTAL"]
["DIGITAL Y FISICO","Servicio Especial Para la Primera Infancia - Grado Transición Con Atención Integral",null,null,null,null,null,"BANCO DE LAS MICROFINANZAS - BANCAMIA S.A.",null,null,null,null,null,"Regional_Antioquia","CZ_INTEGRAL_NORORIENTAL"]
["DICIEMBRE VIG. ANT.","Servicio Especial Para la Primera Infancia - Institucional Integral",null,null,null,null,null,"BANCO DE OCCIDENTE",null,null,null,null,null,"Regional_Antioquia","CZ_INTEGRAL_SUR_ORIENTAL"]
["ENERO","Hogares Comunitarios de Bienestar - HCB",null,null,null,null,null,"BANCO FALABELLA S A",null,null,null,null,null,"Regional_Antioquia","CZ_LA_MESETA"]
["FEBRERO","Hogares Comunitarios de Bienestar Agrupados- HCB Agrupados",null,null,null,null,null,"BANCO GNB SUDAMERIS S A",null,null,null,null,null,"Regional_Antioquia","CZ_MAGDALENA_MEDIO"]
["MARZO","Unidades Básicas de Atención Fija e Itinerantes -UBAS Fijas e itinerante",null,null,null,null,null,"BANCO PICHINCHA",null,null,null,null,null,"Regional_Antioquia","CZ_OCCIDENTE"]
["ABRIL","Hogares Comunitarios de Bienestar Integrales -HCB Integrales",null,null,null,null,null,"BANCO POPULAR S. A.",null,null,null,null,null,"Regional_Antioquia","CZ_OCCIDENTE_MEDIO"]
["MAYO","Servicio Especial Para la Primera Infancia - Comunitario Integral",null,null,null,null,null,"BANCO W SA",null,null,null,null,null,"Regional_Antioquia","CZ_ORIENTE"]
["JUNIO","Modalidad Propia",null,null,null,null,null,"BANCOLOMBIA S.A.",null,null,null,null,null,"Regional_Antioquia","CZ_ORIENTE_MEDIO"]
["JULIO","Servicio Especial Para la Primera Infancia - Atención Propia e Intercultural",null,null,null,null,null,"BANCOOMEVA",null,null,null,null,null,"Regional_Antioquia","CZ_PENDERISCO"]
["AGOSTO","FAMI - Hogares Comunitarios de Bienestar - Familiar, Mujer e Infancia .",null,null,null,null,null,"BCSC S A",null,null,null,null,null,"Regional_Antioquia","CZ_ROSALES"]
["SEPTIEMBRE","Desarrollo Infantil en Medio Familiar- DIMF CON ARRIENDO",null,null,null,null,null,"CITIBANK COLOMBIA",null,null,null,null,null,"Regional_Antioquia","CZ_PORCE_NUS"]
["OCTUBRE","Desarrollo Infantil en Medio Familiar- DIMF SIN ARRIENDO",null,null,null,null,null,"CONFIAR COOPERATIVA FINANCIERA",null,null,null,null,null,"Regional_Antioquia","CZ_SUROESTE"]
["NOVIEMBRE","Servicio Especial Para la Primera Infancia - Familiar Integral",null,null,null,null,null,"COOPERATIVA FINANCIERA DE ANTIOQUIA C.F.A.",null,null,null,null,null,"Regional_Antioquia","CZ_URABA"]
["DICIEMBRE","RURAL",null,null,null,null,null,"COTRAFA COOPERATIVA FINANCIERA",null,null,null,null,null,"Regional_Antioquia","CZ_REGIONAL_ANTIOQUIA"]
[null,"RURAL DISPERSO",null,null,null,null,null,"FINANCIERA JURISCOOP SA COMPAÑIA DE FINANCIAMIENTO",null,null,null,null,null,"Regional_Arauca","CZ_ARAUCA"]
[null,"NO APLICA",null,null,null,null,null,"HELM BANK S.A.",null,null,null,null,null,"Regional_Arauca","CZ_SARAVENA"]
[null,null,null,null,null,null,null,"ITAU CORPBANCA COLOMBIA S A",null,null,null,null,null,"Regional_Arauca","CZ_TAME"]
["Regional_Amazonas",null,null,null,null,null,null,"SCOTIABANK COLPATRIA SA",null,null,null,null,null,"Regional_Arauca","CZ_REGIONAL_ARAUCA"]
["Regional_Antioquia",null,null,null,null,null,null,"BANCO SERFINANZA S.A",null,null,null,null,null,"Regional_Atlántico","CZ_BARANOA"]
["Regional_Arauca",null,null,null,null,null,null,null,null,null,null,null,null,"Regional_Atlántico","CZ_HIPODROMO"]
["Regional_Atlántico",null,null,null,null,null,null,null,null,null,null,null,null,"Regional_Atlántico","CZ_NORTE_CENTRO_HISTORICO"]
["Regional_Bogotá",null,null,null,null,null,null,null,null,null,null,null,null,"Regional_Atlántico","CZ_SABANAGRANDE"]
["Regional_Bolivar",null,null,null,null,null,null,null,null,null,null,null,null,"Regional_Atlántico","CZ_SABANALARGA"]
["Regional_Boyacá",null,null,null,null,null,null,null,null,null,null,null,null,"Regional_Atlántico","CZ_SUROCCIDENTE"]
["Regional_Caldas",null,null,null,null,null,null,null,null,null,null,null,null,"Regional_Atlántico","CZ_SURORIENTE"]
["Regional_Caquetá",null,null,null,null,null,null,null,null,null,null,null,null,"Regional_Atlántico","CZ_REGIONAL_ATLANTICO"]
["Regional_Casanare",null,null,null,null,null,null,null,null,null,null,null,null,"Regional_Bogotá","CZ_BARRIOS_UNIDOS"]
["Regional_Cauca",null,null,null,null,null,null,null,null,null,null,null,null,"Regional_Bogotá","CZ_BOSA"]
["Regional_Cesar",null,null,null,null,null,null,null,null,null,null,null,null,"Regional_Bogotá","CZ_CIUDAD_BOLIVAR"]
["Regional_Chocó",null,null,null,null,null,null,null,null,null,null,null,null,"Regional_Bogotá","CZ_ENGATIVA"]
["Regional_Córdoba",null,null,null,null,null,null,null,null,null,null,null,null,"Regional_Bogotá","CZ_FONTIBON"]
["Regional_Cundinamarca",null,null,null,null,null,null,null,null,null,null,null,null,"Regional_Bogotá","CZ_KENNEDY"]
["Regional_Guainía",null,null,null,null,null,null,null,null,null,null,null,null,"Regional_Bogotá","CZ_MARTIRES"]
["Regional_Guaviare",null,null,null,null,null,null,null,null,null,null,null,null,"Regional_Bogotá","CZ_RAFAEL_URIBE"]
["Regional_Huila",null,null,null,null,null,null,null,null,null,null,null,null,"Regional_Bogotá","CZ_SAN_CRISTOBAL_SUR"]
["Regional_La_Guajira",null,null,null,null,null,null,null,null,null,null,null,null,"Regional_Bogotá","CZ_SANTA_FE"]
["Regional_Magdalena",null,null,null,null,null,null,null,null,null,null,null,null,"Regional_Bogotá","CZ_SUBA"]
["Regional_Meta",null,null,null,null,null,null,null,null,null,null,null,null,"Regional_Bogotá","CZ_TUNJUELITO"]
["Regional_Nariño",null,null,null,null,null,null,null,null,null,null,null,null,"Regional_Bogotá","CZ_USAQUEN"]
["Regional_Norte_de_Santander",null,null,null,null,null,null,null,null,null,null,null,null,"Regional_Bogotá","CZ_USME"]
["Regional_Putumayo",null,null,null,null,null,null,null,null,null,null,null,null,"Regional_Bogotá","CZ_REGIONAL_BOGOTA"]
["Regional_Quindío",null,null,null,null,null,null,null,null,null,null,null,null,"Regional_Bolivar","CZ_DE_LA_VIRGEN_Y_TURISTICO"]
["Regional_Risaralda",null,null,null,null,null,null,null,null,null,null,null,null,"Regional_Bolivar","CZ_EL_CARMEN_DE_BOLIVAR"]
["Regional_San_Andrés",null,null,null,null,null,null,null,null,null,null,null,null,"Regional_Bolivar","CZ_HISTORICO_Y_DEL_CARIBE_NORTE"]
["Regional_Santander",null,null,null,null,null,null,null,null,null,null,null,null,"Regional_Bolivar","CZ_INDUSTRIAL_DE_LA_BAHIA"]
["Regional_Sucre",null,null,null,null,null,null,null,null,null,null,null,null,"Regional_Bolivar","CZ_MAGANGUE"]
["Regional_Tolima",null,null,null,null,null,null,null,null,null,null,null,null,"Regional_Bolivar","CZ_MOMPOX"]
["Regional_Valle",null,null,null,null,null,null,null,null,null,null,null,null,"Regional_Bolivar","CZ_SIMITI"]
["Regional_Vaupés",null,null,null,null,null,null,null,null,null,null,null,null,"Regional_Bolivar","CZ_TURBACO"]
["Regional_Vichada",null,null,null,null,null,null,null,null,null,null,null,null,"Regional_Bolivar","CZ_REGIONAL_BOLIVAR"]
[null,null,null,null,null,null,null,null,null,null,null,null,null,"Regional_Boyacá","CZ_CHIQUINQUIRA"]
[null,null,null,null,null,null,null,null,null,null,null,null,null,"Regional_Boyacá","CZ_DUITAMA"]
[null,null,null,null,null,null,null,null,null,null,null,null,null,"Regional_Boyacá","CZ_EL_COCUY"]
[null,null,null,null,null,null,null,null,null,null,null,null,null,"Regional_Boyacá","CZ_GARAGOA"]
[null,null,null,null,null,null,null,null,null,null,null,null,null,"Regional_Boyacá","CZ_MIRAFLORES"]
[null,null,null,null,null,null,null,null,null,null,null,null,null,"Regional_Boyacá","CZ_MONIQUIRA"]
[null,null,null,null,null,null,null,null,null,null,null,null,null,"Regional_Boyacá","CZ_OTANCHE"]
[null,null,null,null,null,null,null,null,null,null,null,null,null,"Regional_Boyacá","CZ_PUERTO_BOYACA"]
[null,null,null,null,null,null,null,null,null,null,null,null,null,"Regional_Boyacá","CZ_SOATA"]
[null,null,null,null,null,null,null,null,null,null,null,null,null,"Regional_Boyacá","CZ_SOGAMOSO"]
[null,null,null,null,null,null,null,null,null,null,null,null,null,"Regional_Boyacá","CZ_TUNJA_1"]
[null,null,null,null,null,null,null,null,null,null,null,null,null,"Regional_Boyacá","CZ_REGIONAL_BOYACA"]
[null,null,null,null,null,null,null,null,null,null,null,null,null,"Regional_Caldas","CZ_DEL_CAFE"]
[null,null,null,null,null,null,null,null,null,null,null,null,null,"Regional_Caldas","CZ_MANIZALES_1"]
[null,null,null,null,null,null,null,null,null,null,null,null,null,"Regional_Caldas","CZ_NORTE"]
[null,null,null,null,null,null,null,null,null,null,null,null,null,"Regional_Caldas","CZ_OCCIDENTE"]
[null,null,null,null,null,null,null,null,null,null,null,null,null,"Regional_Caldas","CZ_ORIENTE"]
[null,null,null,null,null,null,null,null,null,null,null,null,null,"Regional_Caldas","CZ_SUR_ORIENTE"]
[null,null,null,null,null,null,null,null,null,null,null,null,null,"Regional_Caldas","CZ_REGIONAL_CALDAS"]
[null,null,null,null,null,null,null,null,null,null,null,null,null,"Regional_Caquetá","CZ_BELEN_DE_LOS_ANDAQUIES"]
[null,null,null,null,null,null,null,null,null,null,null,null,null,"Regional_Caquetá","CZ_FLORENCIA_1"]
[null,null,null,null,null,null,null,null,null,null,null,null,null,"Regional_Caquetá","CZ_FLORENCIA_2"]
[null,null,null,null,null,null,null,null,null,null,null,null,null,"Regional_Caquetá","CZ_PUERTO_RICO"]
[null,null,null,null,null,null,null,null,null,null,null,null,null,"Regional_Caquetá","CZ_REGIONAL_CAQUETA"]
[null,null,null,null,null,null,null,null,null,null,null,null,null,"Regional_Casanare","CZ_PAZ_DE_ARIPORO"]
[null,null,null,null,null,null,null,null,null,null,null,null,null,"Regional_Casanare","CZ_VILLANUEVA"]
[null,null,null,null,null,null,null,null,null,null,null,null,null,"Regional_Casanare","CZ_YOPAL"]
[null,null,null,null,null,null,null,null,null,null,null,null,null,"Regional_Casanare","CZ_REGIONAL_CASANARE"]
[null,null,null,null,null,null,null,null,null,null,null,null,null,"Regional_Cauca","CZ_CENTRO"]
[null,null,null,null,null,null,null,null,null,null,null,null,null,"Regional_Cauca","CZ_COSTA_PACIFICA"]
[null,null,null,null,null,null,null,null,null,null,null,null,null,"Regional_Cauca","CZ_INDIGENA"]
[null,null,null,null,null,null,null,null,null,null,null,null,null,"Regional_Cauca","CZ_MACIZO_COLOMBIANO"]
[null,null,null,null,null,null,null,null,null,null,null,null,null,"Regional_Cauca","CZ_NORTE"]
[null,null,null,null,null,null,null,null,null,null,null,null,null,"Regional_Cauca","CZ_POPAYAN"]
[null,null,null,null,null,null,null,null,null,null,null,null,null,"Regional_Cauca","CZ_SUR"]
[null,null,null,null,null,null,null,null,null,null,null,null,null,"Regional_Cauca","CZ_REGIONAL_CAUCA"]
[null,null,null,null,null,null,null,null,null,null,null,null,null,"Regional_Cesar","CZ_AGUACHICA"]
[null,null,null,null,null,null,null,null,null,null,null,null,null,"Regional_Cesar","CZ_AGUSTIN_CODAZZI"]
[null,null,null,null,null,null,null,null,null,null,null,null,null,"Regional_Cesar","CZ_CHIRIGUANA"]
[null,null,null,null,null,null,null,null,null,null,null,null,null,"Regional_Cesar","CZ_VALLEDUPAR_1"]
[null,null,null,null,null,null,null,null,null,null,null,null,null,"Regional_Cesar","CZ_REGIONAL_CESAR"]
[null,null,null,null,null,null,null,null,null,null,null,null,null,"Regional_Chocó","CZ_BAHIA_SOLANO"]
[null,null,null,null,null,null,null,null,null,null,null,null,null,"Regional_Chocó","CZ_ISTMINA"]
[null,null,null,null,null,null,null,null,null,null,null,null,null,"Regional_Chocó","CZ_QUIBDO"]
[null,null,null,null,null,null,null,null,null,null,null,null,null,"Regional_Chocó","CZ_RIOSUCIO"]
[null,null,null,null,null,null,null,null,null,null,null,null,null,"Regional_Chocó","CZ_TADO"]
[null,null,null,null,null,null,null,null,null,null,null,null,null,"Regional_Chocó","CZ_REGIONAL_CHOCO"]
[null,null,null,null,null,null,null,null,null,null,null,null,null,"Regional_Córdoba","CZ_1_MONTERIA"]
[null,null,null,null,null,null,null,null,null,null,null,null,null,"Regional_Córdoba","CZ_CERETE"]
[null,null,null,null,null,null,null,null,null,null,null,null,null,"Regional_Córdoba","CZ_LORICA"]
[null,null,null,null,null,null,null,null,null,null,null,null,null,"Regional_Córdoba","CZ_MONTELIBANO"]
[null,null,null,null,null,null,null,null,null,null,null,null,null,"Regional_Córdoba","CZ_PLANETARICA"]
[null,null,null,null,null,null,null,null,null,null,null,null,null,"Regional_Córdoba","CZ_SAHAGUN"]
[null,null,null,null,null,null,null,null,null,null,null,null,null,"Regional_Córdoba","CZ_SAN_ANDRES_DE_SOTAVENTO"]
[null,null,null,null,null,null,null,null,null,null,null,null,null,"Regional_Córdoba","CZ_TIERRALTA"]
[null,null,null,null,null,null,null,null,null,null,null,null,null,"Regional_Córdoba","CZ_REGIONAL_CORDOBA"]
[null,null,null,null,null,null,null,null,null,null,null,null,null,"Regional_Cundinamarca","CZ_CAQUEZA"]
[null,null,null,null,null,null,null,null,null,null,null,null,null,"Regional_Cundinamarca","CZ_CHOCONTA"]
[null,null,null,null,null,null,null,null,null,null,null,null,null,"Regional_Cundinamarca","CZ_FACATATIVA"]
[null,null,null,null,null,null,null,null,null,null,null,null,null,"Regional_Cundinamarca","CZ_FUSAGASUGA"]
[null,null,null,null,null,null,null,null,null,null,null,null,null,"Regional_Cundinamarca","CZ_GACHETA"]
[null,null,null,null,null,null,null,null,null,null,null,null,null,"Regional_Cundinamarca","CZ_GIRARDOT"]
[null,null,null,null,null,null,null,null,null,null,null,null,null,"Regional_Cundinamarca","CZ_LA MESA"]
[null,null,null,null,null,null,null,null,null,null,null,null,null,"Regional_Cundinamarca","CZ_PACHO"]
[null,null,null,null,null,null,null,null,null,null,null,null,null,"Regional_Cundinamarca","CZ_SAN_JUAN_DE_RIOSECO"]
[null,null,null,null,null,null,null,null,null,null,null,null,null,"Regional_Cundinamarca","CZ_SOACHA"]
[null,null,null,null,null,null,null,null,null,null,null,null,null,"Regional_Cundinamarca","CZ_UBATE"]
[null,null,null,null,null,null,null,null,null,null,null,null,null,"Regional_Cundinamarca","CZ_VILLETA"]
[null,null,null,null,null,null,null,null,null,null,null,null,null,"Regional_Cundinamarca","CZ_ZIPAQUIRA"]
[null,null,null,null,null,null,null,null,null,null,null,null,null,"Regional_Cundinamarca","CZ_REGIONAL_CUNDINAMARCA"]
[null,null,null,null,null,null,null,null,null,null,null,null,null,"Regional_Guainía","CZ_REGIONAL_GUAINIA"]
[null,null,null,null,null,null,null,null,null,null,null,null,null,"Regional_La_Guajira","CZ_FONSECA"]
[null,null,null,null,null,null,null,null,null,null,null,null,null,"Regional_La_Guajira","CZ_MAICAO"]
[null,null,null,null,null,null,null,null,null,null,null,null,null,"Regional_La_Guajira","CZ_MANAURE"]
[null,null,null,null,null,null,null,null,null,null,null,null,null,"Regional_La_Guajira","CZ_NAZARETH"]
[null,null,null,null,null,null,null,null,null,null,null,null,null,"Regional_La_Guajira","CZ_RIOHACHA_1"]
[null,null,null,null,null,null,null,null,null,null,null,null,null,"Regional_La_Guajira","CZ_REGIONAL_GUAJIRA"]
[null,null,null,null,null,null,null,null,null,null,null,null,null,"Regional_Guaviare","CZ_SAN_JOSE_DE_GUAVIARE"]
[null,null,null,null,null,null,null,null,null,null,null,null,null,"Regional_Guaviare","CZ_REGIONAL_GUAVIARE"]
[null,null,null,null,null,null,null,null,null,null,null,null,null,"Regional_Huila","CZ_GARZON"]
[null,null,null,null,null,null,null,null,null,null,null,null,null,"Regional_Huila","CZ_LA_GAITANA"]
[null,null,null,null,null,null,null,null,null,null,null,null,null,"Regional_Huila","CZ_LA_PLATA"]
[null,null,null,null,null,null,null,null,null,null,null,null,null,"Regional_Huila","CZ_NEIVA"]
[null,null,null,null,null,null,null,null,null,null,null,null,null,"Regional_Huila","CZ_PITALITO"]
[null,null,null,null,null,null,null,null,null,null,null,null,null,"Regional_Huila","CZ_REGIONAL_HUILA"]
[null,null,null,null,null,null,null,null,null,null,null,null,null,"Regional_Magdalena","CZ_CIENAGA"]
[null,null,null,null,null,null,null,null,null,null,null,null,null,"Regional_Magdalena","CZ_DEL_RIO"]
[null,null,null,null,null,null,null,null,null,null,null,null,null,"Regional_Magdalena","CZ_EL_BANCO"]
[null,null,null,null,null,null,null,null,null,null,null,null,null,"Regional_Magdalena","CZ_FUNDACION"]
[null,null,null,null,null,null,null,null,null,null,null,null,null,"Regional_Magdalena","CZ_PLATO"]
[null,null,null,null,null,null,null,null,null,null,null,null,null,"Regional_Magdalena","CZ_SANTA_ANA"]
[null,null,null,null,null,null,null,null,null,null,null,null,null,"Regional_Magdalena","CZ_SANTA_MARTA_NORTE"]
[null,null,null,null,null,null,null,null,null,null,null,null,null,"Regional_Magdalena","CZ_SANTA_MARTA_SUR"]
[null,null,null,null,null,null,null,null,null,null,null,null,null,"Regional_Magdalena","CZ_REGIONAL_MAGDALENA"]
[null,null,null,null,null,null,null,null,null,null,null,null,null,"Regional_Meta","CZ_ACACIAS"]
[null,null,null,null,null,null,null,null,null,null,null,null,null,"Regional_Meta","CZ_GRANADA"]
[null,null,null,null,null,null,null,null,null,null,null,null,null,"Regional_Meta","CZ_PUERTO_LOPEZ"]
[null,null,null,null,null,null,null,null,null,null,null,null,null,"Regional_Meta","CZ_REGIONAL_META"]
[null,null,null,null,null,null,null,null,null,null,null,null,null,"Regional_Meta","CZ_VILLAVICENCIO_1"]
[null,null,null,null,null,null,null,null,null,null,null,null,null,"Regional_Meta","CZ_REGIONAL_META"]
[null,null,null,null,null,null,null,null,null,null,null,null,null,"Regional_Nariño","CZ_BARBACOAS"]
[null,null,null,null,null,null,null,null,null,null,null,null,null,"Regional_Nariño","CZ_IPIALES"]
[null,null,null,null,null,null,null,null,null,null,null,null,null,"Regional_Nariño","CZ_LA_UNION"]
[null,null,null,null,null,null,null,null,null,null,null,null,null,"Regional_Nariño","CZ_PASTO_1"]
[null,null,null,null,null,null,null,null,null,null,null,null,null,"Regional_Nariño","CZ_PASTO_2"]
[null,null,null,null,null,null,null,null,null,null,null,null,null,"Regional_Nariño","CZ_REMOLINO"]
[null,null,null,null,null,null,null,null,null,null,null,null,null,"Regional_Nariño","CZ_TUMACO"]
[null,null,null,null,null,null,null,null,null,null,null,null,null,"Regional_Nariño","CZ_TUQUERRES"]
[null,null,null,null,null,null,null,null,null,null,null,null,null,"Regional_Nariño","CZ_REGIONAL_NARIÑO"]
[null,null,null,null,null,null,null,null,null,null,null,null,null,"Regional_Norte_de_Santander","CZ_CUCUTA_1"]
[null,null,null,null,null,null,null,null,null,null,null,null,null,"Regional_Norte_de_Santander","CZ_CUCUTA_2"]
[null,null,null,null,null,null,null,null,null,null,null,null,null,"Regional_Norte_de_Santander","CZ_CUCUTA_3"]
[null,null,null,null,null,null,null,null,null,null,null,null,null,"Regional_Norte_de_Santander","CZ_OCAÑA"]
[null,null,null,null,null,null,null,null,null,null,null,null,null,"Regional_Norte_de_Santander","CZ_PAMPLONA"]
[null,null,null,null,null,null,null,null,null,null,null,null,null,"Regional_Norte_de_Santander","CZ_TIBU"]
[null,null,null,null,null,null,null,null,null,null,null,null,null,"Regional_Norte_de_Santander","CZ_REGIONAL_NORTE_DE_SANTANDER"]
[null,null,null,null,null,null,null,null,null,null,null,null,null,"Regional_Putumayo","CZ_LA_HORMIGA"]
[null,null,null,null,null,null,null,null,null,null,null,null,null,"Regional_Putumayo","CZ_MOCOA"]
[null,null,null,null,null,null,null,null,null,null,null,null,null,"Regional_Putumayo","CZ_PUERTO_ASIS"]
[null,null,null,null,null,null,null,null,null,null,null,null,null,"Regional_Putumayo","CZ_SIBUNDOY"]
[null,null,null,null,null,null,null,null,null,null,null,null,null,"Regional_Putumayo","CZ_REGIONAL_PUTUMAYO"]
[null,null,null,null,null,null,null,null,null,null,null,null,null,"Regional_Quindío","CZ_ARMENIA_NORTE"]
[null,null,null,null,null,null,null,null,null,null,null,null,null,"Regional_Quindío","CZ_ARMENIA_SUR"]
[null,null,null,null,null,null,null,null,null,null,null,null,null,"Regional_Quindío","CZ_CALARCA"]
[null,null,null,null,null,null,null,null,null,null,null,null,null,"Regional_Quindío","CZ_REGIONAL_QUINDIO"]
[null,null,null,null,null,null,null,null,null,null,null,null,null,"Regional_Risaralda","CZ_BELEN_DE_UMBRIA"]
[null,null,null,null,null,null,null,null,null,null,null,null,null,"Regional_Risaralda","CZ_DOS_QUEBRADAS"]
[null,null,null,null,null,null,null,null,null,null,null,null,null,"Regional_Risaralda","CZ_LA_VIRGINIA"]
[null,null,null,null,null,null,null,null,null,null,null,null,null,"Regional_Risaralda","CZ_PEREIRA"]
[null,null,null,null,null,null,null,null,null,null,null,null,null,"Regional_Risaralda","CZ_SANTA_ROSA_DE_CABAL"]
[null,null,null,null,null,null,null,null,null,null,null,null,null,"Regional_Risaralda","CZ_REGIONAL_RISARALDA"]
[null,null,null,null,null,null,null,null,null,null,null,null,null,"Regional_San_Andrés","CZ_LOS_ALMENDROS"]
[null,null,null,null,null,null,null,null,null,null,null,null,null,"Regional_San_Andrés","CZ_REGIONAL_SAN_ANDRES"]
[null,null,null,null,null,null,null,null,null,null,null,null,null,"Regional_Santander","CZ_ANTONIA_SANTOS"]
[null,null,null,null,null,null,null,null,null,null,null,null,null,"Regional_Santander","CZ_BUCARAMANGA_SUR"]
[null,null,null,null,null,null,null,null,null,null,null,null,null,"Regional_Santander","CZ_CARLOS_LLERAS_RESTREPO"]
[null,null,null,null,null,null,null,null,null,null,null,null,null,"Regional_Santander","CZ_MALAGA"]
[null,null,null,null,null,null,null,null,null,null,null,null,null,"Regional_Santander","CZ_SAN_GIL"]
[null,null,null,null,null,null,null,null,null,null,null,null,null,"Regional_Santander","CZ_SOCORRO"]
[null,null,null,null,null,null,null,null,null,null,null,null,null,"Regional_Santander","CZ_VELEZ"]
[null,null,null,null,null,null,null,null,null,null,null,null,null,"Regional_Santander","CZ_YARIQUIES"]
[null,null,null,null,null,null,null,null,null,null,null,null,null,"Regional_Santander","CZ_REGIONAL_SANTANDER"]
[null,null,null,null,null,null,null,null,null,null,null,null,null,"Regional_Sucre","CZ_BOSTON"]
[null,null,null,null,null,null,null,null,null,null,null,null,null,"Regional_Sucre","CZ_LA_MOJANA"]
[null,null,null,null,null,null,null,null,null,null,null,null,null,"Regional_Sucre","CZ_NORTE"]
[null,null,null,null,null,null,null,null,null,null,null,null,null,"Regional_Sucre","CZ_SINCELEJO"]
[null,null,null,null,null,null,null,null,null,null,null,null,null,"Regional_Sucre","CZ_REGIONAL_SUCRE"]
[null,null,null,null,null,null,null,null,null,null,null,null,null,"Regional_Tolima","CZ_CHAPARRAL"]
[null,null,null,null,null,null,null,null,null,null,null,null,null,"Regional_Tolima","CZ_ESPINAL"]
[null,null,null,null,null,null,null,null,null,null,null,null,null,"Regional_Tolima","CZ_HONDA"]
[null,null,null,null,null,null,null,null,null,null,null,null,null,"Regional_Tolima","CZ_IBAGUE"]
[null,null,null,null,null,null,null,null,null,null,null,null,null,"Regional_Tolima","CZ_LERIDA"]
[null,null,null,null,null,null,null,null,null,null,null,null,null,"Regional_Tolima","CZ_LIBANO"]
[null,null,null,null,null,null,null,null,null,null,null,null,null,"Regional_Tolima","CZ_MELGAR"]
[null,null,null,null,null,null,null,null,null,null,null,null,null,"Regional_Tolima","CZ_PURIFICACION"]
[null,null,null,null,null,null,null,null,null,null,null,null,null,"Regional_Tolima","CZ_REGIONAL_TOLIMA"]
[null,null,null,null,null,null,null,null,null,null,null,null,null,"Regional_Valle","CZ_BUENAVENTURA"]
[null,null,null,null,null,null,null,null,null,null,null,null,null,"Regional_Valle","CZ_BUGA"]
[null,null,null,null,null,null,null,null,null,null,null,null,null,"Regional_Valle","CZ_CARTAGO"]
[null,null,null,null,null,null,null,null,null,null,null,null,null,"Regional_Valle","CZ_JAMUNDI"]
[null,null,null,null,null,null,null,null,null,null,null,null,null,"Regional_Valle","CZ_LADERA"]
[null,null,null,null,null,null,null,null,null,null,null,null,null,"Regional_Valle","CZ_NORORIENTAL"]
[null,null,null,null,null,null,null,null,null,null,null,null,null,"Regional_Valle","CZ_PALMIRA"]
[null,null,null,null,null,null,null,null,null,null,null,null,null,"Regional_Valle","CZ_ROLDANILLO"]
[null,null,null,null,null,null,null,null,null,null,null,null,null,"Regional_Valle","CZ_SEVILLA"]
[null,null,null,null,null,null,null,null,null,null,null,null,null,"Regional_Valle","CZ_SUR"]
[null,null,null,null,null,null,null,null,null,null,null,null,null,"Regional_Valle","CZ_SURORIENTAL"]
[null,null,null,null,null,null,null,null,null,null,null,null,null,"Regional_Valle","CZ_TULUA"]
[null,null,null,null,null,null,null,null,null,null,null,null,null,"Regional_Valle","CZ_YUMBO"]
[null,null,null,null,null,null,null,null,null,null,null,null,null,"Regional_Valle","CZ_REGIONAL_VALLE"]
[null,null,null,null,null,null,null,null,null,null,null,null,null,"Regional_Vaupés","CZ_MITU"]
[null,null,null,null,null,null,null,null,null,null,null,null,null,"Regional_Vaupés","CZ_REGIONAL_VAUPES"]
[null,null,null,null,null,null,null,null,null,null,null,null,null,"Regional_Vichada","CZ_PUERTO_CARREÑO"]
[null,null,null,null,null,null,null,null,null,null,null,null,null,"Regional_Vichada","CZ_REGIONAL_VICHADA"]

{"sheet":"Inicio","index":1,"n_rows":0,"n_cols":0,"rows_kept":0,"cut":false,"hidden":false,"merged":[]}

{"sheet":"ENERO","index":2,"n_rows":216,"n_cols":25,"rows_kept":216,"cut":false,"hidden":true,"merged":[[42,1,45,1],[6,23,6,26],[120,2,120,3],[128,2,128,4],[128,5,128,7],[128,8,128,10],[127,2,127,4],[127,5,127,7],[132,2,132,4],[132,5,132,7],[129,2,129,4],[130,8,130,10],[132,8,132,10],[129,5,129,7],[129,8,129,10],[130,5,130,7],[86,2,86,3],[87,2,87,3],[88,2,88,3],[83,22,83,25],[85,22,85,25],[86,22,86,25],[87,22,87,25],[88,22,88,25],[88,19,88,21],[138,17,138,25],[138,11,138,16],[120,11,120,13],[120,14,120,17],[124,11,124,16],[125,11,125,16],[126,11,126,16],[127,11,127,16],[128,11,128,16],[131,17,131,25],[132,17,132,25],[136,11,136,16],[133,17,133,25],[134,17,134,25],[129,11,129,16],[130,11,130,16],[131,11,131,16],[120,18,120,20],[120,21,120,25],[88,10,88,12],[88,13,88,15],[88,16,88,18],[104,2,104,25],[106,1,115,1],[106,2,107,19],[106,20,107,25],[109,2,110,19],[109,20,110,25],[114,2,115,19],[114,20,115,25],[126,17,126,25],[127,17,127,25],[116,2,116,19],[116,20,116,25],[113,2,113,19],[113,20,113,25],[121,2,121,25],[122,2,122,25],[123,2,123,25],[117,2,117,19],[117,20,117,25],[118,2,118,19],[118,20,118,25],[119,2,119,19],[119,20,119,25],[127,8,127,10],[120,4,120,10],[133,5,133,7],[133,8,133,10],[132,11,132,16],[133,11,133,16],[134,11,134,16],[135,11,135,16],[135,17,135,25],[130,2,130,4],[131,2,131,4],[131,5,131,7],[131,8,131,10],[135,2,135,4],[135,5,135,7],[135,8,135,10],[133,2,133,4],[134,2,134,4],[134,5,134,7],[210,1,210,27],[209,1,209,24],[206,2,206,6],[206,7,206,13],[206,14,206,19],[206,20,206,25],[197,19,197,25],[198,2,198,9],[198,10,198,18],[198,19,198,25],[199,2,199,25],[200,2,200,25],[204,2,204,6],[204,7,204,13],[204,14,204,19],[204,20,204,25],[205,2,205,6],[205,7,205,13],[205,14,205,19],[205,20,205,25],[201,2,201,6],[201,7,201,13],[202,2,202,6],[202,7,202,13],[176,2,176,4],[176,5,176,7],[176,8,176,10],[176,11,176,16],[176,17,176,25],[138,2,138,4],[138,5,138,7],[138,8,138,10],[174,2,174,4],[174,5,174,7],[174,8,174,10],[174,11,174,16],[175,2,175,4],[175,5,175,7],[175,8,175,10],[175,11,175,16],[163,17,175,25],[172,2,172,4],[172,5,172,7],[172,8,172,10],[172,11,172,16],[173,2,173,4],[140,2,140,25],[147,2,147,25],[137,5,137,7],[158,14,158,25],[148,2,148,4],[148,5,148,6],[148,7,148,8],[148,9,148,10],[148,11,148,13],[136,17,136,25],[137,11,137,16],[153,11,153,13],[155,11,157,13],[148,20,148,22],[148,17,148,19],[155,14,157,16],[151,14,152,16],[149,23,157,25],[150,11,150,13],[150,14,150,16],[151,11,152,13],[148,23,148,25],[139,2,139,25],[149,20,157,22],[153,14,153,16],[137,17,137,25],[202,14,202,19],[202,20,202,25],[203,2,203,6],[203,7,203,13],[203,14,203,19],[203,20,203,25],[178,2,178,25],[179,2,185,25],[186,2,186,25],[187,2,193,25],[196,19,196,25],[197,2,197,9],[197,10,197,18],[195,2,195,9],[195,10,195,18],[195,19,195,25],[201,14,201,19],[201,20,201,25],[173,5,173,7],[173,8,173,10],[173,11,173,16],[170,2,170,4],[170,5,170,7],[170,8,170,10],[171,2,171,4],[171,5,171,7],[171,8,171,10],[171,11,171,16],[170,11,170,16],[87,19,87,21],[86,4,86,6],[86,7,86,9],[86,10,86,12],[86,13,86,15],[86,16,86,18],[86,19,86,21],[87,4,87,6],[87,7,87,9],[87,10,87,12],[87,13,87,15],[87,16,87,18],[168,8,168,10],[168,11,168,16],[169,2,169,4],[169,5,169,7],[169,8,169,10],[169,11,169,16],[124,2,124,4],[124,5,124,7],[124,8,124,10],[125,2,125,4],[125,5,125,7],[125,8,125,10],[126,2,126,4],[126,5,126,7],[126,8,126,10],[134,8,134,10],[137,8,137,10],[148,14,148,16],[168,2,168,4],[168,5,168,7],[136,2,136,4],[136,5,136,7],[136,8,136,10],[137,2,137,4],[62,23,62,25],[63,23,63,25],[62,19,62,22],[69,2,69,3],[62,2,62,3],[63,2,63,3],[63,4,63,6],[63,7,63,9],[63,10,63,12],[67,10,67,12],[67,13,67,15],[67,16,67,18],[67,19,67,22],[66,4,66,6],[66,19,66,22],[67,23,67,25],[64,19,64,22],[65,4,65,6],[65,7,65,9],[64,2,64,3],[65,2,65,3],[66,2,66,3],[67,2,67,3],[68,2,68,3],[166,2,166,4],[66,7,66,9],[66,10,66,12],[66,23,66,25],[65,19,65,22],[64,23,64,25],[65,23,65,25],[70,23,70,25],[71,23,71,25],[68,19,68,22],[68,23,68,25],[69,23,69,25],[70,19,70,22],[129,17,129,25],[130,17,130,25],[84,19,84,21],[84,22,84,25],[73,19,73,22],[124,17,124,25],[125,17,125,25],[128,17,128,25],[73,23,73,25],[80,2,80,25],[81,2,81,25],[162,5,162,7],[149,5,149,6],[149,7,149,8],[72,16,72,18],[65,10,65,12],[70,7,70,9],[70,10,70,12],[71,7,71,9],[71,10,71,12],[71,13,71,15],[70,16,70,18],[83,7,83,9],[83,10,83,12],[67,4,67,6],[67,7,67,9],[65,13,65,15],[65,16,65,18],[73,4,73,6],[73,7,73,9],[73,10,73,12],[73,13,73,15],[82,2,82,25],[83,2,83,3],[85,2,85,3],[72,23,72,25],[196,2,196,9],[196,10,196,18],[194,2,194,25],[158,2,158,10],[158,11,158,13],[159,2,159,25],[160,2,160,25],[161,2,161,25],[162,17,162,25],[163,2,163,4],[163,5,163,7],[163,8,163,10],[163,11,163,16],[164,2,164,4],[164,5,164,7],[164,8,164,10],[72,2,72,3],[73,2,73,3],[85,7,85,9],[85,10,85,12],[167,8,167,10],[149,17,157,19],[164,11,164,16],[166,5,166,7],[166,8,166,10],[166,11,166,16],[167,2,167,4],[167,5,167,7],[149,9,149,10],[149,11,149,13],[149,14,149,16],[154,2,154,10],[155,2,157,10],[162,8,162,10],[162,11,162,16],[165,2,165,4],[165,5,165,7],[165,8,165,10],[165,11,165,16],[150,2,150,10],[151,2,152,10],[153,2,153,10],[149,2,149,4],[154,11,154,13],[154,14,154,16],[167,11,167,16],[162,2,162,4],[105,2,105,19],[105,20,105,25],[108,2,108,19],[108,20,108,25],[111,2,111,19],[111,20,111,25],[112,2,112,19],[112,20,112,25],[98,2,98,3],[98,22,98,25],[99,2,99,25],[100,2,100,5],[100,21,100,25],[101,6,101,10],[101,11,101,15],[101,16,101,20],[101,2,101,5],[101,21,101,25],[98,19,98,21],[100,6,100,10],[100,11,100,15],[100,16,100,20],[98,4,98,6],[98,7,98,9],[98,10,98,12],[98,13,98,15],[98,16,98,18],[97,16,97,18],[97,19,97,21],[96,4,96,6],[96,7,96,9],[96,10,96,12],[96,13,96,15],[96,16,96,18],[97,10,97,12],[97,13,97,15],[102,2,102,25],[103,2,103,25],[97,2,97,3],[96,22,96,25],[97,22,97,25],[94,19,94,21],[95,4,95,6],[95,7,95,9],[95,10,95,12],[95,13,95,15],[95,16,95,18],[95,19,95,21],[94,4,94,6],[94,7,94,9],[94,10,94,12],[94,13,94,15],[94,16,94,18],[94,2,94,3],[95,2,95,3],[94,22,94,25],[95,22,95,25],[96,19,96,21],[97,4,97,6],[97,7,97,9],[93,13,93,15],[93,16,93,18],[93,19,93,21],[92,4,92,6],[92,7,92,9],[92,10,92,12],[92,13,92,15],[92,16,92,18],[96,2,96,3],[92,2,92,3],[93,2,93,3],[90,22,90,25],[91,22,91,25],[92,19,92,21],[93,4,93,6],[93,7,93,9],[93,10,93,12],[89,22,89,25],[89,4,89,6],[89,7,89,9],[89,10,89,12],[89,13,89,15],[89,16,89,18],[89,19,89,21],[92,22,92,25],[93,22,93,25],[90,19,90,21],[91,4,91,6],[91,7,91,9],[91,10,91,12],[91,13,91,15],[91,16,91,18],[91,19,91,21],[90,4,90,6],[90,7,90,9],[68,10,68,12],[68,13,68,15],[68,16,68,18],[62,4,62,6],[62,7,62,9],[62,10,62,12],[62,13,62,15],[62,16,62,18],[63,19,63,22],[63,13,63,15],[63,16,63,18],[64,4,64,6],[64,7,64,9],[64,10,64,12],[64,13,64,15],[84,2,84,3],[84,4,84,6],[84,7,84,9],[71,4,71,6],[71,19,71,22],[70,4,70,6],[70,13,70,15],[61,13,61,15],[61,16,61,18],[61,19,61,22],[70,2,70,3],[71,2,71,3],[64,16,64,18],[71,16,71,18],[66,13,66,15],[66,16,66,18],[69,4,69,6],[69,7,69,9],[69,10,69,12],[69,13,69,15],[69,16,69,18],[69,19,69,22],[68,4,68,6],[68,7,68,9],[73,16,73,18],[85,13,85,15],[85,16,85,18],[72,19,72,22],[72,4,72,6],[72,7,72,9],[83,13,83,15],[83,16,83,18],[72,10,72,12],[72,13,72,15],[85,4,85,6],[85,19,85,21],[83,4,83,6],[84,10,84,12],[84,13,84,15],[84,16,84,18],[61,2,61,3],[60,7,60,9],[60,10,60,12],[60,13,60,15],[60,16,60,18],[61,23,61,25],[59,4,59,6],[59,7,59,9],[59,10,59,12],[59,13,59,15],[59,16,59,18],[59,19,59,22],[59,23,59,25],[60,23,60,25],[60,19,60,22],[61,4,61,6],[61,7,61,9],[61,10,61,12],[55,2,55,25],[56,2,56,25],[60,4,60,6],[57,2,57,25],[58,2,58,25],[60,2,60,3],[59,2,59,3],[51,2,51,5],[51,6,51,8],[51,9,51,11],[51,12,51,13],[51,14,51,15],[51,16,51,17],[51,18,51,19],[51,20,51,21],[51,22,51,23],[51,24,51,25],[52,2,52,15],[52,16,53,25],[53,6,53,7],[53,9,54,13],[54,6,54,7],[54,19,54,23],[43,2,43,5],[43,6,43,15],[43,16,43,19],[43,20,43,25],[44,2,44,5],[44,6,44,15],[44,16,44,19],[44,20,44,25],[45,2,45,5],[45,6,45,15],[45,16,45,19],[45,20,45,25],[41,2,41,5],[41,6,41,15],[41,16,41,19],[41,20,41,25],[42,2,42,5],[42,6,42,15],[42,16,42,19],[42,20,42,25],[39,2,39,5],[39,6,39,15],[39,16,39,19],[39,20,39,25],[40,2,40,5],[40,6,40,15],[40,16,40,19],[40,20,40,25],[37,20,37,25],[38,2,38,5],[38,6,38,9],[38,12,38,15],[38,16,38,19],[38,20,38,25],[37,2,37,5],[37,6,37,7],[37,8,37,10],[37,11,37,12],[37,13,37,15],[37,16,37,19],[35,2,35,6],[35,7,35,11],[35,12,35,16],[35,17,35,21],[35,22,35,25],[36,2,36,5],[36,6,36,15],[36,16,36,19],[36,20,36,25],[33,2,33,6],[33,7,33,11],[33,12,33,16],[33,17,33,21],[33,22,33,25],[34,2,34,6],[34,7,34,11],[34,12,34,16],[34,17,34,21],[34,22,34,25],[31,22,31,25],[29,2,29,4],[29,5,29,7],[29,8,29,10],[29,11,29,13],[29,14,29,15],[29,16,29,18],[29,19,29,22],[32,2,32,6],[32,7,32,11],[32,12,32,16],[32,17,32,21],[32,22,32,25],[31,2,31,6],[31,7,31,11],[31,12,31,16],[31,17,31,21],[20,2,20,26],[21,2,21,26],[27,2,27,25],[28,4,28,7],[28,8,28,10],[28,11,28,18],[28,19,28,21],[28,22,28,25],[6,1,6,15],[6,16,6,17],[7,1,7,6],[7,7,7,12],[7,13,7,19],[7,20,7,26],[16,2,16,26],[17,2,17,26],[8,1,8,8],[8,9,8,26],[9,1,9,8],[9,9,9,26],[10,1,10,8],[10,9,10,26],[28,2,28,3],[6,18,6,22],[0,14,1,19],[0,20,1,26],[2,14,3,19],[2,20,3,26],[4,14,5,26],[76,14,77,19],[76,20,77,26],[0,5,5,13],[11,1,11,8],[11,9,11,26],[12,1,12,8],[12,9,12,26],[14,2,14,26],[15,2,15,26],[29,23,29,25],[30,2,30,6],[30,7,30,11],[30,12,30,16],[30,17,30,21],[30,22,30,25],[22,2,22,26],[0,1,5,4],[18,2,18,26],[19,2,19,26],[207,1,207,26],[78,14,79,26],[143,14,144,19],[143,20,144,26],[145,14,146,26],[74,1,74,26],[75,1,79,4],[75,5,79,13],[75,14,75,19],[75,20,75,26],[141,1,141,26],[142,1,146,4],[142,5,146,13],[142,14,142,19],[142,20,142,26],[83,19,83,21],[89,2,89,3],[90,2,90,3],[91,2,91,3],[90,10,90,12],[90,13,90,15],[90,16,90,18],[88,4,88,6],[88,7,88,9],[46,20,46,25],[47,12,47,13],[47,14,47,15],[47,16,47,17],[47,18,47,19],[47,20,47,21],[47,22,47,23],[47,24,47,25],[48,2,48,5],[48,6,48,8],[48,9,48,11],[48,12,48,13],[48,14,48,15],[48,16,48,17],[48,18,48,19],[48,20,48,21],[48,22,48,23],[48,24,48,25],[46,2,47,5],[46,6,47,8],[46,9,47,11],[46,12,46,15],[46,16,46,19],[49,24,49,25],[50,2,50,5],[50,6,50,8],[50,9,50,11],[50,12,50,13],[50,14,50,15],[50,16,50,17],[50,18,50,19],[50,20,50,21],[50,22,50,23],[50,24,50,25],[49,2,49,5],[49,6,49,8],[49,9,49,11],[49,12,49,13],[49,14,49,15],[49,16,49,17],[49,18,49,19],[49,20,49,21],[49,22,49,23]]}
[null,null,null,null,null,"PROCESO\nPROMOCION Y PREVENCIÓN\n\nFORMATO ACTA LEGALIZACIÓN DE CUENTAS\n",null,null,null,null,null,null,null,null,"F1.A8.MO12.PP",null,null,null,null,null,"2022-02-02"]
[]
[null,null,null,null,null,null,null,null,null,null,null,null,null,null,"Versión 3",null,null,null,null,null,"Página 1 de 3"]
[]
[null,null,null,null,null,null,null,null,null,null,null,null,null,null,"Clasificación de la Información:\nPública"]
[]
[null,"ACTA DE LEGALIZACIÓN N°",null,null,null,null,null,null,null,null,null,null,null,null,null,null,1,null,"ESTADO DEL CONTRATO:",null,null,null,null,"VIGENTE"]
[null,"Fecha y Hora Inicio:",null,null,null,null,null,"2020-01-16",null,null,null,null,null,"Fecha y Hora Fin:  ",null,null,null,null,null,null,"16/01/2020  15:00:00 a. m."]
[null,"Lugar:",null,null,null,null,null,null,null,"Regional_Amazonas"]
[null,"Dependencia que Convoca:",null,null,null,null,null,null,null,"Primera Infancia - Grupo de Atención en Ciclos de Vida y Nutrición "]
[null,"Proceso:",null,null,null,null,null,null,null,"Promoción y Prevención "]
[null,"Objetivo:",null,null,null,null,null,null,null,"Recepción, revisión, el análisis y  Legalización de los Gastos e Ingresos del Informe Financiero presentado por la entidad administradora (EAS)"]
[null,"Nombre EAS:",null,null,null,null,null,null,null,"ASOCIACION DE HOGARES"]
[null,"Agenda: "]
[null,"1.","Desarrollo."]
[null,"2.","Información general del contrato."]
[null,"3.","Informe  de ejecución Presupuestal y  financiera requerido con los debidos soporte."]
[null,"4.","Seguimiento al Uso de Tasas Compensatorias (Aplica Solo para HI)."]
[null,"5.","Detalle de Inejecuciones."]
[null,"6.","Ejecución Contrapartida."]
[null,"7.","Situación Encontrada."]
[null,"8.","Recomendaciones."]
[null,"9.","Cierre."]
[null,"         Desarrollo: "]
[null,"1.","Se da inicio a la legalización de los informes financieros Presentados por la EAS con el fin de verificar la correcta Ejecución del presupuesto aprobado dentro de los "]
[null,null,"lineamientos, guias de supervision, manuales operativos y minutas que corresponden."]
[null,"2.","A continuaciòn en el presente cuadro  se relaciona la información general del contrato."]
[null,null,"Información general del contrato."]
[null,null,"Regional:",null,{"$f":"+J9","v":"Regional_Amazonas"},null,null,null,"Centro Zonal:",null,null,"CZ_LETICIA",null,null,null,null,null,null,null,"N° de Contrato\n o Convenio"]
[null,null,"N° CDP ",null,null,0,null,null,"N° RP",null,null,0,null,null,"FECHA \nACTA INICIO",null,null,null,null,"Cupos Contratados:",null,null,null,{"$f":"+W36+R36+M36+H36+C36","v":0}]
[null,null," Modalidad 1:",null,null,null,null,"Modalidad 2:",null,null,null,null,"Modalidad 3:",null,null,null,null,"Modalidad 4:",null,null,null,null,"Modalidad 5:"]
[null,null,"NO_APLICA",null,null,null,null,"NO_APLICA",null,null,null,null,"NO_APLICA",null,null,null,null,"NO_APLICA",null,null,null,null,"NO_APLICA"]
[null,null,"SERVICIO 1:",null,null,null,null,"SERVICIO 2:",null,null,null,null,"SERVICIO 3:",null,null,null,null,"SERVICIO 4:",null,null,null,null,"SERVICIO 5:"]
[null,null,"NO APLICA",null,null,null,null,"NO APLICA",null,null,null,null,"NO APLICA",null,null,null,null,"NO APLICA",null,null,null,null,"NO APLICA"]
[null,null,"CUPOS CONTRATADO 1:",null,null,null,null,"CUPOS CONTRATADO 2:",null,null,null,null,"CUPOS CONTRATADO 3:",null,null,null,null,"CUPOS CONTRATADO 4:",null,null,null,null,"CUPOS CONTRATADO 5:"]
[null,null,0,null,null,null,null,0,null,null,null,null,0,null,null,null,null,0,null,null,null,null,0]
[null,null,"Nombre Supervisor CTO:",null,null,null," ",null,null,null,null,null,null,null,null,null,"Apoyo Financiero ICBF:",null,null,null," "]
[null,null,"Plazo de ejecución CTO:",null,null,null,"Desde:",null,null,null,null,"Hasta:",null,null,null,null,"Fecha aprob. póliza:",null,null,null," "]
[null,null,"Póliza N° 1 del CTO",null,null,null,null,null,null,null,"Poliza N° 2",null,null,null,null,null,"Nombre Ent. Aseguradora",null,null,null," "]
[null,null,"Representante Legal:",null,null,null,null,null,null,null,null,null,null,null,null,null,"Cédula RL: ",null,null,null," "]
[null,null,"Email Representante L.",null,null,null,null,null,null,null,null,null,null,null,null,null,"NIT EAS:",null,null,null," "]
[null,null,"Telefono o Cel R.L",null,null,null,null,null,null,null,null,null,null,null,null,null,"Fecha Vencimiento R. L:",null,null,null," "]
[null,"VIGENCIA ACTUAL","Valor Inicial del CTO: \n(Aporte ICBF)",null,null,null,0,null,null,null,null,null,null,null,null,null,"Valor Aportes EAS:",null,null,null,0]
[null,null,"Adiciones al CTO:",null,null,null,0,null,null,null,null,null,null,null,null,null,"Adiciones Aportes EAS:",null,null,null,0]
[null,null,"Reducciones al CTO",null,null,null,0,null,null,null,null,null,null,null,null,null,"Total Aportes EAS:",null,null,null,{"$f":"+U44+U43","v":0}]
[null,null,"VALOR APORTE ICBF",null,null,null,{"$f":"+(G43+G44)-G45","v":0},null,null,null,null,null,null,null,null,null,"Valor Actual del CTO:",null,null,null,{"$f":"+G43+U43+G44+U44-G45","v":0}]
[null,null,"VIGENCIA",null,null,null,"APORTE ICBF",null,null,"APORTE EAS",null,null,"Adiciones al contrato",null,null,null,"Reducciones al contrato",null,null,null,"Valor final del contrato"]
[null,null,null,null,null,null,null,null,null,null,null,null,"ICBF",null,"EAS",null,"ICBF",null,"EAS",null,"ICBF",null,"EAS",null,"TOTAL"]
[null,null,2020,null,null,null,0,null,null,0,null,null,0,null,0,null,0,null,0,null,{"$f":"+G49+M49-Q49","v":0},null,{"$f":"+J49+O49-S49","v":0},null,{"$f":"+U49+W49","v":0}]
[null,null,2021,null,null,null,0,null,null,0,null,null,0,null,0,null,0,null,0,null,{"$f":"+G50+M50-Q50","v":0},null,{"$f":"+J50+O50-S50","v":0},null,{"$f":"+U50+W50","v":0}]
[null,null,2022,null,null,null,0,null,null,0,null,null,0,null,0,null,0,null,0,null,0,null,0,null,0]
[null,null,"TOTAL",null,null,null,{"$f":"SUM(G49:I51)","v":0},null,null,{"$f":"SUM(J49:L51)","v":0},null,null,{"$f":"SUM(M49:N51)","v":0},null,{"$f":"SUM(O49:P51)","v":0},null,{"$f":"SUM(Q49:R51)","v":0},null,{"$f":"SUM(S49:T51)","v":0},null,{"$f":"SUM(U49:V51)","v":0},null,{"$f":"SUM(W49:X51)","v":0},null,{"$f":"+Y51+Y50+Y49","v":0}]
[null,null,"La entidad presenta informe financiero mensual ante el ICBF como sigue:",null,null,null,null,null,null,null,null,null,null,null,null,null,"Presenta los documentos soportes que acompañan el informe financiero y se entrega al ICBF copia de los mismos en medio:"]
[null,null,"Mes a legalizar:",null,null,null,"ENERO",null,null,"¿Los documentos aportados permiten realizar la legalización del informe financiero?    ",null,null,null,null,"SI","X"]
[null,null,"Fecha radicación EAS:",null,null,null,"2022-01-10",null,null,null,null,null,null,null,"NO",null,null,null,null,"DIGITAL Y FISICO"]
[null,null,"OBSERVACIONES INFORMACIÓN GENERAL:"]
[]
[null,"3. ","Se verifica  la ejecución de los recursos del contrato de acuerdo a los Informes Financieros presentados por la entidad:"]
[null,null,"SEGUIMIENTO PRESUPUESTAL  Y FINANCIERO DEL CONTRATO"]
[null,null,"MES",null,"PRESUPUESTO APROBADO + REPROGRAMACIONES \n(Aportes ICBF)",null,null,"EJECUCIÓN",null,null,"SALDO SIN EJECUTAR",null,null,"PROGRAMACIÓN DESEMBOLSOS",null,null,"DESEMBOLSOS GIRADOS",null,null,"DIFERENCIA PROGRAMADO VS PAGADO",null,null,null,"PAGOS REAL. EN EL MES"]
[]
[null,null,"Enero",null,0,null,null,0,null,null,{"$f":"+E62-H62","v":0},null,null,0,null,null,0,null,null,{"$f":"+N62-Q62","v":0},null,null,null,0]
[null,null,"Febrero",null,0,null,null,0,null,null,0,null,null,0,null,null,0,null,null,0,null,null,null,0]
[null,null,"Marzo",null,0,null,null,0,null,null,0,null,null,0,null,null,0,null,null,0,null,null,null,0]
[null,null,"Abril",null,0,null,null,0,null,null,0,null,null,0,null,null,0,null,null,0,null,null,null,0]
[null,null,"Mayo",null,0,null,null,0,null,null,0,null,null,0,null,null,0,null,null,0,null,null,null,0]
[null,null,"Junio",null,0,null,null,0,null,null,0,null,null,0,null,null,0,null,null,0,null,null,null,0]
[null,null,"Julio",null,0,null,null,0,null,null,0,null,null,0,null,null,0,null,null,0,null,null,null,0]
[null,null,"Agosto",null,0,null,null,0,null,null,0,null,null,0,null,null,0,null,null,0,null,null,null,0]
[null,null,"Septiembre",null,0,null,null,0,null,null,0,null,null,0,null,null,0,null,null,0,null,null,null,0]
[null,null,"Octubre",null,0,null,null,0,null,null,0,null,null,0,null,null,0,null,null,0,null,null,null,0]
[null,null,"Noviembre",null,0,null,null,0,null,null,0,null,null,0,null,null,0,null,null,0,null,null,null,0]
[null,null,"Diciembre  ",null,0,null,null,0,null,null,0,null,null,0,null,null,0,null,null,0,null,null,null,0]
[null,null,"TOTAL  ",null,{"$f":"SUM(E62:G73)","v":0},null,null,{"$f":"SUM(H62:J73)","v":0},null,null,{"$f":"SUM(K62:M73)","v":0},null,null,{"$f":"SUM(N62:P73)","v":0},null,null,{"$f":"SUM(Q62:S73)","v":0},null,null,{"$f":"SUM(T62:W73)","v":0},null,null,null,{"$f":"SUM(X62:Z73)","v":0}]
[null,"Antes de imprimir este documento… piense en el medio ambiente!    \nCualquier copia impresa de este documento se considera como COPIA NO CONTROLADA\nLOS DATOS PROPORCIONADOS SERÁN TRATADOS DE ACUERDO A LA POLÌTICA DE TRATAMIENTO DE DATOS PERSONALES DEL ICBF Y A LA LEY 1581 DE 2012 "]
[null,null,null,null,null,"PROCESO\nPROMOCION Y PREVENCIÓN\n\nFORMATO ACTA LEGALIZACIÓN DE CUENTAS\n",null,null,null,null,null,null,null,null,"F1.A8.MO12.PP",null,null,null,null,null,"2022-02-02"]
[null,null,null,null,null,null,null,null,null,null,null,null,null,null,"Versión 3",null,null,null,null,null,"Página 2 de 3"]
[]
[null,null,null,null,null,null,null,null,null,null,null,null,null,null,"Clasificación de la Información:\nPública"]
[]
[null," ","OBSERVACIONES SEGUIMIENTO PRESUPUESTAL  Y FINANCIERO DEL CONTRATO:"]
[]
[null,null,"SEGUIMIENTO A INEJECUCIONES Y LIBERACIONES"]
[null,null,"MES",null,"AHORROS",null,null,"INEJECUCIONES",null,null,"SEGUIMIENTO DE INEJECUCIONES",null,null,"REDISTRIBUCIÓN DE \nAHORROS",null,null,"REINVERSIÓN DE \nINEJECUCIONES",null,null,"LIBERACIONES/REINTEGROS T.N \n(Tramitadas)",null,null,"LIBERACIONES PENDIENTES POR  REALIZAR"]
[null,null,"Inejecución\n inicial",null,0,null,null,0,null,null,{"$f":"+G46-E74","v":0},null,null,0,null,null,0,null,null,0,null,null,{"$f":"IFERROR(+K85,0)","v":0}]
[]
[null,null,"Enero",null,0,null,null,0,null,null,{"$f":"+E87+H87","v":0},null,null,0,null,null,0,null,null,0,null,null,{"$f":"+W85+K87-(N87+Q87+T87)","v":0}]
[null,null,"Febrero",null,0,null,null,0,null,null,0,null,null,0,null,null,0,null,null,0,null,null,0]
[null,null,"Marzo",null,0,null,null,0,null,null,0,null,null,0,null,null,0,null,null,0,null,null,0]
[null,null,"Abril",null,0,null,null,0,null,null,0,null,null,0,null,null,0,null,null,0,null,null,0]
[null,null,"Mayo",null,0,null,null,0,null,null,0,null,null,0,null,null,0,null,null,0,null,null,0]
[null,null,"Junio",null,0,null,null,0,null,null,0,null,null,0,null,null,0,null,null,0,null,null,0]
[null,null,"Julio",null,0,null,null,0,null,null,0,null,null,0,null,null,0,null,null,0,null,null,0]
[null,null,"Agosto",null,0,null,null,0,null,null,0,null,null,0,null,null,0,null,null,0,null,null,0]
[null,null,"Septiembre",null,0,null,null,0,null,null,0,null,null,0,null,null,0,null,null,0,null,null,0]
[null,null,"Octubre",null,0,null,null,0,null,null,0,null,null,0,null,null,0,null,null,0,null,null,0]
[null,null,"Noviembre",null,0,null,null,0,null,null,0,null,null,0,null,null,0,null,null,0,null,null,0]
[null,null,"Diciembre  ",null,0,null,null,0,null,null,0,null,null,0,null,null,0,null,null,0,null,null,0]
[null,null,"TOTAL",null,{"$f":"SUM(E87:G98)+E85","v":0},null,null,{"$f":"SUM(H87:J98)+H85","v":0},null,null,{"$f":"SUM(K87:M98)+K85","v":0},null,null,{"$f":"SUM(N87:P98)+N85","v":0},null,null,{"$f":"SUM(Q87:S98)+Q85","v":0},null,null,{"$f":"SUM(T87:V98)+T85","v":0},null,null,{"$f":"+W87","v":0}]
[null,null,"RESUMEN PERIODICO A LA EJECUCIÓN"]
[null,null,"PRESUPUESTO APROBADO",null,null,null,"PRESUPUESTO EJECUTADO",null,null,null,null,"EJECUCION PROYECTADA \nAL PERIODO",null,null,null,null,"AVANCE EJECUCION \nDEL PERIODO",null,null,null,null,"DESVIACIÓN PRESUPUESTAL"]
[null,null,{"$f":"+E74","v":0},null,null,null,{"$f":"+H74","v":0},null,null,null,null,{"$f":"IFERROR((SUMIF(H61:J62,\">=0\",E61:G62))/E74,0)","v":0},null,null,null,null,{"$f":"IFERROR(G102/C102,0)","v":0},null,null,null,null,{"$f":"IFERROR(Q102-L102,0)","v":0}]
[null,null,"OBSERVACIONES EJECUCIÓN PRESUPUESTO: "]
[]
[null,null,"RESUMEN FINANCIERO DEL PERIODO:"]
[null,null,"SALDO DEL PERIODO ANTERIOR ",null,null,null,null,null,null,null,null,null,null,null,null,null,null,null,null,null,0]
[null,null,"TOTAL APORTES GIRADOS EN EL PERIODO",null,null,null,null,null,null,null,null,null,null,null,null,null,null,null,null,null,{"$f":"+Q62","v":0}]
[]
[null,null,"TOTAL APORTES PARA EL PERIODO",null,null,null,null,null,null,null,null,null,null,null,null,null,null,null,null,null,{"$f":"+U107+U106","v":0}]
[null,null,"PAGOS  REALIZADOS POR LA EAS EN EL PERIODO",null,null,null,null,null,null,null,null,null,null,null,null,null,null,null,null,null,{"$f":"+X62","v":0}]
[]
[null,null,"SALDO DE APORTES ICBF PARA EL PERIODO",null,null,null,null,null,null,null,null,null,null,null,null,null,null,null,null,null,{"$f":"+U109-U110","v":0}]
[null,null,"SALDO SEGUN EXTRACTO",null,null,null,null,null,null,null,null,null,null,null,null,null,null,null,null,null,0]
[null,null,"DIFERENCIA SALDO RECURSOS VS SALDO EXTRACTO BANCARIO",null,null,null,null,null,null,null,null,null,null,null,null,null,null,null,null,null,{"$f":"+U113-U112","v":0}]
[null,null,"VALOR CONCILIADO",null,null,null,null,null,null,null,null,null,null,null,null,null,null,null,null,null,0]
[]
[null,null,"VALOR CARGA PRESTACIONAL ACUMULADA",null,null,null,null,null,null,null,null,null,null,null,null,null,null,null,null,null,0]
[null,null,"RENDIMIENTOS FINANCIEROS DEL MES",null,null,null,null,null,null,null,null,null,null,null,null,null,null,null,null,null,0]
[null,null,"RENDIMIENTOS FNANCIEROS ACUMULADOS",null,null,null,null,null,null,null,null,null,null,null,null,null,null,null,null,null,{"$f":"(U118-U120)","v":0}]
[null,null,"RENDIMIENTOS FINANCIEROS CONSIGNADOS",null,null,null,null,null,null,null,null,null,null,null,null,null,null,null,null,null,0]
[null,null,"Banco:",null,"SCOTIABANK COLPATRIA SA",null,null,null,null,null,null,"Tipo de Cuenta:",null,null,"Ahorros",null,null,null,"Nro de Cuenta:",null,null,0]
[null,null,"OBSERVACIONES  CONCILIACIÓN:"]
[]
[null,"4.","Seguimiento al uso de los recursos tasas compensatorias (Aplica Solo para HI)"]
[null,null,"MES",null,null,"PRESUPUESTO TASAS COMPENSATORIAS",null,null,"VALOR T.C RECAUDADA POR EL OPERADOR",null,null," EJECUCIÓN CON RECURSOS TASAS COMPENSATORIAS",null,null,null,null,null,"SALDO TASAS COMPENSATORIAS"]
[]
[null,null,"ENERO",null,null,0,null,null,0,null,null,0,null,null,null,null,null,{"$f":"+I127-L127","v":0}]
[null,null,"FEBRERO",null,null,0,null,null,0,null,null,0,null,null,0,null,null,0]
[null,null,"MARZO",null,null,0,null,null,0,null,null,0,null,null,0,null,null,0]
[null,null,"ABRIL",null,null,0,null,null,0,null,null,0,null,null,0,null,null,0]
[null,null,"MAYO",null,null,0,null,null,0,null,null,0,null,null,0,null,null,0]
[null,null,"JUNIO",null,null,0,null,null,0,null,null,0,null,null,0,null,null,0]
[null,null,"JULIO",null,null,0,null,null,0,null,null,0,null,null,0,null,null,0]
[null,null,"AGOSTO",null,null,0,null,null,0,null,null,0,null,null,0,null,null,0]
[null,null,"SEPTIEMBRE",null,null,0,null,null,0,null,null,0,null,null,0,null,null,0]
[null,null,"OCTUBRE",null,null,0,null,null,0,null,null,0,null,null,0,null,null,0]
[null,null,"NOVIEMBRE",null,null,0,null,null,0,null,null,0,null,null,0,null,null,0]
[null,null,"DICIEMBRE",null,null,0,null,null,0,null,null,0,null,null,0,null,null,0]
[null,null,"Total",null,null,{"$f":"SUM(F127:H138)","v":0},null,null,{"$f":"SUM(I127)","v":0},null,null,{"$f":"SUM(L127)","v":0},null,null,null,null,null,{"$f":"SUM(R127)","v":0}]
[null,null,"OBSERVACIONES  RECAUDO TASAS:"]
[]
[null,"Antes de imprimir este documento… piense en el medio ambiente!    \nCualquier copia impresa de este documento se considera como COPIA NO CONTROLADA\nLOS DATOS PROPORCIONADOS SERÁN TRATADOS DE ACUERDO A LA POLÌTICA DE TRATAMIENTO DE DATOS PERSONALES DEL ICBF Y A LA LEY 1581 DE 2012 "]
[null,null,null,null,null,"PROCESO\nPROMOCION Y PREVENCIÓN\n\nFORMATO ACTA LEGALIZACIÓN DE CUENTAS\n",null,null,null,null,null,null,null,null,"F1.A8.MO12.PP",null,null,null,null,null,"2022-02-02"]
[null,null,null,null,null,null,null,null,null,null,null,null,null,null,"Versión 3",null,null,null,null,null,"Página 3 de 3"]
[]
[null,null,null,null,null,null,null,null,null,null,null,null,null,null,"Clasificación de la Información:\nPública"]
[]
[null,"5. ","Se Verifica que los valores por inejecuciones corresponde a los siguientes conceptos:"]
[null,null,"CONCEPTO DE DESCUENTO",null,null," Cupos CONTRATADOS",null," Cupos\nATENDIDOS ",null," NO ATENDIDOS ",null,"VALOR DESCUENTO POR INEJECUCIÓN",null,null,"FUENTE DE CONSULTA",null,null,"VALOR DESCUENTO \nTEMPORAL",null,null,"REINTEGRO DEL DESCUENTO TEMPORAL",null,null,"Saldo de Descuentos Temporales"]
[null,null,"BAJA COBERTURA",null,null,{"$f":"+X30","v":0},null,0,null,{"$f":"+F150-H150","v":0},null,0,null,null,"NO APLICA",null,null,0,null,null,0,null,null,{"$f":"+(R150-U150)","v":0}]
[null,null,"INASISTENCIA",null,null,null,null,null,null,null,null,0,null,null,"NO APLICA"]
[null,null,"NO PRESTACION DEL SERVICIO",null,null,null,null,null,null,null,null,0,null,null,"NO APLICA"]
[]
[null,null,"CUENTAME",null,null,null,null,null,null,null,null,0,null,null,"NO APLICA"]
[null,null,"TALENTO HUMANO NO CONTRATADO",null,null,null,null,null,null,null,null,0,null,null,"NO APLICA"]
[null,null,"OTRO\n (Se Especifica en Observaciones)",null,null,null,null,null,null,null,null,0,null,null,"NO APLICA"]
[]
[]
[null,null,"TOTAL DESCUENTO",null,null,null,null,null,null,null,null,{"$f":"SUM(L150:N158)","v":0}]
[null,null,"OBSERVACIONES  DESCUENTOS:"]
[]
[null,"6. ","Ejecución Aportes EAS."]
[null,null,"MES",null,null,"PRESUPUESTO",null,null,"EJECUCIÓN",null,null,"SALDO APORTES EAS",null,null,null,null,null,"OBSERVACIONES APOTES EAS"]
[]
[null,null,"ENERO",null,null,0,null,null,0,null,null,{"$f":"+F165-I165","v":0}]
[null,null,"FEBRERO",null,null,0,null,null,0,null,null,0]
[null,null,"MARZO",null,null,0,null,null,0,null,null,0]
[null,null,"ABRIL",null,null,0,null,null,0,null,null,0]
[null,null,"MAYO",null,null,0,null,null,0,null,null,0]
[null,null,"JUNIO",null,null,0,null,null,0,null,null,0]
[null,null,"JULIO",null,null,0,null,null,0,null,null,0]
[null,null,"AGOSTO",null,null,0,null,null,0,null,null,0]
[null,null,"SEPTIEMBRE",null,null,0,null,null,0,null,null,0]
[null,null,"OCTUBRE",null,null,0,null,null,0,null,null,0]
[null,null,"NOVIEMBRE",null,null,0,null,null,0,null,null,0]
[null,null,"DICIEMBRE",null,null,0,null,null,0,null,null,0]
[null,null,"Total",null,null,{"$f":"SUM(F165:H176)","v":0},null,null,{"$f":"SUM(I165:K176)","v":0},null,null,{"$f":"SUM(L165)","v":0}]
[]
[null,"7. ","Observaciones Generales."]
[]
[]
[]
[]
[]
[]
[]
[null,"8."," Recomendaciones. (Preste la asesoría necesaria para que se superen las dificultades identificadas y se mantengan las fortalezas detectadas)  "]
[]
[]
[]
[]
[]
[]
[]
[null,"9.","Cierre."]
[null,null,"Compromisos / tareas",null,null,null,null,null,null,null,"Responsables",null,null,null,null,null,null,null,null,"Fechas"]
[]
[]
[]
[null,null,"**Las siguientes personas que firman  dan constancia que han revisado y estan de acuerdo con cada uno de los items de la presente acta y que  este ejercicio de legalización de cuentas se ha realizado conforme a los lineamientos, guias de supervisión, manuales operativos y minutas contractuales establecidas por el ICBF."]
[null," ","FIRMA RESPONSABLES ICBF Y ENTIDAD ADMINISTRADORA"]
[null,null,"Nombre",null,null,null,null,"Cargo / Dependencia",null,null,null,null,null,null,"EMAIL",null,null,null,null,null,"Firma"]
[null,null,{"$f":"+G37","v":" "},null,null,null,null,"SUPERVISOR(A) DEL CONTRATO ICBF",null,null,null,null,null,null,"@icbf.gov.co"]
[null,null,{"$f":"+U37","v":" "},null,null,null,null,"APOYO FINANCIERO ICBF",null,null,null,null,null,null,"@icbf.gov.co"]
[null,null,{"$f":"+G40","v":0},null,null,null,null,"REPRESENTANTE LEGAL EAS",null,null,null,null,null,null,{"$f":"+G41","v":0}]
[]
[]
[null,"Antes de imprimir este documento… piense en el medio ambiente!    \nCualquier copia impresa de este documento se considera como COPIA NO CONTROLADA\nLOS DATOS PROPORCIONADOS SERÁN TRATADOS DE ACUERDO A LA POLÌTICA DE TRATAMIENTO DE DATOS PERSONALES DEL ICBF Y A LA LEY 1581 DE 2012 "]
[]
[null,"* Escanear esta Acta debidamente Firmada y colocarla en la ruta especificada por la DPI"]
[]
["RECOMEDACIONES DE USO DE ESTE ARCHIVO:"]
["1. HABILITE MACROS : ARCHIVO > CENTRO DE CONFIANZA> CONFIGURACION DEL CENTRO DE CONFIANZA > CONFIGURACION DE MACROS > HABILITAR TODAS LAS MACROS > CONFIAR EN EL ACCESO AL MODELO DE OBJETO DE PROYECTOS VBA > ACEPTAR"]
["2. DESHABILITE VISTA PROTEGIDA: ARCHIVO> CENTRO DE CONFIANZA> CONFIGURACION DEL CENTRO DE CONFIANZA > VISTA PROTEGIDA> DESMARCAR LAS TRES OPCIONES >ACEPTAR"]
["3. HABILITAR UBICACIONES DE RED: ARCHIVO> CENTRO DE CONFIANZA> CONFIGURACION DEL CENTRO DE CONFIANZA > UBICACIONES DE CONFIANZA > MARCAR PERMITIR UBICACIONES DE CONFIANZA QUE ESTEN EN LA RED > ACEPTAR "]
["4. HABILITAR DOCUMENTOS DE CONFIANZA: ARCHIVO> CENTRO DE CONFIANZA> CONFIGURACION DEL CENTRO DE CONFIANZA > DOCUMENTOS DE CONFIANZA > MARCAR PERMITIR QUE SEAN DE CONFIANZA LOS DOCUMENTOS DE UNA RED"]

{"sheet":"FEBRERO","index":3,"n_rows":216,"n_cols":25,"rows_kept":216,"cut":false,"hidden":true,"merged":[[52,2,52,15],[52,16,53,25],[53,6,53,7],[53,9,54,13],[54,6,54,7],[54,19,54,23],[42,1,45,1],[50,24,50,25],[51,2,51,5],[51,6,51,8],[51,9,51,11],[51,12,51,13],[51,14,51,15],[51,16,51,17],[51,18,51,19],[51,20,51,21],[51,22,51,23],[51,24,51,25],[50,2,50,5],[50,6,50,8],[50,9,50,11],[50,12,50,13],[50,14,50,15],[50,16,50,17],[50,18,50,19],[50,20,50,21],[50,22,50,23],[48,9,48,11],[48,12,48,13],[48,14,48,15],[48,16,48,17],[48,18,48,19],[48,20,48,21],[48,22,48,23],[48,24,48,25],[49,2,49,5],[49,6,49,8],[49,9,49,11],[49,12,49,13],[49,14,49,15],[49,16,49,17],[49,18,49,19],[49,20,49,21],[49,22,49,23],[49,24,49,25],[48,2,48,5],[48,6,48,8],[6,18,6,22],[6,23,6,26],[92,16,92,18],[134,11,134,16],[134,17,134,25],[45,2,45,5],[45,6,45,15],[106,1,115,1],[106,2,107,19],[106,20,107,25],[109,2,110,19],[109,20,110,25],[114,2,115,19],[114,20,115,25],[59,19,59,22],[60,19,60,22],[61,4,61,6],[61,7,61,9],[61,10,61,12],[90,2,90,3],[83,22,83,25],[85,2,85,3],[85,22,85,25],[88,2,88,3],[88,4,88,6],[127,2,127,4],[127,5,127,7],[127,8,127,10],[127,17,127,25],[125,11,125,16],[126,11,126,16],[127,11,127,16],[90,4,90,6],[90,7,90,9],[90,10,90,12],[90,13,90,15],[90,16,90,18],[91,4,91,6],[91,7,91,9],[96,2,96,3],[96,22,96,25],[101,21,101,25],[97,2,97,3],[97,22,97,25],[98,19,98,21],[100,6,100,10],[100,11,100,15],[98,2,98,3],[135,17,135,25],[129,2,129,4],[129,5,129,7],[129,8,129,10],[130,2,130,4],[130,5,130,7],[130,8,130,10],[128,17,128,25],[129,17,129,25],[130,17,130,25],[128,11,128,16],[129,11,129,16],[130,11,130,16],[131,2,131,4],[131,5,131,7],[131,8,131,10],[134,8,134,10],[131,17,131,25],[132,17,132,25],[131,11,131,16],[132,11,132,16],[133,17,133,25],[132,2,132,4],[132,5,132,7],[132,8,132,10],[133,11,133,16],[133,2,133,4],[133,5,133,7],[133,8,133,10],[137,5,137,7],[137,8,137,10],[138,2,138,4],[138,5,138,7],[138,8,138,10],[136,11,136,16],[137,11,137,16],[138,11,138,16],[135,11,135,16],[173,8,173,10],[163,8,163,10],[164,8,164,10],[165,8,165,10],[166,8,166,10],[167,8,167,10],[168,8,168,10],[169,8,169,10],[162,11,162,16],[172,8,172,10],[170,8,170,10],[171,8,171,10],[176,2,176,4],[176,5,176,7],[176,8,176,10],[176,11,176,16],[176,17,176,25],[163,17,175,25],[163,11,163,16],[164,11,164,16],[165,11,165,16],[166,11,166,16],[167,11,167,16],[168,11,168,16],[169,11,169,16],[170,11,170,16],[171,11,171,16],[172,11,172,16],[173,11,173,16],[174,11,174,16],[175,11,175,16],[174,8,174,10],[175,8,175,10],[175,2,175,4],[173,5,173,7],[174,2,174,4],[149,20,157,22],[149,23,157,25],[150,14,150,16],[151,14,152,16],[154,14,154,16],[155,14,157,16],[158,14,158,25],[149,14,149,16],[162,17,162,25],[159,2,159,25],[160,2,160,25],[161,2,161,25],[162,2,162,4],[149,5,149,6],[162,5,162,7],[149,17,157,19],[151,11,152,13],[150,2,150,10],[151,2,152,10],[153,2,153,10],[154,2,154,10],[155,2,157,10],[149,2,149,4],[149,7,149,8],[175,5,175,7],[163,2,163,4],[164,2,164,4],[165,2,165,4],[166,2,166,4],[167,2,167,4],[168,2,168,4],[169,2,169,4],[170,2,170,4],[171,2,171,4],[172,2,172,4],[169,5,169,7],[163,5,163,7],[164,5,164,7],[165,5,165,7],[166,5,166,7],[167,5,167,7],[168,5,168,7],[174,5,174,7],[170,5,170,7],[171,5,171,7],[172,5,172,7],[173,2,173,4],[206,2,206,6],[206,20,206,25],[202,7,202,13],[202,14,202,19],[203,7,203,13],[203,14,203,19],[202,2,202,6],[206,7,206,13],[206,14,206,19],[202,20,202,25],[203,2,203,6],[203,20,203,25],[204,2,204,6],[204,20,204,25],[205,2,205,6],[205,20,205,25],[205,7,205,13],[205,14,205,19],[204,14,204,19],[198,10,198,18],[201,7,201,13],[201,14,201,19],[65,2,65,3],[67,2,67,3],[68,2,68,3],[69,2,69,3],[70,2,70,3],[88,13,88,15],[88,16,88,18],[93,4,93,6],[83,4,83,6],[83,7,83,9],[83,10,83,12],[83,13,83,15],[83,16,83,18],[83,19,83,21],[85,4,85,6],[85,7,85,9],[149,9,149,10],[149,11,149,13],[150,11,150,13],[153,14,153,16],[153,11,153,13],[158,2,158,10],[158,11,158,13],[162,8,162,10],[63,2,63,3],[64,2,64,3],[154,11,154,13],[155,11,157,13],[88,22,88,25],[89,2,89,3],[91,2,91,3],[91,22,91,25],[92,2,92,3],[93,10,93,12],[93,13,93,15],[93,16,93,18],[93,19,93,21],[89,16,89,18],[89,19,89,21],[73,23,73,25],[121,2,121,25],[80,2,80,25],[81,2,81,25],[82,2,82,25],[83,2,83,3],[86,22,86,25],[87,22,87,25],[90,19,90,21],[91,10,91,12],[91,13,91,15],[91,16,91,18],[91,19,91,21],[88,10,88,12],[88,7,88,9],[89,22,89,25],[0,1,5,4],[8,1,8,8],[8,9,8,26],[120,2,120,3],[120,4,120,10],[120,11,120,13],[120,14,120,17],[120,18,120,20],[120,21,120,25],[55,2,55,25],[56,2,56,25],[57,2,57,25],[58,2,58,25],[59,2,59,3],[59,23,59,25],[60,2,60,3],[60,23,60,25],[61,2,61,3],[62,2,62,3],[62,23,62,25],[31,2,31,6],[65,23,65,25],[31,7,31,11],[59,4,59,6],[31,12,31,16],[31,17,31,21],[31,22,31,25],[32,2,32,6],[32,7,32,11],[32,12,32,16],[32,17,32,21],[32,22,32,25],[16,2,16,26],[17,2,17,26],[18,2,18,26],[19,2,19,26],[20,2,20,26],[21,2,21,26],[29,14,29,15],[29,16,29,18],[29,19,29,22],[28,2,28,3],[11,9,11,26],[12,1,12,8],[12,9,12,26],[14,2,14,26],[15,2,15,26],[9,1,9,8],[9,9,9,26],[10,1,10,8],[10,9,10,26],[6,1,6,15],[6,16,6,17],[7,1,7,6],[7,7,7,12],[7,13,7,19],[7,20,7,26],[29,23,29,25],[30,2,30,6],[30,7,30,11],[30,12,30,16],[30,17,30,21],[30,22,30,25],[22,2,22,26],[27,2,27,25],[28,4,28,7],[28,8,28,10],[28,11,28,18],[28,19,28,21],[28,22,28,25],[29,2,29,4],[29,5,29,7],[29,8,29,10],[29,11,29,13],[11,1,11,8],[33,17,33,21],[33,22,33,25],[34,2,34,6],[34,7,34,11],[34,12,34,16],[34,17,34,21],[34,22,34,25],[35,2,35,6],[35,7,35,11],[35,12,35,16],[35,17,35,21],[35,22,35,25],[33,2,33,6],[33,7,33,11],[33,12,33,16],[36,2,36,5],[36,6,36,15],[36,16,36,19],[36,20,36,25],[39,2,39,5],[39,6,39,15],[39,16,39,19],[39,20,39,25],[40,2,40,5],[40,6,40,15],[40,16,40,19],[40,20,40,25],[37,20,37,25],[38,2,38,5],[38,6,38,9],[38,12,38,15],[38,16,38,19],[38,20,38,25],[37,2,37,5],[37,6,37,7],[37,8,37,10],[37,11,37,12],[37,13,37,15],[37,16,37,19],[43,2,43,5],[43,6,43,15],[43,16,43,19],[43,20,43,25],[44,2,44,5],[44,6,44,15],[44,16,44,19],[44,20,44,25],[41,2,41,5],[41,6,41,15],[41,16,41,19],[41,20,41,25],[42,2,42,5],[42,6,42,15],[42,16,42,19],[42,20,42,25],[46,2,47,5],[46,6,47,8],[46,9,47,11],[46,12,46,15],[46,16,46,19],[46,20,46,25],[47,12,47,13],[47,14,47,15],[47,16,47,17],[47,18,47,19],[47,20,47,21],[47,22,47,23],[47,24,47,25],[66,2,66,3],[66,23,66,25],[66,19,66,22],[61,23,61,25],[61,19,61,22],[65,4,65,6],[65,7,65,9],[65,10,65,12],[65,13,65,15],[65,16,65,18],[65,19,65,22],[64,4,64,6],[64,7,64,9],[64,10,64,12],[64,13,64,15],[64,16,64,18],[62,19,62,22],[64,23,64,25],[63,23,63,25],[64,19,64,22],[66,4,66,6],[66,7,66,9],[66,10,66,12],[66,13,66,15],[73,2,73,3],[67,23,67,25],[68,19,68,22],[69,4,69,6],[69,7,69,9],[69,10,69,12],[69,13,69,15],[69,16,69,18],[69,19,69,22],[68,4,68,6],[68,7,68,9],[68,10,68,12],[68,13,68,15],[68,16,68,18],[68,23,68,25],[69,23,69,25],[67,4,67,6],[67,7,67,9],[67,10,67,12],[84,2,84,3],[70,23,70,25],[71,2,71,3],[71,23,71,25],[72,19,72,22],[73,4,73,6],[73,7,73,9],[73,10,73,12],[73,13,73,15],[73,16,73,18],[73,19,73,22],[72,4,72,6],[72,7,72,9],[72,10,72,12],[72,13,72,15],[72,16,72,18],[72,2,72,3],[70,19,70,22],[71,4,71,6],[71,7,71,9],[71,10,71,12],[71,13,71,15],[71,16,71,18],[72,23,72,25],[101,2,101,5],[98,22,98,25],[99,2,99,25],[84,10,84,12],[84,13,84,15],[84,16,84,18],[84,19,84,21],[86,19,86,21],[87,4,87,6],[87,7,87,9],[87,10,87,12],[87,13,87,15],[87,16,87,18],[87,19,87,21],[86,4,86,6],[86,7,86,9],[86,10,86,12],[86,13,86,15],[86,16,86,18],[86,2,86,3],[87,2,87,3],[85,10,85,12],[85,13,85,15],[85,16,85,18],[93,2,93,3],[93,22,93,25],[94,19,94,21],[95,4,95,6],[95,7,95,9],[95,10,95,12],[95,13,95,15],[95,16,95,18],[95,19,95,21],[94,4,94,6],[94,7,94,9],[94,10,94,12],[94,13,94,15],[94,16,94,18],[94,2,94,3],[93,7,93,9],[95,2,95,3],[95,22,95,25],[102,2,102,25],[103,2,103,25],[104,2,104,25],[105,2,105,19],[116,2,116,19],[116,20,116,25],[122,2,122,25],[123,2,123,25],[97,4,97,6],[97,7,97,9],[105,20,105,25],[108,2,108,19],[97,19,97,21],[98,10,98,12],[98,13,98,15],[98,16,98,18],[100,2,100,5],[100,21,100,25],[100,16,100,20],[98,4,98,6],[98,7,98,9],[101,6,101,10],[101,11,101,15],[101,16,101,20],[125,17,125,25],[126,17,126,25],[125,8,125,10],[126,2,126,4],[126,5,126,7],[126,8,126,10],[125,2,125,4],[124,11,124,16],[124,8,124,10],[124,2,124,4],[124,5,124,7],[84,22,84,25],[97,10,97,12],[97,13,97,15],[97,16,97,18],[96,4,96,6],[96,7,96,9],[96,10,96,12],[96,13,96,15],[96,16,96,18],[96,19,96,21],[88,19,88,21],[89,4,89,6],[89,7,89,9],[89,10,89,12],[89,13,89,15],[92,22,92,25],[90,22,90,25],[92,19,92,21],[92,4,92,6],[92,7,92,9],[92,10,92,12],[92,13,92,15],[94,22,94,25],[85,19,85,21],[140,2,140,25],[147,2,147,25],[148,2,148,4],[148,5,148,6],[148,7,148,8],[148,9,148,10],[148,11,148,13],[148,14,148,16],[148,17,148,19],[148,20,148,22],[148,23,148,25],[59,7,59,9],[59,10,59,12],[59,13,59,15],[59,16,59,18],[63,4,63,6],[63,7,63,9],[62,7,62,9],[62,10,62,12],[62,13,62,15],[62,16,62,18],[61,13,61,15],[61,16,61,18],[60,4,60,6],[60,7,60,9],[60,10,60,12],[60,13,60,15],[60,16,60,18],[195,10,195,18],[186,2,186,25],[108,20,108,25],[119,2,119,19],[119,20,119,25],[117,2,117,19],[117,20,117,25],[118,2,118,19],[118,20,118,25],[187,2,193,25],[194,2,194,25],[195,2,195,9],[195,19,195,25],[136,17,136,25],[137,17,137,25],[138,17,138,25],[135,2,135,4],[135,5,135,7],[135,8,135,10],[136,2,136,4],[136,5,136,7],[136,8,136,10],[137,2,137,4],[139,2,139,25],[45,16,45,19],[66,16,66,18],[210,1,210,27],[111,2,111,19],[111,20,111,25],[112,2,112,19],[112,20,112,25],[113,2,113,19],[113,20,113,25],[204,7,204,13],[198,2,198,9],[198,19,198,25],[199,2,199,25],[200,2,200,25],[201,2,201,6],[201,20,201,25],[196,2,196,9],[124,17,124,25],[128,2,128,4],[134,2,134,4],[134,5,134,7],[179,2,185,25],[196,10,196,18],[197,10,197,18],[197,19,197,25],[178,2,178,25],[0,14,1,19],[0,20,1,26],[2,14,3,19],[2,20,3,26],[4,14,5,26],[76,14,77,19],[76,20,77,26],[0,5,5,13],[71,19,71,22],[70,4,70,6],[70,7,70,9],[70,10,70,12],[70,13,70,15],[70,16,70,18],[67,13,67,15],[63,10,63,12],[63,13,63,15],[63,16,63,18],[63,19,63,22],[62,4,62,6],[67,16,67,18],[67,19,67,22],[84,4,84,6],[84,7,84,9],[45,20,45,25],[207,1,207,26],[209,1,209,24],[78,14,79,26],[143,14,144,19],[143,20,144,26],[145,14,146,26],[74,1,74,26],[75,1,79,4],[75,5,79,13],[75,14,75,19],[75,20,75,26],[141,1,141,26],[142,1,146,4],[142,5,146,13],[142,14,142,19],[142,20,142,26],[128,5,128,7],[128,8,128,10],[125,5,125,7],[196,19,196,25],[197,2,197,9]]}
[null,null,null,null,null,"PROCESO\nPROMOCION Y PREVENCIÓN\n\nFORMATO ACTA LEGALIZACIÓN DE CUENTAS\n",null,null,null,null,null,null,null,null,"F1.A8.MO12.PP",null,null,null,null,null,"2022-02-02"]
[]
[null,null,null,null,null,null,null,null,null,null,null,null,null,null,"Versión 3",null,null,null,null,null,"Página 1 de 3"]
[]
[null,null,null,null,null,null,null,null,null,null,null,null,null,null,"Clasificación de la Información:\nPública"]
[]
[null,"ACTA DE LEGALIZACIÓN N°",null,null,null,null,null,null,null,null,null,null,null,null,null,null,2,null,"ESTADO DEL CONTRATO:",null,null,null,null,{"$f":"+ENERO!X7","v":"VIGENTE"}]
[null,"Fecha y Hora Inicio:",null,null,null,null,null,"2019-01-01T15:00:00",null,null,null,null,null,"Fecha y Hora Fin:  ",null,null,null,null,null,null,"2019-01-01T15:00:00"]
[null,"Lugar:",null,null,null,null,null,null,null,{"$f":"+ENERO!J9","v":"Regional_Amazonas"}]
[null,"Dependencia que Convoca:",null,null,null,null,null,null,null,{"$f":"+ENERO!J10","v":"Primera Infancia - Grupo de Atención en Ciclos de Vida y Nutrición "}]
[null,"Proceso:",null,null,null,null,null,null,null,{"$f":"+ENERO!J11","v":"Promoción y Prevención "}]
[null,"Objetivo:",null,null,null,null,null,null,null,{"$f":"+ENERO!J12","v":"Recepción, revisión, el análisis y  Legalización de los Gastos e Ingresos del Informe Financiero presentado por la entidad administradora (EAS)"}]
[null,"Nombre EAS:",null,null,null,null,null,null,null,{"$f":"+ENERO!J13","v":"ASOCIACION DE HOGARES"}]
[null,"Agenda: "]
[null,"1.","Desarrollo."]
[null,"2.","Información general del contrato."]
[null,"3.","Informe  de ejecución Presupuestal y  financiera requerido con los debidos soporte."]
[null,"4.","Seguimiento al Uso de Tasas Compensatorias (Aplica Solo para HI)."]
[null,"5.","Detalle de Inejecuciones."]
[null,"6.","Ejecución Contrapartida."]
[null,"7.","Situación Encontrada."]
[null,"8.","Recomendaciones."]
[null,"9.","Cierre."]
[null,"         Desarrollo: "]
[null,"1.","Se da inicio a la legalización de los informes financieros Presentados por la EAS con el fin de verificar la correcta Ejecución del presupuesto aprobado dentro de los "]
[null,null,"lineamientos, guias de supervision, manuales operativos y minutas que corresponden."]
[null,"2.","A continuaciòn en el presente cuadro  se relaciona la información general del contrato."]
[null,null,"Información general del contrato."]
[null,null,"Regional:",null,{"$f":"+J9","v":"Regional_Amazonas"},null,null,null,"Centro Zonal:",null,null,{"$f":"+ENERO!L29","v":"CZ_LETICIA"},null,null,null,null,null,null,null,"N° de Contrato\n o Convenio",null,null,{"$f":"+ENERO!W29","v":0}]
[null,null,"N° CDP ",null,null,{"$f":"+ENERO!F30","v":0},null,null,"N° RP",null,null,{"$f":"+ENERO!L30","v":0},null,null,"FECHA \nACTA INICIO",null,{"$f":"+ENERO!Q30","v":"00:00:00"},null,null,"Cupos Contratados:",null,null,null,{"$f":"+W36+R36+M36+H36+C36","v":0}]
[null,null," Modalidad 1:",null,null,null,null,"Modalidad 2:",null,null,null,null,"Modalidad 3:",null,null,null,null,"Modalidad 4:",null,null,null,null,"Modalidad 5:"]
[null,null,{"$f":"+ENERO!C32","v":"NO_APLICA"},null,null,null,null,{"$f":"+ENERO!H32","v":"NO_APLICA"},null,null,null,null,{"$f":"+ENERO!M32","v":"NO_APLICA"},null,null,null,null,{"$f":"+ENERO!R32","v":"NO_APLICA"},null,null,null,null,{"$f":"+ENERO!W32","v":"NO_APLICA"}]
[null,null,"SERVICIO 1:",null,null,null,null,"SERVICIO 2:",null,null,null,null,"SERVICIO 3:",null,null,null,null,"SERVICIO 4:",null,null,null,null,"SERVICIO 5:"]
[null,null,{"$f":"+ENERO!C34","v":"NO APLICA"},null,null,null,null,{"$f":"+ENERO!H34","v":"NO APLICA"},null,null,null,null,{"$f":"+ENERO!M34","v":"NO APLICA"},null,null,null,null,{"$f":"+ENERO!R34","v":"NO APLICA"},null,null,null,null,{"$f":"+ENERO!W34","v":"NO APLICA"}]
[null,null,"CUPOS CONTRATADO 1:",null,null,null,null,"CUPOS CONTRATADO 2:",null,null,null,null,"CUPOS CONTRATADO 3:",null,null,null,null,"CUPOS CONTRATADO 4:",null,null,null,null,"CUPOS CONTRATADO 5:"]
[null,null,{"$f":"+ENERO!C36","v":0},null,null,null,null,{"$f":"+ENERO!H36","v":0},null,null,null,null,{"$f":"+ENERO!M36","v":0},null,null,null,null,{"$f":"+ENERO!R36","v":0},null,null,null,null,{"$f":"+ENERO!W36","v":0}]
[null,null,"Nombre Supervisor CTO:",null,null,null,{"$f":"+ENERO!G37","v":" "},null,null,null,null,null,null,null,null,null,"Apoyo Financiero ICBF:",null,null,null,{"$f":"+ENERO!U37","v":" "}]
[null,null,"Plazo de ejecución CTO:",null,null,null,"Desde:",null,{"$f":"+ENERO!I38","v":"00:00:00"},null,null,"Hasta:",null,{"$f":"+ENERO!N38","v":"00:00:00"},null,null,"Fecha aprob. póliza:",null,null,null,{"$f":"+ENERO!U38","v":" "}]
[null,null,"Póliza N° 1 del CTO",null,null,null,{"$f":"+ENERO!G39","v":0},null,null,null,"Poliza N° 2",null,{"$f":"+ENERO!M39","v":0},null,null,null,"Nombre Ent. Aseguradora",null,null,null,{"$f":"+ENERO!U39","v":" "}]
[null,null,"Representante Legal:",null,null,null,{"$f":"+ENERO!G40","v":0},null,null,null,null,null,null,null,null,null,"Cédula RL: ",null,null,null,{"$f":"+ENERO!U40","v":" "}]
[null,null,"Email Representante L.",null,null,null,{"$f":"+ENERO!G41","v":0},null,null,null,null,null,null,null,null,null,"NIT EAS:",null,null,null,{"$f":"+ENERO!U41","v":" "}]
[null,null,"Telefono o Cel R.L",null,null,null,{"$f":"+ENERO!G42","v":0},null,null,null,null,null,null,null,null,null,"Fecha Vencimiento R. L:",null,null,null,{"$f":"+ENERO!U42","v":" "}]
[null,"VIGENCIA ACTUAL","Valor Inicial del CTO: \n(Aporte ICBF)",null,null,null,{"$f":"+ENERO!G43","v":0},null,null,null,null,null,null,null,null,null,"Valor Aportes EAS:",null,null,null,{"$f":"+ENERO!U43","v":0}]
[null,null,"Adiciones al CTO:",null,null,null,{"$f":"+ENERO!G44","v":0},null,null,null,null,null,null,null,null,null,"Adiciones Aportes EAS:",null,null,null,{"$f":"+ENERO!U44","v":0}]
[null,null,"Reducciones al CTO",null,null,null,{"$f":"+ENERO!G45","v":0},null,null,null,null,null,null,null,null,null,"Total Aportes EAS:",null,null,null,{"$f":"+U44+U43","v":0}]
[null,null,"VALOR APORTE ICBF",null,null,null,{"$f":"+(G43+G44)-G45","v":0},null,null,null,null,null,null,null,null,null,"Valor Actual del CTO:",null,null,null,{"$f":"+G43+U43+G44+U44-G45","v":0}]
[null,null,"VIGENCIA",null,null,null,"APORTE ICBF",null,null,"APORTE EAS",null,null,"Adiciones al contrato",null,null,null,"Reducciones al contrato",null,null,null,"Valor final del contrato"]
[null,null,null,null,null,null,null,null,null,null,null,null,"ICBF",null,"EAS",null,"ICBF",null,"EAS",null,"ICBF",null,"EAS",null,"TOTAL"]
[null,null,{"$f":"+ENERO!C49","v":2020},null,null,null,{"$f":"+ENERO!G49","v":0},null,null,{"$f":"+ENERO!J49","v":0},null,null,{"$f":"+ENERO!M49","v":0},null,{"$f":"+ENERO!O49","v":0},null,{"$f":"+ENERO!Q49","v":0},null,{"$f":"+ENERO!S49","v":0},null,{"$f":"+G49+M49-Q49","v":0},null,{"$f":"+J49+O49-S49","v":0},null,{"$f":"+U49+W49","v":0}]
[null,null,{"$f":"+ENERO!C50","v":2021},null,null,null,{"$f":"+ENERO!G50","v":0},null,null,{"$f":"+ENERO!J50","v":0},null,null,{"$f":"+ENERO!M50","v":0},null,{"$f":"+ENERO!O50","v":0},null,{"$f":"+ENERO!Q50","v":0},null,{"$f":"+ENERO!S50","v":0},null,{"$f":"+G50+M50-Q50","v":0},null,{"$f":"+J50+O50-S50","v":0},null,{"$f":"+U50+W50","v":0}]
[null,null,{"$f":"+ENERO!C51","v":2022},null,null,null,{"$f":"+ENERO!G51","v":0},null,null,{"$f":"+ENERO!J51","v":0},null,null,{"$f":"+ENERO!M51","v":0},null,{"$f":"+ENERO!O51","v":0},null,{"$f":"+ENERO!Q51","v":0},null,{"$f":"+ENERO!S51","v":0},null,0,null,0,null,0]
[null,null,"TOTAL",null,null,null,{"$f":"SUM(G49:I51)","v":0},null,null,{"$f":"SUM(J49:L51)","v":0},null,null,{"$f":"SUM(M49:N51)","v":0},null,{"$f":"SUM(O49:P51)","v":0},null,{"$f":"SUM(Q49:R51)","v":0},null,{"$f":"SUM(S49:T51)","v":0},null,{"$f":"SUM(U49:V51)","v":0},null,{"$f":"SUM(W49:X51)","v":0},null,{"$f":"+Y51+Y50+Y49","v":0}]
[null,null,"La entidad presenta informe financiero mensual ante el ICBF como sigue:",null,null,null,null,null,null,null,null,null,null,null,null,null,"Presenta los documentos soportes que acompañan el informe financiero y se entrega al ICBF copia de los mismos en medio:"]
[null,null,"Mes a legalizar:",null,null,null,"FEBRERO",null,null,"¿Los documentos aportados permiten realizar la legalización del informe financiero?    ",null,null,null,null,"SI","X"]
[null,null,"Fecha radicación EAS:",null,null,null,"2022-02-10",null,null,null,null,null,null,null,"NO",null,null,null,null,"DIGITAL Y FISICO"]
[null,null,"OBSERVACIONES INFORMACIÓN GENERAL:"]
[]
[null,"3."," Se verifica  la ejecución de los recursos del contrato de acuerdo a los Informes Financieros presentados por la entidad:"]
[null,null,"SEGUIMIENTO PRESUPUESTAL  Y FINANCIERO DEL CONTRATO"]
[null,null,"MES",null,"PRESUPUESTO APROBADO + REPROGRAMACIONES \n(Aportes ICBF)",null,null,"EJECUCIÓN",null,null,"SALDO SIN EJECUTAR",null,null,"PROGRAMACIÓN DESEMBOLSOS",null,null,"DESEMBOLSOS GIRADOS",null,null,"DIFERENCIA PROGRAMADO VS PAGADO",null,null,null,"PAGOS REAL. EN EL MES"]
[]
[null,null,"Enero",null,{"$f":"+ENERO!E62","v":0},null,null,{"$f":"+ENERO!H62","v":0},null,null,{"$f":"+E62-H62","v":0},null,null,{"$f":"+ENERO!N62","v":0},null,null,{"$f":"+ENERO!Q62","v":0},null,null,{"$f":"+N62-Q62","v":0},null,null,null,{"$f":"+ENERO!X62","v":0}]
[null,null,"Febrero",null,{"$f":"+ENERO!E63","v":0},null,null,0,null,null,0,null,null,{"$f":"+ENERO!N63","v":0},null,null,0,null,null,0,null,null,null,0]
[null,null,"Marzo",null,{"$f":"+ENERO!E64","v":0},null,null,0,null,null,0,null,null,{"$f":"+ENERO!N64","v":0},null,null,0,null,null,0,null,null,null,0]
[null,null,"Abril",null,{"$f":"+ENERO!E65","v":0},null,null,0,null,null,0,null,null,{"$f":"+ENERO!N65","v":0},null,null,0,null,null,0,null,null,null,0]
[null,null,"Mayo",null,{"$f":"+ENERO!E66","v":0},null,null,0,null,null,0,null,null,{"$f":"+ENERO!N66","v":0},null,null,0,null,null,0,null,null,null,0]
[null,null,"Junio",null,{"$f":"+ENERO!E67","v":0},null,null,0,null,null,0,null,null,{"$f":"+ENERO!N67","v":0},null,null,0,null,null,0,null,null,null,0]
[null,null,"Julio",null,{"$f":"+ENERO!E68","v":0},null,null,0,null,null,0,null,null,{"$f":"+ENERO!N68","v":0},null,null,0,null,null,0,null,null,null,0]
[null,null,"Agosto",null,{"$f":"+ENERO!E69","v":0},null,null,0,null,null,0,null,null,{"$f":"+ENERO!N69","v":0},null,null,0,null,null,0,null,null,null,0]
[null,null,"Septiembre",null,{"$f":"+ENERO!E70","v":0},null,null,0,null,null,0,null,null,{"$f":"+ENERO!N70","v":0},null,null,0,null,null,0,null,null,null,0]
[null,null,"Octubre",null,{"$f":"+ENERO!E71","v":0},null,null,0,null,null,0,null,null,{"$f":"+ENERO!N71","v":0},null,null,0,null,null,0,null,null,null,0]
[null,null,"Noviembre",null,{"$f":"+ENERO!E72","v":0},null,null,0,null,null,0,null,null,{"$f":"+ENERO!N72","v":0},null,null,0,null,null,0,null,null,null,0]
[null,null,"Diciembre  ",null,{"$f":"+ENERO!E73","v":0},null,null,0,null,null,0,null,null,{"$f":"+ENERO!N73","v":0},null,null,0,null,null,0,null,null,null,0]
[null,null,"TOTAL  ",null,{"$f":"SUM(E62:G73)","v":0},null,null,{"$f":"SUM(H62:J73)","v":0},null,null,{"$f":"SUM(K62:M73)","v":0},null,null,{"$f":"SUM(N62:P73)","v":0},null,null,{"$f":"SUM(Q62:S73)","v":0},null,null,{"$f":"SUM(T62:W73)","v":0},null,null,null,{"$f":"SUM(X62:Z73)","v":0}]
[null,"Antes de imprimir este documento… piense en el medio ambiente!    \nCualquier copia impresa de este documento se considera como COPIA NO CONTROLADA\nLOS DATOS PROPORCIONADOS SERÁN TRATADOS DE ACUERDO A LA POLÌTICA DE TRATAMIENTO DE DATOS PERSONALES DEL ICBF Y A LA LEY 1581 DE 2012 "]
[null,null,null,null,null,"PROCESO\nPROMOCION Y PREVENCIÓN\n\nFORMATO ACTA LEGALIZACIÓN DE CUENTAS\n",null,null,null,null,null,null,null,null,"F1.A8.MO12.PP",null,null,null,null,null,"2022-02-02"]
[null,null,null,null,null,null,null,null,null,null,null,null,null,null,"Versión 3",null,null,null,null,null,"Página 2 de 3"]
[]
[null,null,null,null,null,null,null,null,null,null,null,null,null,null,"Clasificación de la Información:\nPública"]
[]
[null," ","OBSERVACIONES SEGUIMIENTO PRESUPUESTAL  Y FINANCIERO DEL CONTRATO:"]
[]
[null,null,"SEGUIMIENTO A INEJECUCIONES Y LIBERACIONES"]
[null,null,"MES",null,"AHORROS",null,null,"INEJECUCIONES",null,null,"SEGUIMIENTO DE INEJECUCIONES",null,null,"REDISTRIBUCIÓN DE \nAHORROS",null,null,"REINVERSIÓN DE \nINEJECUCIONES",null,null,"LIBERACIONES/REINTEGROS T.N \n(Tramitadas)",null,null,"LIBERACIONES PENDIENTES POR  REALIZAR"]
[null,null,"Inejecución\n inicial",null,{"$f":"+ENERO!E85","v":0},null,null,{"$f":"+ENERO!H85","v":0},null,null,{"$f":"+G46-E74","v":0},null,null,{"$f":"+ENERO!N85","v":0},null,null,{"$f":"+ENERO!Q85","v":0},null,null,{"$f":"+ENERO!T85","v":0},null,null,{"$f":"IFERROR(+K85,0)","v":0}]
[]
[null,null,"Enero",null,{"$f":"+ENERO!E87","v":0},null,null,{"$f":"+ENERO!H87","v":0},null,null,{"$f":"+E87+H87","v":0},null,null,{"$f":"+ENERO!N87","v":0},null,null,{"$f":"+ENERO!Q87","v":0},null,null,{"$f":"+ENERO!T87","v":0},null,null,{"$f":"+W85+K87-(N87+Q87+T87)","v":0}]
[null,null,"Febrero",null,0,null,null,0,null,null,{"$f":"+E88+H88","v":0},null,null,0,null,null,0,null,null,0,null,null,{"$f":"+W87+K88-(N88+Q88+T88)","v":0}]
[null,null,"Marzo",null,0,null,null,0,null,null,0,null,null,0,null,null,0,null,null,0,null,null,0]
[null,null,"Abril",null,0,null,null,0,null,null,0,null,null,0,null,null,0,null,null,0,null,null,0]
[null,null,"Mayo",null,0,null,null,0,null,null,0,null,null,0,null,null,0,null,null,0,null,null,0]
[null,null,"Junio",null,0,null,null,0,null,null,0,null,null,0,null,null,0,null,null,0,null,null,0]
[null,null,"Julio",null,0,null,null,0,null,null,0,null,null,0,null,null,0,null,null,0,null,null,0]
[null,null,"Agosto",null,0,null,null,0,null,null,0,null,null,0,null,null,0,null,null,0,null,null,0]
[null,null,"Septiembre",null,0,null,null,0,null,null,0,null,null,0,null,null,0,null,null,0,null,null,0]
[null,null,"Octubre",null,0,null,null,0,null,null,0,null,null,0,null,null,0,null,null,0,null,null,0]
[null,null,"Noviembre",null,0,null,null,0,null,null,0,null,null,0,null,null,0,null,null,0,null,null,0]
[null,null,"Diciembre  ",null,0,null,null,0,null,null,0,null,null,0,null,null,0,null,null,0,null,null,0]
[null,null,"TOTAL  ",null,{"$f":"SUM(E87:G98)+E85","v":0},null,null,{"$f":"SUM(H87:J98)+H85","v":0},null,null,{"$f":"SUM(K87:M98)+K85","v":0},null,null,{"$f":"SUM(N87:P98)+N85","v":0},null,null,{"$f":"SUM(Q87:S98)+Q85","v":0},null,null,{"$f":"SUM(T87:V98)+T85","v":0},null,null,{"$f":"+W88","v":0}]
[null,null,"RESUMEN PERIODICO A LA EJECUCIÓN"]
[null,null,"PRESUPUESTO APROBADO",null,null,null,"PRESUPUESTO EJECUTADO",null,null,null,null,"EJECUCION PROYECTADA \nAL PERIODO",null,null,null,null,"AVANCE EJECUCION \nDEL PERIODO",null,null,null,null,"DESVIACIÓN PRESUPUESTAL"]
[null,null,{"$f":"+E74","v":0},null,null,null,{"$f":"+H74","v":0},null,null,null,null,{"$f":"IFERROR((SUMIF(H61:J63,\">=0\",E61:G63))/E74,0)","v":0},null,null,null,null,{"$f":"IFERROR(G102/C102,0)","v":0},null,null,null,null,{"$f":"IFERROR(Q102-L102,0)","v":0}]
[null,null,"OBSERVACIONES EJECUCIÓN PRESUPUESTO: "]
[]
[null,null,"RESUMEN FINANCIERO DEL PERIODO:"]
[null,null,"SALDO DEL PERIODO ANTERIOR ",null,null,null,null,null,null,null,null,null,null,null,null,null,null,null,null,null,{"$f":"+ENERO!U112","v":0}]
[null,null,"TOTAL APORTES GIRADOS EN EL PERIODO",null,null,null,null,null,null,null,null,null,null,null,null,null,null,null,null,null,{"$f":"+Q63","v":0}]
[]
[null,null,"TOTAL APORTES PARA EL PERIODO",null,null,null,null,null,null,null,null,null,null,null,null,null,null,null,null,null,{"$f":"+U107+U106","v":0}]
[null,null,"PAGOS  REALIZADOS POR LA EAS EN EL PERIODO",null,null,null,null,null,null,null,null,null,null,null,null,null,null,null,null,null,{"$f":"+X63","v":0}]
[]
[null,null,"SALDO DE APORTES ICBF PARA EL PERIODO",null,null,null,null,null,null,null,null,null,null,null,null,null,null,null,null,null,{"$f":"+U109-U110","v":0}]
[null,null,"SALDO SEGUN EXTRACTO",null,null,null,null,null,null,null,null,null,null,null,null,null,null,null,null,null,0]
[null,null,"DIFERENCIA SALDO RECURSOS VS SALDO EXTRACTO BANCARIO",null,null,null,null,null,null,null,null,null,null,null,null,null,null,null,null,null,{"$f":"+U113-U112","v":0}]
[null,null,"VALOR CONCILIADO",null,null,null,null,null,null,null,null,null,null,null,null,null,null,null,null,null,0]
[]
[null,null,"VALOR CARGA PRESTACIONAL ACUMULADA",null,null,null,null,null,null,null,null,null,null,null,null,null,null,null,null,null,0]
[null,null,"RENDIMIENTOS FINANCIEROS DEL MES",null,null,null,null,null,null,null,null,null,null,null,null,null,null,null,null,null,0]
[null,null,"RENDIMIENTOS FNANCIEROS ACUMULADOS",null,null,null,null,null,null,null,null,null,null,null,null,null,null,null,null,null,{"$f":"+ENERO!U119+(U118-U120)","v":0}]
[null,null,"RENDIMIENTOS FINANCIEROS CONSIGNADOS",null,null,null,null,null,null,null,null,null,null,null,null,null,null,null,null,null,0]
[null,null,"Banco:",null,{"$f":"+ENERO!E121","v":"SCOTIABANK COLPATRIA SA"},null,null,null,null,null,null,"Tipo de Cuenta:",null,null,{"$f":"+ENERO!O121","v":"Ahorros"},null,null,null,"Nro de Cuenta:",null,null,{"$f":"+ENERO!V121","v":0}]
[null,null,"OBSERVACIONES  CONCILIACIÓN:"]
[]
[null,"4.","Seguimiento al uso de los recursos tasas compensatorias (Aplica Solo para HI)"]
[null,null,"MES",null,null,"PRESUPUESTO TASAS COMPENSATORIAS",null,null,"VALOR T.C RECAUDADA POR EL OPERADOR",null,null," EJECUCIÓN CON RECURSOS TASAS COMPENSATORIAS",null,null,null,null,null,"SALDO TASAS COMPENSATORIAS"]
[]
[null,null,"ENERO",null,null,{"$f":"+ENERO!F127","v":0},null,null,{"$f":"+ENERO!I127","v":0},null,null,{"$f":"+ENERO!L127","v":0},null,null,null,null,null,{"$f":"+I127-L127","v":0}]
[null,null,"FEBRERO",null,null,{"$f":"+ENERO!F128","v":0},null,null,0,null,null,0,null,null,0,null,null,0]
[null,null,"MARZO",null,null,{"$f":"+ENERO!F129","v":0},null,null,0,null,null,0,null,null,0,null,null,0]
[null,null,"ABRIL",null,null,{"$f":"+ENERO!F130","v":0},null,null,0,null,null,0,null,null,0,null,null,0]
[null,null,"MAYO",null,null,{"$f":"+ENERO!F131","v":0},null,null,0,null,null,0,null,null,0,null,null,0]
[null,null,"JUNIO",null,null,{"$f":"+ENERO!F132","v":0},null,null,0,null,null,0,null,null,0,null,null,0]
[null,null,"JULIO",null,null,{"$f":"+ENERO!F133","v":0},null,null,0,null,null,0,null,null,0,null,null,0]
[null,null,"AGOSTO",null,null,{"$f":"+ENERO!F134","v":0},null,null,0,null,null,0,null,null,0,null,null,0]
[null,null,"SEPTIEMBRE",null,null,{"$f":"+ENERO!F135","v":0},null,null,0,null,null,0,null,null,0,null,null,0]
[null,null,"OCTUBRE",null,null,{"$f":"+ENERO!F136","v":0},null,null,0,null,null,0,null,null,0,null,null,0]
[null,null,"NOVIEMBRE",null,null,{"$f":"+ENERO!F137","v":0},null,null,0,null,null,0,null,null,0,null,null,0]
[null,null,"DICIEMBRE",null,null,{"$f":"+ENERO!F138","v":0},null,null,0,null,null,0,null,null,0,null,null,0]
[null,null,"Total",null,null,{"$f":"SUM(F127:H138)","v":0},null,null,{"$f":"SUM(I127:K128)","v":0},null,null,{"$f":"SUM(L127:Q128)","v":0},null,null,null,null,null,{"$f":"SUM(R127:Z128)","v":0}]
[null,null,"OBSERVACIONES  RECAUDO TASAS:"]
[]
[null,"Antes de imprimir este documento… piense en el medio ambiente!    \nCualquier copia impresa de este documento se considera como COPIA NO CONTROLADA\nLOS DATOS PROPORCIONADOS SERÁN TRATADOS DE ACUERDO A LA POLÌTICA DE TRATAMIENTO DE DATOS PERSONALES DEL ICBF Y A LA LEY 1581 DE 2012 "]
[null,null,null,null,null,"PROCESO\nPROMOCION Y PREVENCIÓN\n\nFORMATO ACTA LEGALIZACIÓN DE CUENTAS\n",null,null,null,null,null,null,null,null,"F1.A8.MO12.PP",null,null,null,null,null,"2022-02-02"]
[null,null,null,null,null,null,null,null,null,null,null,null,null,null,"Versión 3",null,null,null,null,null,"Página 3 de 3"]
[]
[null,null,null,null,null,null,null,null,null,null,null,null,null,null,"Clasificación de la Información:\nPública"]
[]
[null,"5. ","Se Verifica que los valores por inejecuciones corresponde a los siguientes conceptos:"]
[null,null,"CONCEPTO DE DESCUENTO",null,null," Cupos CONTRATADOS",null," Cupos\nATENDIDOS ",null," NO ATENDIDOS ",null,"VALOR DESCUENTO POR INEJECUCIÓN",null,null,"FUENTE DE CONSULTA",null,null,"VALOR DESCUENTO \nTEMPORAL",null,null,"REINTEGRO DEL DESCUENTO TEMPORAL",null,null,"Saldo de Descuentos Temporales"]
[null,null,"BAJA COBERTURA",null,null,{"$f":"+X30","v":0},null,0,null,{"$f":"+F150-H150","v":0},null,0,null,null,"NO APLICA",null,null,0,null,null,0,null,null,{"$f":"+(R150-U150)+ENERO!X150","v":0}]
[null,null,"INASISTENCIA",null,null,null,null,null,null,null,null,0,null,null,"NO APLICA"]
[null,null,"NO PRESTACION DEL SERVICIO",null,null,null,null,null,null,null,null,0,null,null,"NO APLICA"]
[]
[null,null,"CUENTAME",null,null,null,null,null,null,null,null,0,null,null,"NO APLICA"]
[null,null,"TALENTO HUMANO NO CONTRATADO",null,null,null,null,null,null,null,null,0,null,null,"NO APLICA"]
[null,null,"OTRO\n (Se Especifica en Observaciones)",null,null,null,null,null,null,null,null,0,null,null,"NO APLICA"]
[]
[]
[null,null,"TOTAL DESCUENTO",null,null,null,null,null,null,null,null,{"$f":"SUM(L150:N158)","v":0}]
[null,null,"OBSERVACIONES  DESCUENTOS:"]
[]
[null,"6. ","Ejecución Aportes EAS."]
[null,null,"MES",null,null,"PRESUPUESTO",null,null,"EJECUCIÓN",null,null,"SALDO APORTES EAS",null,null,null,null,null,"OBSERVACIONES APOTES EAS"]
[]
[null,null,"ENERO",null,null,{"$f":"+ENERO!F165","v":0},null,null,{"$f":"+ENERO!I165","v":0},null,null,{"$f":"+F165-I165","v":0}]
[null,null,"FEBRERO",null,null,{"$f":"+ENERO!F166","v":0},null,null,0,null,null,0]
[null,null,"MARZO",null,null,{"$f":"+ENERO!F167","v":0},null,null,0,null,null,0]
[null,null,"ABRIL",null,null,{"$f":"+ENERO!F168","v":0},null,null,0,null,null,0]
[null,null,"MAYO",null,null,{"$f":"+ENERO!F169","v":0},null,null,0,null,null,0]
[null,null,"JUNIO",null,null,{"$f":"+ENERO!F170","v":0},null,null,0,null,null,0]
[null,null,"JULIO",null,null,{"$f":"+ENERO!F171","v":0},null,null,0,null,null,0]
[null,null,"AGOSTO",null,null,{"$f":"+ENERO!F172","v":0},null,null,0,null,null,0]
[null,null,"SEPTIEMBRE",null,null,{"$f":"+ENERO!F173","v":0},null,null,0,null,null,0]
[null,null,"OCTUBRE",null,null,{"$f":"+ENERO!F174","v":0},null,null,0,null,null,0]
[null,null,"NOVIEMBRE",null,null,{"$f":"+ENERO!F175","v":0},null,null,0,null,null,0]
[null,null,"DICIEMBRE",null,null,{"$f":"+ENERO!F176","v":0},null,null,0,null,null,0]
[null,null,"Total",null,null,{"$f":"SUM(F165:H176)","v":0},null,null,{"$f":"SUM(I165:K176)","v":0},null,null,{"$f":"SUM(L165:Q166)","v":0}]
[]
[null,"7. ","Observaciones Generales."]
[]
[]
[]
[]
[]
[]
[]
[null,"8."," Recomendaciones. (Preste la asesoría necesaria para que se superen las dificultades identificadas y se mantengan las fortalezas detectadas)  "]
[]
[]
[]
[]
[]
[]
[]
[null,"9.","Cierre."]
[null,null,"Compromisos / tareas",null,null,null,null,null,null,null,"Responsables",null,null,null,null,null,null,null,null,"Fechas"]
[]
[]
[]
[null,null,"**Las siguientes personas que firman  dan constancia que han revisado y estan de acuerdo con cada uno de los items de la presente acta y que  este ejercicio de legalización de cuentas se ha realizado conforme a los lineamientos, guias de supervisión, manuales operativos y minutas contractuales establecidas por el ICBF."]
[null," ","FIRMA RESPONSABLES ICBF Y ENTIDAD ADMINISTRADORA"]
[null,null,"Nombre",null,null,null,null,"Cargo / Dependencia",null,null,null,null,null,null,"EMAIL",null,null,null,null,null,"Firma"]
[null,null,{"$f":"+G37","v":" "},null,null,null,null,"SUPERVISOR(A) DEL CONTRATO ICBF",null,null,null,null,null,null,"@icbf.gov.co"]
[null,null,{"$f":"+U37","v":" "},null,null,null,null,"APOYO FINANCIERO ICBF",null,null,null,null,null,null,"@icbf.gov.co"]
[null,null,{"$f":"+G40","v":0},null,null,null,null,"REPRESENTANTE LEGAL EAS",null,null,null,null,null,null,{"$f":"+G41","v":0}]
[null,null,{"$f":"+ENERO!C206","v":0},null,null,null,null,{"$f":"+ENERO!H206","v":0},null,null,null,null,null,null,{"$f":"+ENERO!O206","v":0}]
[null,null,{"$f":"+ENERO!C207","v":0},null,null,null,null,{"$f":"+ENERO!H207","v":0},null,null,null,null,null,null,{"$f":"+ENERO!O207","v":0}]
[null,"Antes de imprimir este documento… piense en el medio ambiente!    \nCualquier copia impresa de este documento se considera como COPIA NO CONTROLADA\nLOS DATOS PROPORCIONADOS SERÁN TRATADOS DE ACUERDO A LA POLÌTICA DE TRATAMIENTO DE DATOS PERSONALES DEL ICBF Y A LA LEY 1581 DE 2012 "]
[]
[null,"* Escanear esta Acta debidamente Firmada y colocarla en la ruta especificada por la DPI"]
[]
["RECOMEDACIONES DE USO DE ESTE ARCHIVO:"]
["1. HABILITE MACROS : ARCHIVO > CENTRO DE CONFIANZA> CONFIGURACION DEL CENTRO DE CONFIANZA > CONFIGURACION DE MACROS > HABILITAR TODAS LAS MACROS > CONFIAR EN EL ACCESO AL MODELO DE OBJETO DE PROYECTOS VBA > ACEPTAR"]
["2. DESHABILITE VISTA PROTEGIDA: ARCHIVO> CENTRO DE CONFIANZA> CONFIGURACION DEL CENTRO DE CONFIANZA > VISTA PROTEGIDA> DESMARCAR LAS TRES OPCIONES >ACEPTAR"]
["3. HABILITAR UBICACIONES DE RED: ARCHIVO> CENTRO DE CONFIANZA> CONFIGURACION DEL CENTRO DE CONFIANZA > UBICACIONES DE CONFIANZA > MARCAR PERMITIR UBICACIONES DE CONFIANZA QUE ESTEN EN LA RED > ACEPTAR "]
["4. HABILITAR DOCUMENTOS DE CONFIANZA: ARCHIVO> CENTRO DE CONFIANZA> CONFIGURACION DEL CENTRO DE CONFIANZA > DOCUMENTOS DE CONFIANZA > MARCAR PERMITIR QUE SEAN DE CONFIANZA LOS DOCUMENTOS DE UNA RED"]

{"sheet":"MARZO","index":4,"n_rows":216,"n_cols":25,"rows_kept":216,"cut":false,"hidden":true,"merged":[[52,2,52,15],[52,16,53,25],[53,6,53,7],[53,9,54,13],[54,6,54,7],[54,19,54,23],[42,1,45,1],[50,24,50,25],[51,2,51,5],[51,6,51,8],[51,9,51,11],[51,12,51,13],[51,14,51,15],[51,16,51,17],[51,18,51,19],[51,20,51,21],[51,22,51,23],[51,24,51,25],[50,2,50,5],[50,6,50,8],[50,9,50,11],[50,12,50,13],[50,14,50,15],[50,16,50,17],[48,2,48,5],[48,6,48,8],[48,9,48,11],[48,12,48,13],[48,14,48,15],[48,16,48,17],[48,18,48,19],[48,20,48,21],[48,22,48,23],[49,2,49,5],[49,6,49,8],[49,9,49,11],[49,12,49,13],[49,14,49,15],[49,16,49,17],[49,18,49,19],[49,20,49,21],[49,22,49,23],[46,20,46,25],[47,12,47,13],[47,14,47,15],[47,16,47,17],[47,18,47,19],[47,20,47,21],[47,22,47,23],[47,24,47,25],[50,18,50,19],[50,20,50,21],[50,22,50,23],[48,24,48,25],[49,24,49,25],[119,2,119,19],[119,20,119,25],[68,23,68,25],[73,13,73,15],[73,16,73,18],[109,20,110,25],[114,2,115,19],[114,20,115,25],[86,19,86,21],[86,22,86,25],[69,16,69,18],[69,19,69,22],[68,4,68,6],[68,7,68,9],[87,2,87,3],[87,22,87,25],[73,7,73,9],[73,10,73,12],[89,16,89,18],[89,19,89,21],[84,2,84,3],[84,4,84,6],[84,7,84,9],[73,2,73,3],[117,2,117,19],[117,20,117,25],[118,2,118,19],[118,20,118,25],[88,13,88,15],[88,16,88,18],[88,2,88,3],[73,19,73,22],[88,22,88,25],[89,2,89,3],[89,22,89,25],[73,4,73,6],[87,4,87,6],[87,7,87,9],[87,10,87,12],[87,13,87,15],[87,16,87,18],[87,19,87,21],[86,4,86,6],[92,2,92,3],[92,22,92,25],[93,2,93,3],[93,22,93,25],[94,19,94,21],[127,8,127,10],[128,2,128,4],[128,5,128,7],[128,8,128,10],[45,2,45,5],[45,6,45,15],[59,19,59,22],[60,19,60,22],[61,4,61,6],[61,7,61,9],[61,10,61,12],[61,13,61,15],[63,19,63,22],[61,16,61,18],[61,19,61,22],[69,7,69,9],[69,10,69,12],[69,13,69,15],[60,4,60,6],[60,7,60,9],[60,10,60,12],[60,13,60,15],[60,16,60,18],[62,4,62,6],[106,1,115,1],[106,2,107,19],[127,17,127,25],[128,17,128,25],[64,7,64,9],[64,10,64,12],[64,13,64,15],[64,16,64,18],[69,2,69,3],[69,23,69,25],[66,19,66,22],[67,4,67,6],[67,7,67,9],[67,10,67,12],[67,13,67,15],[67,16,67,18],[106,20,107,25],[109,2,110,19],[70,19,70,22],[71,4,71,6],[71,7,71,9],[71,10,71,12],[71,13,71,15],[71,16,71,18],[129,5,129,7],[129,8,129,10],[130,2,130,4],[130,5,130,7],[135,2,135,4],[136,2,136,4],[148,14,148,16],[137,8,137,10],[138,2,138,4],[140,2,140,25],[137,2,137,4],[137,5,137,7],[138,5,138,7],[138,8,138,10],[148,23,148,25],[147,2,147,25],[130,8,130,10],[129,17,129,25],[210,1,210,27],[202,20,202,25],[203,20,203,25],[204,20,204,25],[131,5,131,7],[131,8,131,10],[132,2,132,4],[132,5,132,7],[132,8,132,10],[133,11,133,16],[134,11,134,16],[133,17,133,25],[134,17,134,25],[135,17,135,25],[136,17,136,25],[137,17,137,25],[138,17,138,25],[135,5,135,7],[135,8,135,10],[136,5,136,7],[136,8,136,10],[133,5,133,7],[133,8,133,10],[134,5,134,7],[175,2,175,4],[175,5,175,7],[175,8,175,10],[175,11,175,16],[176,2,176,4],[176,5,176,7],[131,2,131,4],[205,20,205,25],[206,2,206,6],[206,7,206,13],[206,14,206,19],[206,20,206,25],[134,8,134,10],[131,17,131,25],[132,17,132,25],[131,11,131,16],[132,11,132,16],[148,2,148,4],[148,5,148,6],[148,7,148,8],[148,9,148,10],[148,11,148,13],[135,11,135,16],[136,11,136,16],[205,2,205,6],[205,7,205,13],[205,14,205,19],[202,2,202,6],[202,7,202,13],[202,14,202,19],[203,2,203,6],[203,7,203,13],[203,14,203,19],[204,2,204,6],[204,7,204,13],[204,14,204,19],[201,20,201,25],[178,2,178,25],[179,2,185,25],[186,2,186,25],[187,2,193,25],[194,2,194,25],[195,2,195,9],[195,10,195,18],[195,19,195,25],[196,2,196,9],[196,10,196,18],[196,19,196,25],[197,2,197,9],[197,10,197,18],[197,19,197,25],[198,2,198,9],[198,10,198,18],[198,19,198,25],[199,2,199,25],[200,2,200,25],[201,2,201,6],[201,7,201,13],[201,14,201,19],[176,8,176,10],[176,11,176,16],[176,17,176,25],[163,17,175,25],[173,2,173,4],[173,5,173,7],[173,8,173,10],[173,11,173,16],[174,2,174,4],[174,5,174,7],[174,8,174,10],[174,11,174,16],[171,2,171,4],[171,5,171,7],[171,8,171,10],[171,11,171,16],[172,2,172,4],[172,5,172,7],[172,8,172,10],[172,11,172,16],[169,5,169,7],[169,8,169,10],[169,11,169,16],[170,2,170,4],[170,5,170,7],[170,8,170,10],[170,11,170,16],[153,11,153,13],[153,14,153,16],[83,2,83,3],[83,22,83,25],[85,2,85,3],[85,22,85,25],[83,4,83,6],[83,7,83,9],[83,10,83,12],[83,13,83,15],[83,16,83,18],[83,19,83,21],[85,4,85,6],[85,7,85,9],[85,10,85,12],[85,13,85,15],[85,16,85,18],[85,19,85,21],[86,2,86,3],[126,2,126,4],[126,5,126,7],[0,1,5,4],[8,1,8,8],[8,9,8,26],[120,2,120,3],[120,4,120,10],[120,11,120,13],[120,14,120,17],[120,18,120,20],[120,21,120,25],[55,2,55,25],[56,2,56,25],[57,2,57,25],[58,2,58,25],[59,2,59,3],[59,23,59,25],[60,2,60,3],[60,23,60,25],[61,2,61,3],[61,23,61,25],[62,2,62,3],[62,23,62,25],[63,2,63,3],[63,23,63,25],[64,2,64,3],[14,2,14,26],[15,2,15,26],[9,1,9,8],[9,9,9,26],[10,1,10,8],[10,9,10,26],[6,1,6,15],[6,16,6,17],[7,1,7,6],[7,7,7,12],[7,13,7,19],[7,20,7,26],[6,18,6,22],[6,23,6,26],[30,2,30,6],[30,7,30,11],[30,12,30,16],[30,17,30,21],[30,22,30,25],[22,2,22,26],[27,2,27,25],[28,4,28,7],[28,8,28,10],[28,11,28,18],[28,19,28,21],[28,22,28,25],[29,2,29,4],[29,5,29,7],[29,8,29,10],[29,11,29,13],[29,14,29,15],[29,16,29,18],[29,19,29,22],[28,2,28,3],[31,2,31,6],[31,7,31,11],[31,12,31,16],[31,17,31,21],[31,22,31,25],[32,2,32,6],[32,7,32,11],[32,12,32,16],[32,17,32,21],[32,22,32,25],[33,2,33,6],[33,7,33,11],[33,12,33,16],[33,17,33,21],[33,22,33,25],[34,2,34,6],[34,7,34,11],[34,12,34,16],[34,17,34,21],[34,22,34,25],[35,2,35,6],[35,7,35,11],[35,12,35,16],[35,17,35,21],[35,22,35,25],[36,2,36,5],[36,6,36,15],[36,16,36,19],[36,20,36,25],[37,20,37,25],[38,2,38,5],[38,6,38,9],[38,12,38,15],[38,16,38,19],[38,20,38,25],[37,2,37,5],[37,6,37,7],[37,8,37,10],[37,11,37,12],[37,13,37,15],[37,16,37,19],[41,2,41,5],[41,6,41,15],[41,16,41,19],[41,20,41,25],[42,2,42,5],[42,6,42,15],[42,16,42,19],[42,20,42,25],[39,2,39,5],[39,6,39,15],[39,16,39,19],[39,20,39,25],[40,2,40,5],[40,6,40,15],[40,16,40,19],[40,20,40,25],[63,7,63,9],[91,19,91,21],[90,4,90,6],[90,7,90,9],[90,10,90,12],[90,13,90,15],[43,2,43,5],[43,6,43,15],[43,16,43,19],[43,20,43,25],[44,2,44,5],[44,6,44,15],[44,16,44,19],[44,20,44,25],[67,23,67,25],[68,2,68,3],[68,16,68,18],[65,19,65,22],[68,19,68,22],[46,2,47,5],[46,6,47,8],[46,9,47,11],[46,12,46,15],[46,16,46,19],[59,4,59,6],[59,7,59,9],[59,10,59,12],[59,13,59,15],[59,16,59,18],[63,10,63,12],[63,13,63,15],[63,16,63,18],[86,7,86,9],[86,10,86,12],[86,13,86,15],[86,16,86,18],[64,4,64,6],[72,4,72,6],[72,7,72,9],[72,10,72,12],[72,13,72,15],[72,16,72,18],[66,13,66,15],[62,7,62,9],[62,10,62,12],[62,13,62,15],[62,16,62,18],[63,4,63,6],[94,2,94,3],[94,22,94,25],[73,23,73,25],[80,2,80,25],[81,2,81,25],[82,2,82,25],[90,2,90,3],[90,22,90,25],[91,2,91,3],[91,22,91,25],[88,19,88,21],[89,4,89,6],[89,7,89,9],[89,10,89,12],[90,19,90,21],[91,4,91,6],[89,13,89,15],[91,7,91,9],[91,10,91,12],[94,4,94,6],[94,7,94,9],[94,10,94,12],[94,13,94,15],[94,16,94,18],[90,16,90,18],[88,4,88,6],[88,7,88,9],[88,10,88,12],[91,13,91,15],[91,16,91,18],[92,19,92,21],[93,4,93,6],[93,7,93,9],[93,10,93,12],[93,13,93,15],[93,16,93,18],[93,19,93,21],[92,4,92,6],[92,7,92,9],[92,10,92,12],[92,13,92,15],[92,16,92,18],[96,19,96,21],[95,2,95,3],[95,22,95,25],[97,4,97,6],[97,7,97,9],[97,10,97,12],[97,13,97,15],[97,16,97,18],[97,19,97,21],[96,4,96,6],[96,7,96,9],[96,10,96,12],[96,13,96,15],[96,16,96,18],[95,4,95,6],[95,7,95,9],[95,10,95,12],[95,13,95,15],[95,16,95,18],[95,19,95,21],[154,11,154,13],[101,6,101,10],[101,11,101,15],[101,16,101,20],[101,2,101,5],[101,21,101,25],[102,2,102,25],[103,2,103,25],[130,17,130,25],[129,11,129,16],[130,11,130,16],[124,11,124,16],[125,11,125,16],[126,11,126,16],[127,11,127,16],[128,11,128,16],[124,17,124,25],[125,17,125,25],[126,17,126,25],[137,11,137,16],[138,11,138,16],[133,2,133,4],[134,2,134,4],[127,2,127,4],[154,14,154,16],[155,11,157,13],[155,14,157,16],[158,14,158,25],[154,2,154,10],[155,2,157,10],[161,2,161,25],[162,2,162,4],[162,5,162,7],[162,8,162,10],[162,11,162,16],[162,17,162,25],[149,17,157,19],[149,20,157,22],[149,23,157,25],[149,2,149,4],[149,5,149,6],[149,7,149,8],[149,9,149,10],[149,11,149,13],[158,2,158,10],[158,11,158,13],[159,2,159,25],[160,2,160,25],[166,2,166,4],[166,5,166,7],[166,8,166,10],[166,11,166,16],[163,2,163,4],[163,5,163,7],[163,8,163,10],[163,11,163,16],[164,2,164,4],[164,5,164,7],[164,8,164,10],[168,2,168,4],[168,5,168,7],[168,8,168,10],[168,11,168,16],[169,2,169,4],[0,5,5,13],[71,19,71,22],[70,4,70,6],[70,7,70,9],[70,10,70,12],[70,13,70,15],[70,16,70,18],[66,4,66,6],[66,7,66,9],[66,10,66,12],[167,2,167,4],[167,5,167,7],[167,8,167,10],[167,11,167,16],[164,11,164,16],[165,2,165,4],[165,5,165,7],[165,8,165,10],[165,11,165,16],[104,2,104,25],[105,2,105,19],[105,20,105,25],[108,2,108,19],[108,20,108,25],[111,2,111,19],[111,20,111,25],[96,2,96,3],[96,22,96,25],[97,2,97,3],[97,22,97,25],[98,19,98,21],[100,6,100,10],[100,11,100,15],[100,16,100,20],[98,4,98,6],[98,7,98,9],[98,10,98,12],[98,13,98,15],[98,16,98,18],[98,2,98,3],[98,22,98,25],[99,2,99,25],[100,2,100,5],[121,2,121,25],[122,2,122,25],[123,2,123,25],[139,2,139,25],[151,11,152,13],[151,14,152,16],[148,17,148,19],[148,20,148,22],[112,2,112,19],[124,2,124,4],[124,5,124,7],[124,8,124,10],[125,2,125,4],[126,8,126,10],[125,5,125,7],[125,8,125,10],[149,14,149,16],[150,11,150,13],[150,14,150,16],[112,20,112,25],[113,2,113,19],[113,20,113,25],[127,5,127,7],[129,2,129,4],[70,2,70,3],[70,23,70,25],[71,2,71,3],[71,23,71,25],[72,19,72,22],[72,2,72,3],[68,10,68,12],[68,13,68,15],[64,23,64,25],[65,2,65,3],[65,23,65,25],[72,23,72,25],[64,19,64,22],[65,4,65,6],[65,7,65,9],[65,10,65,12],[65,13,65,15],[65,16,65,18],[67,19,67,22],[66,2,66,3],[66,23,66,25],[67,2,67,3],[66,16,66,18],[69,4,69,6],[0,14,1,19],[0,20,1,26],[2,14,3,19],[2,20,3,26],[4,14,5,26],[76,14,77,19],[76,20,77,26],[84,10,84,12],[84,13,84,15],[84,16,84,18],[84,19,84,21],[84,22,84,25],[62,19,62,22],[29,23,29,25],[16,2,16,26],[17,2,17,26],[18,2,18,26],[19,2,19,26],[20,2,20,26],[21,2,21,26],[11,1,11,8],[11,9,11,26],[12,1,12,8],[12,9,12,26],[45,16,45,19],[45,20,45,25],[207,1,207,26],[209,1,209,24],[78,14,79,26],[143,14,144,19],[143,20,144,26],[145,14,146,26],[74,1,74,26],[75,1,79,4],[75,5,79,13],[75,14,75,19],[75,20,75,26],[141,1,141,26],[142,1,146,4],[142,5,146,13],[142,14,142,19],[142,20,142,26],[150,2,150,10],[151,2,152,10],[153,2,153,10],[100,21,100,25],[116,20,116,25],[116,2,116,19]]}
[null,null,null,null,null,"PROCESO\nPROMOCION Y PREVENCIÓN\n\nFORMATO ACTA LEGALIZACIÓN DE CUENTAS\n",null,null,null,null,null,null,null,null,"F1.A8.MO12.PP",null,null,null,null,null,"2022-02-02"]
[]
[null,null,null,null,null,null,null,null,null,null,null,null,null,null,"Versión 3",null,null,null,null,null,"Página 1 de 3"]
[]
[null,null,null,null,null,null,null,null,null,null,null,null,null,null,"Clasificación de la Información:\nPública"]
[]
[null,"ACTA DE LEGALIZACIÓN N°",null,null,null,null,null,null,null,null,null,null,null,null,null,null,3,null,"ESTADO DEL CONTRATO:",null,null,null,null,{"$f":"+FEBRERO!X7","v":"VIGENTE"}]
[null,"Fecha y Hora Inicio:",null,null,null,null,null,"2019-01-01T15:00:00",null,null,null,null,null,"Fecha y Hora Fin:  ",null,null,null,null,null,null,"2019-01-01T15:00:00"]
[null,"Lugar:",null,null,null,null,null,null,null,{"$f":"+FEBRERO!J9","v":"Regional_Amazonas"}]
[null,"Dependencia que Convoca:",null,null,null,null,null,null,null,{"$f":"+FEBRERO!J10","v":"Primera Infancia - Grupo de Atención en Ciclos de Vida y Nutrición "}]
[null,"Proceso:",null,null,null,null,null,null,null,{"$f":"+FEBRERO!J11","v":"Promoción y Prevención "}]
[null,"Objetivo:",null,null,null,null,null,null,null,{"$f":"+FEBRERO!J12","v":"Recepción, revisión, el análisis y  Legalización de los Gastos e Ingresos del Informe Financiero presentado por la entidad administradora (EAS)"}]
[null,"Nombre EAS:",null,null,null,null,null,null,null,{"$f":"+FEBRERO!J13","v":"ASOCIACION DE HOGARES"}]
[null,"Agenda: "]
[null,"1.","Desarrollo."]
[null,"2.","Información general del contrato."]
[null,"3.","Informe  de ejecución Presupuestal y  financiera requerido con los debidos soporte."]
[null,"4.","Seguimiento al Uso de Tasas Compensatorias (Aplica Solo para HI)."]
[null,"5.","Detalle de Inejecuciones."]
[null,"6.","Ejecución Contrapartida."]
[null,"7.","Situación Encontrada."]
[null,"8.","Recomendaciones."]
[null,"9.","Cierre."]
[null,"         Desarrollo: "]
[null,"1.","Se da inicio a la legalización de los informes financieros Presentados por la EAS con el fin de verificar la correcta Ejecución del presupuesto aprobado dentro de los "]
[null,null,"lineamientos, guias de supervision, manuales operativos y minutas que corresponden."]
[null,"2.","A continuaciòn en el presente cuadro  se relaciona la información general del contrato."]
[null,null,"Información general del contrato."]
[null,null,"Regional:",null,{"$f":"+J9","v":"Regional_Amazonas"},null,null,null,"Centro Zonal:",null,null,{"$f":"+FEBRERO!L29","v":"CZ_LETICIA"},null,null,null,null,null,null,null,"N° de Contrato\n o Convenio",null,null,{"$f":"+FEBRERO!W29","v":0}]
[null,null,"N° CDP ",null,null,{"$f":"+FEBRERO!F30","v":0},null,null,"N° RP",null,null,{"$f":"+FEBRERO!L30","v":0},null,null,"FECHA \nACTA INICIO",null,{"$f":"+FEBRERO!Q30","v":"00:00:00"},null,null,"Cupos Contratados:",null,null,null,{"$f":"+W36+R36+M36+H36+C36","v":0}]
[null,null," Modalidad 1:",null,null,null,null,"Modalidad 2:",null,null,null,null,"Modalidad 3:",null,null,null,null,"Modalidad 4:",null,null,null,null,"Modalidad 5:"]
[null,null,{"$f":"+FEBRERO!C32","v":"NO_APLICA"},null,null,null,null,{"$f":"+FEBRERO!H32","v":"NO_APLICA"},null,null,null,null,{"$f":"+FEBRERO!M32","v":"NO_APLICA"},null,null,null,null,{"$f":"+FEBRERO!R32","v":"NO_APLICA"},null,null,null,null,{"$f":"+FEBRERO!W32","v":"NO_APLICA"}]
[null,null,"SERVICIO 1:",null,null,null,null,"SERVICIO 2:",null,null,null,null,"SERVICIO 3:",null,null,null,null,"SERVICIO 4:",null,null,null,null,"SERVICIO 5:"]
[null,null,{"$f":"+FEBRERO!C34","v":"NO APLICA"},null,null,null,null,{"$f":"+FEBRERO!H34","v":"NO APLICA"},null,null,null,null,{"$f":"+FEBRERO!M34","v":"NO APLICA"},null,null,null,null,{"$f":"+FEBRERO!R34","v":"NO APLICA"},null,null,null,null,{"$f":"+FEBRERO!W34","v":"NO APLICA"}]
[null,null,"CUPOS CONTRATADO 1:",null,null,null,null,"CUPOS CONTRATADO 2:",null,null,null,null,"CUPOS CONTRATADO 3:",null,null,null,null,"CUPOS CONTRATADO 4:",null,null,null,null,"CUPOS CONTRATADO 5:"]
[null,null,{"$f":"+FEBRERO!C36","v":0},null,null,null,null,{"$f":"+FEBRERO!H36","v":0},null,null,null,null,{"$f":"+FEBRERO!M36","v":0},null,null,null,null,{"$f":"+FEBRERO!R36","v":0},null,null,null,null,{"$f":"+FEBRERO!W36","v":0}]
[null,null,"Nombre Supervisor CTO:",null,null,null,{"$f":"+FEBRERO!G37","v":" "},null,null,null,null,null,null,null,null,null,"Apoyo Financiero ICBF:",null,null,null,{"$f":"+FEBRERO!U37","v":" "}]
[null,null,"Plazo de ejecución CTO:",null,null,null,"Desde:",null,{"$f":"+FEBRERO!I38","v":"00:00:00"},null,null,"Hasta:",null,{"$f":"+FEBRERO!N38","v":"00:00:00"},null,null,"Fecha aprob. póliza:",null,null,null,{"$f":"+FEBRERO!U38","v":" "}]
[null,null,"Póliza N° 1 del CTO",null,null,null,{"$f":"+FEBRERO!G39","v":0},null,null,null,"Poliza N° 2",null,{"$f":"+FEBRERO!M39","v":0},null,null,null,"Nombre Ent. Aseguradora",null,null,null,{"$f":"+FEBRERO!U39","v":" "}]
[null,null,"Representante Legal:",null,null,null,{"$f":"+FEBRERO!G40","v":0},null,null,null,null,null,null,null,null,null,"Cédula RL: ",null,null,null,{"$f":"+FEBRERO!U40","v":" "}]
[null,null,"Email Representante L.",null,null,null,{"$f":"+FEBRERO!G41","v":0},null,null,null,null,null,null,null,null,null,"NIT EAS:",null,null,null,{"$f":"+FEBRERO!U41","v":" "}]
[null,null,"Telefono o Cel R.L",null,null,null,{"$f":"+FEBRERO!G42","v":0},null,null,null,null,null,null,null,null,null,"Fecha Vencimiento R. L:",null,null,null,{"$f":"+FEBRERO!U42","v":" "}]
[null,"VIGENCIA ACTUAL","Valor Inicial del CTO: \n(Aporte ICBF)",null,null,null,{"$f":"+FEBRERO!G43","v":0},null,null,null,null,null,null,null,null,null,"Valor Aportes EAS:",null,null,null,{"$f":"+FEBRERO!U43","v":0}]
[null,null,"Adiciones al CTO:",null,null,null,{"$f":"+FEBRERO!G44","v":0},null,null,null,null,null,null,null,null,null,"Adiciones Aportes EAS:",null,null,null,{"$f":"+FEBRERO!U44","v":0}]
[null,null,"Reducciones al CTO",null,null,null,{"$f":"+FEBRERO!G45","v":0},null,null,null,null,null,null,null,null,null,"Total Aportes EAS:",null,null,null,{"$f":"+U44+U43","v":0}]
[null,null,"VALOR APORTE ICBF",null,null,null,{"$f":"+(G43+G44)-G45","v":0},null,null,null,null,null,null,null,null,null,"Valor Actual del CTO:",null,null,null,{"$f":"+G43+U43+G44+U44-G45","v":0}]
[null,null,"VIGENCIA",null,null,null,"APORTE ICBF",null,null,"APORTE EAS",null,null,"Adiciones al contrato",null,null,null,"Reducciones al contrato",null,null,null,"Valor final del contrato"]
[null,null,null,null,null,null,null,null,null,null,null,null,"ICBF",null,"EAS",null,"ICBF",null,"EAS",null,"ICBF",null,"EAS",null,"TOTAL"]
[null,null,{"$f":"+FEBRERO!C49","v":2020},null,null,null,{"$f":"+FEBRERO!G49","v":0},null,null,{"$f":"+FEBRERO!J49","v":0},null,null,{"$f":"+FEBRERO!M49","v":0},null,{"$f":"+FEBRERO!O49","v":0},null,{"$f":"+FEBRERO!Q49","v":0},null,{"$f":"+FEBRERO!S49","v":0},null,{"$f":"+G49+M49-Q49","v":0},null,{"$f":"+J49+O49-S49","v":0},null,{"$f":"+U49+W49","v":0}]
[null,null,{"$f":"+FEBRERO!C50","v":2021},null,null,null,{"$f":"+FEBRERO!G50","v":0},null,null,{"$f":"+FEBRERO!J50","v":0},null,null,{"$f":"+FEBRERO!M50","v":0},null,{"$f":"+FEBRERO!O50","v":0},null,{"$f":"+FEBRERO!Q50","v":0},null,{"$f":"+FEBRERO!S50","v":0},null,{"$f":"+G50+M50-Q50","v":0},null,{"$f":"+J50+O50-S50","v":0},null,{"$f":"+U50+W50","v":0}]
[null,null,{"$f":"+FEBRERO!C51","v":2022},null,null,null,{"$f":"+FEBRERO!G51","v":0},null,null,{"$f":"+FEBRERO!J51","v":0},null,null,{"$f":"+FEBRERO!M51","v":0},null,{"$f":"+FEBRERO!O51","v":0},null,{"$f":"+FEBRERO!Q51","v":0},null,{"$f":"+FEBRERO!S51","v":0},null,0,null,0,null,0]
[null,null,"TOTAL",null,null,null,{"$f":"SUM(G49:I51)","v":0},null,null,{"$f":"SUM(J49:L51)","v":0},null,null,{"$f":"SUM(M49:N51)","v":0},null,{"$f":"SUM(O49:P51)","v":0},null,{"$f":"SUM(Q49:R51)","v":0},null,{"$f":"SUM(S49:T51)","v":0},null,{"$f":"SUM(U49:V51)","v":0},null,{"$f":"SUM(W49:X51)","v":0},null,{"$f":"+Y51+Y50+Y49","v":0}]
[null,null,"La entidad presenta informe financiero mensual ante el ICBF como sigue:",null,null,null,null,null,null,null,null,null,null,null,null,null,"Presenta los documentos soportes que acompañan el informe financiero y se entrega al ICBF copia de los mismos en medio:"]
[null,null,"Mes a legalizar:",null,null,null,"MARZO",null,null,"¿Los documentos aportados permiten realizar la legalización del informe financiero?    ",null,null,null,null,"SI","X"]
[null,null,"Fecha radicación EAS:",null,null,null,"2022-03-10",null,null,null,null,null,null,null,"NO",null,null,null,null,"DIGITAL Y FISICO"]
[null,null,"OBSERVACIONES INFORMACIÓN GENERAL:"]
[]
[null,"3. ","Se verifica  la ejecución de los recursos del contrato de acuerdo a los Informes Financieros presentados por la entidad:"]
[null,null,"SEGUIMIENTO PRESUPUESTAL  Y FINANCIERO DEL CONTRATO"]
[null,null,"MES",null,"PRESUPUESTO APROBADO + REPROGRAMACIONES \n(Aportes ICBF)",null,null,"EJECUCIÓN",null,null,"SALDO SIN EJECUTAR",null,null,"PROGRAMACIÓN DESEMBOLSOS",null,null,"DESEMBOLSOS GIRADOS",null,null,"DIFERENCIA PROGRAMADO VS PAGADO",null,null,null,"PAGOS REAL. EN EL MES"]
[]
[null,null,"Enero",null,{"$f":"+FEBRERO!E62","v":0},null,null,{"$f":"+FEBRERO!H62","v":0},null,null,{"$f":"+E62-H62","v":0},null,null,{"$f":"+FEBRERO!N62","v":0},null,null,{"$f":"+FEBRERO!Q62","v":0},null,null,{"$f":"+N62-Q62","v":0},null,null,null,{"$f":"+FEBRERO!X62","v":0}]
[null,null,"Febrero",null,{"$f":"+FEBRERO!E63","v":0},null,null,{"$f":"+FEBRERO!H63","v":0},null,null,0,null,null,{"$f":"+FEBRERO!N63","v":0},null,null,{"$f":"+FEBRERO!Q63","v":0},null,null,0,null,null,null,{"$f":"+FEBRERO!X63","v":0}]
[null,null,"Marzo",null,{"$f":"+FEBRERO!E64","v":0},null,null,0,null,null,0,null,null,{"$f":"+FEBRERO!N64","v":0},null,null,0,null,null,0,null,null,null,0]
[null,null,"Abril",null,{"$f":"+FEBRERO!E65","v":0},null,null,0,null,null,0,null,null,{"$f":"+FEBRERO!N65","v":0},null,null,0,null,null,0,null,null,null,0]
[null,null,"Mayo",null,{"$f":"+FEBRERO!E66","v":0},null,null,0,null,null,0,null,null,{"$f":"+FEBRERO!N66","v":0},null,null,0,null,null,0,null,null,null,0]
[null,null,"Junio",null,{"$f":"+FEBRERO!E67","v":0},null,null,0,null,null,0,null,null,{"$f":"+FEBRERO!N67","v":0},null,null,0,null,null,0,null,null,null,0]
[null,null,"Julio",null,{"$f":"+FEBRERO!E68","v":0},null,null,0,null,null,0,null,null,{"$f":"+FEBRERO!N68","v":0},null,null,0,null,null,0,null,null,null,0]
[null,null,"Agosto",null,{"$f":"+FEBRERO!E69","v":0},null,null,0,null,null,0,null,null,{"$f":"+FEBRERO!N69","v":0},null,null,0,null,null,0,null,null,null,0]
[null,null,"Septiembre",null,{"$f":"+FEBRERO!E70","v":0},null,null,0,null,null,0,null,null,{"$f":"+FEBRERO!N70","v":0},null,null,0,null,null,0,null,null,null,0]
[null,null,"Octubre",null,{"$f":"+FEBRERO!E71","v":0},null,null,0,null,null,0,null,null,{"$f":"+FEBRERO!N71","v":0},null,null,0,null,null,0,null,null,null,0]
[null,null,"Noviembre",null,{"$f":"+FEBRERO!E72","v":0},null,null,0,null,null,0,null,null,{"$f":"+FEBRERO!N72","v":0},null,null,0,null,null,0,null,null,null,0]
[null,null,"Diciembre  ",null,{"$f":"+FEBRERO!E73","v":0},null,null,0,null,null,0,null,null,{"$f":"+FEBRERO!N73","v":0},null,null,0,null,null,0,null,null,null,0]
[null,null,"TOTAL  ",null,{"$f":"SUM(E62:G73)","v":0},null,null,{"$f":"SUM(H62:J73)","v":0},null,null,{"$f":"SUM(K62:M73)","v":0},null,null,{"$f":"SUM(N62:P73)","v":0},null,null,{"$f":"SUM(Q62:S73)","v":0},null,null,{"$f":"SUM(T62:W73)","v":0},null,null,null,{"$f":"SUM(X62:Z73)","v":0}]
[null,"Antes de imprimir este documento… piense en el medio ambiente!    \nCualquier copia impresa de este documento se considera como COPIA NO CONTROLADA\nLOS DATOS PROPORCIONADOS SERÁN TRATADOS DE ACUERDO A LA POLÌTICA DE TRATAMIENTO DE DATOS PERSONALES DEL ICBF Y A LA LEY 1581 DE 2012 "]
[null,null,null,null,null,"PROCESO\nPROMOCION Y PREVENCIÓN\n\nFORMATO ACTA LEGALIZACIÓN DE CUENTAS\n",null,null,null,null,null,null,null,null,"F1.A8.MO12.PP",null,null,null,null,null,"2022-02-02"]
[null,null,null,null,null,null,null,null,null,null,null,null,null,null,"Versión 3",null,null,null,null,null,"Página 2 de 3"]
[]
[null,null,null,null,null,null,null,null,null,null,null,null,null,null,"Clasificación de la Información:\nPública"]
[]
[null,null,"OBSERVACIONES SEGUIMIENTO PRESUPUESTAL  Y FINANCIERO DEL CONTRATO: "]
[]
[null,null,"SEGUIMIENTO A INEJECUCIONES Y LIBERACIONES"]
[null,null,"MES",null,"AHORROS",null,null,"INEJECUCIONES",null,null,"SEGUIMIENTO DE INEJECUCIONES",null,null,"REDISTRIBUCIÓN DE \nAHORROS",null,null,"REINVERSIÓN DE \nINEJECUCIONES",null,null,"LIBERACIONES/REINTEGROS T.N \n(Tramitadas)",null,null,"LIBERACIONES PENDIENTES POR  REALIZAR"]
[null,null,"Inejecución\n inicial",null,{"$f":"+FEBRERO!E85","v":0},null,null,{"$f":"+FEBRERO!H85","v":0},null,null,{"$f":"+G46-E74","v":0},null,null,{"$f":"+FEBRERO!N85","v":0},null,null,{"$f":"+FEBRERO!Q85","v":0},null,null,{"$f":"+FEBRERO!T85","v":0},null,null,{"$f":"IFERROR(+K85,0)","v":0}]
[]
[null,null,"Enero",null,{"$f":"+FEBRERO!E87","v":0},null,null,{"$f":"+FEBRERO!H87","v":0},null,null,{"$f":"+E87+H87","v":0},null,null,{"$f":"+FEBRERO!N87","v":0},null,null,{"$f":"+FEBRERO!Q87","v":0},null,null,{"$f":"+FEBRERO!T87","v":0},null,null,{"$f":"+W85+K87-(N87+Q87+T87)","v":0}]
[null,null,"Febrero",null,{"$f":"+FEBRERO!E88","v":0},null,null,{"$f":"+FEBRERO!H88","v":0},null,null,0,null,null,{"$f":"+FEBRERO!N88","v":0},null,null,{"$f":"+FEBRERO!Q88","v":0},null,null,{"$f":"+FEBRERO!T88","v":0},null,null,{"$f":"+W87+K88-(N88+Q88+T88)","v":0}]
[null,null,"Marzo",null,0,null,null,0,null,null,0,null,null,0,null,null,0,null,null,0,null,null,{"$f":"+W88+K89-(N89+Q89+T89)","v":0}]
[null,null,"Abril",null,0,null,null,0,null,null,0,null,null,0,null,null,0,null,null,0,null,null,0]
[null,null,"Mayo",null,0,null,null,0,null,null,0,null,null,0,null,null,0,null,null,0,null,null,0]
[null,null,"Junio",null,0,null,null,0,null,null,0,null,null,0,null,null,0,null,null,0,null,null,0]
[null,null,"Julio",null,0,null,null,0,null,null,0,null,null,0,null,null,0,null,null,0,null,null,0]
[null,null,"Agosto",null,0,null,null,0,null,null,0,null,null,0,null,null,0,null,null,0,null,null,0]
[null,null,"Septiembre",null,0,null,null,0,null,null,0,null,null,0,null,null,0,null,null,0,null,null,0]
[null,null,"Octubre",null,0,null,null,0,null,null,0,null,null,0,null,null,0,null,null,0,null,null,0]
[null,null,"Noviembre",null,0,null,null,0,null,null,0,null,null,0,null,null,0,null,null,0,null,null,0]
[null,null,"Diciembre  ",null,0,null,null,0,null,null,0,null,null,0,null,null,0,null,null,0,null,null,0]
[null,null,"TOTAL",null,{"$f":"SUM(E87:G98)+E85","v":0},null,null,{"$f":"SUM(H87:J98)+H85","v":0},null,null,{"$f":"SUM(K87:M98)+K85","v":0},null,null,{"$f":"SUM(N87:P98)+N85","v":0},null,null,{"$f":"SUM(Q87:S98)+Q85","v":0},null,null,{"$f":"SUM(T87:V98)+T85","v":0},null,null,{"$f":"+W89","v":0}]
[null,null,"RESUMEN PERIODICO A LA EJECUCIÓN"]
[null,null,"PRESUPUESTO APROBADO",null,null,null,"PRESUPUESTO EJECUTADO",null,null,null,null,"EJECUCION PROYECTADA \nAL PERIODO",null,null,null,null,"AVANCE EJECUCION \nDEL PERIODO",null,null,null,null,"DESVIACIÓN PRESUPUESTAL"]
[null,null,{"$f":"+E74","v":0},null,null,null,{"$f":"+H74","v":0},null,null,null,null,{"$f":"IFERROR((SUMIF(H61:J64,\">=0\",E61:G64))/E74,0)","v":0},null,null,null,null,{"$f":"IFERROR(G102/C102,0)","v":0},null,null,null,null,{"$f":"IFERROR(Q102-L102,0)","v":0}]
[null,null,"OBSERVACIONES EJECUCIÓN PRESUPUESTO: "]
[]
[null,null,"RESUMEN FINANCIERO DEL PERIODO:"]
[null,null,"SALDO DEL PERIODO ANTERIOR ",null,null,null,null,null,null,null,null,null,null,null,null,null,null,null,null,null,{"$f":"+FEBRERO!U112","v":0}]
[null,null,"TOTAL APORTES GIRADOS EN EL PERIODO",null,null,null,null,null,null,null,null,null,null,null,null,null,null,null,null,null,{"$f":"+Q64","v":0}]
[]
[null,null,"TOTAL APORTES PARA EL PERIODO",null,null,null,null,null,null,null,null,null,null,null,null,null,null,null,null,null,{"$f":"+U107+U106","v":0}]
[null,null,"PAGOS  REALIZADOS POR LA EAS EN EL PERIODO",null,null,null,null,null,null,null,null,null,null,null,null,null,null,null,null,null,{"$f":"+X64","v":0}]
[]
[null,null,"SALDO DE APORTES ICBF PARA EL PERIODO",null,null,null,null,null,null,null,null,null,null,null,null,null,null,null,null,null,{"$f":"+U109-U110","v":0}]
[null,null,"SALDO SEGUN EXTRACTO",null,null,null,null,null,null,null,null,null,null,null,null,null,null,null,null,null,0]
[null,null,"DIFERENCIA SALDO RECURSOS VS SALDO EXTRACTO BANCARIO",null,null,null,null,null,null,null,null,null,null,null,null,null,null,null,null,null,{"$f":"+U113-U112","v":0}]
[null,null,"VALOR CONCILIADO",null,null,null,null,null,null,null,null,null,null,null,null,null,null,null,null,null,0]
[]
[null,null,"VALOR CARGA PRESTACIONAL ACUMULADA",null,null,null,null,null,null,null,null,null,null,null,null,null,null,null,null,null,0]
[null,null,"RENDIMIENTOS FINANCIEROS DEL MES",null,null,null,null,null,null,null,null,null,null,null,null,null,null,null,null,null,0]
[null,null,"RENDIMIENTOS FNANCIEROS ACUMULADOS",null,null,null,null,null,null,null,null,null,null,null,null,null,null,null,null,null,{"$f":"+FEBRERO!U119+(U118-U120)","v":0}]
[null,null,"RENDIMIENTOS FINANCIEROS CONSIGNADOS",null,null,null,null,null,null,null,null,null,null,null,null,null,null,null,null,null,0]
[null,null,"Banco:",null,{"$f":"+FEBRERO!E121","v":"SCOTIABANK COLPATRIA SA"},null,null,null,null,null,null,"Tipo de Cuenta:",null,null,{"$f":"+FEBRERO!O121","v":"Ahorros"},null,null,null,"Nro de Cuenta:",null,null,{"$f":"+FEBRERO!V121","v":0}]
[null,null,"OBSERVACIONES  CONCILIACIÓN:"]
[]
[null,"4.","Seguimiento al uso de los recursos tasas compensatorias (Aplica Solo para HI)"]
[null,null,"MES",null,null,"PRESUPUESTO TASAS COMPENSATORIAS",null,null,"VALOR T.C RECAUDADA POR EL OPERADOR",null,null," EJECUCIÓN CON RECURSOS TASAS COMPENSATORIAS",null,null,null,null,null,"SALDO TASAS COMPENSATORIAS"]
[]
[null,null,"ENERO",null,null,{"$f":"+FEBRERO!F127","v":0},null,null,{"$f":"+FEBRERO!I127","v":0},null,null,{"$f":"+FEBRERO!L127","v":0},null,null,null,null,null,{"$f":"+I127-L127","v":0}]
[null,null,"FEBRERO",null,null,{"$f":"+FEBRERO!F128","v":0},null,null,{"$f":"+FEBRERO!I128","v":0},null,null,{"$f":"+FEBRERO!L128","v":0},null,null,null,null,null,0]
[null,null,"MARZO",null,null,{"$f":"+FEBRERO!F129","v":0},null,null,0,null,null,0,null,null,0,null,null,0]
[null,null,"ABRIL",null,null,{"$f":"+FEBRERO!F130","v":0},null,null,0,null,null,0,null,null,0,null,null,0]
[null,null,"MAYO",null,null,{"$f":"+FEBRERO!F131","v":0},null,null,0,null,null,0,null,null,0,null,null,0]
[null,null,"JUNIO",null,null,{"$f":"+FEBRERO!F132","v":0},null,null,0,null,null,0,null,null,0,null,null,0]
[null,null,"JULIO",null,null,{"$f":"+FEBRERO!F133","v":0},null,null,0,null,null,0,null,null,0,null,null,0]
[null,null,"AGOSTO",null,null,{"$f":"+FEBRERO!F134","v":0},null,null,0,null,null,0,null,null,0,null,null,0]
[null,null,"SEPTIEMBRE",null,null,{"$f":"+FEBRERO!F135","v":0},null,null,0,null,null,0,null,null,0,null,null,0]
[null,null,"OCTUBRE",null,null,{"$f":"+FEBRERO!F136","v":0},null,null,0,null,null,0,null,null,0,null,null,0]
[null,null,"NOVIEMBRE",null,null,{"$f":"+FEBRERO!F137","v":0},null,null,0,null,null,0,null,null,0,null,null,0]
[null,null,"DICIEMBRE",null,null,{"$f":"+FEBRERO!F138","v":0},null,null,0,null,null,0,null,null,0,null,null,0]
[null,null,"Total",null,null,{"$f":"SUM(F127:H138)","v":0},null,null,{"$f":"SUM(I127:K129)","v":0},null,null,{"$f":"SUM(L127:Q129)","v":0},null,null,null,null,null,{"$f":"SUM(R127:Z129)","v":0}]
[null,null,"OBSERVACIONES  RECAUDO TASAS:"]
[]
[null,"Antes de imprimir este documento… piense en el medio ambiente!    \nCualquier copia impresa de este documento se considera como COPIA NO CONTROLADA\nLOS DATOS PROPORCIONADOS SERÁN TRATADOS DE ACUERDO A LA POLÌTICA DE TRATAMIENTO DE DATOS PERSONALES DEL ICBF Y A LA LEY 1581 DE 2012 "]
[null,null,null,null,null,"PROCESO\nPROMOCION Y PREVENCIÓN\n\nFORMATO ACTA LEGALIZACIÓN DE CUENTAS\n",null,null,null,null,null,null,null,null,"F1.A8.MO12.PP",null,null,null,null,null,"2022-02-02"]
[null,null,null,null,null,null,null,null,null,null,null,null,null,null,"Versión 3",null,null,null,null,null,"Página 3 de 3"]
[]
[null,null,null,null,null,null,null,null,null,null,null,null,null,null,"Clasificación de la Información:\nPública"]
[]
[null,"5. ","Se Verifica que los valores por inejecuciones corresponde a los siguientes conceptos:"]
[null,null,"CONCEPTO DE DESCUENTO",null,null," Cupos CONTRATADOS",null," Cupos\nATENDIDOS ",null," NO ATENDIDOS ",null,"VALOR DESCUENTO POR INEJECUCIÓN",null,null,"FUENTE DE CONSULTA",null,null,"VALOR DESCUENTO \nTEMPORAL",null,null,"REINTEGRO DEL DESCUENTO TEMPORAL",null,null,"Saldo de Descuentos Temporales"]
[null,null,"BAJA COBERTURA",null,null,{"$f":"+X30","v":0},null,0,null,{"$f":"+F150-H150","v":0},null,0,null,null,"NO APLICA",null,null,0,null,null,0,null,null,{"$f":"+(R150-U150)+FEBRERO!X150","v":0}]
[null,null,"INASISTENCIA",null,null,null,null,null,null,null,null,0,null,null,"NO APLICA"]
[null,null,"NO PRESTACION DEL SERVICIO",null,null,null,null,null,null,null,null,0,null,null,"NO APLICA"]
[]
[null,null,"CUENTAME",null,null,null,null,null,null,null,null,0,null,null,"NO APLICA"]
[null,null,"TALENTO HUMANO NO CONTRATADO",null,null,null,null,null,null,null,null,0,null,null,"NO APLICA"]
[null,null,"OTRO\n (Se Especifica en Observaciones)",null,null,null,null,null,null,null,null,0,null,null,"NO APLICA"]
[]
[]
[null,null,"TOTAL DESCUENTO",null,null,null,null,null,null,null,null,{"$f":"SUM(L150:N158)","v":0}]
[null,null,"OBSERVACIONES  DESCUENTOS:"]
[]
[null,"6. ","Ejecución Aportes EAS."]
[null,null,"MES",null,null,"PRESUPUESTO",null,null,"EJECUCIÓN",null,null,"SALDO APORTES EAS",null,null,null,null,null,"OBSERVACIONES APOTES EAS"]
[]
[null,null,"ENERO",null,null,{"$f":"+FEBRERO!F165","v":0},null,null,{"$f":"+FEBRERO!I165","v":0},null,null,{"$f":"+F165-I165","v":0}]
[null,null,"FEBRERO",null,null,{"$f":"+FEBRERO!F166","v":0},null,null,{"$f":"+FEBRERO!I166","v":0},null,null,0]
[null,null,"MARZO",null,null,{"$f":"+FEBRERO!F167","v":0},null,null,0,null,null,0]
[null,null,"ABRIL",null,null,{"$f":"+FEBRERO!F168","v":0},null,null,0,null,null,0]
[null,null,"MAYO",null,null,{"$f":"+FEBRERO!F169","v":0},null,null,0,null,null,0]
[null,null,"JUNIO",null,null,{"$f":"+FEBRERO!F170","v":0},null,null,0,null,null,0]
[null,null,"JULIO",null,null,{"$f":"+FEBRERO!F171","v":0},null,null,0,null,null,0]
[null,null,"AGOSTO",null,null,{"$f":"+FEBRERO!F172","v":0},null,null,0,null,null,0]
[null,null,"SEPTIEMBRE",null,null,{"$f":"+FEBRERO!F173","v":0},null,null,0,null,null,0]
[null,null,"OCTUBRE",null,null,{"$f":"+FEBRERO!F174","v":0},null,null,0,null,null,0]
[null,null,"NOVIEMBRE",null,null,{"$f":"+FEBRERO!F175","v":0},null,null,0,null,null,0]
[null,null,"DICIEMBRE",null,null,{"$f":"+FEBRERO!F176","v":0},null,null,0,null,null,0]
[null,null,"Total",null,null,{"$f":"SUM(F165:H176)","v":0},null,null,{"$f":"SUM(I165:K176)","v":0},null,null,{"$f":"SUM(L165:Q167)","v":0}]
[]
[null,"7. ","Observaciones Generales."]
[]
[]
[]
[]
[]
[]
[]
[null,"8."," Recomendaciones. (Preste la asesoría necesaria para que se superen las dificultades identificadas y se mantengan las fortalezas detectadas)  "]
[]
[]
[]
[]
[]
[]
[]
[null,"9.","Cierre."]
[null,null,"Compromisos / tareas",null,null,null,null,null,null,null,"Responsables",null,null,null,null,null,null,null,null,"Fechas"]
[]
[]
[]
[null,null,"**Las siguientes personas que firman  dan constancia que han revisado y estan de acuerdo con cada uno de los items de la presente acta y que  este ejercicio de legalización de cuentas se ha realizado conforme a los lineamientos, guias de supervisión, manuales operativos y minutas contractuales establecidas por el ICBF."]
[null," ","FIRMA RESPONSABLES ICBF Y ENTIDAD ADMINISTRADORA"]
[null,null,"Nombre",null,null,null,null,"Cargo / Dependencia",null,null,null,null,null,null,"EMAIL",null,null,null,null,null,"Firma"]
[null,null,{"$f":"+G37","v":" "},null,null,null,null,"SUPERVISOR(A) DEL CONTRATO ICBF",null,null,null,null,null,null,"@icbf.gov.co"]
[null,null,{"$f":"+U37","v":" "},null,null,null,null,"APOYO FINANCIERO ICBF",null,null,null,null,null,null,"@icbf.gov.co"]
[null,null,{"$f":"+G40","v":0},null,null,null,null,"REPRESENTANTE LEGAL EAS",null,null,null,null,null,null,{"$f":"+G41","v":0}]
[null,null,{"$f":"+FEBRERO!C206","v":0},null,null,null,null,{"$f":"+FEBRERO!H206","v":0},null,null,null,null,null,null,{"$f":"+FEBRERO!O206","v":0}]
[null,null,{"$f":"+FEBRERO!C207","v":0},null,null,null,null,{"$f":"+FEBRERO!H207","v":0},null,null,null,null,null,null,{"$f":"+FEBRERO!O207","v":0}]
[null,"Antes de imprimir este documento… piense en el medio ambiente!    \nCualquier copia impresa de este documento se considera como COPIA NO CONTROLADA\nLOS DATOS PROPORCIONADOS SERÁN TRATADOS DE ACUERDO A LA POLÌTICA DE TRATAMIENTO DE DATOS PERSONALES DEL ICBF Y A LA LEY 1581 DE 2012 "]
[]
[null,"* Escanear esta Acta debidamente Firmada y colocarla en la ruta especificada por la DPI"]
[]
["RECOMEDACIONES DE USO DE ESTE ARCHIVO:"]
["1. HABILITE MACROS : ARCHIVO > CENTRO DE CONFIANZA> CONFIGURACION DEL CENTRO DE CONFIANZA > CONFIGURACION DE MACROS > HABILITAR TODAS LAS MACROS > CONFIAR EN EL ACCESO AL MODELO DE OBJETO DE PROYECTOS VBA > ACEPTAR"]
["2. DESHABILITE VISTA PROTEGIDA: ARCHIVO> CENTRO DE CONFIANZA> CONFIGURACION DEL CENTRO DE CONFIANZA > VISTA PROTEGIDA> DESMARCAR LAS TRES OPCIONES >ACEPTAR"]
["3. HABILITAR UBICACIONES DE RED: ARCHIVO> CENTRO DE CONFIANZA> CONFIGURACION DEL CENTRO DE CONFIANZA > UBICACIONES DE CONFIANZA > MARCAR PERMITIR UBICACIONES DE CONFIANZA QUE ESTEN EN LA RED > ACEPTAR "]
["4. HABILITAR DOCUMENTOS DE CONFIANZA: ARCHIVO> CENTRO DE CONFIANZA> CONFIGURACION DEL CENTRO DE CONFIANZA > DOCUMENTOS DE CONFIANZA > MARCAR PERMITIR QUE SEAN DE CONFIANZA LOS DOCUMENTOS DE UNA RED"]

{"sheet":"ABRIL","index":5,"n_rows":215,"n_cols":25,"rows_kept":215,"cut":false,"hidden":true,"merged":[[52,16,53,25],[53,6,53,7],[53,9,54,13],[54,6,54,7],[54,19,54,23],[42,1,45,1],[51,2,51,5],[51,6,51,8],[51,9,51,11],[51,12,51,13],[51,14,51,15],[51,16,51,17],[51,18,51,19],[51,20,51,21],[51,22,51,23],[50,2,50,5],[50,6,50,8],[50,9,50,11],[50,12,50,13],[50,14,50,15],[50,16,50,17],[50,18,50,19],[50,20,50,21],[50,22,50,23],[49,2,49,5],[49,6,49,8],[49,9,49,11],[49,12,49,13],[49,14,49,15],[49,16,49,17],[49,18,49,19],[49,20,49,21],[49,22,49,23],[48,2,48,5],[48,6,48,8],[48,9,48,11],[48,12,48,13],[48,14,48,15],[48,16,48,17],[48,18,48,19],[48,20,48,21],[48,22,48,23],[46,2,47,5],[46,6,47,8],[46,9,47,11],[46,12,46,15],[46,16,46,19],[46,20,46,25],[47,12,47,13],[47,14,47,15],[47,16,47,17],[47,18,47,19],[47,20,47,21],[47,22,47,23],[47,24,47,25],[45,2,45,5],[45,6,45,15],[106,1,115,1],[106,2,107,19],[106,20,107,25],[109,2,110,19],[109,20,110,25],[114,2,115,19],[114,20,115,25],[108,20,108,25],[111,2,111,19],[83,2,83,3],[83,22,83,25],[85,2,85,3],[85,22,85,25],[83,4,83,6],[83,7,83,9],[83,10,83,12],[83,13,83,15],[83,16,83,18],[83,19,83,21],[85,4,85,6],[85,7,85,9],[85,10,85,12],[113,2,113,19],[113,20,113,25],[116,20,116,25],[116,2,116,19],[121,2,121,25],[122,2,122,25],[123,2,123,25],[117,2,117,19],[117,20,117,25],[118,2,118,19],[118,20,118,25],[119,2,119,19],[119,20,119,25],[129,5,129,7],[163,17,174,25],[124,17,124,25],[125,17,125,25],[126,17,126,25],[127,17,127,25],[128,17,128,25],[129,17,129,25],[130,17,130,25],[131,17,131,25],[132,17,132,25],[133,17,133,25],[134,17,134,25],[135,17,135,25],[136,17,136,25],[137,17,137,25],[147,2,147,25],[148,2,148,4],[124,11,124,16],[125,11,125,16],[138,17,138,25],[139,2,139,25],[140,2,140,25],[141,1,141,26],[142,20,142,26],[126,11,126,16],[127,11,127,16],[128,11,128,16],[129,11,129,16],[130,11,130,16],[131,11,131,16],[132,11,132,16],[133,11,133,16],[136,11,136,16],[137,11,137,16],[142,14,142,19],[134,11,134,16],[135,11,135,16],[149,17,157,19],[149,20,157,22],[149,23,157,25],[150,11,150,13],[150,14,150,16],[151,11,152,13],[151,14,152,16],[149,14,149,16],[148,20,148,22],[148,23,148,25],[148,11,148,13],[148,14,148,16],[148,17,148,19],[155,11,157,13],[155,14,157,16],[153,11,153,13],[153,14,153,16],[154,11,154,13],[154,14,154,16],[149,11,149,13],[150,2,150,10],[151,2,152,10],[153,2,153,10],[154,2,154,10],[155,2,157,10],[138,8,138,10],[137,2,137,4],[137,5,137,7],[137,8,137,10],[149,2,149,4],[149,5,149,6],[149,7,149,8],[149,9,149,10],[142,5,146,13],[142,1,146,4],[148,5,148,6],[148,7,148,8],[148,9,148,10],[138,11,138,16],[138,2,138,4],[138,5,138,7],[200,2,200,6],[200,7,200,13],[200,14,200,19],[200,20,200,25],[201,2,201,6],[201,7,201,13],[201,14,201,19],[201,20,201,25],[198,2,198,25],[199,2,199,25],[209,1,209,27],[202,2,202,6],[202,7,202,13],[202,14,202,19],[202,20,202,25],[203,2,203,6],[203,7,203,13],[203,14,203,19],[203,20,203,25],[204,2,204,6],[204,7,204,13],[204,14,204,19],[204,20,204,25],[205,2,205,6],[205,7,205,13],[205,14,205,19],[205,20,205,25],[206,1,206,26],[208,1,208,24],[124,2,124,4],[124,5,124,7],[124,8,124,10],[125,2,125,4],[125,5,125,7],[125,8,125,10],[126,2,126,4],[126,5,126,7],[126,8,126,10],[175,2,175,4],[175,5,175,7],[175,8,175,10],[175,11,175,16],[175,17,175,25],[196,2,196,9],[196,10,196,18],[196,19,196,25],[197,2,197,9],[197,10,197,18],[197,19,197,25],[177,2,177,25],[178,2,184,25],[185,2,185,25],[186,2,192,25],[193,2,193,25],[194,2,194,9],[194,10,194,18],[194,19,194,25],[195,2,195,9],[195,10,195,18],[195,19,195,25],[172,2,172,4],[172,5,172,7],[172,8,172,10],[172,11,172,16],[173,2,173,4],[173,5,173,7],[173,8,173,10],[173,11,173,16],[174,2,174,4],[174,5,174,7],[174,8,174,10],[174,11,174,16],[171,2,171,4],[171,5,171,7],[171,8,171,10],[171,11,171,16],[168,2,168,4],[168,5,168,7],[168,8,168,10],[168,11,168,16],[169,2,169,4],[169,5,169,7],[169,8,169,10],[169,11,169,16],[165,8,165,10],[165,11,165,16],[163,2,163,4],[163,5,163,7],[163,8,163,10],[170,2,170,4],[170,5,170,7],[170,8,170,10],[170,11,170,16],[165,2,165,4],[165,5,165,7],[166,2,166,4],[166,5,166,7],[166,8,166,10],[166,11,166,16],[167,2,167,4],[167,5,167,7],[167,8,167,10],[167,11,167,16],[163,11,163,16],[164,2,164,4],[164,5,164,7],[164,8,164,10],[164,11,164,16],[158,2,158,10],[158,11,158,13],[159,2,159,25],[160,2,160,25],[161,2,161,25],[162,2,162,4],[162,5,162,7],[162,8,162,10],[162,11,162,16],[162,17,162,25],[158,14,158,25],[64,4,64,6],[64,7,64,9],[64,10,64,12],[64,13,64,15],[64,16,64,18],[69,2,69,3],[69,23,69,25],[66,19,66,22],[129,8,129,10],[86,2,86,3],[84,22,84,25],[87,2,87,3],[87,22,87,25],[66,2,66,3],[66,23,66,25],[67,2,67,3],[67,23,67,25],[68,19,68,22],[69,4,69,6],[69,7,69,9],[69,10,69,12],[69,13,69,15],[69,16,69,18],[69,19,69,22],[130,2,130,4],[130,5,130,7],[130,8,130,10],[131,2,131,4],[131,5,131,7],[131,8,131,10],[136,2,136,4],[136,5,136,7],[136,8,136,10],[132,2,132,4],[132,5,132,7],[132,8,132,10],[133,2,133,4],[133,5,133,7],[133,8,133,10],[134,2,134,4],[134,5,134,7],[134,8,134,10],[135,2,135,4],[135,5,135,7],[135,8,135,10],[0,1,5,4],[8,1,8,8],[8,9,8,26],[120,2,120,3],[120,4,120,10],[120,11,120,13],[120,14,120,17],[120,18,120,20],[120,21,120,25],[55,2,55,25],[56,2,56,25],[57,2,57,25],[58,2,58,25],[59,2,59,3],[59,23,59,25],[60,2,60,3],[60,23,60,25],[61,2,61,3],[61,23,61,25],[62,2,62,3],[62,23,62,25],[63,2,63,3],[63,23,63,25],[64,2,64,3],[9,1,9,8],[9,9,9,26],[10,1,10,8],[10,9,10,26],[6,1,6,15],[6,16,6,17],[7,1,7,6],[7,7,7,12],[7,13,7,19],[7,20,7,26],[6,18,6,22],[6,23,6,26],[16,2,16,26],[17,2,17,26],[18,2,18,26],[19,2,19,26],[20,2,20,26],[21,2,21,26],[11,1,11,8],[11,9,11,26],[12,1,12,8],[12,9,12,26],[14,2,14,26],[15,2,15,26],[29,23,29,25],[30,2,30,6],[30,7,30,11],[30,12,30,16],[30,17,30,21],[30,22,30,25],[22,2,22,26],[27,2,27,25],[28,4,28,7],[28,8,28,10],[28,11,28,18],[28,19,28,21],[28,22,28,25],[29,2,29,4],[29,5,29,7],[29,8,29,10],[29,11,29,13],[29,14,29,15],[29,16,29,18],[29,19,29,22],[28,2,28,3],[31,2,31,6],[31,7,31,11],[31,12,31,16],[31,17,31,21],[31,22,31,25],[32,2,32,6],[32,7,32,11],[32,12,32,16],[32,17,32,21],[32,22,32,25],[33,2,33,6],[33,7,33,11],[33,12,33,16],[33,17,33,21],[33,22,33,25],[34,2,34,6],[34,7,34,11],[34,12,34,16],[34,17,34,21],[34,22,34,25],[35,2,35,6],[35,7,35,11],[35,12,35,16],[35,17,35,21],[35,22,35,25],[36,2,36,5],[36,6,36,15],[36,16,36,19],[36,20,36,25],[39,2,39,5],[39,6,39,15],[39,16,39,19],[39,20,39,25],[40,2,40,5],[40,6,40,15],[40,16,40,19],[40,20,40,25],[37,20,37,25],[38,2,38,5],[38,6,38,9],[38,12,38,15],[38,16,38,19],[38,20,38,25],[37,2,37,5],[37,6,37,7],[37,8,37,10],[37,11,37,12],[37,13,37,15],[37,16,37,19],[43,2,43,5],[43,6,43,15],[43,16,43,19],[43,20,43,25],[44,2,44,5],[44,6,44,15],[44,16,44,19],[44,20,44,25],[41,2,41,5],[41,6,41,15],[41,16,41,19],[41,20,41,25],[42,2,42,5],[42,6,42,15],[42,16,42,19],[42,20,42,25],[63,4,63,6],[63,7,63,9],[63,10,63,12],[59,4,59,6],[59,7,59,9],[59,10,59,12],[59,13,59,15],[59,16,59,18],[59,19,59,22],[60,19,60,22],[61,4,61,6],[61,7,61,9],[61,10,61,12],[61,13,61,15],[61,16,61,18],[61,19,61,22],[60,4,60,6],[60,7,60,9],[60,10,60,12],[60,13,60,15],[60,16,60,18],[62,4,62,6],[62,7,62,9],[63,13,63,15],[68,4,68,6],[68,7,68,9],[68,10,68,12],[68,13,68,15],[68,16,68,18],[68,2,68,3],[68,23,68,25],[67,4,67,6],[67,7,67,9],[70,2,70,3],[70,23,70,25],[71,2,71,3],[71,23,71,25],[72,19,72,22],[73,4,73,6],[73,7,73,9],[73,10,73,12],[73,13,73,15],[73,16,73,18],[73,19,73,22],[72,4,72,6],[72,7,72,9],[72,10,72,12],[72,13,72,15],[72,16,72,18],[72,2,72,3],[71,7,71,9],[71,10,71,12],[72,23,72,25],[73,2,73,3],[73,23,73,25],[70,7,70,9],[70,10,70,12],[87,7,87,9],[87,10,87,12],[87,13,87,15],[87,16,87,18],[87,19,87,21],[87,4,87,6],[89,4,89,6],[89,7,89,9],[89,13,89,15],[89,16,89,18],[89,19,89,21],[88,4,88,6],[88,7,88,9],[88,10,88,12],[88,13,88,15],[88,16,88,18],[88,22,88,25],[89,2,89,3],[89,22,89,25],[88,2,88,3],[92,2,92,3],[95,2,95,3],[95,22,95,25],[92,19,92,21],[93,4,93,6],[92,4,92,6],[92,7,92,9],[92,10,92,12],[92,13,92,15],[92,16,92,18],[94,2,94,3],[94,22,94,25],[94,19,94,21],[95,4,95,6],[95,7,95,9],[95,10,95,12],[95,13,95,15],[95,16,95,18],[95,19,95,21],[94,4,94,6],[94,7,94,9],[94,10,94,12],[91,10,91,12],[91,13,91,15],[91,16,91,18],[91,19,91,21],[90,4,90,6],[90,7,90,9],[90,10,90,12],[90,13,90,15],[90,16,90,18],[91,4,91,6],[94,13,94,15],[94,16,94,18],[70,13,70,15],[89,10,89,12],[90,19,90,21],[85,13,85,15],[85,16,85,18],[86,13,86,15],[86,16,86,18],[86,19,86,21],[93,7,93,9],[93,10,93,12],[93,13,93,15],[93,16,93,18],[93,19,93,21],[91,7,91,9],[80,2,80,25],[81,2,81,25],[82,2,82,25],[71,4,71,6],[71,19,71,22],[70,4,70,6],[86,4,86,6],[86,7,86,9],[86,10,86,12],[70,19,70,22],[63,16,63,18],[63,19,63,22],[62,10,62,12],[62,13,62,15],[62,16,62,18],[62,19,62,22],[45,20,45,25],[85,19,85,21],[84,10,84,12],[84,13,84,15],[84,16,84,18],[84,19,84,21],[71,13,71,15],[71,16,71,18],[65,10,65,12],[65,13,65,15],[65,16,65,18],[65,19,65,22],[64,23,64,25],[48,24,48,25],[49,24,49,25],[50,24,50,25],[51,24,51,25],[52,2,52,15],[65,2,65,3],[65,23,65,25],[64,19,64,22],[65,4,65,6],[65,7,65,9],[4,14,5,26],[76,14,77,19],[76,20,77,26],[45,16,45,19],[0,5,5,13],[0,14,1,19],[0,20,1,26],[2,14,3,19],[2,20,3,26],[70,16,70,18],[66,4,66,6],[66,7,66,9],[66,10,66,12],[66,13,66,15],[66,16,66,18],[67,10,67,12],[67,13,67,15],[67,16,67,18],[67,19,67,22],[99,2,99,25],[93,2,93,3],[104,2,104,25],[74,1,74,26],[75,1,79,4],[75,5,79,13],[75,14,75,19],[75,20,75,26],[86,22,86,25],[84,2,84,3],[84,4,84,6],[84,7,84,9],[98,4,98,6],[98,7,98,9],[98,10,98,12],[98,13,98,15],[101,2,101,5],[101,21,101,25],[96,2,96,3],[90,2,90,3],[90,22,90,25],[91,2,91,3],[91,22,91,25],[88,19,88,21],[108,2,108,19],[93,22,93,25],[105,2,105,19],[105,20,105,25],[98,16,98,18],[97,4,97,6],[97,7,97,9],[97,10,97,12],[127,2,127,4],[127,5,127,7],[127,8,127,10],[112,2,112,19],[112,20,112,25],[97,2,97,3],[97,22,97,25],[98,19,98,21],[100,6,100,10],[100,11,100,15],[100,16,100,20],[102,2,102,25],[103,2,103,25],[111,20,111,25],[98,2,98,3],[98,22,98,25],[78,14,79,26],[143,14,144,19],[143,20,144,26],[145,14,146,26],[97,13,97,15],[97,16,97,18],[97,19,97,21],[101,6,101,10],[101,11,101,15],[101,16,101,20],[96,4,96,6],[96,7,96,9],[96,10,96,12],[96,13,96,15],[96,16,96,18],[92,22,92,25],[96,19,96,21],[96,22,96,25],[128,2,128,4],[128,5,128,7],[128,8,128,10],[129,2,129,4],[100,2,100,5],[100,21,100,25]]}
[null,null,null,null,null,"PROCESO\nPROMOCION Y PREVENCIÓN\n\nFORMATO ACTA LEGALIZACIÓN DE CUENTAS\n",null,null,null,null,null,null,null,null,"F1.A8.MO12.PP",null,null,null,null,null,"2022-02-02"]
[]
[null,null,null,null,null,null,null,null,null,null,null,null,null,null,"Versión 3",null,null,null,null,null,"Página 1 de 3"]
[]
[null,null,null,null,null,null,null,null,null,null,null,null,null,null,"Clasificación de la Información:\nPública"]
[]
[null,"ACTA DE LEGALIZACIÓN N°",null,null,null,null,null,null,null,null,null,null,null,null,null,null,4,null,"ESTADO DEL CONTRATO:",null,null,null,null,{"$f":"+MARZO!X7","v":"VIGENTE"}]
[null,"Fecha y Hora Inicio:",null,null,null,null,null,"2019-01-01T15:00:00",null,null,null,null,null,"Fecha y Hora Fin:  ",null,null,null,null,null,null,"2019-01-01T15:00:00"]
[null,"Lugar:",null,null,null,null,null,null,null,{"$f":"+MARZO!J9","v":"Regional_Amazonas"}]
[null,"Dependencia que Convoca:",null,null,null,null,null,null,null,{"$f":"+MARZO!J10","v":"Primera Infancia - Grupo de Atención en Ciclos de Vida y Nutrición "}]
[null,"Proceso:",null,null,null,null,null,null,null,{"$f":"+MARZO!J11","v":"Promoción y Prevención "}]
[null,"Objetivo:",null,null,null,null,null,null,null,{"$f":"+MARZO!J12","v":"Recepción, revisión, el análisis y  Legalización de los Gastos e Ingresos del Informe Financiero presentado por la entidad administradora (EAS)"}]
[null,"Nombre EAS:",null,null,null,null,null,null,null,{"$f":"+MARZO!J13","v":"ASOCIACION DE HOGARES"}]
[null,"Agenda: "]
[null,"1.","Desarrollo."]
[null,"2.","Información general del contrato."]
[null,"3.","Informe  de ejecución Presupuestal y  financiera requerido con los debidos soporte."]
[null,"4.","Seguimiento al Uso de Tasas Compensatorias (Aplica Solo para HI)."]
[null,"5.","Detalle de Inejecuciones."]
[null,"6.","Ejecución Contrapartida."]
[null,"7.","Situación Encontrada."]
[null,"8.","Recomendaciones."]
[null,"9.","Cierre."]
[null,"         Desarrollo: "]
[null,"1.","Se da inicio a la legalización de los informes financieros Presentados por la EAS con el fin de verificar la correcta Ejecución del presupuesto aprobado dentro de los "]
[null,null,"lineamientos, guias de supervision, manuales operativos y minutas que corresponden."]
[null,"2.","A continuaciòn en el presente cuadro  se relaciona la información general del contrato."]
[null,null,"Información general del contrato."]
[null,null,"Regional:",null,{"$f":"+J9","v":"Regional_Amazonas"},null,null,null,"Centro Zonal:",null,null,{"$f":"+MARZO!L29","v":"CZ_LETICIA"},null,null,null,null,null,null,null,"N° de Contrato\n o Convenio",null,null,{"$f":"+MARZO!W29","v":0}]
[null,null,"N° CDP ",null,null,{"$f":"+MARZO!F30","v":0},null,null,"N° RP",null,null,{"$f":"+MARZO!L30","v":0},null,null,"FECHA \nACTA INICIO",null,{"$f":"+MARZO!Q30","v":"00:00:00"},null,null,"Cupos Contratados:",null,null,null,{"$f":"+W36+R36+M36+H36+C36","v":0}]
[null,null," Modalidad 1:",null,null,null,null,"Modalidad 2:",null,null,null,null,"Modalidad 3:",null,null,null,null,"Modalidad 4:",null,null,null,null,"Modalidad 5:"]
[null,null,{"$f":"+MARZO!C32","v":"NO_APLICA"},null,null,null,null,{"$f":"+MARZO!H32","v":"NO_APLICA"},null,null,null,null,{"$f":"+MARZO!M32","v":"NO_APLICA"},null,null,null,null,{"$f":"+MARZO!R32","v":"NO_APLICA"},null,null,null,null,{"$f":"+MARZO!W32","v":"NO_APLICA"}]
[null,null,"SERVICIO 1:",null,null,null,null,"SERVICIO 2:",null,null,null,null,"SERVICIO 3:",null,null,null,null,"SERVICIO 4:",null,null,null,null,"SERVICIO 5:"]
[null,null,{"$f":"+MARZO!C34","v":"NO APLICA"},null,null,null,null,{"$f":"+MARZO!H34","v":"NO APLICA"},null,null,null,null,{"$f":"+MARZO!M34","v":"NO APLICA"},null,null,null,null,{"$f":"+MARZO!R34","v":"NO APLICA"},null,null,null,null,{"$f":"+MARZO!W34","v":"NO APLICA"}]
[null,null,"CUPOS CONTRATADO 1:",null,null,null,null,"CUPOS CONTRATADO 2:",null,null,null,null,"CUPOS CONTRATADO 3:",null,null,null,null,"CUPOS CONTRATADO 4:",null,null,null,null,"CUPOS CONTRATADO 5:"]
[null,null,{"$f":"+MARZO!C36","v":0},null,null,null,null,{"$f":"+MARZO!H36","v":0},null,null,null,null,{"$f":"+MARZO!M36","v":0},null,null,null,null,{"$f":"+MARZO!R36","v":0},null,null,null,null,{"$f":"+MARZO!W36","v":0}]
[null,null,"Nombre Supervisor CTO:",null,null,null,{"$f":"+MARZO!G37","v":" "},null,null,null,null,null,null,null,null,null,"Apoyo Financiero ICBF:",null,null,null,{"$f":"+MARZO!U37","v":" "}]
[null,null,"Plazo de ejecución CTO:",null,null,null,"Desde:",null,{"$f":"+MARZO!I38","v":"00:00:00"},null,null,"Hasta:",null,{"$f":"+MARZO!N38","v":"00:00:00"},null,null,"Fecha aprob. póliza:",null,null,null,{"$f":"+MARZO!U38","v":" "}]
[null,null,"Póliza N° 1 del CTO",null,null,null,{"$f":"+MARZO!G39","v":0},null,null,null,"Poliza N° 2",null,{"$f":"+MARZO!M39","v":0},null,null,null,"Nombre Ent. Aseguradora",null,null,null,{"$f":"+MARZO!U39","v":" "}]
[null,null,"Representante Legal:",null,null,null,{"$f":"+MARZO!G40","v":0},null,null,null,null,null,null,null,null,null,"Cédula RL: ",null,null,null,{"$f":"+MARZO!U40","v":" "}]
[null,null,"Email Representante L.",null,null,null,{"$f":"+MARZO!G41","v":0},null,null,null,null,null,null,null,null,null,"NIT EAS:",null,null,null,{"$f":"+MARZO!U41","v":" "}]
[null,null,"Telefono o Cel R.L",null,null,null,{"$f":"+MARZO!G42","v":0},null,null,null,null,null,null,null,null,null,"Fecha Vencimiento R. L:",null,null,null,{"$f":"+MARZO!U42","v":" "}]
[null,"VIGENCIA ACTUAL","Valor Inicial del CTO: \n(Aporte ICBF)",null,null,null,{"$f":"+MARZO!G43","v":0},null,null,null,null,null,null,null,null,null,"Valor Aportes EAS:",null,null,null,{"$f":"+MARZO!U43","v":0}]
[null,null,"Adiciones al CTO:",null,null,null,{"$f":"+MARZO!G44","v":0},null,null,null,null,null,null,null,null,null,"Adiciones Aportes EAS:",null,null,null,{"$f":"+MARZO!U44","v":0}]
[null,null,"Reducciones al CTO",null,null,null,{"$f":"+MARZO!G45","v":0},null,null,null,null,null,null,null,null,null,"Total Aportes EAS:",null,null,null,{"$f":"+U44+U43","v":0}]
[null,null,"VALOR APORTE ICBF",null,null,null,{"$f":"+(G43+G44)-G45","v":0},null,null,null,null,null,null,null,null,null,"Valor Actual del CTO:",null,null,null,{"$f":"+G43+U43+G44+U44-G45","v":0}]
[null,null,"VIGENCIA",null,null,null,"APORTE ICBF",null,null,"APORTE EAS",null,null,"Adiciones al contrato",null,null,null,"Reducciones al contrato",null,null,null,"Valor final del contrato"]
[null,null,null,null,null,null,null,null,null,null,null,null,"ICBF",null,"EAS",null,"ICBF",null,"EAS",null,"ICBF",null,"EAS",null,"TOTAL"]
[null,null,{"$f":"+MARZO!C49","v":2020},null,null,null,{"$f":"+MARZO!G49","v":0},null,null,{"$f":"+MARZO!J49","v":0},null,null,{"$f":"+MARZO!M49","v":0},null,{"$f":"+MARZO!O49","v":0},null,{"$f":"+MARZO!Q49","v":0},null,{"$f":"+MARZO!S49","v":0},null,{"$f":"+G49+M49-Q49","v":0},null,{"$f":"+J49+O49-S49","v":0},null,{"$f":"+U49+W49","v":0}]
[null,null,{"$f":"+MARZO!C50","v":2021},null,null,null,{"$f":"+MARZO!G50","v":0},null,null,{"$f":"+MARZO!J50","v":0},null,null,{"$f":"+MARZO!M50","v":0},null,{"$f":"+MARZO!O50","v":0},null,{"$f":"+MARZO!Q50","v":0},null,{"$f":"+MARZO!S50","v":0},null,{"$f":"+G50+M50-Q50","v":0},null,{"$f":"+J50+O50-S50","v":0},null,{"$f":"+U50+W50","v":0}]
[null,null,{"$f":"+MARZO!C51","v":2022},null,null,null,{"$f":"+MARZO!G51","v":0},null,null,{"$f":"+MARZO!J51","v":0},null,null,{"$f":"+MARZO!M51","v":0},null,{"$f":"+MARZO!O51","v":0},null,{"$f":"+MARZO!Q51","v":0},null,{"$f":"+MARZO!S51","v":0},null,0,null,0,null,0]
[null,null,"TOTAL",null,null,null,{"$f":"SUM(G49:I51)","v":0},null,null,{"$f":"SUM(J49:L51)","v":0},null,null,{"$f":"SUM(M49:N51)","v":0},null,{"$f":"SUM(O49:P51)","v":0},null,{"$f":"SUM(Q49:R51)","v":0},null,{"$f":"SUM(S49:T51)","v":0},null,{"$f":"SUM(U49:V51)","v":0},null,{"$f":"SUM(W49:X51)","v":0},null,{"$f":"+Y51+Y50+Y49","v":0}]
[null,null,"La entidad presenta informe financiero mensual ante el ICBF como sigue:",null,null,null,null,null,null,null,null,null,null,null,null,null,"Presenta los documentos soportes que acompañan el informe financiero y se entrega al ICBF copia de los mismos en medio:"]
[null,null,"Mes a legalizar:",null,null,null,"ABRIL",null,null,"¿Los documentos aportados permiten realizar la legalización del informe financiero?    ",null,null,null,null,"SI","X"]
[null,null,"Fecha radicación EAS:",null,null,null,"2022-04-10",null,null,null,null,null,null,null,"NO",null,null,null,null,"DIGITAL Y FISICO"]
[null,null,"OBSERVACIONES INFORMACIÓN GENERAL:"]
[]
[null,"3."," Se verifica  la ejecución de los recursos del contrato de acuerdo a los Informes Financieros presentados por la entidad:"]
[null,null,"SEGUIMIENTO PRESUPUESTAL  Y FINANCIERO DEL CONTRATO"]
[null,null,"MES",null,"PRESUPUESTO APROBADO + REPROGRAMACIONES \n(Aportes ICBF)",null,null,"EJECUCIÓN",null,null,"SALDO SIN EJECUTAR",null,null,"PROGRAMACIÓN DESEMBOLSOS",null,null,"DESEMBOLSOS GIRADOS",null,null,"DIFERENCIA PROGRAMADO VS PAGADO",null,null,null,"PAGOS REAL. EN EL MES"]
[]
[null,null,"Enero",null,{"$f":"+MARZO!E62","v":0},null,null,{"$f":"+MARZO!H62","v":0},null,null,{"$f":"+E62-H62","v":0},null,null,{"$f":"+MARZO!N62","v":0},null,null,{"$f":"+MARZO!Q62","v":0},null,null,{"$f":"+N62-Q62","v":0},null,null,null,{"$f":"+MARZO!X62","v":0}]
[null,null,"Febrero",null,{"$f":"+MARZO!E63","v":0},null,null,{"$f":"+MARZO!H63","v":0},null,null,0,null,null,{"$f":"+MARZO!N63","v":0},null,null,{"$f":"+MARZO!Q63","v":0},null,null,0,null,null,null,{"$f":"+MARZO!X63","v":0}]
[null,null,"Marzo",null,{"$f":"+MARZO!E64","v":0},null,null,{"$f":"+MARZO!H64","v":0},null,null,0,null,null,{"$f":"+MARZO!N64","v":0},null,null,{"$f":"+MARZO!Q64","v":0},null,null,0,null,null,null,{"$f":"+MARZO!X64","v":0}]
[null,null,"Abril",null,{"$f":"+MARZO!E65","v":0},null,null,0,null,null,0,null,null,{"$f":"+MARZO!N65","v":0},null,null,0,null,null,0,null,null,null,0]
[null,null,"Mayo",null,{"$f":"+MARZO!E66","v":0},null,null,0,null,null,0,null,null,{"$f":"+MARZO!N66","v":0},null,null,0,null,null,0,null,null,null,0]
[null,null,"Junio",null,{"$f":"+MARZO!E67","v":0},null,null,0,null,null,0,null,null,{"$f":"+MARZO!N67","v":0},null,null,0,null,null,0,null,null,null,0]
[null,null,"Julio",null,{"$f":"+MARZO!E68","v":0},null,null,0,null,null,0,null,null,{"$f":"+MARZO!N68","v":0},null,null,0,null,null,0,null,null,null,0]
[null,null,"Agosto",null,{"$f":"+MARZO!E69","v":0},null,null,0,null,null,0,null,null,{"$f":"+MARZO!N69","v":0},null,null,0,null,null,0,null,null,null,0]
[null,null,"Septiembre",null,{"$f":"+MARZO!E70","v":0},null,null,0,null,null,0,null,null,{"$f":"+MARZO!N70","v":0},null,null,0,null,null,0,null,null,null,0]
[null,null,"Octubre",null,{"$f":"+MARZO!E71","v":0},null,null,0,null,null,0,null,null,{"$f":"+MARZO!N71","v":0},null,null,0,null,null,0,null,null,null,0]
[null,null,"Noviembre",null,{"$f":"+MARZO!E72","v":0},null,null,0,null,null,0,null,null,{"$f":"+MARZO!N72","v":0},null,null,0,null,null,0,null,null,null,0]
[null,null,"Diciembre  ",null,{"$f":"+MARZO!E73","v":0},null,null,0,null,null,0,null,null,{"$f":"+MARZO!N73","v":0},null,null,0,null,null,0,null,null,null,0]
[null,null,"TOTAL  ",null,{"$f":"SUM(E62:G73)","v":0},null,null,{"$f":"SUM(H62:J73)","v":0},null,null,{"$f":"SUM(K62:M73)","v":0},null,null,{"$f":"SUM(N62:P73)","v":0},null,null,{"$f":"SUM(Q62:S73)","v":0},null,null,{"$f":"SUM(T62:W73)","v":0},null,null,null,{"$f":"SUM(X62:Z73)","v":0}]
[null,"Antes de imprimir este documento… piense en el medio ambiente!    \nCualquier copia impresa de este documento se considera como COPIA NO CONTROLADA\nLOS DATOS PROPORCIONADOS SERÁN TRATADOS DE ACUERDO A LA POLÌTICA DE TRATAMIENTO DE DATOS PERSONALES DEL ICBF Y A LA LEY 1581 DE 2012 "]
[null,null,null,null,null,"PROCESO\nPROMOCION Y PREVENCIÓN\n\nFORMATO ACTA LEGALIZACIÓN DE CUENTAS\n",null,null,null,null,null,null,null,null,"F1.A8.MO12.PP",null,null,null,null,null,"2022-02-02"]
[null,null,null,null,null,null,null,null,null,null,null,null,null,null,"Versión 3",null,null,null,null,null,"Página 2 de 3"]
[]
[null,null,null,null,null,null,null,null,null,null,null,null,null,null,"Clasificación de la Información:\nPública"]
[]
[null,null,"OBSERVACIONES SEGUIMIENTO PRESUPUESTAL  Y FINANCIERO DEL CONTRATO: "]
[]
[null,null,"SEGUIMIENTO A INEJECUCIONES Y LIBERACIONES"]
[null,null,"MES",null,"AHORROS",null,null,"INEJECUCIONES",null,null,"SEGUIMIENTO DE INEJECUCIONES",null,null,"REDISTRIBUCIÓN DE \nAHORROS",null,null,"REINVERSIÓN DE \nINEJECUCIONES",null,null,"LIBERACIONES/REINTEGROS T.N \n(Tramitadas)",null,null,"LIBERACIONES PENDIENTES POR  REALIZAR"]
[null,null,"Inejecución\n inicial",null,{"$f":"+MARZO!E85","v":0},null,null,{"$f":"+MARZO!H85","v":0},null,null,{"$f":"+G46-E74","v":0},null,null,{"$f":"+MARZO!N85","v":0},null,null,{"$f":"+MARZO!Q85","v":0},null,null,{"$f":"+MARZO!T85","v":0},null,null,{"$f":"IFERROR(+K85,0)","v":0}]
[]
[null,null,"Enero",null,{"$f":"+MARZO!E87","v":0},null,null,{"$f":"+MARZO!H87","v":0},null,null,{"$f":"+E87+H87","v":0},null,null,{"$f":"+MARZO!N87","v":0},null,null,{"$f":"+MARZO!Q87","v":0},null,null,{"$f":"+MARZO!T87","v":0},null,null,{"$f":"+W85+K87-(N87+Q87+T87)","v":0}]
[null,null,"Febrero",null,{"$f":"+MARZO!E88","v":0},null,null,{"$f":"+MARZO!H88","v":0},null,null,0,null,null,{"$f":"+MARZO!N88","v":0},null,null,{"$f":"+MARZO!Q88","v":0},null,null,{"$f":"+MARZO!T88","v":0},null,null,{"$f":"+W87+K88-(N88+Q88+T88)","v":0}]
[null,null,"Marzo",null,{"$f":"+MARZO!E89","v":0},null,null,{"$f":"+MARZO!H89","v":0},null,null,0,null,null,{"$f":"+MARZO!N89","v":0},null,null,{"$f":"+MARZO!Q89","v":0},null,null,{"$f":"+MARZO!T89","v":0},null,null,{"$f":"+W88+K89-(N89+Q89+T89)","v":0}]
[null,null,"Abril",null,0,null,null,0,null,null,0,null,null,0,null,null,0,null,null,0,null,null,{"$f":"+W89+K90-(N90+Q90+T90)","v":0}]
[null,null,"Mayo",null,0,null,null,0,null,null,0,null,null,0,null,null,0,null,null,0,null,null,0]
[null,null,"Junio",null,0,null,null,0,null,null,0,null,null,0,null,null,0,null,null,0,null,null,0]
[null,null,"Julio",null,0,null,null,0,null,null,0,null,null,0,null,null,0,null,null,0,null,null,0]
[null,null,"Agosto",null,0,null,null,0,null,null,0,null,null,0,null,null,0,null,null,0,null,null,0]
[null,null,"Septiembre",null,0,null,null,0,null,null,0,null,null,0,null,null,0,null,null,0,null,null,0]
[null,null,"Octubre",null,0,null,null,0,null,null,0,null,null,0,null,null,0,null,null,0,null,null,0]
[null,null,"Noviembre",null,0,null,null,0,null,null,0,null,null,0,null,null,0,null,null,0,null,null,0]
[null,null,"Diciembre  ",null,0,null,null,0,null,null,0,null,null,0,null,null,0,null,null,0,null,null,0]
[null,null,"TOTAL  ",null,{"$f":"SUM(E87:G98)+E85","v":0},null,null,{"$f":"SUM(H87:J98)+H85","v":0},null,null,{"$f":"SUM(K87:M98)+K85","v":0},null,null,{"$f":"SUM(N87:P98)+N85","v":0},null,null,{"$f":"SUM(Q87:S98)+Q85","v":0},null,null,{"$f":"SUM(T87:V98)+T85","v":0},null,null,{"$f":"+W90","v":0}]
[null,null,"RESUMEN PERIODICO A LA EJECUCIÓN"]
[null,null,"PRESUPUESTO APROBADO",null,null,null,"PRESUPUESTO EJECUTADO",null,null,null,null,"EJECUCION PROYECTADA \nAL PERIODO",null,null,null,null,"AVANCE EJECUCION \nDEL PERIODO",null,null,null,null,"DESVIACIÓN PRESUPUESTAL"]
[null,null,{"$f":"+E74","v":0},null,null,null,{"$f":"+H74","v":0},null,null,null,null,{"$f":"IFERROR((SUMIF(H61:J65,\">=0\",E61:G65))/E74,0)","v":0},null,null,null,null,{"$f":"IFERROR(G102/C102,0)","v":0},null,null,null,null,{"$f":"IFERROR(Q102-L102,0)","v":0}]
[null,null,"OBSERVACIONES EJECUCIÓN PRESUPUESTO: "]
[]
[null,null,"RESUMEN FINANCIERO DEL PERIODO:"]
[null,null,"SALDO DEL PERIODO ANTERIOR ",null,null,null,null,null,null,null,null,null,null,null,null,null,null,null,null,null,{"$f":"+MARZO!U112","v":0}]
[null,null,"TOTAL APORTES GIRADOS EN EL PERIODO",null,null,null,null,null,null,null,null,null,null,null,null,null,null,null,null,null,{"$f":"+Q65","v":0}]
[]
[null,null,"TOTAL APORTES PARA EL PERIODO",null,null,null,null,null,null,null,null,null,null,null,null,null,null,null,null,null,{"$f":"+U107+U106","v":0}]
[null,null,"PAGOS  REALIZADOS POR LA EAS EN EL PERIODO",null,null,null,null,null,null,null,null,null,null,null,null,null,null,null,null,null,{"$f":"+X65","v":0}]
[]
[null,null,"SALDO DE APORTES ICBF PARA EL PERIODO",null,null,null,null,null,null,null,null,null,null,null,null,null,null,null,null,null,{"$f":"+U109-U110","v":0}]
[null,null,"SALDO SEGUN EXTRACTO",null,null,null,null,null,null,null,null,null,null,null,null,null,null,null,null,null,0]
[null,null,"DIFERENCIA SALDO RECURSOS VS SALDO EXTRACTO BANCARIO",null,null,null,null,null,null,null,null,null,null,null,null,null,null,null,null,null,{"$f":"+U113-U112","v":0}]
[null,null,"VALOR CONCILIADO",null,null,null,null,null,null,null,null,null,null,null,null,null,null,null,null,null,0]
[]
[null,null,"VALOR CARGA PRESTACIONAL ACUMULADA",null,null,null,null,null,null,null,null,null,null,null,null,null,null,null,null,null,0]
[null,null,"RENDIMIENTOS FINANCIEROS DEL MES",null,null,null,null,null,null,null,null,null,null,null,null,null,null,null,null,null,0]
[null,null,"RENDIMIENTOS FNANCIEROS ACUMULADOS",null,null,null,null,null,null,null,null,null,null,null,null,null,null,null,null,null,{"$f":"+MARZO!U119+(U118-U120)","v":0}]
[null,null,"RENDIMIENTOS FINANCIEROS CONSIGNADOS",null,null,null,null,null,null,null,null,null,null,null,null,null,null,null,null,null,0]
[null,null,"Banco:",null,{"$f":"+MARZO!E121","v":"SCOTIABANK COLPATRIA SA"},null,null,null,null,null,null,"Tipo de Cuenta:",null,null,{"$f":"+MARZO!O121","v":"Ahorros"},null,null,null,"Nro de Cuenta:",null,null,{"$f":"+MARZO!V121","v":0}]
[null,null,"OBSERVACIONES  CONCILIACIÓN:"]
[]
[null,"4.","Seguimiento al uso de los recursos tasas compensatorias (Aplica Solo para HI)"]
[null,null,"MES",null,null,"PRESUPUESTO TASAS COMPENSATORIAS",null,null,"VALOR T.C RECAUDADA POR EL OPERADOR",null,null," EJECUCIÓN CON RECURSOS TASAS COMPENSATORIAS",null,null,null,null,null,"SALDO TASAS COMPENSATORIAS"]
[]
[null,null,"ENERO",null,null,{"$f":"+MARZO!F127","v":0},null,null,{"$f":"+MARZO!I127","v":0},null,null,{"$f":"+MARZO!L127","v":0},null,null,null,null,null,{"$f":"+I127-L127","v":0}]
[null,null,"FEBRERO",null,null,{"$f":"+MARZO!F128","v":0},null,null,{"$f":"+MARZO!I128","v":0},null,null,{"$f":"+MARZO!L128","v":0},null,null,null,null,null,0]
[null,null,"MARZO",null,null,{"$f":"+MARZO!F129","v":0},null,null,{"$f":"+MARZO!I129","v":0},null,null,{"$f":"+MARZO!L129","v":0},null,null,null,null,null,0]
[null,null,"ABRIL",null,null,{"$f":"+MARZO!F130","v":0},null,null,0,null,null,0,null,null,0,null,null,0]
[null,null,"MAYO",null,null,{"$f":"+MARZO!F131","v":0},null,null,0,null,null,0,null,null,0,null,null,0]
[null,null,"JUNIO",null,null,{"$f":"+MARZO!F132","v":0},null,null,0,null,null,0,null,null,0,null,null,0]
[null,null,"JULIO",null,null,{"$f":"+MARZO!F133","v":0},null,null,0,null,null,0,null,null,0,null,null,0]
[null,null,"AGOSTO",null,null,{"$f":"+MARZO!F134","v":0},null,null,0,null,null,0,null,null,0,null,null,0]
[null,null,"SEPTIEMBRE",null,null,{"$f":"+MARZO!F135","v":0},null,null,0,null,null,0,null,null,0,null,null,0]
[null,null,"OCTUBRE",null,null,{"$f":"+MARZO!F136","v":0},null,null,0,null,null,0,null,null,0,null,null,0]
[null,null,"NOVIEMBRE",null,null,{"$f":"+MARZO!F137","v":0},null,null,0,null,null,0,null,null,0,null,null,0]
[null,null,"DICIEMBRE",null,null,{"$f":"+MARZO!F138","v":0},null,null,0,null,null,0,null,null,0,null,null,0]
[null,null,"Total",null,null,{"$f":"SUM(F127:H138)","v":0},null,null,{"$f":"SUM(I127:K130)","v":0},null,null,{"$f":"SUM(L127:Q130)","v":0},null,null,null,null,null,{"$f":"SUM(R127:Z130)","v":0}]
[null,null,"OBSERVACIONES  RECAUDO TASAS:"]
[]
[null,"Antes de imprimir este documento… piense en el medio ambiente!    \nCualquier copia impresa de este documento se considera como COPIA NO CONTROLADA\nLOS DATOS PROPORCIONADOS SERÁN TRATADOS DE ACUERDO A LA POLÌTICA DE TRATAMIENTO DE DATOS PERSONALES DEL ICBF Y A LA LEY 1581 DE 2012 "]
[null,null,null,null,null,"PROCESO\nPROMOCION Y PREVENCIÓN\n\nFORMATO ACTA LEGALIZACIÓN DE CUENTAS\n",null,null,null,null,null,null,null,null,"F1.A8.MO12.PP",null,null,null,null,null,"2022-02-02"]
[null,null,null,null,null,null,null,null,null,null,null,null,null,null,"Versión 3",null,null,null,null,null,"Página 3 de 3"]
[]
[null,null,null,null,null,null,null,null,null,null,null,null,null,null,"Clasificación de la Información:\nPública"]
[]
[null,"5.","Se Verifica que los valores por inejecuciones corresponde a los siguientes conceptos:"]
[null,null,"CONCEPTO DE DESCUENTO",null,null," Cupos CONTRATADOS",null," Cupos\nATENDIDOS ",null," NO ATENDIDOS ",null,"VALOR DESCUENTO POR INEJECUCIÓN",null,null,"FUENTE DE CONSULTA",null,null,"VALOR DESCUENTO \nTEMPORAL",null,null,"REINTEGRO DEL DESCUENTO TEMPORAL",null,null,"Saldo de Descuentos Temporales"]
[null,null,"BAJA COBERTURA",null,null,{"$f":"+X30","v":0},null,0,null,{"$f":"+F150-H150","v":0},null,0,null,null,"NO APLICA",null,null,0,null,null,0,null,null,{"$f":"+(R150-U150)+MARZO!X150","v":0}]
[null,null,"INASISTENCIA",null,null,null,null,null,null,null,null,0,null,null,"NO APLICA"]
[null,null,"NO PRESTACION DEL SERVICIO",null,null,null,null,null,null,null,null,0,null,null,"NO APLICA"]
[]
[null,null,"CUENTAME",null,null,null,null,null,null,null,null,0,null,null,"NO APLICA"]
[null,null,"TALENTO HUMANO NO CONTRATADO",null,null,null,null,null,null,null,null,0,null,null,"NO APLICA"]
[null,null,"OTRO\n (Se Especifica en Observaciones)",null,null,null,null,null,null,null,null,0,null,null,"NO APLICA"]
[]
[]
[null,null,"TOTAL DESCUENTO",null,null,null,null,null,null,null,null,{"$f":"SUM(L150:N158)","v":0}]
[null,null,"OBSERVACIONES  DESCUENTOS:"]
[]
[null,"6. ","Ejecución Aportes EAS."]
[null,null,"MES",null,null,"PRESUPUESTO",null,null,"EJECUCIÓN",null,null,"SALDO APORTES EAS",null,null,null,null,null,"OBSERVACIONES APOTES EAS"]
[null,null,"ENERO",null,null,{"$f":"+MARZO!F165","v":0},null,null,{"$f":"+MARZO!I165","v":0},null,null,{"$f":"+F164-I164","v":0}]
[null,null,"FEBRERO",null,null,{"$f":"+MARZO!F166","v":0},null,null,{"$f":"+MARZO!I166","v":0},null,null,0]
[null,null,"MARZO",null,null,{"$f":"+MARZO!F167","v":0},null,null,{"$f":"+MARZO!I167","v":0},null,null,0]
[null,null,"ABRIL",null,null,{"$f":"+MARZO!F168","v":0},null,null,0,null,null,0]
[null,null,"MAYO",null,null,{"$f":"+MARZO!F169","v":0},null,null,0,null,null,0]
[null,null,"JUNIO",null,null,{"$f":"+MARZO!F170","v":0},null,null,0,null,null,0]
[null,null,"JULIO",null,null,{"$f":"+MARZO!F171","v":0},null,null,0,null,null,0]
[null,null,"AGOSTO",null,null,{"$f":"+MARZO!F172","v":0},null,null,0,null,null,0]
[null,null,"SEPTIEMBRE",null,null,{"$f":"+MARZO!F173","v":0},null,null,0,null,null,0]
[null,null,"OCTUBRE",null,null,{"$f":"+MARZO!F174","v":0},null,null,0,null,null,0]
[null,null,"NOVIEMBRE",null,null,{"$f":"+MARZO!F175","v":0},null,null,0,null,null,0]
[null,null,"DICIEMBRE",null,null,{"$f":"+MARZO!F176","v":0},null,null,0,null,null,0]
[null,null,"Total",null,null,{"$f":"SUM(F164:H175)","v":0},null,null,{"$f":"SUM(I164:K175)","v":0},null,null,{"$f":"SUM(L164:Q167)","v":0}]
[]
[null,"7. ","Observaciones Generales."]
[]
[]
[]
[]
[]
[]
[]
[null,"8."," Recomendaciones. (Preste la asesoría necesaria para que se superen las dificultades identificadas y se mantengan las fortalezas detectadas)  "]
[]
[]
[]
[]
[]
[]
[]
[null,"9.","Cierre."]
[null,null,"Compromisos / tareas",null,null,null,null,null,null,null,"Responsables",null,null,null,null,null,null,null,null,"Fechas"]
[]
[]
[]
[null,null,"**Las siguientes personas que firman  dan constancia que han revisado y estan de acuerdo con cada uno de los items de la presente acta y que  este ejercicio de legalización de cuentas se ha realizado conforme a los lineamientos, guias de supervisión, manuales operativos y minutas contractuales establecidas por el ICBF."]
[null," ","FIRMA RESPONSABLES ICBF Y ENTIDAD ADMINISTRADORA"]
[null,null,"Nombre",null,null,null,null,"Cargo / Dependencia",null,null,null,null,null,null,"EMAIL",null,null,null,null,null,"Firma"]
[null,null,{"$f":"+G37","v":" "},null,null,null,null,"SUPERVISOR(A) DEL CONTRATO ICBF",null,null,null,null,null,null,"@icbf.gov.co"]
[null,null,{"$f":"+U37","v":" "},null,null,null,null,"APOYO FINANCIERO ICBF",null,null,null,null,null,null,"@icbf.gov.co"]
[null,null,{"$f":"+G40","v":0},null,null,null,null,"REPRESENTANTE LEGAL EAS",null,null,null,null,null,null,{"$f":"+G41","v":0}]
[null,null,{"$f":"+MARZO!C206","v":0},null,null,null,null,{"$f":"+MARZO!H206","v":0},null,null,null,null,null,null,{"$f":"+MARZO!O206","v":0}]
[null,null,{"$f":"+MARZO!C207","v":0},null,null,null,null,{"$f":"+MARZO!H207","v":0},null,null,null,null,null,null,{"$f":"+MARZO!O207","v":0}]
[null,"Antes de imprimir este documento… piense en el medio ambiente!    \nCualquier copia impresa de este documento se considera como COPIA NO CONTROLADA\nLOS DATOS PROPORCIONADOS SERÁN TRATADOS DE ACUERDO A LA POLÌTICA DE TRATAMIENTO DE DATOS PERSONALES DEL ICBF Y A LA LEY 1581 DE 2012 "]
[]
[null,"* Escanear esta Acta debidamente Firmada y colocarla en la ruta especificada por la DPI"]
[]
["RECOMEDACIONES DE USO DE ESTE ARCHIVO:"]
["1. HABILITE MACROS : ARCHIVO > CENTRO DE CONFIANZA> CONFIGURACION DEL CENTRO DE CONFIANZA > CONFIGURACION DE MACROS > HABILITAR TODAS LAS MACROS > CONFIAR EN EL ACCESO AL MODELO DE OBJETO DE PROYECTOS VBA > ACEPTAR"]
["2. DESHABILITE VISTA PROTEGIDA: ARCHIVO> CENTRO DE CONFIANZA> CONFIGURACION DEL CENTRO DE CONFIANZA > VISTA PROTEGIDA> DESMARCAR LAS TRES OPCIONES >ACEPTAR"]
["3. HABILITAR UBICACIONES DE RED: ARCHIVO> CENTRO DE CONFIANZA> CONFIGURACION DEL CENTRO DE CONFIANZA > UBICACIONES DE CONFIANZA > MARCAR PERMITIR UBICACIONES DE CONFIANZA QUE ESTEN EN LA RED > ACEPTAR "]
["4. HABILITAR DOCUMENTOS DE CONFIANZA: ARCHIVO> CENTRO DE CONFIANZA> CONFIGURACION DEL CENTRO DE CONFIANZA > DOCUMENTOS DE CONFIANZA > MARCAR PERMITIR QUE SEAN DE CONFIANZA LOS DOCUMENTOS DE UNA RED"]

{"sheet":"MAYO","index":6,"n_rows":216,"n_cols":25,"rows_kept":216,"cut":false,"hidden":true,"merged":[[52,2,52,15],[52,16,53,25],[53,6,53,7],[53,9,54,13],[54,6,54,7],[54,19,54,23],[42,1,45,1],[50,24,50,25],[51,2,51,5],[51,6,51,8],[51,9,51,11],[51,12,51,13],[51,14,51,15],[51,16,51,17],[51,18,51,19],[51,20,51,21],[51,22,51,23],[51,24,51,25],[50,2,50,5],[50,6,50,8],[50,9,50,11],[50,12,50,13],[50,14,50,15],[50,16,50,17],[50,18,50,19],[50,20,50,21],[50,22,50,23],[48,24,48,25],[49,2,49,5],[49,6,49,8],[49,9,49,11],[49,12,49,13],[49,14,49,15],[49,16,49,17],[49,18,49,19],[49,20,49,21],[49,22,49,23],[49,24,49,25],[48,2,48,5],[48,6,48,8],[48,9,48,11],[48,12,48,13],[48,14,48,15],[48,16,48,17],[48,18,48,19],[48,20,48,21],[48,22,48,23],[46,2,47,5],[46,6,47,8],[46,9,47,11],[46,12,46,15],[46,16,46,19],[46,20,46,25],[47,12,47,13],[47,14,47,15],[47,16,47,17],[47,18,47,19],[47,20,47,21],[47,22,47,23],[47,24,47,25],[6,18,6,22],[6,23,6,26],[45,2,45,5],[45,6,45,15],[106,1,115,1],[106,2,107,19],[106,20,107,25],[109,2,110,19],[109,20,110,25],[114,2,115,19],[114,20,115,25],[83,2,83,3],[83,22,83,25],[85,2,85,3],[85,22,85,25],[83,4,83,6],[83,7,83,9],[83,10,83,12],[83,13,83,15],[83,16,83,18],[83,19,83,21],[85,4,85,6],[85,7,85,9],[85,10,85,12],[85,16,85,18],[130,8,130,10],[129,11,129,16],[130,11,130,16],[131,11,131,16],[132,11,132,16],[108,2,108,19],[108,20,108,25],[111,2,111,19],[111,20,111,25],[116,2,116,19],[116,20,116,25],[121,2,121,25],[120,2,120,3],[120,4,120,10],[120,11,120,13],[120,14,120,17],[120,18,120,20],[120,21,120,25],[117,2,117,19],[117,20,117,25],[118,2,118,19],[118,20,118,25],[85,19,85,21],[149,14,149,16],[139,2,139,25],[140,2,140,25],[135,2,135,4],[135,5,135,7],[135,8,135,10],[136,2,136,4],[136,5,136,7],[136,8,136,10],[137,2,137,4],[148,23,148,25],[135,17,135,25],[136,17,136,25],[137,17,137,25],[138,17,138,25],[137,5,137,7],[137,8,137,10],[148,5,148,6],[148,7,148,8],[148,9,148,10],[141,1,141,26],[142,1,146,4],[142,5,146,13],[142,14,142,19],[154,11,154,13],[154,14,154,16],[155,11,157,13],[155,14,157,16],[158,14,158,25],[175,11,175,16],[167,8,167,10],[167,11,167,16],[149,17,157,19],[149,20,157,22],[150,2,150,10],[151,11,152,13],[151,14,152,16],[167,5,167,7],[164,5,164,7],[164,8,164,10],[167,2,167,4],[168,11,168,16],[169,2,169,4],[173,11,173,16],[174,2,174,4],[174,5,174,7],[174,8,174,10],[150,14,150,16],[197,2,197,9],[132,5,132,7],[132,8,132,10],[169,5,169,7],[169,8,169,10],[169,11,169,16],[170,2,170,4],[170,5,170,7],[170,8,170,10],[170,11,170,16],[164,11,164,16],[165,2,165,4],[165,5,165,7],[165,8,165,10],[165,11,165,16],[166,2,166,4],[166,5,166,7],[166,8,166,10],[166,11,166,16],[164,2,164,4],[175,2,175,4],[175,5,175,7],[175,8,175,10],[168,2,168,4],[200,2,200,25],[206,2,206,6],[206,7,206,13],[206,14,206,19],[178,2,178,25],[179,2,185,25],[186,2,186,25],[187,2,193,25],[194,2,194,25],[195,2,195,9],[195,10,195,18],[195,19,195,25],[196,2,196,9],[196,10,196,18],[196,19,196,25],[206,20,206,25],[201,2,201,6],[201,7,201,13],[201,14,201,19],[201,20,201,25],[202,2,202,6],[202,7,202,13],[202,14,202,19],[202,20,202,25],[210,1,210,27],[124,2,124,4],[124,5,124,7],[124,8,124,10],[125,2,125,4],[125,5,125,7],[125,8,125,10],[126,2,126,4],[126,5,126,7],[126,8,126,10],[203,2,203,6],[203,7,203,13],[203,14,203,19],[203,20,203,25],[204,2,204,6],[204,7,204,13],[204,14,204,19],[204,20,204,25],[205,2,205,6],[205,7,205,13],[205,14,205,19],[173,5,173,7],[173,8,173,10],[205,20,205,25],[174,11,174,16],[171,2,171,4],[171,5,171,7],[171,8,171,10],[171,11,171,16],[172,2,172,4],[172,5,172,7],[172,8,172,10],[172,11,172,16],[197,10,197,18],[197,19,197,25],[198,2,198,9],[198,10,198,18],[198,19,198,25],[199,2,199,25],[149,2,149,4],[149,5,149,6],[149,7,149,8],[149,9,149,10],[149,11,149,13],[149,23,157,25],[150,11,150,13],[158,2,158,10],[158,11,158,13],[159,2,159,25],[160,2,160,25],[176,2,176,4],[176,5,176,7],[176,8,176,10],[176,11,176,16],[176,17,176,25],[163,17,175,25],[173,2,173,4],[84,10,84,12],[84,13,84,15],[84,16,84,18],[84,19,84,21],[84,22,84,25],[64,23,64,25],[65,2,65,3],[65,23,65,25],[72,23,72,25],[73,2,73,3],[73,23,73,25],[80,2,80,25],[81,2,81,25],[82,2,82,25],[64,19,64,22],[65,4,65,6],[65,7,65,9],[65,10,65,12],[65,13,65,15],[65,16,65,18],[65,19,65,22],[64,4,64,6],[66,2,66,3],[66,23,66,25],[85,13,85,15],[64,7,64,9],[64,10,64,12],[64,13,64,15],[64,16,64,18],[69,2,69,3],[69,23,69,25],[66,19,66,22],[0,1,5,4],[8,1,8,8],[8,9,8,26],[55,2,55,25],[56,2,56,25],[57,2,57,25],[58,2,58,25],[59,2,59,3],[59,23,59,25],[60,2,60,3],[60,23,60,25],[61,2,61,3],[61,23,61,25],[62,2,62,3],[62,23,62,25],[63,2,63,3],[63,23,63,25],[64,2,64,3],[9,1,9,8],[9,9,9,26],[10,1,10,8],[10,9,10,26],[6,1,6,15],[6,16,6,17],[7,1,7,6],[7,7,7,12],[7,13,7,19],[7,20,7,26],[16,2,16,26],[17,2,17,26],[18,2,18,26],[19,2,19,26],[20,2,20,26],[21,2,21,26],[11,1,11,8],[11,9,11,26],[12,1,12,8],[12,9,12,26],[14,2,14,26],[15,2,15,26],[29,23,29,25],[30,2,30,6],[30,7,30,11],[30,12,30,16],[30,17,30,21],[30,22,30,25],[22,2,22,26],[27,2,27,25],[28,4,28,7],[28,8,28,10],[28,11,28,18],[28,19,28,21],[28,22,28,25],[29,2,29,4],[29,5,29,7],[29,8,29,10],[29,11,29,13],[29,14,29,15],[29,16,29,18],[29,19,29,22],[28,2,28,3],[31,2,31,6],[31,7,31,11],[31,12,31,16],[31,17,31,21],[31,22,31,25],[32,2,32,6],[32,7,32,11],[32,12,32,16],[32,17,32,21],[32,22,32,25],[33,2,33,6],[33,7,33,11],[33,12,33,16],[33,17,33,21],[33,22,33,25],[34,2,34,6],[34,7,34,11],[34,12,34,16],[34,17,34,21],[34,22,34,25],[35,2,35,6],[35,7,35,11],[35,12,35,16],[35,17,35,21],[35,22,35,25],[36,2,36,5],[36,6,36,15],[36,16,36,19],[36,20,36,25],[39,2,39,5],[39,6,39,15],[39,16,39,19],[39,20,39,25],[40,2,40,5],[40,6,40,15],[40,16,40,19],[40,20,40,25],[37,20,37,25],[38,2,38,5],[38,6,38,9],[38,12,38,15],[38,16,38,19],[38,20,38,25],[37,2,37,5],[37,6,37,7],[37,8,37,10],[37,11,37,12],[37,13,37,15],[37,16,37,19],[44,2,44,5],[44,6,44,15],[44,16,44,19],[44,20,44,25],[41,2,41,5],[41,6,41,15],[41,16,41,19],[41,20,41,25],[42,2,42,5],[42,6,42,15],[42,16,42,19],[42,20,42,25],[43,2,43,5],[67,2,67,3],[67,23,67,25],[68,19,68,22],[69,4,69,6],[69,7,69,9],[69,10,69,12],[69,13,69,15],[69,16,69,18],[69,19,69,22],[68,4,68,6],[68,7,68,9],[68,10,68,12],[68,13,68,15],[68,16,68,18],[68,2,68,3],[68,23,68,25],[67,4,67,6],[67,7,67,9],[67,10,67,12],[67,13,67,15],[67,16,67,18],[67,19,67,22],[70,2,70,3],[70,23,70,25],[71,2,71,3],[71,23,71,25],[72,19,72,22],[73,4,73,6],[73,7,73,9],[73,10,73,12],[73,13,73,15],[73,16,73,18],[73,19,73,22],[72,4,72,6],[72,7,72,9],[72,10,72,12],[72,13,72,15],[72,16,72,18],[72,2,72,3],[70,19,70,22],[71,4,71,6],[71,7,71,9],[71,10,71,12],[71,13,71,15],[71,16,71,18],[70,7,70,9],[86,19,86,21],[86,2,86,3],[86,22,86,25],[87,4,87,6],[87,7,87,9],[87,10,87,12],[87,13,87,15],[87,16,87,18],[87,19,87,21],[86,4,86,6],[86,7,86,9],[86,10,86,12],[86,13,86,15],[86,16,86,18],[87,2,87,3],[87,22,87,25],[88,22,88,25],[89,2,89,3],[89,22,89,25],[90,19,90,21],[91,4,91,6],[91,7,91,9],[91,10,91,12],[91,13,91,15],[91,16,91,18],[91,19,91,21],[90,4,90,6],[90,7,90,9],[90,10,90,12],[90,13,90,15],[90,16,90,18],[90,2,90,3],[90,22,90,25],[91,2,91,3],[91,22,91,25],[88,19,88,21],[89,4,89,6],[89,7,89,9],[89,10,89,12],[89,13,89,15],[93,16,93,18],[93,19,93,21],[92,4,92,6],[92,7,92,9],[92,10,92,12],[92,13,92,15],[92,16,92,18],[88,2,88,3],[89,16,89,18],[89,19,89,21],[88,4,88,6],[88,7,88,9],[88,10,88,12],[88,13,88,15],[88,16,88,18],[92,2,92,3],[92,22,92,25],[93,2,93,3],[93,22,93,25],[94,19,94,21],[95,4,95,6],[95,7,95,9],[95,10,95,12],[95,13,95,15],[95,16,95,18],[95,19,95,21],[94,4,94,6],[94,7,94,9],[94,10,94,12],[94,13,94,15],[94,16,94,18],[94,2,94,3],[94,22,94,25],[95,2,95,3],[95,22,95,25],[92,19,92,21],[93,4,93,6],[93,7,93,9],[93,10,93,12],[93,13,93,15],[98,2,98,3],[98,22,98,25],[99,2,99,25],[100,2,100,5],[100,21,100,25],[97,19,97,21],[96,4,96,6],[96,7,96,9],[96,10,96,12],[96,13,96,15],[96,16,96,18],[102,2,102,25],[103,2,103,25],[104,2,104,25],[105,2,105,19],[105,20,105,25],[126,11,126,16],[127,11,127,16],[128,11,128,16],[124,11,124,16],[125,11,125,16],[124,17,124,25],[125,17,125,25],[112,2,112,19],[122,2,122,25],[123,2,123,25],[126,17,126,25],[127,17,127,25],[128,17,128,25],[119,2,119,19],[119,20,119,25],[127,8,127,10],[101,6,101,10],[101,11,101,15],[101,16,101,20],[101,2,101,5],[96,19,96,21],[97,4,97,6],[97,7,97,9],[97,10,97,12],[97,13,97,15],[97,16,97,18],[101,21,101,25],[96,2,96,3],[96,22,96,25],[97,2,97,3],[97,22,97,25],[98,19,98,21],[100,6,100,10],[100,11,100,15],[100,16,100,20],[98,4,98,6],[98,7,98,9],[98,10,98,12],[98,13,98,15],[98,16,98,18],[63,19,63,22],[62,4,62,6],[62,7,62,9],[62,10,62,12],[62,13,62,15],[62,16,62,18],[59,4,59,6],[59,7,59,9],[43,6,43,15],[43,16,43,19],[59,10,59,12],[59,13,59,15],[61,4,61,6],[61,7,61,9],[61,10,61,12],[61,13,61,15],[61,16,61,18],[61,19,61,22],[60,4,60,6],[60,7,60,9],[60,10,60,12],[60,13,60,15],[60,16,60,18],[43,20,43,25],[70,10,70,12],[70,13,70,15],[70,16,70,18],[66,4,66,6],[66,7,66,9],[66,10,66,12],[66,13,66,15],[63,10,63,12],[63,13,63,15],[63,16,63,18],[168,5,168,7],[168,8,168,10],[112,20,112,25],[113,2,113,19],[113,20,113,25],[161,2,161,25],[162,2,162,4],[162,5,162,7],[162,8,162,10],[162,11,162,16],[162,17,162,25],[163,2,163,4],[163,5,163,7],[163,8,163,10],[163,11,163,16],[147,2,147,25],[153,11,153,13],[153,14,153,16],[151,2,152,10],[153,2,153,10],[148,20,148,22],[148,2,148,4],[127,2,127,4],[127,5,127,7],[0,14,1,19],[0,20,1,26],[2,14,3,19],[2,20,3,26],[4,14,5,26],[76,14,77,19],[76,20,77,26],[66,16,66,18],[62,19,62,22],[59,16,59,18],[59,19,59,22],[60,19,60,22],[45,16,45,19],[45,20,45,25],[74,1,74,26],[75,1,79,4],[75,5,79,13],[75,14,75,19],[75,20,75,26],[63,4,63,6],[63,7,63,9],[0,5,5,13],[71,19,71,22],[70,4,70,6],[142,20,142,26],[131,2,131,4],[131,5,131,7],[131,8,131,10],[129,17,129,25],[128,2,128,4],[128,5,128,7],[128,8,128,10],[133,2,133,4],[133,5,133,7],[133,8,133,10],[134,2,134,4],[134,5,134,7],[134,8,134,10],[132,2,132,4],[138,2,138,4],[138,5,138,7],[138,8,138,10],[133,11,133,16],[134,11,134,16],[135,11,135,16],[136,11,136,16],[137,11,137,16],[138,11,138,16],[84,2,84,3],[84,4,84,6],[84,7,84,9],[207,1,207,26],[209,1,209,24],[78,14,79,26],[143,14,144,19],[143,20,144,26],[145,14,146,26],[148,11,148,13],[148,14,148,16],[148,17,148,19],[154,2,154,10],[155,2,157,10],[129,2,129,4],[129,5,129,7],[129,8,129,10],[130,2,130,4],[130,17,130,25],[131,17,131,25],[132,17,132,25],[130,5,130,7],[133,17,133,25],[134,17,134,25]]}
[null,null,null,null,null,"PROCESO\nPROMOCION Y PREVENCIÓN\n\nFORMATO ACTA LEGALIZACIÓN DE CUENTAS\n",null,null,null,null,null,null,null,null,"F1.A8.MO12.PP",null,null,null,null,null,"2022-02-02"]
[]
[null,null,null,null,null,null,null,null,null,null,null,null,null,null,"Versión 3",null,null,null,null,null,"Página 1 de 3"]
[]
[null,null,null,null,null,null,null,null,null,null,null,null,null,null,"Clasificación de la Información:\nPública"]
[]
[null,"ACTA DE LEGALIZACIÓN N°",null,null,null,null,null,null,null,null,null,null,null,null,null,null,5,null,"ESTADO DEL CONTRATO:",null,null,null,null,{"$f":"+ABRIL!X7","v":"VIGENTE"}]
[null,"Fecha y Hora Inicio:",null,null,null,null,null,"2019-01-01T15:00:00",null,null,null,null,null,"Fecha y Hora Fin:  ",null,null,null,null,null,null,"2019-01-01T15:00:00"]
[null,"Lugar:",null,null,null,null,null,null,null,{"$f":"+ABRIL!J9","v":"Regional_Amazonas"}]
[null,"Dependencia que Convoca:",null,null,null,null,null,null,null,{"$f":"+ABRIL!J10","v":"Primera Infancia - Grupo de Atención en Ciclos de Vida y Nutrición "}]
[null,"Proceso:",null,null,null,null,null,null,null,{"$f":"+ABRIL!J11","v":"Promoción y Prevención "}]
[null,"Objetivo:",null,null,null,null,null,null,null,{"$f":"+ABRIL!J12","v":"Recepción, revisión, el análisis y  Legalización de los Gastos e Ingresos del Informe Financiero presentado por la entidad administradora (EAS)"}]
[null,"Nombre EAS:",null,null,null,null,null,null,null,{"$f":"+ABRIL!J13","v":"ASOCIACION DE HOGARES"}]
[null,"Agenda: "]
[null,"1.","Desarrollo."]
[null,"2.","Información general del contrato."]
[null,"3.","Informe  de ejecución Presupuestal y  financiera requerido con los debidos soporte."]
[null,"4.","Seguimiento al Uso de Tasas Compensatorias (Aplica Solo para HI)."]
[null,"5.","Detalle de Inejecuciones."]
[null,"6.","Ejecución Contrapartida."]
[null,"7.","Situación Encontrada."]
[null,"8.","Recomendaciones."]
[null,"9.","Cierre."]
[null,"         Desarrollo: "]
[null,"1.","Se da inicio a la legalización de los informes financieros Presentados por la EAS con el fin de verificar la correcta Ejecución del presupuesto aprobado dentro de los "]
[null,null,"lineamientos, guias de supervision, manuales operativos y minutas que corresponden."]
[null,"2.","A continuaciòn en el presente cuadro  se relaciona la información general del contrato."]
[null,null,"Información general del contrato."]
[null,null,"Regional:",null,{"$f":"+J9","v":"Regional_Amazonas"},null,null,null,"Centro Zonal:",null,null,{"$f":"+ABRIL!L29","v":"CZ_LETICIA"},null,null,null,null,null,null,null,"N° de Contrato\n o Convenio",null,null,{"$f":"+ABRIL!W29","v":0}]
[null,null,"N° CDP ",null,null,{"$f":"+ABRIL!F30","v":0},null,null,"N° RP",null,null,{"$f":"+ABRIL!L30","v":0},null,null,"FECHA \nACTA INICIO",null,{"$f":"+ABRIL!Q30","v":"00:00:00"},null,null,"Cupos Contratados:",null,null,null,{"$f":"+W36+R36+M36+H36+C36","v":0}]
[null,null," Modalidad 1:",null,null,null,null,"Modalidad 2:",null,null,null,null,"Modalidad 3:",null,null,null,null,"Modalidad 4:",null,null,null,null,"Modalidad 5:"]
[null,null,{"$f":"+ABRIL!C32","v":"NO_APLICA"},null,null,null,null,{"$f":"+ABRIL!H32","v":"NO_APLICA"},null,null,null,null,{"$f":"+ABRIL!M32","v":"NO_APLICA"},null,null,null,null,{"$f":"+ABRIL!R32","v":"NO_APLICA"},null,null,null,null,{"$f":"+ABRIL!W32","v":"NO_APLICA"}]
[null,null,"SERVICIO 1:",null,null,null,null,"SERVICIO 2:",null,null,null,null,"SERVICIO 3:",null,null,null,null,"SERVICIO 4:",null,null,null,null,"SERVICIO 5:"]
[null,null,{"$f":"+ABRIL!C34","v":"NO APLICA"},null,null,null,null,{"$f":"+ABRIL!H34","v":"NO APLICA"},null,null,null,null,{"$f":"+ABRIL!M34","v":"NO APLICA"},null,null,null,null,{"$f":"+ABRIL!R34","v":"NO APLICA"},null,null,null,null,{"$f":"+ABRIL!W34","v":"NO APLICA"}]
[null,null,"CUPOS CONTRATADO 1:",null,null,null,null,"CUPOS CONTRATADO 2:",null,null,null,null,"CUPOS CONTRATADO 3:",null,null,null,null,"CUPOS CONTRATADO 4:",null,null,null,null,"CUPOS CONTRATADO 5:"]
[null,null,{"$f":"+ABRIL!C36","v":0},null,null,null,null,{"$f":"+ABRIL!H36","v":0},null,null,null,null,{"$f":"+ABRIL!M36","v":0},null,null,null,null,{"$f":"+ABRIL!R36","v":0},null,null,null,null,{"$f":"+ABRIL!W36","v":0}]
[null,null,"Nombre Supervisor CTO:",null,null,null,{"$f":"+ABRIL!G37","v":" "},null,null,null,null,null,null,null,null,null,"Apoyo Financiero ICBF:",null,null,null,{"$f":"+ABRIL!U37","v":" "}]
[null,null,"Plazo de ejecución CTO:",null,null,null,"Desde:",null,{"$f":"+ABRIL!I38","v":"00:00:00"},null,null,"Hasta:",null,{"$f":"+ABRIL!N38","v":"00:00:00"},null,null,"Fecha aprob. póliza:",null,null,null,{"$f":"+ABRIL!U38","v":" "}]
[null,null,"Póliza N° 1 del CTO",null,null,null,{"$f":"+ABRIL!G39","v":0},null,null,null,"Poliza N° 2",null,{"$f":"+ABRIL!M39","v":0},null,null,null,"Nombre Ent. Aseguradora",null,null,null,{"$f":"+ABRIL!U39","v":" "}]
[null,null,"Representante Legal:",null,null,null,{"$f":"+ABRIL!G40","v":0},null,null,null,null,null,null,null,null,null,"Cédula RL: ",null,null,null,{"$f":"+ABRIL!U40","v":" "}]
[null,null,"Email Representante L.",null,null,null,{"$f":"+ABRIL!G41","v":0},null,null,null,null,null,null,null,null,null,"NIT EAS:",null,null,null,{"$f":"+ABRIL!U41","v":" "}]
[null,null,"Telefono o Cel R.L",null,null,null,{"$f":"+ABRIL!G42","v":0},null,null,null,null,null,null,null,null,null,"Fecha Vencimiento R. L:",null,null,null,{"$f":"+ABRIL!U42","v":" "}]
[null,"VIGENCIA ACTUAL","Valor Inicial del CTO: \n(Aporte ICBF)",null,null,null,{"$f":"+ABRIL!G43","v":0},null,null,null,null,null,null,null,null,null,"Valor Aportes EAS:",null,null,null,{"$f":"+ABRIL!U43","v":0}]
[null,null,"Adiciones al CTO:",null,null,null,{"$f":"+ABRIL!G44","v":0},null,null,null,null,null,null,null,null,null,"Adiciones Aportes EAS:",null,null,null,{"$f":"+ABRIL!U44","v":0}]
[null,null,"Reducciones al CTO",null,null,null,{"$f":"+ABRIL!G45","v":0},null,null,null,null,null,null,null,null,null,"Total Aportes EAS:",null,null,null,{"$f":"+U44+U43","v":0}]
[null,null,"VALOR APORTE ICBF",null,null,null,{"$f":"+(G43+G44)-G45","v":0},null,null,null,null,null,null,null,null,null,"Valor Actual del CTO:",null,null,null,{"$f":"+G43+U43+G44+U44-G45","v":0}]
[null,null,"VIGENCIA",null,null,null,"APORTE ICBF",null,null,"APORTE EAS",null,null,"Adiciones al contrato",null,null,null,"Reducciones al contrato",null,null,null,"Valor final del contrato"]
[null,null,null,null,null,null,null,null,null,null,null,null,"ICBF",null,"EAS",null,"ICBF",null,"EAS",null,"ICBF",null,"EAS",null,"TOTAL"]
[null,null,{"$f":"+ABRIL!C49","v":2020},null,null,null,{"$f":"+ABRIL!G49","v":0},null,null,{"$f":"+ABRIL!J49","v":0},null,null,{"$f":"+ABRIL!M49","v":0},null,{"$f":"+ABRIL!O49","v":0},null,{"$f":"+ABRIL!Q49","v":0},null,{"$f":"+ABRIL!S49","v":0},null,{"$f":"+G49+M49-Q49","v":0},null,{"$f":"+J49+O49-S49","v":0},null,{"$f":"+U49+W49","v":0}]
[null,null,{"$f":"+ABRIL!C50","v":2021},null,null,null,{"$f":"+ABRIL!G50","v":0},null,null,{"$f":"+ABRIL!J50","v":0},null,null,{"$f":"+ABRIL!M50","v":0},null,{"$f":"+ABRIL!O50","v":0},null,{"$f":"+ABRIL!Q50","v":0},null,{"$f":"+ABRIL!S50","v":0},null,{"$f":"+G50+M50-Q50","v":0},null,{"$f":"+J50+O50-S50","v":0},null,{"$f":"+U50+W50","v":0}]
[null,null,{"$f":"+ABRIL!C51","v":2022},null,null,null,{"$f":"+ABRIL!G51","v":0},null,null,{"$f":"+ABRIL!J51","v":0},null,null,{"$f":"+ABRIL!M51","v":0},null,{"$f":"+ABRIL!O51","v":0},null,{"$f":"+ABRIL!Q51","v":0},null,{"$f":"+ABRIL!S51","v":0},null,0,null,0,null,0]
[null,null,"TOTAL",null,null,null,{"$f":"SUM(G49:I51)","v":0},null,null,{"$f":"SUM(J49:L51)","v":0},null,null,{"$f":"SUM(M49:N51)","v":0},null,{"$f":"SUM(O49:P51)","v":0},null,{"$f":"SUM(Q49:R51)","v":0},null,{"$f":"SUM(S49:T51)","v":0},null,{"$f":"SUM(U49:V51)","v":0},null,{"$f":"SUM(W49:X51)","v":0},null,{"$f":"+Y51+Y50+Y49","v":0}]
[null,null,"La entidad presenta informe financiero mensual ante el ICBF como sigue:",null,null,null,null,null,null,null,null,null,null,null,null,null,"Presenta los documentos soportes que acompañan el informe financiero y se entrega al ICBF copia de los mismos en medio:"]
[null,null,"Mes a legalizar:",null,null,null,"MAYO",null,null,"¿Los documentos aportados permiten realizar la legalización del informe financiero?    ",null,null,null,null,"SI","X"]
[null,null,"Fecha radicación EAS:",null,null,null,"2022-05-10",null,null,null,null,null,null,null,"NO",null,null,null,null,"DIGITAL Y FISICO"]
[null,null,"OBSERVACIONES INFORMACIÓN GENERAL:"]
[]
[null,"3. ","Se verifica  la ejecución de los recursos del contrato de acuerdo a los Informes Financieros presentados por la entidad:"]
[null,null,"SEGUIMIENTO PRESUPUESTAL  Y FINANCIERO DEL CONTRATO"]
[null,null,"MES",null,"PRESUPUESTO APROBADO + REPROGRAMACIONES \n(Aportes ICBF)",null,null,"EJECUCIÓN",null,null,"SALDO SIN EJECUTAR",null,null,"PROGRAMACIÓN DESEMBOLSOS",null,null,"DESEMBOLSOS GIRADOS",null,null,"DIFERENCIA PROGRAMADO VS PAGADO",null,null,null,"PAGOS REAL. EN EL MES"]
[]
[null,null,"Enero",null,{"$f":"+ABRIL!E62","v":0},null,null,{"$f":"+ABRIL!H62","v":0},null,null,{"$f":"+E62-H62","v":0},null,null,{"$f":"+ABRIL!N62","v":0},null,null,{"$f":"+ABRIL!Q62","v":0},null,null,{"$f":"+N62-Q62","v":0},null,null,null,{"$f":"+ABRIL!X62","v":0}]
[null,null,"Febrero",null,{"$f":"+ABRIL!E63","v":0},null,null,{"$f":"+ABRIL!H63","v":0},null,null,0,null,null,{"$f":"+ABRIL!N63","v":0},null,null,{"$f":"+ABRIL!Q63","v":0},null,null,0,null,null,null,{"$f":"+ABRIL!X63","v":0}]
[null,null,"Marzo",null,{"$f":"+ABRIL!E64","v":0},null,null,{"$f":"+ABRIL!H64","v":0},null,null,0,null,null,{"$f":"+ABRIL!N64","v":0},null,null,{"$f":"+ABRIL!Q64","v":0},null,null,0,null,null,null,{"$f":"+ABRIL!X64","v":0}]
[null,null,"Abril",null,{"$f":"+ABRIL!E65","v":0},null,null,{"$f":"+ABRIL!H65","v":0},null,null,0,null,null,{"$f":"+ABRIL!N65","v":0},null,null,{"$f":"+ABRIL!Q65","v":0},null,null,0,null,null,null,{"$f":"+ABRIL!X65","v":0}]
[null,null,"Mayo",null,{"$f":"+ABRIL!E66","v":0},null,null,0,null,null,0,null,null,{"$f":"+ABRIL!N66","v":0},null,null,0,null,null,0,null,null,null,0]
[null,null,"Junio",null,{"$f":"+ABRIL!E67","v":0},null,null,0,null,null,0,null,null,{"$f":"+ABRIL!N67","v":0},null,null,0,null,null,0,null,null,null,0]
[null,null,"Julio",null,{"$f":"+ABRIL!E68","v":0},null,null,0,null,null,0,null,null,{"$f":"+ABRIL!N68","v":0},null,null,0,null,null,0,null,null,null,0]
[null,null,"Agosto",null,{"$f":"+ABRIL!E69","v":0},null,null,0,null,null,0,null,null,{"$f":"+ABRIL!N69","v":0},null,null,0,null,null,0,null,null,null,0]
[null,null,"Septiembre",null,{"$f":"+ABRIL!E70","v":0},null,null,0,null,null,0,null,null,{"$f":"+ABRIL!N70","v":0},null,null,0,null,null,0,null,null,null,0]
[null,null,"Octubre",null,{"$f":"+ABRIL!E71","v":0},null,null,0,null,null,0,null,null,{"$f":"+ABRIL!N71","v":0},null,null,0,null,null,0,null,null,null,0]
[null,null,"Noviembre",null,{"$f":"+ABRIL!E72","v":0},null,null,0,null,null,0,null,null,{"$f":"+ABRIL!N72","v":0},null,null,0,null,null,0,null,null,null,0]
[null,null,"Diciembre  ",null,{"$f":"+ABRIL!E73","v":0},null,null,0,null,null,0,null,null,{"$f":"+ABRIL!N73","v":0},null,null,0,null,null,0,null,null,null,0]
[null,null,"TOTAL  ",null,{"$f":"SUM(E62:G73)","v":0},null,null,{"$f":"SUM(H62:J73)","v":0},null,null,{"$f":"SUM(K62:M73)","v":0},null,null,{"$f":"SUM(N62:P73)","v":0},null,null,{"$f":"SUM(Q62:S73)","v":0},null,null,{"$f":"SUM(T62:W73)","v":0},null,null,null,{"$f":"SUM(X62:Z73)","v":0}]
[null,"Antes de imprimir este documento… piense en el medio ambiente!    \nCualquier copia impresa de este documento se considera como COPIA NO CONTROLADA\nLOS DATOS PROPORCIONADOS SERÁN TRATADOS DE ACUERDO A LA POLÌTICA DE TRATAMIENTO DE DATOS PERSONALES DEL ICBF Y A LA LEY 1581 DE 2012 "]
[null,null,null,null,null,"PROCESO\nPROMOCION Y PREVENCIÓN\n\nFORMATO ACTA LEGALIZACIÓN DE CUENTAS\n",null,null,null,null,null,null,null,null,"F1.A8.MO12.PP",null,null,null,null,null,"2022-02-02"]
[null,null,null,null,null,null,null,null,null,null,null,null,null,null,"Versión 3",null,null,null,null,null,"Página 2 de 3"]
[]
[null,null,null,null,null,null,null,null,null,null,null,null,null,null,"Clasificación de la Información:\nPública"]
[]
[null,null,"OBSERVACIONES SEGUIMIENTO PRESUPUESTAL  Y FINANCIERO DEL CONTRATO: "]
[]
[null,null,"SEGUIMIENTO A INEJECUCIONES Y LIBERACIONES"]
[null,null,"MES",null,"AHORROS",null,null,"INEJECUCIONES",null,null,"SEGUIMIENTO DE INEJECUCIONES",null,null,"REDISTRIBUCIÓN DE \nAHORROS",null,null,"REINVERSIÓN DE \nINEJECUCIONES",null,null,"LIBERACIONES/REINTEGROS T.N \n(Tramitadas)",null,null,"LIBERACIONES PENDIENTES POR  REALIZAR"]
[null,null,"Inejecución\n inicial",null,{"$f":"+ABRIL!E85","v":0},null,null,{"$f":"+ABRIL!H85","v":0},null,null,{"$f":"+G46-E74","v":0},null,null,{"$f":"+ABRIL!N85","v":0},null,null,{"$f":"+ABRIL!Q85","v":0},null,null,{"$f":"+ABRIL!T85","v":0},null,null,{"$f":"IFERROR(+K85,0)","v":0}]
[]
[null,null,"Enero",null,{"$f":"+ABRIL!E87","v":0},null,null,{"$f":"+ABRIL!H87","v":0},null,null,{"$f":"+E87+H87","v":0},null,null,{"$f":"+ABRIL!N87","v":0},null,null,{"$f":"+ABRIL!Q87","v":0},null,null,{"$f":"+ABRIL!T87","v":0},null,null,{"$f":"+W85+K87-(N87+Q87+T87)","v":0}]
[null,null,"Febrero",null,{"$f":"+ABRIL!E88","v":0},null,null,{"$f":"+ABRIL!H88","v":0},null,null,0,null,null,{"$f":"+ABRIL!N88","v":0},null,null,{"$f":"+ABRIL!Q88","v":0},null,null,{"$f":"+ABRIL!T88","v":0},null,null,{"$f":"+W87+K88-(N88+Q88+T88)","v":0}]
[null,null,"Marzo",null,{"$f":"+ABRIL!E89","v":0},null,null,{"$f":"+ABRIL!H89","v":0},null,null,0,null,null,{"$f":"+ABRIL!N89","v":0},null,null,{"$f":"+ABRIL!Q89","v":0},null,null,{"$f":"+ABRIL!T89","v":0},null,null,0]
[null,null,"Abril",null,{"$f":"+ABRIL!E90","v":0},null,null,{"$f":"+ABRIL!H90","v":0},null,null,0,null,null,{"$f":"+ABRIL!N90","v":0},null,null,{"$f":"+ABRIL!Q90","v":0},null,null,{"$f":"+ABRIL!T90","v":0},null,null,0]
[null,null,"Mayo",null,0,null,null,0,null,null,0,null,null,0,null,null,0,null,null,0,null,null,0]
[null,null,"Junio",null,0,null,null,0,null,null,0,null,null,0,null,null,0,null,null,0,null,null,0]
[null,null,"Julio",null,0,null,null,0,null,null,0,null,null,0,null,null,0,null,null,0,null,null,0]
[null,null,"Agosto",null,0,null,null,0,null,null,0,null,null,0,null,null,0,null,null,0,null,null,0]
[null,null,"Septiembre",null,0,null,null,0,null,null,0,null,null,0,null,null,0,null,null,0,null,null,0]
[null,null,"Octubre",null,0,null,null,0,null,null,0,null,null,0,null,null,0,null,null,0,null,null,0]
[null,null,"Noviembre",null,0,null,null,0,null,null,0,null,null,0,null,null,0,null,null,0,null,null,0]
[null,null,"Diciembre  ",null,0,null,null,0,null,null,0,null,null,0,null,null,0,null,null,0,null,null,0]
[null,null,"TOTAL  ",null,{"$f":"SUM(E87:G98)+E85","v":0},null,null,{"$f":"SUM(H87:J98)+H85","v":0},null,null,{"$f":"SUM(K87:M98)+K85","v":0},null,null,{"$f":"SUM(N87:P98)+N85","v":0},null,null,{"$f":"SUM(Q87:S98)+Q85","v":0},null,null,{"$f":"SUM(T87:V98)+T85","v":0},null,null,{"$f":"+W91","v":0}]
[null,null,"RESUMEN PERIODICO A LA EJECUCIÓN"]
[null,null,"PRESUPUESTO APROBADO",null,null,null,"PRESUPUESTO EJECUTADO",null,null,null,null,"EJECUCION PROYECTADA \nAL PERIODO",null,null,null,null,"AVANCE EJECUCION \nDEL PERIODO",null,null,null,null,"DESVIACIÓN PRESUPUESTAL"]
[null,null,{"$f":"+E74","v":0},null,null,null,{"$f":"+H74","v":0},null,null,null,null,{"$f":"IFERROR((SUMIF(H61:J66,\">=0\",E61:G66))/E74,0)","v":0},null,null,null,null,{"$f":"IFERROR(G102/C102,0)","v":0},null,null,null,null,{"$f":"IFERROR(Q102-L102,0)","v":0}]
[null,null,"OBSERVACIONES EJECUCIÓN PRESUPUESTO: "]
[]
[null,null,"RESUMEN FINANCIERO DEL PERIODO:"]
[null,null,"SALDO DEL PERIODO ANTERIOR ",null,null,null,null,null,null,null,null,null,null,null,null,null,null,null,null,null,{"$f":"+ABRIL!U112","v":0}]
[null,null,"TOTAL APORTES GIRADOS EN EL PERIODO",null,null,null,null,null,null,null,null,null,null,null,null,null,null,null,null,null,{"$f":"+Q66","v":0}]
[]
[null,null,"TOTAL APORTES PARA EL PERIODO",null,null,null,null,null,null,null,null,null,null,null,null,null,null,null,null,null,{"$f":"+U107+U106","v":0}]
[null,null,"PAGOS  REALIZADOS POR LA EAS EN EL PERIODO",null,null,null,null,null,null,null,null,null,null,null,null,null,null,null,null,null,{"$f":"+X66","v":0}]
[]
[null,null,"SALDO DE APORTES ICBF PARA EL PERIODO",null,null,null,null,null,null,null,null,null,null,null,null,null,null,null,null,null,{"$f":"+U109-U110","v":0}]
[null,null,"SALDO SEGUN EXTRACTO",null,null,null,null,null,null,null,null,null,null,null,null,null,null,null,null,null,0]
[null,null,"DIFERENCIA SALDO RECURSOS VS SALDO EXTRACTO BANCARIO",null,null,null,null,null,null,null,null,null,null,null,null,null,null,null,null,null,{"$f":"+U113-U112","v":0}]
[null,null,"VALOR CONCILIADO",null,null,null,null,null,null,null,null,null,null,null,null,null,null,null,null,null,0]
[]
[null,null,"VALOR CARGA PRESTACIONAL ACUMULADA",null,null,null,null,null,null,null,null,null,null,null,null,null,null,null,null,null,0]
[null,null,"RENDIMIENTOS FINANCIEROS DEL MES",null,null,null,null,null,null,null,null,null,null,null,null,null,null,null,null,null,0]
[null,null,"RENDIMIENTOS FNANCIEROS ACUMULADOS",null,null,null,null,null,null,null,null,null,null,null,null,null,null,null,null,null,{"$f":"+ABRIL!U119+(U118-U120)","v":0}]
[null,null,"RENDIMIENTOS FINANCIEROS CONSIGNADOS",null,null,null,null,null,null,null,null,null,null,null,null,null,null,null,null,null,0]
[null,null,"Banco:",null,{"$f":"+ABRIL!E121","v":"SCOTIABANK COLPATRIA SA"},null,null,null,null,null,null,"Tipo de Cuenta:",null,null,{"$f":"+ABRIL!O121","v":"Ahorros"},null,null,null,"Nro de Cuenta:",null,null,{"$f":"+ABRIL!V121","v":0}]
[null,null,"OBSERVACIONES  CONCILIACIÓN:"]
[]
[null,"4.","Seguimiento al uso de los recursos tasas compensatorias (Aplica Solo para HI)"]
[null,null,"MES",null,null,"PRESUPUESTO TASAS COMPENSATORIAS",null,null,"VALOR T.C RECAUDADA POR EL OPERADOR",null,null," EJECUCIÓN CON RECURSOS TASAS COMPENSATORIAS",null,null,null,null,null,"SALDO TASAS COMPENSATORIAS"]
[]
[null,null,"ENERO",null,null,{"$f":"+ABRIL!F127","v":0},null,null,{"$f":"+ABRIL!I127","v":0},null,null,{"$f":"+ABRIL!L127","v":0},null,null,null,null,null,{"$f":"+I127-L127","v":0}]
[null,null,"FEBRERO",null,null,{"$f":"+ABRIL!F128","v":0},null,null,{"$f":"+ABRIL!I128","v":0},null,null,{"$f":"+ABRIL!L128","v":0},null,null,null,null,null,0]
[null,null,"MARZO",null,null,{"$f":"+ABRIL!F129","v":0},null,null,{"$f":"+ABRIL!I129","v":0},null,null,{"$f":"+ABRIL!L129","v":0},null,null,null,null,null,0]
[null,null,"ABRIL",null,null,{"$f":"+ABRIL!F130","v":0},null,null,{"$f":"+ABRIL!I130","v":0},null,null,{"$f":"+ABRIL!L130","v":0},null,null,null,null,null,0]
[null,null,"MAYO",null,null,{"$f":"+ABRIL!F131","v":0},null,null,0,null,null,0,null,null,0,null,null,0]
[null,null,"JUNIO",null,null,{"$f":"+ABRIL!F132","v":0},null,null,0,null,null,0,null,null,0,null,null,0]
[null,null,"JULIO",null,null,{"$f":"+ABRIL!F133","v":0},null,null,0,null,null,0,null,null,0,null,null,0]
[null,null,"AGOSTO",null,null,{"$f":"+ABRIL!F134","v":0},null,null,0,null,null,0,null,null,0,null,null,0]
[null,null,"SEPTIEMBRE",null,null,{"$f":"+ABRIL!F135","v":0},null,null,0,null,null,0,null,null,0,null,null,0]
[null,null,"OCTUBRE",null,null,{"$f":"+ABRIL!F136","v":0},null,null,0,null,null,0,null,null,0,null,null,0]
[null,null,"NOVIEMBRE",null,null,{"$f":"+ABRIL!F137","v":0},null,null,0,null,null,0,null,null,0,null,null,0]
[null,null,"DICIEMBRE",null,null,{"$f":"+ABRIL!F138","v":0},null,null,0,null,null,0,null,null,0,null,null,0]
[null,null,"Total",null,null,{"$f":"SUM(F127:H138)","v":0},null,null,{"$f":"SUM(I127:K131)","v":0},null,null,{"$f":"SUM(L127:Q131)","v":0},null,null,null,null,null,{"$f":"SUM(R127:Z131)","v":0}]
[null,null,"OBSERVACIONES  RECAUDO TASAS:"]
[]
[null,"Antes de imprimir este documento… piense en el medio ambiente!    \nCualquier copia impresa de este documento se considera como COPIA NO CONTROLADA\nLOS DATOS PROPORCIONADOS SERÁN TRATADOS DE ACUERDO A LA POLÌTICA DE TRATAMIENTO DE DATOS PERSONALES DEL ICBF Y A LA LEY 1581 DE 2012 "]
[null,null,null,null,null,"PROCESO\nPROMOCION Y PREVENCIÓN\n\nFORMATO ACTA LEGALIZACIÓN DE CUENTAS\n",null,null,null,null,null,null,null,null,"F1.A8.MO12.PP",null,null,null,null,null,"2022-02-02"]
[null,null,null,null,null,null,null,null,null,null,null,null,null,null,"Versión 3",null,null,null,null,null,"Página 3 de 3"]
[]
[null,null,null,null,null,null,null,null,null,null,null,null,null,null,"Clasificación de la Información:\nPública"]
[]
[null,"5. ","Se Verifica que los valores por inejecuciones corresponde a los siguientes conceptos:"]
[null,null,"CONCEPTO DE DESCUENTO",null,null," Cupos CONTRATADOS",null," Cupos\nATENDIDOS ",null," NO ATENDIDOS ",null,"VALOR DESCUENTO POR INEJECUCIÓN",null,null,"FUENTE DE CONSULTA",null,null,"VALOR DESCUENTO \nTEMPORAL",null,null,"REINTEGRO DEL DESCUENTO TEMPORAL",null,null,"Saldo de Descuentos Temporales"]
[null,null,"BAJA COBERTURA",null,null,{"$f":"+X30","v":0},null,0,null,{"$f":"+F150-H150","v":0},null,0,null,null,"NO APLICA",null,null,0,null,null,0,null,null,{"$f":"+(R150-U150)+ABRIL!X150","v":0}]
[null,null,"INASISTENCIA",null,null,null,null,null,null,null,null,0,null,null,"NO APLICA"]
[null,null,"NO PRESTACION DEL SERVICIO",null,null,null,null,null,null,null,null,0,null,null,"NO APLICA"]
[]
[null,null,"CUENTAME",null,null,null,null,null,null,null,null,0,null,null,"NO APLICA"]
[null,null,"TALENTO HUMANO NO CONTRATADO",null,null,null,null,null,null,null,null,0,null,null,"NO APLICA"]
[null,null,"OTRO\n (Se Especifica en Observaciones)",null,null,null,null,null,null,null,null,0,null,null,"NO APLICA"]
[]
[]
[null,null,"TOTAL DESCUENTO",null,null,null,null,null,null,null,null,{"$f":"SUM(L150:N158)","v":0}]
[null,null,"OBSERVACIONES  DESCUENTOS:"]
[]
[null,"6. ","Ejecución Aportes EAS."]
[null,null,"MES",null,null,"PRESUPUESTO",null,null,"EJECUCIÓN",null,null,"SALDO APORTES EAS",null,null,null,null,null,"OBSERVACIONES APOTES EAS"]
[]
[null,null,"ENERO",null,null,{"$f":"+ABRIL!F164","v":0},null,null,{"$f":"+ABRIL!I164","v":0},null,null,{"$f":"+F165-I165","v":0}]
[null,null,"FEBRERO",null,null,{"$f":"+ABRIL!F165","v":0},null,null,{"$f":"+ABRIL!I165","v":0},null,null,0]
[null,null,"MARZO",null,null,{"$f":"+ABRIL!F166","v":0},null,null,{"$f":"+ABRIL!I166","v":0},null,null,0]
[null,null,"ABRIL",null,null,{"$f":"+ABRIL!F167","v":0},null,null,{"$f":"+ABRIL!I167","v":0},null,null,0]
[null,null,"MAYO",null,null,{"$f":"+ABRIL!F168","v":0},null,null,0,null,null,0]
[null,null,"JUNIO",null,null,{"$f":"+ABRIL!F169","v":0},null,null,0,null,null,0]
[null,null,"JULIO",null,null,{"$f":"+ABRIL!F170","v":0},null,null,0,null,null,0]
[null,null,"AGOSTO",null,null,{"$f":"+ABRIL!F171","v":0},null,null,0,null,null,0]
[null,null,"SEPTIEMBRE",null,null,{"$f":"+ABRIL!F172","v":0},null,null,0,null,null,0]
[null,null,"OCTUBRE",null,null,{"$f":"+ABRIL!F173","v":0},null,null,0,null,null,0]
[null,null,"NOVIEMBRE",null,null,{"$f":"+ABRIL!F174","v":0},null,null,0,null,null,0]
[null,null,"DICIEMBRE",null,null,{"$f":"+ABRIL!F175","v":0},null,null,0,null,null,0]
[null,null,"Total",null,null,{"$f":"SUM(F165:H176)","v":0},null,null,{"$f":"SUM(I165:K176)","v":0},null,null,{"$f":"SUM(L165:Q169)","v":0}]
[]
[null,"7. ","Observaciones Generales."]
[]
[]
[]
[]
[]
[]
[]
[null,"8."," Recomendaciones. (Preste la asesoría necesaria para que se superen las dificultades identificadas y se mantengan las fortalezas detectadas)  "]
[]
[]
[]
[]
[]
[]
[]
[null,"9.","Cierre."]
[null,null,"Compromisos / tareas",null,null,null,null,null,null,null,"Responsables",null,null,null,null,null,null,null,null,"Fechas"]
[]
[]
[]
[null,null,"**Las siguientes personas que firman  dan constancia que han revisado y estan de acuerdo con cada uno de los items de la presente acta y que  este ejercicio de legalización de cuentas se ha realizado conforme a los lineamientos, guias de supervisión, manuales operativos y minutas contractuales establecidas por el ICBF."]
[null," ","FIRMA RESPONSABLES ICBF Y ENTIDAD ADMINISTRADORA"]
[null,null,"Nombre",null,null,null,null,"Cargo / Dependencia",null,null,null,null,null,null,"EMAIL",null,null,null,null,null,"Firma"]
[null,null,{"$f":"+G37","v":" "},null,null,null,null,"SUPERVISOR(A) DEL CONTRATO ICBF",null,null,null,null,null,null,"@icbf.gov.co"]
[null,null,{"$f":"+U37","v":" "},null,null,null,null,"APOYO FINANCIERO ICBF",null,null,null,null,null,null,"@icbf.gov.co"]
[null,null,{"$f":"+G40","v":0},null,null,null,null,"REPRESENTANTE LEGAL EAS",null,null,null,null,null,null,{"$f":"+G41","v":0}]
[null,null,{"$f":"+ABRIL!C205","v":0},null,null,null,null,{"$f":"+ABRIL!H205","v":0},null,null,null,null,null,null,{"$f":"+ABRIL!O205","v":0}]
[null,null,{"$f":"+ABRIL!C206","v":0},null,null,null,null,{"$f":"+ABRIL!H206","v":0},null,null,null,null,null,null,{"$f":"+ABRIL!O206","v":0}]
[null,"Antes de imprimir este documento… piense en el medio ambiente!    \nCualquier copia impresa de este documento se considera como COPIA NO CONTROLADA\nLOS DATOS PROPORCIONADOS SERÁN TRATADOS DE ACUERDO A LA POLÌTICA DE TRATAMIENTO DE DATOS PERSONALES DEL ICBF Y A LA LEY 1581 DE 2012 "]
[]
[null,"* Escanear esta Acta debidamente Firmada y colocarla en la ruta especificada por la DPI"]
[]
["RECOMEDACIONES DE USO DE ESTE ARCHIVO:"]
["1. HABILITE MACROS : ARCHIVO > CENTRO DE CONFIANZA> CONFIGURACION DEL CENTRO DE CONFIANZA > CONFIGURACION DE MACROS > HABILITAR TODAS LAS MACROS > CONFIAR EN EL ACCESO AL MODELO DE OBJETO DE PROYECTOS VBA > ACEPTAR"]
["2. DESHABILITE VISTA PROTEGIDA: ARCHIVO> CENTRO DE CONFIANZA> CONFIGURACION DEL CENTRO DE CONFIANZA > VISTA PROTEGIDA> DESMARCAR LAS TRES OPCIONES >ACEPTAR"]
["3. HABILITAR UBICACIONES DE RED: ARCHIVO> CENTRO DE CONFIANZA> CONFIGURACION DEL CENTRO DE CONFIANZA > UBICACIONES DE CONFIANZA > MARCAR PERMITIR UBICACIONES DE CONFIANZA QUE ESTEN EN LA RED > ACEPTAR "]
["4. HABILITAR DOCUMENTOS DE CONFIANZA: ARCHIVO> CENTRO DE CONFIANZA> CONFIGURACION DEL CENTRO DE CONFIANZA > DOCUMENTOS DE CONFIANZA > MARCAR PERMITIR QUE SEAN DE CONFIANZA LOS DOCUMENTOS DE UNA RED"]

{"sheet":"JUNIO","index":7,"n_rows":216,"n_cols":25,"rows_kept":216,"cut":false,"hidden":true,"merged":[[51,24,51,25],[52,2,52,15],[52,16,53,25],[53,6,53,7],[53,9,54,13],[54,6,54,7],[54,19,54,23],[42,1,45,1],[51,2,51,5],[51,6,51,8],[51,9,51,11],[51,12,51,13],[51,14,51,15],[51,16,51,17],[51,18,51,19],[51,20,51,21],[51,22,51,23],[49,24,49,25],[50,2,50,5],[50,6,50,8],[50,9,50,11],[50,12,50,13],[50,14,50,15],[50,16,50,17],[49,2,49,5],[49,6,49,8],[49,9,49,11],[49,12,49,13],[49,14,49,15],[49,16,49,17],[49,18,49,19],[49,20,49,21],[49,22,49,23],[48,16,48,17],[48,18,48,19],[48,20,48,21],[48,22,48,23],[48,24,48,25],[50,18,50,19],[50,20,50,21],[50,22,50,23],[50,24,50,25],[45,2,45,5],[45,6,45,15],[69,10,69,12],[69,13,69,15],[69,16,69,18],[69,19,69,22],[68,4,68,6],[68,7,68,9],[68,10,68,12],[68,13,68,15],[68,16,68,18],[68,2,68,3],[67,4,67,6],[67,7,67,9],[67,10,67,12],[65,4,65,6],[65,7,65,9],[65,10,65,12],[65,13,65,15],[65,16,65,18],[65,19,65,22],[60,2,60,3],[65,2,65,3],[69,7,69,9],[65,23,65,25],[72,23,72,25],[73,2,73,3],[73,23,73,25],[80,2,80,25],[81,2,81,25],[68,23,68,25],[86,22,86,25],[70,2,70,3],[70,23,70,25],[71,2,71,3],[71,23,71,25],[84,10,84,12],[84,13,84,15],[84,16,84,18],[83,2,83,3],[66,10,66,12],[84,7,84,9],[69,2,69,3],[66,2,66,3],[66,16,66,18],[66,23,66,25],[67,2,67,3],[69,4,69,6],[120,2,120,3],[120,4,120,10],[120,11,120,13],[120,14,120,17],[120,18,120,20],[120,21,120,25],[86,4,86,6],[86,7,86,9],[86,10,86,12],[86,13,86,15],[86,16,86,18],[87,7,87,9],[87,10,87,12],[87,13,87,15],[87,16,87,18],[87,19,87,21],[89,13,89,15],[89,16,89,18],[89,19,89,21],[88,4,88,6],[88,7,88,9],[119,20,119,25],[117,2,117,19],[117,20,117,25],[67,13,67,15],[67,16,67,18],[67,19,67,22],[66,13,66,15],[69,23,69,25],[66,19,66,22],[66,7,66,9],[118,2,118,19],[118,20,118,25],[86,2,86,3],[84,4,84,6],[82,2,82,25],[85,2,85,3],[85,10,85,12],[85,13,85,15],[87,2,87,3],[87,22,87,25],[72,19,72,22],[73,4,73,6],[73,7,73,9],[73,10,73,12],[73,13,73,15],[73,16,73,18],[73,19,73,22],[119,2,119,19],[116,20,116,25],[64,4,64,6],[64,7,64,9],[64,10,64,12],[64,13,64,15],[64,16,64,18],[83,22,83,25],[85,22,85,25],[83,4,83,6],[83,7,83,9],[83,10,83,12],[83,13,83,15],[83,16,83,18],[83,19,83,21],[85,4,85,6],[85,7,85,9],[64,23,64,25],[90,2,90,3],[90,22,90,25],[91,2,91,3],[91,22,91,25],[88,2,88,3],[72,2,72,3],[128,17,128,25],[129,17,129,25],[130,17,130,25],[126,11,126,16],[121,2,121,25],[122,2,122,25],[123,2,123,25],[126,5,126,7],[126,8,126,10],[124,5,124,7],[124,8,124,10],[125,2,125,4],[125,5,125,7],[125,8,125,10],[129,11,129,16],[130,11,130,16],[126,2,126,4],[126,17,126,25],[125,17,125,25],[124,2,124,4],[127,17,127,25],[106,1,115,1],[106,2,107,19],[106,20,107,25],[109,2,110,19],[109,20,110,25],[114,2,115,19],[114,20,115,25],[112,20,112,25],[113,2,113,19],[113,20,113,25],[108,20,108,25],[108,2,108,19],[133,17,133,25],[127,11,127,16],[128,11,128,16],[127,2,127,4],[127,5,127,7],[135,17,135,25],[136,17,136,25],[135,2,135,4],[135,5,135,7],[135,8,135,10],[135,11,135,16],[134,17,134,25],[133,11,133,16],[134,11,134,16],[134,2,134,4],[134,5,134,7],[134,8,134,10],[131,11,131,16],[132,11,132,16],[127,8,127,10],[128,2,128,4],[128,5,128,7],[131,17,131,25],[132,17,132,25],[137,17,137,25],[138,17,138,25],[138,2,138,4],[138,5,138,7],[138,11,138,16],[138,8,138,10],[137,5,137,7],[137,8,137,10],[136,11,136,16],[137,11,137,16],[137,2,137,4],[199,2,199,25],[200,2,200,25],[201,2,201,6],[201,7,201,13],[201,14,201,19],[201,20,201,25],[194,2,194,25],[195,2,195,9],[195,10,195,18],[195,19,195,25],[196,2,196,9],[196,10,196,18],[196,19,196,25],[197,2,197,9],[197,10,197,18],[197,19,197,25],[198,2,198,9],[198,10,198,18],[205,20,205,25],[206,2,206,6],[206,7,206,13],[206,14,206,19],[206,20,206,25],[210,1,210,27],[202,20,202,25],[203,20,203,25],[204,20,204,25],[205,2,205,6],[205,7,205,13],[205,14,205,19],[202,2,202,6],[202,7,202,13],[202,14,202,19],[203,2,203,6],[203,7,203,13],[203,14,203,19],[204,2,204,6],[204,7,204,13],[204,14,204,19],[207,1,207,26],[209,1,209,24],[178,2,178,25],[179,2,185,25],[186,2,186,25],[187,2,193,25],[128,8,128,10],[129,2,129,4],[129,5,129,7],[129,8,129,10],[198,19,198,25],[132,2,132,4],[132,5,132,7],[132,8,132,10],[133,2,133,4],[133,5,133,7],[133,8,133,10],[130,2,130,4],[130,5,130,7],[130,8,130,10],[131,2,131,4],[131,5,131,7],[131,8,131,10],[136,2,136,4],[136,5,136,7],[136,8,136,10],[176,17,176,25],[163,17,175,25],[173,2,173,4],[173,5,173,7],[173,8,173,10],[173,11,173,16],[174,2,174,4],[174,5,174,7],[174,8,174,10],[174,11,174,16],[169,2,169,4],[169,5,169,7],[169,8,169,10],[169,11,169,16],[170,2,170,4],[170,5,170,7],[168,8,168,10],[168,11,168,16],[175,2,175,4],[175,5,175,7],[175,8,175,10],[175,11,175,16],[176,2,176,4],[176,5,176,7],[176,8,176,10],[176,11,176,16],[162,17,162,25],[163,2,163,4],[163,5,163,7],[163,8,163,10],[163,11,163,16],[149,14,149,16],[153,11,153,13],[153,14,153,16],[149,2,149,4],[149,5,149,6],[149,7,149,8],[149,9,149,10],[149,11,149,13],[158,2,158,10],[158,11,158,13],[159,2,159,25],[160,2,160,25],[158,14,158,25],[172,2,172,4],[172,5,172,7],[172,8,172,10],[172,11,172,16],[0,1,5,4],[8,1,8,8],[8,9,8,26],[55,2,55,25],[56,2,56,25],[57,2,57,25],[58,2,58,25],[59,2,59,3],[59,23,59,25],[9,1,9,8],[9,9,9,26],[10,1,10,8],[10,9,10,26],[6,1,6,15],[6,16,6,17],[7,1,7,6],[7,7,7,12],[7,13,7,19],[7,20,7,26],[6,18,6,22],[6,23,6,26],[16,2,16,26],[17,2,17,26],[18,2,18,26],[60,23,60,25],[61,2,61,3],[61,23,61,25],[62,2,62,3],[62,23,62,25],[63,2,63,3],[63,23,63,25],[64,2,64,3],[63,10,63,12],[63,13,63,15],[63,16,63,18],[63,19,63,22],[62,4,62,6],[62,7,62,9],[62,10,62,12],[62,13,62,15],[62,16,62,18],[64,19,64,22],[60,19,60,22],[61,4,61,6],[61,7,61,9],[61,10,61,12],[61,13,61,15],[61,16,61,18],[19,2,19,26],[20,2,20,26],[21,2,21,26],[11,1,11,8],[11,9,11,26],[12,1,12,8],[12,9,12,26],[14,2,14,26],[15,2,15,26],[29,23,29,25],[30,2,30,6],[30,7,30,11],[30,12,30,16],[30,17,30,21],[30,22,30,25],[22,2,22,26],[27,2,27,25],[28,4,28,7],[28,8,28,10],[28,11,28,18],[28,19,28,21],[28,22,28,25],[29,2,29,4],[29,5,29,7],[29,8,29,10],[29,11,29,13],[29,14,29,15],[29,16,29,18],[29,19,29,22],[28,2,28,3],[31,2,31,6],[31,7,31,11],[31,12,31,16],[31,17,31,21],[31,22,31,25],[32,2,32,6],[32,7,32,11],[32,12,32,16],[32,17,32,21],[32,22,32,25],[33,2,33,6],[33,7,33,11],[33,12,33,16],[33,17,33,21],[33,22,33,25],[34,2,34,6],[34,7,34,11],[34,12,34,16],[34,17,34,21],[34,22,34,25],[35,2,35,6],[35,7,35,11],[35,12,35,16],[35,17,35,21],[35,22,35,25],[36,2,36,5],[36,6,36,15],[36,16,36,19],[36,20,36,25],[39,2,39,5],[39,6,39,15],[39,16,39,19],[39,20,39,25],[40,2,40,5],[40,6,40,15],[40,16,40,19],[40,20,40,25],[37,20,37,25],[38,2,38,5],[38,6,38,9],[38,12,38,15],[38,16,38,19],[38,20,38,25],[37,2,37,5],[37,6,37,7],[37,8,37,10],[37,11,37,12],[37,13,37,15],[37,16,37,19],[43,2,43,5],[43,6,43,15],[43,16,43,19],[43,20,43,25],[44,2,44,5],[44,6,44,15],[44,16,44,19],[44,20,44,25],[41,2,41,5],[41,6,41,15],[41,16,41,19],[41,20,41,25],[42,2,42,5],[42,6,42,15],[42,16,42,19],[42,20,42,25],[59,4,59,6],[59,7,59,9],[59,10,59,12],[59,13,59,15],[59,16,59,18],[59,19,59,22],[46,2,47,5],[46,6,47,8],[46,9,47,11],[46,12,46,15],[46,16,46,19],[46,20,46,25],[47,12,47,13],[47,14,47,15],[47,16,47,17],[47,18,47,19],[47,20,47,21],[47,22,47,23],[47,24,47,25],[48,2,48,5],[48,6,48,8],[48,9,48,11],[48,12,48,13],[48,14,48,15],[72,16,72,18],[86,19,86,21],[87,4,87,6],[91,16,91,18],[91,19,91,21],[90,4,90,6],[90,7,90,9],[90,10,90,12],[90,13,90,15],[90,16,90,18],[61,19,61,22],[60,4,60,6],[60,7,60,9],[60,10,60,12],[60,13,60,15],[60,16,60,18],[84,19,84,21],[84,22,84,25],[88,10,88,12],[88,13,88,15],[88,16,88,18],[85,16,85,18],[85,19,85,21],[88,19,88,21],[88,22,88,25],[67,23,67,25],[68,19,68,22],[63,4,63,6],[66,4,66,6],[62,19,62,22],[72,4,72,6],[72,7,72,9],[72,10,72,12],[72,13,72,15],[89,2,89,3],[89,22,89,25],[95,22,95,25],[92,19,92,21],[93,4,93,6],[93,7,93,9],[93,10,93,12],[93,13,93,15],[93,16,93,18],[93,19,93,21],[92,4,92,6],[92,7,92,9],[92,10,92,12],[92,13,92,15],[92,16,92,18],[89,4,89,6],[89,7,89,9],[89,10,89,12],[94,22,94,25],[90,19,90,21],[91,4,91,6],[91,7,91,9],[91,10,91,12],[91,13,91,15],[97,19,97,21],[96,4,96,6],[96,7,96,9],[96,10,96,12],[96,13,96,15],[96,16,96,18],[92,2,92,3],[92,22,92,25],[93,2,93,3],[93,22,93,25],[94,19,94,21],[95,4,95,6],[95,7,95,9],[95,10,95,12],[95,13,95,15],[95,16,95,18],[95,19,95,21],[94,4,94,6],[94,7,94,9],[94,10,94,12],[94,13,94,15],[94,16,94,18],[94,2,94,3],[95,2,95,3],[96,2,96,3],[96,22,96,25],[97,2,97,3],[97,22,97,25],[98,19,98,21],[100,6,100,10],[100,11,100,15],[100,16,100,20],[98,4,98,6],[98,7,98,9],[98,10,98,12],[98,13,98,15],[98,16,98,18],[98,2,98,3],[98,22,98,25],[99,2,99,25],[100,2,100,5],[100,21,100,25],[96,19,96,21],[97,4,97,6],[97,7,97,9],[97,10,97,12],[97,13,97,15],[97,16,97,18],[101,6,101,10],[101,11,101,15],[101,16,101,20],[101,2,101,5],[101,21,101,25],[102,2,102,25],[103,2,103,25],[104,2,104,25],[105,2,105,19],[105,20,105,25],[161,2,161,25],[162,2,162,4],[166,2,166,4],[166,5,166,7],[166,11,166,16],[149,23,157,25],[150,11,150,13],[150,14,150,16],[151,11,152,13],[151,14,152,16],[150,2,150,10],[151,2,152,10],[149,17,157,19],[149,20,157,22],[155,2,157,10],[153,2,153,10],[154,2,154,10],[148,9,148,10],[154,11,154,13],[154,14,154,16],[155,11,157,13],[155,14,157,16],[148,23,148,25],[147,2,147,25],[148,2,148,4],[148,5,148,6],[148,11,148,13],[148,14,148,16],[148,17,148,19],[148,20,148,22],[171,2,171,4],[171,5,171,7],[171,8,171,10],[171,11,171,16],[162,5,162,7],[162,8,162,10],[162,11,162,16],[170,8,170,10],[170,11,170,16],[164,2,164,4],[164,5,164,7],[164,8,164,10],[164,11,164,16],[165,2,165,4],[165,5,165,7],[165,8,165,10],[165,11,165,16],[168,2,168,4],[168,5,168,7],[166,8,166,10],[167,2,167,4],[167,5,167,7],[167,8,167,10],[167,11,167,16],[140,2,140,25],[148,7,148,8],[84,2,84,3],[139,2,139,25],[0,14,1,19],[0,20,1,26],[2,14,3,19],[2,20,3,26],[4,14,5,26],[76,14,77,19],[76,20,77,26],[0,5,5,13],[70,19,70,22],[71,4,71,6],[71,7,71,9],[71,10,71,12],[71,13,71,15],[71,16,71,18],[71,19,71,22],[70,4,70,6],[70,7,70,9],[70,10,70,12],[70,13,70,15],[70,16,70,18],[45,16,45,19],[63,7,63,9],[45,20,45,25],[78,14,79,26],[143,14,144,19],[143,20,144,26],[145,14,146,26],[74,1,74,26],[75,1,79,4],[75,5,79,13],[75,14,75,19],[75,20,75,26],[141,1,141,26],[142,1,146,4],[142,5,146,13],[142,14,142,19],[142,20,142,26],[124,11,124,16],[125,11,125,16],[111,2,111,19],[111,20,111,25],[112,2,112,19],[124,17,124,25],[116,2,116,19]]}
[null,null,null,null,null,"PROCESO\nPROMOCION Y PREVENCIÓN\n\nFORMATO ACTA LEGALIZACIÓN DE CUENTAS\n",null,null,null,null,null,null,null,null,"F1.A8.MO12.PP",null,null,null,null,null,"2022-02-02"]
[]
[null,null,null,null,null,null,null,null,null,null,null,null,null,null,"Versión 3",null,null,null,null,null,"Página 1 de 3"]
[]
[null,null,null,null,null,null,null,null,null,null,null,null,null,null,"Clasificación de la Información:\nPública"]
[]
[null,"ACTA DE LEGALIZACIÓN N°",null,null,null,null,null,null,null,null,null,null,null,null,null,null,6,null,"ESTADO DEL CONTRATO:",null,null,null,null,{"$f":"+MAYO!X7","v":"VIGENTE"}]
[null,"Fecha y Hora Inicio:",null,null,null,null,null,"2019-01-01T15:00:00",null,null,null,null,null,"Fecha y Hora Fin:  ",null,null,null,null,null,null,"2019-01-01T15:00:00"]
[null,"Lugar:",null,null,null,null,null,null,null,{"$f":"+MAYO!J9","v":"Regional_Amazonas"}]
[null,"Dependencia que Convoca:",null,null,null,null,null,null,null,{"$f":"+MAYO!J10","v":"Primera Infancia - Grupo de Atención en Ciclos de Vida y Nutrición "}]
[null,"Proceso:",null,null,null,null,null,null,null,{"$f":"+MAYO!J11","v":"Promoción y Prevención "}]
[null,"Objetivo:",null,null,null,null,null,null,null,{"$f":"+MAYO!J12","v":"Recepción, revisión, el análisis y  Legalización de los Gastos e Ingresos del Informe Financiero presentado por la entidad administradora (EAS)"}]
[null,"Nombre EAS:",null,null,null,null,null,null,null,{"$f":"+MAYO!J13","v":"ASOCIACION DE HOGARES"}]
[null,"Agenda: "]
[null,"1.","Desarrollo."]
[null,"2.","Información general del contrato."]
[null,"3.","Informe  de ejecución Presupuestal y  financiera requerido con los debidos soporte."]
[null,"4.","Seguimiento al Uso de Tasas Compensatorias (Aplica Solo para HI)."]
[null,"5.","Detalle de Inejecuciones."]
[null,"6.","Ejecución Contrapartida."]
[null,"7.","Situación Encontrada."]
[null,"8.","Recomendaciones."]
[null,"9.","Cierre."]
[null,"         Desarrollo: "]
[null,"1.","Se da inicio a la legalización de los informes financieros Presentados por la EAS con el fin de verificar la correcta Ejecución del presupuesto aprobado dentro de los "]
[null,null,"lineamientos, guias de supervision, manuales operativos y minutas que corresponden."]
[null,"2.","A continuaciòn en el presente cuadro  se relaciona la información general del contrato."]
[null,null,"Información general del contrato."]
[null,null,"Regional:",null,{"$f":"+J9","v":"Regional_Amazonas"},null,null,null,"Centro Zonal:",null,null,{"$f":"+MAYO!L29","v":"CZ_LETICIA"},null,null,null,null,null,null,null,"N° de Contrato\n o Convenio",null,null,{"$f":"+MAYO!W29","v":0}]
[null,null,"N° CDP ",null,null,{"$f":"+MAYO!F30","v":0},null,null,"N° RP",null,null,{"$f":"+MAYO!L30","v":0},null,null,"FECHA \nACTA INICIO",null,{"$f":"+MAYO!Q30","v":"00:00:00"},null,null,"Cupos Contratados:",null,null,null,{"$f":"+W36+R36+M36+H36+C36","v":0}]
[null,null," Modalidad 1:",null,null,null,null,"Modalidad 2:",null,null,null,null,"Modalidad 3:",null,null,null,null,"Modalidad 4:",null,null,null,null,"Modalidad 5:"]
[null,null,{"$f":"+MAYO!C32","v":"NO_APLICA"},null,null,null,null,{"$f":"+MAYO!H32","v":"NO_APLICA"},null,null,null,null,{"$f":"+MAYO!M32","v":"NO_APLICA"},null,null,null,null,{"$f":"+MAYO!R32","v":"NO_APLICA"},null,null,null,null,{"$f":"+MAYO!W32","v":"NO_APLICA"}]
[null,null,"SERVICIO 1:",null,null,null,null,"SERVICIO 2:",null,null,null,null,"SERVICIO 3:",null,null,null,null,"SERVICIO 4:",null,null,null,null,"SERVICIO 5:"]
[null,null,{"$f":"+MAYO!C34","v":"NO APLICA"},null,null,null,null,{"$f":"+MAYO!H34","v":"NO APLICA"},null,null,null,null,{"$f":"+MAYO!M34","v":"NO APLICA"},null,null,null,null,{"$f":"+MAYO!R34","v":"NO APLICA"},null,null,null,null,{"$f":"+MAYO!W34","v":"NO APLICA"}]
[null,null,"CUPOS CONTRATADO 1:",null,null,null,null,"CUPOS CONTRATADO 2:",null,null,null,null,"CUPOS CONTRATADO 3:",null,null,null,null,"CUPOS CONTRATADO 4:",null,null,null,null,"CUPOS CONTRATADO 5:"]
[null,null,{"$f":"+MAYO!C36","v":0},null,null,null,null,{"$f":"+MAYO!H36","v":0},null,null,null,null,{"$f":"+MAYO!M36","v":0},null,null,null,null,{"$f":"+MAYO!R36","v":0},null,null,null,null,{"$f":"+MAYO!W36","v":0}]
[null,null,"Nombre Supervisor CTO:",null,null,null,{"$f":"+MAYO!G37","v":" "},null,null,null,null,null,null,null,null,null,"Apoyo Financiero ICBF:",null,null,null,{"$f":"+MAYO!U37","v":" "}]
[null,null,"Plazo de ejecución CTO:",null,null,null,"Desde:",null,{"$f":"+MAYO!I38","v":"00:00:00"},null,null,"Hasta:",null,{"$f":"+MAYO!N38","v":"00:00:00"},null,null,"Fecha aprob. póliza:",null,null,null,{"$f":"+MAYO!U38","v":" "}]
[null,null,"Póliza N° 1 del CTO",null,null,null,{"$f":"+MAYO!G39","v":0},null,null,null,"Poliza N° 2",null,{"$f":"+MAYO!M39","v":0},null,null,null,"Nombre Ent. Aseguradora",null,null,null,{"$f":"+MAYO!U39","v":" "}]
[null,null,"Representante Legal:",null,null,null,{"$f":"+MAYO!G40","v":0},null,null,null,null,null,null,null,null,null,"Cédula RL: ",null,null,null,{"$f":"+MAYO!U40","v":" "}]
[null,null,"Email Representante L.",null,null,null,{"$f":"+MAYO!G41","v":0},null,null,null,null,null,null,null,null,null,"NIT EAS:",null,null,null,{"$f":"+MAYO!U41","v":" "}]
[null,null,"Telefono o Cel R.L",null,null,null,{"$f":"+MAYO!G42","v":0},null,null,null,null,null,null,null,null,null,"Fecha Vencimiento R. L:",null,null,null,{"$f":"+MAYO!U42","v":" "}]
[null,"VIGENCIA ACTUAL","Valor Inicial del CTO: \n(Aporte ICBF)",null,null,null,{"$f":"+MAYO!G43","v":0},null,null,null,null,null,null,null,null,null,"Valor Aportes EAS:",null,null,null,{"$f":"+MAYO!U43","v":0}]
[null,null,"Adiciones al CTO:",null,null,null,{"$f":"+MAYO!G44","v":0},null,null,null,null,null,null,null,null,null,"Adiciones Aportes EAS:",null,null,null,{"$f":"+MAYO!U44","v":0}]
[null,null,"Reducciones al CTO",null,null,null,{"$f":"+MAYO!G45","v":0},null,null,null,null,null,null,null,null,null,"Total Aportes EAS:",null,null,null,{"$f":"+U44+U43","v":0}]
[null,null,"VALOR APORTE ICBF",null,null,null,{"$f":"+(G43+G44)-G45","v":0},null,null,null,null,null,null,null,null,null,"Valor Actual del CTO:",null,null,null,{"$f":"+G43+U43+G44+U44-G45","v":0}]
[null,null,"VIGENCIA",null,null,null,"APORTE ICBF",null,null,"APORTE EAS",null,null,"Adiciones al contrato",null,null,null,"Reducciones al contrato",null,null,null,"Valor final del contrato"]
[null,null,null,null,null,null,null,null,null,null,null,null,"ICBF",null,"EAS",null,"ICBF",null,"EAS",null,"ICBF",null,"EAS",null,"TOTAL"]
[null,null,{"$f":"+MAYO!C49","v":2020},null,null,null,{"$f":"+MAYO!G49","v":0},null,null,{"$f":"+MAYO!J49","v":0},null,null,{"$f":"+MAYO!M49","v":0},null,{"$f":"+MAYO!O49","v":0},null,{"$f":"+MAYO!Q49","v":0},null,{"$f":"+MAYO!S49","v":0},null,{"$f":"+G49+M49-Q49","v":0},null,{"$f":"+J49+O49-S49","v":0},null,{"$f":"+U49+W49","v":0}]
[null,null,{"$f":"+MAYO!C50","v":2021},null,null,null,{"$f":"+MAYO!G50","v":0},null,null,{"$f":"+MAYO!J50","v":0},null,null,{"$f":"+MAYO!M50","v":0},null,{"$f":"+MAYO!O50","v":0},null,{"$f":"+MAYO!Q50","v":0},null,{"$f":"+MAYO!S50","v":0},null,{"$f":"+G50+M50-Q50","v":0},null,{"$f":"+J50+O50-S50","v":0},null,{"$f":"+U50+W50","v":0}]
[null,null,{"$f":"+MAYO!C51","v":2022},null,null,null,{"$f":"+MAYO!G51","v":0},null,null,{"$f":"+MAYO!J51","v":0},null,null,{"$f":"+MAYO!M51","v":0},null,{"$f":"+MAYO!O51","v":0},null,{"$f":"+MAYO!Q51","v":0},null,{"$f":"+MAYO!S51","v":0},null,0,null,0,null,0]
[null,null,"TOTAL",null,null,null,{"$f":"SUM(G49:I51)","v":0},null,null,{"$f":"SUM(J49:L51)","v":0},null,null,{"$f":"SUM(M49:N51)","v":0},null,{"$f":"SUM(O49:P51)","v":0},null,{"$f":"SUM(Q49:R51)","v":0},null,{"$f":"SUM(S49:T51)","v":0},null,{"$f":"SUM(U49:V51)","v":0},null,{"$f":"SUM(W49:X51)","v":0},null,{"$f":"+Y51+Y50+Y49","v":0}]
[null,null,"La entidad presenta informe financiero mensual ante el ICBF como sigue:",null,null,null,null,null,null,null,null,null,null,null,null,null,"Presenta los documentos soportes que acompañan el informe financiero y se entrega al ICBF copia de los mismos en medio:"]
[null,null,"Mes a legalizar:",null,null,null,"JUNIO",null,null,"¿Los documentos aportados permiten realizar la legalización del informe financiero?    ",null,null,null,null,"SI","X"]
[null,null,"Fecha radicación EAS:",null,null,null,"2022-06-10",null,null,null,null,null,null,null,"NO",null,null,null,null,"DIGITAL Y FISICO"]
[null,null,"OBSERVACIONES INFORMACIÓN GENERAL:"]
[]
[null,"3. ","Se verifica  la ejecución de los recursos del contrato de acuerdo a los Informes Financieros presentados por la entidad:"]
[null,null,"SEGUIMIENTO PRESUPUESTAL  Y FINANCIERO DEL CONTRATO"]
[null,null,"MES",null,"PRESUPUESTO APROBADO + REPROGRAMACIONES \n(Aportes ICBF)",null,null,"EJECUCIÓN",null,null,"SALDO SIN EJECUTAR",null,null,"PROGRAMACIÓN DESEMBOLSOS",null,null,"DESEMBOLSOS GIRADOS",null,null,"DIFERENCIA PROGRAMADO VS PAGADO",null,null,null,"PAGOS REAL. EN EL MES"]
[]
[null,null,"Enero",null,{"$f":"+MAYO!E62","v":0},null,null,{"$f":"+MAYO!H62","v":0},null,null,{"$f":"+E62-H62","v":0},null,null,{"$f":"+MAYO!N62","v":0},null,null,{"$f":"+MAYO!Q62","v":0},null,null,{"$f":"+N62-Q62","v":0},null,null,null,{"$f":"+MAYO!X62","v":0}]
[null,null,"Febrero",null,{"$f":"+MAYO!E63","v":0},null,null,{"$f":"+MAYO!H63","v":0},null,null,0,null,null,{"$f":"+MAYO!N63","v":0},null,null,{"$f":"+MAYO!Q63","v":0},null,null,0,null,null,null,{"$f":"+MAYO!X63","v":0}]
[null,null,"Marzo",null,{"$f":"+MAYO!E64","v":0},null,null,{"$f":"+MAYO!H64","v":0},null,null,0,null,null,{"$f":"+MAYO!N64","v":0},null,null,{"$f":"+MAYO!Q64","v":0},null,null,0,null,null,null,{"$f":"+MAYO!X64","v":0}]
[null,null,"Abril",null,{"$f":"+MAYO!E65","v":0},null,null,{"$f":"+MAYO!H65","v":0},null,null,0,null,null,{"$f":"+MAYO!N65","v":0},null,null,{"$f":"+MAYO!Q65","v":0},null,null,0,null,null,null,{"$f":"+MAYO!X65","v":0}]
[null,null,"Mayo",null,{"$f":"+MAYO!E66","v":0},null,null,{"$f":"+MAYO!H66","v":0},null,null,0,null,null,{"$f":"+MAYO!N66","v":0},null,null,{"$f":"+MAYO!Q66","v":0},null,null,0,null,null,null,{"$f":"+MAYO!X66","v":0}]
[null,null,"Junio",null,{"$f":"+MAYO!E67","v":0},null,null,0,null,null,0,null,null,{"$f":"+MAYO!N67","v":0},null,null,0,null,null,0,null,null,null,0]
[null,null,"Julio",null,{"$f":"+MAYO!E68","v":0},null,null,0,null,null,0,null,null,{"$f":"+MAYO!N68","v":0},null,null,0,null,null,0,null,null,null,0]
[null,null,"Agosto",null,{"$f":"+MAYO!E69","v":0},null,null,0,null,null,0,null,null,{"$f":"+MAYO!N69","v":0},null,null,0,null,null,0,null,null,null,0]
[null,null,"Septiembre",null,{"$f":"+MAYO!E70","v":0},null,null,0,null,null,0,null,null,{"$f":"+MAYO!N70","v":0},null,null,0,null,null,0,null,null,null,0]
[null,null,"Octubre",null,{"$f":"+MAYO!E71","v":0},null,null,0,null,null,0,null,null,{"$f":"+MAYO!N71","v":0},null,null,0,null,null,0,null,null,null,0]
[null,null,"Noviembre",null,{"$f":"+MAYO!E72","v":0},null,null,0,null,null,0,null,null,{"$f":"+MAYO!N72","v":0},null,null,0,null,null,0,null,null,null,0]
[null,null,"Diciembre  ",null,{"$f":"+MAYO!E73","v":0},null,null,0,null,null,0,null,null,{"$f":"+MAYO!N73","v":0},null,null,0,null,null,0,null,null,null,0]
[null,null,"TOTAL  ",null,{"$f":"SUM(E62:G73)","v":0},null,null,{"$f":"SUM(H62:J73)","v":0},null,null,{"$f":"SUM(K62:M73)","v":0},null,null,{"$f":"SUM(N62:P73)","v":0},null,null,{"$f":"SUM(Q62:S73)","v":0},null,null,{"$f":"SUM(T62:W73)","v":0},null,null,null,{"$f":"SUM(X62:Z73)","v":0}]
[null,"Antes de imprimir este documento… piense en el medio ambiente!    \nCualquier copia impresa de este documento se considera como COPIA NO CONTROLADA\nLOS DATOS PROPORCIONADOS SERÁN TRATADOS DE ACUERDO A LA POLÌTICA DE TRATAMIENTO DE DATOS PERSONALES DEL ICBF Y A LA LEY 1581 DE 2012 "]
[null,null,null,null,null,"PROCESO\nPROMOCION Y PREVENCIÓN\n\nFORMATO ACTA LEGALIZACIÓN DE CUENTAS\n",null,null,null,null,null,null,null,null,"F1.A8.MO12.PP",null,null,null,null,null,"2022-02-02"]
[null,null,null,null,null,null,null,null,null,null,null,null,null,null,"Versión 3",null,null,null,null,null,"Página 2 de 3"]
[]
[null,null,null,null,null,null,null,null,null,null,null,null,null,null,"Clasificación de la Información:\nPública"]
[]
[null,null,"OBSERVACIONES SEGUIMIENTO PRESUPUESTAL  Y FINANCIERO DEL CONTRATO: "]
[]
[null,null,"SEGUIMIENTO A INEJECUCIONES Y LIBERACIONES"]
[null,null,"MES",null,"AHORROS",null,null,"INEJECUCIONES",null,null,"SEGUIMIENTO DE INEJECUCIONES",null,null,"REDISTRIBUCIÓN DE \nAHORROS",null,null,"REINVERSIÓN DE \nINEJECUCIONES",null,null,"LIBERACIONES/REINTEGROS T.N \n(Tramitadas)",null,null,"LIBERACIONES PENDIENTES POR  REALIZAR"]
[null,null,"Inejecución\n inicial",null,{"$f":"+MAYO!E85","v":0},null,null,{"$f":"+MAYO!H85","v":0},null,null,{"$f":"+G46-E74","v":0},null,null,{"$f":"+MAYO!N85","v":0},null,null,{"$f":"+MAYO!Q85","v":0},null,null,{"$f":"+MAYO!T85","v":0},null,null,{"$f":"IFERROR(+K85,0)","v":0}]
[]
[null,null,"Enero",null,{"$f":"+MAYO!E87","v":0},null,null,{"$f":"+MAYO!H87","v":0},null,null,{"$f":"+E87+H87","v":0},null,null,{"$f":"+MAYO!N87","v":0},null,null,{"$f":"+MAYO!Q87","v":0},null,null,{"$f":"+MAYO!T87","v":0},null,null,{"$f":"+W85+K87-(N87+Q87+T87)","v":0}]
[null,null,"Febrero",null,{"$f":"+MAYO!E88","v":0},null,null,{"$f":"+MAYO!H88","v":0},null,null,0,null,null,{"$f":"+MAYO!N88","v":0},null,null,{"$f":"+MAYO!Q88","v":0},null,null,{"$f":"+MAYO!T88","v":0},null,null,{"$f":"+W87+K88-(N88+Q88+T88)","v":0}]
[null,null,"Marzo",null,{"$f":"+MAYO!E89","v":0},null,null,{"$f":"+MAYO!H89","v":0},null,null,0,null,null,{"$f":"+MAYO!N89","v":0},null,null,{"$f":"+MAYO!Q89","v":0},null,null,{"$f":"+MAYO!T89","v":0},null,null,0]
[null,null,"Abril",null,{"$f":"+MAYO!E90","v":0},null,null,{"$f":"+MAYO!H90","v":0},null,null,0,null,null,{"$f":"+MAYO!N90","v":0},null,null,{"$f":"+MAYO!Q90","v":0},null,null,{"$f":"+MAYO!T90","v":0},null,null,0]
[null,null,"Mayo",null,{"$f":"+MAYO!E91","v":0},null,null,{"$f":"+MAYO!H91","v":0},null,null,0,null,null,{"$f":"+MAYO!N91","v":0},null,null,{"$f":"+MAYO!Q91","v":0},null,null,{"$f":"+MAYO!T91","v":0},null,null,0]
[null,null,"Junio",null,0,null,null,0,null,null,0,null,null,0,null,null,0,null,null,0,null,null,0]
[null,null,"Julio",null,0,null,null,0,null,null,0,null,null,0,null,null,0,null,null,0,null,null,0]
[null,null,"Agosto",null,0,null,null,0,null,null,0,null,null,0,null,null,0,null,null,0,null,null,0]
[null,null,"Septiembre",null,0,null,null,0,null,null,0,null,null,0,null,null,0,null,null,0,null,null,0]
[null,null,"Octubre",null,0,null,null,0,null,null,0,null,null,0,null,null,0,null,null,0,null,null,0]
[null,null,"Noviembre",null,0,null,null,0,null,null,0,null,null,0,null,null,0,null,null,0,null,null,0]
[null,null,"Diciembre  ",null,0,null,null,0,null,null,0,null,null,0,null,null,0,null,null,0,null,null,0]
[null,null,"TOTAL  ",null,{"$f":"SUM(E87:G98)+E85","v":0},null,null,{"$f":"SUM(H87:J98)+H85","v":0},null,null,{"$f":"SUM(K87:M98)+K85","v":0},null,null,{"$f":"SUM(N87:P98)+N85","v":0},null,null,{"$f":"SUM(Q87:S98)+Q85","v":0},null,null,{"$f":"SUM(T87:V98)+T85","v":0},null,null,{"$f":"+W92","v":0}]
[null,null,"RESUMEN PERIODICO A LA EJECUCIÓN"]
[null,null,"PRESUPUESTO APROBADO",null,null,null,"PRESUPUESTO EJECUTADO",null,null,null,null,"EJECUCION PROYECTADA \nAL PERIODO",null,null,null,null,"AVANCE EJECUCION \nDEL PERIODO",null,null,null,null,"DESVIACIÓN PRESUPUESTAL"]
[null,null,{"$f":"+E74","v":0},null,null,null,{"$f":"+H74","v":0},null,null,null,null,{"$f":"IFERROR((SUMIF(H61:J67,\">=0\",E61:G67))/E74,0)","v":0},null,null,null,null,{"$f":"IFERROR(G102/C102,0)","v":0},null,null,null,null,{"$f":"IFERROR(Q102-L102,0)","v":0}]
[null,null,"OBSERVACIONES EJECUCIÓN PRESUPUESTO: "]
[]
[null,null,"RESUMEN FINANCIERO DEL PERIODO:"]
[null,null,"SALDO DEL PERIODO ANTERIOR ",null,null,null,null,null,null,null,null,null,null,null,null,null,null,null,null,null,{"$f":"+MAYO!U112","v":0}]
[null,null,"TOTAL APORTES GIRADOS EN EL PERIODO",null,null,null,null,null,null,null,null,null,null,null,null,null,null,null,null,null,{"$f":"+Q67","v":0}]
[]
[null,null,"TOTAL APORTES PARA EL PERIODO",null,null,null,null,null,null,null,null,null,null,null,null,null,null,null,null,null,{"$f":"+U107+U106","v":0}]
[null,null,"PAGOS  REALIZADOS POR LA EAS EN EL PERIODO",null,null,null,null,null,null,null,null,null,null,null,null,null,null,null,null,null,{"$f":"+X67","v":0}]
[]
[null,null,"SALDO DE APORTES ICBF PARA EL PERIODO",null,null,null,null,null,null,null,null,null,null,null,null,null,null,null,null,null,{"$f":"+U109-U110","v":0}]
[null,null,"SALDO SEGUN EXTRACTO",null,null,null,null,null,null,null,null,null,null,null,null,null,null,null,null,null,0]
[null,null,"DIFERENCIA SALDO RECURSOS VS SALDO EXTRACTO BANCARIO",null,null,null,null,null,null,null,null,null,null,null,null,null,null,null,null,null,{"$f":"+U113-U112","v":0}]
[null,null,"VALOR CONCILIADO",null,null,null,null,null,null,null,null,null,null,null,null,null,null,null,null,null,0]
[]
[null,null,"VALOR CARGA PRESTACIONAL ACUMULADA",null,null,null,null,null,null,null,null,null,null,null,null,null,null,null,null,null,0]
[null,null,"RENDIMIENTOS FINANCIEROS DEL MES",null,null,null,null,null,null,null,null,null,null,null,null,null,null,null,null,null,0]
[null,null,"RENDIMIENTOS FNANCIEROS ACUMULADOS",null,null,null,null,null,null,null,null,null,null,null,null,null,null,null,null,null,{"$f":"+MAYO!U119+(U118-U120)","v":0}]
[null,null,"RENDIMIENTOS FINANCIEROS CONSIGNADOS",null,null,null,null,null,null,null,null,null,null,null,null,null,null,null,null,null,0]
[null,null,"Banco:",null,{"$f":"+MAYO!E121","v":"SCOTIABANK COLPATRIA SA"},null,null,null,null,null,null,"Tipo de Cuenta:",null,null,{"$f":"+MAYO!O121","v":"Ahorros"},null,null,null,"Nro de Cuenta:",null,null,{"$f":"+MAYO!V121","v":0}]
[null,null,"OBSERVACIONES  CONCILIACIÓN:"]
[]
[null,"4.","Seguimiento al uso de los recursos tasas compensatorias (Aplica Solo para HI)"]
[null,null,"MES",null,null,"PRESUPUESTO TASAS COMPENSATORIAS",null,null,"VALOR T.C RECAUDADA POR EL OPERADOR",null,null," EJECUCIÓN CON RECURSOS TASAS COMPENSATORIAS",null,null,null,null,null,"SALDO TASAS COMPENSATORIAS"]
[]
[null,null,"ENERO",null,null,{"$f":"+MAYO!F127","v":0},null,null,{"$f":"+MAYO!I127","v":0},null,null,{"$f":"+MAYO!L127","v":0},null,null,null,null,null,{"$f":"+I127-L127","v":0}]
[null,null,"FEBRERO",null,null,{"$f":"+MAYO!F128","v":0},null,null,{"$f":"+MAYO!I128","v":0},null,null,{"$f":"+MAYO!L128","v":0},null,null,null,null,null,0]
[null,null,"MARZO",null,null,{"$f":"+MAYO!F129","v":0},null,null,{"$f":"+MAYO!I129","v":0},null,null,{"$f":"+MAYO!L129","v":0},null,null,null,null,null,0]
[null,null,"ABRIL",null,null,{"$f":"+MAYO!F130","v":0},null,null,{"$f":"+MAYO!I130","v":0},null,null,{"$f":"+MAYO!L130","v":0},null,null,null,null,null,0]
[null,null,"MAYO",null,null,{"$f":"+MAYO!F131","v":0},null,null,{"$f":"+MAYO!I131","v":0},null,null,{"$f":"+MAYO!L131","v":0},null,null,null,null,null,0]
[null,null,"JUNIO",null,null,{"$f":"+MAYO!F132","v":0},null,null,0,null,null,0,null,null,0,null,null,0]
[null,null,"JULIO",null,null,{"$f":"+MAYO!F133","v":0},null,null,0,null,null,0,null,null,0,null,null,0]
[null,null,"AGOSTO",null,null,{"$f":"+MAYO!F134","v":0},null,null,0,null,null,0,null,null,0,null,null,0]
[null,null,"SEPTIEMBRE",null,null,{"$f":"+MAYO!F135","v":0},null,null,0,null,null,0,null,null,0,null,null,0]
[null,null,"OCTUBRE",null,null,{"$f":"+MAYO!F136","v":0},null,null,0,null,null,0,null,null,0,null,null,0]
[null,null,"NOVIEMBRE",null,null,{"$f":"+MAYO!F137","v":0},null,null,0,null,null,0,null,null,0,null,null,0]
[null,null,"DICIEMBRE",null,null,{"$f":"+MAYO!F138","v":0},null,null,0,null,null,0,null,null,0,null,null,0]
[null,null,"Total",null,null,{"$f":"SUM(F127:H138)","v":0},null,null,{"$f":"SUM(I127:K132)","v":0},null,null,{"$f":"SUM(L127:Q132)","v":0},null,null,null,null,null,{"$f":"SUM(R127:Z132)","v":0}]
[null,null,"OBSERVACIONES  RECAUDO TASAS:"]
[]
[null,"Antes de imprimir este documento… piense en el medio ambiente!    \nCualquier copia impresa de este documento se considera como COPIA NO CONTROLADA\nLOS DATOS PROPORCIONADOS SERÁN TRATADOS DE ACUERDO A LA POLÌTICA DE TRATAMIENTO DE DATOS PERSONALES DEL ICBF Y A LA LEY 1581 DE 2012 "]
[null,null,null,null,null,"PROCESO\nPROMOCION Y PREVENCIÓN\n\nFORMATO ACTA LEGALIZACIÓN DE CUENTAS\n",null,null,null,null,null,null,null,null,"F1.A8.MO12.PP",null,null,null,null,null,"2022-02-02"]
[null,null,null,null,null,null,null,null,null,null,null,null,null,null,"Versión 3",null,null,null,null,null,"Página 3 de 3"]
[]
[null,null,null,null,null,null,null,null,null,null,null,null,null,null,"Clasificación de la Información:\nPública"]
[]
[null,"5. ","Se Verifica que los valores por inejecuciones corresponde a los siguientes conceptos:"]
[null,null,"CONCEPTO DE DESCUENTO",null,null," Cupos CONTRATADOS",null," Cupos\nATENDIDOS ",null," NO ATENDIDOS ",null,"VALOR DESCUENTO POR INEJECUCIÓN",null,null,"FUENTE DE CONSULTA",null,null,"VALOR DESCUENTO \nTEMPORAL",null,null,"REINTEGRO DEL DESCUENTO TEMPORAL",null,null,"Saldo de Descuentos Temporales"]
[null,null,"BAJA COBERTURA",null,null,{"$f":"+X30","v":0},null,0,null,{"$f":"+F150-H150","v":0},null,0,null,null,"NO APLICA",null,null,0,null,null,0,null,null,{"$f":"+(R150-U150)+MAYO!X150","v":0}]
[null,null,"INASISTENCIA",null,null,null,null,null,null,null,null,0,null,null,"NO APLICA"]
[null,null,"NO PRESTACION DEL SERVICIO",null,null,null,null,null,null,null,null,0,null,null,"NO APLICA"]
[]
[null,null,"CUENTAME",null,null,null,null,null,null,null,null,0,null,null,"NO APLICA"]
[null,null,"TALENTO HUMANO NO CONTRATADO",null,null,null,null,null,null,null,null,0,null,null,"NO APLICA"]
[null,null,"OTRO\n (Se Especifica en Observaciones)",null,null,null,null,null,null,null,null,0,null,null,"NO APLICA"]
[]
[]
[null,null,"TOTAL DESCUENTO",null,null,null,null,null,null,null,null,{"$f":"SUM(L150:N158)","v":0}]
[null,null,"OBSERVACIONES  DESCUENTOS:"]
[]
[null,"6. ","Ejecución Aportes EAS."]
[null,null,"MES",null,null,"PRESUPUESTO",null,null,"EJECUCIÓN",null,null,"SALDO APORTES EAS",null,null,null,null,null,"OBSERVACIONES APOTES EAS"]
[]
[null,null,"ENERO",null,null,{"$f":"+MAYO!F165","v":0},null,null,{"$f":"+MAYO!I165","v":0},null,null,{"$f":"+F165-I165","v":0}]
[null,null,"FEBRERO",null,null,{"$f":"+MAYO!F166","v":0},null,null,{"$f":"+MAYO!I166","v":0},null,null,0]
[null,null,"MARZO",null,null,{"$f":"+MAYO!F167","v":0},null,null,{"$f":"+MAYO!I167","v":0},null,null,0]
[null,null,"ABRIL",null,null,{"$f":"+MAYO!F168","v":0},null,null,{"$f":"+MAYO!I168","v":0},null,null,0]
[null,null,"MAYO",null,null,{"$f":"+MAYO!F169","v":0},null,null,{"$f":"+MAYO!I169","v":0},null,null,0]
[null,null,"JUNIO",null,null,{"$f":"+MAYO!F170","v":0},null,null,0,null,null,0]
[null,null,"JULIO",null,null,{"$f":"+MAYO!F171","v":0},null,null,0,null,null,0]
[null,null,"AGOSTO",null,null,{"$f":"+MAYO!F172","v":0},null,null,0,null,null,0]
[null,null,"SEPTIEMBRE",null,null,{"$f":"+MAYO!F173","v":0},null,null,0,null,null,0]
[null,null,"OCTUBRE",null,null,{"$f":"+MAYO!F174","v":0},null,null,0,null,null,0]
[null,null,"NOVIEMBRE",null,null,{"$f":"+MAYO!F175","v":0},null,null,0,null,null,0]
[null,null,"DICIEMBRE",null,null,{"$f":"+MAYO!F176","v":0},null,null,0,null,null,0]
[null,null,"Total",null,null,{"$f":"SUM(F165:H176)","v":0},null,null,{"$f":"SUM(I165:K176)","v":0},null,null,{"$f":"SUM(L165:Q170)","v":0}]
[]
[null,"7. ","Observaciones Generales."]
[]
[]
[]
[]
[]
[]
[]
[null,"8."," Recomendaciones. (Preste la asesoría necesaria para que se superen las dificultades identificadas y se mantengan las fortalezas detectadas)  "]
[]
[]
[]
[]
[]
[]
[]
[null,"9.","Cierre."]
[null,null,"Compromisos / tareas",null,null,null,null,null,null,null,"Responsables",null,null,null,null,null,null,null,null,"Fechas"]
[]
[]
[]
[null,null,"**Las siguientes personas que firman  dan constancia que han revisado y estan de acuerdo con cada uno de los items de la presente acta y que  este ejercicio de legalización de cuentas se ha realizado conforme a los lineamientos, guias de supervisión, manuales operativos y minutas contractuales establecidas por el ICBF."]
[null," ","FIRMA RESPONSABLES ICBF Y ENTIDAD ADMINISTRADORA"]
[null,null,"Nombre",null,null,null,null,"Cargo / Dependencia",null,null,null,null,null,null,"EMAIL",null,null,null,null,null,"Firma"]
[null,null,{"$f":"+G37","v":" "},null,null,null,null,"SUPERVISOR(A) DEL CONTRATO ICBF",null,null,null,null,null,null,"@icbf.gov.co"]
[null,null,{"$f":"+U37","v":" "},null,null,null,null,"APOYO FINANCIERO ICBF",null,null,null,null,null,null,"@icbf.gov.co"]
[null,null,{"$f":"+G40","v":0},null,null,null,null,"REPRESENTANTE LEGAL EAS",null,null,null,null,null,null,{"$f":"+G41","v":0}]
[null,null,{"$f":"+MAYO!C206","v":0},null,null,null,null,{"$f":"+MAYO!H206","v":0},null,null,null,null,null,null,{"$f":"+MAYO!O206","v":0}]
[null,null,{"$f":"+MAYO!C207","v":0},null,null,null,null,{"$f":"+MAYO!H207","v":0},null,null,null,null,null,null,{"$f":"+MAYO!O207","v":0}]
[null,"Antes de imprimir este documento… piense en el medio ambiente!    \nCualquier copia impresa de este documento se considera como COPIA NO CONTROLADA\nLOS DATOS PROPORCIONADOS SERÁN TRATADOS DE ACUERDO A LA POLÌTICA DE TRATAMIENTO DE DATOS PERSONALES DEL ICBF Y A LA LEY 1581 DE 2012 "]
[]
[null,"* Escanear esta Acta debidamente Firmada y colocarla en la ruta especificada por la DPI"]
[]
["RECOMEDACIONES DE USO DE ESTE ARCHIVO:"]
["1. HABILITE MACROS : ARCHIVO > CENTRO DE CONFIANZA> CONFIGURACION DEL CENTRO DE CONFIANZA > CONFIGURACION DE MACROS > HABILITAR TODAS LAS MACROS > CONFIAR EN EL ACCESO AL MODELO DE OBJETO DE PROYECTOS VBA > ACEPTAR"]
["2. DESHABILITE VISTA PROTEGIDA: ARCHIVO> CENTRO DE CONFIANZA> CONFIGURACION DEL CENTRO DE CONFIANZA > VISTA PROTEGIDA> DESMARCAR LAS TRES OPCIONES >ACEPTAR"]
["3. HABILITAR UBICACIONES DE RED: ARCHIVO> CENTRO DE CONFIANZA> CONFIGURACION DEL CENTRO DE CONFIANZA > UBICACIONES DE CONFIANZA > MARCAR PERMITIR UBICACIONES DE CONFIANZA QUE ESTEN EN LA RED > ACEPTAR "]
["4. HABILITAR DOCUMENTOS DE CONFIANZA: ARCHIVO> CENTRO DE CONFIANZA> CONFIGURACION DEL CENTRO DE CONFIANZA > DOCUMENTOS DE CONFIANZA > MARCAR PERMITIR QUE SEAN DE CONFIANZA LOS DOCUMENTOS DE UNA RED"]

{"sheet":"JULIO","index":8,"n_rows":216,"n_cols":25,"rows_kept":216,"cut":false,"hidden":true,"merged":[[52,2,52,15],[52,16,53,25],[53,6,53,7],[53,9,54,13],[54,6,54,7],[54,19,54,23],[42,1,45,1],[50,24,50,25],[51,2,51,5],[51,6,51,8],[51,9,51,11],[51,12,51,13],[51,14,51,15],[51,16,51,17],[51,18,51,19],[51,20,51,21],[51,22,51,23],[51,24,51,25],[50,2,50,5],[50,6,50,8],[50,9,50,11],[50,12,50,13],[50,14,50,15],[50,16,50,17],[50,18,50,19],[50,20,50,21],[50,22,50,23],[48,24,48,25],[49,2,49,5],[49,6,49,8],[49,9,49,11],[49,12,49,13],[49,14,49,15],[49,16,49,17],[49,18,49,19],[49,20,49,21],[49,22,49,23],[49,24,49,25],[48,2,48,5],[48,6,48,8],[48,9,48,11],[48,12,48,13],[48,14,48,15],[48,16,48,17],[48,18,48,19],[48,20,48,21],[48,22,48,23],[46,2,47,5],[46,6,47,8],[46,9,47,11],[46,12,46,15],[46,16,46,19],[46,20,46,25],[47,12,47,13],[47,14,47,15],[47,16,47,17],[47,18,47,19],[47,20,47,21],[47,22,47,23],[47,24,47,25],[6,18,6,22],[6,23,6,26],[45,2,45,5],[45,6,45,15],[106,1,115,1],[106,2,107,19],[106,20,107,25],[109,2,110,19],[109,20,110,25],[114,2,115,19],[114,20,115,25],[83,2,83,3],[83,22,83,25],[85,2,85,3],[85,22,85,25],[83,4,83,6],[83,7,83,9],[83,10,83,12],[83,13,83,15],[83,16,83,18],[83,19,83,21],[85,4,85,6],[85,7,85,9],[85,10,85,12],[85,16,85,18],[130,8,130,10],[129,11,129,16],[130,11,130,16],[131,11,131,16],[132,11,132,16],[108,2,108,19],[108,20,108,25],[111,2,111,19],[111,20,111,25],[116,2,116,19],[116,20,116,25],[121,2,121,25],[120,2,120,3],[120,4,120,10],[120,11,120,13],[120,14,120,17],[120,18,120,20],[120,21,120,25],[117,2,117,19],[117,20,117,25],[118,2,118,19],[118,20,118,25],[85,19,85,21],[149,14,149,16],[139,2,139,25],[140,2,140,25],[135,2,135,4],[135,5,135,7],[135,8,135,10],[136,2,136,4],[136,5,136,7],[136,8,136,10],[137,2,137,4],[148,23,148,25],[135,17,135,25],[136,17,136,25],[137,17,137,25],[138,17,138,25],[137,5,137,7],[137,8,137,10],[148,5,148,6],[148,7,148,8],[148,9,148,10],[141,1,141,26],[142,1,146,4],[142,5,146,13],[142,14,142,19],[154,11,154,13],[154,14,154,16],[155,11,157,13],[155,14,157,16],[158,14,158,25],[175,11,175,16],[167,8,167,10],[167,11,167,16],[149,17,157,19],[149,20,157,22],[150,2,150,10],[151,11,152,13],[151,14,152,16],[167,5,167,7],[164,5,164,7],[164,8,164,10],[167,2,167,4],[168,11,168,16],[169,2,169,4],[173,11,173,16],[174,2,174,4],[174,5,174,7],[174,8,174,10],[150,14,150,16],[197,2,197,9],[132,5,132,7],[132,8,132,10],[169,5,169,7],[169,8,169,10],[169,11,169,16],[170,2,170,4],[170,5,170,7],[170,8,170,10],[170,11,170,16],[164,11,164,16],[165,2,165,4],[165,5,165,7],[165,8,165,10],[165,11,165,16],[166,2,166,4],[166,5,166,7],[166,8,166,10],[166,11,166,16],[164,2,164,4],[175,2,175,4],[175,5,175,7],[175,8,175,10],[168,2,168,4],[200,2,200,25],[206,2,206,6],[206,7,206,13],[206,14,206,19],[178,2,178,25],[179,2,185,25],[186,2,186,25],[187,2,193,25],[194,2,194,25],[195,2,195,9],[195,10,195,18],[195,19,195,25],[196,2,196,9],[196,10,196,18],[196,19,196,25],[206,20,206,25],[201,2,201,6],[201,7,201,13],[201,14,201,19],[201,20,201,25],[202,2,202,6],[202,7,202,13],[202,14,202,19],[202,20,202,25],[210,1,210,27],[124,2,124,4],[124,5,124,7],[124,8,124,10],[125,2,125,4],[125,5,125,7],[125,8,125,10],[126,2,126,4],[126,5,126,7],[126,8,126,10],[203,2,203,6],[203,7,203,13],[203,14,203,19],[203,20,203,25],[204,2,204,6],[204,7,204,13],[204,14,204,19],[204,20,204,25],[205,2,205,6],[205,7,205,13],[205,14,205,19],[173,5,173,7],[173,8,173,10],[205,20,205,25],[174,11,174,16],[171,2,171,4],[171,5,171,7],[171,8,171,10],[171,11,171,16],[172,2,172,4],[172,5,172,7],[172,8,172,10],[172,11,172,16],[197,10,197,18],[197,19,197,25],[198,2,198,9],[198,10,198,18],[198,19,198,25],[199,2,199,25],[149,2,149,4],[149,5,149,6],[149,7,149,8],[149,9,149,10],[149,11,149,13],[149,23,157,25],[150,11,150,13],[158,2,158,10],[158,11,158,13],[159,2,159,25],[160,2,160,25],[176,2,176,4],[176,5,176,7],[176,8,176,10],[176,11,176,16],[176,17,176,25],[163,17,175,25],[173,2,173,4],[84,10,84,12],[84,13,84,15],[84,16,84,18],[84,19,84,21],[84,22,84,25],[64,23,64,25],[65,2,65,3],[65,23,65,25],[72,23,72,25],[73,2,73,3],[73,23,73,25],[80,2,80,25],[81,2,81,25],[82,2,82,25],[64,19,64,22],[65,4,65,6],[65,7,65,9],[65,10,65,12],[65,13,65,15],[65,16,65,18],[65,19,65,22],[64,4,64,6],[66,2,66,3],[66,23,66,25],[85,13,85,15],[64,7,64,9],[64,10,64,12],[64,13,64,15],[64,16,64,18],[69,2,69,3],[69,23,69,25],[66,19,66,22],[0,1,5,4],[8,1,8,8],[8,9,8,26],[55,2,55,25],[56,2,56,25],[57,2,57,25],[58,2,58,25],[59,2,59,3],[59,23,59,25],[60,2,60,3],[60,23,60,25],[61,2,61,3],[61,23,61,25],[62,2,62,3],[62,23,62,25],[63,2,63,3],[63,23,63,25],[64,2,64,3],[9,1,9,8],[9,9,9,26],[10,1,10,8],[10,9,10,26],[6,1,6,15],[6,16,6,17],[7,1,7,6],[7,7,7,12],[7,13,7,19],[7,20,7,26],[16,2,16,26],[17,2,17,26],[18,2,18,26],[19,2,19,26],[20,2,20,26],[21,2,21,26],[11,1,11,8],[11,9,11,26],[12,1,12,8],[12,9,12,26],[14,2,14,26],[15,2,15,26],[29,23,29,25],[30,2,30,6],[30,7,30,11],[30,12,30,16],[30,17,30,21],[30,22,30,25],[22,2,22,26],[27,2,27,25],[28,4,28,7],[28,8,28,10],[28,11,28,18],[28,19,28,21],[28,22,28,25],[29,2,29,4],[29,5,29,7],[29,8,29,10],[29,11,29,13],[29,14,29,15],[29,16,29,18],[29,19,29,22],[28,2,28,3],[31,2,31,6],[31,7,31,11],[31,12,31,16],[31,17,31,21],[31,22,31,25],[32,2,32,6],[32,7,32,11],[32,12,32,16],[32,17,32,21],[32,22,32,25],[33,2,33,6],[33,7,33,11],[33,12,33,16],[33,17,33,21],[33,22,33,25],[34,2,34,6],[34,7,34,11],[34,12,34,16],[34,17,34,21],[34,22,34,25],[35,2,35,6],[35,7,35,11],[35,12,35,16],[35,17,35,21],[35,22,35,25],[36,2,36,5],[36,6,36,15],[36,16,36,19],[36,20,36,25],[39,2,39,5],[39,6,39,15],[39,16,39,19],[39,20,39,25],[40,2,40,5],[40,6,40,15],[40,16,40,19],[40,20,40,25],[37,20,37,25],[38,2,38,5],[38,6,38,9],[38,12,38,15],[38,16,38,19],[38,20,38,25],[37,2,37,5],[37,6,37,7],[37,8,37,10],[37,11,37,12],[37,13,37,15],[37,16,37,19],[44,2,44,5],[44,6,44,15],[44,16,44,19],[44,20,44,25],[41,2,41,5],[41,6,41,15],[41,16,41,19],[41,20,41,25],[42,2,42,5],[42,6,42,15],[42,16,42,19],[42,20,42,25],[43,2,43,5],[67,2,67,3],[67,23,67,25],[68,19,68,22],[69,4,69,6],[69,7,69,9],[69,10,69,12],[69,13,69,15],[69,16,69,18],[69,19,69,22],[68,4,68,6],[68,7,68,9],[68,10,68,12],[68,13,68,15],[68,16,68,18],[68,2,68,3],[68,23,68,25],[67,4,67,6],[67,7,67,9],[67,10,67,12],[67,13,67,15],[67,16,67,18],[67,19,67,22],[70,2,70,3],[70,23,70,25],[71,2,71,3],[71,23,71,25],[72,19,72,22],[73,4,73,6],[73,7,73,9],[73,10,73,12],[73,13,73,15],[73,16,73,18],[73,19,73,22],[72,4,72,6],[72,7,72,9],[72,10,72,12],[72,13,72,15],[72,16,72,18],[72,2,72,3],[70,19,70,22],[71,4,71,6],[71,7,71,9],[71,10,71,12],[71,13,71,15],[71,16,71,18],[70,7,70,9],[86,19,86,21],[86,2,86,3],[86,22,86,25],[87,4,87,6],[87,7,87,9],[87,10,87,12],[87,13,87,15],[87,16,87,18],[87,19,87,21],[86,4,86,6],[86,7,86,9],[86,10,86,12],[86,13,86,15],[86,16,86,18],[87,2,87,3],[87,22,87,25],[88,22,88,25],[89,2,89,3],[89,22,89,25],[90,19,90,21],[91,4,91,6],[91,7,91,9],[91,10,91,12],[91,13,91,15],[91,16,91,18],[91,19,91,21],[90,4,90,6],[90,7,90,9],[90,10,90,12],[90,13,90,15],[90,16,90,18],[90,2,90,3],[90,22,90,25],[91,2,91,3],[91,22,91,25],[88,19,88,21],[89,4,89,6],[89,7,89,9],[89,10,89,12],[89,13,89,15],[93,16,93,18],[93,19,93,21],[92,4,92,6],[92,7,92,9],[92,10,92,12],[92,13,92,15],[92,16,92,18],[88,2,88,3],[89,16,89,18],[89,19,89,21],[88,4,88,6],[88,7,88,9],[88,10,88,12],[88,13,88,15],[88,16,88,18],[92,2,92,3],[92,22,92,25],[93,2,93,3],[93,22,93,25],[94,19,94,21],[95,4,95,6],[95,7,95,9],[95,10,95,12],[95,13,95,15],[95,16,95,18],[95,19,95,21],[94,4,94,6],[94,7,94,9],[94,10,94,12],[94,13,94,15],[94,16,94,18],[94,2,94,3],[94,22,94,25],[95,2,95,3],[95,22,95,25],[92,19,92,21],[93,4,93,6],[93,7,93,9],[93,10,93,12],[93,13,93,15],[98,2,98,3],[98,22,98,25],[99,2,99,25],[100,2,100,5],[100,21,100,25],[97,19,97,21],[96,4,96,6],[96,7,96,9],[96,10,96,12],[96,13,96,15],[96,16,96,18],[102,2,102,25],[103,2,103,25],[104,2,104,25],[105,2,105,19],[105,20,105,25],[126,11,126,16],[127,11,127,16],[128,11,128,16],[124,11,124,16],[125,11,125,16],[124,17,124,25],[125,17,125,25],[112,2,112,19],[122,2,122,25],[123,2,123,25],[126,17,126,25],[127,17,127,25],[128,17,128,25],[119,2,119,19],[119,20,119,25],[127,8,127,10],[101,6,101,10],[101,11,101,15],[101,16,101,20],[101,2,101,5],[96,19,96,21],[97,4,97,6],[97,7,97,9],[97,10,97,12],[97,13,97,15],[97,16,97,18],[101,21,101,25],[96,2,96,3],[96,22,96,25],[97,2,97,3],[97,22,97,25],[98,19,98,21],[100,6,100,10],[100,11,100,15],[100,16,100,20],[98,4,98,6],[98,7,98,9],[98,10,98,12],[98,13,98,15],[98,16,98,18],[63,19,63,22],[62,4,62,6],[62,7,62,9],[62,10,62,12],[62,13,62,15],[62,16,62,18],[59,4,59,6],[59,7,59,9],[43,6,43,15],[43,16,43,19],[59,10,59,12],[59,13,59,15],[61,4,61,6],[61,7,61,9],[61,10,61,12],[61,13,61,15],[61,16,61,18],[61,19,61,22],[60,4,60,6],[60,7,60,9],[60,10,60,12],[60,13,60,15],[60,16,60,18],[43,20,43,25],[70,10,70,12],[70,13,70,15],[70,16,70,18],[66,4,66,6],[66,7,66,9],[66,10,66,12],[66,13,66,15],[63,10,63,12],[63,13,63,15],[63,16,63,18],[168,5,168,7],[168,8,168,10],[112,20,112,25],[113,2,113,19],[113,20,113,25],[161,2,161,25],[162,2,162,4],[162,5,162,7],[162,8,162,10],[162,11,162,16],[162,17,162,25],[163,2,163,4],[163,5,163,7],[163,8,163,10],[163,11,163,16],[147,2,147,25],[153,11,153,13],[153,14,153,16],[151,2,152,10],[153,2,153,10],[148,20,148,22],[148,2,148,4],[127,2,127,4],[127,5,127,7],[0,14,1,19],[0,20,1,26],[2,14,3,19],[2,20,3,26],[4,14,5,26],[76,14,77,19],[76,20,77,26],[66,16,66,18],[62,19,62,22],[59,16,59,18],[59,19,59,22],[60,19,60,22],[45,16,45,19],[45,20,45,25],[74,1,74,26],[75,1,79,4],[75,5,79,13],[75,14,75,19],[75,20,75,26],[63,4,63,6],[63,7,63,9],[0,5,5,13],[71,19,71,22],[70,4,70,6],[142,20,142,26],[131,2,131,4],[131,5,131,7],[131,8,131,10],[129,17,129,25],[128,2,128,4],[128,5,128,7],[128,8,128,10],[133,2,133,4],[133,5,133,7],[133,8,133,10],[134,2,134,4],[134,5,134,7],[134,8,134,10],[132,2,132,4],[138,2,138,4],[138,5,138,7],[138,8,138,10],[133,11,133,16],[134,11,134,16],[135,11,135,16],[136,11,136,16],[137,11,137,16],[138,11,138,16],[84,2,84,3],[84,4,84,6],[84,7,84,9],[207,1,207,26],[209,1,209,24],[78,14,79,26],[143,14,144,19],[143,20,144,26],[145,14,146,26],[148,11,148,13],[148,14,148,16],[148,17,148,19],[154,2,154,10],[155,2,157,10],[129,2,129,4],[129,5,129,7],[129,8,129,10],[130,2,130,4],[130,17,130,25],[131,17,131,25],[132,17,132,25],[130,5,130,7],[133,17,133,25],[134,17,134,25]]}
[null,null,null,null,null,"PROCESO\nPROMOCION Y PREVENCIÓN\n\nFORMATO ACTA LEGALIZACIÓN DE CUENTAS\n",null,null,null,null,null,null,null,null,"F1.A8.MO12.PP",null,null,null,null,null,"2022-02-02"]
[]
[null,null,null,null,null,null,null,null,null,null,null,null,null,null,"Versión 3",null,null,null,null,null,"Página 1 de 3"]
[]
[null,null,null,null,null,null,null,null,null,null,null,null,null,null,"Clasificación de la Información:\nPública"]
[]
[null,"ACTA DE LEGALIZACIÓN N°",null,null,null,null,null,null,null,null,null,null,null,null,null,null,7,null,"ESTADO DEL CONTRATO:",null,null,null,null,{"$f":"+JUNIO!X7","v":"VIGENTE"}]
[null,"Fecha y Hora Inicio:",null,null,null,null,null,"2019-01-01T15:00:00",null,null,null,null,null,"Fecha y Hora Fin:  ",null,null,null,null,null,null,"2019-01-01T15:00:00"]
[null,"Lugar:",null,null,null,null,null,null,null,{"$f":"+JUNIO!J9","v":"Regional_Amazonas"}]
[null,"Dependencia que Convoca:",null,null,null,null,null,null,null,{"$f":"+JUNIO!J10","v":"Primera Infancia - Grupo de Atención en Ciclos de Vida y Nutrición "}]
[null,"Proceso:",null,null,null,null,null,null,null,{"$f":"+JUNIO!J11","v":"Promoción y Prevención "}]
[null,"Objetivo:",null,null,null,null,null,null,null,{"$f":"+JUNIO!J12","v":"Recepción, revisión, el análisis y  Legalización de los Gastos e Ingresos del Informe Financiero presentado por la entidad administradora (EAS)"}]
[null,"Nombre EAS:",null,null,null,null,null,null,null,{"$f":"+JUNIO!J13","v":"ASOCIACION DE HOGARES"}]
[null,"Agenda: "]
[null,"1.","Desarrollo."]
[null,"2.","Información general del contrato."]
[null,"3.","Informe  de ejecución Presupuestal y  financiera requerido con los debidos soporte."]
[null,"4.","Seguimiento al Uso de Tasas Compensatorias (Aplica Solo para HI)."]
[null,"5.","Detalle de Inejecuciones."]
[null,"6.","Ejecución Contrapartida."]
[null,"7.","Situación Encontrada."]
[null,"8.","Recomendaciones."]
[null,"9.","Cierre."]
[null,"         Desarrollo: "]
[null,"1.","Se da inicio a la legalización de los informes financieros Presentados por la EAS con el fin de verificar la correcta Ejecución del presupuesto aprobado dentro de los "]
[null,null,"lineamientos, guias de supervision, manuales operativos y minutas que corresponden."]
[null,"2.","A continuaciòn en el presente cuadro  se relaciona la información general del contrato."]
[null,null,"Información general del contrato."]
[null,null,"Regional:",null,{"$f":"+J9","v":"Regional_Amazonas"},null,null,null,"Centro Zonal:",null,null,{"$f":"+JUNIO!L29","v":"CZ_LETICIA"},null,null,null,null,null,null,null,"N° de Contrato\n o Convenio",null,null,{"$f":"+JUNIO!W29","v":0}]
[null,null,"N° CDP ",null,null,{"$f":"+JUNIO!F30","v":0},null,null,"N° RP",null,null,{"$f":"+JUNIO!L30","v":0},null,null,"FECHA \nACTA INICIO",null,{"$f":"+JUNIO!Q30","v":"00:00:00"},null,null,"Cupos Contratados:",null,null,null,{"$f":"+W36+R36+M36+H36+C36","v":0}]
[null,null," Modalidad 1:",null,null,null,null,"Modalidad 2:",null,null,null,null,"Modalidad 3:",null,null,null,null,"Modalidad 4:",null,null,null,null,"Modalidad 5:"]
[null,null,{"$f":"+JUNIO!C32","v":"NO_APLICA"},null,null,null,null,{"$f":"+JUNIO!H32","v":"NO_APLICA"},null,null,null,null,{"$f":"+JUNIO!M32","v":"NO_APLICA"},null,null,null,null,{"$f":"+JUNIO!R32","v":"NO_APLICA"},null,null,null,null,{"$f":"+JUNIO!W32","v":"NO_APLICA"}]
[null,null,"SERVICIO 1:",null,null,null,null,"SERVICIO 2:",null,null,null,null,"SERVICIO 3:",null,null,null,null,"SERVICIO 4:",null,null,null,null,"SERVICIO 5:"]
[null,null,{"$f":"+JUNIO!C34","v":"NO APLICA"},null,null,null,null,{"$f":"+JUNIO!H34","v":"NO APLICA"},null,null,null,null,{"$f":"+JUNIO!M34","v":"NO APLICA"},null,null,null,null,{"$f":"+JUNIO!R34","v":"NO APLICA"},null,null,null,null,{"$f":"+JUNIO!W34","v":"NO APLICA"}]
[null,null,"CUPOS CONTRATADO 1:",null,null,null,null,"CUPOS CONTRATADO 2:",null,null,null,null,"CUPOS CONTRATADO 3:",null,null,null,null,"CUPOS CONTRATADO 4:",null,null,null,null,"CUPOS CONTRATADO 5:"]
[null,null,{"$f":"+JUNIO!C36","v":0},null,null,null,null,{"$f":"+JUNIO!H36","v":0},null,null,null,null,{"$f":"+JUNIO!M36","v":0},null,null,null,null,{"$f":"+JUNIO!R36","v":0},null,null,null,null,{"$f":"+JUNIO!W36","v":0}]
[null,null,"Nombre Supervisor CTO:",null,null,null,{"$f":"+JUNIO!G37","v":" "},null,null,null,null,null,null,null,null,null,"Apoyo Financiero ICBF:",null,null,null,{"$f":"+JUNIO!U37","v":" "}]
[null,null,"Plazo de ejecución CTO:",null,null,null,"Desde:",null,{"$f":"+JUNIO!I38","v":"00:00:00"},null,null,"Hasta:",null,{"$f":"+JUNIO!N38","v":"00:00:00"},null,null,"Fecha aprob. póliza:",null,null,null,{"$f":"+JUNIO!U38","v":" "}]
[null,null,"Póliza N° 1 del CTO",null,null,null,{"$f":"+JUNIO!G39","v":0},null,null,null,"Poliza N° 2",null,{"$f":"+JUNIO!M39","v":0},null,null,null,"Nombre Ent. Aseguradora",null,null,null,{"$f":"+JUNIO!U39","v":" "}]
[null,null,"Representante Legal:",null,null,null,{"$f":"+JUNIO!G40","v":0},null,null,null,null,null,null,null,null,null,"Cédula RL: ",null,null,null,{"$f":"+JUNIO!U40","v":" "}]
[null,null,"Email Representante L.",null,null,null,{"$f":"+JUNIO!G41","v":0},null,null,null,null,null,null,null,null,null,"NIT EAS:",null,null,null,{"$f":"+JUNIO!U41","v":" "}]
[null,null,"Telefono o Cel R.L",null,null,null,{"$f":"+JUNIO!G42","v":0},null,null,null,null,null,null,null,null,null,"Fecha Vencimiento R. L:",null,null,null,{"$f":"+JUNIO!U42","v":" "}]
[null,"VIGENCIA ACTUAL","Valor Inicial del CTO: \n(Aporte ICBF)",null,null,null,{"$f":"+JUNIO!G43","v":0},null,null,null,null,null,null,null,null,null,"Valor Aportes EAS:",null,null,null,{"$f":"+JUNIO!U43","v":0}]
[null,null,"Adiciones al CTO:",null,null,null,{"$f":"+JUNIO!G44","v":0},null,null,null,null,null,null,null,null,null,"Adiciones Aportes EAS:",null,null,null,{"$f":"+JUNIO!U44","v":0}]
[null,null,"Reducciones al CTO",null,null,null,{"$f":"+JUNIO!G45","v":0},null,null,null,null,null,null,null,null,null,"Total Aportes EAS:",null,null,null,{"$f":"+U44+U43","v":0}]
[null,null,"VALOR APORTE ICBF",null,null,null,{"$f":"+(G43+G44)-G45","v":0},null,null,null,null,null,null,null,null,null,"Valor Actual del CTO:",null,null,null,{"$f":"+G43+U43+G44+U44-G45","v":0}]
[null,null,"VIGENCIA",null,null,null,"APORTE ICBF",null,null,"APORTE EAS",null,null,"Adiciones al contrato",null,null,null,"Reducciones al contrato",null,null,null,"Valor final del contrato"]
[null,null,null,null,null,null,null,null,null,null,null,null,"ICBF",null,"EAS",null,"ICBF",null,"EAS",null,"ICBF",null,"EAS",null,"TOTAL"]
[null,null,{"$f":"+JUNIO!C49","v":2020},null,null,null,{"$f":"+JUNIO!G49","v":0},null,null,{"$f":"+JUNIO!J49","v":0},null,null,{"$f":"+JUNIO!M49","v":0},null,{"$f":"+JUNIO!O49","v":0},null,{"$f":"+JUNIO!Q49","v":0},null,{"$f":"+JUNIO!S49","v":0},null,{"$f":"+G49+M49-Q49","v":0},null,{"$f":"+J49+O49-S49","v":0},null,{"$f":"+U49+W49","v":0}]
[null,null,{"$f":"+JUNIO!C50","v":2021},null,null,null,{"$f":"+JUNIO!G50","v":0},null,null,{"$f":"+JUNIO!J50","v":0},null,null,{"$f":"+JUNIO!M50","v":0},null,{"$f":"+JUNIO!O50","v":0},null,{"$f":"+JUNIO!Q50","v":0},null,{"$f":"+JUNIO!S50","v":0},null,{"$f":"+G50+M50-Q50","v":0},null,{"$f":"+J50+O50-S50","v":0},null,{"$f":"+U50+W50","v":0}]
[null,null,{"$f":"+JUNIO!C51","v":2022},null,null,null,{"$f":"+JUNIO!G51","v":0},null,null,{"$f":"+JUNIO!J51","v":0},null,null,{"$f":"+JUNIO!M51","v":0},null,{"$f":"+JUNIO!O51","v":0},null,{"$f":"+JUNIO!Q51","v":0},null,{"$f":"+JUNIO!S51","v":0},null,0,null,0,null,0]
[null,null,"TOTAL",null,null,null,{"$f":"SUM(G49:I51)","v":0},null,null,{"$f":"SUM(J49:L51)","v":0},null,null,{"$f":"SUM(M49:N51)","v":0},null,{"$f":"SUM(O49:P51)","v":0},null,{"$f":"SUM(Q49:R51)","v":0},null,{"$f":"SUM(S49:T51)","v":0},null,{"$f":"SUM(U49:V51)","v":0},null,{"$f":"SUM(W49:X51)","v":0},null,{"$f":"+Y51+Y50+Y49","v":0}]
[null,null,"La entidad presenta informe financiero mensual ante el ICBF como sigue:",null,null,null,null,null,null,null,null,null,null,null,null,null,"Presenta los documentos soportes que acompañan el informe financiero y se entrega al ICBF copia de los mismos en medio:"]
[null,null,"Mes a legalizar:",null,null,null,"JULIO",null,null,"¿Los documentos aportados permiten realizar la legalización del informe financiero?    ",null,null,null,null,"SI","X"]
[null,null,"Fecha radicación EAS:",null,null,null,"2022-07-10",null,null,null,null,null,null,null,"NO",null,null,null,null,"DIGITAL Y FISICO"]
[null,null,"OBSERVACIONES INFORMACIÓN GENERAL:"]
[]
[null,"3. ","Se verifica  la ejecución de los recursos del contrato de acuerdo a los Informes Financieros presentados por la entidad:"]
[null,null,"SEGUIMIENTO PRESUPUESTAL  Y FINANCIERO DEL CONTRATO"]
[null,null,"MES",null,"PRESUPUESTO APROBADO + REPROGRAMACIONES \n(Aportes ICBF)",null,null,"EJECUCIÓN",null,null,"SALDO SIN EJECUTAR",null,null,"PROGRAMACIÓN DESEMBOLSOS",null,null,"DESEMBOLSOS GIRADOS",null,null,"DIFERENCIA PROGRAMADO VS PAGADO",null,null,null,"PAGOS REAL. EN EL MES"]
[]
[null,null,"Enero",null,{"$f":"+JUNIO!E62","v":0},null,null,{"$f":"+JUNIO!H62","v":0},null,null,{"$f":"+E62-H62","v":0},null,null,{"$f":"+JUNIO!N62","v":0},null,null,{"$f":"+JUNIO!Q62","v":0},null,null,{"$f":"+N62-Q62","v":0},null,null,null,{"$f":"+JUNIO!X62","v":0}]
[null,null,"Febrero",null,{"$f":"+JUNIO!E63","v":0},null,null,{"$f":"+JUNIO!H63","v":0},null,null,0,null,null,{"$f":"+JUNIO!N63","v":0},null,null,{"$f":"+JUNIO!Q63","v":0},null,null,0,null,null,null,{"$f":"+JUNIO!X63","v":0}]
[null,null,"Marzo",null,{"$f":"+JUNIO!E64","v":0},null,null,{"$f":"+JUNIO!H64","v":0},null,null,0,null,null,{"$f":"+JUNIO!N64","v":0},null,null,{"$f":"+JUNIO!Q64","v":0},null,null,0,null,null,null,{"$f":"+JUNIO!X64","v":0}]
[null,null,"Abril",null,{"$f":"+JUNIO!E65","v":0},null,null,{"$f":"+JUNIO!H65","v":0},null,null,0,null,null,{"$f":"+JUNIO!N65","v":0},null,null,{"$f":"+JUNIO!Q65","v":0},null,null,0,null,null,null,{"$f":"+JUNIO!X65","v":0}]
[null,null,"Mayo",null,{"$f":"+JUNIO!E66","v":0},null,null,{"$f":"+JUNIO!H66","v":0},null,null,0,null,null,{"$f":"+JUNIO!N66","v":0},null,null,{"$f":"+JUNIO!Q66","v":0},null,null,0,null,null,null,{"$f":"+JUNIO!X66","v":0}]
[null,null,"Junio",null,{"$f":"+JUNIO!E67","v":0},null,null,{"$f":"+JUNIO!H67","v":0},null,null,0,null,null,{"$f":"+JUNIO!N67","v":0},null,null,{"$f":"+JUNIO!Q67","v":0},null,null,0,null,null,null,{"$f":"+JUNIO!X67","v":0}]
[null,null,"Julio",null,{"$f":"+JUNIO!E68","v":0},null,null,0,null,null,0,null,null,{"$f":"+JUNIO!N68","v":0},null,null,0,null,null,0,null,null,null,0]
[null,null,"Agosto",null,{"$f":"+JUNIO!E69","v":0},null,null,0,null,null,0,null,null,{"$f":"+JUNIO!N69","v":0},null,null,0,null,null,0,null,null,null,0]
[null,null,"Septiembre",null,{"$f":"+JUNIO!E70","v":0},null,null,0,null,null,0,null,null,{"$f":"+JUNIO!N70","v":0},null,null,0,null,null,0,null,null,null,0]
[null,null,"Octubre",null,{"$f":"+JUNIO!E71","v":0},null,null,0,null,null,0,null,null,{"$f":"+JUNIO!N71","v":0},null,null,0,null,null,0,null,null,null,0]
[null,null,"Noviembre",null,{"$f":"+JUNIO!E72","v":0},null,null,0,null,null,0,null,null,{"$f":"+JUNIO!N72","v":0},null,null,0,null,null,0,null,null,null,0]
[null,null,"Diciembre  ",null,{"$f":"+JUNIO!E73","v":0},null,null,0,null,null,0,null,null,{"$f":"+JUNIO!N73","v":0},null,null,0,null,null,0,null,null,null,0]
[null,null,"TOTAL  ",null,{"$f":"SUM(E62:G73)","v":0},null,null,{"$f":"SUM(H62:J73)","v":0},null,null,{"$f":"SUM(K62:M73)","v":0},null,null,{"$f":"SUM(N62:P73)","v":0},null,null,{"$f":"SUM(Q62:S73)","v":0},null,null,{"$f":"SUM(T62:W73)","v":0},null,null,null,{"$f":"SUM(X62:Z73)","v":0}]
[null,"Antes de imprimir este documento… piense en el medio ambiente!    \nCualquier copia impresa de este documento se considera como COPIA NO CONTROLADA\nLOS DATOS PROPORCIONADOS SERÁN TRATADOS DE ACUERDO A LA POLÌTICA DE TRATAMIENTO DE DATOS PERSONALES DEL ICBF Y A LA LEY 1581 DE 2012 "]
[null,null,null,null,null,"PROCESO\nPROMOCION Y PREVENCIÓN\n\nFORMATO ACTA LEGALIZACIÓN DE CUENTAS\n",null,null,null,null,null,null,null,null,"F1.A8.MO12.PP",null,null,null,null,null,"2022-02-02"]
[null,null,null,null,null,null,null,null,null,null,null,null,null,null,"Versión 3",null,null,null,null,null,"Página 2 de 3"]
[]
[null,null,null,null,null,null,null,null,null,null,null,null,null,null,"Clasificación de la Información:\nPública"]
[]
[null,null,"OBSERVACIONES SEGUIMIENTO PRESUPUESTAL  Y FINANCIERO DEL CONTRATO: "]
[]
[null,null,"SEGUIMIENTO A INEJECUCIONES Y LIBERACIONES"]
[null,null,"MES",null,"AHORROS",null,null,"INEJECUCIONES",null,null,"SEGUIMIENTO DE INEJECUCIONES",null,null,"REDISTRIBUCIÓN DE \nAHORROS",null,null,"REINVERSIÓN DE \nINEJECUCIONES",null,null,"LIBERACIONES/REINTEGROS T.N \n(Tramitadas)",null,null,"LIBERACIONES PENDIENTES POR  REALIZAR"]
[null,null,"Inejecución\n inicial",null,{"$f":"+JUNIO!E85","v":0},null,null,{"$f":"+JUNIO!H85","v":0},null,null,{"$f":"+G46-E74","v":0},null,null,{"$f":"+JUNIO!N85","v":0},null,null,{"$f":"+JUNIO!Q85","v":0},null,null,{"$f":"+JUNIO!T85","v":0},null,null,{"$f":"IFERROR(+K85,0)","v":0}]
[]
[null,null,"Enero",null,{"$f":"+JUNIO!E87","v":0},null,null,{"$f":"+JUNIO!H87","v":0},null,null,{"$f":"+E87+H87","v":0},null,null,{"$f":"+JUNIO!N87","v":0},null,null,{"$f":"+JUNIO!Q87","v":0},null,null,{"$f":"+JUNIO!T87","v":0},null,null,{"$f":"+W85+K87-(N87+Q87+T87)","v":0}]
[null,null,"Febrero",null,{"$f":"+JUNIO!E88","v":0},null,null,{"$f":"+JUNIO!H88","v":0},null,null,0,null,null,{"$f":"+JUNIO!N88","v":0},null,null,{"$f":"+JUNIO!Q88","v":0},null,null,{"$f":"+JUNIO!T88","v":0},null,null,{"$f":"+W87+K88-(N88+Q88+T88)","v":0}]
[null,null,"Marzo",null,{"$f":"+JUNIO!E89","v":0},null,null,{"$f":"+JUNIO!H89","v":0},null,null,0,null,null,{"$f":"+JUNIO!N89","v":0},null,null,{"$f":"+JUNIO!Q89","v":0},null,null,{"$f":"+JUNIO!T89","v":0},null,null,0]
[null,null,"Abril",null,{"$f":"+JUNIO!E90","v":0},null,null,{"$f":"+JUNIO!H90","v":0},null,null,0,null,null,{"$f":"+JUNIO!N90","v":0},null,null,{"$f":"+JUNIO!Q90","v":0},null,null,{"$f":"+JUNIO!T90","v":0},null,null,0]
[null,null,"Mayo",null,{"$f":"+JUNIO!E91","v":0},null,null,{"$f":"+JUNIO!H91","v":0},null,null,0,null,null,{"$f":"+JUNIO!N91","v":0},null,null,{"$f":"+JUNIO!Q91","v":0},null,null,{"$f":"+JUNIO!T91","v":0},null,null,0]
[null,null,"Junio",null,{"$f":"+JUNIO!E92","v":0},null,null,{"$f":"+JUNIO!H92","v":0},null,null,0,null,null,{"$f":"+JUNIO!N92","v":0},null,null,{"$f":"+JUNIO!Q92","v":0},null,null,{"$f":"+JUNIO!T92","v":0},null,null,0]
[null,null,"Julio",null,0,null,null,0,null,null,0,null,null,0,null,null,0,null,null,0,null,null,0]
[null,null,"Agosto",null,0,null,null,0,null,null,0,null,null,0,null,null,0,null,null,0,null,null,0]
[null,null,"Septiembre",null,0,null,null,0,null,null,0,null,null,0,null,null,0,null,null,0,null,null,0]
[null,null,"Octubre",null,0,null,null,0,null,null,0,null,null,0,null,null,0,null,null,0,null,null,0]
[null,null,"Noviembre",null,0,null,null,0,null,null,0,null,null,0,null,null,0,null,null,0,null,null,0]
[null,null,"Diciembre  ",null,0,null,null,0,null,null,0,null,null,0,null,null,0,null,null,0,null,null,0]
[null,null,"TOTAL",null,{"$f":"SUM(E87:G98)+E85","v":0},null,null,{"$f":"SUM(H87:J98)+H85","v":0},null,null,{"$f":"SUM(K87:M98)+K85","v":0},null,null,{"$f":"SUM(N87:P98)+N85","v":0},null,null,{"$f":"SUM(Q87:S98)+Q85","v":0},null,null,{"$f":"SUM(T87:V98)+T85","v":0},null,null,{"$f":"+W93","v":0}]
[null,null,"RESUMEN PERIODICO A LA EJECUCIÓN"]
[null,null,"PRESUPUESTO APROBADO",null,null,null,"PRESUPUESTO EJECUTADO",null,null,null,null,"EJECUCION PROYECTADA \nAL PERIODO",null,null,null,null,"AVANCE EJECUCION \nDEL PERIODO",null,null,null,null,"DESVIACIÓN PRESUPUESTAL"]
[null,null,{"$f":"+E74","v":0},null,null,null,{"$f":"+H74","v":0},null,null,null,null,{"$f":"IFERROR((SUMIF(H61:J68,\">=0\",E61:G68))/E74,0)","v":0},null,null,null,null,{"$f":"IFERROR(G102/C102,0)","v":0},null,null,null,null,{"$f":"+Q102-L102","v":0}]
[null,null,"OBSERVACIONES EJECUCIÓN PRESUPUESTO: "]
[]
[null,null,"RESUMEN FINANCIERO DEL PERIODO:"]
[null,null,"SALDO DEL PERIODO ANTERIOR ",null,null,null,null,null,null,null,null,null,null,null,null,null,null,null,null,null,{"$f":"+JUNIO!U112","v":0}]
[null,null,"TOTAL APORTES GIRADOS EN EL PERIODO",null,null,null,null,null,null,null,null,null,null,null,null,null,null,null,null,null,{"$f":"+Q68","v":0}]
[]
[null,null,"TOTAL APORTES PARA EL PERIODO",null,null,null,null,null,null,null,null,null,null,null,null,null,null,null,null,null,{"$f":"+U107+U106","v":0}]
[null,null,"PAGOS  REALIZADOS POR LA EAS EN EL PERIODO",null,null,null,null,null,null,null,null,null,null,null,null,null,null,null,null,null,{"$f":"+X68","v":0}]
[]
[null,null,"SALDO DE APORTES ICBF PARA EL PERIODO",null,null,null,null,null,null,null,null,null,null,null,null,null,null,null,null,null,{"$f":"+U109-U110","v":0}]
[null,null,"SALDO SEGUN EXTRACTO",null,null,null,null,null,null,null,null,null,null,null,null,null,null,null,null,null,0]
[null,null,"DIFERENCIA SALDO RECURSOS VS SALDO EXTRACTO BANCARIO",null,null,null,null,null,null,null,null,null,null,null,null,null,null,null,null,null,{"$f":"+U113-U112","v":0}]
[null,null,"VALOR CONCILIADO",null,null,null,null,null,null,null,null,null,null,null,null,null,null,null,null,null,0]
[]
[null,null,"VALOR CARGA PRESTACIONAL ACUMULADA",null,null,null,null,null,null,null,null,null,null,null,null,null,null,null,null,null,0]
[null,null,"RENDIMIENTOS FINANCIEROS DEL MES",null,null,null,null,null,null,null,null,null,null,null,null,null,null,null,null,null,0]
[null,null,"RENDIMIENTOS FNANCIEROS ACUMULADOS",null,null,null,null,null,null,null,null,null,null,null,null,null,null,null,null,null,{"$f":"+JUNIO!U119+(U118-U120)","v":0}]
[null,null,"RENDIMIENTOS FINANCIEROS CONSIGNADOS",null,null,null,null,null,null,null,null,null,null,null,null,null,null,null,null,null,0]
[null,null,"Banco:",null,{"$f":"+JUNIO!E121","v":"SCOTIABANK COLPATRIA SA"},null,null,null,null,null,null,"Tipo de Cuenta:",null,null,{"$f":"+JUNIO!O121","v":"Ahorros"},null,null,null,"Nro de Cuenta:",null,null,{"$f":"+JUNIO!V121","v":0}]
[null,null,"OBSERVACIONES  CONCILIACIÓN:"]
[]
[null,"4.","Seguimiento al uso de los recursos tasas compensatorias (Aplica Solo para HI)"]
[null,null,"MES",null,null,"PRESUPUESTO TASAS COMPENSATORIAS",null,null,"VALOR T.C RECAUDADA POR EL OPERADOR",null,null," EJECUCIÓN CON RECURSOS TASAS COMPENSATORIAS",null,null,null,null,null,"SALDO TASAS COMPENSATORIAS"]
[]
[null,null,"ENERO",null,null,{"$f":"+JUNIO!F127","v":0},null,null,{"$f":"+JUNIO!I127","v":0},null,null,{"$f":"+JUNIO!L127","v":0},null,null,null,null,null,{"$f":"+I127-L127","v":0}]
[null,null,"FEBRERO",null,null,{"$f":"+JUNIO!F128","v":0},null,null,{"$f":"+JUNIO!I128","v":0},null,null,{"$f":"+JUNIO!L128","v":0},null,null,null,null,null,0]
[null,null,"MARZO",null,null,{"$f":"+JUNIO!F129","v":0},null,null,{"$f":"+JUNIO!I129","v":0},null,null,{"$f":"+JUNIO!L129","v":0},null,null,null,null,null,0]
[null,null,"ABRIL",null,null,{"$f":"+JUNIO!F130","v":0},null,null,{"$f":"+JUNIO!I130","v":0},null,null,{"$f":"+JUNIO!L130","v":0},null,null,null,null,null,0]
[null,null,"MAYO",null,null,{"$f":"+JUNIO!F131","v":0},null,null,{"$f":"+JUNIO!I131","v":0},null,null,{"$f":"+JUNIO!L131","v":0},null,null,null,null,null,0]
[null,null,"JUNIO",null,null,{"$f":"+JUNIO!F132","v":0},null,null,{"$f":"+JUNIO!I132","v":0},null,null,{"$f":"+JUNIO!L132","v":0},null,null,null,null,null,0]
[null,null,"JULIO",null,null,{"$f":"+JUNIO!F133","v":0},null,null,0,null,null,0,null,null,0,null,null,0]
[null,null,"AGOSTO",null,null,{"$f":"+JUNIO!F134","v":0},null,null,0,null,null,0,null,null,0,null,null,0]
[null,null,"SEPTIEMBRE",null,null,{"$f":"+JUNIO!F135","v":0},null,null,0,null,null,0,null,null,0,null,null,0]
[null,null,"OCTUBRE",null,null,{"$f":"+JUNIO!F136","v":0},null,null,0,null,null,0,null,null,0,null,null,0]
[null,null,"NOVIEMBRE",null,null,{"$f":"+JUNIO!F137","v":0},null,null,0,null,null,0,null,null,0,null,null,0]
[null,null,"DICIEMBRE",null,null,{"$f":"+JUNIO!F138","v":0},null,null,0,null,null,0,null,null,0,null,null,0]
[null,null,"Total",null,null,{"$f":"SUM(F127:H138)","v":0},null,null,{"$f":"SUM(I127:K133)","v":0},null,null,{"$f":"SUM(L127:Q133)","v":0},null,null,null,null,null,{"$f":"SUM(R127:Z133)","v":0}]
[null,null,"OBSERVACIONES  RECAUDO TASAS:"]
[]
[null,"Antes de imprimir este documento… piense en el medio ambiente!    \nCualquier copia impresa de este documento se considera como COPIA NO CONTROLADA\nLOS DATOS PROPORCIONADOS SERÁN TRATADOS DE ACUERDO A LA POLÌTICA DE TRATAMIENTO DE DATOS PERSONALES DEL ICBF Y A LA LEY 1581 DE 2012 "]
[null,null,null,null,null,"PROCESO\nPROMOCION Y PREVENCIÓN\n\nFORMATO ACTA LEGALIZACIÓN DE CUENTAS\n",null,null,null,null,null,null,null,null,"F1.A8.MO12.PP",null,null,null,null,null,"2022-02-02"]
[null,null,null,null,null,null,null,null,null,null,null,null,null,null,"Versión 3",null,null,null,null,null,"Página 3 de 3"]
[]
[null,null,null,null,null,null,null,null,null,null,null,null,null,null,"Clasificación de la Información:\nPública"]
[]
[null,"5. ","Se Verifica que los valores por inejecuciones corresponde a los siguientes conceptos:"]
[null,null,"CONCEPTO DE DESCUENTO",null,null," Cupos CONTRATADOS",null," Cupos\nATENDIDOS ",null," NO ATENDIDOS ",null,"VALOR DESCUENTO POR INEJECUCIÓN",null,null,"FUENTE DE CONSULTA",null,null,"VALOR DESCUENTO \nTEMPORAL",null,null,"REINTEGRO DEL DESCUENTO TEMPORAL",null,null,"Saldo de Descuentos Temporales"]
[null,null,"BAJA COBERTURA",null,null,{"$f":"+X30","v":0},null,0,null,{"$f":"+F150-H150","v":0},null,0,null,null,"NO APLICA",null,null,0,null,null,0,null,null,{"$f":"+(R150-U150)+JUNIO!X150","v":0}]
[null,null,"INASISTENCIA",null,null,null,null,null,null,null,null,0,null,null,"NO APLICA"]
[null,null,"NO PRESTACION DEL SERVICIO",null,null,null,null,null,null,null,null,0,null,null,"NO APLICA"]
[]
[null,null,"CUENTAME",null,null,null,null,null,null,null,null,0,null,null,"NO APLICA"]
[null,null,"TALENTO HUMANO NO CONTRATADO",null,null,null,null,null,null,null,null,0,null,null,"NO APLICA"]
[null,null,"OTRO\n (Se Especifica en Observaciones)",null,null,null,null,null,null,null,null,0,null,null,"NO APLICA"]
[]
[]
[null,null,"TOTAL DESCUENTO",null,null,null,null,null,null,null,null,{"$f":"SUM(L150:N158)","v":0}]
[null,null,"OBSERVACIONES  DESCUENTOS:"]
[]
[null,"6. ","Ejecución Aportes EAS."]
[null,null,"MES",null,null,"PRESUPUESTO",null,null,"EJECUCIÓN",null,null,"SALDO APORTES EAS",null,null,null,null,null,"OBSERVACIONES APOTES EAS"]
[]
[null,null,"ENERO",null,null,{"$f":"+JUNIO!F165","v":0},null,null,{"$f":"+JUNIO!I165","v":0},null,null,{"$f":"+F165-I165","v":0}]
[null,null,"FEBRERO",null,null,{"$f":"+JUNIO!F166","v":0},null,null,{"$f":"+JUNIO!I166","v":0},null,null,0]
[null,null,"MARZO",null,null,{"$f":"+JUNIO!F167","v":0},null,null,{"$f":"+JUNIO!I167","v":0},null,null,0]
[null,null,"ABRIL",null,null,{"$f":"+JUNIO!F168","v":0},null,null,{"$f":"+JUNIO!I168","v":0},null,null,0]
[null,null,"MAYO",null,null,{"$f":"+JUNIO!F169","v":0},null,null,{"$f":"+JUNIO!I169","v":0},null,null,0]
[null,null,"JUNIO",null,null,{"$f":"+JUNIO!F170","v":0},null,null,{"$f":"+JUNIO!I170","v":0},null,null,0]
[null,null,"JULIO",null,null,{"$f":"+JUNIO!F171","v":0},null,null,0,null,null,0]
[null,null,"AGOSTO",null,null,{"$f":"+JUNIO!F172","v":0},null,null,0,null,null,0]
[null,null,"SEPTIEMBRE",null,null,{"$f":"+JUNIO!F173","v":0},null,null,0,null,null,0]
[null,null,"OCTUBRE",null,null,{"$f":"+JUNIO!F174","v":0},null,null,0,null,null,0]
[null,null,"NOVIEMBRE",null,null,{"$f":"+JUNIO!F175","v":0},null,null,0,null,null,0]
[null,null,"DICIEMBRE",null,null,{"$f":"+JUNIO!F176","v":0},null,null,0,null,null,0]
[null,null,"Total",null,null,{"$f":"SUM(F165:H176)","v":0},null,null,{"$f":"SUM(I165:K176)","v":0},null,null,{"$f":"SUM(L165:Q171)","v":0}]
[]
[null,"7. ","Observaciones Generales."]
[]
[]
[]
[]
[]
[]
[]
[null,"8."," Recomendaciones. (Preste la asesoría necesaria para que se superen las dificultades identificadas y se mantengan las fortalezas detectadas)  "]
[]
[]
[]
[]
[]
[]
[]
[null,"9.","Cierre."]
[null,null,"Compromisos / tareas",null,null,null,null,null,null,null,"Responsables",null,null,null,null,null,null,null,null,"Fechas"]
[]
[]
[]
[null,null,"**Las siguientes personas que firman  dan constancia que han revisado y estan de acuerdo con cada uno de los items de la presente acta y que  este ejercicio de legalización de cuentas se ha realizado conforme a los lineamientos, guias de supervisión, manuales operativos y minutas contractuales establecidas por el ICBF."]
[null," ","FIRMA RESPONSABLES ICBF Y ENTIDAD ADMINISTRADORA"]
[null,null,"Nombre",null,null,null,null,"Cargo / Dependencia",null,null,null,null,null,null,"EMAIL",null,null,null,null,null,"Firma"]
[null,null,{"$f":"+G37","v":" "},null,null,null,null,"SUPERVISOR(A) DEL CONTRATO ICBF",null,null,null,null,null,null,"@icbf.gov.co"]
[null,null,{"$f":"+U37","v":" "},null,null,null,null,"APOYO FINANCIERO ICBF",null,null,null,null,null,null,"@icbf.gov.co"]
[null,null,{"$f":"+G40","v":0},null,null,null,null,"REPRESENTANTE LEGAL EAS",null,null,null,null,null,null,{"$f":"+G41","v":0}]
[null,null,{"$f":"+JUNIO!C206","v":0},null,null,null,null,{"$f":"+JUNIO!H206","v":0},null,null,null,null,null,null,{"$f":"+JUNIO!O206","v":0}]
[null,null,{"$f":"+JUNIO!C207","v":0},null,null,null,null,{"$f":"+JUNIO!H207","v":0},null,null,null,null,null,null,{"$f":"+JUNIO!O207","v":0}]
[null,"Antes de imprimir este documento… piense en el medio ambiente!    \nCualquier copia impresa de este documento se considera como COPIA NO CONTROLADA\nLOS DATOS PROPORCIONADOS SERÁN TRATADOS DE ACUERDO A LA POLÌTICA DE TRATAMIENTO DE DATOS PERSONALES DEL ICBF Y A LA LEY 1581 DE 2012 "]
[]
[null,"* Escanear esta Acta debidamente Firmada y colocarla en la ruta especificada por la DPI"]
[]
["RECOMEDACIONES DE USO DE ESTE ARCHIVO:"]
["1. HABILITE MACROS : ARCHIVO > CENTRO DE CONFIANZA> CONFIGURACION DEL CENTRO DE CONFIANZA > CONFIGURACION DE MACROS > HABILITAR TODAS LAS MACROS > CONFIAR EN EL ACCESO AL MODELO DE OBJETO DE PROYECTOS VBA > ACEPTAR"]
["2. DESHABILITE VISTA PROTEGIDA: ARCHIVO> CENTRO DE CONFIANZA> CONFIGURACION DEL CENTRO DE CONFIANZA > VISTA PROTEGIDA> DESMARCAR LAS TRES OPCIONES >ACEPTAR"]
["3. HABILITAR UBICACIONES DE RED: ARCHIVO> CENTRO DE CONFIANZA> CONFIGURACION DEL CENTRO DE CONFIANZA > UBICACIONES DE CONFIANZA > MARCAR PERMITIR UBICACIONES DE CONFIANZA QUE ESTEN EN LA RED > ACEPTAR "]
["4. HABILITAR DOCUMENTOS DE CONFIANZA: ARCHIVO> CENTRO DE CONFIANZA> CONFIGURACION DEL CENTRO DE CONFIANZA > DOCUMENTOS DE CONFIANZA > MARCAR PERMITIR QUE SEAN DE CONFIANZA LOS DOCUMENTOS DE UNA RED"]

{"sheet":"AGOSTO","index":9,"n_rows":216,"n_cols":25,"rows_kept":216,"cut":false,"hidden":true,"merged":[[52,2,52,15],[52,16,53,25],[53,6,53,7],[53,9,54,13],[54,6,54,7],[54,19,54,23],[42,1,45,1],[50,24,50,25],[51,2,51,5],[51,6,51,8],[51,9,51,11],[51,12,51,13],[51,14,51,15],[51,16,51,17],[51,18,51,19],[51,20,51,21],[51,22,51,23],[51,24,51,25],[50,2,50,5],[50,6,50,8],[50,9,50,11],[50,12,50,13],[50,14,50,15],[50,16,50,17],[50,18,50,19],[50,20,50,21],[50,22,50,23],[48,24,48,25],[49,2,49,5],[49,6,49,8],[49,9,49,11],[49,12,49,13],[49,14,49,15],[49,16,49,17],[49,18,49,19],[49,20,49,21],[49,22,49,23],[49,24,49,25],[48,2,48,5],[48,6,48,8],[48,9,48,11],[48,12,48,13],[48,14,48,15],[48,16,48,17],[48,18,48,19],[48,20,48,21],[48,22,48,23],[46,2,47,5],[46,6,47,8],[46,9,47,11],[46,12,46,15],[46,16,46,19],[46,20,46,25],[47,12,47,13],[47,14,47,15],[47,16,47,17],[47,18,47,19],[47,20,47,21],[47,22,47,23],[47,24,47,25],[6,18,6,22],[6,23,6,26],[45,2,45,5],[45,6,45,15],[106,1,115,1],[106,2,107,19],[106,20,107,25],[109,2,110,19],[109,20,110,25],[114,2,115,19],[114,20,115,25],[83,2,83,3],[83,22,83,25],[85,2,85,3],[85,22,85,25],[83,4,83,6],[83,7,83,9],[83,10,83,12],[83,13,83,15],[83,16,83,18],[83,19,83,21],[85,4,85,6],[85,7,85,9],[85,10,85,12],[85,16,85,18],[130,8,130,10],[129,11,129,16],[130,11,130,16],[131,11,131,16],[132,11,132,16],[108,2,108,19],[108,20,108,25],[111,2,111,19],[111,20,111,25],[116,2,116,19],[116,20,116,25],[121,2,121,25],[120,2,120,3],[120,4,120,10],[120,11,120,13],[120,14,120,17],[120,18,120,20],[120,21,120,25],[117,2,117,19],[117,20,117,25],[118,2,118,19],[118,20,118,25],[85,19,85,21],[149,14,149,16],[139,2,139,25],[140,2,140,25],[135,2,135,4],[135,5,135,7],[135,8,135,10],[136,2,136,4],[136,5,136,7],[136,8,136,10],[137,2,137,4],[148,23,148,25],[135,17,135,25],[136,17,136,25],[137,17,137,25],[138,17,138,25],[137,5,137,7],[137,8,137,10],[148,5,148,6],[148,7,148,8],[148,9,148,10],[141,1,141,26],[142,1,146,4],[142,5,146,13],[142,14,142,19],[154,11,154,13],[154,14,154,16],[155,11,157,13],[155,14,157,16],[158,14,158,25],[175,11,175,16],[167,8,167,10],[167,11,167,16],[149,17,157,19],[149,20,157,22],[150,2,150,10],[151,11,152,13],[151,14,152,16],[167,5,167,7],[164,5,164,7],[164,8,164,10],[167,2,167,4],[168,11,168,16],[169,2,169,4],[173,11,173,16],[174,2,174,4],[174,5,174,7],[174,8,174,10],[150,14,150,16],[197,2,197,9],[132,5,132,7],[132,8,132,10],[169,5,169,7],[169,8,169,10],[169,11,169,16],[170,2,170,4],[170,5,170,7],[170,8,170,10],[170,11,170,16],[164,11,164,16],[165,2,165,4],[165,5,165,7],[165,8,165,10],[165,11,165,16],[166,2,166,4],[166,5,166,7],[166,8,166,10],[166,11,166,16],[164,2,164,4],[175,2,175,4],[175,5,175,7],[175,8,175,10],[168,2,168,4],[200,2,200,25],[206,2,206,6],[206,7,206,13],[206,14,206,19],[178,2,178,25],[179,2,185,25],[186,2,186,25],[187,2,193,25],[194,2,194,25],[195,2,195,9],[195,10,195,18],[195,19,195,25],[196,2,196,9],[196,10,196,18],[196,19,196,25],[206,20,206,25],[201,2,201,6],[201,7,201,13],[201,14,201,19],[201,20,201,25],[202,2,202,6],[202,7,202,13],[202,14,202,19],[202,20,202,25],[210,1,210,27],[124,2,124,4],[124,5,124,7],[124,8,124,10],[125,2,125,4],[125,5,125,7],[125,8,125,10],[126,2,126,4],[126,5,126,7],[126,8,126,10],[203,2,203,6],[203,7,203,13],[203,14,203,19],[203,20,203,25],[204,2,204,6],[204,7,204,13],[204,14,204,19],[204,20,204,25],[205,2,205,6],[205,7,205,13],[205,14,205,19],[173,5,173,7],[173,8,173,10],[205,20,205,25],[174,11,174,16],[171,2,171,4],[171,5,171,7],[171,8,171,10],[171,11,171,16],[172,2,172,4],[172,5,172,7],[172,8,172,10],[172,11,172,16],[197,10,197,18],[197,19,197,25],[198,2,198,9],[198,10,198,18],[198,19,198,25],[199,2,199,25],[149,2,149,4],[149,5,149,6],[149,7,149,8],[149,9,149,10],[149,11,149,13],[149,23,157,25],[150,11,150,13],[158,2,158,10],[158,11,158,13],[159,2,159,25],[160,2,160,25],[176,2,176,4],[176,5,176,7],[176,8,176,10],[176,11,176,16],[176,17,176,25],[163,17,175,25],[173,2,173,4],[84,10,84,12],[84,13,84,15],[84,16,84,18],[84,19,84,21],[84,22,84,25],[64,23,64,25],[65,2,65,3],[65,23,65,25],[72,23,72,25],[73,2,73,3],[73,23,73,25],[80,2,80,25],[81,2,81,25],[82,2,82,25],[64,19,64,22],[65,4,65,6],[65,7,65,9],[65,10,65,12],[65,13,65,15],[65,16,65,18],[65,19,65,22],[64,4,64,6],[66,2,66,3],[66,23,66,25],[85,13,85,15],[64,7,64,9],[64,10,64,12],[64,13,64,15],[64,16,64,18],[69,2,69,3],[69,23,69,25],[66,19,66,22],[0,1,5,4],[8,1,8,8],[8,9,8,26],[55,2,55,25],[56,2,56,25],[57,2,57,25],[58,2,58,25],[59,2,59,3],[59,23,59,25],[60,2,60,3],[60,23,60,25],[61,2,61,3],[61,23,61,25],[62,2,62,3],[62,23,62,25],[63,2,63,3],[63,23,63,25],[64,2,64,3],[9,1,9,8],[9,9,9,26],[10,1,10,8],[10,9,10,26],[6,1,6,15],[6,16,6,17],[7,1,7,6],[7,7,7,12],[7,13,7,19],[7,20,7,26],[16,2,16,26],[17,2,17,26],[18,2,18,26],[19,2,19,26],[20,2,20,26],[21,2,21,26],[11,1,11,8],[11,9,11,26],[12,1,12,8],[12,9,12,26],[14,2,14,26],[15,2,15,26],[29,23,29,25],[30,2,30,6],[30,7,30,11],[30,12,30,16],[30,17,30,21],[30,22,30,25],[22,2,22,26],[27,2,27,25],[28,4,28,7],[28,8,28,10],[28,11,28,18],[28,19,28,21],[28,22,28,25],[29,2,29,4],[29,5,29,7],[29,8,29,10],[29,11,29,13],[29,14,29,15],[29,16,29,18],[29,19,29,22],[28,2,28,3],[31,2,31,6],[31,7,31,11],[31,12,31,16],[31,17,31,21],[31,22,31,25],[32,2,32,6],[32,7,32,11],[32,12,32,16],[32,17,32,21],[32,22,32,25],[33,2,33,6],[33,7,33,11],[33,12,33,16],[33,17,33,21],[33,22,33,25],[34,2,34,6],[34,7,34,11],[34,12,34,16],[34,17,34,21],[34,22,34,25],[35,2,35,6],[35,7,35,11],[35,12,35,16],[35,17,35,21],[35,22,35,25],[36,2,36,5],[36,6,36,15],[36,16,36,19],[36,20,36,25],[39,2,39,5],[39,6,39,15],[39,16,39,19],[39,20,39,25],[40,2,40,5],[40,6,40,15],[40,16,40,19],[40,20,40,25],[37,20,37,25],[38,2,38,5],[38,6,38,9],[38,12,38,15],[38,16,38,19],[38,20,38,25],[37,2,37,5],[37,6,37,7],[37,8,37,10],[37,11,37,12],[37,13,37,15],[37,16,37,19],[44,2,44,5],[44,6,44,15],[44,16,44,19],[44,20,44,25],[41,2,41,5],[41,6,41,15],[41,16,41,19],[41,20,41,25],[42,2,42,5],[42,6,42,15],[42,16,42,19],[42,20,42,25],[43,2,43,5],[67,2,67,3],[67,23,67,25],[68,19,68,22],[69,4,69,6],[69,7,69,9],[69,10,69,12],[69,13,69,15],[69,16,69,18],[69,19,69,22],[68,4,68,6],[68,7,68,9],[68,10,68,12],[68,13,68,15],[68,16,68,18],[68,2,68,3],[68,23,68,25],[67,4,67,6],[67,7,67,9],[67,10,67,12],[67,13,67,15],[67,16,67,18],[67,19,67,22],[70,2,70,3],[70,23,70,25],[71,2,71,3],[71,23,71,25],[72,19,72,22],[73,4,73,6],[73,7,73,9],[73,10,73,12],[73,13,73,15],[73,16,73,18],[73,19,73,22],[72,4,72,6],[72,7,72,9],[72,10,72,12],[72,13,72,15],[72,16,72,18],[72,2,72,3],[70,19,70,22],[71,4,71,6],[71,7,71,9],[71,10,71,12],[71,13,71,15],[71,16,71,18],[70,7,70,9],[86,19,86,21],[86,2,86,3],[86,22,86,25],[87,4,87,6],[87,7,87,9],[87,10,87,12],[87,13,87,15],[87,16,87,18],[87,19,87,21],[86,4,86,6],[86,7,86,9],[86,10,86,12],[86,13,86,15],[86,16,86,18],[87,2,87,3],[87,22,87,25],[88,22,88,25],[89,2,89,3],[89,22,89,25],[90,19,90,21],[91,4,91,6],[91,7,91,9],[91,10,91,12],[91,13,91,15],[91,16,91,18],[91,19,91,21],[90,4,90,6],[90,7,90,9],[90,10,90,12],[90,13,90,15],[90,16,90,18],[90,2,90,3],[90,22,90,25],[91,2,91,3],[91,22,91,25],[88,19,88,21],[89,4,89,6],[89,7,89,9],[89,10,89,12],[89,13,89,15],[93,16,93,18],[93,19,93,21],[92,4,92,6],[92,7,92,9],[92,10,92,12],[92,13,92,15],[92,16,92,18],[88,2,88,3],[89,16,89,18],[89,19,89,21],[88,4,88,6],[88,7,88,9],[88,10,88,12],[88,13,88,15],[88,16,88,18],[92,2,92,3],[92,22,92,25],[93,2,93,3],[93,22,93,25],[94,19,94,21],[95,4,95,6],[95,7,95,9],[95,10,95,12],[95,13,95,15],[95,16,95,18],[95,19,95,21],[94,4,94,6],[94,7,94,9],[94,10,94,12],[94,13,94,15],[94,16,94,18],[94,2,94,3],[94,22,94,25],[95,2,95,3],[95,22,95,25],[92,19,92,21],[93,4,93,6],[93,7,93,9],[93,10,93,12],[93,13,93,15],[98,2,98,3],[98,22,98,25],[99,2,99,25],[100,2,100,5],[100,21,100,25],[97,19,97,21],[96,4,96,6],[96,7,96,9],[96,10,96,12],[96,13,96,15],[96,16,96,18],[102,2,102,25],[103,2,103,25],[104,2,104,25],[105,2,105,19],[105,20,105,25],[126,11,126,16],[127,11,127,16],[128,11,128,16],[124,11,124,16],[125,11,125,16],[124,17,124,25],[125,17,125,25],[112,2,112,19],[122,2,122,25],[123,2,123,25],[126,17,126,25],[127,17,127,25],[128,17,128,25],[119,2,119,19],[119,20,119,25],[127,8,127,10],[101,6,101,10],[101,11,101,15],[101,16,101,20],[101,2,101,5],[96,19,96,21],[97,4,97,6],[97,7,97,9],[97,10,97,12],[97,13,97,15],[97,16,97,18],[101,21,101,25],[96,2,96,3],[96,22,96,25],[97,2,97,3],[97,22,97,25],[98,19,98,21],[100,6,100,10],[100,11,100,15],[100,16,100,20],[98,4,98,6],[98,7,98,9],[98,10,98,12],[98,13,98,15],[98,16,98,18],[63,19,63,22],[62,4,62,6],[62,7,62,9],[62,10,62,12],[62,13,62,15],[62,16,62,18],[59,4,59,6],[59,7,59,9],[43,6,43,15],[43,16,43,19],[59,10,59,12],[59,13,59,15],[61,4,61,6],[61,7,61,9],[61,10,61,12],[61,13,61,15],[61,16,61,18],[61,19,61,22],[60,4,60,6],[60,7,60,9],[60,10,60,12],[60,13,60,15],[60,16,60,18],[43,20,43,25],[70,10,70,12],[70,13,70,15],[70,16,70,18],[66,4,66,6],[66,7,66,9],[66,10,66,12],[66,13,66,15],[63,10,63,12],[63,13,63,15],[63,16,63,18],[168,5,168,7],[168,8,168,10],[112,20,112,25],[113,2,113,19],[113,20,113,25],[161,2,161,25],[162,2,162,4],[162,5,162,7],[162,8,162,10],[162,11,162,16],[162,17,162,25],[163,2,163,4],[163,5,163,7],[163,8,163,10],[163,11,163,16],[147,2,147,25],[153,11,153,13],[153,14,153,16],[151,2,152,10],[153,2,153,10],[148,20,148,22],[148,2,148,4],[127,2,127,4],[127,5,127,7],[0,14,1,19],[0,20,1,26],[2,14,3,19],[2,20,3,26],[4,14,5,26],[76,14,77,19],[76,20,77,26],[66,16,66,18],[62,19,62,22],[59,16,59,18],[59,19,59,22],[60,19,60,22],[45,16,45,19],[45,20,45,25],[74,1,74,26],[75,1,79,4],[75,5,79,13],[75,14,75,19],[75,20,75,26],[63,4,63,6],[63,7,63,9],[0,5,5,13],[71,19,71,22],[70,4,70,6],[142,20,142,26],[131,2,131,4],[131,5,131,7],[131,8,131,10],[129,17,129,25],[128,2,128,4],[128,5,128,7],[128,8,128,10],[133,2,133,4],[133,5,133,7],[133,8,133,10],[134,2,134,4],[134,5,134,7],[134,8,134,10],[132,2,132,4],[138,2,138,4],[138,5,138,7],[138,8,138,10],[133,11,133,16],[134,11,134,16],[135,11,135,16],[136,11,136,16],[137,11,137,16],[138,11,138,16],[84,2,84,3],[84,4,84,6],[84,7,84,9],[207,1,207,26],[209,1,209,24],[78,14,79,26],[143,14,144,19],[143,20,144,26],[145,14,146,26],[148,11,148,13],[148,14,148,16],[148,17,148,19],[154,2,154,10],[155,2,157,10],[129,2,129,4],[129,5,129,7],[129,8,129,10],[130,2,130,4],[130,17,130,25],[131,17,131,25],[132,17,132,25],[130,5,130,7],[133,17,133,25],[134,17,134,25]]}
[null,null,null,null,null,"PROCESO\nPROMOCION Y PREVENCIÓN\n\nFORMATO ACTA LEGALIZACIÓN DE CUENTAS\n",null,null,null,null,null,null,null,null,"F1.A8.MO12.PP",null,null,null,null,null,"2022-02-02"]
[]
[null,null,null,null,null,null,null,null,null,null,null,null,null,null,"Versión 3",null,null,null,null,null,"Página 1 de 3"]
[]
[null,null,null,null,null,null,null,null,null,null,null,null,null,null,"Clasificación de la Información:\nPública"]
[]
[null,"ACTA DE LEGALIZACIÓN N°",null,null,null,null,null,null,null,null,null,null,null,null,null,null,8,null,"ESTADO DEL CONTRATO:",null,null,null,null,{"$f":"+JULIO!X7","v":"VIGENTE"}]
[null,"Fecha y Hora Inicio:",null,null,null,null,null,"2019-01-01T15:00:00",null,null,null,null,null,"Fecha y Hora Fin:  ",null,null,null,null,null,null,"2019-01-01T15:00:00"]
[null,"Lugar:",null,null,null,null,null,null,null,{"$f":"+JULIO!J9","v":"Regional_Amazonas"}]
[null,"Dependencia que Convoca:",null,null,null,null,null,null,null,{"$f":"+JULIO!J10","v":"Primera Infancia - Grupo de Atención en Ciclos de Vida y Nutrición "}]
[null,"Proceso:",null,null,null,null,null,null,null,{"$f":"+JULIO!J11","v":"Promoción y Prevención "}]
[null,"Objetivo:",null,null,null,null,null,null,null,{"$f":"+JULIO!J12","v":"Recepción, revisión, el análisis y  Legalización de los Gastos e Ingresos del Informe Financiero presentado por la entidad administradora (EAS)"}]
[null,"Nombre EAS:",null,null,null,null,null,null,null,{"$f":"+JULIO!J13","v":"ASOCIACION DE HOGARES"}]
[null,"Agenda: "]
[null,"1.","Desarrollo."]
[null,"2.","Información general del contrato."]
[null,"3.","Informe  de ejecución Presupuestal y  financiera requerido con los debidos soporte."]
[null,"4.","Seguimiento al Uso de Tasas Compensatorias (Aplica Solo para HI)."]
[null,"5.","Detalle de Inejecuciones."]
[null,"6.","Ejecución Contrapartida."]
[null,"7.","Situación Encontrada."]
[null,"8.","Recomendaciones."]
[null,"9.","Cierre."]
[null,"         Desarrollo: "]
[null,"1.","Se da inicio a la legalización de los informes financieros Presentados por la EAS con el fin de verificar la correcta Ejecución del presupuesto aprobado dentro de los "]
[null,null,"lineamientos, guias de supervision, manuales operativos y minutas que corresponden."]
[null,"2.","A continuaciòn en el presente cuadro  se relaciona la información general del contrato."]
[null,null,"Información general del contrato."]
[null,null,"Regional:",null,{"$f":"+J9","v":"Regional_Amazonas"},null,null,null,"Centro Zonal:",null,null,{"$f":"+JULIO!L29","v":"CZ_LETICIA"},null,null,null,null,null,null,null,"N° de Contrato\n o Convenio",null,null,{"$f":"+JULIO!W29","v":0}]
[null,null,"N° CDP ",null,null,{"$f":"+JULIO!F30","v":0},null,null,"N° RP",null,null,{"$f":"+JULIO!L30","v":0},null,null,"FECHA \nACTA INICIO",null,{"$f":"+JULIO!Q30","v":"00:00:00"},null,null,"Cupos Contratados:",null,null,null,{"$f":"+W36+R36+M36+H36+C36","v":0}]
[null,null," Modalidad 1:",null,null,null,null,"Modalidad 2:",null,null,null,null,"Modalidad 3:",null,null,null,null,"Modalidad 4:",null,null,null,null,"Modalidad 5:"]
[null,null,{"$f":"+JULIO!C32","v":"NO_APLICA"},null,null,null,null,{"$f":"+JULIO!H32","v":"NO_APLICA"},null,null,null,null,{"$f":"+JULIO!M32","v":"NO_APLICA"},null,null,null,null,{"$f":"+JULIO!R32","v":"NO_APLICA"},null,null,null,null,{"$f":"+JULIO!W32","v":"NO_APLICA"}]
[null,null,"SERVICIO 1:",null,null,null,null,"SERVICIO 2:",null,null,null,null,"SERVICIO 3:",null,null,null,null,"SERVICIO 4:",null,null,null,null,"SERVICIO 5:"]
[null,null,{"$f":"+JULIO!C34","v":"NO APLICA"},null,null,null,null,{"$f":"+JULIO!H34","v":"NO APLICA"},null,null,null,null,{"$f":"+JULIO!M34","v":"NO APLICA"},null,null,null,null,{"$f":"+JULIO!R34","v":"NO APLICA"},null,null,null,null,{"$f":"+JULIO!W34","v":"NO APLICA"}]
[null,null,"CUPOS CONTRATADO 1:",null,null,null,null,"CUPOS CONTRATADO 2:",null,null,null,null,"CUPOS CONTRATADO 3:",null,null,null,null,"CUPOS CONTRATADO 4:",null,null,null,null,"CUPOS CONTRATADO 5:"]
[null,null,{"$f":"+JULIO!C36","v":0},null,null,null,null,{"$f":"+JULIO!H36","v":0},null,null,null,null,{"$f":"+JULIO!M36","v":0},null,null,null,null,{"$f":"+JULIO!R36","v":0},null,null,null,null,{"$f":"+JULIO!W36","v":0}]
[null,null,"Nombre Supervisor CTO:",null,null,null,{"$f":"+JULIO!G37","v":" "},null,null,null,null,null,null,null,null,null,"Apoyo Financiero ICBF:",null,null,null,{"$f":"+JULIO!U37","v":" "}]
[null,null,"Plazo de ejecución CTO:",null,null,null,"Desde:",null,{"$f":"+JULIO!I38","v":"00:00:00"},null,null,"Hasta:",null,{"$f":"+JULIO!N38","v":"00:00:00"},null,null,"Fecha aprob. póliza:",null,null,null,{"$f":"+JULIO!U38","v":" "}]
[null,null,"Póliza N° 1 del CTO",null,null,null,{"$f":"+JULIO!G39","v":0},null,null,null,"Poliza N° 2",null,{"$f":"+JULIO!M39","v":0},null,null,null,"Nombre Ent. Aseguradora",null,null,null,{"$f":"+JULIO!U39","v":" "}]
[null,null,"Representante Legal:",null,null,null,{"$f":"+JULIO!G40","v":0},null,null,null,null,null,null,null,null,null,"Cédula RL: ",null,null,null,{"$f":"+JULIO!U40","v":" "}]
[null,null,"Email Representante L.",null,null,null,{"$f":"+JULIO!G41","v":0},null,null,null,null,null,null,null,null,null,"NIT EAS:",null,null,null,{"$f":"+JULIO!U41","v":" "}]
[null,null,"Telefono o Cel R.L",null,null,null,{"$f":"+JULIO!G42","v":0},null,null,null,null,null,null,null,null,null,"Fecha Vencimiento R. L:",null,null,null,{"$f":"+JULIO!U42","v":" "}]
[null,"VIGENCIA ACTUAL","Valor Inicial del CTO: \n(Aporte ICBF)",null,null,null,{"$f":"+JULIO!G43","v":0},null,null,null,null,null,null,null,null,null,"Valor Aportes EAS:",null,null,null,{"$f":"+JULIO!U43","v":0}]
[null,null,"Adiciones al CTO:",null,null,null,{"$f":"+JULIO!G44","v":0},null,null,null,null,null,null,null,null,null,"Adiciones Aportes EAS:",null,null,null,{"$f":"+JULIO!U44","v":0}]
[null,null,"Reducciones al CTO",null,null,null,{"$f":"+JULIO!G45","v":0},null,null,null,null,null,null,null,null,null,"Total Aportes EAS:",null,null,null,{"$f":"+U44+U43","v":0}]
[null,null,"VALOR APORTE ICBF",null,null,null,{"$f":"+(G43+G44)-G45","v":0},null,null,null,null,null,null,null,null,null,"Valor Actual del CTO:",null,null,null,{"$f":"+G43+U43+G44+U44-G45","v":0}]
[null,null,"VIGENCIA",null,null,null,"APORTE ICBF",null,null,"APORTE EAS",null,null,"Adiciones al contrato",null,null,null,"Reducciones al contrato",null,null,null,"Valor final del contrato"]
[null,null,null,null,null,null,null,null,null,null,null,null,"ICBF",null,"EAS",null,"ICBF",null,"EAS",null,"ICBF",null,"EAS",null,"TOTAL"]
[null,null,{"$f":"+JULIO!C49","v":2020},null,null,null,{"$f":"+JULIO!G49","v":0},null,null,{"$f":"+JULIO!J49","v":0},null,null,{"$f":"+JULIO!M49","v":0},null,{"$f":"+JULIO!O49","v":0},null,{"$f":"+JULIO!Q49","v":0},null,{"$f":"+JULIO!S49","v":0},null,{"$f":"+G49+M49-Q49","v":0},null,{"$f":"+J49+O49-S49","v":0},null,{"$f":"+U49+W49","v":0}]
[null,null,{"$f":"+JULIO!C50","v":2021},null,null,null,{"$f":"+JULIO!G50","v":0},null,null,{"$f":"+JULIO!J50","v":0},null,null,{"$f":"+JULIO!M50","v":0},null,{"$f":"+JULIO!O50","v":0},null,{"$f":"+JULIO!Q50","v":0},null,{"$f":"+JULIO!S50","v":0},null,{"$f":"+G50+M50-Q50","v":0},null,{"$f":"+J50+O50-S50","v":0},null,{"$f":"+U50+W50","v":0}]
[null,null,{"$f":"+JULIO!C51","v":2022},null,null,null,{"$f":"+JULIO!G51","v":0},null,null,{"$f":"+JULIO!J51","v":0},null,null,{"$f":"+JULIO!M51","v":0},null,{"$f":"+JULIO!O51","v":0},null,{"$f":"+JULIO!Q51","v":0},null,{"$f":"+JULIO!S51","v":0},null,0,null,0,null,0]
[null,null,"TOTAL",null,null,null,{"$f":"SUM(G49:I51)","v":0},null,null,{"$f":"SUM(J49:L51)","v":0},null,null,{"$f":"SUM(M49:N51)","v":0},null,{"$f":"SUM(O49:P51)","v":0},null,{"$f":"SUM(Q49:R51)","v":0},null,{"$f":"SUM(S49:T51)","v":0},null,{"$f":"SUM(U49:V51)","v":0},null,{"$f":"SUM(W49:X51)","v":0},null,{"$f":"+Y51+Y50+Y49","v":0}]
[null,null,"La entidad presenta informe financiero mensual ante el ICBF como sigue:",null,null,null,null,null,null,null,null,null,null,null,null,null,"Presenta los documentos soportes que acompañan el informe financiero y se entrega al ICBF copia de los mismos en medio:"]
[null,null,"Mes a legalizar:",null,null,null,"AGOSTO",null,null,"¿Los documentos aportados permiten realizar la legalización del informe financiero?    ",null,null,null,null,"SI","X"]
[null,null,"Fecha radicación EAS:",null,null,null,"2022-08-10",null,null,null,null,null,null,null,"NO",null,null,null,null,"DIGITAL Y FISICO"]
[null,null,"OBSERVACIONES INFORMACIÓN GENERAL:"]
[]
[null,"3. ","Se verifica  la ejecución de los recursos del contrato de acuerdo a los Informes Financieros presentados por la entidad:"]
[null,null,"SEGUIMIENTO PRESUPUESTAL  Y FINANCIERO DEL CONTRATO"]
[null,null,"MES",null,"PRESUPUESTO APROBADO + REPROGRAMACIONES \n(Aportes ICBF)",null,null,"EJECUCIÓN",null,null,"SALDO SIN EJECUTAR",null,null,"PROGRAMACIÓN DESEMBOLSOS",null,null,"DESEMBOLSOS GIRADOS",null,null,"DIFERENCIA PROGRAMADO VS PAGADO",null,null,null,"PAGOS REAL. EN EL MES"]
[]
[null,null,"Enero",null,{"$f":"+JULIO!E62","v":0},null,null,{"$f":"+JULIO!H62","v":0},null,null,{"$f":"+E62-H62","v":0},null,null,{"$f":"+JULIO!N62","v":0},null,null,{"$f":"+JULIO!Q62","v":0},null,null,{"$f":"+N62-Q62","v":0},null,null,null,{"$f":"+JULIO!X62","v":0}]
[null,null,"Febrero",null,{"$f":"+JULIO!E63","v":0},null,null,{"$f":"+JULIO!H63","v":0},null,null,0,null,null,{"$f":"+JULIO!N63","v":0},null,null,{"$f":"+JULIO!Q63","v":0},null,null,0,null,null,null,{"$f":"+JULIO!X63","v":0}]
[null,null,"Marzo",null,{"$f":"+JULIO!E64","v":0},null,null,{"$f":"+JULIO!H64","v":0},null,null,0,null,null,{"$f":"+JULIO!N64","v":0},null,null,{"$f":"+JULIO!Q64","v":0},null,null,0,null,null,null,{"$f":"+JULIO!X64","v":0}]
[null,null,"Abril",null,{"$f":"+JULIO!E65","v":0},null,null,{"$f":"+JULIO!H65","v":0},null,null,0,null,null,{"$f":"+JULIO!N65","v":0},null,null,{"$f":"+JULIO!Q65","v":0},null,null,0,null,null,null,{"$f":"+JULIO!X65","v":0}]
[null,null,"Mayo",null,{"$f":"+JULIO!E66","v":0},null,null,{"$f":"+JULIO!H66","v":0},null,null,0,null,null,{"$f":"+JULIO!N66","v":0},null,null,{"$f":"+JULIO!Q66","v":0},null,null,0,null,null,null,{"$f":"+JULIO!X66","v":0}]
[null,null,"Junio",null,{"$f":"+JULIO!E67","v":0},null,null,{"$f":"+JULIO!H67","v":0},null,null,0,null,null,{"$f":"+JULIO!N67","v":0},null,null,{"$f":"+JULIO!Q67","v":0},null,null,0,null,null,null,{"$f":"+JULIO!X67","v":0}]
[null,null,"Julio",null,{"$f":"+JULIO!E68","v":0},null,null,{"$f":"+JULIO!H68","v":0},null,null,0,null,null,{"$f":"+JULIO!N68","v":0},null,null,{"$f":"+JULIO!Q68","v":0},null,null,0,null,null,null,{"$f":"+JULIO!X68","v":0}]
[null,null,"Agosto",null,{"$f":"+JULIO!E69","v":0},null,null,0,null,null,0,null,null,{"$f":"+JULIO!N69","v":0},null,null,0,null,null,0,null,null,null,0]
[null,null,"Septiembre",null,{"$f":"+JULIO!E70","v":0},null,null,0,null,null,0,null,null,{"$f":"+JULIO!N70","v":0},null,null,0,null,null,0,null,null,null,0]
[null,null,"Octubre",null,{"$f":"+JULIO!E71","v":0},null,null,0,null,null,0,null,null,{"$f":"+JULIO!N71","v":0},null,null,0,null,null,0,null,null,null,0]
[null,null,"Noviembre",null,{"$f":"+JULIO!E72","v":0},null,null,0,null,null,0,null,null,{"$f":"+JULIO!N72","v":0},null,null,0,null,null,0,null,null,null,0]
[null,null,"Diciembre  ",null,{"$f":"+JULIO!E73","v":0},null,null,0,null,null,0,null,null,{"$f":"+JULIO!N73","v":0},null,null,0,null,null,0,null,null,null,0]
[null,null,"TOTAL  ",null,{"$f":"SUM(E62:G73)","v":0},null,null,{"$f":"SUM(H62:J73)","v":0},null,null,{"$f":"SUM(K62:M73)","v":0},null,null,{"$f":"SUM(N62:P73)","v":0},null,null,{"$f":"SUM(Q62:S73)","v":0},null,null,{"$f":"SUM(T62:W73)","v":0},null,null,null,{"$f":"SUM(X61:Z73)","v":0}]
[null,"Antes de imprimir este documento… piense en el medio ambiente!    \nCualquier copia impresa de este documento se considera como COPIA NO CONTROLADA\nLOS DATOS PROPORCIONADOS SERÁN TRATADOS DE ACUERDO A LA POLÌTICA DE TRATAMIENTO DE DATOS PERSONALES DEL ICBF Y A LA LEY 1581 DE 2012 "]
[null,null,null,null,null,"PROCESO\nPROMOCION Y PREVENCIÓN\n\nFORMATO ACTA LEGALIZACIÓN DE CUENTAS\n",null,null,null,null,null,null,null,null,"F1.A8.MO12.PP",null,null,null,null,null,"2022-02-02"]
[null,null,null,null,null,null,null,null,null,null,null,null,null,null,"Versión 3",null,null,null,null,null,"Página 2 de 3"]
[]
[null,null,null,null,null,null,null,null,null,null,null,null,null,null,"Clasificación de la Información:\nPública"]
[]
[null,null,"OBSERVACIONES SEGUIMIENTO PRESUPUESTAL  Y FINANCIERO DEL CONTRATO: "]
[]
[null,null,"SEGUIMIENTO A INEJECUCIONES Y LIBERACIONES"]
[null,null,"MES",null,"AHORROS",null,null,"INEJECUCIONES",null,null,"SEGUIMIENTO DE INEJECUCIONES",null,null,"REDISTRIBUCIÓN DE \nAHORROS",null,null,"REINVERSIÓN DE \nINEJECUCIONES",null,null,"LIBERACIONES/REINTEGROS T.N \n(Tramitadas)",null,null,"LIBERACIONES PENDIENTES POR  REALIZAR"]
[null,null,"Inejecución\n inicial",null,{"$f":"+JULIO!E85","v":0},null,null,{"$f":"+JULIO!H85","v":0},null,null,{"$f":"+G46-E74","v":0},null,null,{"$f":"+JULIO!N85","v":0},null,null,{"$f":"+JULIO!Q85","v":0},null,null,{"$f":"+JULIO!T85","v":0},null,null,{"$f":"IFERROR(+K85,0)","v":0}]
[]
[null,null,"Enero",null,{"$f":"+JULIO!E87","v":0},null,null,{"$f":"+JULIO!H87","v":0},null,null,{"$f":"+E87+H87","v":0},null,null,{"$f":"+JULIO!N87","v":0},null,null,{"$f":"+JULIO!Q87","v":0},null,null,{"$f":"+JULIO!T87","v":0},null,null,{"$f":"+W85+K87-(N87+Q87+T87)","v":0}]
[null,null,"Febrero",null,{"$f":"+JULIO!E88","v":0},null,null,{"$f":"+JULIO!H88","v":0},null,null,0,null,null,{"$f":"+JULIO!N88","v":0},null,null,{"$f":"+JULIO!Q88","v":0},null,null,{"$f":"+JULIO!T88","v":0},null,null,{"$f":"+W87+K88-(N88+Q88+T88)","v":0}]
[null,null,"Marzo",null,{"$f":"+JULIO!E89","v":0},null,null,{"$f":"+JULIO!H89","v":0},null,null,0,null,null,{"$f":"+JULIO!N89","v":0},null,null,{"$f":"+JULIO!Q89","v":0},null,null,{"$f":"+JULIO!T89","v":0},null,null,0]
[null,null,"Abril",null,{"$f":"+JULIO!E90","v":0},null,null,{"$f":"+JULIO!H90","v":0},null,null,0,null,null,{"$f":"+JULIO!N90","v":0},null,null,{"$f":"+JULIO!Q90","v":0},null,null,{"$f":"+JULIO!T90","v":0},null,null,0]
[null,null,"Mayo",null,{"$f":"+JULIO!E91","v":0},null,null,{"$f":"+JULIO!H91","v":0},null,null,0,null,null,{"$f":"+JULIO!N91","v":0},null,null,{"$f":"+JULIO!Q91","v":0},null,null,{"$f":"+JULIO!T91","v":0},null,null,0]
[null,null,"Junio",null,{"$f":"+JULIO!E92","v":0},null,null,{"$f":"+JULIO!H92","v":0},null,null,0,null,null,{"$f":"+JULIO!N92","v":0},null,null,{"$f":"+JULIO!Q92","v":0},null,null,{"$f":"+JULIO!T92","v":0},null,null,0]
[null,null,"Julio",null,{"$f":"+JULIO!E93","v":0},null,null,{"$f":"+JULIO!H93","v":0},null,null,0,null,null,{"$f":"+JULIO!N93","v":0},null,null,{"$f":"+JULIO!Q93","v":0},null,null,{"$f":"+JULIO!T93","v":0},null,null,0]
[null,null,"Agosto",null,0,null,null,0,null,null,0,null,null,0,null,null,0,null,null,0,null,null,0]
[null,null,"Septiembre",null,0,null,null,0,null,null,0,null,null,0,null,null,0,null,null,0,null,null,0]
[null,null,"Octubre",null,0,null,null,0,null,null,0,null,null,0,null,null,0,null,null,0,null,null,0]
[null,null,"Noviembre",null,0,null,null,0,null,null,0,null,null,0,null,null,0,null,null,0,null,null,0]
[null,null,"Diciembre  ",null,0,null,null,0,null,null,0,null,null,0,null,null,0,null,null,0,null,null,0]
[null,null,"TOTAL",null,{"$f":"SUM(E87:G98)+E85","v":0},null,null,{"$f":"SUM(H87:J98)+H85","v":0},null,null,{"$f":"SUM(K87:M98)+K85","v":0},null,null,{"$f":"SUM(N87:P98)+N85","v":0},null,null,{"$f":"SUM(Q87:S98)+Q85","v":0},null,null,{"$f":"SUM(T87:V98)+T85","v":0},null,null,{"$f":"+W94","v":0}]
[null,null,"RESUMEN PERIODICO A LA EJECUCIÓN"]
[null,null,"PRESUPUESTO APROBADO",null,null,null,"PRESUPUESTO EJECUTADO",null,null,null,null,"EJECUCION PROYECTADA \nAL PERIODO",null,null,null,null,"AVANCE EJECUCION \nDEL PERIODO",null,null,null,null,"DESVIACIÓN PRESUPUESTAL"]
[null,null,{"$f":"+E74","v":0},null,null,null,{"$f":"+H74","v":0},null,null,null,null,{"$f":"IFERROR((SUMIF(H61:J69,\">=0\",E61:G69))/E74,0)","v":0},null,null,null,null,{"$f":"IFERROR(G102/C102,0)","v":0},null,null,null,null,{"$f":"+Q102-L102","v":0}]
[null," ","OBSERVACIONES EJECUCIÓN PRESUPUESTO:"]
[null,null," "]
[null,null,"RESUMEN FINANCIERO DEL PERIODO:"]
[null,null,"SALDO DEL PERIODO ANTERIOR ",null,null,null,null,null,null,null,null,null,null,null,null,null,null,null,null,null,{"$f":"+JULIO!U112","v":0}]
[null,null,"TOTAL APORTES GIRADOS EN EL PERIODO",null,null,null,null,null,null,null,null,null,null,null,null,null,null,null,null,null,{"$f":"+Q69","v":0}]
[]
[null,null,"TOTAL APORTES PARA EL PERIODO",null,null,null,null,null,null,null,null,null,null,null,null,null,null,null,null,null,{"$f":"+U107+U106","v":0}]
[null,null,"PAGOS  REALIZADOS POR LA EAS EN EL PERIODO",null,null,null,null,null,null,null,null,null,null,null,null,null,null,null,null,null,{"$f":"+X69","v":0}]
[]
[null,null,"SALDO DE APORTES ICBF PARA EL PERIODO",null,null,null,null,null,null,null,null,null,null,null,null,null,null,null,null,null,{"$f":"+U109-U110","v":0}]
[null,null,"SALDO SEGUN EXTRACTO",null,null,null,null,null,null,null,null,null,null,null,null,null,null,null,null,null,0]
[null,null,"DIFERENCIA SALDO RECURSOS VS SALDO EXTRACTO BANCARIO",null,null,null,null,null,null,null,null,null,null,null,null,null,null,null,null,null,{"$f":"+U113-U112","v":0}]
[null,null,"VALOR CONCILIADO",null,null,null,null,null,null,null,null,null,null,null,null,null,null,null,null,null,0]
[]
[null,null,"VALOR CARGA PRESTACIONAL ACUMULADA",null,null,null,null,null,null,null,null,null,null,null,null,null,null,null,null,null,0]
[null,null,"RENDIMIENTOS FINANCIEROS DEL MES",null,null,null,null,null,null,null,null,null,null,null,null,null,null,null,null,null,0]
[null,null,"RENDIMIENTOS FNANCIEROS ACUMULADOS",null,null,null,null,null,null,null,null,null,null,null,null,null,null,null,null,null,{"$f":"+JULIO!U119+(U118-U120)","v":0}]
[null,null,"RENDIMIENTOS FINANCIEROS CONSIGNADOS",null,null,null,null,null,null,null,null,null,null,null,null,null,null,null,null,null,0]
[null,null,"Banco:",null,{"$f":"+JULIO!E121","v":"SCOTIABANK COLPATRIA SA"},null,null,null,null,null,null,"Tipo de Cuenta:",null,null,{"$f":"+JULIO!O121","v":"Ahorros"},null,null,null,"Nro de Cuenta:",null,null,{"$f":"+JULIO!V121","v":0}]
[null,null,"OBSERVACIONES  CONCILIACIÓN:"]
[]
[null,"4.","Seguimiento al uso de los recursos tasas compensatorias (Aplica Solo para HI)"]
[null,null,"MES",null,null,"PRESUPUESTO TASAS COMPENSATORIAS",null,null,"VALOR T.C RECAUDADA POR EL OPERADOR",null,null," EJECUCIÓN CON RECURSOS TASAS COMPENSATORIAS",null,null,null,null,null,"SALDO TASAS COMPENSATORIAS"]
[]
[null,null,"ENERO",null,null,{"$f":"+JULIO!F127","v":0},null,null,{"$f":"+JULIO!I127","v":0},null,null,{"$f":"+JULIO!L127","v":0},null,null,null,null,null,{"$f":"+I127-L127","v":0}]
[null,null,"FEBRERO",null,null,{"$f":"+JULIO!F128","v":0},null,null,{"$f":"+JULIO!I128","v":0},null,null,{"$f":"+JULIO!L128","v":0},null,null,null,null,null,0]
[null,null,"MARZO",null,null,{"$f":"+JULIO!F129","v":0},null,null,{"$f":"+JULIO!I129","v":0},null,null,{"$f":"+JULIO!L129","v":0},null,null,null,null,null,0]
[null,null,"ABRIL",null,null,{"$f":"+JULIO!F130","v":0},null,null,{"$f":"+JULIO!I130","v":0},null,null,{"$f":"+JULIO!L130","v":0},null,null,null,null,null,0]
[null,null,"MAYO",null,null,{"$f":"+JULIO!F131","v":0},null,null,{"$f":"+JULIO!I131","v":0},null,null,{"$f":"+JULIO!L131","v":0},null,null,null,null,null,0]
[null,null,"JUNIO",null,null,{"$f":"+JULIO!F132","v":0},null,null,{"$f":"+JULIO!I132","v":0},null,null,{"$f":"+JULIO!L132","v":0},null,null,null,null,null,0]
[null,null,"JULIO",null,null,{"$f":"+JULIO!F133","v":0},null,null,{"$f":"+JULIO!I133","v":0},null,null,{"$f":"+JULIO!L133","v":0},null,null,null,null,null,0]
[null,null,"AGOSTO",null,null,{"$f":"+JULIO!F134","v":0},null,null,0,null,null,0,null,null,0,null,null,0]
[null,null,"SEPTIEMBRE",null,null,{"$f":"+JULIO!F135","v":0},null,null,0,null,null,0,null,null,0,null,null,0]
[null,null,"OCTUBRE",null,null,{"$f":"+JULIO!F136","v":0},null,null,0,null,null,0,null,null,0,null,null,0]
[null,null,"NOVIEMBRE",null,null,{"$f":"+JULIO!F137","v":0},null,null,0,null,null,0,null,null,0,null,null,0]
[null,null,"DICIEMBRE",null,null,{"$f":"+JULIO!F138","v":0},null,null,0,null,null,0,null,null,0,null,null,0]
[null,null,"Total",null,null,{"$f":"SUM(F127:H138)","v":0},null,null,{"$f":"SUM(I127:K134)","v":0},null,null,{"$f":"SUM(L127:Q134)","v":0},null,null,null,null,null,{"$f":"SUM(R127:Z134)","v":0}]
[null,null,"OBSERVACIONES  RECAUDO TASAS:"]
[]
[null,"Antes de imprimir este documento… piense en el medio ambiente!    \nCualquier copia impresa de este documento se considera como COPIA NO CONTROLADA\nLOS DATOS PROPORCIONADOS SERÁN TRATADOS DE ACUERDO A LA POLÌTICA DE TRATAMIENTO DE DATOS PERSONALES DEL ICBF Y A LA LEY 1581 DE 2012 "]
[null,null,null,null,null,"PROCESO\nPROMOCION Y PREVENCIÓN\n\nFORMATO ACTA LEGALIZACIÓN DE CUENTAS\n",null,null,null,null,null,null,null,null,"F1.A8.MO12.PP",null,null,null,null,null,"2022-02-02"]
[null,null,null,null,null,null,null,null,null,null,null,null,null,null,"Versión 3",null,null,null,null,null,"Página 3 de 3"]
[]
[null,null,null,null,null,null,null,null,null,null,null,null,null,null,"Clasificación de la Información:\nPública"]
[]
[null,"5. ","Se Verifica que los valores por inejecuciones corresponde a los siguientes conceptos:"]
[null,null,"CONCEPTO DE DESCUENTO",null,null," Cupos CONTRATADOS",null," Cupos\nATENDIDOS ",null," NO ATENDIDOS ",null,"VALOR DESCUENTO POR INEJECUCIÓN",null,null,"FUENTE DE CONSULTA",null,null,"VALOR DESCUENTO \nTEMPORAL",null,null,"REINTEGRO DEL DESCUENTO TEMPORAL",null,null,"Saldo de Descuentos Temporales"]
[null,null,"BAJA COBERTURA",null,null,{"$f":"+X30","v":0},null,0,null,{"$f":"+F150-H150","v":0},null,0,null,null,"NO APLICA",null,null,0,null,null,0,null,null,{"$f":"+(R150-U150)+JULIO!X150","v":0}]
[null,null,"INASISTENCIA",null,null,null,null,null,null,null,null,0,null,null,"NO APLICA"]
[null,null,"NO PRESTACION DEL SERVICIO",null,null,null,null,null,null,null,null,0,null,null,"NO APLICA"]
[]
[null,null,"CUENTAME",null,null,null,null,null,null,null,null,0,null,null,"NO APLICA"]
[null,null,"TALENTO HUMANO NO CONTRATADO",null,null,null,null,null,null,null,null,0,null,null,"NO APLICA"]
[null,null,"OTRO\n (Se Especifica en Observaciones)",null,null,null,null,null,null,null,null,0,null,null,"NO APLICA"]
[]
[]
[null,null,"TOTAL DESCUENTO",null,null,null,null,null,null,null,null,{"$f":"SUM(L150:N158)","v":0}]
[null,null,"OBSERVACIONES  DESCUENTOS:"]
[]
[null,"6. ","Ejecución Aportes EAS."]
[null,null,"MES",null,null,"PRESUPUESTO",null,null,"EJECUCIÓN",null,null,"SALDO APORTES EAS",null,null,null,null,null,"OBSERVACIONES APOTES EAS"]
[]
[null,null,"ENERO",null,null,{"$f":"+JULIO!F165","v":0},null,null,{"$f":"+JULIO!I165","v":0},null,null,{"$f":"+F165-I165","v":0}]
[null,null,"FEBRERO",null,null,{"$f":"+JULIO!F166","v":0},null,null,{"$f":"+JULIO!I166","v":0},null,null,0]
[null,null,"MARZO",null,null,{"$f":"+JULIO!F167","v":0},null,null,{"$f":"+JULIO!I167","v":0},null,null,0]
[null,null,"ABRIL",null,null,{"$f":"+JULIO!F168","v":0},null,null,{"$f":"+JULIO!I168","v":0},null,null,0]
[null,null,"MAYO",null,null,{"$f":"+JULIO!F169","v":0},null,null,{"$f":"+JULIO!I169","v":0},null,null,0]
[null,null,"JUNIO",null,null,{"$f":"+JULIO!F170","v":0},null,null,{"$f":"+JULIO!I170","v":0},null,null,0]
[null,null,"JULIO",null,null,{"$f":"+JULIO!F171","v":0},null,null,{"$f":"+JULIO!I171","v":0},null,null,0]
[null,null,"AGOSTO",null,null,{"$f":"+JULIO!F172","v":0},null,null,0,null,null,0]
[null,null,"SEPTIEMBRE",null,null,{"$f":"+JULIO!F173","v":0},null,null,0,null,null,0]
[null,null,"OCTUBRE",null,null,{"$f":"+JULIO!F174","v":0},null,null,0,null,null,0]
[null,null,"NOVIEMBRE",null,null,{"$f":"+JULIO!F175","v":0},null,null,0,null,null,0]
[null,null,"DICIEMBRE",null,null,{"$f":"+JULIO!F176","v":0},null,null,0,null,null,0]
[null,null,"Total",null,null,{"$f":"SUM(F165:H176)","v":0},null,null,{"$f":"SUM(I165:K176)","v":0},null,null,{"$f":"SUM(L165:Q172)","v":0}]
[]
[null,"7. ","Observaciones Generales."]
[]
[]
[]
[]
[]
[]
[]
[null,"8."," Recomendaciones. (Preste la asesoría necesaria para que se superen las dificultades identificadas y se mantengan las fortalezas detectadas)  "]
[]
[]
[]
[]
[]
[]
[]
[null,"9.","Cierre."]
[null,null,"Compromisos / tareas",null,null,null,null,null,null,null,"Responsables",null,null,null,null,null,null,null,null,"Fechas"]
[]
[]
[]
[null,null,"**Las siguientes personas que firman  dan constancia que han revisado y estan de acuerdo con cada uno de los items de la presente acta y que  este ejercicio de legalización de cuentas se ha realizado conforme a los lineamientos, guias de supervisión, manuales operativos y minutas contractuales establecidas por el ICBF."]
[null," ","FIRMA RESPONSABLES ICBF Y ENTIDAD ADMINISTRADORA"]
[null,null,"Nombre",null,null,null,null,"Cargo / Dependencia",null,null,null,null,null,null,"EMAIL",null,null,null,null,null,"Firma"]
[null,null,{"$f":"+G37","v":" "},null,null,null,null,"SUPERVISOR(A) DEL CONTRATO ICBF",null,null,null,null,null,null,"@icbf.gov.co"]
[null,null,{"$f":"+U37","v":" "},null,null,null,null,"APOYO FINANCIERO ICBF",null,null,null,null,null,null,"@icbf.gov.co"]
[null,null,{"$f":"+G40","v":0},null,null,null,null,"REPRESENTANTE LEGAL EAS",null,null,null,null,null,null,{"$f":"+G41","v":0}]
[null,null,{"$f":"+JULIO!C206","v":0},null,null,null,null,{"$f":"+JULIO!H206","v":0},null,null,null,null,null,null,{"$f":"+JULIO!O206","v":0}]
[null,null,{"$f":"+JULIO!C207","v":0},null,null,null,null,{"$f":"+JULIO!H207","v":0},null,null,null,null,null,null,{"$f":"+JULIO!O207","v":0}]
[null,"Antes de imprimir este documento… piense en el medio ambiente!    \nCualquier copia impresa de este documento se considera como COPIA NO CONTROLADA\nLOS DATOS PROPORCIONADOS SERÁN TRATADOS DE ACUERDO A LA POLÌTICA DE TRATAMIENTO DE DATOS PERSONALES DEL ICBF Y A LA LEY 1581 DE 2012 "]
[]
[null,"* Escanear esta Acta debidamente Firmada y colocarla en la ruta especificada por la DPI"]
[]
["RECOMEDACIONES DE USO DE ESTE ARCHIVO:"]
["1. HABILITE MACROS : ARCHIVO > CENTRO DE CONFIANZA> CONFIGURACION DEL CENTRO DE CONFIANZA > CONFIGURACION DE MACROS > HABILITAR TODAS LAS MACROS > CONFIAR EN EL ACCESO AL MODELO DE OBJETO DE PROYECTOS VBA > ACEPTAR"]
["2. DESHABILITE VISTA PROTEGIDA: ARCHIVO> CENTRO DE CONFIANZA> CONFIGURACION DEL CENTRO DE CONFIANZA > VISTA PROTEGIDA> DESMARCAR LAS TRES OPCIONES >ACEPTAR"]
["3. HABILITAR UBICACIONES DE RED: ARCHIVO> CENTRO DE CONFIANZA> CONFIGURACION DEL CENTRO DE CONFIANZA > UBICACIONES DE CONFIANZA > MARCAR PERMITIR UBICACIONES DE CONFIANZA QUE ESTEN EN LA RED > ACEPTAR "]
["4. HABILITAR DOCUMENTOS DE CONFIANZA: ARCHIVO> CENTRO DE CONFIANZA> CONFIGURACION DEL CENTRO DE CONFIANZA > DOCUMENTOS DE CONFIANZA > MARCAR PERMITIR QUE SEAN DE CONFIANZA LOS DOCUMENTOS DE UNA RED"]

{"sheet":"SEPTIEMBRE","index":10,"n_rows":216,"n_cols":25,"rows_kept":216,"cut":false,"hidden":true,"merged":[[52,2,52,15],[52,16,53,25],[53,6,53,7],[53,9,54,13],[54,6,54,7],[54,19,54,23],[42,1,45,1],[50,24,50,25],[51,2,51,5],[51,6,51,8],[51,9,51,11],[51,12,51,13],[51,14,51,15],[51,16,51,17],[51,18,51,19],[51,20,51,21],[51,22,51,23],[51,24,51,25],[50,2,50,5],[50,6,50,8],[50,9,50,11],[50,12,50,13],[50,14,50,15],[50,16,50,17],[50,18,50,19],[50,20,50,21],[50,22,50,23],[48,24,48,25],[49,2,49,5],[49,6,49,8],[49,9,49,11],[49,12,49,13],[49,14,49,15],[49,16,49,17],[49,18,49,19],[49,20,49,21],[49,22,49,23],[49,24,49,25],[48,2,48,5],[48,6,48,8],[48,9,48,11],[48,12,48,13],[48,14,48,15],[48,16,48,17],[48,18,48,19],[48,20,48,21],[48,22,48,23],[46,2,47,5],[46,6,47,8],[46,9,47,11],[46,12,46,15],[46,16,46,19],[46,20,46,25],[47,12,47,13],[47,14,47,15],[47,16,47,17],[47,18,47,19],[47,20,47,21],[47,22,47,23],[47,24,47,25],[6,18,6,22],[6,23,6,26],[45,2,45,5],[45,6,45,15],[106,1,115,1],[106,2,107,19],[106,20,107,25],[109,2,110,19],[109,20,110,25],[114,2,115,19],[114,20,115,25],[83,2,83,3],[83,22,83,25],[85,2,85,3],[85,22,85,25],[83,4,83,6],[83,7,83,9],[83,10,83,12],[83,13,83,15],[83,16,83,18],[83,19,83,21],[85,4,85,6],[85,7,85,9],[85,10,85,12],[85,16,85,18],[130,8,130,10],[129,11,129,16],[130,11,130,16],[131,11,131,16],[132,11,132,16],[108,2,108,19],[108,20,108,25],[111,2,111,19],[111,20,111,25],[116,2,116,19],[116,20,116,25],[121,2,121,25],[120,2,120,3],[120,4,120,10],[120,11,120,13],[120,14,120,17],[120,18,120,20],[120,21,120,25],[117,2,117,19],[117,20,117,25],[118,2,118,19],[118,20,118,25],[85,19,85,21],[149,14,149,16],[139,2,139,25],[140,2,140,25],[135,2,135,4],[135,5,135,7],[135,8,135,10],[136,2,136,4],[136,5,136,7],[136,8,136,10],[137,2,137,4],[148,23,148,25],[135,17,135,25],[136,17,136,25],[137,17,137,25],[138,17,138,25],[137,5,137,7],[137,8,137,10],[148,5,148,6],[148,7,148,8],[148,9,148,10],[141,1,141,26],[142,1,146,4],[142,5,146,13],[142,14,142,19],[154,11,154,13],[154,14,154,16],[155,11,157,13],[155,14,157,16],[158,14,158,25],[175,11,175,16],[167,8,167,10],[167,11,167,16],[149,17,157,19],[149,20,157,22],[150,2,150,10],[151,11,152,13],[151,14,152,16],[167,5,167,7],[164,5,164,7],[164,8,164,10],[167,2,167,4],[168,11,168,16],[169,2,169,4],[173,11,173,16],[174,2,174,4],[174,5,174,7],[174,8,174,10],[150,14,150,16],[197,2,197,9],[132,5,132,7],[132,8,132,10],[169,5,169,7],[169,8,169,10],[169,11,169,16],[170,2,170,4],[170,5,170,7],[170,8,170,10],[170,11,170,16],[164,11,164,16],[165,2,165,4],[165,5,165,7],[165,8,165,10],[165,11,165,16],[166,2,166,4],[166,5,166,7],[166,8,166,10],[166,11,166,16],[164,2,164,4],[175,2,175,4],[175,5,175,7],[175,8,175,10],[168,2,168,4],[200,2,200,25],[206,2,206,6],[206,7,206,13],[206,14,206,19],[178,2,178,25],[179,2,185,25],[186,2,186,25],[187,2,193,25],[194,2,194,25],[195,2,195,9],[195,10,195,18],[195,19,195,25],[196,2,196,9],[196,10,196,18],[196,19,196,25],[206,20,206,25],[201,2,201,6],[201,7,201,13],[201,14,201,19],[201,20,201,25],[202,2,202,6],[202,7,202,13],[202,14,202,19],[202,20,202,25],[210,1,210,27],[124,2,124,4],[124,5,124,7],[124,8,124,10],[125,2,125,4],[125,5,125,7],[125,8,125,10],[126,2,126,4],[126,5,126,7],[126,8,126,10],[203,2,203,6],[203,7,203,13],[203,14,203,19],[203,20,203,25],[204,2,204,6],[204,7,204,13],[204,14,204,19],[204,20,204,25],[205,2,205,6],[205,7,205,13],[205,14,205,19],[173,5,173,7],[173,8,173,10],[205,20,205,25],[174,11,174,16],[171,2,171,4],[171,5,171,7],[171,8,171,10],[171,11,171,16],[172,2,172,4],[172,5,172,7],[172,8,172,10],[172,11,172,16],[197,10,197,18],[197,19,197,25],[198,2,198,9],[198,10,198,18],[198,19,198,25],[199,2,199,25],[149,2,149,4],[149,5,149,6],[149,7,149,8],[149,9,149,10],[149,11,149,13],[149,23,157,25],[150,11,150,13],[158,2,158,10],[158,11,158,13],[159,2,159,25],[160,2,160,25],[176,2,176,4],[176,5,176,7],[176,8,176,10],[176,11,176,16],[176,17,176,25],[163,17,175,25],[173,2,173,4],[84,10,84,12],[84,13,84,15],[84,16,84,18],[84,19,84,21],[84,22,84,25],[64,23,64,25],[65,2,65,3],[65,23,65,25],[72,23,72,25],[73,2,73,3],[73,23,73,25],[80,2,80,25],[81,2,81,25],[82,2,82,25],[64,19,64,22],[65,4,65,6],[65,7,65,9],[65,10,65,12],[65,13,65,15],[65,16,65,18],[65,19,65,22],[64,4,64,6],[66,2,66,3],[66,23,66,25],[85,13,85,15],[64,7,64,9],[64,10,64,12],[64,13,64,15],[64,16,64,18],[69,2,69,3],[69,23,69,25],[66,19,66,22],[0,1,5,4],[8,1,8,8],[8,9,8,26],[55,2,55,25],[56,2,56,25],[57,2,57,25],[58,2,58,25],[59,2,59,3],[59,23,59,25],[60,2,60,3],[60,23,60,25],[61,2,61,3],[61,23,61,25],[62,2,62,3],[62,23,62,25],[63,2,63,3],[63,23,63,25],[64,2,64,3],[9,1,9,8],[9,9,9,26],[10,1,10,8],[10,9,10,26],[6,1,6,15],[6,16,6,17],[7,1,7,6],[7,7,7,12],[7,13,7,19],[7,20,7,26],[16,2,16,26],[17,2,17,26],[18,2,18,26],[19,2,19,26],[20,2,20,26],[21,2,21,26],[11,1,11,8],[11,9,11,26],[12,1,12,8],[12,9,12,26],[14,2,14,26],[15,2,15,26],[29,23,29,25],[30,2,30,6],[30,7,30,11],[30,12,30,16],[30,17,30,21],[30,22,30,25],[22,2,22,26],[27,2,27,25],[28,4,28,7],[28,8,28,10],[28,11,28,18],[28,19,28,21],[28,22,28,25],[29,2,29,4],[29,5,29,7],[29,8,29,10],[29,11,29,13],[29,14,29,15],[29,16,29,18],[29,19,29,22],[28,2,28,3],[31,2,31,6],[31,7,31,11],[31,12,31,16],[31,17,31,21],[31,22,31,25],[32,2,32,6],[32,7,32,11],[32,12,32,16],[32,17,32,21],[32,22,32,25],[33,2,33,6],[33,7,33,11],[33,12,33,16],[33,17,33,21],[33,22,33,25],[34,2,34,6],[34,7,34,11],[34,12,34,16],[34,17,34,21],[34,22,34,25],[35,2,35,6],[35,7,35,11],[35,12,35,16],[35,17,35,21],[35,22,35,25],[36,2,36,5],[36,6,36,15],[36,16,36,19],[36,20,36,25],[39,2,39,5],[39,6,39,15],[39,16,39,19],[39,20,39,25],[40,2,40,5],[40,6,40,15],[40,16,40,19],[40,20,40,25],[37,20,37,25],[38,2,38,5],[38,6,38,9],[38,12,38,15],[38,16,38,19],[38,20,38,25],[37,2,37,5],[37,6,37,7],[37,8,37,10],[37,11,37,12],[37,13,37,15],[37,16,37,19],[44,2,44,5],[44,6,44,15],[44,16,44,19],[44,20,44,25],[41,2,41,5],[41,6,41,15],[41,16,41,19],[41,20,41,25],[42,2,42,5],[42,6,42,15],[42,16,42,19],[42,20,42,25],[43,2,43,5],[67,2,67,3],[67,23,67,25],[68,19,68,22],[69,4,69,6],[69,7,69,9],[69,10,69,12],[69,13,69,15],[69,16,69,18],[69,19,69,22],[68,4,68,6],[68,7,68,9],[68,10,68,12],[68,13,68,15],[68,16,68,18],[68,2,68,3],[68,23,68,25],[67,4,67,6],[67,7,67,9],[67,10,67,12],[67,13,67,15],[67,16,67,18],[67,19,67,22],[70,2,70,3],[70,23,70,25],[71,2,71,3],[71,23,71,25],[72,19,72,22],[73,4,73,6],[73,7,73,9],[73,10,73,12],[73,13,73,15],[73,16,73,18],[73,19,73,22],[72,4,72,6],[72,7,72,9],[72,10,72,12],[72,13,72,15],[72,16,72,18],[72,2,72,3],[70,19,70,22],[71,4,71,6],[71,7,71,9],[71,10,71,12],[71,13,71,15],[71,16,71,18],[70,7,70,9],[86,19,86,21],[86,2,86,3],[86,22,86,25],[87,4,87,6],[87,7,87,9],[87,10,87,12],[87,13,87,15],[87,16,87,18],[87,19,87,21],[86,4,86,6],[86,7,86,9],[86,10,86,12],[86,13,86,15],[86,16,86,18],[87,2,87,3],[87,22,87,25],[88,22,88,25],[89,2,89,3],[89,22,89,25],[90,19,90,21],[91,4,91,6],[91,7,91,9],[91,10,91,12],[91,13,91,15],[91,16,91,18],[91,19,91,21],[90,4,90,6],[90,7,90,9],[90,10,90,12],[90,13,90,15],[90,16,90,18],[90,2,90,3],[90,22,90,25],[91,2,91,3],[91,22,91,25],[88,19,88,21],[89,4,89,6],[89,7,89,9],[89,10,89,12],[89,13,89,15],[93,16,93,18],[93,19,93,21],[92,4,92,6],[92,7,92,9],[92,10,92,12],[92,13,92,15],[92,16,92,18],[88,2,88,3],[89,16,89,18],[89,19,89,21],[88,4,88,6],[88,7,88,9],[88,10,88,12],[88,13,88,15],[88,16,88,18],[92,2,92,3],[92,22,92,25],[93,2,93,3],[93,22,93,25],[94,19,94,21],[95,4,95,6],[95,7,95,9],[95,10,95,12],[95,13,95,15],[95,16,95,18],[95,19,95,21],[94,4,94,6],[94,7,94,9],[94,10,94,12],[94,13,94,15],[94,16,94,18],[94,2,94,3],[94,22,94,25],[95,2,95,3],[95,22,95,25],[92,19,92,21],[93,4,93,6],[93,7,93,9],[93,10,93,12],[93,13,93,15],[98,2,98,3],[98,22,98,25],[99,2,99,25],[100,2,100,5],[100,21,100,25],[97,19,97,21],[96,4,96,6],[96,7,96,9],[96,10,96,12],[96,13,96,15],[96,16,96,18],[102,2,102,25],[103,2,103,25],[104,2,104,25],[105,2,105,19],[105,20,105,25],[126,11,126,16],[127,11,127,16],[128,11,128,16],[124,11,124,16],[125,11,125,16],[124,17,124,25],[125,17,125,25],[112,2,112,19],[122,2,122,25],[123,2,123,25],[126,17,126,25],[127,17,127,25],[128,17,128,25],[119,2,119,19],[119,20,119,25],[127,8,127,10],[101,6,101,10],[101,11,101,15],[101,16,101,20],[101,2,101,5],[96,19,96,21],[97,4,97,6],[97,7,97,9],[97,10,97,12],[97,13,97,15],[97,16,97,18],[101,21,101,25],[96,2,96,3],[96,22,96,25],[97,2,97,3],[97,22,97,25],[98,19,98,21],[100,6,100,10],[100,11,100,15],[100,16,100,20],[98,4,98,6],[98,7,98,9],[98,10,98,12],[98,13,98,15],[98,16,98,18],[63,19,63,22],[62,4,62,6],[62,7,62,9],[62,10,62,12],[62,13,62,15],[62,16,62,18],[59,4,59,6],[59,7,59,9],[43,6,43,15],[43,16,43,19],[59,10,59,12],[59,13,59,15],[61,4,61,6],[61,7,61,9],[61,10,61,12],[61,13,61,15],[61,16,61,18],[61,19,61,22],[60,4,60,6],[60,7,60,9],[60,10,60,12],[60,13,60,15],[60,16,60,18],[43,20,43,25],[70,10,70,12],[70,13,70,15],[70,16,70,18],[66,4,66,6],[66,7,66,9],[66,10,66,12],[66,13,66,15],[63,10,63,12],[63,13,63,15],[63,16,63,18],[168,5,168,7],[168,8,168,10],[112,20,112,25],[113,2,113,19],[113,20,113,25],[161,2,161,25],[162,2,162,4],[162,5,162,7],[162,8,162,10],[162,11,162,16],[162,17,162,25],[163,2,163,4],[163,5,163,7],[163,8,163,10],[163,11,163,16],[147,2,147,25],[153,11,153,13],[153,14,153,16],[151,2,152,10],[153,2,153,10],[148,20,148,22],[148,2,148,4],[127,2,127,4],[127,5,127,7],[0,14,1,19],[0,20,1,26],[2,14,3,19],[2,20,3,26],[4,14,5,26],[76,14,77,19],[76,20,77,26],[66,16,66,18],[62,19,62,22],[59,16,59,18],[59,19,59,22],[60,19,60,22],[45,16,45,19],[45,20,45,25],[74,1,74,26],[75,1,79,4],[75,5,79,13],[75,14,75,19],[75,20,75,26],[63,4,63,6],[63,7,63,9],[0,5,5,13],[71,19,71,22],[70,4,70,6],[142,20,142,26],[131,2,131,4],[131,5,131,7],[131,8,131,10],[129,17,129,25],[128,2,128,4],[128,5,128,7],[128,8,128,10],[133,2,133,4],[133,5,133,7],[133,8,133,10],[134,2,134,4],[134,5,134,7],[134,8,134,10],[132,2,132,4],[138,2,138,4],[138,5,138,7],[138,8,138,10],[133,11,133,16],[134,11,134,16],[135,11,135,16],[136,11,136,16],[137,11,137,16],[138,11,138,16],[84,2,84,3],[84,4,84,6],[84,7,84,9],[207,1,207,26],[209,1,209,24],[78,14,79,26],[143,14,144,19],[143,20,144,26],[145,14,146,26],[148,11,148,13],[148,14,148,16],[148,17,148,19],[154,2,154,10],[155,2,157,10],[129,2,129,4],[129,5,129,7],[129,8,129,10],[130,2,130,4],[130,17,130,25],[131,17,131,25],[132,17,132,25],[130,5,130,7],[133,17,133,25],[134,17,134,25]]}
[null,null,null,null,null,"PROCESO\nPROMOCION Y PREVENCIÓN\n\nFORMATO ACTA LEGALIZACIÓN DE CUENTAS\n",null,null,null,null,null,null,null,null,"F1.A8.MO12.PP",null,null,null,null,null,"2022-02-02"]
[]
[null,null,null,null,null,null,null,null,null,null,null,null,null,null,"Versión 3",null,null,null,null,null,"Página 1 de 3"]
[]
[null,null,null,null,null,null,null,null,null,null,null,null,null,null,"Clasificación de la Información:\nPública"]
[]
[null,"ACTA DE LEGALIZACIÓN N°",null,null,null,null,null,null,null,null,null,null,null,null,null,null,9,null,"ESTADO DEL CONTRATO:",null,null,null,null,{"$f":"+AGOSTO!X7","v":"VIGENTE"}]
[null,"Fecha y Hora Inicio:",null,null,null,null,null,"2019-01-01T15:00:00",null,null,null,null,null,"Fecha y Hora Fin:  ",null,null,null,null,null,null,"2019-01-01T15:00:00"]
[null,"Lugar:",null,null,null,null,null,null,null,{"$f":"+AGOSTO!J9","v":"Regional_Amazonas"}]
[null,"Dependencia que Convoca:",null,null,null,null,null,null,null,{"$f":"+AGOSTO!J10","v":"Primera Infancia - Grupo de Atención en Ciclos de Vida y Nutrición "}]
[null,"Proceso:",null,null,null,null,null,null,null,{"$f":"+AGOSTO!J11","v":"Promoción y Prevención "}]
[null,"Objetivo:",null,null,null,null,null,null,null,{"$f":"+AGOSTO!J12","v":"Recepción, revisión, el análisis y  Legalización de los Gastos e Ingresos del Informe Financiero presentado por la entidad administradora (EAS)"}]
[null,"Nombre EAS:",null,null,null,null,null,null,null,{"$f":"+AGOSTO!J13","v":"ASOCIACION DE HOGARES"}]
[null,"Agenda: "]
[null,"1.","Desarrollo."]
[null,"2.","Información general del contrato."]
[null,"3.","Informe  de ejecución Presupuestal y  financiera requerido con los debidos soporte."]
[null,"4.","Seguimiento al Uso de Tasas Compensatorias (Aplica Solo para HI)."]
[null,"5.","Detalle de Inejecuciones."]
[null,"6.","Ejecución Contrapartida."]
[null,"7.","Situación Encontrada."]
[null,"8.","Recomendaciones."]
[null,"9.","Cierre."]
[null,"         Desarrollo: "]
[null,"1.","Se da inicio a la legalización de los informes financieros Presentados por la EAS con el fin de verificar la correcta Ejecución del presupuesto aprobado dentro de los "]
[null,null,"lineamientos, guias de supervision, manuales operativos y minutas que corresponden."]
[null,"2.","A continuaciòn en el presente cuadro  se relaciona la información general del contrato."]
[null,null,"Información general del contrato."]
[null,null,"Regional:",null,{"$f":"+J9","v":"Regional_Amazonas"},null,null,null,"Centro Zonal:",null,null,{"$f":"+AGOSTO!L29","v":"CZ_LETICIA"},null,null,null,null,null,null,null,"N° de Contrato\n o Convenio",null,null,{"$f":"+AGOSTO!W29","v":0}]
[null,null,"N° CDP ",null,null,{"$f":"+AGOSTO!F30","v":0},null,null,"N° RP",null,null,{"$f":"+AGOSTO!L30","v":0},null,null,"FECHA \nACTA INICIO",null,{"$f":"+AGOSTO!Q30","v":"00:00:00"},null,null,"Cupos Contratados:",null,null,null,{"$f":"+W36+R36+M36+H36+C36","v":0}]
[null,null," Modalidad 1:",null,null,null,null,"Modalidad 2:",null,null,null,null,"Modalidad 3:",null,null,null,null,"Modalidad 4:",null,null,null,null,"Modalidad 5:"]
[null,null,{"$f":"+AGOSTO!C32","v":"NO_APLICA"},null,null,null,null,{"$f":"+AGOSTO!H32","v":"NO_APLICA"},null,null,null,null,{"$f":"+AGOSTO!M32","v":"NO_APLICA"},null,null,null,null,{"$f":"+AGOSTO!R32","v":"NO_APLICA"},null,null,null,null,{"$f":"+AGOSTO!W32","v":"NO_APLICA"}]
[null,null,"SERVICIO 1:",null,null,null,null,"SERVICIO 2:",null,null,null,null,"SERVICIO 3:",null,null,null,null,"SERVICIO 4:",null,null,null,null,"SERVICIO 5:"]
[null,null,{"$f":"+AGOSTO!C34","v":"NO APLICA"},null,null,null,null,{"$f":"+AGOSTO!H34","v":"NO APLICA"},null,null,null,null,{"$f":"+AGOSTO!M34","v":"NO APLICA"},null,null,null,null,{"$f":"+AGOSTO!R34","v":"NO APLICA"},null,null,null,null,{"$f":"+AGOSTO!W34","v":"NO APLICA"}]
[null,null,"CUPOS CONTRATADO 1:",null,null,null,null,"CUPOS CONTRATADO 2:",null,null,null,null,"CUPOS CONTRATADO 3:",null,null,null,null,"CUPOS CONTRATADO 4:",null,null,null,null,"CUPOS CONTRATADO 5:"]
[null,null,{"$f":"+AGOSTO!C36","v":0},null,null,null,null,{"$f":"+AGOSTO!H36","v":0},null,null,null,null,{"$f":"+AGOSTO!M36","v":0},null,null,null,null,{"$f":"+AGOSTO!R36","v":0},null,null,null,null,{"$f":"+AGOSTO!W36","v":0}]
[null,null,"Nombre Supervisor CTO:",null,null,null,{"$f":"+AGOSTO!G37","v":" "},null,null,null,null,null,null,null,null,null,"Apoyo Financiero ICBF:",null,null,null,{"$f":"+AGOSTO!U37","v":" "}]
[null,null,"Plazo de ejecución CTO:",null,null,null,"Desde:",null,{"$f":"+AGOSTO!I38","v":"00:00:00"},null,null,"Hasta:",null,{"$f":"+AGOSTO!N38","v":"00:00:00"},null,null,"Fecha aprob. póliza:",null,null,null,{"$f":"+AGOSTO!U38","v":" "}]
[null,null,"Póliza N° 1 del CTO",null,null,null,{"$f":"+AGOSTO!G39","v":0},null,null,null,"Poliza N° 2",null,{"$f":"+AGOSTO!M39","v":0},null,null,null,"Nombre Ent. Aseguradora",null,null,null,{"$f":"+AGOSTO!U39","v":" "}]
[null,null,"Representante Legal:",null,null,null,{"$f":"+AGOSTO!G40","v":0},null,null,null,null,null,null,null,null,null,"Cédula RL: ",null,null,null,{"$f":"+AGOSTO!U40","v":" "}]
[null,null,"Email Representante L.",null,null,null,{"$f":"+AGOSTO!G41","v":0},null,null,null,null,null,null,null,null,null,"NIT EAS:",null,null,null,{"$f":"+AGOSTO!U41","v":" "}]
[null,null,"Telefono o Cel R.L",null,null,null,{"$f":"+AGOSTO!G42","v":0},null,null,null,null,null,null,null,null,null,"Fecha Vencimiento R. L:",null,null,null,{"$f":"+AGOSTO!U42","v":" "}]
[null,"VIGENCIA ACTUAL","Valor Inicial del CTO: \n(Aporte ICBF)",null,null,null,{"$f":"+AGOSTO!G43","v":0},null,null,null,null,null,null,null,null,null,"Valor Aportes EAS:",null,null,null,{"$f":"+AGOSTO!U43","v":0}]
[null,null,"Adiciones al CTO:",null,null,null,{"$f":"+AGOSTO!G44","v":0},null,null,null,null,null,null,null,null,null,"Adiciones Aportes EAS:",null,null,null,{"$f":"+AGOSTO!U44","v":0}]
[null,null,"Reducciones al CTO",null,null,null,{"$f":"+AGOSTO!G45","v":0},null,null,null,null,null,null,null,null,null,"Total Aportes EAS:",null,null,null,{"$f":"+U44+U43","v":0}]
[null,null,"VALOR APORTE ICBF",null,null,null,{"$f":"+(G43+G44)-G45","v":0},null,null,null,null,null,null,null,null,null,"Valor Actual del CTO:",null,null,null,{"$f":"+G43+U43+G44+U44-G45","v":0}]
[null,null,"VIGENCIA",null,null,null,"APORTE ICBF",null,null,"APORTE EAS",null,null,"Adiciones al contrato",null,null,null,"Reducciones al contrato",null,null,null,"Valor final del contrato"]
[null,null,null,null,null,null,null,null,null,null,null,null,"ICBF",null,"EAS",null,"ICBF",null,"EAS",null,"ICBF",null,"EAS",null,"TOTAL"]
[null,null,{"$f":"+AGOSTO!C49","v":2020},null,null,null,{"$f":"+AGOSTO!G49","v":0},null,null,{"$f":"+AGOSTO!J49","v":0},null,null,{"$f":"+AGOSTO!M49","v":0},null,{"$f":"+AGOSTO!O49","v":0},null,{"$f":"+AGOSTO!Q49","v":0},null,{"$f":"+AGOSTO!S49","v":0},null,{"$f":"+G49+M49-Q49","v":0},null,{"$f":"+J49+O49-S49","v":0},null,{"$f":"+U49+W49","v":0}]
[null,null,{"$f":"+AGOSTO!C50","v":2021},null,null,null,{"$f":"+AGOSTO!G50","v":0},null,null,{"$f":"+AGOSTO!J50","v":0},null,null,{"$f":"+AGOSTO!M50","v":0},null,{"$f":"+AGOSTO!O50","v":0},null,{"$f":"+AGOSTO!Q50","v":0},null,{"$f":"+AGOSTO!S50","v":0},null,{"$f":"+G50+M50-Q50","v":0},null,{"$f":"+J50+O50-S50","v":0},null,{"$f":"+U50+W50","v":0}]
[null,null,{"$f":"+AGOSTO!C51","v":2022},null,null,null,{"$f":"+AGOSTO!G51","v":0},null,null,{"$f":"+AGOSTO!J51","v":0},null,null,{"$f":"+AGOSTO!M51","v":0},null,{"$f":"+AGOSTO!O51","v":0},null,{"$f":"+AGOSTO!Q51","v":0},null,{"$f":"+AGOSTO!S51","v":0},null,0,null,0,null,0]
[null,null,"TOTAL",null,null,null,{"$f":"SUM(G49:I51)","v":0},null,null,{"$f":"SUM(J49:L51)","v":0},null,null,{"$f":"SUM(M49:N51)","v":0},null,{"$f":"SUM(O49:P51)","v":0},null,{"$f":"SUM(Q49:R51)","v":0},null,{"$f":"SUM(S49:T51)","v":0},null,{"$f":"SUM(U49:V51)","v":0},null,{"$f":"SUM(W49:X51)","v":0},null,{"$f":"+Y51+Y50+Y49","v":0}]
[null,null,"La entidad presenta informe financiero mensual ante el ICBF como sigue:",null,null,null,null,null,null,null,null,null,null,null,null,null,"Presenta los documentos soportes que acompañan el informe financiero y se entrega al ICBF copia de los mismos en medio:"]
[null,null,"Mes a legalizar:",null,null,null,"SEPTIEMBRE",null,null,"¿Los documentos aportados permiten realizar la legalización del informe financiero?    ",null,null,null,null,"SI","X"]
[null,null,"Fecha radicación EAS:",null,null,null,"2022-09-10",null,null,null,null,null,null,null,"NO",null,null,null,null,"DIGITAL Y FISICO"]
[null,null,"OBSERVACIONES INFORMACIÓN GENERAL:"]
[]
[null,"3. ","Se verifica  la ejecución de los recursos del contrato de acuerdo a los Informes Financieros presentados por la entidad:"]
[null,null,"SEGUIMIENTO PRESUPUESTAL  Y FINANCIERO DEL CONTRATO"]
[null,null,"MES",null,"PRESUPUESTO APROBADO + REPROGRAMACIONES \n(Aportes ICBF)",null,null,"EJECUCIÓN",null,null,"SALDO SIN EJECUTAR",null,null,"PROGRAMACIÓN DESEMBOLSOS",null,null,"DESEMBOLSOS GIRADOS",null,null,"DIFERENCIA PROGRAMADO VS PAGADO",null,null,null,"PAGOS REAL. EN EL MES"]
[]
[null,null,"Enero",null,{"$f":"+AGOSTO!E62","v":0},null,null,{"$f":"+AGOSTO!H62","v":0},null,null,{"$f":"+E62-H62","v":0},null,null,{"$f":"+AGOSTO!N62","v":0},null,null,{"$f":"+AGOSTO!Q62","v":0},null,null,{"$f":"+N62-Q62","v":0},null,null,null,{"$f":"+AGOSTO!X62","v":0}]
[null,null,"Febrero",null,{"$f":"+AGOSTO!E63","v":0},null,null,{"$f":"+AGOSTO!H63","v":0},null,null,0,null,null,{"$f":"+AGOSTO!N63","v":0},null,null,{"$f":"+AGOSTO!Q63","v":0},null,null,0,null,null,null,{"$f":"+AGOSTO!X63","v":0}]
[null,null,"Marzo",null,{"$f":"+AGOSTO!E64","v":0},null,null,{"$f":"+AGOSTO!H64","v":0},null,null,0,null,null,{"$f":"+AGOSTO!N64","v":0},null,null,{"$f":"+AGOSTO!Q64","v":0},null,null,0,null,null,null,{"$f":"+AGOSTO!X64","v":0}]
[null,null,"Abril",null,{"$f":"+AGOSTO!E65","v":0},null,null,{"$f":"+AGOSTO!H65","v":0},null,null,0,null,null,{"$f":"+AGOSTO!N65","v":0},null,null,{"$f":"+AGOSTO!Q65","v":0},null,null,0,null,null,null,{"$f":"+AGOSTO!X65","v":0}]
[null,null,"Mayo",null,{"$f":"+AGOSTO!E66","v":0},null,null,{"$f":"+AGOSTO!H66","v":0},null,null,0,null,null,{"$f":"+AGOSTO!N66","v":0},null,null,{"$f":"+AGOSTO!Q66","v":0},null,null,0,null,null,null,{"$f":"+AGOSTO!X66","v":0}]
[null,null,"Junio",null,{"$f":"+AGOSTO!E67","v":0},null,null,{"$f":"+AGOSTO!H67","v":0},null,null,0,null,null,{"$f":"+AGOSTO!N67","v":0},null,null,{"$f":"+AGOSTO!Q67","v":0},null,null,0,null,null,null,{"$f":"+AGOSTO!X67","v":0}]
[null,null,"Julio",null,{"$f":"+AGOSTO!E68","v":0},null,null,{"$f":"+AGOSTO!H68","v":0},null,null,0,null,null,{"$f":"+AGOSTO!N68","v":0},null,null,{"$f":"+AGOSTO!Q68","v":0},null,null,0,null,null,null,{"$f":"+AGOSTO!X68","v":0}]
[null,null,"Agosto",null,{"$f":"+AGOSTO!E69","v":0},null,null,{"$f":"+AGOSTO!H69","v":0},null,null,0,null,null,{"$f":"+AGOSTO!N69","v":0},null,null,{"$f":"+AGOSTO!Q69","v":0},null,null,0,null,null,null,{"$f":"+AGOSTO!X69","v":0}]
[null,null,"Septiembre",null,{"$f":"+AGOSTO!E70","v":0},null,null,0,null,null,0,null,null,{"$f":"+AGOSTO!N70","v":0},null,null,0,null,null,0,null,null,null,0]
[null,null,"Octubre",null,{"$f":"+AGOSTO!E71","v":0},null,null,0,null,null,0,null,null,{"$f":"+AGOSTO!N71","v":0},null,null,0,null,null,0,null,null,null,0]
[null,null,"Noviembre",null,{"$f":"+AGOSTO!E72","v":0},null,null,0,null,null,0,null,null,{"$f":"+AGOSTO!N72","v":0},null,null,0,null,null,0,null,null,null,0]
[null,null,"Diciembre  ",null,{"$f":"+AGOSTO!E73","v":0},null,null,0,null,null,0,null,null,{"$f":"+AGOSTO!N73","v":0},null,null,0,null,null,0,null,null,null,0]
[null,null,"TOTAL  ",null,{"$f":"SUM(E62:G73)","v":0},null,null,{"$f":"SUM(H62:J73)","v":0},null,null,{"$f":"SUM(K62:M73)","v":0},null,null,{"$f":"SUM(N62:P73)","v":0},null,null,{"$f":"SUM(Q62:S73)","v":0},null,null,{"$f":"SUM(T62:W73)","v":0},null,null,null,{"$f":"SUM(X62:Z73)","v":0}]
[null,"Antes de imprimir este documento… piense en el medio ambiente!    \nCualquier copia impresa de este documento se considera como COPIA NO CONTROLADA\nLOS DATOS PROPORCIONADOS SERÁN TRATADOS DE ACUERDO A LA POLÌTICA DE TRATAMIENTO DE DATOS PERSONALES DEL ICBF Y A LA LEY 1581 DE 2012 "]
[null,null,null,null,null,"PROCESO\nPROMOCION Y PREVENCIÓN\n\nFORMATO ACTA LEGALIZACIÓN DE CUENTAS\n",null,null,null,null,null,null,null,null,"F1.A8.MO12.PP",null,null,null,null,null,"2022-02-02"]
[null,null,null,null,null,null,null,null,null,null,null,null,null,null,"Versión 3",null,null,null,null,null,"Página 2 de 3"]
[]
[null,null,null,null,null,null,null,null,null,null,null,null,null,null,"Clasificación de la Información:\nPública"]
[]
[null,null,"OBSERVACIONES SEGUIMIENTO PRESUPUESTAL  Y FINANCIERO DEL CONTRATO: "]
[]
[null,null,"SEGUIMIENTO A INEJECUCIONES Y LIBERACIONES"]
[null,null,"MES",null,"AHORROS",null,null,"INEJECUCIONES",null,null,"SEGUIMIENTO DE INEJECUCIONES",null,null,"REDISTRIBUCIÓN DE \nAHORROS",null,null,"REINVERSIÓN DE \nINEJECUCIONES",null,null,"LIBERACIONES/REINTEGROS T.N \n(Tramitadas)",null,null,"LIBERACIONES PENDIENTES POR  REALIZAR"]
[null,null,"Inejecución\n inicial",null,{"$f":"+AGOSTO!E85","v":0},null,null,{"$f":"+AGOSTO!H85","v":0},null,null,{"$f":"+G46-E74","v":0},null,null,{"$f":"+AGOSTO!N85","v":0},null,null,{"$f":"+AGOSTO!Q85","v":0},null,null,{"$f":"+AGOSTO!T85","v":0},null,null,{"$f":"IFERROR(+K85,0)","v":0}]
[]
[null,null,"Enero",null,{"$f":"+AGOSTO!E87","v":0},null,null,{"$f":"+AGOSTO!H87","v":0},null,null,{"$f":"+E87+H87","v":0},null,null,{"$f":"+AGOSTO!N87","v":0},null,null,{"$f":"+AGOSTO!Q87","v":0},null,null,{"$f":"+AGOSTO!T87","v":0},null,null,{"$f":"+W85+K87-(N87+Q87+T87)","v":0}]
[null,null,"Febrero",null,{"$f":"+AGOSTO!E88","v":0},null,null,{"$f":"+AGOSTO!H88","v":0},null,null,0,null,null,{"$f":"+AGOSTO!N88","v":0},null,null,{"$f":"+AGOSTO!Q88","v":0},null,null,{"$f":"+AGOSTO!T88","v":0},null,null,{"$f":"+W87+K88-(N88+Q88+T88)","v":0}]
[null,null,"Marzo",null,{"$f":"+AGOSTO!E89","v":0},null,null,{"$f":"+AGOSTO!H89","v":0},null,null,0,null,null,{"$f":"+AGOSTO!N89","v":0},null,null,{"$f":"+AGOSTO!Q89","v":0},null,null,{"$f":"+AGOSTO!T89","v":0},null,null,0]
[null,null,"Abril",null,{"$f":"+AGOSTO!E90","v":0},null,null,{"$f":"+AGOSTO!H90","v":0},null,null,0,null,null,{"$f":"+AGOSTO!N90","v":0},null,null,{"$f":"+AGOSTO!Q90","v":0},null,null,{"$f":"+AGOSTO!T90","v":0},null,null,0]
[null,null,"Mayo",null,{"$f":"+AGOSTO!E91","v":0},null,null,{"$f":"+AGOSTO!H91","v":0},null,null,0,null,null,{"$f":"+AGOSTO!N91","v":0},null,null,{"$f":"+AGOSTO!Q91","v":0},null,null,{"$f":"+AGOSTO!T91","v":0},null,null,0]
[null,null,"Junio",null,{"$f":"+AGOSTO!E92","v":0},null,null,{"$f":"+AGOSTO!H92","v":0},null,null,0,null,null,{"$f":"+AGOSTO!N92","v":0},null,null,{"$f":"+AGOSTO!Q92","v":0},null,null,{"$f":"+AGOSTO!T92","v":0},null,null,0]
[null,null,"Julio",null,{"$f":"+AGOSTO!E93","v":0},null,null,{"$f":"+AGOSTO!H93","v":0},null,null,0,null,null,{"$f":"+AGOSTO!N93","v":0},null,null,{"$f":"+AGOSTO!Q93","v":0},null,null,{"$f":"+AGOSTO!T93","v":0},null,null,0]
[null,null,"Agosto",null,{"$f":"+AGOSTO!E94","v":0},null,null,{"$f":"+AGOSTO!H94","v":0},null,null,0,null,null,{"$f":"+AGOSTO!N94","v":0},null,null,{"$f":"+AGOSTO!Q94","v":0},null,null,{"$f":"+AGOSTO!T94","v":0},null,null,0]
[null,null,"Septiembre",null,0,null,null,0,null,null,0,null,null,0,null,null,0,null,null,0,null,null,0]
[null,null,"Octubre",null,0,null,null,0,null,null,0,null,null,0,null,null,0,null,null,0,null,null,0]
[null,null,"Noviembre",null,0,null,null,0,null,null,0,null,null,0,null,null,0,null,null,0,null,null,0]
[null,null,"Diciembre  ",null,0,null,null,0,null,null,0,null,null,0,null,null,0,null,null,0,null,null,0]
[null,null,"TOTAL  ",null,{"$f":"SUM(E87:G98)+E85","v":0},null,null,{"$f":"SUM(H87:J98)+H85","v":0},null,null,{"$f":"SUM(K87:M98)+K85","v":0},null,null,{"$f":"SUM(N87:P98)+N85","v":0},null,null,{"$f":"SUM(Q87:S98)+Q85","v":0},null,null,{"$f":"SUM(T87:V98)+T85","v":0},null,null,{"$f":"+W95","v":0}]
[null,null,"RESUMEN PERIODICO A LA EJECUCIÓN"]
[null,null,"PRESUPUESTO APROBADO",null,null,null,"PRESUPUESTO EJECUTADO",null,null,null,null,"EJECUCION PROYECTADA \nAL PERIODO",null,null,null,null,"AVANCE EJECUCION \nDEL PERIODO",null,null,null,null,"DESVIACIÓN PRESUPUESTAL"]
[null,null,{"$f":"+E74","v":0},null,null,null,{"$f":"+H74","v":0},null,null,null,null,{"$f":"IFERROR((SUMIF(H61:J70,\">=0\",E61:G70))/E74,0)","v":0},null,null,null,null,{"$f":"IFERROR(G102/C102,0)","v":0},null,null,null,null,{"$f":"+Q102-L102","v":0}]
[null,null,"OBSERVACIONES EJECUCIÓN PRESUPUESTO:"]
[]
[null,null,"RESUMEN FINANCIERO DEL PERIODO:"]
[null,null,"SALDO DEL PERIODO ANTERIOR ",null,null,null,null,null,null,null,null,null,null,null,null,null,null,null,null,null,{"$f":"+AGOSTO!U112","v":0}]
[null,null,"TOTAL APORTES GIRADOS EN EL PERIODO",null,null,null,null,null,null,null,null,null,null,null,null,null,null,null,null,null,{"$f":"+Q70","v":0}]
[]
[null,null,"TOTAL APORTES PARA EL PERIODO",null,null,null,null,null,null,null,null,null,null,null,null,null,null,null,null,null,{"$f":"+U107+U106","v":0}]
[null,null,"PAGOS  REALIZADOS POR LA EAS EN EL PERIODO",null,null,null,null,null,null,null,null,null,null,null,null,null,null,null,null,null,{"$f":"+X70","v":0}]
[]
[null,null,"SALDO DE APORTES ICBF PARA EL PERIODO",null,null,null,null,null,null,null,null,null,null,null,null,null,null,null,null,null,{"$f":"+U109-U110","v":0}]
[null,null,"SALDO SEGUN EXTRACTO",null,null,null,null,null,null,null,null,null,null,null,null,null,null,null,null,null,0]
[null,null,"DIFERENCIA SALDO RECURSOS VS SALDO EXTRACTO BANCARIO",null,null,null,null,null,null,null,null,null,null,null,null,null,null,null,null,null,{"$f":"+U113-U112","v":0}]
[null,null,"VALOR CONCILIADO",null,null,null,null,null,null,null,null,null,null,null,null,null,null,null,null,null,0]
[]
[null,null,"VALOR CARGA PRESTACIONAL ACUMULADA",null,null,null,null,null,null,null,null,null,null,null,null,null,null,null,null,null,0]
[null,null,"RENDIMIENTOS FINANCIEROS DEL MES",null,null,null,null,null,null,null,null,null,null,null,null,null,null,null,null,null,0]
[null,null,"RENDIMIENTOS FNANCIEROS ACUMULADOS",null,null,null,null,null,null,null,null,null,null,null,null,null,null,null,null,null,{"$f":"+AGOSTO!U119+(U118-U120)","v":0}]
[null,null,"RENDIMIENTOS FINANCIEROS CONSIGNADOS",null,null,null,null,null,null,null,null,null,null,null,null,null,null,null,null,null,0]
[null,null,"Banco:",null,{"$f":"+AGOSTO!E121","v":"SCOTIABANK COLPATRIA SA"},null,null,null,null,null,null,"Tipo de Cuenta:",null,null,{"$f":"+AGOSTO!O121","v":"Ahorros"},null,null,null,"Nro de Cuenta:",null,null,{"$f":"+AGOSTO!V121","v":0}]
[null,null,"OBSERVACIONES  CONCILIACIÓN:"]
[]
[null,"4.","Seguimiento al uso de los recursos tasas compensatorias (Aplica Solo para HI)"]
[null,null,"MES",null,null,"PRESUPUESTO TASAS COMPENSATORIAS",null,null,"VALOR T.C RECAUDADA POR EL OPERADOR",null,null," EJECUCIÓN CON RECURSOS TASAS COMPENSATORIAS",null,null,null,null,null,"SALDO TASAS COMPENSATORIAS"]
[]
[null,null,"ENERO",null,null,{"$f":"+AGOSTO!F127","v":0},null,null,{"$f":"+AGOSTO!I127","v":0},null,null,{"$f":"+AGOSTO!L127","v":0},null,null,null,null,null,{"$f":"+I127-L127","v":0}]
[null,null,"FEBRERO",null,null,{"$f":"+AGOSTO!F128","v":0},null,null,{"$f":"+AGOSTO!I128","v":0},null,null,{"$f":"+AGOSTO!L128","v":0},null,null,null,null,null,0]
[null,null,"MARZO",null,null,{"$f":"+AGOSTO!F129","v":0},null,null,{"$f":"+AGOSTO!I129","v":0},null,null,{"$f":"+AGOSTO!L129","v":0},null,null,null,null,null,0]
[null,null,"ABRIL",null,null,{"$f":"+AGOSTO!F130","v":0},null,null,{"$f":"+AGOSTO!I130","v":0},null,null,{"$f":"+AGOSTO!L130","v":0},null,null,null,null,null,0]
[null,null,"MAYO",null,null,{"$f":"+AGOSTO!F131","v":0},null,null,{"$f":"+AGOSTO!I131","v":0},null,null,{"$f":"+AGOSTO!L131","v":0},null,null,null,null,null,0]
[null,null,"JUNIO",null,null,{"$f":"+AGOSTO!F132","v":0},null,null,{"$f":"+AGOSTO!I132","v":0},null,null,{"$f":"+AGOSTO!L132","v":0},null,null,null,null,null,0]
[null,null,"JULIO",null,null,{"$f":"+AGOSTO!F133","v":0},null,null,{"$f":"+AGOSTO!I133","v":0},null,null,{"$f":"+AGOSTO!L133","v":0},null,null,null,null,null,0]
[null,null,"AGOSTO",null,null,{"$f":"+AGOSTO!F134","v":0},null,null,{"$f":"+AGOSTO!I134","v":0},null,null,{"$f":"+AGOSTO!L134","v":0},null,null,null,null,null,0]
[null,null,"SEPTIEMBRE",null,null,{"$f":"+AGOSTO!F135","v":0},null,null,0,null,null,0,null,null,0,null,null,0]
[null,null,"OCTUBRE",null,null,{"$f":"+AGOSTO!F136","v":0},null,null,0,null,null,0,null,null,0,null,null,0]
[null,null,"NOVIEMBRE",null,null,{"$f":"+AGOSTO!F137","v":0},null,null,0,null,null,0,null,null,0,null,null,0]
[null,null,"DICIEMBRE",null,null,{"$f":"+AGOSTO!F138","v":0},null,null,0,null,null,0,null,null,0,null,null,0]
[null,null,"Total",null,null,{"$f":"SUM(F127:H138)","v":0},null,null,{"$f":"SUM(I127:K135)","v":0},null,null,{"$f":"SUM(L127:Q135)","v":0},null,null,null,null,null,{"$f":"SUM(R127:Z135)","v":0}]
[null,null,"OBSERVACIONES  RECAUDO TASAS:"]
[]
[null,"Antes de imprimir este documento… piense en el medio ambiente!    \nCualquier copia impresa de este documento se considera como COPIA NO CONTROLADA\nLOS DATOS PROPORCIONADOS SERÁN TRATADOS DE ACUERDO A LA POLÌTICA DE TRATAMIENTO DE DATOS PERSONALES DEL ICBF Y A LA LEY 1581 DE 2012 "]
[null,null,null,null,null,"PROCESO\nPROMOCION Y PREVENCIÓN\n\nFORMATO ACTA LEGALIZACIÓN DE CUENTAS\n",null,null,null,null,null,null,null,null,"F1.A8.MO12.PP",null,null,null,null,null,"2022-02-02"]
[null,null,null,null,null,null,null,null,null,null,null,null,null,null,"Versión 3",null,null,null,null,null,"Página 3 de 3"]
[]
[null,null,null,null,null,null,null,null,null,null,null,null,null,null,"Clasificación de la Información:\nPública"]
[]
[null,"5."," Se Verifica que los valores por inejecuciones corresponde a los siguientes conceptos:"]
[null,null,"CONCEPTO DE DESCUENTO",null,null," Cupos CONTRATADOS",null," Cupos\nATENDIDOS ",null," NO ATENDIDOS ",null,"VALOR DESCUENTO POR INEJECUCIÓN",null,null,"FUENTE DE CONSULTA",null,null,"VALOR DESCUENTO \nTEMPORAL",null,null,"REINTEGRO DEL DESCUENTO TEMPORAL",null,null,"Saldo de Descuentos Temporales"]
[null,null,"BAJA COBERTURA",null,null,{"$f":"+X30","v":0},null,0,null,{"$f":"+F150-H150","v":0},null,0,null,null,"NO APLICA",null,null,0,null,null,0,null,null,{"$f":"+(R150-U150)+AGOSTO!X150","v":0}]
[null,null,"INASISTENCIA",null,null,null,null,null,null,null,null,0,null,null,"NO APLICA"]
[null,null,"NO PRESTACION DEL SERVICIO",null,null,null,null,null,null,null,null,0,null,null,"NO APLICA"]
[]
[null,null,"CUENTAME",null,null,null,null,null,null,null,null,0,null,null,"NO APLICA"]
[null,null,"TALENTO HUMANO NO CONTRATADO",null,null,null,null,null,null,null,null,0,null,null,"NO APLICA"]
[null,null,"OTRO\n (Se Especifica en Observaciones)",null,null,null,null,null,null,null,null,0,null,null,"NO APLICA"]
[]
[]
[null,null,"TOTAL DESCUENTO",null,null,null,null,null,null,null,null,{"$f":"SUM(L150:N158)","v":0}]
[null,null,"OBSERVACIONES  DESCUENTOS:"]
[]
[null,"6. ","Ejecución Aportes EAS."]
[null,null,"MES",null,null,"PRESUPUESTO",null,null,"EJECUCIÓN",null,null,"SALDO APORTES EAS",null,null,null,null,null,"OBSERVACIONES APOTES EAS"]
[]
[null,null,"ENERO",null,null,{"$f":"+AGOSTO!F165","v":0},null,null,{"$f":"+AGOSTO!I165","v":0},null,null,{"$f":"+F165-I165","v":0}]
[null,null,"FEBRERO",null,null,{"$f":"+AGOSTO!F166","v":0},null,null,{"$f":"+AGOSTO!I166","v":0},null,null,0]
[null,null,"MARZO",null,null,{"$f":"+AGOSTO!F167","v":0},null,null,{"$f":"+AGOSTO!I167","v":0},null,null,0]
[null,null,"ABRIL",null,null,{"$f":"+AGOSTO!F168","v":0},null,null,{"$f":"+AGOSTO!I168","v":0},null,null,0]
[null,null,"MAYO",null,null,{"$f":"+AGOSTO!F169","v":0},null,null,{"$f":"+AGOSTO!I169","v":0},null,null,0]
[null,null,"JUNIO",null,null,{"$f":"+AGOSTO!F170","v":0},null,null,{"$f":"+AGOSTO!I170","v":0},null,null,0]
[null,null,"JULIO",null,null,{"$f":"+AGOSTO!F171","v":0},null,null,{"$f":"+AGOSTO!I171","v":0},null,null,0]
[null,null,"AGOSTO",null,null,{"$f":"+AGOSTO!F172","v":0},null,null,{"$f":"+AGOSTO!I172","v":0},null,null,0]
[null,null,"SEPTIEMBRE",null,null,{"$f":"+AGOSTO!F173","v":0},null,null,0,null,null,0]
[null,null,"OCTUBRE",null,null,{"$f":"+AGOSTO!F174","v":0},null,null,0,null,null,0]
[null,null,"NOVIEMBRE",null,null,{"$f":"+AGOSTO!F175","v":0},null,null,0,null,null,0]
[null,null,"DICIEMBRE",null,null,{"$f":"+AGOSTO!F176","v":0},null,null,0,null,null,0]
[null,null,"Total",null,null,{"$f":"SUM(F165:H176)","v":0},null,null,{"$f":"SUM(I165:K176)","v":0},null,null,{"$f":"SUM(L165:Q173)","v":0}]
[]
[null,"7. ","Observaciones Generales."]
[]
[]
[]
[]
[]
[]
[]
[null,"8."," Recomendaciones. (Preste la asesoría necesaria para que se superen las dificultades identificadas y se mantengan las fortalezas detectadas)  "]
[]
[]
[]
[]
[]
[]
[]
[null,"9.","Cierre."]
[null,null,"Compromisos / tareas",null,null,null,null,null,null,null,"Responsables",null,null,null,null,null,null,null,null,"Fechas"]
[]
[]
[]
[null,null,"**Las siguientes personas que firman  dan constancia que han revisado y estan de acuerdo con cada uno de los items de la presente acta y que  este ejercicio de legalización de cuentas se ha realizado conforme a los lineamientos, guias de supervisión, manuales operativos y minutas contractuales establecidas por el ICBF."]
[null," ","FIRMA RESPONSABLES ICBF Y ENTIDAD ADMINISTRADORA"]
[null,null,"Nombre",null,null,null,null,"Cargo / Dependencia",null,null,null,null,null,null,"EMAIL",null,null,null,null,null,"Firma"]
[null,null,{"$f":"+G37","v":" "},null,null,null,null,"SUPERVISOR(A) DEL CONTRATO ICBF",null,null,null,null,null,null,"@icbf.gov.co"]
[null,null,{"$f":"+U37","v":" "},null,null,null,null,"APOYO FINANCIERO ICBF",null,null,null,null,null,null,"@icbf.gov.co"]
[null,null,{"$f":"+G40","v":0},null,null,null,null,"REPRESENTANTE LEGAL EAS",null,null,null,null,null,null,{"$f":"+G41","v":0}]
[null,null,{"$f":"+AGOSTO!C206","v":0},null,null,null,null,{"$f":"+AGOSTO!H206","v":0},null,null,null,null,null,null,{"$f":"+AGOSTO!O206","v":0}]
[null,null,{"$f":"+AGOSTO!C207","v":0},null,null,null,null,{"$f":"+AGOSTO!H207","v":0},null,null,null,null,null,null,{"$f":"+AGOSTO!O207","v":0}]
[null,"Antes de imprimir este documento… piense en el medio ambiente!    \nCualquier copia impresa de este documento se considera como COPIA NO CONTROLADA\nLOS DATOS PROPORCIONADOS SERÁN TRATADOS DE ACUERDO A LA POLÌTICA DE TRATAMIENTO DE DATOS PERSONALES DEL ICBF Y A LA LEY 1581 DE 2012 "]
[]
[null,"* Escanear esta Acta debidamente Firmada y colocarla en la ruta especificada por la DPI"]
[]
["RECOMEDACIONES DE USO DE ESTE ARCHIVO:"]
["1. HABILITE MACROS : ARCHIVO > CENTRO DE CONFIANZA> CONFIGURACION DEL CENTRO DE CONFIANZA > CONFIGURACION DE MACROS > HABILITAR TODAS LAS MACROS > CONFIAR EN EL ACCESO AL MODELO DE OBJETO DE PROYECTOS VBA > ACEPTAR"]
["2. DESHABILITE VISTA PROTEGIDA: ARCHIVO> CENTRO DE CONFIANZA> CONFIGURACION DEL CENTRO DE CONFIANZA > VISTA PROTEGIDA> DESMARCAR LAS TRES OPCIONES >ACEPTAR"]
["3. HABILITAR UBICACIONES DE RED: ARCHIVO> CENTRO DE CONFIANZA> CONFIGURACION DEL CENTRO DE CONFIANZA > UBICACIONES DE CONFIANZA > MARCAR PERMITIR UBICACIONES DE CONFIANZA QUE ESTEN EN LA RED > ACEPTAR "]
["4. HABILITAR DOCUMENTOS DE CONFIANZA: ARCHIVO> CENTRO DE CONFIANZA> CONFIGURACION DEL CENTRO DE CONFIANZA > DOCUMENTOS DE CONFIANZA > MARCAR PERMITIR QUE SEAN DE CONFIANZA LOS DOCUMENTOS DE UNA RED"]

{"sheet":"OCTUBRE","index":11,"n_rows":216,"n_cols":25,"rows_kept":216,"cut":false,"hidden":true,"merged":[[52,2,52,15],[52,16,53,25],[53,6,53,7],[53,9,54,13],[54,6,54,7],[54,19,54,23],[42,1,45,1],[50,24,50,25],[51,2,51,5],[51,6,51,8],[51,9,51,11],[51,12,51,13],[51,14,51,15],[51,16,51,17],[51,18,51,19],[51,20,51,21],[51,22,51,23],[51,24,51,25],[50,2,50,5],[50,6,50,8],[50,9,50,11],[50,12,50,13],[50,14,50,15],[50,16,50,17],[50,18,50,19],[50,20,50,21],[50,22,50,23],[48,9,48,11],[48,12,48,13],[48,14,48,15],[48,16,48,17],[48,18,48,19],[48,20,48,21],[48,22,48,23],[48,24,48,25],[49,2,49,5],[49,6,49,8],[49,9,49,11],[49,12,49,13],[49,14,49,15],[49,16,49,17],[49,18,49,19],[49,20,49,21],[49,22,49,23],[49,24,49,25],[48,2,48,5],[48,6,48,8],[117,2,117,19],[117,20,117,25],[118,2,118,19],[118,20,118,25],[119,2,119,19],[119,20,119,25],[45,2,45,5],[45,6,45,15],[126,17,126,25],[86,2,86,3],[86,22,86,25],[86,4,86,6],[86,7,86,9],[86,10,86,12],[124,8,124,10],[125,2,125,4],[125,5,125,7],[125,8,125,10],[124,11,124,16],[125,11,125,16],[87,22,87,25],[89,13,89,15],[64,23,64,25],[65,2,65,3],[127,17,127,25],[128,17,128,25],[106,1,115,1],[106,2,107,19],[106,20,107,25],[109,2,110,19],[109,20,110,25],[114,2,115,19],[114,20,115,25],[124,17,124,25],[125,17,125,25],[120,2,120,3],[120,4,120,10],[120,11,120,13],[120,14,120,17],[120,18,120,20],[120,21,120,25],[126,2,126,4],[126,5,126,7],[126,8,126,10],[127,2,127,4],[126,11,126,16],[127,11,127,16],[124,5,124,7],[135,8,135,10],[135,11,135,16],[128,8,128,10],[130,5,130,7],[130,8,130,10],[131,2,131,4],[131,5,131,7],[131,8,131,10],[134,2,134,4],[134,11,134,16],[134,5,134,7],[134,8,134,10],[138,11,138,16],[138,2,138,4],[138,5,138,7],[138,8,138,10],[135,17,135,25],[128,2,128,4],[128,5,128,7],[133,17,133,25],[134,17,134,25],[129,17,129,25],[130,17,130,25],[131,17,131,25],[132,17,132,25],[136,17,136,25],[137,17,137,25],[138,17,138,25],[129,11,129,16],[130,11,130,16],[131,11,131,16],[132,11,132,16],[133,11,133,16],[128,11,128,16],[135,2,135,4],[135,5,135,7],[178,2,178,25],[179,2,185,25],[186,2,186,25],[187,2,193,25],[194,2,194,25],[129,2,129,4],[129,5,129,7],[129,8,129,10],[132,2,132,4],[132,5,132,7],[132,8,132,10],[133,2,133,4],[133,5,133,7],[133,8,133,10],[130,2,130,4],[136,2,136,4],[136,5,136,7],[136,8,136,10],[175,2,175,4],[175,5,175,7],[175,8,175,10],[175,11,175,16],[176,2,176,4],[139,2,139,25],[199,2,199,25],[200,2,200,25],[201,2,201,6],[201,7,201,13],[201,14,201,19],[201,20,201,25],[195,2,195,9],[195,10,195,18],[195,19,195,25],[196,2,196,9],[196,10,196,18],[196,19,196,25],[197,2,197,9],[197,10,197,18],[197,19,197,25],[198,2,198,9],[198,10,198,18],[198,19,198,25],[205,20,205,25],[206,2,206,6],[206,7,206,13],[206,14,206,19],[206,20,206,25],[210,1,210,27],[202,20,202,25],[203,20,203,25],[204,20,204,25],[205,2,205,6],[205,7,205,13],[205,14,205,19],[202,2,202,6],[202,7,202,13],[202,14,202,19],[203,2,203,6],[203,7,203,13],[203,14,203,19],[204,2,204,6],[204,7,204,13],[204,14,204,19],[207,1,207,26],[209,1,209,24],[176,5,176,7],[176,8,176,10],[176,11,176,16],[165,5,165,7],[165,8,165,10],[165,11,165,16],[166,2,166,4],[166,5,166,7],[166,8,166,10],[166,11,166,16],[167,2,167,4],[167,5,167,7],[167,8,167,10],[167,11,167,16],[168,2,168,4],[168,5,168,7],[168,8,168,10],[168,11,168,16],[169,2,169,4],[169,5,169,7],[169,8,169,10],[169,11,169,16],[176,17,176,25],[163,17,175,25],[173,2,173,4],[173,5,173,7],[173,8,173,10],[173,11,173,16],[174,2,174,4],[174,5,174,7],[174,8,174,10],[174,11,174,16],[171,2,171,4],[171,5,171,7],[171,8,171,10],[171,11,171,16],[172,2,172,4],[172,5,172,7],[172,8,172,10],[172,11,172,16],[170,2,170,4],[170,5,170,7],[170,8,170,10],[170,11,170,16],[164,11,164,16],[165,2,165,4],[137,2,137,4],[137,5,137,7],[137,8,137,10],[136,11,136,16],[137,11,137,16],[86,16,86,18],[86,19,86,21],[140,2,140,25],[83,22,83,25],[85,2,85,3],[85,22,85,25],[83,4,83,6],[83,7,83,9],[83,10,83,12],[83,13,83,15],[83,16,83,18],[83,19,83,21],[85,4,85,6],[85,7,85,9],[85,10,85,12],[85,13,85,15],[85,16,85,18],[85,19,85,21],[87,2,87,3],[66,2,66,3],[66,23,66,25],[67,2,67,3],[67,23,67,25],[68,19,68,22],[69,4,69,6],[69,7,69,9],[64,10,64,12],[64,19,64,22],[65,4,65,6],[65,7,65,9],[65,10,65,12],[65,13,65,15],[65,16,65,18],[65,19,65,22],[64,4,64,6],[64,7,64,9],[64,13,64,15],[64,16,64,18],[69,2,69,3],[69,23,69,25],[66,19,66,22],[69,10,69,12],[69,13,69,15],[0,1,5,4],[8,1,8,8],[8,9,8,26],[55,2,55,25],[56,2,56,25],[57,2,57,25],[58,2,58,25],[59,2,59,3],[59,23,59,25],[9,1,9,8],[9,9,9,26],[10,1,10,8],[10,9,10,26],[6,1,6,15],[6,16,6,17],[7,1,7,6],[7,7,7,12],[7,13,7,19],[7,20,7,26],[6,18,6,22],[6,23,6,26],[16,2,16,26],[17,2,17,26],[18,2,18,26],[60,2,60,3],[60,23,60,25],[61,2,61,3],[61,23,61,25],[62,2,62,3],[62,23,62,25],[63,2,63,3],[63,23,63,25],[65,23,65,25],[62,19,62,22],[63,4,63,6],[63,7,63,9],[63,10,63,12],[63,13,63,15],[63,16,63,18],[63,19,63,22],[62,4,62,6],[62,7,62,9],[62,10,62,12],[62,13,62,15],[62,16,62,18],[64,2,64,3],[19,2,19,26],[20,2,20,26],[21,2,21,26],[11,1,11,8],[11,9,11,26],[12,1,12,8],[12,9,12,26],[14,2,14,26],[15,2,15,26],[29,23,29,25],[30,2,30,6],[30,7,30,11],[30,12,30,16],[30,17,30,21],[30,22,30,25],[22,2,22,26],[27,2,27,25],[28,4,28,7],[28,8,28,10],[28,11,28,18],[28,19,28,21],[28,22,28,25],[29,2,29,4],[29,5,29,7],[29,8,29,10],[29,11,29,13],[29,14,29,15],[29,16,29,18],[29,19,29,22],[28,2,28,3],[31,2,31,6],[31,7,31,11],[31,12,31,16],[31,17,31,21],[31,22,31,25],[32,2,32,6],[32,7,32,11],[32,12,32,16],[32,17,32,21],[32,22,32,25],[33,2,33,6],[33,7,33,11],[33,12,33,16],[33,17,33,21],[33,22,33,25],[34,2,34,6],[34,7,34,11],[34,12,34,16],[34,17,34,21],[34,22,34,25],[35,2,35,6],[35,7,35,11],[35,12,35,16],[35,17,35,21],[35,22,35,25],[36,2,36,5],[36,6,36,15],[36,16,36,19],[36,20,36,25],[39,2,39,5],[39,6,39,15],[39,16,39,19],[39,20,39,25],[40,2,40,5],[40,6,40,15],[40,16,40,19],[40,20,40,25],[37,20,37,25],[38,2,38,5],[38,6,38,9],[38,12,38,15],[38,16,38,19],[38,20,38,25],[37,2,37,5],[37,6,37,7],[37,8,37,10],[37,11,37,12],[37,13,37,15],[37,16,37,19],[43,2,43,5],[43,6,43,15],[43,16,43,19],[43,20,43,25],[44,2,44,5],[44,6,44,15],[44,16,44,19],[44,20,44,25],[41,2,41,5],[41,6,41,15],[41,16,41,19],[41,20,41,25],[42,2,42,5],[42,6,42,15],[42,16,42,19],[42,20,42,25],[46,2,47,5],[46,6,47,8],[46,9,47,11],[46,12,46,15],[46,16,46,19],[46,20,46,25],[47,12,47,13],[47,14,47,15],[47,16,47,17],[47,18,47,19],[47,20,47,21],[47,22,47,23],[47,24,47,25],[59,4,59,6],[59,7,59,9],[59,10,59,12],[59,13,59,15],[59,16,59,18],[59,19,59,22],[60,19,60,22],[61,4,61,6],[61,7,61,9],[61,10,61,12],[61,13,61,15],[61,16,61,18],[61,19,61,22],[60,4,60,6],[60,7,60,9],[60,10,60,12],[60,13,60,15],[60,16,60,18],[69,16,69,18],[69,19,69,22],[68,4,68,6],[68,7,68,9],[68,10,68,12],[68,13,68,15],[68,16,68,18],[68,2,68,3],[68,23,68,25],[67,4,67,6],[67,7,67,9],[67,10,67,12],[67,13,67,15],[67,16,67,18],[67,19,67,22],[89,22,89,25],[70,2,70,3],[70,23,70,25],[71,2,71,3],[71,23,71,25],[72,19,72,22],[73,4,73,6],[73,7,73,9],[73,10,73,12],[73,13,73,15],[73,16,73,18],[73,19,73,22],[72,4,72,6],[72,7,72,9],[72,10,72,12],[72,13,72,15],[72,16,72,18],[72,2,72,3],[70,19,70,22],[71,4,71,6],[71,7,71,9],[87,4,87,6],[87,7,87,9],[86,13,86,15],[87,10,87,12],[87,13,87,15],[87,16,87,18],[87,19,87,21],[83,2,83,3],[84,2,84,3],[84,4,84,6],[84,7,84,9],[78,14,79,26],[72,23,72,25],[73,2,73,3],[73,23,73,25],[80,2,80,25],[81,2,81,25],[82,2,82,25],[84,13,84,15],[84,16,84,18],[84,19,84,21],[84,22,84,25],[90,2,90,3],[90,22,90,25],[91,2,91,3],[91,22,91,25],[88,19,88,21],[89,4,89,6],[89,7,89,9],[89,10,89,12],[89,16,89,18],[89,19,89,21],[88,4,88,6],[88,7,88,9],[88,10,88,12],[88,13,88,15],[88,16,88,18],[88,2,88,3],[88,22,88,25],[89,2,89,3],[90,19,90,21],[91,4,91,6],[91,7,91,9],[91,10,91,12],[91,13,91,15],[91,16,91,18],[98,22,98,25],[97,13,97,15],[97,16,97,18],[91,19,91,21],[90,4,90,6],[90,7,90,9],[90,10,90,12],[90,13,90,15],[90,16,90,18],[93,22,93,25],[95,22,95,25],[92,19,92,21],[93,4,93,6],[93,7,93,9],[93,10,93,12],[93,13,93,15],[93,16,93,18],[94,19,94,21],[95,4,95,6],[95,7,95,9],[95,10,95,12],[95,13,95,15],[95,16,95,18],[95,19,95,21],[100,16,100,20],[98,4,98,6],[98,7,98,9],[98,10,98,12],[98,13,98,15],[98,16,98,18],[98,2,98,3],[92,22,92,25],[98,19,98,21],[100,6,100,10],[100,11,100,15],[92,2,92,3],[93,19,93,21],[92,4,92,6],[92,7,92,9],[92,10,92,12],[92,13,92,15],[92,16,92,18],[94,2,94,3],[95,2,95,3],[93,2,93,3],[99,2,99,25],[100,2,100,5],[100,21,100,25],[97,2,97,3],[97,22,97,25],[96,2,96,3],[96,22,96,25],[94,13,94,15],[94,16,94,18],[94,22,94,25],[97,19,97,21],[96,4,96,6],[96,7,96,9],[96,10,96,12],[96,13,96,15],[96,16,96,18],[96,19,96,21],[97,4,97,6],[97,7,97,9],[97,10,97,12],[94,4,94,6],[94,7,94,9],[94,10,94,12],[149,14,149,16],[149,2,149,4],[149,5,149,6],[149,7,149,8],[149,9,149,10],[149,11,149,13],[155,11,157,13],[155,14,157,16],[154,2,154,10],[155,2,157,10],[148,5,148,6],[148,7,148,8],[154,11,154,13],[154,14,154,16],[147,2,147,25],[148,9,148,10],[148,11,148,13],[148,14,148,16],[148,2,148,4],[148,17,148,19],[148,20,148,22],[148,23,148,25],[153,11,153,13],[153,14,153,16],[149,23,157,25],[150,2,150,10],[151,2,152,10],[153,2,153,10],[149,17,157,19],[149,20,157,22],[150,11,150,13],[150,14,150,16],[151,11,152,13],[151,14,152,16],[164,5,164,7],[164,8,164,10],[158,2,158,10],[158,11,158,13],[159,2,159,25],[160,2,160,25],[161,2,161,25],[162,2,162,4],[162,5,162,7],[162,8,162,10],[162,11,162,16],[162,17,162,25],[158,14,158,25],[163,2,163,4],[163,5,163,7],[163,8,163,10],[163,11,163,16],[164,2,164,4],[112,20,112,25],[113,2,113,19],[113,20,113,25],[101,6,101,10],[101,11,101,15],[101,16,101,20],[108,20,108,25],[111,2,111,19],[111,20,111,25],[108,2,108,19],[104,2,104,25],[105,2,105,19],[105,20,105,25],[101,21,101,25],[102,2,102,25],[103,2,103,25],[0,14,1,19],[0,20,1,26],[2,14,3,19],[2,20,3,26],[4,14,5,26],[76,14,77,19],[76,20,77,26],[0,5,5,13],[71,10,71,12],[71,13,71,15],[71,16,71,18],[71,19,71,22],[70,4,70,6],[70,7,70,9],[70,10,70,12],[70,13,70,15],[70,16,70,18],[66,4,66,6],[66,7,66,9],[66,10,66,12],[66,13,66,15],[66,16,66,18],[45,16,45,19],[45,20,45,25],[143,14,144,19],[143,20,144,26],[145,14,146,26],[74,1,74,26],[75,1,79,4],[75,5,79,13],[75,14,75,19],[75,20,75,26],[141,1,141,26],[142,1,146,4],[142,5,146,13],[142,14,142,19],[142,20,142,26],[121,2,121,25],[122,2,122,25],[123,2,123,25],[127,8,127,10],[127,5,127,7],[124,2,124,4],[101,2,101,5],[112,2,112,19],[116,2,116,19],[116,20,116,25],[84,10,84,12]]}
[null,null,null,null,null,"PROCESO\nPROMOCION Y PREVENCIÓN\n\nFORMATO ACTA LEGALIZACIÓN DE CUENTAS\n",null,null,null,null,null,null,null,null,"F1.A8.MO12.PP",null,null,null,null,null,"2022-02-02"]
[]
[null,null,null,null,null,null,null,null,null,null,null,null,null,null,"Versión 3",null,null,null,null,null,"Página 1 de 3"]
[]
[null,null,null,null,null,null,null,null,null,null,null,null,null,null,"Clasificación de la Información:\nPública"]
[]
[null,"ACTA DE LEGALIZACIÓN N°",null,null,null,null,null,null,null,null,null,null,null,null,null,null,10,null,"ESTADO DEL CONTRATO:",null,null,null,null,{"$f":"+SEPTIEMBRE!X7","v":"VIGENTE"}]
[null,"Fecha y Hora Inicio:",null,null,null,null,null,"2019-01-01T15:00:00",null,null,null,null,null,"Fecha y Hora Fin:  ",null,null,null,null,null,null,"2019-01-01T15:00:00"]
[null,"Lugar:",null,null,null,null,null,null,null,{"$f":"+SEPTIEMBRE!J9","v":"Regional_Amazonas"}]
[null,"Dependencia que Convoca:",null,null,null,null,null,null,null,{"$f":"+SEPTIEMBRE!J10","v":"Primera Infancia - Grupo de Atención en Ciclos de Vida y Nutrición "}]
[null,"Proceso:",null,null,null,null,null,null,null,{"$f":"+SEPTIEMBRE!J11","v":"Promoción y Prevención "}]
[null,"Objetivo:",null,null,null,null,null,null,null,{"$f":"+SEPTIEMBRE!J12","v":"Recepción, revisión, el análisis y  Legalización de los Gastos e Ingresos del Informe Financiero presentado por la entidad administradora (EAS)"}]
[null,"Nombre EAS:",null,null,null,null,null,null,null,{"$f":"+SEPTIEMBRE!J13","v":"ASOCIACION DE HOGARES"}]
[null,"Agenda: "]
[null,"1.","Desarrollo."]
[null,"2.","Información general del contrato."]
[null,"3.","Informe  de ejecución Presupuestal y  financiera requerido con los debidos soporte."]
[null,"4.","Seguimiento al Uso de Tasas Compensatorias (Aplica Solo para HI)."]
[null,"5.","Detalle de Inejecuciones."]
[null,"6.","Ejecución Contrapartida."]
[null,"7.","Situación Encontrada."]
[null,"8.","Recomendaciones."]
[null,"9.","Cierre."]
[null,"         Desarrollo: "]
[null,"1.","Se da inicio a la legalización de los informes financieros Presentados por la EAS con el fin de verificar la correcta Ejecución del presupuesto aprobado dentro de los "]
[null,null,"lineamientos, guias de supervision, manuales operativos y minutas que corresponden."]
[null,"2.","A continuaciòn en el presente cuadro  se relaciona la información general del contrato."]
[null,null,"Información general del contrato."]
[null,null,"Regional:",null,{"$f":"+J9","v":"Regional_Amazonas"},null,null,null,"Centro Zonal:",null,null,{"$f":"+SEPTIEMBRE!L29","v":"CZ_LETICIA"},null,null,null,null,null,null,null,"N° de Contrato\n o Convenio",null,null,{"$f":"+SEPTIEMBRE!W29","v":0}]
[null,null,"N° CDP ",null,null,{"$f":"+SEPTIEMBRE!F30","v":0},null,null,"N° RP",null,null,{"$f":"+SEPTIEMBRE!L30","v":0},null,null,"FECHA \nACTA INICIO",null,{"$f":"+SEPTIEMBRE!Q30","v":"00:00:00"},null,null,"Cupos Contratados:",null,null,null,{"$f":"+W36+R36+M36+H36+C36","v":0}]
[null,null," Modalidad 1:",null,null,null,null,"Modalidad 2:",null,null,null,null,"Modalidad 3:",null,null,null,null,"Modalidad 4:",null,null,null,null,"Modalidad 5:"]
[null,null,{"$f":"+SEPTIEMBRE!C32","v":"NO_APLICA"},null,null,null,null,{"$f":"+SEPTIEMBRE!H32","v":"NO_APLICA"},null,null,null,null,{"$f":"+SEPTIEMBRE!M32","v":"NO_APLICA"},null,null,null,null,{"$f":"+SEPTIEMBRE!R32","v":"NO_APLICA"},null,null,null,null,{"$f":"+SEPTIEMBRE!W32","v":"NO_APLICA"}]
[null,null,"SERVICIO 1:",null,null,null,null,"SERVICIO 2:",null,null,null,null,"SERVICIO 3:",null,null,null,null,"SERVICIO 4:",null,null,null,null,"SERVICIO 5:"]
[null,null,{"$f":"+SEPTIEMBRE!C34","v":"NO APLICA"},null,null,null,null,{"$f":"+SEPTIEMBRE!H34","v":"NO APLICA"},null,null,null,null,{"$f":"+SEPTIEMBRE!M34","v":"NO APLICA"},null,null,null,null,{"$f":"+SEPTIEMBRE!R34","v":"NO APLICA"},null,null,null,null,{"$f":"+SEPTIEMBRE!W34","v":"NO APLICA"}]
[null,null,"CUPOS CONTRATADO 1:",null,null,null,null,"CUPOS CONTRATADO 2:",null,null,null,null,"CUPOS CONTRATADO 3:",null,null,null,null,"CUPOS CONTRATADO 4:",null,null,null,null,"CUPOS CONTRATADO 5:"]
[null,null,{"$f":"+SEPTIEMBRE!C36","v":0},null,null,null,null,{"$f":"+SEPTIEMBRE!H36","v":0},null,null,null,null,{"$f":"+SEPTIEMBRE!M36","v":0},null,null,null,null,{"$f":"+SEPTIEMBRE!R36","v":0},null,null,null,null,{"$f":"+SEPTIEMBRE!W36","v":0}]
[null,null,"Nombre Supervisor CTO:",null,null,null,{"$f":"+SEPTIEMBRE!G37","v":" "},null,null,null,null,null,null,null,null,null,"Apoyo Financiero ICBF:",null,null,null,{"$f":"+SEPTIEMBRE!U37","v":" "}]
[null,null,"Plazo de ejecución CTO:",null,null,null,"Desde:",null,{"$f":"+SEPTIEMBRE!I38","v":"00:00:00"},null,null,"Hasta:",null,{"$f":"+SEPTIEMBRE!N38","v":"00:00:00"},null,null,"Fecha aprob. póliza:",null,null,null,{"$f":"+SEPTIEMBRE!U38","v":" "}]
[null,null,"Póliza N° 1 del CTO",null,null,null,{"$f":"+SEPTIEMBRE!G39","v":0},null,null,null,"Poliza N° 2",null,{"$f":"+SEPTIEMBRE!M39","v":0},null,null,null,"Nombre Ent. Aseguradora",null,null,null,{"$f":"+SEPTIEMBRE!U39","v":" "}]
[null,null,"Representante Legal:",null,null,null,{"$f":"+SEPTIEMBRE!G40","v":0},null,null,null,null,null,null,null,null,null,"Cédula RL: ",null,null,null,{"$f":"+SEPTIEMBRE!U40","v":" "}]
[null,null,"Email Representante L.",null,null,null,{"$f":"+SEPTIEMBRE!G41","v":0},null,null,null,null,null,null,null,null,null,"NIT EAS:",null,null,null,{"$f":"+SEPTIEMBRE!U41","v":" "}]
[null,null,"Telefono o Cel R.L",null,null,null,{"$f":"+SEPTIEMBRE!G42","v":0},null,null,null,null,null,null,null,null,null,"Fecha Vencimiento R. L:",null,null,null,{"$f":"+SEPTIEMBRE!U42","v":" "}]
[null,"VIGENCIA ACTUAL","Valor Inicial del CTO: \n(Aporte ICBF)",null,null,null,{"$f":"+SEPTIEMBRE!G43","v":0},null,null,null,null,null,null,null,null,null,"Valor Aportes EAS:",null,null,null,{"$f":"+SEPTIEMBRE!U43","v":0}]
[null,null,"Adiciones al CTO:",null,null,null,{"$f":"+SEPTIEMBRE!G44","v":0},null,null,null,null,null,null,null,null,null,"Adiciones Aportes EAS:",null,null,null,{"$f":"+SEPTIEMBRE!U44","v":0}]
[null,null,"Reducciones al CTO",null,null,null,{"$f":"+SEPTIEMBRE!G45","v":0},null,null,null,null,null,null,null,null,null,"Total Aportes EAS:",null,null,null,{"$f":"+U44+U43","v":0}]
[null,null,"VALOR APORTE ICBF",null,null,null,{"$f":"+(G43+G44)-G45","v":0},null,null,null,null,null,null,null,null,null,"Valor Actual del CTO:",null,null,null,{"$f":"+G43+U43+G44+U44-G45","v":0}]
[null,null,"VIGENCIA",null,null,null,"APORTE ICBF",null,null,"APORTE EAS",null,null,"Adiciones al contrato",null,null,null,"Reducciones al contrato",null,null,null,"Valor final del contrato"]
[null,null,null,null,null,null,null,null,null,null,null,null,"ICBF",null,"EAS",null,"ICBF",null,"EAS",null,"ICBF",null,"EAS",null,"TOTAL"]
[null,null,{"$f":"+SEPTIEMBRE!C49","v":2020},null,null,null,{"$f":"+SEPTIEMBRE!G49","v":0},null,null,{"$f":"+SEPTIEMBRE!J49","v":0},null,null,{"$f":"+SEPTIEMBRE!M49","v":0},null,{"$f":"+SEPTIEMBRE!O49","v":0},null,{"$f":"+SEPTIEMBRE!Q49","v":0},null,{"$f":"+SEPTIEMBRE!S49","v":0},null,{"$f":"+G49+M49-Q49","v":0},null,{"$f":"+J49+O49-S49","v":0},null,{"$f":"+U49+W49","v":0}]
[null,null,{"$f":"+SEPTIEMBRE!C50","v":2021},null,null,null,{"$f":"+SEPTIEMBRE!G50","v":0},null,null,{"$f":"+SEPTIEMBRE!J50","v":0},null,null,{"$f":"+SEPTIEMBRE!M50","v":0},null,{"$f":"+SEPTIEMBRE!O50","v":0},null,{"$f":"+SEPTIEMBRE!Q50","v":0},null,{"$f":"+SEPTIEMBRE!S50","v":0},null,{"$f":"+G50+M50-Q50","v":0},null,{"$f":"+J50+O50-S50","v":0},null,{"$f":"+U50+W50","v":0}]
[null,null,{"$f":"+SEPTIEMBRE!C51","v":2022},null,null,null,{"$f":"+SEPTIEMBRE!G51","v":0},null,null,{"$f":"+SEPTIEMBRE!J51","v":0},null,null,{"$f":"+SEPTIEMBRE!M51","v":0},null,{"$f":"+SEPTIEMBRE!O51","v":0},null,{"$f":"+SEPTIEMBRE!Q51","v":0},null,{"$f":"+SEPTIEMBRE!S51","v":0},null,0,null,0,null,0]
[null,null,"TOTAL",null,null,null,{"$f":"SUM(G49:I51)","v":0},null,null,{"$f":"SUM(J49:L51)","v":0},null,null,{"$f":"SUM(M49:N51)","v":0},null,{"$f":"SUM(O49:P51)","v":0},null,{"$f":"SUM(Q49:R51)","v":0},null,{"$f":"SUM(S49:T51)","v":0},null,{"$f":"SUM(U49:V51)","v":0},null,{"$f":"SUM(W49:X51)","v":0},null,{"$f":"+Y51+Y50+Y49","v":0}]
[null,null,"La entidad presenta informe financiero mensual ante el ICBF como sigue:",null,null,null,null,null,null,null,null,null,null,null,null,null,"Presenta los documentos soportes que acompañan el informe financiero y se entrega al ICBF copia de los mismos en medio:"]
[null,null,"Mes a legalizar:",null,null,null,"OCTUBRE",null,null,"¿Los documentos aportados permiten realizar la legalización del informe financiero?    ",null,null,null,null,"SI","X"]
[null,null,"Fecha radicación EAS:",null,null,null,"2022-10-10",null,null,null,null,null,null,null,"NO",null,null,null,null,"DIGITAL Y FISICO"]
[null,null,"OBSERVACIONES INFORMACIÓN GENERAL:"]
[]
[null,"3. ","Se verifica  la ejecución de los recursos del contrato de acuerdo a los Informes Financieros presentados por la entidad:"]
[null,null,"SEGUIMIENTO PRESUPUESTAL  Y FINANCIERO DEL CONTRATO"]
[null,null,"MES",null,"PRESUPUESTO APROBADO + REPROGRAMACIONES \n(Aportes ICBF)",null,null,"EJECUCIÓN",null,null,"SALDO SIN EJECUTAR",null,null,"PROGRAMACIÓN DESEMBOLSOS",null,null,"DESEMBOLSOS GIRADOS",null,null,"DIFERENCIA PROGRAMADO VS PAGADO",null,null,null,"PAGOS REAL. EN EL MES"]
[]
[null,null,"Enero",null,{"$f":"+SEPTIEMBRE!E62","v":0},null,null,{"$f":"+SEPTIEMBRE!H62","v":0},null,null,{"$f":"+E62-H62","v":0},null,null,{"$f":"+SEPTIEMBRE!N62","v":0},null,null,{"$f":"+SEPTIEMBRE!Q62","v":0},null,null,{"$f":"+N62-Q62","v":0},null,null,null,{"$f":"+SEPTIEMBRE!X62","v":0}]
[null,null,"Febrero",null,{"$f":"+SEPTIEMBRE!E63","v":0},null,null,{"$f":"+SEPTIEMBRE!H63","v":0},null,null,0,null,null,{"$f":"+SEPTIEMBRE!N63","v":0},null,null,{"$f":"+SEPTIEMBRE!Q63","v":0},null,null,0,null,null,null,{"$f":"+SEPTIEMBRE!X63","v":0}]
[null,null,"Marzo",null,{"$f":"+SEPTIEMBRE!E64","v":0},null,null,{"$f":"+SEPTIEMBRE!H64","v":0},null,null,0,null,null,{"$f":"+SEPTIEMBRE!N64","v":0},null,null,{"$f":"+SEPTIEMBRE!Q64","v":0},null,null,0,null,null,null,{"$f":"+SEPTIEMBRE!X64","v":0}]
[null,null,"Abril",null,{"$f":"+SEPTIEMBRE!E65","v":0},null,null,{"$f":"+SEPTIEMBRE!H65","v":0},null,null,0,null,null,{"$f":"+SEPTIEMBRE!N65","v":0},null,null,{"$f":"+SEPTIEMBRE!Q65","v":0},null,null,0,null,null,null,{"$f":"+SEPTIEMBRE!X65","v":0}]
[null,null,"Mayo",null,{"$f":"+SEPTIEMBRE!E66","v":0},null,null,{"$f":"+SEPTIEMBRE!H66","v":0},null,null,0,null,null,{"$f":"+SEPTIEMBRE!N66","v":0},null,null,{"$f":"+SEPTIEMBRE!Q66","v":0},null,null,0,null,null,null,{"$f":"+SEPTIEMBRE!X66","v":0}]
[null,null,"Junio",null,{"$f":"+SEPTIEMBRE!E67","v":0},null,null,{"$f":"+SEPTIEMBRE!H67","v":0},null,null,0,null,null,{"$f":"+SEPTIEMBRE!N67","v":0},null,null,{"$f":"+SEPTIEMBRE!Q67","v":0},null,null,0,null,null,null,{"$f":"+SEPTIEMBRE!X67","v":0}]
[null,null,"Julio",null,{"$f":"+SEPTIEMBRE!E68","v":0},null,null,{"$f":"+SEPTIEMBRE!H68","v":0},null,null,0,null,null,{"$f":"+SEPTIEMBRE!N68","v":0},null,null,{"$f":"+SEPTIEMBRE!Q68","v":0},null,null,0,null,null,null,{"$f":"+SEPTIEMBRE!X68","v":0}]
[null,null,"Agosto",null,{"$f":"+SEPTIEMBRE!E69","v":0},null,null,{"$f":"+SEPTIEMBRE!H69","v":0},null,null,0,null,null,{"$f":"+SEPTIEMBRE!N69","v":0},null,null,{"$f":"+SEPTIEMBRE!Q69","v":0},null,null,0,null,null,null,{"$f":"+SEPTIEMBRE!X69","v":0}]
[null,null,"Septiembre",null,{"$f":"+SEPTIEMBRE!E70","v":0},null,null,{"$f":"+SEPTIEMBRE!H70","v":0},null,null,0,null,null,{"$f":"+SEPTIEMBRE!N70","v":0},null,null,{"$f":"+SEPTIEMBRE!Q70","v":0},null,null,0,null,null,null,{"$f":"+SEPTIEMBRE!X70","v":0}]
[null,null,"Octubre",null,{"$f":"+SEPTIEMBRE!E71","v":0},null,null,0,null,null,0,null,null,{"$f":"+SEPTIEMBRE!N71","v":0},null,null,0,null,null,0,null,null,null,0]
[null,null,"Noviembre",null,{"$f":"+SEPTIEMBRE!E72","v":0},null,null,0,null,null,0,null,null,{"$f":"+SEPTIEMBRE!N72","v":0},null,null,0,null,null,0,null,null,null,0]
[null,null,"Diciembre  ",null,{"$f":"+SEPTIEMBRE!E73","v":0},null,null,0,null,null,0,null,null,{"$f":"+SEPTIEMBRE!N73","v":0},null,null,0,null,null,0,null,null,null,0]
[null,null,"TOTAL",null,{"$f":"SUM(E62:G73)","v":0},null,null,{"$f":"SUM(H62:J73)","v":0},null,null,{"$f":"SUM(K62:M73)","v":0},null,null,{"$f":"SUM(N62:P73)","v":0},null,null,{"$f":"SUM(Q62:S73)","v":0},null,null,{"$f":"SUM(T62:W73)","v":0},null,null,null,{"$f":"SUM(X62:Z73)","v":0}]
[null,"Antes de imprimir este documento… piense en el medio ambiente!    \nCualquier copia impresa de este documento se considera como COPIA NO CONTROLADA\nLOS DATOS PROPORCIONADOS SERÁN TRATADOS DE ACUERDO A LA POLÌTICA DE TRATAMIENTO DE DATOS PERSONALES DEL ICBF Y A LA LEY 1581 DE 2012 "]
[null,null,null,null,null,"PROCESO\nPROMOCION Y PREVENCIÓN\n\nFORMATO ACTA LEGALIZACIÓN DE CUENTAS\n",null,null,null,null,null,null,null,null,"F1.A8.MO12.PP",null,null,null,null,null,"2022-02-02"]
[null,null,null,null,null,null,null,null,null,null,null,null,null,null,"Versión 3",null,null,null,null,null,"Página 2 de 3"]
[]
[null,null,null,null,null,null,null,null,null,null,null,null,null,null,"Clasificación de la Información:\nPública"]
[]
[null,null,"OBSERVACIONES SEGUIMIENTO PRESUPUESTAL  Y FINANCIERO DEL CONTRATO: "]
[]
[null,null,"SEGUIMIENTO A INEJECUCIONES Y LIBERACIONES"]
[null,null,"MES",null,"AHORROS",null,null,"INEJECUCIONES",null,null,"SEGUIMIENTO DE INEJECUCIONES",null,null,"REDISTRIBUCIÓN DE \nAHORROS",null,null,"REINVERSIÓN DE \nINEJECUCIONES",null,null,"LIBERACIONES/REINTEGROS T.N \n(Tramitadas)",null,null,"LIBERACIONES PENDIENTES POR  REALIZAR"]
[null,null,"Inejecución\n inicial",null,{"$f":"+SEPTIEMBRE!E85","v":0},null,null,{"$f":"+SEPTIEMBRE!H85","v":0},null,null,{"$f":"+G46-E74","v":0},null,null,{"$f":"+SEPTIEMBRE!N85","v":0},null,null,{"$f":"+SEPTIEMBRE!Q85","v":0},null,null,{"$f":"+SEPTIEMBRE!T85","v":0},null,null,{"$f":"IFERROR(+K85,0)","v":0}]
[]
[null,null,"Enero",null,{"$f":"+SEPTIEMBRE!E87","v":0},null,null,{"$f":"+SEPTIEMBRE!H87","v":0},null,null,{"$f":"+E87+H87","v":0},null,null,{"$f":"+SEPTIEMBRE!N87","v":0},null,null,{"$f":"+SEPTIEMBRE!Q87","v":0},null,null,{"$f":"+SEPTIEMBRE!T87","v":0},null,null,{"$f":"+W85+K87-(N87+Q87+T87)","v":0}]
[null,null,"Febrero",null,{"$f":"+SEPTIEMBRE!E88","v":0},null,null,{"$f":"+SEPTIEMBRE!H88","v":0},null,null,0,null,null,{"$f":"+SEPTIEMBRE!N88","v":0},null,null,{"$f":"+SEPTIEMBRE!Q88","v":0},null,null,{"$f":"+SEPTIEMBRE!T88","v":0},null,null,{"$f":"+W87+K88-(N88+Q88+T88)","v":0}]
[null,null,"Marzo",null,{"$f":"+SEPTIEMBRE!E89","v":0},null,null,{"$f":"+SEPTIEMBRE!H89","v":0},null,null,0,null,null,{"$f":"+SEPTIEMBRE!N89","v":0},null,null,{"$f":"+SEPTIEMBRE!Q89","v":0},null,null,{"$f":"+SEPTIEMBRE!T89","v":0},null,null,0]
[null,null,"Abril",null,{"$f":"+SEPTIEMBRE!E90","v":0},null,null,{"$f":"+SEPTIEMBRE!H90","v":0},null,null,0,null,null,{"$f":"+SEPTIEMBRE!N90","v":0},null,null,{"$f":"+SEPTIEMBRE!Q90","v":0},null,null,{"$f":"+SEPTIEMBRE!T90","v":0},null,null,0]
[null,null,"Mayo",null,{"$f":"+SEPTIEMBRE!E91","v":0},null,null,{"$f":"+SEPTIEMBRE!H91","v":0},null,null,0,null,null,{"$f":"+SEPTIEMBRE!N91","v":0},null,null,{"$f":"+SEPTIEMBRE!Q91","v":0},null,null,{"$f":"+SEPTIEMBRE!T91","v":0},null,null,0]
[null,null,"Junio",null,{"$f":"+SEPTIEMBRE!E92","v":0},null,null,{"$f":"+SEPTIEMBRE!H92","v":0},null,null,0,null,null,{"$f":"+SEPTIEMBRE!N92","v":0},null,null,{"$f":"+SEPTIEMBRE!Q92","v":0},null,null,{"$f":"+SEPTIEMBRE!T92","v":0},null,null,0]
[null,null,"Julio",null,{"$f":"+SEPTIEMBRE!E93","v":0},null,null,{"$f":"+SEPTIEMBRE!H93","v":0},null,null,0,null,null,{"$f":"+SEPTIEMBRE!N93","v":0},null,null,{"$f":"+SEPTIEMBRE!Q93","v":0},null,null,{"$f":"+SEPTIEMBRE!T93","v":0},null,null,0]
[null,null,"Agosto",null,{"$f":"+SEPTIEMBRE!E94","v":0},null,null,{"$f":"+SEPTIEMBRE!H94","v":0},null,null,0,null,null,{"$f":"+SEPTIEMBRE!N94","v":0},null,null,{"$f":"+SEPTIEMBRE!Q94","v":0},null,null,{"$f":"+SEPTIEMBRE!T94","v":0},null,null,0]
[null,null,"Septiembre",null,{"$f":"+SEPTIEMBRE!E95","v":0},null,null,{"$f":"+SEPTIEMBRE!H95","v":0},null,null,0,null,null,{"$f":"+SEPTIEMBRE!N95","v":0},null,null,{"$f":"+SEPTIEMBRE!Q95","v":0},null,null,{"$f":"+SEPTIEMBRE!T95","v":0},null,null,0]
[null,null,"Octubre",null,0,null,null,0,null,null,0,null,null,0,null,null,0,null,null,0,null,null,0]
[null,null,"Noviembre",null,0,null,null,0,null,null,0,null,null,0,null,null,0,null,null,0,null,null,0]
[null,null,"Diciembre  ",null,0,null,null,0,null,null,0,null,null,0,null,null,0,null,null,0,null,null,0]
[null,null,"TOTAL",null,{"$f":"SUM(E87:G98)+E85","v":0},null,null,{"$f":"SUM(H87:J98)+H85","v":0},null,null,{"$f":"SUM(K87:M98)+K85","v":0},null,null,{"$f":"SUM(N87:P98)+N85","v":0},null,null,{"$f":"SUM(Q87:S98)+Q85","v":0},null,null,{"$f":"SUM(T87:V98)+T85","v":0},null,null,{"$f":"+W96","v":0}]
[null,null,"RESUMEN PERIODICO A LA EJECUCIÓN"]
[null,null,"PRESUPUESTO APROBADO",null,null,null,"PRESUPUESTO EJECUTADO",null,null,null,null,"EJECUCION PROYECTADA \nAL PERIODO",null,null,null,null,"AVANCE EJECUCION \nDEL PERIODO",null,null,null,null,"DESVIACIÓN PRESUPUESTAL"]
[null,null,{"$f":"+E74","v":0},null,null,null,{"$f":"+H74","v":0},null,null,null,null,{"$f":"IFERROR((SUMIF(H61:J71,\">=0\",E61:G71))/E74,0)","v":0},null,null,null,null,{"$f":"IFERROR(G102/C102,0)","v":0},null,null,null,null,{"$f":"+Q102-L102","v":0}]
[null,null,"OBSERVACIONES EJECUCIÓN PRESUPUESTO: "]
[]
[null,null,"RESUMEN FINANCIERO DEL PERIODO:"]
[null,null,"SALDO DEL PERIODO ANTERIOR ",null,null,null,null,null,null,null,null,null,null,null,null,null,null,null,null,null,{"$f":"+SEPTIEMBRE!U112","v":0}]
[null,null,"TOTAL APORTES GIRADOS EN EL PERIODO",null,null,null,null,null,null,null,null,null,null,null,null,null,null,null,null,null,{"$f":"+Q71","v":0}]
[]
[null,null,"TOTAL APORTES PARA EL PERIODO",null,null,null,null,null,null,null,null,null,null,null,null,null,null,null,null,null,{"$f":"+U107+U106","v":0}]
[null,null,"PAGOS  REALIZADOS POR LA EAS EN EL PERIODO",null,null,null,null,null,null,null,null,null,null,null,null,null,null,null,null,null,{"$f":"+X71","v":0}]
[]
[null,null,"SALDO DE APORTES ICBF PARA EL PERIODO",null,null,null,null,null,null,null,null,null,null,null,null,null,null,null,null,null,{"$f":"+U109-U110","v":0}]
[null,null,"SALDO SEGUN EXTRACTO",null,null,null,null,null,null,null,null,null,null,null,null,null,null,null,null,null,0]
[null,null,"DIFERENCIA SALDO RECURSOS VS SALDO EXTRACTO BANCARIO",null,null,null,null,null,null,null,null,null,null,null,null,null,null,null,null,null,{"$f":"+U113-U112","v":0}]
[null,null,"VALOR CONCILIADO",null,null,null,null,null,null,null,null,null,null,null,null,null,null,null,null,null,0]
[]
[null,null,"VALOR CARGA PRESTACIONAL ACUMULADA",null,null,null,null,null,null,null,null,null,null,null,null,null,null,null,null,null,0]
[null,null,"RENDIMIENTOS FINANCIEROS DEL MES",null,null,null,null,null,null,null,null,null,null,null,null,null,null,null,null,null,0]
[null,null,"RENDIMIENTOS FNANCIEROS ACUMULADOS",null,null,null,null,null,null,null,null,null,null,null,null,null,null,null,null,null,{"$f":"+SEPTIEMBRE!U119+(U118-U120)","v":0}]
[null,null,"RENDIMIENTOS FINANCIEROS CONSIGNADOS",null,null,null,null,null,null,null,null,null,null,null,null,null,null,null,null,null,0]
[null,null,"Banco:",null,{"$f":"+SEPTIEMBRE!E121","v":"SCOTIABANK COLPATRIA SA"},null,null,null,null,null,null,"Tipo de Cuenta:",null,null,{"$f":"+SEPTIEMBRE!O121","v":"Ahorros"},null,null,null,"Nro de Cuenta:",null,null,{"$f":"+SEPTIEMBRE!V121","v":0}]
[null,null,"OBSERVACIONES  CONCILIACIÓN:"]
[]
[null,"4.","Seguimiento al uso de los recursos tasas compensatorias (Aplica Solo para HI)"]
[null,null,"MES",null,null,"PRESUPUESTO TASAS COMPENSATORIAS",null,null,"VALOR T.C RECAUDADA POR EL OPERADOR",null,null," EJECUCIÓN CON RECURSOS TASAS COMPENSATORIAS",null,null,null,null,null,"SALDO TASAS COMPENSATORIAS"]
[]
[null,null,"ENERO",null,null,{"$f":"+SEPTIEMBRE!F127","v":0},null,null,{"$f":"+SEPTIEMBRE!I127","v":0},null,null,{"$f":"+SEPTIEMBRE!L127","v":0},null,null,null,null,null,{"$f":"+I127-L127","v":0}]
[null,null,"FEBRERO",null,null,{"$f":"+SEPTIEMBRE!F128","v":0},null,null,{"$f":"+SEPTIEMBRE!I128","v":0},null,null,{"$f":"+SEPTIEMBRE!L128","v":0},null,null,null,null,null,0]
[null,null,"MARZO",null,null,{"$f":"+SEPTIEMBRE!F129","v":0},null,null,{"$f":"+SEPTIEMBRE!I129","v":0},null,null,{"$f":"+SEPTIEMBRE!L129","v":0},null,null,null,null,null,0]
[null,null,"ABRIL",null,null,{"$f":"+SEPTIEMBRE!F130","v":0},null,null,{"$f":"+SEPTIEMBRE!I130","v":0},null,null,{"$f":"+SEPTIEMBRE!L130","v":0},null,null,null,null,null,0]
[null,null,"MAYO",null,null,{"$f":"+SEPTIEMBRE!F131","v":0},null,null,{"$f":"+SEPTIEMBRE!I131","v":0},null,null,{"$f":"+SEPTIEMBRE!L131","v":0},null,null,null,null,null,0]
[null,null,"JUNIO",null,null,{"$f":"+SEPTIEMBRE!F132","v":0},null,null,{"$f":"+SEPTIEMBRE!I132","v":0},null,null,{"$f":"+SEPTIEMBRE!L132","v":0},null,null,null,null,null,0]
[null,null,"JULIO",null,null,{"$f":"+SEPTIEMBRE!F133","v":0},null,null,{"$f":"+SEPTIEMBRE!I133","v":0},null,null,{"$f":"+SEPTIEMBRE!L133","v":0},null,null,null,null,null,0]
[null,null,"AGOSTO",null,null,{"$f":"+SEPTIEMBRE!F134","v":0},null,null,{"$f":"+SEPTIEMBRE!I134","v":0},null,null,{"$f":"+SEPTIEMBRE!L134","v":0},null,null,null,null,null,0]
[null,null,"SEPTIEMBRE",null,null,{"$f":"+SEPTIEMBRE!F135","v":0},null,null,{"$f":"+SEPTIEMBRE!I135","v":0},null,null,{"$f":"+SEPTIEMBRE!L135","v":0},null,null,null,null,null,0]
[null,null,"OCTUBRE",null,null,{"$f":"+SEPTIEMBRE!F136","v":0},null,null,0,null,null,0,null,null,0,null,null,0]
[null,null,"NOVIEMBRE",null,null,{"$f":"+SEPTIEMBRE!F137","v":0},null,null,0,null,null,0,null,null,0,null,null,0]
[null,null,"DICIEMBRE",null,null,{"$f":"+SEPTIEMBRE!F138","v":0},null,null,0,null,null,0,null,null,0,null,null,0]
[null,null,"Total",null,null,{"$f":"SUM(F127:H138)","v":0},null,null,{"$f":"SUM(I127:K136)","v":0},null,null,{"$f":"SUM(L127:Q136)","v":0},null,null,null,null,null,{"$f":"SUM(R127:Z136)","v":0}]
[null,null,"OBSERVACIONES  RECAUDO TASAS:"]
[]
[null,"Antes de imprimir este documento… piense en el medio ambiente!    \nCualquier copia impresa de este documento se considera como COPIA NO CONTROLADA\nLOS DATOS PROPORCIONADOS SERÁN TRATADOS DE ACUERDO A LA POLÌTICA DE TRATAMIENTO DE DATOS PERSONALES DEL ICBF Y A LA LEY 1581 DE 2012 "]
[null,null,null,null,null,"PROCESO\nPROMOCION Y PREVENCIÓN\n\nFORMATO ACTA LEGALIZACIÓN DE CUENTAS\n",null,null,null,null,null,null,null,null,"F1.A8.MO12.PP",null,null,null,null,null,"2022-02-02"]
[null,null,null,null,null,null,null,null,null,null,null,null,null,null,"Versión 3",null,null,null,null,null,"Página 3 de 3"]
[]
[null,null,null,null,null,null,null,null,null,null,null,null,null,null,"Clasificación de la Información:\nPública"]
[]
[null,"5. ","Se Verifica que los valores por inejecuciones corresponde a los siguientes conceptos:"]
[null,null,"CONCEPTO DE DESCUENTO",null,null," Cupos CONTRATADOS",null," Cupos\nATENDIDOS ",null," NO ATENDIDOS ",null,"VALOR DESCUENTO POR INEJECUCIÓN",null,null,"FUENTE DE CONSULTA",null,null,"VALOR DESCUENTO \nTEMPORAL",null,null,"REINTEGRO DEL DESCUENTO TEMPORAL",null,null,"Saldo de Descuentos Temporales"]
[null,null,"BAJA COBERTURA",null,null,{"$f":"+X30","v":0},null,0,null,{"$f":"+F150-H150","v":0},null,0,null,null,"NO APLICA",null,null,0,null,null,0,null,null,{"$f":"+(R150-U150)+SEPTIEMBRE!X150","v":0}]
[null,null,"INASISTENCIA",null,null,null,null,null,null,null,null,0,null,null,"NO APLICA"]
[null,null,"NO PRESTACION DEL SERVICIO",null,null,null,null,null,null,null,null,0,null,null,"NO APLICA"]
[]
[null,null,"CUENTAME",null,null,null,null,null,null,null,null,0,null,null,"NO APLICA"]
[null,null,"TALENTO HUMANO NO CONTRATADO",null,null,null,null,null,null,null,null,0,null,null,"NO APLICA"]
[null,null,"OTRO\n (Se Especifica en Observaciones)",null,null,null,null,null,null,null,null,0,null,null,"NO APLICA"]
[]
[]
[null,null,"TOTAL DESCUENTO",null,null,null,null,null,null,null,null,{"$f":"SUM(L150:N158)","v":0}]
[null,null,"OBSERVACIONES  DESCUENTOS:"]
[]
[null,"6. ","Ejecución Aportes EAS."]
[null,null,"MES",null,null,"PRESUPUESTO",null,null,"EJECUCIÓN",null,null,"SALDO APORTES EAS",null,null,null,null,null,"OBSERVACIONES APOTES EAS"]
[]
[null,null,"ENERO",null,null,{"$f":"+SEPTIEMBRE!F165","v":0},null,null,{"$f":"+SEPTIEMBRE!I165","v":0},null,null,{"$f":"+F165-I165","v":0}]
[null,null,"FEBRERO",null,null,{"$f":"+SEPTIEMBRE!F166","v":0},null,null,{"$f":"+SEPTIEMBRE!I166","v":0},null,null,0]
[null,null,"MARZO",null,null,{"$f":"+SEPTIEMBRE!F167","v":0},null,null,{"$f":"+SEPTIEMBRE!I167","v":0},null,null,0]
[null,null,"ABRIL",null,null,{"$f":"+SEPTIEMBRE!F168","v":0},null,null,{"$f":"+SEPTIEMBRE!I168","v":0},null,null,0]
[null,null,"MAYO",null,null,{"$f":"+SEPTIEMBRE!F169","v":0},null,null,{"$f":"+SEPTIEMBRE!I169","v":0},null,null,0]
[null,null,"JUNIO",null,null,{"$f":"+SEPTIEMBRE!F170","v":0},null,null,{"$f":"+SEPTIEMBRE!I170","v":0},null,null,0]
[null,null,"JULIO",null,null,{"$f":"+SEPTIEMBRE!F171","v":0},null,null,{"$f":"+SEPTIEMBRE!I171","v":0},null,null,0]
[null,null,"AGOSTO",null,null,{"$f":"+SEPTIEMBRE!F172","v":0},null,null,{"$f":"+SEPTIEMBRE!I172","v":0},null,null,0]
[null,null,"SEPTIEMBRE",null,null,{"$f":"+SEPTIEMBRE!F173","v":0},null,null,{"$f":"+SEPTIEMBRE!I173","v":0},null,null,0]
[null,null,"OCTUBRE",null,null,{"$f":"+SEPTIEMBRE!F174","v":0},null,null,0,null,null,0]
[null,null,"NOVIEMBRE",null,null,{"$f":"+SEPTIEMBRE!F175","v":0},null,null,0,null,null,0]
[null,null,"DICIEMBRE",null,null,{"$f":"+SEPTIEMBRE!F176","v":0},null,null,0,null,null,0]
[null,null,"Total",null,null,{"$f":"SUM(F165:H176)","v":0},null,null,{"$f":"SUM(I165:K176)","v":0},null,null,{"$f":"SUM(L165:Q174)","v":0}]
[]
[null,"7. ","Observaciones Generales."]
[]
[]
[]
[]
[]
[]
[]
[null,"8."," Recomendaciones. (Preste la asesoría necesaria para que se superen las dificultades identificadas y se mantengan las fortalezas detectadas)  "]
[]
[]
[]
[]
[]
[]
[]
[null,"9.","Cierre."]
[null,null,"Compromisos / tareas",null,null,null,null,null,null,null,"Responsables",null,null,null,null,null,null,null,null,"Fechas"]
[]
[]
[]
[null,null,"**Las siguientes personas que firman  dan constancia que han revisado y estan de acuerdo con cada uno de los items de la presente acta y que  este ejercicio de legalización de cuentas se ha realizado conforme a los lineamientos, guias de supervisión, manuales operativos y minutas contractuales establecidas por el ICBF."]
[null," ","FIRMA RESPONSABLES ICBF Y ENTIDAD ADMINISTRADORA"]
[null,null,"Nombre",null,null,null,null,"Cargo / Dependencia",null,null,null,null,null,null,"EMAIL",null,null,null,null,null,"Firma"]
[null,null,{"$f":"+G37","v":" "},null,null,null,null,"SUPERVISOR(A) DEL CONTRATO ICBF",null,null,null,null,null,null,"@icbf.gov.co"]
[null,null,{"$f":"+U37","v":" "},null,null,null,null,"APOYO FINANCIERO ICBF",null,null,null,null,null,null,"@icbf.gov.co"]
[null,null,{"$f":"+G40","v":0},null,null,null,null,"REPRESENTANTE LEGAL EAS",null,null,null,null,null,null,{"$f":"+G41","v":0}]
[null,null,{"$f":"+SEPTIEMBRE!C206","v":0},null,null,null,null,{"$f":"+SEPTIEMBRE!H206","v":0},null,null,null,null,null,null,{"$f":"+SEPTIEMBRE!O206","v":0}]
[null,null,{"$f":"+SEPTIEMBRE!C207","v":0},null,null,null,null,{"$f":"+SEPTIEMBRE!H207","v":0},null,null,null,null,null,null,{"$f":"+SEPTIEMBRE!O207","v":0}]
[null,"Antes de imprimir este documento… piense en el medio ambiente!    \nCualquier copia impresa de este documento se considera como COPIA NO CONTROLADA\nLOS DATOS PROPORCIONADOS SERÁN TRATADOS DE ACUERDO A LA POLÌTICA DE TRATAMIENTO DE DATOS PERSONALES DEL ICBF Y A LA LEY 1581 DE 2012 "]
[]
[null,"* Escanear esta Acta debidamente Firmada y colocarla en la ruta especificada por la DPI"]
[]
["RECOMEDACIONES DE USO DE ESTE ARCHIVO:"]
["1. HABILITE MACROS : ARCHIVO > CENTRO DE CONFIANZA> CONFIGURACION DEL CENTRO DE CONFIANZA > CONFIGURACION DE MACROS > HABILITAR TODAS LAS MACROS > CONFIAR EN EL ACCESO AL MODELO DE OBJETO DE PROYECTOS VBA > ACEPTAR"]
["2. DESHABILITE VISTA PROTEGIDA: ARCHIVO> CENTRO DE CONFIANZA> CONFIGURACION DEL CENTRO DE CONFIANZA > VISTA PROTEGIDA> DESMARCAR LAS TRES OPCIONES >ACEPTAR"]
["3. HABILITAR UBICACIONES DE RED: ARCHIVO> CENTRO DE CONFIANZA> CONFIGURACION DEL CENTRO DE CONFIANZA > UBICACIONES DE CONFIANZA > MARCAR PERMITIR UBICACIONES DE CONFIANZA QUE ESTEN EN LA RED > ACEPTAR "]
["4. HABILITAR DOCUMENTOS DE CONFIANZA: ARCHIVO> CENTRO DE CONFIANZA> CONFIGURACION DEL CENTRO DE CONFIANZA > DOCUMENTOS DE CONFIANZA > MARCAR PERMITIR QUE SEAN DE CONFIANZA LOS DOCUMENTOS DE UNA RED"]

{"sheet":"NOVIEMBRE","index":12,"n_rows":216,"n_cols":25,"rows_kept":216,"cut":false,"hidden":true,"merged":[[52,2,52,15],[52,16,53,25],[53,6,53,7],[53,9,54,13],[54,6,54,7],[54,19,54,23],[42,1,45,1],[50,24,50,25],[51,2,51,5],[51,6,51,8],[51,9,51,11],[51,12,51,13],[51,14,51,15],[51,16,51,17],[51,18,51,19],[51,20,51,21],[51,22,51,23],[51,24,51,25],[50,2,50,5],[50,6,50,8],[50,9,50,11],[50,12,50,13],[50,14,50,15],[50,16,50,17],[50,22,50,23],[48,24,48,25],[49,2,49,5],[49,6,49,8],[49,9,49,11],[49,12,49,13],[49,14,49,15],[49,16,49,17],[49,18,49,19],[49,20,49,21],[49,22,49,23],[49,24,49,25],[48,2,48,5],[48,6,48,8],[48,9,48,11],[48,12,48,13],[48,14,48,15],[48,16,48,17],[48,18,48,19],[48,20,48,21],[48,22,48,23],[126,11,126,16],[72,2,72,3],[78,14,79,26],[73,4,73,6],[73,7,73,9],[73,10,73,12],[73,13,73,15],[73,16,73,18],[62,19,62,22],[63,4,63,6],[63,19,63,22],[62,4,62,6],[62,7,62,9],[62,10,62,12],[62,13,62,15],[62,16,62,18],[72,4,72,6],[65,4,65,6],[65,7,65,9],[65,10,65,12],[65,13,65,15],[65,16,65,18],[117,20,117,25],[118,2,118,19],[118,20,118,25],[119,2,119,19],[119,20,119,25],[124,17,124,25],[125,17,125,25],[45,2,45,5],[45,6,45,15],[46,2,47,5],[46,6,47,8],[46,9,47,11],[46,12,46,15],[46,16,46,19],[46,20,46,25],[47,12,47,13],[47,14,47,15],[47,16,47,17],[47,18,47,19],[47,20,47,21],[47,22,47,23],[47,24,47,25],[50,18,50,19],[50,20,50,21],[83,22,83,25],[85,2,85,3],[197,2,197,9],[197,10,197,18],[173,8,173,10],[173,11,173,16],[174,2,174,4],[174,5,174,7],[174,8,174,10],[174,11,174,16],[173,2,173,4],[175,2,175,4],[175,5,175,7],[175,8,175,10],[175,11,175,16],[163,17,175,25],[170,2,170,4],[170,5,170,7],[170,8,170,10],[197,19,197,25],[171,2,171,4],[171,5,171,7],[171,8,171,10],[171,11,171,16],[176,2,176,4],[176,5,176,7],[198,2,198,9],[198,10,198,18],[198,19,198,25],[199,2,199,25],[128,2,128,4],[128,5,128,7],[128,8,128,10],[129,2,129,4],[129,5,129,7],[129,8,129,10],[133,11,133,16],[136,2,136,4],[136,5,136,7],[136,8,136,10],[137,2,137,4],[137,5,137,7],[137,8,137,10],[136,11,136,16],[137,11,137,16],[134,2,134,4],[134,5,134,7],[176,17,176,25],[173,5,173,7],[170,11,170,16],[205,14,205,19],[205,20,205,25],[200,2,200,25],[201,2,201,6],[201,7,201,13],[201,14,201,19],[201,20,201,25],[202,2,202,6],[202,7,202,13],[202,14,202,19],[202,20,202,25],[204,20,204,25],[206,20,206,25],[210,1,210,27],[124,2,124,4],[124,5,124,7],[124,8,124,10],[125,2,125,4],[125,5,125,7],[125,8,125,10],[126,2,126,4],[126,5,126,7],[126,8,126,10],[203,2,203,6],[203,7,203,13],[203,14,203,19],[203,20,203,25],[204,2,204,6],[204,7,204,13],[204,14,204,19],[205,2,205,6],[206,2,206,6],[206,7,206,13],[206,14,206,19],[178,2,178,25],[205,7,205,13],[179,2,185,25],[186,2,186,25],[172,2,172,4],[172,5,172,7],[172,8,172,10],[172,11,172,16],[187,2,193,25],[194,2,194,25],[195,2,195,9],[195,10,195,18],[195,19,195,25],[196,2,196,9],[196,10,196,18],[196,19,196,25],[176,8,176,10],[176,11,176,16],[165,8,165,10],[165,11,165,16],[166,2,166,4],[166,5,166,7],[166,8,166,10],[166,11,166,16],[169,8,169,10],[169,11,169,16],[167,5,167,7],[167,8,167,10],[167,11,167,16],[168,2,168,4],[168,5,168,7],[168,8,168,10],[168,11,168,16],[169,2,169,4],[169,5,169,7],[167,2,167,4],[165,2,165,4],[85,22,85,25],[83,4,83,6],[83,7,83,9],[83,10,83,12],[83,13,83,15],[83,16,83,18],[83,2,83,3],[83,19,83,21],[85,19,85,21],[84,16,84,18],[84,19,84,21],[84,22,84,25],[84,10,84,12],[84,13,84,15],[85,4,85,6],[85,10,85,12],[85,13,85,15],[85,16,85,18],[84,2,84,3],[84,4,84,6],[84,7,84,9],[161,2,161,25],[89,22,89,25],[87,19,87,21],[88,10,88,12],[88,13,88,15],[88,16,88,18],[88,19,88,21],[88,2,88,3],[88,22,88,25],[91,19,91,21],[90,22,90,25],[90,19,90,21],[89,4,89,6],[89,7,89,9],[149,5,149,6],[149,7,149,8],[149,9,149,10],[149,11,149,13],[149,14,149,16],[134,8,134,10],[149,17,157,19],[133,17,133,25],[134,17,134,25],[135,17,135,25],[86,2,86,3],[86,22,86,25],[86,4,86,6],[86,7,86,9],[87,2,87,3],[87,22,87,25],[160,2,160,25],[86,10,86,12],[86,13,86,15],[136,17,136,25],[137,17,137,25],[139,2,139,25],[148,23,148,25],[129,11,129,16],[127,11,127,16],[128,11,128,16],[127,8,127,10],[132,2,132,4],[130,2,130,4],[132,5,132,7],[132,8,132,10],[106,2,107,19],[109,20,110,25],[114,2,115,19],[94,13,94,15],[94,16,94,18],[94,22,94,25],[94,19,94,21],[162,2,162,4],[85,7,85,9],[165,5,165,7],[130,11,130,16],[131,11,131,16],[132,11,132,16],[130,5,130,7],[130,8,130,10],[131,2,131,4],[164,2,164,4],[164,5,164,7],[164,8,164,10],[162,5,162,7],[162,8,162,10],[162,11,162,16],[89,2,89,3],[87,4,87,6],[87,7,87,9],[88,4,88,6],[88,7,88,9],[86,19,86,21],[89,10,89,12],[89,13,89,15],[89,16,89,18],[89,19,89,21],[90,10,90,12],[90,13,90,15],[90,16,90,18],[87,10,87,12],[87,13,87,15],[87,16,87,18],[86,16,86,18],[162,17,162,25],[163,2,163,4],[163,5,163,7],[163,8,163,10],[163,11,163,16],[164,11,164,16],[63,7,63,9],[63,10,63,12],[72,7,72,9],[72,10,72,12],[72,13,72,15],[72,16,72,18],[63,13,63,15],[63,16,63,18],[66,19,66,22],[64,19,64,22],[68,10,68,12],[68,19,68,22],[67,7,67,9],[67,10,67,12],[67,13,67,15],[67,16,67,18],[71,7,71,9],[71,10,71,12],[61,19,61,22],[60,4,60,6],[60,7,60,9],[60,10,60,12],[60,13,60,15],[60,16,60,18],[59,4,59,6],[59,7,59,9],[59,10,59,12],[59,13,59,15],[59,16,59,18],[0,1,5,4],[8,1,8,8],[8,9,8,26],[120,2,120,3],[120,4,120,10],[120,11,120,13],[120,14,120,17],[120,18,120,20],[120,21,120,25],[55,2,55,25],[56,2,56,25],[57,2,57,25],[58,2,58,25],[59,2,59,3],[59,23,59,25],[60,2,60,3],[60,23,60,25],[61,2,61,3],[61,23,61,25],[62,2,62,3],[62,23,62,25],[63,2,63,3],[63,23,63,25],[64,2,64,3],[9,1,9,8],[9,9,9,26],[10,1,10,8],[10,9,10,26],[6,1,6,15],[6,16,6,17],[7,1,7,6],[7,7,7,12],[7,13,7,19],[7,20,7,26],[6,18,6,22],[6,23,6,26],[16,2,16,26],[17,2,17,26],[18,2,18,26],[19,2,19,26],[20,2,20,26],[21,2,21,26],[11,1,11,8],[11,9,11,26],[12,1,12,8],[12,9,12,26],[14,2,14,26],[15,2,15,26],[29,23,29,25],[30,2,30,6],[30,7,30,11],[30,12,30,16],[30,17,30,21],[30,22,30,25],[22,2,22,26],[27,2,27,25],[28,4,28,7],[28,8,28,10],[28,11,28,18],[28,19,28,21],[28,22,28,25],[29,2,29,4],[29,5,29,7],[29,8,29,10],[29,11,29,13],[29,14,29,15],[29,16,29,18],[29,19,29,22],[31,2,31,6],[31,7,31,11],[31,12,31,16],[31,17,31,21],[31,22,31,25],[32,2,32,6],[32,7,32,11],[32,12,32,16],[32,17,32,21],[32,22,32,25],[33,2,33,6],[33,7,33,11],[33,12,33,16],[33,17,33,21],[33,22,33,25],[34,2,34,6],[34,7,34,11],[34,12,34,16],[34,17,34,21],[34,22,34,25],[35,2,35,6],[35,7,35,11],[35,12,35,16],[35,17,35,21],[35,22,35,25],[36,2,36,5],[36,6,36,15],[36,16,36,19],[36,20,36,25],[37,20,37,25],[38,2,38,5],[38,6,38,9],[38,12,38,15],[38,16,38,19],[38,20,38,25],[37,2,37,5],[37,6,37,7],[37,8,37,10],[37,11,37,12],[37,13,37,15],[37,16,37,19],[41,2,41,5],[41,6,41,15],[41,16,41,19],[41,20,41,25],[42,2,42,5],[42,6,42,15],[42,16,42,19],[42,20,42,25],[39,2,39,5],[39,6,39,15],[39,16,39,19],[39,20,39,25],[40,2,40,5],[40,6,40,15],[40,16,40,19],[40,20,40,25],[64,4,64,6],[64,7,64,9],[64,10,64,12],[64,13,64,15],[70,19,70,22],[70,4,70,6],[70,7,70,9],[70,10,70,12],[43,2,43,5],[43,6,43,15],[43,16,43,19],[43,20,43,25],[44,2,44,5],[44,6,44,15],[44,16,44,19],[44,20,44,25],[65,19,65,22],[59,19,59,22],[60,19,60,22],[61,4,61,6],[61,7,61,9],[61,10,61,12],[61,13,61,15],[61,16,61,18],[65,2,65,3],[66,2,66,3],[67,2,67,3],[68,2,68,3],[65,23,65,25],[66,4,66,6],[66,7,66,9],[66,10,66,12],[66,13,66,15],[66,16,66,18],[81,2,81,25],[82,2,82,25],[72,19,72,22],[72,23,72,25],[73,2,73,3],[73,23,73,25],[73,19,73,22],[68,13,68,15],[68,16,68,18],[70,23,70,25],[71,2,71,3],[69,2,69,3],[69,23,69,25],[68,23,68,25],[71,23,71,25],[71,4,71,6],[71,13,71,15],[71,16,71,18],[71,19,71,22],[70,13,70,15],[70,16,70,18],[70,2,70,3],[102,2,102,25],[98,2,98,3],[98,22,98,25],[99,2,99,25],[100,2,100,5],[126,17,126,25],[97,22,97,25],[95,16,95,18],[90,2,90,3],[90,4,90,6],[90,7,90,9],[91,22,91,25],[92,19,92,21],[93,4,93,6],[93,7,93,9],[93,10,93,12],[93,13,93,15],[93,16,93,18],[93,19,93,21],[92,4,92,6],[92,7,92,9],[92,10,92,12],[92,13,92,15],[92,16,92,18],[159,2,159,25],[158,2,158,10],[158,11,158,13],[158,14,158,25],[155,11,157,13],[155,14,157,16],[154,2,154,10],[108,2,108,19],[108,20,108,25],[113,2,113,19],[113,20,113,25],[127,2,127,4],[127,5,127,7],[114,20,115,25],[124,11,124,16],[125,11,125,16],[111,2,111,19],[111,20,111,25],[112,2,112,19],[112,20,112,25],[121,2,121,25],[122,2,122,25],[123,2,123,25],[117,2,117,19],[100,21,100,25],[101,6,101,10],[101,11,101,15],[101,16,101,20],[101,2,101,5],[101,21,101,25],[98,19,98,21],[100,6,100,10],[100,11,100,15],[100,16,100,20],[98,4,98,6],[98,13,98,15],[98,16,98,18],[98,7,98,9],[98,10,98,12],[153,11,153,13],[153,14,153,16],[149,2,149,4],[135,2,135,4],[135,5,135,7],[135,8,135,10],[105,20,105,25],[147,2,147,25],[148,2,148,4],[148,5,148,6],[148,7,148,8],[148,9,148,10],[148,11,148,13],[138,11,138,16],[148,17,148,19],[138,17,138,25],[138,2,138,4],[142,1,146,4],[138,5,138,7],[138,8,138,10],[148,20,148,22],[143,14,144,19],[143,20,144,26],[145,14,146,26],[105,2,105,19],[133,2,133,4],[133,5,133,7],[133,8,133,10],[134,11,134,16],[135,11,135,16],[142,5,146,13],[142,14,142,19],[150,14,150,16],[141,1,141,26],[148,14,148,16],[140,2,140,25],[142,20,142,26],[131,5,131,7],[131,8,131,10],[127,17,127,25],[128,17,128,25],[129,17,129,25],[130,17,130,25],[131,17,131,25],[132,17,132,25],[106,1,115,1],[106,20,107,25],[109,2,110,19],[0,14,1,19],[0,20,1,26],[2,14,3,19],[2,20,3,26],[4,14,5,26],[76,14,77,19],[76,20,77,26],[74,1,74,26],[75,1,79,4],[75,5,79,13],[75,14,75,19],[75,20,75,26],[45,16,45,19],[45,20,45,25],[0,5,5,13],[69,4,69,6],[69,7,69,9],[69,10,69,12],[69,13,69,15],[69,16,69,18],[69,19,69,22],[68,4,68,6],[68,7,68,9],[67,19,67,22],[96,2,96,3],[96,22,96,25],[97,2,97,3],[95,4,95,6],[95,7,95,9],[95,10,95,12],[95,13,95,15],[207,1,207,26],[209,1,209,24],[155,2,157,10],[103,2,103,25],[116,2,116,19],[116,20,116,25],[104,2,104,25],[149,20,157,22],[149,23,157,25],[150,11,150,13],[154,11,154,13],[154,14,154,16],[151,11,152,13],[151,14,152,16],[150,2,150,10],[151,2,152,10],[153,2,153,10],[96,19,96,21],[97,4,97,6],[97,7,97,9],[97,16,97,18],[97,19,97,21],[96,4,96,6],[96,7,96,9],[96,10,96,12],[96,13,96,15],[96,16,96,18],[97,10,97,12],[97,13,97,15],[94,2,94,3],[91,2,91,3],[92,2,92,3],[93,2,93,3],[28,2,28,3],[95,2,95,3],[95,22,95,25],[64,23,64,25],[66,23,66,25],[67,23,67,25],[64,16,64,18],[67,4,67,6],[94,4,94,6],[94,7,94,9],[94,10,94,12],[95,19,95,21],[92,22,92,25],[93,22,93,25],[91,4,91,6],[91,7,91,9],[91,10,91,12],[91,13,91,15],[91,16,91,18],[80,2,80,25]]}
[null,null,null,null,null,"PROCESO\nPROMOCION Y PREVENCIÓN\n\nFORMATO ACTA LEGALIZACIÓN DE CUENTAS\n",null,null,null,null,null,null,null,null,"F1.A8.MO12.PP",null,null,null,null,null,"2022-02-02"]
[]
[null,null,null,null,null,null,null,null,null,null,null,null,null,null,"Versión 3",null,null,null,null,null,"Página 1 de 3"]
[]
[null,null,null,null,null,null,null,null,null,null,null,null,null,null,"Clasificación de la Información:\nPública"]
[]
[null,"ACTA DE LEGALIZACIÓN N°",null,null,null,null,null,null,null,null,null,null,null,null,null,null,11,null,"ESTADO DEL CONTRATO:",null,null,null,null,{"$f":"+OCTUBRE!X7","v":"VIGENTE"}]
[null,"Fecha y Hora Inicio:",null,null,null,null,null,"2019-01-01T15:00:00",null,null,null,null,null,"Fecha y Hora Fin:  ",null,null,null,null,null,null,"2019-01-01T15:00:00"]
[null,"Lugar:",null,null,null,null,null,null,null,{"$f":"+OCTUBRE!J9","v":"Regional_Amazonas"}]
[null,"Dependencia que Convoca:",null,null,null,null,null,null,null,{"$f":"+OCTUBRE!J10","v":"Primera Infancia - Grupo de Atención en Ciclos de Vida y Nutrición "}]
[null,"Proceso:",null,null,null,null,null,null,null,{"$f":"+OCTUBRE!J11","v":"Promoción y Prevención "}]
[null,"Objetivo:",null,null,null,null,null,null,null,{"$f":"+OCTUBRE!J12","v":"Recepción, revisión, el análisis y  Legalización de los Gastos e Ingresos del Informe Financiero presentado por la entidad administradora (EAS)"}]
[null,"Nombre EAS:",null,null,null,null,null,null,null,{"$f":"+OCTUBRE!J13","v":"ASOCIACION DE HOGARES"}]
[null,"Agenda: "]
[null,"1.","Desarrollo."]
[null,"2.","Información general del contrato."]
[null,"3.","Informe  de ejecución Presupuestal y  financiera requerido con los debidos soporte."]
[null,"4.","Seguimiento al Uso de Tasas Compensatorias (Aplica Solo para HI)."]
[null,"5.","Detalle de Inejecuciones."]
[null,"6.","Ejecución Contrapartida."]
[null,"7.","Situación Encontrada."]
[null,"8.","Recomendaciones."]
[null,"9.","Cierre."]
[null,"         Desarrollo: "]
[null,"1.","Se da inicio a la legalización de los informes financieros Presentados por la EAS con el fin de verificar la correcta Ejecución del presupuesto aprobado dentro de los "]
[null,null,"lineamientos, guias de supervision, manuales operativos y minutas que corresponden."]
[null,"2.","A continuaciòn en el presente cuadro  se relaciona la información general del contrato."]
[null,null,"Información general del contrato."]
[null,null,"Regional:",null,{"$f":"+J9","v":"Regional_Amazonas"},null,null,null,"Centro Zonal:",null,null,{"$f":"+OCTUBRE!L29","v":"CZ_LETICIA"},null,null,null,null,null,null,null,"N° de Contrato\n o Convenio",null,null,{"$f":"+OCTUBRE!W29","v":0}]
[null,null,"N° CDP ",null,null,{"$f":"+OCTUBRE!F30","v":0},null,null,"N° RP",null,null,{"$f":"+OCTUBRE!L30","v":0},null,null,"FECHA \nACTA INICIO",null,{"$f":"+OCTUBRE!Q30","v":"00:00:00"},null,null,"Cupos Contratados:",null,null,null,{"$f":"+W36+R36+M36+H36+C36","v":0}]
[null,null," Modalidad 1:",null,null,null,null,"Modalidad 2:",null,null,null,null,"Modalidad 3:",null,null,null,null,"Modalidad 4:",null,null,null,null,"Modalidad 5:"]
[null,null,{"$f":"+OCTUBRE!C32","v":"NO_APLICA"},null,null,null,null,{"$f":"+OCTUBRE!H32","v":"NO_APLICA"},null,null,null,null,{"$f":"+OCTUBRE!M32","v":"NO_APLICA"},null,null,null,null,{"$f":"+OCTUBRE!R32","v":"NO_APLICA"},null,null,null,null,{"$f":"+OCTUBRE!W32","v":"NO_APLICA"}]
[null,null,"SERVICIO 1:",null,null,null,null,"SERVICIO 2:",null,null,null,null,"SERVICIO 3:",null,null,null,null,"SERVICIO 4:",null,null,null,null,"SERVICIO 5:"]
[null,null,{"$f":"+OCTUBRE!C34","v":"NO APLICA"},null,null,null,null,{"$f":"+OCTUBRE!H34","v":"NO APLICA"},null,null,null,null,{"$f":"+OCTUBRE!M34","v":"NO APLICA"},null,null,null,null,{"$f":"+OCTUBRE!R34","v":"NO APLICA"},null,null,null,null,{"$f":"+OCTUBRE!W34","v":"NO APLICA"}]
[null,null,"CUPOS CONTRATADO 1:",null,null,null,null,"CUPOS CONTRATADO 2:",null,null,null,null,"CUPOS CONTRATADO 3:",null,null,null,null,"CUPOS CONTRATADO 4:",null,null,null,null,"CUPOS CONTRATADO 5:"]
[null,null,{"$f":"+OCTUBRE!C36","v":0},null,null,null,null,{"$f":"+OCTUBRE!H36","v":0},null,null,null,null,{"$f":"+OCTUBRE!M36","v":0},null,null,null,null,{"$f":"+OCTUBRE!R36","v":0},null,null,null,null,{"$f":"+OCTUBRE!W36","v":0}]
[null,null,"Nombre Supervisor CTO:",null,null,null,{"$f":"+OCTUBRE!G37","v":" "},null,null,null,null,null,null,null,null,null,"Apoyo Financiero ICBF:",null,null,null,{"$f":"+OCTUBRE!U37","v":" "}]
[null,null,"Plazo de ejecución CTO:",null,null,null,"Desde:",null,{"$f":"+OCTUBRE!I38","v":"00:00:00"},null,null,"Hasta:",null,{"$f":"+OCTUBRE!N38","v":"00:00:00"},null,null,"Fecha aprob. póliza:",null,null,null,{"$f":"+OCTUBRE!U38","v":" "}]
[null,null,"Póliza N° 1 del CTO",null,null,null,{"$f":"+OCTUBRE!G39","v":0},null,null,null,"Poliza N° 2",null,{"$f":"+OCTUBRE!M39","v":0},null,null,null,"Nombre Ent. Aseguradora",null,null,null,{"$f":"+OCTUBRE!U39","v":" "}]
[null,null,"Representante Legal:",null,null,null,{"$f":"+OCTUBRE!G40","v":0},null,null,null,null,null,null,null,null,null,"Cédula RL: ",null,null,null,{"$f":"+OCTUBRE!U40","v":" "}]
[null,null,"Email Representante L.",null,null,null,{"$f":"+OCTUBRE!G41","v":0},null,null,null,null,null,null,null,null,null,"NIT EAS:",null,null,null,{"$f":"+OCTUBRE!U41","v":" "}]
[null,null,"Telefono o Cel R.L",null,null,null,{"$f":"+OCTUBRE!G42","v":0},null,null,null,null,null,null,null,null,null,"Fecha Vencimiento R. L:",null,null,null,{"$f":"+OCTUBRE!U42","v":" "}]
[null,"VIGENCIA ACTUAL","Valor Inicial del CTO: \n(Aporte ICBF)",null,null,null,{"$f":"+OCTUBRE!G43","v":0},null,null,null,null,null,null,null,null,null,"Valor Aportes EAS:",null,null,null,{"$f":"+OCTUBRE!U43","v":0}]
[null,null,"Adiciones al CTO:",null,null,null,{"$f":"+OCTUBRE!G44","v":0},null,null,null,null,null,null,null,null,null,"Adiciones Aportes EAS:",null,null,null,{"$f":"+OCTUBRE!U44","v":0}]
[null,null,"Reducciones al CTO",null,null,null,{"$f":"+OCTUBRE!G45","v":0},null,null,null,null,null,null,null,null,null,"Total Aportes EAS:",null,null,null,{"$f":"+U44+U43","v":0}]
[null,null,"VALOR APORTE ICBF",null,null,null,{"$f":"+(G43+G44)-G45","v":0},null,null,null,null,null,null,null,null,null,"Valor Actual del CTO:",null,null,null,{"$f":"+G43+U43+G44+U44-G45","v":0}]
[null,null,"VIGENCIA",null,null,null,"APORTE ICBF",null,null,"APORTE EAS",null,null,"Adiciones al contrato",null,null,null,"Reducciones al contrato",null,null,null,"Valor final del contrato"]
[null,null,null,null,null,null,null,null,null,null,null,null,"ICBF",null,"EAS",null,"ICBF",null,"EAS",null,"ICBF",null,"EAS",null,"TOTAL"]
[null,null,{"$f":"+OCTUBRE!C49","v":2020},null,null,null,{"$f":"+OCTUBRE!G49","v":0},null,null,{"$f":"+OCTUBRE!J49","v":0},null,null,{"$f":"+OCTUBRE!M49","v":0},null,{"$f":"+OCTUBRE!O49","v":0},null,{"$f":"+OCTUBRE!Q49","v":0},null,{"$f":"+OCTUBRE!S49","v":0},null,{"$f":"+G49+M49-Q49","v":0},null,{"$f":"+J49+O49-S49","v":0},null,{"$f":"+U49+W49","v":0}]
[null,null,{"$f":"+OCTUBRE!C50","v":2021},null,null,null,{"$f":"+OCTUBRE!G50","v":0},null,null,{"$f":"+OCTUBRE!J50","v":0},null,null,{"$f":"+OCTUBRE!M50","v":0},null,{"$f":"+OCTUBRE!O50","v":0},null,{"$f":"+OCTUBRE!Q50","v":0},null,{"$f":"+OCTUBRE!S50","v":0},null,{"$f":"+G50+M50-Q50","v":0},null,{"$f":"+J50+O50-S50","v":0},null,{"$f":"+U50+W50","v":0}]
[null,null,{"$f":"+OCTUBRE!C51","v":2022},null,null,null,{"$f":"+OCTUBRE!G51","v":0},null,null,{"$f":"+OCTUBRE!J51","v":0},null,null,{"$f":"+OCTUBRE!M51","v":0},null,{"$f":"+OCTUBRE!O51","v":0},null,{"$f":"+OCTUBRE!Q51","v":0},null,{"$f":"+OCTUBRE!S51","v":0},null,0,null,0,null,0]
[null,null,"TOTAL",null,null,null,{"$f":"SUM(G49:I51)","v":0},null,null,{"$f":"SUM(J49:L51)","v":0},null,null,{"$f":"SUM(M49:N51)","v":0},null,{"$f":"SUM(O49:P51)","v":0},null,{"$f":"SUM(Q49:R51)","v":0},null,{"$f":"SUM(S49:T51)","v":0},null,{"$f":"SUM(U49:V51)","v":0},null,{"$f":"SUM(W49:X51)","v":0},null,{"$f":"+Y51+Y50+Y49","v":0}]
[null,null,"La entidad presenta informe financiero mensual ante el ICBF como sigue:",null,null,null,null,null,null,null,null,null,null,null,null,null,"Presenta los documentos soportes que acompañan el informe financiero y se entrega al ICBF copia de los mismos en medio:"]
[null,null,"Mes a legalizar:",null,null,null,"NOVIEMBRE",null,null,"¿Los documentos aportados permiten realizar la legalización del informe financiero?    ",null,null,null,null,"SI","X"]
[null,null,"Fecha radicación EAS:",null,null,null,"2022-11-10",null,null,null,null,null,null,null,"NO",null,null,null,null,"DIGITAL Y FISICO"]
[null,null,"OBSERVACIONES INFORMACIÓN GENERAL:"]
[]
[null,"3. ","Se verifica  la ejecución de los recursos del contrato de acuerdo a los Informes Financieros presentados por la entidad:"]
[null,null,"SEGUIMIENTO PRESUPUESTAL  Y FINANCIERO DEL CONTRATO"]
[null,null,"MES",null,"PRESUPUESTO APROBADO + REPROGRAMACIONES \n(Aportes ICBF)",null,null,"EJECUCIÓN",null,null,"SALDO SIN EJECUTAR",null,null,"PROGRAMACIÓN DESEMBOLSOS",null,null,"DESEMBOLSOS GIRADOS",null,null,"DIFERENCIA PROGRAMADO VS PAGADO",null,null,null,"PAGOS REAL. EN EL MES"]
[]
[null,null,"Enero",null,{"$f":"+OCTUBRE!E62","v":0},null,null,{"$f":"+OCTUBRE!H62","v":0},null,null,{"$f":"+E62-H62","v":0},null,null,{"$f":"+OCTUBRE!N62","v":0},null,null,{"$f":"+OCTUBRE!Q62","v":0},null,null,{"$f":"+N62-Q62","v":0},null,null,null,{"$f":"+OCTUBRE!X62","v":0}]
[null,null,"Febrero",null,{"$f":"+OCTUBRE!E63","v":0},null,null,{"$f":"+OCTUBRE!H63","v":0},null,null,0,null,null,{"$f":"+OCTUBRE!N63","v":0},null,null,{"$f":"+OCTUBRE!Q63","v":0},null,null,0,null,null,null,{"$f":"+OCTUBRE!X63","v":0}]
[null,null,"Marzo",null,{"$f":"+OCTUBRE!E64","v":0},null,null,{"$f":"+OCTUBRE!H64","v":0},null,null,0,null,null,{"$f":"+OCTUBRE!N64","v":0},null,null,{"$f":"+OCTUBRE!Q64","v":0},null,null,0,null,null,null,{"$f":"+OCTUBRE!X64","v":0}]
[null,null,"Abril",null,{"$f":"+OCTUBRE!E65","v":0},null,null,{"$f":"+OCTUBRE!H65","v":0},null,null,0,null,null,{"$f":"+OCTUBRE!N65","v":0},null,null,{"$f":"+OCTUBRE!Q65","v":0},null,null,0,null,null,null,{"$f":"+OCTUBRE!X65","v":0}]
[null,null,"Mayo",null,{"$f":"+OCTUBRE!E66","v":0},null,null,{"$f":"+OCTUBRE!H66","v":0},null,null,0,null,null,{"$f":"+OCTUBRE!N66","v":0},null,null,{"$f":"+OCTUBRE!Q66","v":0},null,null,0,null,null,null,{"$f":"+OCTUBRE!X66","v":0}]
[null,null,"Junio",null,{"$f":"+OCTUBRE!E67","v":0},null,null,{"$f":"+OCTUBRE!H67","v":0},null,null,0,null,null,{"$f":"+OCTUBRE!N67","v":0},null,null,{"$f":"+OCTUBRE!Q67","v":0},null,null,0,null,null,null,{"$f":"+OCTUBRE!X67","v":0}]
[null,null,"Julio",null,{"$f":"+OCTUBRE!E68","v":0},null,null,{"$f":"+OCTUBRE!H68","v":0},null,null,0,null,null,{"$f":"+OCTUBRE!N68","v":0},null,null,{"$f":"+OCTUBRE!Q68","v":0},null,null,0,null,null,null,{"$f":"+OCTUBRE!X68","v":0}]
[null,null,"Agosto",null,{"$f":"+OCTUBRE!E69","v":0},null,null,{"$f":"+OCTUBRE!H69","v":0},null,null,0,null,null,{"$f":"+OCTUBRE!N69","v":0},null,null,{"$f":"+OCTUBRE!Q69","v":0},null,null,0,null,null,null,{"$f":"+OCTUBRE!X69","v":0}]
[null,null,"Septiembre",null,{"$f":"+OCTUBRE!E70","v":0},null,null,{"$f":"+OCTUBRE!H70","v":0},null,null,0,null,null,{"$f":"+OCTUBRE!N70","v":0},null,null,{"$f":"+OCTUBRE!Q70","v":0},null,null,0,null,null,null,{"$f":"+OCTUBRE!X70","v":0}]
[null,null,"Octubre",null,{"$f":"+OCTUBRE!E71","v":0},null,null,{"$f":"+OCTUBRE!H71","v":0},null,null,0,null,null,{"$f":"+OCTUBRE!N71","v":0},null,null,{"$f":"+OCTUBRE!Q71","v":0},null,null,0,null,null,null,{"$f":"+OCTUBRE!X71","v":0}]
[null,null,"Noviembre",null,{"$f":"+OCTUBRE!E72","v":0},null,null,0,null,null,0,null,null,{"$f":"+OCTUBRE!N72","v":0},null,null,0,null,null,0,null,null,null,0]
[null,null,"Diciembre  ",null,{"$f":"+OCTUBRE!E73","v":0},null,null,0,null,null,0,null,null,{"$f":"+OCTUBRE!N73","v":0},null,null,0,null,null,0,null,null,null,0]
[null,null,"TOTAL",null,{"$f":"SUM(E62:G73)","v":0},null,null,{"$f":"SUM(H62:J73)","v":0},null,null,{"$f":"SUM(K62:M73)","v":0},null,null,{"$f":"SUM(N62:P73)","v":0},null,null,{"$f":"SUM(Q62:S73)","v":0},null,null,{"$f":"SUM(T62:W73)","v":0},null,null,null,{"$f":"SUM(X62:Z73)","v":0}]
[null,"Antes de imprimir este documento… piense en el medio ambiente!    \nCualquier copia impresa de este documento se considera como COPIA NO CONTROLADA\nLOS DATOS PROPORCIONADOS SERÁN TRATADOS DE ACUERDO A LA POLÌTICA DE TRATAMIENTO DE DATOS PERSONALES DEL ICBF Y A LA LEY 1581 DE 2012 "]
[null,null,null,null,null,"PROCESO\nPROMOCION Y PREVENCIÓN\n\nFORMATO ACTA LEGALIZACIÓN DE CUENTAS\n",null,null,null,null,null,null,null,null,"F1.A8.MO12.PP",null,null,null,null,null,"2022-02-02"]
[null,null,null,null,null,null,null,null,null,null,null,null,null,null,"Versión 3",null,null,null,null,null,"Página 2 de 3"]
[]
[null,null,null,null,null,null,null,null,null,null,null,null,null,null,"Clasificación de la Información:\nPública"]
[]
[null,null,"OBSERVACIONES SEGUIMIENTO PRESUPUESTAL  Y FINANCIERO DEL CONTRATO: "]
[]
[null,null,"SEGUIMIENTO A INEJECUCIONES Y LIBERACIONES"]
[null,null,"MES",null,"AHORROS",null,null,"INEJECUCIONES",null,null,"SEGUIMIENTO DE INEJECUCIONES",null,null,"REDISTRIBUCIÓN DE \nAHORROS",null,null,"REINVERSIÓN DE \nINEJECUCIONES",null,null,"LIBERACIONES/REINTEGROS T.N \n(Tramitadas)",null,null,"LIBERACIONES PENDIENTES POR  REALIZAR"]
[null,null,"Inejecución\n inicial",null,{"$f":"+OCTUBRE!E85","v":0},null,null,{"$f":"+OCTUBRE!H85","v":0},null,null,{"$f":"+G46-E74","v":0},null,null,{"$f":"+OCTUBRE!N85","v":0},null,null,{"$f":"+OCTUBRE!Q85","v":0},null,null,{"$f":"+OCTUBRE!T85","v":0},null,null,{"$f":"IFERROR(+K85,0)","v":0}]
[]
[null,null,"Enero",null,{"$f":"+OCTUBRE!E87","v":0},null,null,{"$f":"+OCTUBRE!H87","v":0},null,null,{"$f":"+E87+H87","v":0},null,null,{"$f":"+OCTUBRE!N87","v":0},null,null,{"$f":"+OCTUBRE!Q87","v":0},null,null,{"$f":"+OCTUBRE!T87","v":0},null,null,{"$f":"+W85+K87-(N87+Q87+T87)","v":0}]
[null,null,"Febrero",null,{"$f":"+OCTUBRE!E88","v":0},null,null,{"$f":"+OCTUBRE!H88","v":0},null,null,0,null,null,{"$f":"+OCTUBRE!N88","v":0},null,null,{"$f":"+OCTUBRE!Q88","v":0},null,null,{"$f":"+OCTUBRE!T88","v":0},null,null,{"$f":"+W87+K88-(N88+Q88+T88)","v":0}]
[null,null,"Marzo",null,{"$f":"+OCTUBRE!E89","v":0},null,null,{"$f":"+OCTUBRE!H89","v":0},null,null,0,null,null,{"$f":"+OCTUBRE!N89","v":0},null,null,{"$f":"+OCTUBRE!Q89","v":0},null,null,{"$f":"+OCTUBRE!T89","v":0},null,null,0]
[null,null,"Abril",null,{"$f":"+OCTUBRE!E90","v":0},null,null,{"$f":"+OCTUBRE!H90","v":0},null,null,0,null,null,{"$f":"+OCTUBRE!N90","v":0},null,null,{"$f":"+OCTUBRE!Q90","v":0},null,null,{"$f":"+OCTUBRE!T90","v":0},null,null,0]
[null,null,"Mayo",null,{"$f":"+OCTUBRE!E91","v":0},null,null,{"$f":"+OCTUBRE!H91","v":0},null,null,0,null,null,{"$f":"+OCTUBRE!N91","v":0},null,null,{"$f":"+OCTUBRE!Q91","v":0},null,null,{"$f":"+OCTUBRE!T91","v":0},null,null,0]
[null,null,"Junio",null,{"$f":"+OCTUBRE!E92","v":0},null,null,{"$f":"+OCTUBRE!H92","v":0},null,null,0,null,null,{"$f":"+OCTUBRE!N92","v":0},null,null,{"$f":"+OCTUBRE!Q92","v":0},null,null,{"$f":"+OCTUBRE!T92","v":0},null,null,0]
[null,null,"Julio",null,{"$f":"+OCTUBRE!E93","v":0},null,null,{"$f":"+OCTUBRE!H93","v":0},null,null,0,null,null,{"$f":"+OCTUBRE!N93","v":0},null,null,{"$f":"+OCTUBRE!Q93","v":0},null,null,{"$f":"+OCTUBRE!T93","v":0},null,null,0]
[null,null,"Agosto",null,{"$f":"+OCTUBRE!E94","v":0},null,null,{"$f":"+OCTUBRE!H94","v":0},null,null,0,null,null,{"$f":"+OCTUBRE!N94","v":0},null,null,{"$f":"+OCTUBRE!Q94","v":0},null,null,{"$f":"+OCTUBRE!T94","v":0},null,null,0]
[null,null,"Septiembre",null,{"$f":"+OCTUBRE!E95","v":0},null,null,{"$f":"+OCTUBRE!H95","v":0},null,null,0,null,null,{"$f":"+OCTUBRE!N95","v":0},null,null,{"$f":"+OCTUBRE!Q95","v":0},null,null,{"$f":"+OCTUBRE!T95","v":0},null,null,0]
[null,null,"Octubre",null,{"$f":"+OCTUBRE!E96","v":0},null,null,{"$f":"+OCTUBRE!H96","v":0},null,null,0,null,null,{"$f":"+OCTUBRE!N96","v":0},null,null,{"$f":"+OCTUBRE!Q96","v":0},null,null,{"$f":"+OCTUBRE!T96","v":0},null,null,0]
[null,null,"Noviembre",null,0,null,null,0,null,null,0,null,null,0,null,null,0,null,null,0,null,null,0]
[null,null,"Diciembre  ",null,0,null,null,0,null,null,{"$f":"+E98+H98","v":0},null,null,0,null,null,0,null,null,0,null,null,0]
[null,null,"TOTAL",null,{"$f":"SUM(E87:G98)+E85","v":0},null,null,{"$f":"SUM(H87:J98)+H85","v":0},null,null,{"$f":"SUM(K87:M98)+K85","v":0},null,null,{"$f":"SUM(N87:P98)+N85","v":0},null,null,{"$f":"SUM(Q87:S98)+Q85","v":0},null,null,{"$f":"SUM(T87:V98)+T85","v":0},null,null,{"$f":"+W97","v":0}]
[null,null,"RESUMEN PERIODICO A LA EJECUCIÓN"]
[null,null,"PRESUPUESTO APROBADO",null,null,null,"PRESUPUESTO EJECUTADO",null,null,null,null,"EJECUCION PROYECTADA \nAL PERIODO",null,null,null,null,"AVANCE EJECUCION \nDEL PERIODO",null,null,null,null,"DESVIACIÓN PRESUPUESTAL"]
[null,null,{"$f":"+E74","v":0},null,null,null,{"$f":"+H74","v":0},null,null,null,null,{"$f":"IFERROR((SUMIF(H61:J72,\">=0\",E61:G72))/E74,0)","v":0},null,null,null,null,{"$f":"IFERROR(G102/C102,0)","v":0},null,null,null,null,{"$f":"+Q102-L102","v":0}]
[null," ","OBSERVACIONES EJECUCIÓN PRESUPUESTO:"]
[]
[null,null,"RESUMEN FINANCIERO DEL PERIODO:"]
[null,null,"SALDO DEL PERIODO ANTERIOR ",null,null,null,null,null,null,null,null,null,null,null,null,null,null,null,null,null,{"$f":"+OCTUBRE!U112","v":0}]
[null,null,"TOTAL APORTES GIRADOS EN EL PERIODO",null,null,null,null,null,null,null,null,null,null,null,null,null,null,null,null,null,{"$f":"+Q72","v":0}]
[]
[null,null,"TOTAL APORTES PARA EL PERIODO",null,null,null,null,null,null,null,null,null,null,null,null,null,null,null,null,null,{"$f":"+U107+U106","v":0}]
[null,null,"PAGOS  REALIZADOS POR LA EAS EN EL PERIODO",null,null,null,null,null,null,null,null,null,null,null,null,null,null,null,null,null,{"$f":"+X72","v":0}]
[]
[null,null,"SALDO DE APORTES ICBF PARA EL PERIODO",null,null,null,null,null,null,null,null,null,null,null,null,null,null,null,null,null,{"$f":"+U109-U110","v":0}]
[null,null,"SALDO SEGUN EXTRACTO",null,null,null,null,null,null,null,null,null,null,null,null,null,null,null,null,null,0]
[null,null,"DIFERENCIA SALDO RECURSOS VS SALDO EXTRACTO BANCARIO",null,null,null,null,null,null,null,null,null,null,null,null,null,null,null,null,null,{"$f":"+U113-U112","v":0}]
[null,null,"VALOR CONCILIADO",null,null,null,null,null,null,null,null,null,null,null,null,null,null,null,null,null,0]
[]
[null,null,"VALOR CARGA PRESTACIONAL ACUMULADA",null,null,null,null,null,null,null,null,null,null,null,null,null,null,null,null,null,0]
[null,null,"RENDIMIENTOS FINANCIEROS DEL MES",null,null,null,null,null,null,null,null,null,null,null,null,null,null,null,null,null,0]
[null,null,"RENDIMIENTOS FNANCIEROS ACUMULADOS",null,null,null,null,null,null,null,null,null,null,null,null,null,null,null,null,null,{"$f":"+OCTUBRE!U119+(U118-U120)","v":0}]
[null,null,"RENDIMIENTOS FINANCIEROS CONSIGNADOS",null,null,null,null,null,null,null,null,null,null,null,null,null,null,null,null,null,0]
[null,null,"Banco:",null,{"$f":"+OCTUBRE!E121","v":"SCOTIABANK COLPATRIA SA"},null,null,null,null,null,null,"Tipo de Cuenta:",null,null,{"$f":"+OCTUBRE!O121","v":"Ahorros"},null,null,null,"Nro de Cuenta:",null,null,{"$f":"+OCTUBRE!V121","v":0}]
[null,null,"OBSERVACIONES  CONCILIACIÓN:"]
[]
[null,"4.","Seguimiento al uso de los recursos tasas compensatorias (Aplica Solo para HI)"]
[null,null,"MES",null,null,"PRESUPUESTO TASAS COMPENSATORIAS",null,null,"VALOR T.C RECAUDADA POR EL OPERADOR",null,null," EJECUCIÓN CON RECURSOS TASAS COMPENSATORIAS",null,null,null,null,null,"SALDO TASAS COMPENSATORIAS"]
[]
[null,null,"ENERO",null,null,{"$f":"+OCTUBRE!F127","v":0},null,null,{"$f":"+OCTUBRE!I127","v":0},null,null,{"$f":"+OCTUBRE!L127","v":0},null,null,null,null,null,{"$f":"+I127-L127","v":0}]
[null,null,"FEBRERO",null,null,{"$f":"+OCTUBRE!F128","v":0},null,null,{"$f":"+OCTUBRE!I128","v":0},null,null,{"$f":"+OCTUBRE!L128","v":0},null,null,null,null,null,0]
[null,null,"MARZO",null,null,{"$f":"+OCTUBRE!F129","v":0},null,null,{"$f":"+OCTUBRE!I129","v":0},null,null,{"$f":"+OCTUBRE!L129","v":0},null,null,null,null,null,0]
[null,null,"ABRIL",null,null,{"$f":"+OCTUBRE!F130","v":0},null,null,{"$f":"+OCTUBRE!I130","v":0},null,null,{"$f":"+OCTUBRE!L130","v":0},null,null,null,null,null,0]
[null,null,"MAYO",null,null,{"$f":"+OCTUBRE!F131","v":0},null,null,{"$f":"+OCTUBRE!I131","v":0},null,null,{"$f":"+OCTUBRE!L131","v":0},null,null,null,null,null,0]
[null,null,"JUNIO",null,null,{"$f":"+OCTUBRE!F132","v":0},null,null,{"$f":"+OCTUBRE!I132","v":0},null,null,{"$f":"+OCTUBRE!L132","v":0},null,null,null,null,null,0]
[null,null,"JULIO",null,null,{"$f":"+OCTUBRE!F133","v":0},null,null,{"$f":"+OCTUBRE!I133","v":0},null,null,{"$f":"+OCTUBRE!L133","v":0},null,null,null,null,null,0]
[null,null,"AGOSTO",null,null,{"$f":"+OCTUBRE!F134","v":0},null,null,{"$f":"+OCTUBRE!I134","v":0},null,null,{"$f":"+OCTUBRE!L134","v":0},null,null,null,null,null,0]
[null,null,"SEPTIEMBRE",null,null,{"$f":"+OCTUBRE!F135","v":0},null,null,{"$f":"+OCTUBRE!I135","v":0},null,null,{"$f":"+OCTUBRE!L135","v":0},null,null,null,null,null,0]
[null,null,"OCTUBRE",null,null,{"$f":"+OCTUBRE!F136","v":0},null,null,{"$f":"+OCTUBRE!I136","v":0},null,null,{"$f":"+OCTUBRE!L136","v":0},null,null,null,null,null,0]
[null,null,"NOVIEMBRE",null,null,{"$f":"+OCTUBRE!F137","v":0},null,null,0,null,null,0,null,null,0,null,null,0]
[null,null,"DICIEMBRE",null,null,{"$f":"+OCTUBRE!F138","v":0},null,null,0,null,null,0,null,null,0,null,null,0]
[null,null,"Total",null,null,{"$f":"SUM(F127:H138)","v":0},null,null,{"$f":"SUM(I127:K137)","v":0},null,null,{"$f":"SUM(L127:Q137)","v":0},null,null,null,null,null,{"$f":"SUM(R127:Z137)","v":0}]
[null,null,"OBSERVACIONES  RECAUDO TASAS:"]
[]
[null,"Antes de imprimir este documento… piense en el medio ambiente!    \nCualquier copia impresa de este documento se considera como COPIA NO CONTROLADA\nLOS DATOS PROPORCIONADOS SERÁN TRATADOS DE ACUERDO A LA POLÌTICA DE TRATAMIENTO DE DATOS PERSONALES DEL ICBF Y A LA LEY 1581 DE 2012 "]
[null,null,null,null,null,"PROCESO\nPROMOCION Y PREVENCIÓN\n\nFORMATO ACTA LEGALIZACIÓN DE CUENTAS\n",null,null,null,null,null,null,null,null,"F1.A8.MO12.PP",null,null,null,null,null,"2022-02-02"]
[null,null,null,null,null,null,null,null,null,null,null,null,null,null,"Versión 3",null,null,null,null,null,"Página 3 de 3"]
[]
[null,null,null,null,null,null,null,null,null,null,null,null,null,null,"Clasificación de la Información:\nPública"]
[]
[null,"5."," Se Verifica que los valores por inejecuciones corresponde a los siguientes conceptos:"]
[null,null,"CONCEPTO DE DESCUENTO",null,null," Cupos CONTRATADOS",null," Cupos\nATENDIDOS ",null," NO ATENDIDOS ",null,"VALOR DESCUENTO POR INEJECUCIÓN",null,null,"FUENTE DE CONSULTA",null,null,"VALOR DESCUENTO \nTEMPORAL",null,null,"REINTEGRO DEL DESCUENTO TEMPORAL",null,null,"Saldo de Descuentos Temporales"]
[null,null,"BAJA COBERTURA",null,null,{"$f":"+X30","v":0},null,0,null,{"$f":"+F150-H150","v":0},null,0,null,null,"NO APLICA",null,null,0,null,null,0,null,null,{"$f":"+(R150-U150)+OCTUBRE!X150","v":0}]
[null,null,"INASISTENCIA",null,null,null,null,null,null,null,null,0,null,null,"NO APLICA"]
[null,null,"NO PRESTACION DEL SERVICIO",null,null,null,null,null,null,null,null,0,null,null,"NO APLICA"]
[]
[null,null,"CUENTAME",null,null,null,null,null,null,null,null,0,null,null,"NO APLICA"]
[null,null,"TALENTO HUMANO NO CONTRATADO",null,null,null,null,null,null,null,null,0,null,null,"NO APLICA"]
[null,null,"OTRO\n (Se Especifica en Observaciones)",null,null,null,null,null,null,null,null,0,null,null,"NO APLICA"]
[]
[]
[null,null,"TOTAL DESCUENTO",null,null,null,null,null,null,null,null,{"$f":"SUM(L150:N158)","v":0}]
[null,null,"OBSERVACIONES  DESCUENTOS:"]
[]
[null,"6. ","Ejecución Aportes EAS."]
[null,null,"MES",null,null,"PRESUPUESTO",null,null,"EJECUCIÓN",null,null,"SALDO APORTES EAS",null,null,null,null,null,"OBSERVACIONES APOTES EAS"]
[]
[null,null,"ENERO",null,null,{"$f":"+OCTUBRE!F165","v":0},null,null,{"$f":"+OCTUBRE!I165","v":0},null,null,{"$f":"+F165-I165","v":0}]
[null,null,"FEBRERO",null,null,{"$f":"+OCTUBRE!F166","v":0},null,null,{"$f":"+OCTUBRE!I166","v":0},null,null,0]
[null,null,"MARZO",null,null,{"$f":"+OCTUBRE!F167","v":0},null,null,{"$f":"+OCTUBRE!I167","v":0},null,null,0]
[null,null,"ABRIL",null,null,{"$f":"+OCTUBRE!F168","v":0},null,null,{"$f":"+OCTUBRE!I168","v":0},null,null,0]
[null,null,"MAYO",null,null,{"$f":"+OCTUBRE!F169","v":0},null,null,{"$f":"+OCTUBRE!I169","v":0},null,null,0]
[null,null,"JUNIO",null,null,{"$f":"+OCTUBRE!F170","v":0},null,null,{"$f":"+OCTUBRE!I170","v":0},null,null,0]
[null,null,"JULIO",null,null,{"$f":"+OCTUBRE!F171","v":0},null,null,{"$f":"+OCTUBRE!I171","v":0},null,null,0]
[null,null,"AGOSTO",null,null,{"$f":"+OCTUBRE!F172","v":0},null,null,{"$f":"+OCTUBRE!I172","v":0},null,null,0]
[null,null,"SEPTIEMBRE",null,null,{"$f":"+OCTUBRE!F173","v":0},null,null,{"$f":"+OCTUBRE!I173","v":0},null,null,0]
[null,null,"OCTUBRE",null,null,{"$f":"+OCTUBRE!F174","v":0},null,null,{"$f":"+OCTUBRE!I174","v":0},null,null,0]
[null,null,"NOVIEMBRE",null,null,{"$f":"+OCTUBRE!F175","v":0},null,null,0,null,null,0]
[null,null,"DICIEMBRE",null,null,{"$f":"+OCTUBRE!F176","v":0},null,null,0,null,null,0]
[null,null,"Total",null,null,{"$f":"SUM(F165:H176)","v":0},null,null,{"$f":"SUM(I165:K176)","v":0},null,null,{"$f":"SUM(L165:Q175)","v":0}]
[]
[null,"7. ","Observaciones Generales."]
[]
[]
[]
[]
[]
[]
[]
[null,"8."," Recomendaciones. (Preste la asesoría necesaria para que se superen las dificultades identificadas y se mantengan las fortalezas detectadas)  "]
[]
[]
[]
[]
[]
[]
[]
[null,"9.","Cierre."]
[null,null,"Compromisos / tareas",null,null,null,null,null,null,null,"Responsables",null,null,null,null,null,null,null,null,"Fechas"]
[]
[]
[]
[null,null,"**Las siguientes personas que firman  dan constancia que han revisado y estan de acuerdo con cada uno de los items de la presente acta y que  este ejercicio de legalización de cuentas se ha realizado conforme a los lineamientos, guias de supervisión, manuales operativos y minutas contractuales establecidas por el ICBF."]
[null," ","FIRMA RESPONSABLES ICBF Y ENTIDAD ADMINISTRADORA"]
[null,null,"Nombre",null,null,null,null,"Cargo / Dependencia",null,null,null,null,null,null,"EMAIL",null,null,null,null,null,"Firma"]
[null,null,{"$f":"+G37","v":" "},null,null,null,null,"SUPERVISOR(A) DEL CONTRATO ICBF",null,null,null,null,null,null,"@icbf.gov.co"]
[null,null,{"$f":"+U37","v":" "},null,null,null,null,"APOYO FINANCIERO ICBF",null,null,null,null,null,null,"@icbf.gov.co"]
[null,null,{"$f":"+G40","v":0},null,null,null,null,"REPRESENTANTE LEGAL EAS",null,null,null,null,null,null,{"$f":"+G41","v":0}]
[null,null,{"$f":"+OCTUBRE!C206","v":0},null,null,null,null,{"$f":"+OCTUBRE!H206","v":0},null,null,null,null,null,null,{"$f":"+OCTUBRE!O206","v":0}]
[null,null,{"$f":"+OCTUBRE!C207","v":0},null,null,null,null,{"$f":"+OCTUBRE!H207","v":0},null,null,null,null,null,null,{"$f":"+OCTUBRE!O207","v":0}]
[null,"Antes de imprimir este documento… piense en el medio ambiente!    \nCualquier copia impresa de este documento se considera como COPIA NO CONTROLADA\nLOS DATOS PROPORCIONADOS SERÁN TRATADOS DE ACUERDO A LA POLÌTICA DE TRATAMIENTO DE DATOS PERSONALES DEL ICBF Y A LA LEY 1581 DE 2012 "]
[]
[null,"* Escanear esta Acta debidamente Firmada y colocarla en la ruta especificada por la DPI"]
[]
["RECOMEDACIONES DE USO DE ESTE ARCHIVO:"]
["1. HABILITE MACROS : ARCHIVO > CENTRO DE CONFIANZA> CONFIGURACION DEL CENTRO DE CONFIANZA > CONFIGURACION DE MACROS > HABILITAR TODAS LAS MACROS > CONFIAR EN EL ACCESO AL MODELO DE OBJETO DE PROYECTOS VBA > ACEPTAR"]
["2. DESHABILITE VISTA PROTEGIDA: ARCHIVO> CENTRO DE CONFIANZA> CONFIGURACION DEL CENTRO DE CONFIANZA > VISTA PROTEGIDA> DESMARCAR LAS TRES OPCIONES >ACEPTAR"]
["3. HABILITAR UBICACIONES DE RED: ARCHIVO> CENTRO DE CONFIANZA> CONFIGURACION DEL CENTRO DE CONFIANZA > UBICACIONES DE CONFIANZA > MARCAR PERMITIR UBICACIONES DE CONFIANZA QUE ESTEN EN LA RED > ACEPTAR "]
["4. HABILITAR DOCUMENTOS DE CONFIANZA: ARCHIVO> CENTRO DE CONFIANZA> CONFIGURACION DEL CENTRO DE CONFIANZA > DOCUMENTOS DE CONFIANZA > MARCAR PERMITIR QUE SEAN DE CONFIANZA LOS DOCUMENTOS DE UNA RED"]

{"sheet":"DICIEMBRE","index":13,"n_rows":216,"n_cols":25,"rows_kept":216,"cut":false,"hidden":true,"merged":[[52,2,52,15],[52,16,53,25],[53,6,53,7],[53,9,54,13],[54,6,54,7],[54,19,54,23],[42,1,45,1],[50,24,50,25],[51,2,51,5],[51,6,51,8],[51,9,51,11],[51,12,51,13],[51,14,51,15],[51,16,51,17],[51,18,51,19],[51,20,51,21],[51,22,51,23],[51,24,51,25],[50,2,50,5],[50,6,50,8],[50,9,50,11],[50,12,50,13],[50,14,50,15],[50,16,50,17],[50,18,50,19],[50,20,50,21],[50,22,50,23],[48,9,48,11],[48,12,48,13],[48,14,48,15],[48,16,48,17],[48,18,48,19],[48,20,48,21],[48,22,48,23],[48,24,48,25],[49,2,49,5],[49,6,49,8],[49,9,49,11],[49,12,49,13],[49,14,49,15],[49,16,49,17],[49,18,49,19],[49,20,49,21],[49,22,49,23],[49,24,49,25],[48,2,48,5],[48,6,48,8],[6,18,6,22],[6,23,6,26],[88,2,88,3],[88,22,88,25],[89,2,89,3],[90,2,90,3],[90,22,90,25],[91,2,91,3],[91,22,91,25],[84,13,84,15],[84,16,84,18],[84,19,84,21],[84,22,84,25],[86,22,86,25],[89,13,89,15],[89,16,89,18],[89,19,89,21],[88,4,88,6],[88,7,88,9],[88,10,88,12],[88,13,88,15],[88,16,88,18],[90,16,90,18],[67,23,67,25],[69,23,69,25],[117,2,117,19],[117,20,117,25],[118,2,118,19],[118,20,118,25],[68,23,68,25],[67,16,67,18],[67,19,67,22],[86,4,86,6],[86,7,86,9],[86,10,86,12],[86,13,86,15],[86,16,86,18],[86,19,86,21],[70,2,70,3],[70,23,70,25],[71,2,71,3],[71,23,71,25],[72,19,72,22],[114,20,115,25],[84,10,84,12],[69,2,69,3],[69,19,69,22],[68,4,68,6],[68,10,68,12],[68,13,68,15],[68,16,68,18],[68,2,68,3],[67,4,67,6],[67,7,67,9],[67,10,67,12],[67,13,67,15],[67,2,67,3],[68,19,68,22],[69,4,69,6],[137,11,137,16],[154,11,154,13],[154,14,154,16],[155,11,157,13],[45,2,45,5],[45,6,45,15],[106,1,115,1],[106,2,107,19],[109,2,110,19],[114,2,115,19],[135,5,135,7],[135,8,135,10],[136,5,136,7],[136,8,136,10],[138,2,138,4],[138,5,138,7],[138,8,138,10],[155,14,157,16],[150,11,150,13],[150,14,150,16],[151,11,152,13],[149,14,149,16],[136,2,136,4],[137,2,137,4],[137,5,137,7],[137,8,137,10],[138,11,138,16],[158,14,158,25],[124,17,124,25],[125,17,125,25],[126,17,126,25],[127,17,127,25],[128,17,128,25],[129,17,129,25],[130,17,130,25],[131,17,131,25],[132,17,132,25],[133,17,133,25],[134,17,134,25],[135,17,135,25],[136,17,136,25],[137,17,137,25],[138,17,138,25],[124,11,124,16],[135,11,135,16],[136,11,136,16],[139,2,139,25],[140,2,140,25],[147,2,147,25],[148,2,148,4],[148,5,148,6],[148,7,148,8],[148,9,148,10],[148,11,148,13],[148,14,148,16],[148,17,148,19],[148,20,148,22],[148,23,148,25],[145,14,146,26],[141,1,141,26],[142,1,146,4],[142,5,146,13],[142,14,142,19],[142,20,142,26],[205,2,205,6],[205,7,205,13],[205,14,205,19],[205,20,205,25],[206,2,206,6],[206,7,206,13],[206,14,206,19],[206,20,206,25],[197,2,197,9],[197,10,197,18],[197,19,197,25],[198,2,198,9],[198,10,198,18],[198,19,198,25],[199,2,199,25],[200,2,200,25],[201,2,201,6],[201,7,201,13],[201,14,201,19],[201,20,201,25],[178,2,178,25],[179,2,185,25],[186,2,186,25],[210,1,210,27],[207,1,207,26],[209,1,209,24],[202,2,202,6],[202,7,202,13],[202,14,202,19],[202,20,202,25],[203,2,203,6],[203,7,203,13],[203,14,203,19],[203,20,203,25],[204,2,204,6],[204,7,204,13],[204,14,204,19],[204,20,204,25],[187,2,193,25],[194,2,194,25],[195,2,195,9],[195,10,195,18],[195,19,195,25],[196,2,196,9],[196,10,196,18],[196,19,196,25],[175,2,175,4],[175,5,175,7],[175,8,175,10],[175,11,175,16],[176,2,176,4],[176,5,176,7],[176,8,176,10],[176,11,176,16],[176,17,176,25],[163,17,175,25],[173,2,173,4],[173,5,173,7],[173,8,173,10],[173,11,173,16],[174,2,174,4],[174,5,174,7],[168,2,168,4],[168,5,168,7],[168,8,168,10],[168,11,168,16],[174,8,174,10],[174,11,174,16],[169,2,169,4],[169,5,169,7],[169,8,169,10],[169,11,169,16],[170,2,170,4],[170,5,170,7],[170,8,170,10],[170,11,170,16],[83,22,83,25],[85,2,85,3],[85,22,85,25],[83,4,83,6],[83,7,83,9],[83,10,83,12],[83,13,83,15],[83,16,83,18],[83,19,83,21],[85,4,85,6],[85,7,85,9],[85,10,85,12],[85,13,85,15],[85,16,85,18],[85,19,85,21],[131,11,131,16],[19,2,19,26],[20,2,20,26],[21,2,21,26],[11,1,11,8],[64,23,64,25],[11,9,11,26],[64,19,64,22],[12,1,12,8],[12,9,12,26],[14,2,14,26],[15,2,15,26],[29,23,29,25],[30,2,30,6],[30,7,30,11],[30,12,30,16],[30,17,30,21],[30,22,30,25],[22,2,22,26],[27,2,27,25],[28,4,28,7],[28,8,28,10],[64,4,64,6],[62,2,62,3],[62,23,62,25],[72,23,72,25],[0,1,5,4],[8,1,8,8],[8,9,8,26],[9,1,9,8],[9,9,9,26],[10,1,10,8],[10,9,10,26],[6,1,6,15],[6,16,6,17],[7,1,7,6],[7,7,7,12],[7,13,7,19],[7,20,7,26],[0,14,1,19],[0,20,1,26],[2,14,3,19],[2,20,3,26],[4,14,5,26],[0,5,5,13],[16,2,16,26],[17,2,17,26],[18,2,18,26],[63,2,63,3],[63,23,63,25],[64,2,64,3],[63,19,63,22],[62,4,62,6],[62,7,62,9],[66,19,66,22],[65,2,65,3],[65,23,65,25],[65,4,65,6],[65,7,65,9],[65,10,65,12],[65,13,65,15],[65,16,65,18],[65,19,65,22],[66,23,66,25],[66,2,66,3],[63,7,63,9],[63,10,63,12],[64,7,64,9],[64,10,64,12],[66,4,66,6],[66,10,66,12],[55,2,55,25],[56,2,56,25],[57,2,57,25],[58,2,58,25],[59,2,59,3],[59,23,59,25],[60,2,60,3],[60,23,60,25],[61,2,61,3],[61,23,61,25],[59,19,59,22],[60,19,60,22],[61,4,61,6],[61,7,61,9],[61,10,61,12],[61,13,61,15],[61,16,61,18],[61,19,61,22],[60,4,60,6],[60,7,60,9],[60,10,60,12],[60,13,60,15],[60,16,60,18],[28,11,28,18],[28,19,28,21],[28,22,28,25],[29,2,29,4],[29,5,29,7],[29,8,29,10],[29,11,29,13],[29,14,29,15],[29,16,29,18],[29,19,29,22],[28,2,28,3],[31,2,31,6],[31,7,31,11],[31,12,31,16],[31,17,31,21],[31,22,31,25],[32,2,32,6],[32,7,32,11],[32,12,32,16],[32,17,32,21],[32,22,32,25],[33,2,33,6],[33,7,33,11],[33,12,33,16],[33,17,33,21],[33,22,33,25],[34,2,34,6],[34,7,34,11],[34,12,34,16],[34,17,34,21],[34,22,34,25],[35,2,35,6],[35,7,35,11],[35,12,35,16],[35,17,35,21],[35,22,35,25],[36,2,36,5],[36,6,36,15],[36,16,36,19],[36,20,36,25],[39,2,39,5],[39,6,39,15],[39,16,39,19],[39,20,39,25],[40,2,40,5],[40,6,40,15],[40,16,40,19],[40,20,40,25],[37,20,37,25],[38,2,38,5],[38,6,38,9],[38,12,38,15],[38,16,38,19],[38,20,38,25],[37,2,37,5],[37,6,37,7],[37,8,37,10],[37,11,37,12],[37,13,37,15],[37,16,37,19],[43,2,43,5],[43,6,43,15],[43,16,43,19],[43,20,43,25],[44,2,44,5],[44,6,44,15],[44,16,44,19],[44,20,44,25],[41,2,41,5],[41,6,41,15],[41,16,41,19],[41,20,41,25],[42,2,42,5],[42,6,42,15],[42,16,42,19],[42,20,42,25],[46,2,47,5],[46,6,47,8],[46,9,47,11],[46,12,46,15],[46,16,46,19],[46,20,46,25],[47,12,47,13],[47,14,47,15],[47,16,47,17],[47,18,47,19],[47,20,47,21],[47,22,47,23],[47,24,47,25],[72,4,72,6],[72,7,72,9],[72,10,72,12],[72,13,72,15],[72,16,72,18],[59,4,59,6],[59,7,59,9],[59,10,59,12],[59,13,59,15],[59,16,59,18],[63,13,63,15],[63,16,63,18],[62,10,62,12],[62,13,62,15],[62,16,62,18],[64,13,64,15],[64,16,64,18],[66,13,66,15],[66,16,66,18],[69,7,69,9],[69,10,69,12],[69,13,69,15],[69,16,69,18],[68,7,68,9],[72,2,72,3],[86,2,86,3],[87,2,87,3],[87,22,87,25],[83,2,83,3],[87,4,87,6],[87,7,87,9],[87,10,87,12],[87,13,87,15],[87,16,87,18],[87,19,87,21],[73,2,73,3],[73,23,73,25],[80,2,80,25],[81,2,81,25],[82,2,82,25],[73,19,73,22],[76,14,77,19],[76,20,77,26],[73,4,73,6],[73,7,73,9],[73,10,73,12],[73,13,73,15],[73,16,73,18],[92,10,92,12],[92,13,92,15],[92,16,92,18],[94,22,94,25],[88,19,88,21],[89,4,89,6],[89,7,89,9],[89,10,89,12],[89,22,89,25],[90,19,90,21],[91,4,91,6],[91,7,91,9],[91,10,91,12],[91,13,91,15],[91,16,91,18],[91,19,91,21],[90,4,90,6],[90,7,90,9],[90,10,90,12],[90,13,90,15],[92,22,92,25],[92,19,92,21],[93,2,93,3],[93,22,93,25],[94,19,94,21],[95,4,95,6],[95,7,95,9],[95,10,95,12],[95,13,95,15],[95,16,95,18],[95,19,95,21],[94,4,94,6],[94,7,94,9],[94,10,94,12],[94,13,94,15],[94,16,94,18],[94,2,94,3],[95,2,95,3],[95,22,95,25],[93,4,93,6],[93,7,93,9],[93,10,93,12],[93,13,93,15],[93,16,93,18],[96,22,96,25],[97,2,97,3],[97,22,97,25],[98,19,98,21],[100,6,100,10],[100,11,100,15],[100,16,100,20],[98,4,98,6],[98,7,98,9],[98,10,98,12],[98,13,98,15],[98,16,98,18],[98,2,98,3],[98,22,98,25],[99,2,99,25],[100,2,100,5],[100,21,100,25],[96,19,96,21],[97,4,97,6],[97,7,97,9],[97,10,97,12],[97,13,97,15],[97,16,97,18],[97,19,97,21],[96,10,96,12],[96,13,96,15],[96,16,96,18],[121,2,121,25],[120,21,120,25],[125,11,125,16],[119,2,119,19],[119,20,119,25],[101,6,101,10],[101,11,101,15],[101,16,101,20],[101,2,101,5],[101,21,101,25],[102,2,102,25],[103,2,103,25],[104,2,104,25],[105,2,105,19],[105,20,105,25],[108,2,108,19],[108,20,108,25],[106,20,107,25],[109,20,110,25],[120,2,120,3],[120,4,120,10],[92,2,92,3],[93,19,93,21],[92,4,92,6],[92,7,92,9],[111,20,111,25],[120,18,120,20],[66,7,66,9],[116,2,116,19],[116,20,116,25],[74,1,74,26],[75,1,79,4],[75,5,79,13],[75,14,75,19],[75,20,75,26],[112,20,112,25],[113,2,113,19],[113,20,113,25],[84,2,84,3],[84,4,84,6],[84,7,84,9],[111,2,111,19],[96,2,96,3],[96,4,96,6],[96,7,96,9],[150,2,150,10],[151,2,152,10],[153,2,153,10],[161,2,161,25],[149,17,157,19],[149,20,157,22],[149,23,157,25],[149,9,149,10],[149,11,149,13],[153,11,153,13],[153,14,153,16],[151,14,152,16],[165,5,165,7],[165,8,165,10],[165,11,165,16],[158,2,158,10],[158,11,158,13],[159,2,159,25],[160,2,160,25],[164,2,164,4],[164,5,164,7],[164,8,164,10],[164,11,164,16],[162,11,162,16],[162,17,162,25],[163,2,163,4],[163,5,163,7],[163,8,163,10],[163,11,163,16],[162,8,162,10],[172,2,172,4],[172,5,172,7],[172,8,172,10],[172,11,172,16],[167,2,167,4],[167,5,167,7],[167,8,167,10],[167,11,167,16],[149,2,149,4],[149,5,149,6],[149,7,149,8],[154,2,154,10],[155,2,157,10],[171,2,171,4],[171,5,171,7],[171,8,171,10],[171,11,171,16],[162,2,162,4],[166,2,166,4],[166,5,166,7],[166,8,166,10],[166,11,166,16],[162,5,162,7],[165,2,165,4],[45,16,45,19],[45,20,45,25],[78,14,79,26],[143,14,144,19],[143,20,144,26],[70,19,70,22],[71,4,71,6],[71,7,71,9],[71,10,71,12],[71,13,71,15],[71,16,71,18],[71,19,71,22],[70,4,70,6],[70,7,70,9],[70,10,70,12],[70,13,70,15],[70,16,70,18],[62,19,62,22],[63,4,63,6],[128,5,128,7],[128,8,128,10],[133,2,133,4],[112,2,112,19],[124,2,124,4],[135,2,135,4],[129,8,129,10],[129,5,129,7],[133,5,133,7],[133,8,133,10],[130,2,130,4],[129,2,129,4],[125,2,125,4],[125,5,125,7],[125,8,125,10],[126,2,126,4],[126,5,126,7],[134,2,134,4],[134,5,134,7],[134,8,134,10],[131,2,131,4],[131,5,131,7],[131,8,131,10],[132,2,132,4],[132,5,132,7],[132,8,132,10],[130,5,130,7],[130,8,130,10],[127,8,127,10],[120,11,120,13],[120,14,120,17],[124,5,124,7],[124,8,124,10],[132,11,132,16],[133,11,133,16],[134,11,134,16],[127,2,127,4],[127,5,127,7],[122,2,122,25],[123,2,123,25],[126,8,126,10],[130,11,130,16],[126,11,126,16],[127,11,127,16],[128,2,128,4],[128,11,128,16],[129,11,129,16]]}
[null,null,null,null,null,"PROCESO\nPROMOCION Y PREVENCIÓN\n\nFORMATO ACTA LEGALIZACIÓN DE CUENTAS\n",null,null,null,null,null,null,null,null,"F1.A8.MO12.PP",null,null,null,null,null,"2022-02-02"]
[]
[null,null,null,null,null,null,null,null,null,null,null,null,null,null,"Versión 3",null,null,null,null,null,"Página 1 de 3"]
[]
[null,null,null,null,null,null,null,null,null,null,null,null,null,null,"Clasificación de la Información:\nPública"]
[]
[null,"ACTA DE LEGALIZACIÓN N°",null,null,null,null,null,null,null,null,null,null,null,null,null,null,12,null,"ESTADO DEL CONTRATO:",null,null,null,null,{"$f":"+NOVIEMBRE!X7","v":"VIGENTE"}]
[null,"Fecha y Hora Inicio:",null,null,null,null,null,"2019-01-01T15:00:00",null,null,null,null,null,"Fecha y Hora Fin:  ",null,null,null,null,null,null,"2019-01-01T15:00:00"]
[null,"Lugar:",null,null,null,null,null,null,null,{"$f":"+NOVIEMBRE!J9","v":"Regional_Amazonas"}]
[null,"Dependencia que Convoca:",null,null,null,null,null,null,null,{"$f":"+NOVIEMBRE!J10","v":"Primera Infancia - Grupo de Atención en Ciclos de Vida y Nutrición "}]
[null,"Proceso:",null,null,null,null,null,null,null,{"$f":"+NOVIEMBRE!J11","v":"Promoción y Prevención "}]
[null,"Objetivo:",null,null,null,null,null,null,null,{"$f":"+NOVIEMBRE!J12","v":"Recepción, revisión, el análisis y  Legalización de los Gastos e Ingresos del Informe Financiero presentado por la entidad administradora (EAS)"}]
[null,"Nombre EAS:",null,null,null,null,null,null,null,{"$f":"+NOVIEMBRE!J13","v":"ASOCIACION DE HOGARES"}]
[null,"Agenda: "]
[null,"1.","Desarrollo."]
[null,"2.","Información general del contrato."]
[null,"3.","Informe  de ejecución Presupuestal y  financiera requerido con los debidos soporte."]
[null,"4.","Seguimiento al Uso de Tasas Compensatorias (Aplica Solo para HI)."]
[null,"5.","Detalle de Inejecuciones."]
[null,"6.","Ejecución Contrapartida."]
[null,"7.","Situación Encontrada."]
[null,"8.","Recomendaciones."]
[null,"9.","Cierre."]
[null,"         Desarrollo: "]
[null,"1.","Se da inicio a la legalización de los informes financieros Presentados por la EAS con el fin de verificar la correcta Ejecución del presupuesto aprobado dentro de los "]
[null,null,"lineamientos, guias de supervision, manuales operativos y minutas que corresponden."]
[null,"2.","A continuaciòn en el presente cuadro  se relaciona la información general del contrato."]
[null,null,"Información general del contrato."]
[null,null,"Regional:",null,{"$f":"+J9","v":"Regional_Amazonas"},null,null,null,"Centro Zonal:",null,null,{"$f":"+NOVIEMBRE!L29","v":"CZ_LETICIA"},null,null,null,null,null,null,null,"N° de Contrato\n o Convenio",null,null,{"$f":"+NOVIEMBRE!W29","v":0}]
[null,null,"N° CDP ",null,null,{"$f":"+NOVIEMBRE!F30","v":0},null,null,"N° RP",null,null,{"$f":"+NOVIEMBRE!L30","v":0},null,null,"FECHA \nACTA INICIO",null,{"$f":"+NOVIEMBRE!Q30","v":"00:00:00"},null,null,"Cupos Contratados:",null,null,null,{"$f":"+W36+R36+M36+H36+C36","v":0}]
[null,null," Modalidad 1:",null,null,null,null,"Modalidad 2:",null,null,null,null,"Modalidad 3:",null,null,null,null,"Modalidad 4:",null,null,null,null,"Modalidad 5:"]
[null,null,{"$f":"+NOVIEMBRE!C32","v":"NO_APLICA"},null,null,null,null,{"$f":"+NOVIEMBRE!H32","v":"NO_APLICA"},null,null,null,null,{"$f":"+NOVIEMBRE!M32","v":"NO_APLICA"},null,null,null,null,{"$f":"+NOVIEMBRE!R32","v":"NO_APLICA"},null,null,null,null,{"$f":"+NOVIEMBRE!W32","v":"NO_APLICA"}]
[null,null,"SERVICIO 1:",null,null,null,null,"SERVICIO 2:",null,null,null,null,"SERVICIO 3:",null,null,null,null,"SERVICIO 4:",null,null,null,null,"SERVICIO 5:"]
[null,null,{"$f":"+NOVIEMBRE!C34","v":"NO APLICA"},null,null,null,null,{"$f":"+NOVIEMBRE!H34","v":"NO APLICA"},null,null,null,null,{"$f":"+NOVIEMBRE!M34","v":"NO APLICA"},null,null,null,null,{"$f":"+NOVIEMBRE!R34","v":"NO APLICA"},null,null,null,null,{"$f":"+NOVIEMBRE!W34","v":"NO APLICA"}]
[null,null,"CUPOS CONTRATADO 1:",null,null,null,null,"CUPOS CONTRATADO 2:",null,null,null,null,"CUPOS CONTRATADO 3:",null,null,null,null,"CUPOS CONTRATADO 4:",null,null,null,null,"CUPOS CONTRATADO 5:"]
[null,null,{"$f":"+NOVIEMBRE!C36","v":0},null,null,null,null,{"$f":"+NOVIEMBRE!H36","v":0},null,null,null,null,{"$f":"+NOVIEMBRE!M36","v":0},null,null,null,null,{"$f":"+NOVIEMBRE!R36","v":0},null,null,null,null,{"$f":"+NOVIEMBRE!W36","v":0}]
[null,null,"Nombre Supervisor CTO:",null,null,null,{"$f":"+NOVIEMBRE!G37","v":" "},null,null,null,null,null,null,null,null,null,"Apoyo Financiero ICBF:",null,null,null,{"$f":"+NOVIEMBRE!U37","v":" "}]
[null,null,"Plazo de ejecución CTO:",null,null,null,"Desde:",null,{"$f":"+NOVIEMBRE!I38","v":"00:00:00"},null,null,"Hasta:",null,{"$f":"+NOVIEMBRE!N38","v":"00:00:00"},null,null,"Fecha aprob. póliza:",null,null,null,{"$f":"+NOVIEMBRE!U38","v":" "}]
[null,null,"Póliza N° 1 del CTO",null,null,null,{"$f":"+NOVIEMBRE!G39","v":0},null,null,null,"Poliza N° 2",null,{"$f":"+NOVIEMBRE!M39","v":0},null,null,null,"Nombre Ent. Aseguradora",null,null,null,{"$f":"+NOVIEMBRE!U39","v":" "}]
[null,null,"Representante Legal:",null,null,null,{"$f":"+NOVIEMBRE!G40","v":0},null,null,null,null,null,null,null,null,null,"Cédula RL: ",null,null,null,{"$f":"+NOVIEMBRE!U40","v":" "}]
[null,null,"Email Representante L.",null,null,null,{"$f":"+NOVIEMBRE!G41","v":0},null,null,null,null,null,null,null,null,null,"NIT EAS:",null,null,null,{"$f":"+NOVIEMBRE!U41","v":" "}]
[null,null,"Telefono o Cel R.L",null,null,null,{"$f":"+NOVIEMBRE!G42","v":0},null,null,null,null,null,null,null,null,null,"Fecha Vencimiento R. L:",null,null,null,{"$f":"+NOVIEMBRE!U42","v":" "}]
[null,"VIGENCIA ACTUAL","Valor Inicial del CTO: \n(Aporte ICBF)",null,null,null,{"$f":"+NOVIEMBRE!G43","v":0},null,null,null,null,null,null,null,null,null,"Valor Aportes EAS:",null,null,null,{"$f":"+NOVIEMBRE!U43","v":0}]
[null,null,"Adiciones al CTO:",null,null,null,{"$f":"+NOVIEMBRE!G44","v":0},null,null,null,null,null,null,null,null,null,"Adiciones Aportes EAS:",null,null,null,{"$f":"+NOVIEMBRE!U44","v":0}]
[null,null,"Reducciones al CTO",null,null,null,{"$f":"+NOVIEMBRE!G45","v":0},null,null,null,null,null,null,null,null,null,"Total Aportes EAS:",null,null,null,{"$f":"+U44+U43","v":0}]
[null,null,"VALOR APORTE ICBF",null,null,null,{"$f":"+(G43+G44)-G45","v":0},null,null,null,null,null,null,null,null,null,"Valor Actual del CTO:",null,null,null,{"$f":"+G43+U43+G44+U44-G45","v":0}]
[null,null,"VIGENCIA",null,null,null,"APORTE ICBF",null,null,"APORTE EAS",null,null,"Adiciones al contrato",null,null,null,"Reducciones al contrato",null,null,null,"Valor final del contrato"]
[null,null,null,null,null,null,null,null,null,null,null,null,"ICBF",null,"EAS",null,"ICBF",null,"EAS",null,"ICBF",null,"EAS",null,"TOTAL"]
[null,null,{"$f":"+NOVIEMBRE!C49","v":2020},null,null,null,{"$f":"+NOVIEMBRE!G49","v":0},null,null,{"$f":"+NOVIEMBRE!J49","v":0},null,null,{"$f":"+NOVIEMBRE!M49","v":0},null,{"$f":"+NOVIEMBRE!O49","v":0},null,{"$f":"+NOVIEMBRE!Q49","v":0},null,{"$f":"+NOVIEMBRE!S49","v":0},null,{"$f":"+G49+M49-Q49","v":0},null,{"$f":"+J49+O49-S49","v":0},null,{"$f":"+U49+W49","v":0}]
[null,null,{"$f":"+NOVIEMBRE!C50","v":2021},null,null,null,{"$f":"+NOVIEMBRE!G50","v":0},null,null,{"$f":"+NOVIEMBRE!J50","v":0},null,null,{"$f":"+NOVIEMBRE!M50","v":0},null,{"$f":"+NOVIEMBRE!O50","v":0},null,{"$f":"+NOVIEMBRE!Q50","v":0},null,{"$f":"+NOVIEMBRE!S50","v":0},null,{"$f":"+G50+M50-Q50","v":0},null,{"$f":"+J50+O50-S50","v":0},null,{"$f":"+U50+W50","v":0}]
[null,null,{"$f":"+NOVIEMBRE!C51","v":2022},null,null,null,{"$f":"+NOVIEMBRE!G51","v":0},null,null,{"$f":"+NOVIEMBRE!J51","v":0},null,null,{"$f":"+NOVIEMBRE!M51","v":0},null,{"$f":"+NOVIEMBRE!O51","v":0},null,{"$f":"+NOVIEMBRE!Q51","v":0},null,{"$f":"+NOVIEMBRE!S51","v":0},null,0,null,0,null,0]
[null,null,"TOTAL",null,null,null,{"$f":"SUM(G49:I51)","v":0},null,null,{"$f":"SUM(J49:L51)","v":0},null,null,{"$f":"SUM(M49:N51)","v":0},null,{"$f":"SUM(O49:P51)","v":0},null,{"$f":"SUM(Q49:R51)","v":0},null,{"$f":"SUM(S49:T51)","v":0},null,{"$f":"SUM(U49:V51)","v":0},null,{"$f":"SUM(W49:X51)","v":0},null,{"$f":"+Y51+Y50+Y49","v":0}]
[null,null,"La entidad presenta informe financiero mensual ante el ICBF como sigue:",null,null,null,null,null,null,null,null,null,null,null,null,null,"Presenta los documentos soportes que acompañan el informe financiero y se entrega al ICBF copia de los mismos en medio:"]
[null,null,"Mes a legalizar:",null,null,null,"DICIEMBRE",null,null,"¿Los documentos aportados permiten realizar la legalización del informe financiero?    ",null,null,null,null,"SI","X"]
[null,null,"Fecha radicación EAS:",null,null,null,"2022-12-10",null,null,null,null,null,null,null,"NO",null,null,null,null,"DIGITAL Y FISICO"]
[null,null,"OBSERVACIONES INFORMACIÓN GENERAL:"]
[]
[null,"3. ","Se verifica  la ejecución de los recursos del contrato de acuerdo a los Informes Financieros presentados por la entidad:"]
[null,null,"SEGUIMIENTO PRESUPUESTAL  Y FINANCIERO DEL CONTRATO"]
[null,null,"MES",null,"PRESUPUESTO APROBADO + REPROGRAMACIONES \n(Aportes ICBF)",null,null,"EJECUCIÓN",null,null,"SALDO SIN EJECUTAR",null,null,"PROGRAMACIÓN DESEMBOLSOS",null,null,"DESEMBOLSOS GIRADOS",null,null,"DIFERENCIA PROGRAMADO VS PAGADO",null,null,null,"PAGOS REAL. EN EL MES"]
[]
[null,null,"Enero",null,{"$f":"+NOVIEMBRE!E62","v":0},null,null,{"$f":"+NOVIEMBRE!H62","v":0},null,null,{"$f":"+E62-H62","v":0},null,null,{"$f":"+NOVIEMBRE!N62","v":0},null,null,{"$f":"+NOVIEMBRE!Q62","v":0},null,null,{"$f":"+N62-Q62","v":0},null,null,null,{"$f":"+NOVIEMBRE!X62","v":0}]
[null,null,"Febrero",null,{"$f":"+NOVIEMBRE!E63","v":0},null,null,{"$f":"+NOVIEMBRE!H63","v":0},null,null,0,null,null,{"$f":"+NOVIEMBRE!N63","v":0},null,null,{"$f":"+NOVIEMBRE!Q63","v":0},null,null,0,null,null,null,{"$f":"+NOVIEMBRE!X63","v":0}]
[null,null,"Marzo",null,{"$f":"+NOVIEMBRE!E64","v":0},null,null,{"$f":"+NOVIEMBRE!H64","v":0},null,null,0,null,null,{"$f":"+NOVIEMBRE!N64","v":0},null,null,{"$f":"+NOVIEMBRE!Q64","v":0},null,null,0,null,null,null,{"$f":"+NOVIEMBRE!X64","v":0}]
[null,null,"Abril",null,{"$f":"+NOVIEMBRE!E65","v":0},null,null,{"$f":"+NOVIEMBRE!H65","v":0},null,null,0,null,null,{"$f":"+NOVIEMBRE!N65","v":0},null,null,{"$f":"+NOVIEMBRE!Q65","v":0},null,null,0,null,null,null,{"$f":"+NOVIEMBRE!X65","v":0}]
[null,null,"Mayo",null,{"$f":"+NOVIEMBRE!E66","v":0},null,null,{"$f":"+NOVIEMBRE!H66","v":0},null,null,0,null,null,{"$f":"+NOVIEMBRE!N66","v":0},null,null,{"$f":"+NOVIEMBRE!Q66","v":0},null,null,0,null,null,null,{"$f":"+NOVIEMBRE!X66","v":0}]
[null,null,"Junio",null,{"$f":"+NOVIEMBRE!E67","v":0},null,null,{"$f":"+NOVIEMBRE!H67","v":0},null,null,0,null,null,{"$f":"+NOVIEMBRE!N67","v":0},null,null,{"$f":"+NOVIEMBRE!Q67","v":0},null,null,0,null,null,null,{"$f":"+NOVIEMBRE!X67","v":0}]
[null,null,"Julio",null,{"$f":"+NOVIEMBRE!E68","v":0},null,null,{"$f":"+NOVIEMBRE!H68","v":0},null,null,0,null,null,{"$f":"+NOVIEMBRE!N68","v":0},null,null,{"$f":"+NOVIEMBRE!Q68","v":0},null,null,0,null,null,null,{"$f":"+NOVIEMBRE!X68","v":0}]
[null,null,"Agosto",null,{"$f":"+NOVIEMBRE!E69","v":0},null,null,{"$f":"+NOVIEMBRE!H69","v":0},null,null,0,null,null,{"$f":"+NOVIEMBRE!N69","v":0},null,null,{"$f":"+NOVIEMBRE!Q69","v":0},null,null,0,null,null,null,{"$f":"+NOVIEMBRE!X69","v":0}]
[null,null,"Septiembre",null,{"$f":"+NOVIEMBRE!E70","v":0},null,null,{"$f":"+NOVIEMBRE!H70","v":0},null,null,0,null,null,{"$f":"+NOVIEMBRE!N70","v":0},null,null,{"$f":"+NOVIEMBRE!Q70","v":0},null,null,0,null,null,null,{"$f":"+NOVIEMBRE!X70","v":0}]
[null,null,"Octubre",null,{"$f":"+NOVIEMBRE!E71","v":0},null,null,{"$f":"+NOVIEMBRE!H71","v":0},null,null,0,null,null,{"$f":"+NOVIEMBRE!N71","v":0},null,null,{"$f":"+NOVIEMBRE!Q71","v":0},null,null,0,null,null,null,{"$f":"+NOVIEMBRE!X71","v":0}]
[null,null,"Noviembre",null,{"$f":"+NOVIEMBRE!E72","v":0},null,null,{"$f":"+NOVIEMBRE!H72","v":0},null,null,0,null,null,{"$f":"+NOVIEMBRE!N72","v":0},null,null,{"$f":"+NOVIEMBRE!Q72","v":0},null,null,0,null,null,null,{"$f":"+NOVIEMBRE!X72","v":0}]
[null,null,"Diciembre  ",null,{"$f":"+NOVIEMBRE!E73","v":0},null,null,0,null,null,0,null,null,{"$f":"+NOVIEMBRE!N73","v":0},null,null,0,null,null,0,null,null,null,0]
[null,null,"TOTAL  ",null,{"$f":"SUM(E62:G73)","v":0},null,null,{"$f":"SUM(H62:J73)","v":0},null,null,{"$f":"SUM(K62:M73)","v":0},null,null,{"$f":"SUM(N62:P73)","v":0},null,null,{"$f":"SUM(Q62:S73)","v":0},null,null,{"$f":"SUM(T62:W73)","v":0},null,null,null,{"$f":"SUM(X62:Z73)","v":0}]
[null,"Antes de imprimir este documento… piense en el medio ambiente!    \nCualquier copia impresa de este documento se considera como COPIA NO CONTROLADA\nLOS DATOS PROPORCIONADOS SERÁN TRATADOS DE ACUERDO A LA POLÌTICA DE TRATAMIENTO DE DATOS PERSONALES DEL ICBF Y A LA LEY 1581 DE 2012 "]
[null,null,null,null,null,"PROCESO\nPROMOCION Y PREVENCIÓN\n\nFORMATO ACTA LEGALIZACIÓN DE CUENTAS\n",null,null,null,null,null,null,null,null,"F1.A8.MO12.PP",null,null,null,null,null,"2022-02-02"]
[null,null,null,null,null,null,null,null,null,null,null,null,null,null,"Versión 3",null,null,null,null,null,"Página 2 de 3"]
[]
[null,null,null,null,null,null,null,null,null,null,null,null,null,null,"Clasificación de la Información:\nPública"]
[]
[null,null,"OBSERVACIONES SEGUIMIENTO PRESUPUESTAL  Y FINANCIERO DEL CONTRATO: "]
[]
[null,null,"SEGUIMIENTO A INEJECUCIONES Y LIBERACIONES"]
[null,null,"MES",null,"AHORROS",null,null,"INEJECUCIONES",null,null,"SEGUIMIENTO DE INEJECUCIONES",null,null,"REDISTRIBUCIÓN DE \nAHORROS",null,null,"REINVERSIÓN DE \nINEJECUCIONES",null,null,"LIBERACIONES/REINTEGROS T.N \n(Tramitadas)",null,null,"LIBERACIONES PENDIENTES POR  REALIZAR"]
[null,null,"Inejecución\n inicial",null,{"$f":"+NOVIEMBRE!E85","v":0},null,null,{"$f":"+NOVIEMBRE!H85","v":0},null,null,{"$f":"+G46-E74","v":0},null,null,{"$f":"+NOVIEMBRE!N85","v":0},null,null,{"$f":"+NOVIEMBRE!Q85","v":0},null,null,{"$f":"+NOVIEMBRE!T85","v":0},null,null,{"$f":"IFERROR(+K85,0)","v":0}]
[]
[null,null,"Enero",null,{"$f":"+NOVIEMBRE!E87","v":0},null,null,{"$f":"+NOVIEMBRE!H87","v":0},null,null,{"$f":"+H87+E87","v":0},null,null,{"$f":"+NOVIEMBRE!N87","v":0},null,null,{"$f":"+NOVIEMBRE!Q87","v":0},null,null,{"$f":"+NOVIEMBRE!T87","v":0},null,null,{"$f":"+W85+K87-(N87+Q87+T87)","v":0}]
[null,null,"Febrero",null,{"$f":"+NOVIEMBRE!E88","v":0},null,null,{"$f":"+NOVIEMBRE!H88","v":0},null,null,0,null,null,{"$f":"+NOVIEMBRE!N88","v":0},null,null,{"$f":"+NOVIEMBRE!Q88","v":0},null,null,{"$f":"+NOVIEMBRE!T88","v":0},null,null,{"$f":"+W87+K88-(N88+Q88+T88)","v":0}]
[null,null,"Marzo",null,{"$f":"+NOVIEMBRE!E89","v":0},null,null,{"$f":"+NOVIEMBRE!H89","v":0},null,null,0,null,null,{"$f":"+NOVIEMBRE!N89","v":0},null,null,{"$f":"+NOVIEMBRE!Q89","v":0},null,null,{"$f":"+NOVIEMBRE!T89","v":0},null,null,0]
[null,null,"Abril",null,{"$f":"+NOVIEMBRE!E90","v":0},null,null,{"$f":"+NOVIEMBRE!H90","v":0},null,null,0,null,null,{"$f":"+NOVIEMBRE!N90","v":0},null,null,{"$f":"+NOVIEMBRE!Q90","v":0},null,null,{"$f":"+NOVIEMBRE!T90","v":0},null,null,0]
[null,null,"Mayo",null,{"$f":"+NOVIEMBRE!E91","v":0},null,null,{"$f":"+NOVIEMBRE!H91","v":0},null,null,0,null,null,{"$f":"+NOVIEMBRE!N91","v":0},null,null,{"$f":"+NOVIEMBRE!Q91","v":0},null,null,{"$f":"+NOVIEMBRE!T91","v":0},null,null,0]
[null,null,"Junio",null,{"$f":"+NOVIEMBRE!E92","v":0},null,null,{"$f":"+NOVIEMBRE!H92","v":0},null,null,0,null,null,{"$f":"+NOVIEMBRE!N92","v":0},null,null,{"$f":"+NOVIEMBRE!Q92","v":0},null,null,{"$f":"+NOVIEMBRE!T92","v":0},null,null,0]
[null,null,"Julio",null,{"$f":"+NOVIEMBRE!E93","v":0},null,null,{"$f":"+NOVIEMBRE!H93","v":0},null,null,0,null,null,{"$f":"+NOVIEMBRE!N93","v":0},null,null,{"$f":"+NOVIEMBRE!Q93","v":0},null,null,{"$f":"+NOVIEMBRE!T93","v":0},null,null,0]
[null,null,"Agosto",null,{"$f":"+NOVIEMBRE!E94","v":0},null,null,{"$f":"+NOVIEMBRE!H94","v":0},null,null,0,null,null,{"$f":"+NOVIEMBRE!N94","v":0},null,null,{"$f":"+NOVIEMBRE!Q94","v":0},null,null,{"$f":"+NOVIEMBRE!T94","v":0},null,null,0]
[null,null,"Septiembre",null,{"$f":"+NOVIEMBRE!E95","v":0},null,null,{"$f":"+NOVIEMBRE!H95","v":0},null,null,0,null,null,{"$f":"+NOVIEMBRE!N95","v":0},null,null,{"$f":"+NOVIEMBRE!Q95","v":0},null,null,{"$f":"+NOVIEMBRE!T95","v":0},null,null,0]
[null,null,"Octubre",null,{"$f":"+NOVIEMBRE!E96","v":0},null,null,{"$f":"+NOVIEMBRE!H96","v":0},null,null,0,null,null,{"$f":"+NOVIEMBRE!N96","v":0},null,null,{"$f":"+NOVIEMBRE!Q96","v":0},null,null,{"$f":"+NOVIEMBRE!T96","v":0},null,null,0]
[null,null,"Noviembre",null,{"$f":"+NOVIEMBRE!E97","v":0},null,null,{"$f":"+NOVIEMBRE!H97","v":0},null,null,0,null,null,{"$f":"+NOVIEMBRE!N97","v":0},null,null,{"$f":"+NOVIEMBRE!Q97","v":0},null,null,{"$f":"+NOVIEMBRE!T97","v":0},null,null,0]
[null,null,"Diciembre  ",null,0,null,null,0,null,null,{"$f":"+E98+H98","v":0},null,null,0,null,null,0,null,null,0,null,null,0]
[null,null,"TOTAL  ",null,{"$f":"SUM(E87:G98)+E85","v":0},null,null,{"$f":"SUM(H87:J98)+H85","v":0},null,null,{"$f":"SUM(K87:M98)+K85","v":0},null,null,{"$f":"SUM(N87:P98)+N85","v":0},null,null,{"$f":"SUM(Q87:S98)+Q85","v":0},null,null,{"$f":"SUM(T87:V98)+T85","v":0},null,null,{"$f":"+W98","v":0}]
[null,null,"RESUMEN PERIODICO A LA EJECUCIÓN"]
[null,null,"PRESUPUESTO APROBADO",null,null,null,"PRESUPUESTO EJECUTADO",null,null,null,null,"EJECUCION PROYECTADA \nAL PERIODO",null,null,null,null,"AVANCE EJECUCION \nDEL PERIODO",null,null,null,null,"DESVIACIÓN PRESUPUESTAL"]
[null,null,{"$f":"+E74","v":0},null,null,null,{"$f":"+H74","v":0},null,null,null,null,{"$f":"IFERROR((SUMIF(H61:J73,\">=0\",E61:G73))/E74,0)","v":0},null,null,null,null,{"$f":"IFERROR(G102/C102,0)","v":0},null,null,null,null,{"$f":"+Q102-L102","v":0}]
[null,null,"OBSERVACIONES EJECUCIÓN PRESUPUESTO: "]
[]
[null,null,"RESUMEN FINANCIERO DEL PERIODO:"]
[null,null,"SALDO DEL PERIODO ANTERIOR ",null,null,null,null,null,null,null,null,null,null,null,null,null,null,null,null,null,{"$f":"+NOVIEMBRE!U112","v":0}]
[null,null,"TOTAL APORTES GIRADOS EN EL PERIODO",null,null,null,null,null,null,null,null,null,null,null,null,null,null,null,null,null,{"$f":"+Q73","v":0}]
[]
[null,null,"TOTAL APORTES PARA EL PERIODO",null,null,null,null,null,null,null,null,null,null,null,null,null,null,null,null,null,{"$f":"+U107+U106","v":0}]
[null,null,"PAGOS  REALIZADOS POR LA EAS EN EL PERIODO",null,null,null,null,null,null,null,null,null,null,null,null,null,null,null,null,null,{"$f":"+X73","v":0}]
[]
[null,null,"SALDO DE APORTES ICBF PARA EL PERIODO",null,null,null,null,null,null,null,null,null,null,null,null,null,null,null,null,null,{"$f":"+U109-U110","v":0}]
[null,null,"SALDO SEGUN EXTRACTO",null,null,null,null,null,null,null,null,null,null,null,null,null,null,null,null,null,0]
[null,null,"DIFERENCIA SALDO RECURSOS VS SALDO EXTRACTO BANCARIO",null,null,null,null,null,null,null,null,null,null,null,null,null,null,null,null,null,{"$f":"+U113-U112","v":0}]
[null,null,"VALOR CONCILIADO",null,null,null,null,null,null,null,null,null,null,null,null,null,null,null,null,null,0]
[]
[null,null,"VALOR CARGA PRESTACIONAL ACUMULADA",null,null,null,null,null,null,null,null,null,null,null,null,null,null,null,null,null,0]
[null,null,"RENDIMIENTOS FINANCIEROS DEL MES",null,null,null,null,null,null,null,null,null,null,null,null,null,null,null,null,null,0]
[null,null,"RENDIMIENTOS FNANCIEROS ACUMULADOS",null,null,null,null,null,null,null,null,null,null,null,null,null,null,null,null,null,{"$f":"+NOVIEMBRE!U119+(U118-U120)","v":0}]
[null,null,"RENDIMIENTOS FINANCIEROS CONSIGNADOS",null,null,null,null,null,null,null,null,null,null,null,null,null,null,null,null,null,0]
[null,null,"Banco:",null,{"$f":"+NOVIEMBRE!E121","v":"SCOTIABANK COLPATRIA SA"},null,null,null,null,null,null,"Tipo de Cuenta:",null,null,{"$f":"+NOVIEMBRE!O121","v":"Ahorros"},null,null,null,"Nro de Cuenta:",null,null,{"$f":"+NOVIEMBRE!V121","v":0}]
[null,null,"OBSERVACIONES  CONCILIACIÓN:"]
[]
[null,"4.","Seguimiento al uso de los recursos tasas compensatorias (Aplica Solo para HI)"]
[null,null,"MES",null,null,"PRESUPUESTO TASAS COMPENSATORIAS",null,null,"VALOR T.C RECAUDADA POR EL OPERADOR",null,null," EJECUCIÓN CON RECURSOS TASAS COMPENSATORIAS",null,null,null,null,null,"SALDO TASAS COMPENSATORIAS"]
[]
[null,null,"ENERO",null,null,{"$f":"+NOVIEMBRE!F127","v":0},null,null,{"$f":"+NOVIEMBRE!I127","v":0},null,null,{"$f":"+NOVIEMBRE!L127","v":0},null,null,null,null,null,{"$f":"+I127-L127","v":0}]
[null,null,"FEBRERO",null,null,{"$f":"+NOVIEMBRE!F128","v":0},null,null,{"$f":"+NOVIEMBRE!I128","v":0},null,null,{"$f":"+NOVIEMBRE!L128","v":0},null,null,null,null,null,0]
[null,null,"MARZO",null,null,{"$f":"+NOVIEMBRE!F129","v":0},null,null,{"$f":"+NOVIEMBRE!I129","v":0},null,null,{"$f":"+NOVIEMBRE!L129","v":0},null,null,null,null,null,0]
[null,null,"ABRIL",null,null,{"$f":"+NOVIEMBRE!F130","v":0},null,null,{"$f":"+NOVIEMBRE!I130","v":0},null,null,{"$f":"+NOVIEMBRE!L130","v":0},null,null,null,null,null,0]
[null,null,"MAYO",null,null,{"$f":"+NOVIEMBRE!F131","v":0},null,null,{"$f":"+NOVIEMBRE!I131","v":0},null,null,{"$f":"+NOVIEMBRE!L131","v":0},null,null,null,null,null,0]
[null,null,"JUNIO",null,null,{"$f":"+NOVIEMBRE!F132","v":0},null,null,{"$f":"+NOVIEMBRE!I132","v":0},null,null,{"$f":"+NOVIEMBRE!L132","v":0},null,null,null,null,null,0]
[null,null,"JULIO",null,null,{"$f":"+NOVIEMBRE!F133","v":0},null,null,{"$f":"+NOVIEMBRE!I133","v":0},null,null,{"$f":"+NOVIEMBRE!L133","v":0},null,null,null,null,null,0]
[null,null,"AGOSTO",null,null,{"$f":"+NOVIEMBRE!F134","v":0},null,null,{"$f":"+NOVIEMBRE!I134","v":0},null,null,{"$f":"+NOVIEMBRE!L134","v":0},null,null,null,null,null,0]
[null,null,"SEPTIEMBRE",null,null,{"$f":"+NOVIEMBRE!F135","v":0},null,null,{"$f":"+NOVIEMBRE!I135","v":0},null,null,{"$f":"+NOVIEMBRE!L135","v":0},null,null,null,null,null,0]
[null,null,"OCTUBRE",null,null,{"$f":"+NOVIEMBRE!F136","v":0},null,null,{"$f":"+NOVIEMBRE!I136","v":0},null,null,{"$f":"+NOVIEMBRE!L136","v":0},null,null,null,null,null,0]
[null,null,"NOVIEMBRE",null,null,{"$f":"+NOVIEMBRE!F137","v":0},null,null,{"$f":"+NOVIEMBRE!I137","v":0},null,null,{"$f":"+NOVIEMBRE!L137","v":0},null,null,null,null,null,0]
[null,null,"DICIEMBRE",null,null,{"$f":"+NOVIEMBRE!F138","v":0},null,null,0,null,null,0,null,null,0,null,null,0]
[null,null,"Total",null,null,{"$f":"SUM(F127:H138)","v":0},null,null,{"$f":"SUM(I127:K138)","v":0},null,null,{"$f":"SUM(L127:Q138)","v":0},null,null,null,null,null,{"$f":"SUM(R127:Z138)","v":0}]
[null,null,"OBSERVACIONES TASAS COMPENSATORIAS:"]
[]
[null,"Antes de imprimir este documento… piense en el medio ambiente!    \nCualquier copia impresa de este documento se considera como COPIA NO CONTROLADA\nLOS DATOS PROPORCIONADOS SERÁN TRATADOS DE ACUERDO A LA POLÌTICA DE TRATAMIENTO DE DATOS PERSONALES DEL ICBF Y A LA LEY 1581 DE 2012 "]
[null,null,null,null,null,"PROCESO\nPROMOCION Y PREVENCIÓN\n\nFORMATO ACTA LEGALIZACIÓN DE CUENTAS\n",null,null,null,null,null,null,null,null,"F1.A8.MO12.PP",null,null,null,null,null,"2022-02-02"]
[null,null,null,null,null,null,null,null,null,null,null,null,null,null,"Versión 3",null,null,null,null,null,"Página 3 de 3"]
[]
[null,null,null,null,null,null,null,null,null,null,null,null,null,null,"Clasificación de la Información:\nPública"]
[]
[null,"5. ","Se Verifica que los valores por inejecuciones corresponde a los siguientes conceptos:"]
[null,null,"CONCEPTO DE DESCUENTO",null,null," Cupos CONTRATADOS",null," Cupos\nATENDIDOS ",null," NO ATENDIDOS ",null,"VALOR DESCUENTO POR INEJECUCIÓN",null,null,"FUENTE DE CONSULTA",null,null,"VALOR DESCUENTO \nTEMPORAL",null,null,"REINTEGRO DEL DESCUENTO TEMPORAL",null,null,"Saldo de Descuentos Temporales"]
[null,null,"BAJA COBERTURA",null,null,{"$f":"+X30","v":0},null,0,null,{"$f":"+F150-H150","v":0},null,0,null,null,"NO APLICA",null,null,0,null,null,0,null,null,{"$f":"+(R150-U150)+NOVIEMBRE!X150","v":0}]
[null,null,"INASISTENCIA",null,null,null,null,null,null,null,null,0,null,null,"NO APLICA"]
[null,null,"NO PRESTACION DEL SERVICIO",null,null,null,null,null,null,null,null,0,null,null,"NO APLICA"]
[]
[null,null,"CUENTAME",null,null,null,null,null,null,null,null,0,null,null,"NO APLICA"]
[null,null,"TALENTO HUMANO NO CONTRATADO",null,null,null,null,null,null,null,null,0,null,null,"NO APLICA"]
[null,null,"OTRO\n (Se Especifica en Observaciones)",null,null,null,null,null,null,null,null,0,null,null,"NO APLICA"]
[]
[]
[null,null,"TOTAL DESCUENTO",null,null,null,null,null,null,null,null,{"$f":"SUM(L150:N158)","v":0}]
[null,null,"OBSERVACIONES DESCUENTOS:"]
[]
[null,"6. ","Ejecución Aportes EAS."]
[null,null,"MES",null,null,"PRESUPUESTO",null,null,"EJECUCIÓN",null,null,"SALDO APORTES EAS",null,null,null,null,null,"OBSERVACIONES APOTES EAS"]
[]
[null,null,"ENERO",null,null,{"$f":"+NOVIEMBRE!F165","v":0},null,null,{"$f":"+NOVIEMBRE!I165","v":0},null,null,{"$f":"+F165-I165","v":0}]
[null,null,"FEBRERO",null,null,{"$f":"+NOVIEMBRE!F166","v":0},null,null,{"$f":"+NOVIEMBRE!I166","v":0},null,null,0]
[null,null,"MARZO",null,null,{"$f":"+NOVIEMBRE!F167","v":0},null,null,{"$f":"+NOVIEMBRE!I167","v":0},null,null,0]
[null,null,"ABRIL",null,null,{"$f":"+NOVIEMBRE!F168","v":0},null,null,{"$f":"+NOVIEMBRE!I168","v":0},null,null,0]
[null,null,"MAYO",null,null,{"$f":"+NOVIEMBRE!F169","v":0},null,null,{"$f":"+NOVIEMBRE!I169","v":0},null,null,0]
[null,null,"JUNIO",null,null,{"$f":"+NOVIEMBRE!F170","v":0},null,null,{"$f":"+NOVIEMBRE!I170","v":0},null,null,0]
[null,null,"JULIO",null,null,{"$f":"+NOVIEMBRE!F171","v":0},null,null,{"$f":"+NOVIEMBRE!I171","v":0},null,null,0]
[null,null,"AGOSTO",null,null,{"$f":"+NOVIEMBRE!F172","v":0},null,null,{"$f":"+NOVIEMBRE!I172","v":0},null,null,0]
[null,null,"SEPTIEMBRE",null,null,{"$f":"+NOVIEMBRE!F173","v":0},null,null,{"$f":"+NOVIEMBRE!I173","v":0},null,null,0]
[null,null,"OCTUBRE",null,null,{"$f":"+NOVIEMBRE!F174","v":0},null,null,{"$f":"+NOVIEMBRE!I174","v":0},null,null,0]
[null,null,"NOVIEMBRE",null,null,{"$f":"+NOVIEMBRE!F175","v":0},null,null,{"$f":"+NOVIEMBRE!I175","v":0},null,null,0]
[null,null,"DICIEMBRE",null,null,{"$f":"+NOVIEMBRE!F176","v":0},null,null,0,null,null,0]
[null,null,"Total",null,null,{"$f":"SUM(F165:H176)","v":0},null,null,{"$f":"SUM(I165:K176)","v":0},null,null,{"$f":"SUM(L165:Q176)","v":0}]
[]
[null,"7. ","Observaciones Generales."]
[]
[]
[]
[]
[]
[]
[]
[null,"8."," Recomendaciones. (Preste la asesoría necesaria para que se superen las dificultades identificadas y se mantengan las fortalezas detectadas)  "]
[]
[]
[]
[]
[]
[]
[]
[null,"9.","Cierre."]
[null,null,"Compromisos / tareas",null,null,null,null,null,null,null,"Responsables",null,null,null,null,null,null,null,null,"Fechas"]
[]
[]
[]
[null,null,"**Las siguientes personas que firman  dan constancia que han revisado y estan de acuerdo con cada uno de los items de la presente acta y que  este ejercicio de legalización de cuentas se ha realizado conforme a los lineamientos, guias de supervisión, manuales operativos y minutas contractuales establecidas por el ICBF."]
[null," ","FIRMA ASISTENTESFIRMA RESPONSABLES ICBF Y ENTIDAD ADMINISTRADORA"]
[null,null,"Nombre",null,null,null,null,"Cargo / Dependencia",null,null,null,null,null,null,"EMAIL",null,null,null,null,null,"Firma"]
[null,null,{"$f":"+G37","v":" "},null,null,null,null,"SUPERVISOR(A) DEL CONTRATO ICBF",null,null,null,null,null,null,"@icbf.gov.co"]
[null,null,{"$f":"+U37","v":" "},null,null,null,null,"APOYO FINANCIERO ICBF",null,null,null,null,null,null,"@icbf.gov.co"]
[null,null,{"$f":"+G40","v":0},null,null,null,null,"REPRESENTANTE LEGAL EAS",null,null,null,null,null,null,{"$f":"+G41","v":0}]
[null,null,{"$f":"+NOVIEMBRE!C206","v":0},null,null,null,null,{"$f":"+NOVIEMBRE!H206","v":0},null,null,null,null,null,null,{"$f":"+NOVIEMBRE!O206","v":0}]
[null,null,{"$f":"+NOVIEMBRE!C207","v":0},null,null,null,null,{"$f":"+NOVIEMBRE!H207","v":0},null,null,null,null,null,null,{"$f":"+NOVIEMBRE!O207","v":0}]
[null,"Antes de imprimir este documento… piense en el medio ambiente!    \nCualquier copia impresa de este documento se considera como COPIA NO CONTROLADA\nLOS DATOS PROPORCIONADOS SERÁN TRATADOS DE ACUERDO A LA POLÌTICA DE TRATAMIENTO DE DATOS PERSONALES DEL ICBF Y A LA LEY 1581 DE 2012 "]
[]
[null,"* Escanear esta Acta debidamente Firmada y colocarla en la ruta especificada por la DPI"]
[]
["RECOMEDACIONES DE USO DE ESTE ARCHIVO:"]
["1. HABILITE MACROS : ARCHIVO > CENTRO DE CONFIANZA> CONFIGURACION DEL CENTRO DE CONFIANZA > CONFIGURACION DE MACROS > HABILITAR TODAS LAS MACROS > CONFIAR EN EL ACCESO AL MODELO DE OBJETO DE PROYECTOS VBA > ACEPTAR"]
["2. DESHABILITE VISTA PROTEGIDA: ARCHIVO> CENTRO DE CONFIANZA> CONFIGURACION DEL CENTRO DE CONFIANZA > VISTA PROTEGIDA> DESMARCAR LAS TRES OPCIONES >ACEPTAR"]
["3. HABILITAR UBICACIONES DE RED: ARCHIVO> CENTRO DE CONFIANZA> CONFIGURACION DEL CENTRO DE CONFIANZA > UBICACIONES DE CONFIANZA > MARCAR PERMITIR UBICACIONES DE CONFIANZA QUE ESTEN EN LA RED > ACEPTAR "]
["4. HABILITAR DOCUMENTOS DE CONFIANZA: ARCHIVO> CENTRO DE CONFIANZA> CONFIGURACION DEL CENTRO DE CONFIANZA > DOCUMENTOS DE CONFIANZA > MARCAR PERMITIR QUE SEAN DE CONFIANZA LOS DOCUMENTOS DE UNA RED"]

{"sheet":"Hoja_Aux_Observaciones","index":14,"n_rows":70,"n_cols":21,"rows_kept":70,"cut":false,"hidden":true,"merged":[[68,1,68,26],[69,1,69,26],[6,1,6,26],[0,1,5,4],[0,5,5,13],[0,14,1,19],[0,20,1,26],[2,14,3,19],[2,20,3,26],[4,14,5,26],[63,1,65,26],[7,1,62,26]]}
[null,null,null,null,null,"PROCESO\nPROMOCION Y PREVENCIÓN\n\nFORMATO ACTA DE LEGALIZACIÓN DE CUENTAS\n",null,null,null,null,null,null,null,null,"F1.A8.MO12.PP",null,null,null,null,null,"2022-02-02"]
[]
[null,null,null,null,null,null,null,null,null,null,null,null,null,null,"Versión 3",null,null,null,null,null,"Página 1 de 1"]
[]
[null,null,null,null,null,null,null,null,null,null,null,null,null,null,"Clasificación de la Información:\nPública"]
[]
[null,"HOJA AUXILIAR DE OBSERVACIONES\n"]
[null,"CUANDO LLEGUE AL FINAL DE CADA LINEA UTILICE (ALT + ENTER) PARA SALTAR AL SIGUIENTE RENGLON\n"]
[]
[]
[]
[]
[]
[]
[]
[]
[]
[]
[]
[]
[]
[]
[]
[]
[]
[]
[]
[]
[]
[]
[]
[]
[]
[]
[]
[]
[]
[]
[]
[]
[]
[]
[]
[]
[]
[]
[]
[]
[]
[]
[]
[]
[]
[]
[]
[]
[]
[]
[]
[]
[]
[]
[]
[null,"Antes de imprimir este documento… piense en el medio ambiente!    \nCualquier copia impresa de este documento se considera como COPIA NO CONTROLADA\nLOS DATOS PROPORCIONADOS SERÁN TRATADOS DE ACUERDO A LA POLÌTICA DE TRATAMIENTO DE DATOS PERSONALES DEL ICBF Y A LA LEY 1581 DE 2012 "]
[]
[]
[]
[]
[null,"* Adjuntar a esta Acta el Informe Financiero con todas sus hojas correspondientes debidamente diligenciado, entregado y Firmado por la EAS."]
[null,"* Escanear esta Acta debidamente Firmada,asi como los formatos de informe financiero y soportes que la sustentan y colocarla en la ruta especificada por la DPI"]