{"text_format":"1","workbook":"xlsx","n_sheets":2,"sheets":["ENCUENTROS","PARAMETROS"],"not_rendered":{"charts":0,"images":2,"macros":0,"external_links":0,"defined_names":19,"comments":0,"pivot_tables":0},"unopened":[],"bounds":{"document_bytes":16777216,"sheet_cells":100000,"rows_first":2000,"rows_last":500,"rows_between":2000,"halvings":0,"cell_chars":16384,"cell_head_chars":4096},"cells_cut":0,"cells_raw":0,"read":"whole","date_system":"1900"}

{"sheet":"ENCUENTROS","index":0,"n_rows":3975,"n_cols":18,"rows_kept":3975,"cut":false,"hidden":false,"merged":[]}
[]
[]
[]
[]
[]
[]
[]
[]
[]
[]
[]
[]
[]
["REGIONAL ","CÓDIGO REGIONAL","NOMBRE CENTRO ZONAL","CÓDIGO CENTRO ZONAL","MUNICIPIO DE ATENCIÓN","CÓDIGO \nMUNICIPIO","CODIGO UDS"," UDS","RESPONSABLE DEL ENCUENTRO","FECHA DEL ENCUENTRO DD/MM/AAAA","ESTRATEGIA DE ATENCIÓN/ TIPO DE ENCUENTRO","COMPONENTE PRINCIPAL","OTRO COMPONENTE","CICLO","ÉNFASIS","INTENCIONALIDAD","TIEMPO DE EXPERIENCIA","RESPONSABLE DE ACTIVIDAD"]
[null,{"$f":"IF(A15=\"\",\"\",VLOOKUP(A15,PARAMETROS!$B$3:$C$3,2,FALSE))","v":""},null,{"$f":"IF(C15=\"\",\"\",VLOOKUP(C15,PARAMETROS!$G$3:$H$21,2,FALSE))","v":""},null,{"$f":"IF(E15=\"\",\"\",VLOOKUP(E15,PARAMETROS!$I$3:$J$21,2,FALSE))","v":""},null,null,null,null,null,null,{"$f":"IF(L15=\"\", \"\", L15)","v":""}]
[null,{"$f":"IF(A16=\"\",\"\",VLOOKUP(A16,PARAMETROS!$B$3:$C$3,2,FALSE))","v":""},null,{"$f":"IF(C16=\"\",\"\",VLOOKUP(C16,PARAMETROS!$G$3:$H$21,2,FALSE))","v":""},null,{"$f":"IF(E16=\"\",\"\",VLOOKUP(E16,PARAMETROS!$I$3:$J$21,2,FALSE))","v":""},null,null,null,null,null,null,""]
[null,{"$f":"IF(A17=\"\",\"\",VLOOKUP(A17,PARAMETROS!$B$3:$C$3,2,FALSE))","v":""},null,{"$f":"IF(C17=\"\",\"\",VLOOKUP(C17,PARAMETROS!$G$3:$H$21,2,FALSE))","v":""},null,{"$f":"IF(E17=\"\",\"\",VLOOKUP(E17,PARAMETROS!$I$3:$J$21,2,FALSE))","v":""},null,null,null,null,null,null,""]
[null,{"$f":"IF(A18=\"\",\"\",VLOOKUP(A18,PARAMETROS!$B$3:$C$3,2,FALSE))","v":""},null,{"$f":"IF(C18=\"\",\"\",VLOOKUP(C18,PARAMETROS!$G$3:$H$21,2,FALSE))","v":""},null,{"$f":"IF(E18=\"\",\"\",VLOOKUP(E18,PARAMETROS!$I$3:$J$21,2,FALSE))","v":""},null,null,null,null,null,null,""]
[null,{"$f":"IF(A19=\"\",\"\",VLOOKUP(A19,PARAMETROS!$B$3:$C$3,2,FALSE))","v":""},null,{"$f":"IF(C19=\"\",\"\",VLOOKUP(C19,PARAMETROS!$G$3:$H$21,2,FALSE))","v":""},null,{"$f":"IF(E19=\"\",\"\",VLOOKUP(E19,PARAMETROS!$I$3:$J$21,2,FALSE))","v":""},null,null,null,null,null,null,""]
[null,{"$f":"IF(A20=\"\",\"\",VLOOKUP(A20,PARAMETROS!$B$3:$C$3,2,FALSE))","v":""},null,{"$f":"IF(C20=\"\",\"\",VLOOKUP(C20,PARAMETROS!$G$3:$H$21,2,FALSE))","v":""},null,{"$f":"IF(E20=\"\",\"\",VLOOKUP(E20,PARAMETROS!$I$3:$J$21,2,FALSE))","v":""},null,null,null,null,null,null,""]
[null,{"$f":"IF(A21=\"\",\"\",VLOOKUP(A21,PARAMETROS!$B$3:$C$3,2,FALSE))","v":""},null,{"$f":"IF(C21=\"\",\"\",VLOOKUP(C21,PARAMETROS!$G$3:$H$21,2,FALSE))","v":""},null,{"$f":"IF(E21=\"\",\"\",VLOOKUP(E21,PARAMETROS!$I$3:$J$21,2,FALSE))","v":""},null,null,null,null,null,null,""]
[null,{"$f":"IF(A22=\"\",\"\",VLOOKUP(A22,PARAMETROS!$B$3:$C$3,2,FALSE))","v":""},null,{"$f":"IF(C22=\"\",\"\",VLOOKUP(C22,PARAMETROS!$G$3:$H$21,2,FALSE))","v":""},null,{"$f":"IF(E22=\"\",\"\",VLOOKUP(E22,PARAMETROS!$I$3:$J$21,2,FALSE))","v":""},null,null,null,null,null,null,""]
[null,{"$f":"IF(A23=\"\",\"\",VLOOKUP(A23,PARAMETROS!$B$3:$C$3,2,FALSE))","v":""},null,{"$f":"IF(C23=\"\",\"\",VLOOKUP(C23,PARAMETROS!$G$3:$H$21,2,FALSE))","v":""},null,{"$f":"IF(E23=\"\",\"\",VLOOKUP(E23,PARAMETROS!$I$3:$J$21,2,FALSE))","v":""},null,null,null,null,null,null,""]
[null,{"$f":"IF(A24=\"\",\"\",VLOOKUP(A24,PARAMETROS!$B$3:$C$3,2,FALSE))","v":""},null,{"$f":"IF(C24=\"\",\"\",VLOOKUP(C24,PARAMETROS!$G$3:$H$21,2,FALSE))","v":""},null,{"$f":"IF(E24=\"\",\"\",VLOOKUP(E24,PARAMETROS!$I$3:$J$21,2,FALSE))","v":""},null,null,null,null,null,null,""]
[null,{"$f":"IF(A25=\"\",\"\",VLOOKUP(A25,PARAMETROS!$B$3:$C$3,2,FALSE))","v":""},null,{"$f":"IF(C25=\"\",\"\",VLOOKUP(C25,PARAMETROS!$G$3:$H$21,2,FALSE))","v":""},null,{"$f":"IF(E25=\"\",\"\",VLOOKUP(E25,PARAMETROS!$I$3:$J$21,2,FALSE))","v":""},null,null,null,null,null,null,""]
[null,{"$f":"IF(A26=\"\",\"\",VLOOKUP(A26,PARAMETROS!$B$3:$C$3,2,FALSE))","v":""},null,{"$f":"IF(C26=\"\",\"\",VLOOKUP(C26,PARAMETROS!$G$3:$H$21,2,FALSE))","v":""},null,{"$f":"IF(E26=\"\",\"\",VLOOKUP(E26,PARAMETROS!$I$3:$J$21,2,FALSE))","v":""},null,null,null,null,null,null,""]
[null,{"$f":"IF(A27=\"\",\"\",VLOOKUP(A27,PARAMETROS!$B$3:$C$3,2,FALSE))","v":""},null,{"$f":"IF(C27=\"\",\"\",VLOOKUP(C27,PARAMETROS!$G$3:$H$21,2,FALSE))","v":""},null,{"$f":"IF(E27=\"\",\"\",VLOOKUP(E27,PARAMETROS!$I$3:$J$21,2,FALSE))","v":""},null,null,null,null,null,null,""]
[null,{"$f":"IF(A28=\"\",\"\",VLOOKUP(A28,PARAMETROS!$B$3:$C$3,2,FALSE))","v":""},null,{"$f":"IF(C28=\"\",\"\",VLOOKUP(C28,PARAMETROS!$G$3:$H$21,2,FALSE))","v":""},null,{"$f":"IF(E28=\"\",\"\",VLOOKUP(E28,PARAMETROS!$I$3:$J$21,2,FALSE))","v":""},null,null,null,null,null,null,""]
[null,{"$f":"IF(A29=\"\",\"\",VLOOKUP(A29,PARAMETROS!$B$3:$C$3,2,FALSE))","v":""},null,{"$f":"IF(C29=\"\",\"\",VLOOKUP(C29,PARAMETROS!$G$3:$H$21,2,FALSE))","v":""},null,{"$f":"IF(E29=\"\",\"\",VLOOKUP(E29,PARAMETROS!$I$3:$J$21,2,FALSE))","v":""},null,null,null,null,null,null,""]
[null,{"$f":"IF(A30=\"\",\"\",VLOOKUP(A30,PARAMETROS!$B$3:$C$3,2,FALSE))","v":""},null,{"$f":"IF(C30=\"\",\"\",VLOOKUP(C30,PARAMETROS!$G$3:$H$21,2,FALSE))","v":""},null,{"$f":"IF(E30=\"\",\"\",VLOOKUP(E30,PARAMETROS!$I$3:$J$21,2,FALSE))","v":""},null,null,null,null,null,null,""]
[null,{"$f":"IF(A31=\"\",\"\",VLOOKUP(A31,PARAMETROS!$B$3:$C$3,2,FALSE))","v":""},null,{"$f":"IF(C31=\"\",\"\",VLOOKUP(C31,PARAMETROS!$G$3:$H$21,2,FALSE))","v":""},null,{"$f":"IF(E31=\"\",\"\",VLOOKUP(E31,PARAMETROS!$I$3:$J$21,2,FALSE))","v":""},null,null,null,null,null,null,""]
[null,{"$f":"IF(A32=\"\",\"\",VLOOKUP(A32,PARAMETROS!$B$3:$C$3,2,FALSE))","v":""},null,{"$f":"IF(C32=\"\",\"\",VLOOKUP(C32,PARAMETROS!$G$3:$H$21,2,FALSE))","v":""},null,{"$f":"IF(E32=\"\",\"\",VLOOKUP(E32,PARAMETROS!$I$3:$J$21,2,FALSE))","v":""},null,null,null,null,null,null,""]
[null,{"$f":"IF(A33=\"\",\"\",VLOOKUP(A33,PARAMETROS!$B$3:$C$3,2,FALSE))","v":""},null,{"$f":"IF(C33=\"\",\"\",VLOOKUP(C33,PARAMETROS!$G$3:$H$21,2,FALSE))","v":""},null,{"$f":"IF(E33=\"\",\"\",VLOOKUP(E33,PARAMETROS!$I$3:$J$21,2,FALSE))","v":""},null,null,null,null,null,null,""]
[null,{"$f":"IF(A34=\"\",\"\",VLOOKUP(A34,PARAMETROS!$B$3:$C$3,2,FALSE))","v":""},null,{"$f":"IF(C34=\"\",\"\",VLOOKUP(C34,PARAMETROS!$G$3:$H$21,2,FALSE))","v":""},null,{"$f":"IF(E34=\"\",\"\",VLOOKUP(E34,PARAMETROS!$I$3:$J$21,2,FALSE))","v":""},null,null,null,null,null,null,""]
[null,{"$f":"IF(A35=\"\",\"\",VLOOKUP(A35,PARAMETROS!$B$3:$C$3,2,FALSE))","v":""},null,{"$f":"IF(C35=\"\",\"\",VLOOKUP(C35,PARAMETROS!$G$3:$H$21,2,FALSE))","v":""},null,{"$f":"IF(E35=\"\",\"\",VLOOKUP(E35,PARAMETROS!$I$3:$J$21,2,FALSE))","v":""},null,null,null,null,null,null,""]
[null,{"$f":"IF(A36=\"\",\"\",VLOOKUP(A36,PARAMETROS!$B$3:$C$3,2,FALSE))","v":""},null,{"$f":"IF(C36=\"\",\"\",VLOOKUP(C36,PARAMETROS!$G$3:$H$21,2,FALSE))","v":""},null,{"$f":"IF(E36=\"\",\"\",VLOOKUP(E36,PARAMETROS!$I$3:$J$21,2,FALSE))","v":""},null,null,null,null,null,null,""]
[null,{"$f":"IF(A37=\"\",\"\",VLOOKUP(A37,PARAMETROS!$B$3:$C$3,2,FALSE))","v":""},null,{"$f":"IF(C37=\"\",\"\",VLOOKUP(C37,PARAMETROS!$G$3:$H$21,2,FALSE))","v":""},null,{"$f":"IF(E37=\"\",\"\",VLOOKUP(E37,PARAMETROS!$I$3:$J$21,2,FALSE))","v":""},null,null,null,null,null,null,""]
[null,{"$f":"IF(A38=\"\",\"\",VLOOKUP(A38,PARAMETROS!$B$3:$C$3,2,FALSE))","v":""},null,{"$f":"IF(C38=\"\",\"\",VLOOKUP(C38,PARAMETROS!$G$3:$H$21,2,FALSE))","v":""},null,{"$f":"IF(E38=\"\",\"\",VLOOKUP(E38,PARAMETROS!$I$3:$J$21,2,FALSE))","v":""},null,null,null,null,null,null,""]
[null,{"$f":"IF(A39=\"\",\"\",VLOOKUP(A39,PARAMETROS!$B$3:$C$3,2,FALSE))","v":""},null,{"$f":"IF(C39=\"\",\"\",VLOOKUP(C39,PARAMETROS!$G$3:$H$21,2,FALSE))","v":""},null,{"$f":"IF(E39=\"\",\"\",VLOOKUP(E39,PARAMETROS!$I$3:$J$21,2,FALSE))","v":""},null,null,null,null,null,null,""]
[null,{"$f":"IF(A40=\"\",\"\",VLOOKUP(A40,PARAMETROS!$B$3:$C$3,2,FALSE))","v":""},null,{"$f":"IF(C40=\"\",\"\",VLOOKUP(C40,PARAMETROS!$G$3:$H$21,2,FALSE))","v":""},null,{"$f":"IF(E40=\"\",\"\",VLOOKUP(E40,PARAMETROS!$I$3:$J$21,2,FALSE))","v":""},null,null,null,null,null,null,""]
[null,{"$f":"IF(A41=\"\",\"\",VLOOKUP(A41,PARAMETROS!$B$3:$C$3,2,FALSE))","v":""},null,{"$f":"IF(C41=\"\",\"\",VLOOKUP(C41,PARAMETROS!$G$3:$H$21,2,FALSE))","v":""},null,{"$f":"IF(E41=\"\",\"\",VLOOKUP(E41,PARAMETROS!$I$3:$J$21,2,FALSE))","v":""},null,null,null,null,null,null,""]
[null,{"$f":"IF(A42=\"\",\"\",VLOOKUP(A42,PARAMETROS!$B$3:$C$3,2,FALSE))","v":""},null,{"$f":"IF(C42=\"\",\"\",VLOOKUP(C42,PARAMETROS!$G$3:$H$21,2,FALSE))","v":""},null,{"$f":"IF(E42=\"\",\"\",VLOOKUP(E42,PARAMETROS!$I$3:$J$21,2,FALSE))","v":""},null,null,null,null,null,null,""]
[null,{"$f":"IF(A43=\"\",\"\",VLOOKUP(A43,PARAMETROS!$B$3:$C$3,2,FALSE))","v":""},null,{"$f":"IF(C43=\"\",\"\",VLOOKUP(C43,PARAMETROS!$G$3:$H$21,2,FALSE))","v":""},null,{"$f":"IF(E43=\"\",\"\",VLOOKUP(E43,PARAMETROS!$I$3:$J$21,2,FALSE))","v":""},null,null,null,null,null,null,""]
[null,{"$f":"IF(A44=\"\",\"\",VLOOKUP(A44,PARAMETROS!$B$3:$C$3,2,FALSE))","v":""},null,{"$f":"IF(C44=\"\",\"\",VLOOKUP(C44,PARAMETROS!$G$3:$H$21,2,FALSE))","v":""},null,{"$f":"IF(E44=\"\",\"\",VLOOKUP(E44,PARAMETROS!$I$3:$J$21,2,FALSE))","v":""},null,null,null,null,null,null,""]
[null,{"$f":"IF(A45=\"\",\"\",VLOOKUP(A45,PARAMETROS!$B$3:$C$3,2,FALSE))","v":""},null,{"$f":"IF(C45=\"\",\"\",VLOOKUP(C45,PARAMETROS!$G$3:$H$21,2,FALSE))","v":""},null,{"$f":"IF(E45=\"\",\"\",VLOOKUP(E45,PARAMETROS!$I$3:$J$21,2,FALSE))","v":""},null,null,null,null,null,null,""]
[null,{"$f":"IF(A46=\"\",\"\",VLOOKUP(A46,PARAMETROS!$B$3:$C$3,2,FALSE))","v":""},null,{"$f":"IF(C46=\"\",\"\",VLOOKUP(C46,PARAMETROS!$G$3:$H$21,2,FALSE))","v":""},null,{"$f":"IF(E46=\"\",\"\",VLOOKUP(E46,PARAMETROS!$I$3:$J$21,2,FALSE))","v":""},null,null,null,null,null,null,""]
[null,{"$f":"IF(A47=\"\",\"\",VLOOKUP(A47,PARAMETROS!$B$3:$C$3,2,FALSE))","v":""},null,{"$f":"IF(C47=\"\",\"\",VLOOKUP(C47,PARAMETROS!$G$3:$H$21,2,FALSE))","v":""},null,{"$f":"IF(E47=\"\",\"\",VLOOKUP(E47,PARAMETROS!$I$3:$J$21,2,FALSE))","v":""},null,null,null,null,null,null,""]
[null,{"$f":"IF(A48=\"\",\"\",VLOOKUP(A48,PARAMETROS!$B$3:$C$3,2,FALSE))","v":""},null,{"$f":"IF(C48=\"\",\"\",VLOOKUP(C48,PARAMETROS!$G$3:$H$21,2,FALSE))","v":""},null,{"$f":"IF(E48=\"\",\"\",VLOOKUP(E48,PARAMETROS!$I$3:$J$21,2,FALSE))","v":""},null,null,null,null,null,null,""]
[null,{"$f":"IF(A49=\"\",\"\",VLOOKUP(A49,PARAMETROS!$B$3:$C$3,2,FALSE))","v":""},null,{"$f":"IF(C49=\"\",\"\",VLOOKUP(C49,PARAMETROS!$G$3:$H$21,2,FALSE))","v":""},null,{"$f":"IF(E49=\"\",\"\",VLOOKUP(E49,PARAMETROS!$I$3:$J$21,2,FALSE))","v":""},null,null,null,null,null,null,""]
[null,{"$f":"IF(A50=\"\",\"\",VLOOKUP(A50,PARAMETROS!$B$3:$C$3,2,FALSE))","v":""},null,{"$f":"IF(C50=\"\",\"\",VLOOKUP(C50,PARAMETROS!$G$3:$H$21,2,FALSE))","v":""},null,{"$f":"IF(E50=\"\",\"\",VLOOKUP(E50,PARAMETROS!$I$3:$J$21,2,FALSE))","v":""},null,null,null,null,null,null,""]
[null,{"$f":"IF(A51=\"\",\"\",VLOOKUP(A51,PARAMETROS!$B$3:$C$3,2,FALSE))","v":""},null,{"$f":"IF(C51=\"\",\"\",VLOOKUP(C51,PARAMETROS!$G$3:$H$21,2,FALSE))","v":""},null,{"$f":"IF(E51=\"\",\"\",VLOOKUP(E51,PARAMETROS!$I$3:$J$21,2,FALSE))","v":""},null,null,null,null,null,null,""]
[null,{"$f":"IF(A52=\"\",\"\",VLOOKUP(A52,PARAMETROS!$B$3:$C$3,2,FALSE))","v":""},null,{"$f":"IF(C52=\"\",\"\",VLOOKUP(C52,PARAMETROS!$G$3:$H$21,2,FALSE))","v":""},null,{"$f":"IF(E52=\"\",\"\",VLOOKUP(E52,PARAMETROS!$I$3:$J$21,2,FALSE))","v":""},null,null,null,null,null,null,""]
[null,{"$f":"IF(A53=\"\",\"\",VLOOKUP(A53,PARAMETROS!$B$3:$C$3,2,FALSE))","v":""},null,{"$f":"IF(C53=\"\",\"\",VLOOKUP(C53,PARAMETROS!$G$3:$H$21,2,FALSE))","v":""},null,{"$f":"IF(E53=\"\",\"\",VLOOKUP(E53,PARAMETROS!$I$3:$J$21,2,FALSE))","v":""},null,null,null,null,null,null,""]
[null,{"$f":"IF(A54=\"\",\"\",VLOOKUP(A54,PARAMETROS!$B$3:$C$3,2,FALSE))","v":""},null,{"$f":"IF(C54=\"\",\"\",VLOOKUP(C54,PARAMETROS!$G$3:$H$21,2,FALSE))","v":""},null,{"$f":"IF(E54=\"\",\"\",VLOOKUP(E54,PARAMETROS!$I$3:$J$21,2,FALSE))","v":""},null,null,null,null,null,null,""]
[null,{"$f":"IF(A55=\"\",\"\",VLOOKUP(A55,PARAMETROS!$B$3:$C$3,2,FALSE))","v":""},null,{"$f":"IF(C55=\"\",\"\",VLOOKUP(C55,PARAMETROS!$G$3:$H$21,2,FALSE))","v":""},null,{"$f":"IF(E55=\"\",\"\",VLOOKUP(E55,PARAMETROS!$I$3:$J$21,2,FALSE))","v":""},null,null,null,null,null,null,""]
[null,{"$f":"IF(A56=\"\",\"\",VLOOKUP(A56,PARAMETROS!$B$3:$C$3,2,FALSE))","v":""},null,{"$f":"IF(C56=\"\",\"\",VLOOKUP(C56,PARAMETROS!$G$3:$H$21,2,FALSE))","v":""},null,{"$f":"IF(E56=\"\",\"\",VLOOKUP(E56,PARAMETROS!$I$3:$J$21,2,FALSE))","v":""},null,null,null,null,null,null,""]
[null,{"$f":"IF(A57=\"\",\"\",VLOOKUP(A57,PARAMETROS!$B$3:$C$3,2,FALSE))","v":""},null,{"$f":"IF(C57=\"\",\"\",VLOOKUP(C57,PARAMETROS!$G$3:$H$21,2,FALSE))","v":""},null,{"$f":"IF(E57=\"\",\"\",VLOOKUP(E57,PARAMETROS!$I$3:$J$21,2,FALSE))","v":""},null,null,null,null,null,null,""]
[null,{"$f":"IF(A58=\"\",\"\",VLOOKUP(A58,PARAMETROS!$B$3:$C$3,2,FALSE))","v":""},null,{"$f":"IF(C58=\"\",\"\",VLOOKUP(C58,PARAMETROS!$G$3:$H$21,2,FALSE))","v":""},null,{"$f":"IF(E58=\"\",\"\",VLOOKUP(E58,PARAMETROS!$I$3:$J$21,2,FALSE))","v":""},null,null,null,null,null,null,""]
[null,{"$f":"IF(A59=\"\",\"\",VLOOKUP(A59,PARAMETROS!$B$3:$C$3,2,FALSE))","v":""},null,{"$f":"IF(C59=\"\",\"\",VLOOKUP(C59,PARAMETROS!$G$3:$H$21,2,FALSE))","v":""},null,{"$f":"IF(E59=\"\",\"\",VLOOKUP(E59,PARAMETROS!$I$3:$J$21,2,FALSE))","v":""},null,null,null,null,null,null,""]
[null,{"$f":"IF(A60=\"\",\"\",VLOOKUP(A60,PARAMETROS!$B$3:$C$3,2,FALSE))","v":""},null,{"$f":"IF(C60=\"\",\"\",VLOOKUP(C60,PARAMETROS!$G$3:$H$21,2,FALSE))","v":""},null,{"$f":"IF(E60=\"\",\"\",VLOOKUP(E60,PARAMETROS!$I$3:$J$21,2,FALSE))","v":""},null,null,null,null,null,null,""]
[null,{"$f":"IF(A61=\"\",\"\",VLOOKUP(A61,PARAMETROS!$B$3:$C$3,2,FALSE))","v":""},null,{"$f":"IF(C61=\"\",\"\",VLOOKUP(C61,PARAMETROS!$G$3:$H$21,2,FALSE))","v":""},null,{"$f":"IF(E61=\"\",\"\",VLOOKUP(E61,PARAMETROS!$I$3:$J$21,2,FALSE))","v":""},null,null,null,null,null,null,""]
[null,{"$f":"IF(A62=\"\",\"\",VLOOKUP(A62,PARAMETROS!$B$3:$C$3,2,FALSE))","v":""},null,{"$f":"IF(C62=\"\",\"\",VLOOKUP(C62,PARAMETROS!$G$3:$H$21,2,FALSE))","v":""},null,{"$f":"IF(E62=\"\",\"\",VLOOKUP(E62,PARAMETROS!$I$3:$J$21,2,FALSE))","v":""},null,null,null,null,null,null,""]
[null,{"$f":"IF(A63=\"\",\"\",VLOOKUP(A63,PARAMETROS!$B$3:$C$3,2,FALSE))","v":""},null,{"$f":"IF(C63=\"\",\"\",VLOOKUP(C63,PARAMETROS!$G$3:$H$21,2,FALSE))","v":""},null,{"$f":"IF(E63=\"\",\"\",VLOOKUP(E63,PARAMETROS!$I$3:$J$21,2,FALSE))","v":""},null,null,null,null,null,null,""]
[null,{"$f":"IF(A64=\"\",\"\",VLOOKUP(A64,PARAMETROS!$B$3:$C$3,2,FALSE))","v":""},null,{"$f":"IF(C64=\"\",\"\",VLOOKUP(C64,PARAMETROS!$G$3:$H$21,2,FALSE))","v":""},null,{"$f":"IF(E64=\"\",\"\",VLOOKUP(E64,PARAMETROS!$I$3:$J$21,2,FALSE))","v":""},null,null,null,null,null,null,""]
[null,{"$f":"IF(A65=\"\",\"\",VLOOKUP(A65,PARAMETROS!$B$3:$C$3,2,FALSE))","v":""},null,{"$f":"IF(C65=\"\",\"\",VLOOKUP(C65,PARAMETROS!$G$3:$H$21,2,FALSE))","v":""},null,{"$f":"IF(E65=\"\",\"\",VLOOKUP(E65,PARAMETROS!$I$3:$J$21,2,FALSE))","v":""},null,null,null,null,null,null,""]
[null,{"$f":"IF(A66=\"\",\"\",VLOOKUP(A66,PARAMETROS!$B$3:$C$3,2,FALSE))","v":""},null,{"$f":"IF(C66=\"\",\"\",VLOOKUP(C66,PARAMETROS!$G$3:$H$21,2,FALSE))","v":""},null,{"$f":"IF(E66=\"\",\"\",VLOOKUP(E66,PARAMETROS!$I$3:$J$21,2,FALSE))","v":""},null,null,null,null,null,null,""]
[null,{"$f":"IF(A67=\"\",\"\",VLOOKUP(A67,PARAMETROS!$B$3:$C$3,2,FALSE))","v":""},null,{"$f":"IF(C67=\"\",\"\",VLOOKUP(C67,PARAMETROS!$G$3:$H$21,2,FALSE))","v":""},null,{"$f":"IF(E67=\"\",\"\",VLOOKUP(E67,PARAMETROS!$I$3:$J$21,2,FALSE))","v":""},null,null,null,null,null,null,""]
[null,{"$f":"IF(A68=\"\",\"\",VLOOKUP(A68,PARAMETROS!$B$3:$C$3,2,FALSE))","v":""},null,{"$f":"IF(C68=\"\",\"\",VLOOKUP(C68,PARAMETROS!$G$3:$H$21,2,FALSE))","v":""},null,{"$f":"IF(E68=\"\",\"\",VLOOKUP(E68,PARAMETROS!$I$3:$J$21,2,FALSE))","v":""},null,null,null,null,null,null,""]
[null,{"$f":"IF(A69=\"\",\"\",VLOOKUP(A69,PARAMETROS!$B$3:$C$3,2,FALSE))","v":""},null,{"$f":"IF(C69=\"\",\"\",VLOOKUP(C69,PARAMETROS!$G$3:$H$21,2,FALSE))","v":""},null,{"$f":"IF(E69=\"\",\"\",VLOOKUP(E69,PARAMETROS!$I$3:$J$21,2,FALSE))","v":""},null,null,null,null,null,null,""]
[null,{"$f":"IF(A70=\"\",\"\",VLOOKUP(A70,PARAMETROS!$B$3:$C$3,2,FALSE))","v":""},null,{"$f":"IF(C70=\"\",\"\",VLOOKUP(C70,PARAMETROS!$G$3:$H$21,2,FALSE))","v":""},null,{"$f":"IF(E70=\"\",\"\",VLOOKUP(E70,PARAMETROS!$I$3:$J$21,2,FALSE))","v":""},null,null,null,null,null,null,""]
[null,{"$f":"IF(A71=\"\",\"\",VLOOKUP(A71,PARAMETROS!$B$3:$C$3,2,FALSE))","v":""},null,{"$f":"IF(C71=\"\",\"\",VLOOKUP(C71,PARAMETROS!$G$3:$H$21,2,FALSE))","v":""},null,{"$f":"IF(E71=\"\",\"\",VLOOKUP(E71,PARAMETROS!$I$3:$J$21,2,FALSE))","v":""},null,null,null,null,null,null,""]
[null,{"$f":"IF(A72=\"\",\"\",VLOOKUP(A72,PARAMETROS!$B$3:$C$3,2,FALSE))","v":""},null,{"$f":"IF(C72=\"\",\"\",VLOOKUP(C72,PARAMETROS!$G$3:$H$21,2,FALSE))","v":""},null,{"$f":"IF(E72=\"\",\"\",VLOOKUP(E72,PARAMETROS!$I$3:$J$21,2,FALSE))","v":""},null,null,null,null,null,null,""]
[null,{"$f":"IF(A73=\"\",\"\",VLOOKUP(A73,PARAMETROS!$B$3:$C$3,2,FALSE))","v":""},null,{"$f":"IF(C73=\"\",\"\",VLOOKUP(C73,PARAMETROS!$G$3:$H$21,2,FALSE))","v":""},null,{"$f":"IF(E73=\"\",\"\",VLOOKUP(E73,PARAMETROS!$I$3:$J$21,2,FALSE))","v":""},null,null,null,null,null,null,""]
[null,{"$f":"IF(A74=\"\",\"\",VLOOKUP(A74,PARAMETROS!$B$3:$C$3,2,FALSE))","v":""},null,{"$f":"IF(C74=\"\",\"\",VLOOKUP(C74,PARAMETROS!$G$3:$H$21,2,FALSE))","v":""},null,{"$f":"IF(E74=\"\",\"\",VLOOKUP(E74,PARAMETROS!$I$3:$J$21,2,FALSE))","v":""},null,null,null,null,null,null,""]
[null,{"$f":"IF(A75=\"\",\"\",VLOOKUP(A75,PARAMETROS!$B$3:$C$3,2,FALSE))","v":""},null,{"$f":"IF(C75=\"\",\"\",VLOOKUP(C75,PARAMETROS!$G$3:$H$21,2,FALSE))","v":""},null,{"$f":"IF(E75=\"\",\"\",VLOOKUP(E75,PARAMETROS!$I$3:$J$21,2,FALSE))","v":""},null,null,null,null,null,null,""]
[null,{"$f":"IF(A76=\"\",\"\",VLOOKUP(A76,PARAMETROS!$B$3:$C$3,2,FALSE))","v":""},null,{"$f":"IF(C76=\"\",\"\",VLOOKUP(C76,PARAMETROS!$G$3:$H$21,2,FALSE))","v":""},null,{"$f":"IF(E76=\"\",\"\",VLOOKUP(E76,PARAMETROS!$I$3:$J$21,2,FALSE))","v":""},null,null,null,null,null,null,""]
[null,{"$f":"IF(A77=\"\",\"\",VLOOKUP(A77,PARAMETROS!$B$3:$C$3,2,FALSE))","v":""},null,{"$f":"IF(C77=\"\",\"\",VLOOKUP(C77,PARAMETROS!$G$3:$H$21,2,FALSE))","v":""},null,{"$f":"IF(E77=\"\",\"\",VLOOKUP(E77,PARAMETROS!$I$3:$J$21,2,FALSE))","v":""},null,null,null,null,null,null,""]
[null,{"$f":"IF(A78=\"\",\"\",VLOOKUP(A78,PARAMETROS!$B$3:$C$3,2,FALSE))","v":""},null,{"$f":"IF(C78=\"\",\"\",VLOOKUP(C78,PARAMETROS!$G$3:$H$21,2,FALSE))","v":""},null,{"$f":"IF(E78=\"\",\"\",VLOOKUP(E78,PARAMETROS!$I$3:$J$21,2,FALSE))","v":""},null,null,null,null,null,null,""]
[null,{"$f":"IF(A79=\"\",\"\",VLOOKUP(A79,PARAMETROS!$B$3:$C$3,2,FALSE))","v":""},null,{"$f":"IF(C79=\"\",\"\",VLOOKUP(C79,PARAMETROS!$G$3:$H$21,2,FALSE))","v":""},null,{"$f":"IF(E79=\"\",\"\",VLOOKUP(E79,PARAMETROS!$I$3:$J$21,2,FALSE))","v":""},null,null,null,null,null,null,{"$f":"IF(L79=\"\", \"\", L79)","v":""}]
[null,{"$f":"IF(A80=\"\",\"\",VLOOKUP(A80,PARAMETROS!$B$3:$C$3,2,FALSE))","v":""},null,{"$f":"IF(C80=\"\",\"\",VLOOKUP(C80,PARAMETROS!$G$3:$H$21,2,FALSE))","v":""},null,{"$f":"IF(E80=\"\",\"\",VLOOKUP(E80,PARAMETROS!$I$3:$J$21,2,FALSE))","v":""},null,null,null,null,null,null,""]
[null,{"$f":"IF(A81=\"\",\"\",VLOOKUP(A81,PARAMETROS!$B$3:$C$3,2,FALSE))","v":""},null,{"$f":"IF(C81=\"\",\"\",VLOOKUP(C81,PARAMETROS!$G$3:$H$21,2,FALSE))","v":""},null,{"$f":"IF(E81=\"\",\"\",VLOOKUP(E81,PARAMETROS!$I$3:$J$21,2,FALSE))","v":""},null,null,null,null,null,null,""]
[null,{"$f":"IF(A82=\"\",\"\",VLOOKUP(A82,PARAMETROS!$B$3:$C$3,2,FALSE))","v":""},null,{"$f":"IF(C82=\"\",\"\",VLOOKUP(C82,PARAMETROS!$G$3:$H$21,2,FALSE))","v":""},null,{"$f":"IF(E82=\"\",\"\",VLOOKUP(E82,PARAMETROS!$I$3:$J$21,2,FALSE))","v":""},null,null,null,null,null,null,""]
[null,{"$f":"IF(A83=\"\",\"\",VLOOKUP(A83,PARAMETROS!$B$3:$C$3,2,FALSE))","v":""},null,{"$f":"IF(C83=\"\",\"\",VLOOKUP(C83,PARAMETROS!$G$3:$H$21,2,FALSE))","v":""},null,{"$f":"IF(E83=\"\",\"\",VLOOKUP(E83,PARAMETROS!$I$3:$J$21,2,FALSE))","v":""},null,null,null,null,null,null,""]
[null,{"$f":"IF(A84=\"\",\"\",VLOOKUP(A84,PARAMETROS!$B$3:$C$3,2,FALSE))","v":""},null,{"$f":"IF(C84=\"\",\"\",VLOOKUP(C84,PARAMETROS!$G$3:$H$21,2,FALSE))","v":""},null,{"$f":"IF(E84=\"\",\"\",VLOOKUP(E84,PARAMETROS!$I$3:$J$21,2,FALSE))","v":""},null,null,null,null,null,null,""]
[null,{"$f":"IF(A85=\"\",\"\",VLOOKUP(A85,PARAMETROS!$B$3:$C$3,2,FALSE))","v":""},null,{"$f":"IF(C85=\"\",\"\",VLOOKUP(C85,PARAMETROS!$G$3:$H$21,2,FALSE))","v":""},null,{"$f":"IF(E85=\"\",\"\",VLOOKUP(E85,PARAMETROS!$I$3:$J$21,2,FALSE))","v":""},null,null,null,null,null,null,""]
[null,{"$f":"IF(A86=\"\",\"\",VLOOKUP(A86,PARAMETROS!$B$3:$C$3,2,FALSE))","v":""},null,{"$f":"IF(C86=\"\",\"\",VLOOKUP(C86,PARAMETROS!$G$3:$H$21,2,FALSE))","v":""},null,{"$f":"IF(E86=\"\",\"\",VLOOKUP(E86,PARAMETROS!$I$3:$J$21,2,FALSE))","v":""},null,null,null,null,null,null,""]
[null,{"$f":"IF(A87=\"\",\"\",VLOOKUP(A87,PARAMETROS!$B$3:$C$3,2,FALSE))","v":""},null,{"$f":"IF(C87=\"\",\"\",VLOOKUP(C87,PARAMETROS!$G$3:$H$21,2,FALSE))","v":""},null,{"$f":"IF(E87=\"\",\"\",VLOOKUP(E87,PARAMETROS!$I$3:$J$21,2,FALSE))","v":""},null,null,null,null,null,null,""]
[null,{"$f":"IF(A88=\"\",\"\",VLOOKUP(A88,PARAMETROS!$B$3:$C$3,2,FALSE))","v":""},null,{"$f":"IF(C88=\"\",\"\",VLOOKUP(C88,PARAMETROS!$G$3:$H$21,2,FALSE))","v":""},null,{"$f":"IF(E88=\"\",\"\",VLOOKUP(E88,PARAMETROS!$I$3:$J$21,2,FALSE))","v":""},null,null,null,null,null,null,""]
[null,{"$f":"IF(A89=\"\",\"\",VLOOKUP(A89,PARAMETROS!$B$3:$C$3,2,FALSE))","v":""},null,{"$f":"IF(C89=\"\",\"\",VLOOKUP(C89,PARAMETROS!$G$3:$H$21,2,FALSE))","v":""},null,{"$f":"IF(E89=\"\",\"\",VLOOKUP(E89,PARAMETROS!$I$3:$J$21,2,FALSE))","v":""},null,null,null,null,null,null,""]
[null,{"$f":"IF(A90=\"\",\"\",VLOOKUP(A90,PARAMETROS!$B$3:$C$3,2,FALSE))","v":""},null,{"$f":"IF(C90=\"\",\"\",VLOOKUP(C90,PARAMETROS!$G$3:$H$21,2,FALSE))","v":""},null,{"$f":"IF(E90=\"\",\"\",VLOOKUP(E90,PARAMETROS!$I$3:$J$21,2,FALSE))","v":""},null,null,null,null,null,null,""]
[null,{"$f":"IF(A91=\"\",\"\",VLOOKUP(A91,PARAMETROS!$B$3:$C$3,2,FALSE))","v":""},null,{"$f":"IF(C91=\"\",\"\",VLOOKUP(C91,PARAMETROS!$G$3:$H$21,2,FALSE))","v":""},null,{"$f":"IF(E91=\"\",\"\",VLOOKUP(E91,PARAMETROS!$I$3:$J$21,2,FALSE))","v":""},null,null,null,null,null,null,""]
[null,{"$f":"IF(A92=\"\",\"\",VLOOKUP(A92,PARAMETROS!$B$3:$C$3,2,FALSE))","v":""},null,{"$f":"IF(C92=\"\",\"\",VLOOKUP(C92,PARAMETROS!$G$3:$H$21,2,FALSE))","v":""},null,{"$f":"IF(E92=\"\",\"\",VLOOKUP(E92,PARAMETROS!$I$3:$J$21,2,FALSE))","v":""},null,null,null,null,null,null,""]
[null,{"$f":"IF(A93=\"\",\"\",VLOOKUP(A93,PARAMETROS!$B$3:$C$3,2,FALSE))","v":""},null,{"$f":"IF(C93=\"\",\"\",VLOOKUP(C93,PARAMETROS!$G$3:$H$21,2,FALSE))","v":""},null,{"$f":"IF(E93=\"\",\"\",VLOOKUP(E93,PARAMETROS!$I$3:$J$21,2,FALSE))","v":""},null,null,null,null,null,null,""]
[null,{"$f":"IF(A94=\"\",\"\",VLOOKUP(A94,PARAMETROS!$B$3:$C$3,2,FALSE))","v":""},null,{"$f":"IF(C94=\"\",\"\",VLOOKUP(C94,PARAMETROS!$G$3:$H$21,2,FALSE))","v":""},null,{"$f":"IF(E94=\"\",\"\",VLOOKUP(E94,PARAMETROS!$I$3:$J$21,2,FALSE))","v":""},null,null,null,null,null,null,""]
[null,{"$f":"IF(A95=\"\",\"\",VLOOKUP(A95,PARAMETROS!$B$3:$C$3,2,FALSE))","v":""},null,{"$f":"IF(C95=\"\",\"\",VLOOKUP(C95,PARAMETROS!$G$3:$H$21,2,FALSE))","v":""},null,{"$f":"IF(E95=\"\",\"\",VLOOKUP(E95,PARAMETROS!$I$3:$J$21,2,FALSE))","v":""},null,null,null,null,null,null,""]
[null,{"$f":"IF(A96=\"\",\"\",VLOOKUP(A96,PARAMETROS!$B$3:$C$3,2,FALSE))","v":""},null,{"$f":"IF(C96=\"\",\"\",VLOOKUP(C96,PARAMETROS!$G$3:$H$21,2,FALSE))","v":""},null,{"$f":"IF(E96=\"\",\"\",VLOOKUP(E96,PARAMETROS!$I$3:$J$21,2,FALSE))","v":""},null,null,null,null,null,null,""]
[null,{"$f":"IF(A97=\"\",\"\",VLOOKUP(A97,PARAMETROS!$B$3:$C$3,2,FALSE))","v":""},null,{"$f":"IF(C97=\"\",\"\",VLOOKUP(C97,PARAMETROS!$G$3:$H$21,2,FALSE))","v":""},null,{"$f":"IF(E97=\"\",\"\",VLOOKUP(E97,PARAMETROS!$I$3:$J$21,2,FALSE))","v":""},null,null,null,null,null,null,""]
[null,{"$f":"IF(A98=\"\",\"\",VLOOKUP(A98,PARAMETROS!$B$3:$C$3,2,FALSE))","v":""},null,{"$f":"IF(C98=\"\",\"\",VLOOKUP(C98,PARAMETROS!$G$3:$H$21,2,FALSE))","v":""},null,{"$f":"IF(E98=\"\",\"\",VLOOKUP(E98,PARAMETROS!$I$3:$J$21,2,FALSE))","v":""},null,null,null,null,null,null,""]
[null,{"$f":"IF(A99=\"\",\"\",VLOOKUP(A99,PARAMETROS!$B$3:$C$3,2,FALSE))","v":""},null,{"$f":"IF(C99=\"\",\"\",VLOOKUP(C99,PARAMETROS!$G$3:$H$21,2,FALSE))","v":""},null,{"$f":"IF(E99=\"\",\"\",VLOOKUP(E99,PARAMETROS!$I$3:$J$21,2,FALSE))","v":""},null,null,null,null,null,null,""]
[null,{"$f":"IF(A100=\"\",\"\",VLOOKUP(A100,PARAMETROS!$B$3:$C$3,2,FALSE))","v":""},null,{"$f":"IF(C100=\"\",\"\",VLOOKUP(C100,PARAMETROS!$G$3:$H$21,2,FALSE))","v":""},null,{"$f":"IF(E100=\"\",\"\",VLOOKUP(E100,PARAMETROS!$I$3:$J$21,2,FALSE))","v":""},null,null,null,null,null,null,""]
[null,{"$f":"IF(A101=\"\",\"\",VLOOKUP(A101,PARAMETROS!$B$3:$C$3,2,FALSE))","v":""},null,{"$f":"IF(C101=\"\",\"\",VLOOKUP(C101,PARAMETROS!$G$3:$H$21,2,FALSE))","v":""},null,{"$f":"IF(E101=\"\",\"\",VLOOKUP(E101,PARAMETROS!$I$3:$J$21,2,FALSE))","v":""},null,null,null,null,null,null,""]
[null,{"$f":"IF(A102=\"\",\"\",VLOOKUP(A102,PARAMETROS!$B$3:$C$3,2,FALSE))","v":""},null,{"$f":"IF(C102=\"\",\"\",VLOOKUP(C102,PARAMETROS!$G$3:$H$21,2,FALSE))","v":""},null,{"$f":"IF(E102=\"\",\"\",VLOOKUP(E102,PARAMETROS!$I$3:$J$21,2,FALSE))","v":""},null,null,null,null,null,null,""]
[null,{"$f":"IF(A103=\"\",\"\",VLOOKUP(A103,PARAMETROS!$B$3:$C$3,2,FALSE))","v":""},null,{"$f":"IF(C103=\"\",\"\",VLOOKUP(C103,PARAMETROS!$G$3:$H$21,2,FALSE))","v":""},null,{"$f":"IF(E103=\"\",\"\",VLOOKUP(E103,PARAMETROS!$I$3:$J$21,2,FALSE))","v":""},null,null,null,null,null,null,""]
[null,{"$f":"IF(A104=\"\",\"\",VLOOKUP(A104,PARAMETROS!$B$3:$C$3,2,FALSE))","v":""},null,{"$f":"IF(C104=\"\",\"\",VLOOKUP(C104,PARAMETROS!$G$3:$H$21,2,FALSE))","v":""},null,{"$f":"IF(E104=\"\",\"\",VLOOKUP(E104,PARAMETROS!$I$3:$J$21,2,FALSE))","v":""},null,null,null,null,null,null,""]
[null,{"$f":"IF(A105=\"\",\"\",VLOOKUP(A105,PARAMETROS!$B$3:$C$3,2,FALSE))","v":""},null,{"$f":"IF(C105=\"\",\"\",VLOOKUP(C105,PARAMETROS!$G$3:$H$21,2,FALSE))","v":""},null,{"$f":"IF(E105=\"\",\"\",VLOOKUP(E105,PARAMETROS!$I$3:$J$21,2,FALSE))","v":""},null,null,null,null,null,null,""]
[null,{"$f":"IF(A106=\"\",\"\",VLOOKUP(A106,PARAMETROS!$B$3:$C$3,2,FALSE))","v":""},null,{"$f":"IF(C106=\"\",\"\",VLOOKUP(C106,PARAMETROS!$G$3:$H$21,2,FALSE))","v":""},null,{"$f":"IF(E106=\"\",\"\",VLOOKUP(E106,PARAMETROS!$I$3:$J$21,2,FALSE))","v":""},null,null,null,null,null,null,""]
[null,{"$f":"IF(A107=\"\",\"\",VLOOKUP(A107,PARAMETROS!$B$3:$C$3,2,FALSE))","v":""},null,{"$f":"IF(C107=\"\",\"\",VLOOKUP(C107,PARAMETROS!$G$3:$H$21,2,FALSE))","v":""},null,{"$f":"IF(E107=\"\",\"\",VLOOKUP(E107,PARAMETROS!$I$3:$J$21,2,FALSE))","v":""},null,null,null,null,null,null,""]
[null,{"$f":"IF(A108=\"\",\"\",VLOOKUP(A108,PARAMETROS!$B$3:$C$3,2,FALSE))","v":""},null,{"$f":"IF(C108=\"\",\"\",VLOOKUP(C108,PARAMETROS!$G$3:$H$21,2,FALSE))","v":""},null,{"$f":"IF(E108=\"\",\"\",VLOOKUP(E108,PARAMETROS!$I$3:$J$21,2,FALSE))","v":""},null,null,null,null,null,null,""]
[null,{"$f":"IF(A109=\"\",\"\",VLOOKUP(A109,PARAMETROS!$B$3:$C$3,2,FALSE))","v":""},null,{"$f":"IF(C109=\"\",\"\",VLOOKUP(C109,PARAMETROS!$G$3:$H$21,2,FALSE))","v":""},null,{"$f":"IF(E109=\"\",\"\",VLOOKUP(E109,PARAMETROS!$I$3:$J$21,2,FALSE))","v":""},null,null,null,null,null,null,""]
[null,{"$f":"IF(A110=\"\",\"\",VLOOKUP(A110,PARAMETROS!$B$3:$C$3,2,FALSE))","v":""},null,{"$f":"IF(C110=\"\",\"\",VLOOKUP(C110,PARAMETROS!$G$3:$H$21,2,FALSE))","v":""},null,{"$f":"IF(E110=\"\",\"\",VLOOKUP(E110,PARAMETROS!$I$3:$J$21,2,FALSE))","v":""},null,null,null,null,null,null,""]
[null,{"$f":"IF(A111=\"\",\"\",VLOOKUP(A111,PARAMETROS!$B$3:$C$3,2,FALSE))","v":""},null,{"$f":"IF(C111=\"\",\"\",VLOOKUP(C111,PARAMETROS!$G$3:$H$21,2,FALSE))","v":""},null,{"$f":"IF(E111=\"\",\"\",VLOOKUP(E111,PARAMETROS!$I$3:$J$21,2,FALSE))","v":""},null,null,null,null,null,null,""]
[null,{"$f":"IF(A112=\"\",\"\",VLOOKUP(A112,PARAMETROS!$B$3:$C$3,2,FALSE))","v":""},null,{"$f":"IF(C112=\"\",\"\",VLOOKUP(C112,PARAMETROS!$G$3:$H$21,2,FALSE))","v":""},null,{"$f":"IF(E112=\"\",\"\",VLOOKUP(E112,PARAMETROS!$I$3:$J$21,2,FALSE))","v":""},null,null,null,null,null,null,""]
[null,{"$f":"IF(A113=\"\",\"\",VLOOKUP(A113,PARAMETROS!$B$3:$C$3,2,FALSE))","v":""},null,{"$f":"IF(C113=\"\",\"\",VLOOKUP(C113,PARAMETROS!$G$3:$H$21,2,FALSE))","v":""},null,{"$f":"IF(E113=\"\",\"\",VLOOKUP(E113,PARAMETROS!$I$3:$J$21,2,FALSE))","v":""},null,null,null,null,null,null,""]
[null,{"$f":"IF(A114=\"\",\"\",VLOOKUP(A114,PARAMETROS!$B$3:$C$3,2,FALSE))","v":""},null,{"$f":"IF(C114=\"\",\"\",VLOOKUP(C114,PARAMETROS!$G$3:$H$21,2,FALSE))","v":""},null,{"$f":"IF(E114=\"\",\"\",VLOOKUP(E114,PARAMETROS!$I$3:$J$21,2,FALSE))","v":""},null,null,null,null,null,null,""]
[null,{"$f":"IF(A115=\"\",\"\",VLOOKUP(A115,PARAMETROS!$B$3:$C$3,2,FALSE))","v":""},null,{"$f":"IF(C115=\"\",\"\",VLOOKUP(C115,PARAMETROS!$G$3:$H$21,2,FALSE))","v":""},null,{"$f":"IF(E115=\"\",\"\",VLOOKUP(E115,PARAMETROS!$I$3:$J$21,2,FALSE))","v":""},null,null,null,null,null,null,""]
[null,{"$f":"IF(A116=\"\",\"\",VLOOKUP(A116,PARAMETROS!$B$3:$C$3,2,FALSE))","v":""},null,{"$f":"IF(C116=\"\",\"\",VLOOKUP(C116,PARAMETROS!$G$3:$H$21,2,FALSE))","v":""},null,{"$f":"IF(E116=\"\",\"\",VLOOKUP(E116,PARAMETROS!$I$3:$J$21,2,FALSE))","v":""},null,null,null,null,null,null,""]
[null,{"$f":"IF(A117=\"\",\"\",VLOOKUP(A117,PARAMETROS!$B$3:$C$3,2,FALSE))","v":""},null,{"$f":"IF(C117=\"\",\"\",VLOOKUP(C117,PARAMETROS!$G$3:$H$21,2,FALSE))","v":""},null,{"$f":"IF(E117=\"\",\"\",VLOOKUP(E117,PARAMETROS!$I$3:$J$21,2,FALSE))","v":""},null,null,null,null,null,null,""]
[null,{"$f":"IF(A118=\"\",\"\",VLOOKUP(A118,PARAMETROS!$B$3:$C$3,2,FALSE))","v":""},null,{"$f":"IF(C118=\"\",\"\",VLOOKUP(C118,PARAMETROS!$G$3:$H$21,2,FALSE))","v":""},null,{"$f":"IF(E118=\"\",\"\",VLOOKUP(E118,PARAMETROS!$I$3:$J$21,2,FALSE))","v":""},null,null,null,null,null,null,""]
[null,{"$f":"IF(A119=\"\",\"\",VLOOKUP(A119,PARAMETROS!$B$3:$C$3,2,FALSE))","v":""},null,{"$f":"IF(C119=\"\",\"\",VLOOKUP(C119,PARAMETROS!$G$3:$H$21,2,FALSE))","v":""},null,{"$f":"IF(E119=\"\",\"\",VLOOKUP(E119,PARAMETROS!$I$3:$J$21,2,FALSE))","v":""},null,null,null,null,null,null,""]
[null,{"$f":"IF(A120=\"\",\"\",VLOOKUP(A120,PARAMETROS!$B$3:$C$3,2,FALSE))","v":""},null,{"$f":"IF(C120=\"\",\"\",VLOOKUP(C120,PARAMETROS!$G$3:$H$21,2,FALSE))","v":""},null,{"$f":"IF(E120=\"\",\"\",VLOOKUP(E120,PARAMETROS!$I$3:$J$21,2,FALSE))","v":""},null,null,null,null,null,null,""]
[null,{"$f":"IF(A121=\"\",\"\",VLOOKUP(A121,PARAMETROS!$B$3:$C$3,2,FALSE))","v":""},null,{"$f":"IF(C121=\"\",\"\",VLOOKUP(C121,PARAMETROS!$G$3:$H$21,2,FALSE))","v":""},null,{"$f":"IF(E121=\"\",\"\",VLOOKUP(E121,PARAMETROS!$I$3:$J$21,2,FALSE))","v":""},null,null,null,null,null,null,""]
[null,{"$f":"IF(A122=\"\",\"\",VLOOKUP(A122,PARAMETROS!$B$3:$C$3,2,FALSE))","v":""},null,{"$f":"IF(C122=\"\",\"\",VLOOKUP(C122,PARAMETROS!$G$3:$H$21,2,FALSE))","v":""},null,{"$f":"IF(E122=\"\",\"\",VLOOKUP(E122,PARAMETROS!$I$3:$J$21,2,FALSE))","v":""},null,null,null,null,null,null,""]
[null,{"$f":"IF(A123=\"\",\"\",VLOOKUP(A123,PARAMETROS!$B$3:$C$3,2,FALSE))","v":""},null,{"$f":"IF(C123=\"\",\"\",VLOOKUP(C123,PARAMETROS!$G$3:$H$21,2,FALSE))","v":""},null,{"$f":"IF(E123=\"\",\"\",VLOOKUP(E123,PARAMETROS!$I$3:$J$21,2,FALSE))","v":""},null,null,null,null,null,null,""]
[null,{"$f":"IF(A124=\"\",\"\",VLOOKUP(A124,PARAMETROS!$B$3:$C$3,2,FALSE))","v":""},null,{"$f":"IF(C124=\"\",\"\",VLOOKUP(C124,PARAMETROS!$G$3:$H$21,2,FALSE))","v":""},null,{"$f":"IF(E124=\"\",\"\",VLOOKUP(E124,PARAMETROS!$I$3:$J$21,2,FALSE))","v":""},null,null,null,null,null,null,""]
[null,{"$f":"IF(A125=\"\",\"\",VLOOKUP(A125,PARAMETROS!$B$3:$C$3,2,FALSE))","v":""},null,{"$f":"IF(C125=\"\",\"\",VLOOKUP(C125,PARAMETROS!$G$3:$H$21,2,FALSE))","v":""},null,{"$f":"IF(E125=\"\",\"\",VLOOKUP(E125,PARAMETROS!$I$3:$J$21,2,FALSE))","v":""},null,null,null,null,null,null,""]
[null,{"$f":"IF(A126=\"\",\"\",VLOOKUP(A126,PARAMETROS!$B$3:$C$3,2,FALSE))","v":""},null,{"$f":"IF(C126=\"\",\"\",VLOOKUP(C126,PARAMETROS!$G$3:$H$21,2,FALSE))","v":""},null,{"$f":"IF(E126=\"\",\"\",VLOOKUP(E126,PARAMETROS!$I$3:$J$21,2,FALSE))","v":""},null,null,null,null,null,null,""]
[null,{"$f":"IF(A127=\"\",\"\",VLOOKUP(A127,PARAMETROS!$B$3:$C$3,2,FALSE))","v":""},null,{"$f":"IF(C127=\"\",\"\",VLOOKUP(C127,PARAMETROS!$G$3:$H$21,2,FALSE))","v":""},null,{"$f":"IF(E127=\"\",\"\",VLOOKUP(E127,PARAMETROS!$I$3:$J$21,2,FALSE))","v":""},null,null,null,null,null,null,""]
[null,{"$f":"IF(A128=\"\",\"\",VLOOKUP(A128,PARAMETROS!$B$3:$C$3,2,FALSE))","v":""},null,{"$f":"IF(C128=\"\",\"\",VLOOKUP(C128,PARAMETROS!$G$3:$H$21,2,FALSE))","v":""},null,{"$f":"IF(E128=\"\",\"\",VLOOKUP(E128,PARAMETROS!$I$3:$J$21,2,FALSE))","v":""},null,null,null,null,null,null,""]
[null,{"$f":"IF(A129=\"\",\"\",VLOOKUP(A129,PARAMETROS!$B$3:$C$3,2,FALSE))","v":""},null,{"$f":"IF(C129=\"\",\"\",VLOOKUP(C129,PARAMETROS!$G$3:$H$21,2,FALSE))","v":""},null,{"$f":"IF(E129=\"\",\"\",VLOOKUP(E129,PARAMETROS!$I$3:$J$21,2,FALSE))","v":""},null,null,null,null,null,null,""]
[null,{"$f":"IF(A130=\"\",\"\",VLOOKUP(A130,PARAMETROS!$B$3:$C$3,2,FALSE))","v":""},null,{"$f":"IF(C130=\"\",\"\",VLOOKUP(C130,PARAMETROS!$G$3:$H$21,2,FALSE))","v":""},null,{"$f":"IF(E130=\"\",\"\",VLOOKUP(E130,PARAMETROS!$I$3:$J$21,2,FALSE))","v":""},null,null,null,null,null,null,""]
[null,{"$f":"IF(A131=\"\",\"\",VLOOKUP(A131,PARAMETROS!$B$3:$C$3,2,FALSE))","v":""},null,{"$f":"IF(C131=\"\",\"\",VLOOKUP(C131,PARAMETROS!$G$3:$H$21,2,FALSE))","v":""},null,{"$f":"IF(E131=\"\",\"\",VLOOKUP(E131,PARAMETROS!$I$3:$J$21,2,FALSE))","v":""},null,null,null,null,null,null,""]
[null,{"$f":"IF(A132=\"\",\"\",VLOOKUP(A132,PARAMETROS!$B$3:$C$3,2,FALSE))","v":""},null,{"$f":"IF(C132=\"\",\"\",VLOOKUP(C132,PARAMETROS!$G$3:$H$21,2,FALSE))","v":""},null,{"$f":"IF(E132=\"\",\"\",VLOOKUP(E132,PARAMETROS!$I$3:$J$21,2,FALSE))","v":""},null,null,null,null,null,null,""]
[null,{"$f":"IF(A133=\"\",\"\",VLOOKUP(A133,PARAMETROS!$B$3:$C$3,2,FALSE))","v":""},null,{"$f":"IF(C133=\"\",\"\",VLOOKUP(C133,PARAMETROS!$G$3:$H$21,2,FALSE))","v":""},null,{"$f":"IF(E133=\"\",\"\",VLOOKUP(E133,PARAMETROS!$I$3:$J$21,2,FALSE))","v":""},null,null,null,null,null,null,""]
[null,{"$f":"IF(A134=\"\",\"\",VLOOKUP(A134,PARAMETROS!$B$3:$C$3,2,FALSE))","v":""},null,{"$f":"IF(C134=\"\",\"\",VLOOKUP(C134,PARAMETROS!$G$3:$H$21,2,FALSE))","v":""},null,{"$f":"IF(E134=\"\",\"\",VLOOKUP(E134,PARAMETROS!$I$3:$J$21,2,FALSE))","v":""},null,null,null,null,null,null,""]
[null,{"$f":"IF(A135=\"\",\"\",VLOOKUP(A135,PARAMETROS!$B$3:$C$3,2,FALSE))","v":""},null,{"$f":"IF(C135=\"\",\"\",VLOOKUP(C135,PARAMETROS!$G$3:$H$21,2,FALSE))","v":""},null,{"$f":"IF(E135=\"\",\"\",VLOOKUP(E135,PARAMETROS!$I$3:$J$21,2,FALSE))","v":""},null,null,null,null,null,null,""]
[null,{"$f":"IF(A136=\"\",\"\",VLOOKUP(A136,PARAMETROS!$B$3:$C$3,2,FALSE))","v":""},null,{"$f":"IF(C136=\"\",\"\",VLOOKUP(C136,PARAMETROS!$G$3:$H$21,2,FALSE))","v":""},null,{"$f":"IF(E136=\"\",\"\",VLOOKUP(E136,PARAMETROS!$I$3:$J$21,2,FALSE))","v":""},null,null,null,null,null,null,""]
[null,{"$f":"IF(A137=\"\",\"\",VLOOKUP(A137,PARAMETROS!$B$3:$C$3,2,FALSE))","v":""},null,{"$f":"IF(C137=\"\",\"\",VLOOKUP(C137,PARAMETROS!$G$3:$H$21,2,FALSE))","v":""},null,{"$f":"IF(E137=\"\",\"\",VLOOKUP(E137,PARAMETROS!$I$3:$J$21,2,FALSE))","v":""},null,null,null,null,null,null,""]
[null,{"$f":"IF(A138=\"\",\"\",VLOOKUP(A138,PARAMETROS!$B$3:$C$3,2,FALSE))","v":""},null,{"$f":"IF(C138=\"\",\"\",VLOOKUP(C138,PARAMETROS!$G$3:$H$21,2,FALSE))","v":""},null,{"$f":"IF(E138=\"\",\"\",VLOOKUP(E138,PARAMETROS!$I$3:$J$21,2,FALSE))","v":""},null,null,null,null,null,null,""]
[null,{"$f":"IF(A139=\"\",\"\",VLOOKUP(A139,PARAMETROS!$B$3:$C$3,2,FALSE))","v":""},null,{"$f":"IF(C139=\"\",\"\",VLOOKUP(C139,PARAMETROS!$G$3:$H$21,2,FALSE))","v":""},null,{"$f":"IF(E139=\"\",\"\",VLOOKUP(E139,PARAMETROS!$I$3:$J$21,2,FALSE))","v":""},null,null,null,null,null,null,""]
[null,{"$f":"IF(A140=\"\",\"\",VLOOKUP(A140,PARAMETROS!$B$3:$C$3,2,FALSE))","v":""},null,{"$f":"IF(C140=\"\",\"\",VLOOKUP(C140,PARAMETROS!$G$3:$H$21,2,FALSE))","v":""},null,{"$f":"IF(E140=\"\",\"\",VLOOKUP(E140,PARAMETROS!$I$3:$J$21,2,FALSE))","v":""},null,null,null,null,null,null,""]
[null,{"$f":"IF(A141=\"\",\"\",VLOOKUP(A141,PARAMETROS!$B$3:$C$3,2,FALSE))","v":""},null,{"$f":"IF(C141=\"\",\"\",VLOOKUP(C141,PARAMETROS!$G$3:$H$21,2,FALSE))","v":""},null,{"$f":"IF(E141=\"\",\"\",VLOOKUP(E141,PARAMETROS!$I$3:$J$21,2,FALSE))","v":""},null,null,null,null,null,null,""]
[null,{"$f":"IF(A142=\"\",\"\",VLOOKUP(A142,PARAMETROS!$B$3:$C$3,2,FALSE))","v":""},null,{"$f":"IF(C142=\"\",\"\",VLOOKUP(C142,PARAMETROS!$G$3:$H$21,2,FALSE))","v":""},null,{"$f":"IF(E142=\"\",\"\",VLOOKUP(E142,PARAMETROS!$I$3:$J$21,2,FALSE))","v":""},null,null,null,null,null,null,""]
[null,{"$f":"IF(A143=\"\",\"\",VLOOKUP(A143,PARAMETROS!$B$3:$C$3,2,FALSE))","v":""},null,{"$f":"IF(C143=\"\",\"\",VLOOKUP(C143,PARAMETROS!$G$3:$H$21,2,FALSE))","v":""},null,{"$f":"IF(E143=\"\",\"\",VLOOKUP(E143,PARAMETROS!$I$3:$J$21,2,FALSE))","v":""},null,null,null,null,null,null,{"$f":"IF(L143=\"\", \"\", L143)","v":""}]
[null,{"$f":"IF(A144=\"\",\"\",VLOOKUP(A144,PARAMETROS!$B$3:$C$3,2,FALSE))","v":""},null,{"$f":"IF(C144=\"\",\"\",VLOOKUP(C144,PARAMETROS!$G$3:$H$21,2,FALSE))","v":""},null,{"$f":"IF(E144=\"\",\"\",VLOOKUP(E144,PARAMETROS!$I$3:$J$21,2,FALSE))","v":""},null,null,null,null,null,null,""]
[null,{"$f":"IF(A145=\"\",\"\",VLOOKUP(A145,PARAMETROS!$B$3:$C$3,2,FALSE))","v":""},null,{"$f":"IF(C145=\"\",\"\",VLOOKUP(C145,PARAMETROS!$G$3:$H$21,2,FALSE))","v":""},null,{"$f":"IF(E145=\"\",\"\",VLOOKUP(E145,PARAMETROS!$I$3:$J$21,2,FALSE))","v":""},null,null,null,null,null,null,""]
[null,{"$f":"IF(A146=\"\",\"\",VLOOKUP(A146,PARAMETROS!$B$3:$C$3,2,FALSE))","v":""},null,{"$f":"IF(C146=\"\",\"\",VLOOKUP(C146,PARAMETROS!$G$3:$H$21,2,FALSE))","v":""},null,{"$f":"IF(E146=\"\",\"\",VLOOKUP(E146,PARAMETROS!$I$3:$J$21,2,FALSE))","v":""},null,null,null,null,null,null,""]
[null,{"$f":"IF(A147=\"\",\"\",VLOOKUP(A147,PARAMETROS!$B$3:$C$3,2,FALSE))","v":""},null,{"$f":"IF(C147=\"\",\"\",VLOOKUP(C147,PARAMETROS!$G$3:$H$21,2,FALSE))","v":""},null,{"$f":"IF(E147=\"\",\"\",VLOOKUP(E147,PARAMETROS!$I$3:$J$21,2,FALSE))","v":""},null,null,null,null,null,null,""]
[null,{"$f":"IF(A148=\"\",\"\",VLOOKUP(A148,PARAMETROS!$B$3:$C$3,2,FALSE))","v":""},null,{"$f":"IF(C148=\"\",\"\",VLOOKUP(C148,PARAMETROS!$G$3:$H$21,2,FALSE))","v":""},null,{"$f":"IF(E148=\"\",\"\",VLOOKUP(E148,PARAMETROS!$I$3:$J$21,2,FALSE))","v":""},null,null,null,null,null,null,""]
[null,{"$f":"IF(A149=\"\",\"\",VLOOKUP(A149,PARAMETROS!$B$3:$C$3,2,FALSE))","v":""},null,{"$f":"IF(C149=\"\",\"\",VLOOKUP(C149,PARAMETROS!$G$3:$H$21,2,FALSE))","v":""},null,{"$f":"IF(E149=\"\",\"\",VLOOKUP(E149,PARAMETROS!$I$3:$J$21,2,FALSE))","v":""},null,null,null,null,null,null,""]
[null,{"$f":"IF(A150=\"\",\"\",VLOOKUP(A150,PARAMETROS!$B$3:$C$3,2,FALSE))","v":""},null,{"$f":"IF(C150=\"\",\"\",VLOOKUP(C150,PARAMETROS!$G$3:$H$21,2,FALSE))","v":""},null,{"$f":"IF(E150=\"\",\"\",VLOOKUP(E150,PARAMETROS!$I$3:$J$21,2,FALSE))","v":""},null,null,null,null,null,null,""]
[null,{"$f":"IF(A151=\"\",\"\",VLOOKUP(A151,PARAMETROS!$B$3:$C$3,2,FALSE))","v":""},null,{"$f":"IF(C151=\"\",\"\",VLOOKUP(C151,PARAMETROS!$G$3:$H$21,2,FALSE))","v":""},null,{"$f":"IF(E151=\"\",\"\",VLOOKUP(E151,PARAMETROS!$I$3:$J$21,2,FALSE))","v":""},null,null,null,null,null,null,""]
[null,{"$f":"IF(A152=\"\",\"\",VLOOKUP(A152,PARAMETROS!$B$3:$C$3,2,FALSE))","v":""},null,{"$f":"IF(C152=\"\",\"\",VLOOKUP(C152,PARAMETROS!$G$3:$H$21,2,FALSE))","v":""},null,{"$f":"IF(E152=\"\",\"\",VLOOKUP(E152,PARAMETROS!$I$3:$J$21,2,FALSE))","v":""},null,null,null,null,null,null,""]
[null,{"$f":"IF(A153=\"\",\"\",VLOOKUP(A153,PARAMETROS!$B$3:$C$3,2,FALSE))","v":""},null,{"$f":"IF(C153=\"\",\"\",VLOOKUP(C153,PARAMETROS!$G$3:$H$21,2,FALSE))","v":""},null,{"$f":"IF(E153=\"\",\"\",VLOOKUP(E153,PARAMETROS!$I$3:$J$21,2,FALSE))","v":""},null,null,null,null,null,null,""]
[null,{"$f":"IF(A154=\"\",\"\",VLOOKUP(A154,PARAMETROS!$B$3:$C$3,2,FALSE))","v":""},null,{"$f":"IF(C154=\"\",\"\",VLOOKUP(C154,PARAMETROS!$G$3:$H$21,2,FALSE))","v":""},null,{"$f":"IF(E154=\"\",\"\",VLOOKUP(E154,PARAMETROS!$I$3:$J$21,2,FALSE))","v":""},null,null,null,null,null,null,""]
[null,{"$f":"IF(A155=\"\",\"\",VLOOKUP(A155,PARAMETROS!$B$3:$C$3,2,FALSE))","v":""},null,{"$f":"IF(C155=\"\",\"\",VLOOKUP(C155,PARAMETROS!$G$3:$H$21,2,FALSE))","v":""},null,{"$f":"IF(E155=\"\",\"\",VLOOKUP(E155,PARAMETROS!$I$3:$J$21,2,FALSE))","v":""},null,null,null,null,null,null,""]
[null,{"$f":"IF(A156=\"\",\"\",VLOOKUP(A156,PARAMETROS!$B$3:$C$3,2,FALSE))","v":""},null,{"$f":"IF(C156=\"\",\"\",VLOOKUP(C156,PARAMETROS!$G$3:$H$21,2,FALSE))","v":""},null,{"$f":"IF(E156=\"\",\"\",VLOOKUP(E156,PARAMETROS!$I$3:$J$21,2,FALSE))","v":""},null,null,null,null,null,null,""]
[null,{"$f":"IF(A157=\"\",\"\",VLOOKUP(A157,PARAMETROS!$B$3:$C$3,2,FALSE))","v":""},null,{"$f":"IF(C157=\"\",\"\",VLOOKUP(C157,PARAMETROS!$G$3:$H$21,2,FALSE))","v":""},null,{"$f":"IF(E157=\"\",\"\",VLOOKUP(E157,PARAMETROS!$I$3:$J$21,2,FALSE))","v":""},null,null,null,null,null,null,""]
[null,{"$f":"IF(A158=\"\",\"\",VLOOKUP(A158,PARAMETROS!$B$3:$C$3,2,FALSE))","v":""},null,{"$f":"IF(C158=\"\",\"\",VLOOKUP(C158,PARAMETROS!$G$3:$H$21,2,FALSE))","v":""},null,{"$f":"IF(E158=\"\",\"\",VLOOKUP(E158,PARAMETROS!$I$3:$J$21,2,FALSE))","v":""},null,null,null,null,null,null,""]
[null,{"$f":"IF(A159=\"\",\"\",VLOOKUP(A159,PARAMETROS!$B$3:$C$3,2,FALSE))","v":""},null,{"$f":"IF(C159=\"\",\"\",VLOOKUP(C159,PARAMETROS!$G$3:$H$21,2,FALSE))","v":""},null,{"$f":"IF(E159=\"\",\"\",VLOOKUP(E159,PARAMETROS!$I$3:$J$21,2,FALSE))","v":""},null,null,null,null,null,null,""]
[null,{"$f":"IF(A160=\"\",\"\",VLOOKUP(A160,PARAMETROS!$B$3:$C$3,2,FALSE))","v":""},null,{"$f":"IF(C160=\"\",\"\",VLOOKUP(C160,PARAMETROS!$G$3:$H$21,2,FALSE))","v":""},null,{"$f":"IF(E160=\"\",\"\",VLOOKUP(E160,PARAMETROS!$I$3:$J$21,2,FALSE))","v":""},null,null,null,null,null,null,""]
[null,{"$f":"IF(A161=\"\",\"\",VLOOKUP(A161,PARAMETROS!$B$3:$C$3,2,FALSE))","v":""},null,{"$f":"IF(C161=\"\",\"\",VLOOKUP(C161,PARAMETROS!$G$3:$H$21,2,FALSE))","v":""},null,{"$f":"IF(E161=\"\",\"\",VLOOKUP(E161,PARAMETROS!$I$3:$J$21,2,FALSE))","v":""},null,null,null,null,null,null,""]
[null,{"$f":"IF(A162=\"\",\"\",VLOOKUP(A162,PARAMETROS!$B$3:$C$3,2,FALSE))","v":""},null,{"$f":"IF(C162=\"\",\"\",VLOOKUP(C162,PARAMETROS!$G$3:$H$21,2,FALSE))","v":""},null,{"$f":"IF(E162=\"\",\"\",VLOOKUP(E162,PARAMETROS!$I$3:$J$21,2,FALSE))","v":""},null,null,null,null,null,null,""]
[null,{"$f":"IF(A163=\"\",\"\",VLOOKUP(A163,PARAMETROS!$B$3:$C$3,2,FALSE))","v":""},null,{"$f":"IF(C163=\"\",\"\",VLOOKUP(C163,PARAMETROS!$G$3:$H$21,2,FALSE))","v":""},null,{"$f":"IF(E163=\"\",\"\",VLOOKUP(E163,PARAMETROS!$I$3:$J$21,2,FALSE))","v":""},null,null,null,null,null,null,""]
[null,{"$f":"IF(A164=\"\",\"\",VLOOKUP(A164,PARAMETROS!$B$3:$C$3,2,FALSE))","v":""},null,{"$f":"IF(C164=\"\",\"\",VLOOKUP(C164,PARAMETROS!$G$3:$H$21,2,FALSE))","v":""},null,{"$f":"IF(E164=\"\",\"\",VLOOKUP(E164,PARAMETROS!$I$3:$J$21,2,FALSE))","v":""},null,null,null,null,null,null,""]
[null,{"$f":"IF(A165=\"\",\"\",VLOOKUP(A165,PARAMETROS!$B$3:$C$3,2,FALSE))","v":""},null,{"$f":"IF(C165=\"\",\"\",VLOOKUP(C165,PARAMETROS!$G$3:$H$21,2,FALSE))","v":""},null,{"$f":"IF(E165=\"\",\"\",VLOOKUP(E165,PARAMETROS!$I$3:$J$21,2,FALSE))","v":""},null,null,null,null,null,null,""]
[null,{"$f":"IF(A166=\"\",\"\",VLOOKUP(A166,PARAMETROS!$B$3:$C$3,2,FALSE))","v":""},null,{"$f":"IF(C166=\"\",\"\",VLOOKUP(C166,PARAMETROS!$G$3:$H$21,2,FALSE))","v":""},null,{"$f":"IF(E166=\"\",\"\",VLOOKUP(E166,PARAMETROS!$I$3:$J$21,2,FALSE))","v":""},null,null,null,null,null,null,""]
[null,{"$f":"IF(A167=\"\",\"\",VLOOKUP(A167,PARAMETROS!$B$3:$C$3,2,FALSE))","v":""},null,{"$f":"IF(C167=\"\",\"\",VLOOKUP(C167,PARAMETROS!$G$3:$H$21,2,FALSE))","v":""},null,{"$f":"IF(E167=\"\",\"\",VLOOKUP(E167,PARAMETROS!$I$3:$J$21,2,FALSE))","v":""},null,null,null,null,null,null,""]
[null,{"$f":"IF(A168=\"\",\"\",VLOOKUP(A168,PARAMETROS!$B$3:$C$3,2,FALSE))","v":""},null,{"$f":"IF(C168=\"\",\"\",VLOOKUP(C168,PARAMETROS!$G$3:$H$21,2,FALSE))","v":""},null,{"$f":"IF(E168=\"\",\"\",VLOOKUP(E168,PARAMETROS!$I$3:$J$21,2,FALSE))","v":""},null,null,null,null,null,null,""]
[null,{"$f":"IF(A169=\"\",\"\",VLOOKUP(A169,PARAMETROS!$B$3:$C$3,2,FALSE))","v":""},null,{"$f":"IF(C169=\"\",\"\",VLOOKUP(C169,PARAMETROS!$G$3:$H$21,2,FALSE))","v":""},null,{"$f":"IF(E169=\"\",\"\",VLOOKUP(E169,PARAMETROS!$I$3:$J$21,2,FALSE))","v":""},null,null,null,null,null,null,""]
[null,{"$f":"IF(A170=\"\",\"\",VLOOKUP(A170,PARAMETROS!$B$3:$C$3,2,FALSE))","v":""},null,{"$f":"IF(C170=\"\",\"\",VLOOKUP(C170,PARAMETROS!$G$3:$H$21,2,FALSE))","v":""},null,{"$f":"IF(E170=\"\",\"\",VLOOKUP(E170,PARAMETROS!$I$3:$J$21,2,FALSE))","v":""},null,null,null,null,null,null,""]
[null,{"$f":"IF(A171=\"\",\"\",VLOOKUP(A171,PARAMETROS!$B$3:$C$3,2,FALSE))","v":""},null,{"$f":"IF(C171=\"\",\"\",VLOOKUP(C171,PARAMETROS!$G$3:$H$21,2,FALSE))","v":""},null,{"$f":"IF(E171=\"\",\"\",VLOOKUP(E171,PARAMETROS!$I$3:$J$21,2,FALSE))","v":""},null,null,null,null,null,null,""]
[null,{"$f":"IF(A172=\"\",\"\",VLOOKUP(A172,PARAMETROS!$B$3:$C$3,2,FALSE))","v":""},null,{"$f":"IF(C172=\"\",\"\",VLOOKUP(C172,PARAMETROS!$G$3:$H$21,2,FALSE))","v":""},null,{"$f":"IF(E172=\"\",\"\",VLOOKUP(E172,PARAMETROS!$I$3:$J$21,2,FALSE))","v":""},null,null,null,null,null,null,""]
[null,{"$f":"IF(A173=\"\",\"\",VLOOKUP(A173,PARAMETROS!$B$3:$C$3,2,FALSE))","v":""},null,{"$f":"IF(C173=\"\",\"\",VLOOKUP(C173,PARAMETROS!$G$3:$H$21,2,FALSE))","v":""},null,{"$f":"IF(E173=\"\",\"\",VLOOKUP(E173,PARAMETROS!$I$3:$J$21,2,FALSE))","v":""},null,null,null,null,null,null,""]
[null,{"$f":"IF(A174=\"\",\"\",VLOOKUP(A174,PARAMETROS!$B$3:$C$3,2,FALSE))","v":""},null,{"$f":"IF(C174=\"\",\"\",VLOOKUP(C174,PARAMETROS!$G$3:$H$21,2,FALSE))","v":""},null,{"$f":"IF(E174=\"\",\"\",VLOOKUP(E174,PARAMETROS!$I$3:$J$21,2,FALSE))","v":""},null,null,null,null,null,null,""]
[null,{"$f":"IF(A175=\"\",\"\",VLOOKUP(A175,PARAMETROS!$B$3:$C$3,2,FALSE))","v":""},null,{"$f":"IF(C175=\"\",\"\",VLOOKUP(C175,PARAMETROS!$G$3:$H$21,2,FALSE))","v":""},null,{"$f":"IF(E175=\"\",\"\",VLOOKUP(E175,PARAMETROS!$I$3:$J$21,2,FALSE))","v":""},null,null,null,null,null,null,""]
[null,{"$f":"IF(A176=\"\",\"\",VLOOKUP(A176,PARAMETROS!$B$3:$C$3,2,FALSE))","v":""},null,{"$f":"IF(C176=\"\",\"\",VLOOKUP(C176,PARAMETROS!$G$3:$H$21,2,FALSE))","v":""},null,{"$f":"IF(E176=\"\",\"\",VLOOKUP(E176,PARAMETROS!$I$3:$J$21,2,FALSE))","v":""},null,null,null,null,null,null,""]
[null,{"$f":"IF(A177=\"\",\"\",VLOOKUP(A177,PARAMETROS!$B$3:$C$3,2,FALSE))","v":""},null,{"$f":"IF(C177=\"\",\"\",VLOOKUP(C177,PARAMETROS!$G$3:$H$21,2,FALSE))","v":""},null,{"$f":"IF(E177=\"\",\"\",VLOOKUP(E177,PARAMETROS!$I$3:$J$21,2,FALSE))","v":""},null,null,null,null,null,null,""]
[null,{"$f":"IF(A178=\"\",\"\",VLOOKUP(A178,PARAMETROS!$B$3:$C$3,2,FALSE))","v":""},null,{"$f":"IF(C178=\"\",\"\",VLOOKUP(C178,PARAMETROS!$G$3:$H$21,2,FALSE))","v":""},null,{"$f":"IF(E178=\"\",\"\",VLOOKUP(E178,PARAMETROS!$I$3:$J$21,2,FALSE))","v":""},null,null,null,null,null,null,""]
[null,{"$f":"IF(A179=\"\",\"\",VLOOKUP(A179,PARAMETROS!$B$3:$C$3,2,FALSE))","v":""},null,{"$f":"IF(C179=\"\",\"\",VLOOKUP(C179,PARAMETROS!$G$3:$H$21,2,FALSE))","v":""},null,{"$f":"IF(E179=\"\",\"\",VLOOKUP(E179,PARAMETROS!$I$3:$J$21,2,FALSE))","v":""},null,null,null,null,null,null,""]
[null,{"$f":"IF(A180=\"\",\"\",VLOOKUP(A180,PARAMETROS!$B$3:$C$3,2,FALSE))","v":""},null,{"$f":"IF(C180=\"\",\"\",VLOOKUP(C180,PARAMETROS!$G$3:$H$21,2,FALSE))","v":""},null,{"$f":"IF(E180=\"\",\"\",VLOOKUP(E180,PARAMETROS!$I$3:$J$21,2,FALSE))","v":""},null,null,null,null,null,null,""]
[null,{"$f":"IF(A181=\"\",\"\",VLOOKUP(A181,PARAMETROS!$B$3:$C$3,2,FALSE))","v":""},null,{"$f":"IF(C181=\"\",\"\",VLOOKUP(C181,PARAMETROS!$G$3:$H$21,2,FALSE))","v":""},null,{"$f":"IF(E181=\"\",\"\",VLOOKUP(E181,PARAMETROS!$I$3:$J$21,2,FALSE))","v":""},null,null,null,null,null,null,""]
[null,{"$f":"IF(A182=\"\",\"\",VLOOKUP(A182,PARAMETROS!$B$3:$C$3,2,FALSE))","v":""},null,{"$f":"IF(C182=\"\",\"\",VLOOKUP(C182,PARAMETROS!$G$3:$H$21,2,FALSE))","v":""},null,{"$f":"IF(E182=\"\",\"\",VLOOKUP(E182,PARAMETROS!$I$3:$J$21,2,FALSE))","v":""},null,null,null,null,null,null,""]
[null,{"$f":"IF(A183=\"\",\"\",VLOOKUP(A183,PARAMETROS!$B$3:$C$3,2,FALSE))","v":""},null,{"$f":"IF(C183=\"\",\"\",VLOOKUP(C183,PARAMETROS!$G$3:$H$21,2,FALSE))","v":""},null,{"$f":"IF(E183=\"\",\"\",VLOOKUP(E183,PARAMETROS!$I$3:$J$21,2,FALSE))","v":""},null,null,null,null,null,null,""]
[null,{"$f":"IF(A184=\"\",\"\",VLOOKUP(A184,PARAMETROS!$B$3:$C$3,2,FALSE))","v":""},null,{"$f":"IF(C184=\"\",\"\",VLOOKUP(C184,PARAMETROS!$G$3:$H$21,2,FALSE))","v":""},null,{"$f":"IF(E184=\"\",\"\",VLOOKUP(E184,PARAMETROS!$I$3:$J$21,2,FALSE))","v":""},null,null,null,null,null,null,""]
[null,{"$f":"IF(A185=\"\",\"\",VLOOKUP(A185,PARAMETROS!$B$3:$C$3,2,FALSE))","v":""},null,{"$f":"IF(C185=\"\",\"\",VLOOKUP(C185,PARAMETROS!$G$3:$H$21,2,FALSE))","v":""},null,{"$f":"IF(E185=\"\",\"\",VLOOKUP(E185,PARAMETROS!$I$3:$J$21,2,FALSE))","v":""},null,null,null,null,null,null,""]
[null,{"$f":"IF(A186=\"\",\"\",VLOOKUP(A186,PARAMETROS!$B$3:$C$3,2,FALSE))","v":""},null,{"$f":"IF(C186=\"\",\"\",VLOOKUP(C186,PARAMETROS!$G$3:$H$21,2,FALSE))","v":""},null,{"$f":"IF(E186=\"\",\"\",VLOOKUP(E186,PARAMETROS!$I$3:$J$21,2,FALSE))","v":""},null,null,null,null,null,null,""]
[null,{"$f":"IF(A187=\"\",\"\",VLOOKUP(A187,PARAMETROS!$B$3:$C$3,2,FALSE))","v":""},null,{"$f":"IF(C187=\"\",\"\",VLOOKUP(C187,PARAMETROS!$G$3:$H$21,2,FALSE))","v":""},null,{"$f":"IF(E187=\"\",\"\",VLOOKUP(E187,PARAMETROS!$I$3:$J$21,2,FALSE))","v":""},null,null,null,null,null,null,""]
[null,{"$f":"IF(A188=\"\",\"\",VLOOKUP(A188,PARAMETROS!$B$3:$C$3,2,FALSE))","v":""},null,{"$f":"IF(C188=\"\",\"\",VLOOKUP(C188,PARAMETROS!$G$3:$H$21,2,FALSE))","v":""},null,{"$f":"IF(E188=\"\",\"\",VLOOKUP(E188,PARAMETROS!$I$3:$J$21,2,FALSE))","v":""},null,null,null,null,null,null,""]
[null,{"$f":"IF(A189=\"\",\"\",VLOOKUP(A189,PARAMETROS!$B$3:$C$3,2,FALSE))","v":""},null,{"$f":"IF(C189=\"\",\"\",VLOOKUP(C189,PARAMETROS!$G$3:$H$21,2,FALSE))","v":""},null,{"$f":"IF(E189=\"\",\"\",VLOOKUP(E189,PARAMETROS!$I$3:$J$21,2,FALSE))","v":""},null,null,null,null,null,null,""]
[null,{"$f":"IF(A190=\"\",\"\",VLOOKUP(A190,PARAMETROS!$B$3:$C$3,2,FALSE))","v":""},null,{"$f":"IF(C190=\"\",\"\",VLOOKUP(C190,PARAMETROS!$G$3:$H$21,2,FALSE))","v":""},null,{"$f":"IF(E190=\"\",\"\",VLOOKUP(E190,PARAMETROS!$I$3:$J$21,2,FALSE))","v":""},null,null,null,null,null,null,""]
[null,{"$f":"IF(A191=\"\",\"\",VLOOKUP(A191,PARAMETROS!$B$3:$C$3,2,FALSE))","v":""},null,{"$f":"IF(C191=\"\",\"\",VLOOKUP(C191,PARAMETROS!$G$3:$H$21,2,FALSE))","v":""},null,{"$f":"IF(E191=\"\",\"\",VLOOKUP(E191,PARAMETROS!$I$3:$J$21,2,FALSE))","v":""},null,null,null,null,null,null,""]
[null,{"$f":"IF(A192=\"\",\"\",VLOOKUP(A192,PARAMETROS!$B$3:$C$3,2,FALSE))","v":""},null,{"$f":"IF(C192=\"\",\"\",VLOOKUP(C192,PARAMETROS!$G$3:$H$21,2,FALSE))","v":""},null,{"$f":"IF(E192=\"\",\"\",VLOOKUP(E192,PARAMETROS!$I$3:$J$21,2,FALSE))","v":""},null,null,null,null,null,null,""]
[null,{"$f":"IF(A193=\"\",\"\",VLOOKUP(A193,PARAMETROS!$B$3:$C$3,2,FALSE))","v":""},null,{"$f":"IF(C193=\"\",\"\",VLOOKUP(C193,PARAMETROS!$G$3:$H$21,2,FALSE))","v":""},null,{"$f":"IF(E193=\"\",\"\",VLOOKUP(E193,PARAMETROS!$I$3:$J$21,2,FALSE))","v":""},null,null,null,null,null,null,""]
[null,{"$f":"IF(A194=\"\",\"\",VLOOKUP(A194,PARAMETROS!$B$3:$C$3,2,FALSE))","v":""},null,{"$f":"IF(C194=\"\",\"\",VLOOKUP(C194,PARAMETROS!$G$3:$H$21,2,FALSE))","v":""},null,{"$f":"IF(E194=\"\",\"\",VLOOKUP(E194,PARAMETROS!$I$3:$J$21,2,FALSE))","v":""},null,null,null,null,null,null,""]
[null,{"$f":"IF(A195=\"\",\"\",VLOOKUP(A195,PARAMETROS!$B$3:$C$3,2,FALSE))","v":""},null,{"$f":"IF(C195=\"\",\"\",VLOOKUP(C195,PARAMETROS!$G$3:$H$21,2,FALSE))","v":""},null,{"$f":"IF(E195=\"\",\"\",VLOOKUP(E195,PARAMETROS!$I$3:$J$21,2,FALSE))","v":""},null,null,null,null,null,null,""]
[null,{"$f":"IF(A196=\"\",\"\",VLOOKUP(A196,PARAMETROS!$B$3:$C$3,2,FALSE))","v":""},null,{"$f":"IF(C196=\"\",\"\",VLOOKUP(C196,PARAMETROS!$G$3:$H$21,2,FALSE))","v":""},null,{"$f":"IF(E196=\"\",\"\",VLOOKUP(E196,PARAMETROS!$I$3:$J$21,2,FALSE))","v":""},null,null,null,null,null,null,""]
[null,{"$f":"IF(A197=\"\",\"\",VLOOKUP(A197,PARAMETROS!$B$3:$C$3,2,FALSE))","v":""},null,{"$f":"IF(C197=\"\",\"\",VLOOKUP(C197,PARAMETROS!$G$3:$H$21,2,FALSE))","v":""},null,{"$f":"IF(E197=\"\",\"\",VLOOKUP(E197,PARAMETROS!$I$3:$J$21,2,FALSE))","v":""},null,null,null,null,null,null,""]
[null,{"$f":"IF(A198=\"\",\"\",VLOOKUP(A198,PARAMETROS!$B$3:$C$3,2,FALSE))","v":""},null,{"$f":"IF(C198=\"\",\"\",VLOOKUP(C198,PARAMETROS!$G$3:$H$21,2,FALSE))","v":""},null,{"$f":"IF(E198=\"\",\"\",VLOOKUP(E198,PARAMETROS!$I$3:$J$21,2,FALSE))","v":""},null,null,null,null,null,null,""]
[null,{"$f":"IF(A199=\"\",\"\",VLOOKUP(A199,PARAMETROS!$B$3:$C$3,2,FALSE))","v":""},null,{"$f":"IF(C199=\"\",\"\",VLOOKUP(C199,PARAMETROS!$G$3:$H$21,2,FALSE))","v":""},null,{"$f":"IF(E199=\"\",\"\",VLOOKUP(E199,PARAMETROS!$I$3:$J$21,2,FALSE))","v":""},null,null,null,null,null,null,""]
[null,{"$f":"IF(A200=\"\",\"\",VLOOKUP(A200,PARAMETROS!$B$3:$C$3,2,FALSE))","v":""},null,{"$f":"IF(C200=\"\",\"\",VLOOKUP(C200,PARAMETROS!$G$3:$H$21,2,FALSE))","v":""},null,{"$f":"IF(E200=\"\",\"\",VLOOKUP(E200,PARAMETROS!$I$3:$J$21,2,FALSE))","v":""},null,null,null,null,null,null,""]
[null,{"$f":"IF(A201=\"\",\"\",VLOOKUP(A201,PARAMETROS!$B$3:$C$3,2,FALSE))","v":""},null,{"$f":"IF(C201=\"\",\"\",VLOOKUP(C201,PARAMETROS!$G$3:$H$21,2,FALSE))","v":""},null,{"$f":"IF(E201=\"\",\"\",VLOOKUP(E201,PARAMETROS!$I$3:$J$21,2,FALSE))","v":""},null,null,null,null,null,null,""]
[null,{"$f":"IF(A202=\"\",\"\",VLOOKUP(A202,PARAMETROS!$B$3:$C$3,2,FALSE))","v":""},null,{"$f":"IF(C202=\"\",\"\",VLOOKUP(C202,PARAMETROS!$G$3:$H$21,2,FALSE))","v":""},null,{"$f":"IF(E202=\"\",\"\",VLOOKUP(E202,PARAMETROS!$I$3:$J$21,2,FALSE))","v":""},null,null,null,null,null,null,""]
[null,{"$f":"IF(A203=\"\",\"\",VLOOKUP(A203,PARAMETROS!$B$3:$C$3,2,FALSE))","v":""},null,{"$f":"IF(C203=\"\",\"\",VLOOKUP(C203,PARAMETROS!$G$3:$H$21,2,FALSE))","v":""},null,{"$f":"IF(E203=\"\",\"\",VLOOKUP(E203,PARAMETROS!$I$3:$J$21,2,FALSE))","v":""},null,null,null,null,null,null,""]
[null,{"$f":"IF(A204=\"\",\"\",VLOOKUP(A204,PARAMETROS!$B$3:$C$3,2,FALSE))","v":""},null,{"$f":"IF(C204=\"\",\"\",VLOOKUP(C204,PARAMETROS!$G$3:$H$21,2,FALSE))","v":""},null,{"$f":"IF(E204=\"\",\"\",VLOOKUP(E204,PARAMETROS!$I$3:$J$21,2,FALSE))","v":""},null,null,null,null,null,null,""]
[null,{"$f":"IF(A205=\"\",\"\",VLOOKUP(A205,PARAMETROS!$B$3:$C$3,2,FALSE))","v":""},null,{"$f":"IF(C205=\"\",\"\",VLOOKUP(C205,PARAMETROS!$G$3:$H$21,2,FALSE))","v":""},null,{"$f":"IF(E205=\"\",\"\",VLOOKUP(E205,PARAMETROS!$I$3:$J$21,2,FALSE))","v":""},null,null,null,null,null,null,""]
[null,{"$f":"IF(A206=\"\",\"\",VLOOKUP(A206,PARAMETROS!$B$3:$C$3,2,FALSE))","v":""},null,{"$f":"IF(C206=\"\",\"\",VLOOKUP(C206,PARAMETROS!$G$3:$H$21,2,FALSE))","v":""},null,{"$f":"IF(E206=\"\",\"\",VLOOKUP(E206,PARAMETROS!$I$3:$J$21,2,FALSE))","v":""},null,null,null,null,null,null,""]
[null,{"$f":"IF(A207=\"\",\"\",VLOOKUP(A207,PARAMETROS!$B$3:$C$3,2,FALSE))","v":""},null,{"$f":"IF(C207=\"\",\"\",VLOOKUP(C207,PARAMETROS!$G$3:$H$21,2,FALSE))","v":""},null,{"$f":"IF(E207=\"\",\"\",VLOOKUP(E207,PARAMETROS!$I$3:$J$21,2,FALSE))","v":""},null,null,null,null,null,null,{"$f":"IF(L207=\"\", \"\", L207)","v":""}]
[null,{"$f":"IF(A208=\"\",\"\",VLOOKUP(A208,PARAMETROS!$B$3:$C$3,2,FALSE))","v":""},null,{"$f":"IF(C208=\"\",\"\",VLOOKUP(C208,PARAMETROS!$G$3:$H$21,2,FALSE))","v":""},null,{"$f":"IF(E208=\"\",\"\",VLOOKUP(E208,PARAMETROS!$I$3:$J$21,2,FALSE))","v":""},null,null,null,null,null,null,""]
[null,{"$f":"IF(A209=\"\",\"\",VLOOKUP(A209,PARAMETROS!$B$3:$C$3,2,FALSE))","v":""},null,{"$f":"IF(C209=\"\",\"\",VLOOKUP(C209,PARAMETROS!$G$3:$H$21,2,FALSE))","v":""},null,{"$f":"IF(E209=\"\",\"\",VLOOKUP(E209,PARAMETROS!$I$3:$J$21,2,FALSE))","v":""},null,null,null,null,null,null,""]
[null,{"$f":"IF(A210=\"\",\"\",VLOOKUP(A210,PARAMETROS!$B$3:$C$3,2,FALSE))","v":""},null,{"$f":"IF(C210=\"\",\"\",VLOOKUP(C210,PARAMETROS!$G$3:$H$21,2,FALSE))","v":""},null,{"$f":"IF(E210=\"\",\"\",VLOOKUP(E210,PARAMETROS!$I$3:$J$21,2,FALSE))","v":""},null,null,null,null,null,null,""]
[null,{"$f":"IF(A211=\"\",\"\",VLOOKUP(A211,PARAMETROS!$B$3:$C$3,2,FALSE))","v":""},null,{"$f":"IF(C211=\"\",\"\",VLOOKUP(C211,PARAMETROS!$G$3:$H$21,2,FALSE))","v":""},null,{"$f":"IF(E211=\"\",\"\",VLOOKUP(E211,PARAMETROS!$I$3:$J$21,2,FALSE))","v":""},null,null,null,null,null,null,""]
[null,{"$f":"IF(A212=\"\",\"\",VLOOKUP(A212,PARAMETROS!$B$3:$C$3,2,FALSE))","v":""},null,{"$f":"IF(C212=\"\",\"\",VLOOKUP(C212,PARAMETROS!$G$3:$H$21,2,FALSE))","v":""},null,{"$f":"IF(E212=\"\",\"\",VLOOKUP(E212,PARAMETROS!$I$3:$J$21,2,FALSE))","v":""},null,null,null,null,null,null,""]
[null,{"$f":"IF(A213=\"\",\"\",VLOOKUP(A213,PARAMETROS!$B$3:$C$3,2,FALSE))","v":""},null,{"$f":"IF(C213=\"\",\"\",VLOOKUP(C213,PARAMETROS!$G$3:$H$21,2,FALSE))","v":""},null,{"$f":"IF(E213=\"\",\"\",VLOOKUP(E213,PARAMETROS!$I$3:$J$21,2,FALSE))","v":""},null,null,null,null,null,null,""]
[null,{"$f":"IF(A214=\"\",\"\",VLOOKUP(A214,PARAMETROS!$B$3:$C$3,2,FALSE))","v":""},null,{"$f":"IF(C214=\"\",\"\",VLOOKUP(C214,PARAMETROS!$G$3:$H$21,2,FALSE))","v":""},null,{"$f":"IF(E214=\"\",\"\",VLOOKUP(E214,PARAMETROS!$I$3:$J$21,2,FALSE))","v":""},null,null,null,null,null,null,""]
[null,{"$f":"IF(A215=\"\",\"\",VLOOKUP(A215,PARAMETROS!$B$3:$C$3,2,FALSE))","v":""},null,{"$f":"IF(C215=\"\",\"\",VLOOKUP(C215,PARAMETROS!$G$3:$H$21,2,FALSE))","v":""},null,{"$f":"IF(E215=\"\",\"\",VLOOKUP(E215,PARAMETROS!$I$3:$J$21,2,FALSE))","v":""},null,null,null,null,null,null,""]
[null,{"$f":"IF(A216=\"\",\"\",VLOOKUP(A216,PARAMETROS!$B$3:$C$3,2,FALSE))","v":""},null,{"$f":"IF(C216=\"\",\"\",VLOOKUP(C216,PARAMETROS!$G$3:$H$21,2,FALSE))","v":""},null,{"$f":"IF(E216=\"\",\"\",VLOOKUP(E216,PARAMETROS!$I$3:$J$21,2,FALSE))","v":""},null,null,null,null,null,null,""]
[null,{"$f":"IF(A217=\"\",\"\",VLOOKUP(A217,PARAMETROS!$B$3:$C$3,2,FALSE))","v":""},null,{"$f":"IF(C217=\"\",\"\",VLOOKUP(C217,PARAMETROS!$G$3:$H$21,2,FALSE))","v":""},null,{"$f":"IF(E217=\"\",\"\",VLOOKUP(E217,PARAMETROS!$I$3:$J$21,2,FALSE))","v":""},null,null,null,null,null,null,""]
[null,{"$f":"IF(A218=\"\",\"\",VLOOKUP(A218,PARAMETROS!$B$3:$C$3,2,FALSE))","v":""},null,{"$f":"IF(C218=\"\",\"\",VLOOKUP(C218,PARAMETROS!$G$3:$H$21,2,FALSE))","v":""},null,{"$f":"IF(E218=\"\",\"\",VLOOKUP(E218,PARAMETROS!$I$3:$J$21,2,FALSE))","v":""},null,null,null,null,null,null,""]
[null,{"$f":"IF(A219=\"\",\"\",VLOOKUP(A219,PARAMETROS!$B$3:$C$3,2,FALSE))","v":""},null,{"$f":"IF(C219=\"\",\"\",VLOOKUP(C219,PARAMETROS!$G$3:$H$21,2,FALSE))","v":""},null,{"$f":"IF(E219=\"\",\"\",VLOOKUP(E219,PARAMETROS!$I$3:$J$21,2,FALSE))","v":""},null,null,null,null,null,null,""]
[null,{"$f":"IF(A220=\"\",\"\",VLOOKUP(A220,PARAMETROS!$B$3:$C$3,2,FALSE))","v":""},null,{"$f":"IF(C220=\"\",\"\",VLOOKUP(C220,PARAMETROS!$G$3:$H$21,2,FALSE))","v":""},null,{"$f":"IF(E220=\"\",\"\",VLOOKUP(E220,PARAMETROS!$I$3:$J$21,2,FALSE))","v":""},null,null,null,null,null,null,""]
[null,{"$f":"IF(A221=\"\",\"\",VLOOKUP(A221,PARAMETROS!$B$3:$C$3,2,FALSE))","v":""},null,{"$f":"IF(C221=\"\",\"\",VLOOKUP(C221,PARAMETROS!$G$3:$H$21,2,FALSE))","v":""},null,{"$f":"IF(E221=\"\",\"\",VLOOKUP(E221,PARAMETROS!$I$3:$J$21,2,FALSE))","v":""},null,null,null,null,null,null,""]
[null,{"$f":"IF(A222=\"\",\"\",VLOOKUP(A222,PARAMETROS!$B$3:$C$3,2,FALSE))","v":""},null,{"$f":"IF(C222=\"\",\"\",VLOOKUP(C222,PARAMETROS!$G$3:$H$21,2,FALSE))","v":""},null,{"$f":"IF(E222=\"\",\"\",VLOOKUP(E222,PARAMETROS!$I$3:$J$21,2,FALSE))","v":""},null,null,null,null,null,null,""]
[null,{"$f":"IF(A223=\"\",\"\",VLOOKUP(A223,PARAMETROS!$B$3:$C$3,2,FALSE))","v":""},null,{"$f":"IF(C223=\"\",\"\",VLOOKUP(C223,PARAMETROS!$G$3:$H$21,2,FALSE))","v":""},null,{"$f":"IF(E223=\"\",\"\",VLOOKUP(E223,PARAMETROS!$I$3:$J$21,2,FALSE))","v":""},null,null,null,null,null,null,""]
[null,{"$f":"IF(A224=\"\",\"\",VLOOKUP(A224,PARAMETROS!$B$3:$C$3,2,FALSE))","v":""},null,{"$f":"IF(C224=\"\",\"\",VLOOKUP(C224,PARAMETROS!$G$3:$H$21,2,FALSE))","v":""},null,{"$f":"IF(E224=\"\",\"\",VLOOKUP(E224,PARAMETROS!$I$3:$J$21,2,FALSE))","v":""},null,null,null,null,null,null,""]
[null,{"$f":"IF(A225=\"\",\"\",VLOOKUP(A225,PARAMETROS!$B$3:$C$3,2,FALSE))","v":""},null,{"$f":"IF(C225=\"\",\"\",VLOOKUP(C225,PARAMETROS!$G$3:$H$21,2,FALSE))","v":""},null,{"$f":"IF(E225=\"\",\"\",VLOOKUP(E225,PARAMETROS!$I$3:$J$21,2,FALSE))","v":""},null,null,null,null,null,null,""]
[null,{"$f":"IF(A226=\"\",\"\",VLOOKUP(A226,PARAMETROS!$B$3:$C$3,2,FALSE))","v":""},null,{"$f":"IF(C226=\"\",\"\",VLOOKUP(C226,PARAMETROS!$G$3:$H$21,2,FALSE))","v":""},null,{"$f":"IF(E226=\"\",\"\",VLOOKUP(E226,PARAMETROS!$I$3:$J$21,2,FALSE))","v":""},null,null,null,null,null,null,""]
[null,{"$f":"IF(A227=\"\",\"\",VLOOKUP(A227,PARAMETROS!$B$3:$C$3,2,FALSE))","v":""},null,{"$f":"IF(C227=\"\",\"\",VLOOKUP(C227,PARAMETROS!$G$3:$H$21,2,FALSE))","v":""},null,{"$f":"IF(E227=\"\",\"\",VLOOKUP(E227,PARAMETROS!$I$3:$J$21,2,FALSE))","v":""},null,null,null,null,null,null,""]
[null,{"$f":"IF(A228=\"\",\"\",VLOOKUP(A228,PARAMETROS!$B$3:$C$3,2,FALSE))","v":""},null,{"$f":"IF(C228=\"\",\"\",VLOOKUP(C228,PARAMETROS!$G$3:$H$21,2,FALSE))","v":""},null,{"$f":"IF(E228=\"\",\"\",VLOOKUP(E228,PARAMETROS!$I$3:$J$21,2,FALSE))","v":""},null,null,null,null,null,null,""]
[null,{"$f":"IF(A229=\"\",\"\",VLOOKUP(A229,PARAMETROS!$B$3:$C$3,2,FALSE))","v":""},null,{"$f":"IF(C229=\"\",\"\",VLOOKUP(C229,PARAMETROS!$G$3:$H$21,2,FALSE))","v":""},null,{"$f":"IF(E229=\"\",\"\",VLOOKUP(E229,PARAMETROS!$I$3:$J$21,2,FALSE))","v":""},null,null,null,null,null,null,""]
[null,{"$f":"IF(A230=\"\",\"\",VLOOKUP(A230,PARAMETROS!$B$3:$C$3,2,FALSE))","v":""},null,{"$f":"IF(C230=\"\",\"\",VLOOKUP(C230,PARAMETROS!$G$3:$H$21,2,FALSE))","v":""},null,{"$f":"IF(E230=\"\",\"\",VLOOKUP(E230,PARAMETROS!$I$3:$J$21,2,FALSE))","v":""},null,null,null,null,null,null,""]
[null,{"$f":"IF(A231=\"\",\"\",VLOOKUP(A231,PARAMETROS!$B$3:$C$3,2,FALSE))","v":""},null,{"$f":"IF(C231=\"\",\"\",VLOOKUP(C231,PARAMETROS!$G$3:$H$21,2,FALSE))","v":""},null,{"$f":"IF(E231=\"\",\"\",VLOOKUP(E231,PARAMETROS!$I$3:$J$21,2,FALSE))","v":""},null,null,null,null,null,null,""]
[null,{"$f":"IF(A232=\"\",\"\",VLOOKUP(A232,PARAMETROS!$B$3:$C$3,2,FALSE))","v":""},null,{"$f":"IF(C232=\"\",\"\",VLOOKUP(C232,PARAMETROS!$G$3:$H$21,2,FALSE))","v":""},null,{"$f":"IF(E232=\"\",\"\",VLOOKUP(E232,PARAMETROS!$I$3:$J$21,2,FALSE))","v":""},null,null,null,null,null,null,""]
[null,{"$f":"IF(A233=\"\",\"\",VLOOKUP(A233,PARAMETROS!$B$3:$C$3,2,FALSE))","v":""},null,{"$f":"IF(C233=\"\",\"\",VLOOKUP(C233,PARAMETROS!$G$3:$H$21,2,FALSE))","v":""},null,{"$f":"IF(E233=\"\",\"\",VLOOKUP(E233,PARAMETROS!$I$3:$J$21,2,FALSE))","v":""},null,null,null,null,null,null,""]
[null,{"$f":"IF(A234=\"\",\"\",VLOOKUP(A234,PARAMETROS!$B$3:$C$3,2,FALSE))","v":""},null,{"$f":"IF(C234=\"\",\"\",VLOOKUP(C234,PARAMETROS!$G$3:$H$21,2,FALSE))","v":""},null,{"$f":"IF(E234=\"\",\"\",VLOOKUP(E234,PARAMETROS!$I$3:$J$21,2,FALSE))","v":""},null,null,null,null,null,null,""]
[null,{"$f":"IF(A235=\"\",\"\",VLOOKUP(A235,PARAMETROS!$B$3:$C$3,2,FALSE))","v":""},null,{"$f":"IF(C235=\"\",\"\",VLOOKUP(C235,PARAMETROS!$G$3:$H$21,2,FALSE))","v":""},null,{"$f":"IF(E235=\"\",\"\",VLOOKUP(E235,PARAMETROS!$I$3:$J$21,2,FALSE))","v":""},null,null,null,null,null,null,""]
[null,{"$f":"IF(A236=\"\",\"\",VLOOKUP(A236,PARAMETROS!$B$3:$C$3,2,FALSE))","v":""},null,{"$f":"IF(C236=\"\",\"\",VLOOKUP(C236,PARAMETROS!$G$3:$H$21,2,FALSE))","v":""},null,{"$f":"IF(E236=\"\",\"\",VLOOKUP(E236,PARAMETROS!$I$3:$J$21,2,FALSE))","v":""},null,null,null,null,null,null,""]
[null,{"$f":"IF(A237=\"\",\"\",VLOOKUP(A237,PARAMETROS!$B$3:$C$3,2,FALSE))","v":""},null,{"$f":"IF(C237=\"\",\"\",VLOOKUP(C237,PARAMETROS!$G$3:$H$21,2,FALSE))","v":""},null,{"$f":"IF(E237=\"\",\"\",VLOOKUP(E237,PARAMETROS!$I$3:$J$21,2,FALSE))","v":""},null,null,null,null,null,null,""]
[null,{"$f":"IF(A238=\"\",\"\",VLOOKUP(A238,PARAMETROS!$B$3:$C$3,2,FALSE))","v":""},null,{"$f":"IF(C238=\"\",\"\",VLOOKUP(C238,PARAMETROS!$G$3:$H$21,2,FALSE))","v":""},null,{"$f":"IF(E238=\"\",\"\",VLOOKUP(E238,PARAMETROS!$I$3:$J$21,2,FALSE))","v":""},null,null,null,null,null,null,""]
[null,{"$f":"IF(A239=\"\",\"\",VLOOKUP(A239,PARAMETROS!$B$3:$C$3,2,FALSE))","v":""},null,{"$f":"IF(C239=\"\",\"\",VLOOKUP(C239,PARAMETROS!$G$3:$H$21,2,FALSE))","v":""},null,{"$f":"IF(E239=\"\",\"\",VLOOKUP(E239,PARAMETROS!$I$3:$J$21,2,FALSE))","v":""},null,null,null,null,null,null,""]
[null,{"$f":"IF(A240=\"\",\"\",VLOOKUP(A240,PARAMETROS!$B$3:$C$3,2,FALSE))","v":""},null,{"$f":"IF(C240=\"\",\"\",VLOOKUP(C240,PARAMETROS!$G$3:$H$21,2,FALSE))","v":""},null,{"$f":"IF(E240=\"\",\"\",VLOOKUP(E240,PARAMETROS!$I$3:$J$21,2,FALSE))","v":""},null,null,null,null,null,null,""]
[null,{"$f":"IF(A241=\"\",\"\",VLOOKUP(A241,PARAMETROS!$B$3:$C$3,2,FALSE))","v":""},null,{"$f":"IF(C241=\"\",\"\",VLOOKUP(C241,PARAMETROS!$G$3:$H$21,2,FALSE))","v":""},null,{"$f":"IF(E241=\"\",\"\",VLOOKUP(E241,PARAMETROS!$I$3:$J$21,2,FALSE))","v":""},null,null,null,null,null,null,""]
[null,{"$f":"IF(A242=\"\",\"\",VLOOKUP(A242,PARAMETROS!$B$3:$C$3,2,FALSE))","v":""},null,{"$f":"IF(C242=\"\",\"\",VLOOKUP(C242,PARAMETROS!$G$3:$H$21,2,FALSE))","v":""},null,{"$f":"IF(E242=\"\",\"\",VLOOKUP(E242,PARAMETROS!$I$3:$J$21,2,FALSE))","v":""},null,null,null,null,null,null,""]
[null,{"$f":"IF(A243=\"\",\"\",VLOOKUP(A243,PARAMETROS!$B$3:$C$3,2,FALSE))","v":""},null,{"$f":"IF(C243=\"\",\"\",VLOOKUP(C243,PARAMETROS!$G$3:$H$21,2,FALSE))","v":""},null,{"$f":"IF(E243=\"\",\"\",VLOOKUP(E243,PARAMETROS!$I$3:$J$21,2,FALSE))","v":""},null,null,null,null,null,null,""]
[null,{"$f":"IF(A244=\"\",\"\",VLOOKUP(A244,PARAMETROS!$B$3:$C$3,2,FALSE))","v":""},null,{"$f":"IF(C244=\"\",\"\",VLOOKUP(C244,PARAMETROS!$G$3:$H$21,2,FALSE))","v":""},null,{"$f":"IF(E244=\"\",\"\",VLOOKUP(E244,PARAMETROS!$I$3:$J$21,2,FALSE))","v":""},null,null,null,null,null,null,""]
[null,{"$f":"IF(A245=\"\",\"\",VLOOKUP(A245,PARAMETROS!$B$3:$C$3,2,FALSE))","v":""},null,{"$f":"IF(C245=\"\",\"\",VLOOKUP(C245,PARAMETROS!$G$3:$H$21,2,FALSE))","v":""},null,{"$f":"IF(E245=\"\",\"\",VLOOKUP(E245,PARAMETROS!$I$3:$J$21,2,FALSE))","v":""},null,null,null,null,null,null,""]
[null,{"$f":"IF(A246=\"\",\"\",VLOOKUP(A246,PARAMETROS!$B$3:$C$3,2,FALSE))","v":""},null,{"$f":"IF(C246=\"\",\"\",VLOOKUP(C246,PARAMETROS!$G$3:$H$21,2,FALSE))","v":""},null,{"$f":"IF(E246=\"\",\"\",VLOOKUP(E246,PARAMETROS!$I$3:$J$21,2,FALSE))","v":""},null,null,null,null,null,null,""]
[null,{"$f":"IF(A247=\"\",\"\",VLOOKUP(A247,PARAMETROS!$B$3:$C$3,2,FALSE))","v":""},null,{"$f":"IF(C247=\"\",\"\",VLOOKUP(C247,PARAMETROS!$G$3:$H$21,2,FALSE))","v":""},null,{"$f":"IF(E247=\"\",\"\",VLOOKUP(E247,PARAMETROS!$I$3:$J$21,2,FALSE))","v":""},null,null,null,null,null,null,""]
[null,{"$f":"IF(A248=\"\",\"\",VLOOKUP(A248,PARAMETROS!$B$3:$C$3,2,FALSE))","v":""},null,{"$f":"IF(C248=\"\",\"\",VLOOKUP(C248,PARAMETROS!$G$3:$H$21,2,FALSE))","v":""},null,{"$f":"IF(E248=\"\",\"\",VLOOKUP(E248,PARAMETROS!$I$3:$J$21,2,FALSE))","v":""},null,null,null,null,null,null,""]
[null,{"$f":"IF(A249=\"\",\"\",VLOOKUP(A249,PARAMETROS!$B$3:$C$3,2,FALSE))","v":""},null,{"$f":"IF(C249=\"\",\"\",VLOOKUP(C249,PARAMETROS!$G$3:$H$21,2,FALSE))","v":""},null,{"$f":"IF(E249=\"\",\"\",VLOOKUP(E249,PARAMETROS!$I$3:$J$21,2,FALSE))","v":""},null,null,null,null,null,null,""]
[null,{"$f":"IF(A250=\"\",\"\",VLOOKUP(A250,PARAMETROS!$B$3:$C$3,2,FALSE))","v":""},null,{"$f":"IF(C250=\"\",\"\",VLOOKUP(C250,PARAMETROS!$G$3:$H$21,2,FALSE))","v":""},null,{"$f":"IF(E250=\"\",\"\",VLOOKUP(E250,PARAMETROS!$I$3:$J$21,2,FALSE))","v":""},null,null,null,null,null,null,""]
[null,{"$f":"IF(A251=\"\",\"\",VLOOKUP(A251,PARAMETROS!$B$3:$C$3,2,FALSE))","v":""},null,{"$f":"IF(C251=\"\",\"\",VLOOKUP(C251,PARAMETROS!$G$3:$H$21,2,FALSE))","v":""},null,{"$f":"IF(E251=\"\",\"\",VLOOKUP(E251,PARAMETROS!$I$3:$J$21,2,FALSE))","v":""},null,null,null,null,null,null,""]
[null,{"$f":"IF(A252=\"\",\"\",VLOOKUP(A252,PARAMETROS!$B$3:$C$3,2,FALSE))","v":""},null,{"$f":"IF(C252=\"\",\"\",VLOOKUP(C252,PARAMETROS!$G$3:$H$21,2,FALSE))","v":""},null,{"$f":"IF(E252=\"\",\"\",VLOOKUP(E252,PARAMETROS!$I$3:$J$21,2,FALSE))","v":""},null,null,null,null,null,null,""]
[null,{"$f":"IF(A253=\"\",\"\",VLOOKUP(A253,PARAMETROS!$B$3:$C$3,2,FALSE))","v":""},null,{"$f":"IF(C253=\"\",\"\",VLOOKUP(C253,PARAMETROS!$G$3:$H$21,2,FALSE))","v":""},null,{"$f":"IF(E253=\"\",\"\",VLOOKUP(E253,PARAMETROS!$I$3:$J$21,2,FALSE))","v":""},null,null,null,null,null,null,""]
[null,{"$f":"IF(A254=\"\",\"\",VLOOKUP(A254,PARAMETROS!$B$3:$C$3,2,FALSE))","v":""},null,{"$f":"IF(C254=\"\",\"\",VLOOKUP(C254,PARAMETROS!$G$3:$H$21,2,FALSE))","v":""},null,{"$f":"IF(E254=\"\",\"\",VLOOKUP(E254,PARAMETROS!$I$3:$J$21,2,FALSE))","v":""},null,null,null,null,null,null,""]
[null,{"$f":"IF(A255=\"\",\"\",VLOOKUP(A255,PARAMETROS!$B$3:$C$3,2,FALSE))","v":""},null,{"$f":"IF(C255=\"\",\"\",VLOOKUP(C255,PARAMETROS!$G$3:$H$21,2,FALSE))","v":""},null,{"$f":"IF(E255=\"\",\"\",VLOOKUP(E255,PARAMETROS!$I$3:$J$21,2,FALSE))","v":""},null,null,null,null,null,null,""]
[null,{"$f":"IF(A256=\"\",\"\",VLOOKUP(A256,PARAMETROS!$B$3:$C$3,2,FALSE))","v":""},null,{"$f":"IF(C256=\"\",\"\",VLOOKUP(C256,PARAMETROS!$G$3:$H$21,2,FALSE))","v":""},null,{"$f":"IF(E256=\"\",\"\",VLOOKUP(E256,PARAMETROS!$I$3:$J$21,2,FALSE))","v":""},null,null,null,null,null,null,""]
[null,{"$f":"IF(A257=\"\",\"\",VLOOKUP(A257,PARAMETROS!$B$3:$C$3,2,FALSE))","v":""},null,{"$f":"IF(C257=\"\",\"\",VLOOKUP(C257,PARAMETROS!$G$3:$H$21,2,FALSE))","v":""},null,{"$f":"IF(E257=\"\",\"\",VLOOKUP(E257,PARAMETROS!$I$3:$J$21,2,FALSE))","v":""},null,null,null,null,null,null,""]
[null,{"$f":"IF(A258=\"\",\"\",VLOOKUP(A258,PARAMETROS!$B$3:$C$3,2,FALSE))","v":""},null,{"$f":"IF(C258=\"\",\"\",VLOOKUP(C258,PARAMETROS!$G$3:$H$21,2,FALSE))","v":""},null,{"$f":"IF(E258=\"\",\"\",VLOOKUP(E258,PARAMETROS!$I$3:$J$21,2,FALSE))","v":""},null,null,null,null,null,null,""]
[null,{"$f":"IF(A259=\"\",\"\",VLOOKUP(A259,PARAMETROS!$B$3:$C$3,2,FALSE))","v":""},null,{"$f":"IF(C259=\"\",\"\",VLOOKUP(C259,PARAMETROS!$G$3:$H$21,2,FALSE))","v":""},null,{"$f":"IF(E259=\"\",\"\",VLOOKUP(E259,PARAMETROS!$I$3:$J$21,2,FALSE))","v":""},null,null,null,null,null,null,""]
[null,{"$f":"IF(A260=\"\",\"\",VLOOKUP(A260,PARAMETROS!$B$3:$C$3,2,FALSE))","v":""},null,{"$f":"IF(C260=\"\",\"\",VLOOKUP(C260,PARAMETROS!$G$3:$H$21,2,FALSE))","v":""},null,{"$f":"IF(E260=\"\",\"\",VLOOKUP(E260,PARAMETROS!$I$3:$J$21,2,FALSE))","v":""},null,null,null,null,null,null,""]
[null,{"$f":"IF(A261=\"\",\"\",VLOOKUP(A261,PARAMETROS!$B$3:$C$3,2,FALSE))","v":""},null,{"$f":"IF(C261=\"\",\"\",VLOOKUP(C261,PARAMETROS!$G$3:$H$21,2,FALSE))","v":""},null,{"$f":"IF(E261=\"\",\"\",VLOOKUP(E261,PARAMETROS!$I$3:$J$21,2,FALSE))","v":""},null,null,null,null,null,null,""]
[null,{"$f":"IF(A262=\"\",\"\",VLOOKUP(A262,PARAMETROS!$B$3:$C$3,2,FALSE))","v":""},null,{"$f":"IF(C262=\"\",\"\",VLOOKUP(C262,PARAMETROS!$G$3:$H$21,2,FALSE))","v":""},null,{"$f":"IF(E262=\"\",\"\",VLOOKUP(E262,PARAMETROS!$I$3:$J$21,2,FALSE))","v":""},null,null,null,null,null,null,""]
[null,{"$f":"IF(A263=\"\",\"\",VLOOKUP(A263,PARAMETROS!$B$3:$C$3,2,FALSE))","v":""},null,{"$f":"IF(C263=\"\",\"\",VLOOKUP(C263,PARAMETROS!$G$3:$H$21,2,FALSE))","v":""},null,{"$f":"IF(E263=\"\",\"\",VLOOKUP(E263,PARAMETROS!$I$3:$J$21,2,FALSE))","v":""},null,null,null,null,null,null,""]
[null,{"$f":"IF(A264=\"\",\"\",VLOOKUP(A264,PARAMETROS!$B$3:$C$3,2,FALSE))","v":""},null,{"$f":"IF(C264=\"\",\"\",VLOOKUP(C264,PARAMETROS!$G$3:$H$21,2,FALSE))","v":""},null,{"$f":"IF(E264=\"\",\"\",VLOOKUP(E264,PARAMETROS!$I$3:$J$21,2,FALSE))","v":""},null,null,null,null,null,null,""]
[null,{"$f":"IF(A265=\"\",\"\",VLOOKUP(A265,PARAMETROS!$B$3:$C$3,2,FALSE))","v":""},null,{"$f":"IF(C265=\"\",\"\",VLOOKUP(C265,PARAMETROS!$G$3:$H$21,2,FALSE))","v":""},null,{"$f":"IF(E265=\"\",\"\",VLOOKUP(E265,PARAMETROS!$I$3:$J$21,2,FALSE))","v":""},null,null,null,null,null,null,""]
[null,{"$f":"IF(A266=\"\",\"\",VLOOKUP(A266,PARAMETROS!$B$3:$C$3,2,FALSE))","v":""},null,{"$f":"IF(C266=\"\",\"\",VLOOKUP(C266,PARAMETROS!$G$3:$H$21,2,FALSE))","v":""},null,{"$f":"IF(E266=\"\",\"\",VLOOKUP(E266,PARAMETROS!$I$3:$J$21,2,FALSE))","v":""},null,null,null,null,null,null,""]
[null,{"$f":"IF(A267=\"\",\"\",VLOOKUP(A267,PARAMETROS!$B$3:$C$3,2,FALSE))","v":""},null,{"$f":"IF(C267=\"\",\"\",VLOOKUP(C267,PARAMETROS!$G$3:$H$21,2,FALSE))","v":""},null,{"$f":"IF(E267=\"\",\"\",VLOOKUP(E267,PARAMETROS!$I$3:$J$21,2,FALSE))","v":""},null,null,null,null,null,null,""]
[null,{"$f":"IF(A268=\"\",\"\",VLOOKUP(A268,PARAMETROS!$B$3:$C$3,2,FALSE))","v":""},null,{"$f":"IF(C268=\"\",\"\",VLOOKUP(C268,PARAMETROS!$G$3:$H$21,2,FALSE))","v":""},null,{"$f":"IF(E268=\"\",\"\",VLOOKUP(E268,PARAMETROS!$I$3:$J$21,2,FALSE))","v":""},null,null,null,null,null,null,""]
[null,{"$f":"IF(A269=\"\",\"\",VLOOKUP(A269,PARAMETROS!$B$3:$C$3,2,FALSE))","v":""},null,{"$f":"IF(C269=\"\",\"\",VLOOKUP(C269,PARAMETROS!$G$3:$H$21,2,FALSE))","v":""},null,{"$f":"IF(E269=\"\",\"\",VLOOKUP(E269,PARAMETROS!$I$3:$J$21,2,FALSE))","v":""},null,null,null,null,null,null,""]
[null,{"$f":"IF(A270=\"\",\"\",VLOOKUP(A270,PARAMETROS!$B$3:$C$3,2,FALSE))","v":""},null,{"$f":"IF(C270=\"\",\"\",VLOOKUP(C270,PARAMETROS!$G$3:$H$21,2,FALSE))","v":""},null,{"$f":"IF(E270=\"\",\"\",VLOOKUP(E270,PARAMETROS!$I$3:$J$21,2,FALSE))","v":""},null,null,null,null,null,null,""]
[null,{"$f":"IF(A271=\"\",\"\",VLOOKUP(A271,PARAMETROS!$B$3:$C$3,2,FALSE))","v":""},null,{"$f":"IF(C271=\"\",\"\",VLOOKUP(C271,PARAMETROS!$G$3:$H$21,2,FALSE))","v":""},null,{"$f":"IF(E271=\"\",\"\",VLOOKUP(E271,PARAMETROS!$I$3:$J$21,2,FALSE))","v":""},null,null,null,null,null,null,{"$f":"IF(L271=\"\", \"\", L271)","v":""}]
[null,{"$f":"IF(A272=\"\",\"\",VLOOKUP(A272,PARAMETROS!$B$3:$C$3,2,FALSE))","v":""},null,{"$f":"IF(C272=\"\",\"\",VLOOKUP(C272,PARAMETROS!$G$3:$H$21,2,FALSE))","v":""},null,{"$f":"IF(E272=\"\",\"\",VLOOKUP(E272,PARAMETROS!$I$3:$J$21,2,FALSE))","v":""},null,null,null,null,null,null,""]
[null,{"$f":"IF(A273=\"\",\"\",VLOOKUP(A273,PARAMETROS!$B$3:$C$3,2,FALSE))","v":""},null,{"$f":"IF(C273=\"\",\"\",VLOOKUP(C273,PARAMETROS!$G$3:$H$21,2,FALSE))","v":""},null,{"$f":"IF(E273=\"\",\"\",VLOOKUP(E273,PARAMETROS!$I$3:$J$21,2,FALSE))","v":""},null,null,null,null,null,null,""]
[null,{"$f":"IF(A274=\"\",\"\",VLOOKUP(A274,PARAMETROS!$B$3:$C$3,2,FALSE))","v":""},null,{"$f":"IF(C274=\"\",\"\",VLOOKUP(C274,PARAMETROS!$G$3:$H$21,2,FALSE))","v":""},null,{"$f":"IF(E274=\"\",\"\",VLOOKUP(E274,PARAMETROS!$I$3:$J$21,2,FALSE))","v":""},null,null,null,null,null,null,""]
[null,{"$f":"IF(A275=\"\",\"\",VLOOKUP(A275,PARAMETROS!$B$3:$C$3,2,FALSE))","v":""},null,{"$f":"IF(C275=\"\",\"\",VLOOKUP(C275,PARAMETROS!$G$3:$H$21,2,FALSE))","v":""},null,{"$f":"IF(E275=\"\",\"\",VLOOKUP(E275,PARAMETROS!$I$3:$J$21,2,FALSE))","v":""},null,null,null,null,null,null,""]
[null,{"$f":"IF(A276=\"\",\"\",VLOOKUP(A276,PARAMETROS!$B$3:$C$3,2,FALSE))","v":""},null,{"$f":"IF(C276=\"\",\"\",VLOOKUP(C276,PARAMETROS!$G$3:$H$21,2,FALSE))","v":""},null,{"$f":"IF(E276=\"\",\"\",VLOOKUP(E276,PARAMETROS!$I$3:$J$21,2,FALSE))","v":""},null,null,null,null,null,null,""]
[null,{"$f":"IF(A277=\"\",\"\",VLOOKUP(A277,PARAMETROS!$B$3:$C$3,2,FALSE))","v":""},null,{"$f":"IF(C277=\"\",\"\",VLOOKUP(C277,PARAMETROS!$G$3:$H$21,2,FALSE))","v":""},null,{"$f":"IF(E277=\"\",\"\",VLOOKUP(E277,PARAMETROS!$I$3:$J$21,2,FALSE))","v":""},null,null,null,null,null,null,""]
[null,{"$f":"IF(A278=\"\",\"\",VLOOKUP(A278,PARAMETROS!$B$3:$C$3,2,FALSE))","v":""},null,{"$f":"IF(C278=\"\",\"\",VLOOKUP(C278,PARAMETROS!$G$3:$H$21,2,FALSE))","v":""},null,{"$f":"IF(E278=\"\",\"\",VLOOKUP(E278,PARAMETROS!$I$3:$J$21,2,FALSE))","v":""},null,null,null,null,null,null,""]
[null,{"$f":"IF(A279=\"\",\"\",VLOOKUP(A279,PARAMETROS!$B$3:$C$3,2,FALSE))","v":""},null,{"$f":"IF(C279=\"\",\"\",VLOOKUP(C279,PARAMETROS!$G$3:$H$21,2,FALSE))","v":""},null,{"$f":"IF(E279=\"\",\"\",VLOOKUP(E279,PARAMETROS!$I$3:$J$21,2,FALSE))","v":""},null,null,null,null,null,null,""]
[null,{"$f":"IF(A280=\"\",\"\",VLOOKUP(A280,PARAMETROS!$B$3:$C$3,2,FALSE))","v":""},null,{"$f":"IF(C280=\"\",\"\",VLOOKUP(C280,PARAMETROS!$G$3:$H$21,2,FALSE))","v":""},null,{"$f":"IF(E280=\"\",\"\",VLOOKUP(E280,PARAMETROS!$I$3:$J$21,2,FALSE))","v":""},null,null,null,null,null,null,""]
[null,{"$f":"IF(A281=\"\",\"\",VLOOKUP(A281,PARAMETROS!$B$3:$C$3,2,FALSE))","v":""},null,{"$f":"IF(C281=\"\",\"\",VLOOKUP(C281,PARAMETROS!$G$3:$H$21,2,FALSE))","v":""},null,{"$f":"IF(E281=\"\",\"\",VLOOKUP(E281,PARAMETROS!$I$3:$J$21,2,FALSE))","v":""},null,null,null,null,null,null,""]
[null,{"$f":"IF(A282=\"\",\"\",VLOOKUP(A282,PARAMETROS!$B$3:$C$3,2,FALSE))","v":""},null,{"$f":"IF(C282=\"\",\"\",VLOOKUP(C282,PARAMETROS!$G$3:$H$21,2,FALSE))","v":""},null,{"$f":"IF(E282=\"\",\"\",VLOOKUP(E282,PARAMETROS!$I$3:$J$21,2,FALSE))","v":""},null,null,null,null,null,null,""]
[null,{"$f":"IF(A283=\"\",\"\",VLOOKUP(A283,PARAMETROS!$B$3:$C$3,2,FALSE))","v":""},null,{"$f":"IF(C283=\"\",\"\",VLOOKUP(C283,PARAMETROS!$G$3:$H$21,2,FALSE))","v":""},null,{"$f":"IF(E283=\"\",\"\",VLOOKUP(E283,PARAMETROS!$I$3:$J$21,2,FALSE))","v":""},null,null,null,null,null,null,""]
[null,{"$f":"IF(A284=\"\",\"\",VLOOKUP(A284,PARAMETROS!$B$3:$C$3,2,FALSE))","v":""},null,{"$f":"IF(C284=\"\",\"\",VLOOKUP(C284,PARAMETROS!$G$3:$H$21,2,FALSE))","v":""},null,{"$f":"IF(E284=\"\",\"\",VLOOKUP(E284,PARAMETROS!$I$3:$J$21,2,FALSE))","v":""},null,null,null,null,null,null,""]
[null,{"$f":"IF(A285=\"\",\"\",VLOOKUP(A285,PARAMETROS!$B$3:$C$3,2,FALSE))","v":""},null,{"$f":"IF(C285=\"\",\"\",VLOOKUP(C285,PARAMETROS!$G$3:$H$21,2,FALSE))","v":""},null,{"$f":"IF(E285=\"\",\"\",VLOOKUP(E285,PARAMETROS!$I$3:$J$21,2,FALSE))","v":""},null,null,null,null,null,null,""]
[null,{"$f":"IF(A286=\"\",\"\",VLOOKUP(A286,PARAMETROS!$B$3:$C$3,2,FALSE))","v":""},null,{"$f":"IF(C286=\"\",\"\",VLOOKUP(C286,PARAMETROS!$G$3:$H$21,2,FALSE))","v":""},null,{"$f":"IF(E286=\"\",\"\",VLOOKUP(E286,PARAMETROS!$I$3:$J$21,2,FALSE))","v":""},null,null,null,null,null,null,""]
[null,{"$f":"IF(A287=\"\",\"\",VLOOKUP(A287,PARAMETROS!$B$3:$C$3,2,FALSE))","v":""},null,{"$f":"IF(C287=\"\",\"\",VLOOKUP(C287,PARAMETROS!$G$3:$H$21,2,FALSE))","v":""},null,{"$f":"IF(E287=\"\",\"\",VLOOKUP(E287,PARAMETROS!$I$3:$J$21,2,FALSE))","v":""},null,null,null,null,null,null,""]
[null,{"$f":"IF(A288=\"\",\"\",VLOOKUP(A288,PARAMETROS!$B$3:$C$3,2,FALSE))","v":""},null,{"$f":"IF(C288=\"\",\"\",VLOOKUP(C288,PARAMETROS!$G$3:$H$21,2,FALSE))","v":""},null,{"$f":"IF(E288=\"\",\"\",VLOOKUP(E288,PARAMETROS!$I$3:$J$21,2,FALSE))","v":""},null,null,null,null,null,null,""]
[null,{"$f":"IF(A289=\"\",\"\",VLOOKUP(A289,PARAMETROS!$B$3:$C$3,2,FALSE))","v":""},null,{"$f":"IF(C289=\"\",\"\",VLOOKUP(C289,PARAMETROS!$G$3:$H$21,2,FALSE))","v":""},null,{"$f":"IF(E289=\"\",\"\",VLOOKUP(E289,PARAMETROS!$I$3:$J$21,2,FALSE))","v":""},null,null,null,null,null,null,""]
[null,{"$f":"IF(A290=\"\",\"\",VLOOKUP(A290,PARAMETROS!$B$3:$C$3,2,FALSE))","v":""},null,{"$f":"IF(C290=\"\",\"\",VLOOKUP(C290,PARAMETROS!$G$3:$H$21,2,FALSE))","v":""},null,{"$f":"IF(E290=\"\",\"\",VLOOKUP(E290,PARAMETROS!$I$3:$J$21,2,FALSE))","v":""},null,null,null,null,null,null,""]
[null,{"$f":"IF(A291=\"\",\"\",VLOOKUP(A291,PARAMETROS!$B$3:$C$3,2,FALSE))","v":""},null,{"$f":"IF(C291=\"\",\"\",VLOOKUP(C291,PARAMETROS!$G$3:$H$21,2,FALSE))","v":""},null,{"$f":"IF(E291=\"\",\"\",VLOOKUP(E291,PARAMETROS!$I$3:$J$21,2,FALSE))","v":""},null,null,null,null,null,null,""]
[null,{"$f":"IF(A292=\"\",\"\",VLOOKUP(A292,PARAMETROS!$B$3:$C$3,2,FALSE))","v":""},null,{"$f":"IF(C292=\"\",\"\",VLOOKUP(C292,PARAMETROS!$G$3:$H$21,2,FALSE))","v":""},null,{"$f":"IF(E292=\"\",\"\",VLOOKUP(E292,PARAMETROS!$I$3:$J$21,2,FALSE))","v":""},null,null,null,null,null,null,""]
[null,{"$f":"IF(A293=\"\",\"\",VLOOKUP(A293,PARAMETROS!$B$3:$C$3,2,FALSE))","v":""},null,{"$f":"IF(C293=\"\",\"\",VLOOKUP(C293,PARAMETROS!$G$3:$H$21,2,FALSE))","v":""},null,{"$f":"IF(E293=\"\",\"\",VLOOKUP(E293,PARAMETROS!$I$3:$J$21,2,FALSE))","v":""},null,null,null,null,null,null,""]
[null,{"$f":"IF(A294=\"\",\"\",VLOOKUP(A294,PARAMETROS!$B$3:$C$3,2,FALSE))","v":""},null,{"$f":"IF(C294=\"\",\"\",VLOOKUP(C294,PARAMETROS!$G$3:$H$21,2,FALSE))","v":""},null,{"$f":"IF(E294=\"\",\"\",VLOOKUP(E294,PARAMETROS!$I$3:$J$21,2,FALSE))","v":""},null,null,null,null,null,null,""]
[null,{"$f":"IF(A295=\"\",\"\",VLOOKUP(A295,PARAMETROS!$B$3:$C$3,2,FALSE))","v":""},null,{"$f":"IF(C295=\"\",\"\",VLOOKUP(C295,PARAMETROS!$G$3:$H$21,2,FALSE))","v":""},null,{"$f":"IF(E295=\"\",\"\",VLOOKUP(E295,PARAMETROS!$I$3:$J$21,2,FALSE))","v":""},null,null,null,null,null,null,""]
[null,{"$f":"IF(A296=\"\",\"\",VLOOKUP(A296,PARAMETROS!$B$3:$C$3,2,FALSE))","v":""},null,{"$f":"IF(C296=\"\",\"\",VLOOKUP(C296,PARAMETROS!$G$3:$H$21,2,FALSE))","v":""},null,{"$f":"IF(E296=\"\",\"\",VLOOKUP(E296,PARAMETROS!$I$3:$J$21,2,FALSE))","v":""},null,null,null,null,null,null,""]
[null,{"$f":"IF(A297=\"\",\"\",VLOOKUP(A297,PARAMETROS!$B$3:$C$3,2,FALSE))","v":""},null,{"$f":"IF(C297=\"\",\"\",VLOOKUP(C297,PARAMETROS!$G$3:$H$21,2,FALSE))","v":""},null,{"$f":"IF(E297=\"\",\"\",VLOOKUP(E297,PARAMETROS!$I$3:$J$21,2,FALSE))","v":""},null,null,null,null,null,null,""]
[null,{"$f":"IF(A298=\"\",\"\",VLOOKUP(A298,PARAMETROS!$B$3:$C$3,2,FALSE))","v":""},null,{"$f":"IF(C298=\"\",\"\",VLOOKUP(C298,PARAMETROS!$G$3:$H$21,2,FALSE))","v":""},null,{"$f":"IF(E298=\"\",\"\",VLOOKUP(E298,PARAMETROS!$I$3:$J$21,2,FALSE))","v":""},null,null,null,null,null,null,""]
[null,{"$f":"IF(A299=\"\",\"\",VLOOKUP(A299,PARAMETROS!$B$3:$C$3,2,FALSE))","v":""},null,{"$f":"IF(C299=\"\",\"\",VLOOKUP(C299,PARAMETROS!$G$3:$H$21,2,FALSE))","v":""},null,{"$f":"IF(E299=\"\",\"\",VLOOKUP(E299,PARAMETROS!$I$3:$J$21,2,FALSE))","v":""},null,null,null,null,null,null,""]
[null,{"$f":"IF(A300=\"\",\"\",VLOOKUP(A300,PARAMETROS!$B$3:$C$3,2,FALSE))","v":""},null,{"$f":"IF(C300=\"\",\"\",VLOOKUP(C300,PARAMETROS!$G$3:$H$21,2,FALSE))","v":""},null,{"$f":"IF(E300=\"\",\"\",VLOOKUP(E300,PARAMETROS!$I$3:$J$21,2,FALSE))","v":""},null,null,null,null,null,null,""]
[null,{"$f":"IF(A301=\"\",\"\",VLOOKUP(A301,PARAMETROS!$B$3:$C$3,2,FALSE))","v":""},null,{"$f":"IF(C301=\"\",\"\",VLOOKUP(C301,PARAMETROS!$G$3:$H$21,2,FALSE))","v":""},null,{"$f":"IF(E301=\"\",\"\",VLOOKUP(E301,PARAMETROS!$I$3:$J$21,2,FALSE))","v":""},null,null,null,null,null,null,""]
[null,{"$f":"IF(A302=\"\",\"\",VLOOKUP(A302,PARAMETROS!$B$3:$C$3,2,FALSE))","v":""},null,{"$f":"IF(C302=\"\",\"\",VLOOKUP(C302,PARAMETROS!$G$3:$H$21,2,FALSE))","v":""},null,{"$f":"IF(E302=\"\",\"\",VLOOKUP(E302,PARAMETROS!$I$3:$J$21,2,FALSE))","v":""},null,null,null,null,null,null,""]
[null,{"$f":"IF(A303=\"\",\"\",VLOOKUP(A303,PARAMETROS!$B$3:$C$3,2,FALSE))","v":""},null,{"$f":"IF(C303=\"\",\"\",VLOOKUP(C303,PARAMETROS!$G$3:$H$21,2,FALSE))","v":""},null,{"$f":"IF(E303=\"\",\"\",VLOOKUP(E303,PARAMETROS!$I$3:$J$21,2,FALSE))","v":""},null,null,null,null,null,null,""]
[null,{"$f":"IF(A304=\"\",\"\",VLOOKUP(A304,PARAMETROS!$B$3:$C$3,2,FALSE))","v":""},null,{"$f":"IF(C304=\"\",\"\",VLOOKUP(C304,PARAMETROS!$G$3:$H$21,2,FALSE))","v":""},null,{"$f":"IF(E304=\"\",\"\",VLOOKUP(E304,PARAMETROS!$I$3:$J$21,2,FALSE))","v":""},null,null,null,null,null,null,""]
[null,{"$f":"IF(A305=\"\",\"\",VLOOKUP(A305,PARAMETROS!$B$3:$C$3,2,FALSE))","v":""},null,{"$f":"IF(C305=\"\",\"\",VLOOKUP(C305,PARAMETROS!$G$3:$H$21,2,FALSE))","v":""},null,{"$f":"IF(E305=\"\",\"\",VLOOKUP(E305,PARAMETROS!$I$3:$J$21,2,FALSE))","v":""},null,null,null,null,null,null,""]
[null,{"$f":"IF(A306=\"\",\"\",VLOOKUP(A306,PARAMETROS!$B$3:$C$3,2,FALSE))","v":""},null,{"$f":"IF(C306=\"\",\"\",VLOOKUP(C306,PARAMETROS!$G$3:$H$21,2,FALSE))","v":""},null,{"$f":"IF(E306=\"\",\"\",VLOOKUP(E306,PARAMETROS!$I$3:$J$21,2,FALSE))","v":""},null,null,null,null,null,null,""]
[null,{"$f":"IF(A307=\"\",\"\",VLOOKUP(A307,PARAMETROS!$B$3:$C$3,2,FALSE))","v":""},null,{"$f":"IF(C307=\"\",\"\",VLOOKUP(C307,PARAMETROS!$G$3:$H$21,2,FALSE))","v":""},null,{"$f":"IF(E307=\"\",\"\",VLOOKUP(E307,PARAMETROS!$I$3:$J$21,2,FALSE))","v":""},null,null,null,null,null,null,""]
[null,{"$f":"IF(A308=\"\",\"\",VLOOKUP(A308,PARAMETROS!$B$3:$C$3,2,FALSE))","v":""},null,{"$f":"IF(C308=\"\",\"\",VLOOKUP(C308,PARAMETROS!$G$3:$H$21,2,FALSE))","v":""},null,{"$f":"IF(E308=\"\",\"\",VLOOKUP(E308,PARAMETROS!$I$3:$J$21,2,FALSE))","v":""},null,null,null,null,null,null,""]
[null,{"$f":"IF(A309=\"\",\"\",VLOOKUP(A309,PARAMETROS!$B$3:$C$3,2,FALSE))","v":""},null,{"$f":"IF(C309=\"\",\"\",VLOOKUP(C309,PARAMETROS!$G$3:$H$21,2,FALSE))","v":""},null,{"$f":"IF(E309=\"\",\"\",VLOOKUP(E309,PARAMETROS!$I$3:$J$21,2,FALSE))","v":""},null,null,null,null,null,null,""]
[null,{"$f":"IF(A310=\"\",\"\",VLOOKUP(A310,PARAMETROS!$B$3:$C$3,2,FALSE))","v":""},null,{"$f":"IF(C310=\"\",\"\",VLOOKUP(C310,PARAMETROS!$G$3:$H$21,2,FALSE))","v":""},null,{"$f":"IF(E310=\"\",\"\",VLOOKUP(E310,PARAMETROS!$I$3:$J$21,2,FALSE))","v":""},null,null,null,null,null,null,""]
[null,{"$f":"IF(A311=\"\",\"\",VLOOKUP(A311,PARAMETROS!$B$3:$C$3,2,FALSE))","v":""},null,{"$f":"IF(C311=\"\",\"\",VLOOKUP(C311,PARAMETROS!$G$3:$H$21,2,FALSE))","v":""},null,{"$f":"IF(E311=\"\",\"\",VLOOKUP(E311,PARAMETROS!$I$3:$J$21,2,FALSE))","v":""},null,null,null,null,null,null,""]
[null,{"$f":"IF(A312=\"\",\"\",VLOOKUP(A312,PARAMETROS!$B$3:$C$3,2,FALSE))","v":""},null,{"$f":"IF(C312=\"\",\"\",VLOOKUP(C312,PARAMETROS!$G$3:$H$21,2,FALSE))","v":""},null,{"$f":"IF(E312=\"\",\"\",VLOOKUP(E312,PARAMETROS!$I$3:$J$21,2,FALSE))","v":""},null,null,null,null,null,null,""]
[null,{"$f":"IF(A313=\"\",\"\",VLOOKUP(A313,PARAMETROS!$B$3:$C$3,2,FALSE))","v":""},null,{"$f":"IF(C313=\"\",\"\",VLOOKUP(C313,PARAMETROS!$G$3:$H$21,2,FALSE))","v":""},null,{"$f":"IF(E313=\"\",\"\",VLOOKUP(E313,PARAMETROS!$I$3:$J$21,2,FALSE))","v":""},null,null,null,null,null,null,""]
[null,{"$f":"IF(A314=\"\",\"\",VLOOKUP(A314,PARAMETROS!$B$3:$C$3,2,FALSE))","v":""},null,{"$f":"IF(C314=\"\",\"\",VLOOKUP(C314,PARAMETROS!$G$3:$H$21,2,FALSE))","v":""},null,{"$f":"IF(E314=\"\",\"\",VLOOKUP(E314,PARAMETROS!$I$3:$J$21,2,FALSE))","v":""},null,null,null,null,null,null,""]
[null,{"$f":"IF(A315=\"\",\"\",VLOOKUP(A315,PARAMETROS!$B$3:$C$3,2,FALSE))","v":""},null,{"$f":"IF(C315=\"\",\"\",VLOOKUP(C315,PARAMETROS!$G$3:$H$21,2,FALSE))","v":""},null,{"$f":"IF(E315=\"\",\"\",VLOOKUP(E315,PARAMETROS!$I$3:$J$21,2,FALSE))","v":""},null,null,null,null,null,null,""]
[null,{"$f":"IF(A316=\"\",\"\",VLOOKUP(A316,PARAMETROS!$B$3:$C$3,2,FALSE))","v":""},null,{"$f":"IF(C316=\"\",\"\",VLOOKUP(C316,PARAMETROS!$G$3:$H$21,2,FALSE))","v":""},null,{"$f":"IF(E316=\"\",\"\",VLOOKUP(E316,PARAMETROS!$I$3:$J$21,2,FALSE))","v":""},null,null,null,null,null,null,""]
[null,{"$f":"IF(A317=\"\",\"\",VLOOKUP(A317,PARAMETROS!$B$3:$C$3,2,FALSE))","v":""},null,{"$f":"IF(C317=\"\",\"\",VLOOKUP(C317,PARAMETROS!$G$3:$H$21,2,FALSE))","v":""},null,{"$f":"IF(E317=\"\",\"\",VLOOKUP(E317,PARAMETROS!$I$3:$J$21,2,FALSE))","v":""},null,null,null,null,null,null,""]
[null,{"$f":"IF(A318=\"\",\"\",VLOOKUP(A318,PARAMETROS!$B$3:$C$3,2,FALSE))","v":""},null,{"$f":"IF(C318=\"\",\"\",VLOOKUP(C318,PARAMETROS!$G$3:$H$21,2,FALSE))","v":""},null,{"$f":"IF(E318=\"\",\"\",VLOOKUP(E318,PARAMETROS!$I$3:$J$21,2,FALSE))","v":""},null,null,null,null,null,null,""]
[null,{"$f":"IF(A319=\"\",\"\",VLOOKUP(A319,PARAMETROS!$B$3:$C$3,2,FALSE))","v":""},null,{"$f":"IF(C319=\"\",\"\",VLOOKUP(C319,PARAMETROS!$G$3:$H$21,2,FALSE))","v":""},null,{"$f":"IF(E319=\"\",\"\",VLOOKUP(E319,PARAMETROS!$I$3:$J$21,2,FALSE))","v":""},null,null,null,null,null,null,""]
[null,{"$f":"IF(A320=\"\",\"\",VLOOKUP(A320,PARAMETROS!$B$3:$C$3,2,FALSE))","v":""},null,{"$f":"IF(C320=\"\",\"\",VLOOKUP(C320,PARAMETROS!$G$3:$H$21,2,FALSE))","v":""},null,{"$f":"IF(E320=\"\",\"\",VLOOKUP(E320,PARAMETROS!$I$3:$J$21,2,FALSE))","v":""},null,null,null,null,null,null,""]
[null,{"$f":"IF(A321=\"\",\"\",VLOOKUP(A321,PARAMETROS!$B$3:$C$3,2,FALSE))","v":""},null,{"$f":"IF(C321=\"\",\"\",VLOOKUP(C321,PARAMETROS!$G$3:$H$21,2,FALSE))","v":""},null,{"$f":"IF(E321=\"\",\"\",VLOOKUP(E321,PARAMETROS!$I$3:$J$21,2,FALSE))","v":""},null,null,null,null,null,null,""]
[null,{"$f":"IF(A322=\"\",\"\",VLOOKUP(A322,PARAMETROS!$B$3:$C$3,2,FALSE))","v":""},null,{"$f":"IF(C322=\"\",\"\",VLOOKUP(C322,PARAMETROS!$G$3:$H$21,2,FALSE))","v":""},null,{"$f":"IF(E322=\"\",\"\",VLOOKUP(E322,PARAMETROS!$I$3:$J$21,2,FALSE))","v":""},null,null,null,null,null,null,""]
[null,{"$f":"IF(A323=\"\",\"\",VLOOKUP(A323,PARAMETROS!$B$3:$C$3,2,FALSE))","v":""},null,{"$f":"IF(C323=\"\",\"\",VLOOKUP(C323,PARAMETROS!$G$3:$H$21,2,FALSE))","v":""},null,{"$f":"IF(E323=\"\",\"\",VLOOKUP(E323,PARAMETROS!$I$3:$J$21,2,FALSE))","v":""},null,null,null,null,null,null,""]
[null,{"$f":"IF(A324=\"\",\"\",VLOOKUP(A324,PARAMETROS!$B$3:$C$3,2,FALSE))","v":""},null,{"$f":"IF(C324=\"\",\"\",VLOOKUP(C324,PARAMETROS!$G$3:$H$21,2,FALSE))","v":""},null,{"$f":"IF(E324=\"\",\"\",VLOOKUP(E324,PARAMETROS!$I$3:$J$21,2,FALSE))","v":""},null,null,null,null,null,null,""]
[null,{"$f":"IF(A325=\"\",\"\",VLOOKUP(A325,PARAMETROS!$B$3:$C$3,2,FALSE))","v":""},null,{"$f":"IF(C325=\"\",\"\",VLOOKUP(C325,PARAMETROS!$G$3:$H$21,2,FALSE))","v":""},null,{"$f":"IF(E325=\"\",\"\",VLOOKUP(E325,PARAMETROS!$I$3:$J$21,2,FALSE))","v":""},null,null,null,null,null,null,""]
[null,{"$f":"IF(A326=\"\",\"\",VLOOKUP(A326,PARAMETROS!$B$3:$C$3,2,FALSE))","v":""},null,{"$f":"IF(C326=\"\",\"\",VLOOKUP(C326,PARAMETROS!$G$3:$H$21,2,FALSE))","v":""},null,{"$f":"IF(E326=\"\",\"\",VLOOKUP(E326,PARAMETROS!$I$3:$J$21,2,FALSE))","v":""},null,null,null,null,null,null,""]
[null,{"$f":"IF(A327=\"\",\"\",VLOOKUP(A327,PARAMETROS!$B$3:$C$3,2,FALSE))","v":""},null,{"$f":"IF(C327=\"\",\"\",VLOOKUP(C327,PARAMETROS!$G$3:$H$21,2,FALSE))","v":""},null,{"$f":"IF(E327=\"\",\"\",VLOOKUP(E327,PARAMETROS!$I$3:$J$21,2,FALSE))","v":""},null,null,null,null,null,null,""]
[null,{"$f":"IF(A328=\"\",\"\",VLOOKUP(A328,PARAMETROS!$B$3:$C$3,2,FALSE))","v":""},null,{"$f":"IF(C328=\"\",\"\",VLOOKUP(C328,PARAMETROS!$G$3:$H$21,2,FALSE))","v":""},null,{"$f":"IF(E328=\"\",\"\",VLOOKUP(E328,PARAMETROS!$I$3:$J$21,2,FALSE))","v":""},null,null,null,null,null,null,""]
[null,{"$f":"IF(A329=\"\",\"\",VLOOKUP(A329,PARAMETROS!$B$3:$C$3,2,FALSE))","v":""},null,{"$f":"IF(C329=\"\",\"\",VLOOKUP(C329,PARAMETROS!$G$3:$H$21,2,FALSE))","v":""},null,{"$f":"IF(E329=\"\",\"\",VLOOKUP(E329,PARAMETROS!$I$3:$J$21,2,FALSE))","v":""},null,null,null,null,null,null,""]
[null,{"$f":"IF(A330=\"\",\"\",VLOOKUP(A330,PARAMETROS!$B$3:$C$3,2,FALSE))","v":""},null,{"$f":"IF(C330=\"\",\"\",VLOOKUP(C330,PARAMETROS!$G$3:$H$21,2,FALSE))","v":""},null,{"$f":"IF(E330=\"\",\"\",VLOOKUP(E330,PARAMETROS!$I$3:$J$21,2,FALSE))","v":""},null,null,null,null,null,null,""]
[null,{"$f":"IF(A331=\"\",\"\",VLOOKUP(A331,PARAMETROS!$B$3:$C$3,2,FALSE))","v":""},null,{"$f":"IF(C331=\"\",\"\",VLOOKUP(C331,PARAMETROS!$G$3:$H$21,2,FALSE))","v":""},null,{"$f":"IF(E331=\"\",\"\",VLOOKUP(E331,PARAMETROS!$I$3:$J$21,2,FALSE))","v":""},null,null,null,null,null,null,""]
[null,{"$f":"IF(A332=\"\",\"\",VLOOKUP(A332,PARAMETROS!$B$3:$C$3,2,FALSE))","v":""},null,{"$f":"IF(C332=\"\",\"\",VLOOKUP(C332,PARAMETROS!$G$3:$H$21,2,FALSE))","v":""},null,{"$f":"IF(E332=\"\",\"\",VLOOKUP(E332,PARAMETROS!$I$3:$J$21,2,FALSE))","v":""},null,null,null,null,null,null,""]
[null,{"$f":"IF(A333=\"\",\"\",VLOOKUP(A333,PARAMETROS!$B$3:$C$3,2,FALSE))","v":""},null,{"$f":"IF(C333=\"\",\"\",VLOOKUP(C333,PARAMETROS!$G$3:$H$21,2,FALSE))","v":""},null,{"$f":"IF(E333=\"\",\"\",VLOOKUP(E333,PARAMETROS!$I$3:$J$21,2,FALSE))","v":""},null,null,null,null,null,null,""]
[null,{"$f":"IF(A334=\"\",\"\",VLOOKUP(A334,PARAMETROS!$B$3:$C$3,2,FALSE))","v":""},null,{"$f":"IF(C334=\"\",\"\",VLOOKUP(C334,PARAMETROS!$G$3:$H$21,2,FALSE))","v":""},null,{"$f":"IF(E334=\"\",\"\",VLOOKUP(E334,PARAMETROS!$I$3:$J$21,2,FALSE))","v":""},null,null,null,null,null,null,""]
[null,{"$f":"IF(A335=\"\",\"\",VLOOKUP(A335,PARAMETROS!$B$3:$C$3,2,FALSE))","v":""},null,{"$f":"IF(C335=\"\",\"\",VLOOKUP(C335,PARAMETROS!$G$3:$H$21,2,FALSE))","v":""},null,{"$f":"IF(E335=\"\",\"\",VLOOKUP(E335,PARAMETROS!$I$3:$J$21,2,FALSE))","v":""},null,null,null,null,null,null,{"$f":"IF(L335=\"\", \"\", L335)","v":""}]
[null,{"$f":"IF(A336=\"\",\"\",VLOOKUP(A336,PARAMETROS!$B$3:$C$3,2,FALSE))","v":""},null,{"$f":"IF(C336=\"\",\"\",VLOOKUP(C336,PARAMETROS!$G$3:$H$21,2,FALSE))","v":""},null,{"$f":"IF(E336=\"\",\"\",VLOOKUP(E336,PARAMETROS!$I$3:$J$21,2,FALSE))","v":""},null,null,null,null,null,null,""]
[null,{"$f":"IF(A337=\"\",\"\",VLOOKUP(A337,PARAMETROS!$B$3:$C$3,2,FALSE))","v":""},null,{"$f":"IF(C337=\"\",\"\",VLOOKUP(C337,PARAMETROS!$G$3:$H$21,2,FALSE))","v":""},null,{"$f":"IF(E337=\"\",\"\",VLOOKUP(E337,PARAMETROS!$I$3:$J$21,2,FALSE))","v":""},null,null,null,null,null,null,""]
[null,{"$f":"IF(A338=\"\",\"\",VLOOKUP(A338,PARAMETROS!$B$3:$C$3,2,FALSE))","v":""},null,{"$f":"IF(C338=\"\",\"\",VLOOKUP(C338,PARAMETROS!$G$3:$H$21,2,FALSE))","v":""},null,{"$f":"IF(E338=\"\",\"\",VLOOKUP(E338,PARAMETROS!$I$3:$J$21,2,FALSE))","v":""},null,null,null,null,null,null,""]
[null,{"$f":"IF(A339=\"\",\"\",VLOOKUP(A339,PARAMETROS!$B$3:$C$3,2,FALSE))","v":""},null,{"$f":"IF(C339=\"\",\"\",VLOOKUP(C339,PARAMETROS!$G$3:$H$21,2,FALSE))","v":""},null,{"$f":"IF(E339=\"\",\"\",VLOOKUP(E339,PARAMETROS!$I$3:$J$21,2,FALSE))","v":""},null,null,null,null,null,null,""]
[null,{"$f":"IF(A340=\"\",\"\",VLOOKUP(A340,PARAMETROS!$B$3:$C$3,2,FALSE))","v":""},null,{"$f":"IF(C340=\"\",\"\",VLOOKUP(C340,PARAMETROS!$G$3:$H$21,2,FALSE))","v":""},null,{"$f":"IF(E340=\"\",\"\",VLOOKUP(E340,PARAMETROS!$I$3:$J$21,2,FALSE))","v":""},null,null,null,null,null,null,""]
[null,{"$f":"IF(A341=\"\",\"\",VLOOKUP(A341,PARAMETROS!$B$3:$C$3,2,FALSE))","v":""},null,{"$f":"IF(C341=\"\",\"\",VLOOKUP(C341,PARAMETROS!$G$3:$H$21,2,FALSE))","v":""},null,{"$f":"IF(E341=\"\",\"\",VLOOKUP(E341,PARAMETROS!$I$3:$J$21,2,FALSE))","v":""},null,null,null,null,null,null,""]
[null,{"$f":"IF(A342=\"\",\"\",VLOOKUP(A342,PARAMETROS!$B$3:$C$3,2,FALSE))","v":""},null,{"$f":"IF(C342=\"\",\"\",VLOOKUP(C342,PARAMETROS!$G$3:$H$21,2,FALSE))","v":""},null,{"$f":"IF(E342=\"\",\"\",VLOOKUP(E342,PARAMETROS!$I$3:$J$21,2,FALSE))","v":""},null,null,null,null,null,null,""]
[null,{"$f":"IF(A343=\"\",\"\",VLOOKUP(A343,PARAMETROS!$B$3:$C$3,2,FALSE))","v":""},null,{"$f":"IF(C343=\"\",\"\",VLOOKUP(C343,PARAMETROS!$G$3:$H$21,2,FALSE))","v":""},null,{"$f":"IF(E343=\"\",\"\",VLOOKUP(E343,PARAMETROS!$I$3:$J$21,2,FALSE))","v":""},null,null,null,null,null,null,""]
[null,{"$f":"IF(A344=\"\",\"\",VLOOKUP(A344,PARAMETROS!$B$3:$C$3,2,FALSE))","v":""},null,{"$f":"IF(C344=\"\",\"\",VLOOKUP(C344,PARAMETROS!$G$3:$H$21,2,FALSE))","v":""},null,{"$f":"IF(E344=\"\",\"\",VLOOKUP(E344,PARAMETROS!$I$3:$J$21,2,FALSE))","v":""},null,null,null,null,null,null,""]
[null,{"$f":"IF(A345=\"\",\"\",VLOOKUP(A345,PARAMETROS!$B$3:$C$3,2,FALSE))","v":""},null,{"$f":"IF(C345=\"\",\"\",VLOOKUP(C345,PARAMETROS!$G$3:$H$21,2,FALSE))","v":""},null,{"$f":"IF(E345=\"\",\"\",VLOOKUP(E345,PARAMETROS!$I$3:$J$21,2,FALSE))","v":""},null,null,null,null,null,null,""]
[null,{"$f":"IF(A346=\"\",\"\",VLOOKUP(A346,PARAMETROS!$B$3:$C$3,2,FALSE))","v":""},null,{"$f":"IF(C346=\"\",\"\",VLOOKUP(C346,PARAMETROS!$G$3:$H$21,2,FALSE))","v":""},null,{"$f":"IF(E346=\"\",\"\",VLOOKUP(E346,PARAMETROS!$I$3:$J$21,2,FALSE))","v":""},null,null,null,null,null,null,""]
[null,{"$f":"IF(A347=\"\",\"\",VLOOKUP(A347,PARAMETROS!$B$3:$C$3,2,FALSE))","v":""},null,{"$f":"IF(C347=\"\",\"\",VLOOKUP(C347,PARAMETROS!$G$3:$H$21,2,FALSE))","v":""},null,{"$f":"IF(E347=\"\",\"\",VLOOKUP(E347,PARAMETROS!$I$3:$J$21,2,FALSE))","v":""},null,null,null,null,null,null,""]
[null,{"$f":"IF(A348=\"\",\"\",VLOOKUP(A348,PARAMETROS!$B$3:$C$3,2,FALSE))","v":""},null,{"$f":"IF(C348=\"\",\"\",VLOOKUP(C348,PARAMETROS!$G$3:$H$21,2,FALSE))","v":""},null,{"$f":"IF(E348=\"\",\"\",VLOOKUP(E348,PARAMETROS!$I$3:$J$21,2,FALSE))","v":""},null,null,null,null,null,null,""]
[null,{"$f":"IF(A349=\"\",\"\",VLOOKUP(A349,PARAMETROS!$B$3:$C$3,2,FALSE))","v":""},null,{"$f":"IF(C349=\"\",\"\",VLOOKUP(C349,PARAMETROS!$G$3:$H$21,2,FALSE))","v":""},null,{"$f":"IF(E349=\"\",\"\",VLOOKUP(E349,PARAMETROS!$I$3:$J$21,2,FALSE))","v":""},null,null,null,null,null,null,""]
[null,{"$f":"IF(A350=\"\",\"\",VLOOKUP(A350,PARAMETROS!$B$3:$C$3,2,FALSE))","v":""},null,{"$f":"IF(C350=\"\",\"\",VLOOKUP(C350,PARAMETROS!$G$3:$H$21,2,FALSE))","v":""},null,{"$f":"IF(E350=\"\",\"\",VLOOKUP(E350,PARAMETROS!$I$3:$J$21,2,FALSE))","v":""},null,null,null,null,null,null,""]
[null,{"$f":"IF(A351=\"\",\"\",VLOOKUP(A351,PARAMETROS!$B$3:$C$3,2,FALSE))","v":""},null,{"$f":"IF(C351=\"\",\"\",VLOOKUP(C351,PARAMETROS!$G$3:$H$21,2,FALSE))","v":""},null,{"$f":"IF(E351=\"\",\"\",VLOOKUP(E351,PARAMETROS!$I$3:$J$21,2,FALSE))","v":""},null,null,null,null,null,null,""]
[null,{"$f":"IF(A352=\"\",\"\",VLOOKUP(A352,PARAMETROS!$B$3:$C$3,2,FALSE))","v":""},null,{"$f":"IF(C352=\"\",\"\",VLOOKUP(C352,PARAMETROS!$G$3:$H$21,2,FALSE))","v":""},null,{"$f":"IF(E352=\"\",\"\",VLOOKUP(E352,PARAMETROS!$I$3:$J$21,2,FALSE))","v":""},null,null,null,null,null,null,""]
[null,{"$f":"IF(A353=\"\",\"\",VLOOKUP(A353,PARAMETROS!$B$3:$C$3,2,FALSE))","v":""},null,{"$f":"IF(C353=\"\",\"\",VLOOKUP(C353,PARAMETROS!$G$3:$H$21,2,FALSE))","v":""},null,{"$f":"IF(E353=\"\",\"\",VLOOKUP(E353,PARAMETROS!$I$3:$J$21,2,FALSE))","v":""},null,null,null,null,null,null,""]
[null,{"$f":"IF(A354=\"\",\"\",VLOOKUP(A354,PARAMETROS!$B$3:$C$3,2,FALSE))","v":""},null,{"$f":"IF(C354=\"\",\"\",VLOOKUP(C354,PARAMETROS!$G$3:$H$21,2,FALSE))","v":""},null,{"$f":"IF(E354=\"\",\"\",VLOOKUP(E354,PARAMETROS!$I$3:$J$21,2,FALSE))","v":""},null,null,null,null,null,null,""]
[null,{"$f":"IF(A355=\"\",\"\",VLOOKUP(A355,PARAMETROS!$B$3:$C$3,2,FALSE))","v":""},null,{"$f":"IF(C355=\"\",\"\",VLOOKUP(C355,PARAMETROS!$G$3:$H$21,2,FALSE))","v":""},null,{"$f":"IF(E355=\"\",\"\",VLOOKUP(E355,PARAMETROS!$I$3:$J$21,2,FALSE))","v":""},null,null,null,null,null,null,""]
[null,{"$f":"IF(A356=\"\",\"\",VLOOKUP(A356,PARAMETROS!$B$3:$C$3,2,FALSE))","v":""},null,{"$f":"IF(C356=\"\",\"\",VLOOKUP(C356,PARAMETROS!$G$3:$H$21,2,FALSE))","v":""},null,{"$f":"IF(E356=\"\",\"\",VLOOKUP(E356,PARAMETROS!$I$3:$J$21,2,FALSE))","v":""},null,null,null,null,null,null,""]
[null,{"$f":"IF(A357=\"\",\"\",VLOOKUP(A357,PARAMETROS!$B$3:$C$3,2,FALSE))","v":""},null,{"$f":"IF(C357=\"\",\"\",VLOOKUP(C357,PARAMETROS!$G$3:$H$21,2,FALSE))","v":""},null,{"$f":"IF(E357=\"\",\"\",VLOOKUP(E357,PARAMETROS!$I$3:$J$21,2,FALSE))","v":""},null,null,null,null,null,null,""]
[null,{"$f":"IF(A358=\"\",\"\",VLOOKUP(A358,PARAMETROS!$B$3:$C$3,2,FALSE))","v":""},null,{"$f":"IF(C358=\"\",\"\",VLOOKUP(C358,PARAMETROS!$G$3:$H$21,2,FALSE))","v":""},null,{"$f":"IF(E358=\"\",\"\",VLOOKUP(E358,PARAMETROS!$I$3:$J$21,2,FALSE))","v":""},null,null,null,null,null,null,""]
[null,{"$f":"IF(A359=\"\",\"\",VLOOKUP(A359,PARAMETROS!$B$3:$C$3,2,FALSE))","v":""},null,{"$f":"IF(C359=\"\",\"\",VLOOKUP(C359,PARAMETROS!$G$3:$H$21,2,FALSE))","v":""},null,{"$f":"IF(E359=\"\",\"\",VLOOKUP(E359,PARAMETROS!$I$3:$J$21,2,FALSE))","v":""},null,null,null,null,null,null,""]
[null,{"$f":"IF(A360=\"\",\"\",VLOOKUP(A360,PARAMETROS!$B$3:$C$3,2,FALSE))","v":""},null,{"$f":"IF(C360=\"\",\"\",VLOOKUP(C360,PARAMETROS!$G$3:$H$21,2,FALSE))","v":""},null,{"$f":"IF(E360=\"\",\"\",VLOOKUP(E360,PARAMETROS!$I$3:$J$21,2,FALSE))","v":""},null,null,null,null,null,null,""]
[null,{"$f":"IF(A361=\"\",\"\",VLOOKUP(A361,PARAMETROS!$B$3:$C$3,2,FALSE))","v":""},null,{"$f":"IF(C361=\"\",\"\",VLOOKUP(C361,PARAMETROS!$G$3:$H$21,2,FALSE))","v":""},null,{"$f":"IF(E361=\"\",\"\",VLOOKUP(E361,PARAMETROS!$I$3:$J$21,2,FALSE))","v":""},null,null,null,null,null,null,""]
[null,{"$f":"IF(A362=\"\",\"\",VLOOKUP(A362,PARAMETROS!$B$3:$C$3,2,FALSE))","v":""},null,{"$f":"IF(C362=\"\",\"\",VLOOKUP(C362,PARAMETROS!$G$3:$H$21,2,FALSE))","v":""},null,{"$f":"IF(E362=\"\",\"\",VLOOKUP(E362,PARAMETROS!$I$3:$J$21,2,FALSE))","v":""},null,null,null,null,null,null,""]
[null,{"$f":"IF(A363=\"\",\"\",VLOOKUP(A363,PARAMETROS!$B$3:$C$3,2,FALSE))","v":""},null,{"$f":"IF(C363=\"\",\"\",VLOOKUP(C363,PARAMETROS!$G$3:$H$21,2,FALSE))","v":""},null,{"$f":"IF(E363=\"\",\"\",VLOOKUP(E363,PARAMETROS!$I$3:$J$21,2,FALSE))","v":""},null,null,null,null,null,null,""]
[null,{"$f":"IF(A364=\"\",\"\",VLOOKUP(A364,PARAMETROS!$B$3:$C$3,2,FALSE))","v":""},null,{"$f":"IF(C364=\"\",\"\",VLOOKUP(C364,PARAMETROS!$G$3:$H$21,2,FALSE))","v":""},null,{"$f":"IF(E364=\"\",\"\",VLOOKUP(E364,PARAMETROS!$I$3:$J$21,2,FALSE))","v":""},null,null,null,null,null,null,""]
[null,{"$f":"IF(A365=\"\",\"\",VLOOKUP(A365,PARAMETROS!$B$3:$C$3,2,FALSE))","v":""},null,{"$f":"IF(C365=\"\",\"\",VLOOKUP(C365,PARAMETROS!$G$3:$H$21,2,FALSE))","v":""},null,{"$f":"IF(E365=\"\",\"\",VLOOKUP(E365,PARAMETROS!$I$3:$J$21,2,FALSE))","v":""},null,null,null,null,null,null,""]
[null,{"$f":"IF(A366=\"\",\"\",VLOOKUP(A366,PARAMETROS!$B$3:$C$3,2,FALSE))","v":""},null,{"$f":"IF(C366=\"\",\"\",VLOOKUP(C366,PARAMETROS!$G$3:$H$21,2,FALSE))","v":""},null,{"$f":"IF(E366=\"\",\"\",VLOOKUP(E366,PARAMETROS!$I$3:$J$21,2,FALSE))","v":""},null,null,null,null,null,null,""]
[null,{"$f":"IF(A367=\"\",\"\",VLOOKUP(A367,PARAMETROS!$B$3:$C$3,2,FALSE))","v":""},null,{"$f":"IF(C367=\"\",\"\",VLOOKUP(C367,PARAMETROS!$G$3:$H$21,2,FALSE))","v":""},null,{"$f":"IF(E367=\"\",\"\",VLOOKUP(E367,PARAMETROS!$I$3:$J$21,2,FALSE))","v":""},null,null,null,null,null,null,""]
[null,{"$f":"IF(A368=\"\",\"\",VLOOKUP(A368,PARAMETROS!$B$3:$C$3,2,FALSE))","v":""},null,{"$f":"IF(C368=\"\",\"\",VLOOKUP(C368,PARAMETROS!$G$3:$H$21,2,FALSE))","v":""},null,{"$f":"IF(E368=\"\",\"\",VLOOKUP(E368,PARAMETROS!$I$3:$J$21,2,FALSE))","v":""},null,null,null,null,null,null,""]
[null,{"$f":"IF(A369=\"\",\"\",VLOOKUP(A369,PARAMETROS!$B$3:$C$3,2,FALSE))","v":""},null,{"$f":"IF(C369=\"\",\"\",VLOOKUP(C369,PARAMETROS!$G$3:$H$21,2,FALSE))","v":""},null,{"$f":"IF(E369=\"\",\"\",VLOOKUP(E369,PARAMETROS!$I$3:$J$21,2,FALSE))","v":""},null,null,null,null,null,null,""]
[null,{"$f":"IF(A370=\"\",\"\",VLOOKUP(A370,PARAMETROS!$B$3:$C$3,2,FALSE))","v":""},null,{"$f":"IF(C370=\"\",\"\",VLOOKUP(C370,PARAMETROS!$G$3:$H$21,2,FALSE))","v":""},null,{"$f":"IF(E370=\"\",\"\",VLOOKUP(E370,PARAMETROS!$I$3:$J$21,2,FALSE))","v":""},null,null,null,null,null,null,""]
[null,{"$f":"IF(A371=\"\",\"\",VLOOKUP(A371,PARAMETROS!$B$3:$C$3,2,FALSE))","v":""},null,{"$f":"IF(C371=\"\",\"\",VLOOKUP(C371,PARAMETROS!$G$3:$H$21,2,FALSE))","v":""},null,{"$f":"IF(E371=\"\",\"\",VLOOKUP(E371,PARAMETROS!$I$3:$J$21,2,FALSE))","v":""},null,null,null,null,null,null,""]
[null,{"$f":"IF(A372=\"\",\"\",VLOOKUP(A372,PARAMETROS!$B$3:$C$3,2,FALSE))","v":""},null,{"$f":"IF(C372=\"\",\"\",VLOOKUP(C372,PARAMETROS!$G$3:$H$21,2,FALSE))","v":""},null,{"$f":"IF(E372=\"\",\"\",VLOOKUP(E372,PARAMETROS!$I$3:$J$21,2,FALSE))","v":""},null,null,null,null,null,null,""]
[null,{"$f":"IF(A373=\"\",\"\",VLOOKUP(A373,PARAMETROS!$B$3:$C$3,2,FALSE))","v":""},null,{"$f":"IF(C373=\"\",\"\",VLOOKUP(C373,PARAMETROS!$G$3:$H$21,2,FALSE))","v":""},null,{"$f":"IF(E373=\"\",\"\",VLOOKUP(E373,PARAMETROS!$I$3:$J$21,2,FALSE))","v":""},null,null,null,null,null,null,""]
[null,{"$f":"IF(A374=\"\",\"\",VLOOKUP(A374,PARAMETROS!$B$3:$C$3,2,FALSE))","v":""},null,{"$f":"IF(C374=\"\",\"\",VLOOKUP(C374,PARAMETROS!$G$3:$H$21,2,FALSE))","v":""},null,{"$f":"IF(E374=\"\",\"\",VLOOKUP(E374,PARAMETROS!$I$3:$J$21,2,FALSE))","v":""},null,null,null,null,null,null,""]
[null,{"$f":"IF(A375=\"\",\"\",VLOOKUP(A375,PARAMETROS!$B$3:$C$3,2,FALSE))","v":""},null,{"$f":"IF(C375=\"\",\"\",VLOOKUP(C375,PARAMETROS!$G$3:$H$21,2,FALSE))","v":""},null,{"$f":"IF(E375=\"\",\"\",VLOOKUP(E375,PARAMETROS!$I$3:$J$21,2,FALSE))","v":""},null,null,null,null,null,null,""]
[null,{"$f":"IF(A376=\"\",\"\",VLOOKUP(A376,PARAMETROS!$B$3:$C$3,2,FALSE))","v":""},null,{"$f":"IF(C376=\"\",\"\",VLOOKUP(C376,PARAMETROS!$G$3:$H$21,2,FALSE))","v":""},null,{"$f":"IF(E376=\"\",\"\",VLOOKUP(E376,PARAMETROS!$I$3:$J$21,2,FALSE))","v":""},null,null,null,null,null,null,""]
[null,{"$f":"IF(A377=\"\",\"\",VLOOKUP(A377,PARAMETROS!$B$3:$C$3,2,FALSE))","v":""},null,{"$f":"IF(C377=\"\",\"\",VLOOKUP(C377,PARAMETROS!$G$3:$H$21,2,FALSE))","v":""},null,{"$f":"IF(E377=\"\",\"\",VLOOKUP(E377,PARAMETROS!$I$3:$J$21,2,FALSE))","v":""},null,null,null,null,null,null,""]
[null,{"$f":"IF(A378=\"\",\"\",VLOOKUP(A378,PARAMETROS!$B$3:$C$3,2,FALSE))","v":""},null,{"$f":"IF(C378=\"\",\"\",VLOOKUP(C378,PARAMETROS!$G$3:$H$21,2,FALSE))","v":""},null,{"$f":"IF(E378=\"\",\"\",VLOOKUP(E378,PARAMETROS!$I$3:$J$21,2,FALSE))","v":""},null,null,null,null,null,null,""]
[null,{"$f":"IF(A379=\"\",\"\",VLOOKUP(A379,PARAMETROS!$B$3:$C$3,2,FALSE))","v":""},null,{"$f":"IF(C379=\"\",\"\",VLOOKUP(C379,PARAMETROS!$G$3:$H$21,2,FALSE))","v":""},null,{"$f":"IF(E379=\"\",\"\",VLOOKUP(E379,PARAMETROS!$I$3:$J$21,2,FALSE))","v":""},null,null,null,null,null,null,""]
[null,{"$f":"IF(A380=\"\",\"\",VLOOKUP(A380,PARAMETROS!$B$3:$C$3,2,FALSE))","v":""},null,{"$f":"IF(C380=\"\",\"\",VLOOKUP(C380,PARAMETROS!$G$3:$H$21,2,FALSE))","v":""},null,{"$f":"IF(E380=\"\",\"\",VLOOKUP(E380,PARAMETROS!$I$3:$J$21,2,FALSE))","v":""},null,null,null,null,null,null,""]
[null,{"$f":"IF(A381=\"\",\"\",VLOOKUP(A381,PARAMETROS!$B$3:$C$3,2,FALSE))","v":""},null,{"$f":"IF(C381=\"\",\"\",VLOOKUP(C381,PARAMETROS!$G$3:$H$21,2,FALSE))","v":""},null,{"$f":"IF(E381=\"\",\"\",VLOOKUP(E381,PARAMETROS!$I$3:$J$21,2,FALSE))","v":""},null,null,null,null,null,null,""]
[null,{"$f":"IF(A382=\"\",\"\",VLOOKUP(A382,PARAMETROS!$B$3:$C$3,2,FALSE))","v":""},null,{"$f":"IF(C382=\"\",\"\",VLOOKUP(C382,PARAMETROS!$G$3:$H$21,2,FALSE))","v":""},null,{"$f":"IF(E382=\"\",\"\",VLOOKUP(E382,PARAMETROS!$I$3:$J$21,2,FALSE))","v":""},null,null,null,null,null,null,""]
[null,{"$f":"IF(A383=\"\",\"\",VLOOKUP(A383,PARAMETROS!$B$3:$C$3,2,FALSE))","v":""},null,{"$f":"IF(C383=\"\",\"\",VLOOKUP(C383,PARAMETROS!$G$3:$H$21,2,FALSE))","v":""},null,{"$f":"IF(E383=\"\",\"\",VLOOKUP(E383,PARAMETROS!$I$3:$J$21,2,FALSE))","v":""},null,null,null,null,null,null,""]
[null,{"$f":"IF(A384=\"\",\"\",VLOOKUP(A384,PARAMETROS!$B$3:$C$3,2,FALSE))","v":""},null,{"$f":"IF(C384=\"\",\"\",VLOOKUP(C384,PARAMETROS!$G$3:$H$21,2,FALSE))","v":""},null,{"$f":"IF(E384=\"\",\"\",VLOOKUP(E384,PARAMETROS!$I$3:$J$21,2,FALSE))","v":""},null,null,null,null,null,null,""]
[null,{"$f":"IF(A385=\"\",\"\",VLOOKUP(A385,PARAMETROS!$B$3:$C$3,2,FALSE))","v":""},null,{"$f":"IF(C385=\"\",\"\",VLOOKUP(C385,PARAMETROS!$G$3:$H$21,2,FALSE))","v":""},null,{"$f":"IF(E385=\"\",\"\",VLOOKUP(E385,PARAMETROS!$I$3:$J$21,2,FALSE))","v":""},null,null,null,null,null,null,""]
[null,{"$f":"IF(A386=\"\",\"\",VLOOKUP(A386,PARAMETROS!$B$3:$C$3,2,FALSE))","v":""},null,{"$f":"IF(C386=\"\",\"\",VLOOKUP(C386,PARAMETROS!$G$3:$H$21,2,FALSE))","v":""},null,{"$f":"IF(E386=\"\",\"\",VLOOKUP(E386,PARAMETROS!$I$3:$J$21,2,FALSE))","v":""},null,null,null,null,null,null,""]
[null,{"$f":"IF(A387=\"\",\"\",VLOOKUP(A387,PARAMETROS!$B$3:$C$3,2,FALSE))","v":""},null,{"$f":"IF(C387=\"\",\"\",VLOOKUP(C387,PARAMETROS!$G$3:$H$21,2,FALSE))","v":""},null,{"$f":"IF(E387=\"\",\"\",VLOOKUP(E387,PARAMETROS!$I$3:$J$21,2,FALSE))","v":""},null,null,null,null,null,null,""]
[null,{"$f":"IF(A388=\"\",\"\",VLOOKUP(A388,PARAMETROS!$B$3:$C$3,2,FALSE))","v":""},null,{"$f":"IF(C388=\"\",\"\",VLOOKUP(C388,PARAMETROS!$G$3:$H$21,2,FALSE))","v":""},null,{"$f":"IF(E388=\"\",\"\",VLOOKUP(E388,PARAMETROS!$I$3:$J$21,2,FALSE))","v":""},null,null,null,null,null,null,""]
[null,{"$f":"IF(A389=\"\",\"\",VLOOKUP(A389,PARAMETROS!$B$3:$C$3,2,FALSE))","v":""},null,{"$f":"IF(C389=\"\",\"\",VLOOKUP(C389,PARAMETROS!$G$3:$H$21,2,FALSE))","v":""},null,{"$f":"IF(E389=\"\",\"\",VLOOKUP(E389,PARAMETROS!$I$3:$J$21,2,FALSE))","v":""},null,null,null,null,null,null,""]
[null,{"$f":"IF(A390=\"\",\"\",VLOOKUP(A390,PARAMETROS!$B$3:$C$3,2,FALSE))","v":""},null,{"$f":"IF(C390=\"\",\"\",VLOOKUP(C390,PARAMETROS!$G$3:$H$21,2,FALSE))","v":""},null,{"$f":"IF(E390=\"\",\"\",VLOOKUP(E390,PARAMETROS!$I$3:$J$21,2,FALSE))","v":""},null,null,null,null,null,null,""]
[null,{"$f":"IF(A391=\"\",\"\",VLOOKUP(A391,PARAMETROS!$B$3:$C$3,2,FALSE))","v":""},null,{"$f":"IF(C391=\"\",\"\",VLOOKUP(C391,PARAMETROS!$G$3:$H$21,2,FALSE))","v":""},null,{"$f":"IF(E391=\"\",\"\",VLOOKUP(E391,PARAMETROS!$I$3:$J$21,2,FALSE))","v":""},null,null,null,null,null,null,""]
[null,{"$f":"IF(A392=\"\",\"\",VLOOKUP(A392,PARAMETROS!$B$3:$C$3,2,FALSE))","v":""},null,{"$f":"IF(C392=\"\",\"\",VLOOKUP(C392,PARAMETROS!$G$3:$H$21,2,FALSE))","v":""},null,{"$f":"IF(E392=\"\",\"\",VLOOKUP(E392,PARAMETROS!$I$3:$J$21,2,FALSE))","v":""},null,null,null,null,null,null,""]
[null,{"$f":"IF(A393=\"\",\"\",VLOOKUP(A393,PARAMETROS!$B$3:$C$3,2,FALSE))","v":""},null,{"$f":"IF(C393=\"\",\"\",VLOOKUP(C393,PARAMETROS!$G$3:$H$21,2,FALSE))","v":""},null,{"$f":"IF(E393=\"\",\"\",VLOOKUP(E393,PARAMETROS!$I$3:$J$21,2,FALSE))","v":""},null,null,null,null,null,null,""]
[null,{"$f":"IF(A394=\"\",\"\",VLOOKUP(A394,PARAMETROS!$B$3:$C$3,2,FALSE))","v":""},null,{"$f":"IF(C394=\"\",\"\",VLOOKUP(C394,PARAMETROS!$G$3:$H$21,2,FALSE))","v":""},null,{"$f":"IF(E394=\"\",\"\",VLOOKUP(E394,PARAMETROS!$I$3:$J$21,2,FALSE))","v":""},null,null,null,null,null,null,""]
[null,{"$f":"IF(A395=\"\",\"\",VLOOKUP(A395,PARAMETROS!$B$3:$C$3,2,FALSE))","v":""},null,{"$f":"IF(C395=\"\",\"\",VLOOKUP(C395,PARAMETROS!$G$3:$H$21,2,FALSE))","v":""},null,{"$f":"IF(E395=\"\",\"\",VLOOKUP(E395,PARAMETROS!$I$3:$J$21,2,FALSE))","v":""},null,null,null,null,null,null,""]
[null,{"$f":"IF(A396=\"\",\"\",VLOOKUP(A396,PARAMETROS!$B$3:$C$3,2,FALSE))","v":""},null,{"$f":"IF(C396=\"\",\"\",VLOOKUP(C396,PARAMETROS!$G$3:$H$21,2,FALSE))","v":""},null,{"$f":"IF(E396=\"\",\"\",VLOOKUP(E396,PARAMETROS!$I$3:$J$21,2,FALSE))","v":""},null,null,null,null,null,null,""]
[null,{"$f":"IF(A397=\"\",\"\",VLOOKUP(A397,PARAMETROS!$B$3:$C$3,2,FALSE))","v":""},null,{"$f":"IF(C397=\"\",\"\",VLOOKUP(C397,PARAMETROS!$G$3:$H$21,2,FALSE))","v":""},null,{"$f":"IF(E397=\"\",\"\",VLOOKUP(E397,PARAMETROS!$I$3:$J$21,2,FALSE))","v":""},null,null,null,null,null,null,""]
[null,{"$f":"IF(A398=\"\",\"\",VLOOKUP(A398,PARAMETROS!$B$3:$C$3,2,FALSE))","v":""},null,{"$f":"IF(C398=\"\",\"\",VLOOKUP(C398,PARAMETROS!$G$3:$H$21,2,FALSE))","v":""},null,{"$f":"IF(E398=\"\",\"\",VLOOKUP(E398,PARAMETROS!$I$3:$J$21,2,FALSE))","v":""},null,null,null,null,null,null,""]
[null,{"$f":"IF(A399=\"\",\"\",VLOOKUP(A399,PARAMETROS!$B$3:$C$3,2,FALSE))","v":""},null,{"$f":"IF(C399=\"\",\"\",VLOOKUP(C399,PARAMETROS!$G$3:$H$21,2,FALSE))","v":""},null,{"$f":"IF(E399=\"\",\"\",VLOOKUP(E399,PARAMETROS!$I$3:$J$21,2,FALSE))","v":""},null,null,null,null,null,null,{"$f":"IF(L399=\"\", \"\", L399)","v":""}]
[null,{"$f":"IF(A400=\"\",\"\",VLOOKUP(A400,PARAMETROS!$B$3:$C$3,2,FALSE))","v":""},null,{"$f":"IF(C400=\"\",\"\",VLOOKUP(C400,PARAMETROS!$G$3:$H$21,2,FALSE))","v":""},null,{"$f":"IF(E400=\"\",\"\",VLOOKUP(E400,PARAMETROS!$I$3:$J$21,2,FALSE))","v":""},null,null,null,null,null,null,""]
[null,{"$f":"IF(A401=\"\",\"\",VLOOKUP(A401,PARAMETROS!$B$3:$C$3,2,FALSE))","v":""},null,{"$f":"IF(C401=\"\",\"\",VLOOKUP(C401,PARAMETROS!$G$3:$H$21,2,FALSE))","v":""},null,{"$f":"IF(E401=\"\",\"\",VLOOKUP(E401,PARAMETROS!$I$3:$J$21,2,FALSE))","v":""},null,null,null,null,null,null,""]
[null,{"$f":"IF(A402=\"\",\"\",VLOOKUP(A402,PARAMETROS!$B$3:$C$3,2,FALSE))","v":""},null,{"$f":"IF(C402=\"\",\"\",VLOOKUP(C402,PARAMETROS!$G$3:$H$21,2,FALSE))","v":""},null,{"$f":"IF(E402=\"\",\"\",VLOOKUP(E402,PARAMETROS!$I$3:$J$21,2,FALSE))","v":""},null,null,null,null,null,null,""]
[null,{"$f":"IF(A403=\"\",\"\",VLOOKUP(A403,PARAMETROS!$B$3:$C$3,2,FALSE))","v":""},null,{"$f":"IF(C403=\"\",\"\",VLOOKUP(C403,PARAMETROS!$G$3:$H$21,2,FALSE))","v":""},null,{"$f":"IF(E403=\"\",\"\",VLOOKUP(E403,PARAMETROS!$I$3:$J$21,2,FALSE))","v":""},null,null,null,null,null,null,""]
[null,{"$f":"IF(A404=\"\",\"\",VLOOKUP(A404,PARAMETROS!$B$3:$C$3,2,FALSE))","v":""},null,{"$f":"IF(C404=\"\",\"\",VLOOKUP(C404,PARAMETROS!$G$3:$H$21,2,FALSE))","v":""},null,{"$f":"IF(E404=\"\",\"\",VLOOKUP(E404,PARAMETROS!$I$3:$J$21,2,FALSE))","v":""},null,null,null,null,null,null,""]
[null,{"$f":"IF(A405=\"\",\"\",VLOOKUP(A405,PARAMETROS!$B$3:$C$3,2,FALSE))","v":""},null,{"$f":"IF(C405=\"\",\"\",VLOOKUP(C405,PARAMETROS!$G$3:$H$21,2,FALSE))","v":""},null,{"$f":"IF(E405=\"\",\"\",VLOOKUP(E405,PARAMETROS!$I$3:$J$21,2,FALSE))","v":""},null,null,null,null,null,null,""]
[null,{"$f":"IF(A406=\"\",\"\",VLOOKUP(A406,PARAMETROS!$B$3:$C$3,2,FALSE))","v":""},null,{"$f":"IF(C406=\"\",\"\",VLOOKUP(C406,PARAMETROS!$G$3:$H$21,2,FALSE))","v":""},null,{"$f":"IF(E406=\"\",\"\",VLOOKUP(E406,PARAMETROS!$I$3:$J$21,2,FALSE))","v":""},null,null,null,null,null,null,""]
[null,{"$f":"IF(A407=\"\",\"\",VLOOKUP(A407,PARAMETROS!$B$3:$C$3,2,FALSE))","v":""},null,{"$f":"IF(C407=\"\",\"\",VLOOKUP(C407,PARAMETROS!$G$3:$H$21,2,FALSE))","v":""},null,{"$f":"IF(E407=\"\",\"\",VLOOKUP(E407,PARAMETROS!$I$3:$J$21,2,FALSE))","v":""},null,null,null,null,null,null,""]
[null,{"$f":"IF(A408=\"\",\"\",VLOOKUP(A408,PARAMETROS!$B$3:$C$3,2,FALSE))","v":""},null,{"$f":"IF(C408=\"\",\"\",VLOOKUP(C408,PARAMETROS!$G$3:$H$21,2,FALSE))","v":""},null,{"$f":"IF(E408=\"\",\"\",VLOOKUP(E408,PARAMETROS!$I$3:$J$21,2,FALSE))","v":""},null,null,null,null,null,null,""]
[null,{"$f":"IF(A409=\"\",\"\",VLOOKUP(A409,PARAMETROS!$B$3:$C$3,2,FALSE))","v":""},null,{"$f":"IF(C409=\"\",\"\",VLOOKUP(C409,PARAMETROS!$G$3:$H$21,2,FALSE))","v":""},null,{"$f":"IF(E409=\"\",\"\",VLOOKUP(E409,PARAMETROS!$I$3:$J$21,2,FALSE))","v":""},null,null,null,null,null,null,""]
[null,{"$f":"IF(A410=\"\",\"\",VLOOKUP(A410,PARAMETROS!$B$3:$C$3,2,FALSE))","v":""},null,{"$f":"IF(C410=\"\",\"\",VLOOKUP(C410,PARAMETROS!$G$3:$H$21,2,FALSE))","v":""},null,{"$f":"IF(E410=\"\",\"\",VLOOKUP(E410,PARAMETROS!$I$3:$J$21,2,FALSE))","v":""},null,null,null,null,null,null,""]
[null,{"$f":"IF(A411=\"\",\"\",VLOOKUP(A411,PARAMETROS!$B$3:$C$3,2,FALSE))","v":""},null,{"$f":"IF(C411=\"\",\"\",VLOOKUP(C411,PARAMETROS!$G$3:$H$21,2,FALSE))","v":""},null,{"$f":"IF(E411=\"\",\"\",VLOOKUP(E411,PARAMETROS!$I$3:$J$21,2,FALSE))","v":""},null,null,null,null,null,null,""]
[null,{"$f":"IF(A412=\"\",\"\",VLOOKUP(A412,PARAMETROS!$B$3:$C$3,2,FALSE))","v":""},null,{"$f":"IF(C412=\"\",\"\",VLOOKUP(C412,PARAMETROS!$G$3:$H$21,2,FALSE))","v":""},null,{"$f":"IF(E412=\"\",\"\",VLOOKUP(E412,PARAMETROS!$I$3:$J$21,2,FALSE))","v":""},null,null,null,null,null,null,""]
[null,{"$f":"IF(A413=\"\",\"\",VLOOKUP(A413,PARAMETROS!$B$3:$C$3,2,FALSE))","v":""},null,{"$f":"IF(C413=\"\",\"\",VLOOKUP(C413,PARAMETROS!$G$3:$H$21,2,FALSE))","v":""},null,{"$f":"IF(E413=\"\",\"\",VLOOKUP(E413,PARAMETROS!$I$3:$J$21,2,FALSE))","v":""},null,null,null,null,null,null,""]
[null,{"$f":"IF(A414=\"\",\"\",VLOOKUP(A414,PARAMETROS!$B$3:$C$3,2,FALSE))","v":""},null,{"$f":"IF(C414=\"\",\"\",VLOOKUP(C414,PARAMETROS!$G$3:$H$21,2,FALSE))","v":""},null,{"$f":"IF(E414=\"\",\"\",VLOOKUP(E414,PARAMETROS!$I$3:$J$21,2,FALSE))","v":""},null,null,null,null,null,null,""]
[null,{"$f":"IF(A415=\"\",\"\",VLOOKUP(A415,PARAMETROS!$B$3:$C$3,2,FALSE))","v":""},null,{"$f":"IF(C415=\"\",\"\",VLOOKUP(C415,PARAMETROS!$G$3:$H$21,2,FALSE))","v":""},null,{"$f":"IF(E415=\"\",\"\",VLOOKUP(E415,PARAMETROS!$I$3:$J$21,2,FALSE))","v":""},null,null,null,null,null,null,""]
[null,{"$f":"IF(A416=\"\",\"\",VLOOKUP(A416,PARAMETROS!$B$3:$C$3,2,FALSE))","v":""},null,{"$f":"IF(C416=\"\",\"\",VLOOKUP(C416,PARAMETROS!$G$3:$H$21,2,FALSE))","v":""},null,{"$f":"IF(E416=\"\",\"\",VLOOKUP(E416,PARAMETROS!$I$3:$J$21,2,FALSE))","v":""},null,null,null,null,null,null,""]
[null,{"$f":"IF(A417=\"\",\"\",VLOOKUP(A417,PARAMETROS!$B$3:$C$3,2,FALSE))","v":""},null,{"$f":"IF(C417=\"\",\"\",VLOOKUP(C417,PARAMETROS!$G$3:$H$21,2,FALSE))","v":""},null,{"$f":"IF(E417=\"\",\"\",VLOOKUP(E417,PARAMETROS!$I$3:$J$21,2,FALSE))","v":""},null,null,null,null,null,null,""]
[null,{"$f":"IF(A418=\"\",\"\",VLOOKUP(A418,PARAMETROS!$B$3:$C$3,2,FALSE))","v":""},null,{"$f":"IF(C418=\"\",\"\",VLOOKUP(C418,PARAMETROS!$G$3:$H$21,2,FALSE))","v":""},null,{"$f":"IF(E418=\"\",\"\",VLOOKUP(E418,PARAMETROS!$I$3:$J$21,2,FALSE))","v":""},null,null,null,null,null,null,""]
[null,{"$f":"IF(A419=\"\",\"\",VLOOKUP(A419,PARAMETROS!$B$3:$C$3,2,FALSE))","v":""},null,{"$f":"IF(C419=\"\",\"\",VLOOKUP(C419,PARAMETROS!$G$3:$H$21,2,FALSE))","v":""},null,{"$f":"IF(E419=\"\",\"\",VLOOKUP(E419,PARAMETROS!$I$3:$J$21,2,FALSE))","v":""},null,null,null,null,null,null,""]
[null,{"$f":"IF(A420=\"\",\"\",VLOOKUP(A420,PARAMETROS!$B$3:$C$3,2,FALSE))","v":""},null,{"$f":"IF(C420=\"\",\"\",VLOOKUP(C420,PARAMETROS!$G$3:$H$21,2,FALSE))","v":""},null,{"$f":"IF(E420=\"\",\"\",VLOOKUP(E420,PARAMETROS!$I$3:$J$21,2,FALSE))","v":""},null,null,null,null,null,null,""]
[null,{"$f":"IF(A421=\"\",\"\",VLOOKUP(A421,PARAMETROS!$B$3:$C$3,2,FALSE))","v":""},null,{"$f":"IF(C421=\"\",\"\",VLOOKUP(C421,PARAMETROS!$G$3:$H$21,2,FALSE))","v":""},null,{"$f":"IF(E421=\"\",\"\",VLOOKUP(E421,PARAMETROS!$I$3:$J$21,2,FALSE))","v":""},null,null,null,null,null,null,""]
[null,{"$f":"IF(A422=\"\",\"\",VLOOKUP(A422,PARAMETROS!$B$3:$C$3,2,FALSE))","v":""},null,{"$f":"IF(C422=\"\",\"\",VLOOKUP(C422,PARAMETROS!$G$3:$H$21,2,FALSE))","v":""},null,{"$f":"IF(E422=\"\",\"\",VLOOKUP(E422,PARAMETROS!$I$3:$J$21,2,FALSE))","v":""},null,null,null,null,null,null,""]
[null,{"$f":"IF(A423=\"\",\"\",VLOOKUP(A423,PARAMETROS!$B$3:$C$3,2,FALSE))","v":""},null,{"$f":"IF(C423=\"\",\"\",VLOOKUP(C423,PARAMETROS!$G$3:$H$21,2,FALSE))","v":""},null,{"$f":"IF(E423=\"\",\"\",VLOOKUP(E423,PARAMETROS!$I$3:$J$21,2,FALSE))","v":""},null,null,null,null,null,null,""]
[null,{"$f":"IF(A424=\"\",\"\",VLOOKUP(A424,PARAMETROS!$B$3:$C$3,2,FALSE))","v":""},null,{"$f":"IF(C424=\"\",\"\",VLOOKUP(C424,PARAMETROS!$G$3:$H$21,2,FALSE))","v":""},null,{"$f":"IF(E424=\"\",\"\",VLOOKUP(E424,PARAMETROS!$I$3:$J$21,2,FALSE))","v":""},null,null,null,null,null,null,""]
[null,{"$f":"IF(A425=\"\",\"\",VLOOKUP(A425,PARAMETROS!$B$3:$C$3,2,FALSE))","v":""},null,{"$f":"IF(C425=\"\",\"\",VLOOKUP(C425,PARAMETROS!$G$3:$H$21,2,FALSE))","v":""},null,{"$f":"IF(E425=\"\",\"\",VLOOKUP(E425,PARAMETROS!$I$3:$J$21,2,FALSE))","v":""},null,null,null,null,null,null,""]
[null,{"$f":"IF(A426=\"\",\"\",VLOOKUP(A426,PARAMETROS!$B$3:$C$3,2,FALSE))","v":""},null,{"$f":"IF(C426=\"\",\"\",VLOOKUP(C426,PARAMETROS!$G$3:$H$21,2,FALSE))","v":""},null,{"$f":"IF(E426=\"\",\"\",VLOOKUP(E426,PARAMETROS!$I$3:$J$21,2,FALSE))","v":""},null,null,null,null,null,null,""]
[null,{"$f":"IF(A427=\"\",\"\",VLOOKUP(A427,PARAMETROS!$B$3:$C$3,2,FALSE))","v":""},null,{"$f":"IF(C427=\"\",\"\",VLOOKUP(C427,PARAMETROS!$G$3:$H$21,2,FALSE))","v":""},null,{"$f":"IF(E427=\"\",\"\",VLOOKUP(E427,PARAMETROS!$I$3:$J$21,2,FALSE))","v":""},null,null,null,null,null,null,""]
[null,{"$f":"IF(A428=\"\",\"\",VLOOKUP(A428,PARAMETROS!$B$3:$C$3,2,FALSE))","v":""},null,{"$f":"IF(C428=\"\",\"\",VLOOKUP(C428,PARAMETROS!$G$3:$H$21,2,FALSE))","v":""},null,{"$f":"IF(E428=\"\",\"\",VLOOKUP(E428,PARAMETROS!$I$3:$J$21,2,FALSE))","v":""},null,null,null,null,null,null,""]
[null,{"$f":"IF(A429=\"\",\"\",VLOOKUP(A429,PARAMETROS!$B$3:$C$3,2,FALSE))","v":""},null,{"$f":"IF(C429=\"\",\"\",VLOOKUP(C429,PARAMETROS!$G$3:$H$21,2,FALSE))","v":""},null,{"$f":"IF(E429=\"\",\"\",VLOOKUP(E429,PARAMETROS!$I$3:$J$21,2,FALSE))","v":""},null,null,null,null,null,null,""]
[null,{"$f":"IF(A430=\"\",\"\",VLOOKUP(A430,PARAMETROS!$B$3:$C$3,2,FALSE))","v":""},null,{"$f":"IF(C430=\"\",\"\",VLOOKUP(C430,PARAMETROS!$G$3:$H$21,2,FALSE))","v":""},null,{"$f":"IF(E430=\"\",\"\",VLOOKUP(E430,PARAMETROS!$I$3:$J$21,2,FALSE))","v":""},null,null,null,null,null,null,""]
[null,{"$f":"IF(A431=\"\",\"\",VLOOKUP(A431,PARAMETROS!$B$3:$C$3,2,FALSE))","v":""},null,{"$f":"IF(C431=\"\",\"\",VLOOKUP(C431,PARAMETROS!$G$3:$H$21,2,FALSE))","v":""},null,{"$f":"IF(E431=\"\",\"\",VLOOKUP(E431,PARAMETROS!$I$3:$J$21,2,FALSE))","v":""},null,null,null,null,null,null,""]
[null,{"$f":"IF(A432=\"\",\"\",VLOOKUP(A432,PARAMETROS!$B$3:$C$3,2,FALSE))","v":""},null,{"$f":"IF(C432=\"\",\"\",VLOOKUP(C432,PARAMETROS!$G$3:$H$21,2,FALSE))","v":""},null,{"$f":"IF(E432=\"\",\"\",VLOOKUP(E432,PARAMETROS!$I$3:$J$21,2,FALSE))","v":""},null,null,null,null,null,null,""]
[null,{"$f":"IF(A433=\"\",\"\",VLOOKUP(A433,PARAMETROS!$B$3:$C$3,2,FALSE))","v":""},null,{"$f":"IF(C433=\"\",\"\",VLOOKUP(C433,PARAMETROS!$G$3:$H$21,2,FALSE))","v":""},null,{"$f":"IF(E433=\"\",\"\",VLOOKUP(E433,PARAMETROS!$I$3:$J$21,2,FALSE))","v":""},null,null,null,null,null,null,""]
[null,{"$f":"IF(A434=\"\",\"\",VLOOKUP(A434,PARAMETROS!$B$3:$C$3,2,FALSE))","v":""},null,{"$f":"IF(C434=\"\",\"\",VLOOKUP(C434,PARAMETROS!$G$3:$H$21,2,FALSE))","v":""},null,{"$f":"IF(E434=\"\",\"\",VLOOKUP(E434,PARAMETROS!$I$3:$J$21,2,FALSE))","v":""},null,null,null,null,null,null,""]
[null,{"$f":"IF(A435=\"\",\"\",VLOOKUP(A435,PARAMETROS!$B$3:$C$3,2,FALSE))","v":""},null,{"$f":"IF(C435=\"\",\"\",VLOOKUP(C435,PARAMETROS!$G$3:$H$21,2,FALSE))","v":""},null,{"$f":"IF(E435=\"\",\"\",VLOOKUP(E435,PARAMETROS!$I$3:$J$21,2,FALSE))","v":""},null,null,null,null,null,null,""]
[null,{"$f":"IF(A436=\"\",\"\",VLOOKUP(A436,PARAMETROS!$B$3:$C$3,2,FALSE))","v":""},null,{"$f":"IF(C436=\"\",\"\",VLOOKUP(C436,PARAMETROS!$G$3:$H$21,2,FALSE))","v":""},null,{"$f":"IF(E436=\"\",\"\",VLOOKUP(E436,PARAMETROS!$I$3:$J$21,2,FALSE))","v":""},null,null,null,null,null,null,""]
[null,{"$f":"IF(A437=\"\",\"\",VLOOKUP(A437,PARAMETROS!$B$3:$C$3,2,FALSE))","v":""},null,{"$f":"IF(C437=\"\",\"\",VLOOKUP(C437,PARAMETROS!$G$3:$H$21,2,FALSE))","v":""},null,{"$f":"IF(E437=\"\",\"\",VLOOKUP(E437,PARAMETROS!$I$3:$J$21,2,FALSE))","v":""},null,null,null,null,null,null,""]
[null,{"$f":"IF(A438=\"\",\"\",VLOOKUP(A438,PARAMETROS!$B$3:$C$3,2,FALSE))","v":""},null,{"$f":"IF(C438=\"\",\"\",VLOOKUP(C438,PARAMETROS!$G$3:$H$21,2,FALSE))","v":""},null,{"$f":"IF(E438=\"\",\"\",VLOOKUP(E438,PARAMETROS!$I$3:$J$21,2,FALSE))","v":""},null,null,null,null,null,null,""]
[null,{"$f":"IF(A439=\"\",\"\",VLOOKUP(A439,PARAMETROS!$B$3:$C$3,2,FALSE))","v":""},null,{"$f":"IF(C439=\"\",\"\",VLOOKUP(C439,PARAMETROS!$G$3:$H$21,2,FALSE))","v":""},null,{"$f":"IF(E439=\"\",\"\",VLOOKUP(E439,PARAMETROS!$I$3:$J$21,2,FALSE))","v":""},null,null,null,null,null,null,""]
[null,{"$f":"IF(A440=\"\",\"\",VLOOKUP(A440,PARAMETROS!$B$3:$C$3,2,FALSE))","v":""},null,{"$f":"IF(C440=\"\",\"\",VLOOKUP(C440,PARAMETROS!$G$3:$H$21,2,FALSE))","v":""},null,{"$f":"IF(E440=\"\",\"\",VLOOKUP(E440,PARAMETROS!$I$3:$J$21,2,FALSE))","v":""},null,null,null,null,null,null,""]
[null,{"$f":"IF(A441=\"\",\"\",VLOOKUP(A441,PARAMETROS!$B$3:$C$3,2,FALSE))","v":""},null,{"$f":"IF(C441=\"\",\"\",VLOOKUP(C441,PARAMETROS!$G$3:$H$21,2,FALSE))","v":""},null,{"$f":"IF(E441=\"\",\"\",VLOOKUP(E441,PARAMETROS!$I$3:$J$21,2,FALSE))","v":""},null,null,null,null,null,null,""]
[null,{"$f":"IF(A442=\"\",\"\",VLOOKUP(A442,PARAMETROS!$B$3:$C$3,2,FALSE))","v":""},null,{"$f":"IF(C442=\"\",\"\",VLOOKUP(C442,PARAMETROS!$G$3:$H$21,2,FALSE))","v":""},null,{"$f":"IF(E442=\"\",\"\",VLOOKUP(E442,PARAMETROS!$I$3:$J$21,2,FALSE))","v":""},null,null,null,null,null,null,""]
[null,{"$f":"IF(A443=\"\",\"\",VLOOKUP(A443,PARAMETROS!$B$3:$C$3,2,FALSE))","v":""},null,{"$f":"IF(C443=\"\",\"\",VLOOKUP(C443,PARAMETROS!$G$3:$H$21,2,FALSE))","v":""},null,{"$f":"IF(E443=\"\",\"\",VLOOKUP(E443,PARAMETROS!$I$3:$J$21,2,FALSE))","v":""},null,null,null,null,null,null,""]
[null,{"$f":"IF(A444=\"\",\"\",VLOOKUP(A444,PARAMETROS!$B$3:$C$3,2,FALSE))","v":""},null,{"$f":"IF(C444=\"\",\"\",VLOOKUP(C444,PARAMETROS!$G$3:$H$21,2,FALSE))","v":""},null,{"$f":"IF(E444=\"\",\"\",VLOOKUP(E444,PARAMETROS!$I$3:$J$21,2,FALSE))","v":""},null,null,null,null,null,null,""]
[null,{"$f":"IF(A445=\"\",\"\",VLOOKUP(A445,PARAMETROS!$B$3:$C$3,2,FALSE))","v":""},null,{"$f":"IF(C445=\"\",\"\",VLOOKUP(C445,PARAMETROS!$G$3:$H$21,2,FALSE))","v":""},null,{"$f":"IF(E445=\"\",\"\",VLOOKUP(E445,PARAMETROS!$I$3:$J$21,2,FALSE))","v":""},null,null,null,null,null,null,""]
[null,{"$f":"IF(A446=\"\",\"\",VLOOKUP(A446,PARAMETROS!$B$3:$C$3,2,FALSE))","v":""},null,{"$f":"IF(C446=\"\",\"\",VLOOKUP(C446,PARAMETROS!$G$3:$H$21,2,FALSE))","v":""},null,{"$f":"IF(E446=\"\",\"\",VLOOKUP(E446,PARAMETROS!$I$3:$J$21,2,FALSE))","v":""},null,null,null,null,null,null,""]
[null,{"$f":"IF(A447=\"\",\"\",VLOOKUP(A447,PARAMETROS!$B$3:$C$3,2,FALSE))","v":""},null,{"$f":"IF(C447=\"\",\"\",VLOOKUP(C447,PARAMETROS!$G$3:$H$21,2,FALSE))","v":""},null,{"$f":"IF(E447=\"\",\"\",VLOOKUP(E447,PARAMETROS!$I$3:$J$21,2,FALSE))","v":""},null,null,null,null,null,null,""]
[null,{"$f":"IF(A448=\"\",\"\",VLOOKUP(A448,PARAMETROS!$B$3:$C$3,2,FALSE))","v":""},null,{"$f":"IF(C448=\"\",\"\",VLOOKUP(C448,PARAMETROS!$G$3:$H$21,2,FALSE))","v":""},null,{"$f":"IF(E448=\"\",\"\",VLOOKUP(E448,PARAMETROS!$I$3:$J$21,2,FALSE))","v":""},null,null,null,null,null,null,""]
[null,{"$f":"IF(A449=\"\",\"\",VLOOKUP(A449,PARAMETROS!$B$3:$C$3,2,FALSE))","v":""},null,{"$f":"IF(C449=\"\",\"\",VLOOKUP(C449,PARAMETROS!$G$3:$H$21,2,FALSE))","v":""},null,{"$f":"IF(E449=\"\",\"\",VLOOKUP(E449,PARAMETROS!$I$3:$J$21,2,FALSE))","v":""},null,null,null,null,null,null,""]
[null,{"$f":"IF(A450=\"\",\"\",VLOOKUP(A450,PARAMETROS!$B$3:$C$3,2,FALSE))","v":""},null,{"$f":"IF(C450=\"\",\"\",VLOOKUP(C450,PARAMETROS!$G$3:$H$21,2,FALSE))","v":""},null,{"$f":"IF(E450=\"\",\"\",VLOOKUP(E450,PARAMETROS!$I$3:$J$21,2,FALSE))","v":""},null,null,null,null,null,null,""]
[null,{"$f":"IF(A451=\"\",\"\",VLOOKUP(A451,PARAMETROS!$B$3:$C$3,2,FALSE))","v":""},null,{"$f":"IF(C451=\"\",\"\",VLOOKUP(C451,PARAMETROS!$G$3:$H$21,2,FALSE))","v":""},null,{"$f":"IF(E451=\"\",\"\",VLOOKUP(E451,PARAMETROS!$I$3:$J$21,2,FALSE))","v":""},null,null,null,null,null,null,""]
[null,{"$f":"IF(A452=\"\",\"\",VLOOKUP(A452,PARAMETROS!$B$3:$C$3,2,FALSE))","v":""},null,{"$f":"IF(C452=\"\",\"\",VLOOKUP(C452,PARAMETROS!$G$3:$H$21,2,FALSE))","v":""},null,{"$f":"IF(E452=\"\",\"\",VLOOKUP(E452,PARAMETROS!$I$3:$J$21,2,FALSE))","v":""},null,null,null,null,null,null,""]
[null,{"$f":"IF(A453=\"\",\"\",VLOOKUP(A453,PARAMETROS!$B$3:$C$3,2,FALSE))","v":""},null,{"$f":"IF(C453=\"\",\"\",VLOOKUP(C453,PARAMETROS!$G$3:$H$21,2,FALSE))","v":""},null,{"$f":"IF(E453=\"\",\"\",VLOOKUP(E453,PARAMETROS!$I$3:$J$21,2,FALSE))","v":""},null,null,null,null,null,null,""]
[null,{"$f":"IF(A454=\"\",\"\",VLOOKUP(A454,PARAMETROS!$B$3:$C$3,2,FALSE))","v":""},null,{"$f":"IF(C454=\"\",\"\",VLOOKUP(C454,PARAMETROS!$G$3:$H$21,2,FALSE))","v":""},null,{"$f":"IF(E454=\"\",\"\",VLOOKUP(E454,PARAMETROS!$I$3:$J$21,2,FALSE))","v":""},null,null,null,null,null,null,""]
[null,{"$f":"IF(A455=\"\",\"\",VLOOKUP(A455,PARAMETROS!$B$3:$C$3,2,FALSE))","v":""},null,{"$f":"IF(C455=\"\",\"\",VLOOKUP(C455,PARAMETROS!$G$3:$H$21,2,FALSE))","v":""},null,{"$f":"IF(E455=\"\",\"\",VLOOKUP(E455,PARAMETROS!$I$3:$J$21,2,FALSE))","v":""},null,null,null,null,null,null,""]
[null,{"$f":"IF(A456=\"\",\"\",VLOOKUP(A456,PARAMETROS!$B$3:$C$3,2,FALSE))","v":""},null,{"$f":"IF(C456=\"\",\"\",VLOOKUP(C456,PARAMETROS!$G$3:$H$21,2,FALSE))","v":""},null,{"$f":"IF(E456=\"\",\"\",VLOOKUP(E456,PARAMETROS!$I$3:$J$21,2,FALSE))","v":""},null,null,null,null,null,null,""]
[null,{"$f":"IF(A457=\"\",\"\",VLOOKUP(A457,PARAMETROS!$B$3:$C$3,2,FALSE))","v":""},null,{"$f":"IF(C457=\"\",\"\",VLOOKUP(C457,PARAMETROS!$G$3:$H$21,2,FALSE))","v":""},null,{"$f":"IF(E457=\"\",\"\",VLOOKUP(E457,PARAMETROS!$I$3:$J$21,2,FALSE))","v":""},null,null,null,null,null,null,""]
[null,{"$f":"IF(A458=\"\",\"\",VLOOKUP(A458,PARAMETROS!$B$3:$C$3,2,FALSE))","v":""},null,{"$f":"IF(C458=\"\",\"\",VLOOKUP(C458,PARAMETROS!$G$3:$H$21,2,FALSE))","v":""},null,{"$f":"IF(E458=\"\",\"\",VLOOKUP(E458,PARAMETROS!$I$3:$J$21,2,FALSE))","v":""},null,null,null,null,null,null,""]
[null,{"$f":"IF(A459=\"\",\"\",VLOOKUP(A459,PARAMETROS!$B$3:$C$3,2,FALSE))","v":""},null,{"$f":"IF(C459=\"\",\"\",VLOOKUP(C459,PARAMETROS!$G$3:$H$21,2,FALSE))","v":""},null,{"$f":"IF(E459=\"\",\"\",VLOOKUP(E459,PARAMETROS!$I$3:$J$21,2,FALSE))","v":""},null,null,null,null,null,null,""]
[null,{"$f":"IF(A460=\"\",\"\",VLOOKUP(A460,PARAMETROS!$B$3:$C$3,2,FALSE))","v":""},null,{"$f":"IF(C460=\"\",\"\",VLOOKUP(C460,PARAMETROS!$G$3:$H$21,2,FALSE))","v":""},null,{"$f":"IF(E460=\"\",\"\",VLOOKUP(E460,PARAMETROS!$I$3:$J$21,2,FALSE))","v":""},null,null,null,null,null,null,""]
[null,{"$f":"IF(A461=\"\",\"\",VLOOKUP(A461,PARAMETROS!$B$3:$C$3,2,FALSE))","v":""},null,{"$f":"IF(C461=\"\",\"\",VLOOKUP(C461,PARAMETROS!$G$3:$H$21,2,FALSE))","v":""},null,{"$f":"IF(E461=\"\",\"\",VLOOKUP(E461,PARAMETROS!$I$3:$J$21,2,FALSE))","v":""},null,null,null,null,null,null,""]
[null,{"$f":"IF(A462=\"\",\"\",VLOOKUP(A462,PARAMETROS!$B$3:$C$3,2,FALSE))","v":""},null,{"$f":"IF(C462=\"\",\"\",VLOOKUP(C462,PARAMETROS!$G$3:$H$21,2,FALSE))","v":""},null,{"$f":"IF(E462=\"\",\"\",VLOOKUP(E462,PARAMETROS!$I$3:$J$21,2,FALSE))","v":""},null,null,null,null,null,null,""]
[null,{"$f":"IF(A463=\"\",\"\",VLOOKUP(A463,PARAMETROS!$B$3:$C$3,2,FALSE))","v":""},null,{"$f":"IF(C463=\"\",\"\",VLOOKUP(C463,PARAMETROS!$G$3:$H$21,2,FALSE))","v":""},null,{"$f":"IF(E463=\"\",\"\",VLOOKUP(E463,PARAMETROS!$I$3:$J$21,2,FALSE))","v":""},null,null,null,null,null,null,{"$f":"IF(L463=\"\", \"\", L463)","v":""}]
[null,{"$f":"IF(A464=\"\",\"\",VLOOKUP(A464,PARAMETROS!$B$3:$C$3,2,FALSE))","v":""},null,{"$f":"IF(C464=\"\",\"\",VLOOKUP(C464,PARAMETROS!$G$3:$H$21,2,FALSE))","v":""},null,{"$f":"IF(E464=\"\",\"\",VLOOKUP(E464,PARAMETROS!$I$3:$J$21,2,FALSE))","v":""},null,null,null,null,null,null,""]
[null,{"$f":"IF(A465=\"\",\"\",VLOOKUP(A465,PARAMETROS!$B$3:$C$3,2,FALSE))","v":""},null,{"$f":"IF(C465=\"\",\"\",VLOOKUP(C465,PARAMETROS!$G$3:$H$21,2,FALSE))","v":""},null,{"$f":"IF(E465=\"\",\"\",VLOOKUP(E465,PARAMETROS!$I$3:$J$21,2,FALSE))","v":""},null,null,null,null,null,null,""]
[null,{"$f":"IF(A466=\"\",\"\",VLOOKUP(A466,PARAMETROS!$B$3:$C$3,2,FALSE))","v":""},null,{"$f":"IF(C466=\"\",\"\",VLOOKUP(C466,PARAMETROS!$G$3:$H$21,2,FALSE))","v":""},null,{"$f":"IF(E466=\"\",\"\",VLOOKUP(E466,PARAMETROS!$I$3:$J$21,2,FALSE))","v":""},null,null,null,null,null,null,""]
[null,{"$f":"IF(A467=\"\",\"\",VLOOKUP(A467,PARAMETROS!$B$3:$C$3,2,FALSE))","v":""},null,{"$f":"IF(C467=\"\",\"\",VLOOKUP(C467,PARAMETROS!$G$3:$H$21,2,FALSE))","v":""},null,{"$f":"IF(E467=\"\",\"\",VLOOKUP(E467,PARAMETROS!$I$3:$J$21,2,FALSE))","v":""},null,null,null,null,null,null,""]
[null,{"$f":"IF(A468=\"\",\"\",VLOOKUP(A468,PARAMETROS!$B$3:$C$3,2,FALSE))","v":""},null,{"$f":"IF(C468=\"\",\"\",VLOOKUP(C468,PARAMETROS!$G$3:$H$21,2,FALSE))","v":""},null,{"$f":"IF(E468=\"\",\"\",VLOOKUP(E468,PARAMETROS!$I$3:$J$21,2,FALSE))","v":""},null,null,null,null,null,null,""]
[null,{"$f":"IF(A469=\"\",\"\",VLOOKUP(A469,PARAMETROS!$B$3:$C$3,2,FALSE))","v":""},null,{"$f":"IF(C469=\"\",\"\",VLOOKUP(C469,PARAMETROS!$G$3:$H$21,2,FALSE))","v":""},null,{"$f":"IF(E469=\"\",\"\",VLOOKUP(E469,PARAMETROS!$I$3:$J$21,2,FALSE))","v":""},null,null,null,null,null,null,""]
[null,{"$f":"IF(A470=\"\",\"\",VLOOKUP(A470,PARAMETROS!$B$3:$C$3,2,FALSE))","v":""},null,{"$f":"IF(C470=\"\",\"\",VLOOKUP(C470,PARAMETROS!$G$3:$H$21,2,FALSE))","v":""},null,{"$f":"IF(E470=\"\",\"\",VLOOKUP(E470,PARAMETROS!$I$3:$J$21,2,FALSE))","v":""},null,null,null,null,null,null,""]
[null,{"$f":"IF(A471=\"\",\"\",VLOOKUP(A471,PARAMETROS!$B$3:$C$3,2,FALSE))","v":""},null,{"$f":"IF(C471=\"\",\"\",VLOOKUP(C471,PARAMETROS!$G$3:$H$21,2,FALSE))","v":""},null,{"$f":"IF(E471=\"\",\"\",VLOOKUP(E471,PARAMETROS!$I$3:$J$21,2,FALSE))","v":""},null,null,null,null,null,null,""]
[null,{"$f":"IF(A472=\"\",\"\",VLOOKUP(A472,PARAMETROS!$B$3:$C$3,2,FALSE))","v":""},null,{"$f":"IF(C472=\"\",\"\",VLOOKUP(C472,PARAMETROS!$G$3:$H$21,2,FALSE))","v":""},null,{"$f":"IF(E472=\"\",\"\",VLOOKUP(E472,PARAMETROS!$I$3:$J$21,2,FALSE))","v":""},null,null,null,null,null,null,""]
[null,{"$f":"IF(A473=\"\",\"\",VLOOKUP(A473,PARAMETROS!$B$3:$C$3,2,FALSE))","v":""},null,{"$f":"IF(C473=\"\",\"\",VLOOKUP(C473,PARAMETROS!$G$3:$H$21,2,FALSE))","v":""},null,{"$f":"IF(E473=\"\",\"\",VLOOKUP(E473,PARAMETROS!$I$3:$J$21,2,FALSE))","v":""},null,null,null,null,null,null,""]
[null,{"$f":"IF(A474=\"\",\"\",VLOOKUP(A474,PARAMETROS!$B$3:$C$3,2,FALSE))","v":""},null,{"$f":"IF(C474=\"\",\"\",VLOOKUP(C474,PARAMETROS!$G$3:$H$21,2,FALSE))","v":""},null,{"$f":"IF(E474=\"\",\"\",VLOOKUP(E474,PARAMETROS!$I$3:$J$21,2,FALSE))","v":""},null,null,null,null,null,null,""]
[null,{"$f":"IF(A475=\"\",\"\",VLOOKUP(A475,PARAMETROS!$B$3:$C$3,2,FALSE))","v":""},null,{"$f":"IF(C475=\"\",\"\",VLOOKUP(C475,PARAMETROS!$G$3:$H$21,2,FALSE))","v":""},null,{"$f":"IF(E475=\"\",\"\",VLOOKUP(E475,PARAMETROS!$I$3:$J$21,2,FALSE))","v":""},null,null,null,null,null,null,""]
[null,{"$f":"IF(A476=\"\",\"\",VLOOKUP(A476,PARAMETROS!$B$3:$C$3,2,FALSE))","v":""},null,{"$f":"IF(C476=\"\",\"\",VLOOKUP(C476,PARAMETROS!$G$3:$H$21,2,FALSE))","v":""},null,{"$f":"IF(E476=\"\",\"\",VLOOKUP(E476,PARAMETROS!$I$3:$J$21,2,FALSE))","v":""},null,null,null,null,null,null,""]
[null,{"$f":"IF(A477=\"\",\"\",VLOOKUP(A477,PARAMETROS!$B$3:$C$3,2,FALSE))","v":""},null,{"$f":"IF(C477=\"\",\"\",VLOOKUP(C477,PARAMETROS!$G$3:$H$21,2,FALSE))","v":""},null,{"$f":"IF(E477=\"\",\"\",VLOOKUP(E477,PARAMETROS!$I$3:$J$21,2,FALSE))","v":""},null,null,null,null,null,null,""]
[null,{"$f":"IF(A478=\"\",\"\",VLOOKUP(A478,PARAMETROS!$B$3:$C$3,2,FALSE))","v":""},null,{"$f":"IF(C478=\"\",\"\",VLOOKUP(C478,PARAMETROS!$G$3:$H$21,2,FALSE))","v":""},null,{"$f":"IF(E478=\"\",\"\",VLOOKUP(E478,PARAMETROS!$I$3:$J$21,2,FALSE))","v":""},null,null,null,null,null,null,""]
[null,{"$f":"IF(A479=\"\",\"\",VLOOKUP(A479,PARAMETROS!$B$3:$C$3,2,FALSE))","v":""},null,{"$f":"IF(C479=\"\",\"\",VLOOKUP(C479,PARAMETROS!$G$3:$H$21,2,FALSE))","v":""},null,{"$f":"IF(E479=\"\",\"\",VLOOKUP(E479,PARAMETROS!$I$3:$J$21,2,FALSE))","v":""},null,null,null,null,null,null,""]
[null,{"$f":"IF(A480=\"\",\"\",VLOOKUP(A480,PARAMETROS!$B$3:$C$3,2,FALSE))","v":""},null,{"$f":"IF(C480=\"\",\"\",VLOOKUP(C480,PARAMETROS!$G$3:$H$21,2,FALSE))","v":""},null,{"$f":"IF(E480=\"\",\"\",VLOOKUP(E480,PARAMETROS!$I$3:$J$21,2,FALSE))","v":""},null,null,null,null,null,null,""]
[null,{"$f":"IF(A481=\"\",\"\",VLOOKUP(A481,PARAMETROS!$B$3:$C$3,2,FALSE))","v":""},null,{"$f":"IF(C481=\"\",\"\",VLOOKUP(C481,PARAMETROS!$G$3:$H$21,2,FALSE))","v":""},null,{"$f":"IF(E481=\"\",\"\",VLOOKUP(E481,PARAMETROS!$I$3:$J$21,2,FALSE))","v":""},null,null,null,null,null,null,""]
[null,{"$f":"IF(A482=\"\",\"\",VLOOKUP(A482,PARAMETROS!$B$3:$C$3,2,FALSE))","v":""},null,{"$f":"IF(C482=\"\",\"\",VLOOKUP(C482,PARAMETROS!$G$3:$H$21,2,FALSE))","v":""},null,{"$f":"IF(E482=\"\",\"\",VLOOKUP(E482,PARAMETROS!$I$3:$J$21,2,FALSE))","v":""},null,null,null,null,null,null,""]
[null,{"$f":"IF(A483=\"\",\"\",VLOOKUP(A483,PARAMETROS!$B$3:$C$3,2,FALSE))","v":""},null,{"$f":"IF(C483=\"\",\"\",VLOOKUP(C483,PARAMETROS!$G$3:$H$21,2,FALSE))","v":""},null,{"$f":"IF(E483=\"\",\"\",VLOOKUP(E483,PARAMETROS!$I$3:$J$21,2,FALSE))","v":""},null,null,null,null,null,null,""]
[null,{"$f":"IF(A484=\"\",\"\",VLOOKUP(A484,PARAMETROS!$B$3:$C$3,2,FALSE))","v":""},null,{"$f":"IF(C484=\"\",\"\",VLOOKUP(C484,PARAMETROS!$G$3:$H$21,2,FALSE))","v":""},null,{"$f":"IF(E484=\"\",\"\",VLOOKUP(E484,PARAMETROS!$I$3:$J$21,2,FALSE))","v":""},null,null,null,null,null,null,""]
[null,{"$f":"IF(A485=\"\",\"\",VLOOKUP(A485,PARAMETROS!$B$3:$C$3,2,FALSE))","v":""},null,{"$f":"IF(C485=\"\",\"\",VLOOKUP(C485,PARAMETROS!$G$3:$H$21,2,FALSE))","v":""},null,{"$f":"IF(E485=\"\",\"\",VLOOKUP(E485,PARAMETROS!$I$3:$J$21,2,FALSE))","v":""},null,null,null,null,null,null,""]
[null,{"$f":"IF(A486=\"\",\"\",VLOOKUP(A486,PARAMETROS!$B$3:$C$3,2,FALSE))","v":""},null,{"$f":"IF(C486=\"\",\"\",VLOOKUP(C486,PARAMETROS!$G$3:$H$21,2,FALSE))","v":""},null,{"$f":"IF(E486=\"\",\"\",VLOOKUP(E486,PARAMETROS!$I$3:$J$21,2,FALSE))","v":""},null,null,null,null,null,null,""]
[null,{"$f":"IF(A487=\"\",\"\",VLOOKUP(A487,PARAMETROS!$B$3:$C$3,2,FALSE))","v":""},null,{"$f":"IF(C487=\"\",\"\",VLOOKUP(C487,PARAMETROS!$G$3:$H$21,2,FALSE))","v":""},null,{"$f":"IF(E487=\"\",\"\",VLOOKUP(E487,PARAMETROS!$I$3:$J$21,2,FALSE))","v":""},null,null,null,null,null,null,""]
[null,{"$f":"IF(A488=\"\",\"\",VLOOKUP(A488,PARAMETROS!$B$3:$C$3,2,FALSE))","v":""},null,{"$f":"IF(C488=\"\",\"\",VLOOKUP(C488,PARAMETROS!$G$3:$H$21,2,FALSE))","v":""},null,{"$f":"IF(E488=\"\",\"\",VLOOKUP(E488,PARAMETROS!$I$3:$J$21,2,FALSE))","v":""},null,null,null,null,null,null,""]
[null,{"$f":"IF(A489=\"\",\"\",VLOOKUP(A489,PARAMETROS!$B$3:$C$3,2,FALSE))","v":""},null,{"$f":"IF(C489=\"\",\"\",VLOOKUP(C489,PARAMETROS!$G$3:$H$21,2,FALSE))","v":""},null,{"$f":"IF(E489=\"\",\"\",VLOOKUP(E489,PARAMETROS!$I$3:$J$21,2,FALSE))","v":""},null,null,null,null,null,null,""]
[null,{"$f":"IF(A490=\"\",\"\",VLOOKUP(A490,PARAMETROS!$B$3:$C$3,2,FALSE))","v":""},null,{"$f":"IF(C490=\"\",\"\",VLOOKUP(C490,PARAMETROS!$G$3:$H$21,2,FALSE))","v":""},null,{"$f":"IF(E490=\"\",\"\",VLOOKUP(E490,PARAMETROS!$I$3:$J$21,2,FALSE))","v":""},null,null,null,null,null,null,""]
[null,{"$f":"IF(A491=\"\",\"\",VLOOKUP(A491,PARAMETROS!$B$3:$C$3,2,FALSE))","v":""},null,{"$f":"IF(C491=\"\",\"\",VLOOKUP(C491,PARAMETROS!$G$3:$H$21,2,FALSE))","v":""},null,{"$f":"IF(E491=\"\",\"\",VLOOKUP(E491,PARAMETROS!$I$3:$J$21,2,FALSE))","v":""},null,null,null,null,null,null,""]
[null,{"$f":"IF(A492=\"\",\"\",VLOOKUP(A492,PARAMETROS!$B$3:$C$3,2,FALSE))","v":""},null,{"$f":"IF(C492=\"\",\"\",VLOOKUP(C492,PARAMETROS!$G$3:$H$21,2,FALSE))","v":""},null,{"$f":"IF(E492=\"\",\"\",VLOOKUP(E492,PARAMETROS!$I$3:$J$21,2,FALSE))","v":""},null,null,null,null,null,null,""]
[null,{"$f":"IF(A493=\"\",\"\",VLOOKUP(A493,PARAMETROS!$B$3:$C$3,2,FALSE))","v":""},null,{"$f":"IF(C493=\"\",\"\",VLOOKUP(C493,PARAMETROS!$G$3:$H$21,2,FALSE))","v":""},null,{"$f":"IF(E493=\"\",\"\",VLOOKUP(E493,PARAMETROS!$I$3:$J$21,2,FALSE))","v":""},null,null,null,null,null,null,""]
[null,{"$f":"IF(A494=\"\",\"\",VLOOKUP(A494,PARAMETROS!$B$3:$C$3,2,FALSE))","v":""},null,{"$f":"IF(C494=\"\",\"\",VLOOKUP(C494,PARAMETROS!$G$3:$H$21,2,FALSE))","v":""},null,{"$f":"IF(E494=\"\",\"\",VLOOKUP(E494,PARAMETROS!$I$3:$J$21,2,FALSE))","v":""},null,null,null,null,null,null,""]
[null,{"$f":"IF(A495=\"\",\"\",VLOOKUP(A495,PARAMETROS!$B$3:$C$3,2,FALSE))","v":""},null,{"$f":"IF(C495=\"\",\"\",VLOOKUP(C495,PARAMETROS!$G$3:$H$21,2,FALSE))","v":""},null,{"$f":"IF(E495=\"\",\"\",VLOOKUP(E495,PARAMETROS!$I$3:$J$21,2,FALSE))","v":""},null,null,null,null,null,null,""]
[null,{"$f":"IF(A496=\"\",\"\",VLOOKUP(A496,PARAMETROS!$B$3:$C$3,2,FALSE))","v":""},null,{"$f":"IF(C496=\"\",\"\",VLOOKUP(C496,PARAMETROS!$G$3:$H$21,2,FALSE))","v":""},null,{"$f":"IF(E496=\"\",\"\",VLOOKUP(E496,PARAMETROS!$I$3:$J$21,2,FALSE))","v":""},null,null,null,null,null,null,""]
[null,{"$f":"IF(A497=\"\",\"\",VLOOKUP(A497,PARAMETROS!$B$3:$C$3,2,FALSE))","v":""},null,{"$f":"IF(C497=\"\",\"\",VLOOKUP(C497,PARAMETROS!$G$3:$H$21,2,FALSE))","v":""},null,{"$f":"IF(E497=\"\",\"\",VLOOKUP(E497,PARAMETROS!$I$3:$J$21,2,FALSE))","v":""},null,null,null,null,null,null,""]
[null,{"$f":"IF(A498=\"\",\"\",VLOOKUP(A498,PARAMETROS!$B$3:$C$3,2,FALSE))","v":""},null,{"$f":"IF(C498=\"\",\"\",VLOOKUP(C498,PARAMETROS!$G$3:$H$21,2,FALSE))","v":""},null,{"$f":"IF(E498=\"\",\"\",VLOOKUP(E498,PARAMETROS!$I$3:$J$21,2,FALSE))","v":""},null,null,null,null,null,null,""]
[null,{"$f":"IF(A499=\"\",\"\",VLOOKUP(A499,PARAMETROS!$B$3:$C$3,2,FALSE))","v":""},null,{"$f":"IF(C499=\"\",\"\",VLOOKUP(C499,PARAMETROS!$G$3:$H$21,2,FALSE))","v":""},null,{"$f":"IF(E499=\"\",\"\",VLOOKUP(E499,PARAMETROS!$I$3:$J$21,2,FALSE))","v":""},null,null,null,null,null,null,""]
[null,{"$f":"IF(A500=\"\",\"\",VLOOKUP(A500,PARAMETROS!$B$3:$C$3,2,FALSE))","v":""},null,{"$f":"IF(C500=\"\",\"\",VLOOKUP(C500,PARAMETROS!$G$3:$H$21,2,FALSE))","v":""},null,{"$f":"IF(E500=\"\",\"\",VLOOKUP(E500,PARAMETROS!$I$3:$J$21,2,FALSE))","v":""},null,null,null,null,null,null,""]
[null,{"$f":"IF(A501=\"\",\"\",VLOOKUP(A501,PARAMETROS!$B$3:$C$3,2,FALSE))","v":""},null,{"$f":"IF(C501=\"\",\"\",VLOOKUP(C501,PARAMETROS!$G$3:$H$21,2,FALSE))","v":""},null,{"$f":"IF(E501=\"\",\"\",VLOOKUP(E501,PARAMETROS!$I$3:$J$21,2,FALSE))","v":""},null,null,null,null,null,null,""]
[null,{"$f":"IF(A502=\"\",\"\",VLOOKUP(A502,PARAMETROS!$B$3:$C$3,2,FALSE))","v":""},null,{"$f":"IF(C502=\"\",\"\",VLOOKUP(C502,PARAMETROS!$G$3:$H$21,2,FALSE))","v":""},null,{"$f":"IF(E502=\"\",\"\",VLOOKUP(E502,PARAMETROS!$I$3:$J$21,2,FALSE))","v":""},null,null,null,null,null,null,""]
[null,{"$f":"IF(A503=\"\",\"\",VLOOKUP(A503,PARAMETROS!$B$3:$C$3,2,FALSE))","v":""},null,{"$f":"IF(C503=\"\",\"\",VLOOKUP(C503,PARAMETROS!$G$3:$H$21,2,FALSE))","v":""},null,{"$f":"IF(E503=\"\",\"\",VLOOKUP(E503,PARAMETROS!$I$3:$J$21,2,FALSE))","v":""},null,null,null,null,null,null,""]
[null,{"$f":"IF(A504=\"\",\"\",VLOOKUP(A504,PARAMETROS!$B$3:$C$3,2,FALSE))","v":""},null,{"$f":"IF(C504=\"\",\"\",VLOOKUP(C504,PARAMETROS!$G$3:$H$21,2,FALSE))","v":""},null,{"$f":"IF(E504=\"\",\"\",VLOOKUP(E504,PARAMETROS!$I$3:$J$21,2,FALSE))","v":""},null,null,null,null,null,null,""]
[null,{"$f":"IF(A505=\"\",\"\",VLOOKUP(A505,PARAMETROS!$B$3:$C$3,2,FALSE))","v":""},null,{"$f":"IF(C505=\"\",\"\",VLOOKUP(C505,PARAMETROS!$G$3:$H$21,2,FALSE))","v":""},null,{"$f":"IF(E505=\"\",\"\",VLOOKUP(E505,PARAMETROS!$I$3:$J$21,2,FALSE))","v":""},null,null,null,null,null,null,""]
[null,{"$f":"IF(A506=\"\",\"\",VLOOKUP(A506,PARAMETROS!$B$3:$C$3,2,FALSE))","v":""},null,{"$f":"IF(C506=\"\",\"\",VLOOKUP(C506,PARAMETROS!$G$3:$H$21,2,FALSE))","v":""},null,{"$f":"IF(E506=\"\",\"\",VLOOKUP(E506,PARAMETROS!$I$3:$J$21,2,FALSE))","v":""},null,null,null,null,null,null,""]
[null,{"$f":"IF(A507=\"\",\"\",VLOOKUP(A507,PARAMETROS!$B$3:$C$3,2,FALSE))","v":""},null,{"$f":"IF(C507=\"\",\"\",VLOOKUP(C507,PARAMETROS!$G$3:$H$21,2,FALSE))","v":""},null,{"$f":"IF(E507=\"\",\"\",VLOOKUP(E507,PARAMETROS!$I$3:$J$21,2,FALSE))","v":""},null,null,null,null,null,null,""]
[null,{"$f":"IF(A508=\"\",\"\",VLOOKUP(A508,PARAMETROS!$B$3:$C$3,2,FALSE))","v":""},null,{"$f":"IF(C508=\"\",\"\",VLOOKUP(C508,PARAMETROS!$G$3:$H$21,2,FALSE))","v":""},null,{"$f":"IF(E508=\"\",\"\",VLOOKUP(E508,PARAMETROS!$I$3:$J$21,2,FALSE))","v":""},null,null,null,null,null,null,""]
[null,{"$f":"IF(A509=\"\",\"\",VLOOKUP(A509,PARAMETROS!$B$3:$C$3,2,FALSE))","v":""},null,{"$f":"IF(C509=\"\",\"\",VLOOKUP(C509,PARAMETROS!$G$3:$H$21,2,FALSE))","v":""},null,{"$f":"IF(E509=\"\",\"\",VLOOKUP(E509,PARAMETROS!$I$3:$J$21,2,FALSE))","v":""},null,null,null,null,null,null,""]
[null,{"$f":"IF(A510=\"\",\"\",VLOOKUP(A510,PARAMETROS!$B$3:$C$3,2,FALSE))","v":""},null,{"$f":"IF(C510=\"\",\"\",VLOOKUP(C510,PARAMETROS!$G$3:$H$21,2,FALSE))","v":""},null,{"$f":"IF(E510=\"\",\"\",VLOOKUP(E510,PARAMETROS!$I$3:$J$21,2,FALSE))","v":""},null,null,null,null,null,null,""]
[null,{"$f":"IF(A511=\"\",\"\",VLOOKUP(A511,PARAMETROS!$B$3:$C$3,2,FALSE))","v":""},null,{"$f":"IF(C511=\"\",\"\",VLOOKUP(C511,PARAMETROS!$G$3:$H$21,2,FALSE))","v":""},null,{"$f":"IF(E511=\"\",\"\",VLOOKUP(E511,PARAMETROS!$I$3:$J$21,2,FALSE))","v":""},null,null,null,null,null,null,""]
[null,{"$f":"IF(A512=\"\",\"\",VLOOKUP(A512,PARAMETROS!$B$3:$C$3,2,FALSE))","v":""},null,{"$f":"IF(C512=\"\",\"\",VLOOKUP(C512,PARAMETROS!$G$3:$H$21,2,FALSE))","v":""},null,{"$f":"IF(E512=\"\",\"\",VLOOKUP(E512,PARAMETROS!$I$3:$J$21,2,FALSE))","v":""},null,null,null,null,null,null,""]
[null,{"$f":"IF(A513=\"\",\"\",VLOOKUP(A513,PARAMETROS!$B$3:$C$3,2,FALSE))","v":""},null,{"$f":"IF(C513=\"\",\"\",VLOOKUP(C513,PARAMETROS!$G$3:$H$21,2,FALSE))","v":""},null,{"$f":"IF(E513=\"\",\"\",VLOOKUP(E513,PARAMETROS!$I$3:$J$21,2,FALSE))","v":""},null,null,null,null,null,null,""]
[null,{"$f":"IF(A514=\"\",\"\",VLOOKUP(A514,PARAMETROS!$B$3:$C$3,2,FALSE))","v":""},null,{"$f":"IF(C514=\"\",\"\",VLOOKUP(C514,PARAMETROS!$G$3:$H$21,2,FALSE))","v":""},null,{"$f":"IF(E514=\"\",\"\",VLOOKUP(E514,PARAMETROS!$I$3:$J$21,2,FALSE))","v":""},null,null,null,null,null,null,""]
[null,{"$f":"IF(A515=\"\",\"\",VLOOKUP(A515,PARAMETROS!$B$3:$C$3,2,FALSE))","v":""},null,{"$f":"IF(C515=\"\",\"\",VLOOKUP(C515,PARAMETROS!$G$3:$H$21,2,FALSE))","v":""},null,{"$f":"IF(E515=\"\",\"\",VLOOKUP(E515,PARAMETROS!$I$3:$J$21,2,FALSE))","v":""},null,null,null,null,null,null,""]
[null,{"$f":"IF(A516=\"\",\"\",VLOOKUP(A516,PARAMETROS!$B$3:$C$3,2,FALSE))","v":""},null,{"$f":"IF(C516=\"\",\"\",VLOOKUP(C516,PARAMETROS!$G$3:$H$21,2,FALSE))","v":""},null,{"$f":"IF(E516=\"\",\"\",VLOOKUP(E516,PARAMETROS!$I$3:$J$21,2,FALSE))","v":""},null,null,null,null,null,null,""]
[null,{"$f":"IF(A517=\"\",\"\",VLOOKUP(A517,PARAMETROS!$B$3:$C$3,2,FALSE))","v":""},null,{"$f":"IF(C517=\"\",\"\",VLOOKUP(C517,PARAMETROS!$G$3:$H$21,2,FALSE))","v":""},null,{"$f":"IF(E517=\"\",\"\",VLOOKUP(E517,PARAMETROS!$I$3:$J$21,2,FALSE))","v":""},null,null,null,null,null,null,""]
[null,{"$f":"IF(A518=\"\",\"\",VLOOKUP(A518,PARAMETROS!$B$3:$C$3,2,FALSE))","v":""},null,{"$f":"IF(C518=\"\",\"\",VLOOKUP(C518,PARAMETROS!$G$3:$H$21,2,FALSE))","v":""},null,{"$f":"IF(E518=\"\",\"\",VLOOKUP(E518,PARAMETROS!$I$3:$J$21,2,FALSE))","v":""},null,null,null,null,null,null,""]
[null,{"$f":"IF(A519=\"\",\"\",VLOOKUP(A519,PARAMETROS!$B$3:$C$3,2,FALSE))","v":""},null,{"$f":"IF(C519=\"\",\"\",VLOOKUP(C519,PARAMETROS!$G$3:$H$21,2,FALSE))","v":""},null,{"$f":"IF(E519=\"\",\"\",VLOOKUP(E519,PARAMETROS!$I$3:$J$21,2,FALSE))","v":""},null,null,null,null,null,null,""]
[null,{"$f":"IF(A520=\"\",\"\",VLOOKUP(A520,PARAMETROS!$B$3:$C$3,2,FALSE))","v":""},null,{"$f":"IF(C520=\"\",\"\",VLOOKUP(C520,PARAMETROS!$G$3:$H$21,2,FALSE))","v":""},null,{"$f":"IF(E520=\"\",\"\",VLOOKUP(E520,PARAMETROS!$I$3:$J$21,2,FALSE))","v":""},null,null,null,null,null,null,""]
[null,{"$f":"IF(A521=\"\",\"\",VLOOKUP(A521,PARAMETROS!$B$3:$C$3,2,FALSE))","v":""},null,{"$f":"IF(C521=\"\",\"\",VLOOKUP(C521,PARAMETROS!$G$3:$H$21,2,FALSE))","v":""},null,{"$f":"IF(E521=\"\",\"\",VLOOKUP(E521,PARAMETROS!$I$3:$J$21,2,FALSE))","v":""},null,null,null,null,null,null,""]
[null,{"$f":"IF(A522=\"\",\"\",VLOOKUP(A522,PARAMETROS!$B$3:$C$3,2,FALSE))","v":""},null,{"$f":"IF(C522=\"\",\"\",VLOOKUP(C522,PARAMETROS!$G$3:$H$21,2,FALSE))","v":""},null,{"$f":"IF(E522=\"\",\"\",VLOOKUP(E522,PARAMETROS!$I$3:$J$21,2,FALSE))","v":""},null,null,null,null,null,null,""]
[null,{"$f":"IF(A523=\"\",\"\",VLOOKUP(A523,PARAMETROS!$B$3:$C$3,2,FALSE))","v":""},null,{"$f":"IF(C523=\"\",\"\",VLOOKUP(C523,PARAMETROS!$G$3:$H$21,2,FALSE))","v":""},null,{"$f":"IF(E523=\"\",\"\",VLOOKUP(E523,PARAMETROS!$I$3:$J$21,2,FALSE))","v":""},null,null,null,null,null,null,""]
[null,{"$f":"IF(A524=\"\",\"\",VLOOKUP(A524,PARAMETROS!$B$3:$C$3,2,FALSE))","v":""},null,{"$f":"IF(C524=\"\",\"\",VLOOKUP(C524,PARAMETROS!$G$3:$H$21,2,FALSE))","v":""},null,{"$f":"IF(E524=\"\",\"\",VLOOKUP(E524,PARAMETROS!$I$3:$J$21,2,FALSE))","v":""},null,null,null,null,null,null,""]
[null,{"$f":"IF(A525=\"\",\"\",VLOOKUP(A525,PARAMETROS!$B$3:$C$3,2,FALSE))","v":""},null,{"$f":"IF(C525=\"\",\"\",VLOOKUP(C525,PARAMETROS!$G$3:$H$21,2,FALSE))","v":""},null,{"$f":"IF(E525=\"\",\"\",VLOOKUP(E525,PARAMETROS!$I$3:$J$21,2,FALSE))","v":""},null,null,null,null,null,null,""]
[null,{"$f":"IF(A526=\"\",\"\",VLOOKUP(A526,PARAMETROS!$B$3:$C$3,2,FALSE))","v":""},null,{"$f":"IF(C526=\"\",\"\",VLOOKUP(C526,PARAMETROS!$G$3:$H$21,2,FALSE))","v":""},null,{"$f":"IF(E526=\"\",\"\",VLOOKUP(E526,PARAMETROS!$I$3:$J$21,2,FALSE))","v":""},null,null,null,null,null,null,""]
[null,{"$f":"IF(A527=\"\",\"\",VLOOKUP(A527,PARAMETROS!$B$3:$C$3,2,FALSE))","v":""},null,{"$f":"IF(C527=\"\",\"\",VLOOKUP(C527,PARAMETROS!$G$3:$H$21,2,FALSE))","v":""},null,{"$f":"IF(E527=\"\",\"\",VLOOKUP(E527,PARAMETROS!$I$3:$J$21,2,FALSE))","v":""},null,null,null,null,null,null,{"$f":"IF(L527=\"\", \"\", L527)","v":""}]
[null,{"$f":"IF(A528=\"\",\"\",VLOOKUP(A528,PARAMETROS!$B$3:$C$3,2,FALSE))","v":""},null,{"$f":"IF(C528=\"\",\"\",VLOOKUP(C528,PARAMETROS!$G$3:$H$21,2,FALSE))","v":""},null,{"$f":"IF(E528=\"\",\"\",VLOOKUP(E528,PARAMETROS!$I$3:$J$21,2,FALSE))","v":""},null,null,null,null,null,null,""]
[null,{"$f":"IF(A529=\"\",\"\",VLOOKUP(A529,PARAMETROS!$B$3:$C$3,2,FALSE))","v":""},null,{"$f":"IF(C529=\"\",\"\",VLOOKUP(C529,PARAMETROS!$G$3:$H$21,2,FALSE))","v":""},null,{"$f":"IF(E529=\"\",\"\",VLOOKUP(E529,PARAMETROS!$I$3:$J$21,2,FALSE))","v":""},null,null,null,null,null,null,""]
[null,{"$f":"IF(A530=\"\",\"\",VLOOKUP(A530,PARAMETROS!$B$3:$C$3,2,FALSE))","v":""},null,{"$f":"IF(C530=\"\",\"\",VLOOKUP(C530,PARAMETROS!$G$3:$H$21,2,FALSE))","v":""},null,{"$f":"IF(E530=\"\",\"\",VLOOKUP(E530,PARAMETROS!$I$3:$J$21,2,FALSE))","v":""},null,null,null,null,null,null,""]
[null,{"$f":"IF(A531=\"\",\"\",VLOOKUP(A531,PARAMETROS!$B$3:$C$3,2,FALSE))","v":""},null,{"$f":"IF(C531=\"\",\"\",VLOOKUP(C531,PARAMETROS!$G$3:$H$21,2,FALSE))","v":""},null,{"$f":"IF(E531=\"\",\"\",VLOOKUP(E531,PARAMETROS!$I$3:$J$21,2,FALSE))","v":""},null,null,null,null,null,null,""]
[null,{"$f":"IF(A532=\"\",\"\",VLOOKUP(A532,PARAMETROS!$B$3:$C$3,2,FALSE))","v":""},null,{"$f":"IF(C532=\"\",\"\",VLOOKUP(C532,PARAMETROS!$G$3:$H$21,2,FALSE))","v":""},null,{"$f":"IF(E532=\"\",\"\",VLOOKUP(E532,PARAMETROS!$I$3:$J$21,2,FALSE))","v":""},null,null,null,null,null,null,""]
[null,{"$f":"IF(A533=\"\",\"\",VLOOKUP(A533,PARAMETROS!$B$3:$C$3,2,FALSE))","v":""},null,{"$f":"IF(C533=\"\",\"\",VLOOKUP(C533,PARAMETROS!$G$3:$H$21,2,FALSE))","v":""},null,{"$f":"IF(E533=\"\",\"\",VLOOKUP(E533,PARAMETROS!$I$3:$J$21,2,FALSE))","v":""},null,null,null,null,null,null,""]
[null,{"$f":"IF(A534=\"\",\"\",VLOOKUP(A534,PARAMETROS!$B$3:$C$3,2,FALSE))","v":""},null,{"$f":"IF(C534=\"\",\"\",VLOOKUP(C534,PARAMETROS!$G$3:$H$21,2,FALSE))","v":""},null,{"$f":"IF(E534=\"\",\"\",VLOOKUP(E534,PARAMETROS!$I$3:$J$21,2,FALSE))","v":""},null,null,null,null,null,null,""]
[null,{"$f":"IF(A535=\"\",\"\",VLOOKUP(A535,PARAMETROS!$B$3:$C$3,2,FALSE))","v":""},null,{"$f":"IF(C535=\"\",\"\",VLOOKUP(C535,PARAMETROS!$G$3:$H$21,2,FALSE))","v":""},null,{"$f":"IF(E535=\"\",\"\",VLOOKUP(E535,PARAMETROS!$I$3:$J$21,2,FALSE))","v":""},null,null,null,null,null,null,""]
[null,{"$f":"IF(A536=\"\",\"\",VLOOKUP(A536,PARAMETROS!$B$3:$C$3,2,FALSE))","v":""},null,{"$f":"IF(C536=\"\",\"\",VLOOKUP(C536,PARAMETROS!$G$3:$H$21,2,FALSE))","v":""},null,{"$f":"IF(E536=\"\",\"\",VLOOKUP(E536,PARAMETROS!$I$3:$J$21,2,FALSE))","v":""},null,null,null,null,null,null,""]
[null,{"$f":"IF(A537=\"\",\"\",VLOOKUP(A537,PARAMETROS!$B$3:$C$3,2,FALSE))","v":""},null,{"$f":"IF(C537=\"\",\"\",VLOOKUP(C537,PARAMETROS!$G$3:$H$21,2,FALSE))","v":""},null,{"$f":"IF(E537=\"\",\"\",VLOOKUP(E537,PARAMETROS!$I$3:$J$21,2,FALSE))","v":""},null,null,null,null,null,null,""]
[null,{"$f":"IF(A538=\"\",\"\",VLOOKUP(A538,PARAMETROS!$B$3:$C$3,2,FALSE))","v":""},null,{"$f":"IF(C538=\"\",\"\",VLOOKUP(C538,PARAMETROS!$G$3:$H$21,2,FALSE))","v":""},null,{"$f":"IF(E538=\"\",\"\",VLOOKUP(E538,PARAMETROS!$I$3:$J$21,2,FALSE))","v":""},null,null,null,null,null,null,""]
[null,{"$f":"IF(A539=\"\",\"\",VLOOKUP(A539,PARAMETROS!$B$3:$C$3,2,FALSE))","v":""},null,{"$f":"IF(C539=\"\",\"\",VLOOKUP(C539,PARAMETROS!$G$3:$H$21,2,FALSE))","v":""},null,{"$f":"IF(E539=\"\",\"\",VLOOKUP(E539,PARAMETROS!$I$3:$J$21,2,FALSE))","v":""},null,null,null,null,null,null,""]
[null,{"$f":"IF(A540=\"\",\"\",VLOOKUP(A540,PARAMETROS!$B$3:$C$3,2,FALSE))","v":""},null,{"$f":"IF(C540=\"\",\"\",VLOOKUP(C540,PARAMETROS!$G$3:$H$21,2,FALSE))","v":""},null,{"$f":"IF(E540=\"\",\"\",VLOOKUP(E540,PARAMETROS!$I$3:$J$21,2,FALSE))","v":""},null,null,null,null,null,null,""]
[null,{"$f":"IF(A541=\"\",\"\",VLOOKUP(A541,PARAMETROS!$B$3:$C$3,2,FALSE))","v":""},null,{"$f":"IF(C541=\"\",\"\",VLOOKUP(C541,PARAMETROS!$G$3:$H$21,2,FALSE))","v":""},null,{"$f":"IF(E541=\"\",\"\",VLOOKUP(E541,PARAMETROS!$I$3:$J$21,2,FALSE))","v":""},null,null,null,null,null,null,""]
[null,{"$f":"IF(A542=\"\",\"\",VLOOKUP(A542,PARAMETROS!$B$3:$C$3,2,FALSE))","v":""},null,{"$f":"IF(C542=\"\",\"\",VLOOKUP(C542,PARAMETROS!$G$3:$H$21,2,FALSE))","v":""},null,{"$f":"IF(E542=\"\",\"\",VLOOKUP(E542,PARAMETROS!$I$3:$J$21,2,FALSE))","v":""},null,null,null,null,null,null,""]
[null,{"$f":"IF(A543=\"\",\"\",VLOOKUP(A543,PARAMETROS!$B$3:$C$3,2,FALSE))","v":""},null,{"$f":"IF(C543=\"\",\"\",VLOOKUP(C543,PARAMETROS!$G$3:$H$21,2,FALSE))","v":""},null,{"$f":"IF(E543=\"\",\"\",VLOOKUP(E543,PARAMETROS!$I$3:$J$21,2,FALSE))","v":""},null,null,null,null,null,null,""]
[null,{"$f":"IF(A544=\"\",\"\",VLOOKUP(A544,PARAMETROS!$B$3:$C$3,2,FALSE))","v":""},null,{"$f":"IF(C544=\"\",\"\",VLOOKUP(C544,PARAMETROS!$G$3:$H$21,2,FALSE))","v":""},null,{"$f":"IF(E544=\"\",\"\",VLOOKUP(E544,PARAMETROS!$I$3:$J$21,2,FALSE))","v":""},null,null,null,null,null,null,""]
[null,{"$f":"IF(A545=\"\",\"\",VLOOKUP(A545,PARAMETROS!$B$3:$C$3,2,FALSE))","v":""},null,{"$f":"IF(C545=\"\",\"\",VLOOKUP(C545,PARAMETROS!$G$3:$H$21,2,FALSE))","v":""},null,{"$f":"IF(E545=\"\",\"\",VLOOKUP(E545,PARAMETROS!$I$3:$J$21,2,FALSE))","v":""},null,null,null,null,null,null,""]
[null,{"$f":"IF(A546=\"\",\"\",VLOOKUP(A546,PARAMETROS!$B$3:$C$3,2,FALSE))","v":""},null,{"$f":"IF(C546=\"\",\"\",VLOOKUP(C546,PARAMETROS!$G$3:$H$21,2,FALSE))","v":""},null,{"$f":"IF(E546=\"\",\"\",VLOOKUP(E546,PARAMETROS!$I$3:$J$21,2,FALSE))","v":""},null,null,null,null,null,null,""]
[null,{"$f":"IF(A547=\"\",\"\",VLOOKUP(A547,PARAMETROS!$B$3:$C$3,2,FALSE))","v":""},null,{"$f":"IF(C547=\"\",\"\",VLOOKUP(C547,PARAMETROS!$G$3:$H$21,2,FALSE))","v":""},null,{"$f":"IF(E547=\"\",\"\",VLOOKUP(E547,PARAMETROS!$I$3:$J$21,2,FALSE))","v":""},null,null,null,null,null,null,""]
[null,{"$f":"IF(A548=\"\",\"\",VLOOKUP(A548,PARAMETROS!$B$3:$C$3,2,FALSE))","v":""},null,{"$f":"IF(C548=\"\",\"\",VLOOKUP(C548,PARAMETROS!$G$3:$H$21,2,FALSE))","v":""},null,{"$f":"IF(E548=\"\",\"\",VLOOKUP(E548,PARAMETROS!$I$3:$J$21,2,FALSE))","v":""},null,null,null,null,null,null,""]
[null,{"$f":"IF(A549=\"\",\"\",VLOOKUP(A549,PARAMETROS!$B$3:$C$3,2,FALSE))","v":""},null,{"$f":"IF(C549=\"\",\"\",VLOOKUP(C549,PARAMETROS!$G$3:$H$21,2,FALSE))","v":""},null,{"$f":"IF(E549=\"\",\"\",VLOOKUP(E549,PARAMETROS!$I$3:$J$21,2,FALSE))","v":""},null,null,null,null,null,null,""]
[null,{"$f":"IF(A550=\"\",\"\",VLOOKUP(A550,PARAMETROS!$B$3:$C$3,2,FALSE))","v":""},null,{"$f":"IF(C550=\"\",\"\",VLOOKUP(C550,PARAMETROS!$G$3:$H$21,2,FALSE))","v":""},null,{"$f":"IF(E550=\"\",\"\",VLOOKUP(E550,PARAMETROS!$I$3:$J$21,2,FALSE))","v":""},null,null,null,null,null,null,""]
[null,{"$f":"IF(A551=\"\",\"\",VLOOKUP(A551,PARAMETROS!$B$3:$C$3,2,FALSE))","v":""},null,{"$f":"IF(C551=\"\",\"\",VLOOKUP(C551,PARAMETROS!$G$3:$H$21,2,FALSE))","v":""},null,{"$f":"IF(E551=\"\",\"\",VLOOKUP(E551,PARAMETROS!$I$3:$J$21,2,FALSE))","v":""},null,null,null,null,null,null,""]
[null,{"$f":"IF(A552=\"\",\"\",VLOOKUP(A552,PARAMETROS!$B$3:$C$3,2,FALSE))","v":""},null,{"$f":"IF(C552=\"\",\"\",VLOOKUP(C552,PARAMETROS!$G$3:$H$21,2,FALSE))","v":""},null,{"$f":"IF(E552=\"\",\"\",VLOOKUP(E552,PARAMETROS!$I$3:$J$21,2,FALSE))","v":""},null,null,null,null,null,null,""]
[null,{"$f":"IF(A553=\"\",\"\",VLOOKUP(A553,PARAMETROS!$B$3:$C$3,2,FALSE))","v":""},null,{"$f":"IF(C553=\"\",\"\",VLOOKUP(C553,PARAMETROS!$G$3:$H$21,2,FALSE))","v":""},null,{"$f":"IF(E553=\"\",\"\",VLOOKUP(E553,PARAMETROS!$I$3:$J$21,2,FALSE))","v":""},null,null,null,null,null,null,""]
[null,{"$f":"IF(A554=\"\",\"\",VLOOKUP(A554,PARAMETROS!$B$3:$C$3,2,FALSE))","v":""},null,{"$f":"IF(C554=\"\",\"\",VLOOKUP(C554,PARAMETROS!$G$3:$H$21,2,FALSE))","v":""},null,{"$f":"IF(E554=\"\",\"\",VLOOKUP(E554,PARAMETROS!$I$3:$J$21,2,FALSE))","v":""},null,null,null,null,null,null,""]
[null,{"$f":"IF(A555=\"\",\"\",VLOOKUP(A555,PARAMETROS!$B$3:$C$3,2,FALSE))","v":""},null,{"$f":"IF(C555=\"\",\"\",VLOOKUP(C555,PARAMETROS!$G$3:$H$21,2,FALSE))","v":""},null,{"$f":"IF(E555=\"\",\"\",VLOOKUP(E555,PARAMETROS!$I$3:$J$21,2,FALSE))","v":""},null,null,null,null,null,null,""]
[null,{"$f":"IF(A556=\"\",\"\",VLOOKUP(A556,PARAMETROS!$B$3:$C$3,2,FALSE))","v":""},null,{"$f":"IF(C556=\"\",\"\",VLOOKUP(C556,PARAMETROS!$G$3:$H$21,2,FALSE))","v":""},null,{"$f":"IF(E556=\"\",\"\",VLOOKUP(E556,PARAMETROS!$I$3:$J$21,2,FALSE))","v":""},null,null,null,null,null,null,""]
[null,{"$f":"IF(A557=\"\",\"\",VLOOKUP(A557,PARAMETROS!$B$3:$C$3,2,FALSE))","v":""},null,{"$f":"IF(C557=\"\",\"\",VLOOKUP(C557,PARAMETROS!$G$3:$H$21,2,FALSE))","v":""},null,{"$f":"IF(E557=\"\",\"\",VLOOKUP(E557,PARAMETROS!$I$3:$J$21,2,FALSE))","v":""},null,null,null,null,null,null,""]
[null,{"$f":"IF(A558=\"\",\"\",VLOOKUP(A558,PARAMETROS!$B$3:$C$3,2,FALSE))","v":""},null,{"$f":"IF(C558=\"\",\"\",VLOOKUP(C558,PARAMETROS!$G$3:$H$21,2,FALSE))","v":""},null,{"$f":"IF(E558=\"\",\"\",VLOOKUP(E558,PARAMETROS!$I$3:$J$21,2,FALSE))","v":""},null,null,null,null,null,null,""]
[null,{"$f":"IF(A559=\"\",\"\",VLOOKUP(A559,PARAMETROS!$B$3:$C$3,2,FALSE))","v":""},null,{"$f":"IF(C559=\"\",\"\",VLOOKUP(C559,PARAMETROS!$G$3:$H$21,2,FALSE))","v":""},null,{"$f":"IF(E559=\"\",\"\",VLOOKUP(E559,PARAMETROS!$I$3:$J$21,2,FALSE))","v":""},null,null,null,null,null,null,""]
[null,{"$f":"IF(A560=\"\",\"\",VLOOKUP(A560,PARAMETROS!$B$3:$C$3,2,FALSE))","v":""},null,{"$f":"IF(C560=\"\",\"\",VLOOKUP(C560,PARAMETROS!$G$3:$H$21,2,FALSE))","v":""},null,{"$f":"IF(E560=\"\",\"\",VLOOKUP(E560,PARAMETROS!$I$3:$J$21,2,FALSE))","v":""},null,null,null,null,null,null,""]
[null,{"$f":"IF(A561=\"\",\"\",VLOOKUP(A561,PARAMETROS!$B$3:$C$3,2,FALSE))","v":""},null,{"$f":"IF(C561=\"\",\"\",VLOOKUP(C561,PARAMETROS!$G$3:$H$21,2,FALSE))","v":""},null,{"$f":"IF(E561=\"\",\"\",VLOOKUP(E561,PARAMETROS!$I$3:$J$21,2,FALSE))","v":""},null,null,null,null,null,null,""]
[null,{"$f":"IF(A562=\"\",\"\",VLOOKUP(A562,PARAMETROS!$B$3:$C$3,2,FALSE))","v":""},null,{"$f":"IF(C562=\"\",\"\",VLOOKUP(C562,PARAMETROS!$G$3:$H$21,2,FALSE))","v":""},null,{"$f":"IF(E562=\"\",\"\",VLOOKUP(E562,PARAMETROS!$I$3:$J$21,2,FALSE))","v":""},null,null,null,null,null,null,""]
[null,{"$f":"IF(A563=\"\",\"\",VLOOKUP(A563,PARAMETROS!$B$3:$C$3,2,FALSE))","v":""},null,{"$f":"IF(C563=\"\",\"\",VLOOKUP(C563,PARAMETROS!$G$3:$H$21,2,FALSE))","v":""},null,{"$f":"IF(E563=\"\",\"\",VLOOKUP(E563,PARAMETROS!$I$3:$J$21,2,FALSE))","v":""},null,null,null,null,null,null,""]
[null,{"$f":"IF(A564=\"\",\"\",VLOOKUP(A564,PARAMETROS!$B$3:$C$3,2,FALSE))","v":""},null,{"$f":"IF(C564=\"\",\"\",VLOOKUP(C564,PARAMETROS!$G$3:$H$21,2,FALSE))","v":""},null,{"$f":"IF(E564=\"\",\"\",VLOOKUP(E564,PARAMETROS!$I$3:$J$21,2,FALSE))","v":""},null,null,null,null,null,null,""]
[null,{"$f":"IF(A565=\"\",\"\",VLOOKUP(A565,PARAMETROS!$B$3:$C$3,2,FALSE))","v":""},null,{"$f":"IF(C565=\"\",\"\",VLOOKUP(C565,PARAMETROS!$G$3:$H$21,2,FALSE))","v":""},null,{"$f":"IF(E565=\"\",\"\",VLOOKUP(E565,PARAMETROS!$I$3:$J$21,2,FALSE))","v":""},null,null,null,null,null,null,""]
[null,{"$f":"IF(A566=\"\",\"\",VLOOKUP(A566,PARAMETROS!$B$3:$C$3,2,FALSE))","v":""},null,{"$f":"IF(C566=\"\",\"\",VLOOKUP(C566,PARAMETROS!$G$3:$H$21,2,FALSE))","v":""},null,{"$f":"IF(E566=\"\",\"\",VLOOKUP(E566,PARAMETROS!$I$3:$J$21,2,FALSE))","v":""},null,null,null,null,null,null,""]
[null,{"$f":"IF(A567=\"\",\"\",VLOOKUP(A567,PARAMETROS!$B$3:$C$3,2,FALSE))","v":""},null,{"$f":"IF(C567=\"\",\"\",VLOOKUP(C567,PARAMETROS!$G$3:$H$21,2,FALSE))","v":""},null,{"$f":"IF(E567=\"\",\"\",VLOOKUP(E567,PARAMETROS!$I$3:$J$21,2,FALSE))","v":""},null,null,null,null,null,null,""]
[null,{"$f":"IF(A568=\"\",\"\",VLOOKUP(A568,PARAMETROS!$B$3:$C$3,2,FALSE))","v":""},null,{"$f":"IF(C568=\"\",\"\",VLOOKUP(C568,PARAMETROS!$G$3:$H$21,2,FALSE))","v":""},null,{"$f":"IF(E568=\"\",\"\",VLOOKUP(E568,PARAMETROS!$I$3:$J$21,2,FALSE))","v":""},null,null,null,null,null,null,""]
[null,{"$f":"IF(A569=\"\",\"\",VLOOKUP(A569,PARAMETROS!$B$3:$C$3,2,FALSE))","v":""},null,{"$f":"IF(C569=\"\",\"\",VLOOKUP(C569,PARAMETROS!$G$3:$H$21,2,FALSE))","v":""},null,{"$f":"IF(E569=\"\",\"\",VLOOKUP(E569,PARAMETROS!$I$3:$J$21,2,FALSE))","v":""},null,null,null,null,null,null,""]
[null,{"$f":"IF(A570=\"\",\"\",VLOOKUP(A570,PARAMETROS!$B$3:$C$3,2,FALSE))","v":""},null,{"$f":"IF(C570=\"\",\"\",VLOOKUP(C570,PARAMETROS!$G$3:$H$21,2,FALSE))","v":""},null,{"$f":"IF(E570=\"\",\"\",VLOOKUP(E570,PARAMETROS!$I$3:$J$21,2,FALSE))","v":""},null,null,null,null,null,null,""]
[null,{"$f":"IF(A571=\"\",\"\",VLOOKUP(A571,PARAMETROS!$B$3:$C$3,2,FALSE))","v":""},null,{"$f":"IF(C571=\"\",\"\",VLOOKUP(C571,PARAMETROS!$G$3:$H$21,2,FALSE))","v":""},null,{"$f":"IF(E571=\"\",\"\",VLOOKUP(E571,PARAMETROS!$I$3:$J$21,2,FALSE))","v":""},null,null,null,null,null,null,""]
[null,{"$f":"IF(A572=\"\",\"\",VLOOKUP(A572,PARAMETROS!$B$3:$C$3,2,FALSE))","v":""},null,{"$f":"IF(C572=\"\",\"\",VLOOKUP(C572,PARAMETROS!$G$3:$H$21,2,FALSE))","v":""},null,{"$f":"IF(E572=\"\",\"\",VLOOKUP(E572,PARAMETROS!$I$3:$J$21,2,FALSE))","v":""},null,null,null,null,null,null,""]
[null,{"$f":"IF(A573=\"\",\"\",VLOOKUP(A573,PARAMETROS!$B$3:$C$3,2,FALSE))","v":""},null,{"$f":"IF(C573=\"\",\"\",VLOOKUP(C573,PARAMETROS!$G$3:$H$21,2,FALSE))","v":""},null,{"$f":"IF(E573=\"\",\"\",VLOOKUP(E573,PARAMETROS!$I$3:$J$21,2,FALSE))","v":""},null,null,null,null,null,null,""]
[null,{"$f":"IF(A574=\"\",\"\",VLOOKUP(A574,PARAMETROS!$B$3:$C$3,2,FALSE))","v":""},null,{"$f":"IF(C574=\"\",\"\",VLOOKUP(C574,PARAMETROS!$G$3:$H$21,2,FALSE))","v":""},null,{"$f":"IF(E574=\"\",\"\",VLOOKUP(E574,PARAMETROS!$I$3:$J$21,2,FALSE))","v":""},null,null,null,null,null,null,""]
[null,{"$f":"IF(A575=\"\",\"\",VLOOKUP(A575,PARAMETROS!$B$3:$C$3,2,FALSE))","v":""},null,{"$f":"IF(C575=\"\",\"\",VLOOKUP(C575,PARAMETROS!$G$3:$H$21,2,FALSE))","v":""},null,{"$f":"IF(E575=\"\",\"\",VLOOKUP(E575,PARAMETROS!$I$3:$J$21,2,FALSE))","v":""},null,null,null,null,null,null,""]
[null,{"$f":"IF(A576=\"\",\"\",VLOOKUP(A576,PARAMETROS!$B$3:$C$3,2,FALSE))","v":""},null,{"$f":"IF(C576=\"\",\"\",VLOOKUP(C576,PARAMETROS!$G$3:$H$21,2,FALSE))","v":""},null,{"$f":"IF(E576=\"\",\"\",VLOOKUP(E576,PARAMETROS!$I$3:$J$21,2,FALSE))","v":""},null,null,null,null,null,null,""]
[null,{"$f":"IF(A577=\"\",\"\",VLOOKUP(A577,PARAMETROS!$B$3:$C$3,2,FALSE))","v":""},null,{"$f":"IF(C577=\"\",\"\",VLOOKUP(C577,PARAMETROS!$G$3:$H$21,2,FALSE))","v":""},null,{"$f":"IF(E577=\"\",\"\",VLOOKUP(E577,PARAMETROS!$I$3:$J$21,2,FALSE))","v":""},null,null,null,null,null,null,""]
[null,{"$f":"IF(A578=\"\",\"\",VLOOKUP(A578,PARAMETROS!$B$3:$C$3,2,FALSE))","v":""},null,{"$f":"IF(C578=\"\",\"\",VLOOKUP(C578,PARAMETROS!$G$3:$H$21,2,FALSE))","v":""},null,{"$f":"IF(E578=\"\",\"\",VLOOKUP(E578,PARAMETROS!$I$3:$J$21,2,FALSE))","v":""},null,null,null,null,null,null,""]
[null,{"$f":"IF(A579=\"\",\"\",VLOOKUP(A579,PARAMETROS!$B$3:$C$3,2,FALSE))","v":""},null,{"$f":"IF(C579=\"\",\"\",VLOOKUP(C579,PARAMETROS!$G$3:$H$21,2,FALSE))","v":""},null,{"$f":"IF(E579=\"\",\"\",VLOOKUP(E579,PARAMETROS!$I$3:$J$21,2,FALSE))","v":""},null,null,null,null,null,null,""]
[null,{"$f":"IF(A580=\"\",\"\",VLOOKUP(A580,PARAMETROS!$B$3:$C$3,2,FALSE))","v":""},null,{"$f":"IF(C580=\"\",\"\",VLOOKUP(C580,PARAMETROS!$G$3:$H$21,2,FALSE))","v":""},null,{"$f":"IF(E580=\"\",\"\",VLOOKUP(E580,PARAMETROS!$I$3:$J$21,2,FALSE))","v":""},null,null,null,null,null,null,""]
[null,{"$f":"IF(A581=\"\",\"\",VLOOKUP(A581,PARAMETROS!$B$3:$C$3,2,FALSE))","v":""},null,{"$f":"IF(C581=\"\",\"\",VLOOKUP(C581,PARAMETROS!$G$3:$H$21,2,FALSE))","v":""},null,{"$f":"IF(E581=\"\",\"\",VLOOKUP(E581,PARAMETROS!$I$3:$J$21,2,FALSE))","v":""},null,null,null,null,null,null,""]
[null,{"$f":"IF(A582=\"\",\"\",VLOOKUP(A582,PARAMETROS!$B$3:$C$3,2,FALSE))","v":""},null,{"$f":"IF(C582=\"\",\"\",VLOOKUP(C582,PARAMETROS!$G$3:$H$21,2,FALSE))","v":""},null,{"$f":"IF(E582=\"\",\"\",VLOOKUP(E582,PARAMETROS!$I$3:$J$21,2,FALSE))","v":""},null,null,null,null,null,null,""]
[null,{"$f":"IF(A583=\"\",\"\",VLOOKUP(A583,PARAMETROS!$B$3:$C$3,2,FALSE))","v":""},null,{"$f":"IF(C583=\"\",\"\",VLOOKUP(C583,PARAMETROS!$G$3:$H$21,2,FALSE))","v":""},null,{"$f":"IF(E583=\"\",\"\",VLOOKUP(E583,PARAMETROS!$I$3:$J$21,2,FALSE))","v":""},null,null,null,null,null,null,""]
[null,{"$f":"IF(A584=\"\",\"\",VLOOKUP(A584,PARAMETROS!$B$3:$C$3,2,FALSE))","v":""},null,{"$f":"IF(C584=\"\",\"\",VLOOKUP(C584,PARAMETROS!$G$3:$H$21,2,FALSE))","v":""},null,{"$f":"IF(E584=\"\",\"\",VLOOKUP(E584,PARAMETROS!$I$3:$J$21,2,FALSE))","v":""},null,null,null,null,null,null,""]
[null,{"$f":"IF(A585=\"\",\"\",VLOOKUP(A585,PARAMETROS!$B$3:$C$3,2,FALSE))","v":""},null,{"$f":"IF(C585=\"\",\"\",VLOOKUP(C585,PARAMETROS!$G$3:$H$21,2,FALSE))","v":""},null,{"$f":"IF(E585=\"\",\"\",VLOOKUP(E585,PARAMETROS!$I$3:$J$21,2,FALSE))","v":""},null,null,null,null,null,null,""]
[null,{"$f":"IF(A586=\"\",\"\",VLOOKUP(A586,PARAMETROS!$B$3:$C$3,2,FALSE))","v":""},null,{"$f":"IF(C586=\"\",\"\",VLOOKUP(C586,PARAMETROS!$G$3:$H$21,2,FALSE))","v":""},null,{"$f":"IF(E586=\"\",\"\",VLOOKUP(E586,PARAMETROS!$I$3:$J$21,2,FALSE))","v":""},null,null,null,null,null,null,""]
[null,{"$f":"IF(A587=\"\",\"\",VLOOKUP(A587,PARAMETROS!$B$3:$C$3,2,FALSE))","v":""},null,{"$f":"IF(C587=\"\",\"\",VLOOKUP(C587,PARAMETROS!$G$3:$H$21,2,FALSE))","v":""},null,{"$f":"IF(E587=\"\",\"\",VLOOKUP(E587,PARAMETROS!$I$3:$J$21,2,FALSE))","v":""},null,null,null,null,null,null,""]
[null,{"$f":"IF(A588=\"\",\"\",VLOOKUP(A588,PARAMETROS!$B$3:$C$3,2,FALSE))","v":""},null,{"$f":"IF(C588=\"\",\"\",VLOOKUP(C588,PARAMETROS!$G$3:$H$21,2,FALSE))","v":""},null,{"$f":"IF(E588=\"\",\"\",VLOOKUP(E588,PARAMETROS!$I$3:$J$21,2,FALSE))","v":""},null,null,null,null,null,null,""]
[null,{"$f":"IF(A589=\"\",\"\",VLOOKUP(A589,PARAMETROS!$B$3:$C$3,2,FALSE))","v":""},null,{"$f":"IF(C589=\"\",\"\",VLOOKUP(C589,PARAMETROS!$G$3:$H$21,2,FALSE))","v":""},null,{"$f":"IF(E589=\"\",\"\",VLOOKUP(E589,PARAMETROS!$I$3:$J$21,2,FALSE))","v":""},null,null,null,null,null,null,""]
[null,{"$f":"IF(A590=\"\",\"\",VLOOKUP(A590,PARAMETROS!$B$3:$C$3,2,FALSE))","v":""},null,{"$f":"IF(C590=\"\",\"\",VLOOKUP(C590,PARAMETROS!$G$3:$H$21,2,FALSE))","v":""},null,{"$f":"IF(E590=\"\",\"\",VLOOKUP(E590,PARAMETROS!$I$3:$J$21,2,FALSE))","v":""},null,null,null,null,null,null,""]
[null,{"$f":"IF(A591=\"\",\"\",VLOOKUP(A591,PARAMETROS!$B$3:$C$3,2,FALSE))","v":""},null,{"$f":"IF(C591=\"\",\"\",VLOOKUP(C591,PARAMETROS!$G$3:$H$21,2,FALSE))","v":""},null,{"$f":"IF(E591=\"\",\"\",VLOOKUP(E591,PARAMETROS!$I$3:$J$21,2,FALSE))","v":""},null,null,null,null,null,null,{"$f":"IF(L591=\"\", \"\", L591)","v":""}]
[null,{"$f":"IF(A592=\"\",\"\",VLOOKUP(A592,PARAMETROS!$B$3:$C$3,2,FALSE))","v":""},null,{"$f":"IF(C592=\"\",\"\",VLOOKUP(C592,PARAMETROS!$G$3:$H$21,2,FALSE))","v":""},null,{"$f":"IF(E592=\"\",\"\",VLOOKUP(E592,PARAMETROS!$I$3:$J$21,2,FALSE))","v":""},null,null,null,null,null,null,""]
[null,{"$f":"IF(A593=\"\",\"\",VLOOKUP(A593,PARAMETROS!$B$3:$C$3,2,FALSE))","v":""},null,{"$f":"IF(C593=\"\",\"\",VLOOKUP(C593,PARAMETROS!$G$3:$H$21,2,FALSE))","v":""},null,{"$f":"IF(E593=\"\",\"\",VLOOKUP(E593,PARAMETROS!$I$3:$J$21,2,FALSE))","v":""},null,null,null,null,null,null,""]
[null,{"$f":"IF(A594=\"\",\"\",VLOOKUP(A594,PARAMETROS!$B$3:$C$3,2,FALSE))","v":""},null,{"$f":"IF(C594=\"\",\"\",VLOOKUP(C594,PARAMETROS!$G$3:$H$21,2,FALSE))","v":""},null,{"$f":"IF(E594=\"\",\"\",VLOOKUP(E594,PARAMETROS!$I$3:$J$21,2,FALSE))","v":""},null,null,null,null,null,null,""]
[null,{"$f":"IF(A595=\"\",\"\",VLOOKUP(A595,PARAMETROS!$B$3:$C$3,2,FALSE))","v":""},null,{"$f":"IF(C595=\"\",\"\",VLOOKUP(C595,PARAMETROS!$G$3:$H$21,2,FALSE))","v":""},null,{"$f":"IF(E595=\"\",\"\",VLOOKUP(E595,PARAMETROS!$I$3:$J$21,2,FALSE))","v":""},null,null,null,null,null,null,""]
[null,{"$f":"IF(A596=\"\",\"\",VLOOKUP(A596,PARAMETROS!$B$3:$C$3,2,FALSE))","v":""},null,{"$f":"IF(C596=\"\",\"\",VLOOKUP(C596,PARAMETROS!$G$3:$H$21,2,FALSE))","v":""},null,{"$f":"IF(E596=\"\",\"\",VLOOKUP(E596,PARAMETROS!$I$3:$J$21,2,FALSE))","v":""},null,null,null,null,null,null,""]
[null,{"$f":"IF(A597=\"\",\"\",VLOOKUP(A597,PARAMETROS!$B$3:$C$3,2,FALSE))","v":""},null,{"$f":"IF(C597=\"\",\"\",VLOOKUP(C597,PARAMETROS!$G$3:$H$21,2,FALSE))","v":""},null,{"$f":"IF(E597=\"\",\"\",VLOOKUP(E597,PARAMETROS!$I$3:$J$21,2,FALSE))","v":""},null,null,null,null,null,null,""]
[null,{"$f":"IF(A598=\"\",\"\",VLOOKUP(A598,PARAMETROS!$B$3:$C$3,2,FALSE))","v":""},null,{"$f":"IF(C598=\"\",\"\",VLOOKUP(C598,PARAMETROS!$G$3:$H$21,2,FALSE))","v":""},null,{"$f":"IF(E598=\"\",\"\",VLOOKUP(E598,PARAMETROS!$I$3:$J$21,2,FALSE))","v":""},null,null,null,null,null,null,""]
[null,{"$f":"IF(A599=\"\",\"\",VLOOKUP(A599,PARAMETROS!$B$3:$C$3,2,FALSE))","v":""},null,{"$f":"IF(C599=\"\",\"\",VLOOKUP(C599,PARAMETROS!$G$3:$H$21,2,FALSE))","v":""},null,{"$f":"IF(E599=\"\",\"\",VLOOKUP(E599,PARAMETROS!$I$3:$J$21,2,FALSE))","v":""},null,null,null,null,null,null,""]
[null,{"$f":"IF(A600=\"\",\"\",VLOOKUP(A600,PARAMETROS!$B$3:$C$3,2,FALSE))","v":""},null,{"$f":"IF(C600=\"\",\"\",VLOOKUP(C600,PARAMETROS!$G$3:$H$21,2,FALSE))","v":""},null,{"$f":"IF(E600=\"\",\"\",VLOOKUP(E600,PARAMETROS!$I$3:$J$21,2,FALSE))","v":""},null,null,null,null,null,null,""]
[null,{"$f":"IF(A601=\"\",\"\",VLOOKUP(A601,PARAMETROS!$B$3:$C$3,2,FALSE))","v":""},null,{"$f":"IF(C601=\"\",\"\",VLOOKUP(C601,PARAMETROS!$G$3:$H$21,2,FALSE))","v":""},null,{"$f":"IF(E601=\"\",\"\",VLOOKUP(E601,PARAMETROS!$I$3:$J$21,2,FALSE))","v":""},null,null,null,null,null,null,""]
[null,{"$f":"IF(A602=\"\",\"\",VLOOKUP(A602,PARAMETROS!$B$3:$C$3,2,FALSE))","v":""},null,{"$f":"IF(C602=\"\",\"\",VLOOKUP(C602,PARAMETROS!$G$3:$H$21,2,FALSE))","v":""},null,{"$f":"IF(E602=\"\",\"\",VLOOKUP(E602,PARAMETROS!$I$3:$J$21,2,FALSE))","v":""},null,null,null,null,null,null,""]
[null,{"$f":"IF(A603=\"\",\"\",VLOOKUP(A603,PARAMETROS!$B$3:$C$3,2,FALSE))","v":""},null,{"$f":"IF(C603=\"\",\"\",VLOOKUP(C603,PARAMETROS!$G$3:$H$21,2,FALSE))","v":""},null,{"$f":"IF(E603=\"\",\"\",VLOOKUP(E603,PARAMETROS!$I$3:$J$21,2,FALSE))","v":""},null,null,null,null,null,null,""]
[null,{"$f":"IF(A604=\"\",\"\",VLOOKUP(A604,PARAMETROS!$B$3:$C$3,2,FALSE))","v":""},null,{"$f":"IF(C604=\"\",\"\",VLOOKUP(C604,PARAMETROS!$G$3:$H$21,2,FALSE))","v":""},null,{"$f":"IF(E604=\"\",\"\",VLOOKUP(E604,PARAMETROS!$I$3:$J$21,2,FALSE))","v":""},null,null,null,null,null,null,""]
[null,{"$f":"IF(A605=\"\",\"\",VLOOKUP(A605,PARAMETROS!$B$3:$C$3,2,FALSE))","v":""},null,{"$f":"IF(C605=\"\",\"\",VLOOKUP(C605,PARAMETROS!$G$3:$H$21,2,FALSE))","v":""},null,{"$f":"IF(E605=\"\",\"\",VLOOKUP(E605,PARAMETROS!$I$3:$J$21,2,FALSE))","v":""},null,null,null,null,null,null,""]
[null,{"$f":"IF(A606=\"\",\"\",VLOOKUP(A606,PARAMETROS!$B$3:$C$3,2,FALSE))","v":""},null,{"$f":"IF(C606=\"\",\"\",VLOOKUP(C606,PARAMETROS!$G$3:$H$21,2,FALSE))","v":""},null,{"$f":"IF(E606=\"\",\"\",VLOOKUP(E606,PARAMETROS!$I$3:$J$21,2,FALSE))","v":""},null,null,null,null,null,null,""]
[null,{"$f":"IF(A607=\"\",\"\",VLOOKUP(A607,PARAMETROS!$B$3:$C$3,2,FALSE))","v":""},null,{"$f":"IF(C607=\"\",\"\",VLOOKUP(C607,PARAMETROS!$G$3:$H$21,2,FALSE))","v":""},null,{"$f":"IF(E607=\"\",\"\",VLOOKUP(E607,PARAMETROS!$I$3:$J$21,2,FALSE))","v":""},null,null,null,null,null,null,""]
[null,{"$f":"IF(A608=\"\",\"\",VLOOKUP(A608,PARAMETROS!$B$3:$C$3,2,FALSE))","v":""},null,{"$f":"IF(C608=\"\",\"\",VLOOKUP(C608,PARAMETROS!$G$3:$H$21,2,FALSE))","v":""},null,{"$f":"IF(E608=\"\",\"\",VLOOKUP(E608,PARAMETROS!$I$3:$J$21,2,FALSE))","v":""},null,null,null,null,null,null,""]
[null,{"$f":"IF(A609=\"\",\"\",VLOOKUP(A609,PARAMETROS!$B$3:$C$3,2,FALSE))","v":""},null,{"$f":"IF(C609=\"\",\"\",VLOOKUP(C609,PARAMETROS!$G$3:$H$21,2,FALSE))","v":""},null,{"$f":"IF(E609=\"\",\"\",VLOOKUP(E609,PARAMETROS!$I$3:$J$21,2,FALSE))","v":""},null,null,null,null,null,null,""]
[null,{"$f":"IF(A610=\"\",\"\",VLOOKUP(A610,PARAMETROS!$B$3:$C$3,2,FALSE))","v":""},null,{"$f":"IF(C610=\"\",\"\",VLOOKUP(C610,PARAMETROS!$G$3:$H$21,2,FALSE))","v":""},null,{"$f":"IF(E610=\"\",\"\",VLOOKUP(E610,PARAMETROS!$I$3:$J$21,2,FALSE))","v":""},null,null,null,null,null,null,""]
[null,{"$f":"IF(A611=\"\",\"\",VLOOKUP(A611,PARAMETROS!$B$3:$C$3,2,FALSE))","v":""},null,{"$f":"IF(C611=\"\",\"\",VLOOKUP(C611,PARAMETROS!$G$3:$H$21,2,FALSE))","v":""},null,{"$f":"IF(E611=\"\",\"\",VLOOKUP(E611,PARAMETROS!$I$3:$J$21,2,FALSE))","v":""},null,null,null,null,null,null,""]
[null,{"$f":"IF(A612=\"\",\"\",VLOOKUP(A612,PARAMETROS!$B$3:$C$3,2,FALSE))","v":""},null,{"$f":"IF(C612=\"\",\"\",VLOOKUP(C612,PARAMETROS!$G$3:$H$21,2,FALSE))","v":""},null,{"$f":"IF(E612=\"\",\"\",VLOOKUP(E612,PARAMETROS!$I$3:$J$21,2,FALSE))","v":""},null,null,null,null,null,null,""]
[null,{"$f":"IF(A613=\"\",\"\",VLOOKUP(A613,PARAMETROS!$B$3:$C$3,2,FALSE))","v":""},null,{"$f":"IF(C613=\"\",\"\",VLOOKUP(C613,PARAMETROS!$G$3:$H$21,2,FALSE))","v":""},null,{"$f":"IF(E613=\"\",\"\",VLOOKUP(E613,PARAMETROS!$I$3:$J$21,2,FALSE))","v":""},null,null,null,null,null,null,""]
[null,{"$f":"IF(A614=\"\",\"\",VLOOKUP(A614,PARAMETROS!$B$3:$C$3,2,FALSE))","v":""},null,{"$f":"IF(C614=\"\",\"\",VLOOKUP(C614,PARAMETROS!$G$3:$H$21,2,FALSE))","v":""},null,{"$f":"IF(E614=\"\",\"\",VLOOKUP(E614,PARAMETROS!$I$3:$J$21,2,FALSE))","v":""},null,null,null,null,null,null,""]
[null,{"$f":"IF(A615=\"\",\"\",VLOOKUP(A615,PARAMETROS!$B$3:$C$3,2,FALSE))","v":""},null,{"$f":"IF(C615=\"\",\"\",VLOOKUP(C615,PARAMETROS!$G$3:$H$21,2,FALSE))","v":""},null,{"$f":"IF(E615=\"\",\"\",VLOOKUP(E615,PARAMETROS!$I$3:$J$21,2,FALSE))","v":""},null,null,null,null,null,null,""]
[null,{"$f":"IF(A616=\"\",\"\",VLOOKUP(A616,PARAMETROS!$B$3:$C$3,2,FALSE))","v":""},null,{"$f":"IF(C616=\"\",\"\",VLOOKUP(C616,PARAMETROS!$G$3:$H$21,2,FALSE))","v":""},null,{"$f":"IF(E616=\"\",\"\",VLOOKUP(E616,PARAMETROS!$I$3:$J$21,2,FALSE))","v":""},null,null,null,null,null,null,""]
[null,{"$f":"IF(A617=\"\",\"\",VLOOKUP(A617,PARAMETROS!$B$3:$C$3,2,FALSE))","v":""},null,{"$f":"IF(C617=\"\",\"\",VLOOKUP(C617,PARAMETROS!$G$3:$H$21,2,FALSE))","v":""},null,{"$f":"IF(E617=\"\",\"\",VLOOKUP(E617,PARAMETROS!$I$3:$J$21,2,FALSE))","v":""},null,null,null,null,null,null,""]
[null,{"$f":"IF(A618=\"\",\"\",VLOOKUP(A618,PARAMETROS!$B$3:$C$3,2,FALSE))","v":""},null,{"$f":"IF(C618=\"\",\"\",VLOOKUP(C618,PARAMETROS!$G$3:$H$21,2,FALSE))","v":""},null,{"$f":"IF(E618=\"\",\"\",VLOOKUP(E618,PARAMETROS!$I$3:$J$21,2,FALSE))","v":""},null,null,null,null,null,null,""]
[null,{"$f":"IF(A619=\"\",\"\",VLOOKUP(A619,PARAMETROS!$B$3:$C$3,2,FALSE))","v":""},null,{"$f":"IF(C619=\"\",\"\",VLOOKUP(C619,PARAMETROS!$G$3:$H$21,2,FALSE))","v":""},null,{"$f":"IF(E619=\"\",\"\",VLOOKUP(E619,PARAMETROS!$I$3:$J$21,2,FALSE))","v":""},null,null,null,null,null,null,""]
[null,{"$f":"IF(A620=\"\",\"\",VLOOKUP(A620,PARAMETROS!$B$3:$C$3,2,FALSE))","v":""},null,{"$f":"IF(C620=\"\",\"\",VLOOKUP(C620,PARAMETROS!$G$3:$H$21,2,FALSE))","v":""},null,{"$f":"IF(E620=\"\",\"\",VLOOKUP(E620,PARAMETROS!$I$3:$J$21,2,FALSE))","v":""},null,null,null,null,null,null,""]
[null,{"$f":"IF(A621=\"\",\"\",VLOOKUP(A621,PARAMETROS!$B$3:$C$3,2,FALSE))","v":""},null,{"$f":"IF(C621=\"\",\"\",VLOOKUP(C621,PARAMETROS!$G$3:$H$21,2,FALSE))","v":""},null,{"$f":"IF(E621=\"\",\"\",VLOOKUP(E621,PARAMETROS!$I$3:$J$21,2,FALSE))","v":""},null,null,null,null,null,null,""]
[null,{"$f":"IF(A622=\"\",\"\",VLOOKUP(A622,PARAMETROS!$B$3:$C$3,2,FALSE))","v":""},null,{"$f":"IF(C622=\"\",\"\",VLOOKUP(C622,PARAMETROS!$G$3:$H$21,2,FALSE))","v":""},null,{"$f":"IF(E622=\"\",\"\",VLOOKUP(E622,PARAMETROS!$I$3:$J$21,2,FALSE))","v":""},null,null,null,null,null,null,""]
[null,{"$f":"IF(A623=\"\",\"\",VLOOKUP(A623,PARAMETROS!$B$3:$C$3,2,FALSE))","v":""},null,{"$f":"IF(C623=\"\",\"\",VLOOKUP(C623,PARAMETROS!$G$3:$H$21,2,FALSE))","v":""},null,{"$f":"IF(E623=\"\",\"\",VLOOKUP(E623,PARAMETROS!$I$3:$J$21,2,FALSE))","v":""},null,null,null,null,null,null,""]
[null,{"$f":"IF(A624=\"\",\"\",VLOOKUP(A624,PARAMETROS!$B$3:$C$3,2,FALSE))","v":""},null,{"$f":"IF(C624=\"\",\"\",VLOOKUP(C624,PARAMETROS!$G$3:$H$21,2,FALSE))","v":""},null,{"$f":"IF(E624=\"\",\"\",VLOOKUP(E624,PARAMETROS!$I$3:$J$21,2,FALSE))","v":""},null,null,null,null,null,null,""]
[null,{"$f":"IF(A625=\"\",\"\",VLOOKUP(A625,PARAMETROS!$B$3:$C$3,2,FALSE))","v":""},null,{"$f":"IF(C625=\"\",\"\",VLOOKUP(C625,PARAMETROS!$G$3:$H$21,2,FALSE))","v":""},null,{"$f":"IF(E625=\"\",\"\",VLOOKUP(E625,PARAMETROS!$I$3:$J$21,2,FALSE))","v":""},null,null,null,null,null,null,""]
[null,{"$f":"IF(A626=\"\",\"\",VLOOKUP(A626,PARAMETROS!$B$3:$C$3,2,FALSE))","v":""},null,{"$f":"IF(C626=\"\",\"\",VLOOKUP(C626,PARAMETROS!$G$3:$H$21,2,FALSE))","v":""},null,{"$f":"IF(E626=\"\",\"\",VLOOKUP(E626,PARAMETROS!$I$3:$J$21,2,FALSE))","v":""},null,null,null,null,null,null,""]
[null,{"$f":"IF(A627=\"\",\"\",VLOOKUP(A627,PARAMETROS!$B$3:$C$3,2,FALSE))","v":""},null,{"$f":"IF(C627=\"\",\"\",VLOOKUP(C627,PARAMETROS!$G$3:$H$21,2,FALSE))","v":""},null,{"$f":"IF(E627=\"\",\"\",VLOOKUP(E627,PARAMETROS!$I$3:$J$21,2,FALSE))","v":""},null,null,null,null,null,null,""]
[null,{"$f":"IF(A628=\"\",\"\",VLOOKUP(A628,PARAMETROS!$B$3:$C$3,2,FALSE))","v":""},null,{"$f":"IF(C628=\"\",\"\",VLOOKUP(C628,PARAMETROS!$G$3:$H$21,2,FALSE))","v":""},null,{"$f":"IF(E628=\"\",\"\",VLOOKUP(E628,PARAMETROS!$I$3:$J$21,2,FALSE))","v":""},null,null,null,null,null,null,""]
[null,{"$f":"IF(A629=\"\",\"\",VLOOKUP(A629,PARAMETROS!$B$3:$C$3,2,FALSE))","v":""},null,{"$f":"IF(C629=\"\",\"\",VLOOKUP(C629,PARAMETROS!$G$3:$H$21,2,FALSE))","v":""},null,{"$f":"IF(E629=\"\",\"\",VLOOKUP(E629,PARAMETROS!$I$3:$J$21,2,FALSE))","v":""},null,null,null,null,null,null,""]
[null,{"$f":"IF(A630=\"\",\"\",VLOOKUP(A630,PARAMETROS!$B$3:$C$3,2,FALSE))","v":""},null,{"$f":"IF(C630=\"\",\"\",VLOOKUP(C630,PARAMETROS!$G$3:$H$21,2,FALSE))","v":""},null,{"$f":"IF(E630=\"\",\"\",VLOOKUP(E630,PARAMETROS!$I$3:$J$21,2,FALSE))","v":""},null,null,null,null,null,null,""]
[null,{"$f":"IF(A631=\"\",\"\",VLOOKUP(A631,PARAMETROS!$B$3:$C$3,2,FALSE))","v":""},null,{"$f":"IF(C631=\"\",\"\",VLOOKUP(C631,PARAMETROS!$G$3:$H$21,2,FALSE))","v":""},null,{"$f":"IF(E631=\"\",\"\",VLOOKUP(E631,PARAMETROS!$I$3:$J$21,2,FALSE))","v":""},null,null,null,null,null,null,""]
[null,{"$f":"IF(A632=\"\",\"\",VLOOKUP(A632,PARAMETROS!$B$3:$C$3,2,FALSE))","v":""},null,{"$f":"IF(C632=\"\",\"\",VLOOKUP(C632,PARAMETROS!$G$3:$H$21,2,FALSE))","v":""},null,{"$f":"IF(E632=\"\",\"\",VLOOKUP(E632,PARAMETROS!$I$3:$J$21,2,FALSE))","v":""},null,null,null,null,null,null,""]
[null,{"$f":"IF(A633=\"\",\"\",VLOOKUP(A633,PARAMETROS!$B$3:$C$3,2,FALSE))","v":""},null,{"$f":"IF(C633=\"\",\"\",VLOOKUP(C633,PARAMETROS!$G$3:$H$21,2,FALSE))","v":""},null,{"$f":"IF(E633=\"\",\"\",VLOOKUP(E633,PARAMETROS!$I$3:$J$21,2,FALSE))","v":""},null,null,null,null,null,null,""]
[null,{"$f":"IF(A634=\"\",\"\",VLOOKUP(A634,PARAMETROS!$B$3:$C$3,2,FALSE))","v":""},null,{"$f":"IF(C634=\"\",\"\",VLOOKUP(C634,PARAMETROS!$G$3:$H$21,2,FALSE))","v":""},null,{"$f":"IF(E634=\"\",\"\",VLOOKUP(E634,PARAMETROS!$I$3:$J$21,2,FALSE))","v":""},null,null,null,null,null,null,""]
[null,{"$f":"IF(A635=\"\",\"\",VLOOKUP(A635,PARAMETROS!$B$3:$C$3,2,FALSE))","v":""},null,{"$f":"IF(C635=\"\",\"\",VLOOKUP(C635,PARAMETROS!$G$3:$H$21,2,FALSE))","v":""},null,{"$f":"IF(E635=\"\",\"\",VLOOKUP(E635,PARAMETROS!$I$3:$J$21,2,FALSE))","v":""},null,null,null,null,null,null,""]
[null,{"$f":"IF(A636=\"\",\"\",VLOOKUP(A636,PARAMETROS!$B$3:$C$3,2,FALSE))","v":""},null,{"$f":"IF(C636=\"\",\"\",VLOOKUP(C636,PARAMETROS!$G$3:$H$21,2,FALSE))","v":""},null,{"$f":"IF(E636=\"\",\"\",VLOOKUP(E636,PARAMETROS!$I$3:$J$21,2,FALSE))","v":""},null,null,null,null,null,null,""]
[null,{"$f":"IF(A637=\"\",\"\",VLOOKUP(A637,PARAMETROS!$B$3:$C$3,2,FALSE))","v":""},null,{"$f":"IF(C637=\"\",\"\",VLOOKUP(C637,PARAMETROS!$G$3:$H$21,2,FALSE))","v":""},null,{"$f":"IF(E637=\"\",\"\",VLOOKUP(E637,PARAMETROS!$I$3:$J$21,2,FALSE))","v":""},null,null,null,null,null,null,""]
[null,{"$f":"IF(A638=\"\",\"\",VLOOKUP(A638,PARAMETROS!$B$3:$C$3,2,FALSE))","v":""},null,{"$f":"IF(C638=\"\",\"\",VLOOKUP(C638,PARAMETROS!$G$3:$H$21,2,FALSE))","v":""},null,{"$f":"IF(E638=\"\",\"\",VLOOKUP(E638,PARAMETROS!$I$3:$J$21,2,FALSE))","v":""},null,null,null,null,null,null,""]
[null,{"$f":"IF(A639=\"\",\"\",VLOOKUP(A639,PARAMETROS!$B$3:$C$3,2,FALSE))","v":""},null,{"$f":"IF(C639=\"\",\"\",VLOOKUP(C639,PARAMETROS!$G$3:$H$21,2,FALSE))","v":""},null,{"$f":"IF(E639=\"\",\"\",VLOOKUP(E639,PARAMETROS!$I$3:$J$21,2,FALSE))","v":""},null,null,null,null,null,null,""]
[null,{"$f":"IF(A640=\"\",\"\",VLOOKUP(A640,PARAMETROS!$B$3:$C$3,2,FALSE))","v":""},null,{"$f":"IF(C640=\"\",\"\",VLOOKUP(C640,PARAMETROS!$G$3:$H$21,2,FALSE))","v":""},null,{"$f":"IF(E640=\"\",\"\",VLOOKUP(E640,PARAMETROS!$I$3:$J$21,2,FALSE))","v":""},null,null,null,null,null,null,""]
[null,{"$f":"IF(A641=\"\",\"\",VLOOKUP(A641,PARAMETROS!$B$3:$C$3,2,FALSE))","v":""},null,{"$f":"IF(C641=\"\",\"\",VLOOKUP(C641,PARAMETROS!$G$3:$H$21,2,FALSE))","v":""},null,{"$f":"IF(E641=\"\",\"\",VLOOKUP(E641,PARAMETROS!$I$3:$J$21,2,FALSE))","v":""},null,null,null,null,null,null,""]
[null,{"$f":"IF(A642=\"\",\"\",VLOOKUP(A642,PARAMETROS!$B$3:$C$3,2,FALSE))","v":""},null,{"$f":"IF(C642=\"\",\"\",VLOOKUP(C642,PARAMETROS!$G$3:$H$21,2,FALSE))","v":""},null,{"$f":"IF(E642=\"\",\"\",VLOOKUP(E642,PARAMETROS!$I$3:$J$21,2,FALSE))","v":""},null,null,null,null,null,null,""]
[null,{"$f":"IF(A643=\"\",\"\",VLOOKUP(A643,PARAMETROS!$B$3:$C$3,2,FALSE))","v":""},null,{"$f":"IF(C643=\"\",\"\",VLOOKUP(C643,PARAMETROS!$G$3:$H$21,2,FALSE))","v":""},null,{"$f":"IF(E643=\"\",\"\",VLOOKUP(E643,PARAMETROS!$I$3:$J$21,2,FALSE))","v":""},null,null,null,null,null,null,""]
[null,{"$f":"IF(A644=\"\",\"\",VLOOKUP(A644,PARAMETROS!$B$3:$C$3,2,FALSE))","v":""},null,{"$f":"IF(C644=\"\",\"\",VLOOKUP(C644,PARAMETROS!$G$3:$H$21,2,FALSE))","v":""},null,{"$f":"IF(E644=\"\",\"\",VLOOKUP(E644,PARAMETROS!$I$3:$J$21,2,FALSE))","v":""},null,null,null,null,null,null,""]
[null,{"$f":"IF(A645=\"\",\"\",VLOOKUP(A645,PARAMETROS!$B$3:$C$3,2,FALSE))","v":""},null,{"$f":"IF(C645=\"\",\"\",VLOOKUP(C645,PARAMETROS!$G$3:$H$21,2,FALSE))","v":""},null,{"$f":"IF(E645=\"\",\"\",VLOOKUP(E645,PARAMETROS!$I$3:$J$21,2,FALSE))","v":""},null,null,null,null,null,null,""]
[null,{"$f":"IF(A646=\"\",\"\",VLOOKUP(A646,PARAMETROS!$B$3:$C$3,2,FALSE))","v":""},null,{"$f":"IF(C646=\"\",\"\",VLOOKUP(C646,PARAMETROS!$G$3:$H$21,2,FALSE))","v":""},null,{"$f":"IF(E646=\"\",\"\",VLOOKUP(E646,PARAMETROS!$I$3:$J$21,2,FALSE))","v":""},null,null,null,null,null,null,""]
[null,{"$f":"IF(A647=\"\",\"\",VLOOKUP(A647,PARAMETROS!$B$3:$C$3,2,FALSE))","v":""},null,{"$f":"IF(C647=\"\",\"\",VLOOKUP(C647,PARAMETROS!$G$3:$H$21,2,FALSE))","v":""},null,{"$f":"IF(E647=\"\",\"\",VLOOKUP(E647,PARAMETROS!$I$3:$J$21,2,FALSE))","v":""},null,null,null,null,null,null,""]
[null,{"$f":"IF(A648=\"\",\"\",VLOOKUP(A648,PARAMETROS!$B$3:$C$3,2,FALSE))","v":""},null,{"$f":"IF(C648=\"\",\"\",VLOOKUP(C648,PARAMETROS!$G$3:$H$21,2,FALSE))","v":""},null,{"$f":"IF(E648=\"\",\"\",VLOOKUP(E648,PARAMETROS!$I$3:$J$21,2,FALSE))","v":""},null,null,null,null,null,null,""]
[null,{"$f":"IF(A649=\"\",\"\",VLOOKUP(A649,PARAMETROS!$B$3:$C$3,2,FALSE))","v":""},null,{"$f":"IF(C649=\"\",\"\",VLOOKUP(C649,PARAMETROS!$G$3:$H$21,2,FALSE))","v":""},null,{"$f":"IF(E649=\"\",\"\",VLOOKUP(E649,PARAMETROS!$I$3:$J$21,2,FALSE))","v":""},null,null,null,null,null,null,""]
[null,{"$f":"IF(A650=\"\",\"\",VLOOKUP(A650,PARAMETROS!$B$3:$C$3,2,FALSE))","v":""},null,{"$f":"IF(C650=\"\",\"\",VLOOKUP(C650,PARAMETROS!$G$3:$H$21,2,FALSE))","v":""},null,{"$f":"IF(E650=\"\",\"\",VLOOKUP(E650,PARAMETROS!$I$3:$J$21,2,FALSE))","v":""},null,null,null,null,null,null,""]
[null,{"$f":"IF(A651=\"\",\"\",VLOOKUP(A651,PARAMETROS!$B$3:$C$3,2,FALSE))","v":""},null,{"$f":"IF(C651=\"\",\"\",VLOOKUP(C651,PARAMETROS!$G$3:$H$21,2,FALSE))","v":""},null,{"$f":"IF(E651=\"\",\"\",VLOOKUP(E651,PARAMETROS!$I$3:$J$21,2,FALSE))","v":""},null,null,null,null,null,null,""]
[null,{"$f":"IF(A652=\"\",\"\",VLOOKUP(A652,PARAMETROS!$B$3:$C$3,2,FALSE))","v":""},null,{"$f":"IF(C652=\"\",\"\",VLOOKUP(C652,PARAMETROS!$G$3:$H$21,2,FALSE))","v":""},null,{"$f":"IF(E652=\"\",\"\",VLOOKUP(E652,PARAMETROS!$I$3:$J$21,2,FALSE))","v":""},null,null,null,null,null,null,""]
[null,{"$f":"IF(A653=\"\",\"\",VLOOKUP(A653,PARAMETROS!$B$3:$C$3,2,FALSE))","v":""},null,{"$f":"IF(C653=\"\",\"\",VLOOKUP(C653,PARAMETROS!$G$3:$H$21,2,FALSE))","v":""},null,{"$f":"IF(E653=\"\",\"\",VLOOKUP(E653,PARAMETROS!$I$3:$J$21,2,FALSE))","v":""},null,null,null,null,null,null,""]
[null,{"$f":"IF(A654=\"\",\"\",VLOOKUP(A654,PARAMETROS!$B$3:$C$3,2,FALSE))","v":""},null,{"$f":"IF(C654=\"\",\"\",VLOOKUP(C654,PARAMETROS!$G$3:$H$21,2,FALSE))","v":""},null,{"$f":"IF(E654=\"\",\"\",VLOOKUP(E654,PARAMETROS!$I$3:$J$21,2,FALSE))","v":""},null,null,null,null,null,null,""]
[null,{"$f":"IF(A655=\"\",\"\",VLOOKUP(A655,PARAMETROS!$B$3:$C$3,2,FALSE))","v":""},null,{"$f":"IF(C655=\"\",\"\",VLOOKUP(C655,PARAMETROS!$G$3:$H$21,2,FALSE))","v":""},null,{"$f":"IF(E655=\"\",\"\",VLOOKUP(E655,PARAMETROS!$I$3:$J$21,2,FALSE))","v":""},null,null,null,null,null,null,{"$f":"IF(L655=\"\", \"\", L655)","v":""}]
[null,{"$f":"IF(A656=\"\",\"\",VLOOKUP(A656,PARAMETROS!$B$3:$C$3,2,FALSE))","v":""},null,{"$f":"IF(C656=\"\",\"\",VLOOKUP(C656,PARAMETROS!$G$3:$H$21,2,FALSE))","v":""},null,{"$f":"IF(E656=\"\",\"\",VLOOKUP(E656,PARAMETROS!$I$3:$J$21,2,FALSE))","v":""},null,null,null,null,null,null,""]
[null,{"$f":"IF(A657=\"\",\"\",VLOOKUP(A657,PARAMETROS!$B$3:$C$3,2,FALSE))","v":""},null,{"$f":"IF(C657=\"\",\"\",VLOOKUP(C657,PARAMETROS!$G$3:$H$21,2,FALSE))","v":""},null,{"$f":"IF(E657=\"\",\"\",VLOOKUP(E657,PARAMETROS!$I$3:$J$21,2,FALSE))","v":""},null,null,null,null,null,null,""]
[null,{"$f":"IF(A658=\"\",\"\",VLOOKUP(A658,PARAMETROS!$B$3:$C$3,2,FALSE))","v":""},null,{"$f":"IF(C658=\"\",\"\",VLOOKUP(C658,PARAMETROS!$G$3:$H$21,2,FALSE))","v":""},null,{"$f":"IF(E658=\"\",\"\",VLOOKUP(E658,PARAMETROS!$I$3:$J$21,2,FALSE))","v":""},null,null,null,null,null,null,""]
[null,{"$f":"IF(A659=\"\",\"\",VLOOKUP(A659,PARAMETROS!$B$3:$C$3,2,FALSE))","v":""},null,{"$f":"IF(C659=\"\",\"\",VLOOKUP(C659,PARAMETROS!$G$3:$H$21,2,FALSE))","v":""},null,{"$f":"IF(E659=\"\",\"\",VLOOKUP(E659,PARAMETROS!$I$3:$J$21,2,FALSE))","v":""},null,null,null,null,null,null,""]
[null,{"$f":"IF(A660=\"\",\"\",VLOOKUP(A660,PARAMETROS!$B$3:$C$3,2,FALSE))","v":""},null,{"$f":"IF(C660=\"\",\"\",VLOOKUP(C660,PARAMETROS!$G$3:$H$21,2,FALSE))","v":""},null,{"$f":"IF(E660=\"\",\"\",VLOOKUP(E660,PARAMETROS!$I$3:$J$21,2,FALSE))","v":""},null,null,null,null,null,null,""]
[null,{"$f":"IF(A661=\"\",\"\",VLOOKUP(A661,PARAMETROS!$B$3:$C$3,2,FALSE))","v":""},null,{"$f":"IF(C661=\"\",\"\",VLOOKUP(C661,PARAMETROS!$G$3:$H$21,2,FALSE))","v":""},null,{"$f":"IF(E661=\"\",\"\",VLOOKUP(E661,PARAMETROS!$I$3:$J$21,2,FALSE))","v":""},null,null,null,null,null,null,""]
[null,{"$f":"IF(A662=\"\",\"\",VLOOKUP(A662,PARAMETROS!$B$3:$C$3,2,FALSE))","v":""},null,{"$f":"IF(C662=\"\",\"\",VLOOKUP(C662,PARAMETROS!$G$3:$H$21,2,FALSE))","v":""},null,{"$f":"IF(E662=\"\",\"\",VLOOKUP(E662,PARAMETROS!$I$3:$J$21,2,FALSE))","v":""},null,null,null,null,null,null,""]
[null,{"$f":"IF(A663=\"\",\"\",VLOOKUP(A663,PARAMETROS!$B$3:$C$3,2,FALSE))","v":""},null,{"$f":"IF(C663=\"\",\"\",VLOOKUP(C663,PARAMETROS!$G$3:$H$21,2,FALSE))","v":""},null,{"$f":"IF(E663=\"\",\"\",VLOOKUP(E663,PARAMETROS!$I$3:$J$21,2,FALSE))","v":""},null,null,null,null,null,null,""]
[null,{"$f":"IF(A664=\"\",\"\",VLOOKUP(A664,PARAMETROS!$B$3:$C$3,2,FALSE))","v":""},null,{"$f":"IF(C664=\"\",\"\",VLOOKUP(C664,PARAMETROS!$G$3:$H$21,2,FALSE))","v":""},null,{"$f":"IF(E664=\"\",\"\",VLOOKUP(E664,PARAMETROS!$I$3:$J$21,2,FALSE))","v":""},null,null,null,null,null,null,""]
[null,{"$f":"IF(A665=\"\",\"\",VLOOKUP(A665,PARAMETROS!$B$3:$C$3,2,FALSE))","v":""},null,{"$f":"IF(C665=\"\",\"\",VLOOKUP(C665,PARAMETROS!$G$3:$H$21,2,FALSE))","v":""},null,{"$f":"IF(E665=\"\",\"\",VLOOKUP(E665,PARAMETROS!$I$3:$J$21,2,FALSE))","v":""},null,null,null,null,null,null,""]
[null,{"$f":"IF(A666=\"\",\"\",VLOOKUP(A666,PARAMETROS!$B$3:$C$3,2,FALSE))","v":""},null,{"$f":"IF(C666=\"\",\"\",VLOOKUP(C666,PARAMETROS!$G$3:$H$21,2,FALSE))","v":""},null,{"$f":"IF(E666=\"\",\"\",VLOOKUP(E666,PARAMETROS!$I$3:$J$21,2,FALSE))","v":""},null,null,null,null,null,null,""]
[null,{"$f":"IF(A667=\"\",\"\",VLOOKUP(A667,PARAMETROS!$B$3:$C$3,2,FALSE))","v":""},null,{"$f":"IF(C667=\"\",\"\",VLOOKUP(C667,PARAMETROS!$G$3:$H$21,2,FALSE))","v":""},null,{"$f":"IF(E667=\"\",\"\",VLOOKUP(E667,PARAMETROS!$I$3:$J$21,2,FALSE))","v":""},null,null,null,null,null,null,""]
[null,{"$f":"IF(A668=\"\",\"\",VLOOKUP(A668,PARAMETROS!$B$3:$C$3,2,FALSE))","v":""},null,{"$f":"IF(C668=\"\",\"\",VLOOKUP(C668,PARAMETROS!$G$3:$H$21,2,FALSE))","v":""},null,{"$f":"IF(E668=\"\",\"\",VLOOKUP(E668,PARAMETROS!$I$3:$J$21,2,FALSE))","v":""},null,null,null,null,null,null,""]
[null,{"$f":"IF(A669=\"\",\"\",VLOOKUP(A669,PARAMETROS!$B$3:$C$3,2,FALSE))","v":""},null,{"$f":"IF(C669=\"\",\"\",VLOOKUP(C669,PARAMETROS!$G$3:$H$21,2,FALSE))","v":""},null,{"$f":"IF(E669=\"\",\"\",VLOOKUP(E669,PARAMETROS!$I$3:$J$21,2,FALSE))","v":""},null,null,null,null,null,null,""]
[null,{"$f":"IF(A670=\"\",\"\",VLOOKUP(A670,PARAMETROS!$B$3:$C$3,2,FALSE))","v":""},null,{"$f":"IF(C670=\"\",\"\",VLOOKUP(C670,PARAMETROS!$G$3:$H$21,2,FALSE))","v":""},null,{"$f":"IF(E670=\"\",\"\",VLOOKUP(E670,PARAMETROS!$I$3:$J$21,2,FALSE))","v":""},null,null,null,null,null,null,""]
[null,{"$f":"IF(A671=\"\",\"\",VLOOKUP(A671,PARAMETROS!$B$3:$C$3,2,FALSE))","v":""},null,{"$f":"IF(C671=\"\",\"\",VLOOKUP(C671,PARAMETROS!$G$3:$H$21,2,FALSE))","v":""},null,{"$f":"IF(E671=\"\",\"\",VLOOKUP(E671,PARAMETROS!$I$3:$J$21,2,FALSE))","v":""},null,null,null,null,null,null,""]
[null,{"$f":"IF(A672=\"\",\"\",VLOOKUP(A672,PARAMETROS!$B$3:$C$3,2,FALSE))","v":""},null,{"$f":"IF(C672=\"\",\"\",VLOOKUP(C672,PARAMETROS!$G$3:$H$21,2,FALSE))","v":""},null,{"$f":"IF(E672=\"\",\"\",VLOOKUP(E672,PARAMETROS!$I$3:$J$21,2,FALSE))","v":""},null,null,null,null,null,null,""]
[null,{"$f":"IF(A673=\"\",\"\",VLOOKUP(A673,PARAMETROS!$B$3:$C$3,2,FALSE))","v":""},null,{"$f":"IF(C673=\"\",\"\",VLOOKUP(C673,PARAMETROS!$G$3:$H$21,2,FALSE))","v":""},null,{"$f":"IF(E673=\"\",\"\",VLOOKUP(E673,PARAMETROS!$I$3:$J$21,2,FALSE))","v":""},null,null,null,null,null,null,""]
[null,{"$f":"IF(A674=\"\",\"\",VLOOKUP(A674,PARAMETROS!$B$3:$C$3,2,FALSE))","v":""},null,{"$f":"IF(C674=\"\",\"\",VLOOKUP(C674,PARAMETROS!$G$3:$H$21,2,FALSE))","v":""},null,{"$f":"IF(E674=\"\",\"\",VLOOKUP(E674,PARAMETROS!$I$3:$J$21,2,FALSE))","v":""},null,null,null,null,null,null,""]
[null,{"$f":"IF(A675=\"\",\"\",VLOOKUP(A675,PARAMETROS!$B$3:$C$3,2,FALSE))","v":""},null,{"$f":"IF(C675=\"\",\"\",VLOOKUP(C675,PARAMETROS!$G$3:$H$21,2,FALSE))","v":""},null,{"$f":"IF(E675=\"\",\"\",VLOOKUP(E675,PARAMETROS!$I$3:$J$21,2,FALSE))","v":""},null,null,null,null,null,null,""]
[null,{"$f":"IF(A676=\"\",\"\",VLOOKUP(A676,PARAMETROS!$B$3:$C$3,2,FALSE))","v":""},null,{"$f":"IF(C676=\"\",\"\",VLOOKUP(C676,PARAMETROS!$G$3:$H$21,2,FALSE))","v":""},null,{"$f":"IF(E676=\"\",\"\",VLOOKUP(E676,PARAMETROS!$I$3:$J$21,2,FALSE))","v":""},null,null,null,null,null,null,""]
[null,{"$f":"IF(A677=\"\",\"\",VLOOKUP(A677,PARAMETROS!$B$3:$C$3,2,FALSE))","v":""},null,{"$f":"IF(C677=\"\",\"\",VLOOKUP(C677,PARAMETROS!$G$3:$H$21,2,FALSE))","v":""},null,{"$f":"IF(E677=\"\",\"\",VLOOKUP(E677,PARAMETROS!$I$3:$J$21,2,FALSE))","v":""},null,null,null,null,null,null,""]
[null,{"$f":"IF(A678=\"\",\"\",VLOOKUP(A678,PARAMETROS!$B$3:$C$3,2,FALSE))","v":""},null,{"$f":"IF(C678=\"\",\"\",VLOOKUP(C678,PARAMETROS!$G$3:$H$21,2,FALSE))","v":""},null,{"$f":"IF(E678=\"\",\"\",VLOOKUP(E678,PARAMETROS!$I$3:$J$21,2,FALSE))","v":""},null,null,null,null,null,null,""]
[null,{"$f":"IF(A679=\"\",\"\",VLOOKUP(A679,PARAMETROS!$B$3:$C$3,2,FALSE))","v":""},null,{"$f":"IF(C679=\"\",\"\",VLOOKUP(C679,PARAMETROS!$G$3:$H$21,2,FALSE))","v":""},null,{"$f":"IF(E679=\"\",\"\",VLOOKUP(E679,PARAMETROS!$I$3:$J$21,2,FALSE))","v":""},null,null,null,null,null,null,""]
[null,{"$f":"IF(A680=\"\",\"\",VLOOKUP(A680,PARAMETROS!$B$3:$C$3,2,FALSE))","v":""},null,{"$f":"IF(C680=\"\",\"\",VLOOKUP(C680,PARAMETROS!$G$3:$H$21,2,FALSE))","v":""},null,{"$f":"IF(E680=\"\",\"\",VLOOKUP(E680,PARAMETROS!$I$3:$J$21,2,FALSE))","v":""},null,null,null,null,null,null,""]
[null,{"$f":"IF(A681=\"\",\"\",VLOOKUP(A681,PARAMETROS!$B$3:$C$3,2,FALSE))","v":""},null,{"$f":"IF(C681=\"\",\"\",VLOOKUP(C681,PARAMETROS!$G$3:$H$21,2,FALSE))","v":""},null,{"$f":"IF(E681=\"\",\"\",VLOOKUP(E681,PARAMETROS!$I$3:$J$21,2,FALSE))","v":""},null,null,null,null,null,null,""]
[null,{"$f":"IF(A682=\"\",\"\",VLOOKUP(A682,PARAMETROS!$B$3:$C$3,2,FALSE))","v":""},null,{"$f":"IF(C682=\"\",\"\",VLOOKUP(C682,PARAMETROS!$G$3:$H$21,2,FALSE))","v":""},null,{"$f":"IF(E682=\"\",\"\",VLOOKUP(E682,PARAMETROS!$I$3:$J$21,2,FALSE))","v":""},null,null,null,null,null,null,""]
[null,{"$f":"IF(A683=\"\",\"\",VLOOKUP(A683,PARAMETROS!$B$3:$C$3,2,FALSE))","v":""},null,{"$f":"IF(C683=\"\",\"\",VLOOKUP(C683,PARAMETROS!$G$3:$H$21,2,FALSE))","v":""},null,{"$f":"IF(E683=\"\",\"\",VLOOKUP(E683,PARAMETROS!$I$3:$J$21,2,FALSE))","v":""},null,null,null,null,null,null,""]
[null,{"$f":"IF(A684=\"\",\"\",VLOOKUP(A684,PARAMETROS!$B$3:$C$3,2,FALSE))","v":""},null,{"$f":"IF(C684=\"\",\"\",VLOOKUP(C684,PARAMETROS!$G$3:$H$21,2,FALSE))","v":""},null,{"$f":"IF(E684=\"\",\"\",VLOOKUP(E684,PARAMETROS!$I$3:$J$21,2,FALSE))","v":""},null,null,null,null,null,null,""]
[null,{"$f":"IF(A685=\"\",\"\",VLOOKUP(A685,PARAMETROS!$B$3:$C$3,2,FALSE))","v":""},null,{"$f":"IF(C685=\"\",\"\",VLOOKUP(C685,PARAMETROS!$G$3:$H$21,2,FALSE))","v":""},null,{"$f":"IF(E685=\"\",\"\",VLOOKUP(E685,PARAMETROS!$I$3:$J$21,2,FALSE))","v":""},null,null,null,null,null,null,""]
[null,{"$f":"IF(A686=\"\",\"\",VLOOKUP(A686,PARAMETROS!$B$3:$C$3,2,FALSE))","v":""},null,{"$f":"IF(C686=\"\",\"\",VLOOKUP(C686,PARAMETROS!$G$3:$H$21,2,FALSE))","v":""},null,{"$f":"IF(E686=\"\",\"\",VLOOKUP(E686,PARAMETROS!$I$3:$J$21,2,FALSE))","v":""},null,null,null,null,null,null,""]
[null,{"$f":"IF(A687=\"\",\"\",VLOOKUP(A687,PARAMETROS!$B$3:$C$3,2,FALSE))","v":""},null,{"$f":"IF(C687=\"\",\"\",VLOOKUP(C687,PARAMETROS!$G$3:$H$21,2,FALSE))","v":""},null,{"$f":"IF(E687=\"\",\"\",VLOOKUP(E687,PARAMETROS!$I$3:$J$21,2,FALSE))","v":""},null,null,null,null,null,null,""]
[null,{"$f":"IF(A688=\"\",\"\",VLOOKUP(A688,PARAMETROS!$B$3:$C$3,2,FALSE))","v":""},null,{"$f":"IF(C688=\"\",\"\",VLOOKUP(C688,PARAMETROS!$G$3:$H$21,2,FALSE))","v":""},null,{"$f":"IF(E688=\"\",\"\",VLOOKUP(E688,PARAMETROS!$I$3:$J$21,2,FALSE))","v":""},null,null,null,null,null,null,""]
[null,{"$f":"IF(A689=\"\",\"\",VLOOKUP(A689,PARAMETROS!$B$3:$C$3,2,FALSE))","v":""},null,{"$f":"IF(C689=\"\",\"\",VLOOKUP(C689,PARAMETROS!$G$3:$H$21,2,FALSE))","v":""},null,{"$f":"IF(E689=\"\",\"\",VLOOKUP(E689,PARAMETROS!$I$3:$J$21,2,FALSE))","v":""},null,null,null,null,null,null,""]
[null,{"$f":"IF(A690=\"\",\"\",VLOOKUP(A690,PARAMETROS!$B$3:$C$3,2,FALSE))","v":""},null,{"$f":"IF(C690=\"\",\"\",VLOOKUP(C690,PARAMETROS!$G$3:$H$21,2,FALSE))","v":""},null,{"$f":"IF(E690=\"\",\"\",VLOOKUP(E690,PARAMETROS!$I$3:$J$21,2,FALSE))","v":""},null,null,null,null,null,null,""]
[null,{"$f":"IF(A691=\"\",\"\",VLOOKUP(A691,PARAMETROS!$B$3:$C$3,2,FALSE))","v":""},null,{"$f":"IF(C691=\"\",\"\",VLOOKUP(C691,PARAMETROS!$G$3:$H$21,2,FALSE))","v":""},null,{"$f":"IF(E691=\"\",\"\",VLOOKUP(E691,PARAMETROS!$I$3:$J$21,2,FALSE))","v":""},null,null,null,null,null,null,""]
[null,{"$f":"IF(A692=\"\",\"\",VLOOKUP(A692,PARAMETROS!$B$3:$C$3,2,FALSE))","v":""},null,{"$f":"IF(C692=\"\",\"\",VLOOKUP(C692,PARAMETROS!$G$3:$H$21,2,FALSE))","v":""},null,{"$f":"IF(E692=\"\",\"\",VLOOKUP(E692,PARAMETROS!$I$3:$J$21,2,FALSE))","v":""},null,null,null,null,null,null,""]
[null,{"$f":"IF(A693=\"\",\"\",VLOOKUP(A693,PARAMETROS!$B$3:$C$3,2,FALSE))","v":""},null,{"$f":"IF(C693=\"\",\"\",VLOOKUP(C693,PARAMETROS!$G$3:$H$21,2,FALSE))","v":""},null,{"$f":"IF(E693=\"\",\"\",VLOOKUP(E693,PARAMETROS!$I$3:$J$21,2,FALSE))","v":""},null,null,null,null,null,null,""]
[null,{"$f":"IF(A694=\"\",\"\",VLOOKUP(A694,PARAMETROS!$B$3:$C$3,2,FALSE))","v":""},null,{"$f":"IF(C694=\"\",\"\",VLOOKUP(C694,PARAMETROS!$G$3:$H$21,2,FALSE))","v":""},null,{"$f":"IF(E694=\"\",\"\",VLOOKUP(E694,PARAMETROS!$I$3:$J$21,2,FALSE))","v":""},null,null,null,null,null,null,""]
[null,{"$f":"IF(A695=\"\",\"\",VLOOKUP(A695,PARAMETROS!$B$3:$C$3,2,FALSE))","v":""},null,{"$f":"IF(C695=\"\",\"\",VLOOKUP(C695,PARAMETROS!$G$3:$H$21,2,FALSE))","v":""},null,{"$f":"IF(E695=\"\",\"\",VLOOKUP(E695,PARAMETROS!$I$3:$J$21,2,FALSE))","v":""},null,null,null,null,null,null,""]
[null,{"$f":"IF(A696=\"\",\"\",VLOOKUP(A696,PARAMETROS!$B$3:$C$3,2,FALSE))","v":""},null,{"$f":"IF(C696=\"\",\"\",VLOOKUP(C696,PARAMETROS!$G$3:$H$21,2,FALSE))","v":""},null,{"$f":"IF(E696=\"\",\"\",VLOOKUP(E696,PARAMETROS!$I$3:$J$21,2,FALSE))","v":""},null,null,null,null,null,null,""]
[null,{"$f":"IF(A697=\"\",\"\",VLOOKUP(A697,PARAMETROS!$B$3:$C$3,2,FALSE))","v":""},null,{"$f":"IF(C697=\"\",\"\",VLOOKUP(C697,PARAMETROS!$G$3:$H$21,2,FALSE))","v":""},null,{"$f":"IF(E697=\"\",\"\",VLOOKUP(E697,PARAMETROS!$I$3:$J$21,2,FALSE))","v":""},null,null,null,null,null,null,""]
[null,{"$f":"IF(A698=\"\",\"\",VLOOKUP(A698,PARAMETROS!$B$3:$C$3,2,FALSE))","v":""},null,{"$f":"IF(C698=\"\",\"\",VLOOKUP(C698,PARAMETROS!$G$3:$H$21,2,FALSE))","v":""},null,{"$f":"IF(E698=\"\",\"\",VLOOKUP(E698,PARAMETROS!$I$3:$J$21,2,FALSE))","v":""},null,null,null,null,null,null,""]
[null,{"$f":"IF(A699=\"\",\"\",VLOOKUP(A699,PARAMETROS!$B$3:$C$3,2,FALSE))","v":""},null,{"$f":"IF(C699=\"\",\"\",VLOOKUP(C699,PARAMETROS!$G$3:$H$21,2,FALSE))","v":""},null,{"$f":"IF(E699=\"\",\"\",VLOOKUP(E699,PARAMETROS!$I$3:$J$21,2,FALSE))","v":""},null,null,null,null,null,null,""]
[null,{"$f":"IF(A700=\"\",\"\",VLOOKUP(A700,PARAMETROS!$B$3:$C$3,2,FALSE))","v":""},null,{"$f":"IF(C700=\"\",\"\",VLOOKUP(C700,PARAMETROS!$G$3:$H$21,2,FALSE))","v":""},null,{"$f":"IF(E700=\"\",\"\",VLOOKUP(E700,PARAMETROS!$I$3:$J$21,2,FALSE))","v":""},null,null,null,null,null,null,""]
[null,{"$f":"IF(A701=\"\",\"\",VLOOKUP(A701,PARAMETROS!$B$3:$C$3,2,FALSE))","v":""},null,{"$f":"IF(C701=\"\",\"\",VLOOKUP(C701,PARAMETROS!$G$3:$H$21,2,FALSE))","v":""},null,{"$f":"IF(E701=\"\",\"\",VLOOKUP(E701,PARAMETROS!$I$3:$J$21,2,FALSE))","v":""},null,null,null,null,null,null,""]
[null,{"$f":"IF(A702=\"\",\"\",VLOOKUP(A702,PARAMETROS!$B$3:$C$3,2,FALSE))","v":""},null,{"$f":"IF(C702=\"\",\"\",VLOOKUP(C702,PARAMETROS!$G$3:$H$21,2,FALSE))","v":""},null,{"$f":"IF(E702=\"\",\"\",VLOOKUP(E702,PARAMETROS!$I$3:$J$21,2,FALSE))","v":""},null,null,null,null,null,null,""]
[null,{"$f":"IF(A703=\"\",\"\",VLOOKUP(A703,PARAMETROS!$B$3:$C$3,2,FALSE))","v":""},null,{"$f":"IF(C703=\"\",\"\",VLOOKUP(C703,PARAMETROS!$G$3:$H$21,2,FALSE))","v":""},null,{"$f":"IF(E703=\"\",\"\",VLOOKUP(E703,PARAMETROS!$I$3:$J$21,2,FALSE))","v":""},null,null,null,null,null,null,""]
[null,{"$f":"IF(A704=\"\",\"\",VLOOKUP(A704,PARAMETROS!$B$3:$C$3,2,FALSE))","v":""},null,{"$f":"IF(C704=\"\",\"\",VLOOKUP(C704,PARAMETROS!$G$3:$H$21,2,FALSE))","v":""},null,{"$f":"IF(E704=\"\",\"\",VLOOKUP(E704,PARAMETROS!$I$3:$J$21,2,FALSE))","v":""},null,null,null,null,null,null,""]
[null,{"$f":"IF(A705=\"\",\"\",VLOOKUP(A705,PARAMETROS!$B$3:$C$3,2,FALSE))","v":""},null,{"$f":"IF(C705=\"\",\"\",VLOOKUP(C705,PARAMETROS!$G$3:$H$21,2,FALSE))","v":""},null,{"$f":"IF(E705=\"\",\"\",VLOOKUP(E705,PARAMETROS!$I$3:$J$21,2,FALSE))","v":""},null,null,null,null,null,null,""]
[null,{"$f":"IF(A706=\"\",\"\",VLOOKUP(A706,PARAMETROS!$B$3:$C$3,2,FALSE))","v":""},null,{"$f":"IF(C706=\"\",\"\",VLOOKUP(C706,PARAMETROS!$G$3:$H$21,2,FALSE))","v":""},null,{"$f":"IF(E706=\"\",\"\",VLOOKUP(E706,PARAMETROS!$I$3:$J$21,2,FALSE))","v":""},null,null,null,null,null,null,""]
[null,{"$f":"IF(A707=\"\",\"\",VLOOKUP(A707,PARAMETROS!$B$3:$C$3,2,FALSE))","v":""},null,{"$f":"IF(C707=\"\",\"\",VLOOKUP(C707,PARAMETROS!$G$3:$H$21,2,FALSE))","v":""},null,{"$f":"IF(E707=\"\",\"\",VLOOKUP(E707,PARAMETROS!$I$3:$J$21,2,FALSE))","v":""},null,null,null,null,null,null,""]
[null,{"$f":"IF(A708=\"\",\"\",VLOOKUP(A708,PARAMETROS!$B$3:$C$3,2,FALSE))","v":""},null,{"$f":"IF(C708=\"\",\"\",VLOOKUP(C708,PARAMETROS!$G$3:$H$21,2,FALSE))","v":""},null,{"$f":"IF(E708=\"\",\"\",VLOOKUP(E708,PARAMETROS!$I$3:$J$21,2,FALSE))","v":""},null,null,null,null,null,null,""]
[null,{"$f":"IF(A709=\"\",\"\",VLOOKUP(A709,PARAMETROS!$B$3:$C$3,2,FALSE))","v":""},null,{"$f":"IF(C709=\"\",\"\",VLOOKUP(C709,PARAMETROS!$G$3:$H$21,2,FALSE))","v":""},null,{"$f":"IF(E709=\"\",\"\",VLOOKUP(E709,PARAMETROS!$I$3:$J$21,2,FALSE))","v":""},null,null,null,null,null,null,""]
[null,{"$f":"IF(A710=\"\",\"\",VLOOKUP(A710,PARAMETROS!$B$3:$C$3,2,FALSE))","v":""},null,{"$f":"IF(C710=\"\",\"\",VLOOKUP(C710,PARAMETROS!$G$3:$H$21,2,FALSE))","v":""},null,{"$f":"IF(E710=\"\",\"\",VLOOKUP(E710,PARAMETROS!$I$3:$J$21,2,FALSE))","v":""},null,null,null,null,null,null,""]
[null,{"$f":"IF(A711=\"\",\"\",VLOOKUP(A711,PARAMETROS!$B$3:$C$3,2,FALSE))","v":""},null,{"$f":"IF(C711=\"\",\"\",VLOOKUP(C711,PARAMETROS!$G$3:$H$21,2,FALSE))","v":""},null,{"$f":"IF(E711=\"\",\"\",VLOOKUP(E711,PARAMETROS!$I$3:$J$21,2,FALSE))","v":""},null,null,null,null,null,null,""]
[null,{"$f":"IF(A712=\"\",\"\",VLOOKUP(A712,PARAMETROS!$B$3:$C$3,2,FALSE))","v":""},null,{"$f":"IF(C712=\"\",\"\",VLOOKUP(C712,PARAMETROS!$G$3:$H$21,2,FALSE))","v":""},null,{"$f":"IF(E712=\"\",\"\",VLOOKUP(E712,PARAMETROS!$I$3:$J$21,2,FALSE))","v":""},null,null,null,null,null,null,""]
[null,{"$f":"IF(A713=\"\",\"\",VLOOKUP(A713,PARAMETROS!$B$3:$C$3,2,FALSE))","v":""},null,{"$f":"IF(C713=\"\",\"\",VLOOKUP(C713,PARAMETROS!$G$3:$H$21,2,FALSE))","v":""},null,{"$f":"IF(E713=\"\",\"\",VLOOKUP(E713,PARAMETROS!$I$3:$J$21,2,FALSE))","v":""},null,null,null,null,null,null,""]
[null,{"$f":"IF(A714=\"\",\"\",VLOOKUP(A714,PARAMETROS!$B$3:$C$3,2,FALSE))","v":""},null,{"$f":"IF(C714=\"\",\"\",VLOOKUP(C714,PARAMETROS!$G$3:$H$21,2,FALSE))","v":""},null,{"$f":"IF(E714=\"\",\"\",VLOOKUP(E714,PARAMETROS!$I$3:$J$21,2,FALSE))","v":""},null,null,null,null,null,null,""]
[null,{"$f":"IF(A715=\"\",\"\",VLOOKUP(A715,PARAMETROS!$B$3:$C$3,2,FALSE))","v":""},null,{"$f":"IF(C715=\"\",\"\",VLOOKUP(C715,PARAMETROS!$G$3:$H$21,2,FALSE))","v":""},null,{"$f":"IF(E715=\"\",\"\",VLOOKUP(E715,PARAMETROS!$I$3:$J$21,2,FALSE))","v":""},null,null,null,null,null,null,""]
[null,{"$f":"IF(A716=\"\",\"\",VLOOKUP(A716,PARAMETROS!$B$3:$C$3,2,FALSE))","v":""},null,{"$f":"IF(C716=\"\",\"\",VLOOKUP(C716,PARAMETROS!$G$3:$H$21,2,FALSE))","v":""},null,{"$f":"IF(E716=\"\",\"\",VLOOKUP(E716,PARAMETROS!$I$3:$J$21,2,FALSE))","v":""},null,null,null,null,null,null,""]
[null,{"$f":"IF(A717=\"\",\"\",VLOOKUP(A717,PARAMETROS!$B$3:$C$3,2,FALSE))","v":""},null,{"$f":"IF(C717=\"\",\"\",VLOOKUP(C717,PARAMETROS!$G$3:$H$21,2,FALSE))","v":""},null,{"$f":"IF(E717=\"\",\"\",VLOOKUP(E717,PARAMETROS!$I$3:$J$21,2,FALSE))","v":""},null,null,null,null,null,null,""]
[null,{"$f":"IF(A718=\"\",\"\",VLOOKUP(A718,PARAMETROS!$B$3:$C$3,2,FALSE))","v":""},null,{"$f":"IF(C718=\"\",\"\",VLOOKUP(C718,PARAMETROS!$G$3:$H$21,2,FALSE))","v":""},null,{"$f":"IF(E718=\"\",\"\",VLOOKUP(E718,PARAMETROS!$I$3:$J$21,2,FALSE))","v":""},null,null,null,null,null,null,""]
[null,{"$f":"IF(A719=\"\",\"\",VLOOKUP(A719,PARAMETROS!$B$3:$C$3,2,FALSE))","v":""},null,{"$f":"IF(C719=\"\",\"\",VLOOKUP(C719,PARAMETROS!$G$3:$H$21,2,FALSE))","v":""},null,{"$f":"IF(E719=\"\",\"\",VLOOKUP(E719,PARAMETROS!$I$3:$J$21,2,FALSE))","v":""},null,null,null,null,null,null,{"$f":"IF(L719=\"\", \"\", L719)","v":""}]
[null,{"$f":"IF(A720=\"\",\"\",VLOOKUP(A720,PARAMETROS!$B$3:$C$3,2,FALSE))","v":""},null,{"$f":"IF(C720=\"\",\"\",VLOOKUP(C720,PARAMETROS!$G$3:$H$21,2,FALSE))","v":""},null,{"$f":"IF(E720=\"\",\"\",VLOOKUP(E720,PARAMETROS!$I$3:$J$21,2,FALSE))","v":""},null,null,null,null,null,null,""]
[null,{"$f":"IF(A721=\"\",\"\",VLOOKUP(A721,PARAMETROS!$B$3:$C$3,2,FALSE))","v":""},null,{"$f":"IF(C721=\"\",\"\",VLOOKUP(C721,PARAMETROS!$G$3:$H$21,2,FALSE))","v":""},null,{"$f":"IF(E721=\"\",\"\",VLOOKUP(E721,PARAMETROS!$I$3:$J$21,2,FALSE))","v":""},null,null,null,null,null,null,""]
[null,{"$f":"IF(A722=\"\",\"\",VLOOKUP(A722,PARAMETROS!$B$3:$C$3,2,FALSE))","v":""},null,{"$f":"IF(C722=\"\",\"\",VLOOKUP(C722,PARAMETROS!$G$3:$H$21,2,FALSE))","v":""},null,{"$f":"IF(E722=\"\",\"\",VLOOKUP(E722,PARAMETROS!$I$3:$J$21,2,FALSE))","v":""},null,null,null,null,null,null,""]
[null,{"$f":"IF(A723=\"\",\"\",VLOOKUP(A723,PARAMETROS!$B$3:$C$3,2,FALSE))","v":""},null,{"$f":"IF(C723=\"\",\"\",VLOOKUP(C723,PARAMETROS!$G$3:$H$21,2,FALSE))","v":""},null,{"$f":"IF(E723=\"\",\"\",VLOOKUP(E723,PARAMETROS!$I$3:$J$21,2,FALSE))","v":""},null,null,null,null,null,null,""]
[null,{"$f":"IF(A724=\"\",\"\",VLOOKUP(A724,PARAMETROS!$B$3:$C$3,2,FALSE))","v":""},null,{"$f":"IF(C724=\"\",\"\",VLOOKUP(C724,PARAMETROS!$G$3:$H$21,2,FALSE))","v":""},null,{"$f":"IF(E724=\"\",\"\",VLOOKUP(E724,PARAMETROS!$I$3:$J$21,2,FALSE))","v":""},null,null,null,null,null,null,""]
[null,{"$f":"IF(A725=\"\",\"\",VLOOKUP(A725,PARAMETROS!$B$3:$C$3,2,FALSE))","v":""},null,{"$f":"IF(C725=\"\",\"\",VLOOKUP(C725,PARAMETROS!$G$3:$H$21,2,FALSE))","v":""},null,{"$f":"IF(E725=\"\",\"\",VLOOKUP(E725,PARAMETROS!$I$3:$J$21,2,FALSE))","v":""},null,null,null,null,null,null,""]
[null,{"$f":"IF(A726=\"\",\"\",VLOOKUP(A726,PARAMETROS!$B$3:$C$3,2,FALSE))","v":""},null,{"$f":"IF(C726=\"\",\"\",VLOOKUP(C726,PARAMETROS!$G$3:$H$21,2,FALSE))","v":""},null,{"$f":"IF(E726=\"\",\"\",VLOOKUP(E726,PARAMETROS!$I$3:$J$21,2,FALSE))","v":""},null,null,null,null,null,null,""]
[null,{"$f":"IF(A727=\"\",\"\",VLOOKUP(A727,PARAMETROS!$B$3:$C$3,2,FALSE))","v":""},null,{"$f":"IF(C727=\"\",\"\",VLOOKUP(C727,PARAMETROS!$G$3:$H$21,2,FALSE))","v":""},null,{"$f":"IF(E727=\"\",\"\",VLOOKUP(E727,PARAMETROS!$I$3:$J$21,2,FALSE))","v":""},null,null,null,null,null,null,""]
[null,{"$f":"IF(A728=\"\",\"\",VLOOKUP(A728,PARAMETROS!$B$3:$C$3,2,FALSE))","v":""},null,{"$f":"IF(C728=\"\",\"\",VLOOKUP(C728,PARAMETROS!$G$3:$H$21,2,FALSE))","v":""},null,{"$f":"IF(E728=\"\",\"\",VLOOKUP(E728,PARAMETROS!$I$3:$J$21,2,FALSE))","v":""},null,null,null,null,null,null,""]
[null,{"$f":"IF(A729=\"\",\"\",VLOOKUP(A729,PARAMETROS!$B$3:$C$3,2,FALSE))","v":""},null,{"$f":"IF(C729=\"\",\"\",VLOOKUP(C729,PARAMETROS!$G$3:$H$21,2,FALSE))","v":""},null,{"$f":"IF(E729=\"\",\"\",VLOOKUP(E729,PARAMETROS!$I$3:$J$21,2,FALSE))","v":""},null,null,null,null,null,null,""]
[null,{"$f":"IF(A730=\"\",\"\",VLOOKUP(A730,PARAMETROS!$B$3:$C$3,2,FALSE))","v":""},null,{"$f":"IF(C730=\"\",\"\",VLOOKUP(C730,PARAMETROS!$G$3:$H$21,2,FALSE))","v":""},null,{"$f":"IF(E730=\"\",\"\",VLOOKUP(E730,PARAMETROS!$I$3:$J$21,2,FALSE))","v":""},null,null,null,null,null,null,""]
[null,{"$f":"IF(A731=\"\",\"\",VLOOKUP(A731,PARAMETROS!$B$3:$C$3,2,FALSE))","v":""},null,{"$f":"IF(C731=\"\",\"\",VLOOKUP(C731,PARAMETROS!$G$3:$H$21,2,FALSE))","v":""},null,{"$f":"IF(E731=\"\",\"\",VLOOKUP(E731,PARAMETROS!$I$3:$J$21,2,FALSE))","v":""},null,null,null,null,null,null,""]
[null,{"$f":"IF(A732=\"\",\"\",VLOOKUP(A732,PARAMETROS!$B$3:$C$3,2,FALSE))","v":""},null,{"$f":"IF(C732=\"\",\"\",VLOOKUP(C732,PARAMETROS!$G$3:$H$21,2,FALSE))","v":""},null,{"$f":"IF(E732=\"\",\"\",VLOOKUP(E732,PARAMETROS!$I$3:$J$21,2,FALSE))","v":""},null,null,null,null,null,null,""]
[null,{"$f":"IF(A733=\"\",\"\",VLOOKUP(A733,PARAMETROS!$B$3:$C$3,2,FALSE))","v":""},null,{"$f":"IF(C733=\"\",\"\",VLOOKUP(C733,PARAMETROS!$G$3:$H$21,2,FALSE))","v":""},null,{"$f":"IF(E733=\"\",\"\",VLOOKUP(E733,PARAMETROS!$I$3:$J$21,2,FALSE))","v":""},null,null,null,null,null,null,""]
[null,{"$f":"IF(A734=\"\",\"\",VLOOKUP(A734,PARAMETROS!$B$3:$C$3,2,FALSE))","v":""},null,{"$f":"IF(C734=\"\",\"\",VLOOKUP(C734,PARAMETROS!$G$3:$H$21,2,FALSE))","v":""},null,{"$f":"IF(E734=\"\",\"\",VLOOKUP(E734,PARAMETROS!$I$3:$J$21,2,FALSE))","v":""},null,null,null,null,null,null,""]
[null,{"$f":"IF(A735=\"\",\"\",VLOOKUP(A735,PARAMETROS!$B$3:$C$3,2,FALSE))","v":""},null,{"$f":"IF(C735=\"\",\"\",VLOOKUP(C735,PARAMETROS!$G$3:$H$21,2,FALSE))","v":""},null,{"$f":"IF(E735=\"\",\"\",VLOOKUP(E735,PARAMETROS!$I$3:$J$21,2,FALSE))","v":""},null,null,null,null,null,null,""]
[null,{"$f":"IF(A736=\"\",\"\",VLOOKUP(A736,PARAMETROS!$B$3:$C$3,2,FALSE))","v":""},null,{"$f":"IF(C736=\"\",\"\",VLOOKUP(C736,PARAMETROS!$G$3:$H$21,2,FALSE))","v":""},null,{"$f":"IF(E736=\"\",\"\",VLOOKUP(E736,PARAMETROS!$I$3:$J$21,2,FALSE))","v":""},null,null,null,null,null,null,""]
[null,{"$f":"IF(A737=\"\",\"\",VLOOKUP(A737,PARAMETROS!$B$3:$C$3,2,FALSE))","v":""},null,{"$f":"IF(C737=\"\",\"\",VLOOKUP(C737,PARAMETROS!$G$3:$H$21,2,FALSE))","v":""},null,{"$f":"IF(E737=\"\",\"\",VLOOKUP(E737,PARAMETROS!$I$3:$J$21,2,FALSE))","v":""},null,null,null,null,null,null,""]
[null,{"$f":"IF(A738=\"\",\"\",VLOOKUP(A738,PARAMETROS!$B$3:$C$3,2,FALSE))","v":""},null,{"$f":"IF(C738=\"\",\"\",VLOOKUP(C738,PARAMETROS!$G$3:$H$21,2,FALSE))","v":""},null,{"$f":"IF(E738=\"\",\"\",VLOOKUP(E738,PARAMETROS!$I$3:$J$21,2,FALSE))","v":""},null,null,null,null,null,null,""]
[null,{"$f":"IF(A739=\"\",\"\",VLOOKUP(A739,PARAMETROS!$B$3:$C$3,2,FALSE))","v":""},null,{"$f":"IF(C739=\"\",\"\",VLOOKUP(C739,PARAMETROS!$G$3:$H$21,2,FALSE))","v":""},null,{"$f":"IF(E739=\"\",\"\",VLOOKUP(E739,PARAMETROS!$I$3:$J$21,2,FALSE))","v":""},null,null,null,null,null,null,""]
[null,{"$f":"IF(A740=\"\",\"\",VLOOKUP(A740,PARAMETROS!$B$3:$C$3,2,FALSE))","v":""},null,{"$f":"IF(C740=\"\",\"\",VLOOKUP(C740,PARAMETROS!$G$3:$H$21,2,FALSE))","v":""},null,{"$f":"IF(E740=\"\",\"\",VLOOKUP(E740,PARAMETROS!$I$3:$J$21,2,FALSE))","v":""},null,null,null,null,null,null,""]
[null,{"$f":"IF(A741=\"\",\"\",VLOOKUP(A741,PARAMETROS!$B$3:$C$3,2,FALSE))","v":""},null,{"$f":"IF(C741=\"\",\"\",VLOOKUP(C741,PARAMETROS!$G$3:$H$21,2,FALSE))","v":""},null,{"$f":"IF(E741=\"\",\"\",VLOOKUP(E741,PARAMETROS!$I$3:$J$21,2,FALSE))","v":""},null,null,null,null,null,null,""]
[null,{"$f":"IF(A742=\"\",\"\",VLOOKUP(A742,PARAMETROS!$B$3:$C$3,2,FALSE))","v":""},null,{"$f":"IF(C742=\"\",\"\",VLOOKUP(C742,PARAMETROS!$G$3:$H$21,2,FALSE))","v":""},null,{"$f":"IF(E742=\"\",\"\",VLOOKUP(E742,PARAMETROS!$I$3:$J$21,2,FALSE))","v":""},null,null,null,null,null,null,""]
[null,{"$f":"IF(A743=\"\",\"\",VLOOKUP(A743,PARAMETROS!$B$3:$C$3,2,FALSE))","v":""},null,{"$f":"IF(C743=\"\",\"\",VLOOKUP(C743,PARAMETROS!$G$3:$H$21,2,FALSE))","v":""},null,{"$f":"IF(E743=\"\",\"\",VLOOKUP(E743,PARAMETROS!$I$3:$J$21,2,FALSE))","v":""},null,null,null,null,null,null,""]
[null,{"$f":"IF(A744=\"\",\"\",VLOOKUP(A744,PARAMETROS!$B$3:$C$3,2,FALSE))","v":""},null,{"$f":"IF(C744=\"\",\"\",VLOOKUP(C744,PARAMETROS!$G$3:$H$21,2,FALSE))","v":""},null,{"$f":"IF(E744=\"\",\"\",VLOOKUP(E744,PARAMETROS!$I$3:$J$21,2,FALSE))","v":""},null,null,null,null,null,null,""]
[null,{"$f":"IF(A745=\"\",\"\",VLOOKUP(A745,PARAMETROS!$B$3:$C$3,2,FALSE))","v":""},null,{"$f":"IF(C745=\"\",\"\",VLOOKUP(C745,PARAMETROS!$G$3:$H$21,2,FALSE))","v":""},null,{"$f":"IF(E745=\"\",\"\",VLOOKUP(E745,PARAMETROS!$I$3:$J$21,2,FALSE))","v":""},null,null,null,null,null,null,""]
[null,{"$f":"IF(A746=\"\",\"\",VLOOKUP(A746,PARAMETROS!$B$3:$C$3,2,FALSE))","v":""},null,{"$f":"IF(C746=\"\",\"\",VLOOKUP(C746,PARAMETROS!$G$3:$H$21,2,FALSE))","v":""},null,{"$f":"IF(E746=\"\",\"\",VLOOKUP(E746,PARAMETROS!$I$3:$J$21,2,FALSE))","v":""},null,null,null,null,null,null,""]
[null,{"$f":"IF(A747=\"\",\"\",VLOOKUP(A747,PARAMETROS!$B$3:$C$3,2,FALSE))","v":""},null,{"$f":"IF(C747=\"\",\"\",VLOOKUP(C747,PARAMETROS!$G$3:$H$21,2,FALSE))","v":""},null,{"$f":"IF(E747=\"\",\"\",VLOOKUP(E747,PARAMETROS!$I$3:$J$21,2,FALSE))","v":""},null,null,null,null,null,null,""]
[null,{"$f":"IF(A748=\"\",\"\",VLOOKUP(A748,PARAMETROS!$B$3:$C$3,2,FALSE))","v":""},null,{"$f":"IF(C748=\"\",\"\",VLOOKUP(C748,PARAMETROS!$G$3:$H$21,2,FALSE))","v":""},null,{"$f":"IF(E748=\"\",\"\",VLOOKUP(E748,PARAMETROS!$I$3:$J$21,2,FALSE))","v":""},null,null,null,null,null,null,""]
[null,{"$f":"IF(A749=\"\",\"\",VLOOKUP(A749,PARAMETROS!$B$3:$C$3,2,FALSE))","v":""},null,{"$f":"IF(C749=\"\",\"\",VLOOKUP(C749,PARAMETROS!$G$3:$H$21,2,FALSE))","v":""},null,{"$f":"IF(E749=\"\",\"\",VLOOKUP(E749,PARAMETROS!$I$3:$J$21,2,FALSE))","v":""},null,null,null,null,null,null,""]
[null,{"$f":"IF(A750=\"\",\"\",VLOOKUP(A750,PARAMETROS!$B$3:$C$3,2,FALSE))","v":""},null,{"$f":"IF(C750=\"\",\"\",VLOOKUP(C750,PARAMETROS!$G$3:$H$21,2,FALSE))","v":""},null,{"$f":"IF(E750=\"\",\"\",VLOOKUP(E750,PARAMETROS!$I$3:$J$21,2,FALSE))","v":""},null,null,null,null,null,null,""]
[null,{"$f":"IF(A751=\"\",\"\",VLOOKUP(A751,PARAMETROS!$B$3:$C$3,2,FALSE))","v":""},null,{"$f":"IF(C751=\"\",\"\",VLOOKUP(C751,PARAMETROS!$G$3:$H$21,2,FALSE))","v":""},null,{"$f":"IF(E751=\"\",\"\",VLOOKUP(E751,PARAMETROS!$I$3:$J$21,2,FALSE))","v":""},null,null,null,null,null,null,""]
[null,{"$f":"IF(A752=\"\",\"\",VLOOKUP(A752,PARAMETROS!$B$3:$C$3,2,FALSE))","v":""},null,{"$f":"IF(C752=\"\",\"\",VLOOKUP(C752,PARAMETROS!$G$3:$H$21,2,FALSE))","v":""},null,{"$f":"IF(E752=\"\",\"\",VLOOKUP(E752,PARAMETROS!$I$3:$J$21,2,FALSE))","v":""},null,null,null,null,null,null,""]
[null,{"$f":"IF(A753=\"\",\"\",VLOOKUP(A753,PARAMETROS!$B$3:$C$3,2,FALSE))","v":""},null,{"$f":"IF(C753=\"\",\"\",VLOOKUP(C753,PARAMETROS!$G$3:$H$21,2,FALSE))","v":""},null,{"$f":"IF(E753=\"\",\"\",VLOOKUP(E753,PARAMETROS!$I$3:$J$21,2,FALSE))","v":""},null,null,null,null,null,null,""]
[null,{"$f":"IF(A754=\"\",\"\",VLOOKUP(A754,PARAMETROS!$B$3:$C$3,2,FALSE))","v":""},null,{"$f":"IF(C754=\"\",\"\",VLOOKUP(C754,PARAMETROS!$G$3:$H$21,2,FALSE))","v":""},null,{"$f":"IF(E754=\"\",\"\",VLOOKUP(E754,PARAMETROS!$I$3:$J$21,2,FALSE))","v":""},null,null,null,null,null,null,""]
[null,{"$f":"IF(A755=\"\",\"\",VLOOKUP(A755,PARAMETROS!$B$3:$C$3,2,FALSE))","v":""},null,{"$f":"IF(C755=\"\",\"\",VLOOKUP(C755,PARAMETROS!$G$3:$H$21,2,FALSE))","v":""},null,{"$f":"IF(E755=\"\",\"\",VLOOKUP(E755,PARAMETROS!$I$3:$J$21,2,FALSE))","v":""},null,null,null,null,null,null,""]
[null,{"$f":"IF(A756=\"\",\"\",VLOOKUP(A756,PARAMETROS!$B$3:$C$3,2,FALSE))","v":""},null,{"$f":"IF(C756=\"\",\"\",VLOOKUP(C756,PARAMETROS!$G$3:$H$21,2,FALSE))","v":""},null,{"$f":"IF(E756=\"\",\"\",VLOOKUP(E756,PARAMETROS!$I$3:$J$21,2,FALSE))","v":""},null,null,null,null,null,null,""]
[null,{"$f":"IF(A757=\"\",\"\",VLOOKUP(A757,PARAMETROS!$B$3:$C$3,2,FALSE))","v":""},null,{"$f":"IF(C757=\"\",\"\",VLOOKUP(C757,PARAMETROS!$G$3:$H$21,2,FALSE))","v":""},null,{"$f":"IF(E757=\"\",\"\",VLOOKUP(E757,PARAMETROS!$I$3:$J$21,2,FALSE))","v":""},null,null,null,null,null,null,""]
[null,{"$f":"IF(A758=\"\",\"\",VLOOKUP(A758,PARAMETROS!$B$3:$C$3,2,FALSE))","v":""},null,{"$f":"IF(C758=\"\",\"\",VLOOKUP(C758,PARAMETROS!$G$3:$H$21,2,FALSE))","v":""},null,{"$f":"IF(E758=\"\",\"\",VLOOKUP(E758,PARAMETROS!$I$3:$J$21,2,FALSE))","v":""},null,null,null,null,null,null,""]
[null,{"$f":"IF(A759=\"\",\"\",VLOOKUP(A759,PARAMETROS!$B$3:$C$3,2,FALSE))","v":""},null,{"$f":"IF(C759=\"\",\"\",VLOOKUP(C759,PARAMETROS!$G$3:$H$21,2,FALSE))","v":""},null,{"$f":"IF(E759=\"\",\"\",VLOOKUP(E759,PARAMETROS!$I$3:$J$21,2,FALSE))","v":""},null,null,null,null,null,null,""]
[null,{"$f":"IF(A760=\"\",\"\",VLOOKUP(A760,PARAMETROS!$B$3:$C$3,2,FALSE))","v":""},null,{"$f":"IF(C760=\"\",\"\",VLOOKUP(C760,PARAMETROS!$G$3:$H$21,2,FALSE))","v":""},null,{"$f":"IF(E760=\"\",\"\",VLOOKUP(E760,PARAMETROS!$I$3:$J$21,2,FALSE))","v":""},null,null,null,null,null,null,""]
[null,{"$f":"IF(A761=\"\",\"\",VLOOKUP(A761,PARAMETROS!$B$3:$C$3,2,FALSE))","v":""},null,{"$f":"IF(C761=\"\",\"\",VLOOKUP(C761,PARAMETROS!$G$3:$H$21,2,FALSE))","v":""},null,{"$f":"IF(E761=\"\",\"\",VLOOKUP(E761,PARAMETROS!$I$3:$J$21,2,FALSE))","v":""},null,null,null,null,null,null,""]
[null,{"$f":"IF(A762=\"\",\"\",VLOOKUP(A762,PARAMETROS!$B$3:$C$3,2,FALSE))","v":""},null,{"$f":"IF(C762=\"\",\"\",VLOOKUP(C762,PARAMETROS!$G$3:$H$21,2,FALSE))","v":""},null,{"$f":"IF(E762=\"\",\"\",VLOOKUP(E762,PARAMETROS!$I$3:$J$21,2,FALSE))","v":""},null,null,null,null,null,null,""]
[null,{"$f":"IF(A763=\"\",\"\",VLOOKUP(A763,PARAMETROS!$B$3:$C$3,2,FALSE))","v":""},null,{"$f":"IF(C763=\"\",\"\",VLOOKUP(C763,PARAMETROS!$G$3:$H$21,2,FALSE))","v":""},null,{"$f":"IF(E763=\"\",\"\",VLOOKUP(E763,PARAMETROS!$I$3:$J$21,2,FALSE))","v":""},null,null,null,null,null,null,""]
[null,{"$f":"IF(A764=\"\",\"\",VLOOKUP(A764,PARAMETROS!$B$3:$C$3,2,FALSE))","v":""},null,{"$f":"IF(C764=\"\",\"\",VLOOKUP(C764,PARAMETROS!$G$3:$H$21,2,FALSE))","v":""},null,{"$f":"IF(E764=\"\",\"\",VLOOKUP(E764,PARAMETROS!$I$3:$J$21,2,FALSE))","v":""},null,null,null,null,null,null,""]
[null,{"$f":"IF(A765=\"\",\"\",VLOOKUP(A765,PARAMETROS!$B$3:$C$3,2,FALSE))","v":""},null,{"$f":"IF(C765=\"\",\"\",VLOOKUP(C765,PARAMETROS!$G$3:$H$21,2,FALSE))","v":""},null,{"$f":"IF(E765=\"\",\"\",VLOOKUP(E765,PARAMETROS!$I$3:$J$21,2,FALSE))","v":""},null,null,null,null,null,null,""]
[null,{"$f":"IF(A766=\"\",\"\",VLOOKUP(A766,PARAMETROS!$B$3:$C$3,2,FALSE))","v":""},null,{"$f":"IF(C766=\"\",\"\",VLOOKUP(C766,PARAMETROS!$G$3:$H$21,2,FALSE))","v":""},null,{"$f":"IF(E766=\"\",\"\",VLOOKUP(E766,PARAMETROS!$I$3:$J$21,2,FALSE))","v":""},null,null,null,null,null,null,""]
[null,{"$f":"IF(A767=\"\",\"\",VLOOKUP(A767,PARAMETROS!$B$3:$C$3,2,FALSE))","v":""},null,{"$f":"IF(C767=\"\",\"\",VLOOKUP(C767,PARAMETROS!$G$3:$H$21,2,FALSE))","v":""},null,{"$f":"IF(E767=\"\",\"\",VLOOKUP(E767,PARAMETROS!$I$3:$J$21,2,FALSE))","v":""},null,null,null,null,null,null,""]
[null,{"$f":"IF(A768=\"\",\"\",VLOOKUP(A768,PARAMETROS!$B$3:$C$3,2,FALSE))","v":""},null,{"$f":"IF(C768=\"\",\"\",VLOOKUP(C768,PARAMETROS!$G$3:$H$21,2,FALSE))","v":""},null,{"$f":"IF(E768=\"\",\"\",VLOOKUP(E768,PARAMETROS!$I$3:$J$21,2,FALSE))","v":""},null,null,null,null,null,null,""]
[null,{"$f":"IF(A769=\"\",\"\",VLOOKUP(A769,PARAMETROS!$B$3:$C$3,2,FALSE))","v":""},null,{"$f":"IF(C769=\"\",\"\",VLOOKUP(C769,PARAMETROS!$G$3:$H$21,2,FALSE))","v":""},null,{"$f":"IF(E769=\"\",\"\",VLOOKUP(E769,PARAMETROS!$I$3:$J$21,2,FALSE))","v":""},null,null,null,null,null,null,""]
[null,{"$f":"IF(A770=\"\",\"\",VLOOKUP(A770,PARAMETROS!$B$3:$C$3,2,FALSE))","v":""},null,{"$f":"IF(C770=\"\",\"\",VLOOKUP(C770,PARAMETROS!$G$3:$H$21,2,FALSE))","v":""},null,{"$f":"IF(E770=\"\",\"\",VLOOKUP(E770,PARAMETROS!$I$3:$J$21,2,FALSE))","v":""},null,null,null,null,null,null,""]
[null,{"$f":"IF(A771=\"\",\"\",VLOOKUP(A771,PARAMETROS!$B$3:$C$3,2,FALSE))","v":""},null,{"$f":"IF(C771=\"\",\"\",VLOOKUP(C771,PARAMETROS!$G$3:$H$21,2,FALSE))","v":""},null,{"$f":"IF(E771=\"\",\"\",VLOOKUP(E771,PARAMETROS!$I$3:$J$21,2,FALSE))","v":""},null,null,null,null,null,null,""]
[null,{"$f":"IF(A772=\"\",\"\",VLOOKUP(A772,PARAMETROS!$B$3:$C$3,2,FALSE))","v":""},null,{"$f":"IF(C772=\"\",\"\",VLOOKUP(C772,PARAMETROS!$G$3:$H$21,2,FALSE))","v":""},null,{"$f":"IF(E772=\"\",\"\",VLOOKUP(E772,PARAMETROS!$I$3:$J$21,2,FALSE))","v":""},null,null,null,null,null,null,""]
[null,{"$f":"IF(A773=\"\",\"\",VLOOKUP(A773,PARAMETROS!$B$3:$C$3,2,FALSE))","v":""},null,{"$f":"IF(C773=\"\",\"\",VLOOKUP(C773,PARAMETROS!$G$3:$H$21,2,FALSE))","v":""},null,{"$f":"IF(E773=\"\",\"\",VLOOKUP(E773,PARAMETROS!$I$3:$J$21,2,FALSE))","v":""},null,null,null,null,null,null,""]
[null,{"$f":"IF(A774=\"\",\"\",VLOOKUP(A774,PARAMETROS!$B$3:$C$3,2,FALSE))","v":""},null,{"$f":"IF(C774=\"\",\"\",VLOOKUP(C774,PARAMETROS!$G$3:$H$21,2,FALSE))","v":""},null,{"$f":"IF(E774=\"\",\"\",VLOOKUP(E774,PARAMETROS!$I$3:$J$21,2,FALSE))","v":""},null,null,null,null,null,null,""]
[null,{"$f":"IF(A775=\"\",\"\",VLOOKUP(A775,PARAMETROS!$B$3:$C$3,2,FALSE))","v":""},null,{"$f":"IF(C775=\"\",\"\",VLOOKUP(C775,PARAMETROS!$G$3:$H$21,2,FALSE))","v":""},null,{"$f":"IF(E775=\"\",\"\",VLOOKUP(E775,PARAMETROS!$I$3:$J$21,2,FALSE))","v":""},null,null,null,null,null,null,""]
[null,{"$f":"IF(A776=\"\",\"\",VLOOKUP(A776,PARAMETROS!$B$3:$C$3,2,FALSE))","v":""},null,{"$f":"IF(C776=\"\",\"\",VLOOKUP(C776,PARAMETROS!$G$3:$H$21,2,FALSE))","v":""},null,{"$f":"IF(E776=\"\",\"\",VLOOKUP(E776,PARAMETROS!$I$3:$J$21,2,FALSE))","v":""},null,null,null,null,null,null,""]
[null,{"$f":"IF(A777=\"\",\"\",VLOOKUP(A777,PARAMETROS!$B$3:$C$3,2,FALSE))","v":""},null,{"$f":"IF(C777=\"\",\"\",VLOOKUP(C777,PARAMETROS!$G$3:$H$21,2,FALSE))","v":""},null,{"$f":"IF(E777=\"\",\"\",VLOOKUP(E777,PARAMETROS!$I$3:$J$21,2,FALSE))","v":""},null,null,null,null,null,null,""]
[null,{"$f":"IF(A778=\"\",\"\",VLOOKUP(A778,PARAMETROS!$B$3:$C$3,2,FALSE))","v":""},null,{"$f":"IF(C778=\"\",\"\",VLOOKUP(C778,PARAMETROS!$G$3:$H$21,2,FALSE))","v":""},null,{"$f":"IF(E778=\"\",\"\",VLOOKUP(E778,PARAMETROS!$I$3:$J$21,2,FALSE))","v":""},null,null,null,null,null,null,""]
[null,{"$f":"IF(A779=\"\",\"\",VLOOKUP(A779,PARAMETROS!$B$3:$C$3,2,FALSE))","v":""},null,{"$f":"IF(C779=\"\",\"\",VLOOKUP(C779,PARAMETROS!$G$3:$H$21,2,FALSE))","v":""},null,{"$f":"IF(E779=\"\",\"\",VLOOKUP(E779,PARAMETROS!$I$3:$J$21,2,FALSE))","v":""},null,null,null,null,null,null,""]
[null,{"$f":"IF(A780=\"\",\"\",VLOOKUP(A780,PARAMETROS!$B$3:$C$3,2,FALSE))","v":""},null,{"$f":"IF(C780=\"\",\"\",VLOOKUP(C780,PARAMETROS!$G$3:$H$21,2,FALSE))","v":""},null,{"$f":"IF(E780=\"\",\"\",VLOOKUP(E780,PARAMETROS!$I$3:$J$21,2,FALSE))","v":""},null,null,null,null,null,null,""]
[null,{"$f":"IF(A781=\"\",\"\",VLOOKUP(A781,PARAMETROS!$B$3:$C$3,2,FALSE))","v":""},null,{"$f":"IF(C781=\"\",\"\",VLOOKUP(C781,PARAMETROS!$G$3:$H$21,2,FALSE))","v":""},null,{"$f":"IF(E781=\"\",\"\",VLOOKUP(E781,PARAMETROS!$I$3:$J$21,2,FALSE))","v":""},null,null,null,null,null,null,""]
[null,{"$f":"IF(A782=\"\",\"\",VLOOKUP(A782,PARAMETROS!$B$3:$C$3,2,FALSE))","v":""},null,{"$f":"IF(C782=\"\",\"\",VLOOKUP(C782,PARAMETROS!$G$3:$H$21,2,FALSE))","v":""},null,{"$f":"IF(E782=\"\",\"\",VLOOKUP(E782,PARAMETROS!$I$3:$J$21,2,FALSE))","v":""},null,null,null,null,null,null,""]
[null,{"$f":"IF(A783=\"\",\"\",VLOOKUP(A783,PARAMETROS!$B$3:$C$3,2,FALSE))","v":""},null,{"$f":"IF(C783=\"\",\"\",VLOOKUP(C783,PARAMETROS!$G$3:$H$21,2,FALSE))","v":""},null,{"$f":"IF(E783=\"\",\"\",VLOOKUP(E783,PARAMETROS!$I$3:$J$21,2,FALSE))","v":""},null,null,null,null,null,null,{"$f":"IF(L783=\"\", \"\", L783)","v":""}]
[null,{"$f":"IF(A784=\"\",\"\",VLOOKUP(A784,PARAMETROS!$B$3:$C$3,2,FALSE))","v":""},null,{"$f":"IF(C784=\"\",\"\",VLOOKUP(C784,PARAMETROS!$G$3:$H$21,2,FALSE))","v":""},null,{"$f":"IF(E784=\"\",\"\",VLOOKUP(E784,PARAMETROS!$I$3:$J$21,2,FALSE))","v":""},null,null,null,null,null,null,""]
[null,{"$f":"IF(A785=\"\",\"\",VLOOKUP(A785,PARAMETROS!$B$3:$C$3,2,FALSE))","v":""},null,{"$f":"IF(C785=\"\",\"\",VLOOKUP(C785,PARAMETROS!$G$3:$H$21,2,FALSE))","v":""},null,{"$f":"IF(E785=\"\",\"\",VLOOKUP(E785,PARAMETROS!$I$3:$J$21,2,FALSE))","v":""},null,null,null,null,null,null,""]
[null,{"$f":"IF(A786=\"\",\"\",VLOOKUP(A786,PARAMETROS!$B$3:$C$3,2,FALSE))","v":""},null,{"$f":"IF(C786=\"\",\"\",VLOOKUP(C786,PARAMETROS!$G$3:$H$21,2,FALSE))","v":""},null,{"$f":"IF(E786=\"\",\"\",VLOOKUP(E786,PARAMETROS!$I$3:$J$21,2,FALSE))","v":""},null,null,null,null,null,null,""]
[null,{"$f":"IF(A787=\"\",\"\",VLOOKUP(A787,PARAMETROS!$B$3:$C$3,2,FALSE))","v":""},null,{"$f":"IF(C787=\"\",\"\",VLOOKUP(C787,PARAMETROS!$G$3:$H$21,2,FALSE))","v":""},null,{"$f":"IF(E787=\"\",\"\",VLOOKUP(E787,PARAMETROS!$I$3:$J$21,2,FALSE))","v":""},null,null,null,null,null,null,""]
[null,{"$f":"IF(A788=\"\",\"\",VLOOKUP(A788,PARAMETROS!$B$3:$C$3,2,FALSE))","v":""},null,{"$f":"IF(C788=\"\",\"\",VLOOKUP(C788,PARAMETROS!$G$3:$H$21,2,FALSE))","v":""},null,{"$f":"IF(E788=\"\",\"\",VLOOKUP(E788,PARAMETROS!$I$3:$J$21,2,FALSE))","v":""},null,null,null,null,null,null,""]
[null,{"$f":"IF(A789=\"\",\"\",VLOOKUP(A789,PARAMETROS!$B$3:$C$3,2,FALSE))","v":""},null,{"$f":"IF(C789=\"\",\"\",VLOOKUP(C789,PARAMETROS!$G$3:$H$21,2,FALSE))","v":""},null,{"$f":"IF(E789=\"\",\"\",VLOOKUP(E789,PARAMETROS!$I$3:$J$21,2,FALSE))","v":""},null,null,null,null,null,null,""]
[null,{"$f":"IF(A790=\"\",\"\",VLOOKUP(A790,PARAMETROS!$B$3:$C$3,2,FALSE))","v":""},null,{"$f":"IF(C790=\"\",\"\",VLOOKUP(C790,PARAMETROS!$G$3:$H$21,2,FALSE))","v":""},null,{"$f":"IF(E790=\"\",\"\",VLOOKUP(E790,PARAMETROS!$I$3:$J$21,2,FALSE))","v":""},null,null,null,null,null,null,""]
[null,{"$f":"IF(A791=\"\",\"\",VLOOKUP(A791,PARAMETROS!$B$3:$C$3,2,FALSE))","v":""},null,{"$f":"IF(C791=\"\",\"\",VLOOKUP(C791,PARAMETROS!$G$3:$H$21,2,FALSE))","v":""},null,{"$f":"IF(E791=\"\",\"\",VLOOKUP(E791,PARAMETROS!$I$3:$J$21,2,FALSE))","v":""},null,null,null,null,null,null,""]
[null,{"$f":"IF(A792=\"\",\"\",VLOOKUP(A792,PARAMETROS!$B$3:$C$3,2,FALSE))","v":""},null,{"$f":"IF(C792=\"\",\"\",VLOOKUP(C792,PARAMETROS!$G$3:$H$21,2,FALSE))","v":""},null,{"$f":"IF(E792=\"\",\"\",VLOOKUP(E792,PARAMETROS!$I$3:$J$21,2,FALSE))","v":""},null,null,null,null,null,null,""]
[null,{"$f":"IF(A793=\"\",\"\",VLOOKUP(A793,PARAMETROS!$B$3:$C$3,2,FALSE))","v":""},null,{"$f":"IF(C793=\"\",\"\",VLOOKUP(C793,PARAMETROS!$G$3:$H$21,2,FALSE))","v":""},null,{"$f":"IF(E793=\"\",\"\",VLOOKUP(E793,PARAMETROS!$I$3:$J$21,2,FALSE))","v":""},null,null,null,null,null,null,""]
[null,{"$f":"IF(A794=\"\",\"\",VLOOKUP(A794,PARAMETROS!$B$3:$C$3,2,FALSE))","v":""},null,{"$f":"IF(C794=\"\",\"\",VLOOKUP(C794,PARAMETROS!$G$3:$H$21,2,FALSE))","v":""},null,{"$f":"IF(E794=\"\",\"\",VLOOKUP(E794,PARAMETROS!$I$3:$J$21,2,FALSE))","v":""},null,null,null,null,null,null,""]
[null,{"$f":"IF(A795=\"\",\"\",VLOOKUP(A795,PARAMETROS!$B$3:$C$3,2,FALSE))","v":""},null,{"$f":"IF(C795=\"\",\"\",VLOOKUP(C795,PARAMETROS!$G$3:$H$21,2,FALSE))","v":""},null,{"$f":"IF(E795=\"\",\"\",VLOOKUP(E795,PARAMETROS!$I$3:$J$21,2,FALSE))","v":""},null,null,null,null,null,null,""]
[null,{"$f":"IF(A796=\"\",\"\",VLOOKUP(A796,PARAMETROS!$B$3:$C$3,2,FALSE))","v":""},null,{"$f":"IF(C796=\"\",\"\",VLOOKUP(C796,PARAMETROS!$G$3:$H$21,2,FALSE))","v":""},null,{"$f":"IF(E796=\"\",\"\",VLOOKUP(E796,PARAMETROS!$I$3:$J$21,2,FALSE))","v":""},null,null,null,null,null,null,""]
[null,{"$f":"IF(A797=\"\",\"\",VLOOKUP(A797,PARAMETROS!$B$3:$C$3,2,FALSE))","v":""},null,{"$f":"IF(C797=\"\",\"\",VLOOKUP(C797,PARAMETROS!$G$3:$H$21,2,FALSE))","v":""},null,{"$f":"IF(E797=\"\",\"\",VLOOKUP(E797,PARAMETROS!$I$3:$J$21,2,FALSE))","v":""},null,null,null,null,null,null,""]
[null,{"$f":"IF(A798=\"\",\"\",VLOOKUP(A798,PARAMETROS!$B$3:$C$3,2,FALSE))","v":""},null,{"$f":"IF(C798=\"\",\"\",VLOOKUP(C798,PARAMETROS!$G$3:$H$21,2,FALSE))","v":""},null,{"$f":"IF(E798=\"\",\"\",VLOOKUP(E798,PARAMETROS!$I$3:$J$21,2,FALSE))","v":""},null,null,null,null,null,null,""]
[null,{"$f":"IF(A799=\"\",\"\",VLOOKUP(A799,PARAMETROS!$B$3:$C$3,2,FALSE))","v":""},null,{"$f":"IF(C799=\"\",\"\",VLOOKUP(C799,PARAMETROS!$G$3:$H$21,2,FALSE))","v":""},null,{"$f":"IF(E799=\"\",\"\",VLOOKUP(E799,PARAMETROS!$I$3:$J$21,2,FALSE))","v":""},null,null,null,null,null,null,""]
[null,{"$f":"IF(A800=\"\",\"\",VLOOKUP(A800,PARAMETROS!$B$3:$C$3,2,FALSE))","v":""},null,{"$f":"IF(C800=\"\",\"\",VLOOKUP(C800,PARAMETROS!$G$3:$H$21,2,FALSE))","v":""},null,{"$f":"IF(E800=\"\",\"\",VLOOKUP(E800,PARAMETROS!$I$3:$J$21,2,FALSE))","v":""},null,null,null,null,null,null,""]
[null,{"$f":"IF(A801=\"\",\"\",VLOOKUP(A801,PARAMETROS!$B$3:$C$3,2,FALSE))","v":""},null,{"$f":"IF(C801=\"\",\"\",VLOOKUP(C801,PARAMETROS!$G$3:$H$21,2,FALSE))","v":""},null,{"$f":"IF(E801=\"\",\"\",VLOOKUP(E801,PARAMETROS!$I$3:$J$21,2,FALSE))","v":""},null,null,null,null,null,null,""]
[null,{"$f":"IF(A802=\"\",\"\",VLOOKUP(A802,PARAMETROS!$B$3:$C$3,2,FALSE))","v":""},null,{"$f":"IF(C802=\"\",\"\",VLOOKUP(C802,PARAMETROS!$G$3:$H$21,2,FALSE))","v":""},null,{"$f":"IF(E802=\"\",\"\",VLOOKUP(E802,PARAMETROS!$I$3:$J$21,2,FALSE))","v":""},null,null,null,null,null,null,""]
[null,{"$f":"IF(A803=\"\",\"\",VLOOKUP(A803,PARAMETROS!$B$3:$C$3,2,FALSE))","v":""},null,{"$f":"IF(C803=\"\",\"\",VLOOKUP(C803,PARAMETROS!$G$3:$H$21,2,FALSE))","v":""},null,{"$f":"IF(E803=\"\",\"\",VLOOKUP(E803,PARAMETROS!$I$3:$J$21,2,FALSE))","v":""},null,null,null,null,null,null,""]
[null,{"$f":"IF(A804=\"\",\"\",VLOOKUP(A804,PARAMETROS!$B$3:$C$3,2,FALSE))","v":""},null,{"$f":"IF(C804=\"\",\"\",VLOOKUP(C804,PARAMETROS!$G$3:$H$21,2,FALSE))","v":""},null,{"$f":"IF(E804=\"\",\"\",VLOOKUP(E804,PARAMETROS!$I$3:$J$21,2,FALSE))","v":""},null,null,null,null,null,null,""]
[null,{"$f":"IF(A805=\"\",\"\",VLOOKUP(A805,PARAMETROS!$B$3:$C$3,2,FALSE))","v":""},null,{"$f":"IF(C805=\"\",\"\",VLOOKUP(C805,PARAMETROS!$G$3:$H$21,2,FALSE))","v":""},null,{"$f":"IF(E805=\"\",\"\",VLOOKUP(E805,PARAMETROS!$I$3:$J$21,2,FALSE))","v":""},null,null,null,null,null,null,""]
[null,{"$f":"IF(A806=\"\",\"\",VLOOKUP(A806,PARAMETROS!$B$3:$C$3,2,FALSE))","v":""},null,{"$f":"IF(C806=\"\",\"\",VLOOKUP(C806,PARAMETROS!$G$3:$H$21,2,FALSE))","v":""},null,{"$f":"IF(E806=\"\",\"\",VLOOKUP(E806,PARAMETROS!$I$3:$J$21,2,FALSE))","v":""},null,null,null,null,null,null,""]
[null,{"$f":"IF(A807=\"\",\"\",VLOOKUP(A807,PARAMETROS!$B$3:$C$3,2,FALSE))","v":""},null,{"$f":"IF(C807=\"\",\"\",VLOOKUP(C807,PARAMETROS!$G$3:$H$21,2,FALSE))","v":""},null,{"$f":"IF(E807=\"\",\"\",VLOOKUP(E807,PARAMETROS!$I$3:$J$21,2,FALSE))","v":""},null,null,null,null,null,null,""]
[null,{"$f":"IF(A808=\"\",\"\",VLOOKUP(A808,PARAMETROS!$B$3:$C$3,2,FALSE))","v":""},null,{"$f":"IF(C808=\"\",\"\",VLOOKUP(C808,PARAMETROS!$G$3:$H$21,2,FALSE))","v":""},null,{"$f":"IF(E808=\"\",\"\",VLOOKUP(E808,PARAMETROS!$I$3:$J$21,2,FALSE))","v":""},null,null,null,null,null,null,""]
[null,{"$f":"IF(A809=\"\",\"\",VLOOKUP(A809,PARAMETROS!$B$3:$C$3,2,FALSE))","v":""},null,{"$f":"IF(C809=\"\",\"\",VLOOKUP(C809,PARAMETROS!$G$3:$H$21,2,FALSE))","v":""},null,{"$f":"IF(E809=\"\",\"\",VLOOKUP(E809,PARAMETROS!$I$3:$J$21,2,FALSE))","v":""},null,null,null,null,null,null,""]
[null,{"$f":"IF(A810=\"\",\"\",VLOOKUP(A810,PARAMETROS!$B$3:$C$3,2,FALSE))","v":""},null,{"$f":"IF(C810=\"\",\"\",VLOOKUP(C810,PARAMETROS!$G$3:$H$21,2,FALSE))","v":""},null,{"$f":"IF(E810=\"\",\"\",VLOOKUP(E810,PARAMETROS!$I$3:$J$21,2,FALSE))","v":""},null,null,null,null,null,null,""]
[null,{"$f":"IF(A811=\"\",\"\",VLOOKUP(A811,PARAMETROS!$B$3:$C$3,2,FALSE))","v":""},null,{"$f":"IF(C811=\"\",\"\",VLOOKUP(C811,PARAMETROS!$G$3:$H$21,2,FALSE))","v":""},null,{"$f":"IF(E811=\"\",\"\",VLOOKUP(E811,PARAMETROS!$I$3:$J$21,2,FALSE))","v":""},null,null,null,null,null,null,""]
[null,{"$f":"IF(A812=\"\",\"\",VLOOKUP(A812,PARAMETROS!$B$3:$C$3,2,FALSE))","v":""},null,{"$f":"IF(C812=\"\",\"\",VLOOKUP(C812,PARAMETROS!$G$3:$H$21,2,FALSE))","v":""},null,{"$f":"IF(E812=\"\",\"\",VLOOKUP(E812,PARAMETROS!$I$3:$J$21,2,FALSE))","v":""},null,null,null,null,null,null,""]
[null,{"$f":"IF(A813=\"\",\"\",VLOOKUP(A813,PARAMETROS!$B$3:$C$3,2,FALSE))","v":""},null,{"$f":"IF(C813=\"\",\"\",VLOOKUP(C813,PARAMETROS!$G$3:$H$21,2,FALSE))","v":""},null,{"$f":"IF(E813=\"\",\"\",VLOOKUP(E813,PARAMETROS!$I$3:$J$21,2,FALSE))","v":""},null,null,null,null,null,null,""]
[null,{"$f":"IF(A814=\"\",\"\",VLOOKUP(A814,PARAMETROS!$B$3:$C$3,2,FALSE))","v":""},null,{"$f":"IF(C814=\"\",\"\",VLOOKUP(C814,PARAMETROS!$G$3:$H$21,2,FALSE))","v":""},null,{"$f":"IF(E814=\"\",\"\",VLOOKUP(E814,PARAMETROS!$I$3:$J$21,2,FALSE))","v":""},null,null,null,null,null,null,""]
[null,{"$f":"IF(A815=\"\",\"\",VLOOKUP(A815,PARAMETROS!$B$3:$C$3,2,FALSE))","v":""},null,{"$f":"IF(C815=\"\",\"\",VLOOKUP(C815,PARAMETROS!$G$3:$H$21,2,FALSE))","v":""},null,{"$f":"IF(E815=\"\",\"\",VLOOKUP(E815,PARAMETROS!$I$3:$J$21,2,FALSE))","v":""},null,null,null,null,null,null,""]
[null,{"$f":"IF(A816=\"\",\"\",VLOOKUP(A816,PARAMETROS!$B$3:$C$3,2,FALSE))","v":""},null,{"$f":"IF(C816=\"\",\"\",VLOOKUP(C816,PARAMETROS!$G$3:$H$21,2,FALSE))","v":""},null,{"$f":"IF(E816=\"\",\"\",VLOOKUP(E816,PARAMETROS!$I$3:$J$21,2,FALSE))","v":""},null,null,null,null,null,null,""]
[null,{"$f":"IF(A817=\"\",\"\",VLOOKUP(A817,PARAMETROS!$B$3:$C$3,2,FALSE))","v":""},null,{"$f":"IF(C817=\"\",\"\",VLOOKUP(C817,PARAMETROS!$G$3:$H$21,2,FALSE))","v":""},null,{"$f":"IF(E817=\"\",\"\",VLOOKUP(E817,PARAMETROS!$I$3:$J$21,2,FALSE))","v":""},null,null,null,null,null,null,""]
[null,{"$f":"IF(A818=\"\",\"\",VLOOKUP(A818,PARAMETROS!$B$3:$C$3,2,FALSE))","v":""},null,{"$f":"IF(C818=\"\",\"\",VLOOKUP(C818,PARAMETROS!$G$3:$H$21,2,FALSE))","v":""},null,{"$f":"IF(E818=\"\",\"\",VLOOKUP(E818,PARAMETROS!$I$3:$J$21,2,FALSE))","v":""},null,null,null,null,null,null,""]
[null,{"$f":"IF(A819=\"\",\"\",VLOOKUP(A819,PARAMETROS!$B$3:$C$3,2,FALSE))","v":""},null,{"$f":"IF(C819=\"\",\"\",VLOOKUP(C819,PARAMETROS!$G$3:$H$21,2,FALSE))","v":""},null,{"$f":"IF(E819=\"\",\"\",VLOOKUP(E819,PARAMETROS!$I$3:$J$21,2,FALSE))","v":""},null,null,null,null,null,null,""]
[null,{"$f":"IF(A820=\"\",\"\",VLOOKUP(A820,PARAMETROS!$B$3:$C$3,2,FALSE))","v":""},null,{"$f":"IF(C820=\"\",\"\",VLOOKUP(C820,PARAMETROS!$G$3:$H$21,2,FALSE))","v":""},null,{"$f":"IF(E820=\"\",\"\",VLOOKUP(E820,PARAMETROS!$I$3:$J$21,2,FALSE))","v":""},null,null,null,null,null,null,""]
[null,{"$f":"IF(A821=\"\",\"\",VLOOKUP(A821,PARAMETROS!$B$3:$C$3,2,FALSE))","v":""},null,{"$f":"IF(C821=\"\",\"\",VLOOKUP(C821,PARAMETROS!$G$3:$H$21,2,FALSE))","v":""},null,{"$f":"IF(E821=\"\",\"\",VLOOKUP(E821,PARAMETROS!$I$3:$J$21,2,FALSE))","v":""},null,null,null,null,null,null,""]
[null,{"$f":"IF(A822=\"\",\"\",VLOOKUP(A822,PARAMETROS!$B$3:$C$3,2,FALSE))","v":""},null,{"$f":"IF(C822=\"\",\"\",VLOOKUP(C822,PARAMETROS!$G$3:$H$21,2,FALSE))","v":""},null,{"$f":"IF(E822=\"\",\"\",VLOOKUP(E822,PARAMETROS!$I$3:$J$21,2,FALSE))","v":""},null,null,null,null,null,null,""]
[null,{"$f":"IF(A823=\"\",\"\",VLOOKUP(A823,PARAMETROS!$B$3:$C$3,2,FALSE))","v":""},null,{"$f":"IF(C823=\"\",\"\",VLOOKUP(C823,PARAMETROS!$G$3:$H$21,2,FALSE))","v":""},null,{"$f":"IF(E823=\"\",\"\",VLOOKUP(E823,PARAMETROS!$I$3:$J$21,2,FALSE))","v":""},null,null,null,null,null,null,""]
[null,{"$f":"IF(A824=\"\",\"\",VLOOKUP(A824,PARAMETROS!$B$3:$C$3,2,FALSE))","v":""},null,{"$f":"IF(C824=\"\",\"\",VLOOKUP(C824,PARAMETROS!$G$3:$H$21,2,FALSE))","v":""},null,{"$f":"IF(E824=\"\",\"\",VLOOKUP(E824,PARAMETROS!$I$3:$J$21,2,FALSE))","v":""},null,null,null,null,null,null,""]
[null,{"$f":"IF(A825=\"\",\"\",VLOOKUP(A825,PARAMETROS!$B$3:$C$3,2,FALSE))","v":""},null,{"$f":"IF(C825=\"\",\"\",VLOOKUP(C825,PARAMETROS!$G$3:$H$21,2,FALSE))","v":""},null,{"$f":"IF(E825=\"\",\"\",VLOOKUP(E825,PARAMETROS!$I$3:$J$21,2,FALSE))","v":""},null,null,null,null,null,null,""]
[null,{"$f":"IF(A826=\"\",\"\",VLOOKUP(A826,PARAMETROS!$B$3:$C$3,2,FALSE))","v":""},null,{"$f":"IF(C826=\"\",\"\",VLOOKUP(C826,PARAMETROS!$G$3:$H$21,2,FALSE))","v":""},null,{"$f":"IF(E826=\"\",\"\",VLOOKUP(E826,PARAMETROS!$I$3:$J$21,2,FALSE))","v":""},null,null,null,null,null,null,""]
[null,{"$f":"IF(A827=\"\",\"\",VLOOKUP(A827,PARAMETROS!$B$3:$C$3,2,FALSE))","v":""},null,{"$f":"IF(C827=\"\",\"\",VLOOKUP(C827,PARAMETROS!$G$3:$H$21,2,FALSE))","v":""},null,{"$f":"IF(E827=\"\",\"\",VLOOKUP(E827,PARAMETROS!$I$3:$J$21,2,FALSE))","v":""},null,null,null,null,null,null,""]
[null,{"$f":"IF(A828=\"\",\"\",VLOOKUP(A828,PARAMETROS!$B$3:$C$3,2,FALSE))","v":""},null,{"$f":"IF(C828=\"\",\"\",VLOOKUP(C828,PARAMETROS!$G$3:$H$21,2,FALSE))","v":""},null,{"$f":"IF(E828=\"\",\"\",VLOOKUP(E828,PARAMETROS!$I$3:$J$21,2,FALSE))","v":""},null,null,null,null,null,null,""]
[null,{"$f":"IF(A829=\"\",\"\",VLOOKUP(A829,PARAMETROS!$B$3:$C$3,2,FALSE))","v":""},null,{"$f":"IF(C829=\"\",\"\",VLOOKUP(C829,PARAMETROS!$G$3:$H$21,2,FALSE))","v":""},null,{"$f":"IF(E829=\"\",\"\",VLOOKUP(E829,PARAMETROS!$I$3:$J$21,2,FALSE))","v":""},null,null,null,null,null,null,""]
[null,{"$f":"IF(A830=\"\",\"\",VLOOKUP(A830,PARAMETROS!$B$3:$C$3,2,FALSE))","v":""},null,{"$f":"IF(C830=\"\",\"\",VLOOKUP(C830,PARAMETROS!$G$3:$H$21,2,FALSE))","v":""},null,{"$f":"IF(E830=\"\",\"\",VLOOKUP(E830,PARAMETROS!$I$3:$J$21,2,FALSE))","v":""},null,null,null,null,null,null,""]
[null,{"$f":"IF(A831=\"\",\"\",VLOOKUP(A831,PARAMETROS!$B$3:$C$3,2,FALSE))","v":""},null,{"$f":"IF(C831=\"\",\"\",VLOOKUP(C831,PARAMETROS!$G$3:$H$21,2,FALSE))","v":""},null,{"$f":"IF(E831=\"\",\"\",VLOOKUP(E831,PARAMETROS!$I$3:$J$21,2,FALSE))","v":""},null,null,null,null,null,null,""]
[null,{"$f":"IF(A832=\"\",\"\",VLOOKUP(A832,PARAMETROS!$B$3:$C$3,2,FALSE))","v":""},null,{"$f":"IF(C832=\"\",\"\",VLOOKUP(C832,PARAMETROS!$G$3:$H$21,2,FALSE))","v":""},null,{"$f":"IF(E832=\"\",\"\",VLOOKUP(E832,PARAMETROS!$I$3:$J$21,2,FALSE))","v":""},null,null,null,null,null,null,""]
[null,{"$f":"IF(A833=\"\",\"\",VLOOKUP(A833,PARAMETROS!$B$3:$C$3,2,FALSE))","v":""},null,{"$f":"IF(C833=\"\",\"\",VLOOKUP(C833,PARAMETROS!$G$3:$H$21,2,FALSE))","v":""},null,{"$f":"IF(E833=\"\",\"\",VLOOKUP(E833,PARAMETROS!$I$3:$J$21,2,FALSE))","v":""},null,null,null,null,null,null,""]
[null,{"$f":"IF(A834=\"\",\"\",VLOOKUP(A834,PARAMETROS!$B$3:$C$3,2,FALSE))","v":""},null,{"$f":"IF(C834=\"\",\"\",VLOOKUP(C834,PARAMETROS!$G$3:$H$21,2,FALSE))","v":""},null,{"$f":"IF(E834=\"\",\"\",VLOOKUP(E834,PARAMETROS!$I$3:$J$21,2,FALSE))","v":""},null,null,null,null,null,null,""]
[null,{"$f":"IF(A835=\"\",\"\",VLOOKUP(A835,PARAMETROS!$B$3:$C$3,2,FALSE))","v":""},null,{"$f":"IF(C835=\"\",\"\",VLOOKUP(C835,PARAMETROS!$G$3:$H$21,2,FALSE))","v":""},null,{"$f":"IF(E835=\"\",\"\",VLOOKUP(E835,PARAMETROS!$I$3:$J$21,2,FALSE))","v":""},null,null,null,null,null,null,""]
[null,{"$f":"IF(A836=\"\",\"\",VLOOKUP(A836,PARAMETROS!$B$3:$C$3,2,FALSE))","v":""},null,{"$f":"IF(C836=\"\",\"\",VLOOKUP(C836,PARAMETROS!$G$3:$H$21,2,FALSE))","v":""},null,{"$f":"IF(E836=\"\",\"\",VLOOKUP(E836,PARAMETROS!$I$3:$J$21,2,FALSE))","v":""},null,null,null,null,null,null,""]
[null,{"$f":"IF(A837=\"\",\"\",VLOOKUP(A837,PARAMETROS!$B$3:$C$3,2,FALSE))","v":""},null,{"$f":"IF(C837=\"\",\"\",VLOOKUP(C837,PARAMETROS!$G$3:$H$21,2,FALSE))","v":""},null,{"$f":"IF(E837=\"\",\"\",VLOOKUP(E837,PARAMETROS!$I$3:$J$21,2,FALSE))","v":""},null,null,null,null,null,null,""]
[null,{"$f":"IF(A838=\"\",\"\",VLOOKUP(A838,PARAMETROS!$B$3:$C$3,2,FALSE))","v":""},null,{"$f":"IF(C838=\"\",\"\",VLOOKUP(C838,PARAMETROS!$G$3:$H$21,2,FALSE))","v":""},null,{"$f":"IF(E838=\"\",\"\",VLOOKUP(E838,PARAMETROS!$I$3:$J$21,2,FALSE))","v":""},null,null,null,null,null,null,""]
[null,{"$f":"IF(A839=\"\",\"\",VLOOKUP(A839,PARAMETROS!$B$3:$C$3,2,FALSE))","v":""},null,{"$f":"IF(C839=\"\",\"\",VLOOKUP(C839,PARAMETROS!$G$3:$H$21,2,FALSE))","v":""},null,{"$f":"IF(E839=\"\",\"\",VLOOKUP(E839,PARAMETROS!$I$3:$J$21,2,FALSE))","v":""},null,null,null,null,null,null,""]
[null,{"$f":"IF(A840=\"\",\"\",VLOOKUP(A840,PARAMETROS!$B$3:$C$3,2,FALSE))","v":""},null,{"$f":"IF(C840=\"\",\"\",VLOOKUP(C840,PARAMETROS!$G$3:$H$21,2,FALSE))","v":""},null,{"$f":"IF(E840=\"\",\"\",VLOOKUP(E840,PARAMETROS!$I$3:$J$21,2,FALSE))","v":""},null,null,null,null,null,null,""]
[null,{"$f":"IF(A841=\"\",\"\",VLOOKUP(A841,PARAMETROS!$B$3:$C$3,2,FALSE))","v":""},null,{"$f":"IF(C841=\"\",\"\",VLOOKUP(C841,PARAMETROS!$G$3:$H$21,2,FALSE))","v":""},null,{"$f":"IF(E841=\"\",\"\",VLOOKUP(E841,PARAMETROS!$I$3:$J$21,2,FALSE))","v":""},null,null,null,null,null,null,""]
[null,{"$f":"IF(A842=\"\",\"\",VLOOKUP(A842,PARAMETROS!$B$3:$C$3,2,FALSE))","v":""},null,{"$f":"IF(C842=\"\",\"\",VLOOKUP(C842,PARAMETROS!$G$3:$H$21,2,FALSE))","v":""},null,{"$f":"IF(E842=\"\",\"\",VLOOKUP(E842,PARAMETROS!$I$3:$J$21,2,FALSE))","v":""},null,null,null,null,null,null,""]
[null,{"$f":"IF(A843=\"\",\"\",VLOOKUP(A843,PARAMETROS!$B$3:$C$3,2,FALSE))","v":""},null,{"$f":"IF(C843=\"\",\"\",VLOOKUP(C843,PARAMETROS!$G$3:$H$21,2,FALSE))","v":""},null,{"$f":"IF(E843=\"\",\"\",VLOOKUP(E843,PARAMETROS!$I$3:$J$21,2,FALSE))","v":""},null,null,null,null,null,null,""]
[null,{"$f":"IF(A844=\"\",\"\",VLOOKUP(A844,PARAMETROS!$B$3:$C$3,2,FALSE))","v":""},null,{"$f":"IF(C844=\"\",\"\",VLOOKUP(C844,PARAMETROS!$G$3:$H$21,2,FALSE))","v":""},null,{"$f":"IF(E844=\"\",\"\",VLOOKUP(E844,PARAMETROS!$I$3:$J$21,2,FALSE))","v":""},null,null,null,null,null,null,""]
[null,{"$f":"IF(A845=\"\",\"\",VLOOKUP(A845,PARAMETROS!$B$3:$C$3,2,FALSE))","v":""},null,{"$f":"IF(C845=\"\",\"\",VLOOKUP(C845,PARAMETROS!$G$3:$H$21,2,FALSE))","v":""},null,{"$f":"IF(E845=\"\",\"\",VLOOKUP(E845,PARAMETROS!$I$3:$J$21,2,FALSE))","v":""},null,null,null,null,null,null,""]
[null,{"$f":"IF(A846=\"\",\"\",VLOOKUP(A846,PARAMETROS!$B$3:$C$3,2,FALSE))","v":""},null,{"$f":"IF(C846=\"\",\"\",VLOOKUP(C846,PARAMETROS!$G$3:$H$21,2,FALSE))","v":""},null,{"$f":"IF(E846=\"\",\"\",VLOOKUP(E846,PARAMETROS!$I$3:$J$21,2,FALSE))","v":""},null,null,null,null,null,null,""]
[null,{"$f":"IF(A847=\"\",\"\",VLOOKUP(A847,PARAMETROS!$B$3:$C$3,2,FALSE))","v":""},null,{"$f":"IF(C847=\"\",\"\",VLOOKUP(C847,PARAMETROS!$G$3:$H$21,2,FALSE))","v":""},null,{"$f":"IF(E847=\"\",\"\",VLOOKUP(E847,PARAMETROS!$I$3:$J$21,2,FALSE))","v":""},null,null,null,null,null,null,{"$f":"IF(L847=\"\", \"\", L847)","v":""}]
[null,{"$f":"IF(A848=\"\",\"\",VLOOKUP(A848,PARAMETROS!$B$3:$C$3,2,FALSE))","v":""},null,{"$f":"IF(C848=\"\",\"\",VLOOKUP(C848,PARAMETROS!$G$3:$H$21,2,FALSE))","v":""},null,{"$f":"IF(E848=\"\",\"\",VLOOKUP(E848,PARAMETROS!$I$3:$J$21,2,FALSE))","v":""},null,null,null,null,null,null,""]
[null,{"$f":"IF(A849=\"\",\"\",VLOOKUP(A849,PARAMETROS!$B$3:$C$3,2,FALSE))","v":""},null,{"$f":"IF(C849=\"\",\"\",VLOOKUP(C849,PARAMETROS!$G$3:$H$21,2,FALSE))","v":""},null,{"$f":"IF(E849=\"\",\"\",VLOOKUP(E849,PARAMETROS!$I$3:$J$21,2,FALSE))","v":""},null,null,null,null,null,null,""]
[null,{"$f":"IF(A850=\"\",\"\",VLOOKUP(A850,PARAMETROS!$B$3:$C$3,2,FALSE))","v":""},null,{"$f":"IF(C850=\"\",\"\",VLOOKUP(C850,PARAMETROS!$G$3:$H$21,2,FALSE))","v":""},null,{"$f":"IF(E850=\"\",\"\",VLOOKUP(E850,PARAMETROS!$I$3:$J$21,2,FALSE))","v":""},null,null,null,null,null,null,""]
[null,{"$f":"IF(A851=\"\",\"\",VLOOKUP(A851,PARAMETROS!$B$3:$C$3,2,FALSE))","v":""},null,{"$f":"IF(C851=\"\",\"\",VLOOKUP(C851,PARAMETROS!$G$3:$H$21,2,FALSE))","v":""},null,{"$f":"IF(E851=\"\",\"\",VLOOKUP(E851,PARAMETROS!$I$3:$J$21,2,FALSE))","v":""},null,null,null,null,null,null,""]
[null,{"$f":"IF(A852=\"\",\"\",VLOOKUP(A852,PARAMETROS!$B$3:$C$3,2,FALSE))","v":""},null,{"$f":"IF(C852=\"\",\"\",VLOOKUP(C852,PARAMETROS!$G$3:$H$21,2,FALSE))","v":""},null,{"$f":"IF(E852=\"\",\"\",VLOOKUP(E852,PARAMETROS!$I$3:$J$21,2,FALSE))","v":""},null,null,null,null,null,null,""]
[null,{"$f":"IF(A853=\"\",\"\",VLOOKUP(A853,PARAMETROS!$B$3:$C$3,2,FALSE))","v":""},null,{"$f":"IF(C853=\"\",\"\",VLOOKUP(C853,PARAMETROS!$G$3:$H$21,2,FALSE))","v":""},null,{"$f":"IF(E853=\"\",\"\",VLOOKUP(E853,PARAMETROS!$I$3:$J$21,2,FALSE))","v":""},null,null,null,null,null,null,""]
[null,{"$f":"IF(A854=\"\",\"\",VLOOKUP(A854,PARAMETROS!$B$3:$C$3,2,FALSE))","v":""},null,{"$f":"IF(C854=\"\",\"\",VLOOKUP(C854,PARAMETROS!$G$3:$H$21,2,FALSE))","v":""},null,{"$f":"IF(E854=\"\",\"\",VLOOKUP(E854,PARAMETROS!$I$3:$J$21,2,FALSE))","v":""},null,null,null,null,null,null,""]
[null,{"$f":"IF(A855=\"\",\"\",VLOOKUP(A855,PARAMETROS!$B$3:$C$3,2,FALSE))","v":""},null,{"$f":"IF(C855=\"\",\"\",VLOOKUP(C855,PARAMETROS!$G$3:$H$21,2,FALSE))","v":""},null,{"$f":"IF(E855=\"\",\"\",VLOOKUP(E855,PARAMETROS!$I$3:$J$21,2,FALSE))","v":""},null,null,null,null,null,null,""]
[null,{"$f":"IF(A856=\"\",\"\",VLOOKUP(A856,PARAMETROS!$B$3:$C$3,2,FALSE))","v":""},null,{"$f":"IF(C856=\"\",\"\",VLOOKUP(C856,PARAMETROS!$G$3:$H$21,2,FALSE))","v":""},null,{"$f":"IF(E856=\"\",\"\",VLOOKUP(E856,PARAMETROS!$I$3:$J$21,2,FALSE))","v":""},null,null,null,null,null,null,""]
[null,{"$f":"IF(A857=\"\",\"\",VLOOKUP(A857,PARAMETROS!$B$3:$C$3,2,FALSE))","v":""},null,{"$f":"IF(C857=\"\",\"\",VLOOKUP(C857,PARAMETROS!$G$3:$H$21,2,FALSE))","v":""},null,{"$f":"IF(E857=\"\",\"\",VLOOKUP(E857,PARAMETROS!$I$3:$J$21,2,FALSE))","v":""},null,null,null,null,null,null,""]
[null,{"$f":"IF(A858=\"\",\"\",VLOOKUP(A858,PARAMETROS!$B$3:$C$3,2,FALSE))","v":""},null,{"$f":"IF(C858=\"\",\"\",VLOOKUP(C858,PARAMETROS!$G$3:$H$21,2,FALSE))","v":""},null,{"$f":"IF(E858=\"\",\"\",VLOOKUP(E858,PARAMETROS!$I$3:$J$21,2,FALSE))","v":""},null,null,null,null,null,null,""]
[null,{"$f":"IF(A859=\"\",\"\",VLOOKUP(A859,PARAMETROS!$B$3:$C$3,2,FALSE))","v":""},null,{"$f":"IF(C859=\"\",\"\",VLOOKUP(C859,PARAMETROS!$G$3:$H$21,2,FALSE))","v":""},null,{"$f":"IF(E859=\"\",\"\",VLOOKUP(E859,PARAMETROS!$I$3:$J$21,2,FALSE))","v":""},null,null,null,null,null,null,""]
[null,{"$f":"IF(A860=\"\",\"\",VLOOKUP(A860,PARAMETROS!$B$3:$C$3,2,FALSE))","v":""},null,{"$f":"IF(C860=\"\",\"\",VLOOKUP(C860,PARAMETROS!$G$3:$H$21,2,FALSE))","v":""},null,{"$f":"IF(E860=\"\",\"\",VLOOKUP(E860,PARAMETROS!$I$3:$J$21,2,FALSE))","v":""},null,null,null,null,null,null,""]
[null,{"$f":"IF(A861=\"\",\"\",VLOOKUP(A861,PARAMETROS!$B$3:$C$3,2,FALSE))","v":""},null,{"$f":"IF(C861=\"\",\"\",VLOOKUP(C861,PARAMETROS!$G$3:$H$21,2,FALSE))","v":""},null,{"$f":"IF(E861=\"\",\"\",VLOOKUP(E861,PARAMETROS!$I$3:$J$21,2,FALSE))","v":""},null,null,null,null,null,null,""]
[null,{"$f":"IF(A862=\"\",\"\",VLOOKUP(A862,PARAMETROS!$B$3:$C$3,2,FALSE))","v":""},null,{"$f":"IF(C862=\"\",\"\",VLOOKUP(C862,PARAMETROS!$G$3:$H$21,2,FALSE))","v":""},null,{"$f":"IF(E862=\"\",\"\",VLOOKUP(E862,PARAMETROS!$I$3:$J$21,2,FALSE))","v":""},null,null,null,null,null,null,""]
[null,{"$f":"IF(A863=\"\",\"\",VLOOKUP(A863,PARAMETROS!$B$3:$C$3,2,FALSE))","v":""},null,{"$f":"IF(C863=\"\",\"\",VLOOKUP(C863,PARAMETROS!$G$3:$H$21,2,FALSE))","v":""},null,{"$f":"IF(E863=\"\",\"\",VLOOKUP(E863,PARAMETROS!$I$3:$J$21,2,FALSE))","v":""},null,null,null,null,null,null,""]
[null,{"$f":"IF(A864=\"\",\"\",VLOOKUP(A864,PARAMETROS!$B$3:$C$3,2,FALSE))","v":""},null,{"$f":"IF(C864=\"\",\"\",VLOOKUP(C864,PARAMETROS!$G$3:$H$21,2,FALSE))","v":""},null,{"$f":"IF(E864=\"\",\"\",VLOOKUP(E864,PARAMETROS!$I$3:$J$21,2,FALSE))","v":""},null,null,null,null,null,null,""]
[null,{"$f":"IF(A865=\"\",\"\",VLOOKUP(A865,PARAMETROS!$B$3:$C$3,2,FALSE))","v":""},null,{"$f":"IF(C865=\"\",\"\",VLOOKUP(C865,PARAMETROS!$G$3:$H$21,2,FALSE))","v":""},null,{"$f":"IF(E865=\"\",\"\",VLOOKUP(E865,PARAMETROS!$I$3:$J$21,2,FALSE))","v":""},null,null,null,null,null,null,""]
[null,{"$f":"IF(A866=\"\",\"\",VLOOKUP(A866,PARAMETROS!$B$3:$C$3,2,FALSE))","v":""},null,{"$f":"IF(C866=\"\",\"\",VLOOKUP(C866,PARAMETROS!$G$3:$H$21,2,FALSE))","v":""},null,{"$f":"IF(E866=\"\",\"\",VLOOKUP(E866,PARAMETROS!$I$3:$J$21,2,FALSE))","v":""},null,null,null,null,null,null,""]
[null,{"$f":"IF(A867=\"\",\"\",VLOOKUP(A867,PARAMETROS!$B$3:$C$3,2,FALSE))","v":""},null,{"$f":"IF(C867=\"\",\"\",VLOOKUP(C867,PARAMETROS!$G$3:$H$21,2,FALSE))","v":""},null,{"$f":"IF(E867=\"\",\"\",VLOOKUP(E867,PARAMETROS!$I$3:$J$21,2,FALSE))","v":""},null,null,null,null,null,null,""]
[null,{"$f":"IF(A868=\"\",\"\",VLOOKUP(A868,PARAMETROS!$B$3:$C$3,2,FALSE))","v":""},null,{"$f":"IF(C868=\"\",\"\",VLOOKUP(C868,PARAMETROS!$G$3:$H$21,2,FALSE))","v":""},null,{"$f":"IF(E868=\"\",\"\",VLOOKUP(E868,PARAMETROS!$I$3:$J$21,2,FALSE))","v":""},null,null,null,null,null,null,""]
[null,{"$f":"IF(A869=\"\",\"\",VLOOKUP(A869,PARAMETROS!$B$3:$C$3,2,FALSE))","v":""},null,{"$f":"IF(C869=\"\",\"\",VLOOKUP(C869,PARAMETROS!$G$3:$H$21,2,FALSE))","v":""},null,{"$f":"IF(E869=\"\",\"\",VLOOKUP(E869,PARAMETROS!$I$3:$J$21,2,FALSE))","v":""},null,null,null,null,null,null,""]
[null,{"$f":"IF(A870=\"\",\"\",VLOOKUP(A870,PARAMETROS!$B$3:$C$3,2,FALSE))","v":""},null,{"$f":"IF(C870=\"\",\"\",VLOOKUP(C870,PARAMETROS!$G$3:$H$21,2,FALSE))","v":""},null,{"$f":"IF(E870=\"\",\"\",VLOOKUP(E870,PARAMETROS!$I$3:$J$21,2,FALSE))","v":""},null,null,null,null,null,null,""]
[null,{"$f":"IF(A871=\"\",\"\",VLOOKUP(A871,PARAMETROS!$B$3:$C$3,2,FALSE))","v":""},null,{"$f":"IF(C871=\"\",\"\",VLOOKUP(C871,PARAMETROS!$G$3:$H$21,2,FALSE))","v":""},null,{"$f":"IF(E871=\"\",\"\",VLOOKUP(E871,PARAMETROS!$I$3:$J$21,2,FALSE))","v":""},null,null,null,null,null,null,""]
[null,{"$f":"IF(A872=\"\",\"\",VLOOKUP(A872,PARAMETROS!$B$3:$C$3,2,FALSE))","v":""},null,{"$f":"IF(C872=\"\",\"\",VLOOKUP(C872,PARAMETROS!$G$3:$H$21,2,FALSE))","v":""},null,{"$f":"IF(E872=\"\",\"\",VLOOKUP(E872,PARAMETROS!$I$3:$J$21,2,FALSE))","v":""},null,null,null,null,null,null,""]
[null,{"$f":"IF(A873=\"\",\"\",VLOOKUP(A873,PARAMETROS!$B$3:$C$3,2,FALSE))","v":""},null,{"$f":"IF(C873=\"\",\"\",VLOOKUP(C873,PARAMETROS!$G$3:$H$21,2,FALSE))","v":""},null,{"$f":"IF(E873=\"\",\"\",VLOOKUP(E873,PARAMETROS!$I$3:$J$21,2,FALSE))","v":""},null,null,null,null,null,null,""]
[null,{"$f":"IF(A874=\"\",\"\",VLOOKUP(A874,PARAMETROS!$B$3:$C$3,2,FALSE))","v":""},null,{"$f":"IF(C874=\"\",\"\",VLOOKUP(C874,PARAMETROS!$G$3:$H$21,2,FALSE))","v":""},null,{"$f":"IF(E874=\"\",\"\",VLOOKUP(E874,PARAMETROS!$I$3:$J$21,2,FALSE))","v":""},null,null,null,null,null,null,""]
[null,{"$f":"IF(A875=\"\",\"\",VLOOKUP(A875,PARAMETROS!$B$3:$C$3,2,FALSE))","v":""},null,{"$f":"IF(C875=\"\",\"\",VLOOKUP(C875,PARAMETROS!$G$3:$H$21,2,FALSE))","v":""},null,{"$f":"IF(E875=\"\",\"\",VLOOKUP(E875,PARAMETROS!$I$3:$J$21,2,FALSE))","v":""},null,null,null,null,null,null,""]
[null,{"$f":"IF(A876=\"\",\"\",VLOOKUP(A876,PARAMETROS!$B$3:$C$3,2,FALSE))","v":""},null,{"$f":"IF(C876=\"\",\"\",VLOOKUP(C876,PARAMETROS!$G$3:$H$21,2,FALSE))","v":""},null,{"$f":"IF(E876=\"\",\"\",VLOOKUP(E876,PARAMETROS!$I$3:$J$21,2,FALSE))","v":""},null,null,null,null,null,null,""]
[null,{"$f":"IF(A877=\"\",\"\",VLOOKUP(A877,PARAMETROS!$B$3:$C$3,2,FALSE))","v":""},null,{"$f":"IF(C877=\"\",\"\",VLOOKUP(C877,PARAMETROS!$G$3:$H$21,2,FALSE))","v":""},null,{"$f":"IF(E877=\"\",\"\",VLOOKUP(E877,PARAMETROS!$I$3:$J$21,2,FALSE))","v":""},null,null,null,null,null,null,""]
[null,{"$f":"IF(A878=\"\",\"\",VLOOKUP(A878,PARAMETROS!$B$3:$C$3,2,FALSE))","v":""},null,{"$f":"IF(C878=\"\",\"\",VLOOKUP(C878,PARAMETROS!$G$3:$H$21,2,FALSE))","v":""},null,{"$f":"IF(E878=\"\",\"\",VLOOKUP(E878,PARAMETROS!$I$3:$J$21,2,FALSE))","v":""},null,null,null,null,null,null,""]
[null,{"$f":"IF(A879=\"\",\"\",VLOOKUP(A879,PARAMETROS!$B$3:$C$3,2,FALSE))","v":""},null,{"$f":"IF(C879=\"\",\"\",VLOOKUP(C879,PARAMETROS!$G$3:$H$21,2,FALSE))","v":""},null,{"$f":"IF(E879=\"\",\"\",VLOOKUP(E879,PARAMETROS!$I$3:$J$21,2,FALSE))","v":""},null,null,null,null,null,null,""]
[null,{"$f":"IF(A880=\"\",\"\",VLOOKUP(A880,PARAMETROS!$B$3:$C$3,2,FALSE))","v":""},null,{"$f":"IF(C880=\"\",\"\",VLOOKUP(C880,PARAMETROS!$G$3:$H$21,2,FALSE))","v":""},null,{"$f":"IF(E880=\"\",\"\",VLOOKUP(E880,PARAMETROS!$I$3:$J$21,2,FALSE))","v":""},null,null,null,null,null,null,""]
[null,{"$f":"IF(A881=\"\",\"\",VLOOKUP(A881,PARAMETROS!$B$3:$C$3,2,FALSE))","v":""},null,{"$f":"IF(C881=\"\",\"\",VLOOKUP(C881,PARAMETROS!$G$3:$H$21,2,FALSE))","v":""},null,{"$f":"IF(E881=\"\",\"\",VLOOKUP(E881,PARAMETROS!$I$3:$J$21,2,FALSE))","v":""},null,null,null,null,null,null,""]
[null,{"$f":"IF(A882=\"\",\"\",VLOOKUP(A882,PARAMETROS!$B$3:$C$3,2,FALSE))","v":""},null,{"$f":"IF(C882=\"\",\"\",VLOOKUP(C882,PARAMETROS!$G$3:$H$21,2,FALSE))","v":""},null,{"$f":"IF(E882=\"\",\"\",VLOOKUP(E882,PARAMETROS!$I$3:$J$21,2,FALSE))","v":""},null,null,null,null,null,null,""]
[null,{"$f":"IF(A883=\"\",\"\",VLOOKUP(A883,PARAMETROS!$B$3:$C$3,2,FALSE))","v":""},null,{"$f":"IF(C883=\"\",\"\",VLOOKUP(C883,PARAMETROS!$G$3:$H$21,2,FALSE))","v":""},null,{"$f":"IF(E883=\"\",\"\",VLOOKUP(E883,PARAMETROS!$I$3:$J$21,2,FALSE))","v":""},null,null,null,null,null,null,""]
[null,{"$f":"IF(A884=\"\",\"\",VLOOKUP(A884,PARAMETROS!$B$3:$C$3,2,FALSE))","v":""},null,{"$f":"IF(C884=\"\",\"\",VLOOKUP(C884,PARAMETROS!$G$3:$H$21,2,FALSE))","v":""},null,{"$f":"IF(E884=\"\",\"\",VLOOKUP(E884,PARAMETROS!$I$3:$J$21,2,FALSE))","v":""},null,null,null,null,null,null,""]
[null,{"$f":"IF(A885=\"\",\"\",VLOOKUP(A885,PARAMETROS!$B$3:$C$3,2,FALSE))","v":""},null,{"$f":"IF(C885=\"\",\"\",VLOOKUP(C885,PARAMETROS!$G$3:$H$21,2,FALSE))","v":""},null,{"$f":"IF(E885=\"\",\"\",VLOOKUP(E885,PARAMETROS!$I$3:$J$21,2,FALSE))","v":""},null,null,null,null,null,null,""]
[null,{"$f":"IF(A886=\"\",\"\",VLOOKUP(A886,PARAMETROS!$B$3:$C$3,2,FALSE))","v":""},null,{"$f":"IF(C886=\"\",\"\",VLOOKUP(C886,PARAMETROS!$G$3:$H$21,2,FALSE))","v":""},null,{"$f":"IF(E886=\"\",\"\",VLOOKUP(E886,PARAMETROS!$I$3:$J$21,2,FALSE))","v":""},null,null,null,null,null,null,""]
[null,{"$f":"IF(A887=\"\",\"\",VLOOKUP(A887,PARAMETROS!$B$3:$C$3,2,FALSE))","v":""},null,{"$f":"IF(C887=\"\",\"\",VLOOKUP(C887,PARAMETROS!$G$3:$H$21,2,FALSE))","v":""},null,{"$f":"IF(E887=\"\",\"\",VLOOKUP(E887,PARAMETROS!$I$3:$J$21,2,FALSE))","v":""},null,null,null,null,null,null,""]
[null,{"$f":"IF(A888=\"\",\"\",VLOOKUP(A888,PARAMETROS!$B$3:$C$3,2,FALSE))","v":""},null,{"$f":"IF(C888=\"\",\"\",VLOOKUP(C888,PARAMETROS!$G$3:$H$21,2,FALSE))","v":""},null,{"$f":"IF(E888=\"\",\"\",VLOOKUP(E888,PARAMETROS!$I$3:$J$21,2,FALSE))","v":""},null,null,null,null,null,null,""]
[null,{"$f":"IF(A889=\"\",\"\",VLOOKUP(A889,PARAMETROS!$B$3:$C$3,2,FALSE))","v":""},null,{"$f":"IF(C889=\"\",\"\",VLOOKUP(C889,PARAMETROS!$G$3:$H$21,2,FALSE))","v":""},null,{"$f":"IF(E889=\"\",\"\",VLOOKUP(E889,PARAMETROS!$I$3:$J$21,2,FALSE))","v":""},null,null,null,null,null,null,""]
[null,{"$f":"IF(A890=\"\",\"\",VLOOKUP(A890,PARAMETROS!$B$3:$C$3,2,FALSE))","v":""},null,{"$f":"IF(C890=\"\",\"\",VLOOKUP(C890,PARAMETROS!$G$3:$H$21,2,FALSE))","v":""},null,{"$f":"IF(E890=\"\",\"\",VLOOKUP(E890,PARAMETROS!$I$3:$J$21,2,FALSE))","v":""},null,null,null,null,null,null,""]
[null,{"$f":"IF(A891=\"\",\"\",VLOOKUP(A891,PARAMETROS!$B$3:$C$3,2,FALSE))","v":""},null,{"$f":"IF(C891=\"\",\"\",VLOOKUP(C891,PARAMETROS!$G$3:$H$21,2,FALSE))","v":""},null,{"$f":"IF(E891=\"\",\"\",VLOOKUP(E891,PARAMETROS!$I$3:$J$21,2,FALSE))","v":""},null,null,null,null,null,null,""]
[null,{"$f":"IF(A892=\"\",\"\",VLOOKUP(A892,PARAMETROS!$B$3:$C$3,2,FALSE))","v":""},null,{"$f":"IF(C892=\"\",\"\",VLOOKUP(C892,PARAMETROS!$G$3:$H$21,2,FALSE))","v":""},null,{"$f":"IF(E892=\"\",\"\",VLOOKUP(E892,PARAMETROS!$I$3:$J$21,2,FALSE))","v":""},null,null,null,null,null,null,""]
[null,{"$f":"IF(A893=\"\",\"\",VLOOKUP(A893,PARAMETROS!$B$3:$C$3,2,FALSE))","v":""},null,{"$f":"IF(C893=\"\",\"\",VLOOKUP(C893,PARAMETROS!$G$3:$H$21,2,FALSE))","v":""},null,{"$f":"IF(E893=\"\",\"\",VLOOKUP(E893,PARAMETROS!$I$3:$J$21,2,FALSE))","v":""},null,null,null,null,null,null,""]
[null,{"$f":"IF(A894=\"\",\"\",VLOOKUP(A894,PARAMETROS!$B$3:$C$3,2,FALSE))","v":""},null,{"$f":"IF(C894=\"\",\"\",VLOOKUP(C894,PARAMETROS!$G$3:$H$21,2,FALSE))","v":""},null,{"$f":"IF(E894=\"\",\"\",VLOOKUP(E894,PARAMETROS!$I$3:$J$21,2,FALSE))","v":""},null,null,null,null,null,null,""]
[null,{"$f":"IF(A895=\"\",\"\",VLOOKUP(A895,PARAMETROS!$B$3:$C$3,2,FALSE))","v":""},null,{"$f":"IF(C895=\"\",\"\",VLOOKUP(C895,PARAMETROS!$G$3:$H$21,2,FALSE))","v":""},null,{"$f":"IF(E895=\"\",\"\",VLOOKUP(E895,PARAMETROS!$I$3:$J$21,2,FALSE))","v":""},null,null,null,null,null,null,""]
[null,{"$f":"IF(A896=\"\",\"\",VLOOKUP(A896,PARAMETROS!$B$3:$C$3,2,FALSE))","v":""},null,{"$f":"IF(C896=\"\",\"\",VLOOKUP(C896,PARAMETROS!$G$3:$H$21,2,FALSE))","v":""},null,{"$f":"IF(E896=\"\",\"\",VLOOKUP(E896,PARAMETROS!$I$3:$J$21,2,FALSE))","v":""},null,null,null,null,null,null,""]
[null,{"$f":"IF(A897=\"\",\"\",VLOOKUP(A897,PARAMETROS!$B$3:$C$3,2,FALSE))","v":""},null,{"$f":"IF(C897=\"\",\"\",VLOOKUP(C897,PARAMETROS!$G$3:$H$21,2,FALSE))","v":""},null,{"$f":"IF(E897=\"\",\"\",VLOOKUP(E897,PARAMETROS!$I$3:$J$21,2,FALSE))","v":""},null,null,null,null,null,null,""]
[null,{"$f":"IF(A898=\"\",\"\",VLOOKUP(A898,PARAMETROS!$B$3:$C$3,2,FALSE))","v":""},null,{"$f":"IF(C898=\"\",\"\",VLOOKUP(C898,PARAMETROS!$G$3:$H$21,2,FALSE))","v":""},null,{"$f":"IF(E898=\"\",\"\",VLOOKUP(E898,PARAMETROS!$I$3:$J$21,2,FALSE))","v":""},null,null,null,null,null,null,""]
[null,{"$f":"IF(A899=\"\",\"\",VLOOKUP(A899,PARAMETROS!$B$3:$C$3,2,FALSE))","v":""},null,{"$f":"IF(C899=\"\",\"\",VLOOKUP(C899,PARAMETROS!$G$3:$H$21,2,FALSE))","v":""},null,{"$f":"IF(E899=\"\",\"\",VLOOKUP(E899,PARAMETROS!$I$3:$J$21,2,FALSE))","v":""},null,null,null,null,null,null,""]
[null,{"$f":"IF(A900=\"\",\"\",VLOOKUP(A900,PARAMETROS!$B$3:$C$3,2,FALSE))","v":""},null,{"$f":"IF(C900=\"\",\"\",VLOOKUP(C900,PARAMETROS!$G$3:$H$21,2,FALSE))","v":""},null,{"$f":"IF(E900=\"\",\"\",VLOOKUP(E900,PARAMETROS!$I$3:$J$21,2,FALSE))","v":""},null,null,null,null,null,null,""]
[null,{"$f":"IF(A901=\"\",\"\",VLOOKUP(A901,PARAMETROS!$B$3:$C$3,2,FALSE))","v":""},null,{"$f":"IF(C901=\"\",\"\",VLOOKUP(C901,PARAMETROS!$G$3:$H$21,2,FALSE))","v":""},null,{"$f":"IF(E901=\"\",\"\",VLOOKUP(E901,PARAMETROS!$I$3:$J$21,2,FALSE))","v":""},null,null,null,null,null,null,""]
[null,{"$f":"IF(A902=\"\",\"\",VLOOKUP(A902,PARAMETROS!$B$3:$C$3,2,FALSE))","v":""},null,{"$f":"IF(C902=\"\",\"\",VLOOKUP(C902,PARAMETROS!$G$3:$H$21,2,FALSE))","v":""},null,{"$f":"IF(E902=\"\",\"\",VLOOKUP(E902,PARAMETROS!$I$3:$J$21,2,FALSE))","v":""},null,null,null,null,null,null,""]
[null,{"$f":"IF(A903=\"\",\"\",VLOOKUP(A903,PARAMETROS!$B$3:$C$3,2,FALSE))","v":""},null,{"$f":"IF(C903=\"\",\"\",VLOOKUP(C903,PARAMETROS!$G$3:$H$21,2,FALSE))","v":""},null,{"$f":"IF(E903=\"\",\"\",VLOOKUP(E903,PARAMETROS!$I$3:$J$21,2,FALSE))","v":""},null,null,null,null,null,null,""]
[null,{"$f":"IF(A904=\"\",\"\",VLOOKUP(A904,PARAMETROS!$B$3:$C$3,2,FALSE))","v":""},null,{"$f":"IF(C904=\"\",\"\",VLOOKUP(C904,PARAMETROS!$G$3:$H$21,2,FALSE))","v":""},null,{"$f":"IF(E904=\"\",\"\",VLOOKUP(E904,PARAMETROS!$I$3:$J$21,2,FALSE))","v":""},null,null,null,null,null,null,""]
[null,{"$f":"IF(A905=\"\",\"\",VLOOKUP(A905,PARAMETROS!$B$3:$C$3,2,FALSE))","v":""},null,{"$f":"IF(C905=\"\",\"\",VLOOKUP(C905,PARAMETROS!$G$3:$H$21,2,FALSE))","v":""},null,{"$f":"IF(E905=\"\",\"\",VLOOKUP(E905,PARAMETROS!$I$3:$J$21,2,FALSE))","v":""},null,null,null,null,null,null,""]
[null,{"$f":"IF(A906=\"\",\"\",VLOOKUP(A906,PARAMETROS!$B$3:$C$3,2,FALSE))","v":""},null,{"$f":"IF(C906=\"\",\"\",VLOOKUP(C906,PARAMETROS!$G$3:$H$21,2,FALSE))","v":""},null,{"$f":"IF(E906=\"\",\"\",VLOOKUP(E906,PARAMETROS!$I$3:$J$21,2,FALSE))","v":""},null,null,null,null,null,null,""]
[null,{"$f":"IF(A907=\"\",\"\",VLOOKUP(A907,PARAMETROS!$B$3:$C$3,2,FALSE))","v":""},null,{"$f":"IF(C907=\"\",\"\",VLOOKUP(C907,PARAMETROS!$G$3:$H$21,2,FALSE))","v":""},null,{"$f":"IF(E907=\"\",\"\",VLOOKUP(E907,PARAMETROS!$I$3:$J$21,2,FALSE))","v":""},null,null,null,null,null,null,""]
[null,{"$f":"IF(A908=\"\",\"\",VLOOKUP(A908,PARAMETROS!$B$3:$C$3,2,FALSE))","v":""},null,{"$f":"IF(C908=\"\",\"\",VLOOKUP(C908,PARAMETROS!$G$3:$H$21,2,FALSE))","v":""},null,{"$f":"IF(E908=\"\",\"\",VLOOKUP(E908,PARAMETROS!$I$3:$J$21,2,FALSE))","v":""},null,null,null,null,null,null,""]
[null,{"$f":"IF(A909=\"\",\"\",VLOOKUP(A909,PARAMETROS!$B$3:$C$3,2,FALSE))","v":""},null,{"$f":"IF(C909=\"\",\"\",VLOOKUP(C909,PARAMETROS!$G$3:$H$21,2,FALSE))","v":""},null,{"$f":"IF(E909=\"\",\"\",VLOOKUP(E909,PARAMETROS!$I$3:$J$21,2,FALSE))","v":""},null,null,null,null,null,null,""]
[null,{"$f":"IF(A910=\"\",\"\",VLOOKUP(A910,PARAMETROS!$B$3:$C$3,2,FALSE))","v":""},null,{"$f":"IF(C910=\"\",\"\",VLOOKUP(C910,PARAMETROS!$G$3:$H$21,2,FALSE))","v":""},null,{"$f":"IF(E910=\"\",\"\",VLOOKUP(E910,PARAMETROS!$I$3:$J$21,2,FALSE))","v":""},null,null,null,null,null,null,""]
[null,{"$f":"IF(A911=\"\",\"\",VLOOKUP(A911,PARAMETROS!$B$3:$C$3,2,FALSE))","v":""},null,{"$f":"IF(C911=\"\",\"\",VLOOKUP(C911,PARAMETROS!$G$3:$H$21,2,FALSE))","v":""},null,{"$f":"IF(E911=\"\",\"\",VLOOKUP(E911,PARAMETROS!$I$3:$J$21,2,FALSE))","v":""},null,null,null,null,null,null,{"$f":"IF(L911=\"\", \"\", L911)","v":""}]
[null,{"$f":"IF(A912=\"\",\"\",VLOOKUP(A912,PARAMETROS!$B$3:$C$3,2,FALSE))","v":""},null,{"$f":"IF(C912=\"\",\"\",VLOOKUP(C912,PARAMETROS!$G$3:$H$21,2,FALSE))","v":""},null,{"$f":"IF(E912=\"\",\"\",VLOOKUP(E912,PARAMETROS!$I$3:$J$21,2,FALSE))","v":""},null,null,null,null,null,null,""]
[null,{"$f":"IF(A913=\"\",\"\",VLOOKUP(A913,PARAMETROS!$B$3:$C$3,2,FALSE))","v":""},null,{"$f":"IF(C913=\"\",\"\",VLOOKUP(C913,PARAMETROS!$G$3:$H$21,2,FALSE))","v":""},null,{"$f":"IF(E913=\"\",\"\",VLOOKUP(E913,PARAMETROS!$I$3:$J$21,2,FALSE))","v":""},null,null,null,null,null,null,""]
[null,{"$f":"IF(A914=\"\",\"\",VLOOKUP(A914,PARAMETROS!$B$3:$C$3,2,FALSE))","v":""},null,{"$f":"IF(C914=\"\",\"\",VLOOKUP(C914,PARAMETROS!$G$3:$H$21,2,FALSE))","v":""},null,{"$f":"IF(E914=\"\",\"\",VLOOKUP(E914,PARAMETROS!$I$3:$J$21,2,FALSE))","v":""},null,null,null,null,null,null,""]
[null,{"$f":"IF(A915=\"\",\"\",VLOOKUP(A915,PARAMETROS!$B$3:$C$3,2,FALSE))","v":""},null,{"$f":"IF(C915=\"\",\"\",VLOOKUP(C915,PARAMETROS!$G$3:$H$21,2,FALSE))","v":""},null,{"$f":"IF(E915=\"\",\"\",VLOOKUP(E915,PARAMETROS!$I$3:$J$21,2,FALSE))","v":""},null,null,null,null,null,null,""]
[null,{"$f":"IF(A916=\"\",\"\",VLOOKUP(A916,PARAMETROS!$B$3:$C$3,2,FALSE))","v":""},null,{"$f":"IF(C916=\"\",\"\",VLOOKUP(C916,PARAMETROS!$G$3:$H$21,2,FALSE))","v":""},null,{"$f":"IF(E916=\"\",\"\",VLOOKUP(E916,PARAMETROS!$I$3:$J$21,2,FALSE))","v":""},null,null,null,null,null,null,""]
[null,{"$f":"IF(A917=\"\",\"\",VLOOKUP(A917,PARAMETROS!$B$3:$C$3,2,FALSE))","v":""},null,{"$f":"IF(C917=\"\",\"\",VLOOKUP(C917,PARAMETROS!$G$3:$H$21,2,FALSE))","v":""},null,{"$f":"IF(E917=\"\",\"\",VLOOKUP(E917,PARAMETROS!$I$3:$J$21,2,FALSE))","v":""},null,null,null,null,null,null,""]
[null,{"$f":"IF(A918=\"\",\"\",VLOOKUP(A918,PARAMETROS!$B$3:$C$3,2,FALSE))","v":""},null,{"$f":"IF(C918=\"\",\"\",VLOOKUP(C918,PARAMETROS!$G$3:$H$21,2,FALSE))","v":""},null,{"$f":"IF(E918=\"\",\"\",VLOOKUP(E918,PARAMETROS!$I$3:$J$21,2,FALSE))","v":""},null,null,null,null,null,null,""]
[null,{"$f":"IF(A919=\"\",\"\",VLOOKUP(A919,PARAMETROS!$B$3:$C$3,2,FALSE))","v":""},null,{"$f":"IF(C919=\"\",\"\",VLOOKUP(C919,PARAMETROS!$G$3:$H$21,2,FALSE))","v":""},null,{"$f":"IF(E919=\"\",\"\",VLOOKUP(E919,PARAMETROS!$I$3:$J$21,2,FALSE))","v":""},null,null,null,null,null,null,""]
[null,{"$f":"IF(A920=\"\",\"\",VLOOKUP(A920,PARAMETROS!$B$3:$C$3,2,FALSE))","v":""},null,{"$f":"IF(C920=\"\",\"\",VLOOKUP(C920,PARAMETROS!$G$3:$H$21,2,FALSE))","v":""},null,{"$f":"IF(E920=\"\",\"\",VLOOKUP(E920,PARAMETROS!$I$3:$J$21,2,FALSE))","v":""},null,null,null,null,null,null,""]
[null,{"$f":"IF(A921=\"\",\"\",VLOOKUP(A921,PARAMETROS!$B$3:$C$3,2,FALSE))","v":""},null,{"$f":"IF(C921=\"\",\"\",VLOOKUP(C921,PARAMETROS!$G$3:$H$21,2,FALSE))","v":""},null,{"$f":"IF(E921=\"\",\"\",VLOOKUP(E921,PARAMETROS!$I$3:$J$21,2,FALSE))","v":""},null,null,null,null,null,null,""]
[null,{"$f":"IF(A922=\"\",\"\",VLOOKUP(A922,PARAMETROS!$B$3:$C$3,2,FALSE))","v":""},null,{"$f":"IF(C922=\"\",\"\",VLOOKUP(C922,PARAMETROS!$G$3:$H$21,2,FALSE))","v":""},null,{"$f":"IF(E922=\"\",\"\",VLOOKUP(E922,PARAMETROS!$I$3:$J$21,2,FALSE))","v":""},null,null,null,null,null,null,""]
[null,{"$f":"IF(A923=\"\",\"\",VLOOKUP(A923,PARAMETROS!$B$3:$C$3,2,FALSE))","v":""},null,{"$f":"IF(C923=\"\",\"\",VLOOKUP(C923,PARAMETROS!$G$3:$H$21,2,FALSE))","v":""},null,{"$f":"IF(E923=\"\",\"\",VLOOKUP(E923,PARAMETROS!$I$3:$J$21,2,FALSE))","v":""},null,null,null,null,null,null,""]
[null,{"$f":"IF(A924=\"\",\"\",VLOOKUP(A924,PARAMETROS!$B$3:$C$3,2,FALSE))","v":""},null,{"$f":"IF(C924=\"\",\"\",VLOOKUP(C924,PARAMETROS!$G$3:$H$21,2,FALSE))","v":""},null,{"$f":"IF(E924=\"\",\"\",VLOOKUP(E924,PARAMETROS!$I$3:$J$21,2,FALSE))","v":""},null,null,null,null,null,null,""]
[null,{"$f":"IF(A925=\"\",\"\",VLOOKUP(A925,PARAMETROS!$B$3:$C$3,2,FALSE))","v":""},null,{"$f":"IF(C925=\"\",\"\",VLOOKUP(C925,PARAMETROS!$G$3:$H$21,2,FALSE))","v":""},null,{"$f":"IF(E925=\"\",\"\",VLOOKUP(E925,PARAMETROS!$I$3:$J$21,2,FALSE))","v":""},null,null,null,null,null,null,""]
[null,{"$f":"IF(A926=\"\",\"\",VLOOKUP(A926,PARAMETROS!$B$3:$C$3,2,FALSE))","v":""},null,{"$f":"IF(C926=\"\",\"\",VLOOKUP(C926,PARAMETROS!$G$3:$H$21,2,FALSE))","v":""},null,{"$f":"IF(E926=\"\",\"\",VLOOKUP(E926,PARAMETROS!$I$3:$J$21,2,FALSE))","v":""},null,null,null,null,null,null,""]
[null,{"$f":"IF(A927=\"\",\"\",VLOOKUP(A927,PARAMETROS!$B$3:$C$3,2,FALSE))","v":""},null,{"$f":"IF(C927=\"\",\"\",VLOOKUP(C927,PARAMETROS!$G$3:$H$21,2,FALSE))","v":""},null,{"$f":"IF(E927=\"\",\"\",VLOOKUP(E927,PARAMETROS!$I$3:$J$21,2,FALSE))","v":""},null,null,null,null,null,null,""]
[null,{"$f":"IF(A928=\"\",\"\",VLOOKUP(A928,PARAMETROS!$B$3:$C$3,2,FALSE))","v":""},null,{"$f":"IF(C928=\"\",\"\",VLOOKUP(C928,PARAMETROS!$G$3:$H$21,2,FALSE))","v":""},null,{"$f":"IF(E928=\"\",\"\",VLOOKUP(E928,PARAMETROS!$I$3:$J$21,2,FALSE))","v":""},null,null,null,null,null,null,""]
[null,{"$f":"IF(A929=\"\",\"\",VLOOKUP(A929,PARAMETROS!$B$3:$C$3,2,FALSE))","v":""},null,{"$f":"IF(C929=\"\",\"\",VLOOKUP(C929,PARAMETROS!$G$3:$H$21,2,FALSE))","v":""},null,{"$f":"IF(E929=\"\",\"\",VLOOKUP(E929,PARAMETROS!$I$3:$J$21,2,FALSE))","v":""},null,null,null,null,null,null,""]
[null,{"$f":"IF(A930=\"\",\"\",VLOOKUP(A930,PARAMETROS!$B$3:$C$3,2,FALSE))","v":""},null,{"$f":"IF(C930=\"\",\"\",VLOOKUP(C930,PARAMETROS!$G$3:$H$21,2,FALSE))","v":""},null,{"$f":"IF(E930=\"\",\"\",VLOOKUP(E930,PARAMETROS!$I$3:$J$21,2,FALSE))","v":""},null,null,null,null,null,null,""]
[null,{"$f":"IF(A931=\"\",\"\",VLOOKUP(A931,PARAMETROS!$B$3:$C$3,2,FALSE))","v":""},null,{"$f":"IF(C931=\"\",\"\",VLOOKUP(C931,PARAMETROS!$G$3:$H$21,2,FALSE))","v":""},null,{"$f":"IF(E931=\"\",\"\",VLOOKUP(E931,PARAMETROS!$I$3:$J$21,2,FALSE))","v":""},null,null,null,null,null,null,""]
[null,{"$f":"IF(A932=\"\",\"\",VLOOKUP(A932,PARAMETROS!$B$3:$C$3,2,FALSE))","v":""},null,{"$f":"IF(C932=\"\",\"\",VLOOKUP(C932,PARAMETROS!$G$3:$H$21,2,FALSE))","v":""},null,{"$f":"IF(E932=\"\",\"\",VLOOKUP(E932,PARAMETROS!$I$3:$J$21,2,FALSE))","v":""},null,null,null,null,null,null,""]
[null,{"$f":"IF(A933=\"\",\"\",VLOOKUP(A933,PARAMETROS!$B$3:$C$3,2,FALSE))","v":""},null,{"$f":"IF(C933=\"\",\"\",VLOOKUP(C933,PARAMETROS!$G$3:$H$21,2,FALSE))","v":""},null,{"$f":"IF(E933=\"\",\"\",VLOOKUP(E933,PARAMETROS!$I$3:$J$21,2,FALSE))","v":""},null,null,null,null,null,null,""]
[null,{"$f":"IF(A934=\"\",\"\",VLOOKUP(A934,PARAMETROS!$B$3:$C$3,2,FALSE))","v":""},null,{"$f":"IF(C934=\"\",\"\",VLOOKUP(C934,PARAMETROS!$G$3:$H$21,2,FALSE))","v":""},null,{"$f":"IF(E934=\"\",\"\",VLOOKUP(E934,PARAMETROS!$I$3:$J$21,2,FALSE))","v":""},null,null,null,null,null,null,""]
[null,{"$f":"IF(A935=\"\",\"\",VLOOKUP(A935,PARAMETROS!$B$3:$C$3,2,FALSE))","v":""},null,{"$f":"IF(C935=\"\",\"\",VLOOKUP(C935,PARAMETROS!$G$3:$H$21,2,FALSE))","v":""},null,{"$f":"IF(E935=\"\",\"\",VLOOKUP(E935,PARAMETROS!$I$3:$J$21,2,FALSE))","v":""},null,null,null,null,null,null,""]
[null,{"$f":"IF(A936=\"\",\"\",VLOOKUP(A936,PARAMETROS!$B$3:$C$3,2,FALSE))","v":""},null,{"$f":"IF(C936=\"\",\"\",VLOOKUP(C936,PARAMETROS!$G$3:$H$21,2,FALSE))","v":""},null,{"$f":"IF(E936=\"\",\"\",VLOOKUP(E936,PARAMETROS!$I$3:$J$21,2,FALSE))","v":""},null,null,null,null,null,null,""]
[null,{"$f":"IF(A937=\"\",\"\",VLOOKUP(A937,PARAMETROS!$B$3:$C$3,2,FALSE))","v":""},null,{"$f":"IF(C937=\"\",\"\",VLOOKUP(C937,PARAMETROS!$G$3:$H$21,2,FALSE))","v":""},null,{"$f":"IF(E937=\"\",\"\",VLOOKUP(E937,PARAMETROS!$I$3:$J$21,2,FALSE))","v":""},null,null,null,null,null,null,""]
[null,{"$f":"IF(A938=\"\",\"\",VLOOKUP(A938,PARAMETROS!$B$3:$C$3,2,FALSE))","v":""},null,{"$f":"IF(C938=\"\",\"\",VLOOKUP(C938,PARAMETROS!$G$3:$H$21,2,FALSE))","v":""},null,{"$f":"IF(E938=\"\",\"\",VLOOKUP(E938,PARAMETROS!$I$3:$J$21,2,FALSE))","v":""},null,null,null,null,null,null,""]
[null,{"$f":"IF(A939=\"\",\"\",VLOOKUP(A939,PARAMETROS!$B$3:$C$3,2,FALSE))","v":""},null,{"$f":"IF(C939=\"\",\"\",VLOOKUP(C939,PARAMETROS!$G$3:$H$21,2,FALSE))","v":""},null,{"$f":"IF(E939=\"\",\"\",VLOOKUP(E939,PARAMETROS!$I$3:$J$21,2,FALSE))","v":""},null,null,null,null,null,null,""]
[null,{"$f":"IF(A940=\"\",\"\",VLOOKUP(A940,PARAMETROS!$B$3:$C$3,2,FALSE))","v":""},null,{"$f":"IF(C940=\"\",\"\",VLOOKUP(C940,PARAMETROS!$G$3:$H$21,2,FALSE))","v":""},null,{"$f":"IF(E940=\"\",\"\",VLOOKUP(E940,PARAMETROS!$I$3:$J$21,2,FALSE))","v":""},null,null,null,null,null,null,""]
[null,{"$f":"IF(A941=\"\",\"\",VLOOKUP(A941,PARAMETROS!$B$3:$C$3,2,FALSE))","v":""},null,{"$f":"IF(C941=\"\",\"\",VLOOKUP(C941,PARAMETROS!$G$3:$H$21,2,FALSE))","v":""},null,{"$f":"IF(E941=\"\",\"\",VLOOKUP(E941,PARAMETROS!$I$3:$J$21,2,FALSE))","v":""},null,null,null,null,null,null,""]
[null,{"$f":"IF(A942=\"\",\"\",VLOOKUP(A942,PARAMETROS!$B$3:$C$3,2,FALSE))","v":""},null,{"$f":"IF(C942=\"\",\"\",VLOOKUP(C942,PARAMETROS!$G$3:$H$21,2,FALSE))","v":""},null,{"$f":"IF(E942=\"\",\"\",VLOOKUP(E942,PARAMETROS!$I$3:$J$21,2,FALSE))","v":""},null,null,null,null,null,null,""]
[null,{"$f":"IF(A943=\"\",\"\",VLOOKUP(A943,PARAMETROS!$B$3:$C$3,2,FALSE))","v":""},null,{"$f":"IF(C943=\"\",\"\",VLOOKUP(C943,PARAMETROS!$G$3:$H$21,2,FALSE))","v":""},null,{"$f":"IF(E943=\"\",\"\",VLOOKUP(E943,PARAMETROS!$I$3:$J$21,2,FALSE))","v":""},null,null,null,null,null,null,""]
[null,{"$f":"IF(A944=\"\",\"\",VLOOKUP(A944,PARAMETROS!$B$3:$C$3,2,FALSE))","v":""},null,{"$f":"IF(C944=\"\",\"\",VLOOKUP(C944,PARAMETROS!$G$3:$H$21,2,FALSE))","v":""},null,{"$f":"IF(E944=\"\",\"\",VLOOKUP(E944,PARAMETROS!$I$3:$J$21,2,FALSE))","v":""},null,null,null,null,null,null,""]
[null,{"$f":"IF(A945=\"\",\"\",VLOOKUP(A945,PARAMETROS!$B$3:$C$3,2,FALSE))","v":""},null,{"$f":"IF(C945=\"\",\"\",VLOOKUP(C945,PARAMETROS!$G$3:$H$21,2,FALSE))","v":""},null,{"$f":"IF(E945=\"\",\"\",VLOOKUP(E945,PARAMETROS!$I$3:$J$21,2,FALSE))","v":""},null,null,null,null,null,null,""]
[null,{"$f":"IF(A946=\"\",\"\",VLOOKUP(A946,PARAMETROS!$B$3:$C$3,2,FALSE))","v":""},null,{"$f":"IF(C946=\"\",\"\",VLOOKUP(C946,PARAMETROS!$G$3:$H$21,2,FALSE))","v":""},null,{"$f":"IF(E946=\"\",\"\",VLOOKUP(E946,PARAMETROS!$I$3:$J$21,2,FALSE))","v":""},null,null,null,null,null,null,""]
[null,{"$f":"IF(A947=\"\",\"\",VLOOKUP(A947,PARAMETROS!$B$3:$C$3,2,FALSE))","v":""},null,{"$f":"IF(C947=\"\",\"\",VLOOKUP(C947,PARAMETROS!$G$3:$H$21,2,FALSE))","v":""},null,{"$f":"IF(E947=\"\",\"\",VLOOKUP(E947,PARAMETROS!$I$3:$J$21,2,FALSE))","v":""},null,null,null,null,null,null,""]
[null,{"$f":"IF(A948=\"\",\"\",VLOOKUP(A948,PARAMETROS!$B$3:$C$3,2,FALSE))","v":""},null,{"$f":"IF(C948=\"\",\"\",VLOOKUP(C948,PARAMETROS!$G$3:$H$21,2,FALSE))","v":""},null,{"$f":"IF(E948=\"\",\"\",VLOOKUP(E948,PARAMETROS!$I$3:$J$21,2,FALSE))","v":""},null,null,null,null,null,null,""]
[null,{"$f":"IF(A949=\"\",\"\",VLOOKUP(A949,PARAMETROS!$B$3:$C$3,2,FALSE))","v":""},null,{"$f":"IF(C949=\"\",\"\",VLOOKUP(C949,PARAMETROS!$G$3:$H$21,2,FALSE))","v":""},null,{"$f":"IF(E949=\"\",\"\",VLOOKUP(E949,PARAMETROS!$I$3:$J$21,2,FALSE))","v":""},null,null,null,null,null,null,""]
[null,{"$f":"IF(A950=\"\",\"\",VLOOKUP(A950,PARAMETROS!$B$3:$C$3,2,FALSE))","v":""},null,{"$f":"IF(C950=\"\",\"\",VLOOKUP(C950,PARAMETROS!$G$3:$H$21,2,FALSE))","v":""},null,{"$f":"IF(E950=\"\",\"\",VLOOKUP(E950,PARAMETROS!$I$3:$J$21,2,FALSE))","v":""},null,null,null,null,null,null,""]
[null,{"$f":"IF(A951=\"\",\"\",VLOOKUP(A951,PARAMETROS!$B$3:$C$3,2,FALSE))","v":""},null,{"$f":"IF(C951=\"\",\"\",VLOOKUP(C951,PARAMETROS!$G$3:$H$21,2,FALSE))","v":""},null,{"$f":"IF(E951=\"\",\"\",VLOOKUP(E951,PARAMETROS!$I$3:$J$21,2,FALSE))","v":""},null,null,null,null,null,null,""]
[null,{"$f":"IF(A952=\"\",\"\",VLOOKUP(A952,PARAMETROS!$B$3:$C$3,2,FALSE))","v":""},null,{"$f":"IF(C952=\"\",\"\",VLOOKUP(C952,PARAMETROS!$G$3:$H$21,2,FALSE))","v":""},null,{"$f":"IF(E952=\"\",\"\",VLOOKUP(E952,PARAMETROS!$I$3:$J$21,2,FALSE))","v":""},null,null,null,null,null,null,""]
[null,{"$f":"IF(A953=\"\",\"\",VLOOKUP(A953,PARAMETROS!$B$3:$C$3,2,FALSE))","v":""},null,{"$f":"IF(C953=\"\",\"\",VLOOKUP(C953,PARAMETROS!$G$3:$H$21,2,FALSE))","v":""},null,{"$f":"IF(E953=\"\",\"\",VLOOKUP(E953,PARAMETROS!$I$3:$J$21,2,FALSE))","v":""},null,null,null,null,null,null,""]
[null,{"$f":"IF(A954=\"\",\"\",VLOOKUP(A954,PARAMETROS!$B$3:$C$3,2,FALSE))","v":""},null,{"$f":"IF(C954=\"\",\"\",VLOOKUP(C954,PARAMETROS!$G$3:$H$21,2,FALSE))","v":""},null,{"$f":"IF(E954=\"\",\"\",VLOOKUP(E954,PARAMETROS!$I$3:$J$21,2,FALSE))","v":""},null,null,null,null,null,null,""]
[null,{"$f":"IF(A955=\"\",\"\",VLOOKUP(A955,PARAMETROS!$B$3:$C$3,2,FALSE))","v":""},null,{"$f":"IF(C955=\"\",\"\",VLOOKUP(C955,PARAMETROS!$G$3:$H$21,2,FALSE))","v":""},null,{"$f":"IF(E955=\"\",\"\",VLOOKUP(E955,PARAMETROS!$I$3:$J$21,2,FALSE))","v":""},null,null,null,null,null,null,""]
[null,{"$f":"IF(A956=\"\",\"\",VLOOKUP(A956,PARAMETROS!$B$3:$C$3,2,FALSE))","v":""},null,{"$f":"IF(C956=\"\",\"\",VLOOKUP(C956,PARAMETROS!$G$3:$H$21,2,FALSE))","v":""},null,{"$f":"IF(E956=\"\",\"\",VLOOKUP(E956,PARAMETROS!$I$3:$J$21,2,FALSE))","v":""},null,null,null,null,null,null,""]
[null,{"$f":"IF(A957=\"\",\"\",VLOOKUP(A957,PARAMETROS!$B$3:$C$3,2,FALSE))","v":""},null,{"$f":"IF(C957=\"\",\"\",VLOOKUP(C957,PARAMETROS!$G$3:$H$21,2,FALSE))","v":""},null,{"$f":"IF(E957=\"\",\"\",VLOOKUP(E957,PARAMETROS!$I$3:$J$21,2,FALSE))","v":""},null,null,null,null,null,null,""]
[null,{"$f":"IF(A958=\"\",\"\",VLOOKUP(A958,PARAMETROS!$B$3:$C$3,2,FALSE))","v":""},null,{"$f":"IF(C958=\"\",\"\",VLOOKUP(C958,PARAMETROS!$G$3:$H$21,2,FALSE))","v":""},null,{"$f":"IF(E958=\"\",\"\",VLOOKUP(E958,PARAMETROS!$I$3:$J$21,2,FALSE))","v":""},null,null,null,null,null,null,""]
[null,{"$f":"IF(A959=\"\",\"\",VLOOKUP(A959,PARAMETROS!$B$3:$C$3,2,FALSE))","v":""},null,{"$f":"IF(C959=\"\",\"\",VLOOKUP(C959,PARAMETROS!$G$3:$H$21,2,FALSE))","v":""},null,{"$f":"IF(E959=\"\",\"\",VLOOKUP(E959,PARAMETROS!$I$3:$J$21,2,FALSE))","v":""},null,null,null,null,null,null,""]
[null,{"$f":"IF(A960=\"\",\"\",VLOOKUP(A960,PARAMETROS!$B$3:$C$3,2,FALSE))","v":""},null,{"$f":"IF(C960=\"\",\"\",VLOOKUP(C960,PARAMETROS!$G$3:$H$21,2,FALSE))","v":""},null,{"$f":"IF(E960=\"\",\"\",VLOOKUP(E960,PARAMETROS!$I$3:$J$21,2,FALSE))","v":""},null,null,null,null,null,null,""]
[null,{"$f":"IF(A961=\"\",\"\",VLOOKUP(A961,PARAMETROS!$B$3:$C$3,2,FALSE))","v":""},null,{"$f":"IF(C961=\"\",\"\",VLOOKUP(C961,PARAMETROS!$G$3:$H$21,2,FALSE))","v":""},null,{"$f":"IF(E961=\"\",\"\",VLOOKUP(E961,PARAMETROS!$I$3:$J$21,2,FALSE))","v":""},null,null,null,null,null,null,""]
[null,{"$f":"IF(A962=\"\",\"\",VLOOKUP(A962,PARAMETROS!$B$3:$C$3,2,FALSE))","v":""},null,{"$f":"IF(C962=\"\",\"\",VLOOKUP(C962,PARAMETROS!$G$3:$H$21,2,FALSE))","v":""},null,{"$f":"IF(E962=\"\",\"\",VLOOKUP(E962,PARAMETROS!$I$3:$J$21,2,FALSE))","v":""},null,null,null,null,null,null,""]
[null,{"$f":"IF(A963=\"\",\"\",VLOOKUP(A963,PARAMETROS!$B$3:$C$3,2,FALSE))","v":""},null,{"$f":"IF(C963=\"\",\"\",VLOOKUP(C963,PARAMETROS!$G$3:$H$21,2,FALSE))","v":""},null,{"$f":"IF(E963=\"\",\"\",VLOOKUP(E963,PARAMETROS!$I$3:$J$21,2,FALSE))","v":""},null,null,null,null,null,null,""]
[null,{"$f":"IF(A964=\"\",\"\",VLOOKUP(A964,PARAMETROS!$B$3:$C$3,2,FALSE))","v":""},null,{"$f":"IF(C964=\"\",\"\",VLOOKUP(C964,PARAMETROS!$G$3:$H$21,2,FALSE))","v":""},null,{"$f":"IF(E964=\"\",\"\",VLOOKUP(E964,PARAMETROS!$I$3:$J$21,2,FALSE))","v":""},null,null,null,null,null,null,""]
[null,{"$f":"IF(A965=\"\",\"\",VLOOKUP(A965,PARAMETROS!$B$3:$C$3,2,FALSE))","v":""},null,{"$f":"IF(C965=\"\",\"\",VLOOKUP(C965,PARAMETROS!$G$3:$H$21,2,FALSE))","v":""},null,{"$f":"IF(E965=\"\",\"\",VLOOKUP(E965,PARAMETROS!$I$3:$J$21,2,FALSE))","v":""},null,null,null,null,null,null,""]
[null,{"$f":"IF(A966=\"\",\"\",VLOOKUP(A966,PARAMETROS!$B$3:$C$3,2,FALSE))","v":""},null,{"$f":"IF(C966=\"\",\"\",VLOOKUP(C966,PARAMETROS!$G$3:$H$21,2,FALSE))","v":""},null,{"$f":"IF(E966=\"\",\"\",VLOOKUP(E966,PARAMETROS!$I$3:$J$21,2,FALSE))","v":""},null,null,null,null,null,null,""]
[null,{"$f":"IF(A967=\"\",\"\",VLOOKUP(A967,PARAMETROS!$B$3:$C$3,2,FALSE))","v":""},null,{"$f":"IF(C967=\"\",\"\",VLOOKUP(C967,PARAMETROS!$G$3:$H$21,2,FALSE))","v":""},null,{"$f":"IF(E967=\"\",\"\",VLOOKUP(E967,PARAMETROS!$I$3:$J$21,2,FALSE))","v":""},null,null,null,null,null,null,""]
[null,{"$f":"IF(A968=\"\",\"\",VLOOKUP(A968,PARAMETROS!$B$3:$C$3,2,FALSE))","v":""},null,{"$f":"IF(C968=\"\",\"\",VLOOKUP(C968,PARAMETROS!$G$3:$H$21,2,FALSE))","v":""},null,{"$f":"IF(E968=\"\",\"\",VLOOKUP(E968,PARAMETROS!$I$3:$J$21,2,FALSE))","v":""},null,null,null,null,null,null,""]
[null,{"$f":"IF(A969=\"\",\"\",VLOOKUP(A969,PARAMETROS!$B$3:$C$3,2,FALSE))","v":""},null,{"$f":"IF(C969=\"\",\"\",VLOOKUP(C969,PARAMETROS!$G$3:$H$21,2,FALSE))","v":""},null,{"$f":"IF(E969=\"\",\"\",VLOOKUP(E969,PARAMETROS!$I$3:$J$21,2,FALSE))","v":""},null,null,null,null,null,null,""]
[null,{"$f":"IF(A970=\"\",\"\",VLOOKUP(A970,PARAMETROS!$B$3:$C$3,2,FALSE))","v":""},null,{"$f":"IF(C970=\"\",\"\",VLOOKUP(C970,PARAMETROS!$G$3:$H$21,2,FALSE))","v":""},null,{"$f":"IF(E970=\"\",\"\",VLOOKUP(E970,PARAMETROS!$I$3:$J$21,2,FALSE))","v":""},null,null,null,null,null,null,""]
[null,{"$f":"IF(A971=\"\",\"\",VLOOKUP(A971,PARAMETROS!$B$3:$C$3,2,FALSE))","v":""},null,{"$f":"IF(C971=\"\",\"\",VLOOKUP(C971,PARAMETROS!$G$3:$H$21,2,FALSE))","v":""},null,{"$f":"IF(E971=\"\",\"\",VLOOKUP(E971,PARAMETROS!$I$3:$J$21,2,FALSE))","v":""},null,null,null,null,null,null,""]
[null,{"$f":"IF(A972=\"\",\"\",VLOOKUP(A972,PARAMETROS!$B$3:$C$3,2,FALSE))","v":""},null,{"$f":"IF(C972=\"\",\"\",VLOOKUP(C972,PARAMETROS!$G$3:$H$21,2,FALSE))","v":""},null,{"$f":"IF(E972=\"\",\"\",VLOOKUP(E972,PARAMETROS!$I$3:$J$21,2,FALSE))","v":""},null,null,null,null,null,null,""]
[null,{"$f":"IF(A973=\"\",\"\",VLOOKUP(A973,PARAMETROS!$B$3:$C$3,2,FALSE))","v":""},null,{"$f":"IF(C973=\"\",\"\",VLOOKUP(C973,PARAMETROS!$G$3:$H$21,2,FALSE))","v":""},null,{"$f":"IF(E973=\"\",\"\",VLOOKUP(E973,PARAMETROS!$I$3:$J$21,2,FALSE))","v":""},null,null,null,null,null,null,""]
[null,{"$f":"IF(A974=\"\",\"\",VLOOKUP(A974,PARAMETROS!$B$3:$C$3,2,FALSE))","v":""},null,{"$f":"IF(C974=\"\",\"\",VLOOKUP(C974,PARAMETROS!$G$3:$H$21,2,FALSE))","v":""},null,{"$f":"IF(E974=\"\",\"\",VLOOKUP(E974,PARAMETROS!$I$3:$J$21,2,FALSE))","v":""},null,null,null,null,null,null,""]
[null,{"$f":"IF(A975=\"\",\"\",VLOOKUP(A975,PARAMETROS!$B$3:$C$3,2,FALSE))","v":""},null,{"$f":"IF(C975=\"\",\"\",VLOOKUP(C975,PARAMETROS!$G$3:$H$21,2,FALSE))","v":""},null,{"$f":"IF(E975=\"\",\"\",VLOOKUP(E975,PARAMETROS!$I$3:$J$21,2,FALSE))","v":""},null,null,null,null,null,null,{"$f":"IF(L975=\"\", \"\", L975)","v":""}]
[null,{"$f":"IF(A976=\"\",\"\",VLOOKUP(A976,PARAMETROS!$B$3:$C$3,2,FALSE))","v":""},null,{"$f":"IF(C976=\"\",\"\",VLOOKUP(C976,PARAMETROS!$G$3:$H$21,2,FALSE))","v":""},null,{"$f":"IF(E976=\"\",\"\",VLOOKUP(E976,PARAMETROS!$I$3:$J$21,2,FALSE))","v":""},null,null,null,null,null,null,""]
[null,{"$f":"IF(A977=\"\",\"\",VLOOKUP(A977,PARAMETROS!$B$3:$C$3,2,FALSE))","v":""},null,{"$f":"IF(C977=\"\",\"\",VLOOKUP(C977,PARAMETROS!$G$3:$H$21,2,FALSE))","v":""},null,{"$f":"IF(E977=\"\",\"\",VLOOKUP(E977,PARAMETROS!$I$3:$J$21,2,FALSE))","v":""},null,null,null,null,null,null,""]
[null,{"$f":"IF(A978=\"\",\"\",VLOOKUP(A978,PARAMETROS!$B$3:$C$3,2,FALSE))","v":""},null,{"$f":"IF(C978=\"\",\"\",VLOOKUP(C978,PARAMETROS!$G$3:$H$21,2,FALSE))","v":""},null,{"$f":"IF(E978=\"\",\"\",VLOOKUP(E978,PARAMETROS!$I$3:$J$21,2,FALSE))","v":""},null,null,null,null,null,null,""]
[null,{"$f":"IF(A979=\"\",\"\",VLOOKUP(A979,PARAMETROS!$B$3:$C$3,2,FALSE))","v":""},null,{"$f":"IF(C979=\"\",\"\",VLOOKUP(C979,PARAMETROS!$G$3:$H$21,2,FALSE))","v":""},null,{"$f":"IF(E979=\"\",\"\",VLOOKUP(E979,PARAMETROS!$I$3:$J$21,2,FALSE))","v":""},null,null,null,null,null,null,""]
[null,{"$f":"IF(A980=\"\",\"\",VLOOKUP(A980,PARAMETROS!$B$3:$C$3,2,FALSE))","v":""},null,{"$f":"IF(C980=\"\",\"\",VLOOKUP(C980,PARAMETROS!$G$3:$H$21,2,FALSE))","v":""},null,{"$f":"IF(E980=\"\",\"\",VLOOKUP(E980,PARAMETROS!$I$3:$J$21,2,FALSE))","v":""},null,null,null,null,null,null,""]
[null,{"$f":"IF(A981=\"\",\"\",VLOOKUP(A981,PARAMETROS!$B$3:$C$3,2,FALSE))","v":""},null,{"$f":"IF(C981=\"\",\"\",VLOOKUP(C981,PARAMETROS!$G$3:$H$21,2,FALSE))","v":""},null,{"$f":"IF(E981=\"\",\"\",VLOOKUP(E981,PARAMETROS!$I$3:$J$21,2,FALSE))","v":""},null,null,null,null,null,null,""]
[null,{"$f":"IF(A982=\"\",\"\",VLOOKUP(A982,PARAMETROS!$B$3:$C$3,2,FALSE))","v":""},null,{"$f":"IF(C982=\"\",\"\",VLOOKUP(C982,PARAMETROS!$G$3:$H$21,2,FALSE))","v":""},null,{"$f":"IF(E982=\"\",\"\",VLOOKUP(E982,PARAMETROS!$I$3:$J$21,2,FALSE))","v":""},null,null,null,null,null,null,""]
[null,{"$f":"IF(A983=\"\",\"\",VLOOKUP(A983,PARAMETROS!$B$3:$C$3,2,FALSE))","v":""},null,{"$f":"IF(C983=\"\",\"\",VLOOKUP(C983,PARAMETROS!$G$3:$H$21,2,FALSE))","v":""},null,{"$f":"IF(E983=\"\",\"\",VLOOKUP(E983,PARAMETROS!$I$3:$J$21,2,FALSE))","v":""},null,null,null,null,null,null,""]
[null,{"$f":"IF(A984=\"\",\"\",VLOOKUP(A984,PARAMETROS!$B$3:$C$3,2,FALSE))","v":""},null,{"$f":"IF(C984=\"\",\"\",VLOOKUP(C984,PARAMETROS!$G$3:$H$21,2,FALSE))","v":""},null,{"$f":"IF(E984=\"\",\"\",VLOOKUP(E984,PARAMETROS!$I$3:$J$21,2,FALSE))","v":""},null,null,null,null,null,null,""]
[null,{"$f":"IF(A985=\"\",\"\",VLOOKUP(A985,PARAMETROS!$B$3:$C$3,2,FALSE))","v":""},null,{"$f":"IF(C985=\"\",\"\",VLOOKUP(C985,PARAMETROS!$G$3:$H$21,2,FALSE))","v":""},null,{"$f":"IF(E985=\"\",\"\",VLOOKUP(E985,PARAMETROS!$I$3:$J$21,2,FALSE))","v":""},null,null,null,null,null,null,""]
[null,{"$f":"IF(A986=\"\",\"\",VLOOKUP(A986,PARAMETROS!$B$3:$C$3,2,FALSE))","v":""},null,{"$f":"IF(C986=\"\",\"\",VLOOKUP(C986,PARAMETROS!$G$3:$H$21,2,FALSE))","v":""},null,{"$f":"IF(E986=\"\",\"\",VLOOKUP(E986,PARAMETROS!$I$3:$J$21,2,FALSE))","v":""},null,null,null,null,null,null,""]
[null,{"$f":"IF(A987=\"\",\"\",VLOOKUP(A987,PARAMETROS!$B$3:$C$3,2,FALSE))","v":""},null,{"$f":"IF(C987=\"\",\"\",VLOOKUP(C987,PARAMETROS!$G$3:$H$21,2,FALSE))","v":""},null,{"$f":"IF(E987=\"\",\"\",VLOOKUP(E987,PARAMETROS!$I$3:$J$21,2,FALSE))","v":""},null,null,null,null,null,null,""]
[null,{"$f":"IF(A988=\"\",\"\",VLOOKUP(A988,PARAMETROS!$B$3:$C$3,2,FALSE))","v":""},null,{"$f":"IF(C988=\"\",\"\",VLOOKUP(C988,PARAMETROS!$G$3:$H$21,2,FALSE))","v":""},null,{"$f":"IF(E988=\"\",\"\",VLOOKUP(E988,PARAMETROS!$I$3:$J$21,2,FALSE))","v":""},null,null,null,null,null,null,""]
[null,{"$f":"IF(A989=\"\",\"\",VLOOKUP(A989,PARAMETROS!$B$3:$C$3,2,FALSE))","v":""},null,{"$f":"IF(C989=\"\",\"\",VLOOKUP(C989,PARAMETROS!$G$3:$H$21,2,FALSE))","v":""},null,{"$f":"IF(E989=\"\",\"\",VLOOKUP(E989,PARAMETROS!$I$3:$J$21,2,FALSE))","v":""},null,null,null,null,null,null,""]
[null,{"$f":"IF(A990=\"\",\"\",VLOOKUP(A990,PARAMETROS!$B$3:$C$3,2,FALSE))","v":""},null,{"$f":"IF(C990=\"\",\"\",VLOOKUP(C990,PARAMETROS!$G$3:$H$21,2,FALSE))","v":""},null,{"$f":"IF(E990=\"\",\"\",VLOOKUP(E990,PARAMETROS!$I$3:$J$21,2,FALSE))","v":""},null,null,null,null,null,null,""]
[null,{"$f":"IF(A991=\"\",\"\",VLOOKUP(A991,PARAMETROS!$B$3:$C$3,2,FALSE))","v":""},null,{"$f":"IF(C991=\"\",\"\",VLOOKUP(C991,PARAMETROS!$G$3:$H$21,2,FALSE))","v":""},null,{"$f":"IF(E991=\"\",\"\",VLOOKUP(E991,PARAMETROS!$I$3:$J$21,2,FALSE))","v":""},null,null,null,null,null,null,""]
[null,{"$f":"IF(A992=\"\",\"\",VLOOKUP(A992,PARAMETROS!$B$3:$C$3,2,FALSE))","v":""},null,{"$f":"IF(C992=\"\",\"\",VLOOKUP(C992,PARAMETROS!$G$3:$H$21,2,FALSE))","v":""},null,{"$f":"IF(E992=\"\",\"\",VLOOKUP(E992,PARAMETROS!$I$3:$J$21,2,FALSE))","v":""},null,null,null,null,null,null,""]
[null,{"$f":"IF(A993=\"\",\"\",VLOOKUP(A993,PARAMETROS!$B$3:$C$3,2,FALSE))","v":""},null,{"$f":"IF(C993=\"\",\"\",VLOOKUP(C993,PARAMETROS!$G$3:$H$21,2,FALSE))","v":""},null,{"$f":"IF(E993=\"\",\"\",VLOOKUP(E993,PARAMETROS!$I$3:$J$21,2,FALSE))","v":""},null,null,null,null,null,null,""]
[null,{"$f":"IF(A994=\"\",\"\",VLOOKUP(A994,PARAMETROS!$B$3:$C$3,2,FALSE))","v":""},null,{"$f":"IF(C994=\"\",\"\",VLOOKUP(C994,PARAMETROS!$G$3:$H$21,2,FALSE))","v":""},null,{"$f":"IF(E994=\"\",\"\",VLOOKUP(E994,PARAMETROS!$I$3:$J$21,2,FALSE))","v":""},null,null,null,null,null,null,""]
[null,{"$f":"IF(A995=\"\",\"\",VLOOKUP(A995,PARAMETROS!$B$3:$C$3,2,FALSE))","v":""},null,{"$f":"IF(C995=\"\",\"\",VLOOKUP(C995,PARAMETROS!$G$3:$H$21,2,FALSE))","v":""},null,{"$f":"IF(E995=\"\",\"\",VLOOKUP(E995,PARAMETROS!$I$3:$J$21,2,FALSE))","v":""},null,null,null,null,null,null,""]
[null,{"$f":"IF(A996=\"\",\"\",VLOOKUP(A996,PARAMETROS!$B$3:$C$3,2,FALSE))","v":""},null,{"$f":"IF(C996=\"\",\"\",VLOOKUP(C996,PARAMETROS!$G$3:$H$21,2,FALSE))","v":""},null,{"$f":"IF(E996=\"\",\"\",VLOOKUP(E996,PARAMETROS!$I$3:$J$21,2,FALSE))","v":""},null,null,null,null,null,null,""]
[null,{"$f":"IF(A997=\"\",\"\",VLOOKUP(A997,PARAMETROS!$B$3:$C$3,2,FALSE))","v":""},null,{"$f":"IF(C997=\"\",\"\",VLOOKUP(C997,PARAMETROS!$G$3:$H$21,2,FALSE))","v":""},null,{"$f":"IF(E997=\"\",\"\",VLOOKUP(E997,PARAMETROS!$I$3:$J$21,2,FALSE))","v":""},null,null,null,null,null,null,""]
[null,{"$f":"IF(A998=\"\",\"\",VLOOKUP(A998,PARAMETROS!$B$3:$C$3,2,FALSE))","v":""},null,{"$f":"IF(C998=\"\",\"\",VLOOKUP(C998,PARAMETROS!$G$3:$H$21,2,FALSE))","v":""},null,{"$f":"IF(E998=\"\",\"\",VLOOKUP(E998,PARAMETROS!$I$3:$J$21,2,FALSE))","v":""},null,null,null,null,null,null,""]
[null,{"$f":"IF(A999=\"\",\"\",VLOOKUP(A999,PARAMETROS!$B$3:$C$3,2,FALSE))","v":""},null,{"$f":"IF(C999=\"\",\"\",VLOOKUP(C999,PARAMETROS!$G$3:$H$21,2,FALSE))","v":""},null,{"$f":"IF(E999=\"\",\"\",VLOOKUP(E999,PARAMETROS!$I$3:$J$21,2,FALSE))","v":""},null,null,null,null,null,null,""]
[null,{"$f":"IF(A1000=\"\",\"\",VLOOKUP(A1000,PARAMETROS!$B$3:$C$3,2,FALSE))","v":""},null,{"$f":"IF(C1000=\"\",\"\",VLOOKUP(C1000,PARAMETROS!$G$3:$H$21,2,FALSE))","v":""},null,{"$f":"IF(E1000=\"\",\"\",VLOOKUP(E1000,PARAMETROS!$I$3:$J$21,2,FALSE))","v":""},null,null,null,null,null,null,""]
[null,{"$f":"IF(A1001=\"\",\"\",VLOOKUP(A1001,PARAMETROS!$B$3:$C$3,2,FALSE))","v":""},null,{"$f":"IF(C1001=\"\",\"\",VLOOKUP(C1001,PARAMETROS!$G$3:$H$21,2,FALSE))","v":""},null,{"$f":"IF(E1001=\"\",\"\",VLOOKUP(E1001,PARAMETROS!$I$3:$J$21,2,FALSE))","v":""},null,null,null,null,null,null,""]
[null,{"$f":"IF(A1002=\"\",\"\",VLOOKUP(A1002,PARAMETROS!$B$3:$C$3,2,FALSE))","v":""},null,{"$f":"IF(C1002=\"\",\"\",VLOOKUP(C1002,PARAMETROS!$G$3:$H$21,2,FALSE))","v":""},null,{"$f":"IF(E1002=\"\",\"\",VLOOKUP(E1002,PARAMETROS!$I$3:$J$21,2,FALSE))","v":""},null,null,null,null,null,null,""]
[null,{"$f":"IF(A1003=\"\",\"\",VLOOKUP(A1003,PARAMETROS!$B$3:$C$3,2,FALSE))","v":""},null,{"$f":"IF(C1003=\"\",\"\",VLOOKUP(C1003,PARAMETROS!$G$3:$H$21,2,FALSE))","v":""},null,{"$f":"IF(E1003=\"\",\"\",VLOOKUP(E1003,PARAMETROS!$I$3:$J$21,2,FALSE))","v":""},null,null,null,null,null,null,""]
[null,{"$f":"IF(A1004=\"\",\"\",VLOOKUP(A1004,PARAMETROS!$B$3:$C$3,2,FALSE))","v":""},null,{"$f":"IF(C1004=\"\",\"\",VLOOKUP(C1004,PARAMETROS!$G$3:$H$21,2,FALSE))","v":""},null,{"$f":"IF(E1004=\"\",\"\",VLOOKUP(E1004,PARAMETROS!$I$3:$J$21,2,FALSE))","v":""},null,null,null,null,null,null,""]
[null,{"$f":"IF(A1005=\"\",\"\",VLOOKUP(A1005,PARAMETROS!$B$3:$C$3,2,FALSE))","v":""},null,{"$f":"IF(C1005=\"\",\"\",VLOOKUP(C1005,PARAMETROS!$G$3:$H$21,2,FALSE))","v":""},null,{"$f":"IF(E1005=\"\",\"\",VLOOKUP(E1005,PARAMETROS!$I$3:$J$21,2,FALSE))","v":""},null,null,null,null,null,null,""]
[null,{"$f":"IF(A1006=\"\",\"\",VLOOKUP(A1006,PARAMETROS!$B$3:$C$3,2,FALSE))","v":""},null,{"$f":"IF(C1006=\"\",\"\",VLOOKUP(C1006,PARAMETROS!$G$3:$H$21,2,FALSE))","v":""},null,{"$f":"IF(E1006=\"\",\"\",VLOOKUP(E1006,PARAMETROS!$I$3:$J$21,2,FALSE))","v":""},null,null,null,null,null,null,""]
[null,{"$f":"IF(A1007=\"\",\"\",VLOOKUP(A1007,PARAMETROS!$B$3:$C$3,2,FALSE))","v":""},null,{"$f":"IF(C1007=\"\",\"\",VLOOKUP(C1007,PARAMETROS!$G$3:$H$21,2,FALSE))","v":""},null,{"$f":"IF(E1007=\"\",\"\",VLOOKUP(E1007,PARAMETROS!$I$3:$J$21,2,FALSE))","v":""},null,null,null,null,null,null,""]
[null,{"$f":"IF(A1008=\"\",\"\",VLOOKUP(A1008,PARAMETROS!$B$3:$C$3,2,FALSE))","v":""},null,{"$f":"IF(C1008=\"\",\"\",VLOOKUP(C1008,PARAMETROS!$G$3:$H$21,2,FALSE))","v":""},null,{"$f":"IF(E1008=\"\",\"\",VLOOKUP(E1008,PARAMETROS!$I$3:$J$21,2,FALSE))","v":""},null,null,null,null,null,null,""]
[null,{"$f":"IF(A1009=\"\",\"\",VLOOKUP(A1009,PARAMETROS!$B$3:$C$3,2,FALSE))","v":""},null,{"$f":"IF(C1009=\"\",\"\",VLOOKUP(C1009,PARAMETROS!$G$3:$H$21,2,FALSE))","v":""},null,{"$f":"IF(E1009=\"\",\"\",VLOOKUP(E1009,PARAMETROS!$I$3:$J$21,2,FALSE))","v":""},null,null,null,null,null,null,""]
[null,{"$f":"IF(A1010=\"\",\"\",VLOOKUP(A1010,PARAMETROS!$B$3:$C$3,2,FALSE))","v":""},null,{"$f":"IF(C1010=\"\",\"\",VLOOKUP(C1010,PARAMETROS!$G$3:$H$21,2,FALSE))","v":""},null,{"$f":"IF(E1010=\"\",\"\",VLOOKUP(E1010,PARAMETROS!$I$3:$J$21,2,FALSE))","v":""},null,null,null,null,null,null,""]
[null,{"$f":"IF(A1011=\"\",\"\",VLOOKUP(A1011,PARAMETROS!$B$3:$C$3,2,FALSE))","v":""},null,{"$f":"IF(C1011=\"\",\"\",VLOOKUP(C1011,PARAMETROS!$G$3:$H$21,2,FALSE))","v":""},null,{"$f":"IF(E1011=\"\",\"\",VLOOKUP(E1011,PARAMETROS!$I$3:$J$21,2,FALSE))","v":""},null,null,null,null,null,null,""]
[null,{"$f":"IF(A1012=\"\",\"\",VLOOKUP(A1012,PARAMETROS!$B$3:$C$3,2,FALSE))","v":""},null,{"$f":"IF(C1012=\"\",\"\",VLOOKUP(C1012,PARAMETROS!$G$3:$H$21,2,FALSE))","v":""},null,{"$f":"IF(E1012=\"\",\"\",VLOOKUP(E1012,PARAMETROS!$I$3:$J$21,2,FALSE))","v":""},null,null,null,null,null,null,""]
[null,{"$f":"IF(A1013=\"\",\"\",VLOOKUP(A1013,PARAMETROS!$B$3:$C$3,2,FALSE))","v":""},null,{"$f":"IF(C1013=\"\",\"\",VLOOKUP(C1013,PARAMETROS!$G$3:$H$21,2,FALSE))","v":""},null,{"$f":"IF(E1013=\"\",\"\",VLOOKUP(E1013,PARAMETROS!$I$3:$J$21,2,FALSE))","v":""},null,null,null,null,null,null,""]
[null,{"$f":"IF(A1014=\"\",\"\",VLOOKUP(A1014,PARAMETROS!$B$3:$C$3,2,FALSE))","v":""},null,{"$f":"IF(C1014=\"\",\"\",VLOOKUP(C1014,PARAMETROS!$G$3:$H$21,2,FALSE))","v":""},null,{"$f":"IF(E1014=\"\",\"\",VLOOKUP(E1014,PARAMETROS!$I$3:$J$21,2,FALSE))","v":""},null,null,null,null,null,null,""]
[null,{"$f":"IF(A1015=\"\",\"\",VLOOKUP(A1015,PARAMETROS!$B$3:$C$3,2,FALSE))","v":""},null,{"$f":"IF(C1015=\"\",\"\",VLOOKUP(C1015,PARAMETROS!$G$3:$H$21,2,FALSE))","v":""},null,{"$f":"IF(E1015=\"\",\"\",VLOOKUP(E1015,PARAMETROS!$I$3:$J$21,2,FALSE))","v":""},null,null,null,null,null,null,""]
[null,{"$f":"IF(A1016=\"\",\"\",VLOOKUP(A1016,PARAMETROS!$B$3:$C$3,2,FALSE))","v":""},null,{"$f":"IF(C1016=\"\",\"\",VLOOKUP(C1016,PARAMETROS!$G$3:$H$21,2,FALSE))","v":""},null,{"$f":"IF(E1016=\"\",\"\",VLOOKUP(E1016,PARAMETROS!$I$3:$J$21,2,FALSE))","v":""},null,null,null,null,null,null,""]
[null,{"$f":"IF(A1017=\"\",\"\",VLOOKUP(A1017,PARAMETROS!$B$3:$C$3,2,FALSE))","v":""},null,{"$f":"IF(C1017=\"\",\"\",VLOOKUP(C1017,PARAMETROS!$G$3:$H$21,2,FALSE))","v":""},null,{"$f":"IF(E1017=\"\",\"\",VLOOKUP(E1017,PARAMETROS!$I$3:$J$21,2,FALSE))","v":""},null,null,null,null,null,null,""]
[null,{"$f":"IF(A1018=\"\",\"\",VLOOKUP(A1018,PARAMETROS!$B$3:$C$3,2,FALSE))","v":""},null,{"$f":"IF(C1018=\"\",\"\",VLOOKUP(C1018,PARAMETROS!$G$3:$H$21,2,FALSE))","v":""},null,{"$f":"IF(E1018=\"\",\"\",VLOOKUP(E1018,PARAMETROS!$I$3:$J$21,2,FALSE))","v":""},null,null,null,null,null,null,""]
[null,{"$f":"IF(A1019=\"\",\"\",VLOOKUP(A1019,PARAMETROS!$B$3:$C$3,2,FALSE))","v":""},null,{"$f":"IF(C1019=\"\",\"\",VLOOKUP(C1019,PARAMETROS!$G$3:$H$21,2,FALSE))","v":""},null,{"$f":"IF(E1019=\"\",\"\",VLOOKUP(E1019,PARAMETROS!$I$3:$J$21,2,FALSE))","v":""},null,null,null,null,null,null,""]
[null,{"$f":"IF(A1020=\"\",\"\",VLOOKUP(A1020,PARAMETROS!$B$3:$C$3,2,FALSE))","v":""},null,{"$f":"IF(C1020=\"\",\"\",VLOOKUP(C1020,PARAMETROS!$G$3:$H$21,2,FALSE))","v":""},null,{"$f":"IF(E1020=\"\",\"\",VLOOKUP(E1020,PARAMETROS!$I$3:$J$21,2,FALSE))","v":""},null,null,null,null,null,null,""]
[null,{"$f":"IF(A1021=\"\",\"\",VLOOKUP(A1021,PARAMETROS!$B$3:$C$3,2,FALSE))","v":""},null,{"$f":"IF(C1021=\"\",\"\",VLOOKUP(C1021,PARAMETROS!$G$3:$H$21,2,FALSE))","v":""},null,{"$f":"IF(E1021=\"\",\"\",VLOOKUP(E1021,PARAMETROS!$I$3:$J$21,2,FALSE))","v":""},null,null,null,null,null,null,""]
[null,{"$f":"IF(A1022=\"\",\"\",VLOOKUP(A1022,PARAMETROS!$B$3:$C$3,2,FALSE))","v":""},null,{"$f":"IF(C1022=\"\",\"\",VLOOKUP(C1022,PARAMETROS!$G$3:$H$21,2,FALSE))","v":""},null,{"$f":"IF(E1022=\"\",\"\",VLOOKUP(E1022,PARAMETROS!$I$3:$J$21,2,FALSE))","v":""},null,null,null,null,null,null,""]
[null,{"$f":"IF(A1023=\"\",\"\",VLOOKUP(A1023,PARAMETROS!$B$3:$C$3,2,FALSE))","v":""},null,{"$f":"IF(C1023=\"\",\"\",VLOOKUP(C1023,PARAMETROS!$G$3:$H$21,2,FALSE))","v":""},null,{"$f":"IF(E1023=\"\",\"\",VLOOKUP(E1023,PARAMETROS!$I$3:$J$21,2,FALSE))","v":""},null,null,null,null,null,null,""]
[null,{"$f":"IF(A1024=\"\",\"\",VLOOKUP(A1024,PARAMETROS!$B$3:$C$3,2,FALSE))","v":""},null,{"$f":"IF(C1024=\"\",\"\",VLOOKUP(C1024,PARAMETROS!$G$3:$H$21,2,FALSE))","v":""},null,{"$f":"IF(E1024=\"\",\"\",VLOOKUP(E1024,PARAMETROS!$I$3:$J$21,2,FALSE))","v":""},null,null,null,null,null,null,""]
[null,{"$f":"IF(A1025=\"\",\"\",VLOOKUP(A1025,PARAMETROS!$B$3:$C$3,2,FALSE))","v":""},null,{"$f":"IF(C1025=\"\",\"\",VLOOKUP(C1025,PARAMETROS!$G$3:$H$21,2,FALSE))","v":""},null,{"$f":"IF(E1025=\"\",\"\",VLOOKUP(E1025,PARAMETROS!$I$3:$J$21,2,FALSE))","v":""},null,null,null,null,null,null,""]
[null,{"$f":"IF(A1026=\"\",\"\",VLOOKUP(A1026,PARAMETROS!$B$3:$C$3,2,FALSE))","v":""},null,{"$f":"IF(C1026=\"\",\"\",VLOOKUP(C1026,PARAMETROS!$G$3:$H$21,2,FALSE))","v":""},null,{"$f":"IF(E1026=\"\",\"\",VLOOKUP(E1026,PARAMETROS!$I$3:$J$21,2,FALSE))","v":""},null,null,null,null,null,null,""]
[null,{"$f":"IF(A1027=\"\",\"\",VLOOKUP(A1027,PARAMETROS!$B$3:$C$3,2,FALSE))","v":""},null,{"$f":"IF(C1027=\"\",\"\",VLOOKUP(C1027,PARAMETROS!$G$3:$H$21,2,FALSE))","v":""},null,{"$f":"IF(E1027=\"\",\"\",VLOOKUP(E1027,PARAMETROS!$I$3:$J$21,2,FALSE))","v":""},null,null,null,null,null,null,""]
[null,{"$f":"IF(A1028=\"\",\"\",VLOOKUP(A1028,PARAMETROS!$B$3:$C$3,2,FALSE))","v":""},null,{"$f":"IF(C1028=\"\",\"\",VLOOKUP(C1028,PARAMETROS!$G$3:$H$21,2,FALSE))","v":""},null,{"$f":"IF(E1028=\"\",\"\",VLOOKUP(E1028,PARAMETROS!$I$3:$J$21,2,FALSE))","v":""},null,null,null,null,null,null,""]
[null,{"$f":"IF(A1029=\"\",\"\",VLOOKUP(A1029,PARAMETROS!$B$3:$C$3,2,FALSE))","v":""},null,{"$f":"IF(C1029=\"\",\"\",VLOOKUP(C1029,PARAMETROS!$G$3:$H$21,2,FALSE))","v":""},null,{"$f":"IF(E1029=\"\",\"\",VLOOKUP(E1029,PARAMETROS!$I$3:$J$21,2,FALSE))","v":""},null,null,null,null,null,null,""]
[null,{"$f":"IF(A1030=\"\",\"\",VLOOKUP(A1030,PARAMETROS!$B$3:$C$3,2,FALSE))","v":""},null,{"$f":"IF(C1030=\"\",\"\",VLOOKUP(C1030,PARAMETROS!$G$3:$H$21,2,FALSE))","v":""},null,{"$f":"IF(E1030=\"\",\"\",VLOOKUP(E1030,PARAMETROS!$I$3:$J$21,2,FALSE))","v":""},null,null,null,null,null,null,""]
[null,{"$f":"IF(A1031=\"\",\"\",VLOOKUP(A1031,PARAMETROS!$B$3:$C$3,2,FALSE))","v":""},null,{"$f":"IF(C1031=\"\",\"\",VLOOKUP(C1031,PARAMETROS!$G$3:$H$21,2,FALSE))","v":""},null,{"$f":"IF(E1031=\"\",\"\",VLOOKUP(E1031,PARAMETROS!$I$3:$J$21,2,FALSE))","v":""},null,null,null,null,null,null,""]
[null,{"$f":"IF(A1032=\"\",\"\",VLOOKUP(A1032,PARAMETROS!$B$3:$C$3,2,FALSE))","v":""},null,{"$f":"IF(C1032=\"\",\"\",VLOOKUP(C1032,PARAMETROS!$G$3:$H$21,2,FALSE))","v":""},null,{"$f":"IF(E1032=\"\",\"\",VLOOKUP(E1032,PARAMETROS!$I$3:$J$21,2,FALSE))","v":""},null,null,null,null,null,null,""]
[null,{"$f":"IF(A1033=\"\",\"\",VLOOKUP(A1033,PARAMETROS!$B$3:$C$3,2,FALSE))","v":""},null,{"$f":"IF(C1033=\"\",\"\",VLOOKUP(C1033,PARAMETROS!$G$3:$H$21,2,FALSE))","v":""},null,{"$f":"IF(E1033=\"\",\"\",VLOOKUP(E1033,PARAMETROS!$I$3:$J$21,2,FALSE))","v":""},null,null,null,null,null,null,""]
[null,{"$f":"IF(A1034=\"\",\"\",VLOOKUP(A1034,PARAMETROS!$B$3:$C$3,2,FALSE))","v":""},null,{"$f":"IF(C1034=\"\",\"\",VLOOKUP(C1034,PARAMETROS!$G$3:$H$21,2,FALSE))","v":""},null,{"$f":"IF(E1034=\"\",\"\",VLOOKUP(E1034,PARAMETROS!$I$3:$J$21,2,FALSE))","v":""},null,null,null,null,null,null,""]
[null,{"$f":"IF(A1035=\"\",\"\",VLOOKUP(A1035,PARAMETROS!$B$3:$C$3,2,FALSE))","v":""},null,{"$f":"IF(C1035=\"\",\"\",VLOOKUP(C1035,PARAMETROS!$G$3:$H$21,2,FALSE))","v":""},null,{"$f":"IF(E1035=\"\",\"\",VLOOKUP(E1035,PARAMETROS!$I$3:$J$21,2,FALSE))","v":""},null,null,null,null,null,null,""]
[null,{"$f":"IF(A1036=\"\",\"\",VLOOKUP(A1036,PARAMETROS!$B$3:$C$3,2,FALSE))","v":""},null,{"$f":"IF(C1036=\"\",\"\",VLOOKUP(C1036,PARAMETROS!$G$3:$H$21,2,FALSE))","v":""},null,{"$f":"IF(E1036=\"\",\"\",VLOOKUP(E1036,PARAMETROS!$I$3:$J$21,2,FALSE))","v":""},null,null,null,null,null,null,""]
[null,{"$f":"IF(A1037=\"\",\"\",VLOOKUP(A1037,PARAMETROS!$B$3:$C$3,2,FALSE))","v":""},null,{"$f":"IF(C1037=\"\",\"\",VLOOKUP(C1037,PARAMETROS!$G$3:$H$21,2,FALSE))","v":""},null,{"$f":"IF(E1037=\"\",\"\",VLOOKUP(E1037,PARAMETROS!$I$3:$J$21,2,FALSE))","v":""},null,null,null,null,null,null,""]
[null,{"$f":"IF(A1038=\"\",\"\",VLOOKUP(A1038,PARAMETROS!$B$3:$C$3,2,FALSE))","v":""},null,{"$f":"IF(C1038=\"\",\"\",VLOOKUP(C1038,PARAMETROS!$G$3:$H$21,2,FALSE))","v":""},null,{"$f":"IF(E1038=\"\",\"\",VLOOKUP(E1038,PARAMETROS!$I$3:$J$21,2,FALSE))","v":""},null,null,null,null,null,null,""]
[null,{"$f":"IF(A1039=\"\",\"\",VLOOKUP(A1039,PARAMETROS!$B$3:$C$3,2,FALSE))","v":""},null,{"$f":"IF(C1039=\"\",\"\",VLOOKUP(C1039,PARAMETROS!$G$3:$H$21,2,FALSE))","v":""},null,{"$f":"IF(E1039=\"\",\"\",VLOOKUP(E1039,PARAMETROS!$I$3:$J$21,2,FALSE))","v":""},null,null,null,null,null,null,{"$f":"IF(L1039=\"\", \"\", L1039)","v":""}]
[null,{"$f":"IF(A1040=\"\",\"\",VLOOKUP(A1040,PARAMETROS!$B$3:$C$3,2,FALSE))","v":""},null,{"$f":"IF(C1040=\"\",\"\",VLOOKUP(C1040,PARAMETROS!$G$3:$H$21,2,FALSE))","v":""},null,{"$f":"IF(E1040=\"\",\"\",VLOOKUP(E1040,PARAMETROS!$I$3:$J$21,2,FALSE))","v":""},null,null,null,null,null,null,""]
[null,{"$f":"IF(A1041=\"\",\"\",VLOOKUP(A1041,PARAMETROS!$B$3:$C$3,2,FALSE))","v":""},null,{"$f":"IF(C1041=\"\",\"\",VLOOKUP(C1041,PARAMETROS!$G$3:$H$21,2,FALSE))","v":""},null,{"$f":"IF(E1041=\"\",\"\",VLOOKUP(E1041,PARAMETROS!$I$3:$J$21,2,FALSE))","v":""},null,null,null,null,null,null,""]
[null,{"$f":"IF(A1042=\"\",\"\",VLOOKUP(A1042,PARAMETROS!$B$3:$C$3,2,FALSE))","v":""},null,{"$f":"IF(C1042=\"\",\"\",VLOOKUP(C1042,PARAMETROS!$G$3:$H$21,2,FALSE))","v":""},null,{"$f":"IF(E1042=\"\",\"\",VLOOKUP(E1042,PARAMETROS!$I$3:$J$21,2,FALSE))","v":""},null,null,null,null,null,null,""]
[null,{"$f":"IF(A1043=\"\",\"\",VLOOKUP(A1043,PARAMETROS!$B$3:$C$3,2,FALSE))","v":""},null,{"$f":"IF(C1043=\"\",\"\",VLOOKUP(C1043,PARAMETROS!$G$3:$H$21,2,FALSE))","v":""},null,{"$f":"IF(E1043=\"\",\"\",VLOOKUP(E1043,PARAMETROS!$I$3:$J$21,2,FALSE))","v":""},null,null,null,null,null,null,""]
[null,{"$f":"IF(A1044=\"\",\"\",VLOOKUP(A1044,PARAMETROS!$B$3:$C$3,2,FALSE))","v":""},null,{"$f":"IF(C1044=\"\",\"\",VLOOKUP(C1044,PARAMETROS!$G$3:$H$21,2,FALSE))","v":""},null,{"$f":"IF(E1044=\"\",\"\",VLOOKUP(E1044,PARAMETROS!$I$3:$J$21,2,FALSE))","v":""},null,null,null,null,null,null,""]
[null,{"$f":"IF(A1045=\"\",\"\",VLOOKUP(A1045,PARAMETROS!$B$3:$C$3,2,FALSE))","v":""},null,{"$f":"IF(C1045=\"\",\"\",VLOOKUP(C1045,PARAMETROS!$G$3:$H$21,2,FALSE))","v":""},null,{"$f":"IF(E1045=\"\",\"\",VLOOKUP(E1045,PARAMETROS!$I$3:$J$21,2,FALSE))","v":""},null,null,null,null,null,null,""]
[null,{"$f":"IF(A1046=\"\",\"\",VLOOKUP(A1046,PARAMETROS!$B$3:$C$3,2,FALSE))","v":""},null,{"$f":"IF(C1046=\"\",\"\",VLOOKUP(C1046,PARAMETROS!$G$3:$H$21,2,FALSE))","v":""},null,{"$f":"IF(E1046=\"\",\"\",VLOOKUP(E1046,PARAMETROS!$I$3:$J$21,2,FALSE))","v":""},null,null,null,null,null,null,""]
[null,{"$f":"IF(A1047=\"\",\"\",VLOOKUP(A1047,PARAMETROS!$B$3:$C$3,2,FALSE))","v":""},null,{"$f":"IF(C1047=\"\",\"\",VLOOKUP(C1047,PARAMETROS!$G$3:$H$21,2,FALSE))","v":""},null,{"$f":"IF(E1047=\"\",\"\",VLOOKUP(E1047,PARAMETROS!$I$3:$J$21,2,FALSE))","v":""},null,null,null,null,null,null,""]
[null,{"$f":"IF(A1048=\"\",\"\",VLOOKUP(A1048,PARAMETROS!$B$3:$C$3,2,FALSE))","v":""},null,{"$f":"IF(C1048=\"\",\"\",VLOOKUP(C1048,PARAMETROS!$G$3:$H$21,2,FALSE))","v":""},null,{"$f":"IF(E1048=\"\",\"\",VLOOKUP(E1048,PARAMETROS!$I$3:$J$21,2,FALSE))","v":""},null,null,null,null,null,null,""]
[null,{"$f":"IF(A1049=\"\",\"\",VLOOKUP(A1049,PARAMETROS!$B$3:$C$3,2,FALSE))","v":""},null,{"$f":"IF(C1049=\"\",\"\",VLOOKUP(C1049,PARAMETROS!$G$3:$H$21,2,FALSE))","v":""},null,{"$f":"IF(E1049=\"\",\"\",VLOOKUP(E1049,PARAMETROS!$I$3:$J$21,2,FALSE))","v":""},null,null,null,null,null,null,""]
[null,{"$f":"IF(A1050=\"\",\"\",VLOOKUP(A1050,PARAMETROS!$B$3:$C$3,2,FALSE))","v":""},null,{"$f":"IF(C1050=\"\",\"\",VLOOKUP(C1050,PARAMETROS!$G$3:$H$21,2,FALSE))","v":""},null,{"$f":"IF(E1050=\"\",\"\",VLOOKUP(E1050,PARAMETROS!$I$3:$J$21,2,FALSE))","v":""},null,null,null,null,null,null,""]
[null,{"$f":"IF(A1051=\"\",\"\",VLOOKUP(A1051,PARAMETROS!$B$3:$C$3,2,FALSE))","v":""},null,{"$f":"IF(C1051=\"\",\"\",VLOOKUP(C1051,PARAMETROS!$G$3:$H$21,2,FALSE))","v":""},null,{"$f":"IF(E1051=\"\",\"\",VLOOKUP(E1051,PARAMETROS!$I$3:$J$21,2,FALSE))","v":""},null,null,null,null,null,null,""]
[null,{"$f":"IF(A1052=\"\",\"\",VLOOKUP(A1052,PARAMETROS!$B$3:$C$3,2,FALSE))","v":""},null,{"$f":"IF(C1052=\"\",\"\",VLOOKUP(C1052,PARAMETROS!$G$3:$H$21,2,FALSE))","v":""},null,{"$f":"IF(E1052=\"\",\"\",VLOOKUP(E1052,PARAMETROS!$I$3:$J$21,2,FALSE))","v":""},null,null,null,null,null,null,""]
[null,{"$f":"IF(A1053=\"\",\"\",VLOOKUP(A1053,PARAMETROS!$B$3:$C$3,2,FALSE))","v":""},null,{"$f":"IF(C1053=\"\",\"\",VLOOKUP(C1053,PARAMETROS!$G$3:$H$21,2,FALSE))","v":""},null,{"$f":"IF(E1053=\"\",\"\",VLOOKUP(E1053,PARAMETROS!$I$3:$J$21,2,FALSE))","v":""},null,null,null,null,null,null,""]
[null,{"$f":"IF(A1054=\"\",\"\",VLOOKUP(A1054,PARAMETROS!$B$3:$C$3,2,FALSE))","v":""},null,{"$f":"IF(C1054=\"\",\"\",VLOOKUP(C1054,PARAMETROS!$G$3:$H$21,2,FALSE))","v":""},null,{"$f":"IF(E1054=\"\",\"\",VLOOKUP(E1054,PARAMETROS!$I$3:$J$21,2,FALSE))","v":""},null,null,null,null,null,null,""]
[null,{"$f":"IF(A1055=\"\",\"\",VLOOKUP(A1055,PARAMETROS!$B$3:$C$3,2,FALSE))","v":""},null,{"$f":"IF(C1055=\"\",\"\",VLOOKUP(C1055,PARAMETROS!$G$3:$H$21,2,FALSE))","v":""},null,{"$f":"IF(E1055=\"\",\"\",VLOOKUP(E1055,PARAMETROS!$I$3:$J$21,2,FALSE))","v":""},null,null,null,null,null,null,""]
[null,{"$f":"IF(A1056=\"\",\"\",VLOOKUP(A1056,PARAMETROS!$B$3:$C$3,2,FALSE))","v":""},null,{"$f":"IF(C1056=\"\",\"\",VLOOKUP(C1056,PARAMETROS!$G$3:$H$21,2,FALSE))","v":""},null,{"$f":"IF(E1056=\"\",\"\",VLOOKUP(E1056,PARAMETROS!$I$3:$J$21,2,FALSE))","v":""},null,null,null,null,null,null,""]
[null,{"$f":"IF(A1057=\"\",\"\",VLOOKUP(A1057,PARAMETROS!$B$3:$C$3,2,FALSE))","v":""},null,{"$f":"IF(C1057=\"\",\"\",VLOOKUP(C1057,PARAMETROS!$G$3:$H$21,2,FALSE))","v":""},null,{"$f":"IF(E1057=\"\",\"\",VLOOKUP(E1057,PARAMETROS!$I$3:$J$21,2,FALSE))","v":""},null,null,null,null,null,null,""]
[null,{"$f":"IF(A1058=\"\",\"\",VLOOKUP(A1058,PARAMETROS!$B$3:$C$3,2,FALSE))","v":""},null,{"$f":"IF(C1058=\"\",\"\",VLOOKUP(C1058,PARAMETROS!$G$3:$H$21,2,FALSE))","v":""},null,{"$f":"IF(E1058=\"\",\"\",VLOOKUP(E1058,PARAMETROS!$I$3:$J$21,2,FALSE))","v":""},null,null,null,null,null,null,""]
[null,{"$f":"IF(A1059=\"\",\"\",VLOOKUP(A1059,PARAMETROS!$B$3:$C$3,2,FALSE))","v":""},null,{"$f":"IF(C1059=\"\",\"\",VLOOKUP(C1059,PARAMETROS!$G$3:$H$21,2,FALSE))","v":""},null,{"$f":"IF(E1059=\"\",\"\",VLOOKUP(E1059,PARAMETROS!$I$3:$J$21,2,FALSE))","v":""},null,null,null,null,null,null,""]
[null,{"$f":"IF(A1060=\"\",\"\",VLOOKUP(A1060,PARAMETROS!$B$3:$C$3,2,FALSE))","v":""},null,{"$f":"IF(C1060=\"\",\"\",VLOOKUP(C1060,PARAMETROS!$G$3:$H$21,2,FALSE))","v":""},null,{"$f":"IF(E1060=\"\",\"\",VLOOKUP(E1060,PARAMETROS!$I$3:$J$21,2,FALSE))","v":""},null,null,null,null,null,null,""]
[null,{"$f":"IF(A1061=\"\",\"\",VLOOKUP(A1061,PARAMETROS!$B$3:$C$3,2,FALSE))","v":""},null,{"$f":"IF(C1061=\"\",\"\",VLOOKUP(C1061,PARAMETROS!$G$3:$H$21,2,FALSE))","v":""},null,{"$f":"IF(E1061=\"\",\"\",VLOOKUP(E1061,PARAMETROS!$I$3:$J$21,2,FALSE))","v":""},null,null,null,null,null,null,""]
[null,{"$f":"IF(A1062=\"\",\"\",VLOOKUP(A1062,PARAMETROS!$B$3:$C$3,2,FALSE))","v":""},null,{"$f":"IF(C1062=\"\",\"\",VLOOKUP(C1062,PARAMETROS!$G$3:$H$21,2,FALSE))","v":""},null,{"$f":"IF(E1062=\"\",\"\",VLOOKUP(E1062,PARAMETROS!$I$3:$J$21,2,FALSE))","v":""},null,null,null,null,null,null,""]
[null,{"$f":"IF(A1063=\"\",\"\",VLOOKUP(A1063,PARAMETROS!$B$3:$C$3,2,FALSE))","v":""},null,{"$f":"IF(C1063=\"\",\"\",VLOOKUP(C1063,PARAMETROS!$G$3:$H$21,2,FALSE))","v":""},null,{"$f":"IF(E1063=\"\",\"\",VLOOKUP(E1063,PARAMETROS!$I$3:$J$21,2,FALSE))","v":""},null,null,null,null,null,null,""]
[null,{"$f":"IF(A1064=\"\",\"\",VLOOKUP(A1064,PARAMETROS!$B$3:$C$3,2,FALSE))","v":""},null,{"$f":"IF(C1064=\"\",\"\",VLOOKUP(C1064,PARAMETROS!$G$3:$H$21,2,FALSE))","v":""},null,{"$f":"IF(E1064=\"\",\"\",VLOOKUP(E1064,PARAMETROS!$I$3:$J$21,2,FALSE))","v":""},null,null,null,null,null,null,""]
[null,{"$f":"IF(A1065=\"\",\"\",VLOOKUP(A1065,PARAMETROS!$B$3:$C$3,2,FALSE))","v":""},null,{"$f":"IF(C1065=\"\",\"\",VLOOKUP(C1065,PARAMETROS!$G$3:$H$21,2,FALSE))","v":""},null,{"$f":"IF(E1065=\"\",\"\",VLOOKUP(E1065,PARAMETROS!$I$3:$J$21,2,FALSE))","v":""},null,null,null,null,null,null,""]
[null,{"$f":"IF(A1066=\"\",\"\",VLOOKUP(A1066,PARAMETROS!$B$3:$C$3,2,FALSE))","v":""},null,{"$f":"IF(C1066=\"\",\"\",VLOOKUP(C1066,PARAMETROS!$G$3:$H$21,2,FALSE))","v":""},null,{"$f":"IF(E1066=\"\",\"\",VLOOKUP(E1066,PARAMETROS!$I$3:$J$21,2,FALSE))","v":""},null,null,null,null,null,null,""]
[null,{"$f":"IF(A1067=\"\",\"\",VLOOKUP(A1067,PARAMETROS!$B$3:$C$3,2,FALSE))","v":""},null,{"$f":"IF(C1067=\"\",\"\",VLOOKUP(C1067,PARAMETROS!$G$3:$H$21,2,FALSE))","v":""},null,{"$f":"IF(E1067=\"\",\"\",VLOOKUP(E1067,PARAMETROS!$I$3:$J$21,2,FALSE))","v":""},null,null,null,null,null,null,""]
[null,{"$f":"IF(A1068=\"\",\"\",VLOOKUP(A1068,PARAMETROS!$B$3:$C$3,2,FALSE))","v":""},null,{"$f":"IF(C1068=\"\",\"\",VLOOKUP(C1068,PARAMETROS!$G$3:$H$21,2,FALSE))","v":""},null,{"$f":"IF(E1068=\"\",\"\",VLOOKUP(E1068,PARAMETROS!$I$3:$J$21,2,FALSE))","v":""},null,null,null,null,null,null,""]
[null,{"$f":"IF(A1069=\"\",\"\",VLOOKUP(A1069,PARAMETROS!$B$3:$C$3,2,FALSE))","v":""},null,{"$f":"IF(C1069=\"\",\"\",VLOOKUP(C1069,PARAMETROS!$G$3:$H$21,2,FALSE))","v":""},null,{"$f":"IF(E1069=\"\",\"\",VLOOKUP(E1069,PARAMETROS!$I$3:$J$21,2,FALSE))","v":""},null,null,null,null,null,null,""]
[null,{"$f":"IF(A1070=\"\",\"\",VLOOKUP(A1070,PARAMETROS!$B$3:$C$3,2,FALSE))","v":""},null,{"$f":"IF(C1070=\"\",\"\",VLOOKUP(C1070,PARAMETROS!$G$3:$H$21,2,FALSE))","v":""},null,{"$f":"IF(E1070=\"\",\"\",VLOOKUP(E1070,PARAMETROS!$I$3:$J$21,2,FALSE))","v":""},null,null,null,null,null,null,""]
[null,{"$f":"IF(A1071=\"\",\"\",VLOOKUP(A1071,PARAMETROS!$B$3:$C$3,2,FALSE))","v":""},null,{"$f":"IF(C1071=\"\",\"\",VLOOKUP(C1071,PARAMETROS!$G$3:$H$21,2,FALSE))","v":""},null,{"$f":"IF(E1071=\"\",\"\",VLOOKUP(E1071,PARAMETROS!$I$3:$J$21,2,FALSE))","v":""},null,null,null,null,null,null,""]
[null,{"$f":"IF(A1072=\"\",\"\",VLOOKUP(A1072,PARAMETROS!$B$3:$C$3,2,FALSE))","v":""},null,{"$f":"IF(C1072=\"\",\"\",VLOOKUP(C1072,PARAMETROS!$G$3:$H$21,2,FALSE))","v":""},null,{"$f":"IF(E1072=\"\",\"\",VLOOKUP(E1072,PARAMETROS!$I$3:$J$21,2,FALSE))","v":""},null,null,null,null,null,null,""]
[null,{"$f":"IF(A1073=\"\",\"\",VLOOKUP(A1073,PARAMETROS!$B$3:$C$3,2,FALSE))","v":""},null,{"$f":"IF(C1073=\"\",\"\",VLOOKUP(C1073,PARAMETROS!$G$3:$H$21,2,FALSE))","v":""},null,{"$f":"IF(E1073=\"\",\"\",VLOOKUP(E1073,PARAMETROS!$I$3:$J$21,2,FALSE))","v":""},null,null,null,null,null,null,""]
[null,{"$f":"IF(A1074=\"\",\"\",VLOOKUP(A1074,PARAMETROS!$B$3:$C$3,2,FALSE))","v":""},null,{"$f":"IF(C1074=\"\",\"\",VLOOKUP(C1074,PARAMETROS!$G$3:$H$21,2,FALSE))","v":""},null,{"$f":"IF(E1074=\"\",\"\",VLOOKUP(E1074,PARAMETROS!$I$3:$J$21,2,FALSE))","v":""},null,null,null,null,null,null,""]
[null,{"$f":"IF(A1075=\"\",\"\",VLOOKUP(A1075,PARAMETROS!$B$3:$C$3,2,FALSE))","v":""},null,{"$f":"IF(C1075=\"\",\"\",VLOOKUP(C1075,PARAMETROS!$G$3:$H$21,2,FALSE))","v":""},null,{"$f":"IF(E1075=\"\",\"\",VLOOKUP(E1075,PARAMETROS!$I$3:$J$21,2,FALSE))","v":""},null,null,null,null,null,null,""]
[null,{"$f":"IF(A1076=\"\",\"\",VLOOKUP(A1076,PARAMETROS!$B$3:$C$3,2,FALSE))","v":""},null,{"$f":"IF(C1076=\"\",\"\",VLOOKUP(C1076,PARAMETROS!$G$3:$H$21,2,FALSE))","v":""},null,{"$f":"IF(E1076=\"\",\"\",VLOOKUP(E1076,PARAMETROS!$I$3:$J$21,2,FALSE))","v":""},null,null,null,null,null,null,""]
[null,{"$f":"IF(A1077=\"\",\"\",VLOOKUP(A1077,PARAMETROS!$B$3:$C$3,2,FALSE))","v":""},null,{"$f":"IF(C1077=\"\",\"\",VLOOKUP(C1077,PARAMETROS!$G$3:$H$21,2,FALSE))","v":""},null,{"$f":"IF(E1077=\"\",\"\",VLOOKUP(E1077,PARAMETROS!$I$3:$J$21,2,FALSE))","v":""},null,null,null,null,null,null,""]
[null,{"$f":"IF(A1078=\"\",\"\",VLOOKUP(A1078,PARAMETROS!$B$3:$C$3,2,FALSE))","v":""},null,{"$f":"IF(C1078=\"\",\"\",VLOOKUP(C1078,PARAMETROS!$G$3:$H$21,2,FALSE))","v":""},null,{"$f":"IF(E1078=\"\",\"\",VLOOKUP(E1078,PARAMETROS!$I$3:$J$21,2,FALSE))","v":""},null,null,null,null,null,null,""]
[null,{"$f":"IF(A1079=\"\",\"\",VLOOKUP(A1079,PARAMETROS!$B$3:$C$3,2,FALSE))","v":""},null,{"$f":"IF(C1079=\"\",\"\",VLOOKUP(C1079,PARAMETROS!$G$3:$H$21,2,FALSE))","v":""},null,{"$f":"IF(E1079=\"\",\"\",VLOOKUP(E1079,PARAMETROS!$I$3:$J$21,2,FALSE))","v":""},null,null,null,null,null,null,""]
[null,{"$f":"IF(A1080=\"\",\"\",VLOOKUP(A1080,PARAMETROS!$B$3:$C$3,2,FALSE))","v":""},null,{"$f":"IF(C1080=\"\",\"\",VLOOKUP(C1080,PARAMETROS!$G$3:$H$21,2,FALSE))","v":""},null,{"$f":"IF(E1080=\"\",\"\",VLOOKUP(E1080,PARAMETROS!$I$3:$J$21,2,FALSE))","v":""},null,null,null,null,null,null,""]
[null,{"$f":"IF(A1081=\"\",\"\",VLOOKUP(A1081,PARAMETROS!$B$3:$C$3,2,FALSE))","v":""},null,{"$f":"IF(C1081=\"\",\"\",VLOOKUP(C1081,PARAMETROS!$G$3:$H$21,2,FALSE))","v":""},null,{"$f":"IF(E1081=\"\",\"\",VLOOKUP(E1081,PARAMETROS!$I$3:$J$21,2,FALSE))","v":""},null,null,null,null,null,null,""]
[null,{"$f":"IF(A1082=\"\",\"\",VLOOKUP(A1082,PARAMETROS!$B$3:$C$3,2,FALSE))","v":""},null,{"$f":"IF(C1082=\"\",\"\",VLOOKUP(C1082,PARAMETROS!$G$3:$H$21,2,FALSE))","v":""},null,{"$f":"IF(E1082=\"\",\"\",VLOOKUP(E1082,PARAMETROS!$I$3:$J$21,2,FALSE))","v":""},null,null,null,null,null,null,""]
[null,{"$f":"IF(A1083=\"\",\"\",VLOOKUP(A1083,PARAMETROS!$B$3:$C$3,2,FALSE))","v":""},null,{"$f":"IF(C1083=\"\",\"\",VLOOKUP(C1083,PARAMETROS!$G$3:$H$21,2,FALSE))","v":""},null,{"$f":"IF(E1083=\"\",\"\",VLOOKUP(E1083,PARAMETROS!$I$3:$J$21,2,FALSE))","v":""},null,null,null,null,null,null,""]
[null,{"$f":"IF(A1084=\"\",\"\",VLOOKUP(A1084,PARAMETROS!$B$3:$C$3,2,FALSE))","v":""},null,{"$f":"IF(C1084=\"\",\"\",VLOOKUP(C1084,PARAMETROS!$G$3:$H$21,2,FALSE))","v":""},null,{"$f":"IF(E1084=\"\",\"\",VLOOKUP(E1084,PARAMETROS!$I$3:$J$21,2,FALSE))","v":""},null,null,null,null,null,null,""]
[null,{"$f":"IF(A1085=\"\",\"\",VLOOKUP(A1085,PARAMETROS!$B$3:$C$3,2,FALSE))","v":""},null,{"$f":"IF(C1085=\"\",\"\",VLOOKUP(C1085,PARAMETROS!$G$3:$H$21,2,FALSE))","v":""},null,{"$f":"IF(E1085=\"\",\"\",VLOOKUP(E1085,PARAMETROS!$I$3:$J$21,2,FALSE))","v":""},null,null,null,null,null,null,""]
[null,{"$f":"IF(A1086=\"\",\"\",VLOOKUP(A1086,PARAMETROS!$B$3:$C$3,2,FALSE))","v":""},null,{"$f":"IF(C1086=\"\",\"\",VLOOKUP(C1086,PARAMETROS!$G$3:$H$21,2,FALSE))","v":""},null,{"$f":"IF(E1086=\"\",\"\",VLOOKUP(E1086,PARAMETROS!$I$3:$J$21,2,FALSE))","v":""},null,null,null,null,null,null,""]
[null,{"$f":"IF(A1087=\"\",\"\",VLOOKUP(A1087,PARAMETROS!$B$3:$C$3,2,FALSE))","v":""},null,{"$f":"IF(C1087=\"\",\"\",VLOOKUP(C1087,PARAMETROS!$G$3:$H$21,2,FALSE))","v":""},null,{"$f":"IF(E1087=\"\",\"\",VLOOKUP(E1087,PARAMETROS!$I$3:$J$21,2,FALSE))","v":""},null,null,null,null,null,null,""]
[null,{"$f":"IF(A1088=\"\",\"\",VLOOKUP(A1088,PARAMETROS!$B$3:$C$3,2,FALSE))","v":""},null,{"$f":"IF(C1088=\"\",\"\",VLOOKUP(C1088,PARAMETROS!$G$3:$H$21,2,FALSE))","v":""},null,{"$f":"IF(E1088=\"\",\"\",VLOOKUP(E1088,PARAMETROS!$I$3:$J$21,2,FALSE))","v":""},null,null,null,null,null,null,""]
[null,{"$f":"IF(A1089=\"\",\"\",VLOOKUP(A1089,PARAMETROS!$B$3:$C$3,2,FALSE))","v":""},null,{"$f":"IF(C1089=\"\",\"\",VLOOKUP(C1089,PARAMETROS!$G$3:$H$21,2,FALSE))","v":""},null,{"$f":"IF(E1089=\"\",\"\",VLOOKUP(E1089,PARAMETROS!$I$3:$J$21,2,FALSE))","v":""},null,null,null,null,null,null,""]
[null,{"$f":"IF(A1090=\"\",\"\",VLOOKUP(A1090,PARAMETROS!$B$3:$C$3,2,FALSE))","v":""},null,{"$f":"IF(C1090=\"\",\"\",VLOOKUP(C1090,PARAMETROS!$G$3:$H$21,2,FALSE))","v":""},null,{"$f":"IF(E1090=\"\",\"\",VLOOKUP(E1090,PARAMETROS!$I$3:$J$21,2,FALSE))","v":""},null,null,null,null,null,null,""]
[null,{"$f":"IF(A1091=\"\",\"\",VLOOKUP(A1091,PARAMETROS!$B$3:$C$3,2,FALSE))","v":""},null,{"$f":"IF(C1091=\"\",\"\",VLOOKUP(C1091,PARAMETROS!$G$3:$H$21,2,FALSE))","v":""},null,{"$f":"IF(E1091=\"\",\"\",VLOOKUP(E1091,PARAMETROS!$I$3:$J$21,2,FALSE))","v":""},null,null,null,null,null,null,""]
[null,{"$f":"IF(A1092=\"\",\"\",VLOOKUP(A1092,PARAMETROS!$B$3:$C$3,2,FALSE))","v":""},null,{"$f":"IF(C1092=\"\",\"\",VLOOKUP(C1092,PARAMETROS!$G$3:$H$21,2,FALSE))","v":""},null,{"$f":"IF(E1092=\"\",\"\",VLOOKUP(E1092,PARAMETROS!$I$3:$J$21,2,FALSE))","v":""},null,null,null,null,null,null,""]
[null,{"$f":"IF(A1093=\"\",\"\",VLOOKUP(A1093,PARAMETROS!$B$3:$C$3,2,FALSE))","v":""},null,{"$f":"IF(C1093=\"\",\"\",VLOOKUP(C1093,PARAMETROS!$G$3:$H$21,2,FALSE))","v":""},null,{"$f":"IF(E1093=\"\",\"\",VLOOKUP(E1093,PARAMETROS!$I$3:$J$21,2,FALSE))","v":""},null,null,null,null,null,null,""]
[null,{"$f":"IF(A1094=\"\",\"\",VLOOKUP(A1094,PARAMETROS!$B$3:$C$3,2,FALSE))","v":""},null,{"$f":"IF(C1094=\"\",\"\",VLOOKUP(C1094,PARAMETROS!$G$3:$H$21,2,FALSE))","v":""},null,{"$f":"IF(E1094=\"\",\"\",VLOOKUP(E1094,PARAMETROS!$I$3:$J$21,2,FALSE))","v":""},null,null,null,null,null,null,""]
[null,{"$f":"IF(A1095=\"\",\"\",VLOOKUP(A1095,PARAMETROS!$B$3:$C$3,2,FALSE))","v":""},null,{"$f":"IF(C1095=\"\",\"\",VLOOKUP(C1095,PARAMETROS!$G$3:$H$21,2,FALSE))","v":""},null,{"$f":"IF(E1095=\"\",\"\",VLOOKUP(E1095,PARAMETROS!$I$3:$J$21,2,FALSE))","v":""},null,null,null,null,null,null,""]
[null,{"$f":"IF(A1096=\"\",\"\",VLOOKUP(A1096,PARAMETROS!$B$3:$C$3,2,FALSE))","v":""},null,{"$f":"IF(C1096=\"\",\"\",VLOOKUP(C1096,PARAMETROS!$G$3:$H$21,2,FALSE))","v":""},null,{"$f":"IF(E1096=\"\",\"\",VLOOKUP(E1096,PARAMETROS!$I$3:$J$21,2,FALSE))","v":""},null,null,null,null,null,null,""]
[null,{"$f":"IF(A1097=\"\",\"\",VLOOKUP(A1097,PARAMETROS!$B$3:$C$3,2,FALSE))","v":""},null,{"$f":"IF(C1097=\"\",\"\",VLOOKUP(C1097,PARAMETROS!$G$3:$H$21,2,FALSE))","v":""},null,{"$f":"IF(E1097=\"\",\"\",VLOOKUP(E1097,PARAMETROS!$I$3:$J$21,2,FALSE))","v":""},null,null,null,null,null,null,""]
[null,{"$f":"IF(A1098=\"\",\"\",VLOOKUP(A1098,PARAMETROS!$B$3:$C$3,2,FALSE))","v":""},null,{"$f":"IF(C1098=\"\",\"\",VLOOKUP(C1098,PARAMETROS!$G$3:$H$21,2,FALSE))","v":""},null,{"$f":"IF(E1098=\"\",\"\",VLOOKUP(E1098,PARAMETROS!$I$3:$J$21,2,FALSE))","v":""},null,null,null,null,null,null,""]
[null,{"$f":"IF(A1099=\"\",\"\",VLOOKUP(A1099,PARAMETROS!$B$3:$C$3,2,FALSE))","v":""},null,{"$f":"IF(C1099=\"\",\"\",VLOOKUP(C1099,PARAMETROS!$G$3:$H$21,2,FALSE))","v":""},null,{"$f":"IF(E1099=\"\",\"\",VLOOKUP(E1099,PARAMETROS!$I$3:$J$21,2,FALSE))","v":""},null,null,null,null,null,null,""]
[null,{"$f":"IF(A1100=\"\",\"\",VLOOKUP(A1100,PARAMETROS!$B$3:$C$3,2,FALSE))","v":""},null,{"$f":"IF(C1100=\"\",\"\",VLOOKUP(C1100,PARAMETROS!$G$3:$H$21,2,FALSE))","v":""},null,{"$f":"IF(E1100=\"\",\"\",VLOOKUP(E1100,PARAMETROS!$I$3:$J$21,2,FALSE))","v":""},null,null,null,null,null,null,""]
[null,{"$f":"IF(A1101=\"\",\"\",VLOOKUP(A1101,PARAMETROS!$B$3:$C$3,2,FALSE))","v":""},null,{"$f":"IF(C1101=\"\",\"\",VLOOKUP(C1101,PARAMETROS!$G$3:$H$21,2,FALSE))","v":""},null,{"$f":"IF(E1101=\"\",\"\",VLOOKUP(E1101,PARAMETROS!$I$3:$J$21,2,FALSE))","v":""},null,null,null,null,null,null,""]
[null,{"$f":"IF(A1102=\"\",\"\",VLOOKUP(A1102,PARAMETROS!$B$3:$C$3,2,FALSE))","v":""},null,{"$f":"IF(C1102=\"\",\"\",VLOOKUP(C1102,PARAMETROS!$G$3:$H$21,2,FALSE))","v":""},null,{"$f":"IF(E1102=\"\",\"\",VLOOKUP(E1102,PARAMETROS!$I$3:$J$21,2,FALSE))","v":""},null,null,null,null,null,null,""]
[null,{"$f":"IF(A1103=\"\",\"\",VLOOKUP(A1103,PARAMETROS!$B$3:$C$3,2,FALSE))","v":""},null,{"$f":"IF(C1103=\"\",\"\",VLOOKUP(C1103,PARAMETROS!$G$3:$H$21,2,FALSE))","v":""},null,{"$f":"IF(E1103=\"\",\"\",VLOOKUP(E1103,PARAMETROS!$I$3:$J$21,2,FALSE))","v":""},null,null,null,null,null,null,{"$f":"IF(L1103=\"\", \"\", L1103)","v":""}]
[null,{"$f":"IF(A1104=\"\",\"\",VLOOKUP(A1104,PARAMETROS!$B$3:$C$3,2,FALSE))","v":""},null,{"$f":"IF(C1104=\"\",\"\",VLOOKUP(C1104,PARAMETROS!$G$3:$H$21,2,FALSE))","v":""},null,{"$f":"IF(E1104=\"\",\"\",VLOOKUP(E1104,PARAMETROS!$I$3:$J$21,2,FALSE))","v":""},null,null,null,null,null,null,""]
[null,{"$f":"IF(A1105=\"\",\"\",VLOOKUP(A1105,PARAMETROS!$B$3:$C$3,2,FALSE))","v":""},null,{"$f":"IF(C1105=\"\",\"\",VLOOKUP(C1105,PARAMETROS!$G$3:$H$21,2,FALSE))","v":""},null,{"$f":"IF(E1105=\"\",\"\",VLOOKUP(E1105,PARAMETROS!$I$3:$J$21,2,FALSE))","v":""},null,null,null,null,null,null,""]
[null,{"$f":"IF(A1106=\"\",\"\",VLOOKUP(A1106,PARAMETROS!$B$3:$C$3,2,FALSE))","v":""},null,{"$f":"IF(C1106=\"\",\"\",VLOOKUP(C1106,PARAMETROS!$G$3:$H$21,2,FALSE))","v":""},null,{"$f":"IF(E1106=\"\",\"\",VLOOKUP(E1106,PARAMETROS!$I$3:$J$21,2,FALSE))","v":""},null,null,null,null,null,null,""]
[null,{"$f":"IF(A1107=\"\",\"\",VLOOKUP(A1107,PARAMETROS!$B$3:$C$3,2,FALSE))","v":""},null,{"$f":"IF(C1107=\"\",\"\",VLOOKUP(C1107,PARAMETROS!$G$3:$H$21,2,FALSE))","v":""},null,{"$f":"IF(E1107=\"\",\"\",VLOOKUP(E1107,PARAMETROS!$I$3:$J$21,2,FALSE))","v":""},null,null,null,null,null,null,""]
[null,{"$f":"IF(A1108=\"\",\"\",VLOOKUP(A1108,PARAMETROS!$B$3:$C$3,2,FALSE))","v":""},null,{"$f":"IF(C1108=\"\",\"\",VLOOKUP(C1108,PARAMETROS!$G$3:$H$21,2,FALSE))","v":""},null,{"$f":"IF(E1108=\"\",\"\",VLOOKUP(E1108,PARAMETROS!$I$3:$J$21,2,FALSE))","v":""},null,null,null,null,null,null,""]
[null,{"$f":"IF(A1109=\"\",\"\",VLOOKUP(A1109,PARAMETROS!$B$3:$C$3,2,FALSE))","v":""},null,{"$f":"IF(C1109=\"\",\"\",VLOOKUP(C1109,PARAMETROS!$G$3:$H$21,2,FALSE))","v":""},null,{"$f":"IF(E1109=\"\",\"\",VLOOKUP(E1109,PARAMETROS!$I$3:$J$21,2,FALSE))","v":""},null,null,null,null,null,null,""]
[null,{"$f":"IF(A1110=\"\",\"\",VLOOKUP(A1110,PARAMETROS!$B$3:$C$3,2,FALSE))","v":""},null,{"$f":"IF(C1110=\"\",\"\",VLOOKUP(C1110,PARAMETROS!$G$3:$H$21,2,FALSE))","v":""},null,{"$f":"IF(E1110=\"\",\"\",VLOOKUP(E1110,PARAMETROS!$I$3:$J$21,2,FALSE))","v":""},null,null,null,null,null,null,""]
[null,{"$f":"IF(A1111=\"\",\"\",VLOOKUP(A1111,PARAMETROS!$B$3:$C$3,2,FALSE))","v":""},null,{"$f":"IF(C1111=\"\",\"\",VLOOKUP(C1111,PARAMETROS!$G$3:$H$21,2,FALSE))","v":""},null,{"$f":"IF(E1111=\"\",\"\",VLOOKUP(E1111,PARAMETROS!$I$3:$J$21,2,FALSE))","v":""},null,null,null,null,null,null,""]
[null,{"$f":"IF(A1112=\"\",\"\",VLOOKUP(A1112,PARAMETROS!$B$3:$C$3,2,FALSE))","v":""},null,{"$f":"IF(C1112=\"\",\"\",VLOOKUP(C1112,PARAMETROS!$G$3:$H$21,2,FALSE))","v":""},null,{"$f":"IF(E1112=\"\",\"\",VLOOKUP(E1112,PARAMETROS!$I$3:$J$21,2,FALSE))","v":""},null,null,null,null,null,null,""]
[null,{"$f":"IF(A1113=\"\",\"\",VLOOKUP(A1113,PARAMETROS!$B$3:$C$3,2,FALSE))","v":""},null,{"$f":"IF(C1113=\"\",\"\",VLOOKUP(C1113,PARAMETROS!$G$3:$H$21,2,FALSE))","v":""},null,{"$f":"IF(E1113=\"\",\"\",VLOOKUP(E1113,PARAMETROS!$I$3:$J$21,2,FALSE))","v":""},null,null,null,null,null,null,""]
[null,{"$f":"IF(A1114=\"\",\"\",VLOOKUP(A1114,PARAMETROS!$B$3:$C$3,2,FALSE))","v":""},null,{"$f":"IF(C1114=\"\",\"\",VLOOKUP(C1114,PARAMETROS!$G$3:$H$21,2,FALSE))","v":""},null,{"$f":"IF(E1114=\"\",\"\",VLOOKUP(E1114,PARAMETROS!$I$3:$J$21,2,FALSE))","v":""},null,null,null,null,null,null,""]
[null,{"$f":"IF(A1115=\"\",\"\",VLOOKUP(A1115,PARAMETROS!$B$3:$C$3,2,FALSE))","v":""},null,{"$f":"IF(C1115=\"\",\"\",VLOOKUP(C1115,PARAMETROS!$G$3:$H$21,2,FALSE))","v":""},null,{"$f":"IF(E1115=\"\",\"\",VLOOKUP(E1115,PARAMETROS!$I$3:$J$21,2,FALSE))","v":""},null,null,null,null,null,null,""]
[null,{"$f":"IF(A1116=\"\",\"\",VLOOKUP(A1116,PARAMETROS!$B$3:$C$3,2,FALSE))","v":""},null,{"$f":"IF(C1116=\"\",\"\",VLOOKUP(C1116,PARAMETROS!$G$3:$H$21,2,FALSE))","v":""},null,{"$f":"IF(E1116=\"\",\"\",VLOOKUP(E1116,PARAMETROS!$I$3:$J$21,2,FALSE))","v":""},null,null,null,null,null,null,""]
[null,{"$f":"IF(A1117=\"\",\"\",VLOOKUP(A1117,PARAMETROS!$B$3:$C$3,2,FALSE))","v":""},null,{"$f":"IF(C1117=\"\",\"\",VLOOKUP(C1117,PARAMETROS!$G$3:$H$21,2,FALSE))","v":""},null,{"$f":"IF(E1117=\"\",\"\",VLOOKUP(E1117,PARAMETROS!$I$3:$J$21,2,FALSE))","v":""},null,null,null,null,null,null,""]
[null,{"$f":"IF(A1118=\"\",\"\",VLOOKUP(A1118,PARAMETROS!$B$3:$C$3,2,FALSE))","v":""},null,{"$f":"IF(C1118=\"\",\"\",VLOOKUP(C1118,PARAMETROS!$G$3:$H$21,2,FALSE))","v":""},null,{"$f":"IF(E1118=\"\",\"\",VLOOKUP(E1118,PARAMETROS!$I$3:$J$21,2,FALSE))","v":""},null,null,null,null,null,null,""]
[null,{"$f":"IF(A1119=\"\",\"\",VLOOKUP(A1119,PARAMETROS!$B$3:$C$3,2,FALSE))","v":""},null,{"$f":"IF(C1119=\"\",\"\",VLOOKUP(C1119,PARAMETROS!$G$3:$H$21,2,FALSE))","v":""},null,{"$f":"IF(E1119=\"\",\"\",VLOOKUP(E1119,PARAMETROS!$I$3:$J$21,2,FALSE))","v":""},null,null,null,null,null,null,""]
[null,{"$f":"IF(A1120=\"\",\"\",VLOOKUP(A1120,PARAMETROS!$B$3:$C$3,2,FALSE))","v":""},null,{"$f":"IF(C1120=\"\",\"\",VLOOKUP(C1120,PARAMETROS!$G$3:$H$21,2,FALSE))","v":""},null,{"$f":"IF(E1120=\"\",\"\",VLOOKUP(E1120,PARAMETROS!$I$3:$J$21,2,FALSE))","v":""},null,null,null,null,null,null,""]
[null,{"$f":"IF(A1121=\"\",\"\",VLOOKUP(A1121,PARAMETROS!$B$3:$C$3,2,FALSE))","v":""},null,{"$f":"IF(C1121=\"\",\"\",VLOOKUP(C1121,PARAMETROS!$G$3:$H$21,2,FALSE))","v":""},null,{"$f":"IF(E1121=\"\",\"\",VLOOKUP(E1121,PARAMETROS!$I$3:$J$21,2,FALSE))","v":""},null,null,null,null,null,null,""]
[null,{"$f":"IF(A1122=\"\",\"\",VLOOKUP(A1122,PARAMETROS!$B$3:$C$3,2,FALSE))","v":""},null,{"$f":"IF(C1122=\"\",\"\",VLOOKUP(C1122,PARAMETROS!$G$3:$H$21,2,FALSE))","v":""},null,{"$f":"IF(E1122=\"\",\"\",VLOOKUP(E1122,PARAMETROS!$I$3:$J$21,2,FALSE))","v":""},null,null,null,null,null,null,""]
[null,{"$f":"IF(A1123=\"\",\"\",VLOOKUP(A1123,PARAMETROS!$B$3:$C$3,2,FALSE))","v":""},null,{"$f":"IF(C1123=\"\",\"\",VLOOKUP(C1123,PARAMETROS!$G$3:$H$21,2,FALSE))","v":""},null,{"$f":"IF(E1123=\"\",\"\",VLOOKUP(E1123,PARAMETROS!$I$3:$J$21,2,FALSE))","v":""},null,null,null,null,null,null,""]
[null,{"$f":"IF(A1124=\"\",\"\",VLOOKUP(A1124,PARAMETROS!$B$3:$C$3,2,FALSE))","v":""},null,{"$f":"IF(C1124=\"\",\"\",VLOOKUP(C1124,PARAMETROS!$G$3:$H$21,2,FALSE))","v":""},null,{"$f":"IF(E1124=\"\",\"\",VLOOKUP(E1124,PARAMETROS!$I$3:$J$21,2,FALSE))","v":""},null,null,null,null,null,null,""]
[null,{"$f":"IF(A1125=\"\",\"\",VLOOKUP(A1125,PARAMETROS!$B$3:$C$3,2,FALSE))","v":""},null,{"$f":"IF(C1125=\"\",\"\",VLOOKUP(C1125,PARAMETROS!$G$3:$H$21,2,FALSE))","v":""},null,{"$f":"IF(E1125=\"\",\"\",VLOOKUP(E1125,PARAMETROS!$I$3:$J$21,2,FALSE))","v":""},null,null,null,null,null,null,""]
[null,{"$f":"IF(A1126=\"\",\"\",VLOOKUP(A1126,PARAMETROS!$B$3:$C$3,2,FALSE))","v":""},null,{"$f":"IF(C1126=\"\",\"\",VLOOKUP(C1126,PARAMETROS!$G$3:$H$21,2,FALSE))","v":""},null,{"$f":"IF(E1126=\"\",\"\",VLOOKUP(E1126,PARAMETROS!$I$3:$J$21,2,FALSE))","v":""},null,null,null,null,null,null,""]
[null,{"$f":"IF(A1127=\"\",\"\",VLOOKUP(A1127,PARAMETROS!$B$3:$C$3,2,FALSE))","v":""},null,{"$f":"IF(C1127=\"\",\"\",VLOOKUP(C1127,PARAMETROS!$G$3:$H$21,2,FALSE))","v":""},null,{"$f":"IF(E1127=\"\",\"\",VLOOKUP(E1127,PARAMETROS!$I$3:$J$21,2,FALSE))","v":""},null,null,null,null,null,null,""]
[null,{"$f":"IF(A1128=\"\",\"\",VLOOKUP(A1128,PARAMETROS!$B$3:$C$3,2,FALSE))","v":""},null,{"$f":"IF(C1128=\"\",\"\",VLOOKUP(C1128,PARAMETROS!$G$3:$H$21,2,FALSE))","v":""},null,{"$f":"IF(E1128=\"\",\"\",VLOOKUP(E1128,PARAMETROS!$I$3:$J$21,2,FALSE))","v":""},null,null,null,null,null,null,""]
[null,{"$f":"IF(A1129=\"\",\"\",VLOOKUP(A1129,PARAMETROS!$B$3:$C$3,2,FALSE))","v":""},null,{"$f":"IF(C1129=\"\",\"\",VLOOKUP(C1129,PARAMETROS!$G$3:$H$21,2,FALSE))","v":""},null,{"$f":"IF(E1129=\"\",\"\",VLOOKUP(E1129,PARAMETROS!$I$3:$J$21,2,FALSE))","v":""},null,null,null,null,null,null,""]
[null,{"$f":"IF(A1130=\"\",\"\",VLOOKUP(A1130,PARAMETROS!$B$3:$C$3,2,FALSE))","v":""},null,{"$f":"IF(C1130=\"\",\"\",VLOOKUP(C1130,PARAMETROS!$G$3:$H$21,2,FALSE))","v":""},null,{"$f":"IF(E1130=\"\",\"\",VLOOKUP(E1130,PARAMETROS!$I$3:$J$21,2,FALSE))","v":""},null,null,null,null,null,null,""]
[null,{"$f":"IF(A1131=\"\",\"\",VLOOKUP(A1131,PARAMETROS!$B$3:$C$3,2,FALSE))","v":""},null,{"$f":"IF(C1131=\"\",\"\",VLOOKUP(C1131,PARAMETROS!$G$3:$H$21,2,FALSE))","v":""},null,{"$f":"IF(E1131=\"\",\"\",VLOOKUP(E1131,PARAMETROS!$I$3:$J$21,2,FALSE))","v":""},null,null,null,null,null,null,""]
[null,{"$f":"IF(A1132=\"\",\"\",VLOOKUP(A1132,PARAMETROS!$B$3:$C$3,2,FALSE))","v":""},null,{"$f":"IF(C1132=\"\",\"\",VLOOKUP(C1132,PARAMETROS!$G$3:$H$21,2,FALSE))","v":""},null,{"$f":"IF(E1132=\"\",\"\",VLOOKUP(E1132,PARAMETROS!$I$3:$J$21,2,FALSE))","v":""},null,null,null,null,null,null,""]
[null,{"$f":"IF(A1133=\"\",\"\",VLOOKUP(A1133,PARAMETROS!$B$3:$C$3,2,FALSE))","v":""},null,{"$f":"IF(C1133=\"\",\"\",VLOOKUP(C1133,PARAMETROS!$G$3:$H$21,2,FALSE))","v":""},null,{"$f":"IF(E1133=\"\",\"\",VLOOKUP(E1133,PARAMETROS!$I$3:$J$21,2,FALSE))","v":""},null,null,null,null,null,null,""]
[null,{"$f":"IF(A1134=\"\",\"\",VLOOKUP(A1134,PARAMETROS!$B$3:$C$3,2,FALSE))","v":""},null,{"$f":"IF(C1134=\"\",\"\",VLOOKUP(C1134,PARAMETROS!$G$3:$H$21,2,FALSE))","v":""},null,{"$f":"IF(E1134=\"\",\"\",VLOOKUP(E1134,PARAMETROS!$I$3:$J$21,2,FALSE))","v":""},null,null,null,null,null,null,""]
[null,{"$f":"IF(A1135=\"\",\"\",VLOOKUP(A1135,PARAMETROS!$B$3:$C$3,2,FALSE))","v":""},null,{"$f":"IF(C1135=\"\",\"\",VLOOKUP(C1135,PARAMETROS!$G$3:$H$21,2,FALSE))","v":""},null,{"$f":"IF(E1135=\"\",\"\",VLOOKUP(E1135,PARAMETROS!$I$3:$J$21,2,FALSE))","v":""},null,null,null,null,null,null,""]
[null,{"$f":"IF(A1136=\"\",\"\",VLOOKUP(A1136,PARAMETROS!$B$3:$C$3,2,FALSE))","v":""},null,{"$f":"IF(C1136=\"\",\"\",VLOOKUP(C1136,PARAMETROS!$G$3:$H$21,2,FALSE))","v":""},null,{"$f":"IF(E1136=\"\",\"\",VLOOKUP(E1136,PARAMETROS!$I$3:$J$21,2,FALSE))","v":""},null,null,null,null,null,null,""]
[null,{"$f":"IF(A1137=\"\",\"\",VLOOKUP(A1137,PARAMETROS!$B$3:$C$3,2,FALSE))","v":""},null,{"$f":"IF(C1137=\"\",\"\",VLOOKUP(C1137,PARAMETROS!$G$3:$H$21,2,FALSE))","v":""},null,{"$f":"IF(E1137=\"\",\"\",VLOOKUP(E1137,PARAMETROS!$I$3:$J$21,2,FALSE))","v":""},null,null,null,null,null,null,""]
[null,{"$f":"IF(A1138=\"\",\"\",VLOOKUP(A1138,PARAMETROS!$B$3:$C$3,2,FALSE))","v":""},null,{"$f":"IF(C1138=\"\",\"\",VLOOKUP(C1138,PARAMETROS!$G$3:$H$21,2,FALSE))","v":""},null,{"$f":"IF(E1138=\"\",\"\",VLOOKUP(E1138,PARAMETROS!$I$3:$J$21,2,FALSE))","v":""},null,null,null,null,null,null,""]
[null,{"$f":"IF(A1139=\"\",\"\",VLOOKUP(A1139,PARAMETROS!$B$3:$C$3,2,FALSE))","v":""},null,{"$f":"IF(C1139=\"\",\"\",VLOOKUP(C1139,PARAMETROS!$G$3:$H$21,2,FALSE))","v":""},null,{"$f":"IF(E1139=\"\",\"\",VLOOKUP(E1139,PARAMETROS!$I$3:$J$21,2,FALSE))","v":""},null,null,null,null,null,null,""]
[null,{"$f":"IF(A1140=\"\",\"\",VLOOKUP(A1140,PARAMETROS!$B$3:$C$3,2,FALSE))","v":""},null,{"$f":"IF(C1140=\"\",\"\",VLOOKUP(C1140,PARAMETROS!$G$3:$H$21,2,FALSE))","v":""},null,{"$f":"IF(E1140=\"\",\"\",VLOOKUP(E1140,PARAMETROS!$I$3:$J$21,2,FALSE))","v":""},null,null,null,null,null,null,""]
[null,{"$f":"IF(A1141=\"\",\"\",VLOOKUP(A1141,PARAMETROS!$B$3:$C$3,2,FALSE))","v":""},null,{"$f":"IF(C1141=\"\",\"\",VLOOKUP(C1141,PARAMETROS!$G$3:$H$21,2,FALSE))","v":""},null,{"$f":"IF(E1141=\"\",\"\",VLOOKUP(E1141,PARAMETROS!$I$3:$J$21,2,FALSE))","v":""},null,null,null,null,null,null,""]
[null,{"$f":"IF(A1142=\"\",\"\",VLOOKUP(A1142,PARAMETROS!$B$3:$C$3,2,FALSE))","v":""},null,{"$f":"IF(C1142=\"\",\"\",VLOOKUP(C1142,PARAMETROS!$G$3:$H$21,2,FALSE))","v":""},null,{"$f":"IF(E1142=\"\",\"\",VLOOKUP(E1142,PARAMETROS!$I$3:$J$21,2,FALSE))","v":""},null,null,null,null,null,null,""]
[null,{"$f":"IF(A1143=\"\",\"\",VLOOKUP(A1143,PARAMETROS!$B$3:$C$3,2,FALSE))","v":""},null,{"$f":"IF(C1143=\"\",\"\",VLOOKUP(C1143,PARAMETROS!$G$3:$H$21,2,FALSE))","v":""},null,{"$f":"IF(E1143=\"\",\"\",VLOOKUP(E1143,PARAMETROS!$I$3:$J$21,2,FALSE))","v":""},null,null,null,null,null,null,""]
[null,{"$f":"IF(A1144=\"\",\"\",VLOOKUP(A1144,PARAMETROS!$B$3:$C$3,2,FALSE))","v":""},null,{"$f":"IF(C1144=\"\",\"\",VLOOKUP(C1144,PARAMETROS!$G$3:$H$21,2,FALSE))","v":""},null,{"$f":"IF(E1144=\"\",\"\",VLOOKUP(E1144,PARAMETROS!$I$3:$J$21,2,FALSE))","v":""},null,null,null,null,null,null,""]
[null,{"$f":"IF(A1145=\"\",\"\",VLOOKUP(A1145,PARAMETROS!$B$3:$C$3,2,FALSE))","v":""},null,{"$f":"IF(C1145=\"\",\"\",VLOOKUP(C1145,PARAMETROS!$G$3:$H$21,2,FALSE))","v":""},null,{"$f":"IF(E1145=\"\",\"\",VLOOKUP(E1145,PARAMETROS!$I$3:$J$21,2,FALSE))","v":""},null,null,null,null,null,null,""]
[null,{"$f":"IF(A1146=\"\",\"\",VLOOKUP(A1146,PARAMETROS!$B$3:$C$3,2,FALSE))","v":""},null,{"$f":"IF(C1146=\"\",\"\",VLOOKUP(C1146,PARAMETROS!$G$3:$H$21,2,FALSE))","v":""},null,{"$f":"IF(E1146=\"\",\"\",VLOOKUP(E1146,PARAMETROS!$I$3:$J$21,2,FALSE))","v":""},null,null,null,null,null,null,""]
[null,{"$f":"IF(A1147=\"\",\"\",VLOOKUP(A1147,PARAMETROS!$B$3:$C$3,2,FALSE))","v":""},null,{"$f":"IF(C1147=\"\",\"\",VLOOKUP(C1147,PARAMETROS!$G$3:$H$21,2,FALSE))","v":""},null,{"$f":"IF(E1147=\"\",\"\",VLOOKUP(E1147,PARAMETROS!$I$3:$J$21,2,FALSE))","v":""},null,null,null,null,null,null,""]
[null,{"$f":"IF(A1148=\"\",\"\",VLOOKUP(A1148,PARAMETROS!$B$3:$C$3,2,FALSE))","v":""},null,{"$f":"IF(C1148=\"\",\"\",VLOOKUP(C1148,PARAMETROS!$G$3:$H$21,2,FALSE))","v":""},null,{"$f":"IF(E1148=\"\",\"\",VLOOKUP(E1148,PARAMETROS!$I$3:$J$21,2,FALSE))","v":""},null,null,null,null,null,null,""]
[null,{"$f":"IF(A1149=\"\",\"\",VLOOKUP(A1149,PARAMETROS!$B$3:$C$3,2,FALSE))","v":""},null,{"$f":"IF(C1149=\"\",\"\",VLOOKUP(C1149,PARAMETROS!$G$3:$H$21,2,FALSE))","v":""},null,{"$f":"IF(E1149=\"\",\"\",VLOOKUP(E1149,PARAMETROS!$I$3:$J$21,2,FALSE))","v":""},null,null,null,null,null,null,""]
[null,{"$f":"IF(A1150=\"\",\"\",VLOOKUP(A1150,PARAMETROS!$B$3:$C$3,2,FALSE))","v":""},null,{"$f":"IF(C1150=\"\",\"\",VLOOKUP(C1150,PARAMETROS!$G$3:$H$21,2,FALSE))","v":""},null,{"$f":"IF(E1150=\"\",\"\",VLOOKUP(E1150,PARAMETROS!$I$3:$J$21,2,FALSE))","v":""},null,null,null,null,null,null,""]
[null,{"$f":"IF(A1151=\"\",\"\",VLOOKUP(A1151,PARAMETROS!$B$3:$C$3,2,FALSE))","v":""},null,{"$f":"IF(C1151=\"\",\"\",VLOOKUP(C1151,PARAMETROS!$G$3:$H$21,2,FALSE))","v":""},null,{"$f":"IF(E1151=\"\",\"\",VLOOKUP(E1151,PARAMETROS!$I$3:$J$21,2,FALSE))","v":""},null,null,null,null,null,null,""]
[null,{"$f":"IF(A1152=\"\",\"\",VLOOKUP(A1152,PARAMETROS!$B$3:$C$3,2,FALSE))","v":""},null,{"$f":"IF(C1152=\"\",\"\",VLOOKUP(C1152,PARAMETROS!$G$3:$H$21,2,FALSE))","v":""},null,{"$f":"IF(E1152=\"\",\"\",VLOOKUP(E1152,PARAMETROS!$I$3:$J$21,2,FALSE))","v":""},null,null,null,null,null,null,""]
[null,{"$f":"IF(A1153=\"\",\"\",VLOOKUP(A1153,PARAMETROS!$B$3:$C$3,2,FALSE))","v":""},null,{"$f":"IF(C1153=\"\",\"\",VLOOKUP(C1153,PARAMETROS!$G$3:$H$21,2,FALSE))","v":""},null,{"$f":"IF(E1153=\"\",\"\",VLOOKUP(E1153,PARAMETROS!$I$3:$J$21,2,FALSE))","v":""},null,null,null,null,null,null,""]
[null,{"$f":"IF(A1154=\"\",\"\",VLOOKUP(A1154,PARAMETROS!$B$3:$C$3,2,FALSE))","v":""},null,{"$f":"IF(C1154=\"\",\"\",VLOOKUP(C1154,PARAMETROS!$G$3:$H$21,2,FALSE))","v":""},null,{"$f":"IF(E1154=\"\",\"\",VLOOKUP(E1154,PARAMETROS!$I$3:$J$21,2,FALSE))","v":""},null,null,null,null,null,null,""]
[null,{"$f":"IF(A1155=\"\",\"\",VLOOKUP(A1155,PARAMETROS!$B$3:$C$3,2,FALSE))","v":""},null,{"$f":"IF(C1155=\"\",\"\",VLOOKUP(C1155,PARAMETROS!$G$3:$H$21,2,FALSE))","v":""},null,{"$f":"IF(E1155=\"\",\"\",VLOOKUP(E1155,PARAMETROS!$I$3:$J$21,2,FALSE))","v":""},null,null,null,null,null,null,""]
[null,{"$f":"IF(A1156=\"\",\"\",VLOOKUP(A1156,PARAMETROS!$B$3:$C$3,2,FALSE))","v":""},null,{"$f":"IF(C1156=\"\",\"\",VLOOKUP(C1156,PARAMETROS!$G$3:$H$21,2,FALSE))","v":""},null,{"$f":"IF(E1156=\"\",\"\",VLOOKUP(E1156,PARAMETROS!$I$3:$J$21,2,FALSE))","v":""},null,null,null,null,null,null,""]
[null,{"$f":"IF(A1157=\"\",\"\",VLOOKUP(A1157,PARAMETROS!$B$3:$C$3,2,FALSE))","v":""},null,{"$f":"IF(C1157=\"\",\"\",VLOOKUP(C1157,PARAMETROS!$G$3:$H$21,2,FALSE))","v":""},null,{"$f":"IF(E1157=\"\",\"\",VLOOKUP(E1157,PARAMETROS!$I$3:$J$21,2,FALSE))","v":""},null,null,null,null,null,null,""]
[null,{"$f":"IF(A1158=\"\",\"\",VLOOKUP(A1158,PARAMETROS!$B$3:$C$3,2,FALSE))","v":""},null,{"$f":"IF(C1158=\"\",\"\",VLOOKUP(C1158,PARAMETROS!$G$3:$H$21,2,FALSE))","v":""},null,{"$f":"IF(E1158=\"\",\"\",VLOOKUP(E1158,PARAMETROS!$I$3:$J$21,2,FALSE))","v":""},null,null,null,null,null,null,""]
[null,{"$f":"IF(A1159=\"\",\"\",VLOOKUP(A1159,PARAMETROS!$B$3:$C$3,2,FALSE))","v":""},null,{"$f":"IF(C1159=\"\",\"\",VLOOKUP(C1159,PARAMETROS!$G$3:$H$21,2,FALSE))","v":""},null,{"$f":"IF(E1159=\"\",\"\",VLOOKUP(E1159,PARAMETROS!$I$3:$J$21,2,FALSE))","v":""},null,null,null,null,null,null,""]
[null,{"$f":"IF(A1160=\"\",\"\",VLOOKUP(A1160,PARAMETROS!$B$3:$C$3,2,FALSE))","v":""},null,{"$f":"IF(C1160=\"\",\"\",VLOOKUP(C1160,PARAMETROS!$G$3:$H$21,2,FALSE))","v":""},null,{"$f":"IF(E1160=\"\",\"\",VLOOKUP(E1160,PARAMETROS!$I$3:$J$21,2,FALSE))","v":""},null,null,null,null,null,null,""]
[null,{"$f":"IF(A1161=\"\",\"\",VLOOKUP(A1161,PARAMETROS!$B$3:$C$3,2,FALSE))","v":""},null,{"$f":"IF(C1161=\"\",\"\",VLOOKUP(C1161,PARAMETROS!$G$3:$H$21,2,FALSE))","v":""},null,{"$f":"IF(E1161=\"\",\"\",VLOOKUP(E1161,PARAMETROS!$I$3:$J$21,2,FALSE))","v":""},null,null,null,null,null,null,""]
[null,{"$f":"IF(A1162=\"\",\"\",VLOOKUP(A1162,PARAMETROS!$B$3:$C$3,2,FALSE))","v":""},null,{"$f":"IF(C1162=\"\",\"\",VLOOKUP(C1162,PARAMETROS!$G$3:$H$21,2,FALSE))","v":""},null,{"$f":"IF(E1162=\"\",\"\",VLOOKUP(E1162,PARAMETROS!$I$3:$J$21,2,FALSE))","v":""},null,null,null,null,null,null,""]
[null,{"$f":"IF(A1163=\"\",\"\",VLOOKUP(A1163,PARAMETROS!$B$3:$C$3,2,FALSE))","v":""},null,{"$f":"IF(C1163=\"\",\"\",VLOOKUP(C1163,PARAMETROS!$G$3:$H$21,2,FALSE))","v":""},null,{"$f":"IF(E1163=\"\",\"\",VLOOKUP(E1163,PARAMETROS!$I$3:$J$21,2,FALSE))","v":""},null,null,null,null,null,null,""]
[null,{"$f":"IF(A1164=\"\",\"\",VLOOKUP(A1164,PARAMETROS!$B$3:$C$3,2,FALSE))","v":""},null,{"$f":"IF(C1164=\"\",\"\",VLOOKUP(C1164,PARAMETROS!$G$3:$H$21,2,FALSE))","v":""},null,{"$f":"IF(E1164=\"\",\"\",VLOOKUP(E1164,PARAMETROS!$I$3:$J$21,2,FALSE))","v":""},null,null,null,null,null,null,""]
[null,{"$f":"IF(A1165=\"\",\"\",VLOOKUP(A1165,PARAMETROS!$B$3:$C$3,2,FALSE))","v":""},null,{"$f":"IF(C1165=\"\",\"\",VLOOKUP(C1165,PARAMETROS!$G$3:$H$21,2,FALSE))","v":""},null,{"$f":"IF(E1165=\"\",\"\",VLOOKUP(E1165,PARAMETROS!$I$3:$J$21,2,FALSE))","v":""},null,null,null,null,null,null,""]
[null,{"$f":"IF(A1166=\"\",\"\",VLOOKUP(A1166,PARAMETROS!$B$3:$C$3,2,FALSE))","v":""},null,{"$f":"IF(C1166=\"\",\"\",VLOOKUP(C1166,PARAMETROS!$G$3:$H$21,2,FALSE))","v":""},null,{"$f":"IF(E1166=\"\",\"\",VLOOKUP(E1166,PARAMETROS!$I$3:$J$21,2,FALSE))","v":""},null,null,null,null,null,null,""]
[null,{"$f":"IF(A1167=\"\",\"\",VLOOKUP(A1167,PARAMETROS!$B$3:$C$3,2,FALSE))","v":""},null,{"$f":"IF(C1167=\"\",\"\",VLOOKUP(C1167,PARAMETROS!$G$3:$H$21,2,FALSE))","v":""},null,{"$f":"IF(E1167=\"\",\"\",VLOOKUP(E1167,PARAMETROS!$I$3:$J$21,2,FALSE))","v":""},null,null,null,null,null,null,{"$f":"IF(L1167=\"\", \"\", L1167)","v":""}]
[null,{"$f":"IF(A1168=\"\",\"\",VLOOKUP(A1168,PARAMETROS!$B$3:$C$3,2,FALSE))","v":""},null,{"$f":"IF(C1168=\"\",\"\",VLOOKUP(C1168,PARAMETROS!$G$3:$H$21,2,FALSE))","v":""},null,{"$f":"IF(E1168=\"\",\"\",VLOOKUP(E1168,PARAMETROS!$I$3:$J$21,2,FALSE))","v":""},null,null,null,null,null,null,""]
[null,{"$f":"IF(A1169=\"\",\"\",VLOOKUP(A1169,PARAMETROS!$B$3:$C$3,2,FALSE))","v":""},null,{"$f":"IF(C1169=\"\",\"\",VLOOKUP(C1169,PARAMETROS!$G$3:$H$21,2,FALSE))","v":""},null,{"$f":"IF(E1169=\"\",\"\",VLOOKUP(E1169,PARAMETROS!$I$3:$J$21,2,FALSE))","v":""},null,null,null,null,null,null,""]
[null,{"$f":"IF(A1170=\"\",\"\",VLOOKUP(A1170,PARAMETROS!$B$3:$C$3,2,FALSE))","v":""},null,{"$f":"IF(C1170=\"\",\"\",VLOOKUP(C1170,PARAMETROS!$G$3:$H$21,2,FALSE))","v":""},null,{"$f":"IF(E1170=\"\",\"\",VLOOKUP(E1170,PARAMETROS!$I$3:$J$21,2,FALSE))","v":""},null,null,null,null,null,null,""]
[null,{"$f":"IF(A1171=\"\",\"\",VLOOKUP(A1171,PARAMETROS!$B$3:$C$3,2,FALSE))","v":""},null,{"$f":"IF(C1171=\"\",\"\",VLOOKUP(C1171,PARAMETROS!$G$3:$H$21,2,FALSE))","v":""},null,{"$f":"IF(E1171=\"\",\"\",VLOOKUP(E1171,PARAMETROS!$I$3:$J$21,2,FALSE))","v":""},null,null,null,null,null,null,""]
[null,{"$f":"IF(A1172=\"\",\"\",VLOOKUP(A1172,PARAMETROS!$B$3:$C$3,2,FALSE))","v":""},null,{"$f":"IF(C1172=\"\",\"\",VLOOKUP(C1172,PARAMETROS!$G$3:$H$21,2,FALSE))","v":""},null,{"$f":"IF(E1172=\"\",\"\",VLOOKUP(E1172,PARAMETROS!$I$3:$J$21,2,FALSE))","v":""},null,null,null,null,null,null,""]
[null,{"$f":"IF(A1173=\"\",\"\",VLOOKUP(A1173,PARAMETROS!$B$3:$C$3,2,FALSE))","v":""},null,{"$f":"IF(C1173=\"\",\"\",VLOOKUP(C1173,PARAMETROS!$G$3:$H$21,2,FALSE))","v":""},null,{"$f":"IF(E1173=\"\",\"\",VLOOKUP(E1173,PARAMETROS!$I$3:$J$21,2,FALSE))","v":""},null,null,null,null,null,null,""]
[null,{"$f":"IF(A1174=\"\",\"\",VLOOKUP(A1174,PARAMETROS!$B$3:$C$3,2,FALSE))","v":""},null,{"$f":"IF(C1174=\"\",\"\",VLOOKUP(C1174,PARAMETROS!$G$3:$H$21,2,FALSE))","v":""},null,{"$f":"IF(E1174=\"\",\"\",VLOOKUP(E1174,PARAMETROS!$I$3:$J$21,2,FALSE))","v":""},null,null,null,null,null,null,""]
[null,{"$f":"IF(A1175=\"\",\"\",VLOOKUP(A1175,PARAMETROS!$B$3:$C$3,2,FALSE))","v":""},null,{"$f":"IF(C1175=\"\",\"\",VLOOKUP(C1175,PARAMETROS!$G$3:$H$21,2,FALSE))","v":""},null,{"$f":"IF(E1175=\"\",\"\",VLOOKUP(E1175,PARAMETROS!$I$3:$J$21,2,FALSE))","v":""},null,null,null,null,null,null,""]
[null,{"$f":"IF(A1176=\"\",\"\",VLOOKUP(A1176,PARAMETROS!$B$3:$C$3,2,FALSE))","v":""},null,{"$f":"IF(C1176=\"\",\"\",VLOOKUP(C1176,PARAMETROS!$G$3:$H$21,2,FALSE))","v":""},null,{"$f":"IF(E1176=\"\",\"\",VLOOKUP(E1176,PARAMETROS!$I$3:$J$21,2,FALSE))","v":""},null,null,null,null,null,null,""]
[null,{"$f":"IF(A1177=\"\",\"\",VLOOKUP(A1177,PARAMETROS!$B$3:$C$3,2,FALSE))","v":""},null,{"$f":"IF(C1177=\"\",\"\",VLOOKUP(C1177,PARAMETROS!$G$3:$H$21,2,FALSE))","v":""},null,{"$f":"IF(E1177=\"\",\"\",VLOOKUP(E1177,PARAMETROS!$I$3:$J$21,2,FALSE))","v":""},null,null,null,null,null,null,""]
[null,{"$f":"IF(A1178=\"\",\"\",VLOOKUP(A1178,PARAMETROS!$B$3:$C$3,2,FALSE))","v":""},null,{"$f":"IF(C1178=\"\",\"\",VLOOKUP(C1178,PARAMETROS!$G$3:$H$21,2,FALSE))","v":""},null,{"$f":"IF(E1178=\"\",\"\",VLOOKUP(E1178,PARAMETROS!$I$3:$J$21,2,FALSE))","v":""},null,null,null,null,null,null,""]
[null,{"$f":"IF(A1179=\"\",\"\",VLOOKUP(A1179,PARAMETROS!$B$3:$C$3,2,FALSE))","v":""},null,{"$f":"IF(C1179=\"\",\"\",VLOOKUP(C1179,PARAMETROS!$G$3:$H$21,2,FALSE))","v":""},null,{"$f":"IF(E1179=\"\",\"\",VLOOKUP(E1179,PARAMETROS!$I$3:$J$21,2,FALSE))","v":""},null,null,null,null,null,null,""]
[null,{"$f":"IF(A1180=\"\",\"\",VLOOKUP(A1180,PARAMETROS!$B$3:$C$3,2,FALSE))","v":""},null,{"$f":"IF(C1180=\"\",\"\",VLOOKUP(C1180,PARAMETROS!$G$3:$H$21,2,FALSE))","v":""},null,{"$f":"IF(E1180=\"\",\"\",VLOOKUP(E1180,PARAMETROS!$I$3:$J$21,2,FALSE))","v":""},null,null,null,null,null,null,""]
[null,{"$f":"IF(A1181=\"\",\"\",VLOOKUP(A1181,PARAMETROS!$B$3:$C$3,2,FALSE))","v":""},null,{"$f":"IF(C1181=\"\",\"\",VLOOKUP(C1181,PARAMETROS!$G$3:$H$21,2,FALSE))","v":""},null,{"$f":"IF(E1181=\"\",\"\",VLOOKUP(E1181,PARAMETROS!$I$3:$J$21,2,FALSE))","v":""},null,null,null,null,null,null,""]
[null,{"$f":"IF(A1182=\"\",\"\",VLOOKUP(A1182,PARAMETROS!$B$3:$C$3,2,FALSE))","v":""},null,{"$f":"IF(C1182=\"\",\"\",VLOOKUP(C1182,PARAMETROS!$G$3:$H$21,2,FALSE))","v":""},null,{"$f":"IF(E1182=\"\",\"\",VLOOKUP(E1182,PARAMETROS!$I$3:$J$21,2,FALSE))","v":""},null,null,null,null,null,null,""]
[null,{"$f":"IF(A1183=\"\",\"\",VLOOKUP(A1183,PARAMETROS!$B$3:$C$3,2,FALSE))","v":""},null,{"$f":"IF(C1183=\"\",\"\",VLOOKUP(C1183,PARAMETROS!$G$3:$H$21,2,FALSE))","v":""},null,{"$f":"IF(E1183=\"\",\"\",VLOOKUP(E1183,PARAMETROS!$I$3:$J$21,2,FALSE))","v":""},null,null,null,null,null,null,""]
[null,{"$f":"IF(A1184=\"\",\"\",VLOOKUP(A1184,PARAMETROS!$B$3:$C$3,2,FALSE))","v":""},null,{"$f":"IF(C1184=\"\",\"\",VLOOKUP(C1184,PARAMETROS!$G$3:$H$21,2,FALSE))","v":""},null,{"$f":"IF(E1184=\"\",\"\",VLOOKUP(E1184,PARAMETROS!$I$3:$J$21,2,FALSE))","v":""},null,null,null,null,null,null,""]
[null,{"$f":"IF(A1185=\"\",\"\",VLOOKUP(A1185,PARAMETROS!$B$3:$C$3,2,FALSE))","v":""},null,{"$f":"IF(C1185=\"\",\"\",VLOOKUP(C1185,PARAMETROS!$G$3:$H$21,2,FALSE))","v":""},null,{"$f":"IF(E1185=\"\",\"\",VLOOKUP(E1185,PARAMETROS!$I$3:$J$21,2,FALSE))","v":""},null,null,null,null,null,null,""]
[null,{"$f":"IF(A1186=\"\",\"\",VLOOKUP(A1186,PARAMETROS!$B$3:$C$3,2,FALSE))","v":""},null,{"$f":"IF(C1186=\"\",\"\",VLOOKUP(C1186,PARAMETROS!$G$3:$H$21,2,FALSE))","v":""},null,{"$f":"IF(E1186=\"\",\"\",VLOOKUP(E1186,PARAMETROS!$I$3:$J$21,2,FALSE))","v":""},null,null,null,null,null,null,""]
[null,{"$f":"IF(A1187=\"\",\"\",VLOOKUP(A1187,PARAMETROS!$B$3:$C$3,2,FALSE))","v":""},null,{"$f":"IF(C1187=\"\",\"\",VLOOKUP(C1187,PARAMETROS!$G$3:$H$21,2,FALSE))","v":""},null,{"$f":"IF(E1187=\"\",\"\",VLOOKUP(E1187,PARAMETROS!$I$3:$J$21,2,FALSE))","v":""},null,null,null,null,null,null,""]
[null,{"$f":"IF(A1188=\"\",\"\",VLOOKUP(A1188,PARAMETROS!$B$3:$C$3,2,FALSE))","v":""},null,{"$f":"IF(C1188=\"\",\"\",VLOOKUP(C1188,PARAMETROS!$G$3:$H$21,2,FALSE))","v":""},null,{"$f":"IF(E1188=\"\",\"\",VLOOKUP(E1188,PARAMETROS!$I$3:$J$21,2,FALSE))","v":""},null,null,null,null,null,null,""]
[null,{"$f":"IF(A1189=\"\",\"\",VLOOKUP(A1189,PARAMETROS!$B$3:$C$3,2,FALSE))","v":""},null,{"$f":"IF(C1189=\"\",\"\",VLOOKUP(C1189,PARAMETROS!$G$3:$H$21,2,FALSE))","v":""},null,{"$f":"IF(E1189=\"\",\"\",VLOOKUP(E1189,PARAMETROS!$I$3:$J$21,2,FALSE))","v":""},null,null,null,null,null,null,""]
[null,{"$f":"IF(A1190=\"\",\"\",VLOOKUP(A1190,PARAMETROS!$B$3:$C$3,2,FALSE))","v":""},null,{"$f":"IF(C1190=\"\",\"\",VLOOKUP(C1190,PARAMETROS!$G$3:$H$21,2,FALSE))","v":""},null,{"$f":"IF(E1190=\"\",\"\",VLOOKUP(E1190,PARAMETROS!$I$3:$J$21,2,FALSE))","v":""},null,null,null,null,null,null,""]
[null,{"$f":"IF(A1191=\"\",\"\",VLOOKUP(A1191,PARAMETROS!$B$3:$C$3,2,FALSE))","v":""},null,{"$f":"IF(C1191=\"\",\"\",VLOOKUP(C1191,PARAMETROS!$G$3:$H$21,2,FALSE))","v":""},null,{"$f":"IF(E1191=\"\",\"\",VLOOKUP(E1191,PARAMETROS!$I$3:$J$21,2,FALSE))","v":""},null,null,null,null,null,null,""]
[null,{"$f":"IF(A1192=\"\",\"\",VLOOKUP(A1192,PARAMETROS!$B$3:$C$3,2,FALSE))","v":""},null,{"$f":"IF(C1192=\"\",\"\",VLOOKUP(C1192,PARAMETROS!$G$3:$H$21,2,FALSE))","v":""},null,{"$f":"IF(E1192=\"\",\"\",VLOOKUP(E1192,PARAMETROS!$I$3:$J$21,2,FALSE))","v":""},null,null,null,null,null,null,""]
[null,{"$f":"IF(A1193=\"\",\"\",VLOOKUP(A1193,PARAMETROS!$B$3:$C$3,2,FALSE))","v":""},null,{"$f":"IF(C1193=\"\",\"\",VLOOKUP(C1193,PARAMETROS!$G$3:$H$21,2,FALSE))","v":""},null,{"$f":"IF(E1193=\"\",\"\",VLOOKUP(E1193,PARAMETROS!$I$3:$J$21,2,FALSE))","v":""},null,null,null,null,null,null,""]
[null,{"$f":"IF(A1194=\"\",\"\",VLOOKUP(A1194,PARAMETROS!$B$3:$C$3,2,FALSE))","v":""},null,{"$f":"IF(C1194=\"\",\"\",VLOOKUP(C1194,PARAMETROS!$G$3:$H$21,2,FALSE))","v":""},null,{"$f":"IF(E1194=\"\",\"\",VLOOKUP(E1194,PARAMETROS!$I$3:$J$21,2,FALSE))","v":""},null,null,null,null,null,null,""]
[null,{"$f":"IF(A1195=\"\",\"\",VLOOKUP(A1195,PARAMETROS!$B$3:$C$3,2,FALSE))","v":""},null,{"$f":"IF(C1195=\"\",\"\",VLOOKUP(C1195,PARAMETROS!$G$3:$H$21,2,FALSE))","v":""},null,{"$f":"IF(E1195=\"\",\"\",VLOOKUP(E1195,PARAMETROS!$I$3:$J$21,2,FALSE))","v":""},null,null,null,null,null,null,""]
[null,{"$f":"IF(A1196=\"\",\"\",VLOOKUP(A1196,PARAMETROS!$B$3:$C$3,2,FALSE))","v":""},null,{"$f":"IF(C1196=\"\",\"\",VLOOKUP(C1196,PARAMETROS!$G$3:$H$21,2,FALSE))","v":""},null,{"$f":"IF(E1196=\"\",\"\",VLOOKUP(E1196,PARAMETROS!$I$3:$J$21,2,FALSE))","v":""},null,null,null,null,null,null,""]
[null,{"$f":"IF(A1197=\"\",\"\",VLOOKUP(A1197,PARAMETROS!$B$3:$C$3,2,FALSE))","v":""},null,{"$f":"IF(C1197=\"\",\"\",VLOOKUP(C1197,PARAMETROS!$G$3:$H$21,2,FALSE))","v":""},null,{"$f":"IF(E1197=\"\",\"\",VLOOKUP(E1197,PARAMETROS!$I$3:$J$21,2,FALSE))","v":""},null,null,null,null,null,null,""]
[null,{"$f":"IF(A1198=\"\",\"\",VLOOKUP(A1198,PARAMETROS!$B$3:$C$3,2,FALSE))","v":""},null,{"$f":"IF(C1198=\"\",\"\",VLOOKUP(C1198,PARAMETROS!$G$3:$H$21,2,FALSE))","v":""},null,{"$f":"IF(E1198=\"\",\"\",VLOOKUP(E1198,PARAMETROS!$I$3:$J$21,2,FALSE))","v":""},null,null,null,null,null,null,""]
[null,{"$f":"IF(A1199=\"\",\"\",VLOOKUP(A1199,PARAMETROS!$B$3:$C$3,2,FALSE))","v":""},null,{"$f":"IF(C1199=\"\",\"\",VLOOKUP(C1199,PARAMETROS!$G$3:$H$21,2,FALSE))","v":""},null,{"$f":"IF(E1199=\"\",\"\",VLOOKUP(E1199,PARAMETROS!$I$3:$J$21,2,FALSE))","v":""},null,null,null,null,null,null,""]
[null,{"$f":"IF(A1200=\"\",\"\",VLOOKUP(A1200,PARAMETROS!$B$3:$C$3,2,FALSE))","v":""},null,{"$f":"IF(C1200=\"\",\"\",VLOOKUP(C1200,PARAMETROS!$G$3:$H$21,2,FALSE))","v":""},null,{"$f":"IF(E1200=\"\",\"\",VLOOKUP(E1200,PARAMETROS!$I$3:$J$21,2,FALSE))","v":""},null,null,null,null,null,null,""]
[null,{"$f":"IF(A1201=\"\",\"\",VLOOKUP(A1201,PARAMETROS!$B$3:$C$3,2,FALSE))","v":""},null,{"$f":"IF(C1201=\"\",\"\",VLOOKUP(C1201,PARAMETROS!$G$3:$H$21,2,FALSE))","v":""},null,{"$f":"IF(E1201=\"\",\"\",VLOOKUP(E1201,PARAMETROS!$I$3:$J$21,2,FALSE))","v":""},null,null,null,null,null,null,""]
[null,{"$f":"IF(A1202=\"\",\"\",VLOOKUP(A1202,PARAMETROS!$B$3:$C$3,2,FALSE))","v":""},null,{"$f":"IF(C1202=\"\",\"\",VLOOKUP(C1202,PARAMETROS!$G$3:$H$21,2,FALSE))","v":""},null,{"$f":"IF(E1202=\"\",\"\",VLOOKUP(E1202,PARAMETROS!$I$3:$J$21,2,FALSE))","v":""},null,null,null,null,null,null,""]
[null,{"$f":"IF(A1203=\"\",\"\",VLOOKUP(A1203,PARAMETROS!$B$3:$C$3,2,FALSE))","v":""},null,{"$f":"IF(C1203=\"\",\"\",VLOOKUP(C1203,PARAMETROS!$G$3:$H$21,2,FALSE))","v":""},null,{"$f":"IF(E1203=\"\",\"\",VLOOKUP(E1203,PARAMETROS!$I$3:$J$21,2,FALSE))","v":""},null,null,null,null,null,null,""]
[null,{"$f":"IF(A1204=\"\",\"\",VLOOKUP(A1204,PARAMETROS!$B$3:$C$3,2,FALSE))","v":""},null,{"$f":"IF(C1204=\"\",\"\",VLOOKUP(C1204,PARAMETROS!$G$3:$H$21,2,FALSE))","v":""},null,{"$f":"IF(E1204=\"\",\"\",VLOOKUP(E1204,PARAMETROS!$I$3:$J$21,2,FALSE))","v":""},null,null,null,null,null,null,""]
[null,{"$f":"IF(A1205=\"\",\"\",VLOOKUP(A1205,PARAMETROS!$B$3:$C$3,2,FALSE))","v":""},null,{"$f":"IF(C1205=\"\",\"\",VLOOKUP(C1205,PARAMETROS!$G$3:$H$21,2,FALSE))","v":""},null,{"$f":"IF(E1205=\"\",\"\",VLOOKUP(E1205,PARAMETROS!$I$3:$J$21,2,FALSE))","v":""},null,null,null,null,null,null,""]
[null,{"$f":"IF(A1206=\"\",\"\",VLOOKUP(A1206,PARAMETROS!$B$3:$C$3,2,FALSE))","v":""},null,{"$f":"IF(C1206=\"\",\"\",VLOOKUP(C1206,PARAMETROS!$G$3:$H$21,2,FALSE))","v":""},null,{"$f":"IF(E1206=\"\",\"\",VLOOKUP(E1206,PARAMETROS!$I$3:$J$21,2,FALSE))","v":""},null,null,null,null,null,null,""]
[null,{"$f":"IF(A1207=\"\",\"\",VLOOKUP(A1207,PARAMETROS!$B$3:$C$3,2,FALSE))","v":""},null,{"$f":"IF(C1207=\"\",\"\",VLOOKUP(C1207,PARAMETROS!$G$3:$H$21,2,FALSE))","v":""},null,{"$f":"IF(E1207=\"\",\"\",VLOOKUP(E1207,PARAMETROS!$I$3:$J$21,2,FALSE))","v":""},null,null,null,null,null,null,""]
[null,{"$f":"IF(A1208=\"\",\"\",VLOOKUP(A1208,PARAMETROS!$B$3:$C$3,2,FALSE))","v":""},null,{"$f":"IF(C1208=\"\",\"\",VLOOKUP(C1208,PARAMETROS!$G$3:$H$21,2,FALSE))","v":""},null,{"$f":"IF(E1208=\"\",\"\",VLOOKUP(E1208,PARAMETROS!$I$3:$J$21,2,FALSE))","v":""},null,null,null,null,null,null,""]
[null,{"$f":"IF(A1209=\"\",\"\",VLOOKUP(A1209,PARAMETROS!$B$3:$C$3,2,FALSE))","v":""},null,{"$f":"IF(C1209=\"\",\"\",VLOOKUP(C1209,PARAMETROS!$G$3:$H$21,2,FALSE))","v":""},null,{"$f":"IF(E1209=\"\",\"\",VLOOKUP(E1209,PARAMETROS!$I$3:$J$21,2,FALSE))","v":""},null,null,null,null,null,null,""]
[null,{"$f":"IF(A1210=\"\",\"\",VLOOKUP(A1210,PARAMETROS!$B$3:$C$3,2,FALSE))","v":""},null,{"$f":"IF(C1210=\"\",\"\",VLOOKUP(C1210,PARAMETROS!$G$3:$H$21,2,FALSE))","v":""},null,{"$f":"IF(E1210=\"\",\"\",VLOOKUP(E1210,PARAMETROS!$I$3:$J$21,2,FALSE))","v":""},null,null,null,null,null,null,""]
[null,{"$f":"IF(A1211=\"\",\"\",VLOOKUP(A1211,PARAMETROS!$B$3:$C$3,2,FALSE))","v":""},null,{"$f":"IF(C1211=\"\",\"\",VLOOKUP(C1211,PARAMETROS!$G$3:$H$21,2,FALSE))","v":""},null,{"$f":"IF(E1211=\"\",\"\",VLOOKUP(E1211,PARAMETROS!$I$3:$J$21,2,FALSE))","v":""},null,null,null,null,null,null,""]
[null,{"$f":"IF(A1212=\"\",\"\",VLOOKUP(A1212,PARAMETROS!$B$3:$C$3,2,FALSE))","v":""},null,{"$f":"IF(C1212=\"\",\"\",VLOOKUP(C1212,PARAMETROS!$G$3:$H$21,2,FALSE))","v":""},null,{"$f":"IF(E1212=\"\",\"\",VLOOKUP(E1212,PARAMETROS!$I$3:$J$21,2,FALSE))","v":""},null,null,null,null,null,null,""]
[null,{"$f":"IF(A1213=\"\",\"\",VLOOKUP(A1213,PARAMETROS!$B$3:$C$3,2,FALSE))","v":""},null,{"$f":"IF(C1213=\"\",\"\",VLOOKUP(C1213,PARAMETROS!$G$3:$H$21,2,FALSE))","v":""},null,{"$f":"IF(E1213=\"\",\"\",VLOOKUP(E1213,PARAMETROS!$I$3:$J$21,2,FALSE))","v":""},null,null,null,null,null,null,""]
[null,{"$f":"IF(A1214=\"\",\"\",VLOOKUP(A1214,PARAMETROS!$B$3:$C$3,2,FALSE))","v":""},null,{"$f":"IF(C1214=\"\",\"\",VLOOKUP(C1214,PARAMETROS!$G$3:$H$21,2,FALSE))","v":""},null,{"$f":"IF(E1214=\"\",\"\",VLOOKUP(E1214,PARAMETROS!$I$3:$J$21,2,FALSE))","v":""},null,null,null,null,null,null,""]
[null,{"$f":"IF(A1215=\"\",\"\",VLOOKUP(A1215,PARAMETROS!$B$3:$C$3,2,FALSE))","v":""},null,{"$f":"IF(C1215=\"\",\"\",VLOOKUP(C1215,PARAMETROS!$G$3:$H$21,2,FALSE))","v":""},null,{"$f":"IF(E1215=\"\",\"\",VLOOKUP(E1215,PARAMETROS!$I$3:$J$21,2,FALSE))","v":""},null,null,null,null,null,null,""]
[null,{"$f":"IF(A1216=\"\",\"\",VLOOKUP(A1216,PARAMETROS!$B$3:$C$3,2,FALSE))","v":""},null,{"$f":"IF(C1216=\"\",\"\",VLOOKUP(C1216,PARAMETROS!$G$3:$H$21,2,FALSE))","v":""},null,{"$f":"IF(E1216=\"\",\"\",VLOOKUP(E1216,PARAMETROS!$I$3:$J$21,2,FALSE))","v":""},null,null,null,null,null,null,""]
[null,{"$f":"IF(A1217=\"\",\"\",VLOOKUP(A1217,PARAMETROS!$B$3:$C$3,2,FALSE))","v":""},null,{"$f":"IF(C1217=\"\",\"\",VLOOKUP(C1217,PARAMETROS!$G$3:$H$21,2,FALSE))","v":""},null,{"$f":"IF(E1217=\"\",\"\",VLOOKUP(E1217,PARAMETROS!$I$3:$J$21,2,FALSE))","v":""},null,null,null,null,null,null,""]
[null,{"$f":"IF(A1218=\"\",\"\",VLOOKUP(A1218,PARAMETROS!$B$3:$C$3,2,FALSE))","v":""},null,{"$f":"IF(C1218=\"\",\"\",VLOOKUP(C1218,PARAMETROS!$G$3:$H$21,2,FALSE))","v":""},null,{"$f":"IF(E1218=\"\",\"\",VLOOKUP(E1218,PARAMETROS!$I$3:$J$21,2,FALSE))","v":""},null,null,null,null,null,null,""]
[null,{"$f":"IF(A1219=\"\",\"\",VLOOKUP(A1219,PARAMETROS!$B$3:$C$3,2,FALSE))","v":""},null,{"$f":"IF(C1219=\"\",\"\",VLOOKUP(C1219,PARAMETROS!$G$3:$H$21,2,FALSE))","v":""},null,{"$f":"IF(E1219=\"\",\"\",VLOOKUP(E1219,PARAMETROS!$I$3:$J$21,2,FALSE))","v":""},null,null,null,null,null,null,""]
[null,{"$f":"IF(A1220=\"\",\"\",VLOOKUP(A1220,PARAMETROS!$B$3:$C$3,2,FALSE))","v":""},null,{"$f":"IF(C1220=\"\",\"\",VLOOKUP(C1220,PARAMETROS!$G$3:$H$21,2,FALSE))","v":""},null,{"$f":"IF(E1220=\"\",\"\",VLOOKUP(E1220,PARAMETROS!$I$3:$J$21,2,FALSE))","v":""},null,null,null,null,null,null,""]
[null,{"$f":"IF(A1221=\"\",\"\",VLOOKUP(A1221,PARAMETROS!$B$3:$C$3,2,FALSE))","v":""},null,{"$f":"IF(C1221=\"\",\"\",VLOOKUP(C1221,PARAMETROS!$G$3:$H$21,2,FALSE))","v":""},null,{"$f":"IF(E1221=\"\",\"\",VLOOKUP(E1221,PARAMETROS!$I$3:$J$21,2,FALSE))","v":""},null,null,null,null,null,null,""]
[null,{"$f":"IF(A1222=\"\",\"\",VLOOKUP(A1222,PARAMETROS!$B$3:$C$3,2,FALSE))","v":""},null,{"$f":"IF(C1222=\"\",\"\",VLOOKUP(C1222,PARAMETROS!$G$3:$H$21,2,FALSE))","v":""},null,{"$f":"IF(E1222=\"\",\"\",VLOOKUP(E1222,PARAMETROS!$I$3:$J$21,2,FALSE))","v":""},null,null,null,null,null,null,""]
[null,{"$f":"IF(A1223=\"\",\"\",VLOOKUP(A1223,PARAMETROS!$B$3:$C$3,2,FALSE))","v":""},null,{"$f":"IF(C1223=\"\",\"\",VLOOKUP(C1223,PARAMETROS!$G$3:$H$21,2,FALSE))","v":""},null,{"$f":"IF(E1223=\"\",\"\",VLOOKUP(E1223,PARAMETROS!$I$3:$J$21,2,FALSE))","v":""},null,null,null,null,null,null,""]
[null,{"$f":"IF(A1224=\"\",\"\",VLOOKUP(A1224,PARAMETROS!$B$3:$C$3,2,FALSE))","v":""},null,{"$f":"IF(C1224=\"\",\"\",VLOOKUP(C1224,PARAMETROS!$G$3:$H$21,2,FALSE))","v":""},null,{"$f":"IF(E1224=\"\",\"\",VLOOKUP(E1224,PARAMETROS!$I$3:$J$21,2,FALSE))","v":""},null,null,null,null,null,null,""]
[null,{"$f":"IF(A1225=\"\",\"\",VLOOKUP(A1225,PARAMETROS!$B$3:$C$3,2,FALSE))","v":""},null,{"$f":"IF(C1225=\"\",\"\",VLOOKUP(C1225,PARAMETROS!$G$3:$H$21,2,FALSE))","v":""},null,{"$f":"IF(E1225=\"\",\"\",VLOOKUP(E1225,PARAMETROS!$I$3:$J$21,2,FALSE))","v":""},null,null,null,null,null,null,""]
[null,{"$f":"IF(A1226=\"\",\"\",VLOOKUP(A1226,PARAMETROS!$B$3:$C$3,2,FALSE))","v":""},null,{"$f":"IF(C1226=\"\",\"\",VLOOKUP(C1226,PARAMETROS!$G$3:$H$21,2,FALSE))","v":""},null,{"$f":"IF(E1226=\"\",\"\",VLOOKUP(E1226,PARAMETROS!$I$3:$J$21,2,FALSE))","v":""},null,null,null,null,null,null,""]
[null,{"$f":"IF(A1227=\"\",\"\",VLOOKUP(A1227,PARAMETROS!$B$3:$C$3,2,FALSE))","v":""},null,{"$f":"IF(C1227=\"\",\"\",VLOOKUP(C1227,PARAMETROS!$G$3:$H$21,2,FALSE))","v":""},null,{"$f":"IF(E1227=\"\",\"\",VLOOKUP(E1227,PARAMETROS!$I$3:$J$21,2,FALSE))","v":""},null,null,null,null,null,null,""]
[null,{"$f":"IF(A1228=\"\",\"\",VLOOKUP(A1228,PARAMETROS!$B$3:$C$3,2,FALSE))","v":""},null,{"$f":"IF(C1228=\"\",\"\",VLOOKUP(C1228,PARAMETROS!$G$3:$H$21,2,FALSE))","v":""},null,{"$f":"IF(E1228=\"\",\"\",VLOOKUP(E1228,PARAMETROS!$I$3:$J$21,2,FALSE))","v":""},null,null,null,null,null,null,""]
[null,{"$f":"IF(A1229=\"\",\"\",VLOOKUP(A1229,PARAMETROS!$B$3:$C$3,2,FALSE))","v":""},null,{"$f":"IF(C1229=\"\",\"\",VLOOKUP(C1229,PARAMETROS!$G$3:$H$21,2,FALSE))","v":""},null,{"$f":"IF(E1229=\"\",\"\",VLOOKUP(E1229,PARAMETROS!$I$3:$J$21,2,FALSE))","v":""},null,null,null,null,null,null,""]
[null,{"$f":"IF(A1230=\"\",\"\",VLOOKUP(A1230,PARAMETROS!$B$3:$C$3,2,FALSE))","v":""},null,{"$f":"IF(C1230=\"\",\"\",VLOOKUP(C1230,PARAMETROS!$G$3:$H$21,2,FALSE))","v":""},null,{"$f":"IF(E1230=\"\",\"\",VLOOKUP(E1230,PARAMETROS!$I$3:$J$21,2,FALSE))","v":""},null,null,null,null,null,null,""]
[null,{"$f":"IF(A1231=\"\",\"\",VLOOKUP(A1231,PARAMETROS!$B$3:$C$3,2,FALSE))","v":""},null,{"$f":"IF(C1231=\"\",\"\",VLOOKUP(C1231,PARAMETROS!$G$3:$H$21,2,FALSE))","v":""},null,{"$f":"IF(E1231=\"\",\"\",VLOOKUP(E1231,PARAMETROS!$I$3:$J$21,2,FALSE))","v":""},null,null,null,null,null,null,{"$f":"IF(L1231=\"\", \"\", L1231)","v":""}]
[null,{"$f":"IF(A1232=\"\",\"\",VLOOKUP(A1232,PARAMETROS!$B$3:$C$3,2,FALSE))","v":""},null,{"$f":"IF(C1232=\"\",\"\",VLOOKUP(C1232,PARAMETROS!$G$3:$H$21,2,FALSE))","v":""},null,{"$f":"IF(E1232=\"\",\"\",VLOOKUP(E1232,PARAMETROS!$I$3:$J$21,2,FALSE))","v":""},null,null,null,null,null,null,""]
[null,{"$f":"IF(A1233=\"\",\"\",VLOOKUP(A1233,PARAMETROS!$B$3:$C$3,2,FALSE))","v":""},null,{"$f":"IF(C1233=\"\",\"\",VLOOKUP(C1233,PARAMETROS!$G$3:$H$21,2,FALSE))","v":""},null,{"$f":"IF(E1233=\"\",\"\",VLOOKUP(E1233,PARAMETROS!$I$3:$J$21,2,FALSE))","v":""},null,null,null,null,null,null,""]
[null,{"$f":"IF(A1234=\"\",\"\",VLOOKUP(A1234,PARAMETROS!$B$3:$C$3,2,FALSE))","v":""},null,{"$f":"IF(C1234=\"\",\"\",VLOOKUP(C1234,PARAMETROS!$G$3:$H$21,2,FALSE))","v":""},null,{"$f":"IF(E1234=\"\",\"\",VLOOKUP(E1234,PARAMETROS!$I$3:$J$21,2,FALSE))","v":""},null,null,null,null,null,null,""]
[null,{"$f":"IF(A1235=\"\",\"\",VLOOKUP(A1235,PARAMETROS!$B$3:$C$3,2,FALSE))","v":""},null,{"$f":"IF(C1235=\"\",\"\",VLOOKUP(C1235,PARAMETROS!$G$3:$H$21,2,FALSE))","v":""},null,{"$f":"IF(E1235=\"\",\"\",VLOOKUP(E1235,PARAMETROS!$I$3:$J$21,2,FALSE))","v":""},null,null,null,null,null,null,""]
[null,{"$f":"IF(A1236=\"\",\"\",VLOOKUP(A1236,PARAMETROS!$B$3:$C$3,2,FALSE))","v":""},null,{"$f":"IF(C1236=\"\",\"\",VLOOKUP(C1236,PARAMETROS!$G$3:$H$21,2,FALSE))","v":""},null,{"$f":"IF(E1236=\"\",\"\",VLOOKUP(E1236,PARAMETROS!$I$3:$J$21,2,FALSE))","v":""},null,null,null,null,null,null,""]
[null,{"$f":"IF(A1237=\"\",\"\",VLOOKUP(A1237,PARAMETROS!$B$3:$C$3,2,FALSE))","v":""},null,{"$f":"IF(C1237=\"\",\"\",VLOOKUP(C1237,PARAMETROS!$G$3:$H$21,2,FALSE))","v":""},null,{"$f":"IF(E1237=\"\",\"\",VLOOKUP(E1237,PARAMETROS!$I$3:$J$21,2,FALSE))","v":""},null,null,null,null,null,null,""]
[null,{"$f":"IF(A1238=\"\",\"\",VLOOKUP(A1238,PARAMETROS!$B$3:$C$3,2,FALSE))","v":""},null,{"$f":"IF(C1238=\"\",\"\",VLOOKUP(C1238,PARAMETROS!$G$3:$H$21,2,FALSE))","v":""},null,{"$f":"IF(E1238=\"\",\"\",VLOOKUP(E1238,PARAMETROS!$I$3:$J$21,2,FALSE))","v":""},null,null,null,null,null,null,""]
[null,{"$f":"IF(A1239=\"\",\"\",VLOOKUP(A1239,PARAMETROS!$B$3:$C$3,2,FALSE))","v":""},null,{"$f":"IF(C1239=\"\",\"\",VLOOKUP(C1239,PARAMETROS!$G$3:$H$21,2,FALSE))","v":""},null,{"$f":"IF(E1239=\"\",\"\",VLOOKUP(E1239,PARAMETROS!$I$3:$J$21,2,FALSE))","v":""},null,null,null,null,null,null,""]
[null,{"$f":"IF(A1240=\"\",\"\",VLOOKUP(A1240,PARAMETROS!$B$3:$C$3,2,FALSE))","v":""},null,{"$f":"IF(C1240=\"\",\"\",VLOOKUP(C1240,PARAMETROS!$G$3:$H$21,2,FALSE))","v":""},null,{"$f":"IF(E1240=\"\",\"\",VLOOKUP(E1240,PARAMETROS!$I$3:$J$21,2,FALSE))","v":""},null,null,null,null,null,null,""]
[null,{"$f":"IF(A1241=\"\",\"\",VLOOKUP(A1241,PARAMETROS!$B$3:$C$3,2,FALSE))","v":""},null,{"$f":"IF(C1241=\"\",\"\",VLOOKUP(C1241,PARAMETROS!$G$3:$H$21,2,FALSE))","v":""},null,{"$f":"IF(E1241=\"\",\"\",VLOOKUP(E1241,PARAMETROS!$I$3:$J$21,2,FALSE))","v":""},null,null,null,null,null,null,""]
[null,{"$f":"IF(A1242=\"\",\"\",VLOOKUP(A1242,PARAMETROS!$B$3:$C$3,2,FALSE))","v":""},null,{"$f":"IF(C1242=\"\",\"\",VLOOKUP(C1242,PARAMETROS!$G$3:$H$21,2,FALSE))","v":""},null,{"$f":"IF(E1242=\"\",\"\",VLOOKUP(E1242,PARAMETROS!$I$3:$J$21,2,FALSE))","v":""},null,null,null,null,null,null,""]
[null,{"$f":"IF(A1243=\"\",\"\",VLOOKUP(A1243,PARAMETROS!$B$3:$C$3,2,FALSE))","v":""},null,{"$f":"IF(C1243=\"\",\"\",VLOOKUP(C1243,PARAMETROS!$G$3:$H$21,2,FALSE))","v":""},null,{"$f":"IF(E1243=\"\",\"\",VLOOKUP(E1243,PARAMETROS!$I$3:$J$21,2,FALSE))","v":""},null,null,null,null,null,null,""]
[null,{"$f":"IF(A1244=\"\",\"\",VLOOKUP(A1244,PARAMETROS!$B$3:$C$3,2,FALSE))","v":""},null,{"$f":"IF(C1244=\"\",\"\",VLOOKUP(C1244,PARAMETROS!$G$3:$H$21,2,FALSE))","v":""},null,{"$f":"IF(E1244=\"\",\"\",VLOOKUP(E1244,PARAMETROS!$I$3:$J$21,2,FALSE))","v":""},null,null,null,null,null,null,""]
[null,{"$f":"IF(A1245=\"\",\"\",VLOOKUP(A1245,PARAMETROS!$B$3:$C$3,2,FALSE))","v":""},null,{"$f":"IF(C1245=\"\",\"\",VLOOKUP(C1245,PARAMETROS!$G$3:$H$21,2,FALSE))","v":""},null,{"$f":"IF(E1245=\"\",\"\",VLOOKUP(E1245,PARAMETROS!$I$3:$J$21,2,FALSE))","v":""},null,null,null,null,null,null,""]
[null,{"$f":"IF(A1246=\"\",\"\",VLOOKUP(A1246,PARAMETROS!$B$3:$C$3,2,FALSE))","v":""},null,{"$f":"IF(C1246=\"\",\"\",VLOOKUP(C1246,PARAMETROS!$G$3:$H$21,2,FALSE))","v":""},null,{"$f":"IF(E1246=\"\",\"\",VLOOKUP(E1246,PARAMETROS!$I$3:$J$21,2,FALSE))","v":""},null,null,null,null,null,null,""]
[null,{"$f":"IF(A1247=\"\",\"\",VLOOKUP(A1247,PARAMETROS!$B$3:$C$3,2,FALSE))","v":""},null,{"$f":"IF(C1247=\"\",\"\",VLOOKUP(C1247,PARAMETROS!$G$3:$H$21,2,FALSE))","v":""},null,{"$f":"IF(E1247=\"\",\"\",VLOOKUP(E1247,PARAMETROS!$I$3:$J$21,2,FALSE))","v":""},null,null,null,null,null,null,""]
[null,{"$f":"IF(A1248=\"\",\"\",VLOOKUP(A1248,PARAMETROS!$B$3:$C$3,2,FALSE))","v":""},null,{"$f":"IF(C1248=\"\",\"\",VLOOKUP(C1248,PARAMETROS!$G$3:$H$21,2,FALSE))","v":""},null,{"$f":"IF(E1248=\"\",\"\",VLOOKUP(E1248,PARAMETROS!$I$3:$J$21,2,FALSE))","v":""},null,null,null,null,null,null,""]
[null,{"$f":"IF(A1249=\"\",\"\",VLOOKUP(A1249,PARAMETROS!$B$3:$C$3,2,FALSE))","v":""},null,{"$f":"IF(C1249=\"\",\"\",VLOOKUP(C1249,PARAMETROS!$G$3:$H$21,2,FALSE))","v":""},null,{"$f":"IF(E1249=\"\",\"\",VLOOKUP(E1249,PARAMETROS!$I$3:$J$21,2,FALSE))","v":""},null,null,null,null,null,null,""]
[null,{"$f":"IF(A1250=\"\",\"\",VLOOKUP(A1250,PARAMETROS!$B$3:$C$3,2,FALSE))","v":""},null,{"$f":"IF(C1250=\"\",\"\",VLOOKUP(C1250,PARAMETROS!$G$3:$H$21,2,FALSE))","v":""},null,{"$f":"IF(E1250=\"\",\"\",VLOOKUP(E1250,PARAMETROS!$I$3:$J$21,2,FALSE))","v":""},null,null,null,null,null,null,""]
[null,{"$f":"IF(A1251=\"\",\"\",VLOOKUP(A1251,PARAMETROS!$B$3:$C$3,2,FALSE))","v":""},null,{"$f":"IF(C1251=\"\",\"\",VLOOKUP(C1251,PARAMETROS!$G$3:$H$21,2,FALSE))","v":""},null,{"$f":"IF(E1251=\"\",\"\",VLOOKUP(E1251,PARAMETROS!$I$3:$J$21,2,FALSE))","v":""},null,null,null,null,null,null,""]
[null,{"$f":"IF(A1252=\"\",\"\",VLOOKUP(A1252,PARAMETROS!$B$3:$C$3,2,FALSE))","v":""},null,{"$f":"IF(C1252=\"\",\"\",VLOOKUP(C1252,PARAMETROS!$G$3:$H$21,2,FALSE))","v":""},null,{"$f":"IF(E1252=\"\",\"\",VLOOKUP(E1252,PARAMETROS!$I$3:$J$21,2,FALSE))","v":""},null,null,null,null,null,null,""]
[null,{"$f":"IF(A1253=\"\",\"\",VLOOKUP(A1253,PARAMETROS!$B$3:$C$3,2,FALSE))","v":""},null,{"$f":"IF(C1253=\"\",\"\",VLOOKUP(C1253,PARAMETROS!$G$3:$H$21,2,FALSE))","v":""},null,{"$f":"IF(E1253=\"\",\"\",VLOOKUP(E1253,PARAMETROS!$I$3:$J$21,2,FALSE))","v":""},null,null,null,null,null,null,""]
[null,{"$f":"IF(A1254=\"\",\"\",VLOOKUP(A1254,PARAMETROS!$B$3:$C$3,2,FALSE))","v":""},null,{"$f":"IF(C1254=\"\",\"\",VLOOKUP(C1254,PARAMETROS!$G$3:$H$21,2,FALSE))","v":""},null,{"$f":"IF(E1254=\"\",\"\",VLOOKUP(E1254,PARAMETROS!$I$3:$J$21,2,FALSE))","v":""},null,null,null,null,null,null,""]
[null,{"$f":"IF(A1255=\"\",\"\",VLOOKUP(A1255,PARAMETROS!$B$3:$C$3,2,FALSE))","v":""},null,{"$f":"IF(C1255=\"\",\"\",VLOOKUP(C1255,PARAMETROS!$G$3:$H$21,2,FALSE))","v":""},null,{"$f":"IF(E1255=\"\",\"\",VLOOKUP(E1255,PARAMETROS!$I$3:$J$21,2,FALSE))","v":""},null,null,null,null,null,null,""]
[null,{"$f":"IF(A1256=\"\",\"\",VLOOKUP(A1256,PARAMETROS!$B$3:$C$3,2,FALSE))","v":""},null,{"$f":"IF(C1256=\"\",\"\",VLOOKUP(C1256,PARAMETROS!$G$3:$H$21,2,FALSE))","v":""},null,{"$f":"IF(E1256=\"\",\"\",VLOOKUP(E1256,PARAMETROS!$I$3:$J$21,2,FALSE))","v":""},null,null,null,null,null,null,""]
[null,{"$f":"IF(A1257=\"\",\"\",VLOOKUP(A1257,PARAMETROS!$B$3:$C$3,2,FALSE))","v":""},null,{"$f":"IF(C1257=\"\",\"\",VLOOKUP(C1257,PARAMETROS!$G$3:$H$21,2,FALSE))","v":""},null,{"$f":"IF(E1257=\"\",\"\",VLOOKUP(E1257,PARAMETROS!$I$3:$J$21,2,FALSE))","v":""},null,null,null,null,null,null,""]
[null,{"$f":"IF(A1258=\"\",\"\",VLOOKUP(A1258,PARAMETROS!$B$3:$C$3,2,FALSE))","v":""},null,{"$f":"IF(C1258=\"\",\"\",VLOOKUP(C1258,PARAMETROS!$G$3:$H$21,2,FALSE))","v":""},null,{"$f":"IF(E1258=\"\",\"\",VLOOKUP(E1258,PARAMETROS!$I$3:$J$21,2,FALSE))","v":""},null,null,null,null,null,null,""]
[null,{"$f":"IF(A1259=\"\",\"\",VLOOKUP(A1259,PARAMETROS!$B$3:$C$3,2,FALSE))","v":""},null,{"$f":"IF(C1259=\"\",\"\",VLOOKUP(C1259,PARAMETROS!$G$3:$H$21,2,FALSE))","v":""},null,{"$f":"IF(E1259=\"\",\"\",VLOOKUP(E1259,PARAMETROS!$I$3:$J$21,2,FALSE))","v":""},null,null,null,null,null,null,""]
[null,{"$f":"IF(A1260=\"\",\"\",VLOOKUP(A1260,PARAMETROS!$B$3:$C$3,2,FALSE))","v":""},null,{"$f":"IF(C1260=\"\",\"\",VLOOKUP(C1260,PARAMETROS!$G$3:$H$21,2,FALSE))","v":""},null,{"$f":"IF(E1260=\"\",\"\",VLOOKUP(E1260,PARAMETROS!$I$3:$J$21,2,FALSE))","v":""},null,null,null,null,null,null,""]
[null,{"$f":"IF(A1261=\"\",\"\",VLOOKUP(A1261,PARAMETROS!$B$3:$C$3,2,FALSE))","v":""},null,{"$f":"IF(C1261=\"\",\"\",VLOOKUP(C1261,PARAMETROS!$G$3:$H$21,2,FALSE))","v":""},null,{"$f":"IF(E1261=\"\",\"\",VLOOKUP(E1261,PARAMETROS!$I$3:$J$21,2,FALSE))","v":""},null,null,null,null,null,null,""]
[null,{"$f":"IF(A1262=\"\",\"\",VLOOKUP(A1262,PARAMETROS!$B$3:$C$3,2,FALSE))","v":""},null,{"$f":"IF(C1262=\"\",\"\",VLOOKUP(C1262,PARAMETROS!$G$3:$H$21,2,FALSE))","v":""},null,{"$f":"IF(E1262=\"\",\"\",VLOOKUP(E1262,PARAMETROS!$I$3:$J$21,2,FALSE))","v":""},null,null,null,null,null,null,""]
[null,{"$f":"IF(A1263=\"\",\"\",VLOOKUP(A1263,PARAMETROS!$B$3:$C$3,2,FALSE))","v":""},null,{"$f":"IF(C1263=\"\",\"\",VLOOKUP(C1263,PARAMETROS!$G$3:$H$21,2,FALSE))","v":""},null,{"$f":"IF(E1263=\"\",\"\",VLOOKUP(E1263,PARAMETROS!$I$3:$J$21,2,FALSE))","v":""},null,null,null,null,null,null,""]
[null,{"$f":"IF(A1264=\"\",\"\",VLOOKUP(A1264,PARAMETROS!$B$3:$C$3,2,FALSE))","v":""},null,{"$f":"IF(C1264=\"\",\"\",VLOOKUP(C1264,PARAMETROS!$G$3:$H$21,2,FALSE))","v":""},null,{"$f":"IF(E1264=\"\",\"\",VLOOKUP(E1264,PARAMETROS!$I$3:$J$21,2,FALSE))","v":""},null,null,null,null,null,null,""]
[null,{"$f":"IF(A1265=\"\",\"\",VLOOKUP(A1265,PARAMETROS!$B$3:$C$3,2,FALSE))","v":""},null,{"$f":"IF(C1265=\"\",\"\",VLOOKUP(C1265,PARAMETROS!$G$3:$H$21,2,FALSE))","v":""},null,{"$f":"IF(E1265=\"\",\"\",VLOOKUP(E1265,PARAMETROS!$I$3:$J$21,2,FALSE))","v":""},null,null,null,null,null,null,""]
[null,{"$f":"IF(A1266=\"\",\"\",VLOOKUP(A1266,PARAMETROS!$B$3:$C$3,2,FALSE))","v":""},null,{"$f":"IF(C1266=\"\",\"\",VLOOKUP(C1266,PARAMETROS!$G$3:$H$21,2,FALSE))","v":""},null,{"$f":"IF(E1266=\"\",\"\",VLOOKUP(E1266,PARAMETROS!$I$3:$J$21,2,FALSE))","v":""},null,null,null,null,null,null,""]
[null,{"$f":"IF(A1267=\"\",\"\",VLOOKUP(A1267,PARAMETROS!$B$3:$C$3,2,FALSE))","v":""},null,{"$f":"IF(C1267=\"\",\"\",VLOOKUP(C1267,PARAMETROS!$G$3:$H$21,2,FALSE))","v":""},null,{"$f":"IF(E1267=\"\",\"\",VLOOKUP(E1267,PARAMETROS!$I$3:$J$21,2,FALSE))","v":""},null,null,null,null,null,null,""]
[null,{"$f":"IF(A1268=\"\",\"\",VLOOKUP(A1268,PARAMETROS!$B$3:$C$3,2,FALSE))","v":""},null,{"$f":"IF(C1268=\"\",\"\",VLOOKUP(C1268,PARAMETROS!$G$3:$H$21,2,FALSE))","v":""},null,{"$f":"IF(E1268=\"\",\"\",VLOOKUP(E1268,PARAMETROS!$I$3:$J$21,2,FALSE))","v":""},null,null,null,null,null,null,""]
[null,{"$f":"IF(A1269=\"\",\"\",VLOOKUP(A1269,PARAMETROS!$B$3:$C$3,2,FALSE))","v":""},null,{"$f":"IF(C1269=\"\",\"\",VLOOKUP(C1269,PARAMETROS!$G$3:$H$21,2,FALSE))","v":""},null,{"$f":"IF(E1269=\"\",\"\",VLOOKUP(E1269,PARAMETROS!$I$3:$J$21,2,FALSE))","v":""},null,null,null,null,null,null,""]
[null,{"$f":"IF(A1270=\"\",\"\",VLOOKUP(A1270,PARAMETROS!$B$3:$C$3,2,FALSE))","v":""},null,{"$f":"IF(C1270=\"\",\"\",VLOOKUP(C1270,PARAMETROS!$G$3:$H$21,2,FALSE))","v":""},null,{"$f":"IF(E1270=\"\",\"\",VLOOKUP(E1270,PARAMETROS!$I$3:$J$21,2,FALSE))","v":""},null,null,null,null,null,null,""]
[null,{"$f":"IF(A1271=\"\",\"\",VLOOKUP(A1271,PARAMETROS!$B$3:$C$3,2,FALSE))","v":""},null,{"$f":"IF(C1271=\"\",\"\",VLOOKUP(C1271,PARAMETROS!$G$3:$H$21,2,FALSE))","v":""},null,{"$f":"IF(E1271=\"\",\"\",VLOOKUP(E1271,PARAMETROS!$I$3:$J$21,2,FALSE))","v":""},null,null,null,null,null,null,""]
[null,{"$f":"IF(A1272=\"\",\"\",VLOOKUP(A1272,PARAMETROS!$B$3:$C$3,2,FALSE))","v":""},null,{"$f":"IF(C1272=\"\",\"\",VLOOKUP(C1272,PARAMETROS!$G$3:$H$21,2,FALSE))","v":""},null,{"$f":"IF(E1272=\"\",\"\",VLOOKUP(E1272,PARAMETROS!$I$3:$J$21,2,FALSE))","v":""},null,null,null,null,null,null,""]
[null,{"$f":"IF(A1273=\"\",\"\",VLOOKUP(A1273,PARAMETROS!$B$3:$C$3,2,FALSE))","v":""},null,{"$f":"IF(C1273=\"\",\"\",VLOOKUP(C1273,PARAMETROS!$G$3:$H$21,2,FALSE))","v":""},null,{"$f":"IF(E1273=\"\",\"\",VLOOKUP(E1273,PARAMETROS!$I$3:$J$21,2,FALSE))","v":""},null,null,null,null,null,null,""]
[null,{"$f":"IF(A1274=\"\",\"\",VLOOKUP(A1274,PARAMETROS!$B$3:$C$3,2,FALSE))","v":""},null,{"$f":"IF(C1274=\"\",\"\",VLOOKUP(C1274,PARAMETROS!$G$3:$H$21,2,FALSE))","v":""},null,{"$f":"IF(E1274=\"\",\"\",VLOOKUP(E1274,PARAMETROS!$I$3:$J$21,2,FALSE))","v":""},null,null,null,null,null,null,""]
[null,{"$f":"IF(A1275=\"\",\"\",VLOOKUP(A1275,PARAMETROS!$B$3:$C$3,2,FALSE))","v":""},null,{"$f":"IF(C1275=\"\",\"\",VLOOKUP(C1275,PARAMETROS!$G$3:$H$21,2,FALSE))","v":""},null,{"$f":"IF(E1275=\"\",\"\",VLOOKUP(E1275,PARAMETROS!$I$3:$J$21,2,FALSE))","v":""},null,null,null,null,null,null,""]
[null,{"$f":"IF(A1276=\"\",\"\",VLOOKUP(A1276,PARAMETROS!$B$3:$C$3,2,FALSE))","v":""},null,{"$f":"IF(C1276=\"\",\"\",VLOOKUP(C1276,PARAMETROS!$G$3:$H$21,2,FALSE))","v":""},null,{"$f":"IF(E1276=\"\",\"\",VLOOKUP(E1276,PARAMETROS!$I$3:$J$21,2,FALSE))","v":""},null,null,null,null,null,null,""]
[null,{"$f":"IF(A1277=\"\",\"\",VLOOKUP(A1277,PARAMETROS!$B$3:$C$3,2,FALSE))","v":""},null,{"$f":"IF(C1277=\"\",\"\",VLOOKUP(C1277,PARAMETROS!$G$3:$H$21,2,FALSE))","v":""},null,{"$f":"IF(E1277=\"\",\"\",VLOOKUP(E1277,PARAMETROS!$I$3:$J$21,2,FALSE))","v":""},null,null,null,null,null,null,""]
[null,{"$f":"IF(A1278=\"\",\"\",VLOOKUP(A1278,PARAMETROS!$B$3:$C$3,2,FALSE))","v":""},null,{"$f":"IF(C1278=\"\",\"\",VLOOKUP(C1278,PARAMETROS!$G$3:$H$21,2,FALSE))","v":""},null,{"$f":"IF(E1278=\"\",\"\",VLOOKUP(E1278,PARAMETROS!$I$3:$J$21,2,FALSE))","v":""},null,null,null,null,null,null,""]
[null,{"$f":"IF(A1279=\"\",\"\",VLOOKUP(A1279,PARAMETROS!$B$3:$C$3,2,FALSE))","v":""},null,{"$f":"IF(C1279=\"\",\"\",VLOOKUP(C1279,PARAMETROS!$G$3:$H$21,2,FALSE))","v":""},null,{"$f":"IF(E1279=\"\",\"\",VLOOKUP(E1279,PARAMETROS!$I$3:$J$21,2,FALSE))","v":""},null,null,null,null,null,null,""]
[null,{"$f":"IF(A1280=\"\",\"\",VLOOKUP(A1280,PARAMETROS!$B$3:$C$3,2,FALSE))","v":""},null,{"$f":"IF(C1280=\"\",\"\",VLOOKUP(C1280,PARAMETROS!$G$3:$H$21,2,FALSE))","v":""},null,{"$f":"IF(E1280=\"\",\"\",VLOOKUP(E1280,PARAMETROS!$I$3:$J$21,2,FALSE))","v":""},null,null,null,null,null,null,""]
[null,{"$f":"IF(A1281=\"\",\"\",VLOOKUP(A1281,PARAMETROS!$B$3:$C$3,2,FALSE))","v":""},null,{"$f":"IF(C1281=\"\",\"\",VLOOKUP(C1281,PARAMETROS!$G$3:$H$21,2,FALSE))","v":""},null,{"$f":"IF(E1281=\"\",\"\",VLOOKUP(E1281,PARAMETROS!$I$3:$J$21,2,FALSE))","v":""},null,null,null,null,null,null,""]
[null,{"$f":"IF(A1282=\"\",\"\",VLOOKUP(A1282,PARAMETROS!$B$3:$C$3,2,FALSE))","v":""},null,{"$f":"IF(C1282=\"\",\"\",VLOOKUP(C1282,PARAMETROS!$G$3:$H$21,2,FALSE))","v":""},null,{"$f":"IF(E1282=\"\",\"\",VLOOKUP(E1282,PARAMETROS!$I$3:$J$21,2,FALSE))","v":""},null,null,null,null,null,null,""]
[null,{"$f":"IF(A1283=\"\",\"\",VLOOKUP(A1283,PARAMETROS!$B$3:$C$3,2,FALSE))","v":""},null,{"$f":"IF(C1283=\"\",\"\",VLOOKUP(C1283,PARAMETROS!$G$3:$H$21,2,FALSE))","v":""},null,{"$f":"IF(E1283=\"\",\"\",VLOOKUP(E1283,PARAMETROS!$I$3:$J$21,2,FALSE))","v":""},null,null,null,null,null,null,""]
[null,{"$f":"IF(A1284=\"\",\"\",VLOOKUP(A1284,PARAMETROS!$B$3:$C$3,2,FALSE))","v":""},null,{"$f":"IF(C1284=\"\",\"\",VLOOKUP(C1284,PARAMETROS!$G$3:$H$21,2,FALSE))","v":""},null,{"$f":"IF(E1284=\"\",\"\",VLOOKUP(E1284,PARAMETROS!$I$3:$J$21,2,FALSE))","v":""},null,null,null,null,null,null,""]
[null,{"$f":"IF(A1285=\"\",\"\",VLOOKUP(A1285,PARAMETROS!$B$3:$C$3,2,FALSE))","v":""},null,{"$f":"IF(C1285=\"\",\"\",VLOOKUP(C1285,PARAMETROS!$G$3:$H$21,2,FALSE))","v":""},null,{"$f":"IF(E1285=\"\",\"\",VLOOKUP(E1285,PARAMETROS!$I$3:$J$21,2,FALSE))","v":""},null,null,null,null,null,null,""]
[null,{"$f":"IF(A1286=\"\",\"\",VLOOKUP(A1286,PARAMETROS!$B$3:$C$3,2,FALSE))","v":""},null,{"$f":"IF(C1286=\"\",\"\",VLOOKUP(C1286,PARAMETROS!$G$3:$H$21,2,FALSE))","v":""},null,{"$f":"IF(E1286=\"\",\"\",VLOOKUP(E1286,PARAMETROS!$I$3:$J$21,2,FALSE))","v":""},null,null,null,null,null,null,""]
[null,{"$f":"IF(A1287=\"\",\"\",VLOOKUP(A1287,PARAMETROS!$B$3:$C$3,2,FALSE))","v":""},null,{"$f":"IF(C1287=\"\",\"\",VLOOKUP(C1287,PARAMETROS!$G$3:$H$21,2,FALSE))","v":""},null,{"$f":"IF(E1287=\"\",\"\",VLOOKUP(E1287,PARAMETROS!$I$3:$J$21,2,FALSE))","v":""},null,null,null,null,null,null,""]
[null,{"$f":"IF(A1288=\"\",\"\",VLOOKUP(A1288,PARAMETROS!$B$3:$C$3,2,FALSE))","v":""},null,{"$f":"IF(C1288=\"\",\"\",VLOOKUP(C1288,PARAMETROS!$G$3:$H$21,2,FALSE))","v":""},null,{"$f":"IF(E1288=\"\",\"\",VLOOKUP(E1288,PARAMETROS!$I$3:$J$21,2,FALSE))","v":""},null,null,null,null,null,null,""]
[null,{"$f":"IF(A1289=\"\",\"\",VLOOKUP(A1289,PARAMETROS!$B$3:$C$3,2,FALSE))","v":""},null,{"$f":"IF(C1289=\"\",\"\",VLOOKUP(C1289,PARAMETROS!$G$3:$H$21,2,FALSE))","v":""},null,{"$f":"IF(E1289=\"\",\"\",VLOOKUP(E1289,PARAMETROS!$I$3:$J$21,2,FALSE))","v":""},null,null,null,null,null,null,""]
[null,{"$f":"IF(A1290=\"\",\"\",VLOOKUP(A1290,PARAMETROS!$B$3:$C$3,2,FALSE))","v":""},null,{"$f":"IF(C1290=\"\",\"\",VLOOKUP(C1290,PARAMETROS!$G$3:$H$21,2,FALSE))","v":""},null,{"$f":"IF(E1290=\"\",\"\",VLOOKUP(E1290,PARAMETROS!$I$3:$J$21,2,FALSE))","v":""},null,null,null,null,null,null,""]
[null,{"$f":"IF(A1291=\"\",\"\",VLOOKUP(A1291,PARAMETROS!$B$3:$C$3,2,FALSE))","v":""},null,{"$f":"IF(C1291=\"\",\"\",VLOOKUP(C1291,PARAMETROS!$G$3:$H$21,2,FALSE))","v":""},null,{"$f":"IF(E1291=\"\",\"\",VLOOKUP(E1291,PARAMETROS!$I$3:$J$21,2,FALSE))","v":""},null,null,null,null,null,null,""]
[null,{"$f":"IF(A1292=\"\",\"\",VLOOKUP(A1292,PARAMETROS!$B$3:$C$3,2,FALSE))","v":""},null,{"$f":"IF(C1292=\"\",\"\",VLOOKUP(C1292,PARAMETROS!$G$3:$H$21,2,FALSE))","v":""},null,{"$f":"IF(E1292=\"\",\"\",VLOOKUP(E1292,PARAMETROS!$I$3:$J$21,2,FALSE))","v":""},null,null,null,null,null,null,""]
[null,{"$f":"IF(A1293=\"\",\"\",VLOOKUP(A1293,PARAMETROS!$B$3:$C$3,2,FALSE))","v":""},null,{"$f":"IF(C1293=\"\",\"\",VLOOKUP(C1293,PARAMETROS!$G$3:$H$21,2,FALSE))","v":""},null,{"$f":"IF(E1293=\"\",\"\",VLOOKUP(E1293,PARAMETROS!$I$3:$J$21,2,FALSE))","v":""},null,null,null,null,null,null,""]
[null,{"$f":"IF(A1294=\"\",\"\",VLOOKUP(A1294,PARAMETROS!$B$3:$C$3,2,FALSE))","v":""},null,{"$f":"IF(C1294=\"\",\"\",VLOOKUP(C1294,PARAMETROS!$G$3:$H$21,2,FALSE))","v":""},null,{"$f":"IF(E1294=\"\",\"\",VLOOKUP(E1294,PARAMETROS!$I$3:$J$21,2,FALSE))","v":""},null,null,null,null,null,null,""]
[null,{"$f":"IF(A1295=\"\",\"\",VLOOKUP(A1295,PARAMETROS!$B$3:$C$3,2,FALSE))","v":""},null,{"$f":"IF(C1295=\"\",\"\",VLOOKUP(C1295,PARAMETROS!$G$3:$H$21,2,FALSE))","v":""},null,{"$f":"IF(E1295=\"\",\"\",VLOOKUP(E1295,PARAMETROS!$I$3:$J$21,2,FALSE))","v":""},null,null,null,null,null,null,{"$f":"IF(L1295=\"\", \"\", L1295)","v":""}]
[null,{"$f":"IF(A1296=\"\",\"\",VLOOKUP(A1296,PARAMETROS!$B$3:$C$3,2,FALSE))","v":""},null,{"$f":"IF(C1296=\"\",\"\",VLOOKUP(C1296,PARAMETROS!$G$3:$H$21,2,FALSE))","v":""},null,{"$f":"IF(E1296=\"\",\"\",VLOOKUP(E1296,PARAMETROS!$I$3:$J$21,2,FALSE))","v":""},null,null,null,null,null,null,""]
[null,{"$f":"IF(A1297=\"\",\"\",VLOOKUP(A1297,PARAMETROS!$B$3:$C$3,2,FALSE))","v":""},null,{"$f":"IF(C1297=\"\",\"\",VLOOKUP(C1297,PARAMETROS!$G$3:$H$21,2,FALSE))","v":""},null,{"$f":"IF(E1297=\"\",\"\",VLOOKUP(E1297,PARAMETROS!$I$3:$J$21,2,FALSE))","v":""},null,null,null,null,null,null,""]
[null,{"$f":"IF(A1298=\"\",\"\",VLOOKUP(A1298,PARAMETROS!$B$3:$C$3,2,FALSE))","v":""},null,{"$f":"IF(C1298=\"\",\"\",VLOOKUP(C1298,PARAMETROS!$G$3:$H$21,2,FALSE))","v":""},null,{"$f":"IF(E1298=\"\",\"\",VLOOKUP(E1298,PARAMETROS!$I$3:$J$21,2,FALSE))","v":""},null,null,null,null,null,null,""]
[null,{"$f":"IF(A1299=\"\",\"\",VLOOKUP(A1299,PARAMETROS!$B$3:$C$3,2,FALSE))","v":""},null,{"$f":"IF(C1299=\"\",\"\",VLOOKUP(C1299,PARAMETROS!$G$3:$H$21,2,FALSE))","v":""},null,{"$f":"IF(E1299=\"\",\"\",VLOOKUP(E1299,PARAMETROS!$I$3:$J$21,2,FALSE))","v":""},null,null,null,null,null,null,""]
[null,{"$f":"IF(A1300=\"\",\"\",VLOOKUP(A1300,PARAMETROS!$B$3:$C$3,2,FALSE))","v":""},null,{"$f":"IF(C1300=\"\",\"\",VLOOKUP(C1300,PARAMETROS!$G$3:$H$21,2,FALSE))","v":""},null,{"$f":"IF(E1300=\"\",\"\",VLOOKUP(E1300,PARAMETROS!$I$3:$J$21,2,FALSE))","v":""},null,null,null,null,null,null,""]
[null,{"$f":"IF(A1301=\"\",\"\",VLOOKUP(A1301,PARAMETROS!$B$3:$C$3,2,FALSE))","v":""},null,{"$f":"IF(C1301=\"\",\"\",VLOOKUP(C1301,PARAMETROS!$G$3:$H$21,2,FALSE))","v":""},null,{"$f":"IF(E1301=\"\",\"\",VLOOKUP(E1301,PARAMETROS!$I$3:$J$21,2,FALSE))","v":""},null,null,null,null,null,null,""]
[null,{"$f":"IF(A1302=\"\",\"\",VLOOKUP(A1302,PARAMETROS!$B$3:$C$3,2,FALSE))","v":""},null,{"$f":"IF(C1302=\"\",\"\",VLOOKUP(C1302,PARAMETROS!$G$3:$H$21,2,FALSE))","v":""},null,{"$f":"IF(E1302=\"\",\"\",VLOOKUP(E1302,PARAMETROS!$I$3:$J$21,2,FALSE))","v":""},null,null,null,null,null,null,""]
[null,{"$f":"IF(A1303=\"\",\"\",VLOOKUP(A1303,PARAMETROS!$B$3:$C$3,2,FALSE))","v":""},null,{"$f":"IF(C1303=\"\",\"\",VLOOKUP(C1303,PARAMETROS!$G$3:$H$21,2,FALSE))","v":""},null,{"$f":"IF(E1303=\"\",\"\",VLOOKUP(E1303,PARAMETROS!$I$3:$J$21,2,FALSE))","v":""},null,null,null,null,null,null,""]
[null,{"$f":"IF(A1304=\"\",\"\",VLOOKUP(A1304,PARAMETROS!$B$3:$C$3,2,FALSE))","v":""},null,{"$f":"IF(C1304=\"\",\"\",VLOOKUP(C1304,PARAMETROS!$G$3:$H$21,2,FALSE))","v":""},null,{"$f":"IF(E1304=\"\",\"\",VLOOKUP(E1304,PARAMETROS!$I$3:$J$21,2,FALSE))","v":""},null,null,null,null,null,null,""]
[null,{"$f":"IF(A1305=\"\",\"\",VLOOKUP(A1305,PARAMETROS!$B$3:$C$3,2,FALSE))","v":""},null,{"$f":"IF(C1305=\"\",\"\",VLOOKUP(C1305,PARAMETROS!$G$3:$H$21,2,FALSE))","v":""},null,{"$f":"IF(E1305=\"\",\"\",VLOOKUP(E1305,PARAMETROS!$I$3:$J$21,2,FALSE))","v":""},null,null,null,null,null,null,""]
[null,{"$f":"IF(A1306=\"\",\"\",VLOOKUP(A1306,PARAMETROS!$B$3:$C$3,2,FALSE))","v":""},null,{"$f":"IF(C1306=\"\",\"\",VLOOKUP(C1306,PARAMETROS!$G$3:$H$21,2,FALSE))","v":""},null,{"$f":"IF(E1306=\"\",\"\",VLOOKUP(E1306,PARAMETROS!$I$3:$J$21,2,FALSE))","v":""},null,null,null,null,null,null,""]
[null,{"$f":"IF(A1307=\"\",\"\",VLOOKUP(A1307,PARAMETROS!$B$3:$C$3,2,FALSE))","v":""},null,{"$f":"IF(C1307=\"\",\"\",VLOOKUP(C1307,PARAMETROS!$G$3:$H$21,2,FALSE))","v":""},null,{"$f":"IF(E1307=\"\",\"\",VLOOKUP(E1307,PARAMETROS!$I$3:$J$21,2,FALSE))","v":""},null,null,null,null,null,null,""]
[null,{"$f":"IF(A1308=\"\",\"\",VLOOKUP(A1308,PARAMETROS!$B$3:$C$3,2,FALSE))","v":""},null,{"$f":"IF(C1308=\"\",\"\",VLOOKUP(C1308,PARAMETROS!$G$3:$H$21,2,FALSE))","v":""},null,{"$f":"IF(E1308=\"\",\"\",VLOOKUP(E1308,PARAMETROS!$I$3:$J$21,2,FALSE))","v":""},null,null,null,null,null,null,""]
[null,{"$f":"IF(A1309=\"\",\"\",VLOOKUP(A1309,PARAMETROS!$B$3:$C$3,2,FALSE))","v":""},null,{"$f":"IF(C1309=\"\",\"\",VLOOKUP(C1309,PARAMETROS!$G$3:$H$21,2,FALSE))","v":""},null,{"$f":"IF(E1309=\"\",\"\",VLOOKUP(E1309,PARAMETROS!$I$3:$J$21,2,FALSE))","v":""},null,null,null,null,null,null,""]
[null,{"$f":"IF(A1310=\"\",\"\",VLOOKUP(A1310,PARAMETROS!$B$3:$C$3,2,FALSE))","v":""},null,{"$f":"IF(C1310=\"\",\"\",VLOOKUP(C1310,PARAMETROS!$G$3:$H$21,2,FALSE))","v":""},null,{"$f":"IF(E1310=\"\",\"\",VLOOKUP(E1310,PARAMETROS!$I$3:$J$21,2,FALSE))","v":""},null,null,null,null,null,null,""]
[null,{"$f":"IF(A1311=\"\",\"\",VLOOKUP(A1311,PARAMETROS!$B$3:$C$3,2,FALSE))","v":""},null,{"$f":"IF(C1311=\"\",\"\",VLOOKUP(C1311,PARAMETROS!$G$3:$H$21,2,FALSE))","v":""},null,{"$f":"IF(E1311=\"\",\"\",VLOOKUP(E1311,PARAMETROS!$I$3:$J$21,2,FALSE))","v":""},null,null,null,null,null,null,""]
[null,{"$f":"IF(A1312=\"\",\"\",VLOOKUP(A1312,PARAMETROS!$B$3:$C$3,2,FALSE))","v":""},null,{"$f":"IF(C1312=\"\",\"\",VLOOKUP(C1312,PARAMETROS!$G$3:$H$21,2,FALSE))","v":""},null,{"$f":"IF(E1312=\"\",\"\",VLOOKUP(E1312,PARAMETROS!$I$3:$J$21,2,FALSE))","v":""},null,null,null,null,null,null,""]
[null,{"$f":"IF(A1313=\"\",\"\",VLOOKUP(A1313,PARAMETROS!$B$3:$C$3,2,FALSE))","v":""},null,{"$f":"IF(C1313=\"\",\"\",VLOOKUP(C1313,PARAMETROS!$G$3:$H$21,2,FALSE))","v":""},null,{"$f":"IF(E1313=\"\",\"\",VLOOKUP(E1313,PARAMETROS!$I$3:$J$21,2,FALSE))","v":""},null,null,null,null,null,null,""]
[null,{"$f":"IF(A1314=\"\",\"\",VLOOKUP(A1314,PARAMETROS!$B$3:$C$3,2,FALSE))","v":""},null,{"$f":"IF(C1314=\"\",\"\",VLOOKUP(C1314,PARAMETROS!$G$3:$H$21,2,FALSE))","v":""},null,{"$f":"IF(E1314=\"\",\"\",VLOOKUP(E1314,PARAMETROS!$I$3:$J$21,2,FALSE))","v":""},null,null,null,null,null,null,""]
[null,{"$f":"IF(A1315=\"\",\"\",VLOOKUP(A1315,PARAMETROS!$B$3:$C$3,2,FALSE))","v":""},null,{"$f":"IF(C1315=\"\",\"\",VLOOKUP(C1315,PARAMETROS!$G$3:$H$21,2,FALSE))","v":""},null,{"$f":"IF(E1315=\"\",\"\",VLOOKUP(E1315,PARAMETROS!$I$3:$J$21,2,FALSE))","v":""},null,null,null,null,null,null,""]
[null,{"$f":"IF(A1316=\"\",\"\",VLOOKUP(A1316,PARAMETROS!$B$3:$C$3,2,FALSE))","v":""},null,{"$f":"IF(C1316=\"\",\"\",VLOOKUP(C1316,PARAMETROS!$G$3:$H$21,2,FALSE))","v":""},null,{"$f":"IF(E1316=\"\",\"\",VLOOKUP(E1316,PARAMETROS!$I$3:$J$21,2,FALSE))","v":""},null,null,null,null,null,null,""]
[null,{"$f":"IF(A1317=\"\",\"\",VLOOKUP(A1317,PARAMETROS!$B$3:$C$3,2,FALSE))","v":""},null,{"$f":"IF(C1317=\"\",\"\",VLOOKUP(C1317,PARAMETROS!$G$3:$H$21,2,FALSE))","v":""},null,{"$f":"IF(E1317=\"\",\"\",VLOOKUP(E1317,PARAMETROS!$I$3:$J$21,2,FALSE))","v":""},null,null,null,null,null,null,""]
[null,{"$f":"IF(A1318=\"\",\"\",VLOOKUP(A1318,PARAMETROS!$B$3:$C$3,2,FALSE))","v":""},null,{"$f":"IF(C1318=\"\",\"\",VLOOKUP(C1318,PARAMETROS!$G$3:$H$21,2,FALSE))","v":""},null,{"$f":"IF(E1318=\"\",\"\",VLOOKUP(E1318,PARAMETROS!$I$3:$J$21,2,FALSE))","v":""},null,null,null,null,null,null,""]
[null,{"$f":"IF(A1319=\"\",\"\",VLOOKUP(A1319,PARAMETROS!$B$3:$C$3,2,FALSE))","v":""},null,{"$f":"IF(C1319=\"\",\"\",VLOOKUP(C1319,PARAMETROS!$G$3:$H$21,2,FALSE))","v":""},null,{"$f":"IF(E1319=\"\",\"\",VLOOKUP(E1319,PARAMETROS!$I$3:$J$21,2,FALSE))","v":""},null,null,null,null,null,null,""]
[null,{"$f":"IF(A1320=\"\",\"\",VLOOKUP(A1320,PARAMETROS!$B$3:$C$3,2,FALSE))","v":""},null,{"$f":"IF(C1320=\"\",\"\",VLOOKUP(C1320,PARAMETROS!$G$3:$H$21,2,FALSE))","v":""},null,{"$f":"IF(E1320=\"\",\"\",VLOOKUP(E1320,PARAMETROS!$I$3:$J$21,2,FALSE))","v":""},null,null,null,null,null,null,""]
[null,{"$f":"IF(A1321=\"\",\"\",VLOOKUP(A1321,PARAMETROS!$B$3:$C$3,2,FALSE))","v":""},null,{"$f":"IF(C1321=\"\",\"\",VLOOKUP(C1321,PARAMETROS!$G$3:$H$21,2,FALSE))","v":""},null,{"$f":"IF(E1321=\"\",\"\",VLOOKUP(E1321,PARAMETROS!$I$3:$J$21,2,FALSE))","v":""},null,null,null,null,null,null,""]
[null,{"$f":"IF(A1322=\"\",\"\",VLOOKUP(A1322,PARAMETROS!$B$3:$C$3,2,FALSE))","v":""},null,{"$f":"IF(C1322=\"\",\"\",VLOOKUP(C1322,PARAMETROS!$G$3:$H$21,2,FALSE))","v":""},null,{"$f":"IF(E1322=\"\",\"\",VLOOKUP(E1322,PARAMETROS!$I$3:$J$21,2,FALSE))","v":""},null,null,null,null,null,null,""]
[null,{"$f":"IF(A1323=\"\",\"\",VLOOKUP(A1323,PARAMETROS!$B$3:$C$3,2,FALSE))","v":""},null,{"$f":"IF(C1323=\"\",\"\",VLOOKUP(C1323,PARAMETROS!$G$3:$H$21,2,FALSE))","v":""},null,{"$f":"IF(E1323=\"\",\"\",VLOOKUP(E1323,PARAMETROS!$I$3:$J$21,2,FALSE))","v":""},null,null,null,null,null,null,""]
[null,{"$f":"IF(A1324=\"\",\"\",VLOOKUP(A1324,PARAMETROS!$B$3:$C$3,2,FALSE))","v":""},null,{"$f":"IF(C1324=\"\",\"\",VLOOKUP(C1324,PARAMETROS!$G$3:$H$21,2,FALSE))","v":""},null,{"$f":"IF(E1324=\"\",\"\",VLOOKUP(E1324,PARAMETROS!$I$3:$J$21,2,FALSE))","v":""},null,null,null,null,null,null,""]
[null,{"$f":"IF(A1325=\"\",\"\",VLOOKUP(A1325,PARAMETROS!$B$3:$C$3,2,FALSE))","v":""},null,{"$f":"IF(C1325=\"\",\"\",VLOOKUP(C1325,PARAMETROS!$G$3:$H$21,2,FALSE))","v":""},null,{"$f":"IF(E1325=\"\",\"\",VLOOKUP(E1325,PARAMETROS!$I$3:$J$21,2,FALSE))","v":""},null,null,null,null,null,null,""]
[null,{"$f":"IF(A1326=\"\",\"\",VLOOKUP(A1326,PARAMETROS!$B$3:$C$3,2,FALSE))","v":""},null,{"$f":"IF(C1326=\"\",\"\",VLOOKUP(C1326,PARAMETROS!$G$3:$H$21,2,FALSE))","v":""},null,{"$f":"IF(E1326=\"\",\"\",VLOOKUP(E1326,PARAMETROS!$I$3:$J$21,2,FALSE))","v":""},null,null,null,null,null,null,""]
[null,{"$f":"IF(A1327=\"\",\"\",VLOOKUP(A1327,PARAMETROS!$B$3:$C$3,2,FALSE))","v":""},null,{"$f":"IF(C1327=\"\",\"\",VLOOKUP(C1327,PARAMETROS!$G$3:$H$21,2,FALSE))","v":""},null,{"$f":"IF(E1327=\"\",\"\",VLOOKUP(E1327,PARAMETROS!$I$3:$J$21,2,FALSE))","v":""},null,null,null,null,null,null,""]
[null,{"$f":"IF(A1328=\"\",\"\",VLOOKUP(A1328,PARAMETROS!$B$3:$C$3,2,FALSE))","v":""},null,{"$f":"IF(C1328=\"\",\"\",VLOOKUP(C1328,PARAMETROS!$G$3:$H$21,2,FALSE))","v":""},null,{"$f":"IF(E1328=\"\",\"\",VLOOKUP(E1328,PARAMETROS!$I$3:$J$21,2,FALSE))","v":""},null,null,null,null,null,null,""]
[null,{"$f":"IF(A1329=\"\",\"\",VLOOKUP(A1329,PARAMETROS!$B$3:$C$3,2,FALSE))","v":""},null,{"$f":"IF(C1329=\"\",\"\",VLOOKUP(C1329,PARAMETROS!$G$3:$H$21,2,FALSE))","v":""},null,{"$f":"IF(E1329=\"\",\"\",VLOOKUP(E1329,PARAMETROS!$I$3:$J$21,2,FALSE))","v":""},null,null,null,null,null,null,""]
[null,{"$f":"IF(A1330=\"\",\"\",VLOOKUP(A1330,PARAMETROS!$B$3:$C$3,2,FALSE))","v":""},null,{"$f":"IF(C1330=\"\",\"\",VLOOKUP(C1330,PARAMETROS!$G$3:$H$21,2,FALSE))","v":""},null,{"$f":"IF(E1330=\"\",\"\",VLOOKUP(E1330,PARAMETROS!$I$3:$J$21,2,FALSE))","v":""},null,null,null,null,null,null,""]
[null,{"$f":"IF(A1331=\"\",\"\",VLOOKUP(A1331,PARAMETROS!$B$3:$C$3,2,FALSE))","v":""},null,{"$f":"IF(C1331=\"\",\"\",VLOOKUP(C1331,PARAMETROS!$G$3:$H$21,2,FALSE))","v":""},null,{"$f":"IF(E1331=\"\",\"\",VLOOKUP(E1331,PARAMETROS!$I$3:$J$21,2,FALSE))","v":""},null,null,null,null,null,null,""]
[null,{"$f":"IF(A1332=\"\",\"\",VLOOKUP(A1332,PARAMETROS!$B$3:$C$3,2,FALSE))","v":""},null,{"$f":"IF(C1332=\"\",\"\",VLOOKUP(C1332,PARAMETROS!$G$3:$H$21,2,FALSE))","v":""},null,{"$f":"IF(E1332=\"\",\"\",VLOOKUP(E1332,PARAMETROS!$I$3:$J$21,2,FALSE))","v":""},null,null,null,null,null,null,""]
[null,{"$f":"IF(A1333=\"\",\"\",VLOOKUP(A1333,PARAMETROS!$B$3:$C$3,2,FALSE))","v":""},null,{"$f":"IF(C1333=\"\",\"\",VLOOKUP(C1333,PARAMETROS!$G$3:$H$21,2,FALSE))","v":""},null,{"$f":"IF(E1333=\"\",\"\",VLOOKUP(E1333,PARAMETROS!$I$3:$J$21,2,FALSE))","v":""},null,null,null,null,null,null,""]
[null,{"$f":"IF(A1334=\"\",\"\",VLOOKUP(A1334,PARAMETROS!$B$3:$C$3,2,FALSE))","v":""},null,{"$f":"IF(C1334=\"\",\"\",VLOOKUP(C1334,PARAMETROS!$G$3:$H$21,2,FALSE))","v":""},null,{"$f":"IF(E1334=\"\",\"\",VLOOKUP(E1334,PARAMETROS!$I$3:$J$21,2,FALSE))","v":""},null,null,null,null,null,null,""]
[null,{"$f":"IF(A1335=\"\",\"\",VLOOKUP(A1335,PARAMETROS!$B$3:$C$3,2,FALSE))","v":""},null,{"$f":"IF(C1335=\"\",\"\",VLOOKUP(C1335,PARAMETROS!$G$3:$H$21,2,FALSE))","v":""},null,{"$f":"IF(E1335=\"\",\"\",VLOOKUP(E1335,PARAMETROS!$I$3:$J$21,2,FALSE))","v":""},null,null,null,null,null,null,""]
[null,{"$f":"IF(A1336=\"\",\"\",VLOOKUP(A1336,PARAMETROS!$B$3:$C$3,2,FALSE))","v":""},null,{"$f":"IF(C1336=\"\",\"\",VLOOKUP(C1336,PARAMETROS!$G$3:$H$21,2,FALSE))","v":""},null,{"$f":"IF(E1336=\"\",\"\",VLOOKUP(E1336,PARAMETROS!$I$3:$J$21,2,FALSE))","v":""},null,null,null,null,null,null,""]
[null,{"$f":"IF(A1337=\"\",\"\",VLOOKUP(A1337,PARAMETROS!$B$3:$C$3,2,FALSE))","v":""},null,{"$f":"IF(C1337=\"\",\"\",VLOOKUP(C1337,PARAMETROS!$G$3:$H$21,2,FALSE))","v":""},null,{"$f":"IF(E1337=\"\",\"\",VLOOKUP(E1337,PARAMETROS!$I$3:$J$21,2,FALSE))","v":""},null,null,null,null,null,null,""]
[null,{"$f":"IF(A1338=\"\",\"\",VLOOKUP(A1338,PARAMETROS!$B$3:$C$3,2,FALSE))","v":""},null,{"$f":"IF(C1338=\"\",\"\",VLOOKUP(C1338,PARAMETROS!$G$3:$H$21,2,FALSE))","v":""},null,{"$f":"IF(E1338=\"\",\"\",VLOOKUP(E1338,PARAMETROS!$I$3:$J$21,2,FALSE))","v":""},null,null,null,null,null,null,""]
[null,{"$f":"IF(A1339=\"\",\"\",VLOOKUP(A1339,PARAMETROS!$B$3:$C$3,2,FALSE))","v":""},null,{"$f":"IF(C1339=\"\",\"\",VLOOKUP(C1339,PARAMETROS!$G$3:$H$21,2,FALSE))","v":""},null,{"$f":"IF(E1339=\"\",\"\",VLOOKUP(E1339,PARAMETROS!$I$3:$J$21,2,FALSE))","v":""},null,null,null,null,null,null,""]
[null,{"$f":"IF(A1340=\"\",\"\",VLOOKUP(A1340,PARAMETROS!$B$3:$C$3,2,FALSE))","v":""},null,{"$f":"IF(C1340=\"\",\"\",VLOOKUP(C1340,PARAMETROS!$G$3:$H$21,2,FALSE))","v":""},null,{"$f":"IF(E1340=\"\",\"\",VLOOKUP(E1340,PARAMETROS!$I$3:$J$21,2,FALSE))","v":""},null,null,null,null,null,null,""]
[null,{"$f":"IF(A1341=\"\",\"\",VLOOKUP(A1341,PARAMETROS!$B$3:$C$3,2,FALSE))","v":""},null,{"$f":"IF(C1341=\"\",\"\",VLOOKUP(C1341,PARAMETROS!$G$3:$H$21,2,FALSE))","v":""},null,{"$f":"IF(E1341=\"\",\"\",VLOOKUP(E1341,PARAMETROS!$I$3:$J$21,2,FALSE))","v":""},null,null,null,null,null,null,""]
[null,{"$f":"IF(A1342=\"\",\"\",VLOOKUP(A1342,PARAMETROS!$B$3:$C$3,2,FALSE))","v":""},null,{"$f":"IF(C1342=\"\",\"\",VLOOKUP(C1342,PARAMETROS!$G$3:$H$21,2,FALSE))","v":""},null,{"$f":"IF(E1342=\"\",\"\",VLOOKUP(E1342,PARAMETROS!$I$3:$J$21,2,FALSE))","v":""},null,null,null,null,null,null,""]
[null,{"$f":"IF(A1343=\"\",\"\",VLOOKUP(A1343,PARAMETROS!$B$3:$C$3,2,FALSE))","v":""},null,{"$f":"IF(C1343=\"\",\"\",VLOOKUP(C1343,PARAMETROS!$G$3:$H$21,2,FALSE))","v":""},null,{"$f":"IF(E1343=\"\",\"\",VLOOKUP(E1343,PARAMETROS!$I$3:$J$21,2,FALSE))","v":""},null,null,null,null,null,null,""]
[null,{"$f":"IF(A1344=\"\",\"\",VLOOKUP(A1344,PARAMETROS!$B$3:$C$3,2,FALSE))","v":""},null,{"$f":"IF(C1344=\"\",\"\",VLOOKUP(C1344,PARAMETROS!$G$3:$H$21,2,FALSE))","v":""},null,{"$f":"IF(E1344=\"\",\"\",VLOOKUP(E1344,PARAMETROS!$I$3:$J$21,2,FALSE))","v":""},null,null,null,null,null,null,""]
[null,{"$f":"IF(A1345=\"\",\"\",VLOOKUP(A1345,PARAMETROS!$B$3:$C$3,2,FALSE))","v":""},null,{"$f":"IF(C1345=\"\",\"\",VLOOKUP(C1345,PARAMETROS!$G$3:$H$21,2,FALSE))","v":""},null,{"$f":"IF(E1345=\"\",\"\",VLOOKUP(E1345,PARAMETROS!$I$3:$J$21,2,FALSE))","v":""},null,null,null,null,null,null,""]
[null,{"$f":"IF(A1346=\"\",\"\",VLOOKUP(A1346,PARAMETROS!$B$3:$C$3,2,FALSE))","v":""},null,{"$f":"IF(C1346=\"\",\"\",VLOOKUP(C1346,PARAMETROS!$G$3:$H$21,2,FALSE))","v":""},null,{"$f":"IF(E1346=\"\",\"\",VLOOKUP(E1346,PARAMETROS!$I$3:$J$21,2,FALSE))","v":""},null,null,null,null,null,null,""]
[null,{"$f":"IF(A1347=\"\",\"\",VLOOKUP(A1347,PARAMETROS!$B$3:$C$3,2,FALSE))","v":""},null,{"$f":"IF(C1347=\"\",\"\",VLOOKUP(C1347,PARAMETROS!$G$3:$H$21,2,FALSE))","v":""},null,{"$f":"IF(E1347=\"\",\"\",VLOOKUP(E1347,PARAMETROS!$I$3:$J$21,2,FALSE))","v":""},null,null,null,null,null,null,""]
[null,{"$f":"IF(A1348=\"\",\"\",VLOOKUP(A1348,PARAMETROS!$B$3:$C$3,2,FALSE))","v":""},null,{"$f":"IF(C1348=\"\",\"\",VLOOKUP(C1348,PARAMETROS!$G$3:$H$21,2,FALSE))","v":""},null,{"$f":"IF(E1348=\"\",\"\",VLOOKUP(E1348,PARAMETROS!$I$3:$J$21,2,FALSE))","v":""},null,null,null,null,null,null,""]
[null,{"$f":"IF(A1349=\"\",\"\",VLOOKUP(A1349,PARAMETROS!$B$3:$C$3,2,FALSE))","v":""},null,{"$f":"IF(C1349=\"\",\"\",VLOOKUP(C1349,PARAMETROS!$G$3:$H$21,2,FALSE))","v":""},null,{"$f":"IF(E1349=\"\",\"\",VLOOKUP(E1349,PARAMETROS!$I$3:$J$21,2,FALSE))","v":""},null,null,null,null,null,null,""]
[null,{"$f":"IF(A1350=\"\",\"\",VLOOKUP(A1350,PARAMETROS!$B$3:$C$3,2,FALSE))","v":""},null,{"$f":"IF(C1350=\"\",\"\",VLOOKUP(C1350,PARAMETROS!$G$3:$H$21,2,FALSE))","v":""},null,{"$f":"IF(E1350=\"\",\"\",VLOOKUP(E1350,PARAMETROS!$I$3:$J$21,2,FALSE))","v":""},null,null,null,null,null,null,""]
[null,{"$f":"IF(A1351=\"\",\"\",VLOOKUP(A1351,PARAMETROS!$B$3:$C$3,2,FALSE))","v":""},null,{"$f":"IF(C1351=\"\",\"\",VLOOKUP(C1351,PARAMETROS!$G$3:$H$21,2,FALSE))","v":""},null,{"$f":"IF(E1351=\"\",\"\",VLOOKUP(E1351,PARAMETROS!$I$3:$J$21,2,FALSE))","v":""},null,null,null,null,null,null,""]
[null,{"$f":"IF(A1352=\"\",\"\",VLOOKUP(A1352,PARAMETROS!$B$3:$C$3,2,FALSE))","v":""},null,{"$f":"IF(C1352=\"\",\"\",VLOOKUP(C1352,PARAMETROS!$G$3:$H$21,2,FALSE))","v":""},null,{"$f":"IF(E1352=\"\",\"\",VLOOKUP(E1352,PARAMETROS!$I$3:$J$21,2,FALSE))","v":""},null,null,null,null,null,null,""]
[null,{"$f":"IF(A1353=\"\",\"\",VLOOKUP(A1353,PARAMETROS!$B$3:$C$3,2,FALSE))","v":""},null,{"$f":"IF(C1353=\"\",\"\",VLOOKUP(C1353,PARAMETROS!$G$3:$H$21,2,FALSE))","v":""},null,{"$f":"IF(E1353=\"\",\"\",VLOOKUP(E1353,PARAMETROS!$I$3:$J$21,2,FALSE))","v":""},null,null,null,null,null,null,""]
[null,{"$f":"IF(A1354=\"\",\"\",VLOOKUP(A1354,PARAMETROS!$B$3:$C$3,2,FALSE))","v":""},null,{"$f":"IF(C1354=\"\",\"\",VLOOKUP(C1354,PARAMETROS!$G$3:$H$21,2,FALSE))","v":""},null,{"$f":"IF(E1354=\"\",\"\",VLOOKUP(E1354,PARAMETROS!$I$3:$J$21,2,FALSE))","v":""},null,null,null,null,null,null,""]
[null,{"$f":"IF(A1355=\"\",\"\",VLOOKUP(A1355,PARAMETROS!$B$3:$C$3,2,FALSE))","v":""},null,{"$f":"IF(C1355=\"\",\"\",VLOOKUP(C1355,PARAMETROS!$G$3:$H$21,2,FALSE))","v":""},null,{"$f":"IF(E1355=\"\",\"\",VLOOKUP(E1355,PARAMETROS!$I$3:$J$21,2,FALSE))","v":""},null,null,null,null,null,null,""]
[null,{"$f":"IF(A1356=\"\",\"\",VLOOKUP(A1356,PARAMETROS!$B$3:$C$3,2,FALSE))","v":""},null,{"$f":"IF(C1356=\"\",\"\",VLOOKUP(C1356,PARAMETROS!$G$3:$H$21,2,FALSE))","v":""},null,{"$f":"IF(E1356=\"\",\"\",VLOOKUP(E1356,PARAMETROS!$I$3:$J$21,2,FALSE))","v":""},null,null,null,null,null,null,""]
[null,{"$f":"IF(A1357=\"\",\"\",VLOOKUP(A1357,PARAMETROS!$B$3:$C$3,2,FALSE))","v":""},null,{"$f":"IF(C1357=\"\",\"\",VLOOKUP(C1357,PARAMETROS!$G$3:$H$21,2,FALSE))","v":""},null,{"$f":"IF(E1357=\"\",\"\",VLOOKUP(E1357,PARAMETROS!$I$3:$J$21,2,FALSE))","v":""},null,null,null,null,null,null,""]
[null,{"$f":"IF(A1358=\"\",\"\",VLOOKUP(A1358,PARAMETROS!$B$3:$C$3,2,FALSE))","v":""},null,{"$f":"IF(C1358=\"\",\"\",VLOOKUP(C1358,PARAMETROS!$G$3:$H$21,2,FALSE))","v":""},null,{"$f":"IF(E1358=\"\",\"\",VLOOKUP(E1358,PARAMETROS!$I$3:$J$21,2,FALSE))","v":""},null,null,null,null,null,null,""]
[null,{"$f":"IF(A1359=\"\",\"\",VLOOKUP(A1359,PARAMETROS!$B$3:$C$3,2,FALSE))","v":""},null,{"$f":"IF(C1359=\"\",\"\",VLOOKUP(C1359,PARAMETROS!$G$3:$H$21,2,FALSE))","v":""},null,{"$f":"IF(E1359=\"\",\"\",VLOOKUP(E1359,PARAMETROS!$I$3:$J$21,2,FALSE))","v":""},null,null,null,null,null,null,{"$f":"IF(L1359=\"\", \"\", L1359)","v":""}]
[null,{"$f":"IF(A1360=\"\",\"\",VLOOKUP(A1360,PARAMETROS!$B$3:$C$3,2,FALSE))","v":""},null,{"$f":"IF(C1360=\"\",\"\",VLOOKUP(C1360,PARAMETROS!$G$3:$H$21,2,FALSE))","v":""},null,{"$f":"IF(E1360=\"\",\"\",VLOOKUP(E1360,PARAMETROS!$I$3:$J$21,2,FALSE))","v":""},null,null,null,null,null,null,""]
[null,{"$f":"IF(A1361=\"\",\"\",VLOOKUP(A1361,PARAMETROS!$B$3:$C$3,2,FALSE))","v":""},null,{"$f":"IF(C1361=\"\",\"\",VLOOKUP(C1361,PARAMETROS!$G$3:$H$21,2,FALSE))","v":""},null,{"$f":"IF(E1361=\"\",\"\",VLOOKUP(E1361,PARAMETROS!$I$3:$J$21,2,FALSE))","v":""},null,null,null,null,null,null,""]
[null,{"$f":"IF(A1362=\"\",\"\",VLOOKUP(A1362,PARAMETROS!$B$3:$C$3,2,FALSE))","v":""},null,{"$f":"IF(C1362=\"\",\"\",VLOOKUP(C1362,PARAMETROS!$G$3:$H$21,2,FALSE))","v":""},null,{"$f":"IF(E1362=\"\",\"\",VLOOKUP(E1362,PARAMETROS!$I$3:$J$21,2,FALSE))","v":""},null,null,null,null,null,null,""]
[null,{"$f":"IF(A1363=\"\",\"\",VLOOKUP(A1363,PARAMETROS!$B$3:$C$3,2,FALSE))","v":""},null,{"$f":"IF(C1363=\"\",\"\",VLOOKUP(C1363,PARAMETROS!$G$3:$H$21,2,FALSE))","v":""},null,{"$f":"IF(E1363=\"\",\"\",VLOOKUP(E1363,PARAMETROS!$I$3:$J$21,2,FALSE))","v":""},null,null,null,null,null,null,""]
[null,{"$f":"IF(A1364=\"\",\"\",VLOOKUP(A1364,PARAMETROS!$B$3:$C$3,2,FALSE))","v":""},null,{"$f":"IF(C1364=\"\",\"\",VLOOKUP(C1364,PARAMETROS!$G$3:$H$21,2,FALSE))","v":""},null,{"$f":"IF(E1364=\"\",\"\",VLOOKUP(E1364,PARAMETROS!$I$3:$J$21,2,FALSE))","v":""},null,null,null,null,null,null,""]
[null,{"$f":"IF(A1365=\"\",\"\",VLOOKUP(A1365,PARAMETROS!$B$3:$C$3,2,FALSE))","v":""},null,{"$f":"IF(C1365=\"\",\"\",VLOOKUP(C1365,PARAMETROS!$G$3:$H$21,2,FALSE))","v":""},null,{"$f":"IF(E1365=\"\",\"\",VLOOKUP(E1365,PARAMETROS!$I$3:$J$21,2,FALSE))","v":""},null,null,null,null,null,null,""]
[null,{"$f":"IF(A1366=\"\",\"\",VLOOKUP(A1366,PARAMETROS!$B$3:$C$3,2,FALSE))","v":""},null,{"$f":"IF(C1366=\"\",\"\",VLOOKUP(C1366,PARAMETROS!$G$3:$H$21,2,FALSE))","v":""},null,{"$f":"IF(E1366=\"\",\"\",VLOOKUP(E1366,PARAMETROS!$I$3:$J$21,2,FALSE))","v":""},null,null,null,null,null,null,""]
[null,{"$f":"IF(A1367=\"\",\"\",VLOOKUP(A1367,PARAMETROS!$B$3:$C$3,2,FALSE))","v":""},null,{"$f":"IF(C1367=\"\",\"\",VLOOKUP(C1367,PARAMETROS!$G$3:$H$21,2,FALSE))","v":""},null,{"$f":"IF(E1367=\"\",\"\",VLOOKUP(E1367,PARAMETROS!$I$3:$J$21,2,FALSE))","v":""},null,null,null,null,null,null,""]
[null,{"$f":"IF(A1368=\"\",\"\",VLOOKUP(A1368,PARAMETROS!$B$3:$C$3,2,FALSE))","v":""},null,{"$f":"IF(C1368=\"\",\"\",VLOOKUP(C1368,PARAMETROS!$G$3:$H$21,2,FALSE))","v":""},null,{"$f":"IF(E1368=\"\",\"\",VLOOKUP(E1368,PARAMETROS!$I$3:$J$21,2,FALSE))","v":""},null,null,null,null,null,null,""]
[null,{"$f":"IF(A1369=\"\",\"\",VLOOKUP(A1369,PARAMETROS!$B$3:$C$3,2,FALSE))","v":""},null,{"$f":"IF(C1369=\"\",\"\",VLOOKUP(C1369,PARAMETROS!$G$3:$H$21,2,FALSE))","v":""},null,{"$f":"IF(E1369=\"\",\"\",VLOOKUP(E1369,PARAMETROS!$I$3:$J$21,2,FALSE))","v":""},null,null,null,null,null,null,""]
[null,{"$f":"IF(A1370=\"\",\"\",VLOOKUP(A1370,PARAMETROS!$B$3:$C$3,2,FALSE))","v":""},null,{"$f":"IF(C1370=\"\",\"\",VLOOKUP(C1370,PARAMETROS!$G$3:$H$21,2,FALSE))","v":""},null,{"$f":"IF(E1370=\"\",\"\",VLOOKUP(E1370,PARAMETROS!$I$3:$J$21,2,FALSE))","v":""},null,null,null,null,null,null,""]
[null,{"$f":"IF(A1371=\"\",\"\",VLOOKUP(A1371,PARAMETROS!$B$3:$C$3,2,FALSE))","v":""},null,{"$f":"IF(C1371=\"\",\"\",VLOOKUP(C1371,PARAMETROS!$G$3:$H$21,2,FALSE))","v":""},null,{"$f":"IF(E1371=\"\",\"\",VLOOKUP(E1371,PARAMETROS!$I$3:$J$21,2,FALSE))","v":""},null,null,null,null,null,null,""]
[null,{"$f":"IF(A1372=\"\",\"\",VLOOKUP(A1372,PARAMETROS!$B$3:$C$3,2,FALSE))","v":""},null,{"$f":"IF(C1372=\"\",\"\",VLOOKUP(C1372,PARAMETROS!$G$3:$H$21,2,FALSE))","v":""},null,{"$f":"IF(E1372=\"\",\"\",VLOOKUP(E1372,PARAMETROS!$I$3:$J$21,2,FALSE))","v":""},null,null,null,null,null,null,""]
[null,{"$f":"IF(A1373=\"\",\"\",VLOOKUP(A1373,PARAMETROS!$B$3:$C$3,2,FALSE))","v":""},null,{"$f":"IF(C1373=\"\",\"\",VLOOKUP(C1373,PARAMETROS!$G$3:$H$21,2,FALSE))","v":""},null,{"$f":"IF(E1373=\"\",\"\",VLOOKUP(E1373,PARAMETROS!$I$3:$J$21,2,FALSE))","v":""},null,null,null,null,null,null,""]
[null,{"$f":"IF(A1374=\"\",\"\",VLOOKUP(A1374,PARAMETROS!$B$3:$C$3,2,FALSE))","v":""},null,{"$f":"IF(C1374=\"\",\"\",VLOOKUP(C1374,PARAMETROS!$G$3:$H$21,2,FALSE))","v":""},null,{"$f":"IF(E1374=\"\",\"\",VLOOKUP(E1374,PARAMETROS!$I$3:$J$21,2,FALSE))","v":""},null,null,null,null,null,null,""]
[null,{"$f":"IF(A1375=\"\",\"\",VLOOKUP(A1375,PARAMETROS!$B$3:$C$3,2,FALSE))","v":""},null,{"$f":"IF(C1375=\"\",\"\",VLOOKUP(C1375,PARAMETROS!$G$3:$H$21,2,FALSE))","v":""},null,{"$f":"IF(E1375=\"\",\"\",VLOOKUP(E1375,PARAMETROS!$I$3:$J$21,2,FALSE))","v":""},null,null,null,null,null,null,""]
[null,{"$f":"IF(A1376=\"\",\"\",VLOOKUP(A1376,PARAMETROS!$B$3:$C$3,2,FALSE))","v":""},null,{"$f":"IF(C1376=\"\",\"\",VLOOKUP(C1376,PARAMETROS!$G$3:$H$21,2,FALSE))","v":""},null,{"$f":"IF(E1376=\"\",\"\",VLOOKUP(E1376,PARAMETROS!$I$3:$J$21,2,FALSE))","v":""},null,null,null,null,null,null,""]
[null,{"$f":"IF(A1377=\"\",\"\",VLOOKUP(A1377,PARAMETROS!$B$3:$C$3,2,FALSE))","v":""},null,{"$f":"IF(C1377=\"\",\"\",VLOOKUP(C1377,PARAMETROS!$G$3:$H$21,2,FALSE))","v":""},null,{"$f":"IF(E1377=\"\",\"\",VLOOKUP(E1377,PARAMETROS!$I$3:$J$21,2,FALSE))","v":""},null,null,null,null,null,null,""]
[null,{"$f":"IF(A1378=\"\",\"\",VLOOKUP(A1378,PARAMETROS!$B$3:$C$3,2,FALSE))","v":""},null,{"$f":"IF(C1378=\"\",\"\",VLOOKUP(C1378,PARAMETROS!$G$3:$H$21,2,FALSE))","v":""},null,{"$f":"IF(E1378=\"\",\"\",VLOOKUP(E1378,PARAMETROS!$I$3:$J$21,2,FALSE))","v":""},null,null,null,null,null,null,""]
[null,{"$f":"IF(A1379=\"\",\"\",VLOOKUP(A1379,PARAMETROS!$B$3:$C$3,2,FALSE))","v":""},null,{"$f":"IF(C1379=\"\",\"\",VLOOKUP(C1379,PARAMETROS!$G$3:$H$21,2,FALSE))","v":""},null,{"$f":"IF(E1379=\"\",\"\",VLOOKUP(E1379,PARAMETROS!$I$3:$J$21,2,FALSE))","v":""},null,null,null,null,null,null,""]
[null,{"$f":"IF(A1380=\"\",\"\",VLOOKUP(A1380,PARAMETROS!$B$3:$C$3,2,FALSE))","v":""},null,{"$f":"IF(C1380=\"\",\"\",VLOOKUP(C1380,PARAMETROS!$G$3:$H$21,2,FALSE))","v":""},null,{"$f":"IF(E1380=\"\",\"\",VLOOKUP(E1380,PARAMETROS!$I$3:$J$21,2,FALSE))","v":""},null,null,null,null,null,null,""]
[null,{"$f":"IF(A1381=\"\",\"\",VLOOKUP(A1381,PARAMETROS!$B$3:$C$3,2,FALSE))","v":""},null,{"$f":"IF(C1381=\"\",\"\",VLOOKUP(C1381,PARAMETROS!$G$3:$H$21,2,FALSE))","v":""},null,{"$f":"IF(E1381=\"\",\"\",VLOOKUP(E1381,PARAMETROS!$I$3:$J$21,2,FALSE))","v":""},null,null,null,null,null,null,""]
[null,{"$f":"IF(A1382=\"\",\"\",VLOOKUP(A1382,PARAMETROS!$B$3:$C$3,2,FALSE))","v":""},null,{"$f":"IF(C1382=\"\",\"\",VLOOKUP(C1382,PARAMETROS!$G$3:$H$21,2,FALSE))","v":""},null,{"$f":"IF(E1382=\"\",\"\",VLOOKUP(E1382,PARAMETROS!$I$3:$J$21,2,FALSE))","v":""},null,null,null,null,null,null,""]
[null,{"$f":"IF(A1383=\"\",\"\",VLOOKUP(A1383,PARAMETROS!$B$3:$C$3,2,FALSE))","v":""},null,{"$f":"IF(C1383=\"\",\"\",VLOOKUP(C1383,PARAMETROS!$G$3:$H$21,2,FALSE))","v":""},null,{"$f":"IF(E1383=\"\",\"\",VLOOKUP(E1383,PARAMETROS!$I$3:$J$21,2,FALSE))","v":""},null,null,null,null,null,null,""]
[null,{"$f":"IF(A1384=\"\",\"\",VLOOKUP(A1384,PARAMETROS!$B$3:$C$3,2,FALSE))","v":""},null,{"$f":"IF(C1384=\"\",\"\",VLOOKUP(C1384,PARAMETROS!$G$3:$H$21,2,FALSE))","v":""},null,{"$f":"IF(E1384=\"\",\"\",VLOOKUP(E1384,PARAMETROS!$I$3:$J$21,2,FALSE))","v":""},null,null,null,null,null,null,""]
[null,{"$f":"IF(A1385=\"\",\"\",VLOOKUP(A1385,PARAMETROS!$B$3:$C$3,2,FALSE))","v":""},null,{"$f":"IF(C1385=\"\",\"\",VLOOKUP(C1385,PARAMETROS!$G$3:$H$21,2,FALSE))","v":""},null,{"$f":"IF(E1385=\"\",\"\",VLOOKUP(E1385,PARAMETROS!$I$3:$J$21,2,FALSE))","v":""},null,null,null,null,null,null,""]
[null,{"$f":"IF(A1386=\"\",\"\",VLOOKUP(A1386,PARAMETROS!$B$3:$C$3,2,FALSE))","v":""},null,{"$f":"IF(C1386=\"\",\"\",VLOOKUP(C1386,PARAMETROS!$G$3:$H$21,2,FALSE))","v":""},null,{"$f":"IF(E1386=\"\",\"\",VLOOKUP(E1386,PARAMETROS!$I$3:$J$21,2,FALSE))","v":""},null,null,null,null,null,null,""]
[null,{"$f":"IF(A1387=\"\",\"\",VLOOKUP(A1387,PARAMETROS!$B$3:$C$3,2,FALSE))","v":""},null,{"$f":"IF(C1387=\"\",\"\",VLOOKUP(C1387,PARAMETROS!$G$3:$H$21,2,FALSE))","v":""},null,{"$f":"IF(E1387=\"\",\"\",VLOOKUP(E1387,PARAMETROS!$I$3:$J$21,2,FALSE))","v":""},null,null,null,null,null,null,""]
[null,{"$f":"IF(A1388=\"\",\"\",VLOOKUP(A1388,PARAMETROS!$B$3:$C$3,2,FALSE))","v":""},null,{"$f":"IF(C1388=\"\",\"\",VLOOKUP(C1388,PARAMETROS!$G$3:$H$21,2,FALSE))","v":""},null,{"$f":"IF(E1388=\"\",\"\",VLOOKUP(E1388,PARAMETROS!$I$3:$J$21,2,FALSE))","v":""},null,null,null,null,null,null,""]
[null,{"$f":"IF(A1389=\"\",\"\",VLOOKUP(A1389,PARAMETROS!$B$3:$C$3,2,FALSE))","v":""},null,{"$f":"IF(C1389=\"\",\"\",VLOOKUP(C1389,PARAMETROS!$G$3:$H$21,2,FALSE))","v":""},null,{"$f":"IF(E1389=\"\",\"\",VLOOKUP(E1389,PARAMETROS!$I$3:$J$21,2,FALSE))","v":""},null,null,null,null,null,null,""]
[null,{"$f":"IF(A1390=\"\",\"\",VLOOKUP(A1390,PARAMETROS!$B$3:$C$3,2,FALSE))","v":""},null,{"$f":"IF(C1390=\"\",\"\",VLOOKUP(C1390,PARAMETROS!$G$3:$H$21,2,FALSE))","v":""},null,{"$f":"IF(E1390=\"\",\"\",VLOOKUP(E1390,PARAMETROS!$I$3:$J$21,2,FALSE))","v":""},null,null,null,null,null,null,""]
[null,{"$f":"IF(A1391=\"\",\"\",VLOOKUP(A1391,PARAMETROS!$B$3:$C$3,2,FALSE))","v":""},null,{"$f":"IF(C1391=\"\",\"\",VLOOKUP(C1391,PARAMETROS!$G$3:$H$21,2,FALSE))","v":""},null,{"$f":"IF(E1391=\"\",\"\",VLOOKUP(E1391,PARAMETROS!$I$3:$J$21,2,FALSE))","v":""},null,null,null,null,null,null,""]
[null,{"$f":"IF(A1392=\"\",\"\",VLOOKUP(A1392,PARAMETROS!$B$3:$C$3,2,FALSE))","v":""},null,{"$f":"IF(C1392=\"\",\"\",VLOOKUP(C1392,PARAMETROS!$G$3:$H$21,2,FALSE))","v":""},null,{"$f":"IF(E1392=\"\",\"\",VLOOKUP(E1392,PARAMETROS!$I$3:$J$21,2,FALSE))","v":""},null,null,null,null,null,null,""]
[null,{"$f":"IF(A1393=\"\",\"\",VLOOKUP(A1393,PARAMETROS!$B$3:$C$3,2,FALSE))","v":""},null,{"$f":"IF(C1393=\"\",\"\",VLOOKUP(C1393,PARAMETROS!$G$3:$H$21,2,FALSE))","v":""},null,{"$f":"IF(E1393=\"\",\"\",VLOOKUP(E1393,PARAMETROS!$I$3:$J$21,2,FALSE))","v":""},null,null,null,null,null,null,""]
[null,{"$f":"IF(A1394=\"\",\"\",VLOOKUP(A1394,PARAMETROS!$B$3:$C$3,2,FALSE))","v":""},null,{"$f":"IF(C1394=\"\",\"\",VLOOKUP(C1394,PARAMETROS!$G$3:$H$21,2,FALSE))","v":""},null,{"$f":"IF(E1394=\"\",\"\",VLOOKUP(E1394,PARAMETROS!$I$3:$J$21,2,FALSE))","v":""},null,null,null,null,null,null,""]
[null,{"$f":"IF(A1395=\"\",\"\",VLOOKUP(A1395,PARAMETROS!$B$3:$C$3,2,FALSE))","v":""},null,{"$f":"IF(C1395=\"\",\"\",VLOOKUP(C1395,PARAMETROS!$G$3:$H$21,2,FALSE))","v":""},null,{"$f":"IF(E1395=\"\",\"\",VLOOKUP(E1395,PARAMETROS!$I$3:$J$21,2,FALSE))","v":""},null,null,null,null,null,null,""]
[null,{"$f":"IF(A1396=\"\",\"\",VLOOKUP(A1396,PARAMETROS!$B$3:$C$3,2,FALSE))","v":""},null,{"$f":"IF(C1396=\"\",\"\",VLOOKUP(C1396,PARAMETROS!$G$3:$H$21,2,FALSE))","v":""},null,{"$f":"IF(E1396=\"\",\"\",VLOOKUP(E1396,PARAMETROS!$I$3:$J$21,2,FALSE))","v":""},null,null,null,null,null,null,""]
[null,{"$f":"IF(A1397=\"\",\"\",VLOOKUP(A1397,PARAMETROS!$B$3:$C$3,2,FALSE))","v":""},null,{"$f":"IF(C1397=\"\",\"\",VLOOKUP(C1397,PARAMETROS!$G$3:$H$21,2,FALSE))","v":""},null,{"$f":"IF(E1397=\"\",\"\",VLOOKUP(E1397,PARAMETROS!$I$3:$J$21,2,FALSE))","v":""},null,null,null,null,null,null,""]
[null,{"$f":"IF(A1398=\"\",\"\",VLOOKUP(A1398,PARAMETROS!$B$3:$C$3,2,FALSE))","v":""},null,{"$f":"IF(C1398=\"\",\"\",VLOOKUP(C1398,PARAMETROS!$G$3:$H$21,2,FALSE))","v":""},null,{"$f":"IF(E1398=\"\",\"\",VLOOKUP(E1398,PARAMETROS!$I$3:$J$21,2,FALSE))","v":""},null,null,null,null,null,null,""]
[null,{"$f":"IF(A1399=\"\",\"\",VLOOKUP(A1399,PARAMETROS!$B$3:$C$3,2,FALSE))","v":""},null,{"$f":"IF(C1399=\"\",\"\",VLOOKUP(C1399,PARAMETROS!$G$3:$H$21,2,FALSE))","v":""},null,{"$f":"IF(E1399=\"\",\"\",VLOOKUP(E1399,PARAMETROS!$I$3:$J$21,2,FALSE))","v":""},null,null,null,null,null,null,""]
[null,{"$f":"IF(A1400=\"\",\"\",VLOOKUP(A1400,PARAMETROS!$B$3:$C$3,2,FALSE))","v":""},null,{"$f":"IF(C1400=\"\",\"\",VLOOKUP(C1400,PARAMETROS!$G$3:$H$21,2,FALSE))","v":""},null,{"$f":"IF(E1400=\"\",\"\",VLOOKUP(E1400,PARAMETROS!$I$3:$J$21,2,FALSE))","v":""},null,null,null,null,null,null,""]
[null,{"$f":"IF(A1401=\"\",\"\",VLOOKUP(A1401,PARAMETROS!$B$3:$C$3,2,FALSE))","v":""},null,{"$f":"IF(C1401=\"\",\"\",VLOOKUP(C1401,PARAMETROS!$G$3:$H$21,2,FALSE))","v":""},null,{"$f":"IF(E1401=\"\",\"\",VLOOKUP(E1401,PARAMETROS!$I$3:$J$21,2,FALSE))","v":""},null,null,null,null,null,null,""]
[null,{"$f":"IF(A1402=\"\",\"\",VLOOKUP(A1402,PARAMETROS!$B$3:$C$3,2,FALSE))","v":""},null,{"$f":"IF(C1402=\"\",\"\",VLOOKUP(C1402,PARAMETROS!$G$3:$H$21,2,FALSE))","v":""},null,{"$f":"IF(E1402=\"\",\"\",VLOOKUP(E1402,PARAMETROS!$I$3:$J$21,2,FALSE))","v":""},null,null,null,null,null,null,""]
[null,{"$f":"IF(A1403=\"\",\"\",VLOOKUP(A1403,PARAMETROS!$B$3:$C$3,2,FALSE))","v":""},null,{"$f":"IF(C1403=\"\",\"\",VLOOKUP(C1403,PARAMETROS!$G$3:$H$21,2,FALSE))","v":""},null,{"$f":"IF(E1403=\"\",\"\",VLOOKUP(E1403,PARAMETROS!$I$3:$J$21,2,FALSE))","v":""},null,null,null,null,null,null,""]
[null,{"$f":"IF(A1404=\"\",\"\",VLOOKUP(A1404,PARAMETROS!$B$3:$C$3,2,FALSE))","v":""},null,{"$f":"IF(C1404=\"\",\"\",VLOOKUP(C1404,PARAMETROS!$G$3:$H$21,2,FALSE))","v":""},null,{"$f":"IF(E1404=\"\",\"\",VLOOKUP(E1404,PARAMETROS!$I$3:$J$21,2,FALSE))","v":""},null,null,null,null,null,null,""]
[null,{"$f":"IF(A1405=\"\",\"\",VLOOKUP(A1405,PARAMETROS!$B$3:$C$3,2,FALSE))","v":""},null,{"$f":"IF(C1405=\"\",\"\",VLOOKUP(C1405,PARAMETROS!$G$3:$H$21,2,FALSE))","v":""},null,{"$f":"IF(E1405=\"\",\"\",VLOOKUP(E1405,PARAMETROS!$I$3:$J$21,2,FALSE))","v":""},null,null,null,null,null,null,""]
[null,{"$f":"IF(A1406=\"\",\"\",VLOOKUP(A1406,PARAMETROS!$B$3:$C$3,2,FALSE))","v":""},null,{"$f":"IF(C1406=\"\",\"\",VLOOKUP(C1406,PARAMETROS!$G$3:$H$21,2,FALSE))","v":""},null,{"$f":"IF(E1406=\"\",\"\",VLOOKUP(E1406,PARAMETROS!$I$3:$J$21,2,FALSE))","v":""},null,null,null,null,null,null,""]
[null,{"$f":"IF(A1407=\"\",\"\",VLOOKUP(A1407,PARAMETROS!$B$3:$C$3,2,FALSE))","v":""},null,{"$f":"IF(C1407=\"\",\"\",VLOOKUP(C1407,PARAMETROS!$G$3:$H$21,2,FALSE))","v":""},null,{"$f":"IF(E1407=\"\",\"\",VLOOKUP(E1407,PARAMETROS!$I$3:$J$21,2,FALSE))","v":""},null,null,null,null,null,null,""]
[null,{"$f":"IF(A1408=\"\",\"\",VLOOKUP(A1408,PARAMETROS!$B$3:$C$3,2,FALSE))","v":""},null,{"$f":"IF(C1408=\"\",\"\",VLOOKUP(C1408,PARAMETROS!$G$3:$H$21,2,FALSE))","v":""},null,{"$f":"IF(E1408=\"\",\"\",VLOOKUP(E1408,PARAMETROS!$I$3:$J$21,2,FALSE))","v":""},null,null,null,null,null,null,""]
[null,{"$f":"IF(A1409=\"\",\"\",VLOOKUP(A1409,PARAMETROS!$B$3:$C$3,2,FALSE))","v":""},null,{"$f":"IF(C1409=\"\",\"\",VLOOKUP(C1409,PARAMETROS!$G$3:$H$21,2,FALSE))","v":""},null,{"$f":"IF(E1409=\"\",\"\",VLOOKUP(E1409,PARAMETROS!$I$3:$J$21,2,FALSE))","v":""},null,null,null,null,null,null,""]
[null,{"$f":"IF(A1410=\"\",\"\",VLOOKUP(A1410,PARAMETROS!$B$3:$C$3,2,FALSE))","v":""},null,{"$f":"IF(C1410=\"\",\"\",VLOOKUP(C1410,PARAMETROS!$G$3:$H$21,2,FALSE))","v":""},null,{"$f":"IF(E1410=\"\",\"\",VLOOKUP(E1410,PARAMETROS!$I$3:$J$21,2,FALSE))","v":""},null,null,null,null,null,null,""]
[null,{"$f":"IF(A1411=\"\",\"\",VLOOKUP(A1411,PARAMETROS!$B$3:$C$3,2,FALSE))","v":""},null,{"$f":"IF(C1411=\"\",\"\",VLOOKUP(C1411,PARAMETROS!$G$3:$H$21,2,FALSE))","v":""},null,{"$f":"IF(E1411=\"\",\"\",VLOOKUP(E1411,PARAMETROS!$I$3:$J$21,2,FALSE))","v":""},null,null,null,null,null,null,""]
[null,{"$f":"IF(A1412=\"\",\"\",VLOOKUP(A1412,PARAMETROS!$B$3:$C$3,2,FALSE))","v":""},null,{"$f":"IF(C1412=\"\",\"\",VLOOKUP(C1412,PARAMETROS!$G$3:$H$21,2,FALSE))","v":""},null,{"$f":"IF(E1412=\"\",\"\",VLOOKUP(E1412,PARAMETROS!$I$3:$J$21,2,FALSE))","v":""},null,null,null,null,null,null,""]
[null,{"$f":"IF(A1413=\"\",\"\",VLOOKUP(A1413,PARAMETROS!$B$3:$C$3,2,FALSE))","v":""},null,{"$f":"IF(C1413=\"\",\"\",VLOOKUP(C1413,PARAMETROS!$G$3:$H$21,2,FALSE))","v":""},null,{"$f":"IF(E1413=\"\",\"\",VLOOKUP(E1413,PARAMETROS!$I$3:$J$21,2,FALSE))","v":""},null,null,null,null,null,null,""]
[null,{"$f":"IF(A1414=\"\",\"\",VLOOKUP(A1414,PARAMETROS!$B$3:$C$3,2,FALSE))","v":""},null,{"$f":"IF(C1414=\"\",\"\",VLOOKUP(C1414,PARAMETROS!$G$3:$H$21,2,FALSE))","v":""},null,{"$f":"IF(E1414=\"\",\"\",VLOOKUP(E1414,PARAMETROS!$I$3:$J$21,2,FALSE))","v":""},null,null,null,null,null,null,""]
[null,{"$f":"IF(A1415=\"\",\"\",VLOOKUP(A1415,PARAMETROS!$B$3:$C$3,2,FALSE))","v":""},null,{"$f":"IF(C1415=\"\",\"\",VLOOKUP(C1415,PARAMETROS!$G$3:$H$21,2,FALSE))","v":""},null,{"$f":"IF(E1415=\"\",\"\",VLOOKUP(E1415,PARAMETROS!$I$3:$J$21,2,FALSE))","v":""},null,null,null,null,null,null,""]
[null,{"$f":"IF(A1416=\"\",\"\",VLOOKUP(A1416,PARAMETROS!$B$3:$C$3,2,FALSE))","v":""},null,{"$f":"IF(C1416=\"\",\"\",VLOOKUP(C1416,PARAMETROS!$G$3:$H$21,2,FALSE))","v":""},null,{"$f":"IF(E1416=\"\",\"\",VLOOKUP(E1416,PARAMETROS!$I$3:$J$21,2,FALSE))","v":""},null,null,null,null,null,null,""]
[null,{"$f":"IF(A1417=\"\",\"\",VLOOKUP(A1417,PARAMETROS!$B$3:$C$3,2,FALSE))","v":""},null,{"$f":"IF(C1417=\"\",\"\",VLOOKUP(C1417,PARAMETROS!$G$3:$H$21,2,FALSE))","v":""},null,{"$f":"IF(E1417=\"\",\"\",VLOOKUP(E1417,PARAMETROS!$I$3:$J$21,2,FALSE))","v":""},null,null,null,null,null,null,""]
[null,{"$f":"IF(A1418=\"\",\"\",VLOOKUP(A1418,PARAMETROS!$B$3:$C$3,2,FALSE))","v":""},null,{"$f":"IF(C1418=\"\",\"\",VLOOKUP(C1418,PARAMETROS!$G$3:$H$21,2,FALSE))","v":""},null,{"$f":"IF(E1418=\"\",\"\",VLOOKUP(E1418,PARAMETROS!$I$3:$J$21,2,FALSE))","v":""},null,null,null,null,null,null,""]
[null,{"$f":"IF(A1419=\"\",\"\",VLOOKUP(A1419,PARAMETROS!$B$3:$C$3,2,FALSE))","v":""},null,{"$f":"IF(C1419=\"\",\"\",VLOOKUP(C1419,PARAMETROS!$G$3:$H$21,2,FALSE))","v":""},null,{"$f":"IF(E1419=\"\",\"\",VLOOKUP(E1419,PARAMETROS!$I$3:$J$21,2,FALSE))","v":""},null,null,null,null,null,null,""]
[null,{"$f":"IF(A1420=\"\",\"\",VLOOKUP(A1420,PARAMETROS!$B$3:$C$3,2,FALSE))","v":""},null,{"$f":"IF(C1420=\"\",\"\",VLOOKUP(C1420,PARAMETROS!$G$3:$H$21,2,FALSE))","v":""},null,{"$f":"IF(E1420=\"\",\"\",VLOOKUP(E1420,PARAMETROS!$I$3:$J$21,2,FALSE))","v":""},null,null,null,null,null,null,""]
[null,{"$f":"IF(A1421=\"\",\"\",VLOOKUP(A1421,PARAMETROS!$B$3:$C$3,2,FALSE))","v":""},null,{"$f":"IF(C1421=\"\",\"\",VLOOKUP(C1421,PARAMETROS!$G$3:$H$21,2,FALSE))","v":""},null,{"$f":"IF(E1421=\"\",\"\",VLOOKUP(E1421,PARAMETROS!$I$3:$J$21,2,FALSE))","v":""},null,null,null,null,null,null,""]
[null,{"$f":"IF(A1422=\"\",\"\",VLOOKUP(A1422,PARAMETROS!$B$3:$C$3,2,FALSE))","v":""},null,{"$f":"IF(C1422=\"\",\"\",VLOOKUP(C1422,PARAMETROS!$G$3:$H$21,2,FALSE))","v":""},null,{"$f":"IF(E1422=\"\",\"\",VLOOKUP(E1422,PARAMETROS!$I$3:$J$21,2,FALSE))","v":""},null,null,null,null,null,null,""]
[null,{"$f":"IF(A1423=\"\",\"\",VLOOKUP(A1423,PARAMETROS!$B$3:$C$3,2,FALSE))","v":""},null,{"$f":"IF(C1423=\"\",\"\",VLOOKUP(C1423,PARAMETROS!$G$3:$H$21,2,FALSE))","v":""},null,{"$f":"IF(E1423=\"\",\"\",VLOOKUP(E1423,PARAMETROS!$I$3:$J$21,2,FALSE))","v":""},null,null,null,null,null,null,{"$f":"IF(L1423=\"\", \"\", L1423)","v":""}]
[null,{"$f":"IF(A1424=\"\",\"\",VLOOKUP(A1424,PARAMETROS!$B$3:$C$3,2,FALSE))","v":""},null,{"$f":"IF(C1424=\"\",\"\",VLOOKUP(C1424,PARAMETROS!$G$3:$H$21,2,FALSE))","v":""},null,{"$f":"IF(E1424=\"\",\"\",VLOOKUP(E1424,PARAMETROS!$I$3:$J$21,2,FALSE))","v":""},null,null,null,null,null,null,""]
[null,{"$f":"IF(A1425=\"\",\"\",VLOOKUP(A1425,PARAMETROS!$B$3:$C$3,2,FALSE))","v":""},null,{"$f":"IF(C1425=\"\",\"\",VLOOKUP(C1425,PARAMETROS!$G$3:$H$21,2,FALSE))","v":""},null,{"$f":"IF(E1425=\"\",\"\",VLOOKUP(E1425,PARAMETROS!$I$3:$J$21,2,FALSE))","v":""},null,null,null,null,null,null,""]
[null,{"$f":"IF(A1426=\"\",\"\",VLOOKUP(A1426,PARAMETROS!$B$3:$C$3,2,FALSE))","v":""},null,{"$f":"IF(C1426=\"\",\"\",VLOOKUP(C1426,PARAMETROS!$G$3:$H$21,2,FALSE))","v":""},null,{"$f":"IF(E1426=\"\",\"\",VLOOKUP(E1426,PARAMETROS!$I$3:$J$21,2,FALSE))","v":""},null,null,null,null,null,null,""]
[null,{"$f":"IF(A1427=\"\",\"\",VLOOKUP(A1427,PARAMETROS!$B$3:$C$3,2,FALSE))","v":""},null,{"$f":"IF(C1427=\"\",\"\",VLOOKUP(C1427,PARAMETROS!$G$3:$H$21,2,FALSE))","v":""},null,{"$f":"IF(E1427=\"\",\"\",VLOOKUP(E1427,PARAMETROS!$I$3:$J$21,2,FALSE))","v":""},null,null,null,null,null,null,""]
[null,{"$f":"IF(A1428=\"\",\"\",VLOOKUP(A1428,PARAMETROS!$B$3:$C$3,2,FALSE))","v":""},null,{"$f":"IF(C1428=\"\",\"\",VLOOKUP(C1428,PARAMETROS!$G$3:$H$21,2,FALSE))","v":""},null,{"$f":"IF(E1428=\"\",\"\",VLOOKUP(E1428,PARAMETROS!$I$3:$J$21,2,FALSE))","v":""},null,null,null,null,null,null,""]
[null,{"$f":"IF(A1429=\"\",\"\",VLOOKUP(A1429,PARAMETROS!$B$3:$C$3,2,FALSE))","v":""},null,{"$f":"IF(C1429=\"\",\"\",VLOOKUP(C1429,PARAMETROS!$G$3:$H$21,2,FALSE))","v":""},null,{"$f":"IF(E1429=\"\",\"\",VLOOKUP(E1429,PARAMETROS!$I$3:$J$21,2,FALSE))","v":""},null,null,null,null,null,null,""]
[null,{"$f":"IF(A1430=\"\",\"\",VLOOKUP(A1430,PARAMETROS!$B$3:$C$3,2,FALSE))","v":""},null,{"$f":"IF(C1430=\"\",\"\",VLOOKUP(C1430,PARAMETROS!$G$3:$H$21,2,FALSE))","v":""},null,{"$f":"IF(E1430=\"\",\"\",VLOOKUP(E1430,PARAMETROS!$I$3:$J$21,2,FALSE))","v":""},null,null,null,null,null,null,""]
[null,{"$f":"IF(A1431=\"\",\"\",VLOOKUP(A1431,PARAMETROS!$B$3:$C$3,2,FALSE))","v":""},null,{"$f":"IF(C1431=\"\",\"\",VLOOKUP(C1431,PARAMETROS!$G$3:$H$21,2,FALSE))","v":""},null,{"$f":"IF(E1431=\"\",\"\",VLOOKUP(E1431,PARAMETROS!$I$3:$J$21,2,FALSE))","v":""},null,null,null,null,null,null,""]
[null,{"$f":"IF(A1432=\"\",\"\",VLOOKUP(A1432,PARAMETROS!$B$3:$C$3,2,FALSE))","v":""},null,{"$f":"IF(C1432=\"\",\"\",VLOOKUP(C1432,PARAMETROS!$G$3:$H$21,2,FALSE))","v":""},null,{"$f":"IF(E1432=\"\",\"\",VLOOKUP(E1432,PARAMETROS!$I$3:$J$21,2,FALSE))","v":""},null,null,null,null,null,null,""]
[null,{"$f":"IF(A1433=\"\",\"\",VLOOKUP(A1433,PARAMETROS!$B$3:$C$3,2,FALSE))","v":""},null,{"$f":"IF(C1433=\"\",\"\",VLOOKUP(C1433,PARAMETROS!$G$3:$H$21,2,FALSE))","v":""},null,{"$f":"IF(E1433=\"\",\"\",VLOOKUP(E1433,PARAMETROS!$I$3:$J$21,2,FALSE))","v":""},null,null,null,null,null,null,""]
[null,{"$f":"IF(A1434=\"\",\"\",VLOOKUP(A1434,PARAMETROS!$B$3:$C$3,2,FALSE))","v":""},null,{"$f":"IF(C1434=\"\",\"\",VLOOKUP(C1434,PARAMETROS!$G$3:$H$21,2,FALSE))","v":""},null,{"$f":"IF(E1434=\"\",\"\",VLOOKUP(E1434,PARAMETROS!$I$3:$J$21,2,FALSE))","v":""},null,null,null,null,null,null,""]
[null,{"$f":"IF(A1435=\"\",\"\",VLOOKUP(A1435,PARAMETROS!$B$3:$C$3,2,FALSE))","v":""},null,{"$f":"IF(C1435=\"\",\"\",VLOOKUP(C1435,PARAMETROS!$G$3:$H$21,2,FALSE))","v":""},null,{"$f":"IF(E1435=\"\",\"\",VLOOKUP(E1435,PARAMETROS!$I$3:$J$21,2,FALSE))","v":""},null,null,null,null,null,null,""]
[null,{"$f":"IF(A1436=\"\",\"\",VLOOKUP(A1436,PARAMETROS!$B$3:$C$3,2,FALSE))","v":""},null,{"$f":"IF(C1436=\"\",\"\",VLOOKUP(C1436,PARAMETROS!$G$3:$H$21,2,FALSE))","v":""},null,{"$f":"IF(E1436=\"\",\"\",VLOOKUP(E1436,PARAMETROS!$I$3:$J$21,2,FALSE))","v":""},null,null,null,null,null,null,""]
[null,{"$f":"IF(A1437=\"\",\"\",VLOOKUP(A1437,PARAMETROS!$B$3:$C$3,2,FALSE))","v":""},null,{"$f":"IF(C1437=\"\",\"\",VLOOKUP(C1437,PARAMETROS!$G$3:$H$21,2,FALSE))","v":""},null,{"$f":"IF(E1437=\"\",\"\",VLOOKUP(E1437,PARAMETROS!$I$3:$J$21,2,FALSE))","v":""},null,null,null,null,null,null,""]
[null,{"$f":"IF(A1438=\"\",\"\",VLOOKUP(A1438,PARAMETROS!$B$3:$C$3,2,FALSE))","v":""},null,{"$f":"IF(C1438=\"\",\"\",VLOOKUP(C1438,PARAMETROS!$G$3:$H$21,2,FALSE))","v":""},null,{"$f":"IF(E1438=\"\",\"\",VLOOKUP(E1438,PARAMETROS!$I$3:$J$21,2,FALSE))","v":""},null,null,null,null,null,null,""]
[null,{"$f":"IF(A1439=\"\",\"\",VLOOKUP(A1439,PARAMETROS!$B$3:$C$3,2,FALSE))","v":""},null,{"$f":"IF(C1439=\"\",\"\",VLOOKUP(C1439,PARAMETROS!$G$3:$H$21,2,FALSE))","v":""},null,{"$f":"IF(E1439=\"\",\"\",VLOOKUP(E1439,PARAMETROS!$I$3:$J$21,2,FALSE))","v":""},null,null,null,null,null,null,""]
[null,{"$f":"IF(A1440=\"\",\"\",VLOOKUP(A1440,PARAMETROS!$B$3:$C$3,2,FALSE))","v":""},null,{"$f":"IF(C1440=\"\",\"\",VLOOKUP(C1440,PARAMETROS!$G$3:$H$21,2,FALSE))","v":""},null,{"$f":"IF(E1440=\"\",\"\",VLOOKUP(E1440,PARAMETROS!$I$3:$J$21,2,FALSE))","v":""},null,null,null,null,null,null,""]
[null,{"$f":"IF(A1441=\"\",\"\",VLOOKUP(A1441,PARAMETROS!$B$3:$C$3,2,FALSE))","v":""},null,{"$f":"IF(C1441=\"\",\"\",VLOOKUP(C1441,PARAMETROS!$G$3:$H$21,2,FALSE))","v":""},null,{"$f":"IF(E1441=\"\",\"\",VLOOKUP(E1441,PARAMETROS!$I$3:$J$21,2,FALSE))","v":""},null,null,null,null,null,null,""]
[null,{"$f":"IF(A1442=\"\",\"\",VLOOKUP(A1442,PARAMETROS!$B$3:$C$3,2,FALSE))","v":""},null,{"$f":"IF(C1442=\"\",\"\",VLOOKUP(C1442,PARAMETROS!$G$3:$H$21,2,FALSE))","v":""},null,{"$f":"IF(E1442=\"\",\"\",VLOOKUP(E1442,PARAMETROS!$I$3:$J$21,2,FALSE))","v":""},null,null,null,null,null,null,""]
[null,{"$f":"IF(A1443=\"\",\"\",VLOOKUP(A1443,PARAMETROS!$B$3:$C$3,2,FALSE))","v":""},null,{"$f":"IF(C1443=\"\",\"\",VLOOKUP(C1443,PARAMETROS!$G$3:$H$21,2,FALSE))","v":""},null,{"$f":"IF(E1443=\"\",\"\",VLOOKUP(E1443,PARAMETROS!$I$3:$J$21,2,FALSE))","v":""},null,null,null,null,null,null,""]
[null,{"$f":"IF(A1444=\"\",\"\",VLOOKUP(A1444,PARAMETROS!$B$3:$C$3,2,FALSE))","v":""},null,{"$f":"IF(C1444=\"\",\"\",VLOOKUP(C1444,PARAMETROS!$G$3:$H$21,2,FALSE))","v":""},null,{"$f":"IF(E1444=\"\",\"\",VLOOKUP(E1444,PARAMETROS!$I$3:$J$21,2,FALSE))","v":""},null,null,null,null,null,null,""]
[null,{"$f":"IF(A1445=\"\",\"\",VLOOKUP(A1445,PARAMETROS!$B$3:$C$3,2,FALSE))","v":""},null,{"$f":"IF(C1445=\"\",\"\",VLOOKUP(C1445,PARAMETROS!$G$3:$H$21,2,FALSE))","v":""},null,{"$f":"IF(E1445=\"\",\"\",VLOOKUP(E1445,PARAMETROS!$I$3:$J$21,2,FALSE))","v":""},null,null,null,null,null,null,""]
[null,{"$f":"IF(A1446=\"\",\"\",VLOOKUP(A1446,PARAMETROS!$B$3:$C$3,2,FALSE))","v":""},null,{"$f":"IF(C1446=\"\",\"\",VLOOKUP(C1446,PARAMETROS!$G$3:$H$21,2,FALSE))","v":""},null,{"$f":"IF(E1446=\"\",\"\",VLOOKUP(E1446,PARAMETROS!$I$3:$J$21,2,FALSE))","v":""},null,null,null,null,null,null,""]
[null,{"$f":"IF(A1447=\"\",\"\",VLOOKUP(A1447,PARAMETROS!$B$3:$C$3,2,FALSE))","v":""},null,{"$f":"IF(C1447=\"\",\"\",VLOOKUP(C1447,PARAMETROS!$G$3:$H$21,2,FALSE))","v":""},null,{"$f":"IF(E1447=\"\",\"\",VLOOKUP(E1447,PARAMETROS!$I$3:$J$21,2,FALSE))","v":""},null,null,null,null,null,null,""]
[null,{"$f":"IF(A1448=\"\",\"\",VLOOKUP(A1448,PARAMETROS!$B$3:$C$3,2,FALSE))","v":""},null,{"$f":"IF(C1448=\"\",\"\",VLOOKUP(C1448,PARAMETROS!$G$3:$H$21,2,FALSE))","v":""},null,{"$f":"IF(E1448=\"\",\"\",VLOOKUP(E1448,PARAMETROS!$I$3:$J$21,2,FALSE))","v":""},null,null,null,null,null,null,""]
[null,{"$f":"IF(A1449=\"\",\"\",VLOOKUP(A1449,PARAMETROS!$B$3:$C$3,2,FALSE))","v":""},null,{"$f":"IF(C1449=\"\",\"\",VLOOKUP(C1449,PARAMETROS!$G$3:$H$21,2,FALSE))","v":""},null,{"$f":"IF(E1449=\"\",\"\",VLOOKUP(E1449,PARAMETROS!$I$3:$J$21,2,FALSE))","v":""},null,null,null,null,null,null,""]
[null,{"$f":"IF(A1450=\"\",\"\",VLOOKUP(A1450,PARAMETROS!$B$3:$C$3,2,FALSE))","v":""},null,{"$f":"IF(C1450=\"\",\"\",VLOOKUP(C1450,PARAMETROS!$G$3:$H$21,2,FALSE))","v":""},null,{"$f":"IF(E1450=\"\",\"\",VLOOKUP(E1450,PARAMETROS!$I$3:$J$21,2,FALSE))","v":""},null,null,null,null,null,null,""]
[null,{"$f":"IF(A1451=\"\",\"\",VLOOKUP(A1451,PARAMETROS!$B$3:$C$3,2,FALSE))","v":""},null,{"$f":"IF(C1451=\"\",\"\",VLOOKUP(C1451,PARAMETROS!$G$3:$H$21,2,FALSE))","v":""},null,{"$f":"IF(E1451=\"\",\"\",VLOOKUP(E1451,PARAMETROS!$I$3:$J$21,2,FALSE))","v":""},null,null,null,null,null,null,""]
[null,{"$f":"IF(A1452=\"\",\"\",VLOOKUP(A1452,PARAMETROS!$B$3:$C$3,2,FALSE))","v":""},null,{"$f":"IF(C1452=\"\",\"\",VLOOKUP(C1452,PARAMETROS!$G$3:$H$21,2,FALSE))","v":""},null,{"$f":"IF(E1452=\"\",\"\",VLOOKUP(E1452,PARAMETROS!$I$3:$J$21,2,FALSE))","v":""},null,null,null,null,null,null,""]
[null,{"$f":"IF(A1453=\"\",\"\",VLOOKUP(A1453,PARAMETROS!$B$3:$C$3,2,FALSE))","v":""},null,{"$f":"IF(C1453=\"\",\"\",VLOOKUP(C1453,PARAMETROS!$G$3:$H$21,2,FALSE))","v":""},null,{"$f":"IF(E1453=\"\",\"\",VLOOKUP(E1453,PARAMETROS!$I$3:$J$21,2,FALSE))","v":""},null,null,null,null,null,null,""]
[null,{"$f":"IF(A1454=\"\",\"\",VLOOKUP(A1454,PARAMETROS!$B$3:$C$3,2,FALSE))","v":""},null,{"$f":"IF(C1454=\"\",\"\",VLOOKUP(C1454,PARAMETROS!$G$3:$H$21,2,FALSE))","v":""},null,{"$f":"IF(E1454=\"\",\"\",VLOOKUP(E1454,PARAMETROS!$I$3:$J$21,2,FALSE))","v":""},null,null,null,null,null,null,""]
[null,{"$f":"IF(A1455=\"\",\"\",VLOOKUP(A1455,PARAMETROS!$B$3:$C$3,2,FALSE))","v":""},null,{"$f":"IF(C1455=\"\",\"\",VLOOKUP(C1455,PARAMETROS!$G$3:$H$21,2,FALSE))","v":""},null,{"$f":"IF(E1455=\"\",\"\",VLOOKUP(E1455,PARAMETROS!$I$3:$J$21,2,FALSE))","v":""},null,null,null,null,null,null,""]
[null,{"$f":"IF(A1456=\"\",\"\",VLOOKUP(A1456,PARAMETROS!$B$3:$C$3,2,FALSE))","v":""},null,{"$f":"IF(C1456=\"\",\"\",VLOOKUP(C1456,PARAMETROS!$G$3:$H$21,2,FALSE))","v":""},null,{"$f":"IF(E1456=\"\",\"\",VLOOKUP(E1456,PARAMETROS!$I$3:$J$21,2,FALSE))","v":""},null,null,null,null,null,null,""]
[null,{"$f":"IF(A1457=\"\",\"\",VLOOKUP(A1457,PARAMETROS!$B$3:$C$3,2,FALSE))","v":""},null,{"$f":"IF(C1457=\"\",\"\",VLOOKUP(C1457,PARAMETROS!$G$3:$H$21,2,FALSE))","v":""},null,{"$f":"IF(E1457=\"\",\"\",VLOOKUP(E1457,PARAMETROS!$I$3:$J$21,2,FALSE))","v":""},null,null,null,null,null,null,""]
[null,{"$f":"IF(A1458=\"\",\"\",VLOOKUP(A1458,PARAMETROS!$B$3:$C$3,2,FALSE))","v":""},null,{"$f":"IF(C1458=\"\",\"\",VLOOKUP(C1458,PARAMETROS!$G$3:$H$21,2,FALSE))","v":""},null,{"$f":"IF(E1458=\"\",\"\",VLOOKUP(E1458,PARAMETROS!$I$3:$J$21,2,FALSE))","v":""},null,null,null,null,null,null,""]
[null,{"$f":"IF(A1459=\"\",\"\",VLOOKUP(A1459,PARAMETROS!$B$3:$C$3,2,FALSE))","v":""},null,{"$f":"IF(C1459=\"\",\"\",VLOOKUP(C1459,PARAMETROS!$G$3:$H$21,2,FALSE))","v":""},null,{"$f":"IF(E1459=\"\",\"\",VLOOKUP(E1459,PARAMETROS!$I$3:$J$21,2,FALSE))","v":""},null,null,null,null,null,null,""]
[null,{"$f":"IF(A1460=\"\",\"\",VLOOKUP(A1460,PARAMETROS!$B$3:$C$3,2,FALSE))","v":""},null,{"$f":"IF(C1460=\"\",\"\",VLOOKUP(C1460,PARAMETROS!$G$3:$H$21,2,FALSE))","v":""},null,{"$f":"IF(E1460=\"\",\"\",VLOOKUP(E1460,PARAMETROS!$I$3:$J$21,2,FALSE))","v":""},null,null,null,null,null,null,""]
[null,{"$f":"IF(A1461=\"\",\"\",VLOOKUP(A1461,PARAMETROS!$B$3:$C$3,2,FALSE))","v":""},null,{"$f":"IF(C1461=\"\",\"\",VLOOKUP(C1461,PARAMETROS!$G$3:$H$21,2,FALSE))","v":""},null,{"$f":"IF(E1461=\"\",\"\",VLOOKUP(E1461,PARAMETROS!$I$3:$J$21,2,FALSE))","v":""},null,null,null,null,null,null,""]
[null,{"$f":"IF(A1462=\"\",\"\",VLOOKUP(A1462,PARAMETROS!$B$3:$C$3,2,FALSE))","v":""},null,{"$f":"IF(C1462=\"\",\"\",VLOOKUP(C1462,PARAMETROS!$G$3:$H$21,2,FALSE))","v":""},null,{"$f":"IF(E1462=\"\",\"\",VLOOKUP(E1462,PARAMETROS!$I$3:$J$21,2,FALSE))","v":""},null,null,null,null,null,null,""]
[null,{"$f":"IF(A1463=\"\",\"\",VLOOKUP(A1463,PARAMETROS!$B$3:$C$3,2,FALSE))","v":""},null,{"$f":"IF(C1463=\"\",\"\",VLOOKUP(C1463,PARAMETROS!$G$3:$H$21,2,FALSE))","v":""},null,{"$f":"IF(E1463=\"\",\"\",VLOOKUP(E1463,PARAMETROS!$I$3:$J$21,2,FALSE))","v":""},null,null,null,null,null,null,""]
[null,{"$f":"IF(A1464=\"\",\"\",VLOOKUP(A1464,PARAMETROS!$B$3:$C$3,2,FALSE))","v":""},null,{"$f":"IF(C1464=\"\",\"\",VLOOKUP(C1464,PARAMETROS!$G$3:$H$21,2,FALSE))","v":""},null,{"$f":"IF(E1464=\"\",\"\",VLOOKUP(E1464,PARAMETROS!$I$3:$J$21,2,FALSE))","v":""},null,null,null,null,null,null,""]
[null,{"$f":"IF(A1465=\"\",\"\",VLOOKUP(A1465,PARAMETROS!$B$3:$C$3,2,FALSE))","v":""},null,{"$f":"IF(C1465=\"\",\"\",VLOOKUP(C1465,PARAMETROS!$G$3:$H$21,2,FALSE))","v":""},null,{"$f":"IF(E1465=\"\",\"\",VLOOKUP(E1465,PARAMETROS!$I$3:$J$21,2,FALSE))","v":""},null,null,null,null,null,null,""]
[null,{"$f":"IF(A1466=\"\",\"\",VLOOKUP(A1466,PARAMETROS!$B$3:$C$3,2,FALSE))","v":""},null,{"$f":"IF(C1466=\"\",\"\",VLOOKUP(C1466,PARAMETROS!$G$3:$H$21,2,FALSE))","v":""},null,{"$f":"IF(E1466=\"\",\"\",VLOOKUP(E1466,PARAMETROS!$I$3:$J$21,2,FALSE))","v":""},null,null,null,null,null,null,""]
[null,{"$f":"IF(A1467=\"\",\"\",VLOOKUP(A1467,PARAMETROS!$B$3:$C$3,2,FALSE))","v":""},null,{"$f":"IF(C1467=\"\",\"\",VLOOKUP(C1467,PARAMETROS!$G$3:$H$21,2,FALSE))","v":""},null,{"$f":"IF(E1467=\"\",\"\",VLOOKUP(E1467,PARAMETROS!$I$3:$J$21,2,FALSE))","v":""},null,null,null,null,null,null,""]
[null,{"$f":"IF(A1468=\"\",\"\",VLOOKUP(A1468,PARAMETROS!$B$3:$C$3,2,FALSE))","v":""},null,{"$f":"IF(C1468=\"\",\"\",VLOOKUP(C1468,PARAMETROS!$G$3:$H$21,2,FALSE))","v":""},null,{"$f":"IF(E1468=\"\",\"\",VLOOKUP(E1468,PARAMETROS!$I$3:$J$21,2,FALSE))","v":""},null,null,null,null,null,null,""]
[null,{"$f":"IF(A1469=\"\",\"\",VLOOKUP(A1469,PARAMETROS!$B$3:$C$3,2,FALSE))","v":""},null,{"$f":"IF(C1469=\"\",\"\",VLOOKUP(C1469,PARAMETROS!$G$3:$H$21,2,FALSE))","v":""},null,{"$f":"IF(E1469=\"\",\"\",VLOOKUP(E1469,PARAMETROS!$I$3:$J$21,2,FALSE))","v":""},null,null,null,null,null,null,""]
[null,{"$f":"IF(A1470=\"\",\"\",VLOOKUP(A1470,PARAMETROS!$B$3:$C$3,2,FALSE))","v":""},null,{"$f":"IF(C1470=\"\",\"\",VLOOKUP(C1470,PARAMETROS!$G$3:$H$21,2,FALSE))","v":""},null,{"$f":"IF(E1470=\"\",\"\",VLOOKUP(E1470,PARAMETROS!$I$3:$J$21,2,FALSE))","v":""},null,null,null,null,null,null,""]
[null,{"$f":"IF(A1471=\"\",\"\",VLOOKUP(A1471,PARAMETROS!$B$3:$C$3,2,FALSE))","v":""},null,{"$f":"IF(C1471=\"\",\"\",VLOOKUP(C1471,PARAMETROS!$G$3:$H$21,2,FALSE))","v":""},null,{"$f":"IF(E1471=\"\",\"\",VLOOKUP(E1471,PARAMETROS!$I$3:$J$21,2,FALSE))","v":""},null,null,null,null,null,null,""]
[null,{"$f":"IF(A1472=\"\",\"\",VLOOKUP(A1472,PARAMETROS!$B$3:$C$3,2,FALSE))","v":""},null,{"$f":"IF(C1472=\"\",\"\",VLOOKUP(C1472,PARAMETROS!$G$3:$H$21,2,FALSE))","v":""},null,{"$f":"IF(E1472=\"\",\"\",VLOOKUP(E1472,PARAMETROS!$I$3:$J$21,2,FALSE))","v":""},null,null,null,null,null,null,""]
[null,{"$f":"IF(A1473=\"\",\"\",VLOOKUP(A1473,PARAMETROS!$B$3:$C$3,2,FALSE))","v":""},null,{"$f":"IF(C1473=\"\",\"\",VLOOKUP(C1473,PARAMETROS!$G$3:$H$21,2,FALSE))","v":""},null,{"$f":"IF(E1473=\"\",\"\",VLOOKUP(E1473,PARAMETROS!$I$3:$J$21,2,FALSE))","v":""},null,null,null,null,null,null,""]
[null,{"$f":"IF(A1474=\"\",\"\",VLOOKUP(A1474,PARAMETROS!$B$3:$C$3,2,FALSE))","v":""},null,{"$f":"IF(C1474=\"\",\"\",VLOOKUP(C1474,PARAMETROS!$G$3:$H$21,2,FALSE))","v":""},null,{"$f":"IF(E1474=\"\",\"\",VLOOKUP(E1474,PARAMETROS!$I$3:$J$21,2,FALSE))","v":""},null,null,null,null,null,null,""]
[null,{"$f":"IF(A1475=\"\",\"\",VLOOKUP(A1475,PARAMETROS!$B$3:$C$3,2,FALSE))","v":""},null,{"$f":"IF(C1475=\"\",\"\",VLOOKUP(C1475,PARAMETROS!$G$3:$H$21,2,FALSE))","v":""},null,{"$f":"IF(E1475=\"\",\"\",VLOOKUP(E1475,PARAMETROS!$I$3:$J$21,2,FALSE))","v":""},null,null,null,null,null,null,""]
[null,{"$f":"IF(A1476=\"\",\"\",VLOOKUP(A1476,PARAMETROS!$B$3:$C$3,2,FALSE))","v":""},null,{"$f":"IF(C1476=\"\",\"\",VLOOKUP(C1476,PARAMETROS!$G$3:$H$21,2,FALSE))","v":""},null,{"$f":"IF(E1476=\"\",\"\",VLOOKUP(E1476,PARAMETROS!$I$3:$J$21,2,FALSE))","v":""},null,null,null,null,null,null,""]
[null,{"$f":"IF(A1477=\"\",\"\",VLOOKUP(A1477,PARAMETROS!$B$3:$C$3,2,FALSE))","v":""},null,{"$f":"IF(C1477=\"\",\"\",VLOOKUP(C1477,PARAMETROS!$G$3:$H$21,2,FALSE))","v":""},null,{"$f":"IF(E1477=\"\",\"\",VLOOKUP(E1477,PARAMETROS!$I$3:$J$21,2,FALSE))","v":""},null,null,null,null,null,null,""]
[null,{"$f":"IF(A1478=\"\",\"\",VLOOKUP(A1478,PARAMETROS!$B$3:$C$3,2,FALSE))","v":""},null,{"$f":"IF(C1478=\"\",\"\",VLOOKUP(C1478,PARAMETROS!$G$3:$H$21,2,FALSE))","v":""},null,{"$f":"IF(E1478=\"\",\"\",VLOOKUP(E1478,PARAMETROS!$I$3:$J$21,2,FALSE))","v":""},null,null,null,null,null,null,""]
[null,{"$f":"IF(A1479=\"\",\"\",VLOOKUP(A1479,PARAMETROS!$B$3:$C$3,2,FALSE))","v":""},null,{"$f":"IF(C1479=\"\",\"\",VLOOKUP(C1479,PARAMETROS!$G$3:$H$21,2,FALSE))","v":""},null,{"$f":"IF(E1479=\"\",\"\",VLOOKUP(E1479,PARAMETROS!$I$3:$J$21,2,FALSE))","v":""},null,null,null,null,null,null,""]
[null,{"$f":"IF(A1480=\"\",\"\",VLOOKUP(A1480,PARAMETROS!$B$3:$C$3,2,FALSE))","v":""},null,{"$f":"IF(C1480=\"\",\"\",VLOOKUP(C1480,PARAMETROS!$G$3:$H$21,2,FALSE))","v":""},null,{"$f":"IF(E1480=\"\",\"\",VLOOKUP(E1480,PARAMETROS!$I$3:$J$21,2,FALSE))","v":""},null,null,null,null,null,null,""]
[null,{"$f":"IF(A1481=\"\",\"\",VLOOKUP(A1481,PARAMETROS!$B$3:$C$3,2,FALSE))","v":""},null,{"$f":"IF(C1481=\"\",\"\",VLOOKUP(C1481,PARAMETROS!$G$3:$H$21,2,FALSE))","v":""},null,{"$f":"IF(E1481=\"\",\"\",VLOOKUP(E1481,PARAMETROS!$I$3:$J$21,2,FALSE))","v":""},null,null,null,null,null,null,""]
[null,{"$f":"IF(A1482=\"\",\"\",VLOOKUP(A1482,PARAMETROS!$B$3:$C$3,2,FALSE))","v":""},null,{"$f":"IF(C1482=\"\",\"\",VLOOKUP(C1482,PARAMETROS!$G$3:$H$21,2,FALSE))","v":""},null,{"$f":"IF(E1482=\"\",\"\",VLOOKUP(E1482,PARAMETROS!$I$3:$J$21,2,FALSE))","v":""},null,null,null,null,null,null,""]
[null,{"$f":"IF(A1483=\"\",\"\",VLOOKUP(A1483,PARAMETROS!$B$3:$C$3,2,FALSE))","v":""},null,{"$f":"IF(C1483=\"\",\"\",VLOOKUP(C1483,PARAMETROS!$G$3:$H$21,2,FALSE))","v":""},null,{"$f":"IF(E1483=\"\",\"\",VLOOKUP(E1483,PARAMETROS!$I$3:$J$21,2,FALSE))","v":""},null,null,null,null,null,null,""]
[null,{"$f":"IF(A1484=\"\",\"\",VLOOKUP(A1484,PARAMETROS!$B$3:$C$3,2,FALSE))","v":""},null,{"$f":"IF(C1484=\"\",\"\",VLOOKUP(C1484,PARAMETROS!$G$3:$H$21,2,FALSE))","v":""},null,{"$f":"IF(E1484=\"\",\"\",VLOOKUP(E1484,PARAMETROS!$I$3:$J$21,2,FALSE))","v":""},null,null,null,null,null,null,""]
[null,{"$f":"IF(A1485=\"\",\"\",VLOOKUP(A1485,PARAMETROS!$B$3:$C$3,2,FALSE))","v":""},null,{"$f":"IF(C1485=\"\",\"\",VLOOKUP(C1485,PARAMETROS!$G$3:$H$21,2,FALSE))","v":""},null,{"$f":"IF(E1485=\"\",\"\",VLOOKUP(E1485,PARAMETROS!$I$3:$J$21,2,FALSE))","v":""},null,null,null,null,null,null,""]
[null,{"$f":"IF(A1486=\"\",\"\",VLOOKUP(A1486,PARAMETROS!$B$3:$C$3,2,FALSE))","v":""},null,{"$f":"IF(C1486=\"\",\"\",VLOOKUP(C1486,PARAMETROS!$G$3:$H$21,2,FALSE))","v":""},null,{"$f":"IF(E1486=\"\",\"\",VLOOKUP(E1486,PARAMETROS!$I$3:$J$21,2,FALSE))","v":""},null,null,null,null,null,null,""]
[null,{"$f":"IF(A1487=\"\",\"\",VLOOKUP(A1487,PARAMETROS!$B$3:$C$3,2,FALSE))","v":""},null,{"$f":"IF(C1487=\"\",\"\",VLOOKUP(C1487,PARAMETROS!$G$3:$H$21,2,FALSE))","v":""},null,{"$f":"IF(E1487=\"\",\"\",VLOOKUP(E1487,PARAMETROS!$I$3:$J$21,2,FALSE))","v":""},null,null,null,null,null,null,{"$f":"IF(L1487=\"\", \"\", L1487)","v":""}]
[null,{"$f":"IF(A1488=\"\",\"\",VLOOKUP(A1488,PARAMETROS!$B$3:$C$3,2,FALSE))","v":""},null,{"$f":"IF(C1488=\"\",\"\",VLOOKUP(C1488,PARAMETROS!$G$3:$H$21,2,FALSE))","v":""},null,{"$f":"IF(E1488=\"\",\"\",VLOOKUP(E1488,PARAMETROS!$I$3:$J$21,2,FALSE))","v":""},null,null,null,null,null,null,""]
[null,{"$f":"IF(A1489=\"\",\"\",VLOOKUP(A1489,PARAMETROS!$B$3:$C$3,2,FALSE))","v":""},null,{"$f":"IF(C1489=\"\",\"\",VLOOKUP(C1489,PARAMETROS!$G$3:$H$21,2,FALSE))","v":""},null,{"$f":"IF(E1489=\"\",\"\",VLOOKUP(E1489,PARAMETROS!$I$3:$J$21,2,FALSE))","v":""},null,null,null,null,null,null,""]
[null,{"$f":"IF(A1490=\"\",\"\",VLOOKUP(A1490,PARAMETROS!$B$3:$C$3,2,FALSE))","v":""},null,{"$f":"IF(C1490=\"\",\"\",VLOOKUP(C1490,PARAMETROS!$G$3:$H$21,2,FALSE))","v":""},null,{"$f":"IF(E1490=\"\",\"\",VLOOKUP(E1490,PARAMETROS!$I$3:$J$21,2,FALSE))","v":""},null,null,null,null,null,null,""]
[null,{"$f":"IF(A1491=\"\",\"\",VLOOKUP(A1491,PARAMETROS!$B$3:$C$3,2,FALSE))","v":""},null,{"$f":"IF(C1491=\"\",\"\",VLOOKUP(C1491,PARAMETROS!$G$3:$H$21,2,FALSE))","v":""},null,{"$f":"IF(E1491=\"\",\"\",VLOOKUP(E1491,PARAMETROS!$I$3:$J$21,2,FALSE))","v":""},null,null,null,null,null,null,""]
[null,{"$f":"IF(A1492=\"\",\"\",VLOOKUP(A1492,PARAMETROS!$B$3:$C$3,2,FALSE))","v":""},null,{"$f":"IF(C1492=\"\",\"\",VLOOKUP(C1492,PARAMETROS!$G$3:$H$21,2,FALSE))","v":""},null,{"$f":"IF(E1492=\"\",\"\",VLOOKUP(E1492,PARAMETROS!$I$3:$J$21,2,FALSE))","v":""},null,null,null,null,null,null,""]
[null,{"$f":"IF(A1493=\"\",\"\",VLOOKUP(A1493,PARAMETROS!$B$3:$C$3,2,FALSE))","v":""},null,{"$f":"IF(C1493=\"\",\"\",VLOOKUP(C1493,PARAMETROS!$G$3:$H$21,2,FALSE))","v":""},null,{"$f":"IF(E1493=\"\",\"\",VLOOKUP(E1493,PARAMETROS!$I$3:$J$21,2,FALSE))","v":""},null,null,null,null,null,null,""]
[null,{"$f":"IF(A1494=\"\",\"\",VLOOKUP(A1494,PARAMETROS!$B$3:$C$3,2,FALSE))","v":""},null,{"$f":"IF(C1494=\"\",\"\",VLOOKUP(C1494,PARAMETROS!$G$3:$H$21,2,FALSE))","v":""},null,{"$f":"IF(E1494=\"\",\"\",VLOOKUP(E1494,PARAMETROS!$I$3:$J$21,2,FALSE))","v":""},null,null,null,null,null,null,""]
[null,{"$f":"IF(A1495=\"\",\"\",VLOOKUP(A1495,PARAMETROS!$B$3:$C$3,2,FALSE))","v":""},null,{"$f":"IF(C1495=\"\",\"\",VLOOKUP(C1495,PARAMETROS!$G$3:$H$21,2,FALSE))","v":""},null,{"$f":"IF(E1495=\"\",\"\",VLOOKUP(E1495,PARAMETROS!$I$3:$J$21,2,FALSE))","v":""},null,null,null,null,null,null,""]
[null,{"$f":"IF(A1496=\"\",\"\",VLOOKUP(A1496,PARAMETROS!$B$3:$C$3,2,FALSE))","v":""},null,{"$f":"IF(C1496=\"\",\"\",VLOOKUP(C1496,PARAMETROS!$G$3:$H$21,2,FALSE))","v":""},null,{"$f":"IF(E1496=\"\",\"\",VLOOKUP(E1496,PARAMETROS!$I$3:$J$21,2,FALSE))","v":""},null,null,null,null,null,null,""]
[null,{"$f":"IF(A1497=\"\",\"\",VLOOKUP(A1497,PARAMETROS!$B$3:$C$3,2,FALSE))","v":""},null,{"$f":"IF(C1497=\"\",\"\",VLOOKUP(C1497,PARAMETROS!$G$3:$H$21,2,FALSE))","v":""},null,{"$f":"IF(E1497=\"\",\"\",VLOOKUP(E1497,PARAMETROS!$I$3:$J$21,2,FALSE))","v":""},null,null,null,null,null,null,""]
[null,{"$f":"IF(A1498=\"\",\"\",VLOOKUP(A1498,PARAMETROS!$B$3:$C$3,2,FALSE))","v":""},null,{"$f":"IF(C1498=\"\",\"\",VLOOKUP(C1498,PARAMETROS!$G$3:$H$21,2,FALSE))","v":""},null,{"$f":"IF(E1498=\"\",\"\",VLOOKUP(E1498,PARAMETROS!$I$3:$J$21,2,FALSE))","v":""},null,null,null,null,null,null,""]
[null,{"$f":"IF(A1499=\"\",\"\",VLOOKUP(A1499,PARAMETROS!$B$3:$C$3,2,FALSE))","v":""},null,{"$f":"IF(C1499=\"\",\"\",VLOOKUP(C1499,PARAMETROS!$G$3:$H$21,2,FALSE))","v":""},null,{"$f":"IF(E1499=\"\",\"\",VLOOKUP(E1499,PARAMETROS!$I$3:$J$21,2,FALSE))","v":""},null,null,null,null,null,null,""]
[null,{"$f":"IF(A1500=\"\",\"\",VLOOKUP(A1500,PARAMETROS!$B$3:$C$3,2,FALSE))","v":""},null,{"$f":"IF(C1500=\"\",\"\",VLOOKUP(C1500,PARAMETROS!$G$3:$H$21,2,FALSE))","v":""},null,{"$f":"IF(E1500=\"\",\"\",VLOOKUP(E1500,PARAMETROS!$I$3:$J$21,2,FALSE))","v":""},null,null,null,null,null,null,""]
[null,{"$f":"IF(A1501=\"\",\"\",VLOOKUP(A1501,PARAMETROS!$B$3:$C$3,2,FALSE))","v":""},null,{"$f":"IF(C1501=\"\",\"\",VLOOKUP(C1501,PARAMETROS!$G$3:$H$21,2,FALSE))","v":""},null,{"$f":"IF(E1501=\"\",\"\",VLOOKUP(E1501,PARAMETROS!$I$3:$J$21,2,FALSE))","v":""},null,null,null,null,null,null,""]
[null,{"$f":"IF(A1502=\"\",\"\",VLOOKUP(A1502,PARAMETROS!$B$3:$C$3,2,FALSE))","v":""},null,{"$f":"IF(C1502=\"\",\"\",VLOOKUP(C1502,PARAMETROS!$G$3:$H$21,2,FALSE))","v":""},null,{"$f":"IF(E1502=\"\",\"\",VLOOKUP(E1502,PARAMETROS!$I$3:$J$21,2,FALSE))","v":""},null,null,null,null,null,null,""]
[null,{"$f":"IF(A1503=\"\",\"\",VLOOKUP(A1503,PARAMETROS!$B$3:$C$3,2,FALSE))","v":""},null,{"$f":"IF(C1503=\"\",\"\",VLOOKUP(C1503,PARAMETROS!$G$3:$H$21,2,FALSE))","v":""},null,{"$f":"IF(E1503=\"\",\"\",VLOOKUP(E1503,PARAMETROS!$I$3:$J$21,2,FALSE))","v":""},null,null,null,null,null,null,""]
[null,{"$f":"IF(A1504=\"\",\"\",VLOOKUP(A1504,PARAMETROS!$B$3:$C$3,2,FALSE))","v":""},null,{"$f":"IF(C1504=\"\",\"\",VLOOKUP(C1504,PARAMETROS!$G$3:$H$21,2,FALSE))","v":""},null,{"$f":"IF(E1504=\"\",\"\",VLOOKUP(E1504,PARAMETROS!$I$3:$J$21,2,FALSE))","v":""},null,null,null,null,null,null,""]
[null,{"$f":"IF(A1505=\"\",\"\",VLOOKUP(A1505,PARAMETROS!$B$3:$C$3,2,FALSE))","v":""},null,{"$f":"IF(C1505=\"\",\"\",VLOOKUP(C1505,PARAMETROS!$G$3:$H$21,2,FALSE))","v":""},null,{"$f":"IF(E1505=\"\",\"\",VLOOKUP(E1505,PARAMETROS!$I$3:$J$21,2,FALSE))","v":""},null,null,null,null,null,null,""]
[null,{"$f":"IF(A1506=\"\",\"\",VLOOKUP(A1506,PARAMETROS!$B$3:$C$3,2,FALSE))","v":""},null,{"$f":"IF(C1506=\"\",\"\",VLOOKUP(C1506,PARAMETROS!$G$3:$H$21,2,FALSE))","v":""},null,{"$f":"IF(E1506=\"\",\"\",VLOOKUP(E1506,PARAMETROS!$I$3:$J$21,2,FALSE))","v":""},null,null,null,null,null,null,""]
[null,{"$f":"IF(A1507=\"\",\"\",VLOOKUP(A1507,PARAMETROS!$B$3:$C$3,2,FALSE))","v":""},null,{"$f":"IF(C1507=\"\",\"\",VLOOKUP(C1507,PARAMETROS!$G$3:$H$21,2,FALSE))","v":""},null,{"$f":"IF(E1507=\"\",\"\",VLOOKUP(E1507,PARAMETROS!$I$3:$J$21,2,FALSE))","v":""},null,null,null,null,null,null,""]
[null,{"$f":"IF(A1508=\"\",\"\",VLOOKUP(A1508,PARAMETROS!$B$3:$C$3,2,FALSE))","v":""},null,{"$f":"IF(C1508=\"\",\"\",VLOOKUP(C1508,PARAMETROS!$G$3:$H$21,2,FALSE))","v":""},null,{"$f":"IF(E1508=\"\",\"\",VLOOKUP(E1508,PARAMETROS!$I$3:$J$21,2,FALSE))","v":""},null,null,null,null,null,null,""]
[null,{"$f":"IF(A1509=\"\",\"\",VLOOKUP(A1509,PARAMETROS!$B$3:$C$3,2,FALSE))","v":""},null,{"$f":"IF(C1509=\"\",\"\",VLOOKUP(C1509,PARAMETROS!$G$3:$H$21,2,FALSE))","v":""},null,{"$f":"IF(E1509=\"\",\"\",VLOOKUP(E1509,PARAMETROS!$I$3:$J$21,2,FALSE))","v":""},null,null,null,null,null,null,""]
[null,{"$f":"IF(A1510=\"\",\"\",VLOOKUP(A1510,PARAMETROS!$B$3:$C$3,2,FALSE))","v":""},null,{"$f":"IF(C1510=\"\",\"\",VLOOKUP(C1510,PARAMETROS!$G$3:$H$21,2,FALSE))","v":""},null,{"$f":"IF(E1510=\"\",\"\",VLOOKUP(E1510,PARAMETROS!$I$3:$J$21,2,FALSE))","v":""},null,null,null,null,null,null,""]
[null,{"$f":"IF(A1511=\"\",\"\",VLOOKUP(A1511,PARAMETROS!$B$3:$C$3,2,FALSE))","v":""},null,{"$f":"IF(C1511=\"\",\"\",VLOOKUP(C1511,PARAMETROS!$G$3:$H$21,2,FALSE))","v":""},null,{"$f":"IF(E1511=\"\",\"\",VLOOKUP(E1511,PARAMETROS!$I$3:$J$21,2,FALSE))","v":""},null,null,null,null,null,null,""]
[null,{"$f":"IF(A1512=\"\",\"\",VLOOKUP(A1512,PARAMETROS!$B$3:$C$3,2,FALSE))","v":""},null,{"$f":"IF(C1512=\"\",\"\",VLOOKUP(C1512,PARAMETROS!$G$3:$H$21,2,FALSE))","v":""},null,{"$f":"IF(E1512=\"\",\"\",VLOOKUP(E1512,PARAMETROS!$I$3:$J$21,2,FALSE))","v":""},null,null,null,null,null,null,""]
[null,{"$f":"IF(A1513=\"\",\"\",VLOOKUP(A1513,PARAMETROS!$B$3:$C$3,2,FALSE))","v":""},null,{"$f":"IF(C1513=\"\",\"\",VLOOKUP(C1513,PARAMETROS!$G$3:$H$21,2,FALSE))","v":""},null,{"$f":"IF(E1513=\"\",\"\",VLOOKUP(E1513,PARAMETROS!$I$3:$J$21,2,FALSE))","v":""},null,null,null,null,null,null,""]
[null,{"$f":"IF(A1514=\"\",\"\",VLOOKUP(A1514,PARAMETROS!$B$3:$C$3,2,FALSE))","v":""},null,{"$f":"IF(C1514=\"\",\"\",VLOOKUP(C1514,PARAMETROS!$G$3:$H$21,2,FALSE))","v":""},null,{"$f":"IF(E1514=\"\",\"\",VLOOKUP(E1514,PARAMETROS!$I$3:$J$21,2,FALSE))","v":""},null,null,null,null,null,null,""]
[null,{"$f":"IF(A1515=\"\",\"\",VLOOKUP(A1515,PARAMETROS!$B$3:$C$3,2,FALSE))","v":""},null,{"$f":"IF(C1515=\"\",\"\",VLOOKUP(C1515,PARAMETROS!$G$3:$H$21,2,FALSE))","v":""},null,{"$f":"IF(E1515=\"\",\"\",VLOOKUP(E1515,PARAMETROS!$I$3:$J$21,2,FALSE))","v":""},null,null,null,null,null,null,""]
[null,{"$f":"IF(A1516=\"\",\"\",VLOOKUP(A1516,PARAMETROS!$B$3:$C$3,2,FALSE))","v":""},null,{"$f":"IF(C1516=\"\",\"\",VLOOKUP(C1516,PARAMETROS!$G$3:$H$21,2,FALSE))","v":""},null,{"$f":"IF(E1516=\"\",\"\",VLOOKUP(E1516,PARAMETROS!$I$3:$J$21,2,FALSE))","v":""},null,null,null,null,null,null,""]
[null,{"$f":"IF(A1517=\"\",\"\",VLOOKUP(A1517,PARAMETROS!$B$3:$C$3,2,FALSE))","v":""},null,{"$f":"IF(C1517=\"\",\"\",VLOOKUP(C1517,PARAMETROS!$G$3:$H$21,2,FALSE))","v":""},null,{"$f":"IF(E1517=\"\",\"\",VLOOKUP(E1517,PARAMETROS!$I$3:$J$21,2,FALSE))","v":""},null,null,null,null,null,null,""]
[null,{"$f":"IF(A1518=\"\",\"\",VLOOKUP(A1518,PARAMETROS!$B$3:$C$3,2,FALSE))","v":""},null,{"$f":"IF(C1518=\"\",\"\",VLOOKUP(C1518,PARAMETROS!$G$3:$H$21,2,FALSE))","v":""},null,{"$f":"IF(E1518=\"\",\"\",VLOOKUP(E1518,PARAMETROS!$I$3:$J$21,2,FALSE))","v":""},null,null,null,null,null,null,""]
[null,{"$f":"IF(A1519=\"\",\"\",VLOOKUP(A1519,PARAMETROS!$B$3:$C$3,2,FALSE))","v":""},null,{"$f":"IF(C1519=\"\",\"\",VLOOKUP(C1519,PARAMETROS!$G$3:$H$21,2,FALSE))","v":""},null,{"$f":"IF(E1519=\"\",\"\",VLOOKUP(E1519,PARAMETROS!$I$3:$J$21,2,FALSE))","v":""},null,null,null,null,null,null,""]
[null,{"$f":"IF(A1520=\"\",\"\",VLOOKUP(A1520,PARAMETROS!$B$3:$C$3,2,FALSE))","v":""},null,{"$f":"IF(C1520=\"\",\"\",VLOOKUP(C1520,PARAMETROS!$G$3:$H$21,2,FALSE))","v":""},null,{"$f":"IF(E1520=\"\",\"\",VLOOKUP(E1520,PARAMETROS!$I$3:$J$21,2,FALSE))","v":""},null,null,null,null,null,null,""]
[null,{"$f":"IF(A1521=\"\",\"\",VLOOKUP(A1521,PARAMETROS!$B$3:$C$3,2,FALSE))","v":""},null,{"$f":"IF(C1521=\"\",\"\",VLOOKUP(C1521,PARAMETROS!$G$3:$H$21,2,FALSE))","v":""},null,{"$f":"IF(E1521=\"\",\"\",VLOOKUP(E1521,PARAMETROS!$I$3:$J$21,2,FALSE))","v":""},null,null,null,null,null,null,""]
[null,{"$f":"IF(A1522=\"\",\"\",VLOOKUP(A1522,PARAMETROS!$B$3:$C$3,2,FALSE))","v":""},null,{"$f":"IF(C1522=\"\",\"\",VLOOKUP(C1522,PARAMETROS!$G$3:$H$21,2,FALSE))","v":""},null,{"$f":"IF(E1522=\"\",\"\",VLOOKUP(E1522,PARAMETROS!$I$3:$J$21,2,FALSE))","v":""},null,null,null,null,null,null,""]
[null,{"$f":"IF(A1523=\"\",\"\",VLOOKUP(A1523,PARAMETROS!$B$3:$C$3,2,FALSE))","v":""},null,{"$f":"IF(C1523=\"\",\"\",VLOOKUP(C1523,PARAMETROS!$G$3:$H$21,2,FALSE))","v":""},null,{"$f":"IF(E1523=\"\",\"\",VLOOKUP(E1523,PARAMETROS!$I$3:$J$21,2,FALSE))","v":""},null,null,null,null,null,null,""]
[null,{"$f":"IF(A1524=\"\",\"\",VLOOKUP(A1524,PARAMETROS!$B$3:$C$3,2,FALSE))","v":""},null,{"$f":"IF(C1524=\"\",\"\",VLOOKUP(C1524,PARAMETROS!$G$3:$H$21,2,FALSE))","v":""},null,{"$f":"IF(E1524=\"\",\"\",VLOOKUP(E1524,PARAMETROS!$I$3:$J$21,2,FALSE))","v":""},null,null,null,null,null,null,""]
[null,{"$f":"IF(A1525=\"\",\"\",VLOOKUP(A1525,PARAMETROS!$B$3:$C$3,2,FALSE))","v":""},null,{"$f":"IF(C1525=\"\",\"\",VLOOKUP(C1525,PARAMETROS!$G$3:$H$21,2,FALSE))","v":""},null,{"$f":"IF(E1525=\"\",\"\",VLOOKUP(E1525,PARAMETROS!$I$3:$J$21,2,FALSE))","v":""},null,null,null,null,null,null,""]
[null,{"$f":"IF(A1526=\"\",\"\",VLOOKUP(A1526,PARAMETROS!$B$3:$C$3,2,FALSE))","v":""},null,{"$f":"IF(C1526=\"\",\"\",VLOOKUP(C1526,PARAMETROS!$G$3:$H$21,2,FALSE))","v":""},null,{"$f":"IF(E1526=\"\",\"\",VLOOKUP(E1526,PARAMETROS!$I$3:$J$21,2,FALSE))","v":""},null,null,null,null,null,null,""]
[null,{"$f":"IF(A1527=\"\",\"\",VLOOKUP(A1527,PARAMETROS!$B$3:$C$3,2,FALSE))","v":""},null,{"$f":"IF(C1527=\"\",\"\",VLOOKUP(C1527,PARAMETROS!$G$3:$H$21,2,FALSE))","v":""},null,{"$f":"IF(E1527=\"\",\"\",VLOOKUP(E1527,PARAMETROS!$I$3:$J$21,2,FALSE))","v":""},null,null,null,null,null,null,""]
[null,{"$f":"IF(A1528=\"\",\"\",VLOOKUP(A1528,PARAMETROS!$B$3:$C$3,2,FALSE))","v":""},null,{"$f":"IF(C1528=\"\",\"\",VLOOKUP(C1528,PARAMETROS!$G$3:$H$21,2,FALSE))","v":""},null,{"$f":"IF(E1528=\"\",\"\",VLOOKUP(E1528,PARAMETROS!$I$3:$J$21,2,FALSE))","v":""},null,null,null,null,null,null,""]
[null,{"$f":"IF(A1529=\"\",\"\",VLOOKUP(A1529,PARAMETROS!$B$3:$C$3,2,FALSE))","v":""},null,{"$f":"IF(C1529=\"\",\"\",VLOOKUP(C1529,PARAMETROS!$G$3:$H$21,2,FALSE))","v":""},null,{"$f":"IF(E1529=\"\",\"\",VLOOKUP(E1529,PARAMETROS!$I$3:$J$21,2,FALSE))","v":""},null,null,null,null,null,null,""]
[null,{"$f":"IF(A1530=\"\",\"\",VLOOKUP(A1530,PARAMETROS!$B$3:$C$3,2,FALSE))","v":""},null,{"$f":"IF(C1530=\"\",\"\",VLOOKUP(C1530,PARAMETROS!$G$3:$H$21,2,FALSE))","v":""},null,{"$f":"IF(E1530=\"\",\"\",VLOOKUP(E1530,PARAMETROS!$I$3:$J$21,2,FALSE))","v":""},null,null,null,null,null,null,""]
[null,{"$f":"IF(A1531=\"\",\"\",VLOOKUP(A1531,PARAMETROS!$B$3:$C$3,2,FALSE))","v":""},null,{"$f":"IF(C1531=\"\",\"\",VLOOKUP(C1531,PARAMETROS!$G$3:$H$21,2,FALSE))","v":""},null,{"$f":"IF(E1531=\"\",\"\",VLOOKUP(E1531,PARAMETROS!$I$3:$J$21,2,FALSE))","v":""},null,null,null,null,null,null,""]
[null,{"$f":"IF(A1532=\"\",\"\",VLOOKUP(A1532,PARAMETROS!$B$3:$C$3,2,FALSE))","v":""},null,{"$f":"IF(C1532=\"\",\"\",VLOOKUP(C1532,PARAMETROS!$G$3:$H$21,2,FALSE))","v":""},null,{"$f":"IF(E1532=\"\",\"\",VLOOKUP(E1532,PARAMETROS!$I$3:$J$21,2,FALSE))","v":""},null,null,null,null,null,null,""]
[null,{"$f":"IF(A1533=\"\",\"\",VLOOKUP(A1533,PARAMETROS!$B$3:$C$3,2,FALSE))","v":""},null,{"$f":"IF(C1533=\"\",\"\",VLOOKUP(C1533,PARAMETROS!$G$3:$H$21,2,FALSE))","v":""},null,{"$f":"IF(E1533=\"\",\"\",VLOOKUP(E1533,PARAMETROS!$I$3:$J$21,2,FALSE))","v":""},null,null,null,null,null,null,""]
[null,{"$f":"IF(A1534=\"\",\"\",VLOOKUP(A1534,PARAMETROS!$B$3:$C$3,2,FALSE))","v":""},null,{"$f":"IF(C1534=\"\",\"\",VLOOKUP(C1534,PARAMETROS!$G$3:$H$21,2,FALSE))","v":""},null,{"$f":"IF(E1534=\"\",\"\",VLOOKUP(E1534,PARAMETROS!$I$3:$J$21,2,FALSE))","v":""},null,null,null,null,null,null,""]
[null,{"$f":"IF(A1535=\"\",\"\",VLOOKUP(A1535,PARAMETROS!$B$3:$C$3,2,FALSE))","v":""},null,{"$f":"IF(C1535=\"\",\"\",VLOOKUP(C1535,PARAMETROS!$G$3:$H$21,2,FALSE))","v":""},null,{"$f":"IF(E1535=\"\",\"\",VLOOKUP(E1535,PARAMETROS!$I$3:$J$21,2,FALSE))","v":""},null,null,null,null,null,null,""]
[null,{"$f":"IF(A1536=\"\",\"\",VLOOKUP(A1536,PARAMETROS!$B$3:$C$3,2,FALSE))","v":""},null,{"$f":"IF(C1536=\"\",\"\",VLOOKUP(C1536,PARAMETROS!$G$3:$H$21,2,FALSE))","v":""},null,{"$f":"IF(E1536=\"\",\"\",VLOOKUP(E1536,PARAMETROS!$I$3:$J$21,2,FALSE))","v":""},null,null,null,null,null,null,""]
[null,{"$f":"IF(A1537=\"\",\"\",VLOOKUP(A1537,PARAMETROS!$B$3:$C$3,2,FALSE))","v":""},null,{"$f":"IF(C1537=\"\",\"\",VLOOKUP(C1537,PARAMETROS!$G$3:$H$21,2,FALSE))","v":""},null,{"$f":"IF(E1537=\"\",\"\",VLOOKUP(E1537,PARAMETROS!$I$3:$J$21,2,FALSE))","v":""},null,null,null,null,null,null,""]
[null,{"$f":"IF(A1538=\"\",\"\",VLOOKUP(A1538,PARAMETROS!$B$3:$C$3,2,FALSE))","v":""},null,{"$f":"IF(C1538=\"\",\"\",VLOOKUP(C1538,PARAMETROS!$G$3:$H$21,2,FALSE))","v":""},null,{"$f":"IF(E1538=\"\",\"\",VLOOKUP(E1538,PARAMETROS!$I$3:$J$21,2,FALSE))","v":""},null,null,null,null,null,null,""]
[null,{"$f":"IF(A1539=\"\",\"\",VLOOKUP(A1539,PARAMETROS!$B$3:$C$3,2,FALSE))","v":""},null,{"$f":"IF(C1539=\"\",\"\",VLOOKUP(C1539,PARAMETROS!$G$3:$H$21,2,FALSE))","v":""},null,{"$f":"IF(E1539=\"\",\"\",VLOOKUP(E1539,PARAMETROS!$I$3:$J$21,2,FALSE))","v":""},null,null,null,null,null,null,""]
[null,{"$f":"IF(A1540=\"\",\"\",VLOOKUP(A1540,PARAMETROS!$B$3:$C$3,2,FALSE))","v":""},null,{"$f":"IF(C1540=\"\",\"\",VLOOKUP(C1540,PARAMETROS!$G$3:$H$21,2,FALSE))","v":""},null,{"$f":"IF(E1540=\"\",\"\",VLOOKUP(E1540,PARAMETROS!$I$3:$J$21,2,FALSE))","v":""},null,null,null,null,null,null,""]
[null,{"$f":"IF(A1541=\"\",\"\",VLOOKUP(A1541,PARAMETROS!$B$3:$C$3,2,FALSE))","v":""},null,{"$f":"IF(C1541=\"\",\"\",VLOOKUP(C1541,PARAMETROS!$G$3:$H$21,2,FALSE))","v":""},null,{"$f":"IF(E1541=\"\",\"\",VLOOKUP(E1541,PARAMETROS!$I$3:$J$21,2,FALSE))","v":""},null,null,null,null,null,null,""]
[null,{"$f":"IF(A1542=\"\",\"\",VLOOKUP(A1542,PARAMETROS!$B$3:$C$3,2,FALSE))","v":""},null,{"$f":"IF(C1542=\"\",\"\",VLOOKUP(C1542,PARAMETROS!$G$3:$H$21,2,FALSE))","v":""},null,{"$f":"IF(E1542=\"\",\"\",VLOOKUP(E1542,PARAMETROS!$I$3:$J$21,2,FALSE))","v":""},null,null,null,null,null,null,""]
[null,{"$f":"IF(A1543=\"\",\"\",VLOOKUP(A1543,PARAMETROS!$B$3:$C$3,2,FALSE))","v":""},null,{"$f":"IF(C1543=\"\",\"\",VLOOKUP(C1543,PARAMETROS!$G$3:$H$21,2,FALSE))","v":""},null,{"$f":"IF(E1543=\"\",\"\",VLOOKUP(E1543,PARAMETROS!$I$3:$J$21,2,FALSE))","v":""},null,null,null,null,null,null,""]
[null,{"$f":"IF(A1544=\"\",\"\",VLOOKUP(A1544,PARAMETROS!$B$3:$C$3,2,FALSE))","v":""},null,{"$f":"IF(C1544=\"\",\"\",VLOOKUP(C1544,PARAMETROS!$G$3:$H$21,2,FALSE))","v":""},null,{"$f":"IF(E1544=\"\",\"\",VLOOKUP(E1544,PARAMETROS!$I$3:$J$21,2,FALSE))","v":""},null,null,null,null,null,null,""]
[null,{"$f":"IF(A1545=\"\",\"\",VLOOKUP(A1545,PARAMETROS!$B$3:$C$3,2,FALSE))","v":""},null,{"$f":"IF(C1545=\"\",\"\",VLOOKUP(C1545,PARAMETROS!$G$3:$H$21,2,FALSE))","v":""},null,{"$f":"IF(E1545=\"\",\"\",VLOOKUP(E1545,PARAMETROS!$I$3:$J$21,2,FALSE))","v":""},null,null,null,null,null,null,""]
[null,{"$f":"IF(A1546=\"\",\"\",VLOOKUP(A1546,PARAMETROS!$B$3:$C$3,2,FALSE))","v":""},null,{"$f":"IF(C1546=\"\",\"\",VLOOKUP(C1546,PARAMETROS!$G$3:$H$21,2,FALSE))","v":""},null,{"$f":"IF(E1546=\"\",\"\",VLOOKUP(E1546,PARAMETROS!$I$3:$J$21,2,FALSE))","v":""},null,null,null,null,null,null,""]
[null,{"$f":"IF(A1547=\"\",\"\",VLOOKUP(A1547,PARAMETROS!$B$3:$C$3,2,FALSE))","v":""},null,{"$f":"IF(C1547=\"\",\"\",VLOOKUP(C1547,PARAMETROS!$G$3:$H$21,2,FALSE))","v":""},null,{"$f":"IF(E1547=\"\",\"\",VLOOKUP(E1547,PARAMETROS!$I$3:$J$21,2,FALSE))","v":""},null,null,null,null,null,null,""]
[null,{"$f":"IF(A1548=\"\",\"\",VLOOKUP(A1548,PARAMETROS!$B$3:$C$3,2,FALSE))","v":""},null,{"$f":"IF(C1548=\"\",\"\",VLOOKUP(C1548,PARAMETROS!$G$3:$H$21,2,FALSE))","v":""},null,{"$f":"IF(E1548=\"\",\"\",VLOOKUP(E1548,PARAMETROS!$I$3:$J$21,2,FALSE))","v":""},null,null,null,null,null,null,""]
[null,{"$f":"IF(A1549=\"\",\"\",VLOOKUP(A1549,PARAMETROS!$B$3:$C$3,2,FALSE))","v":""},null,{"$f":"IF(C1549=\"\",\"\",VLOOKUP(C1549,PARAMETROS!$G$3:$H$21,2,FALSE))","v":""},null,{"$f":"IF(E1549=\"\",\"\",VLOOKUP(E1549,PARAMETROS!$I$3:$J$21,2,FALSE))","v":""},null,null,null,null,null,null,""]
[null,{"$f":"IF(A1550=\"\",\"\",VLOOKUP(A1550,PARAMETROS!$B$3:$C$3,2,FALSE))","v":""},null,{"$f":"IF(C1550=\"\",\"\",VLOOKUP(C1550,PARAMETROS!$G$3:$H$21,2,FALSE))","v":""},null,{"$f":"IF(E1550=\"\",\"\",VLOOKUP(E1550,PARAMETROS!$I$3:$J$21,2,FALSE))","v":""},null,null,null,null,null,null,""]
[null,{"$f":"IF(A1551=\"\",\"\",VLOOKUP(A1551,PARAMETROS!$B$3:$C$3,2,FALSE))","v":""},null,{"$f":"IF(C1551=\"\",\"\",VLOOKUP(C1551,PARAMETROS!$G$3:$H$21,2,FALSE))","v":""},null,{"$f":"IF(E1551=\"\",\"\",VLOOKUP(E1551,PARAMETROS!$I$3:$J$21,2,FALSE))","v":""},null,null,null,null,null,null,{"$f":"IF(L1551=\"\", \"\", L1551)","v":""}]
[null,{"$f":"IF(A1552=\"\",\"\",VLOOKUP(A1552,PARAMETROS!$B$3:$C$3,2,FALSE))","v":""},null,{"$f":"IF(C1552=\"\",\"\",VLOOKUP(C1552,PARAMETROS!$G$3:$H$21,2,FALSE))","v":""},null,{"$f":"IF(E1552=\"\",\"\",VLOOKUP(E1552,PARAMETROS!$I$3:$J$21,2,FALSE))","v":""},null,null,null,null,null,null,""]
[null,{"$f":"IF(A1553=\"\",\"\",VLOOKUP(A1553,PARAMETROS!$B$3:$C$3,2,FALSE))","v":""},null,{"$f":"IF(C1553=\"\",\"\",VLOOKUP(C1553,PARAMETROS!$G$3:$H$21,2,FALSE))","v":""},null,{"$f":"IF(E1553=\"\",\"\",VLOOKUP(E1553,PARAMETROS!$I$3:$J$21,2,FALSE))","v":""},null,null,null,null,null,null,""]
[null,{"$f":"IF(A1554=\"\",\"\",VLOOKUP(A1554,PARAMETROS!$B$3:$C$3,2,FALSE))","v":""},null,{"$f":"IF(C1554=\"\",\"\",VLOOKUP(C1554,PARAMETROS!$G$3:$H$21,2,FALSE))","v":""},null,{"$f":"IF(E1554=\"\",\"\",VLOOKUP(E1554,PARAMETROS!$I$3:$J$21,2,FALSE))","v":""},null,null,null,null,null,null,""]
[null,{"$f":"IF(A1555=\"\",\"\",VLOOKUP(A1555,PARAMETROS!$B$3:$C$3,2,FALSE))","v":""},null,{"$f":"IF(C1555=\"\",\"\",VLOOKUP(C1555,PARAMETROS!$G$3:$H$21,2,FALSE))","v":""},null,{"$f":"IF(E1555=\"\",\"\",VLOOKUP(E1555,PARAMETROS!$I$3:$J$21,2,FALSE))","v":""},null,null,null,null,null,null,""]
[null,{"$f":"IF(A1556=\"\",\"\",VLOOKUP(A1556,PARAMETROS!$B$3:$C$3,2,FALSE))","v":""},null,{"$f":"IF(C1556=\"\",\"\",VLOOKUP(C1556,PARAMETROS!$G$3:$H$21,2,FALSE))","v":""},null,{"$f":"IF(E1556=\"\",\"\",VLOOKUP(E1556,PARAMETROS!$I$3:$J$21,2,FALSE))","v":""},null,null,null,null,null,null,""]
[null,{"$f":"IF(A1557=\"\",\"\",VLOOKUP(A1557,PARAMETROS!$B$3:$C$3,2,FALSE))","v":""},null,{"$f":"IF(C1557=\"\",\"\",VLOOKUP(C1557,PARAMETROS!$G$3:$H$21,2,FALSE))","v":""},null,{"$f":"IF(E1557=\"\",\"\",VLOOKUP(E1557,PARAMETROS!$I$3:$J$21,2,FALSE))","v":""},null,null,null,null,null,null,""]
[null,{"$f":"IF(A1558=\"\",\"\",VLOOKUP(A1558,PARAMETROS!$B$3:$C$3,2,FALSE))","v":""},null,{"$f":"IF(C1558=\"\",\"\",VLOOKUP(C1558,PARAMETROS!$G$3:$H$21,2,FALSE))","v":""},null,{"$f":"IF(E1558=\"\",\"\",VLOOKUP(E1558,PARAMETROS!$I$3:$J$21,2,FALSE))","v":""},null,null,null,null,null,null,""]
[null,{"$f":"IF(A1559=\"\",\"\",VLOOKUP(A1559,PARAMETROS!$B$3:$C$3,2,FALSE))","v":""},null,{"$f":"IF(C1559=\"\",\"\",VLOOKUP(C1559,PARAMETROS!$G$3:$H$21,2,FALSE))","v":""},null,{"$f":"IF(E1559=\"\",\"\",VLOOKUP(E1559,PARAMETROS!$I$3:$J$21,2,FALSE))","v":""},null,null,null,null,null,null,""]
[null,{"$f":"IF(A1560=\"\",\"\",VLOOKUP(A1560,PARAMETROS!$B$3:$C$3,2,FALSE))","v":""},null,{"$f":"IF(C1560=\"\",\"\",VLOOKUP(C1560,PARAMETROS!$G$3:$H$21,2,FALSE))","v":""},null,{"$f":"IF(E1560=\"\",\"\",VLOOKUP(E1560,PARAMETROS!$I$3:$J$21,2,FALSE))","v":""},null,null,null,null,null,null,""]
[null,{"$f":"IF(A1561=\"\",\"\",VLOOKUP(A1561,PARAMETROS!$B$3:$C$3,2,FALSE))","v":""},null,{"$f":"IF(C1561=\"\",\"\",VLOOKUP(C1561,PARAMETROS!$G$3:$H$21,2,FALSE))","v":""},null,{"$f":"IF(E1561=\"\",\"\",VLOOKUP(E1561,PARAMETROS!$I$3:$J$21,2,FALSE))","v":""},null,null,null,null,null,null,""]
[null,{"$f":"IF(A1562=\"\",\"\",VLOOKUP(A1562,PARAMETROS!$B$3:$C$3,2,FALSE))","v":""},null,{"$f":"IF(C1562=\"\",\"\",VLOOKUP(C1562,PARAMETROS!$G$3:$H$21,2,FALSE))","v":""},null,{"$f":"IF(E1562=\"\",\"\",VLOOKUP(E1562,PARAMETROS!$I$3:$J$21,2,FALSE))","v":""},null,null,null,null,null,null,""]
[null,{"$f":"IF(A1563=\"\",\"\",VLOOKUP(A1563,PARAMETROS!$B$3:$C$3,2,FALSE))","v":""},null,{"$f":"IF(C1563=\"\",\"\",VLOOKUP(C1563,PARAMETROS!$G$3:$H$21,2,FALSE))","v":""},null,{"$f":"IF(E1563=\"\",\"\",VLOOKUP(E1563,PARAMETROS!$I$3:$J$21,2,FALSE))","v":""},null,null,null,null,null,null,""]
[null,{"$f":"IF(A1564=\"\",\"\",VLOOKUP(A1564,PARAMETROS!$B$3:$C$3,2,FALSE))","v":""},null,{"$f":"IF(C1564=\"\",\"\",VLOOKUP(C1564,PARAMETROS!$G$3:$H$21,2,FALSE))","v":""},null,{"$f":"IF(E1564=\"\",\"\",VLOOKUP(E1564,PARAMETROS!$I$3:$J$21,2,FALSE))","v":""},null,null,null,null,null,null,""]
[null,{"$f":"IF(A1565=\"\",\"\",VLOOKUP(A1565,PARAMETROS!$B$3:$C$3,2,FALSE))","v":""},null,{"$f":"IF(C1565=\"\",\"\",VLOOKUP(C1565,PARAMETROS!$G$3:$H$21,2,FALSE))","v":""},null,{"$f":"IF(E1565=\"\",\"\",VLOOKUP(E1565,PARAMETROS!$I$3:$J$21,2,FALSE))","v":""},null,null,null,null,null,null,""]
[null,{"$f":"IF(A1566=\"\",\"\",VLOOKUP(A1566,PARAMETROS!$B$3:$C$3,2,FALSE))","v":""},null,{"$f":"IF(C1566=\"\",\"\",VLOOKUP(C1566,PARAMETROS!$G$3:$H$21,2,FALSE))","v":""},null,{"$f":"IF(E1566=\"\",\"\",VLOOKUP(E1566,PARAMETROS!$I$3:$J$21,2,FALSE))","v":""},null,null,null,null,null,null,""]
[null,{"$f":"IF(A1567=\"\",\"\",VLOOKUP(A1567,PARAMETROS!$B$3:$C$3,2,FALSE))","v":""},null,{"$f":"IF(C1567=\"\",\"\",VLOOKUP(C1567,PARAMETROS!$G$3:$H$21,2,FALSE))","v":""},null,{"$f":"IF(E1567=\"\",\"\",VLOOKUP(E1567,PARAMETROS!$I$3:$J$21,2,FALSE))","v":""},null,null,null,null,null,null,""]
[null,{"$f":"IF(A1568=\"\",\"\",VLOOKUP(A1568,PARAMETROS!$B$3:$C$3,2,FALSE))","v":""},null,{"$f":"IF(C1568=\"\",\"\",VLOOKUP(C1568,PARAMETROS!$G$3:$H$21,2,FALSE))","v":""},null,{"$f":"IF(E1568=\"\",\"\",VLOOKUP(E1568,PARAMETROS!$I$3:$J$21,2,FALSE))","v":""},null,null,null,null,null,null,""]
[null,{"$f":"IF(A1569=\"\",\"\",VLOOKUP(A1569,PARAMETROS!$B$3:$C$3,2,FALSE))","v":""},null,{"$f":"IF(C1569=\"\",\"\",VLOOKUP(C1569,PARAMETROS!$G$3:$H$21,2,FALSE))","v":""},null,{"$f":"IF(E1569=\"\",\"\",VLOOKUP(E1569,PARAMETROS!$I$3:$J$21,2,FALSE))","v":""},null,null,null,null,null,null,""]
[null,{"$f":"IF(A1570=\"\",\"\",VLOOKUP(A1570,PARAMETROS!$B$3:$C$3,2,FALSE))","v":""},null,{"$f":"IF(C1570=\"\",\"\",VLOOKUP(C1570,PARAMETROS!$G$3:$H$21,2,FALSE))","v":""},null,{"$f":"IF(E1570=\"\",\"\",VLOOKUP(E1570,PARAMETROS!$I$3:$J$21,2,FALSE))","v":""},null,null,null,null,null,null,""]
[null,{"$f":"IF(A1571=\"\",\"\",VLOOKUP(A1571,PARAMETROS!$B$3:$C$3,2,FALSE))","v":""},null,{"$f":"IF(C1571=\"\",\"\",VLOOKUP(C1571,PARAMETROS!$G$3:$H$21,2,FALSE))","v":""},null,{"$f":"IF(E1571=\"\",\"\",VLOOKUP(E1571,PARAMETROS!$I$3:$J$21,2,FALSE))","v":""},null,null,null,null,null,null,""]
[null,{"$f":"IF(A1572=\"\",\"\",VLOOKUP(A1572,PARAMETROS!$B$3:$C$3,2,FALSE))","v":""},null,{"$f":"IF(C1572=\"\",\"\",VLOOKUP(C1572,PARAMETROS!$G$3:$H$21,2,FALSE))","v":""},null,{"$f":"IF(E1572=\"\",\"\",VLOOKUP(E1572,PARAMETROS!$I$3:$J$21,2,FALSE))","v":""},null,null,null,null,null,null,""]
[null,{"$f":"IF(A1573=\"\",\"\",VLOOKUP(A1573,PARAMETROS!$B$3:$C$3,2,FALSE))","v":""},null,{"$f":"IF(C1573=\"\",\"\",VLOOKUP(C1573,PARAMETROS!$G$3:$H$21,2,FALSE))","v":""},null,{"$f":"IF(E1573=\"\",\"\",VLOOKUP(E1573,PARAMETROS!$I$3:$J$21,2,FALSE))","v":""},null,null,null,null,null,null,""]
[null,{"$f":"IF(A1574=\"\",\"\",VLOOKUP(A1574,PARAMETROS!$B$3:$C$3,2,FALSE))","v":""},null,{"$f":"IF(C1574=\"\",\"\",VLOOKUP(C1574,PARAMETROS!$G$3:$H$21,2,FALSE))","v":""},null,{"$f":"IF(E1574=\"\",\"\",VLOOKUP(E1574,PARAMETROS!$I$3:$J$21,2,FALSE))","v":""},null,null,null,null,null,null,""]
[null,{"$f":"IF(A1575=\"\",\"\",VLOOKUP(A1575,PARAMETROS!$B$3:$C$3,2,FALSE))","v":""},null,{"$f":"IF(C1575=\"\",\"\",VLOOKUP(C1575,PARAMETROS!$G$3:$H$21,2,FALSE))","v":""},null,{"$f":"IF(E1575=\"\",\"\",VLOOKUP(E1575,PARAMETROS!$I$3:$J$21,2,FALSE))","v":""},null,null,null,null,null,null,""]
[null,{"$f":"IF(A1576=\"\",\"\",VLOOKUP(A1576,PARAMETROS!$B$3:$C$3,2,FALSE))","v":""},null,{"$f":"IF(C1576=\"\",\"\",VLOOKUP(C1576,PARAMETROS!$G$3:$H$21,2,FALSE))","v":""},null,{"$f":"IF(E1576=\"\",\"\",VLOOKUP(E1576,PARAMETROS!$I$3:$J$21,2,FALSE))","v":""},null,null,null,null,null,null,""]
[null,{"$f":"IF(A1577=\"\",\"\",VLOOKUP(A1577,PARAMETROS!$B$3:$C$3,2,FALSE))","v":""},null,{"$f":"IF(C1577=\"\",\"\",VLOOKUP(C1577,PARAMETROS!$G$3:$H$21,2,FALSE))","v":""},null,{"$f":"IF(E1577=\"\",\"\",VLOOKUP(E1577,PARAMETROS!$I$3:$J$21,2,FALSE))","v":""},null,null,null,null,null,null,""]
[null,{"$f":"IF(A1578=\"\",\"\",VLOOKUP(A1578,PARAMETROS!$B$3:$C$3,2,FALSE))","v":""},null,{"$f":"IF(C1578=\"\",\"\",VLOOKUP(C1578,PARAMETROS!$G$3:$H$21,2,FALSE))","v":""},null,{"$f":"IF(E1578=\"\",\"\",VLOOKUP(E1578,PARAMETROS!$I$3:$J$21,2,FALSE))","v":""},null,null,null,null,null,null,""]
[null,{"$f":"IF(A1579=\"\",\"\",VLOOKUP(A1579,PARAMETROS!$B$3:$C$3,2,FALSE))","v":""},null,{"$f":"IF(C1579=\"\",\"\",VLOOKUP(C1579,PARAMETROS!$G$3:$H$21,2,FALSE))","v":""},null,{"$f":"IF(E1579=\"\",\"\",VLOOKUP(E1579,PARAMETROS!$I$3:$J$21,2,FALSE))","v":""},null,null,null,null,null,null,""]
[null,{"$f":"IF(A1580=\"\",\"\",VLOOKUP(A1580,PARAMETROS!$B$3:$C$3,2,FALSE))","v":""},null,{"$f":"IF(C1580=\"\",\"\",VLOOKUP(C1580,PARAMETROS!$G$3:$H$21,2,FALSE))","v":""},null,{"$f":"IF(E1580=\"\",\"\",VLOOKUP(E1580,PARAMETROS!$I$3:$J$21,2,FALSE))","v":""},null,null,null,null,null,null,""]
[null,{"$f":"IF(A1581=\"\",\"\",VLOOKUP(A1581,PARAMETROS!$B$3:$C$3,2,FALSE))","v":""},null,{"$f":"IF(C1581=\"\",\"\",VLOOKUP(C1581,PARAMETROS!$G$3:$H$21,2,FALSE))","v":""},null,{"$f":"IF(E1581=\"\",\"\",VLOOKUP(E1581,PARAMETROS!$I$3:$J$21,2,FALSE))","v":""},null,null,null,null,null,null,""]
[null,{"$f":"IF(A1582=\"\",\"\",VLOOKUP(A1582,PARAMETROS!$B$3:$C$3,2,FALSE))","v":""},null,{"$f":"IF(C1582=\"\",\"\",VLOOKUP(C1582,PARAMETROS!$G$3:$H$21,2,FALSE))","v":""},null,{"$f":"IF(E1582=\"\",\"\",VLOOKUP(E1582,PARAMETROS!$I$3:$J$21,2,FALSE))","v":""},null,null,null,null,null,null,""]
[null,{"$f":"IF(A1583=\"\",\"\",VLOOKUP(A1583,PARAMETROS!$B$3:$C$3,2,FALSE))","v":""},null,{"$f":"IF(C1583=\"\",\"\",VLOOKUP(C1583,PARAMETROS!$G$3:$H$21,2,FALSE))","v":""},null,{"$f":"IF(E1583=\"\",\"\",VLOOKUP(E1583,PARAMETROS!$I$3:$J$21,2,FALSE))","v":""},null,null,null,null,null,null,""]
[null,{"$f":"IF(A1584=\"\",\"\",VLOOKUP(A1584,PARAMETROS!$B$3:$C$3,2,FALSE))","v":""},null,{"$f":"IF(C1584=\"\",\"\",VLOOKUP(C1584,PARAMETROS!$G$3:$H$21,2,FALSE))","v":""},null,{"$f":"IF(E1584=\"\",\"\",VLOOKUP(E1584,PARAMETROS!$I$3:$J$21,2,FALSE))","v":""},null,null,null,null,null,null,""]
[null,{"$f":"IF(A1585=\"\",\"\",VLOOKUP(A1585,PARAMETROS!$B$3:$C$3,2,FALSE))","v":""},null,{"$f":"IF(C1585=\"\",\"\",VLOOKUP(C1585,PARAMETROS!$G$3:$H$21,2,FALSE))","v":""},null,{"$f":"IF(E1585=\"\",\"\",VLOOKUP(E1585,PARAMETROS!$I$3:$J$21,2,FALSE))","v":""},null,null,null,null,null,null,""]
[null,{"$f":"IF(A1586=\"\",\"\",VLOOKUP(A1586,PARAMETROS!$B$3:$C$3,2,FALSE))","v":""},null,{"$f":"IF(C1586=\"\",\"\",VLOOKUP(C1586,PARAMETROS!$G$3:$H$21,2,FALSE))","v":""},null,{"$f":"IF(E1586=\"\",\"\",VLOOKUP(E1586,PARAMETROS!$I$3:$J$21,2,FALSE))","v":""},null,null,null,null,null,null,""]
[null,{"$f":"IF(A1587=\"\",\"\",VLOOKUP(A1587,PARAMETROS!$B$3:$C$3,2,FALSE))","v":""},null,{"$f":"IF(C1587=\"\",\"\",VLOOKUP(C1587,PARAMETROS!$G$3:$H$21,2,FALSE))","v":""},null,{"$f":"IF(E1587=\"\",\"\",VLOOKUP(E1587,PARAMETROS!$I$3:$J$21,2,FALSE))","v":""},null,null,null,null,null,null,""]
[null,{"$f":"IF(A1588=\"\",\"\",VLOOKUP(A1588,PARAMETROS!$B$3:$C$3,2,FALSE))","v":""},null,{"$f":"IF(C1588=\"\",\"\",VLOOKUP(C1588,PARAMETROS!$G$3:$H$21,2,FALSE))","v":""},null,{"$f":"IF(E1588=\"\",\"\",VLOOKUP(E1588,PARAMETROS!$I$3:$J$21,2,FALSE))","v":""},null,null,null,null,null,null,""]
[null,{"$f":"IF(A1589=\"\",\"\",VLOOKUP(A1589,PARAMETROS!$B$3:$C$3,2,FALSE))","v":""},null,{"$f":"IF(C1589=\"\",\"\",VLOOKUP(C1589,PARAMETROS!$G$3:$H$21,2,FALSE))","v":""},null,{"$f":"IF(E1589=\"\",\"\",VLOOKUP(E1589,PARAMETROS!$I$3:$J$21,2,FALSE))","v":""},null,null,null,null,null,null,""]
[null,{"$f":"IF(A1590=\"\",\"\",VLOOKUP(A1590,PARAMETROS!$B$3:$C$3,2,FALSE))","v":""},null,{"$f":"IF(C1590=\"\",\"\",VLOOKUP(C1590,PARAMETROS!$G$3:$H$21,2,FALSE))","v":""},null,{"$f":"IF(E1590=\"\",\"\",VLOOKUP(E1590,PARAMETROS!$I$3:$J$21,2,FALSE))","v":""},null,null,null,null,null,null,""]
[null,{"$f":"IF(A1591=\"\",\"\",VLOOKUP(A1591,PARAMETROS!$B$3:$C$3,2,FALSE))","v":""},null,{"$f":"IF(C1591=\"\",\"\",VLOOKUP(C1591,PARAMETROS!$G$3:$H$21,2,FALSE))","v":""},null,{"$f":"IF(E1591=\"\",\"\",VLOOKUP(E1591,PARAMETROS!$I$3:$J$21,2,FALSE))","v":""},null,null,null,null,null,null,""]
[null,{"$f":"IF(A1592=\"\",\"\",VLOOKUP(A1592,PARAMETROS!$B$3:$C$3,2,FALSE))","v":""},null,{"$f":"IF(C1592=\"\",\"\",VLOOKUP(C1592,PARAMETROS!$G$3:$H$21,2,FALSE))","v":""},null,{"$f":"IF(E1592=\"\",\"\",VLOOKUP(E1592,PARAMETROS!$I$3:$J$21,2,FALSE))","v":""},null,null,null,null,null,null,""]
[null,{"$f":"IF(A1593=\"\",\"\",VLOOKUP(A1593,PARAMETROS!$B$3:$C$3,2,FALSE))","v":""},null,{"$f":"IF(C1593=\"\",\"\",VLOOKUP(C1593,PARAMETROS!$G$3:$H$21,2,FALSE))","v":""},null,{"$f":"IF(E1593=\"\",\"\",VLOOKUP(E1593,PARAMETROS!$I$3:$J$21,2,FALSE))","v":""},null,null,null,null,null,null,""]
[null,{"$f":"IF(A1594=\"\",\"\",VLOOKUP(A1594,PARAMETROS!$B$3:$C$3,2,FALSE))","v":""},null,{"$f":"IF(C1594=\"\",\"\",VLOOKUP(C1594,PARAMETROS!$G$3:$H$21,2,FALSE))","v":""},null,{"$f":"IF(E1594=\"\",\"\",VLOOKUP(E1594,PARAMETROS!$I$3:$J$21,2,FALSE))","v":""},null,null,null,null,null,null,""]
[null,{"$f":"IF(A1595=\"\",\"\",VLOOKUP(A1595,PARAMETROS!$B$3:$C$3,2,FALSE))","v":""},null,{"$f":"IF(C1595=\"\",\"\",VLOOKUP(C1595,PARAMETROS!$G$3:$H$21,2,FALSE))","v":""},null,{"$f":"IF(E1595=\"\",\"\",VLOOKUP(E1595,PARAMETROS!$I$3:$J$21,2,FALSE))","v":""},null,null,null,null,null,null,""]
[null,{"$f":"IF(A1596=\"\",\"\",VLOOKUP(A1596,PARAMETROS!$B$3:$C$3,2,FALSE))","v":""},null,{"$f":"IF(C1596=\"\",\"\",VLOOKUP(C1596,PARAMETROS!$G$3:$H$21,2,FALSE))","v":""},null,{"$f":"IF(E1596=\"\",\"\",VLOOKUP(E1596,PARAMETROS!$I$3:$J$21,2,FALSE))","v":""},null,null,null,null,null,null,""]
[null,{"$f":"IF(A1597=\"\",\"\",VLOOKUP(A1597,PARAMETROS!$B$3:$C$3,2,FALSE))","v":""},null,{"$f":"IF(C1597=\"\",\"\",VLOOKUP(C1597,PARAMETROS!$G$3:$H$21,2,FALSE))","v":""},null,{"$f":"IF(E1597=\"\",\"\",VLOOKUP(E1597,PARAMETROS!$I$3:$J$21,2,FALSE))","v":""},null,null,null,null,null,null,""]
[null,{"$f":"IF(A1598=\"\",\"\",VLOOKUP(A1598,PARAMETROS!$B$3:$C$3,2,FALSE))","v":""},null,{"$f":"IF(C1598=\"\",\"\",VLOOKUP(C1598,PARAMETROS!$G$3:$H$21,2,FALSE))","v":""},null,{"$f":"IF(E1598=\"\",\"\",VLOOKUP(E1598,PARAMETROS!$I$3:$J$21,2,FALSE))","v":""},null,null,null,null,null,null,""]
[null,{"$f":"IF(A1599=\"\",\"\",VLOOKUP(A1599,PARAMETROS!$B$3:$C$3,2,FALSE))","v":""},null,{"$f":"IF(C1599=\"\",\"\",VLOOKUP(C1599,PARAMETROS!$G$3:$H$21,2,FALSE))","v":""},null,{"$f":"IF(E1599=\"\",\"\",VLOOKUP(E1599,PARAMETROS!$I$3:$J$21,2,FALSE))","v":""},null,null,null,null,null,null,""]
[null,{"$f":"IF(A1600=\"\",\"\",VLOOKUP(A1600,PARAMETROS!$B$3:$C$3,2,FALSE))","v":""},null,{"$f":"IF(C1600=\"\",\"\",VLOOKUP(C1600,PARAMETROS!$G$3:$H$21,2,FALSE))","v":""},null,{"$f":"IF(E1600=\"\",\"\",VLOOKUP(E1600,PARAMETROS!$I$3:$J$21,2,FALSE))","v":""},null,null,null,null,null,null,""]
[null,{"$f":"IF(A1601=\"\",\"\",VLOOKUP(A1601,PARAMETROS!$B$3:$C$3,2,FALSE))","v":""},null,{"$f":"IF(C1601=\"\",\"\",VLOOKUP(C1601,PARAMETROS!$G$3:$H$21,2,FALSE))","v":""},null,{"$f":"IF(E1601=\"\",\"\",VLOOKUP(E1601,PARAMETROS!$I$3:$J$21,2,FALSE))","v":""},null,null,null,null,null,null,""]
[null,{"$f":"IF(A1602=\"\",\"\",VLOOKUP(A1602,PARAMETROS!$B$3:$C$3,2,FALSE))","v":""},null,{"$f":"IF(C1602=\"\",\"\",VLOOKUP(C1602,PARAMETROS!$G$3:$H$21,2,FALSE))","v":""},null,{"$f":"IF(E1602=\"\",\"\",VLOOKUP(E1602,PARAMETROS!$I$3:$J$21,2,FALSE))","v":""},null,null,null,null,null,null,""]
[null,{"$f":"IF(A1603=\"\",\"\",VLOOKUP(A1603,PARAMETROS!$B$3:$C$3,2,FALSE))","v":""},null,{"$f":"IF(C1603=\"\",\"\",VLOOKUP(C1603,PARAMETROS!$G$3:$H$21,2,FALSE))","v":""},null,{"$f":"IF(E1603=\"\",\"\",VLOOKUP(E1603,PARAMETROS!$I$3:$J$21,2,FALSE))","v":""},null,null,null,null,null,null,""]
[null,{"$f":"IF(A1604=\"\",\"\",VLOOKUP(A1604,PARAMETROS!$B$3:$C$3,2,FALSE))","v":""},null,{"$f":"IF(C1604=\"\",\"\",VLOOKUP(C1604,PARAMETROS!$G$3:$H$21,2,FALSE))","v":""},null,{"$f":"IF(E1604=\"\",\"\",VLOOKUP(E1604,PARAMETROS!$I$3:$J$21,2,FALSE))","v":""},null,null,null,null,null,null,""]
[null,{"$f":"IF(A1605=\"\",\"\",VLOOKUP(A1605,PARAMETROS!$B$3:$C$3,2,FALSE))","v":""},null,{"$f":"IF(C1605=\"\",\"\",VLOOKUP(C1605,PARAMETROS!$G$3:$H$21,2,FALSE))","v":""},null,{"$f":"IF(E1605=\"\",\"\",VLOOKUP(E1605,PARAMETROS!$I$3:$J$21,2,FALSE))","v":""},null,null,null,null,null,null,""]
[null,{"$f":"IF(A1606=\"\",\"\",VLOOKUP(A1606,PARAMETROS!$B$3:$C$3,2,FALSE))","v":""},null,{"$f":"IF(C1606=\"\",\"\",VLOOKUP(C1606,PARAMETROS!$G$3:$H$21,2,FALSE))","v":""},null,{"$f":"IF(E1606=\"\",\"\",VLOOKUP(E1606,PARAMETROS!$I$3:$J$21,2,FALSE))","v":""},null,null,null,null,null,null,""]
[null,{"$f":"IF(A1607=\"\",\"\",VLOOKUP(A1607,PARAMETROS!$B$3:$C$3,2,FALSE))","v":""},null,{"$f":"IF(C1607=\"\",\"\",VLOOKUP(C1607,PARAMETROS!$G$3:$H$21,2,FALSE))","v":""},null,{"$f":"IF(E1607=\"\",\"\",VLOOKUP(E1607,PARAMETROS!$I$3:$J$21,2,FALSE))","v":""},null,null,null,null,null,null,""]
[null,{"$f":"IF(A1608=\"\",\"\",VLOOKUP(A1608,PARAMETROS!$B$3:$C$3,2,FALSE))","v":""},null,{"$f":"IF(C1608=\"\",\"\",VLOOKUP(C1608,PARAMETROS!$G$3:$H$21,2,FALSE))","v":""},null,{"$f":"IF(E1608=\"\",\"\",VLOOKUP(E1608,PARAMETROS!$I$3:$J$21,2,FALSE))","v":""},null,null,null,null,null,null,""]
[null,{"$f":"IF(A1609=\"\",\"\",VLOOKUP(A1609,PARAMETROS!$B$3:$C$3,2,FALSE))","v":""},null,{"$f":"IF(C1609=\"\",\"\",VLOOKUP(C1609,PARAMETROS!$G$3:$H$21,2,FALSE))","v":""},null,{"$f":"IF(E1609=\"\",\"\",VLOOKUP(E1609,PARAMETROS!$I$3:$J$21,2,FALSE))","v":""},null,null,null,null,null,null,""]
[null,{"$f":"IF(A1610=\"\",\"\",VLOOKUP(A1610,PARAMETROS!$B$3:$C$3,2,FALSE))","v":""},null,{"$f":"IF(C1610=\"\",\"\",VLOOKUP(C1610,PARAMETROS!$G$3:$H$21,2,FALSE))","v":""},null,{"$f":"IF(E1610=\"\",\"\",VLOOKUP(E1610,PARAMETROS!$I$3:$J$21,2,FALSE))","v":""},null,null,null,null,null,null,""]
[null,{"$f":"IF(A1611=\"\",\"\",VLOOKUP(A1611,PARAMETROS!$B$3:$C$3,2,FALSE))","v":""},null,{"$f":"IF(C1611=\"\",\"\",VLOOKUP(C1611,PARAMETROS!$G$3:$H$21,2,FALSE))","v":""},null,{"$f":"IF(E1611=\"\",\"\",VLOOKUP(E1611,PARAMETROS!$I$3:$J$21,2,FALSE))","v":""},null,null,null,null,null,null,""]
[null,{"$f":"IF(A1612=\"\",\"\",VLOOKUP(A1612,PARAMETROS!$B$3:$C$3,2,FALSE))","v":""},null,{"$f":"IF(C1612=\"\",\"\",VLOOKUP(C1612,PARAMETROS!$G$3:$H$21,2,FALSE))","v":""},null,{"$f":"IF(E1612=\"\",\"\",VLOOKUP(E1612,PARAMETROS!$I$3:$J$21,2,FALSE))","v":""},null,null,null,null,null,null,""]
[null,{"$f":"IF(A1613=\"\",\"\",VLOOKUP(A1613,PARAMETROS!$B$3:$C$3,2,FALSE))","v":""},null,{"$f":"IF(C1613=\"\",\"\",VLOOKUP(C1613,PARAMETROS!$G$3:$H$21,2,FALSE))","v":""},null,{"$f":"IF(E1613=\"\",\"\",VLOOKUP(E1613,PARAMETROS!$I$3:$J$21,2,FALSE))","v":""},null,null,null,null,null,null,""]
[null,{"$f":"IF(A1614=\"\",\"\",VLOOKUP(A1614,PARAMETROS!$B$3:$C$3,2,FALSE))","v":""},null,{"$f":"IF(C1614=\"\",\"\",VLOOKUP(C1614,PARAMETROS!$G$3:$H$21,2,FALSE))","v":""},null,{"$f":"IF(E1614=\"\",\"\",VLOOKUP(E1614,PARAMETROS!$I$3:$J$21,2,FALSE))","v":""},null,null,null,null,null,null,""]
[null,{"$f":"IF(A1615=\"\",\"\",VLOOKUP(A1615,PARAMETROS!$B$3:$C$3,2,FALSE))","v":""},null,{"$f":"IF(C1615=\"\",\"\",VLOOKUP(C1615,PARAMETROS!$G$3:$H$21,2,FALSE))","v":""},null,{"$f":"IF(E1615=\"\",\"\",VLOOKUP(E1615,PARAMETROS!$I$3:$J$21,2,FALSE))","v":""},null,null,null,null,null,null,{"$f":"IF(L1615=\"\", \"\", L1615)","v":""}]
[null,{"$f":"IF(A1616=\"\",\"\",VLOOKUP(A1616,PARAMETROS!$B$3:$C$3,2,FALSE))","v":""},null,{"$f":"IF(C1616=\"\",\"\",VLOOKUP(C1616,PARAMETROS!$G$3:$H$21,2,FALSE))","v":""},null,{"$f":"IF(E1616=\"\",\"\",VLOOKUP(E1616,PARAMETROS!$I$3:$J$21,2,FALSE))","v":""},null,null,null,null,null,null,""]
[null,{"$f":"IF(A1617=\"\",\"\",VLOOKUP(A1617,PARAMETROS!$B$3:$C$3,2,FALSE))","v":""},null,{"$f":"IF(C1617=\"\",\"\",VLOOKUP(C1617,PARAMETROS!$G$3:$H$21,2,FALSE))","v":""},null,{"$f":"IF(E1617=\"\",\"\",VLOOKUP(E1617,PARAMETROS!$I$3:$J$21,2,FALSE))","v":""},null,null,null,null,null,null,""]
[null,{"$f":"IF(A1618=\"\",\"\",VLOOKUP(A1618,PARAMETROS!$B$3:$C$3,2,FALSE))","v":""},null,{"$f":"IF(C1618=\"\",\"\",VLOOKUP(C1618,PARAMETROS!$G$3:$H$21,2,FALSE))","v":""},null,{"$f":"IF(E1618=\"\",\"\",VLOOKUP(E1618,PARAMETROS!$I$3:$J$21,2,FALSE))","v":""},null,null,null,null,null,null,""]
[null,{"$f":"IF(A1619=\"\",\"\",VLOOKUP(A1619,PARAMETROS!$B$3:$C$3,2,FALSE))","v":""},null,{"$f":"IF(C1619=\"\",\"\",VLOOKUP(C1619,PARAMETROS!$G$3:$H$21,2,FALSE))","v":""},null,{"$f":"IF(E1619=\"\",\"\",VLOOKUP(E1619,PARAMETROS!$I$3:$J$21,2,FALSE))","v":""},null,null,null,null,null,null,""]
[null,{"$f":"IF(A1620=\"\",\"\",VLOOKUP(A1620,PARAMETROS!$B$3:$C$3,2,FALSE))","v":""},null,{"$f":"IF(C1620=\"\",\"\",VLOOKUP(C1620,PARAMETROS!$G$3:$H$21,2,FALSE))","v":""},null,{"$f":"IF(E1620=\"\",\"\",VLOOKUP(E1620,PARAMETROS!$I$3:$J$21,2,FALSE))","v":""},null,null,null,null,null,null,""]
[null,{"$f":"IF(A1621=\"\",\"\",VLOOKUP(A1621,PARAMETROS!$B$3:$C$3,2,FALSE))","v":""},null,{"$f":"IF(C1621=\"\",\"\",VLOOKUP(C1621,PARAMETROS!$G$3:$H$21,2,FALSE))","v":""},null,{"$f":"IF(E1621=\"\",\"\",VLOOKUP(E1621,PARAMETROS!$I$3:$J$21,2,FALSE))","v":""},null,null,null,null,null,null,""]
[null,{"$f":"IF(A1622=\"\",\"\",VLOOKUP(A1622,PARAMETROS!$B$3:$C$3,2,FALSE))","v":""},null,{"$f":"IF(C1622=\"\",\"\",VLOOKUP(C1622,PARAMETROS!$G$3:$H$21,2,FALSE))","v":""},null,{"$f":"IF(E1622=\"\",\"\",VLOOKUP(E1622,PARAMETROS!$I$3:$J$21,2,FALSE))","v":""},null,null,null,null,null,null,""]
[null,{"$f":"IF(A1623=\"\",\"\",VLOOKUP(A1623,PARAMETROS!$B$3:$C$3,2,FALSE))","v":""},null,{"$f":"IF(C1623=\"\",\"\",VLOOKUP(C1623,PARAMETROS!$G$3:$H$21,2,FALSE))","v":""},null,{"$f":"IF(E1623=\"\",\"\",VLOOKUP(E1623,PARAMETROS!$I$3:$J$21,2,FALSE))","v":""},null,null,null,null,null,null,""]
[null,{"$f":"IF(A1624=\"\",\"\",VLOOKUP(A1624,PARAMETROS!$B$3:$C$3,2,FALSE))","v":""},null,{"$f":"IF(C1624=\"\",\"\",VLOOKUP(C1624,PARAMETROS!$G$3:$H$21,2,FALSE))","v":""},null,{"$f":"IF(E1624=\"\",\"\",VLOOKUP(E1624,PARAMETROS!$I$3:$J$21,2,FALSE))","v":""},null,null,null,null,null,null,""]
[null,{"$f":"IF(A1625=\"\",\"\",VLOOKUP(A1625,PARAMETROS!$B$3:$C$3,2,FALSE))","v":""},null,{"$f":"IF(C1625=\"\",\"\",VLOOKUP(C1625,PARAMETROS!$G$3:$H$21,2,FALSE))","v":""},null,{"$f":"IF(E1625=\"\",\"\",VLOOKUP(E1625,PARAMETROS!$I$3:$J$21,2,FALSE))","v":""},null,null,null,null,null,null,""]
[null,{"$f":"IF(A1626=\"\",\"\",VLOOKUP(A1626,PARAMETROS!$B$3:$C$3,2,FALSE))","v":""},null,{"$f":"IF(C1626=\"\",\"\",VLOOKUP(C1626,PARAMETROS!$G$3:$H$21,2,FALSE))","v":""},null,{"$f":"IF(E1626=\"\",\"\",VLOOKUP(E1626,PARAMETROS!$I$3:$J$21,2,FALSE))","v":""},null,null,null,null,null,null,""]
[null,{"$f":"IF(A1627=\"\",\"\",VLOOKUP(A1627,PARAMETROS!$B$3:$C$3,2,FALSE))","v":""},null,{"$f":"IF(C1627=\"\",\"\",VLOOKUP(C1627,PARAMETROS!$G$3:$H$21,2,FALSE))","v":""},null,{"$f":"IF(E1627=\"\",\"\",VLOOKUP(E1627,PARAMETROS!$I$3:$J$21,2,FALSE))","v":""},null,null,null,null,null,null,""]
[null,{"$f":"IF(A1628=\"\",\"\",VLOOKUP(A1628,PARAMETROS!$B$3:$C$3,2,FALSE))","v":""},null,{"$f":"IF(C1628=\"\",\"\",VLOOKUP(C1628,PARAMETROS!$G$3:$H$21,2,FALSE))","v":""},null,{"$f":"IF(E1628=\"\",\"\",VLOOKUP(E1628,PARAMETROS!$I$3:$J$21,2,FALSE))","v":""},null,null,null,null,null,null,""]
[null,{"$f":"IF(A1629=\"\",\"\",VLOOKUP(A1629,PARAMETROS!$B$3:$C$3,2,FALSE))","v":""},null,{"$f":"IF(C1629=\"\",\"\",VLOOKUP(C1629,PARAMETROS!$G$3:$H$21,2,FALSE))","v":""},null,{"$f":"IF(E1629=\"\",\"\",VLOOKUP(E1629,PARAMETROS!$I$3:$J$21,2,FALSE))","v":""},null,null,null,null,null,null,""]
[null,{"$f":"IF(A1630=\"\",\"\",VLOOKUP(A1630,PARAMETROS!$B$3:$C$3,2,FALSE))","v":""},null,{"$f":"IF(C1630=\"\",\"\",VLOOKUP(C1630,PARAMETROS!$G$3:$H$21,2,FALSE))","v":""},null,{"$f":"IF(E1630=\"\",\"\",VLOOKUP(E1630,PARAMETROS!$I$3:$J$21,2,FALSE))","v":""},null,null,null,null,null,null,""]
[null,{"$f":"IF(A1631=\"\",\"\",VLOOKUP(A1631,PARAMETROS!$B$3:$C$3,2,FALSE))","v":""},null,{"$f":"IF(C1631=\"\",\"\",VLOOKUP(C1631,PARAMETROS!$G$3:$H$21,2,FALSE))","v":""},null,{"$f":"IF(E1631=\"\",\"\",VLOOKUP(E1631,PARAMETROS!$I$3:$J$21,2,FALSE))","v":""},null,null,null,null,null,null,""]
[null,{"$f":"IF(A1632=\"\",\"\",VLOOKUP(A1632,PARAMETROS!$B$3:$C$3,2,FALSE))","v":""},null,{"$f":"IF(C1632=\"\",\"\",VLOOKUP(C1632,PARAMETROS!$G$3:$H$21,2,FALSE))","v":""},null,{"$f":"IF(E1632=\"\",\"\",VLOOKUP(E1632,PARAMETROS!$I$3:$J$21,2,FALSE))","v":""},null,null,null,null,null,null,""]
[null,{"$f":"IF(A1633=\"\",\"\",VLOOKUP(A1633,PARAMETROS!$B$3:$C$3,2,FALSE))","v":""},null,{"$f":"IF(C1633=\"\",\"\",VLOOKUP(C1633,PARAMETROS!$G$3:$H$21,2,FALSE))","v":""},null,{"$f":"IF(E1633=\"\",\"\",VLOOKUP(E1633,PARAMETROS!$I$3:$J$21,2,FALSE))","v":""},null,null,null,null,null,null,""]
[null,{"$f":"IF(A1634=\"\",\"\",VLOOKUP(A1634,PARAMETROS!$B$3:$C$3,2,FALSE))","v":""},null,{"$f":"IF(C1634=\"\",\"\",VLOOKUP(C1634,PARAMETROS!$G$3:$H$21,2,FALSE))","v":""},null,{"$f":"IF(E1634=\"\",\"\",VLOOKUP(E1634,PARAMETROS!$I$3:$J$21,2,FALSE))","v":""},null,null,null,null,null,null,""]
[null,{"$f":"IF(A1635=\"\",\"\",VLOOKUP(A1635,PARAMETROS!$B$3:$C$3,2,FALSE))","v":""},null,{"$f":"IF(C1635=\"\",\"\",VLOOKUP(C1635,PARAMETROS!$G$3:$H$21,2,FALSE))","v":""},null,{"$f":"IF(E1635=\"\",\"\",VLOOKUP(E1635,PARAMETROS!$I$3:$J$21,2,FALSE))","v":""},null,null,null,null,null,null,""]
[null,{"$f":"IF(A1636=\"\",\"\",VLOOKUP(A1636,PARAMETROS!$B$3:$C$3,2,FALSE))","v":""},null,{"$f":"IF(C1636=\"\",\"\",VLOOKUP(C1636,PARAMETROS!$G$3:$H$21,2,FALSE))","v":""},null,{"$f":"IF(E1636=\"\",\"\",VLOOKUP(E1636,PARAMETROS!$I$3:$J$21,2,FALSE))","v":""},null,null,null,null,null,null,""]
[null,{"$f":"IF(A1637=\"\",\"\",VLOOKUP(A1637,PARAMETROS!$B$3:$C$3,2,FALSE))","v":""},null,{"$f":"IF(C1637=\"\",\"\",VLOOKUP(C1637,PARAMETROS!$G$3:$H$21,2,FALSE))","v":""},null,{"$f":"IF(E1637=\"\",\"\",VLOOKUP(E1637,PARAMETROS!$I$3:$J$21,2,FALSE))","v":""},null,null,null,null,null,null,""]
[null,{"$f":"IF(A1638=\"\",\"\",VLOOKUP(A1638,PARAMETROS!$B$3:$C$3,2,FALSE))","v":""},null,{"$f":"IF(C1638=\"\",\"\",VLOOKUP(C1638,PARAMETROS!$G$3:$H$21,2,FALSE))","v":""},null,{"$f":"IF(E1638=\"\",\"\",VLOOKUP(E1638,PARAMETROS!$I$3:$J$21,2,FALSE))","v":""},null,null,null,null,null,null,""]
[null,{"$f":"IF(A1639=\"\",\"\",VLOOKUP(A1639,PARAMETROS!$B$3:$C$3,2,FALSE))","v":""},null,{"$f":"IF(C1639=\"\",\"\",VLOOKUP(C1639,PARAMETROS!$G$3:$H$21,2,FALSE))","v":""},null,{"$f":"IF(E1639=\"\",\"\",VLOOKUP(E1639,PARAMETROS!$I$3:$J$21,2,FALSE))","v":""},null,null,null,null,null,null,""]
[null,{"$f":"IF(A1640=\"\",\"\",VLOOKUP(A1640,PARAMETROS!$B$3:$C$3,2,FALSE))","v":""},null,{"$f":"IF(C1640=\"\",\"\",VLOOKUP(C1640,PARAMETROS!$G$3:$H$21,2,FALSE))","v":""},null,{"$f":"IF(E1640=\"\",\"\",VLOOKUP(E1640,PARAMETROS!$I$3:$J$21,2,FALSE))","v":""},null,null,null,null,null,null,""]
[null,{"$f":"IF(A1641=\"\",\"\",VLOOKUP(A1641,PARAMETROS!$B$3:$C$3,2,FALSE))","v":""},null,{"$f":"IF(C1641=\"\",\"\",VLOOKUP(C1641,PARAMETROS!$G$3:$H$21,2,FALSE))","v":""},null,{"$f":"IF(E1641=\"\",\"\",VLOOKUP(E1641,PARAMETROS!$I$3:$J$21,2,FALSE))","v":""},null,null,null,null,null,null,""]
[null,{"$f":"IF(A1642=\"\",\"\",VLOOKUP(A1642,PARAMETROS!$B$3:$C$3,2,FALSE))","v":""},null,{"$f":"IF(C1642=\"\",\"\",VLOOKUP(C1642,PARAMETROS!$G$3:$H$21,2,FALSE))","v":""},null,{"$f":"IF(E1642=\"\",\"\",VLOOKUP(E1642,PARAMETROS!$I$3:$J$21,2,FALSE))","v":""},null,null,null,null,null,null,""]
[null,{"$f":"IF(A1643=\"\",\"\",VLOOKUP(A1643,PARAMETROS!$B$3:$C$3,2,FALSE))","v":""},null,{"$f":"IF(C1643=\"\",\"\",VLOOKUP(C1643,PARAMETROS!$G$3:$H$21,2,FALSE))","v":""},null,{"$f":"IF(E1643=\"\",\"\",VLOOKUP(E1643,PARAMETROS!$I$3:$J$21,2,FALSE))","v":""},null,null,null,null,null,null,""]
[null,{"$f":"IF(A1644=\"\",\"\",VLOOKUP(A1644,PARAMETROS!$B$3:$C$3,2,FALSE))","v":""},null,{"$f":"IF(C1644=\"\",\"\",VLOOKUP(C1644,PARAMETROS!$G$3:$H$21,2,FALSE))","v":""},null,{"$f":"IF(E1644=\"\",\"\",VLOOKUP(E1644,PARAMETROS!$I$3:$J$21,2,FALSE))","v":""},null,null,null,null,null,null,""]
[null,{"$f":"IF(A1645=\"\",\"\",VLOOKUP(A1645,PARAMETROS!$B$3:$C$3,2,FALSE))","v":""},null,{"$f":"IF(C1645=\"\",\"\",VLOOKUP(C1645,PARAMETROS!$G$3:$H$21,2,FALSE))","v":""},null,{"$f":"IF(E1645=\"\",\"\",VLOOKUP(E1645,PARAMETROS!$I$3:$J$21,2,FALSE))","v":""},null,null,null,null,null,null,""]
[null,{"$f":"IF(A1646=\"\",\"\",VLOOKUP(A1646,PARAMETROS!$B$3:$C$3,2,FALSE))","v":""},null,{"$f":"IF(C1646=\"\",\"\",VLOOKUP(C1646,PARAMETROS!$G$3:$H$21,2,FALSE))","v":""},null,{"$f":"IF(E1646=\"\",\"\",VLOOKUP(E1646,PARAMETROS!$I$3:$J$21,2,FALSE))","v":""},null,null,null,null,null,null,""]
[null,{"$f":"IF(A1647=\"\",\"\",VLOOKUP(A1647,PARAMETROS!$B$3:$C$3,2,FALSE))","v":""},null,{"$f":"IF(C1647=\"\",\"\",VLOOKUP(C1647,PARAMETROS!$G$3:$H$21,2,FALSE))","v":""},null,{"$f":"IF(E1647=\"\",\"\",VLOOKUP(E1647,PARAMETROS!$I$3:$J$21,2,FALSE))","v":""},null,null,null,null,null,null,""]
[null,{"$f":"IF(A1648=\"\",\"\",VLOOKUP(A1648,PARAMETROS!$B$3:$C$3,2,FALSE))","v":""},null,{"$f":"IF(C1648=\"\",\"\",VLOOKUP(C1648,PARAMETROS!$G$3:$H$21,2,FALSE))","v":""},null,{"$f":"IF(E1648=\"\",\"\",VLOOKUP(E1648,PARAMETROS!$I$3:$J$21,2,FALSE))","v":""},null,null,null,null,null,null,""]
[null,{"$f":"IF(A1649=\"\",\"\",VLOOKUP(A1649,PARAMETROS!$B$3:$C$3,2,FALSE))","v":""},null,{"$f":"IF(C1649=\"\",\"\",VLOOKUP(C1649,PARAMETROS!$G$3:$H$21,2,FALSE))","v":""},null,{"$f":"IF(E1649=\"\",\"\",VLOOKUP(E1649,PARAMETROS!$I$3:$J$21,2,FALSE))","v":""},null,null,null,null,null,null,""]
[null,{"$f":"IF(A1650=\"\",\"\",VLOOKUP(A1650,PARAMETROS!$B$3:$C$3,2,FALSE))","v":""},null,{"$f":"IF(C1650=\"\",\"\",VLOOKUP(C1650,PARAMETROS!$G$3:$H$21,2,FALSE))","v":""},null,{"$f":"IF(E1650=\"\",\"\",VLOOKUP(E1650,PARAMETROS!$I$3:$J$21,2,FALSE))","v":""},null,null,null,null,null,null,""]
[null,{"$f":"IF(A1651=\"\",\"\",VLOOKUP(A1651,PARAMETROS!$B$3:$C$3,2,FALSE))","v":""},null,{"$f":"IF(C1651=\"\",\"\",VLOOKUP(C1651,PARAMETROS!$G$3:$H$21,2,FALSE))","v":""},null,{"$f":"IF(E1651=\"\",\"\",VLOOKUP(E1651,PARAMETROS!$I$3:$J$21,2,FALSE))","v":""},null,null,null,null,null,null,""]
[null,{"$f":"IF(A1652=\"\",\"\",VLOOKUP(A1652,PARAMETROS!$B$3:$C$3,2,FALSE))","v":""},null,{"$f":"IF(C1652=\"\",\"\",VLOOKUP(C1652,PARAMETROS!$G$3:$H$21,2,FALSE))","v":""},null,{"$f":"IF(E1652=\"\",\"\",VLOOKUP(E1652,PARAMETROS!$I$3:$J$21,2,FALSE))","v":""},null,null,null,null,null,null,""]
[null,{"$f":"IF(A1653=\"\",\"\",VLOOKUP(A1653,PARAMETROS!$B$3:$C$3,2,FALSE))","v":""},null,{"$f":"IF(C1653=\"\",\"\",VLOOKUP(C1653,PARAMETROS!$G$3:$H$21,2,FALSE))","v":""},null,{"$f":"IF(E1653=\"\",\"\",VLOOKUP(E1653,PARAMETROS!$I$3:$J$21,2,FALSE))","v":""},null,null,null,null,null,null,""]
[null,{"$f":"IF(A1654=\"\",\"\",VLOOKUP(A1654,PARAMETROS!$B$3:$C$3,2,FALSE))","v":""},null,{"$f":"IF(C1654=\"\",\"\",VLOOKUP(C1654,PARAMETROS!$G$3:$H$21,2,FALSE))","v":""},null,{"$f":"IF(E1654=\"\",\"\",VLOOKUP(E1654,PARAMETROS!$I$3:$J$21,2,FALSE))","v":""},null,null,null,null,null,null,""]
[null,{"$f":"IF(A1655=\"\",\"\",VLOOKUP(A1655,PARAMETROS!$B$3:$C$3,2,FALSE))","v":""},null,{"$f":"IF(C1655=\"\",\"\",VLOOKUP(C1655,PARAMETROS!$G$3:$H$21,2,FALSE))","v":""},null,{"$f":"IF(E1655=\"\",\"\",VLOOKUP(E1655,PARAMETROS!$I$3:$J$21,2,FALSE))","v":""},null,null,null,null,null,null,""]
[null,{"$f":"IF(A1656=\"\",\"\",VLOOKUP(A1656,PARAMETROS!$B$3:$C$3,2,FALSE))","v":""},null,{"$f":"IF(C1656=\"\",\"\",VLOOKUP(C1656,PARAMETROS!$G$3:$H$21,2,FALSE))","v":""},null,{"$f":"IF(E1656=\"\",\"\",VLOOKUP(E1656,PARAMETROS!$I$3:$J$21,2,FALSE))","v":""},null,null,null,null,null,null,""]
[null,{"$f":"IF(A1657=\"\",\"\",VLOOKUP(A1657,PARAMETROS!$B$3:$C$3,2,FALSE))","v":""},null,{"$f":"IF(C1657=\"\",\"\",VLOOKUP(C1657,PARAMETROS!$G$3:$H$21,2,FALSE))","v":""},null,{"$f":"IF(E1657=\"\",\"\",VLOOKUP(E1657,PARAMETROS!$I$3:$J$21,2,FALSE))","v":""},null,null,null,null,null,null,""]
[null,{"$f":"IF(A1658=\"\",\"\",VLOOKUP(A1658,PARAMETROS!$B$3:$C$3,2,FALSE))","v":""},null,{"$f":"IF(C1658=\"\",\"\",VLOOKUP(C1658,PARAMETROS!$G$3:$H$21,2,FALSE))","v":""},null,{"$f":"IF(E1658=\"\",\"\",VLOOKUP(E1658,PARAMETROS!$I$3:$J$21,2,FALSE))","v":""},null,null,null,null,null,null,""]
[null,{"$f":"IF(A1659=\"\",\"\",VLOOKUP(A1659,PARAMETROS!$B$3:$C$3,2,FALSE))","v":""},null,{"$f":"IF(C1659=\"\",\"\",VLOOKUP(C1659,PARAMETROS!$G$3:$H$21,2,FALSE))","v":""},null,{"$f":"IF(E1659=\"\",\"\",VLOOKUP(E1659,PARAMETROS!$I$3:$J$21,2,FALSE))","v":""},null,null,null,null,null,null,""]
[null,{"$f":"IF(A1660=\"\",\"\",VLOOKUP(A1660,PARAMETROS!$B$3:$C$3,2,FALSE))","v":""},null,{"$f":"IF(C1660=\"\",\"\",VLOOKUP(C1660,PARAMETROS!$G$3:$H$21,2,FALSE))","v":""},null,{"$f":"IF(E1660=\"\",\"\",VLOOKUP(E1660,PARAMETROS!$I$3:$J$21,2,FALSE))","v":""},null,null,null,null,null,null,""]
[null,{"$f":"IF(A1661=\"\",\"\",VLOOKUP(A1661,PARAMETROS!$B$3:$C$3,2,FALSE))","v":""},null,{"$f":"IF(C1661=\"\",\"\",VLOOKUP(C1661,PARAMETROS!$G$3:$H$21,2,FALSE))","v":""},null,{"$f":"IF(E1661=\"\",\"\",VLOOKUP(E1661,PARAMETROS!$I$3:$J$21,2,FALSE))","v":""},null,null,null,null,null,null,""]
[null,{"$f":"IF(A1662=\"\",\"\",VLOOKUP(A1662,PARAMETROS!$B$3:$C$3,2,FALSE))","v":""},null,{"$f":"IF(C1662=\"\",\"\",VLOOKUP(C1662,PARAMETROS!$G$3:$H$21,2,FALSE))","v":""},null,{"$f":"IF(E1662=\"\",\"\",VLOOKUP(E1662,PARAMETROS!$I$3:$J$21,2,FALSE))","v":""},null,null,null,null,null,null,""]
[null,{"$f":"IF(A1663=\"\",\"\",VLOOKUP(A1663,PARAMETROS!$B$3:$C$3,2,FALSE))","v":""},null,{"$f":"IF(C1663=\"\",\"\",VLOOKUP(C1663,PARAMETROS!$G$3:$H$21,2,FALSE))","v":""},null,{"$f":"IF(E1663=\"\",\"\",VLOOKUP(E1663,PARAMETROS!$I$3:$J$21,2,FALSE))","v":""},null,null,null,null,null,null,""]
[null,{"$f":"IF(A1664=\"\",\"\",VLOOKUP(A1664,PARAMETROS!$B$3:$C$3,2,FALSE))","v":""},null,{"$f":"IF(C1664=\"\",\"\",VLOOKUP(C1664,PARAMETROS!$G$3:$H$21,2,FALSE))","v":""},null,{"$f":"IF(E1664=\"\",\"\",VLOOKUP(E1664,PARAMETROS!$I$3:$J$21,2,FALSE))","v":""},null,null,null,null,null,null,""]
[null,{"$f":"IF(A1665=\"\",\"\",VLOOKUP(A1665,PARAMETROS!$B$3:$C$3,2,FALSE))","v":""},null,{"$f":"IF(C1665=\"\",\"\",VLOOKUP(C1665,PARAMETROS!$G$3:$H$21,2,FALSE))","v":""},null,{"$f":"IF(E1665=\"\",\"\",VLOOKUP(E1665,PARAMETROS!$I$3:$J$21,2,FALSE))","v":""},null,null,null,null,null,null,""]
[null,{"$f":"IF(A1666=\"\",\"\",VLOOKUP(A1666,PARAMETROS!$B$3:$C$3,2,FALSE))","v":""},null,{"$f":"IF(C1666=\"\",\"\",VLOOKUP(C1666,PARAMETROS!$G$3:$H$21,2,FALSE))","v":""},null,{"$f":"IF(E1666=\"\",\"\",VLOOKUP(E1666,PARAMETROS!$I$3:$J$21,2,FALSE))","v":""},null,null,null,null,null,null,""]
[null,{"$f":"IF(A1667=\"\",\"\",VLOOKUP(A1667,PARAMETROS!$B$3:$C$3,2,FALSE))","v":""},null,{"$f":"IF(C1667=\"\",\"\",VLOOKUP(C1667,PARAMETROS!$G$3:$H$21,2,FALSE))","v":""},null,{"$f":"IF(E1667=\"\",\"\",VLOOKUP(E1667,PARAMETROS!$I$3:$J$21,2,FALSE))","v":""},null,null,null,null,null,null,""]
[null,{"$f":"IF(A1668=\"\",\"\",VLOOKUP(A1668,PARAMETROS!$B$3:$C$3,2,FALSE))","v":""},null,{"$f":"IF(C1668=\"\",\"\",VLOOKUP(C1668,PARAMETROS!$G$3:$H$21,2,FALSE))","v":""},null,{"$f":"IF(E1668=\"\",\"\",VLOOKUP(E1668,PARAMETROS!$I$3:$J$21,2,FALSE))","v":""},null,null,null,null,null,null,""]
[null,{"$f":"IF(A1669=\"\",\"\",VLOOKUP(A1669,PARAMETROS!$B$3:$C$3,2,FALSE))","v":""},null,{"$f":"IF(C1669=\"\",\"\",VLOOKUP(C1669,PARAMETROS!$G$3:$H$21,2,FALSE))","v":""},null,{"$f":"IF(E1669=\"\",\"\",VLOOKUP(E1669,PARAMETROS!$I$3:$J$21,2,FALSE))","v":""},null,null,null,null,null,null,""]
[null,{"$f":"IF(A1670=\"\",\"\",VLOOKUP(A1670,PARAMETROS!$B$3:$C$3,2,FALSE))","v":""},null,{"$f":"IF(C1670=\"\",\"\",VLOOKUP(C1670,PARAMETROS!$G$3:$H$21,2,FALSE))","v":""},null,{"$f":"IF(E1670=\"\",\"\",VLOOKUP(E1670,PARAMETROS!$I$3:$J$21,2,FALSE))","v":""},null,null,null,null,null,null,""]
[null,{"$f":"IF(A1671=\"\",\"\",VLOOKUP(A1671,PARAMETROS!$B$3:$C$3,2,FALSE))","v":""},null,{"$f":"IF(C1671=\"\",\"\",VLOOKUP(C1671,PARAMETROS!$G$3:$H$21,2,FALSE))","v":""},null,{"$f":"IF(E1671=\"\",\"\",VLOOKUP(E1671,PARAMETROS!$I$3:$J$21,2,FALSE))","v":""},null,null,null,null,null,null,""]
[null,{"$f":"IF(A1672=\"\",\"\",VLOOKUP(A1672,PARAMETROS!$B$3:$C$3,2,FALSE))","v":""},null,{"$f":"IF(C1672=\"\",\"\",VLOOKUP(C1672,PARAMETROS!$G$3:$H$21,2,FALSE))","v":""},null,{"$f":"IF(E1672=\"\",\"\",VLOOKUP(E1672,PARAMETROS!$I$3:$J$21,2,FALSE))","v":""},null,null,null,null,null,null,""]
[null,{"$f":"IF(A1673=\"\",\"\",VLOOKUP(A1673,PARAMETROS!$B$3:$C$3,2,FALSE))","v":""},null,{"$f":"IF(C1673=\"\",\"\",VLOOKUP(C1673,PARAMETROS!$G$3:$H$21,2,FALSE))","v":""},null,{"$f":"IF(E1673=\"\",\"\",VLOOKUP(E1673,PARAMETROS!$I$3:$J$21,2,FALSE))","v":""},null,null,null,null,null,null,""]
[null,{"$f":"IF(A1674=\"\",\"\",VLOOKUP(A1674,PARAMETROS!$B$3:$C$3,2,FALSE))","v":""},null,{"$f":"IF(C1674=\"\",\"\",VLOOKUP(C1674,PARAMETROS!$G$3:$H$21,2,FALSE))","v":""},null,{"$f":"IF(E1674=\"\",\"\",VLOOKUP(E1674,PARAMETROS!$I$3:$J$21,2,FALSE))","v":""},null,null,null,null,null,null,""]
[null,{"$f":"IF(A1675=\"\",\"\",VLOOKUP(A1675,PARAMETROS!$B$3:$C$3,2,FALSE))","v":""},null,{"$f":"IF(C1675=\"\",\"\",VLOOKUP(C1675,PARAMETROS!$G$3:$H$21,2,FALSE))","v":""},null,{"$f":"IF(E1675=\"\",\"\",VLOOKUP(E1675,PARAMETROS!$I$3:$J$21,2,FALSE))","v":""},null,null,null,null,null,null,""]
[null,{"$f":"IF(A1676=\"\",\"\",VLOOKUP(A1676,PARAMETROS!$B$3:$C$3,2,FALSE))","v":""},null,{"$f":"IF(C1676=\"\",\"\",VLOOKUP(C1676,PARAMETROS!$G$3:$H$21,2,FALSE))","v":""},null,{"$f":"IF(E1676=\"\",\"\",VLOOKUP(E1676,PARAMETROS!$I$3:$J$21,2,FALSE))","v":""},null,null,null,null,null,null,""]
[null,{"$f":"IF(A1677=\"\",\"\",VLOOKUP(A1677,PARAMETROS!$B$3:$C$3,2,FALSE))","v":""},null,{"$f":"IF(C1677=\"\",\"\",VLOOKUP(C1677,PARAMETROS!$G$3:$H$21,2,FALSE))","v":""},null,{"$f":"IF(E1677=\"\",\"\",VLOOKUP(E1677,PARAMETROS!$I$3:$J$21,2,FALSE))","v":""},null,null,null,null,null,null,""]
[null,{"$f":"IF(A1678=\"\",\"\",VLOOKUP(A1678,PARAMETROS!$B$3:$C$3,2,FALSE))","v":""},null,{"$f":"IF(C1678=\"\",\"\",VLOOKUP(C1678,PARAMETROS!$G$3:$H$21,2,FALSE))","v":""},null,{"$f":"IF(E1678=\"\",\"\",VLOOKUP(E1678,PARAMETROS!$I$3:$J$21,2,FALSE))","v":""},null,null,null,null,null,null,""]
[null,{"$f":"IF(A1679=\"\",\"\",VLOOKUP(A1679,PARAMETROS!$B$3:$C$3,2,FALSE))","v":""},null,{"$f":"IF(C1679=\"\",\"\",VLOOKUP(C1679,PARAMETROS!$G$3:$H$21,2,FALSE))","v":""},null,{"$f":"IF(E1679=\"\",\"\",VLOOKUP(E1679,PARAMETROS!$I$3:$J$21,2,FALSE))","v":""},null,null,null,null,null,null,{"$f":"IF(L1679=\"\", \"\", L1679)","v":""}]
[null,{"$f":"IF(A1680=\"\",\"\",VLOOKUP(A1680,PARAMETROS!$B$3:$C$3,2,FALSE))","v":""},null,{"$f":"IF(C1680=\"\",\"\",VLOOKUP(C1680,PARAMETROS!$G$3:$H$21,2,FALSE))","v":""},null,{"$f":"IF(E1680=\"\",\"\",VLOOKUP(E1680,PARAMETROS!$I$3:$J$21,2,FALSE))","v":""},null,null,null,null,null,null,""]
[null,{"$f":"IF(A1681=\"\",\"\",VLOOKUP(A1681,PARAMETROS!$B$3:$C$3,2,FALSE))","v":""},null,{"$f":"IF(C1681=\"\",\"\",VLOOKUP(C1681,PARAMETROS!$G$3:$H$21,2,FALSE))","v":""},null,{"$f":"IF(E1681=\"\",\"\",VLOOKUP(E1681,PARAMETROS!$I$3:$J$21,2,FALSE))","v":""},null,null,null,null,null,null,""]
[null,{"$f":"IF(A1682=\"\",\"\",VLOOKUP(A1682,PARAMETROS!$B$3:$C$3,2,FALSE))","v":""},null,{"$f":"IF(C1682=\"\",\"\",VLOOKUP(C1682,PARAMETROS!$G$3:$H$21,2,FALSE))","v":""},null,{"$f":"IF(E1682=\"\",\"\",VLOOKUP(E1682,PARAMETROS!$I$3:$J$21,2,FALSE))","v":""},null,null,null,null,null,null,""]
[null,{"$f":"IF(A1683=\"\",\"\",VLOOKUP(A1683,PARAMETROS!$B$3:$C$3,2,FALSE))","v":""},null,{"$f":"IF(C1683=\"\",\"\",VLOOKUP(C1683,PARAMETROS!$G$3:$H$21,2,FALSE))","v":""},null,{"$f":"IF(E1683=\"\",\"\",VLOOKUP(E1683,PARAMETROS!$I$3:$J$21,2,FALSE))","v":""},null,null,null,null,null,null,""]
[null,{"$f":"IF(A1684=\"\",\"\",VLOOKUP(A1684,PARAMETROS!$B$3:$C$3,2,FALSE))","v":""},null,{"$f":"IF(C1684=\"\",\"\",VLOOKUP(C1684,PARAMETROS!$G$3:$H$21,2,FALSE))","v":""},null,{"$f":"IF(E1684=\"\",\"\",VLOOKUP(E1684,PARAMETROS!$I$3:$J$21,2,FALSE))","v":""},null,null,null,null,null,null,""]
[null,{"$f":"IF(A1685=\"\",\"\",VLOOKUP(A1685,PARAMETROS!$B$3:$C$3,2,FALSE))","v":""},null,{"$f":"IF(C1685=\"\",\"\",VLOOKUP(C1685,PARAMETROS!$G$3:$H$21,2,FALSE))","v":""},null,{"$f":"IF(E1685=\"\",\"\",VLOOKUP(E1685,PARAMETROS!$I$3:$J$21,2,FALSE))","v":""},null,null,null,null,null,null,""]
[null,{"$f":"IF(A1686=\"\",\"\",VLOOKUP(A1686,PARAMETROS!$B$3:$C$3,2,FALSE))","v":""},null,{"$f":"IF(C1686=\"\",\"\",VLOOKUP(C1686,PARAMETROS!$G$3:$H$21,2,FALSE))","v":""},null,{"$f":"IF(E1686=\"\",\"\",VLOOKUP(E1686,PARAMETROS!$I$3:$J$21,2,FALSE))","v":""},null,null,null,null,null,null,""]
[null,{"$f":"IF(A1687=\"\",\"\",VLOOKUP(A1687,PARAMETROS!$B$3:$C$3,2,FALSE))","v":""},null,{"$f":"IF(C1687=\"\",\"\",VLOOKUP(C1687,PARAMETROS!$G$3:$H$21,2,FALSE))","v":""},null,{"$f":"IF(E1687=\"\",\"\",VLOOKUP(E1687,PARAMETROS!$I$3:$J$21,2,FALSE))","v":""},null,null,null,null,null,null,""]
[null,{"$f":"IF(A1688=\"\",\"\",VLOOKUP(A1688,PARAMETROS!$B$3:$C$3,2,FALSE))","v":""},null,{"$f":"IF(C1688=\"\",\"\",VLOOKUP(C1688,PARAMETROS!$G$3:$H$21,2,FALSE))","v":""},null,{"$f":"IF(E1688=\"\",\"\",VLOOKUP(E1688,PARAMETROS!$I$3:$J$21,2,FALSE))","v":""},null,null,null,null,null,null,""]
[null,{"$f":"IF(A1689=\"\",\"\",VLOOKUP(A1689,PARAMETROS!$B$3:$C$3,2,FALSE))","v":""},null,{"$f":"IF(C1689=\"\",\"\",VLOOKUP(C1689,PARAMETROS!$G$3:$H$21,2,FALSE))","v":""},null,{"$f":"IF(E1689=\"\",\"\",VLOOKUP(E1689,PARAMETROS!$I$3:$J$21,2,FALSE))","v":""},null,null,null,null,null,null,""]
[null,{"$f":"IF(A1690=\"\",\"\",VLOOKUP(A1690,PARAMETROS!$B$3:$C$3,2,FALSE))","v":""},null,{"$f":"IF(C1690=\"\",\"\",VLOOKUP(C1690,PARAMETROS!$G$3:$H$21,2,FALSE))","v":""},null,{"$f":"IF(E1690=\"\",\"\",VLOOKUP(E1690,PARAMETROS!$I$3:$J$21,2,FALSE))","v":""},null,null,null,null,null,null,""]
[null,{"$f":"IF(A1691=\"\",\"\",VLOOKUP(A1691,PARAMETROS!$B$3:$C$3,2,FALSE))","v":""},null,{"$f":"IF(C1691=\"\",\"\",VLOOKUP(C1691,PARAMETROS!$G$3:$H$21,2,FALSE))","v":""},null,{"$f":"IF(E1691=\"\",\"\",VLOOKUP(E1691,PARAMETROS!$I$3:$J$21,2,FALSE))","v":""},null,null,null,null,null,null,""]
[null,{"$f":"IF(A1692=\"\",\"\",VLOOKUP(A1692,PARAMETROS!$B$3:$C$3,2,FALSE))","v":""},null,{"$f":"IF(C1692=\"\",\"\",VLOOKUP(C1692,PARAMETROS!$G$3:$H$21,2,FALSE))","v":""},null,{"$f":"IF(E1692=\"\",\"\",VLOOKUP(E1692,PARAMETROS!$I$3:$J$21,2,FALSE))","v":""},null,null,null,null,null,null,""]
[null,{"$f":"IF(A1693=\"\",\"\",VLOOKUP(A1693,PARAMETROS!$B$3:$C$3,2,FALSE))","v":""},null,{"$f":"IF(C1693=\"\",\"\",VLOOKUP(C1693,PARAMETROS!$G$3:$H$21,2,FALSE))","v":""},null,{"$f":"IF(E1693=\"\",\"\",VLOOKUP(E1693,PARAMETROS!$I$3:$J$21,2,FALSE))","v":""},null,null,null,null,null,null,""]
[null,{"$f":"IF(A1694=\"\",\"\",VLOOKUP(A1694,PARAMETROS!$B$3:$C$3,2,FALSE))","v":""},null,{"$f":"IF(C1694=\"\",\"\",VLOOKUP(C1694,PARAMETROS!$G$3:$H$21,2,FALSE))","v":""},null,{"$f":"IF(E1694=\"\",\"\",VLOOKUP(E1694,PARAMETROS!$I$3:$J$21,2,FALSE))","v":""},null,null,null,null,null,null,""]
[null,{"$f":"IF(A1695=\"\",\"\",VLOOKUP(A1695,PARAMETROS!$B$3:$C$3,2,FALSE))","v":""},null,{"$f":"IF(C1695=\"\",\"\",VLOOKUP(C1695,PARAMETROS!$G$3:$H$21,2,FALSE))","v":""},null,{"$f":"IF(E1695=\"\",\"\",VLOOKUP(E1695,PARAMETROS!$I$3:$J$21,2,FALSE))","v":""},null,null,null,null,null,null,""]
[null,{"$f":"IF(A1696=\"\",\"\",VLOOKUP(A1696,PARAMETROS!$B$3:$C$3,2,FALSE))","v":""},null,{"$f":"IF(C1696=\"\",\"\",VLOOKUP(C1696,PARAMETROS!$G$3:$H$21,2,FALSE))","v":""},null,{"$f":"IF(E1696=\"\",\"\",VLOOKUP(E1696,PARAMETROS!$I$3:$J$21,2,FALSE))","v":""},null,null,null,null,null,null,""]
[null,{"$f":"IF(A1697=\"\",\"\",VLOOKUP(A1697,PARAMETROS!$B$3:$C$3,2,FALSE))","v":""},null,{"$f":"IF(C1697=\"\",\"\",VLOOKUP(C1697,PARAMETROS!$G$3:$H$21,2,FALSE))","v":""},null,{"$f":"IF(E1697=\"\",\"\",VLOOKUP(E1697,PARAMETROS!$I$3:$J$21,2,FALSE))","v":""},null,null,null,null,null,null,""]
[null,{"$f":"IF(A1698=\"\",\"\",VLOOKUP(A1698,PARAMETROS!$B$3:$C$3,2,FALSE))","v":""},null,{"$f":"IF(C1698=\"\",\"\",VLOOKUP(C1698,PARAMETROS!$G$3:$H$21,2,FALSE))","v":""},null,{"$f":"IF(E1698=\"\",\"\",VLOOKUP(E1698,PARAMETROS!$I$3:$J$21,2,FALSE))","v":""},null,null,null,null,null,null,""]
[null,{"$f":"IF(A1699=\"\",\"\",VLOOKUP(A1699,PARAMETROS!$B$3:$C$3,2,FALSE))","v":""},null,{"$f":"IF(C1699=\"\",\"\",VLOOKUP(C1699,PARAMETROS!$G$3:$H$21,2,FALSE))","v":""},null,{"$f":"IF(E1699=\"\",\"\",VLOOKUP(E1699,PARAMETROS!$I$3:$J$21,2,FALSE))","v":""},null,null,null,null,null,null,""]
[null,{"$f":"IF(A1700=\"\",\"\",VLOOKUP(A1700,PARAMETROS!$B$3:$C$3,2,FALSE))","v":""},null,{"$f":"IF(C1700=\"\",\"\",VLOOKUP(C1700,PARAMETROS!$G$3:$H$21,2,FALSE))","v":""},null,{"$f":"IF(E1700=\"\",\"\",VLOOKUP(E1700,PARAMETROS!$I$3:$J$21,2,FALSE))","v":""},null,null,null,null,null,null,""]
[null,{"$f":"IF(A1701=\"\",\"\",VLOOKUP(A1701,PARAMETROS!$B$3:$C$3,2,FALSE))","v":""},null,{"$f":"IF(C1701=\"\",\"\",VLOOKUP(C1701,PARAMETROS!$G$3:$H$21,2,FALSE))","v":""},null,{"$f":"IF(E1701=\"\",\"\",VLOOKUP(E1701,PARAMETROS!$I$3:$J$21,2,FALSE))","v":""},null,null,null,null,null,null,""]
[null,{"$f":"IF(A1702=\"\",\"\",VLOOKUP(A1702,PARAMETROS!$B$3:$C$3,2,FALSE))","v":""},null,{"$f":"IF(C1702=\"\",\"\",VLOOKUP(C1702,PARAMETROS!$G$3:$H$21,2,FALSE))","v":""},null,{"$f":"IF(E1702=\"\",\"\",VLOOKUP(E1702,PARAMETROS!$I$3:$J$21,2,FALSE))","v":""},null,null,null,null,null,null,""]
[null,{"$f":"IF(A1703=\"\",\"\",VLOOKUP(A1703,PARAMETROS!$B$3:$C$3,2,FALSE))","v":""},null,{"$f":"IF(C1703=\"\",\"\",VLOOKUP(C1703,PARAMETROS!$G$3:$H$21,2,FALSE))","v":""},null,{"$f":"IF(E1703=\"\",\"\",VLOOKUP(E1703,PARAMETROS!$I$3:$J$21,2,FALSE))","v":""},null,null,null,null,null,null,""]
[null,{"$f":"IF(A1704=\"\",\"\",VLOOKUP(A1704,PARAMETROS!$B$3:$C$3,2,FALSE))","v":""},null,{"$f":"IF(C1704=\"\",\"\",VLOOKUP(C1704,PARAMETROS!$G$3:$H$21,2,FALSE))","v":""},null,{"$f":"IF(E1704=\"\",\"\",VLOOKUP(E1704,PARAMETROS!$I$3:$J$21,2,FALSE))","v":""},null,null,null,null,null,null,""]
[null,{"$f":"IF(A1705=\"\",\"\",VLOOKUP(A1705,PARAMETROS!$B$3:$C$3,2,FALSE))","v":""},null,{"$f":"IF(C1705=\"\",\"\",VLOOKUP(C1705,PARAMETROS!$G$3:$H$21,2,FALSE))","v":""},null,{"$f":"IF(E1705=\"\",\"\",VLOOKUP(E1705,PARAMETROS!$I$3:$J$21,2,FALSE))","v":""},null,null,null,null,null,null,""]
[null,{"$f":"IF(A1706=\"\",\"\",VLOOKUP(A1706,PARAMETROS!$B$3:$C$3,2,FALSE))","v":""},null,{"$f":"IF(C1706=\"\",\"\",VLOOKUP(C1706,PARAMETROS!$G$3:$H$21,2,FALSE))","v":""},null,{"$f":"IF(E1706=\"\",\"\",VLOOKUP(E1706,PARAMETROS!$I$3:$J$21,2,FALSE))","v":""},null,null,null,null,null,null,""]
[null,{"$f":"IF(A1707=\"\",\"\",VLOOKUP(A1707,PARAMETROS!$B$3:$C$3,2,FALSE))","v":""},null,{"$f":"IF(C1707=\"\",\"\",VLOOKUP(C1707,PARAMETROS!$G$3:$H$21,2,FALSE))","v":""},null,{"$f":"IF(E1707=\"\",\"\",VLOOKUP(E1707,PARAMETROS!$I$3:$J$21,2,FALSE))","v":""},null,null,null,null,null,null,""]
[null,{"$f":"IF(A1708=\"\",\"\",VLOOKUP(A1708,PARAMETROS!$B$3:$C$3,2,FALSE))","v":""},null,{"$f":"IF(C1708=\"\",\"\",VLOOKUP(C1708,PARAMETROS!$G$3:$H$21,2,FALSE))","v":""},null,{"$f":"IF(E1708=\"\",\"\",VLOOKUP(E1708,PARAMETROS!$I$3:$J$21,2,FALSE))","v":""},null,null,null,null,null,null,""]
[null,{"$f":"IF(A1709=\"\",\"\",VLOOKUP(A1709,PARAMETROS!$B$3:$C$3,2,FALSE))","v":""},null,{"$f":"IF(C1709=\"\",\"\",VLOOKUP(C1709,PARAMETROS!$G$3:$H$21,2,FALSE))","v":""},null,{"$f":"IF(E1709=\"\",\"\",VLOOKUP(E1709,PARAMETROS!$I$3:$J$21,2,FALSE))","v":""},null,null,null,null,null,null,""]
[null,{"$f":"IF(A1710=\"\",\"\",VLOOKUP(A1710,PARAMETROS!$B$3:$C$3,2,FALSE))","v":""},null,{"$f":"IF(C1710=\"\",\"\",VLOOKUP(C1710,PARAMETROS!$G$3:$H$21,2,FALSE))","v":""},null,{"$f":"IF(E1710=\"\",\"\",VLOOKUP(E1710,PARAMETROS!$I$3:$J$21,2,FALSE))","v":""},null,null,null,null,null,null,""]
[null,{"$f":"IF(A1711=\"\",\"\",VLOOKUP(A1711,PARAMETROS!$B$3:$C$3,2,FALSE))","v":""},null,{"$f":"IF(C1711=\"\",\"\",VLOOKUP(C1711,PARAMETROS!$G$3:$H$21,2,FALSE))","v":""},null,{"$f":"IF(E1711=\"\",\"\",VLOOKUP(E1711,PARAMETROS!$I$3:$J$21,2,FALSE))","v":""},null,null,null,null,null,null,""]
[null,{"$f":"IF(A1712=\"\",\"\",VLOOKUP(A1712,PARAMETROS!$B$3:$C$3,2,FALSE))","v":""},null,{"$f":"IF(C1712=\"\",\"\",VLOOKUP(C1712,PARAMETROS!$G$3:$H$21,2,FALSE))","v":""},null,{"$f":"IF(E1712=\"\",\"\",VLOOKUP(E1712,PARAMETROS!$I$3:$J$21,2,FALSE))","v":""},null,null,null,null,null,null,""]
[null,{"$f":"IF(A1713=\"\",\"\",VLOOKUP(A1713,PARAMETROS!$B$3:$C$3,2,FALSE))","v":""},null,{"$f":"IF(C1713=\"\",\"\",VLOOKUP(C1713,PARAMETROS!$G$3:$H$21,2,FALSE))","v":""},null,{"$f":"IF(E1713=\"\",\"\",VLOOKUP(E1713,PARAMETROS!$I$3:$J$21,2,FALSE))","v":""},null,null,null,null,null,null,""]
[null,{"$f":"IF(A1714=\"\",\"\",VLOOKUP(A1714,PARAMETROS!$B$3:$C$3,2,FALSE))","v":""},null,{"$f":"IF(C1714=\"\",\"\",VLOOKUP(C1714,PARAMETROS!$G$3:$H$21,2,FALSE))","v":""},null,{"$f":"IF(E1714=\"\",\"\",VLOOKUP(E1714,PARAMETROS!$I$3:$J$21,2,FALSE))","v":""},null,null,null,null,null,null,""]
[null,{"$f":"IF(A1715=\"\",\"\",VLOOKUP(A1715,PARAMETROS!$B$3:$C$3,2,FALSE))","v":""},null,{"$f":"IF(C1715=\"\",\"\",VLOOKUP(C1715,PARAMETROS!$G$3:$H$21,2,FALSE))","v":""},null,{"$f":"IF(E1715=\"\",\"\",VLOOKUP(E1715,PARAMETROS!$I$3:$J$21,2,FALSE))","v":""},null,null,null,null,null,null,""]
[null,{"$f":"IF(A1716=\"\",\"\",VLOOKUP(A1716,PARAMETROS!$B$3:$C$3,2,FALSE))","v":""},null,{"$f":"IF(C1716=\"\",\"\",VLOOKUP(C1716,PARAMETROS!$G$3:$H$21,2,FALSE))","v":""},null,{"$f":"IF(E1716=\"\",\"\",VLOOKUP(E1716,PARAMETROS!$I$3:$J$21,2,FALSE))","v":""},null,null,null,null,null,null,""]
[null,{"$f":"IF(A1717=\"\",\"\",VLOOKUP(A1717,PARAMETROS!$B$3:$C$3,2,FALSE))","v":""},null,{"$f":"IF(C1717=\"\",\"\",VLOOKUP(C1717,PARAMETROS!$G$3:$H$21,2,FALSE))","v":""},null,{"$f":"IF(E1717=\"\",\"\",VLOOKUP(E1717,PARAMETROS!$I$3:$J$21,2,FALSE))","v":""},null,null,null,null,null,null,""]
[null,{"$f":"IF(A1718=\"\",\"\",VLOOKUP(A1718,PARAMETROS!$B$3:$C$3,2,FALSE))","v":""},null,{"$f":"IF(C1718=\"\",\"\",VLOOKUP(C1718,PARAMETROS!$G$3:$H$21,2,FALSE))","v":""},null,{"$f":"IF(E1718=\"\",\"\",VLOOKUP(E1718,PARAMETROS!$I$3:$J$21,2,FALSE))","v":""},null,null,null,null,null,null,""]
[null,{"$f":"IF(A1719=\"\",\"\",VLOOKUP(A1719,PARAMETROS!$B$3:$C$3,2,FALSE))","v":""},null,{"$f":"IF(C1719=\"\",\"\",VLOOKUP(C1719,PARAMETROS!$G$3:$H$21,2,FALSE))","v":""},null,{"$f":"IF(E1719=\"\",\"\",VLOOKUP(E1719,PARAMETROS!$I$3:$J$21,2,FALSE))","v":""},null,null,null,null,null,null,""]
[null,{"$f":"IF(A1720=\"\",\"\",VLOOKUP(A1720,PARAMETROS!$B$3:$C$3,2,FALSE))","v":""},null,{"$f":"IF(C1720=\"\",\"\",VLOOKUP(C1720,PARAMETROS!$G$3:$H$21,2,FALSE))","v":""},null,{"$f":"IF(E1720=\"\",\"\",VLOOKUP(E1720,PARAMETROS!$I$3:$J$21,2,FALSE))","v":""},null,null,null,null,null,null,""]
[null,{"$f":"IF(A1721=\"\",\"\",VLOOKUP(A1721,PARAMETROS!$B$3:$C$3,2,FALSE))","v":""},null,{"$f":"IF(C1721=\"\",\"\",VLOOKUP(C1721,PARAMETROS!$G$3:$H$21,2,FALSE))","v":""},null,{"$f":"IF(E1721=\"\",\"\",VLOOKUP(E1721,PARAMETROS!$I$3:$J$21,2,FALSE))","v":""},null,null,null,null,null,null,""]
[null,{"$f":"IF(A1722=\"\",\"\",VLOOKUP(A1722,PARAMETROS!$B$3:$C$3,2,FALSE))","v":""},null,{"$f":"IF(C1722=\"\",\"\",VLOOKUP(C1722,PARAMETROS!$G$3:$H$21,2,FALSE))","v":""},null,{"$f":"IF(E1722=\"\",\"\",VLOOKUP(E1722,PARAMETROS!$I$3:$J$21,2,FALSE))","v":""},null,null,null,null,null,null,""]
[null,{"$f":"IF(A1723=\"\",\"\",VLOOKUP(A1723,PARAMETROS!$B$3:$C$3,2,FALSE))","v":""},null,{"$f":"IF(C1723=\"\",\"\",VLOOKUP(C1723,PARAMETROS!$G$3:$H$21,2,FALSE))","v":""},null,{"$f":"IF(E1723=\"\",\"\",VLOOKUP(E1723,PARAMETROS!$I$3:$J$21,2,FALSE))","v":""},null,null,null,null,null,null,""]
[null,{"$f":"IF(A1724=\"\",\"\",VLOOKUP(A1724,PARAMETROS!$B$3:$C$3,2,FALSE))","v":""},null,{"$f":"IF(C1724=\"\",\"\",VLOOKUP(C1724,PARAMETROS!$G$3:$H$21,2,FALSE))","v":""},null,{"$f":"IF(E1724=\"\",\"\",VLOOKUP(E1724,PARAMETROS!$I$3:$J$21,2,FALSE))","v":""},null,null,null,null,null,null,""]
[null,{"$f":"IF(A1725=\"\",\"\",VLOOKUP(A1725,PARAMETROS!$B$3:$C$3,2,FALSE))","v":""},null,{"$f":"IF(C1725=\"\",\"\",VLOOKUP(C1725,PARAMETROS!$G$3:$H$21,2,FALSE))","v":""},null,{"$f":"IF(E1725=\"\",\"\",VLOOKUP(E1725,PARAMETROS!$I$3:$J$21,2,FALSE))","v":""},null,null,null,null,null,null,""]
[null,{"$f":"IF(A1726=\"\",\"\",VLOOKUP(A1726,PARAMETROS!$B$3:$C$3,2,FALSE))","v":""},null,{"$f":"IF(C1726=\"\",\"\",VLOOKUP(C1726,PARAMETROS!$G$3:$H$21,2,FALSE))","v":""},null,{"$f":"IF(E1726=\"\",\"\",VLOOKUP(E1726,PARAMETROS!$I$3:$J$21,2,FALSE))","v":""},null,null,null,null,null,null,""]
[null,{"$f":"IF(A1727=\"\",\"\",VLOOKUP(A1727,PARAMETROS!$B$3:$C$3,2,FALSE))","v":""},null,{"$f":"IF(C1727=\"\",\"\",VLOOKUP(C1727,PARAMETROS!$G$3:$H$21,2,FALSE))","v":""},null,{"$f":"IF(E1727=\"\",\"\",VLOOKUP(E1727,PARAMETROS!$I$3:$J$21,2,FALSE))","v":""},null,null,null,null,null,null,""]
[null,{"$f":"IF(A1728=\"\",\"\",VLOOKUP(A1728,PARAMETROS!$B$3:$C$3,2,FALSE))","v":""},null,{"$f":"IF(C1728=\"\",\"\",VLOOKUP(C1728,PARAMETROS!$G$3:$H$21,2,FALSE))","v":""},null,{"$f":"IF(E1728=\"\",\"\",VLOOKUP(E1728,PARAMETROS!$I$3:$J$21,2,FALSE))","v":""},null,null,null,null,null,null,""]
[null,{"$f":"IF(A1729=\"\",\"\",VLOOKUP(A1729,PARAMETROS!$B$3:$C$3,2,FALSE))","v":""},null,{"$f":"IF(C1729=\"\",\"\",VLOOKUP(C1729,PARAMETROS!$G$3:$H$21,2,FALSE))","v":""},null,{"$f":"IF(E1729=\"\",\"\",VLOOKUP(E1729,PARAMETROS!$I$3:$J$21,2,FALSE))","v":""},null,null,null,null,null,null,""]
[null,{"$f":"IF(A1730=\"\",\"\",VLOOKUP(A1730,PARAMETROS!$B$3:$C$3,2,FALSE))","v":""},null,{"$f":"IF(C1730=\"\",\"\",VLOOKUP(C1730,PARAMETROS!$G$3:$H$21,2,FALSE))","v":""},null,{"$f":"IF(E1730=\"\",\"\",VLOOKUP(E1730,PARAMETROS!$I$3:$J$21,2,FALSE))","v":""},null,null,null,null,null,null,""]
[null,{"$f":"IF(A1731=\"\",\"\",VLOOKUP(A1731,PARAMETROS!$B$3:$C$3,2,FALSE))","v":""},null,{"$f":"IF(C1731=\"\",\"\",VLOOKUP(C1731,PARAMETROS!$G$3:$H$21,2,FALSE))","v":""},null,{"$f":"IF(E1731=\"\",\"\",VLOOKUP(E1731,PARAMETROS!$I$3:$J$21,2,FALSE))","v":""},null,null,null,null,null,null,""]
[null,{"$f":"IF(A1732=\"\",\"\",VLOOKUP(A1732,PARAMETROS!$B$3:$C$3,2,FALSE))","v":""},null,{"$f":"IF(C1732=\"\",\"\",VLOOKUP(C1732,PARAMETROS!$G$3:$H$21,2,FALSE))","v":""},null,{"$f":"IF(E1732=\"\",\"\",VLOOKUP(E1732,PARAMETROS!$I$3:$J$21,2,FALSE))","v":""},null,null,null,null,null,null,""]
[null,{"$f":"IF(A1733=\"\",\"\",VLOOKUP(A1733,PARAMETROS!$B$3:$C$3,2,FALSE))","v":""},null,{"$f":"IF(C1733=\"\",\"\",VLOOKUP(C1733,PARAMETROS!$G$3:$H$21,2,FALSE))","v":""},null,{"$f":"IF(E1733=\"\",\"\",VLOOKUP(E1733,PARAMETROS!$I$3:$J$21,2,FALSE))","v":""},null,null,null,null,null,null,""]
[null,{"$f":"IF(A1734=\"\",\"\",VLOOKUP(A1734,PARAMETROS!$B$3:$C$3,2,FALSE))","v":""},null,{"$f":"IF(C1734=\"\",\"\",VLOOKUP(C1734,PARAMETROS!$G$3:$H$21,2,FALSE))","v":""},null,{"$f":"IF(E1734=\"\",\"\",VLOOKUP(E1734,PARAMETROS!$I$3:$J$21,2,FALSE))","v":""},null,null,null,null,null,null,""]
[null,{"$f":"IF(A1735=\"\",\"\",VLOOKUP(A1735,PARAMETROS!$B$3:$C$3,2,FALSE))","v":""},null,{"$f":"IF(C1735=\"\",\"\",VLOOKUP(C1735,PARAMETROS!$G$3:$H$21,2,FALSE))","v":""},null,{"$f":"IF(E1735=\"\",\"\",VLOOKUP(E1735,PARAMETROS!$I$3:$J$21,2,FALSE))","v":""},null,null,null,null,null,null,""]
[null,{"$f":"IF(A1736=\"\",\"\",VLOOKUP(A1736,PARAMETROS!$B$3:$C$3,2,FALSE))","v":""},null,{"$f":"IF(C1736=\"\",\"\",VLOOKUP(C1736,PARAMETROS!$G$3:$H$21,2,FALSE))","v":""},null,{"$f":"IF(E1736=\"\",\"\",VLOOKUP(E1736,PARAMETROS!$I$3:$J$21,2,FALSE))","v":""},null,null,null,null,null,null,""]
[null,{"$f":"IF(A1737=\"\",\"\",VLOOKUP(A1737,PARAMETROS!$B$3:$C$3,2,FALSE))","v":""},null,{"$f":"IF(C1737=\"\",\"\",VLOOKUP(C1737,PARAMETROS!$G$3:$H$21,2,FALSE))","v":""},null,{"$f":"IF(E1737=\"\",\"\",VLOOKUP(E1737,PARAMETROS!$I$3:$J$21,2,FALSE))","v":""},null,null,null,null,null,null,""]
[null,{"$f":"IF(A1738=\"\",\"\",VLOOKUP(A1738,PARAMETROS!$B$3:$C$3,2,FALSE))","v":""},null,{"$f":"IF(C1738=\"\",\"\",VLOOKUP(C1738,PARAMETROS!$G$3:$H$21,2,FALSE))","v":""},null,{"$f":"IF(E1738=\"\",\"\",VLOOKUP(E1738,PARAMETROS!$I$3:$J$21,2,FALSE))","v":""},null,null,null,null,null,null,""]
[null,{"$f":"IF(A1739=\"\",\"\",VLOOKUP(A1739,PARAMETROS!$B$3:$C$3,2,FALSE))","v":""},null,{"$f":"IF(C1739=\"\",\"\",VLOOKUP(C1739,PARAMETROS!$G$3:$H$21,2,FALSE))","v":""},null,{"$f":"IF(E1739=\"\",\"\",VLOOKUP(E1739,PARAMETROS!$I$3:$J$21,2,FALSE))","v":""},null,null,null,null,null,null,""]
[null,{"$f":"IF(A1740=\"\",\"\",VLOOKUP(A1740,PARAMETROS!$B$3:$C$3,2,FALSE))","v":""},null,{"$f":"IF(C1740=\"\",\"\",VLOOKUP(C1740,PARAMETROS!$G$3:$H$21,2,FALSE))","v":""},null,{"$f":"IF(E1740=\"\",\"\",VLOOKUP(E1740,PARAMETROS!$I$3:$J$21,2,FALSE))","v":""},null,null,null,null,null,null,""]
[null,{"$f":"IF(A1741=\"\",\"\",VLOOKUP(A1741,PARAMETROS!$B$3:$C$3,2,FALSE))","v":""},null,{"$f":"IF(C1741=\"\",\"\",VLOOKUP(C1741,PARAMETROS!$G$3:$H$21,2,FALSE))","v":""},null,{"$f":"IF(E1741=\"\",\"\",VLOOKUP(E1741,PARAMETROS!$I$3:$J$21,2,FALSE))","v":""},null,null,null,null,null,null,""]
[null,{"$f":"IF(A1742=\"\",\"\",VLOOKUP(A1742,PARAMETROS!$B$3:$C$3,2,FALSE))","v":""},null,{"$f":"IF(C1742=\"\",\"\",VLOOKUP(C1742,PARAMETROS!$G$3:$H$21,2,FALSE))","v":""},null,{"$f":"IF(E1742=\"\",\"\",VLOOKUP(E1742,PARAMETROS!$I$3:$J$21,2,FALSE))","v":""},null,null,null,null,null,null,""]
[null,{"$f":"IF(A1743=\"\",\"\",VLOOKUP(A1743,PARAMETROS!$B$3:$C$3,2,FALSE))","v":""},null,{"$f":"IF(C1743=\"\",\"\",VLOOKUP(C1743,PARAMETROS!$G$3:$H$21,2,FALSE))","v":""},null,{"$f":"IF(E1743=\"\",\"\",VLOOKUP(E1743,PARAMETROS!$I$3:$J$21,2,FALSE))","v":""},null,null,null,null,null,null,{"$f":"IF(L1743=\"\", \"\", L1743)","v":""}]
[null,{"$f":"IF(A1744=\"\",\"\",VLOOKUP(A1744,PARAMETROS!$B$3:$C$3,2,FALSE))","v":""},null,{"$f":"IF(C1744=\"\",\"\",VLOOKUP(C1744,PARAMETROS!$G$3:$H$21,2,FALSE))","v":""},null,{"$f":"IF(E1744=\"\",\"\",VLOOKUP(E1744,PARAMETROS!$I$3:$J$21,2,FALSE))","v":""},null,null,null,null,null,null,""]
[null,{"$f":"IF(A1745=\"\",\"\",VLOOKUP(A1745,PARAMETROS!$B$3:$C$3,2,FALSE))","v":""},null,{"$f":"IF(C1745=\"\",\"\",VLOOKUP(C1745,PARAMETROS!$G$3:$H$21,2,FALSE))","v":""},null,{"$f":"IF(E1745=\"\",\"\",VLOOKUP(E1745,PARAMETROS!$I$3:$J$21,2,FALSE))","v":""},null,null,null,null,null,null,""]
[null,{"$f":"IF(A1746=\"\",\"\",VLOOKUP(A1746,PARAMETROS!$B$3:$C$3,2,FALSE))","v":""},null,{"$f":"IF(C1746=\"\",\"\",VLOOKUP(C1746,PARAMETROS!$G$3:$H$21,2,FALSE))","v":""},null,{"$f":"IF(E1746=\"\",\"\",VLOOKUP(E1746,PARAMETROS!$I$3:$J$21,2,FALSE))","v":""},null,null,null,null,null,null,""]
[null,{"$f":"IF(A1747=\"\",\"\",VLOOKUP(A1747,PARAMETROS!$B$3:$C$3,2,FALSE))","v":""},null,{"$f":"IF(C1747=\"\",\"\",VLOOKUP(C1747,PARAMETROS!$G$3:$H$21,2,FALSE))","v":""},null,{"$f":"IF(E1747=\"\",\"\",VLOOKUP(E1747,PARAMETROS!$I$3:$J$21,2,FALSE))","v":""},null,null,null,null,null,null,""]
[null,{"$f":"IF(A1748=\"\",\"\",VLOOKUP(A1748,PARAMETROS!$B$3:$C$3,2,FALSE))","v":""},null,{"$f":"IF(C1748=\"\",\"\",VLOOKUP(C1748,PARAMETROS!$G$3:$H$21,2,FALSE))","v":""},null,{"$f":"IF(E1748=\"\",\"\",VLOOKUP(E1748,PARAMETROS!$I$3:$J$21,2,FALSE))","v":""},null,null,null,null,null,null,""]
[null,{"$f":"IF(A1749=\"\",\"\",VLOOKUP(A1749,PARAMETROS!$B$3:$C$3,2,FALSE))","v":""},null,{"$f":"IF(C1749=\"\",\"\",VLOOKUP(C1749,PARAMETROS!$G$3:$H$21,2,FALSE))","v":""},null,{"$f":"IF(E1749=\"\",\"\",VLOOKUP(E1749,PARAMETROS!$I$3:$J$21,2,FALSE))","v":""},null,null,null,null,null,null,""]
[null,{"$f":"IF(A1750=\"\",\"\",VLOOKUP(A1750,PARAMETROS!$B$3:$C$3,2,FALSE))","v":""},null,{"$f":"IF(C1750=\"\",\"\",VLOOKUP(C1750,PARAMETROS!$G$3:$H$21,2,FALSE))","v":""},null,{"$f":"IF(E1750=\"\",\"\",VLOOKUP(E1750,PARAMETROS!$I$3:$J$21,2,FALSE))","v":""},null,null,null,null,null,null,""]
[null,{"$f":"IF(A1751=\"\",\"\",VLOOKUP(A1751,PARAMETROS!$B$3:$C$3,2,FALSE))","v":""},null,{"$f":"IF(C1751=\"\",\"\",VLOOKUP(C1751,PARAMETROS!$G$3:$H$21,2,FALSE))","v":""},null,{"$f":"IF(E1751=\"\",\"\",VLOOKUP(E1751,PARAMETROS!$I$3:$J$21,2,FALSE))","v":""},null,null,null,null,null,null,""]
[null,{"$f":"IF(A1752=\"\",\"\",VLOOKUP(A1752,PARAMETROS!$B$3:$C$3,2,FALSE))","v":""},null,{"$f":"IF(C1752=\"\",\"\",VLOOKUP(C1752,PARAMETROS!$G$3:$H$21,2,FALSE))","v":""},null,{"$f":"IF(E1752=\"\",\"\",VLOOKUP(E1752,PARAMETROS!$I$3:$J$21,2,FALSE))","v":""},null,null,null,null,null,null,""]
[null,{"$f":"IF(A1753=\"\",\"\",VLOOKUP(A1753,PARAMETROS!$B$3:$C$3,2,FALSE))","v":""},null,{"$f":"IF(C1753=\"\",\"\",VLOOKUP(C1753,PARAMETROS!$G$3:$H$21,2,FALSE))","v":""},null,{"$f":"IF(E1753=\"\",\"\",VLOOKUP(E1753,PARAMETROS!$I$3:$J$21,2,FALSE))","v":""},null,null,null,null,null,null,""]
[null,{"$f":"IF(A1754=\"\",\"\",VLOOKUP(A1754,PARAMETROS!$B$3:$C$3,2,FALSE))","v":""},null,{"$f":"IF(C1754=\"\",\"\",VLOOKUP(C1754,PARAMETROS!$G$3:$H$21,2,FALSE))","v":""},null,{"$f":"IF(E1754=\"\",\"\",VLOOKUP(E1754,PARAMETROS!$I$3:$J$21,2,FALSE))","v":""},null,null,null,null,null,null,""]
[null,{"$f":"IF(A1755=\"\",\"\",VLOOKUP(A1755,PARAMETROS!$B$3:$C$3,2,FALSE))","v":""},null,{"$f":"IF(C1755=\"\",\"\",VLOOKUP(C1755,PARAMETROS!$G$3:$H$21,2,FALSE))","v":""},null,{"$f":"IF(E1755=\"\",\"\",VLOOKUP(E1755,PARAMETROS!$I$3:$J$21,2,FALSE))","v":""},null,null,null,null,null,null,""]
[null,{"$f":"IF(A1756=\"\",\"\",VLOOKUP(A1756,PARAMETROS!$B$3:$C$3,2,FALSE))","v":""},null,{"$f":"IF(C1756=\"\",\"\",VLOOKUP(C1756,PARAMETROS!$G$3:$H$21,2,FALSE))","v":""},null,{"$f":"IF(E1756=\"\",\"\",VLOOKUP(E1756,PARAMETROS!$I$3:$J$21,2,FALSE))","v":""},null,null,null,null,null,null,""]
[null,{"$f":"IF(A1757=\"\",\"\",VLOOKUP(A1757,PARAMETROS!$B$3:$C$3,2,FALSE))","v":""},null,{"$f":"IF(C1757=\"\",\"\",VLOOKUP(C1757,PARAMETROS!$G$3:$H$21,2,FALSE))","v":""},null,{"$f":"IF(E1757=\"\",\"\",VLOOKUP(E1757,PARAMETROS!$I$3:$J$21,2,FALSE))","v":""},null,null,null,null,null,null,""]
[null,{"$f":"IF(A1758=\"\",\"\",VLOOKUP(A1758,PARAMETROS!$B$3:$C$3,2,FALSE))","v":""},null,{"$f":"IF(C1758=\"\",\"\",VLOOKUP(C1758,PARAMETROS!$G$3:$H$21,2,FALSE))","v":""},null,{"$f":"IF(E1758=\"\",\"\",VLOOKUP(E1758,PARAMETROS!$I$3:$J$21,2,FALSE))","v":""},null,null,null,null,null,null,""]
[null,{"$f":"IF(A1759=\"\",\"\",VLOOKUP(A1759,PARAMETROS!$B$3:$C$3,2,FALSE))","v":""},null,{"$f":"IF(C1759=\"\",\"\",VLOOKUP(C1759,PARAMETROS!$G$3:$H$21,2,FALSE))","v":""},null,{"$f":"IF(E1759=\"\",\"\",VLOOKUP(E1759,PARAMETROS!$I$3:$J$21,2,FALSE))","v":""},null,null,null,null,null,null,""]
[null,{"$f":"IF(A1760=\"\",\"\",VLOOKUP(A1760,PARAMETROS!$B$3:$C$3,2,FALSE))","v":""},null,{"$f":"IF(C1760=\"\",\"\",VLOOKUP(C1760,PARAMETROS!$G$3:$H$21,2,FALSE))","v":""},null,{"$f":"IF(E1760=\"\",\"\",VLOOKUP(E1760,PARAMETROS!$I$3:$J$21,2,FALSE))","v":""},null,null,null,null,null,null,""]
[null,{"$f":"IF(A1761=\"\",\"\",VLOOKUP(A1761,PARAMETROS!$B$3:$C$3,2,FALSE))","v":""},null,{"$f":"IF(C1761=\"\",\"\",VLOOKUP(C1761,PARAMETROS!$G$3:$H$21,2,FALSE))","v":""},null,{"$f":"IF(E1761=\"\",\"\",VLOOKUP(E1761,PARAMETROS!$I$3:$J$21,2,FALSE))","v":""},null,null,null,null,null,null,""]
[null,{"$f":"IF(A1762=\"\",\"\",VLOOKUP(A1762,PARAMETROS!$B$3:$C$3,2,FALSE))","v":""},null,{"$f":"IF(C1762=\"\",\"\",VLOOKUP(C1762,PARAMETROS!$G$3:$H$21,2,FALSE))","v":""},null,{"$f":"IF(E1762=\"\",\"\",VLOOKUP(E1762,PARAMETROS!$I$3:$J$21,2,FALSE))","v":""},null,null,null,null,null,null,""]
[null,{"$f":"IF(A1763=\"\",\"\",VLOOKUP(A1763,PARAMETROS!$B$3:$C$3,2,FALSE))","v":""},null,{"$f":"IF(C1763=\"\",\"\",VLOOKUP(C1763,PARAMETROS!$G$3:$H$21,2,FALSE))","v":""},null,{"$f":"IF(E1763=\"\",\"\",VLOOKUP(E1763,PARAMETROS!$I$3:$J$21,2,FALSE))","v":""},null,null,null,null,null,null,""]
[null,{"$f":"IF(A1764=\"\",\"\",VLOOKUP(A1764,PARAMETROS!$B$3:$C$3,2,FALSE))","v":""},null,{"$f":"IF(C1764=\"\",\"\",VLOOKUP(C1764,PARAMETROS!$G$3:$H$21,2,FALSE))","v":""},null,{"$f":"IF(E1764=\"\",\"\",VLOOKUP(E1764,PARAMETROS!$I$3:$J$21,2,FALSE))","v":""},null,null,null,null,null,null,""]
[null,{"$f":"IF(A1765=\"\",\"\",VLOOKUP(A1765,PARAMETROS!$B$3:$C$3,2,FALSE))","v":""},null,{"$f":"IF(C1765=\"\",\"\",VLOOKUP(C1765,PARAMETROS!$G$3:$H$21,2,FALSE))","v":""},null,{"$f":"IF(E1765=\"\",\"\",VLOOKUP(E1765,PARAMETROS!$I$3:$J$21,2,FALSE))","v":""},null,null,null,null,null,null,""]
[null,{"$f":"IF(A1766=\"\",\"\",VLOOKUP(A1766,PARAMETROS!$B$3:$C$3,2,FALSE))","v":""},null,{"$f":"IF(C1766=\"\",\"\",VLOOKUP(C1766,PARAMETROS!$G$3:$H$21,2,FALSE))","v":""},null,{"$f":"IF(E1766=\"\",\"\",VLOOKUP(E1766,PARAMETROS!$I$3:$J$21,2,FALSE))","v":""},null,null,null,null,null,null,""]
[null,{"$f":"IF(A1767=\"\",\"\",VLOOKUP(A1767,PARAMETROS!$B$3:$C$3,2,FALSE))","v":""},null,{"$f":"IF(C1767=\"\",\"\",VLOOKUP(C1767,PARAMETROS!$G$3:$H$21,2,FALSE))","v":""},null,{"$f":"IF(E1767=\"\",\"\",VLOOKUP(E1767,PARAMETROS!$I$3:$J$21,2,FALSE))","v":""},null,null,null,null,null,null,""]
[null,{"$f":"IF(A1768=\"\",\"\",VLOOKUP(A1768,PARAMETROS!$B$3:$C$3,2,FALSE))","v":""},null,{"$f":"IF(C1768=\"\",\"\",VLOOKUP(C1768,PARAMETROS!$G$3:$H$21,2,FALSE))","v":""},null,{"$f":"IF(E1768=\"\",\"\",VLOOKUP(E1768,PARAMETROS!$I$3:$J$21,2,FALSE))","v":""},null,null,null,null,null,null,""]
[null,{"$f":"IF(A1769=\"\",\"\",VLOOKUP(A1769,PARAMETROS!$B$3:$C$3,2,FALSE))","v":""},null,{"$f":"IF(C1769=\"\",\"\",VLOOKUP(C1769,PARAMETROS!$G$3:$H$21,2,FALSE))","v":""},null,{"$f":"IF(E1769=\"\",\"\",VLOOKUP(E1769,PARAMETROS!$I$3:$J$21,2,FALSE))","v":""},null,null,null,null,null,null,""]
[null,{"$f":"IF(A1770=\"\",\"\",VLOOKUP(A1770,PARAMETROS!$B$3:$C$3,2,FALSE))","v":""},null,{"$f":"IF(C1770=\"\",\"\",VLOOKUP(C1770,PARAMETROS!$G$3:$H$21,2,FALSE))","v":""},null,{"$f":"IF(E1770=\"\",\"\",VLOOKUP(E1770,PARAMETROS!$I$3:$J$21,2,FALSE))","v":""},null,null,null,null,null,null,""]
[null,{"$f":"IF(A1771=\"\",\"\",VLOOKUP(A1771,PARAMETROS!$B$3:$C$3,2,FALSE))","v":""},null,{"$f":"IF(C1771=\"\",\"\",VLOOKUP(C1771,PARAMETROS!$G$3:$H$21,2,FALSE))","v":""},null,{"$f":"IF(E1771=\"\",\"\",VLOOKUP(E1771,PARAMETROS!$I$3:$J$21,2,FALSE))","v":""},null,null,null,null,null,null,""]
[null,{"$f":"IF(A1772=\"\",\"\",VLOOKUP(A1772,PARAMETROS!$B$3:$C$3,2,FALSE))","v":""},null,{"$f":"IF(C1772=\"\",\"\",VLOOKUP(C1772,PARAMETROS!$G$3:$H$21,2,FALSE))","v":""},null,{"$f":"IF(E1772=\"\",\"\",VLOOKUP(E1772,PARAMETROS!$I$3:$J$21,2,FALSE))","v":""},null,null,null,null,null,null,""]
[null,{"$f":"IF(A1773=\"\",\"\",VLOOKUP(A1773,PARAMETROS!$B$3:$C$3,2,FALSE))","v":""},null,{"$f":"IF(C1773=\"\",\"\",VLOOKUP(C1773,PARAMETROS!$G$3:$H$21,2,FALSE))","v":""},null,{"$f":"IF(E1773=\"\",\"\",VLOOKUP(E1773,PARAMETROS!$I$3:$J$21,2,FALSE))","v":""},null,null,null,null,null,null,""]
[null,{"$f":"IF(A1774=\"\",\"\",VLOOKUP(A1774,PARAMETROS!$B$3:$C$3,2,FALSE))","v":""},null,{"$f":"IF(C1774=\"\",\"\",VLOOKUP(C1774,PARAMETROS!$G$3:$H$21,2,FALSE))","v":""},null,{"$f":"IF(E1774=\"\",\"\",VLOOKUP(E1774,PARAMETROS!$I$3:$J$21,2,FALSE))","v":""},null,null,null,null,null,null,""]
[null,{"$f":"IF(A1775=\"\",\"\",VLOOKUP(A1775,PARAMETROS!$B$3:$C$3,2,FALSE))","v":""},null,{"$f":"IF(C1775=\"\",\"\",VLOOKUP(C1775,PARAMETROS!$G$3:$H$21,2,FALSE))","v":""},null,{"$f":"IF(E1775=\"\",\"\",VLOOKUP(E1775,PARAMETROS!$I$3:$J$21,2,FALSE))","v":""},null,null,null,null,null,null,""]
[null,{"$f":"IF(A1776=\"\",\"\",VLOOKUP(A1776,PARAMETROS!$B$3:$C$3,2,FALSE))","v":""},null,{"$f":"IF(C1776=\"\",\"\",VLOOKUP(C1776,PARAMETROS!$G$3:$H$21,2,FALSE))","v":""},null,{"$f":"IF(E1776=\"\",\"\",VLOOKUP(E1776,PARAMETROS!$I$3:$J$21,2,FALSE))","v":""},null,null,null,null,null,null,""]
[null,{"$f":"IF(A1777=\"\",\"\",VLOOKUP(A1777,PARAMETROS!$B$3:$C$3,2,FALSE))","v":""},null,{"$f":"IF(C1777=\"\",\"\",VLOOKUP(C1777,PARAMETROS!$G$3:$H$21,2,FALSE))","v":""},null,{"$f":"IF(E1777=\"\",\"\",VLOOKUP(E1777,PARAMETROS!$I$3:$J$21,2,FALSE))","v":""},null,null,null,null,null,null,""]
[null,{"$f":"IF(A1778=\"\",\"\",VLOOKUP(A1778,PARAMETROS!$B$3:$C$3,2,FALSE))","v":""},null,{"$f":"IF(C1778=\"\",\"\",VLOOKUP(C1778,PARAMETROS!$G$3:$H$21,2,FALSE))","v":""},null,{"$f":"IF(E1778=\"\",\"\",VLOOKUP(E1778,PARAMETROS!$I$3:$J$21,2,FALSE))","v":""},null,null,null,null,null,null,""]
[null,{"$f":"IF(A1779=\"\",\"\",VLOOKUP(A1779,PARAMETROS!$B$3:$C$3,2,FALSE))","v":""},null,{"$f":"IF(C1779=\"\",\"\",VLOOKUP(C1779,PARAMETROS!$G$3:$H$21,2,FALSE))","v":""},null,{"$f":"IF(E1779=\"\",\"\",VLOOKUP(E1779,PARAMETROS!$I$3:$J$21,2,FALSE))","v":""},null,null,null,null,null,null,""]
[null,{"$f":"IF(A1780=\"\",\"\",VLOOKUP(A1780,PARAMETROS!$B$3:$C$3,2,FALSE))","v":""},null,{"$f":"IF(C1780=\"\",\"\",VLOOKUP(C1780,PARAMETROS!$G$3:$H$21,2,FALSE))","v":""},null,{"$f":"IF(E1780=\"\",\"\",VLOOKUP(E1780,PARAMETROS!$I$3:$J$21,2,FALSE))","v":""},null,null,null,null,null,null,""]
[null,{"$f":"IF(A1781=\"\",\"\",VLOOKUP(A1781,PARAMETROS!$B$3:$C$3,2,FALSE))","v":""},null,{"$f":"IF(C1781=\"\",\"\",VLOOKUP(C1781,PARAMETROS!$G$3:$H$21,2,FALSE))","v":""},null,{"$f":"IF(E1781=\"\",\"\",VLOOKUP(E1781,PARAMETROS!$I$3:$J$21,2,FALSE))","v":""},null,null,null,null,null,null,""]
[null,{"$f":"IF(A1782=\"\",\"\",VLOOKUP(A1782,PARAMETROS!$B$3:$C$3,2,FALSE))","v":""},null,{"$f":"IF(C1782=\"\",\"\",VLOOKUP(C1782,PARAMETROS!$G$3:$H$21,2,FALSE))","v":""},null,{"$f":"IF(E1782=\"\",\"\",VLOOKUP(E1782,PARAMETROS!$I$3:$J$21,2,FALSE))","v":""},null,null,null,null,null,null,""]
[null,{"$f":"IF(A1783=\"\",\"\",VLOOKUP(A1783,PARAMETROS!$B$3:$C$3,2,FALSE))","v":""},null,{"$f":"IF(C1783=\"\",\"\",VLOOKUP(C1783,PARAMETROS!$G$3:$H$21,2,FALSE))","v":""},null,{"$f":"IF(E1783=\"\",\"\",VLOOKUP(E1783,PARAMETROS!$I$3:$J$21,2,FALSE))","v":""},null,null,null,null,null,null,""]
[null,{"$f":"IF(A1784=\"\",\"\",VLOOKUP(A1784,PARAMETROS!$B$3:$C$3,2,FALSE))","v":""},null,{"$f":"IF(C1784=\"\",\"\",VLOOKUP(C1784,PARAMETROS!$G$3:$H$21,2,FALSE))","v":""},null,{"$f":"IF(E1784=\"\",\"\",VLOOKUP(E1784,PARAMETROS!$I$3:$J$21,2,FALSE))","v":""},null,null,null,null,null,null,""]
[null,{"$f":"IF(A1785=\"\",\"\",VLOOKUP(A1785,PARAMETROS!$B$3:$C$3,2,FALSE))","v":""},null,{"$f":"IF(C1785=\"\",\"\",VLOOKUP(C1785,PARAMETROS!$G$3:$H$21,2,FALSE))","v":""},null,{"$f":"IF(E1785=\"\",\"\",VLOOKUP(E1785,PARAMETROS!$I$3:$J$21,2,FALSE))","v":""},null,null,null,null,null,null,""]
[null,{"$f":"IF(A1786=\"\",\"\",VLOOKUP(A1786,PARAMETROS!$B$3:$C$3,2,FALSE))","v":""},null,{"$f":"IF(C1786=\"\",\"\",VLOOKUP(C1786,PARAMETROS!$G$3:$H$21,2,FALSE))","v":""},null,{"$f":"IF(E1786=\"\",\"\",VLOOKUP(E1786,PARAMETROS!$I$3:$J$21,2,FALSE))","v":""},null,null,null,null,null,null,""]
[null,{"$f":"IF(A1787=\"\",\"\",VLOOKUP(A1787,PARAMETROS!$B$3:$C$3,2,FALSE))","v":""},null,{"$f":"IF(C1787=\"\",\"\",VLOOKUP(C1787,PARAMETROS!$G$3:$H$21,2,FALSE))","v":""},null,{"$f":"IF(E1787=\"\",\"\",VLOOKUP(E1787,PARAMETROS!$I$3:$J$21,2,FALSE))","v":""},null,null,null,null,null,null,""]
[null,{"$f":"IF(A1788=\"\",\"\",VLOOKUP(A1788,PARAMETROS!$B$3:$C$3,2,FALSE))","v":""},null,{"$f":"IF(C1788=\"\",\"\",VLOOKUP(C1788,PARAMETROS!$G$3:$H$21,2,FALSE))","v":""},null,{"$f":"IF(E1788=\"\",\"\",VLOOKUP(E1788,PARAMETROS!$I$3:$J$21,2,FALSE))","v":""},null,null,null,null,null,null,""]
[null,{"$f":"IF(A1789=\"\",\"\",VLOOKUP(A1789,PARAMETROS!$B$3:$C$3,2,FALSE))","v":""},null,{"$f":"IF(C1789=\"\",\"\",VLOOKUP(C1789,PARAMETROS!$G$3:$H$21,2,FALSE))","v":""},null,{"$f":"IF(E1789=\"\",\"\",VLOOKUP(E1789,PARAMETROS!$I$3:$J$21,2,FALSE))","v":""},null,null,null,null,null,null,""]
[null,{"$f":"IF(A1790=\"\",\"\",VLOOKUP(A1790,PARAMETROS!$B$3:$C$3,2,FALSE))","v":""},null,{"$f":"IF(C1790=\"\",\"\",VLOOKUP(C1790,PARAMETROS!$G$3:$H$21,2,FALSE))","v":""},null,{"$f":"IF(E1790=\"\",\"\",VLOOKUP(E1790,PARAMETROS!$I$3:$J$21,2,FALSE))","v":""},null,null,null,null,null,null,""]
[null,{"$f":"IF(A1791=\"\",\"\",VLOOKUP(A1791,PARAMETROS!$B$3:$C$3,2,FALSE))","v":""},null,{"$f":"IF(C1791=\"\",\"\",VLOOKUP(C1791,PARAMETROS!$G$3:$H$21,2,FALSE))","v":""},null,{"$f":"IF(E1791=\"\",\"\",VLOOKUP(E1791,PARAMETROS!$I$3:$J$21,2,FALSE))","v":""},null,null,null,null,null,null,""]
[null,{"$f":"IF(A1792=\"\",\"\",VLOOKUP(A1792,PARAMETROS!$B$3:$C$3,2,FALSE))","v":""},null,{"$f":"IF(C1792=\"\",\"\",VLOOKUP(C1792,PARAMETROS!$G$3:$H$21,2,FALSE))","v":""},null,{"$f":"IF(E1792=\"\",\"\",VLOOKUP(E1792,PARAMETROS!$I$3:$J$21,2,FALSE))","v":""},null,null,null,null,null,null,""]
[null,{"$f":"IF(A1793=\"\",\"\",VLOOKUP(A1793,PARAMETROS!$B$3:$C$3,2,FALSE))","v":""},null,{"$f":"IF(C1793=\"\",\"\",VLOOKUP(C1793,PARAMETROS!$G$3:$H$21,2,FALSE))","v":""},null,{"$f":"IF(E1793=\"\",\"\",VLOOKUP(E1793,PARAMETROS!$I$3:$J$21,2,FALSE))","v":""},null,null,null,null,null,null,""]
[null,{"$f":"IF(A1794=\"\",\"\",VLOOKUP(A1794,PARAMETROS!$B$3:$C$3,2,FALSE))","v":""},null,{"$f":"IF(C1794=\"\",\"\",VLOOKUP(C1794,PARAMETROS!$G$3:$H$21,2,FALSE))","v":""},null,{"$f":"IF(E1794=\"\",\"\",VLOOKUP(E1794,PARAMETROS!$I$3:$J$21,2,FALSE))","v":""},null,null,null,null,null,null,""]
[null,{"$f":"IF(A1795=\"\",\"\",VLOOKUP(A1795,PARAMETROS!$B$3:$C$3,2,FALSE))","v":""},null,{"$f":"IF(C1795=\"\",\"\",VLOOKUP(C1795,PARAMETROS!$G$3:$H$21,2,FALSE))","v":""},null,{"$f":"IF(E1795=\"\",\"\",VLOOKUP(E1795,PARAMETROS!$I$3:$J$21,2,FALSE))","v":""},null,null,null,null,null,null,""]
[null,{"$f":"IF(A1796=\"\",\"\",VLOOKUP(A1796,PARAMETROS!$B$3:$C$3,2,FALSE))","v":""},null,{"$f":"IF(C1796=\"\",\"\",VLOOKUP(C1796,PARAMETROS!$G$3:$H$21,2,FALSE))","v":""},null,{"$f":"IF(E1796=\"\",\"\",VLOOKUP(E1796,PARAMETROS!$I$3:$J$21,2,FALSE))","v":""},null,null,null,null,null,null,""]
[null,{"$f":"IF(A1797=\"\",\"\",VLOOKUP(A1797,PARAMETROS!$B$3:$C$3,2,FALSE))","v":""},null,{"$f":"IF(C1797=\"\",\"\",VLOOKUP(C1797,PARAMETROS!$G$3:$H$21,2,FALSE))","v":""},null,{"$f":"IF(E1797=\"\",\"\",VLOOKUP(E1797,PARAMETROS!$I$3:$J$21,2,FALSE))","v":""},null,null,null,null,null,null,""]
[null,{"$f":"IF(A1798=\"\",\"\",VLOOKUP(A1798,PARAMETROS!$B$3:$C$3,2,FALSE))","v":""},null,{"$f":"IF(C1798=\"\",\"\",VLOOKUP(C1798,PARAMETROS!$G$3:$H$21,2,FALSE))","v":""},null,{"$f":"IF(E1798=\"\",\"\",VLOOKUP(E1798,PARAMETROS!$I$3:$J$21,2,FALSE))","v":""},null,null,null,null,null,null,""]
[null,{"$f":"IF(A1799=\"\",\"\",VLOOKUP(A1799,PARAMETROS!$B$3:$C$3,2,FALSE))","v":""},null,{"$f":"IF(C1799=\"\",\"\",VLOOKUP(C1799,PARAMETROS!$G$3:$H$21,2,FALSE))","v":""},null,{"$f":"IF(E1799=\"\",\"\",VLOOKUP(E1799,PARAMETROS!$I$3:$J$21,2,FALSE))","v":""},null,null,null,null,null,null,""]
[null,{"$f":"IF(A1800=\"\",\"\",VLOOKUP(A1800,PARAMETROS!$B$3:$C$3,2,FALSE))","v":""},null,{"$f":"IF(C1800=\"\",\"\",VLOOKUP(C1800,PARAMETROS!$G$3:$H$21,2,FALSE))","v":""},null,{"$f":"IF(E1800=\"\",\"\",VLOOKUP(E1800,PARAMETROS!$I$3:$J$21,2,FALSE))","v":""},null,null,null,null,null,null,""]
[null,{"$f":"IF(A1801=\"\",\"\",VLOOKUP(A1801,PARAMETROS!$B$3:$C$3,2,FALSE))","v":""},null,{"$f":"IF(C1801=\"\",\"\",VLOOKUP(C1801,PARAMETROS!$G$3:$H$21,2,FALSE))","v":""},null,{"$f":"IF(E1801=\"\",\"\",VLOOKUP(E1801,PARAMETROS!$I$3:$J$21,2,FALSE))","v":""},null,null,null,null,null,null,""]
[null,{"$f":"IF(A1802=\"\",\"\",VLOOKUP(A1802,PARAMETROS!$B$3:$C$3,2,FALSE))","v":""},null,{"$f":"IF(C1802=\"\",\"\",VLOOKUP(C1802,PARAMETROS!$G$3:$H$21,2,FALSE))","v":""},null,{"$f":"IF(E1802=\"\",\"\",VLOOKUP(E1802,PARAMETROS!$I$3:$J$21,2,FALSE))","v":""},null,null,null,null,null,null,""]
[null,{"$f":"IF(A1803=\"\",\"\",VLOOKUP(A1803,PARAMETROS!$B$3:$C$3,2,FALSE))","v":""},null,{"$f":"IF(C1803=\"\",\"\",VLOOKUP(C1803,PARAMETROS!$G$3:$H$21,2,FALSE))","v":""},null,{"$f":"IF(E1803=\"\",\"\",VLOOKUP(E1803,PARAMETROS!$I$3:$J$21,2,FALSE))","v":""},null,null,null,null,null,null,""]
[null,{"$f":"IF(A1804=\"\",\"\",VLOOKUP(A1804,PARAMETROS!$B$3:$C$3,2,FALSE))","v":""},null,{"$f":"IF(C1804=\"\",\"\",VLOOKUP(C1804,PARAMETROS!$G$3:$H$21,2,FALSE))","v":""},null,{"$f":"IF(E1804=\"\",\"\",VLOOKUP(E1804,PARAMETROS!$I$3:$J$21,2,FALSE))","v":""},null,null,null,null,null,null,""]
[null,{"$f":"IF(A1805=\"\",\"\",VLOOKUP(A1805,PARAMETROS!$B$3:$C$3,2,FALSE))","v":""},null,{"$f":"IF(C1805=\"\",\"\",VLOOKUP(C1805,PARAMETROS!$G$3:$H$21,2,FALSE))","v":""},null,{"$f":"IF(E1805=\"\",\"\",VLOOKUP(E1805,PARAMETROS!$I$3:$J$21,2,FALSE))","v":""},null,null,null,null,null,null,""]
[null,{"$f":"IF(A1806=\"\",\"\",VLOOKUP(A1806,PARAMETROS!$B$3:$C$3,2,FALSE))","v":""},null,{"$f":"IF(C1806=\"\",\"\",VLOOKUP(C1806,PARAMETROS!$G$3:$H$21,2,FALSE))","v":""},null,{"$f":"IF(E1806=\"\",\"\",VLOOKUP(E1806,PARAMETROS!$I$3:$J$21,2,FALSE))","v":""},null,null,null,null,null,null,""]
[null,{"$f":"IF(A1807=\"\",\"\",VLOOKUP(A1807,PARAMETROS!$B$3:$C$3,2,FALSE))","v":""},null,{"$f":"IF(C1807=\"\",\"\",VLOOKUP(C1807,PARAMETROS!$G$3:$H$21,2,FALSE))","v":""},null,{"$f":"IF(E1807=\"\",\"\",VLOOKUP(E1807,PARAMETROS!$I$3:$J$21,2,FALSE))","v":""},null,null,null,null,null,null,{"$f":"IF(L1807=\"\", \"\", L1807)","v":""}]
[null,{"$f":"IF(A1808=\"\",\"\",VLOOKUP(A1808,PARAMETROS!$B$3:$C$3,2,FALSE))","v":""},null,{"$f":"IF(C1808=\"\",\"\",VLOOKUP(C1808,PARAMETROS!$G$3:$H$21,2,FALSE))","v":""},null,{"$f":"IF(E1808=\"\",\"\",VLOOKUP(E1808,PARAMETROS!$I$3:$J$21,2,FALSE))","v":""},null,null,null,null,null,null,""]
[null,{"$f":"IF(A1809=\"\",\"\",VLOOKUP(A1809,PARAMETROS!$B$3:$C$3,2,FALSE))","v":""},null,{"$f":"IF(C1809=\"\",\"\",VLOOKUP(C1809,PARAMETROS!$G$3:$H$21,2,FALSE))","v":""},null,{"$f":"IF(E1809=\"\",\"\",VLOOKUP(E1809,PARAMETROS!$I$3:$J$21,2,FALSE))","v":""},null,null,null,null,null,null,""]
[null,{"$f":"IF(A1810=\"\",\"\",VLOOKUP(A1810,PARAMETROS!$B$3:$C$3,2,FALSE))","v":""},null,{"$f":"IF(C1810=\"\",\"\",VLOOKUP(C1810,PARAMETROS!$G$3:$H$21,2,FALSE))","v":""},null,{"$f":"IF(E1810=\"\",\"\",VLOOKUP(E1810,PARAMETROS!$I$3:$J$21,2,FALSE))","v":""},null,null,null,null,null,null,""]
[null,{"$f":"IF(A1811=\"\",\"\",VLOOKUP(A1811,PARAMETROS!$B$3:$C$3,2,FALSE))","v":""},null,{"$f":"IF(C1811=\"\",\"\",VLOOKUP(C1811,PARAMETROS!$G$3:$H$21,2,FALSE))","v":""},null,{"$f":"IF(E1811=\"\",\"\",VLOOKUP(E1811,PARAMETROS!$I$3:$J$21,2,FALSE))","v":""},null,null,null,null,null,null,""]
[null,{"$f":"IF(A1812=\"\",\"\",VLOOKUP(A1812,PARAMETROS!$B$3:$C$3,2,FALSE))","v":""},null,{"$f":"IF(C1812=\"\",\"\",VLOOKUP(C1812,PARAMETROS!$G$3:$H$21,2,FALSE))","v":""},null,{"$f":"IF(E1812=\"\",\"\",VLOOKUP(E1812,PARAMETROS!$I$3:$J$21,2,FALSE))","v":""},null,null,null,null,null,null,""]
[null,{"$f":"IF(A1813=\"\",\"\",VLOOKUP(A1813,PARAMETROS!$B$3:$C$3,2,FALSE))","v":""},null,{"$f":"IF(C1813=\"\",\"\",VLOOKUP(C1813,PARAMETROS!$G$3:$H$21,2,FALSE))","v":""},null,{"$f":"IF(E1813=\"\",\"\",VLOOKUP(E1813,PARAMETROS!$I$3:$J$21,2,FALSE))","v":""},null,null,null,null,null,null,""]
[null,{"$f":"IF(A1814=\"\",\"\",VLOOKUP(A1814,PARAMETROS!$B$3:$C$3,2,FALSE))","v":""},null,{"$f":"IF(C1814=\"\",\"\",VLOOKUP(C1814,PARAMETROS!$G$3:$H$21,2,FALSE))","v":""},null,{"$f":"IF(E1814=\"\",\"\",VLOOKUP(E1814,PARAMETROS!$I$3:$J$21,2,FALSE))","v":""},null,null,null,null,null,null,""]
[null,{"$f":"IF(A1815=\"\",\"\",VLOOKUP(A1815,PARAMETROS!$B$3:$C$3,2,FALSE))","v":""},null,{"$f":"IF(C1815=\"\",\"\",VLOOKUP(C1815,PARAMETROS!$G$3:$H$21,2,FALSE))","v":""},null,{"$f":"IF(E1815=\"\",\"\",VLOOKUP(E1815,PARAMETROS!$I$3:$J$21,2,FALSE))","v":""},null,null,null,null,null,null,""]
[null,{"$f":"IF(A1816=\"\",\"\",VLOOKUP(A1816,PARAMETROS!$B$3:$C$3,2,FALSE))","v":""},null,{"$f":"IF(C1816=\"\",\"\",VLOOKUP(C1816,PARAMETROS!$G$3:$H$21,2,FALSE))","v":""},null,{"$f":"IF(E1816=\"\",\"\",VLOOKUP(E1816,PARAMETROS!$I$3:$J$21,2,FALSE))","v":""},null,null,null,null,null,null,""]
[null,{"$f":"IF(A1817=\"\",\"\",VLOOKUP(A1817,PARAMETROS!$B$3:$C$3,2,FALSE))","v":""},null,{"$f":"IF(C1817=\"\",\"\",VLOOKUP(C1817,PARAMETROS!$G$3:$H$21,2,FALSE))","v":""},null,{"$f":"IF(E1817=\"\",\"\",VLOOKUP(E1817,PARAMETROS!$I$3:$J$21,2,FALSE))","v":""},null,null,null,null,null,null,""]
[null,{"$f":"IF(A1818=\"\",\"\",VLOOKUP(A1818,PARAMETROS!$B$3:$C$3,2,FALSE))","v":""},null,{"$f":"IF(C1818=\"\",\"\",VLOOKUP(C1818,PARAMETROS!$G$3:$H$21,2,FALSE))","v":""},null,{"$f":"IF(E1818=\"\",\"\",VLOOKUP(E1818,PARAMETROS!$I$3:$J$21,2,FALSE))","v":""},null,null,null,null,null,null,""]
[null,{"$f":"IF(A1819=\"\",\"\",VLOOKUP(A1819,PARAMETROS!$B$3:$C$3,2,FALSE))","v":""},null,{"$f":"IF(C1819=\"\",\"\",VLOOKUP(C1819,PARAMETROS!$G$3:$H$21,2,FALSE))","v":""},null,{"$f":"IF(E1819=\"\",\"\",VLOOKUP(E1819,PARAMETROS!$I$3:$J$21,2,FALSE))","v":""},null,null,null,null,null,null,""]
[null,{"$f":"IF(A1820=\"\",\"\",VLOOKUP(A1820,PARAMETROS!$B$3:$C$3,2,FALSE))","v":""},null,{"$f":"IF(C1820=\"\",\"\",VLOOKUP(C1820,PARAMETROS!$G$3:$H$21,2,FALSE))","v":""},null,{"$f":"IF(E1820=\"\",\"\",VLOOKUP(E1820,PARAMETROS!$I$3:$J$21,2,FALSE))","v":""},null,null,null,null,null,null,""]
[null,{"$f":"IF(A1821=\"\",\"\",VLOOKUP(A1821,PARAMETROS!$B$3:$C$3,2,FALSE))","v":""},null,{"$f":"IF(C1821=\"\",\"\",VLOOKUP(C1821,PARAMETROS!$G$3:$H$21,2,FALSE))","v":""},null,{"$f":"IF(E1821=\"\",\"\",VLOOKUP(E1821,PARAMETROS!$I$3:$J$21,2,FALSE))","v":""},null,null,null,null,null,null,""]
[null,{"$f":"IF(A1822=\"\",\"\",VLOOKUP(A1822,PARAMETROS!$B$3:$C$3,2,FALSE))","v":""},null,{"$f":"IF(C1822=\"\",\"\",VLOOKUP(C1822,PARAMETROS!$G$3:$H$21,2,FALSE))","v":""},null,{"$f":"IF(E1822=\"\",\"\",VLOOKUP(E1822,PARAMETROS!$I$3:$J$21,2,FALSE))","v":""},null,null,null,null,null,null,""]
[null,{"$f":"IF(A1823=\"\",\"\",VLOOKUP(A1823,PARAMETROS!$B$3:$C$3,2,FALSE))","v":""},null,{"$f":"IF(C1823=\"\",\"\",VLOOKUP(C1823,PARAMETROS!$G$3:$H$21,2,FALSE))","v":""},null,{"$f":"IF(E1823=\"\",\"\",VLOOKUP(E1823,PARAMETROS!$I$3:$J$21,2,FALSE))","v":""},null,null,null,null,null,null,""]
[null,{"$f":"IF(A1824=\"\",\"\",VLOOKUP(A1824,PARAMETROS!$B$3:$C$3,2,FALSE))","v":""},null,{"$f":"IF(C1824=\"\",\"\",VLOOKUP(C1824,PARAMETROS!$G$3:$H$21,2,FALSE))","v":""},null,{"$f":"IF(E1824=\"\",\"\",VLOOKUP(E1824,PARAMETROS!$I$3:$J$21,2,FALSE))","v":""},null,null,null,null,null,null,""]
[null,{"$f":"IF(A1825=\"\",\"\",VLOOKUP(A1825,PARAMETROS!$B$3:$C$3,2,FALSE))","v":""},null,{"$f":"IF(C1825=\"\",\"\",VLOOKUP(C1825,PARAMETROS!$G$3:$H$21,2,FALSE))","v":""},null,{"$f":"IF(E1825=\"\",\"\",VLOOKUP(E1825,PARAMETROS!$I$3:$J$21,2,FALSE))","v":""},null,null,null,null,null,null,""]
[null,{"$f":"IF(A1826=\"\",\"\",VLOOKUP(A1826,PARAMETROS!$B$3:$C$3,2,FALSE))","v":""},null,{"$f":"IF(C1826=\"\",\"\",VLOOKUP(C1826,PARAMETROS!$G$3:$H$21,2,FALSE))","v":""},null,{"$f":"IF(E1826=\"\",\"\",VLOOKUP(E1826,PARAMETROS!$I$3:$J$21,2,FALSE))","v":""},null,null,null,null,null,null,""]
[null,{"$f":"IF(A1827=\"\",\"\",VLOOKUP(A1827,PARAMETROS!$B$3:$C$3,2,FALSE))","v":""},null,{"$f":"IF(C1827=\"\",\"\",VLOOKUP(C1827,PARAMETROS!$G$3:$H$21,2,FALSE))","v":""},null,{"$f":"IF(E1827=\"\",\"\",VLOOKUP(E1827,PARAMETROS!$I$3:$J$21,2,FALSE))","v":""},null,null,null,null,null,null,""]
[null,{"$f":"IF(A1828=\"\",\"\",VLOOKUP(A1828,PARAMETROS!$B$3:$C$3,2,FALSE))","v":""},null,{"$f":"IF(C1828=\"\",\"\",VLOOKUP(C1828,PARAMETROS!$G$3:$H$21,2,FALSE))","v":""},null,{"$f":"IF(E1828=\"\",\"\",VLOOKUP(E1828,PARAMETROS!$I$3:$J$21,2,FALSE))","v":""},null,null,null,null,null,null,""]
[null,{"$f":"IF(A1829=\"\",\"\",VLOOKUP(A1829,PARAMETROS!$B$3:$C$3,2,FALSE))","v":""},null,{"$f":"IF(C1829=\"\",\"\",VLOOKUP(C1829,PARAMETROS!$G$3:$H$21,2,FALSE))","v":""},null,{"$f":"IF(E1829=\"\",\"\",VLOOKUP(E1829,PARAMETROS!$I$3:$J$21,2,FALSE))","v":""},null,null,null,null,null,null,""]
[null,{"$f":"IF(A1830=\"\",\"\",VLOOKUP(A1830,PARAMETROS!$B$3:$C$3,2,FALSE))","v":""},null,{"$f":"IF(C1830=\"\",\"\",VLOOKUP(C1830,PARAMETROS!$G$3:$H$21,2,FALSE))","v":""},null,{"$f":"IF(E1830=\"\",\"\",VLOOKUP(E1830,PARAMETROS!$I$3:$J$21,2,FALSE))","v":""},null,null,null,null,null,null,""]
[null,{"$f":"IF(A1831=\"\",\"\",VLOOKUP(A1831,PARAMETROS!$B$3:$C$3,2,FALSE))","v":""},null,{"$f":"IF(C1831=\"\",\"\",VLOOKUP(C1831,PARAMETROS!$G$3:$H$21,2,FALSE))","v":""},null,{"$f":"IF(E1831=\"\",\"\",VLOOKUP(E1831,PARAMETROS!$I$3:$J$21,2,FALSE))","v":""},null,null,null,null,null,null,""]
[null,{"$f":"IF(A1832=\"\",\"\",VLOOKUP(A1832,PARAMETROS!$B$3:$C$3,2,FALSE))","v":""},null,{"$f":"IF(C1832=\"\",\"\",VLOOKUP(C1832,PARAMETROS!$G$3:$H$21,2,FALSE))","v":""},null,{"$f":"IF(E1832=\"\",\"\",VLOOKUP(E1832,PARAMETROS!$I$3:$J$21,2,FALSE))","v":""},null,null,null,null,null,null,""]
[null,{"$f":"IF(A1833=\"\",\"\",VLOOKUP(A1833,PARAMETROS!$B$3:$C$3,2,FALSE))","v":""},null,{"$f":"IF(C1833=\"\",\"\",VLOOKUP(C1833,PARAMETROS!$G$3:$H$21,2,FALSE))","v":""},null,{"$f":"IF(E1833=\"\",\"\",VLOOKUP(E1833,PARAMETROS!$I$3:$J$21,2,FALSE))","v":""},null,null,null,null,null,null,""]
[null,{"$f":"IF(A1834=\"\",\"\",VLOOKUP(A1834,PARAMETROS!$B$3:$C$3,2,FALSE))","v":""},null,{"$f":"IF(C1834=\"\",\"\",VLOOKUP(C1834,PARAMETROS!$G$3:$H$21,2,FALSE))","v":""},null,{"$f":"IF(E1834=\"\",\"\",VLOOKUP(E1834,PARAMETROS!$I$3:$J$21,2,FALSE))","v":""},null,null,null,null,null,null,""]
[null,{"$f":"IF(A1835=\"\",\"\",VLOOKUP(A1835,PARAMETROS!$B$3:$C$3,2,FALSE))","v":""},null,{"$f":"IF(C1835=\"\",\"\",VLOOKUP(C1835,PARAMETROS!$G$3:$H$21,2,FALSE))","v":""},null,{"$f":"IF(E1835=\"\",\"\",VLOOKUP(E1835,PARAMETROS!$I$3:$J$21,2,FALSE))","v":""},null,null,null,null,null,null,""]
[null,{"$f":"IF(A1836=\"\",\"\",VLOOKUP(A1836,PARAMETROS!$B$3:$C$3,2,FALSE))","v":""},null,{"$f":"IF(C1836=\"\",\"\",VLOOKUP(C1836,PARAMETROS!$G$3:$H$21,2,FALSE))","v":""},null,{"$f":"IF(E1836=\"\",\"\",VLOOKUP(E1836,PARAMETROS!$I$3:$J$21,2,FALSE))","v":""},null,null,null,null,null,null,""]
[null,{"$f":"IF(A1837=\"\",\"\",VLOOKUP(A1837,PARAMETROS!$B$3:$C$3,2,FALSE))","v":""},null,{"$f":"IF(C1837=\"\",\"\",VLOOKUP(C1837,PARAMETROS!$G$3:$H$21,2,FALSE))","v":""},null,{"$f":"IF(E1837=\"\",\"\",VLOOKUP(E1837,PARAMETROS!$I$3:$J$21,2,FALSE))","v":""},null,null,null,null,null,null,""]
[null,{"$f":"IF(A1838=\"\",\"\",VLOOKUP(A1838,PARAMETROS!$B$3:$C$3,2,FALSE))","v":""},null,{"$f":"IF(C1838=\"\",\"\",VLOOKUP(C1838,PARAMETROS!$G$3:$H$21,2,FALSE))","v":""},null,{"$f":"IF(E1838=\"\",\"\",VLOOKUP(E1838,PARAMETROS!$I$3:$J$21,2,FALSE))","v":""},null,null,null,null,null,null,""]
[null,{"$f":"IF(A1839=\"\",\"\",VLOOKUP(A1839,PARAMETROS!$B$3:$C$3,2,FALSE))","v":""},null,{"$f":"IF(C1839=\"\",\"\",VLOOKUP(C1839,PARAMETROS!$G$3:$H$21,2,FALSE))","v":""},null,{"$f":"IF(E1839=\"\",\"\",VLOOKUP(E1839,PARAMETROS!$I$3:$J$21,2,FALSE))","v":""},null,null,null,null,null,null,""]
[null,{"$f":"IF(A1840=\"\",\"\",VLOOKUP(A1840,PARAMETROS!$B$3:$C$3,2,FALSE))","v":""},null,{"$f":"IF(C1840=\"\",\"\",VLOOKUP(C1840,PARAMETROS!$G$3:$H$21,2,FALSE))","v":""},null,{"$f":"IF(E1840=\"\",\"\",VLOOKUP(E1840,PARAMETROS!$I$3:$J$21,2,FALSE))","v":""},null,null,null,null,null,null,""]
[null,{"$f":"IF(A1841=\"\",\"\",VLOOKUP(A1841,PARAMETROS!$B$3:$C$3,2,FALSE))","v":""},null,{"$f":"IF(C1841=\"\",\"\",VLOOKUP(C1841,PARAMETROS!$G$3:$H$21,2,FALSE))","v":""},null,{"$f":"IF(E1841=\"\",\"\",VLOOKUP(E1841,PARAMETROS!$I$3:$J$21,2,FALSE))","v":""},null,null,null,null,null,null,""]
[null,{"$f":"IF(A1842=\"\",\"\",VLOOKUP(A1842,PARAMETROS!$B$3:$C$3,2,FALSE))","v":""},null,{"$f":"IF(C1842=\"\",\"\",VLOOKUP(C1842,PARAMETROS!$G$3:$H$21,2,FALSE))","v":""},null,{"$f":"IF(E1842=\"\",\"\",VLOOKUP(E1842,PARAMETROS!$I$3:$J$21,2,FALSE))","v":""},null,null,null,null,null,null,""]
[null,{"$f":"IF(A1843=\"\",\"\",VLOOKUP(A1843,PARAMETROS!$B$3:$C$3,2,FALSE))","v":""},null,{"$f":"IF(C1843=\"\",\"\",VLOOKUP(C1843,PARAMETROS!$G$3:$H$21,2,FALSE))","v":""},null,{"$f":"IF(E1843=\"\",\"\",VLOOKUP(E1843,PARAMETROS!$I$3:$J$21,2,FALSE))","v":""},null,null,null,null,null,null,""]
[null,{"$f":"IF(A1844=\"\",\"\",VLOOKUP(A1844,PARAMETROS!$B$3:$C$3,2,FALSE))","v":""},null,{"$f":"IF(C1844=\"\",\"\",VLOOKUP(C1844,PARAMETROS!$G$3:$H$21,2,FALSE))","v":""},null,{"$f":"IF(E1844=\"\",\"\",VLOOKUP(E1844,PARAMETROS!$I$3:$J$21,2,FALSE))","v":""},null,null,null,null,null,null,""]
[null,{"$f":"IF(A1845=\"\",\"\",VLOOKUP(A1845,PARAMETROS!$B$3:$C$3,2,FALSE))","v":""},null,{"$f":"IF(C1845=\"\",\"\",VLOOKUP(C1845,PARAMETROS!$G$3:$H$21,2,FALSE))","v":""},null,{"$f":"IF(E1845=\"\",\"\",VLOOKUP(E1845,PARAMETROS!$I$3:$J$21,2,FALSE))","v":""},null,null,null,null,null,null,""]
[null,{"$f":"IF(A1846=\"\",\"\",VLOOKUP(A1846,PARAMETROS!$B$3:$C$3,2,FALSE))","v":""},null,{"$f":"IF(C1846=\"\",\"\",VLOOKUP(C1846,PARAMETROS!$G$3:$H$21,2,FALSE))","v":""},null,{"$f":"IF(E1846=\"\",\"\",VLOOKUP(E1846,PARAMETROS!$I$3:$J$21,2,FALSE))","v":""},null,null,null,null,null,null,""]
[null,{"$f":"IF(A1847=\"\",\"\",VLOOKUP(A1847,PARAMETROS!$B$3:$C$3,2,FALSE))","v":""},null,{"$f":"IF(C1847=\"\",\"\",VLOOKUP(C1847,PARAMETROS!$G$3:$H$21,2,FALSE))","v":""},null,{"$f":"IF(E1847=\"\",\"\",VLOOKUP(E1847,PARAMETROS!$I$3:$J$21,2,FALSE))","v":""},null,null,null,null,null,null,""]
[null,{"$f":"IF(A1848=\"\",\"\",VLOOKUP(A1848,PARAMETROS!$B$3:$C$3,2,FALSE))","v":""},null,{"$f":"IF(C1848=\"\",\"\",VLOOKUP(C1848,PARAMETROS!$G$3:$H$21,2,FALSE))","v":""},null,{"$f":"IF(E1848=\"\",\"\",VLOOKUP(E1848,PARAMETROS!$I$3:$J$21,2,FALSE))","v":""},null,null,null,null,null,null,""]
[null,{"$f":"IF(A1849=\"\",\"\",VLOOKUP(A1849,PARAMETROS!$B$3:$C$3,2,FALSE))","v":""},null,{"$f":"IF(C1849=\"\",\"\",VLOOKUP(C1849,PARAMETROS!$G$3:$H$21,2,FALSE))","v":""},null,{"$f":"IF(E1849=\"\",\"\",VLOOKUP(E1849,PARAMETROS!$I$3:$J$21,2,FALSE))","v":""},null,null,null,null,null,null,""]
[null,{"$f":"IF(A1850=\"\",\"\",VLOOKUP(A1850,PARAMETROS!$B$3:$C$3,2,FALSE))","v":""},null,{"$f":"IF(C1850=\"\",\"\",VLOOKUP(C1850,PARAMETROS!$G$3:$H$21,2,FALSE))","v":""},null,{"$f":"IF(E1850=\"\",\"\",VLOOKUP(E1850,PARAMETROS!$I$3:$J$21,2,FALSE))","v":""},null,null,null,null,null,null,""]
[null,{"$f":"IF(A1851=\"\",\"\",VLOOKUP(A1851,PARAMETROS!$B$3:$C$3,2,FALSE))","v":""},null,{"$f":"IF(C1851=\"\",\"\",VLOOKUP(C1851,PARAMETROS!$G$3:$H$21,2,FALSE))","v":""},null,{"$f":"IF(E1851=\"\",\"\",VLOOKUP(E1851,PARAMETROS!$I$3:$J$21,2,FALSE))","v":""},null,null,null,null,null,null,""]
[null,{"$f":"IF(A1852=\"\",\"\",VLOOKUP(A1852,PARAMETROS!$B$3:$C$3,2,FALSE))","v":""},null,{"$f":"IF(C1852=\"\",\"\",VLOOKUP(C1852,PARAMETROS!$G$3:$H$21,2,FALSE))","v":""},null,{"$f":"IF(E1852=\"\",\"\",VLOOKUP(E1852,PARAMETROS!$I$3:$J$21,2,FALSE))","v":""},null,null,null,null,null,null,""]
[null,{"$f":"IF(A1853=\"\",\"\",VLOOKUP(A1853,PARAMETROS!$B$3:$C$3,2,FALSE))","v":""},null,{"$f":"IF(C1853=\"\",\"\",VLOOKUP(C1853,PARAMETROS!$G$3:$H$21,2,FALSE))","v":""},null,{"$f":"IF(E1853=\"\",\"\",VLOOKUP(E1853,PARAMETROS!$I$3:$J$21,2,FALSE))","v":""},null,null,null,null,null,null,""]
[null,{"$f":"IF(A1854=\"\",\"\",VLOOKUP(A1854,PARAMETROS!$B$3:$C$3,2,FALSE))","v":""},null,{"$f":"IF(C1854=\"\",\"\",VLOOKUP(C1854,PARAMETROS!$G$3:$H$21,2,FALSE))","v":""},null,{"$f":"IF(E1854=\"\",\"\",VLOOKUP(E1854,PARAMETROS!$I$3:$J$21,2,FALSE))","v":""},null,null,null,null,null,null,""]
[null,{"$f":"IF(A1855=\"\",\"\",VLOOKUP(A1855,PARAMETROS!$B$3:$C$3,2,FALSE))","v":""},null,{"$f":"IF(C1855=\"\",\"\",VLOOKUP(C1855,PARAMETROS!$G$3:$H$21,2,FALSE))","v":""},null,{"$f":"IF(E1855=\"\",\"\",VLOOKUP(E1855,PARAMETROS!$I$3:$J$21,2,FALSE))","v":""},null,null,null,null,null,null,""]
[null,{"$f":"IF(A1856=\"\",\"\",VLOOKUP(A1856,PARAMETROS!$B$3:$C$3,2,FALSE))","v":""},null,{"$f":"IF(C1856=\"\",\"\",VLOOKUP(C1856,PARAMETROS!$G$3:$H$21,2,FALSE))","v":""},null,{"$f":"IF(E1856=\"\",\"\",VLOOKUP(E1856,PARAMETROS!$I$3:$J$21,2,FALSE))","v":""},null,null,null,null,null,null,""]
[null,{"$f":"IF(A1857=\"\",\"\",VLOOKUP(A1857,PARAMETROS!$B$3:$C$3,2,FALSE))","v":""},null,{"$f":"IF(C1857=\"\",\"\",VLOOKUP(C1857,PARAMETROS!$G$3:$H$21,2,FALSE))","v":""},null,{"$f":"IF(E1857=\"\",\"\",VLOOKUP(E1857,PARAMETROS!$I$3:$J$21,2,FALSE))","v":""},null,null,null,null,null,null,""]
[null,{"$f":"IF(A1858=\"\",\"\",VLOOKUP(A1858,PARAMETROS!$B$3:$C$3,2,FALSE))","v":""},null,{"$f":"IF(C1858=\"\",\"\",VLOOKUP(C1858,PARAMETROS!$G$3:$H$21,2,FALSE))","v":""},null,{"$f":"IF(E1858=\"\",\"\",VLOOKUP(E1858,PARAMETROS!$I$3:$J$21,2,FALSE))","v":""},null,null,null,null,null,null,""]
[null,{"$f":"IF(A1859=\"\",\"\",VLOOKUP(A1859,PARAMETROS!$B$3:$C$3,2,FALSE))","v":""},null,{"$f":"IF(C1859=\"\",\"\",VLOOKUP(C1859,PARAMETROS!$G$3:$H$21,2,FALSE))","v":""},null,{"$f":"IF(E1859=\"\",\"\",VLOOKUP(E1859,PARAMETROS!$I$3:$J$21,2,FALSE))","v":""},null,null,null,null,null,null,""]
[null,{"$f":"IF(A1860=\"\",\"\",VLOOKUP(A1860,PARAMETROS!$B$3:$C$3,2,FALSE))","v":""},null,{"$f":"IF(C1860=\"\",\"\",VLOOKUP(C1860,PARAMETROS!$G$3:$H$21,2,FALSE))","v":""},null,{"$f":"IF(E1860=\"\",\"\",VLOOKUP(E1860,PARAMETROS!$I$3:$J$21,2,FALSE))","v":""},null,null,null,null,null,null,""]
[null,{"$f":"IF(A1861=\"\",\"\",VLOOKUP(A1861,PARAMETROS!$B$3:$C$3,2,FALSE))","v":""},null,{"$f":"IF(C1861=\"\",\"\",VLOOKUP(C1861,PARAMETROS!$G$3:$H$21,2,FALSE))","v":""},null,{"$f":"IF(E1861=\"\",\"\",VLOOKUP(E1861,PARAMETROS!$I$3:$J$21,2,FALSE))","v":""},null,null,null,null,null,null,""]
[null,{"$f":"IF(A1862=\"\",\"\",VLOOKUP(A1862,PARAMETROS!$B$3:$C$3,2,FALSE))","v":""},null,{"$f":"IF(C1862=\"\",\"\",VLOOKUP(C1862,PARAMETROS!$G$3:$H$21,2,FALSE))","v":""},null,{"$f":"IF(E1862=\"\",\"\",VLOOKUP(E1862,PARAMETROS!$I$3:$J$21,2,FALSE))","v":""},null,null,null,null,null,null,""]
[null,{"$f":"IF(A1863=\"\",\"\",VLOOKUP(A1863,PARAMETROS!$B$3:$C$3,2,FALSE))","v":""},null,{"$f":"IF(C1863=\"\",\"\",VLOOKUP(C1863,PARAMETROS!$G$3:$H$21,2,FALSE))","v":""},null,{"$f":"IF(E1863=\"\",\"\",VLOOKUP(E1863,PARAMETROS!$I$3:$J$21,2,FALSE))","v":""},null,null,null,null,null,null,""]
[null,{"$f":"IF(A1864=\"\",\"\",VLOOKUP(A1864,PARAMETROS!$B$3:$C$3,2,FALSE))","v":""},null,{"$f":"IF(C1864=\"\",\"\",VLOOKUP(C1864,PARAMETROS!$G$3:$H$21,2,FALSE))","v":""},null,{"$f":"IF(E1864=\"\",\"\",VLOOKUP(E1864,PARAMETROS!$I$3:$J$21,2,FALSE))","v":""},null,null,null,null,null,null,""]
[null,{"$f":"IF(A1865=\"\",\"\",VLOOKUP(A1865,PARAMETROS!$B$3:$C$3,2,FALSE))","v":""},null,{"$f":"IF(C1865=\"\",\"\",VLOOKUP(C1865,PARAMETROS!$G$3:$H$21,2,FALSE))","v":""},null,{"$f":"IF(E1865=\"\",\"\",VLOOKUP(E1865,PARAMETROS!$I$3:$J$21,2,FALSE))","v":""},null,null,null,null,null,null,""]
[null,{"$f":"IF(A1866=\"\",\"\",VLOOKUP(A1866,PARAMETROS!$B$3:$C$3,2,FALSE))","v":""},null,{"$f":"IF(C1866=\"\",\"\",VLOOKUP(C1866,PARAMETROS!$G$3:$H$21,2,FALSE))","v":""},null,{"$f":"IF(E1866=\"\",\"\",VLOOKUP(E1866,PARAMETROS!$I$3:$J$21,2,FALSE))","v":""},null,null,null,null,null,null,""]
[null,{"$f":"IF(A1867=\"\",\"\",VLOOKUP(A1867,PARAMETROS!$B$3:$C$3,2,FALSE))","v":""},null,{"$f":"IF(C1867=\"\",\"\",VLOOKUP(C1867,PARAMETROS!$G$3:$H$21,2,FALSE))","v":""},null,{"$f":"IF(E1867=\"\",\"\",VLOOKUP(E1867,PARAMETROS!$I$3:$J$21,2,FALSE))","v":""},null,null,null,null,null,null,""]
[null,{"$f":"IF(A1868=\"\",\"\",VLOOKUP(A1868,PARAMETROS!$B$3:$C$3,2,FALSE))","v":""},null,{"$f":"IF(C1868=\"\",\"\",VLOOKUP(C1868,PARAMETROS!$G$3:$H$21,2,FALSE))","v":""},null,{"$f":"IF(E1868=\"\",\"\",VLOOKUP(E1868,PARAMETROS!$I$3:$J$21,2,FALSE))","v":""},null,null,null,null,null,null,""]
[null,{"$f":"IF(A1869=\"\",\"\",VLOOKUP(A1869,PARAMETROS!$B$3:$C$3,2,FALSE))","v":""},null,{"$f":"IF(C1869=\"\",\"\",VLOOKUP(C1869,PARAMETROS!$G$3:$H$21,2,FALSE))","v":""},null,{"$f":"IF(E1869=\"\",\"\",VLOOKUP(E1869,PARAMETROS!$I$3:$J$21,2,FALSE))","v":""},null,null,null,null,null,null,""]
[null,{"$f":"IF(A1870=\"\",\"\",VLOOKUP(A1870,PARAMETROS!$B$3:$C$3,2,FALSE))","v":""},null,{"$f":"IF(C1870=\"\",\"\",VLOOKUP(C1870,PARAMETROS!$G$3:$H$21,2,FALSE))","v":""},null,{"$f":"IF(E1870=\"\",\"\",VLOOKUP(E1870,PARAMETROS!$I$3:$J$21,2,FALSE))","v":""},null,null,null,null,null,null,""]
[null,{"$f":"IF(A1871=\"\",\"\",VLOOKUP(A1871,PARAMETROS!$B$3:$C$3,2,FALSE))","v":""},null,{"$f":"IF(C1871=\"\",\"\",VLOOKUP(C1871,PARAMETROS!$G$3:$H$21,2,FALSE))","v":""},null,{"$f":"IF(E1871=\"\",\"\",VLOOKUP(E1871,PARAMETROS!$I$3:$J$21,2,FALSE))","v":""},null,null,null,null,null,null,{"$f":"IF(L1871=\"\", \"\", L1871)","v":""}]
[null,{"$f":"IF(A1872=\"\",\"\",VLOOKUP(A1872,PARAMETROS!$B$3:$C$3,2,FALSE))","v":""},null,{"$f":"IF(C1872=\"\",\"\",VLOOKUP(C1872,PARAMETROS!$G$3:$H$21,2,FALSE))","v":""},null,{"$f":"IF(E1872=\"\",\"\",VLOOKUP(E1872,PARAMETROS!$I$3:$J$21,2,FALSE))","v":""},null,null,null,null,null,null,""]
[null,{"$f":"IF(A1873=\"\",\"\",VLOOKUP(A1873,PARAMETROS!$B$3:$C$3,2,FALSE))","v":""},null,{"$f":"IF(C1873=\"\",\"\",VLOOKUP(C1873,PARAMETROS!$G$3:$H$21,2,FALSE))","v":""},null,{"$f":"IF(E1873=\"\",\"\",VLOOKUP(E1873,PARAMETROS!$I$3:$J$21,2,FALSE))","v":""},null,null,null,null,null,null,""]
[null,{"$f":"IF(A1874=\"\",\"\",VLOOKUP(A1874,PARAMETROS!$B$3:$C$3,2,FALSE))","v":""},null,{"$f":"IF(C1874=\"\",\"\",VLOOKUP(C1874,PARAMETROS!$G$3:$H$21,2,FALSE))","v":""},null,{"$f":"IF(E1874=\"\",\"\",VLOOKUP(E1874,PARAMETROS!$I$3:$J$21,2,FALSE))","v":""},null,null,null,null,null,null,""]
[null,{"$f":"IF(A1875=\"\",\"\",VLOOKUP(A1875,PARAMETROS!$B$3:$C$3,2,FALSE))","v":""},null,{"$f":"IF(C1875=\"\",\"\",VLOOKUP(C1875,PARAMETROS!$G$3:$H$21,2,FALSE))","v":""},null,{"$f":"IF(E1875=\"\",\"\",VLOOKUP(E1875,PARAMETROS!$I$3:$J$21,2,FALSE))","v":""},null,null,null,null,null,null,""]
[null,{"$f":"IF(A1876=\"\",\"\",VLOOKUP(A1876,PARAMETROS!$B$3:$C$3,2,FALSE))","v":""},null,{"$f":"IF(C1876=\"\",\"\",VLOOKUP(C1876,PARAMETROS!$G$3:$H$21,2,FALSE))","v":""},null,{"$f":"IF(E1876=\"\",\"\",VLOOKUP(E1876,PARAMETROS!$I$3:$J$21,2,FALSE))","v":""},null,null,null,null,null,null,""]
[null,{"$f":"IF(A1877=\"\",\"\",VLOOKUP(A1877,PARAMETROS!$B$3:$C$3,2,FALSE))","v":""},null,{"$f":"IF(C1877=\"\",\"\",VLOOKUP(C1877,PARAMETROS!$G$3:$H$21,2,FALSE))","v":""},null,{"$f":"IF(E1877=\"\",\"\",VLOOKUP(E1877,PARAMETROS!$I$3:$J$21,2,FALSE))","v":""},null,null,null,null,null,null,""]
[null,{"$f":"IF(A1878=\"\",\"\",VLOOKUP(A1878,PARAMETROS!$B$3:$C$3,2,FALSE))","v":""},null,{"$f":"IF(C1878=\"\",\"\",VLOOKUP(C1878,PARAMETROS!$G$3:$H$21,2,FALSE))","v":""},null,{"$f":"IF(E1878=\"\",\"\",VLOOKUP(E1878,PARAMETROS!$I$3:$J$21,2,FALSE))","v":""},null,null,null,null,null,null,""]
[null,{"$f":"IF(A1879=\"\",\"\",VLOOKUP(A1879,PARAMETROS!$B$3:$C$3,2,FALSE))","v":""},null,{"$f":"IF(C1879=\"\",\"\",VLOOKUP(C1879,PARAMETROS!$G$3:$H$21,2,FALSE))","v":""},null,{"$f":"IF(E1879=\"\",\"\",VLOOKUP(E1879,PARAMETROS!$I$3:$J$21,2,FALSE))","v":""},null,null,null,null,null,null,""]
[null,{"$f":"IF(A1880=\"\",\"\",VLOOKUP(A1880,PARAMETROS!$B$3:$C$3,2,FALSE))","v":""},null,{"$f":"IF(C1880=\"\",\"\",VLOOKUP(C1880,PARAMETROS!$G$3:$H$21,2,FALSE))","v":""},null,{"$f":"IF(E1880=\"\",\"\",VLOOKUP(E1880,PARAMETROS!$I$3:$J$21,2,FALSE))","v":""},null,null,null,null,null,null,""]
[null,{"$f":"IF(A1881=\"\",\"\",VLOOKUP(A1881,PARAMETROS!$B$3:$C$3,2,FALSE))","v":""},null,{"$f":"IF(C1881=\"\",\"\",VLOOKUP(C1881,PARAMETROS!$G$3:$H$21,2,FALSE))","v":""},null,{"$f":"IF(E1881=\"\",\"\",VLOOKUP(E1881,PARAMETROS!$I$3:$J$21,2,FALSE))","v":""},null,null,null,null,null,null,""]
[null,{"$f":"IF(A1882=\"\",\"\",VLOOKUP(A1882,PARAMETROS!$B$3:$C$3,2,FALSE))","v":""},null,{"$f":"IF(C1882=\"\",\"\",VLOOKUP(C1882,PARAMETROS!$G$3:$H$21,2,FALSE))","v":""},null,{"$f":"IF(E1882=\"\",\"\",VLOOKUP(E1882,PARAMETROS!$I$3:$J$21,2,FALSE))","v":""},null,null,null,null,null,null,""]
[null,{"$f":"IF(A1883=\"\",\"\",VLOOKUP(A1883,PARAMETROS!$B$3:$C$3,2,FALSE))","v":""},null,{"$f":"IF(C1883=\"\",\"\",VLOOKUP(C1883,PARAMETROS!$G$3:$H$21,2,FALSE))","v":""},null,{"$f":"IF(E1883=\"\",\"\",VLOOKUP(E1883,PARAMETROS!$I$3:$J$21,2,FALSE))","v":""},null,null,null,null,null,null,""]
[null,{"$f":"IF(A1884=\"\",\"\",VLOOKUP(A1884,PARAMETROS!$B$3:$C$3,2,FALSE))","v":""},null,{"$f":"IF(C1884=\"\",\"\",VLOOKUP(C1884,PARAMETROS!$G$3:$H$21,2,FALSE))","v":""},null,{"$f":"IF(E1884=\"\",\"\",VLOOKUP(E1884,PARAMETROS!$I$3:$J$21,2,FALSE))","v":""},null,null,null,null,null,null,""]
[null,{"$f":"IF(A1885=\"\",\"\",VLOOKUP(A1885,PARAMETROS!$B$3:$C$3,2,FALSE))","v":""},null,{"$f":"IF(C1885=\"\",\"\",VLOOKUP(C1885,PARAMETROS!$G$3:$H$21,2,FALSE))","v":""},null,{"$f":"IF(E1885=\"\",\"\",VLOOKUP(E1885,PARAMETROS!$I$3:$J$21,2,FALSE))","v":""},null,null,null,null,null,null,""]
[null,{"$f":"IF(A1886=\"\",\"\",VLOOKUP(A1886,PARAMETROS!$B$3:$C$3,2,FALSE))","v":""},null,{"$f":"IF(C1886=\"\",\"\",VLOOKUP(C1886,PARAMETROS!$G$3:$H$21,2,FALSE))","v":""},null,{"$f":"IF(E1886=\"\",\"\",VLOOKUP(E1886,PARAMETROS!$I$3:$J$21,2,FALSE))","v":""},null,null,null,null,null,null,""]
[null,{"$f":"IF(A1887=\"\",\"\",VLOOKUP(A1887,PARAMETROS!$B$3:$C$3,2,FALSE))","v":""},null,{"$f":"IF(C1887=\"\",\"\",VLOOKUP(C1887,PARAMETROS!$G$3:$H$21,2,FALSE))","v":""},null,{"$f":"IF(E1887=\"\",\"\",VLOOKUP(E1887,PARAMETROS!$I$3:$J$21,2,FALSE))","v":""},null,null,null,null,null,null,""]
[null,{"$f":"IF(A1888=\"\",\"\",VLOOKUP(A1888,PARAMETROS!$B$3:$C$3,2,FALSE))","v":""},null,{"$f":"IF(C1888=\"\",\"\",VLOOKUP(C1888,PARAMETROS!$G$3:$H$21,2,FALSE))","v":""},null,{"$f":"IF(E1888=\"\",\"\",VLOOKUP(E1888,PARAMETROS!$I$3:$J$21,2,FALSE))","v":""},null,null,null,null,null,null,""]
[null,{"$f":"IF(A1889=\"\",\"\",VLOOKUP(A1889,PARAMETROS!$B$3:$C$3,2,FALSE))","v":""},null,{"$f":"IF(C1889=\"\",\"\",VLOOKUP(C1889,PARAMETROS!$G$3:$H$21,2,FALSE))","v":""},null,{"$f":"IF(E1889=\"\",\"\",VLOOKUP(E1889,PARAMETROS!$I$3:$J$21,2,FALSE))","v":""},null,null,null,null,null,null,""]
[null,{"$f":"IF(A1890=\"\",\"\",VLOOKUP(A1890,PARAMETROS!$B$3:$C$3,2,FALSE))","v":""},null,{"$f":"IF(C1890=\"\",\"\",VLOOKUP(C1890,PARAMETROS!$G$3:$H$21,2,FALSE))","v":""},null,{"$f":"IF(E1890=\"\",\"\",VLOOKUP(E1890,PARAMETROS!$I$3:$J$21,2,FALSE))","v":""},null,null,null,null,null,null,""]
[null,{"$f":"IF(A1891=\"\",\"\",VLOOKUP(A1891,PARAMETROS!$B$3:$C$3,2,FALSE))","v":""},null,{"$f":"IF(C1891=\"\",\"\",VLOOKUP(C1891,PARAMETROS!$G$3:$H$21,2,FALSE))","v":""},null,{"$f":"IF(E1891=\"\",\"\",VLOOKUP(E1891,PARAMETROS!$I$3:$J$21,2,FALSE))","v":""},null,null,null,null,null,null,""]
[null,{"$f":"IF(A1892=\"\",\"\",VLOOKUP(A1892,PARAMETROS!$B$3:$C$3,2,FALSE))","v":""},null,{"$f":"IF(C1892=\"\",\"\",VLOOKUP(C1892,PARAMETROS!$G$3:$H$21,2,FALSE))","v":""},null,{"$f":"IF(E1892=\"\",\"\",VLOOKUP(E1892,PARAMETROS!$I$3:$J$21,2,FALSE))","v":""},null,null,null,null,null,null,""]
[null,{"$f":"IF(A1893=\"\",\"\",VLOOKUP(A1893,PARAMETROS!$B$3:$C$3,2,FALSE))","v":""},null,{"$f":"IF(C1893=\"\",\"\",VLOOKUP(C1893,PARAMETROS!$G$3:$H$21,2,FALSE))","v":""},null,{"$f":"IF(E1893=\"\",\"\",VLOOKUP(E1893,PARAMETROS!$I$3:$J$21,2,FALSE))","v":""},null,null,null,null,null,null,""]
[null,{"$f":"IF(A1894=\"\",\"\",VLOOKUP(A1894,PARAMETROS!$B$3:$C$3,2,FALSE))","v":""},null,{"$f":"IF(C1894=\"\",\"\",VLOOKUP(C1894,PARAMETROS!$G$3:$H$21,2,FALSE))","v":""},null,{"$f":"IF(E1894=\"\",\"\",VLOOKUP(E1894,PARAMETROS!$I$3:$J$21,2,FALSE))","v":""},null,null,null,null,null,null,""]
[null,{"$f":"IF(A1895=\"\",\"\",VLOOKUP(A1895,PARAMETROS!$B$3:$C$3,2,FALSE))","v":""},null,{"$f":"IF(C1895=\"\",\"\",VLOOKUP(C1895,PARAMETROS!$G$3:$H$21,2,FALSE))","v":""},null,{"$f":"IF(E1895=\"\",\"\",VLOOKUP(E1895,PARAMETROS!$I$3:$J$21,2,FALSE))","v":""},null,null,null,null,null,null,""]
[null,{"$f":"IF(A1896=\"\",\"\",VLOOKUP(A1896,PARAMETROS!$B$3:$C$3,2,FALSE))","v":""},null,{"$f":"IF(C1896=\"\",\"\",VLOOKUP(C1896,PARAMETROS!$G$3:$H$21,2,FALSE))","v":""},null,{"$f":"IF(E1896=\"\",\"\",VLOOKUP(E1896,PARAMETROS!$I$3:$J$21,2,FALSE))","v":""},null,null,null,null,null,null,""]
[null,{"$f":"IF(A1897=\"\",\"\",VLOOKUP(A1897,PARAMETROS!$B$3:$C$3,2,FALSE))","v":""},null,{"$f":"IF(C1897=\"\",\"\",VLOOKUP(C1897,PARAMETROS!$G$3:$H$21,2,FALSE))","v":""},null,{"$f":"IF(E1897=\"\",\"\",VLOOKUP(E1897,PARAMETROS!$I$3:$J$21,2,FALSE))","v":""},null,null,null,null,null,null,""]
[null,{"$f":"IF(A1898=\"\",\"\",VLOOKUP(A1898,PARAMETROS!$B$3:$C$3,2,FALSE))","v":""},null,{"$f":"IF(C1898=\"\",\"\",VLOOKUP(C1898,PARAMETROS!$G$3:$H$21,2,FALSE))","v":""},null,{"$f":"IF(E1898=\"\",\"\",VLOOKUP(E1898,PARAMETROS!$I$3:$J$21,2,FALSE))","v":""},null,null,null,null,null,null,""]
[null,{"$f":"IF(A1899=\"\",\"\",VLOOKUP(A1899,PARAMETROS!$B$3:$C$3,2,FALSE))","v":""},null,{"$f":"IF(C1899=\"\",\"\",VLOOKUP(C1899,PARAMETROS!$G$3:$H$21,2,FALSE))","v":""},null,{"$f":"IF(E1899=\"\",\"\",VLOOKUP(E1899,PARAMETROS!$I$3:$J$21,2,FALSE))","v":""},null,null,null,null,null,null,""]
[null,{"$f":"IF(A1900=\"\",\"\",VLOOKUP(A1900,PARAMETROS!$B$3:$C$3,2,FALSE))","v":""},null,{"$f":"IF(C1900=\"\",\"\",VLOOKUP(C1900,PARAMETROS!$G$3:$H$21,2,FALSE))","v":""},null,{"$f":"IF(E1900=\"\",\"\",VLOOKUP(E1900,PARAMETROS!$I$3:$J$21,2,FALSE))","v":""},null,null,null,null,null,null,""]
[null,{"$f":"IF(A1901=\"\",\"\",VLOOKUP(A1901,PARAMETROS!$B$3:$C$3,2,FALSE))","v":""},null,{"$f":"IF(C1901=\"\",\"\",VLOOKUP(C1901,PARAMETROS!$G$3:$H$21,2,FALSE))","v":""},null,{"$f":"IF(E1901=\"\",\"\",VLOOKUP(E1901,PARAMETROS!$I$3:$J$21,2,FALSE))","v":""},null,null,null,null,null,null,""]
[null,{"$f":"IF(A1902=\"\",\"\",VLOOKUP(A1902,PARAMETROS!$B$3:$C$3,2,FALSE))","v":""},null,{"$f":"IF(C1902=\"\",\"\",VLOOKUP(C1902,PARAMETROS!$G$3:$H$21,2,FALSE))","v":""},null,{"$f":"IF(E1902=\"\",\"\",VLOOKUP(E1902,PARAMETROS!$I$3:$J$21,2,FALSE))","v":""},null,null,null,null,null,null,""]
[null,{"$f":"IF(A1903=\"\",\"\",VLOOKUP(A1903,PARAMETROS!$B$3:$C$3,2,FALSE))","v":""},null,{"$f":"IF(C1903=\"\",\"\",VLOOKUP(C1903,PARAMETROS!$G$3:$H$21,2,FALSE))","v":""},null,{"$f":"IF(E1903=\"\",\"\",VLOOKUP(E1903,PARAMETROS!$I$3:$J$21,2,FALSE))","v":""},null,null,null,null,null,null,""]
[null,{"$f":"IF(A1904=\"\",\"\",VLOOKUP(A1904,PARAMETROS!$B$3:$C$3,2,FALSE))","v":""},null,{"$f":"IF(C1904=\"\",\"\",VLOOKUP(C1904,PARAMETROS!$G$3:$H$21,2,FALSE))","v":""},null,{"$f":"IF(E1904=\"\",\"\",VLOOKUP(E1904,PARAMETROS!$I$3:$J$21,2,FALSE))","v":""},null,null,null,null,null,null,""]
[null,{"$f":"IF(A1905=\"\",\"\",VLOOKUP(A1905,PARAMETROS!$B$3:$C$3,2,FALSE))","v":""},null,{"$f":"IF(C1905=\"\",\"\",VLOOKUP(C1905,PARAMETROS!$G$3:$H$21,2,FALSE))","v":""},null,{"$f":"IF(E1905=\"\",\"\",VLOOKUP(E1905,PARAMETROS!$I$3:$J$21,2,FALSE))","v":""},null,null,null,null,null,null,""]
[null,{"$f":"IF(A1906=\"\",\"\",VLOOKUP(A1906,PARAMETROS!$B$3:$C$3,2,FALSE))","v":""},null,{"$f":"IF(C1906=\"\",\"\",VLOOKUP(C1906,PARAMETROS!$G$3:$H$21,2,FALSE))","v":""},null,{"$f":"IF(E1906=\"\",\"\",VLOOKUP(E1906,PARAMETROS!$I$3:$J$21,2,FALSE))","v":""},null,null,null,null,null,null,""]
[null,{"$f":"IF(A1907=\"\",\"\",VLOOKUP(A1907,PARAMETROS!$B$3:$C$3,2,FALSE))","v":""},null,{"$f":"IF(C1907=\"\",\"\",VLOOKUP(C1907,PARAMETROS!$G$3:$H$21,2,FALSE))","v":""},null,{"$f":"IF(E1907=\"\",\"\",VLOOKUP(E1907,PARAMETROS!$I$3:$J$21,2,FALSE))","v":""},null,null,null,null,null,null,""]
[null,{"$f":"IF(A1908=\"\",\"\",VLOOKUP(A1908,PARAMETROS!$B$3:$C$3,2,FALSE))","v":""},null,{"$f":"IF(C1908=\"\",\"\",VLOOKUP(C1908,PARAMETROS!$G$3:$H$21,2,FALSE))","v":""},null,{"$f":"IF(E1908=\"\",\"\",VLOOKUP(E1908,PARAMETROS!$I$3:$J$21,2,FALSE))","v":""},null,null,null,null,null,null,""]
[null,{"$f":"IF(A1909=\"\",\"\",VLOOKUP(A1909,PARAMETROS!$B$3:$C$3,2,FALSE))","v":""},null,{"$f":"IF(C1909=\"\",\"\",VLOOKUP(C1909,PARAMETROS!$G$3:$H$21,2,FALSE))","v":""},null,{"$f":"IF(E1909=\"\",\"\",VLOOKUP(E1909,PARAMETROS!$I$3:$J$21,2,FALSE))","v":""},null,null,null,null,null,null,""]
[null,{"$f":"IF(A1910=\"\",\"\",VLOOKUP(A1910,PARAMETROS!$B$3:$C$3,2,FALSE))","v":""},null,{"$f":"IF(C1910=\"\",\"\",VLOOKUP(C1910,PARAMETROS!$G$3:$H$21,2,FALSE))","v":""},null,{"$f":"IF(E1910=\"\",\"\",VLOOKUP(E1910,PARAMETROS!$I$3:$J$21,2,FALSE))","v":""},null,null,null,null,null,null,""]
[null,{"$f":"IF(A1911=\"\",\"\",VLOOKUP(A1911,PARAMETROS!$B$3:$C$3,2,FALSE))","v":""},null,{"$f":"IF(C1911=\"\",\"\",VLOOKUP(C1911,PARAMETROS!$G$3:$H$21,2,FALSE))","v":""},null,{"$f":"IF(E1911=\"\",\"\",VLOOKUP(E1911,PARAMETROS!$I$3:$J$21,2,FALSE))","v":""},null,null,null,null,null,null,""]
[null,{"$f":"IF(A1912=\"\",\"\",VLOOKUP(A1912,PARAMETROS!$B$3:$C$3,2,FALSE))","v":""},null,{"$f":"IF(C1912=\"\",\"\",VLOOKUP(C1912,PARAMETROS!$G$3:$H$21,2,FALSE))","v":""},null,{"$f":"IF(E1912=\"\",\"\",VLOOKUP(E1912,PARAMETROS!$I$3:$J$21,2,FALSE))","v":""},null,null,null,null,null,null,""]
[null,{"$f":"IF(A1913=\"\",\"\",VLOOKUP(A1913,PARAMETROS!$B$3:$C$3,2,FALSE))","v":""},null,{"$f":"IF(C1913=\"\",\"\",VLOOKUP(C1913,PARAMETROS!$G$3:$H$21,2,FALSE))","v":""},null,{"$f":"IF(E1913=\"\",\"\",VLOOKUP(E1913,PARAMETROS!$I$3:$J$21,2,FALSE))","v":""},null,null,null,null,null,null,""]
[null,{"$f":"IF(A1914=\"\",\"\",VLOOKUP(A1914,PARAMETROS!$B$3:$C$3,2,FALSE))","v":""},null,{"$f":"IF(C1914=\"\",\"\",VLOOKUP(C1914,PARAMETROS!$G$3:$H$21,2,FALSE))","v":""},null,{"$f":"IF(E1914=\"\",\"\",VLOOKUP(E1914,PARAMETROS!$I$3:$J$21,2,FALSE))","v":""},null,null,null,null,null,null,""]
[null,{"$f":"IF(A1915=\"\",\"\",VLOOKUP(A1915,PARAMETROS!$B$3:$C$3,2,FALSE))","v":""},null,{"$f":"IF(C1915=\"\",\"\",VLOOKUP(C1915,PARAMETROS!$G$3:$H$21,2,FALSE))","v":""},null,{"$f":"IF(E1915=\"\",\"\",VLOOKUP(E1915,PARAMETROS!$I$3:$J$21,2,FALSE))","v":""},null,null,null,null,null,null,""]
[null,{"$f":"IF(A1916=\"\",\"\",VLOOKUP(A1916,PARAMETROS!$B$3:$C$3,2,FALSE))","v":""},null,{"$f":"IF(C1916=\"\",\"\",VLOOKUP(C1916,PARAMETROS!$G$3:$H$21,2,FALSE))","v":""},null,{"$f":"IF(E1916=\"\",\"\",VLOOKUP(E1916,PARAMETROS!$I$3:$J$21,2,FALSE))","v":""},null,null,null,null,null,null,""]
[null,{"$f":"IF(A1917=\"\",\"\",VLOOKUP(A1917,PARAMETROS!$B$3:$C$3,2,FALSE))","v":""},null,{"$f":"IF(C1917=\"\",\"\",VLOOKUP(C1917,PARAMETROS!$G$3:$H$21,2,FALSE))","v":""},null,{"$f":"IF(E1917=\"\",\"\",VLOOKUP(E1917,PARAMETROS!$I$3:$J$21,2,FALSE))","v":""},null,null,null,null,null,null,""]
[null,{"$f":"IF(A1918=\"\",\"\",VLOOKUP(A1918,PARAMETROS!$B$3:$C$3,2,FALSE))","v":""},null,{"$f":"IF(C1918=\"\",\"\",VLOOKUP(C1918,PARAMETROS!$G$3:$H$21,2,FALSE))","v":""},null,{"$f":"IF(E1918=\"\",\"\",VLOOKUP(E1918,PARAMETROS!$I$3:$J$21,2,FALSE))","v":""},null,null,null,null,null,null,""]
[null,{"$f":"IF(A1919=\"\",\"\",VLOOKUP(A1919,PARAMETROS!$B$3:$C$3,2,FALSE))","v":""},null,{"$f":"IF(C1919=\"\",\"\",VLOOKUP(C1919,PARAMETROS!$G$3:$H$21,2,FALSE))","v":""},null,{"$f":"IF(E1919=\"\",\"\",VLOOKUP(E1919,PARAMETROS!$I$3:$J$21,2,FALSE))","v":""},null,null,null,null,null,null,""]
[null,{"$f":"IF(A1920=\"\",\"\",VLOOKUP(A1920,PARAMETROS!$B$3:$C$3,2,FALSE))","v":""},null,{"$f":"IF(C1920=\"\",\"\",VLOOKUP(C1920,PARAMETROS!$G$3:$H$21,2,FALSE))","v":""},null,{"$f":"IF(E1920=\"\",\"\",VLOOKUP(E1920,PARAMETROS!$I$3:$J$21,2,FALSE))","v":""},null,null,null,null,null,null,""]
[null,{"$f":"IF(A1921=\"\",\"\",VLOOKUP(A1921,PARAMETROS!$B$3:$C$3,2,FALSE))","v":""},null,{"$f":"IF(C1921=\"\",\"\",VLOOKUP(C1921,PARAMETROS!$G$3:$H$21,2,FALSE))","v":""},null,{"$f":"IF(E1921=\"\",\"\",VLOOKUP(E1921,PARAMETROS!$I$3:$J$21,2,FALSE))","v":""},null,null,null,null,null,null,""]
[null,{"$f":"IF(A1922=\"\",\"\",VLOOKUP(A1922,PARAMETROS!$B$3:$C$3,2,FALSE))","v":""},null,{"$f":"IF(C1922=\"\",\"\",VLOOKUP(C1922,PARAMETROS!$G$3:$H$21,2,FALSE))","v":""},null,{"$f":"IF(E1922=\"\",\"\",VLOOKUP(E1922,PARAMETROS!$I$3:$J$21,2,FALSE))","v":""},null,null,null,null,null,null,""]
[null,{"$f":"IF(A1923=\"\",\"\",VLOOKUP(A1923,PARAMETROS!$B$3:$C$3,2,FALSE))","v":""},null,{"$f":"IF(C1923=\"\",\"\",VLOOKUP(C1923,PARAMETROS!$G$3:$H$21,2,FALSE))","v":""},null,{"$f":"IF(E1923=\"\",\"\",VLOOKUP(E1923,PARAMETROS!$I$3:$J$21,2,FALSE))","v":""},null,null,null,null,null,null,""]
[null,{"$f":"IF(A1924=\"\",\"\",VLOOKUP(A1924,PARAMETROS!$B$3:$C$3,2,FALSE))","v":""},null,{"$f":"IF(C1924=\"\",\"\",VLOOKUP(C1924,PARAMETROS!$G$3:$H$21,2,FALSE))","v":""},null,{"$f":"IF(E1924=\"\",\"\",VLOOKUP(E1924,PARAMETROS!$I$3:$J$21,2,FALSE))","v":""},null,null,null,null,null,null,""]
[null,{"$f":"IF(A1925=\"\",\"\",VLOOKUP(A1925,PARAMETROS!$B$3:$C$3,2,FALSE))","v":""},null,{"$f":"IF(C1925=\"\",\"\",VLOOKUP(C1925,PARAMETROS!$G$3:$H$21,2,FALSE))","v":""},null,{"$f":"IF(E1925=\"\",\"\",VLOOKUP(E1925,PARAMETROS!$I$3:$J$21,2,FALSE))","v":""},null,null,null,null,null,null,""]
[null,{"$f":"IF(A1926=\"\",\"\",VLOOKUP(A1926,PARAMETROS!$B$3:$C$3,2,FALSE))","v":""},null,{"$f":"IF(C1926=\"\",\"\",VLOOKUP(C1926,PARAMETROS!$G$3:$H$21,2,FALSE))","v":""},null,{"$f":"IF(E1926=\"\",\"\",VLOOKUP(E1926,PARAMETROS!$I$3:$J$21,2,FALSE))","v":""},null,null,null,null,null,null,""]
[null,{"$f":"IF(A1927=\"\",\"\",VLOOKUP(A1927,PARAMETROS!$B$3:$C$3,2,FALSE))","v":""},null,{"$f":"IF(C1927=\"\",\"\",VLOOKUP(C1927,PARAMETROS!$G$3:$H$21,2,FALSE))","v":""},null,{"$f":"IF(E1927=\"\",\"\",VLOOKUP(E1927,PARAMETROS!$I$3:$J$21,2,FALSE))","v":""},null,null,null,null,null,null,""]
[null,{"$f":"IF(A1928=\"\",\"\",VLOOKUP(A1928,PARAMETROS!$B$3:$C$3,2,FALSE))","v":""},null,{"$f":"IF(C1928=\"\",\"\",VLOOKUP(C1928,PARAMETROS!$G$3:$H$21,2,FALSE))","v":""},null,{"$f":"IF(E1928=\"\",\"\",VLOOKUP(E1928,PARAMETROS!$I$3:$J$21,2,FALSE))","v":""},null,null,null,null,null,null,""]
[null,{"$f":"IF(A1929=\"\",\"\",VLOOKUP(A1929,PARAMETROS!$B$3:$C$3,2,FALSE))","v":""},null,{"$f":"IF(C1929=\"\",\"\",VLOOKUP(C1929,PARAMETROS!$G$3:$H$21,2,FALSE))","v":""},null,{"$f":"IF(E1929=\"\",\"\",VLOOKUP(E1929,PARAMETROS!$I$3:$J$21,2,FALSE))","v":""},null,null,null,null,null,null,""]
[null,{"$f":"IF(A1930=\"\",\"\",VLOOKUP(A1930,PARAMETROS!$B$3:$C$3,2,FALSE))","v":""},null,{"$f":"IF(C1930=\"\",\"\",VLOOKUP(C1930,PARAMETROS!$G$3:$H$21,2,FALSE))","v":""},null,{"$f":"IF(E1930=\"\",\"\",VLOOKUP(E1930,PARAMETROS!$I$3:$J$21,2,FALSE))","v":""},null,null,null,null,null,null,""]
[null,{"$f":"IF(A1931=\"\",\"\",VLOOKUP(A1931,PARAMETROS!$B$3:$C$3,2,FALSE))","v":""},null,{"$f":"IF(C1931=\"\",\"\",VLOOKUP(C1931,PARAMETROS!$G$3:$H$21,2,FALSE))","v":""},null,{"$f":"IF(E1931=\"\",\"\",VLOOKUP(E1931,PARAMETROS!$I$3:$J$21,2,FALSE))","v":""},null,null,null,null,null,null,""]
[null,{"$f":"IF(A1932=\"\",\"\",VLOOKUP(A1932,PARAMETROS!$B$3:$C$3,2,FALSE))","v":""},null,{"$f":"IF(C1932=\"\",\"\",VLOOKUP(C1932,PARAMETROS!$G$3:$H$21,2,FALSE))","v":""},null,{"$f":"IF(E1932=\"\",\"\",VLOOKUP(E1932,PARAMETROS!$I$3:$J$21,2,FALSE))","v":""},null,null,null,null,null,null,""]
[null,{"$f":"IF(A1933=\"\",\"\",VLOOKUP(A1933,PARAMETROS!$B$3:$C$3,2,FALSE))","v":""},null,{"$f":"IF(C1933=\"\",\"\",VLOOKUP(C1933,PARAMETROS!$G$3:$H$21,2,FALSE))","v":""},null,{"$f":"IF(E1933=\"\",\"\",VLOOKUP(E1933,PARAMETROS!$I$3:$J$21,2,FALSE))","v":""},null,null,null,null,null,null,""]
[null,{"$f":"IF(A1934=\"\",\"\",VLOOKUP(A1934,PARAMETROS!$B$3:$C$3,2,FALSE))","v":""},null,{"$f":"IF(C1934=\"\",\"\",VLOOKUP(C1934,PARAMETROS!$G$3:$H$21,2,FALSE))","v":""},null,{"$f":"IF(E1934=\"\",\"\",VLOOKUP(E1934,PARAMETROS!$I$3:$J$21,2,FALSE))","v":""},null,null,null,null,null,null,""]
[null,{"$f":"IF(A1935=\"\",\"\",VLOOKUP(A1935,PARAMETROS!$B$3:$C$3,2,FALSE))","v":""},null,{"$f":"IF(C1935=\"\",\"\",VLOOKUP(C1935,PARAMETROS!$G$3:$H$21,2,FALSE))","v":""},null,{"$f":"IF(E1935=\"\",\"\",VLOOKUP(E1935,PARAMETROS!$I$3:$J$21,2,FALSE))","v":""},null,null,null,null,null,null,{"$f":"IF(L1935=\"\", \"\", L1935)","v":""}]
[null,{"$f":"IF(A1936=\"\",\"\",VLOOKUP(A1936,PARAMETROS!$B$3:$C$3,2,FALSE))","v":""},null,{"$f":"IF(C1936=\"\",\"\",VLOOKUP(C1936,PARAMETROS!$G$3:$H$21,2,FALSE))","v":""},null,{"$f":"IF(E1936=\"\",\"\",VLOOKUP(E1936,PARAMETROS!$I$3:$J$21,2,FALSE))","v":""},null,null,null,null,null,null,""]
[null,{"$f":"IF(A1937=\"\",\"\",VLOOKUP(A1937,PARAMETROS!$B$3:$C$3,2,FALSE))","v":""},null,{"$f":"IF(C1937=\"\",\"\",VLOOKUP(C1937,PARAMETROS!$G$3:$H$21,2,FALSE))","v":""},null,{"$f":"IF(E1937=\"\",\"\",VLOOKUP(E1937,PARAMETROS!$I$3:$J$21,2,FALSE))","v":""},null,null,null,null,null,null,""]
[null,{"$f":"IF(A1938=\"\",\"\",VLOOKUP(A1938,PARAMETROS!$B$3:$C$3,2,FALSE))","v":""},null,{"$f":"IF(C1938=\"\",\"\",VLOOKUP(C1938,PARAMETROS!$G$3:$H$21,2,FALSE))","v":""},null,{"$f":"IF(E1938=\"\",\"\",VLOOKUP(E1938,PARAMETROS!$I$3:$J$21,2,FALSE))","v":""},null,null,null,null,null,null,""]
[null,{"$f":"IF(A1939=\"\",\"\",VLOOKUP(A1939,PARAMETROS!$B$3:$C$3,2,FALSE))","v":""},null,{"$f":"IF(C1939=\"\",\"\",VLOOKUP(C1939,PARAMETROS!$G$3:$H$21,2,FALSE))","v":""},null,{"$f":"IF(E1939=\"\",\"\",VLOOKUP(E1939,PARAMETROS!$I$3:$J$21,2,FALSE))","v":""},null,null,null,null,null,null,""]
[null,{"$f":"IF(A1940=\"\",\"\",VLOOKUP(A1940,PARAMETROS!$B$3:$C$3,2,FALSE))","v":""},null,{"$f":"IF(C1940=\"\",\"\",VLOOKUP(C1940,PARAMETROS!$G$3:$H$21,2,FALSE))","v":""},null,{"$f":"IF(E1940=\"\",\"\",VLOOKUP(E1940,PARAMETROS!$I$3:$J$21,2,FALSE))","v":""},null,null,null,null,null,null,""]
[null,{"$f":"IF(A1941=\"\",\"\",VLOOKUP(A1941,PARAMETROS!$B$3:$C$3,2,FALSE))","v":""},null,{"$f":"IF(C1941=\"\",\"\",VLOOKUP(C1941,PARAMETROS!$G$3:$H$21,2,FALSE))","v":""},null,{"$f":"IF(E1941=\"\",\"\",VLOOKUP(E1941,PARAMETROS!$I$3:$J$21,2,FALSE))","v":""},null,null,null,null,null,null,""]
[null,{"$f":"IF(A1942=\"\",\"\",VLOOKUP(A1942,PARAMETROS!$B$3:$C$3,2,FALSE))","v":""},null,{"$f":"IF(C1942=\"\",\"\",VLOOKUP(C1942,PARAMETROS!$G$3:$H$21,2,FALSE))","v":""},null,{"$f":"IF(E1942=\"\",\"\",VLOOKUP(E1942,PARAMETROS!$I$3:$J$21,2,FALSE))","v":""},null,null,null,null,null,null,""]
[null,{"$f":"IF(A1943=\"\",\"\",VLOOKUP(A1943,PARAMETROS!$B$3:$C$3,2,FALSE))","v":""},null,{"$f":"IF(C1943=\"\",\"\",VLOOKUP(C1943,PARAMETROS!$G$3:$H$21,2,FALSE))","v":""},null,{"$f":"IF(E1943=\"\",\"\",VLOOKUP(E1943,PARAMETROS!$I$3:$J$21,2,FALSE))","v":""},null,null,null,null,null,null,""]
[null,{"$f":"IF(A1944=\"\",\"\",VLOOKUP(A1944,PARAMETROS!$B$3:$C$3,2,FALSE))","v":""},null,{"$f":"IF(C1944=\"\",\"\",VLOOKUP(C1944,PARAMETROS!$G$3:$H$21,2,FALSE))","v":""},null,{"$f":"IF(E1944=\"\",\"\",VLOOKUP(E1944,PARAMETROS!$I$3:$J$21,2,FALSE))","v":""},null,null,null,null,null,null,""]
[null,{"$f":"IF(A1945=\"\",\"\",VLOOKUP(A1945,PARAMETROS!$B$3:$C$3,2,FALSE))","v":""},null,{"$f":"IF(C1945=\"\",\"\",VLOOKUP(C1945,PARAMETROS!$G$3:$H$21,2,FALSE))","v":""},null,{"$f":"IF(E1945=\"\",\"\",VLOOKUP(E1945,PARAMETROS!$I$3:$J$21,2,FALSE))","v":""},null,null,null,null,null,null,""]
[null,{"$f":"IF(A1946=\"\",\"\",VLOOKUP(A1946,PARAMETROS!$B$3:$C$3,2,FALSE))","v":""},null,{"$f":"IF(C1946=\"\",\"\",VLOOKUP(C1946,PARAMETROS!$G$3:$H$21,2,FALSE))","v":""},null,{"$f":"IF(E1946=\"\",\"\",VLOOKUP(E1946,PARAMETROS!$I$3:$J$21,2,FALSE))","v":""},null,null,null,null,null,null,""]
[null,{"$f":"IF(A1947=\"\",\"\",VLOOKUP(A1947,PARAMETROS!$B$3:$C$3,2,FALSE))","v":""},null,{"$f":"IF(C1947=\"\",\"\",VLOOKUP(C1947,PARAMETROS!$G$3:$H$21,2,FALSE))","v":""},null,{"$f":"IF(E1947=\"\",\"\",VLOOKUP(E1947,PARAMETROS!$I$3:$J$21,2,FALSE))","v":""},null,null,null,null,null,null,""]
[null,{"$f":"IF(A1948=\"\",\"\",VLOOKUP(A1948,PARAMETROS!$B$3:$C$3,2,FALSE))","v":""},null,{"$f":"IF(C1948=\"\",\"\",VLOOKUP(C1948,PARAMETROS!$G$3:$H$21,2,FALSE))","v":""},null,{"$f":"IF(E1948=\"\",\"\",VLOOKUP(E1948,PARAMETROS!$I$3:$J$21,2,FALSE))","v":""},null,null,null,null,null,null,""]
[null,{"$f":"IF(A1949=\"\",\"\",VLOOKUP(A1949,PARAMETROS!$B$3:$C$3,2,FALSE))","v":""},null,{"$f":"IF(C1949=\"\",\"\",VLOOKUP(C1949,PARAMETROS!$G$3:$H$21,2,FALSE))","v":""},null,{"$f":"IF(E1949=\"\",\"\",VLOOKUP(E1949,PARAMETROS!$I$3:$J$21,2,FALSE))","v":""},null,null,null,null,null,null,""]
[null,{"$f":"IF(A1950=\"\",\"\",VLOOKUP(A1950,PARAMETROS!$B$3:$C$3,2,FALSE))","v":""},null,{"$f":"IF(C1950=\"\",\"\",VLOOKUP(C1950,PARAMETROS!$G$3:$H$21,2,FALSE))","v":""},null,{"$f":"IF(E1950=\"\",\"\",VLOOKUP(E1950,PARAMETROS!$I$3:$J$21,2,FALSE))","v":""},null,null,null,null,null,null,""]
[null,{"$f":"IF(A1951=\"\",\"\",VLOOKUP(A1951,PARAMETROS!$B$3:$C$3,2,FALSE))","v":""},null,{"$f":"IF(C1951=\"\",\"\",VLOOKUP(C1951,PARAMETROS!$G$3:$H$21,2,FALSE))","v":""},null,{"$f":"IF(E1951=\"\",\"\",VLOOKUP(E1951,PARAMETROS!$I$3:$J$21,2,FALSE))","v":""},null,null,null,null,null,null,""]
[null,{"$f":"IF(A1952=\"\",\"\",VLOOKUP(A1952,PARAMETROS!$B$3:$C$3,2,FALSE))","v":""},null,{"$f":"IF(C1952=\"\",\"\",VLOOKUP(C1952,PARAMETROS!$G$3:$H$21,2,FALSE))","v":""},null,{"$f":"IF(E1952=\"\",\"\",VLOOKUP(E1952,PARAMETROS!$I$3:$J$21,2,FALSE))","v":""},null,null,null,null,null,null,""]
[null,{"$f":"IF(A1953=\"\",\"\",VLOOKUP(A1953,PARAMETROS!$B$3:$C$3,2,FALSE))","v":""},null,{"$f":"IF(C1953=\"\",\"\",VLOOKUP(C1953,PARAMETROS!$G$3:$H$21,2,FALSE))","v":""},null,{"$f":"IF(E1953=\"\",\"\",VLOOKUP(E1953,PARAMETROS!$I$3:$J$21,2,FALSE))","v":""},null,null,null,null,null,null,""]
[null,{"$f":"IF(A1954=\"\",\"\",VLOOKUP(A1954,PARAMETROS!$B$3:$C$3,2,FALSE))","v":""},null,{"$f":"IF(C1954=\"\",\"\",VLOOKUP(C1954,PARAMETROS!$G$3:$H$21,2,FALSE))","v":""},null,{"$f":"IF(E1954=\"\",\"\",VLOOKUP(E1954,PARAMETROS!$I$3:$J$21,2,FALSE))","v":""},null,null,null,null,null,null,""]
[null,{"$f":"IF(A1955=\"\",\"\",VLOOKUP(A1955,PARAMETROS!$B$3:$C$3,2,FALSE))","v":""},null,{"$f":"IF(C1955=\"\",\"\",VLOOKUP(C1955,PARAMETROS!$G$3:$H$21,2,FALSE))","v":""},null,{"$f":"IF(E1955=\"\",\"\",VLOOKUP(E1955,PARAMETROS!$I$3:$J$21,2,FALSE))","v":""},null,null,null,null,null,null,""]
[null,{"$f":"IF(A1956=\"\",\"\",VLOOKUP(A1956,PARAMETROS!$B$3:$C$3,2,FALSE))","v":""},null,{"$f":"IF(C1956=\"\",\"\",VLOOKUP(C1956,PARAMETROS!$G$3:$H$21,2,FALSE))","v":""},null,{"$f":"IF(E1956=\"\",\"\",VLOOKUP(E1956,PARAMETROS!$I$3:$J$21,2,FALSE))","v":""},null,null,null,null,null,null,""]
[null,{"$f":"IF(A1957=\"\",\"\",VLOOKUP(A1957,PARAMETROS!$B$3:$C$3,2,FALSE))","v":""},null,{"$f":"IF(C1957=\"\",\"\",VLOOKUP(C1957,PARAMETROS!$G$3:$H$21,2,FALSE))","v":""},null,{"$f":"IF(E1957=\"\",\"\",VLOOKUP(E1957,PARAMETROS!$I$3:$J$21,2,FALSE))","v":""},null,null,null,null,null,null,""]
[null,{"$f":"IF(A1958=\"\",\"\",VLOOKUP(A1958,PARAMETROS!$B$3:$C$3,2,FALSE))","v":""},null,{"$f":"IF(C1958=\"\",\"\",VLOOKUP(C1958,PARAMETROS!$G$3:$H$21,2,FALSE))","v":""},null,{"$f":"IF(E1958=\"\",\"\",VLOOKUP(E1958,PARAMETROS!$I$3:$J$21,2,FALSE))","v":""},null,null,null,null,null,null,""]
[null,{"$f":"IF(A1959=\"\",\"\",VLOOKUP(A1959,PARAMETROS!$B$3:$C$3,2,FALSE))","v":""},null,{"$f":"IF(C1959=\"\",\"\",VLOOKUP(C1959,PARAMETROS!$G$3:$H$21,2,FALSE))","v":""},null,{"$f":"IF(E1959=\"\",\"\",VLOOKUP(E1959,PARAMETROS!$I$3:$J$21,2,FALSE))","v":""},null,null,null,null,null,null,""]
[null,{"$f":"IF(A1960=\"\",\"\",VLOOKUP(A1960,PARAMETROS!$B$3:$C$3,2,FALSE))","v":""},null,{"$f":"IF(C1960=\"\",\"\",VLOOKUP(C1960,PARAMETROS!$G$3:$H$21,2,FALSE))","v":""},null,{"$f":"IF(E1960=\"\",\"\",VLOOKUP(E1960,PARAMETROS!$I$3:$J$21,2,FALSE))","v":""},null,null,null,null,null,null,""]
[null,{"$f":"IF(A1961=\"\",\"\",VLOOKUP(A1961,PARAMETROS!$B$3:$C$3,2,FALSE))","v":""},null,{"$f":"IF(C1961=\"\",\"\",VLOOKUP(C1961,PARAMETROS!$G$3:$H$21,2,FALSE))","v":""},null,{"$f":"IF(E1961=\"\",\"\",VLOOKUP(E1961,PARAMETROS!$I$3:$J$21,2,FALSE))","v":""},null,null,null,null,null,null,""]
[null,{"$f":"IF(A1962=\"\",\"\",VLOOKUP(A1962,PARAMETROS!$B$3:$C$3,2,FALSE))","v":""},null,{"$f":"IF(C1962=\"\",\"\",VLOOKUP(C1962,PARAMETROS!$G$3:$H$21,2,FALSE))","v":""},null,{"$f":"IF(E1962=\"\",\"\",VLOOKUP(E1962,PARAMETROS!$I$3:$J$21,2,FALSE))","v":""},null,null,null,null,null,null,""]
[null,{"$f":"IF(A1963=\"\",\"\",VLOOKUP(A1963,PARAMETROS!$B$3:$C$3,2,FALSE))","v":""},null,{"$f":"IF(C1963=\"\",\"\",VLOOKUP(C1963,PARAMETROS!$G$3:$H$21,2,FALSE))","v":""},null,{"$f":"IF(E1963=\"\",\"\",VLOOKUP(E1963,PARAMETROS!$I$3:$J$21,2,FALSE))","v":""},null,null,null,null,null,null,""]
[null,{"$f":"IF(A1964=\"\",\"\",VLOOKUP(A1964,PARAMETROS!$B$3:$C$3,2,FALSE))","v":""},null,{"$f":"IF(C1964=\"\",\"\",VLOOKUP(C1964,PARAMETROS!$G$3:$H$21,2,FALSE))","v":""},null,{"$f":"IF(E1964=\"\",\"\",VLOOKUP(E1964,PARAMETROS!$I$3:$J$21,2,FALSE))","v":""},null,null,null,null,null,null,""]
[null,{"$f":"IF(A1965=\"\",\"\",VLOOKUP(A1965,PARAMETROS!$B$3:$C$3,2,FALSE))","v":""},null,{"$f":"IF(C1965=\"\",\"\",VLOOKUP(C1965,PARAMETROS!$G$3:$H$21,2,FALSE))","v":""},null,{"$f":"IF(E1965=\"\",\"\",VLOOKUP(E1965,PARAMETROS!$I$3:$J$21,2,FALSE))","v":""},null,null,null,null,null,null,""]
[null,{"$f":"IF(A1966=\"\",\"\",VLOOKUP(A1966,PARAMETROS!$B$3:$C$3,2,FALSE))","v":""},null,{"$f":"IF(C1966=\"\",\"\",VLOOKUP(C1966,PARAMETROS!$G$3:$H$21,2,FALSE))","v":""},null,{"$f":"IF(E1966=\"\",\"\",VLOOKUP(E1966,PARAMETROS!$I$3:$J$21,2,FALSE))","v":""},null,null,null,null,null,null,""]
[null,{"$f":"IF(A1967=\"\",\"\",VLOOKUP(A1967,PARAMETROS!$B$3:$C$3,2,FALSE))","v":""},null,{"$f":"IF(C1967=\"\",\"\",VLOOKUP(C1967,PARAMETROS!$G$3:$H$21,2,FALSE))","v":""},null,{"$f":"IF(E1967=\"\",\"\",VLOOKUP(E1967,PARAMETROS!$I$3:$J$21,2,FALSE))","v":""},null,null,null,null,null,null,""]
[null,{"$f":"IF(A1968=\"\",\"\",VLOOKUP(A1968,PARAMETROS!$B$3:$C$3,2,FALSE))","v":""},null,{"$f":"IF(C1968=\"\",\"\",VLOOKUP(C1968,PARAMETROS!$G$3:$H$21,2,FALSE))","v":""},null,{"$f":"IF(E1968=\"\",\"\",VLOOKUP(E1968,PARAMETROS!$I$3:$J$21,2,FALSE))","v":""},null,null,null,null,null,null,""]
[null,{"$f":"IF(A1969=\"\",\"\",VLOOKUP(A1969,PARAMETROS!$B$3:$C$3,2,FALSE))","v":""},null,{"$f":"IF(C1969=\"\",\"\",VLOOKUP(C1969,PARAMETROS!$G$3:$H$21,2,FALSE))","v":""},null,{"$f":"IF(E1969=\"\",\"\",VLOOKUP(E1969,PARAMETROS!$I$3:$J$21,2,FALSE))","v":""},null,null,null,null,null,null,""]
[null,{"$f":"IF(A1970=\"\",\"\",VLOOKUP(A1970,PARAMETROS!$B$3:$C$3,2,FALSE))","v":""},null,{"$f":"IF(C1970=\"\",\"\",VLOOKUP(C1970,PARAMETROS!$G$3:$H$21,2,FALSE))","v":""},null,{"$f":"IF(E1970=\"\",\"\",VLOOKUP(E1970,PARAMETROS!$I$3:$J$21,2,FALSE))","v":""},null,null,null,null,null,null,""]
[null,{"$f":"IF(A1971=\"\",\"\",VLOOKUP(A1971,PARAMETROS!$B$3:$C$3,2,FALSE))","v":""},null,{"$f":"IF(C1971=\"\",\"\",VLOOKUP(C1971,PARAMETROS!$G$3:$H$21,2,FALSE))","v":""},null,{"$f":"IF(E1971=\"\",\"\",VLOOKUP(E1971,PARAMETROS!$I$3:$J$21,2,FALSE))","v":""},null,null,null,null,null,null,""]
[null,{"$f":"IF(A1972=\"\",\"\",VLOOKUP(A1972,PARAMETROS!$B$3:$C$3,2,FALSE))","v":""},null,{"$f":"IF(C1972=\"\",\"\",VLOOKUP(C1972,PARAMETROS!$G$3:$H$21,2,FALSE))","v":""},null,{"$f":"IF(E1972=\"\",\"\",VLOOKUP(E1972,PARAMETROS!$I$3:$J$21,2,FALSE))","v":""},null,null,null,null,null,null,""]
[null,{"$f":"IF(A1973=\"\",\"\",VLOOKUP(A1973,PARAMETROS!$B$3:$C$3,2,FALSE))","v":""},null,{"$f":"IF(C1973=\"\",\"\",VLOOKUP(C1973,PARAMETROS!$G$3:$H$21,2,FALSE))","v":""},null,{"$f":"IF(E1973=\"\",\"\",VLOOKUP(E1973,PARAMETROS!$I$3:$J$21,2,FALSE))","v":""},null,null,null,null,null,null,""]
[null,{"$f":"IF(A1974=\"\",\"\",VLOOKUP(A1974,PARAMETROS!$B$3:$C$3,2,FALSE))","v":""},null,{"$f":"IF(C1974=\"\",\"\",VLOOKUP(C1974,PARAMETROS!$G$3:$H$21,2,FALSE))","v":""},null,{"$f":"IF(E1974=\"\",\"\",VLOOKUP(E1974,PARAMETROS!$I$3:$J$21,2,FALSE))","v":""},null,null,null,null,null,null,""]
[null,{"$f":"IF(A1975=\"\",\"\",VLOOKUP(A1975,PARAMETROS!$B$3:$C$3,2,FALSE))","v":""},null,{"$f":"IF(C1975=\"\",\"\",VLOOKUP(C1975,PARAMETROS!$G$3:$H$21,2,FALSE))","v":""},null,{"$f":"IF(E1975=\"\",\"\",VLOOKUP(E1975,PARAMETROS!$I$3:$J$21,2,FALSE))","v":""},null,null,null,null,null,null,""]
[null,{"$f":"IF(A1976=\"\",\"\",VLOOKUP(A1976,PARAMETROS!$B$3:$C$3,2,FALSE))","v":""},null,{"$f":"IF(C1976=\"\",\"\",VLOOKUP(C1976,PARAMETROS!$G$3:$H$21,2,FALSE))","v":""},null,{"$f":"IF(E1976=\"\",\"\",VLOOKUP(E1976,PARAMETROS!$I$3:$J$21,2,FALSE))","v":""},null,null,null,null,null,null,""]
[null,{"$f":"IF(A1977=\"\",\"\",VLOOKUP(A1977,PARAMETROS!$B$3:$C$3,2,FALSE))","v":""},null,{"$f":"IF(C1977=\"\",\"\",VLOOKUP(C1977,PARAMETROS!$G$3:$H$21,2,FALSE))","v":""},null,{"$f":"IF(E1977=\"\",\"\",VLOOKUP(E1977,PARAMETROS!$I$3:$J$21,2,FALSE))","v":""},null,null,null,null,null,null,""]
[null,{"$f":"IF(A1978=\"\",\"\",VLOOKUP(A1978,PARAMETROS!$B$3:$C$3,2,FALSE))","v":""},null,{"$f":"IF(C1978=\"\",\"\",VLOOKUP(C1978,PARAMETROS!$G$3:$H$21,2,FALSE))","v":""},null,{"$f":"IF(E1978=\"\",\"\",VLOOKUP(E1978,PARAMETROS!$I$3:$J$21,2,FALSE))","v":""},null,null,null,null,null,null,""]
[null,{"$f":"IF(A1979=\"\",\"\",VLOOKUP(A1979,PARAMETROS!$B$3:$C$3,2,FALSE))","v":""},null,{"$f":"IF(C1979=\"\",\"\",VLOOKUP(C1979,PARAMETROS!$G$3:$H$21,2,FALSE))","v":""},null,{"$f":"IF(E1979=\"\",\"\",VLOOKUP(E1979,PARAMETROS!$I$3:$J$21,2,FALSE))","v":""},null,null,null,null,null,null,""]
[null,{"$f":"IF(A1980=\"\",\"\",VLOOKUP(A1980,PARAMETROS!$B$3:$C$3,2,FALSE))","v":""},null,{"$f":"IF(C1980=\"\",\"\",VLOOKUP(C1980,PARAMETROS!$G$3:$H$21,2,FALSE))","v":""},null,{"$f":"IF(E1980=\"\",\"\",VLOOKUP(E1980,PARAMETROS!$I$3:$J$21,2,FALSE))","v":""},null,null,null,null,null,null,""]
[null,{"$f":"IF(A1981=\"\",\"\",VLOOKUP(A1981,PARAMETROS!$B$3:$C$3,2,FALSE))","v":""},null,{"$f":"IF(C1981=\"\",\"\",VLOOKUP(C1981,PARAMETROS!$G$3:$H$21,2,FALSE))","v":""},null,{"$f":"IF(E1981=\"\",\"\",VLOOKUP(E1981,PARAMETROS!$I$3:$J$21,2,FALSE))","v":""},null,null,null,null,null,null,""]
[null,{"$f":"IF(A1982=\"\",\"\",VLOOKUP(A1982,PARAMETROS!$B$3:$C$3,2,FALSE))","v":""},null,{"$f":"IF(C1982=\"\",\"\",VLOOKUP(C1982,PARAMETROS!$G$3:$H$21,2,FALSE))","v":""},null,{"$f":"IF(E1982=\"\",\"\",VLOOKUP(E1982,PARAMETROS!$I$3:$J$21,2,FALSE))","v":""},null,null,null,null,null,null,""]
[null,{"$f":"IF(A1983=\"\",\"\",VLOOKUP(A1983,PARAMETROS!$B$3:$C$3,2,FALSE))","v":""},null,{"$f":"IF(C1983=\"\",\"\",VLOOKUP(C1983,PARAMETROS!$G$3:$H$21,2,FALSE))","v":""},null,{"$f":"IF(E1983=\"\",\"\",VLOOKUP(E1983,PARAMETROS!$I$3:$J$21,2,FALSE))","v":""},null,null,null,null,null,null,""]
[null,{"$f":"IF(A1984=\"\",\"\",VLOOKUP(A1984,PARAMETROS!$B$3:$C$3,2,FALSE))","v":""},null,{"$f":"IF(C1984=\"\",\"\",VLOOKUP(C1984,PARAMETROS!$G$3:$H$21,2,FALSE))","v":""},null,{"$f":"IF(E1984=\"\",\"\",VLOOKUP(E1984,PARAMETROS!$I$3:$J$21,2,FALSE))","v":""},null,null,null,null,null,null,""]
[null,{"$f":"IF(A1985=\"\",\"\",VLOOKUP(A1985,PARAMETROS!$B$3:$C$3,2,FALSE))","v":""},null,{"$f":"IF(C1985=\"\",\"\",VLOOKUP(C1985,PARAMETROS!$G$3:$H$21,2,FALSE))","v":""},null,{"$f":"IF(E1985=\"\",\"\",VLOOKUP(E1985,PARAMETROS!$I$3:$J$21,2,FALSE))","v":""},null,null,null,null,null,null,""]
[null,{"$f":"IF(A1986=\"\",\"\",VLOOKUP(A1986,PARAMETROS!$B$3:$C$3,2,FALSE))","v":""},null,{"$f":"IF(C1986=\"\",\"\",VLOOKUP(C1986,PARAMETROS!$G$3:$H$21,2,FALSE))","v":""},null,{"$f":"IF(E1986=\"\",\"\",VLOOKUP(E1986,PARAMETROS!$I$3:$J$21,2,FALSE))","v":""},null,null,null,null,null,null,""]
[null,{"$f":"IF(A1987=\"\",\"\",VLOOKUP(A1987,PARAMETROS!$B$3:$C$3,2,FALSE))","v":""},null,{"$f":"IF(C1987=\"\",\"\",VLOOKUP(C1987,PARAMETROS!$G$3:$H$21,2,FALSE))","v":""},null,{"$f":"IF(E1987=\"\",\"\",VLOOKUP(E1987,PARAMETROS!$I$3:$J$21,2,FALSE))","v":""},null,null,null,null,null,null,""]
[null,{"$f":"IF(A1988=\"\",\"\",VLOOKUP(A1988,PARAMETROS!$B$3:$C$3,2,FALSE))","v":""},null,{"$f":"IF(C1988=\"\",\"\",VLOOKUP(C1988,PARAMETROS!$G$3:$H$21,2,FALSE))","v":""},null,{"$f":"IF(E1988=\"\",\"\",VLOOKUP(E1988,PARAMETROS!$I$3:$J$21,2,FALSE))","v":""},null,null,null,null,null,null,""]
[null,{"$f":"IF(A1989=\"\",\"\",VLOOKUP(A1989,PARAMETROS!$B$3:$C$3,2,FALSE))","v":""},null,{"$f":"IF(C1989=\"\",\"\",VLOOKUP(C1989,PARAMETROS!$G$3:$H$21,2,FALSE))","v":""},null,{"$f":"IF(E1989=\"\",\"\",VLOOKUP(E1989,PARAMETROS!$I$3:$J$21,2,FALSE))","v":""},null,null,null,null,null,null,""]
[null,{"$f":"IF(A1990=\"\",\"\",VLOOKUP(A1990,PARAMETROS!$B$3:$C$3,2,FALSE))","v":""},null,{"$f":"IF(C1990=\"\",\"\",VLOOKUP(C1990,PARAMETROS!$G$3:$H$21,2,FALSE))","v":""},null,{"$f":"IF(E1990=\"\",\"\",VLOOKUP(E1990,PARAMETROS!$I$3:$J$21,2,FALSE))","v":""},null,null,null,null,null,null,""]
[null,{"$f":"IF(A1991=\"\",\"\",VLOOKUP(A1991,PARAMETROS!$B$3:$C$3,2,FALSE))","v":""},null,{"$f":"IF(C1991=\"\",\"\",VLOOKUP(C1991,PARAMETROS!$G$3:$H$21,2,FALSE))","v":""},null,{"$f":"IF(E1991=\"\",\"\",VLOOKUP(E1991,PARAMETROS!$I$3:$J$21,2,FALSE))","v":""},null,null,null,null,null,null,""]
[null,{"$f":"IF(A1992=\"\",\"\",VLOOKUP(A1992,PARAMETROS!$B$3:$C$3,2,FALSE))","v":""},null,{"$f":"IF(C1992=\"\",\"\",VLOOKUP(C1992,PARAMETROS!$G$3:$H$21,2,FALSE))","v":""},null,{"$f":"IF(E1992=\"\",\"\",VLOOKUP(E1992,PARAMETROS!$I$3:$J$21,2,FALSE))","v":""},null,null,null,null,null,null,""]
[null,{"$f":"IF(A1993=\"\",\"\",VLOOKUP(A1993,PARAMETROS!$B$3:$C$3,2,FALSE))","v":""},null,{"$f":"IF(C1993=\"\",\"\",VLOOKUP(C1993,PARAMETROS!$G$3:$H$21,2,FALSE))","v":""},null,{"$f":"IF(E1993=\"\",\"\",VLOOKUP(E1993,PARAMETROS!$I$3:$J$21,2,FALSE))","v":""},null,null,null,null,null,null,""]
[null,{"$f":"IF(A1994=\"\",\"\",VLOOKUP(A1994,PARAMETROS!$B$3:$C$3,2,FALSE))","v":""},null,{"$f":"IF(C1994=\"\",\"\",VLOOKUP(C1994,PARAMETROS!$G$3:$H$21,2,FALSE))","v":""},null,{"$f":"IF(E1994=\"\",\"\",VLOOKUP(E1994,PARAMETROS!$I$3:$J$21,2,FALSE))","v":""},null,null,null,null,null,null,""]
[null,{"$f":"IF(A1995=\"\",\"\",VLOOKUP(A1995,PARAMETROS!$B$3:$C$3,2,FALSE))","v":""},null,{"$f":"IF(C1995=\"\",\"\",VLOOKUP(C1995,PARAMETROS!$G$3:$H$21,2,FALSE))","v":""},null,{"$f":"IF(E1995=\"\",\"\",VLOOKUP(E1995,PARAMETROS!$I$3:$J$21,2,FALSE))","v":""},null,null,null,null,null,null,""]
[null,{"$f":"IF(A1996=\"\",\"\",VLOOKUP(A1996,PARAMETROS!$B$3:$C$3,2,FALSE))","v":""},null,{"$f":"IF(C1996=\"\",\"\",VLOOKUP(C1996,PARAMETROS!$G$3:$H$21,2,FALSE))","v":""},null,{"$f":"IF(E1996=\"\",\"\",VLOOKUP(E1996,PARAMETROS!$I$3:$J$21,2,FALSE))","v":""},null,null,null,null,null,null,""]
[null,{"$f":"IF(A1997=\"\",\"\",VLOOKUP(A1997,PARAMETROS!$B$3:$C$3,2,FALSE))","v":""},null,{"$f":"IF(C1997=\"\",\"\",VLOOKUP(C1997,PARAMETROS!$G$3:$H$21,2,FALSE))","v":""},null,{"$f":"IF(E1997=\"\",\"\",VLOOKUP(E1997,PARAMETROS!$I$3:$J$21,2,FALSE))","v":""},null,null,null,null,null,null,""]
[null,{"$f":"IF(A1998=\"\",\"\",VLOOKUP(A1998,PARAMETROS!$B$3:$C$3,2,FALSE))","v":""},null,{"$f":"IF(C1998=\"\",\"\",VLOOKUP(C1998,PARAMETROS!$G$3:$H$21,2,FALSE))","v":""},null,{"$f":"IF(E1998=\"\",\"\",VLOOKUP(E1998,PARAMETROS!$I$3:$J$21,2,FALSE))","v":""},null,null,null,null,null,null,""]
[null,{"$f":"IF(A1999=\"\",\"\",VLOOKUP(A1999,PARAMETROS!$B$3:$C$3,2,FALSE))","v":""},null,{"$f":"IF(C1999=\"\",\"\",VLOOKUP(C1999,PARAMETROS!$G$3:$H$21,2,FALSE))","v":""},null,{"$f":"IF(E1999=\"\",\"\",VLOOKUP(E1999,PARAMETROS!$I$3:$J$21,2,FALSE))","v":""},null,null,null,null,null,null,{"$f":"IF(L1999=\"\", \"\", L1999)","v":""}]
[null,{"$f":"IF(A2000=\"\",\"\",VLOOKUP(A2000,PARAMETROS!$B$3:$C$3,2,FALSE))","v":""},null,{"$f":"IF(C2000=\"\",\"\",VLOOKUP(C2000,PARAMETROS!$G$3:$H$21,2,FALSE))","v":""},null,{"$f":"IF(E2000=\"\",\"\",VLOOKUP(E2000,PARAMETROS!$I$3:$J$21,2,FALSE))","v":""},null,null,null,null,null,null,""]
[null,{"$f":"IF(A2001=\"\",\"\",VLOOKUP(A2001,PARAMETROS!$B$3:$C$3,2,FALSE))","v":""},null,{"$f":"IF(C2001=\"\",\"\",VLOOKUP(C2001,PARAMETROS!$G$3:$H$21,2,FALSE))","v":""},null,{"$f":"IF(E2001=\"\",\"\",VLOOKUP(E2001,PARAMETROS!$I$3:$J$21,2,FALSE))","v":""},null,null,null,null,null,null,""]
[null,{"$f":"IF(A2002=\"\",\"\",VLOOKUP(A2002,PARAMETROS!$B$3:$C$3,2,FALSE))","v":""},null,{"$f":"IF(C2002=\"\",\"\",VLOOKUP(C2002,PARAMETROS!$G$3:$H$21,2,FALSE))","v":""},null,{"$f":"IF(E2002=\"\",\"\",VLOOKUP(E2002,PARAMETROS!$I$3:$J$21,2,FALSE))","v":""},null,null,null,null,null,null,""]
[null,{"$f":"IF(A2003=\"\",\"\",VLOOKUP(A2003,PARAMETROS!$B$3:$C$3,2,FALSE))","v":""},null,{"$f":"IF(C2003=\"\",\"\",VLOOKUP(C2003,PARAMETROS!$G$3:$H$21,2,FALSE))","v":""},null,{"$f":"IF(E2003=\"\",\"\",VLOOKUP(E2003,PARAMETROS!$I$3:$J$21,2,FALSE))","v":""},null,null,null,null,null,null,""]
[null,{"$f":"IF(A2004=\"\",\"\",VLOOKUP(A2004,PARAMETROS!$B$3:$C$3,2,FALSE))","v":""},null,{"$f":"IF(C2004=\"\",\"\",VLOOKUP(C2004,PARAMETROS!$G$3:$H$21,2,FALSE))","v":""},null,{"$f":"IF(E2004=\"\",\"\",VLOOKUP(E2004,PARAMETROS!$I$3:$J$21,2,FALSE))","v":""},null,null,null,null,null,null,""]
[null,{"$f":"IF(A2005=\"\",\"\",VLOOKUP(A2005,PARAMETROS!$B$3:$C$3,2,FALSE))","v":""},null,{"$f":"IF(C2005=\"\",\"\",VLOOKUP(C2005,PARAMETROS!$G$3:$H$21,2,FALSE))","v":""},null,{"$f":"IF(E2005=\"\",\"\",VLOOKUP(E2005,PARAMETROS!$I$3:$J$21,2,FALSE))","v":""},null,null,null,null,null,null,""]
[null,{"$f":"IF(A2006=\"\",\"\",VLOOKUP(A2006,PARAMETROS!$B$3:$C$3,2,FALSE))","v":""},null,{"$f":"IF(C2006=\"\",\"\",VLOOKUP(C2006,PARAMETROS!$G$3:$H$21,2,FALSE))","v":""},null,{"$f":"IF(E2006=\"\",\"\",VLOOKUP(E2006,PARAMETROS!$I$3:$J$21,2,FALSE))","v":""},null,null,null,null,null,null,""]
[null,{"$f":"IF(A2007=\"\",\"\",VLOOKUP(A2007,PARAMETROS!$B$3:$C$3,2,FALSE))","v":""},null,{"$f":"IF(C2007=\"\",\"\",VLOOKUP(C2007,PARAMETROS!$G$3:$H$21,2,FALSE))","v":""},null,{"$f":"IF(E2007=\"\",\"\",VLOOKUP(E2007,PARAMETROS!$I$3:$J$21,2,FALSE))","v":""},null,null,null,null,null,null,""]
[null,{"$f":"IF(A2008=\"\",\"\",VLOOKUP(A2008,PARAMETROS!$B$3:$C$3,2,FALSE))","v":""},null,{"$f":"IF(C2008=\"\",\"\",VLOOKUP(C2008,PARAMETROS!$G$3:$H$21,2,FALSE))","v":""},null,{"$f":"IF(E2008=\"\",\"\",VLOOKUP(E2008,PARAMETROS!$I$3:$J$21,2,FALSE))","v":""},null,null,null,null,null,null,""]
[null,{"$f":"IF(A2009=\"\",\"\",VLOOKUP(A2009,PARAMETROS!$B$3:$C$3,2,FALSE))","v":""},null,{"$f":"IF(C2009=\"\",\"\",VLOOKUP(C2009,PARAMETROS!$G$3:$H$21,2,FALSE))","v":""},null,{"$f":"IF(E2009=\"\",\"\",VLOOKUP(E2009,PARAMETROS!$I$3:$J$21,2,FALSE))","v":""},null,null,null,null,null,null,""]
[null,{"$f":"IF(A2010=\"\",\"\",VLOOKUP(A2010,PARAMETROS!$B$3:$C$3,2,FALSE))","v":""},null,{"$f":"IF(C2010=\"\",\"\",VLOOKUP(C2010,PARAMETROS!$G$3:$H$21,2,FALSE))","v":""},null,{"$f":"IF(E2010=\"\",\"\",VLOOKUP(E2010,PARAMETROS!$I$3:$J$21,2,FALSE))","v":""},null,null,null,null,null,null,""]
[null,{"$f":"IF(A2011=\"\",\"\",VLOOKUP(A2011,PARAMETROS!$B$3:$C$3,2,FALSE))","v":""},null,{"$f":"IF(C2011=\"\",\"\",VLOOKUP(C2011,PARAMETROS!$G$3:$H$21,2,FALSE))","v":""},null,{"$f":"IF(E2011=\"\",\"\",VLOOKUP(E2011,PARAMETROS!$I$3:$J$21,2,FALSE))","v":""},null,null,null,null,null,null,""]
[null,{"$f":"IF(A2012=\"\",\"\",VLOOKUP(A2012,PARAMETROS!$B$3:$C$3,2,FALSE))","v":""},null,{"$f":"IF(C2012=\"\",\"\",VLOOKUP(C2012,PARAMETROS!$G$3:$H$21,2,FALSE))","v":""},null,{"$f":"IF(E2012=\"\",\"\",VLOOKUP(E2012,PARAMETROS!$I$3:$J$21,2,FALSE))","v":""},null,null,null,null,null,null,""]
[null,{"$f":"IF(A2013=\"\",\"\",VLOOKUP(A2013,PARAMETROS!$B$3:$C$3,2,FALSE))","v":""},null,{"$f":"IF(C2013=\"\",\"\",VLOOKUP(C2013,PARAMETROS!$G$3:$H$21,2,FALSE))","v":""},null,{"$f":"IF(E2013=\"\",\"\",VLOOKUP(E2013,PARAMETROS!$I$3:$J$21,2,FALSE))","v":""},null,null,null,null,null,null,""]
[null,{"$f":"IF(A2014=\"\",\"\",VLOOKUP(A2014,PARAMETROS!$B$3:$C$3,2,FALSE))","v":""},null,{"$f":"IF(C2014=\"\",\"\",VLOOKUP(C2014,PARAMETROS!$G$3:$H$21,2,FALSE))","v":""},null,{"$f":"IF(E2014=\"\",\"\",VLOOKUP(E2014,PARAMETROS!$I$3:$J$21,2,FALSE))","v":""},null,null,null,null,null,null,""]
[null,{"$f":"IF(A2015=\"\",\"\",VLOOKUP(A2015,PARAMETROS!$B$3:$C$3,2,FALSE))","v":""},null,{"$f":"IF(C2015=\"\",\"\",VLOOKUP(C2015,PARAMETROS!$G$3:$H$21,2,FALSE))","v":""},null,{"$f":"IF(E2015=\"\",\"\",VLOOKUP(E2015,PARAMETROS!$I$3:$J$21,2,FALSE))","v":""},null,null,null,null,null,null,""]
[null,{"$f":"IF(A2016=\"\",\"\",VLOOKUP(A2016,PARAMETROS!$B$3:$C$3,2,FALSE))","v":""},null,{"$f":"IF(C2016=\"\",\"\",VLOOKUP(C2016,PARAMETROS!$G$3:$H$21,2,FALSE))","v":""},null,{"$f":"IF(E2016=\"\",\"\",VLOOKUP(E2016,PARAMETROS!$I$3:$J$21,2,FALSE))","v":""},null,null,null,null,null,null,""]
[null,{"$f":"IF(A2017=\"\",\"\",VLOOKUP(A2017,PARAMETROS!$B$3:$C$3,2,FALSE))","v":""},null,{"$f":"IF(C2017=\"\",\"\",VLOOKUP(C2017,PARAMETROS!$G$3:$H$21,2,FALSE))","v":""},null,{"$f":"IF(E2017=\"\",\"\",VLOOKUP(E2017,PARAMETROS!$I$3:$J$21,2,FALSE))","v":""},null,null,null,null,null,null,""]
[null,{"$f":"IF(A2018=\"\",\"\",VLOOKUP(A2018,PARAMETROS!$B$3:$C$3,2,FALSE))","v":""},null,{"$f":"IF(C2018=\"\",\"\",VLOOKUP(C2018,PARAMETROS!$G$3:$H$21,2,FALSE))","v":""},null,{"$f":"IF(E2018=\"\",\"\",VLOOKUP(E2018,PARAMETROS!$I$3:$J$21,2,FALSE))","v":""},null,null,null,null,null,null,""]
[null,{"$f":"IF(A2019=\"\",\"\",VLOOKUP(A2019,PARAMETROS!$B$3:$C$3,2,FALSE))","v":""},null,{"$f":"IF(C2019=\"\",\"\",VLOOKUP(C2019,PARAMETROS!$G$3:$H$21,2,FALSE))","v":""},null,{"$f":"IF(E2019=\"\",\"\",VLOOKUP(E2019,PARAMETROS!$I$3:$J$21,2,FALSE))","v":""},null,null,null,null,null,null,""]
[null,{"$f":"IF(A2020=\"\",\"\",VLOOKUP(A2020,PARAMETROS!$B$3:$C$3,2,FALSE))","v":""},null,{"$f":"IF(C2020=\"\",\"\",VLOOKUP(C2020,PARAMETROS!$G$3:$H$21,2,FALSE))","v":""},null,{"$f":"IF(E2020=\"\",\"\",VLOOKUP(E2020,PARAMETROS!$I$3:$J$21,2,FALSE))","v":""},null,null,null,null,null,null,""]
[null,{"$f":"IF(A2021=\"\",\"\",VLOOKUP(A2021,PARAMETROS!$B$3:$C$3,2,FALSE))","v":""},null,{"$f":"IF(C2021=\"\",\"\",VLOOKUP(C2021,PARAMETROS!$G$3:$H$21,2,FALSE))","v":""},null,{"$f":"IF(E2021=\"\",\"\",VLOOKUP(E2021,PARAMETROS!$I$3:$J$21,2,FALSE))","v":""},null,null,null,null,null,null,""]
[null,{"$f":"IF(A2022=\"\",\"\",VLOOKUP(A2022,PARAMETROS!$B$3:$C$3,2,FALSE))","v":""},null,{"$f":"IF(C2022=\"\",\"\",VLOOKUP(C2022,PARAMETROS!$G$3:$H$21,2,FALSE))","v":""},null,{"$f":"IF(E2022=\"\",\"\",VLOOKUP(E2022,PARAMETROS!$I$3:$J$21,2,FALSE))","v":""},null,null,null,null,null,null,""]
[null,{"$f":"IF(A2023=\"\",\"\",VLOOKUP(A2023,PARAMETROS!$B$3:$C$3,2,FALSE))","v":""},null,{"$f":"IF(C2023=\"\",\"\",VLOOKUP(C2023,PARAMETROS!$G$3:$H$21,2,FALSE))","v":""},null,{"$f":"IF(E2023=\"\",\"\",VLOOKUP(E2023,PARAMETROS!$I$3:$J$21,2,FALSE))","v":""},null,null,null,null,null,null,""]
[null,{"$f":"IF(A2024=\"\",\"\",VLOOKUP(A2024,PARAMETROS!$B$3:$C$3,2,FALSE))","v":""},null,{"$f":"IF(C2024=\"\",\"\",VLOOKUP(C2024,PARAMETROS!$G$3:$H$21,2,FALSE))","v":""},null,{"$f":"IF(E2024=\"\",\"\",VLOOKUP(E2024,PARAMETROS!$I$3:$J$21,2,FALSE))","v":""},null,null,null,null,null,null,""]
[null,{"$f":"IF(A2025=\"\",\"\",VLOOKUP(A2025,PARAMETROS!$B$3:$C$3,2,FALSE))","v":""},null,{"$f":"IF(C2025=\"\",\"\",VLOOKUP(C2025,PARAMETROS!$G$3:$H$21,2,FALSE))","v":""},null,{"$f":"IF(E2025=\"\",\"\",VLOOKUP(E2025,PARAMETROS!$I$3:$J$21,2,FALSE))","v":""},null,null,null,null,null,null,""]
[null,{"$f":"IF(A2026=\"\",\"\",VLOOKUP(A2026,PARAMETROS!$B$3:$C$3,2,FALSE))","v":""},null,{"$f":"IF(C2026=\"\",\"\",VLOOKUP(C2026,PARAMETROS!$G$3:$H$21,2,FALSE))","v":""},null,{"$f":"IF(E2026=\"\",\"\",VLOOKUP(E2026,PARAMETROS!$I$3:$J$21,2,FALSE))","v":""},null,null,null,null,null,null,""]
[null,{"$f":"IF(A2027=\"\",\"\",VLOOKUP(A2027,PARAMETROS!$B$3:$C$3,2,FALSE))","v":""},null,{"$f":"IF(C2027=\"\",\"\",VLOOKUP(C2027,PARAMETROS!$G$3:$H$21,2,FALSE))","v":""},null,{"$f":"IF(E2027=\"\",\"\",VLOOKUP(E2027,PARAMETROS!$I$3:$J$21,2,FALSE))","v":""},null,null,null,null,null,null,""]
[null,{"$f":"IF(A2028=\"\",\"\",VLOOKUP(A2028,PARAMETROS!$B$3:$C$3,2,FALSE))","v":""},null,{"$f":"IF(C2028=\"\",\"\",VLOOKUP(C2028,PARAMETROS!$G$3:$H$21,2,FALSE))","v":""},null,{"$f":"IF(E2028=\"\",\"\",VLOOKUP(E2028,PARAMETROS!$I$3:$J$21,2,FALSE))","v":""},null,null,null,null,null,null,""]
[null,{"$f":"IF(A2029=\"\",\"\",VLOOKUP(A2029,PARAMETROS!$B$3:$C$3,2,FALSE))","v":""},null,{"$f":"IF(C2029=\"\",\"\",VLOOKUP(C2029,PARAMETROS!$G$3:$H$21,2,FALSE))","v":""},null,{"$f":"IF(E2029=\"\",\"\",VLOOKUP(E2029,PARAMETROS!$I$3:$J$21,2,FALSE))","v":""},null,null,null,null,null,null,""]
[null,{"$f":"IF(A2030=\"\",\"\",VLOOKUP(A2030,PARAMETROS!$B$3:$C$3,2,FALSE))","v":""},null,{"$f":"IF(C2030=\"\",\"\",VLOOKUP(C2030,PARAMETROS!$G$3:$H$21,2,FALSE))","v":""},null,{"$f":"IF(E2030=\"\",\"\",VLOOKUP(E2030,PARAMETROS!$I$3:$J$21,2,FALSE))","v":""},null,null,null,null,null,null,""]
[null,{"$f":"IF(A2031=\"\",\"\",VLOOKUP(A2031,PARAMETROS!$B$3:$C$3,2,FALSE))","v":""},null,{"$f":"IF(C2031=\"\",\"\",VLOOKUP(C2031,PARAMETROS!$G$3:$H$21,2,FALSE))","v":""},null,{"$f":"IF(E2031=\"\",\"\",VLOOKUP(E2031,PARAMETROS!$I$3:$J$21,2,FALSE))","v":""},null,null,null,null,null,null,""]
[null,{"$f":"IF(A2032=\"\",\"\",VLOOKUP(A2032,PARAMETROS!$B$3:$C$3,2,FALSE))","v":""},null,{"$f":"IF(C2032=\"\",\"\",VLOOKUP(C2032,PARAMETROS!$G$3:$H$21,2,FALSE))","v":""},null,{"$f":"IF(E2032=\"\",\"\",VLOOKUP(E2032,PARAMETROS!$I$3:$J$21,2,FALSE))","v":""},null,null,null,null,null,null,""]
[null,{"$f":"IF(A2033=\"\",\"\",VLOOKUP(A2033,PARAMETROS!$B$3:$C$3,2,FALSE))","v":""},null,{"$f":"IF(C2033=\"\",\"\",VLOOKUP(C2033,PARAMETROS!$G$3:$H$21,2,FALSE))","v":""},null,{"$f":"IF(E2033=\"\",\"\",VLOOKUP(E2033,PARAMETROS!$I$3:$J$21,2,FALSE))","v":""},null,null,null,null,null,null,""]
[null,{"$f":"IF(A2034=\"\",\"\",VLOOKUP(A2034,PARAMETROS!$B$3:$C$3,2,FALSE))","v":""},null,{"$f":"IF(C2034=\"\",\"\",VLOOKUP(C2034,PARAMETROS!$G$3:$H$21,2,FALSE))","v":""},null,{"$f":"IF(E2034=\"\",\"\",VLOOKUP(E2034,PARAMETROS!$I$3:$J$21,2,FALSE))","v":""},null,null,null,null,null,null,""]
[null,{"$f":"IF(A2035=\"\",\"\",VLOOKUP(A2035,PARAMETROS!$B$3:$C$3,2,FALSE))","v":""},null,{"$f":"IF(C2035=\"\",\"\",VLOOKUP(C2035,PARAMETROS!$G$3:$H$21,2,FALSE))","v":""},null,{"$f":"IF(E2035=\"\",\"\",VLOOKUP(E2035,PARAMETROS!$I$3:$J$21,2,FALSE))","v":""},null,null,null,null,null,null,""]
[null,{"$f":"IF(A2036=\"\",\"\",VLOOKUP(A2036,PARAMETROS!$B$3:$C$3,2,FALSE))","v":""},null,{"$f":"IF(C2036=\"\",\"\",VLOOKUP(C2036,PARAMETROS!$G$3:$H$21,2,FALSE))","v":""},null,{"$f":"IF(E2036=\"\",\"\",VLOOKUP(E2036,PARAMETROS!$I$3:$J$21,2,FALSE))","v":""},null,null,null,null,null,null,""]
[null,{"$f":"IF(A2037=\"\",\"\",VLOOKUP(A2037,PARAMETROS!$B$3:$C$3,2,FALSE))","v":""},null,{"$f":"IF(C2037=\"\",\"\",VLOOKUP(C2037,PARAMETROS!$G$3:$H$21,2,FALSE))","v":""},null,{"$f":"IF(E2037=\"\",\"\",VLOOKUP(E2037,PARAMETROS!$I$3:$J$21,2,FALSE))","v":""},null,null,null,null,null,null,""]
[null,{"$f":"IF(A2038=\"\",\"\",VLOOKUP(A2038,PARAMETROS!$B$3:$C$3,2,FALSE))","v":""},null,{"$f":"IF(C2038=\"\",\"\",VLOOKUP(C2038,PARAMETROS!$G$3:$H$21,2,FALSE))","v":""},null,{"$f":"IF(E2038=\"\",\"\",VLOOKUP(E2038,PARAMETROS!$I$3:$J$21,2,FALSE))","v":""},null,null,null,null,null,null,""]
[null,{"$f":"IF(A2039=\"\",\"\",VLOOKUP(A2039,PARAMETROS!$B$3:$C$3,2,FALSE))","v":""},null,{"$f":"IF(C2039=\"\",\"\",VLOOKUP(C2039,PARAMETROS!$G$3:$H$21,2,FALSE))","v":""},null,{"$f":"IF(E2039=\"\",\"\",VLOOKUP(E2039,PARAMETROS!$I$3:$J$21,2,FALSE))","v":""},null,null,null,null,null,null,""]
[null,{"$f":"IF(A2040=\"\",\"\",VLOOKUP(A2040,PARAMETROS!$B$3:$C$3,2,FALSE))","v":""},null,{"$f":"IF(C2040=\"\",\"\",VLOOKUP(C2040,PARAMETROS!$G$3:$H$21,2,FALSE))","v":""},null,{"$f":"IF(E2040=\"\",\"\",VLOOKUP(E2040,PARAMETROS!$I$3:$J$21,2,FALSE))","v":""},null,null,null,null,null,null,""]
[null,{"$f":"IF(A2041=\"\",\"\",VLOOKUP(A2041,PARAMETROS!$B$3:$C$3,2,FALSE))","v":""},null,{"$f":"IF(C2041=\"\",\"\",VLOOKUP(C2041,PARAMETROS!$G$3:$H$21,2,FALSE))","v":""},null,{"$f":"IF(E2041=\"\",\"\",VLOOKUP(E2041,PARAMETROS!$I$3:$J$21,2,FALSE))","v":""},null,null,null,null,null,null,""]
[null,{"$f":"IF(A2042=\"\",\"\",VLOOKUP(A2042,PARAMETROS!$B$3:$C$3,2,FALSE))","v":""},null,{"$f":"IF(C2042=\"\",\"\",VLOOKUP(C2042,PARAMETROS!$G$3:$H$21,2,FALSE))","v":""},null,{"$f":"IF(E2042=\"\",\"\",VLOOKUP(E2042,PARAMETROS!$I$3:$J$21,2,FALSE))","v":""},null,null,null,null,null,null,""]
[null,{"$f":"IF(A2043=\"\",\"\",VLOOKUP(A2043,PARAMETROS!$B$3:$C$3,2,FALSE))","v":""},null,{"$f":"IF(C2043=\"\",\"\",VLOOKUP(C2043,PARAMETROS!$G$3:$H$21,2,FALSE))","v":""},null,{"$f":"IF(E2043=\"\",\"\",VLOOKUP(E2043,PARAMETROS!$I$3:$J$21,2,FALSE))","v":""},null,null,null,null,null,null,""]
[null,{"$f":"IF(A2044=\"\",\"\",VLOOKUP(A2044,PARAMETROS!$B$3:$C$3,2,FALSE))","v":""},null,{"$f":"IF(C2044=\"\",\"\",VLOOKUP(C2044,PARAMETROS!$G$3:$H$21,2,FALSE))","v":""},null,{"$f":"IF(E2044=\"\",\"\",VLOOKUP(E2044,PARAMETROS!$I$3:$J$21,2,FALSE))","v":""},null,null,null,null,null,null,""]
[null,{"$f":"IF(A2045=\"\",\"\",VLOOKUP(A2045,PARAMETROS!$B$3:$C$3,2,FALSE))","v":""},null,{"$f":"IF(C2045=\"\",\"\",VLOOKUP(C2045,PARAMETROS!$G$3:$H$21,2,FALSE))","v":""},null,{"$f":"IF(E2045=\"\",\"\",VLOOKUP(E2045,PARAMETROS!$I$3:$J$21,2,FALSE))","v":""},null,null,null,null,null,null,""]
[null,{"$f":"IF(A2046=\"\",\"\",VLOOKUP(A2046,PARAMETROS!$B$3:$C$3,2,FALSE))","v":""},null,{"$f":"IF(C2046=\"\",\"\",VLOOKUP(C2046,PARAMETROS!$G$3:$H$21,2,FALSE))","v":""},null,{"$f":"IF(E2046=\"\",\"\",VLOOKUP(E2046,PARAMETROS!$I$3:$J$21,2,FALSE))","v":""},null,null,null,null,null,null,""]
[null,{"$f":"IF(A2047=\"\",\"\",VLOOKUP(A2047,PARAMETROS!$B$3:$C$3,2,FALSE))","v":""},null,{"$f":"IF(C2047=\"\",\"\",VLOOKUP(C2047,PARAMETROS!$G$3:$H$21,2,FALSE))","v":""},null,{"$f":"IF(E2047=\"\",\"\",VLOOKUP(E2047,PARAMETROS!$I$3:$J$21,2,FALSE))","v":""},null,null,null,null,null,null,""]
[null,{"$f":"IF(A2048=\"\",\"\",VLOOKUP(A2048,PARAMETROS!$B$3:$C$3,2,FALSE))","v":""},null,{"$f":"IF(C2048=\"\",\"\",VLOOKUP(C2048,PARAMETROS!$G$3:$H$21,2,FALSE))","v":""},null,{"$f":"IF(E2048=\"\",\"\",VLOOKUP(E2048,PARAMETROS!$I$3:$J$21,2,FALSE))","v":""},null,null,null,null,null,null,""]
[null,{"$f":"IF(A2049=\"\",\"\",VLOOKUP(A2049,PARAMETROS!$B$3:$C$3,2,FALSE))","v":""},null,{"$f":"IF(C2049=\"\",\"\",VLOOKUP(C2049,PARAMETROS!$G$3:$H$21,2,FALSE))","v":""},null,{"$f":"IF(E2049=\"\",\"\",VLOOKUP(E2049,PARAMETROS!$I$3:$J$21,2,FALSE))","v":""},null,null,null,null,null,null,""]
[null,{"$f":"IF(A2050=\"\",\"\",VLOOKUP(A2050,PARAMETROS!$B$3:$C$3,2,FALSE))","v":""},null,{"$f":"IF(C2050=\"\",\"\",VLOOKUP(C2050,PARAMETROS!$G$3:$H$21,2,FALSE))","v":""},null,{"$f":"IF(E2050=\"\",\"\",VLOOKUP(E2050,PARAMETROS!$I$3:$J$21,2,FALSE))","v":""},null,null,null,null,null,null,""]
[null,{"$f":"IF(A2051=\"\",\"\",VLOOKUP(A2051,PARAMETROS!$B$3:$C$3,2,FALSE))","v":""},null,{"$f":"IF(C2051=\"\",\"\",VLOOKUP(C2051,PARAMETROS!$G$3:$H$21,2,FALSE))","v":""},null,{"$f":"IF(E2051=\"\",\"\",VLOOKUP(E2051,PARAMETROS!$I$3:$J$21,2,FALSE))","v":""},null,null,null,null,null,null,""]
[null,{"$f":"IF(A2052=\"\",\"\",VLOOKUP(A2052,PARAMETROS!$B$3:$C$3,2,FALSE))","v":""},null,{"$f":"IF(C2052=\"\",\"\",VLOOKUP(C2052,PARAMETROS!$G$3:$H$21,2,FALSE))","v":""},null,{"$f":"IF(E2052=\"\",\"\",VLOOKUP(E2052,PARAMETROS!$I$3:$J$21,2,FALSE))","v":""},null,null,null,null,null,null,""]
[null,{"$f":"IF(A2053=\"\",\"\",VLOOKUP(A2053,PARAMETROS!$B$3:$C$3,2,FALSE))","v":""},null,{"$f":"IF(C2053=\"\",\"\",VLOOKUP(C2053,PARAMETROS!$G$3:$H$21,2,FALSE))","v":""},null,{"$f":"IF(E2053=\"\",\"\",VLOOKUP(E2053,PARAMETROS!$I$3:$J$21,2,FALSE))","v":""},null,null,null,null,null,null,""]
[null,{"$f":"IF(A2054=\"\",\"\",VLOOKUP(A2054,PARAMETROS!$B$3:$C$3,2,FALSE))","v":""},null,{"$f":"IF(C2054=\"\",\"\",VLOOKUP(C2054,PARAMETROS!$G$3:$H$21,2,FALSE))","v":""},null,{"$f":"IF(E2054=\"\",\"\",VLOOKUP(E2054,PARAMETROS!$I$3:$J$21,2,FALSE))","v":""},null,null,null,null,null,null,""]
[null,{"$f":"IF(A2055=\"\",\"\",VLOOKUP(A2055,PARAMETROS!$B$3:$C$3,2,FALSE))","v":""},null,{"$f":"IF(C2055=\"\",\"\",VLOOKUP(C2055,PARAMETROS!$G$3:$H$21,2,FALSE))","v":""},null,{"$f":"IF(E2055=\"\",\"\",VLOOKUP(E2055,PARAMETROS!$I$3:$J$21,2,FALSE))","v":""},null,null,null,null,null,null,""]
[null,{"$f":"IF(A2056=\"\",\"\",VLOOKUP(A2056,PARAMETROS!$B$3:$C$3,2,FALSE))","v":""},null,{"$f":"IF(C2056=\"\",\"\",VLOOKUP(C2056,PARAMETROS!$G$3:$H$21,2,FALSE))","v":""},null,{"$f":"IF(E2056=\"\",\"\",VLOOKUP(E2056,PARAMETROS!$I$3:$J$21,2,FALSE))","v":""},null,null,null,null,null,null,""]
[null,{"$f":"IF(A2057=\"\",\"\",VLOOKUP(A2057,PARAMETROS!$B$3:$C$3,2,FALSE))","v":""},null,{"$f":"IF(C2057=\"\",\"\",VLOOKUP(C2057,PARAMETROS!$G$3:$H$21,2,FALSE))","v":""},null,{"$f":"IF(E2057=\"\",\"\",VLOOKUP(E2057,PARAMETROS!$I$3:$J$21,2,FALSE))","v":""},null,null,null,null,null,null,""]
[null,{"$f":"IF(A2058=\"\",\"\",VLOOKUP(A2058,PARAMETROS!$B$3:$C$3,2,FALSE))","v":""},null,{"$f":"IF(C2058=\"\",\"\",VLOOKUP(C2058,PARAMETROS!$G$3:$H$21,2,FALSE))","v":""},null,{"$f":"IF(E2058=\"\",\"\",VLOOKUP(E2058,PARAMETROS!$I$3:$J$21,2,FALSE))","v":""},null,null,null,null,null,null,""]
[null,{"$f":"IF(A2059=\"\",\"\",VLOOKUP(A2059,PARAMETROS!$B$3:$C$3,2,FALSE))","v":""},null,{"$f":"IF(C2059=\"\",\"\",VLOOKUP(C2059,PARAMETROS!$G$3:$H$21,2,FALSE))","v":""},null,{"$f":"IF(E2059=\"\",\"\",VLOOKUP(E2059,PARAMETROS!$I$3:$J$21,2,FALSE))","v":""},null,null,null,null,null,null,""]
[null,{"$f":"IF(A2060=\"\",\"\",VLOOKUP(A2060,PARAMETROS!$B$3:$C$3,2,FALSE))","v":""},null,{"$f":"IF(C2060=\"\",\"\",VLOOKUP(C2060,PARAMETROS!$G$3:$H$21,2,FALSE))","v":""},null,{"$f":"IF(E2060=\"\",\"\",VLOOKUP(E2060,PARAMETROS!$I$3:$J$21,2,FALSE))","v":""},null,null,null,null,null,null,""]
[null,{"$f":"IF(A2061=\"\",\"\",VLOOKUP(A2061,PARAMETROS!$B$3:$C$3,2,FALSE))","v":""},null,{"$f":"IF(C2061=\"\",\"\",VLOOKUP(C2061,PARAMETROS!$G$3:$H$21,2,FALSE))","v":""},null,{"$f":"IF(E2061=\"\",\"\",VLOOKUP(E2061,PARAMETROS!$I$3:$J$21,2,FALSE))","v":""},null,null,null,null,null,null,""]
[null,{"$f":"IF(A2062=\"\",\"\",VLOOKUP(A2062,PARAMETROS!$B$3:$C$3,2,FALSE))","v":""},null,{"$f":"IF(C2062=\"\",\"\",VLOOKUP(C2062,PARAMETROS!$G$3:$H$21,2,FALSE))","v":""},null,{"$f":"IF(E2062=\"\",\"\",VLOOKUP(E2062,PARAMETROS!$I$3:$J$21,2,FALSE))","v":""},null,null,null,null,null,null,""]
[null,{"$f":"IF(A2063=\"\",\"\",VLOOKUP(A2063,PARAMETROS!$B$3:$C$3,2,FALSE))","v":""},null,{"$f":"IF(C2063=\"\",\"\",VLOOKUP(C2063,PARAMETROS!$G$3:$H$21,2,FALSE))","v":""},null,{"$f":"IF(E2063=\"\",\"\",VLOOKUP(E2063,PARAMETROS!$I$3:$J$21,2,FALSE))","v":""},null,null,null,null,null,null,{"$f":"IF(L2063=\"\", \"\", L2063)","v":""}]
[null,{"$f":"IF(A2064=\"\",\"\",VLOOKUP(A2064,PARAMETROS!$B$3:$C$3,2,FALSE))","v":""},null,{"$f":"IF(C2064=\"\",\"\",VLOOKUP(C2064,PARAMETROS!$G$3:$H$21,2,FALSE))","v":""},null,{"$f":"IF(E2064=\"\",\"\",VLOOKUP(E2064,PARAMETROS!$I$3:$J$21,2,FALSE))","v":""},null,null,null,null,null,null,""]
[null,{"$f":"IF(A2065=\"\",\"\",VLOOKUP(A2065,PARAMETROS!$B$3:$C$3,2,FALSE))","v":""},null,{"$f":"IF(C2065=\"\",\"\",VLOOKUP(C2065,PARAMETROS!$G$3:$H$21,2,FALSE))","v":""},null,{"$f":"IF(E2065=\"\",\"\",VLOOKUP(E2065,PARAMETROS!$I$3:$J$21,2,FALSE))","v":""},null,null,null,null,null,null,""]
[null,{"$f":"IF(A2066=\"\",\"\",VLOOKUP(A2066,PARAMETROS!$B$3:$C$3,2,FALSE))","v":""},null,{"$f":"IF(C2066=\"\",\"\",VLOOKUP(C2066,PARAMETROS!$G$3:$H$21,2,FALSE))","v":""},null,{"$f":"IF(E2066=\"\",\"\",VLOOKUP(E2066,PARAMETROS!$I$3:$J$21,2,FALSE))","v":""},null,null,null,null,null,null,""]
[null,{"$f":"IF(A2067=\"\",\"\",VLOOKUP(A2067,PARAMETROS!$B$3:$C$3,2,FALSE))","v":""},null,{"$f":"IF(C2067=\"\",\"\",VLOOKUP(C2067,PARAMETROS!$G$3:$H$21,2,FALSE))","v":""},null,{"$f":"IF(E2067=\"\",\"\",VLOOKUP(E2067,PARAMETROS!$I$3:$J$21,2,FALSE))","v":""},null,null,null,null,null,null,""]
[null,{"$f":"IF(A2068=\"\",\"\",VLOOKUP(A2068,PARAMETROS!$B$3:$C$3,2,FALSE))","v":""},null,{"$f":"IF(C2068=\"\",\"\",VLOOKUP(C2068,PARAMETROS!$G$3:$H$21,2,FALSE))","v":""},null,{"$f":"IF(E2068=\"\",\"\",VLOOKUP(E2068,PARAMETROS!$I$3:$J$21,2,FALSE))","v":""},null,null,null,null,null,null,""]
[null,{"$f":"IF(A2069=\"\",\"\",VLOOKUP(A2069,PARAMETROS!$B$3:$C$3,2,FALSE))","v":""},null,{"$f":"IF(C2069=\"\",\"\",VLOOKUP(C2069,PARAMETROS!$G$3:$H$21,2,FALSE))","v":""},null,{"$f":"IF(E2069=\"\",\"\",VLOOKUP(E2069,PARAMETROS!$I$3:$J$21,2,FALSE))","v":""},null,null,null,null,null,null,""]
[null,{"$f":"IF(A2070=\"\",\"\",VLOOKUP(A2070,PARAMETROS!$B$3:$C$3,2,FALSE))","v":""},null,{"$f":"IF(C2070=\"\",\"\",VLOOKUP(C2070,PARAMETROS!$G$3:$H$21,2,FALSE))","v":""},null,{"$f":"IF(E2070=\"\",\"\",VLOOKUP(E2070,PARAMETROS!$I$3:$J$21,2,FALSE))","v":""},null,null,null,null,null,null,""]
[null,{"$f":"IF(A2071=\"\",\"\",VLOOKUP(A2071,PARAMETROS!$B$3:$C$3,2,FALSE))","v":""},null,{"$f":"IF(C2071=\"\",\"\",VLOOKUP(C2071,PARAMETROS!$G$3:$H$21,2,FALSE))","v":""},null,{"$f":"IF(E2071=\"\",\"\",VLOOKUP(E2071,PARAMETROS!$I$3:$J$21,2,FALSE))","v":""},null,null,null,null,null,null,""]
[null,{"$f":"IF(A2072=\"\",\"\",VLOOKUP(A2072,PARAMETROS!$B$3:$C$3,2,FALSE))","v":""},null,{"$f":"IF(C2072=\"\",\"\",VLOOKUP(C2072,PARAMETROS!$G$3:$H$21,2,FALSE))","v":""},null,{"$f":"IF(E2072=\"\",\"\",VLOOKUP(E2072,PARAMETROS!$I$3:$J$21,2,FALSE))","v":""},null,null,null,null,null,null,""]
[null,{"$f":"IF(A2073=\"\",\"\",VLOOKUP(A2073,PARAMETROS!$B$3:$C$3,2,FALSE))","v":""},null,{"$f":"IF(C2073=\"\",\"\",VLOOKUP(C2073,PARAMETROS!$G$3:$H$21,2,FALSE))","v":""},null,{"$f":"IF(E2073=\"\",\"\",VLOOKUP(E2073,PARAMETROS!$I$3:$J$21,2,FALSE))","v":""},null,null,null,null,null,null,""]
[null,{"$f":"IF(A2074=\"\",\"\",VLOOKUP(A2074,PARAMETROS!$B$3:$C$3,2,FALSE))","v":""},null,{"$f":"IF(C2074=\"\",\"\",VLOOKUP(C2074,PARAMETROS!$G$3:$H$21,2,FALSE))","v":""},null,{"$f":"IF(E2074=\"\",\"\",VLOOKUP(E2074,PARAMETROS!$I$3:$J$21,2,FALSE))","v":""},null,null,null,null,null,null,""]
[null,{"$f":"IF(A2075=\"\",\"\",VLOOKUP(A2075,PARAMETROS!$B$3:$C$3,2,FALSE))","v":""},null,{"$f":"IF(C2075=\"\",\"\",VLOOKUP(C2075,PARAMETROS!$G$3:$H$21,2,FALSE))","v":""},null,{"$f":"IF(E2075=\"\",\"\",VLOOKUP(E2075,PARAMETROS!$I$3:$J$21,2,FALSE))","v":""},null,null,null,null,null,null,""]
[null,{"$f":"IF(A2076=\"\",\"\",VLOOKUP(A2076,PARAMETROS!$B$3:$C$3,2,FALSE))","v":""},null,{"$f":"IF(C2076=\"\",\"\",VLOOKUP(C2076,PARAMETROS!$G$3:$H$21,2,FALSE))","v":""},null,{"$f":"IF(E2076=\"\",\"\",VLOOKUP(E2076,PARAMETROS!$I$3:$J$21,2,FALSE))","v":""},null,null,null,null,null,null,""]
[null,{"$f":"IF(A2077=\"\",\"\",VLOOKUP(A2077,PARAMETROS!$B$3:$C$3,2,FALSE))","v":""},null,{"$f":"IF(C2077=\"\",\"\",VLOOKUP(C2077,PARAMETROS!$G$3:$H$21,2,FALSE))","v":""},null,{"$f":"IF(E2077=\"\",\"\",VLOOKUP(E2077,PARAMETROS!$I$3:$J$21,2,FALSE))","v":""},null,null,null,null,null,null,""]
[null,{"$f":"IF(A2078=\"\",\"\",VLOOKUP(A2078,PARAMETROS!$B$3:$C$3,2,FALSE))","v":""},null,{"$f":"IF(C2078=\"\",\"\",VLOOKUP(C2078,PARAMETROS!$G$3:$H$21,2,FALSE))","v":""},null,{"$f":"IF(E2078=\"\",\"\",VLOOKUP(E2078,PARAMETROS!$I$3:$J$21,2,FALSE))","v":""},null,null,null,null,null,null,""]
[null,{"$f":"IF(A2079=\"\",\"\",VLOOKUP(A2079,PARAMETROS!$B$3:$C$3,2,FALSE))","v":""},null,{"$f":"IF(C2079=\"\",\"\",VLOOKUP(C2079,PARAMETROS!$G$3:$H$21,2,FALSE))","v":""},null,{"$f":"IF(E2079=\"\",\"\",VLOOKUP(E2079,PARAMETROS!$I$3:$J$21,2,FALSE))","v":""},null,null,null,null,null,null,""]
[null,{"$f":"IF(A2080=\"\",\"\",VLOOKUP(A2080,PARAMETROS!$B$3:$C$3,2,FALSE))","v":""},null,{"$f":"IF(C2080=\"\",\"\",VLOOKUP(C2080,PARAMETROS!$G$3:$H$21,2,FALSE))","v":""},null,{"$f":"IF(E2080=\"\",\"\",VLOOKUP(E2080,PARAMETROS!$I$3:$J$21,2,FALSE))","v":""},null,null,null,null,null,null,""]
[null,{"$f":"IF(A2081=\"\",\"\",VLOOKUP(A2081,PARAMETROS!$B$3:$C$3,2,FALSE))","v":""},null,{"$f":"IF(C2081=\"\",\"\",VLOOKUP(C2081,PARAMETROS!$G$3:$H$21,2,FALSE))","v":""},null,{"$f":"IF(E2081=\"\",\"\",VLOOKUP(E2081,PARAMETROS!$I$3:$J$21,2,FALSE))","v":""},null,null,null,null,null,null,""]
[null,{"$f":"IF(A2082=\"\",\"\",VLOOKUP(A2082,PARAMETROS!$B$3:$C$3,2,FALSE))","v":""},null,{"$f":"IF(C2082=\"\",\"\",VLOOKUP(C2082,PARAMETROS!$G$3:$H$21,2,FALSE))","v":""},null,{"$f":"IF(E2082=\"\",\"\",VLOOKUP(E2082,PARAMETROS!$I$3:$J$21,2,FALSE))","v":""},null,null,null,null,null,null,""]
[null,{"$f":"IF(A2083=\"\",\"\",VLOOKUP(A2083,PARAMETROS!$B$3:$C$3,2,FALSE))","v":""},null,{"$f":"IF(C2083=\"\",\"\",VLOOKUP(C2083,PARAMETROS!$G$3:$H$21,2,FALSE))","v":""},null,{"$f":"IF(E2083=\"\",\"\",VLOOKUP(E2083,PARAMETROS!$I$3:$J$21,2,FALSE))","v":""},null,null,null,null,null,null,""]
[null,{"$f":"IF(A2084=\"\",\"\",VLOOKUP(A2084,PARAMETROS!$B$3:$C$3,2,FALSE))","v":""},null,{"$f":"IF(C2084=\"\",\"\",VLOOKUP(C2084,PARAMETROS!$G$3:$H$21,2,FALSE))","v":""},null,{"$f":"IF(E2084=\"\",\"\",VLOOKUP(E2084,PARAMETROS!$I$3:$J$21,2,FALSE))","v":""},null,null,null,null,null,null,""]
[null,{"$f":"IF(A2085=\"\",\"\",VLOOKUP(A2085,PARAMETROS!$B$3:$C$3,2,FALSE))","v":""},null,{"$f":"IF(C2085=\"\",\"\",VLOOKUP(C2085,PARAMETROS!$G$3:$H$21,2,FALSE))","v":""},null,{"$f":"IF(E2085=\"\",\"\",VLOOKUP(E2085,PARAMETROS!$I$3:$J$21,2,FALSE))","v":""},null,null,null,null,null,null,""]
[null,{"$f":"IF(A2086=\"\",\"\",VLOOKUP(A2086,PARAMETROS!$B$3:$C$3,2,FALSE))","v":""},null,{"$f":"IF(C2086=\"\",\"\",VLOOKUP(C2086,PARAMETROS!$G$3:$H$21,2,FALSE))","v":""},null,{"$f":"IF(E2086=\"\",\"\",VLOOKUP(E2086,PARAMETROS!$I$3:$J$21,2,FALSE))","v":""},null,null,null,null,null,null,""]
[null,{"$f":"IF(A2087=\"\",\"\",VLOOKUP(A2087,PARAMETROS!$B$3:$C$3,2,FALSE))","v":""},null,{"$f":"IF(C2087=\"\",\"\",VLOOKUP(C2087,PARAMETROS!$G$3:$H$21,2,FALSE))","v":""},null,{"$f":"IF(E2087=\"\",\"\",VLOOKUP(E2087,PARAMETROS!$I$3:$J$21,2,FALSE))","v":""},null,null,null,null,null,null,""]
[null,{"$f":"IF(A2088=\"\",\"\",VLOOKUP(A2088,PARAMETROS!$B$3:$C$3,2,FALSE))","v":""},null,{"$f":"IF(C2088=\"\",\"\",VLOOKUP(C2088,PARAMETROS!$G$3:$H$21,2,FALSE))","v":""},null,{"$f":"IF(E2088=\"\",\"\",VLOOKUP(E2088,PARAMETROS!$I$3:$J$21,2,FALSE))","v":""},null,null,null,null,null,null,""]
[null,{"$f":"IF(A2089=\"\",\"\",VLOOKUP(A2089,PARAMETROS!$B$3:$C$3,2,FALSE))","v":""},null,{"$f":"IF(C2089=\"\",\"\",VLOOKUP(C2089,PARAMETROS!$G$3:$H$21,2,FALSE))","v":""},null,{"$f":"IF(E2089=\"\",\"\",VLOOKUP(E2089,PARAMETROS!$I$3:$J$21,2,FALSE))","v":""},null,null,null,null,null,null,""]
[null,{"$f":"IF(A2090=\"\",\"\",VLOOKUP(A2090,PARAMETROS!$B$3:$C$3,2,FALSE))","v":""},null,{"$f":"IF(C2090=\"\",\"\",VLOOKUP(C2090,PARAMETROS!$G$3:$H$21,2,FALSE))","v":""},null,{"$f":"IF(E2090=\"\",\"\",VLOOKUP(E2090,PARAMETROS!$I$3:$J$21,2,FALSE))","v":""},null,null,null,null,null,null,""]
[null,{"$f":"IF(A2091=\"\",\"\",VLOOKUP(A2091,PARAMETROS!$B$3:$C$3,2,FALSE))","v":""},null,{"$f":"IF(C2091=\"\",\"\",VLOOKUP(C2091,PARAMETROS!$G$3:$H$21,2,FALSE))","v":""},null,{"$f":"IF(E2091=\"\",\"\",VLOOKUP(E2091,PARAMETROS!$I$3:$J$21,2,FALSE))","v":""},null,null,null,null,null,null,""]
[null,{"$f":"IF(A2092=\"\",\"\",VLOOKUP(A2092,PARAMETROS!$B$3:$C$3,2,FALSE))","v":""},null,{"$f":"IF(C2092=\"\",\"\",VLOOKUP(C2092,PARAMETROS!$G$3:$H$21,2,FALSE))","v":""},null,{"$f":"IF(E2092=\"\",\"\",VLOOKUP(E2092,PARAMETROS!$I$3:$J$21,2,FALSE))","v":""},null,null,null,null,null,null,""]
[null,{"$f":"IF(A2093=\"\",\"\",VLOOKUP(A2093,PARAMETROS!$B$3:$C$3,2,FALSE))","v":""},null,{"$f":"IF(C2093=\"\",\"\",VLOOKUP(C2093,PARAMETROS!$G$3:$H$21,2,FALSE))","v":""},null,{"$f":"IF(E2093=\"\",\"\",VLOOKUP(E2093,PARAMETROS!$I$3:$J$21,2,FALSE))","v":""},null,null,null,null,null,null,""]
[null,{"$f":"IF(A2094=\"\",\"\",VLOOKUP(A2094,PARAMETROS!$B$3:$C$3,2,FALSE))","v":""},null,{"$f":"IF(C2094=\"\",\"\",VLOOKUP(C2094,PARAMETROS!$G$3:$H$21,2,FALSE))","v":""},null,{"$f":"IF(E2094=\"\",\"\",VLOOKUP(E2094,PARAMETROS!$I$3:$J$21,2,FALSE))","v":""},null,null,null,null,null,null,""]
[null,{"$f":"IF(A2095=\"\",\"\",VLOOKUP(A2095,PARAMETROS!$B$3:$C$3,2,FALSE))","v":""},null,{"$f":"IF(C2095=\"\",\"\",VLOOKUP(C2095,PARAMETROS!$G$3:$H$21,2,FALSE))","v":""},null,{"$f":"IF(E2095=\"\",\"\",VLOOKUP(E2095,PARAMETROS!$I$3:$J$21,2,FALSE))","v":""},null,null,null,null,null,null,""]
[null,{"$f":"IF(A2096=\"\",\"\",VLOOKUP(A2096,PARAMETROS!$B$3:$C$3,2,FALSE))","v":""},null,{"$f":"IF(C2096=\"\",\"\",VLOOKUP(C2096,PARAMETROS!$G$3:$H$21,2,FALSE))","v":""},null,{"$f":"IF(E2096=\"\",\"\",VLOOKUP(E2096,PARAMETROS!$I$3:$J$21,2,FALSE))","v":""},null,null,null,null,null,null,""]
[null,{"$f":"IF(A2097=\"\",\"\",VLOOKUP(A2097,PARAMETROS!$B$3:$C$3,2,FALSE))","v":""},null,{"$f":"IF(C2097=\"\",\"\",VLOOKUP(C2097,PARAMETROS!$G$3:$H$21,2,FALSE))","v":""},null,{"$f":"IF(E2097=\"\",\"\",VLOOKUP(E2097,PARAMETROS!$I$3:$J$21,2,FALSE))","v":""},null,null,null,null,null,null,""]
[null,{"$f":"IF(A2098=\"\",\"\",VLOOKUP(A2098,PARAMETROS!$B$3:$C$3,2,FALSE))","v":""},null,{"$f":"IF(C2098=\"\",\"\",VLOOKUP(C2098,PARAMETROS!$G$3:$H$21,2,FALSE))","v":""},null,{"$f":"IF(E2098=\"\",\"\",VLOOKUP(E2098,PARAMETROS!$I$3:$J$21,2,FALSE))","v":""},null,null,null,null,null,null,""]
[null,{"$f":"IF(A2099=\"\",\"\",VLOOKUP(A2099,PARAMETROS!$B$3:$C$3,2,FALSE))","v":""},null,{"$f":"IF(C2099=\"\",\"\",VLOOKUP(C2099,PARAMETROS!$G$3:$H$21,2,FALSE))","v":""},null,{"$f":"IF(E2099=\"\",\"\",VLOOKUP(E2099,PARAMETROS!$I$3:$J$21,2,FALSE))","v":""},null,null,null,null,null,null,""]
[null,{"$f":"IF(A2100=\"\",\"\",VLOOKUP(A2100,PARAMETROS!$B$3:$C$3,2,FALSE))","v":""},null,{"$f":"IF(C2100=\"\",\"\",VLOOKUP(C2100,PARAMETROS!$G$3:$H$21,2,FALSE))","v":""},null,{"$f":"IF(E2100=\"\",\"\",VLOOKUP(E2100,PARAMETROS!$I$3:$J$21,2,FALSE))","v":""},null,null,null,null,null,null,""]
[null,{"$f":"IF(A2101=\"\",\"\",VLOOKUP(A2101,PARAMETROS!$B$3:$C$3,2,FALSE))","v":""},null,{"$f":"IF(C2101=\"\",\"\",VLOOKUP(C2101,PARAMETROS!$G$3:$H$21,2,FALSE))","v":""},null,{"$f":"IF(E2101=\"\",\"\",VLOOKUP(E2101,PARAMETROS!$I$3:$J$21,2,FALSE))","v":""},null,null,null,null,null,null,""]
[null,{"$f":"IF(A2102=\"\",\"\",VLOOKUP(A2102,PARAMETROS!$B$3:$C$3,2,FALSE))","v":""},null,{"$f":"IF(C2102=\"\",\"\",VLOOKUP(C2102,PARAMETROS!$G$3:$H$21,2,FALSE))","v":""},null,{"$f":"IF(E2102=\"\",\"\",VLOOKUP(E2102,PARAMETROS!$I$3:$J$21,2,FALSE))","v":""},null,null,null,null,null,null,""]
[null,{"$f":"IF(A2103=\"\",\"\",VLOOKUP(A2103,PARAMETROS!$B$3:$C$3,2,FALSE))","v":""},null,{"$f":"IF(C2103=\"\",\"\",VLOOKUP(C2103,PARAMETROS!$G$3:$H$21,2,FALSE))","v":""},null,{"$f":"IF(E2103=\"\",\"\",VLOOKUP(E2103,PARAMETROS!$I$3:$J$21,2,FALSE))","v":""},null,null,null,null,null,null,""]
[null,{"$f":"IF(A2104=\"\",\"\",VLOOKUP(A2104,PARAMETROS!$B$3:$C$3,2,FALSE))","v":""},null,{"$f":"IF(C2104=\"\",\"\",VLOOKUP(C2104,PARAMETROS!$G$3:$H$21,2,FALSE))","v":""},null,{"$f":"IF(E2104=\"\",\"\",VLOOKUP(E2104,PARAMETROS!$I$3:$J$21,2,FALSE))","v":""},null,null,null,null,null,null,""]
[null,{"$f":"IF(A2105=\"\",\"\",VLOOKUP(A2105,PARAMETROS!$B$3:$C$3,2,FALSE))","v":""},null,{"$f":"IF(C2105=\"\",\"\",VLOOKUP(C2105,PARAMETROS!$G$3:$H$21,2,FALSE))","v":""},null,{"$f":"IF(E2105=\"\",\"\",VLOOKUP(E2105,PARAMETROS!$I$3:$J$21,2,FALSE))","v":""},null,null,null,null,null,null,""]
[null,{"$f":"IF(A2106=\"\",\"\",VLOOKUP(A2106,PARAMETROS!$B$3:$C$3,2,FALSE))","v":""},null,{"$f":"IF(C2106=\"\",\"\",VLOOKUP(C2106,PARAMETROS!$G$3:$H$21,2,FALSE))","v":""},null,{"$f":"IF(E2106=\"\",\"\",VLOOKUP(E2106,PARAMETROS!$I$3:$J$21,2,FALSE))","v":""},null,null,null,null,null,null,""]
[null,{"$f":"IF(A2107=\"\",\"\",VLOOKUP(A2107,PARAMETROS!$B$3:$C$3,2,FALSE))","v":""},null,{"$f":"IF(C2107=\"\",\"\",VLOOKUP(C2107,PARAMETROS!$G$3:$H$21,2,FALSE))","v":""},null,{"$f":"IF(E2107=\"\",\"\",VLOOKUP(E2107,PARAMETROS!$I$3:$J$21,2,FALSE))","v":""},null,null,null,null,null,null,""]
[null,{"$f":"IF(A2108=\"\",\"\",VLOOKUP(A2108,PARAMETROS!$B$3:$C$3,2,FALSE))","v":""},null,{"$f":"IF(C2108=\"\",\"\",VLOOKUP(C2108,PARAMETROS!$G$3:$H$21,2,FALSE))","v":""},null,{"$f":"IF(E2108=\"\",\"\",VLOOKUP(E2108,PARAMETROS!$I$3:$J$21,2,FALSE))","v":""},null,null,null,null,null,null,""]
[null,{"$f":"IF(A2109=\"\",\"\",VLOOKUP(A2109,PARAMETROS!$B$3:$C$3,2,FALSE))","v":""},null,{"$f":"IF(C2109=\"\",\"\",VLOOKUP(C2109,PARAMETROS!$G$3:$H$21,2,FALSE))","v":""},null,{"$f":"IF(E2109=\"\",\"\",VLOOKUP(E2109,PARAMETROS!$I$3:$J$21,2,FALSE))","v":""},null,null,null,null,null,null,""]
[null,{"$f":"IF(A2110=\"\",\"\",VLOOKUP(A2110,PARAMETROS!$B$3:$C$3,2,FALSE))","v":""},null,{"$f":"IF(C2110=\"\",\"\",VLOOKUP(C2110,PARAMETROS!$G$3:$H$21,2,FALSE))","v":""},null,{"$f":"IF(E2110=\"\",\"\",VLOOKUP(E2110,PARAMETROS!$I$3:$J$21,2,FALSE))","v":""},null,null,null,null,null,null,""]
[null,{"$f":"IF(A2111=\"\",\"\",VLOOKUP(A2111,PARAMETROS!$B$3:$C$3,2,FALSE))","v":""},null,{"$f":"IF(C2111=\"\",\"\",VLOOKUP(C2111,PARAMETROS!$G$3:$H$21,2,FALSE))","v":""},null,{"$f":"IF(E2111=\"\",\"\",VLOOKUP(E2111,PARAMETROS!$I$3:$J$21,2,FALSE))","v":""},null,null,null,null,null,null,""]
[null,{"$f":"IF(A2112=\"\",\"\",VLOOKUP(A2112,PARAMETROS!$B$3:$C$3,2,FALSE))","v":""},null,{"$f":"IF(C2112=\"\",\"\",VLOOKUP(C2112,PARAMETROS!$G$3:$H$21,2,FALSE))","v":""},null,{"$f":"IF(E2112=\"\",\"\",VLOOKUP(E2112,PARAMETROS!$I$3:$J$21,2,FALSE))","v":""},null,null,null,null,null,null,""]
[null,{"$f":"IF(A2113=\"\",\"\",VLOOKUP(A2113,PARAMETROS!$B$3:$C$3,2,FALSE))","v":""},null,{"$f":"IF(C2113=\"\",\"\",VLOOKUP(C2113,PARAMETROS!$G$3:$H$21,2,FALSE))","v":""},null,{"$f":"IF(E2113=\"\",\"\",VLOOKUP(E2113,PARAMETROS!$I$3:$J$21,2,FALSE))","v":""},null,null,null,null,null,null,""]
[null,{"$f":"IF(A2114=\"\",\"\",VLOOKUP(A2114,PARAMETROS!$B$3:$C$3,2,FALSE))","v":""},null,{"$f":"IF(C2114=\"\",\"\",VLOOKUP(C2114,PARAMETROS!$G$3:$H$21,2,FALSE))","v":""},null,{"$f":"IF(E2114=\"\",\"\",VLOOKUP(E2114,PARAMETROS!$I$3:$J$21,2,FALSE))","v":""},null,null,null,null,null,null,""]
[null,{"$f":"IF(A2115=\"\",\"\",VLOOKUP(A2115,PARAMETROS!$B$3:$C$3,2,FALSE))","v":""},null,{"$f":"IF(C2115=\"\",\"\",VLOOKUP(C2115,PARAMETROS!$G$3:$H$21,2,FALSE))","v":""},null,{"$f":"IF(E2115=\"\",\"\",VLOOKUP(E2115,PARAMETROS!$I$3:$J$21,2,FALSE))","v":""},null,null,null,null,null,null,""]
[null,{"$f":"IF(A2116=\"\",\"\",VLOOKUP(A2116,PARAMETROS!$B$3:$C$3,2,FALSE))","v":""},null,{"$f":"IF(C2116=\"\",\"\",VLOOKUP(C2116,PARAMETROS!$G$3:$H$21,2,FALSE))","v":""},null,{"$f":"IF(E2116=\"\",\"\",VLOOKUP(E2116,PARAMETROS!$I$3:$J$21,2,FALSE))","v":""},null,null,null,null,null,null,""]
[null,{"$f":"IF(A2117=\"\",\"\",VLOOKUP(A2117,PARAMETROS!$B$3:$C$3,2,FALSE))","v":""},null,{"$f":"IF(C2117=\"\",\"\",VLOOKUP(C2117,PARAMETROS!$G$3:$H$21,2,FALSE))","v":""},null,{"$f":"IF(E2117=\"\",\"\",VLOOKUP(E2117,PARAMETROS!$I$3:$J$21,2,FALSE))","v":""},null,null,null,null,null,null,""]
[null,{"$f":"IF(A2118=\"\",\"\",VLOOKUP(A2118,PARAMETROS!$B$3:$C$3,2,FALSE))","v":""},null,{"$f":"IF(C2118=\"\",\"\",VLOOKUP(C2118,PARAMETROS!$G$3:$H$21,2,FALSE))","v":""},null,{"$f":"IF(E2118=\"\",\"\",VLOOKUP(E2118,PARAMETROS!$I$3:$J$21,2,FALSE))","v":""},null,null,null,null,null,null,""]
[null,{"$f":"IF(A2119=\"\",\"\",VLOOKUP(A2119,PARAMETROS!$B$3:$C$3,2,FALSE))","v":""},null,{"$f":"IF(C2119=\"\",\"\",VLOOKUP(C2119,PARAMETROS!$G$3:$H$21,2,FALSE))","v":""},null,{"$f":"IF(E2119=\"\",\"\",VLOOKUP(E2119,PARAMETROS!$I$3:$J$21,2,FALSE))","v":""},null,null,null,null,null,null,""]
[null,{"$f":"IF(A2120=\"\",\"\",VLOOKUP(A2120,PARAMETROS!$B$3:$C$3,2,FALSE))","v":""},null,{"$f":"IF(C2120=\"\",\"\",VLOOKUP(C2120,PARAMETROS!$G$3:$H$21,2,FALSE))","v":""},null,{"$f":"IF(E2120=\"\",\"\",VLOOKUP(E2120,PARAMETROS!$I$3:$J$21,2,FALSE))","v":""},null,null,null,null,null,null,""]
[null,{"$f":"IF(A2121=\"\",\"\",VLOOKUP(A2121,PARAMETROS!$B$3:$C$3,2,FALSE))","v":""},null,{"$f":"IF(C2121=\"\",\"\",VLOOKUP(C2121,PARAMETROS!$G$3:$H$21,2,FALSE))","v":""},null,{"$f":"IF(E2121=\"\",\"\",VLOOKUP(E2121,PARAMETROS!$I$3:$J$21,2,FALSE))","v":""},null,null,null,null,null,null,""]
[null,{"$f":"IF(A2122=\"\",\"\",VLOOKUP(A2122,PARAMETROS!$B$3:$C$3,2,FALSE))","v":""},null,{"$f":"IF(C2122=\"\",\"\",VLOOKUP(C2122,PARAMETROS!$G$3:$H$21,2,FALSE))","v":""},null,{"$f":"IF(E2122=\"\",\"\",VLOOKUP(E2122,PARAMETROS!$I$3:$J$21,2,FALSE))","v":""},null,null,null,null,null,null,""]
[null,{"$f":"IF(A2123=\"\",\"\",VLOOKUP(A2123,PARAMETROS!$B$3:$C$3,2,FALSE))","v":""},null,{"$f":"IF(C2123=\"\",\"\",VLOOKUP(C2123,PARAMETROS!$G$3:$H$21,2,FALSE))","v":""},null,{"$f":"IF(E2123=\"\",\"\",VLOOKUP(E2123,PARAMETROS!$I$3:$J$21,2,FALSE))","v":""},null,null,null,null,null,null,""]
[null,{"$f":"IF(A2124=\"\",\"\",VLOOKUP(A2124,PARAMETROS!$B$3:$C$3,2,FALSE))","v":""},null,{"$f":"IF(C2124=\"\",\"\",VLOOKUP(C2124,PARAMETROS!$G$3:$H$21,2,FALSE))","v":""},null,{"$f":"IF(E2124=\"\",\"\",VLOOKUP(E2124,PARAMETROS!$I$3:$J$21,2,FALSE))","v":""},null,null,null,null,null,null,""]
[null,{"$f":"IF(A2125=\"\",\"\",VLOOKUP(A2125,PARAMETROS!$B$3:$C$3,2,FALSE))","v":""},null,{"$f":"IF(C2125=\"\",\"\",VLOOKUP(C2125,PARAMETROS!$G$3:$H$21,2,FALSE))","v":""},null,{"$f":"IF(E2125=\"\",\"\",VLOOKUP(E2125,PARAMETROS!$I$3:$J$21,2,FALSE))","v":""},null,null,null,null,null,null,""]
[null,{"$f":"IF(A2126=\"\",\"\",VLOOKUP(A2126,PARAMETROS!$B$3:$C$3,2,FALSE))","v":""},null,{"$f":"IF(C2126=\"\",\"\",VLOOKUP(C2126,PARAMETROS!$G$3:$H$21,2,FALSE))","v":""},null,{"$f":"IF(E2126=\"\",\"\",VLOOKUP(E2126,PARAMETROS!$I$3:$J$21,2,FALSE))","v":""},null,null,null,null,null,null,""]
[null,{"$f":"IF(A2127=\"\",\"\",VLOOKUP(A2127,PARAMETROS!$B$3:$C$3,2,FALSE))","v":""},null,{"$f":"IF(C2127=\"\",\"\",VLOOKUP(C2127,PARAMETROS!$G$3:$H$21,2,FALSE))","v":""},null,{"$f":"IF(E2127=\"\",\"\",VLOOKUP(E2127,PARAMETROS!$I$3:$J$21,2,FALSE))","v":""},null,null,null,null,null,null,{"$f":"IF(L2127=\"\", \"\", L2127)","v":""}]
[null,{"$f":"IF(A2128=\"\",\"\",VLOOKUP(A2128,PARAMETROS!$B$3:$C$3,2,FALSE))","v":""},null,{"$f":"IF(C2128=\"\",\"\",VLOOKUP(C2128,PARAMETROS!$G$3:$H$21,2,FALSE))","v":""},null,{"$f":"IF(E2128=\"\",\"\",VLOOKUP(E2128,PARAMETROS!$I$3:$J$21,2,FALSE))","v":""},null,null,null,null,null,null,""]
[null,{"$f":"IF(A2129=\"\",\"\",VLOOKUP(A2129,PARAMETROS!$B$3:$C$3,2,FALSE))","v":""},null,{"$f":"IF(C2129=\"\",\"\",VLOOKUP(C2129,PARAMETROS!$G$3:$H$21,2,FALSE))","v":""},null,{"$f":"IF(E2129=\"\",\"\",VLOOKUP(E2129,PARAMETROS!$I$3:$J$21,2,FALSE))","v":""},null,null,null,null,null,null,""]
[null,{"$f":"IF(A2130=\"\",\"\",VLOOKUP(A2130,PARAMETROS!$B$3:$C$3,2,FALSE))","v":""},null,{"$f":"IF(C2130=\"\",\"\",VLOOKUP(C2130,PARAMETROS!$G$3:$H$21,2,FALSE))","v":""},null,{"$f":"IF(E2130=\"\",\"\",VLOOKUP(E2130,PARAMETROS!$I$3:$J$21,2,FALSE))","v":""},null,null,null,null,null,null,""]
[null,{"$f":"IF(A2131=\"\",\"\",VLOOKUP(A2131,PARAMETROS!$B$3:$C$3,2,FALSE))","v":""},null,{"$f":"IF(C2131=\"\",\"\",VLOOKUP(C2131,PARAMETROS!$G$3:$H$21,2,FALSE))","v":""},null,{"$f":"IF(E2131=\"\",\"\",VLOOKUP(E2131,PARAMETROS!$I$3:$J$21,2,FALSE))","v":""},null,null,null,null,null,null,""]
[null,{"$f":"IF(A2132=\"\",\"\",VLOOKUP(A2132,PARAMETROS!$B$3:$C$3,2,FALSE))","v":""},null,{"$f":"IF(C2132=\"\",\"\",VLOOKUP(C2132,PARAMETROS!$G$3:$H$21,2,FALSE))","v":""},null,{"$f":"IF(E2132=\"\",\"\",VLOOKUP(E2132,PARAMETROS!$I$3:$J$21,2,FALSE))","v":""},null,null,null,null,null,null,""]
[null,{"$f":"IF(A2133=\"\",\"\",VLOOKUP(A2133,PARAMETROS!$B$3:$C$3,2,FALSE))","v":""},null,{"$f":"IF(C2133=\"\",\"\",VLOOKUP(C2133,PARAMETROS!$G$3:$H$21,2,FALSE))","v":""},null,{"$f":"IF(E2133=\"\",\"\",VLOOKUP(E2133,PARAMETROS!$I$3:$J$21,2,FALSE))","v":""},null,null,null,null,null,null,""]
[null,{"$f":"IF(A2134=\"\",\"\",VLOOKUP(A2134,PARAMETROS!$B$3:$C$3,2,FALSE))","v":""},null,{"$f":"IF(C2134=\"\",\"\",VLOOKUP(C2134,PARAMETROS!$G$3:$H$21,2,FALSE))","v":""},null,{"$f":"IF(E2134=\"\",\"\",VLOOKUP(E2134,PARAMETROS!$I$3:$J$21,2,FALSE))","v":""},null,null,null,null,null,null,""]
[null,{"$f":"IF(A2135=\"\",\"\",VLOOKUP(A2135,PARAMETROS!$B$3:$C$3,2,FALSE))","v":""},null,{"$f":"IF(C2135=\"\",\"\",VLOOKUP(C2135,PARAMETROS!$G$3:$H$21,2,FALSE))","v":""},null,{"$f":"IF(E2135=\"\",\"\",VLOOKUP(E2135,PARAMETROS!$I$3:$J$21,2,FALSE))","v":""},null,null,null,null,null,null,""]
[null,{"$f":"IF(A2136=\"\",\"\",VLOOKUP(A2136,PARAMETROS!$B$3:$C$3,2,FALSE))","v":""},null,{"$f":"IF(C2136=\"\",\"\",VLOOKUP(C2136,PARAMETROS!$G$3:$H$21,2,FALSE))","v":""},null,{"$f":"IF(E2136=\"\",\"\",VLOOKUP(E2136,PARAMETROS!$I$3:$J$21,2,FALSE))","v":""},null,null,null,null,null,null,""]
[null,{"$f":"IF(A2137=\"\",\"\",VLOOKUP(A2137,PARAMETROS!$B$3:$C$3,2,FALSE))","v":""},null,{"$f":"IF(C2137=\"\",\"\",VLOOKUP(C2137,PARAMETROS!$G$3:$H$21,2,FALSE))","v":""},null,{"$f":"IF(E2137=\"\",\"\",VLOOKUP(E2137,PARAMETROS!$I$3:$J$21,2,FALSE))","v":""},null,null,null,null,null,null,""]
[null,{"$f":"IF(A2138=\"\",\"\",VLOOKUP(A2138,PARAMETROS!$B$3:$C$3,2,FALSE))","v":""},null,{"$f":"IF(C2138=\"\",\"\",VLOOKUP(C2138,PARAMETROS!$G$3:$H$21,2,FALSE))","v":""},null,{"$f":"IF(E2138=\"\",\"\",VLOOKUP(E2138,PARAMETROS!$I$3:$J$21,2,FALSE))","v":""},null,null,null,null,null,null,""]
[null,{"$f":"IF(A2139=\"\",\"\",VLOOKUP(A2139,PARAMETROS!$B$3:$C$3,2,FALSE))","v":""},null,{"$f":"IF(C2139=\"\",\"\",VLOOKUP(C2139,PARAMETROS!$G$3:$H$21,2,FALSE))","v":""},null,{"$f":"IF(E2139=\"\",\"\",VLOOKUP(E2139,PARAMETROS!$I$3:$J$21,2,FALSE))","v":""},null,null,null,null,null,null,""]
[null,{"$f":"IF(A2140=\"\",\"\",VLOOKUP(A2140,PARAMETROS!$B$3:$C$3,2,FALSE))","v":""},null,{"$f":"IF(C2140=\"\",\"\",VLOOKUP(C2140,PARAMETROS!$G$3:$H$21,2,FALSE))","v":""},null,{"$f":"IF(E2140=\"\",\"\",VLOOKUP(E2140,PARAMETROS!$I$3:$J$21,2,FALSE))","v":""},null,null,null,null,null,null,""]
[null,{"$f":"IF(A2141=\"\",\"\",VLOOKUP(A2141,PARAMETROS!$B$3:$C$3,2,FALSE))","v":""},null,{"$f":"IF(C2141=\"\",\"\",VLOOKUP(C2141,PARAMETROS!$G$3:$H$21,2,FALSE))","v":""},null,{"$f":"IF(E2141=\"\",\"\",VLOOKUP(E2141,PARAMETROS!$I$3:$J$21,2,FALSE))","v":""},null,null,null,null,null,null,""]
[null,{"$f":"IF(A2142=\"\",\"\",VLOOKUP(A2142,PARAMETROS!$B$3:$C$3,2,FALSE))","v":""},null,{"$f":"IF(C2142=\"\",\"\",VLOOKUP(C2142,PARAMETROS!$G$3:$H$21,2,FALSE))","v":""},null,{"$f":"IF(E2142=\"\",\"\",VLOOKUP(E2142,PARAMETROS!$I$3:$J$21,2,FALSE))","v":""},null,null,null,null,null,null,""]
[null,{"$f":"IF(A2143=\"\",\"\",VLOOKUP(A2143,PARAMETROS!$B$3:$C$3,2,FALSE))","v":""},null,{"$f":"IF(C2143=\"\",\"\",VLOOKUP(C2143,PARAMETROS!$G$3:$H$21,2,FALSE))","v":""},null,{"$f":"IF(E2143=\"\",\"\",VLOOKUP(E2143,PARAMETROS!$I$3:$J$21,2,FALSE))","v":""},null,null,null,null,null,null,""]
[null,{"$f":"IF(A2144=\"\",\"\",VLOOKUP(A2144,PARAMETROS!$B$3:$C$3,2,FALSE))","v":""},null,{"$f":"IF(C2144=\"\",\"\",VLOOKUP(C2144,PARAMETROS!$G$3:$H$21,2,FALSE))","v":""},null,{"$f":"IF(E2144=\"\",\"\",VLOOKUP(E2144,PARAMETROS!$I$3:$J$21,2,FALSE))","v":""},null,null,null,null,null,null,""]
[null,{"$f":"IF(A2145=\"\",\"\",VLOOKUP(A2145,PARAMETROS!$B$3:$C$3,2,FALSE))","v":""},null,{"$f":"IF(C2145=\"\",\"\",VLOOKUP(C2145,PARAMETROS!$G$3:$H$21,2,FALSE))","v":""},null,{"$f":"IF(E2145=\"\",\"\",VLOOKUP(E2145,PARAMETROS!$I$3:$J$21,2,FALSE))","v":""},null,null,null,null,null,null,""]
[null,{"$f":"IF(A2146=\"\",\"\",VLOOKUP(A2146,PARAMETROS!$B$3:$C$3,2,FALSE))","v":""},null,{"$f":"IF(C2146=\"\",\"\",VLOOKUP(C2146,PARAMETROS!$G$3:$H$21,2,FALSE))","v":""},null,{"$f":"IF(E2146=\"\",\"\",VLOOKUP(E2146,PARAMETROS!$I$3:$J$21,2,FALSE))","v":""},null,null,null,null,null,null,""]
[null,{"$f":"IF(A2147=\"\",\"\",VLOOKUP(A2147,PARAMETROS!$B$3:$C$3,2,FALSE))","v":""},null,{"$f":"IF(C2147=\"\",\"\",VLOOKUP(C2147,PARAMETROS!$G$3:$H$21,2,FALSE))","v":""},null,{"$f":"IF(E2147=\"\",\"\",VLOOKUP(E2147,PARAMETROS!$I$3:$J$21,2,FALSE))","v":""},null,null,null,null,null,null,""]
[null,{"$f":"IF(A2148=\"\",\"\",VLOOKUP(A2148,PARAMETROS!$B$3:$C$3,2,FALSE))","v":""},null,{"$f":"IF(C2148=\"\",\"\",VLOOKUP(C2148,PARAMETROS!$G$3:$H$21,2,FALSE))","v":""},null,{"$f":"IF(E2148=\"\",\"\",VLOOKUP(E2148,PARAMETROS!$I$3:$J$21,2,FALSE))","v":""},null,null,null,null,null,null,""]
[null,{"$f":"IF(A2149=\"\",\"\",VLOOKUP(A2149,PARAMETROS!$B$3:$C$3,2,FALSE))","v":""},null,{"$f":"IF(C2149=\"\",\"\",VLOOKUP(C2149,PARAMETROS!$G$3:$H$21,2,FALSE))","v":""},null,{"$f":"IF(E2149=\"\",\"\",VLOOKUP(E2149,PARAMETROS!$I$3:$J$21,2,FALSE))","v":""},null,null,null,null,null,null,""]
[null,{"$f":"IF(A2150=\"\",\"\",VLOOKUP(A2150,PARAMETROS!$B$3:$C$3,2,FALSE))","v":""},null,{"$f":"IF(C2150=\"\",\"\",VLOOKUP(C2150,PARAMETROS!$G$3:$H$21,2,FALSE))","v":""},null,{"$f":"IF(E2150=\"\",\"\",VLOOKUP(E2150,PARAMETROS!$I$3:$J$21,2,FALSE))","v":""},null,null,null,null,null,null,""]
[null,{"$f":"IF(A2151=\"\",\"\",VLOOKUP(A2151,PARAMETROS!$B$3:$C$3,2,FALSE))","v":""},null,{"$f":"IF(C2151=\"\",\"\",VLOOKUP(C2151,PARAMETROS!$G$3:$H$21,2,FALSE))","v":""},null,{"$f":"IF(E2151=\"\",\"\",VLOOKUP(E2151,PARAMETROS!$I$3:$J$21,2,FALSE))","v":""},null,null,null,null,null,null,""]
[null,{"$f":"IF(A2152=\"\",\"\",VLOOKUP(A2152,PARAMETROS!$B$3:$C$3,2,FALSE))","v":""},null,{"$f":"IF(C2152=\"\",\"\",VLOOKUP(C2152,PARAMETROS!$G$3:$H$21,2,FALSE))","v":""},null,{"$f":"IF(E2152=\"\",\"\",VLOOKUP(E2152,PARAMETROS!$I$3:$J$21,2,FALSE))","v":""},null,null,null,null,null,null,""]
[null,{"$f":"IF(A2153=\"\",\"\",VLOOKUP(A2153,PARAMETROS!$B$3:$C$3,2,FALSE))","v":""},null,{"$f":"IF(C2153=\"\",\"\",VLOOKUP(C2153,PARAMETROS!$G$3:$H$21,2,FALSE))","v":""},null,{"$f":"IF(E2153=\"\",\"\",VLOOKUP(E2153,PARAMETROS!$I$3:$J$21,2,FALSE))","v":""},null,null,null,null,null,null,""]
[null,{"$f":"IF(A2154=\"\",\"\",VLOOKUP(A2154,PARAMETROS!$B$3:$C$3,2,FALSE))","v":""},null,{"$f":"IF(C2154=\"\",\"\",VLOOKUP(C2154,PARAMETROS!$G$3:$H$21,2,FALSE))","v":""},null,{"$f":"IF(E2154=\"\",\"\",VLOOKUP(E2154,PARAMETROS!$I$3:$J$21,2,FALSE))","v":""},null,null,null,null,null,null,""]
[null,{"$f":"IF(A2155=\"\",\"\",VLOOKUP(A2155,PARAMETROS!$B$3:$C$3,2,FALSE))","v":""},null,{"$f":"IF(C2155=\"\",\"\",VLOOKUP(C2155,PARAMETROS!$G$3:$H$21,2,FALSE))","v":""},null,{"$f":"IF(E2155=\"\",\"\",VLOOKUP(E2155,PARAMETROS!$I$3:$J$21,2,FALSE))","v":""},null,null,null,null,null,null,""]
[null,{"$f":"IF(A2156=\"\",\"\",VLOOKUP(A2156,PARAMETROS!$B$3:$C$3,2,FALSE))","v":""},null,{"$f":"IF(C2156=\"\",\"\",VLOOKUP(C2156,PARAMETROS!$G$3:$H$21,2,FALSE))","v":""},null,{"$f":"IF(E2156=\"\",\"\",VLOOKUP(E2156,PARAMETROS!$I$3:$J$21,2,FALSE))","v":""},null,null,null,null,null,null,""]
[null,{"$f":"IF(A2157=\"\",\"\",VLOOKUP(A2157,PARAMETROS!$B$3:$C$3,2,FALSE))","v":""},null,{"$f":"IF(C2157=\"\",\"\",VLOOKUP(C2157,PARAMETROS!$G$3:$H$21,2,FALSE))","v":""},null,{"$f":"IF(E2157=\"\",\"\",VLOOKUP(E2157,PARAMETROS!$I$3:$J$21,2,FALSE))","v":""},null,null,null,null,null,null,""]
[null,{"$f":"IF(A2158=\"\",\"\",VLOOKUP(A2158,PARAMETROS!$B$3:$C$3,2,FALSE))","v":""},null,{"$f":"IF(C2158=\"\",\"\",VLOOKUP(C2158,PARAMETROS!$G$3:$H$21,2,FALSE))","v":""},null,{"$f":"IF(E2158=\"\",\"\",VLOOKUP(E2158,PARAMETROS!$I$3:$J$21,2,FALSE))","v":""},null,null,null,null,null,null,""]
[null,{"$f":"IF(A2159=\"\",\"\",VLOOKUP(A2159,PARAMETROS!$B$3:$C$3,2,FALSE))","v":""},null,{"$f":"IF(C2159=\"\",\"\",VLOOKUP(C2159,PARAMETROS!$G$3:$H$21,2,FALSE))","v":""},null,{"$f":"IF(E2159=\"\",\"\",VLOOKUP(E2159,PARAMETROS!$I$3:$J$21,2,FALSE))","v":""},null,null,null,null,null,null,""]
[null,{"$f":"IF(A2160=\"\",\"\",VLOOKUP(A2160,PARAMETROS!$B$3:$C$3,2,FALSE))","v":""},null,{"$f":"IF(C2160=\"\",\"\",VLOOKUP(C2160,PARAMETROS!$G$3:$H$21,2,FALSE))","v":""},null,{"$f":"IF(E2160=\"\",\"\",VLOOKUP(E2160,PARAMETROS!$I$3:$J$21,2,FALSE))","v":""},null,null,null,null,null,null,""]
[null,{"$f":"IF(A2161=\"\",\"\",VLOOKUP(A2161,PARAMETROS!$B$3:$C$3,2,FALSE))","v":""},null,{"$f":"IF(C2161=\"\",\"\",VLOOKUP(C2161,PARAMETROS!$G$3:$H$21,2,FALSE))","v":""},null,{"$f":"IF(E2161=\"\",\"\",VLOOKUP(E2161,PARAMETROS!$I$3:$J$21,2,FALSE))","v":""},null,null,null,null,null,null,""]
[null,{"$f":"IF(A2162=\"\",\"\",VLOOKUP(A2162,PARAMETROS!$B$3:$C$3,2,FALSE))","v":""},null,{"$f":"IF(C2162=\"\",\"\",VLOOKUP(C2162,PARAMETROS!$G$3:$H$21,2,FALSE))","v":""},null,{"$f":"IF(E2162=\"\",\"\",VLOOKUP(E2162,PARAMETROS!$I$3:$J$21,2,FALSE))","v":""},null,null,null,null,null,null,""]
[null,{"$f":"IF(A2163=\"\",\"\",VLOOKUP(A2163,PARAMETROS!$B$3:$C$3,2,FALSE))","v":""},null,{"$f":"IF(C2163=\"\",\"\",VLOOKUP(C2163,PARAMETROS!$G$3:$H$21,2,FALSE))","v":""},null,{"$f":"IF(E2163=\"\",\"\",VLOOKUP(E2163,PARAMETROS!$I$3:$J$21,2,FALSE))","v":""},null,null,null,null,null,null,""]
[null,{"$f":"IF(A2164=\"\",\"\",VLOOKUP(A2164,PARAMETROS!$B$3:$C$3,2,FALSE))","v":""},null,{"$f":"IF(C2164=\"\",\"\",VLOOKUP(C2164,PARAMETROS!$G$3:$H$21,2,FALSE))","v":""},null,{"$f":"IF(E2164=\"\",\"\",VLOOKUP(E2164,PARAMETROS!$I$3:$J$21,2,FALSE))","v":""},null,null,null,null,null,null,""]
[null,{"$f":"IF(A2165=\"\",\"\",VLOOKUP(A2165,PARAMETROS!$B$3:$C$3,2,FALSE))","v":""},null,{"$f":"IF(C2165=\"\",\"\",VLOOKUP(C2165,PARAMETROS!$G$3:$H$21,2,FALSE))","v":""},null,{"$f":"IF(E2165=\"\",\"\",VLOOKUP(E2165,PARAMETROS!$I$3:$J$21,2,FALSE))","v":""},null,null,null,null,null,null,""]
[null,{"$f":"IF(A2166=\"\",\"\",VLOOKUP(A2166,PARAMETROS!$B$3:$C$3,2,FALSE))","v":""},null,{"$f":"IF(C2166=\"\",\"\",VLOOKUP(C2166,PARAMETROS!$G$3:$H$21,2,FALSE))","v":""},null,{"$f":"IF(E2166=\"\",\"\",VLOOKUP(E2166,PARAMETROS!$I$3:$J$21,2,FALSE))","v":""},null,null,null,null,null,null,""]
[null,{"$f":"IF(A2167=\"\",\"\",VLOOKUP(A2167,PARAMETROS!$B$3:$C$3,2,FALSE))","v":""},null,{"$f":"IF(C2167=\"\",\"\",VLOOKUP(C2167,PARAMETROS!$G$3:$H$21,2,FALSE))","v":""},null,{"$f":"IF(E2167=\"\",\"\",VLOOKUP(E2167,PARAMETROS!$I$3:$J$21,2,FALSE))","v":""},null,null,null,null,null,null,""]
[null,{"$f":"IF(A2168=\"\",\"\",VLOOKUP(A2168,PARAMETROS!$B$3:$C$3,2,FALSE))","v":""},null,{"$f":"IF(C2168=\"\",\"\",VLOOKUP(C2168,PARAMETROS!$G$3:$H$21,2,FALSE))","v":""},null,{"$f":"IF(E2168=\"\",\"\",VLOOKUP(E2168,PARAMETROS!$I$3:$J$21,2,FALSE))","v":""},null,null,null,null,null,null,""]
[null,{"$f":"IF(A2169=\"\",\"\",VLOOKUP(A2169,PARAMETROS!$B$3:$C$3,2,FALSE))","v":""},null,{"$f":"IF(C2169=\"\",\"\",VLOOKUP(C2169,PARAMETROS!$G$3:$H$21,2,FALSE))","v":""},null,{"$f":"IF(E2169=\"\",\"\",VLOOKUP(E2169,PARAMETROS!$I$3:$J$21,2,FALSE))","v":""},null,null,null,null,null,null,""]
[null,{"$f":"IF(A2170=\"\",\"\",VLOOKUP(A2170,PARAMETROS!$B$3:$C$3,2,FALSE))","v":""},null,{"$f":"IF(C2170=\"\",\"\",VLOOKUP(C2170,PARAMETROS!$G$3:$H$21,2,FALSE))","v":""},null,{"$f":"IF(E2170=\"\",\"\",VLOOKUP(E2170,PARAMETROS!$I$3:$J$21,2,FALSE))","v":""},null,null,null,null,null,null,""]
[null,{"$f":"IF(A2171=\"\",\"\",VLOOKUP(A2171,PARAMETROS!$B$3:$C$3,2,FALSE))","v":""},null,{"$f":"IF(C2171=\"\",\"\",VLOOKUP(C2171,PARAMETROS!$G$3:$H$21,2,FALSE))","v":""},null,{"$f":"IF(E2171=\"\",\"\",VLOOKUP(E2171,PARAMETROS!$I$3:$J$21,2,FALSE))","v":""},null,null,null,null,null,null,""]
[null,{"$f":"IF(A2172=\"\",\"\",VLOOKUP(A2172,PARAMETROS!$B$3:$C$3,2,FALSE))","v":""},null,{"$f":"IF(C2172=\"\",\"\",VLOOKUP(C2172,PARAMETROS!$G$3:$H$21,2,FALSE))","v":""},null,{"$f":"IF(E2172=\"\",\"\",VLOOKUP(E2172,PARAMETROS!$I$3:$J$21,2,FALSE))","v":""},null,null,null,null,null,null,""]
[null,{"$f":"IF(A2173=\"\",\"\",VLOOKUP(A2173,PARAMETROS!$B$3:$C$3,2,FALSE))","v":""},null,{"$f":"IF(C2173=\"\",\"\",VLOOKUP(C2173,PARAMETROS!$G$3:$H$21,2,FALSE))","v":""},null,{"$f":"IF(E2173=\"\",\"\",VLOOKUP(E2173,PARAMETROS!$I$3:$J$21,2,FALSE))","v":""},null,null,null,null,null,null,""]
[null,{"$f":"IF(A2174=\"\",\"\",VLOOKUP(A2174,PARAMETROS!$B$3:$C$3,2,FALSE))","v":""},null,{"$f":"IF(C2174=\"\",\"\",VLOOKUP(C2174,PARAMETROS!$G$3:$H$21,2,FALSE))","v":""},null,{"$f":"IF(E2174=\"\",\"\",VLOOKUP(E2174,PARAMETROS!$I$3:$J$21,2,FALSE))","v":""},null,null,null,null,null,null,""]
[null,{"$f":"IF(A2175=\"\",\"\",VLOOKUP(A2175,PARAMETROS!$B$3:$C$3,2,FALSE))","v":""},null,{"$f":"IF(C2175=\"\",\"\",VLOOKUP(C2175,PARAMETROS!$G$3:$H$21,2,FALSE))","v":""},null,{"$f":"IF(E2175=\"\",\"\",VLOOKUP(E2175,PARAMETROS!$I$3:$J$21,2,FALSE))","v":""},null,null,null,null,null,null,""]
[null,{"$f":"IF(A2176=\"\",\"\",VLOOKUP(A2176,PARAMETROS!$B$3:$C$3,2,FALSE))","v":""},null,{"$f":"IF(C2176=\"\",\"\",VLOOKUP(C2176,PARAMETROS!$G$3:$H$21,2,FALSE))","v":""},null,{"$f":"IF(E2176=\"\",\"\",VLOOKUP(E2176,PARAMETROS!$I$3:$J$21,2,FALSE))","v":""},null,null,null,null,null,null,""]
[null,{"$f":"IF(A2177=\"\",\"\",VLOOKUP(A2177,PARAMETROS!$B$3:$C$3,2,FALSE))","v":""},null,{"$f":"IF(C2177=\"\",\"\",VLOOKUP(C2177,PARAMETROS!$G$3:$H$21,2,FALSE))","v":""},null,{"$f":"IF(E2177=\"\",\"\",VLOOKUP(E2177,PARAMETROS!$I$3:$J$21,2,FALSE))","v":""},null,null,null,null,null,null,""]
[null,{"$f":"IF(A2178=\"\",\"\",VLOOKUP(A2178,PARAMETROS!$B$3:$C$3,2,FALSE))","v":""},null,{"$f":"IF(C2178=\"\",\"\",VLOOKUP(C2178,PARAMETROS!$G$3:$H$21,2,FALSE))","v":""},null,{"$f":"IF(E2178=\"\",\"\",VLOOKUP(E2178,PARAMETROS!$I$3:$J$21,2,FALSE))","v":""},null,null,null,null,null,null,""]
[null,{"$f":"IF(A2179=\"\",\"\",VLOOKUP(A2179,PARAMETROS!$B$3:$C$3,2,FALSE))","v":""},null,{"$f":"IF(C2179=\"\",\"\",VLOOKUP(C2179,PARAMETROS!$G$3:$H$21,2,FALSE))","v":""},null,{"$f":"IF(E2179=\"\",\"\",VLOOKUP(E2179,PARAMETROS!$I$3:$J$21,2,FALSE))","v":""},null,null,null,null,null,null,""]
[null,{"$f":"IF(A2180=\"\",\"\",VLOOKUP(A2180,PARAMETROS!$B$3:$C$3,2,FALSE))","v":""},null,{"$f":"IF(C2180=\"\",\"\",VLOOKUP(C2180,PARAMETROS!$G$3:$H$21,2,FALSE))","v":""},null,{"$f":"IF(E2180=\"\",\"\",VLOOKUP(E2180,PARAMETROS!$I$3:$J$21,2,FALSE))","v":""},null,null,null,null,null,null,""]
[null,{"$f":"IF(A2181=\"\",\"\",VLOOKUP(A2181,PARAMETROS!$B$3:$C$3,2,FALSE))","v":""},null,{"$f":"IF(C2181=\"\",\"\",VLOOKUP(C2181,PARAMETROS!$G$3:$H$21,2,FALSE))","v":""},null,{"$f":"IF(E2181=\"\",\"\",VLOOKUP(E2181,PARAMETROS!$I$3:$J$21,2,FALSE))","v":""},null,null,null,null,null,null,""]
[null,{"$f":"IF(A2182=\"\",\"\",VLOOKUP(A2182,PARAMETROS!$B$3:$C$3,2,FALSE))","v":""},null,{"$f":"IF(C2182=\"\",\"\",VLOOKUP(C2182,PARAMETROS!$G$3:$H$21,2,FALSE))","v":""},null,{"$f":"IF(E2182=\"\",\"\",VLOOKUP(E2182,PARAMETROS!$I$3:$J$21,2,FALSE))","v":""},null,null,null,null,null,null,""]
[null,{"$f":"IF(A2183=\"\",\"\",VLOOKUP(A2183,PARAMETROS!$B$3:$C$3,2,FALSE))","v":""},null,{"$f":"IF(C2183=\"\",\"\",VLOOKUP(C2183,PARAMETROS!$G$3:$H$21,2,FALSE))","v":""},null,{"$f":"IF(E2183=\"\",\"\",VLOOKUP(E2183,PARAMETROS!$I$3:$J$21,2,FALSE))","v":""},null,null,null,null,null,null,""]
[null,{"$f":"IF(A2184=\"\",\"\",VLOOKUP(A2184,PARAMETROS!$B$3:$C$3,2,FALSE))","v":""},null,{"$f":"IF(C2184=\"\",\"\",VLOOKUP(C2184,PARAMETROS!$G$3:$H$21,2,FALSE))","v":""},null,{"$f":"IF(E2184=\"\",\"\",VLOOKUP(E2184,PARAMETROS!$I$3:$J$21,2,FALSE))","v":""},null,null,null,null,null,null,""]
[null,{"$f":"IF(A2185=\"\",\"\",VLOOKUP(A2185,PARAMETROS!$B$3:$C$3,2,FALSE))","v":""},null,{"$f":"IF(C2185=\"\",\"\",VLOOKUP(C2185,PARAMETROS!$G$3:$H$21,2,FALSE))","v":""},null,{"$f":"IF(E2185=\"\",\"\",VLOOKUP(E2185,PARAMETROS!$I$3:$J$21,2,FALSE))","v":""},null,null,null,null,null,null,""]
[null,{"$f":"IF(A2186=\"\",\"\",VLOOKUP(A2186,PARAMETROS!$B$3:$C$3,2,FALSE))","v":""},null,{"$f":"IF(C2186=\"\",\"\",VLOOKUP(C2186,PARAMETROS!$G$3:$H$21,2,FALSE))","v":""},null,{"$f":"IF(E2186=\"\",\"\",VLOOKUP(E2186,PARAMETROS!$I$3:$J$21,2,FALSE))","v":""},null,null,null,null,null,null,""]
[null,{"$f":"IF(A2187=\"\",\"\",VLOOKUP(A2187,PARAMETROS!$B$3:$C$3,2,FALSE))","v":""},null,{"$f":"IF(C2187=\"\",\"\",VLOOKUP(C2187,PARAMETROS!$G$3:$H$21,2,FALSE))","v":""},null,{"$f":"IF(E2187=\"\",\"\",VLOOKUP(E2187,PARAMETROS!$I$3:$J$21,2,FALSE))","v":""},null,null,null,null,null,null,""]
[null,{"$f":"IF(A2188=\"\",\"\",VLOOKUP(A2188,PARAMETROS!$B$3:$C$3,2,FALSE))","v":""},null,{"$f":"IF(C2188=\"\",\"\",VLOOKUP(C2188,PARAMETROS!$G$3:$H$21,2,FALSE))","v":""},null,{"$f":"IF(E2188=\"\",\"\",VLOOKUP(E2188,PARAMETROS!$I$3:$J$21,2,FALSE))","v":""},null,null,null,null,null,null,""]
[null,{"$f":"IF(A2189=\"\",\"\",VLOOKUP(A2189,PARAMETROS!$B$3:$C$3,2,FALSE))","v":""},null,{"$f":"IF(C2189=\"\",\"\",VLOOKUP(C2189,PARAMETROS!$G$3:$H$21,2,FALSE))","v":""},null,{"$f":"IF(E2189=\"\",\"\",VLOOKUP(E2189,PARAMETROS!$I$3:$J$21,2,FALSE))","v":""},null,null,null,null,null,null,""]
[null,{"$f":"IF(A2190=\"\",\"\",VLOOKUP(A2190,PARAMETROS!$B$3:$C$3,2,FALSE))","v":""},null,{"$f":"IF(C2190=\"\",\"\",VLOOKUP(C2190,PARAMETROS!$G$3:$H$21,2,FALSE))","v":""},null,{"$f":"IF(E2190=\"\",\"\",VLOOKUP(E2190,PARAMETROS!$I$3:$J$21,2,FALSE))","v":""},null,null,null,null,null,null,""]
[null,{"$f":"IF(A2191=\"\",\"\",VLOOKUP(A2191,PARAMETROS!$B$3:$C$3,2,FALSE))","v":""},null,{"$f":"IF(C2191=\"\",\"\",VLOOKUP(C2191,PARAMETROS!$G$3:$H$21,2,FALSE))","v":""},null,{"$f":"IF(E2191=\"\",\"\",VLOOKUP(E2191,PARAMETROS!$I$3:$J$21,2,FALSE))","v":""},null,null,null,null,null,null,{"$f":"IF(L2191=\"\", \"\", L2191)","v":""}]
[null,{"$f":"IF(A2192=\"\",\"\",VLOOKUP(A2192,PARAMETROS!$B$3:$C$3,2,FALSE))","v":""},null,{"$f":"IF(C2192=\"\",\"\",VLOOKUP(C2192,PARAMETROS!$G$3:$H$21,2,FALSE))","v":""},null,{"$f":"IF(E2192=\"\",\"\",VLOOKUP(E2192,PARAMETROS!$I$3:$J$21,2,FALSE))","v":""},null,null,null,null,null,null,""]
[null,{"$f":"IF(A2193=\"\",\"\",VLOOKUP(A2193,PARAMETROS!$B$3:$C$3,2,FALSE))","v":""},null,{"$f":"IF(C2193=\"\",\"\",VLOOKUP(C2193,PARAMETROS!$G$3:$H$21,2,FALSE))","v":""},null,{"$f":"IF(E2193=\"\",\"\",VLOOKUP(E2193,PARAMETROS!$I$3:$J$21,2,FALSE))","v":""},null,null,null,null,null,null,""]
[null,{"$f":"IF(A2194=\"\",\"\",VLOOKUP(A2194,PARAMETROS!$B$3:$C$3,2,FALSE))","v":""},null,{"$f":"IF(C2194=\"\",\"\",VLOOKUP(C2194,PARAMETROS!$G$3:$H$21,2,FALSE))","v":""},null,{"$f":"IF(E2194=\"\",\"\",VLOOKUP(E2194,PARAMETROS!$I$3:$J$21,2,FALSE))","v":""},null,null,null,null,null,null,""]
[null,{"$f":"IF(A2195=\"\",\"\",VLOOKUP(A2195,PARAMETROS!$B$3:$C$3,2,FALSE))","v":""},null,{"$f":"IF(C2195=\"\",\"\",VLOOKUP(C2195,PARAMETROS!$G$3:$H$21,2,FALSE))","v":""},null,{"$f":"IF(E2195=\"\",\"\",VLOOKUP(E2195,PARAMETROS!$I$3:$J$21,2,FALSE))","v":""},null,null,null,null,null,null,""]
[null,{"$f":"IF(A2196=\"\",\"\",VLOOKUP(A2196,PARAMETROS!$B$3:$C$3,2,FALSE))","v":""},null,{"$f":"IF(C2196=\"\",\"\",VLOOKUP(C2196,PARAMETROS!$G$3:$H$21,2,FALSE))","v":""},null,{"$f":"IF(E2196=\"\",\"\",VLOOKUP(E2196,PARAMETROS!$I$3:$J$21,2,FALSE))","v":""},null,null,null,null,null,null,""]
[null,{"$f":"IF(A2197=\"\",\"\",VLOOKUP(A2197,PARAMETROS!$B$3:$C$3,2,FALSE))","v":""},null,{"$f":"IF(C2197=\"\",\"\",VLOOKUP(C2197,PARAMETROS!$G$3:$H$21,2,FALSE))","v":""},null,{"$f":"IF(E2197=\"\",\"\",VLOOKUP(E2197,PARAMETROS!$I$3:$J$21,2,FALSE))","v":""},null,null,null,null,null,null,""]
[null,{"$f":"IF(A2198=\"\",\"\",VLOOKUP(A2198,PARAMETROS!$B$3:$C$3,2,FALSE))","v":""},null,{"$f":"IF(C2198=\"\",\"\",VLOOKUP(C2198,PARAMETROS!$G$3:$H$21,2,FALSE))","v":""},null,{"$f":"IF(E2198=\"\",\"\",VLOOKUP(E2198,PARAMETROS!$I$3:$J$21,2,FALSE))","v":""},null,null,null,null,null,null,""]
[null,{"$f":"IF(A2199=\"\",\"\",VLOOKUP(A2199,PARAMETROS!$B$3:$C$3,2,FALSE))","v":""},null,{"$f":"IF(C2199=\"\",\"\",VLOOKUP(C2199,PARAMETROS!$G$3:$H$21,2,FALSE))","v":""},null,{"$f":"IF(E2199=\"\",\"\",VLOOKUP(E2199,PARAMETROS!$I$3:$J$21,2,FALSE))","v":""},null,null,null,null,null,null,""]
[null,{"$f":"IF(A2200=\"\",\"\",VLOOKUP(A2200,PARAMETROS!$B$3:$C$3,2,FALSE))","v":""},null,{"$f":"IF(C2200=\"\",\"\",VLOOKUP(C2200,PARAMETROS!$G$3:$H$21,2,FALSE))","v":""},null,{"$f":"IF(E2200=\"\",\"\",VLOOKUP(E2200,PARAMETROS!$I$3:$J$21,2,FALSE))","v":""},null,null,null,null,null,null,""]
[null,{"$f":"IF(A2201=\"\",\"\",VLOOKUP(A2201,PARAMETROS!$B$3:$C$3,2,FALSE))","v":""},null,{"$f":"IF(C2201=\"\",\"\",VLOOKUP(C2201,PARAMETROS!$G$3:$H$21,2,FALSE))","v":""},null,{"$f":"IF(E2201=\"\",\"\",VLOOKUP(E2201,PARAMETROS!$I$3:$J$21,2,FALSE))","v":""},null,null,null,null,null,null,""]
[null,{"$f":"IF(A2202=\"\",\"\",VLOOKUP(A2202,PARAMETROS!$B$3:$C$3,2,FALSE))","v":""},null,{"$f":"IF(C2202=\"\",\"\",VLOOKUP(C2202,PARAMETROS!$G$3:$H$21,2,FALSE))","v":""},null,{"$f":"IF(E2202=\"\",\"\",VLOOKUP(E2202,PARAMETROS!$I$3:$J$21,2,FALSE))","v":""},null,null,null,null,null,null,""]
[null,{"$f":"IF(A2203=\"\",\"\",VLOOKUP(A2203,PARAMETROS!$B$3:$C$3,2,FALSE))","v":""},null,{"$f":"IF(C2203=\"\",\"\",VLOOKUP(C2203,PARAMETROS!$G$3:$H$21,2,FALSE))","v":""},null,{"$f":"IF(E2203=\"\",\"\",VLOOKUP(E2203,PARAMETROS!$I$3:$J$21,2,FALSE))","v":""},null,null,null,null,null,null,""]
[null,{"$f":"IF(A2204=\"\",\"\",VLOOKUP(A2204,PARAMETROS!$B$3:$C$3,2,FALSE))","v":""},null,{"$f":"IF(C2204=\"\",\"\",VLOOKUP(C2204,PARAMETROS!$G$3:$H$21,2,FALSE))","v":""},null,{"$f":"IF(E2204=\"\",\"\",VLOOKUP(E2204,PARAMETROS!$I$3:$J$21,2,FALSE))","v":""},null,null,null,null,null,null,""]
[null,{"$f":"IF(A2205=\"\",\"\",VLOOKUP(A2205,PARAMETROS!$B$3:$C$3,2,FALSE))","v":""},null,{"$f":"IF(C2205=\"\",\"\",VLOOKUP(C2205,PARAMETROS!$G$3:$H$21,2,FALSE))","v":""},null,{"$f":"IF(E2205=\"\",\"\",VLOOKUP(E2205,PARAMETROS!$I$3:$J$21,2,FALSE))","v":""},null,null,null,null,null,null,""]
[null,{"$f":"IF(A2206=\"\",\"\",VLOOKUP(A2206,PARAMETROS!$B$3:$C$3,2,FALSE))","v":""},null,{"$f":"IF(C2206=\"\",\"\",VLOOKUP(C2206,PARAMETROS!$G$3:$H$21,2,FALSE))","v":""},null,{"$f":"IF(E2206=\"\",\"\",VLOOKUP(E2206,PARAMETROS!$I$3:$J$21,2,FALSE))","v":""},null,null,null,null,null,null,""]
[null,{"$f":"IF(A2207=\"\",\"\",VLOOKUP(A2207,PARAMETROS!$B$3:$C$3,2,FALSE))","v":""},null,{"$f":"IF(C2207=\"\",\"\",VLOOKUP(C2207,PARAMETROS!$G$3:$H$21,2,FALSE))","v":""},null,{"$f":"IF(E2207=\"\",\"\",VLOOKUP(E2207,PARAMETROS!$I$3:$J$21,2,FALSE))","v":""},null,null,null,null,null,null,""]
[null,{"$f":"IF(A2208=\"\",\"\",VLOOKUP(A2208,PARAMETROS!$B$3:$C$3,2,FALSE))","v":""},null,{"$f":"IF(C2208=\"\",\"\",VLOOKUP(C2208,PARAMETROS!$G$3:$H$21,2,FALSE))","v":""},null,{"$f":"IF(E2208=\"\",\"\",VLOOKUP(E2208,PARAMETROS!$I$3:$J$21,2,FALSE))","v":""},null,null,null,null,null,null,""]
[null,{"$f":"IF(A2209=\"\",\"\",VLOOKUP(A2209,PARAMETROS!$B$3:$C$3,2,FALSE))","v":""},null,{"$f":"IF(C2209=\"\",\"\",VLOOKUP(C2209,PARAMETROS!$G$3:$H$21,2,FALSE))","v":""},null,{"$f":"IF(E2209=\"\",\"\",VLOOKUP(E2209,PARAMETROS!$I$3:$J$21,2,FALSE))","v":""},null,null,null,null,null,null,""]
[null,{"$f":"IF(A2210=\"\",\"\",VLOOKUP(A2210,PARAMETROS!$B$3:$C$3,2,FALSE))","v":""},null,{"$f":"IF(C2210=\"\",\"\",VLOOKUP(C2210,PARAMETROS!$G$3:$H$21,2,FALSE))","v":""},null,{"$f":"IF(E2210=\"\",\"\",VLOOKUP(E2210,PARAMETROS!$I$3:$J$21,2,FALSE))","v":""},null,null,null,null,null,null,""]
[null,{"$f":"IF(A2211=\"\",\"\",VLOOKUP(A2211,PARAMETROS!$B$3:$C$3,2,FALSE))","v":""},null,{"$f":"IF(C2211=\"\",\"\",VLOOKUP(C2211,PARAMETROS!$G$3:$H$21,2,FALSE))","v":""},null,{"$f":"IF(E2211=\"\",\"\",VLOOKUP(E2211,PARAMETROS!$I$3:$J$21,2,FALSE))","v":""},null,null,null,null,null,null,""]
[null,{"$f":"IF(A2212=\"\",\"\",VLOOKUP(A2212,PARAMETROS!$B$3:$C$3,2,FALSE))","v":""},null,{"$f":"IF(C2212=\"\",\"\",VLOOKUP(C2212,PARAMETROS!$G$3:$H$21,2,FALSE))","v":""},null,{"$f":"IF(E2212=\"\",\"\",VLOOKUP(E2212,PARAMETROS!$I$3:$J$21,2,FALSE))","v":""},null,null,null,null,null,null,""]
[null,{"$f":"IF(A2213=\"\",\"\",VLOOKUP(A2213,PARAMETROS!$B$3:$C$3,2,FALSE))","v":""},null,{"$f":"IF(C2213=\"\",\"\",VLOOKUP(C2213,PARAMETROS!$G$3:$H$21,2,FALSE))","v":""},null,{"$f":"IF(E2213=\"\",\"\",VLOOKUP(E2213,PARAMETROS!$I$3:$J$21,2,FALSE))","v":""},null,null,null,null,null,null,""]
[null,{"$f":"IF(A2214=\"\",\"\",VLOOKUP(A2214,PARAMETROS!$B$3:$C$3,2,FALSE))","v":""},null,{"$f":"IF(C2214=\"\",\"\",VLOOKUP(C2214,PARAMETROS!$G$3:$H$21,2,FALSE))","v":""},null,{"$f":"IF(E2214=\"\",\"\",VLOOKUP(E2214,PARAMETROS!$I$3:$J$21,2,FALSE))","v":""},null,null,null,null,null,null,""]
[null,{"$f":"IF(A2215=\"\",\"\",VLOOKUP(A2215,PARAMETROS!$B$3:$C$3,2,FALSE))","v":""},null,{"$f":"IF(C2215=\"\",\"\",VLOOKUP(C2215,PARAMETROS!$G$3:$H$21,2,FALSE))","v":""},null,{"$f":"IF(E2215=\"\",\"\",VLOOKUP(E2215,PARAMETROS!$I$3:$J$21,2,FALSE))","v":""},null,null,null,null,null,null,""]
[null,{"$f":"IF(A2216=\"\",\"\",VLOOKUP(A2216,PARAMETROS!$B$3:$C$3,2,FALSE))","v":""},null,{"$f":"IF(C2216=\"\",\"\",VLOOKUP(C2216,PARAMETROS!$G$3:$H$21,2,FALSE))","v":""},null,{"$f":"IF(E2216=\"\",\"\",VLOOKUP(E2216,PARAMETROS!$I$3:$J$21,2,FALSE))","v":""},null,null,null,null,null,null,""]
[null,{"$f":"IF(A2217=\"\",\"\",VLOOKUP(A2217,PARAMETROS!$B$3:$C$3,2,FALSE))","v":""},null,{"$f":"IF(C2217=\"\",\"\",VLOOKUP(C2217,PARAMETROS!$G$3:$H$21,2,FALSE))","v":""},null,{"$f":"IF(E2217=\"\",\"\",VLOOKUP(E2217,PARAMETROS!$I$3:$J$21,2,FALSE))","v":""},null,null,null,null,null,null,""]
[null,{"$f":"IF(A2218=\"\",\"\",VLOOKUP(A2218,PARAMETROS!$B$3:$C$3,2,FALSE))","v":""},null,{"$f":"IF(C2218=\"\",\"\",VLOOKUP(C2218,PARAMETROS!$G$3:$H$21,2,FALSE))","v":""},null,{"$f":"IF(E2218=\"\",\"\",VLOOKUP(E2218,PARAMETROS!$I$3:$J$21,2,FALSE))","v":""},null,null,null,null,null,null,""]
[null,{"$f":"IF(A2219=\"\",\"\",VLOOKUP(A2219,PARAMETROS!$B$3:$C$3,2,FALSE))","v":""},null,{"$f":"IF(C2219=\"\",\"\",VLOOKUP(C2219,PARAMETROS!$G$3:$H$21,2,FALSE))","v":""},null,{"$f":"IF(E2219=\"\",\"\",VLOOKUP(E2219,PARAMETROS!$I$3:$J$21,2,FALSE))","v":""},null,null,null,null,null,null,""]
[null,{"$f":"IF(A2220=\"\",\"\",VLOOKUP(A2220,PARAMETROS!$B$3:$C$3,2,FALSE))","v":""},null,{"$f":"IF(C2220=\"\",\"\",VLOOKUP(C2220,PARAMETROS!$G$3:$H$21,2,FALSE))","v":""},null,{"$f":"IF(E2220=\"\",\"\",VLOOKUP(E2220,PARAMETROS!$I$3:$J$21,2,FALSE))","v":""},null,null,null,null,null,null,""]
[null,{"$f":"IF(A2221=\"\",\"\",VLOOKUP(A2221,PARAMETROS!$B$3:$C$3,2,FALSE))","v":""},null,{"$f":"IF(C2221=\"\",\"\",VLOOKUP(C2221,PARAMETROS!$G$3:$H$21,2,FALSE))","v":""},null,{"$f":"IF(E2221=\"\",\"\",VLOOKUP(E2221,PARAMETROS!$I$3:$J$21,2,FALSE))","v":""},null,null,null,null,null,null,""]
[null,{"$f":"IF(A2222=\"\",\"\",VLOOKUP(A2222,PARAMETROS!$B$3:$C$3,2,FALSE))","v":""},null,{"$f":"IF(C2222=\"\",\"\",VLOOKUP(C2222,PARAMETROS!$G$3:$H$21,2,FALSE))","v":""},null,{"$f":"IF(E2222=\"\",\"\",VLOOKUP(E2222,PARAMETROS!$I$3:$J$21,2,FALSE))","v":""},null,null,null,null,null,null,""]
[null,{"$f":"IF(A2223=\"\",\"\",VLOOKUP(A2223,PARAMETROS!$B$3:$C$3,2,FALSE))","v":""},null,{"$f":"IF(C2223=\"\",\"\",VLOOKUP(C2223,PARAMETROS!$G$3:$H$21,2,FALSE))","v":""},null,{"$f":"IF(E2223=\"\",\"\",VLOOKUP(E2223,PARAMETROS!$I$3:$J$21,2,FALSE))","v":""},null,null,null,null,null,null,""]
[null,{"$f":"IF(A2224=\"\",\"\",VLOOKUP(A2224,PARAMETROS!$B$3:$C$3,2,FALSE))","v":""},null,{"$f":"IF(C2224=\"\",\"\",VLOOKUP(C2224,PARAMETROS!$G$3:$H$21,2,FALSE))","v":""},null,{"$f":"IF(E2224=\"\",\"\",VLOOKUP(E2224,PARAMETROS!$I$3:$J$21,2,FALSE))","v":""},null,null,null,null,null,null,""]
[null,{"$f":"IF(A2225=\"\",\"\",VLOOKUP(A2225,PARAMETROS!$B$3:$C$3,2,FALSE))","v":""},null,{"$f":"IF(C2225=\"\",\"\",VLOOKUP(C2225,PARAMETROS!$G$3:$H$21,2,FALSE))","v":""},null,{"$f":"IF(E2225=\"\",\"\",VLOOKUP(E2225,PARAMETROS!$I$3:$J$21,2,FALSE))","v":""},null,null,null,null,null,null,""]
[null,{"$f":"IF(A2226=\"\",\"\",VLOOKUP(A2226,PARAMETROS!$B$3:$C$3,2,FALSE))","v":""},null,{"$f":"IF(C2226=\"\",\"\",VLOOKUP(C2226,PARAMETROS!$G$3:$H$21,2,FALSE))","v":""},null,{"$f":"IF(E2226=\"\",\"\",VLOOKUP(E2226,PARAMETROS!$I$3:$J$21,2,FALSE))","v":""},null,null,null,null,null,null,""]
[null,{"$f":"IF(A2227=\"\",\"\",VLOOKUP(A2227,PARAMETROS!$B$3:$C$3,2,FALSE))","v":""},null,{"$f":"IF(C2227=\"\",\"\",VLOOKUP(C2227,PARAMETROS!$G$3:$H$21,2,FALSE))","v":""},null,{"$f":"IF(E2227=\"\",\"\",VLOOKUP(E2227,PARAMETROS!$I$3:$J$21,2,FALSE))","v":""},null,null,null,null,null,null,""]
[null,{"$f":"IF(A2228=\"\",\"\",VLOOKUP(A2228,PARAMETROS!$B$3:$C$3,2,FALSE))","v":""},null,{"$f":"IF(C2228=\"\",\"\",VLOOKUP(C2228,PARAMETROS!$G$3:$H$21,2,FALSE))","v":""},null,{"$f":"IF(E2228=\"\",\"\",VLOOKUP(E2228,PARAMETROS!$I$3:$J$21,2,FALSE))","v":""},null,null,null,null,null,null,""]
[null,{"$f":"IF(A2229=\"\",\"\",VLOOKUP(A2229,PARAMETROS!$B$3:$C$3,2,FALSE))","v":""},null,{"$f":"IF(C2229=\"\",\"\",VLOOKUP(C2229,PARAMETROS!$G$3:$H$21,2,FALSE))","v":""},null,{"$f":"IF(E2229=\"\",\"\",VLOOKUP(E2229,PARAMETROS!$I$3:$J$21,2,FALSE))","v":""},null,null,null,null,null,null,""]
[null,{"$f":"IF(A2230=\"\",\"\",VLOOKUP(A2230,PARAMETROS!$B$3:$C$3,2,FALSE))","v":""},null,{"$f":"IF(C2230=\"\",\"\",VLOOKUP(C2230,PARAMETROS!$G$3:$H$21,2,FALSE))","v":""},null,{"$f":"IF(E2230=\"\",\"\",VLOOKUP(E2230,PARAMETROS!$I$3:$J$21,2,FALSE))","v":""},null,null,null,null,null,null,""]
[null,{"$f":"IF(A2231=\"\",\"\",VLOOKUP(A2231,PARAMETROS!$B$3:$C$3,2,FALSE))","v":""},null,{"$f":"IF(C2231=\"\",\"\",VLOOKUP(C2231,PARAMETROS!$G$3:$H$21,2,FALSE))","v":""},null,{"$f":"IF(E2231=\"\",\"\",VLOOKUP(E2231,PARAMETROS!$I$3:$J$21,2,FALSE))","v":""},null,null,null,null,null,null,""]
[null,{"$f":"IF(A2232=\"\",\"\",VLOOKUP(A2232,PARAMETROS!$B$3:$C$3,2,FALSE))","v":""},null,{"$f":"IF(C2232=\"\",\"\",VLOOKUP(C2232,PARAMETROS!$G$3:$H$21,2,FALSE))","v":""},null,{"$f":"IF(E2232=\"\",\"\",VLOOKUP(E2232,PARAMETROS!$I$3:$J$21,2,FALSE))","v":""},null,null,null,null,null,null,""]
[null,{"$f":"IF(A2233=\"\",\"\",VLOOKUP(A2233,PARAMETROS!$B$3:$C$3,2,FALSE))","v":""},null,{"$f":"IF(C2233=\"\",\"\",VLOOKUP(C2233,PARAMETROS!$G$3:$H$21,2,FALSE))","v":""},null,{"$f":"IF(E2233=\"\",\"\",VLOOKUP(E2233,PARAMETROS!$I$3:$J$21,2,FALSE))","v":""},null,null,null,null,null,null,""]
[null,{"$f":"IF(A2234=\"\",\"\",VLOOKUP(A2234,PARAMETROS!$B$3:$C$3,2,FALSE))","v":""},null,{"$f":"IF(C2234=\"\",\"\",VLOOKUP(C2234,PARAMETROS!$G$3:$H$21,2,FALSE))","v":""},null,{"$f":"IF(E2234=\"\",\"\",VLOOKUP(E2234,PARAMETROS!$I$3:$J$21,2,FALSE))","v":""},null,null,null,null,null,null,""]
[null,{"$f":"IF(A2235=\"\",\"\",VLOOKUP(A2235,PARAMETROS!$B$3:$C$3,2,FALSE))","v":""},null,{"$f":"IF(C2235=\"\",\"\",VLOOKUP(C2235,PARAMETROS!$G$3:$H$21,2,FALSE))","v":""},null,{"$f":"IF(E2235=\"\",\"\",VLOOKUP(E2235,PARAMETROS!$I$3:$J$21,2,FALSE))","v":""},null,null,null,null,null,null,""]
[null,{"$f":"IF(A2236=\"\",\"\",VLOOKUP(A2236,PARAMETROS!$B$3:$C$3,2,FALSE))","v":""},null,{"$f":"IF(C2236=\"\",\"\",VLOOKUP(C2236,PARAMETROS!$G$3:$H$21,2,FALSE))","v":""},null,{"$f":"IF(E2236=\"\",\"\",VLOOKUP(E2236,PARAMETROS!$I$3:$J$21,2,FALSE))","v":""},null,null,null,null,null,null,""]
[null,{"$f":"IF(A2237=\"\",\"\",VLOOKUP(A2237,PARAMETROS!$B$3:$C$3,2,FALSE))","v":""},null,{"$f":"IF(C2237=\"\",\"\",VLOOKUP(C2237,PARAMETROS!$G$3:$H$21,2,FALSE))","v":""},null,{"$f":"IF(E2237=\"\",\"\",VLOOKUP(E2237,PARAMETROS!$I$3:$J$21,2,FALSE))","v":""},null,null,null,null,null,null,""]
[null,{"$f":"IF(A2238=\"\",\"\",VLOOKUP(A2238,PARAMETROS!$B$3:$C$3,2,FALSE))","v":""},null,{"$f":"IF(C2238=\"\",\"\",VLOOKUP(C2238,PARAMETROS!$G$3:$H$21,2,FALSE))","v":""},null,{"$f":"IF(E2238=\"\",\"\",VLOOKUP(E2238,PARAMETROS!$I$3:$J$21,2,FALSE))","v":""},null,null,null,null,null,null,""]
[null,{"$f":"IF(A2239=\"\",\"\",VLOOKUP(A2239,PARAMETROS!$B$3:$C$3,2,FALSE))","v":""},null,{"$f":"IF(C2239=\"\",\"\",VLOOKUP(C2239,PARAMETROS!$G$3:$H$21,2,FALSE))","v":""},null,{"$f":"IF(E2239=\"\",\"\",VLOOKUP(E2239,PARAMETROS!$I$3:$J$21,2,FALSE))","v":""},null,null,null,null,null,null,""]
[null,{"$f":"IF(A2240=\"\",\"\",VLOOKUP(A2240,PARAMETROS!$B$3:$C$3,2,FALSE))","v":""},null,{"$f":"IF(C2240=\"\",\"\",VLOOKUP(C2240,PARAMETROS!$G$3:$H$21,2,FALSE))","v":""},null,{"$f":"IF(E2240=\"\",\"\",VLOOKUP(E2240,PARAMETROS!$I$3:$J$21,2,FALSE))","v":""},null,null,null,null,null,null,""]
[null,{"$f":"IF(A2241=\"\",\"\",VLOOKUP(A2241,PARAMETROS!$B$3:$C$3,2,FALSE))","v":""},null,{"$f":"IF(C2241=\"\",\"\",VLOOKUP(C2241,PARAMETROS!$G$3:$H$21,2,FALSE))","v":""},null,{"$f":"IF(E2241=\"\",\"\",VLOOKUP(E2241,PARAMETROS!$I$3:$J$21,2,FALSE))","v":""},null,null,null,null,null,null,""]
[null,{"$f":"IF(A2242=\"\",\"\",VLOOKUP(A2242,PARAMETROS!$B$3:$C$3,2,FALSE))","v":""},null,{"$f":"IF(C2242=\"\",\"\",VLOOKUP(C2242,PARAMETROS!$G$3:$H$21,2,FALSE))","v":""},null,{"$f":"IF(E2242=\"\",\"\",VLOOKUP(E2242,PARAMETROS!$I$3:$J$21,2,FALSE))","v":""},null,null,null,null,null,null,""]
[null,{"$f":"IF(A2243=\"\",\"\",VLOOKUP(A2243,PARAMETROS!$B$3:$C$3,2,FALSE))","v":""},null,{"$f":"IF(C2243=\"\",\"\",VLOOKUP(C2243,PARAMETROS!$G$3:$H$21,2,FALSE))","v":""},null,{"$f":"IF(E2243=\"\",\"\",VLOOKUP(E2243,PARAMETROS!$I$3:$J$21,2,FALSE))","v":""},null,null,null,null,null,null,""]
[null,{"$f":"IF(A2244=\"\",\"\",VLOOKUP(A2244,PARAMETROS!$B$3:$C$3,2,FALSE))","v":""},null,{"$f":"IF(C2244=\"\",\"\",VLOOKUP(C2244,PARAMETROS!$G$3:$H$21,2,FALSE))","v":""},null,{"$f":"IF(E2244=\"\",\"\",VLOOKUP(E2244,PARAMETROS!$I$3:$J$21,2,FALSE))","v":""},null,null,null,null,null,null,""]
[null,{"$f":"IF(A2245=\"\",\"\",VLOOKUP(A2245,PARAMETROS!$B$3:$C$3,2,FALSE))","v":""},null,{"$f":"IF(C2245=\"\",\"\",VLOOKUP(C2245,PARAMETROS!$G$3:$H$21,2,FALSE))","v":""},null,{"$f":"IF(E2245=\"\",\"\",VLOOKUP(E2245,PARAMETROS!$I$3:$J$21,2,FALSE))","v":""},null,null,null,null,null,null,""]
[null,{"$f":"IF(A2246=\"\",\"\",VLOOKUP(A2246,PARAMETROS!$B$3:$C$3,2,FALSE))","v":""},null,{"$f":"IF(C2246=\"\",\"\",VLOOKUP(C2246,PARAMETROS!$G$3:$H$21,2,FALSE))","v":""},null,{"$f":"IF(E2246=\"\",\"\",VLOOKUP(E2246,PARAMETROS!$I$3:$J$21,2,FALSE))","v":""},null,null,null,null,null,null,""]
[null,{"$f":"IF(A2247=\"\",\"\",VLOOKUP(A2247,PARAMETROS!$B$3:$C$3,2,FALSE))","v":""},null,{"$f":"IF(C2247=\"\",\"\",VLOOKUP(C2247,PARAMETROS!$G$3:$H$21,2,FALSE))","v":""},null,{"$f":"IF(E2247=\"\",\"\",VLOOKUP(E2247,PARAMETROS!$I$3:$J$21,2,FALSE))","v":""},null,null,null,null,null,null,""]
[null,{"$f":"IF(A2248=\"\",\"\",VLOOKUP(A2248,PARAMETROS!$B$3:$C$3,2,FALSE))","v":""},null,{"$f":"IF(C2248=\"\",\"\",VLOOKUP(C2248,PARAMETROS!$G$3:$H$21,2,FALSE))","v":""},null,{"$f":"IF(E2248=\"\",\"\",VLOOKUP(E2248,PARAMETROS!$I$3:$J$21,2,FALSE))","v":""},null,null,null,null,null,null,""]
[null,{"$f":"IF(A2249=\"\",\"\",VLOOKUP(A2249,PARAMETROS!$B$3:$C$3,2,FALSE))","v":""},null,{"$f":"IF(C2249=\"\",\"\",VLOOKUP(C2249,PARAMETROS!$G$3:$H$21,2,FALSE))","v":""},null,{"$f":"IF(E2249=\"\",\"\",VLOOKUP(E2249,PARAMETROS!$I$3:$J$21,2,FALSE))","v":""},null,null,null,null,null,null,""]
[null,{"$f":"IF(A2250=\"\",\"\",VLOOKUP(A2250,PARAMETROS!$B$3:$C$3,2,FALSE))","v":""},null,{"$f":"IF(C2250=\"\",\"\",VLOOKUP(C2250,PARAMETROS!$G$3:$H$21,2,FALSE))","v":""},null,{"$f":"IF(E2250=\"\",\"\",VLOOKUP(E2250,PARAMETROS!$I$3:$J$21,2,FALSE))","v":""},null,null,null,null,null,null,""]
[null,{"$f":"IF(A2251=\"\",\"\",VLOOKUP(A2251,PARAMETROS!$B$3:$C$3,2,FALSE))","v":""},null,{"$f":"IF(C2251=\"\",\"\",VLOOKUP(C2251,PARAMETROS!$G$3:$H$21,2,FALSE))","v":""},null,{"$f":"IF(E2251=\"\",\"\",VLOOKUP(E2251,PARAMETROS!$I$3:$J$21,2,FALSE))","v":""},null,null,null,null,null,null,""]
[null,{"$f":"IF(A2252=\"\",\"\",VLOOKUP(A2252,PARAMETROS!$B$3:$C$3,2,FALSE))","v":""},null,{"$f":"IF(C2252=\"\",\"\",VLOOKUP(C2252,PARAMETROS!$G$3:$H$21,2,FALSE))","v":""},null,{"$f":"IF(E2252=\"\",\"\",VLOOKUP(E2252,PARAMETROS!$I$3:$J$21,2,FALSE))","v":""},null,null,null,null,null,null,""]
[null,{"$f":"IF(A2253=\"\",\"\",VLOOKUP(A2253,PARAMETROS!$B$3:$C$3,2,FALSE))","v":""},null,{"$f":"IF(C2253=\"\",\"\",VLOOKUP(C2253,PARAMETROS!$G$3:$H$21,2,FALSE))","v":""},null,{"$f":"IF(E2253=\"\",\"\",VLOOKUP(E2253,PARAMETROS!$I$3:$J$21,2,FALSE))","v":""},null,null,null,null,null,null,""]
[null,{"$f":"IF(A2254=\"\",\"\",VLOOKUP(A2254,PARAMETROS!$B$3:$C$3,2,FALSE))","v":""},null,{"$f":"IF(C2254=\"\",\"\",VLOOKUP(C2254,PARAMETROS!$G$3:$H$21,2,FALSE))","v":""},null,{"$f":"IF(E2254=\"\",\"\",VLOOKUP(E2254,PARAMETROS!$I$3:$J$21,2,FALSE))","v":""},null,null,null,null,null,null,""]
[null,{"$f":"IF(A2255=\"\",\"\",VLOOKUP(A2255,PARAMETROS!$B$3:$C$3,2,FALSE))","v":""},null,{"$f":"IF(C2255=\"\",\"\",VLOOKUP(C2255,PARAMETROS!$G$3:$H$21,2,FALSE))","v":""},null,{"$f":"IF(E2255=\"\",\"\",VLOOKUP(E2255,PARAMETROS!$I$3:$J$21,2,FALSE))","v":""},null,null,null,null,null,null,{"$f":"IF(L2255=\"\", \"\", L2255)","v":""}]
[null,{"$f":"IF(A2256=\"\",\"\",VLOOKUP(A2256,PARAMETROS!$B$3:$C$3,2,FALSE))","v":""},null,{"$f":"IF(C2256=\"\",\"\",VLOOKUP(C2256,PARAMETROS!$G$3:$H$21,2,FALSE))","v":""},null,{"$f":"IF(E2256=\"\",\"\",VLOOKUP(E2256,PARAMETROS!$I$3:$J$21,2,FALSE))","v":""},null,null,null,null,null,null,""]
[null,{"$f":"IF(A2257=\"\",\"\",VLOOKUP(A2257,PARAMETROS!$B$3:$C$3,2,FALSE))","v":""},null,{"$f":"IF(C2257=\"\",\"\",VLOOKUP(C2257,PARAMETROS!$G$3:$H$21,2,FALSE))","v":""},null,{"$f":"IF(E2257=\"\",\"\",VLOOKUP(E2257,PARAMETROS!$I$3:$J$21,2,FALSE))","v":""},null,null,null,null,null,null,""]
[null,{"$f":"IF(A2258=\"\",\"\",VLOOKUP(A2258,PARAMETROS!$B$3:$C$3,2,FALSE))","v":""},null,{"$f":"IF(C2258=\"\",\"\",VLOOKUP(C2258,PARAMETROS!$G$3:$H$21,2,FALSE))","v":""},null,{"$f":"IF(E2258=\"\",\"\",VLOOKUP(E2258,PARAMETROS!$I$3:$J$21,2,FALSE))","v":""},null,null,null,null,null,null,""]
[null,{"$f":"IF(A2259=\"\",\"\",VLOOKUP(A2259,PARAMETROS!$B$3:$C$3,2,FALSE))","v":""},null,{"$f":"IF(C2259=\"\",\"\",VLOOKUP(C2259,PARAMETROS!$G$3:$H$21,2,FALSE))","v":""},null,{"$f":"IF(E2259=\"\",\"\",VLOOKUP(E2259,PARAMETROS!$I$3:$J$21,2,FALSE))","v":""},null,null,null,null,null,null,""]
[null,{"$f":"IF(A2260=\"\",\"\",VLOOKUP(A2260,PARAMETROS!$B$3:$C$3,2,FALSE))","v":""},null,{"$f":"IF(C2260=\"\",\"\",VLOOKUP(C2260,PARAMETROS!$G$3:$H$21,2,FALSE))","v":""},null,{"$f":"IF(E2260=\"\",\"\",VLOOKUP(E2260,PARAMETROS!$I$3:$J$21,2,FALSE))","v":""},null,null,null,null,null,null,""]
[null,{"$f":"IF(A2261=\"\",\"\",VLOOKUP(A2261,PARAMETROS!$B$3:$C$3,2,FALSE))","v":""},null,{"$f":"IF(C2261=\"\",\"\",VLOOKUP(C2261,PARAMETROS!$G$3:$H$21,2,FALSE))","v":""},null,{"$f":"IF(E2261=\"\",\"\",VLOOKUP(E2261,PARAMETROS!$I$3:$J$21,2,FALSE))","v":""},null,null,null,null,null,null,""]
[null,{"$f":"IF(A2262=\"\",\"\",VLOOKUP(A2262,PARAMETROS!$B$3:$C$3,2,FALSE))","v":""},null,{"$f":"IF(C2262=\"\",\"\",VLOOKUP(C2262,PARAMETROS!$G$3:$H$21,2,FALSE))","v":""},null,{"$f":"IF(E2262=\"\",\"\",VLOOKUP(E2262,PARAMETROS!$I$3:$J$21,2,FALSE))","v":""},null,null,null,null,null,null,""]
[null,{"$f":"IF(A2263=\"\",\"\",VLOOKUP(A2263,PARAMETROS!$B$3:$C$3,2,FALSE))","v":""},null,{"$f":"IF(C2263=\"\",\"\",VLOOKUP(C2263,PARAMETROS!$G$3:$H$21,2,FALSE))","v":""},null,{"$f":"IF(E2263=\"\",\"\",VLOOKUP(E2263,PARAMETROS!$I$3:$J$21,2,FALSE))","v":""},null,null,null,null,null,null,""]
[null,{"$f":"IF(A2264=\"\",\"\",VLOOKUP(A2264,PARAMETROS!$B$3:$C$3,2,FALSE))","v":""},null,{"$f":"IF(C2264=\"\",\"\",VLOOKUP(C2264,PARAMETROS!$G$3:$H$21,2,FALSE))","v":""},null,{"$f":"IF(E2264=\"\",\"\",VLOOKUP(E2264,PARAMETROS!$I$3:$J$21,2,FALSE))","v":""},null,null,null,null,null,null,""]
[null,{"$f":"IF(A2265=\"\",\"\",VLOOKUP(A2265,PARAMETROS!$B$3:$C$3,2,FALSE))","v":""},null,{"$f":"IF(C2265=\"\",\"\",VLOOKUP(C2265,PARAMETROS!$G$3:$H$21,2,FALSE))","v":""},null,{"$f":"IF(E2265=\"\",\"\",VLOOKUP(E2265,PARAMETROS!$I$3:$J$21,2,FALSE))","v":""},null,null,null,null,null,null,""]
[null,{"$f":"IF(A2266=\"\",\"\",VLOOKUP(A2266,PARAMETROS!$B$3:$C$3,2,FALSE))","v":""},null,{"$f":"IF(C2266=\"\",\"\",VLOOKUP(C2266,PARAMETROS!$G$3:$H$21,2,FALSE))","v":""},null,{"$f":"IF(E2266=\"\",\"\",VLOOKUP(E2266,PARAMETROS!$I$3:$J$21,2,FALSE))","v":""},null,null,null,null,null,null,""]
[null,{"$f":"IF(A2267=\"\",\"\",VLOOKUP(A2267,PARAMETROS!$B$3:$C$3,2,FALSE))","v":""},null,{"$f":"IF(C2267=\"\",\"\",VLOOKUP(C2267,PARAMETROS!$G$3:$H$21,2,FALSE))","v":""},null,{"$f":"IF(E2267=\"\",\"\",VLOOKUP(E2267,PARAMETROS!$I$3:$J$21,2,FALSE))","v":""},null,null,null,null,null,null,""]
[null,{"$f":"IF(A2268=\"\",\"\",VLOOKUP(A2268,PARAMETROS!$B$3:$C$3,2,FALSE))","v":""},null,{"$f":"IF(C2268=\"\",\"\",VLOOKUP(C2268,PARAMETROS!$G$3:$H$21,2,FALSE))","v":""},null,{"$f":"IF(E2268=\"\",\"\",VLOOKUP(E2268,PARAMETROS!$I$3:$J$21,2,FALSE))","v":""},null,null,null,null,null,null,""]
[null,{"$f":"IF(A2269=\"\",\"\",VLOOKUP(A2269,PARAMETROS!$B$3:$C$3,2,FALSE))","v":""},null,{"$f":"IF(C2269=\"\",\"\",VLOOKUP(C2269,PARAMETROS!$G$3:$H$21,2,FALSE))","v":""},null,{"$f":"IF(E2269=\"\",\"\",VLOOKUP(E2269,PARAMETROS!$I$3:$J$21,2,FALSE))","v":""},null,null,null,null,null,null,""]
[null,{"$f":"IF(A2270=\"\",\"\",VLOOKUP(A2270,PARAMETROS!$B$3:$C$3,2,FALSE))","v":""},null,{"$f":"IF(C2270=\"\",\"\",VLOOKUP(C2270,PARAMETROS!$G$3:$H$21,2,FALSE))","v":""},null,{"$f":"IF(E2270=\"\",\"\",VLOOKUP(E2270,PARAMETROS!$I$3:$J$21,2,FALSE))","v":""},null,null,null,null,null,null,""]
[null,{"$f":"IF(A2271=\"\",\"\",VLOOKUP(A2271,PARAMETROS!$B$3:$C$3,2,FALSE))","v":""},null,{"$f":"IF(C2271=\"\",\"\",VLOOKUP(C2271,PARAMETROS!$G$3:$H$21,2,FALSE))","v":""},null,{"$f":"IF(E2271=\"\",\"\",VLOOKUP(E2271,PARAMETROS!$I$3:$J$21,2,FALSE))","v":""},null,null,null,null,null,null,""]
[null,{"$f":"IF(A2272=\"\",\"\",VLOOKUP(A2272,PARAMETROS!$B$3:$C$3,2,FALSE))","v":""},null,{"$f":"IF(C2272=\"\",\"\",VLOOKUP(C2272,PARAMETROS!$G$3:$H$21,2,FALSE))","v":""},null,{"$f":"IF(E2272=\"\",\"\",VLOOKUP(E2272,PARAMETROS!$I$3:$J$21,2,FALSE))","v":""},null,null,null,null,null,null,""]
[null,{"$f":"IF(A2273=\"\",\"\",VLOOKUP(A2273,PARAMETROS!$B$3:$C$3,2,FALSE))","v":""},null,{"$f":"IF(C2273=\"\",\"\",VLOOKUP(C2273,PARAMETROS!$G$3:$H$21,2,FALSE))","v":""},null,{"$f":"IF(E2273=\"\",\"\",VLOOKUP(E2273,PARAMETROS!$I$3:$J$21,2,FALSE))","v":""},null,null,null,null,null,null,""]
[null,{"$f":"IF(A2274=\"\",\"\",VLOOKUP(A2274,PARAMETROS!$B$3:$C$3,2,FALSE))","v":""},null,{"$f":"IF(C2274=\"\",\"\",VLOOKUP(C2274,PARAMETROS!$G$3:$H$21,2,FALSE))","v":""},null,{"$f":"IF(E2274=\"\",\"\",VLOOKUP(E2274,PARAMETROS!$I$3:$J$21,2,FALSE))","v":""},null,null,null,null,null,null,""]
[null,{"$f":"IF(A2275=\"\",\"\",VLOOKUP(A2275,PARAMETROS!$B$3:$C$3,2,FALSE))","v":""},null,{"$f":"IF(C2275=\"\",\"\",VLOOKUP(C2275,PARAMETROS!$G$3:$H$21,2,FALSE))","v":""},null,{"$f":"IF(E2275=\"\",\"\",VLOOKUP(E2275,PARAMETROS!$I$3:$J$21,2,FALSE))","v":""},null,null,null,null,null,null,""]
[null,{"$f":"IF(A2276=\"\",\"\",VLOOKUP(A2276,PARAMETROS!$B$3:$C$3,2,FALSE))","v":""},null,{"$f":"IF(C2276=\"\",\"\",VLOOKUP(C2276,PARAMETROS!$G$3:$H$21,2,FALSE))","v":""},null,{"$f":"IF(E2276=\"\",\"\",VLOOKUP(E2276,PARAMETROS!$I$3:$J$21,2,FALSE))","v":""},null,null,null,null,null,null,""]
[null,{"$f":"IF(A2277=\"\",\"\",VLOOKUP(A2277,PARAMETROS!$B$3:$C$3,2,FALSE))","v":""},null,{"$f":"IF(C2277=\"\",\"\",VLOOKUP(C2277,PARAMETROS!$G$3:$H$21,2,FALSE))","v":""},null,{"$f":"IF(E2277=\"\",\"\",VLOOKUP(E2277,PARAMETROS!$I$3:$J$21,2,FALSE))","v":""},null,null,null,null,null,null,""]
[null,{"$f":"IF(A2278=\"\",\"\",VLOOKUP(A2278,PARAMETROS!$B$3:$C$3,2,FALSE))","v":""},null,{"$f":"IF(C2278=\"\",\"\",VLOOKUP(C2278,PARAMETROS!$G$3:$H$21,2,FALSE))","v":""},null,{"$f":"IF(E2278=\"\",\"\",VLOOKUP(E2278,PARAMETROS!$I$3:$J$21,2,FALSE))","v":""},null,null,null,null,null,null,""]
[null,{"$f":"IF(A2279=\"\",\"\",VLOOKUP(A2279,PARAMETROS!$B$3:$C$3,2,FALSE))","v":""},null,{"$f":"IF(C2279=\"\",\"\",VLOOKUP(C2279,PARAMETROS!$G$3:$H$21,2,FALSE))","v":""},null,{"$f":"IF(E2279=\"\",\"\",VLOOKUP(E2279,PARAMETROS!$I$3:$J$21,2,FALSE))","v":""},null,null,null,null,null,null,""]
[null,{"$f":"IF(A2280=\"\",\"\",VLOOKUP(A2280,PARAMETROS!$B$3:$C$3,2,FALSE))","v":""},null,{"$f":"IF(C2280=\"\",\"\",VLOOKUP(C2280,PARAMETROS!$G$3:$H$21,2,FALSE))","v":""},null,{"$f":"IF(E2280=\"\",\"\",VLOOKUP(E2280,PARAMETROS!$I$3:$J$21,2,FALSE))","v":""},null,null,null,null,null,null,""]
[null,{"$f":"IF(A2281=\"\",\"\",VLOOKUP(A2281,PARAMETROS!$B$3:$C$3,2,FALSE))","v":""},null,{"$f":"IF(C2281=\"\",\"\",VLOOKUP(C2281,PARAMETROS!$G$3:$H$21,2,FALSE))","v":""},null,{"$f":"IF(E2281=\"\",\"\",VLOOKUP(E2281,PARAMETROS!$I$3:$J$21,2,FALSE))","v":""},null,null,null,null,null,null,""]
[null,{"$f":"IF(A2282=\"\",\"\",VLOOKUP(A2282,PARAMETROS!$B$3:$C$3,2,FALSE))","v":""},null,{"$f":"IF(C2282=\"\",\"\",VLOOKUP(C2282,PARAMETROS!$G$3:$H$21,2,FALSE))","v":""},null,{"$f":"IF(E2282=\"\",\"\",VLOOKUP(E2282,PARAMETROS!$I$3:$J$21,2,FALSE))","v":""},null,null,null,null,null,null,""]
[null,{"$f":"IF(A2283=\"\",\"\",VLOOKUP(A2283,PARAMETROS!$B$3:$C$3,2,FALSE))","v":""},null,{"$f":"IF(C2283=\"\",\"\",VLOOKUP(C2283,PARAMETROS!$G$3:$H$21,2,FALSE))","v":""},null,{"$f":"IF(E2283=\"\",\"\",VLOOKUP(E2283,PARAMETROS!$I$3:$J$21,2,FALSE))","v":""},null,null,null,null,null,null,""]
[null,{"$f":"IF(A2284=\"\",\"\",VLOOKUP(A2284,PARAMETROS!$B$3:$C$3,2,FALSE))","v":""},null,{"$f":"IF(C2284=\"\",\"\",VLOOKUP(C2284,PARAMETROS!$G$3:$H$21,2,FALSE))","v":""},null,{"$f":"IF(E2284=\"\",\"\",VLOOKUP(E2284,PARAMETROS!$I$3:$J$21,2,FALSE))","v":""},null,null,null,null,null,null,""]
[null,{"$f":"IF(A2285=\"\",\"\",VLOOKUP(A2285,PARAMETROS!$B$3:$C$3,2,FALSE))","v":""},null,{"$f":"IF(C2285=\"\",\"\",VLOOKUP(C2285,PARAMETROS!$G$3:$H$21,2,FALSE))","v":""},null,{"$f":"IF(E2285=\"\",\"\",VLOOKUP(E2285,PARAMETROS!$I$3:$J$21,2,FALSE))","v":""},null,null,null,null,null,null,""]
[null,{"$f":"IF(A2286=\"\",\"\",VLOOKUP(A2286,PARAMETROS!$B$3:$C$3,2,FALSE))","v":""},null,{"$f":"IF(C2286=\"\",\"\",VLOOKUP(C2286,PARAMETROS!$G$3:$H$21,2,FALSE))","v":""},null,{"$f":"IF(E2286=\"\",\"\",VLOOKUP(E2286,PARAMETROS!$I$3:$J$21,2,FALSE))","v":""},null,null,null,null,null,null,""]
[null,{"$f":"IF(A2287=\"\",\"\",VLOOKUP(A2287,PARAMETROS!$B$3:$C$3,2,FALSE))","v":""},null,{"$f":"IF(C2287=\"\",\"\",VLOOKUP(C2287,PARAMETROS!$G$3:$H$21,2,FALSE))","v":""},null,{"$f":"IF(E2287=\"\",\"\",VLOOKUP(E2287,PARAMETROS!$I$3:$J$21,2,FALSE))","v":""},null,null,null,null,null,null,""]
[null,{"$f":"IF(A2288=\"\",\"\",VLOOKUP(A2288,PARAMETROS!$B$3:$C$3,2,FALSE))","v":""},null,{"$f":"IF(C2288=\"\",\"\",VLOOKUP(C2288,PARAMETROS!$G$3:$H$21,2,FALSE))","v":""},null,{"$f":"IF(E2288=\"\",\"\",VLOOKUP(E2288,PARAMETROS!$I$3:$J$21,2,FALSE))","v":""},null,null,null,null,null,null,""]
[null,{"$f":"IF(A2289=\"\",\"\",VLOOKUP(A2289,PARAMETROS!$B$3:$C$3,2,FALSE))","v":""},null,{"$f":"IF(C2289=\"\",\"\",VLOOKUP(C2289,PARAMETROS!$G$3:$H$21,2,FALSE))","v":""},null,{"$f":"IF(E2289=\"\",\"\",VLOOKUP(E2289,PARAMETROS!$I$3:$J$21,2,FALSE))","v":""},null,null,null,null,null,null,""]
[null,{"$f":"IF(A2290=\"\",\"\",VLOOKUP(A2290,PARAMETROS!$B$3:$C$3,2,FALSE))","v":""},null,{"$f":"IF(C2290=\"\",\"\",VLOOKUP(C2290,PARAMETROS!$G$3:$H$21,2,FALSE))","v":""},null,{"$f":"IF(E2290=\"\",\"\",VLOOKUP(E2290,PARAMETROS!$I$3:$J$21,2,FALSE))","v":""},null,null,null,null,null,null,""]
[null,{"$f":"IF(A2291=\"\",\"\",VLOOKUP(A2291,PARAMETROS!$B$3:$C$3,2,FALSE))","v":""},null,{"$f":"IF(C2291=\"\",\"\",VLOOKUP(C2291,PARAMETROS!$G$3:$H$21,2,FALSE))","v":""},null,{"$f":"IF(E2291=\"\",\"\",VLOOKUP(E2291,PARAMETROS!$I$3:$J$21,2,FALSE))","v":""},null,null,null,null,null,null,""]
[null,{"$f":"IF(A2292=\"\",\"\",VLOOKUP(A2292,PARAMETROS!$B$3:$C$3,2,FALSE))","v":""},null,{"$f":"IF(C2292=\"\",\"\",VLOOKUP(C2292,PARAMETROS!$G$3:$H$21,2,FALSE))","v":""},null,{"$f":"IF(E2292=\"\",\"\",VLOOKUP(E2292,PARAMETROS!$I$3:$J$21,2,FALSE))","v":""},null,null,null,null,null,null,""]
[null,{"$f":"IF(A2293=\"\",\"\",VLOOKUP(A2293,PARAMETROS!$B$3:$C$3,2,FALSE))","v":""},null,{"$f":"IF(C2293=\"\",\"\",VLOOKUP(C2293,PARAMETROS!$G$3:$H$21,2,FALSE))","v":""},null,{"$f":"IF(E2293=\"\",\"\",VLOOKUP(E2293,PARAMETROS!$I$3:$J$21,2,FALSE))","v":""},null,null,null,null,null,null,""]
[null,{"$f":"IF(A2294=\"\",\"\",VLOOKUP(A2294,PARAMETROS!$B$3:$C$3,2,FALSE))","v":""},null,{"$f":"IF(C2294=\"\",\"\",VLOOKUP(C2294,PARAMETROS!$G$3:$H$21,2,FALSE))","v":""},null,{"$f":"IF(E2294=\"\",\"\",VLOOKUP(E2294,PARAMETROS!$I$3:$J$21,2,FALSE))","v":""},null,null,null,null,null,null,""]
[null,{"$f":"IF(A2295=\"\",\"\",VLOOKUP(A2295,PARAMETROS!$B$3:$C$3,2,FALSE))","v":""},null,{"$f":"IF(C2295=\"\",\"\",VLOOKUP(C2295,PARAMETROS!$G$3:$H$21,2,FALSE))","v":""},null,{"$f":"IF(E2295=\"\",\"\",VLOOKUP(E2295,PARAMETROS!$I$3:$J$21,2,FALSE))","v":""},null,null,null,null,null,null,""]
[null,{"$f":"IF(A2296=\"\",\"\",VLOOKUP(A2296,PARAMETROS!$B$3:$C$3,2,FALSE))","v":""},null,{"$f":"IF(C2296=\"\",\"\",VLOOKUP(C2296,PARAMETROS!$G$3:$H$21,2,FALSE))","v":""},null,{"$f":"IF(E2296=\"\",\"\",VLOOKUP(E2296,PARAMETROS!$I$3:$J$21,2,FALSE))","v":""},null,null,null,null,null,null,""]
[null,{"$f":"IF(A2297=\"\",\"\",VLOOKUP(A2297,PARAMETROS!$B$3:$C$3,2,FALSE))","v":""},null,{"$f":"IF(C2297=\"\",\"\",VLOOKUP(C2297,PARAMETROS!$G$3:$H$21,2,FALSE))","v":""},null,{"$f":"IF(E2297=\"\",\"\",VLOOKUP(E2297,PARAMETROS!$I$3:$J$21,2,FALSE))","v":""},null,null,null,null,null,null,""]
[null,{"$f":"IF(A2298=\"\",\"\",VLOOKUP(A2298,PARAMETROS!$B$3:$C$3,2,FALSE))","v":""},null,{"$f":"IF(C2298=\"\",\"\",VLOOKUP(C2298,PARAMETROS!$G$3:$H$21,2,FALSE))","v":""},null,{"$f":"IF(E2298=\"\",\"\",VLOOKUP(E2298,PARAMETROS!$I$3:$J$21,2,FALSE))","v":""},null,null,null,null,null,null,""]
[null,{"$f":"IF(A2299=\"\",\"\",VLOOKUP(A2299,PARAMETROS!$B$3:$C$3,2,FALSE))","v":""},null,{"$f":"IF(C2299=\"\",\"\",VLOOKUP(C2299,PARAMETROS!$G$3:$H$21,2,FALSE))","v":""},null,{"$f":"IF(E2299=\"\",\"\",VLOOKUP(E2299,PARAMETROS!$I$3:$J$21,2,FALSE))","v":""},null,null,null,null,null,null,""]
[null,{"$f":"IF(A2300=\"\",\"\",VLOOKUP(A2300,PARAMETROS!$B$3:$C$3,2,FALSE))","v":""},null,{"$f":"IF(C2300=\"\",\"\",VLOOKUP(C2300,PARAMETROS!$G$3:$H$21,2,FALSE))","v":""},null,{"$f":"IF(E2300=\"\",\"\",VLOOKUP(E2300,PARAMETROS!$I$3:$J$21,2,FALSE))","v":""},null,null,null,null,null,null,""]
[null,{"$f":"IF(A2301=\"\",\"\",VLOOKUP(A2301,PARAMETROS!$B$3:$C$3,2,FALSE))","v":""},null,{"$f":"IF(C2301=\"\",\"\",VLOOKUP(C2301,PARAMETROS!$G$3:$H$21,2,FALSE))","v":""},null,{"$f":"IF(E2301=\"\",\"\",VLOOKUP(E2301,PARAMETROS!$I$3:$J$21,2,FALSE))","v":""},null,null,null,null,null,null,""]
[null,{"$f":"IF(A2302=\"\",\"\",VLOOKUP(A2302,PARAMETROS!$B$3:$C$3,2,FALSE))","v":""},null,{"$f":"IF(C2302=\"\",\"\",VLOOKUP(C2302,PARAMETROS!$G$3:$H$21,2,FALSE))","v":""},null,{"$f":"IF(E2302=\"\",\"\",VLOOKUP(E2302,PARAMETROS!$I$3:$J$21,2,FALSE))","v":""},null,null,null,null,null,null,""]
[null,{"$f":"IF(A2303=\"\",\"\",VLOOKUP(A2303,PARAMETROS!$B$3:$C$3,2,FALSE))","v":""},null,{"$f":"IF(C2303=\"\",\"\",VLOOKUP(C2303,PARAMETROS!$G$3:$H$21,2,FALSE))","v":""},null,{"$f":"IF(E2303=\"\",\"\",VLOOKUP(E2303,PARAMETROS!$I$3:$J$21,2,FALSE))","v":""},null,null,null,null,null,null,""]
[null,{"$f":"IF(A2304=\"\",\"\",VLOOKUP(A2304,PARAMETROS!$B$3:$C$3,2,FALSE))","v":""},null,{"$f":"IF(C2304=\"\",\"\",VLOOKUP(C2304,PARAMETROS!$G$3:$H$21,2,FALSE))","v":""},null,{"$f":"IF(E2304=\"\",\"\",VLOOKUP(E2304,PARAMETROS!$I$3:$J$21,2,FALSE))","v":""},null,null,null,null,null,null,""]
[null,{"$f":"IF(A2305=\"\",\"\",VLOOKUP(A2305,PARAMETROS!$B$3:$C$3,2,FALSE))","v":""},null,{"$f":"IF(C2305=\"\",\"\",VLOOKUP(C2305,PARAMETROS!$G$3:$H$21,2,FALSE))","v":""},null,{"$f":"IF(E2305=\"\",\"\",VLOOKUP(E2305,PARAMETROS!$I$3:$J$21,2,FALSE))","v":""},null,null,null,null,null,null,""]
[null,{"$f":"IF(A2306=\"\",\"\",VLOOKUP(A2306,PARAMETROS!$B$3:$C$3,2,FALSE))","v":""},null,{"$f":"IF(C2306=\"\",\"\",VLOOKUP(C2306,PARAMETROS!$G$3:$H$21,2,FALSE))","v":""},null,{"$f":"IF(E2306=\"\",\"\",VLOOKUP(E2306,PARAMETROS!$I$3:$J$21,2,FALSE))","v":""},null,null,null,null,null,null,""]
[null,{"$f":"IF(A2307=\"\",\"\",VLOOKUP(A2307,PARAMETROS!$B$3:$C$3,2,FALSE))","v":""},null,{"$f":"IF(C2307=\"\",\"\",VLOOKUP(C2307,PARAMETROS!$G$3:$H$21,2,FALSE))","v":""},null,{"$f":"IF(E2307=\"\",\"\",VLOOKUP(E2307,PARAMETROS!$I$3:$J$21,2,FALSE))","v":""},null,null,null,null,null,null,""]
[null,{"$f":"IF(A2308=\"\",\"\",VLOOKUP(A2308,PARAMETROS!$B$3:$C$3,2,FALSE))","v":""},null,{"$f":"IF(C2308=\"\",\"\",VLOOKUP(C2308,PARAMETROS!$G$3:$H$21,2,FALSE))","v":""},null,{"$f":"IF(E2308=\"\",\"\",VLOOKUP(E2308,PARAMETROS!$I$3:$J$21,2,FALSE))","v":""},null,null,null,null,null,null,""]
[null,{"$f":"IF(A2309=\"\",\"\",VLOOKUP(A2309,PARAMETROS!$B$3:$C$3,2,FALSE))","v":""},null,{"$f":"IF(C2309=\"\",\"\",VLOOKUP(C2309,PARAMETROS!$G$3:$H$21,2,FALSE))","v":""},null,{"$f":"IF(E2309=\"\",\"\",VLOOKUP(E2309,PARAMETROS!$I$3:$J$21,2,FALSE))","v":""},null,null,null,null,null,null,""]
[null,{"$f":"IF(A2310=\"\",\"\",VLOOKUP(A2310,PARAMETROS!$B$3:$C$3,2,FALSE))","v":""},null,{"$f":"IF(C2310=\"\",\"\",VLOOKUP(C2310,PARAMETROS!$G$3:$H$21,2,FALSE))","v":""},null,{"$f":"IF(E2310=\"\",\"\",VLOOKUP(E2310,PARAMETROS!$I$3:$J$21,2,FALSE))","v":""},null,null,null,null,null,null,""]
[null,{"$f":"IF(A2311=\"\",\"\",VLOOKUP(A2311,PARAMETROS!$B$3:$C$3,2,FALSE))","v":""},null,{"$f":"IF(C2311=\"\",\"\",VLOOKUP(C2311,PARAMETROS!$G$3:$H$21,2,FALSE))","v":""},null,{"$f":"IF(E2311=\"\",\"\",VLOOKUP(E2311,PARAMETROS!$I$3:$J$21,2,FALSE))","v":""},null,null,null,null,null,null,""]
[null,{"$f":"IF(A2312=\"\",\"\",VLOOKUP(A2312,PARAMETROS!$B$3:$C$3,2,FALSE))","v":""},null,{"$f":"IF(C2312=\"\",\"\",VLOOKUP(C2312,PARAMETROS!$G$3:$H$21,2,FALSE))","v":""},null,{"$f":"IF(E2312=\"\",\"\",VLOOKUP(E2312,PARAMETROS!$I$3:$J$21,2,FALSE))","v":""},null,null,null,null,null,null,""]
[null,{"$f":"IF(A2313=\"\",\"\",VLOOKUP(A2313,PARAMETROS!$B$3:$C$3,2,FALSE))","v":""},null,{"$f":"IF(C2313=\"\",\"\",VLOOKUP(C2313,PARAMETROS!$G$3:$H$21,2,FALSE))","v":""},null,{"$f":"IF(E2313=\"\",\"\",VLOOKUP(E2313,PARAMETROS!$I$3:$J$21,2,FALSE))","v":""},null,null,null,null,null,null,""]
[null,{"$f":"IF(A2314=\"\",\"\",VLOOKUP(A2314,PARAMETROS!$B$3:$C$3,2,FALSE))","v":""},null,{"$f":"IF(C2314=\"\",\"\",VLOOKUP(C2314,PARAMETROS!$G$3:$H$21,2,FALSE))","v":""},null,{"$f":"IF(E2314=\"\",\"\",VLOOKUP(E2314,PARAMETROS!$I$3:$J$21,2,FALSE))","v":""},null,null,null,null,null,null,""]
[null,{"$f":"IF(A2315=\"\",\"\",VLOOKUP(A2315,PARAMETROS!$B$3:$C$3,2,FALSE))","v":""},null,{"$f":"IF(C2315=\"\",\"\",VLOOKUP(C2315,PARAMETROS!$G$3:$H$21,2,FALSE))","v":""},null,{"$f":"IF(E2315=\"\",\"\",VLOOKUP(E2315,PARAMETROS!$I$3:$J$21,2,FALSE))","v":""},null,null,null,null,null,null,""]
[null,{"$f":"IF(A2316=\"\",\"\",VLOOKUP(A2316,PARAMETROS!$B$3:$C$3,2,FALSE))","v":""},null,{"$f":"IF(C2316=\"\",\"\",VLOOKUP(C2316,PARAMETROS!$G$3:$H$21,2,FALSE))","v":""},null,{"$f":"IF(E2316=\"\",\"\",VLOOKUP(E2316,PARAMETROS!$I$3:$J$21,2,FALSE))","v":""},null,null,null,null,null,null,""]
[null,{"$f":"IF(A2317=\"\",\"\",VLOOKUP(A2317,PARAMETROS!$B$3:$C$3,2,FALSE))","v":""},null,{"$f":"IF(C2317=\"\",\"\",VLOOKUP(C2317,PARAMETROS!$G$3:$H$21,2,FALSE))","v":""},null,{"$f":"IF(E2317=\"\",\"\",VLOOKUP(E2317,PARAMETROS!$I$3:$J$21,2,FALSE))","v":""},null,null,null,null,null,null,""]
[null,{"$f":"IF(A2318=\"\",\"\",VLOOKUP(A2318,PARAMETROS!$B$3:$C$3,2,FALSE))","v":""},null,{"$f":"IF(C2318=\"\",\"\",VLOOKUP(C2318,PARAMETROS!$G$3:$H$21,2,FALSE))","v":""},null,{"$f":"IF(E2318=\"\",\"\",VLOOKUP(E2318,PARAMETROS!$I$3:$J$21,2,FALSE))","v":""},null,null,null,null,null,null,""]
[null,{"$f":"IF(A2319=\"\",\"\",VLOOKUP(A2319,PARAMETROS!$B$3:$C$3,2,FALSE))","v":""},null,{"$f":"IF(C2319=\"\",\"\",VLOOKUP(C2319,PARAMETROS!$G$3:$H$21,2,FALSE))","v":""},null,{"$f":"IF(E2319=\"\",\"\",VLOOKUP(E2319,PARAMETROS!$I$3:$J$21,2,FALSE))","v":""},null,null,null,null,null,null,{"$f":"IF(L2319=\"\", \"\", L2319)","v":""}]
[null,{"$f":"IF(A2320=\"\",\"\",VLOOKUP(A2320,PARAMETROS!$B$3:$C$3,2,FALSE))","v":""},null,{"$f":"IF(C2320=\"\",\"\",VLOOKUP(C2320,PARAMETROS!$G$3:$H$21,2,FALSE))","v":""},null,{"$f":"IF(E2320=\"\",\"\",VLOOKUP(E2320,PARAMETROS!$I$3:$J$21,2,FALSE))","v":""},null,null,null,null,null,null,""]
[null,{"$f":"IF(A2321=\"\",\"\",VLOOKUP(A2321,PARAMETROS!$B$3:$C$3,2,FALSE))","v":""},null,{"$f":"IF(C2321=\"\",\"\",VLOOKUP(C2321,PARAMETROS!$G$3:$H$21,2,FALSE))","v":""},null,{"$f":"IF(E2321=\"\",\"\",VLOOKUP(E2321,PARAMETROS!$I$3:$J$21,2,FALSE))","v":""},null,null,null,null,null,null,""]
[null,{"$f":"IF(A2322=\"\",\"\",VLOOKUP(A2322,PARAMETROS!$B$3:$C$3,2,FALSE))","v":""},null,{"$f":"IF(C2322=\"\",\"\",VLOOKUP(C2322,PARAMETROS!$G$3:$H$21,2,FALSE))","v":""},null,{"$f":"IF(E2322=\"\",\"\",VLOOKUP(E2322,PARAMETROS!$I$3:$J$21,2,FALSE))","v":""},null,null,null,null,null,null,""]
[null,{"$f":"IF(A2323=\"\",\"\",VLOOKUP(A2323,PARAMETROS!$B$3:$C$3,2,FALSE))","v":""},null,{"$f":"IF(C2323=\"\",\"\",VLOOKUP(C2323,PARAMETROS!$G$3:$H$21,2,FALSE))","v":""},null,{"$f":"IF(E2323=\"\",\"\",VLOOKUP(E2323,PARAMETROS!$I$3:$J$21,2,FALSE))","v":""},null,null,null,null,null,null,""]
[null,{"$f":"IF(A2324=\"\",\"\",VLOOKUP(A2324,PARAMETROS!$B$3:$C$3,2,FALSE))","v":""},null,{"$f":"IF(C2324=\"\",\"\",VLOOKUP(C2324,PARAMETROS!$G$3:$H$21,2,FALSE))","v":""},null,{"$f":"IF(E2324=\"\",\"\",VLOOKUP(E2324,PARAMETROS!$I$3:$J$21,2,FALSE))","v":""},null,null,null,null,null,null,""]
[null,{"$f":"IF(A2325=\"\",\"\",VLOOKUP(A2325,PARAMETROS!$B$3:$C$3,2,FALSE))","v":""},null,{"$f":"IF(C2325=\"\",\"\",VLOOKUP(C2325,PARAMETROS!$G$3:$H$21,2,FALSE))","v":""},null,{"$f":"IF(E2325=\"\",\"\",VLOOKUP(E2325,PARAMETROS!$I$3:$J$21,2,FALSE))","v":""},null,null,null,null,null,null,""]
[null,{"$f":"IF(A2326=\"\",\"\",VLOOKUP(A2326,PARAMETROS!$B$3:$C$3,2,FALSE))","v":""},null,{"$f":"IF(C2326=\"\",\"\",VLOOKUP(C2326,PARAMETROS!$G$3:$H$21,2,FALSE))","v":""},null,{"$f":"IF(E2326=\"\",\"\",VLOOKUP(E2326,PARAMETROS!$I$3:$J$21,2,FALSE))","v":""},null,null,null,null,null,null,""]
[null,{"$f":"IF(A2327=\"\",\"\",VLOOKUP(A2327,PARAMETROS!$B$3:$C$3,2,FALSE))","v":""},null,{"$f":"IF(C2327=\"\",\"\",VLOOKUP(C2327,PARAMETROS!$G$3:$H$21,2,FALSE))","v":""},null,{"$f":"IF(E2327=\"\",\"\",VLOOKUP(E2327,PARAMETROS!$I$3:$J$21,2,FALSE))","v":""},null,null,null,null,null,null,""]
[null,{"$f":"IF(A2328=\"\",\"\",VLOOKUP(A2328,PARAMETROS!$B$3:$C$3,2,FALSE))","v":""},null,{"$f":"IF(C2328=\"\",\"\",VLOOKUP(C2328,PARAMETROS!$G$3:$H$21,2,FALSE))","v":""},null,{"$f":"IF(E2328=\"\",\"\",VLOOKUP(E2328,PARAMETROS!$I$3:$J$21,2,FALSE))","v":""},null,null,null,null,null,null,""]
[null,{"$f":"IF(A2329=\"\",\"\",VLOOKUP(A2329,PARAMETROS!$B$3:$C$3,2,FALSE))","v":""},null,{"$f":"IF(C2329=\"\",\"\",VLOOKUP(C2329,PARAMETROS!$G$3:$H$21,2,FALSE))","v":""},null,{"$f":"IF(E2329=\"\",\"\",VLOOKUP(E2329,PARAMETROS!$I$3:$J$21,2,FALSE))","v":""},null,null,null,null,null,null,""]
[null,{"$f":"IF(A2330=\"\",\"\",VLOOKUP(A2330,PARAMETROS!$B$3:$C$3,2,FALSE))","v":""},null,{"$f":"IF(C2330=\"\",\"\",VLOOKUP(C2330,PARAMETROS!$G$3:$H$21,2,FALSE))","v":""},null,{"$f":"IF(E2330=\"\",\"\",VLOOKUP(E2330,PARAMETROS!$I$3:$J$21,2,FALSE))","v":""},null,null,null,null,null,null,""]
[null,{"$f":"IF(A2331=\"\",\"\",VLOOKUP(A2331,PARAMETROS!$B$3:$C$3,2,FALSE))","v":""},null,{"$f":"IF(C2331=\"\",\"\",VLOOKUP(C2331,PARAMETROS!$G$3:$H$21,2,FALSE))","v":""},null,{"$f":"IF(E2331=\"\",\"\",VLOOKUP(E2331,PARAMETROS!$I$3:$J$21,2,FALSE))","v":""},null,null,null,null,null,null,""]
[null,{"$f":"IF(A2332=\"\",\"\",VLOOKUP(A2332,PARAMETROS!$B$3:$C$3,2,FALSE))","v":""},null,{"$f":"IF(C2332=\"\",\"\",VLOOKUP(C2332,PARAMETROS!$G$3:$H$21,2,FALSE))","v":""},null,{"$f":"IF(E2332=\"\",\"\",VLOOKUP(E2332,PARAMETROS!$I$3:$J$21,2,FALSE))","v":""},null,null,null,null,null,null,""]
[null,{"$f":"IF(A2333=\"\",\"\",VLOOKUP(A2333,PARAMETROS!$B$3:$C$3,2,FALSE))","v":""},null,{"$f":"IF(C2333=\"\",\"\",VLOOKUP(C2333,PARAMETROS!$G$3:$H$21,2,FALSE))","v":""},null,{"$f":"IF(E2333=\"\",\"\",VLOOKUP(E2333,PARAMETROS!$I$3:$J$21,2,FALSE))","v":""},null,null,null,null,null,null,""]
[null,{"$f":"IF(A2334=\"\",\"\",VLOOKUP(A2334,PARAMETROS!$B$3:$C$3,2,FALSE))","v":""},null,{"$f":"IF(C2334=\"\",\"\",VLOOKUP(C2334,PARAMETROS!$G$3:$H$21,2,FALSE))","v":""},null,{"$f":"IF(E2334=\"\",\"\",VLOOKUP(E2334,PARAMETROS!$I$3:$J$21,2,FALSE))","v":""},null,null,null,null,null,null,""]
[null,{"$f":"IF(A2335=\"\",\"\",VLOOKUP(A2335,PARAMETROS!$B$3:$C$3,2,FALSE))","v":""},null,{"$f":"IF(C2335=\"\",\"\",VLOOKUP(C2335,PARAMETROS!$G$3:$H$21,2,FALSE))","v":""},null,{"$f":"IF(E2335=\"\",\"\",VLOOKUP(E2335,PARAMETROS!$I$3:$J$21,2,FALSE))","v":""},null,null,null,null,null,null,""]
[null,{"$f":"IF(A2336=\"\",\"\",VLOOKUP(A2336,PARAMETROS!$B$3:$C$3,2,FALSE))","v":""},null,{"$f":"IF(C2336=\"\",\"\",VLOOKUP(C2336,PARAMETROS!$G$3:$H$21,2,FALSE))","v":""},null,{"$f":"IF(E2336=\"\",\"\",VLOOKUP(E2336,PARAMETROS!$I$3:$J$21,2,FALSE))","v":""},null,null,null,null,null,null,""]
[null,{"$f":"IF(A2337=\"\",\"\",VLOOKUP(A2337,PARAMETROS!$B$3:$C$3,2,FALSE))","v":""},null,{"$f":"IF(C2337=\"\",\"\",VLOOKUP(C2337,PARAMETROS!$G$3:$H$21,2,FALSE))","v":""},null,{"$f":"IF(E2337=\"\",\"\",VLOOKUP(E2337,PARAMETROS!$I$3:$J$21,2,FALSE))","v":""},null,null,null,null,null,null,""]
[null,{"$f":"IF(A2338=\"\",\"\",VLOOKUP(A2338,PARAMETROS!$B$3:$C$3,2,FALSE))","v":""},null,{"$f":"IF(C2338=\"\",\"\",VLOOKUP(C2338,PARAMETROS!$G$3:$H$21,2,FALSE))","v":""},null,{"$f":"IF(E2338=\"\",\"\",VLOOKUP(E2338,PARAMETROS!$I$3:$J$21,2,FALSE))","v":""},null,null,null,null,null,null,""]
[null,{"$f":"IF(A2339=\"\",\"\",VLOOKUP(A2339,PARAMETROS!$B$3:$C$3,2,FALSE))","v":""},null,{"$f":"IF(C2339=\"\",\"\",VLOOKUP(C2339,PARAMETROS!$G$3:$H$21,2,FALSE))","v":""},null,{"$f":"IF(E2339=\"\",\"\",VLOOKUP(E2339,PARAMETROS!$I$3:$J$21,2,FALSE))","v":""},null,null,null,null,null,null,""]
[null,{"$f":"IF(A2340=\"\",\"\",VLOOKUP(A2340,PARAMETROS!$B$3:$C$3,2,FALSE))","v":""},null,{"$f":"IF(C2340=\"\",\"\",VLOOKUP(C2340,PARAMETROS!$G$3:$H$21,2,FALSE))","v":""},null,{"$f":"IF(E2340=\"\",\"\",VLOOKUP(E2340,PARAMETROS!$I$3:$J$21,2,FALSE))","v":""},null,null,null,null,null,null,""]
[null,{"$f":"IF(A2341=\"\",\"\",VLOOKUP(A2341,PARAMETROS!$B$3:$C$3,2,FALSE))","v":""},null,{"$f":"IF(C2341=\"\",\"\",VLOOKUP(C2341,PARAMETROS!$G$3:$H$21,2,FALSE))","v":""},null,{"$f":"IF(E2341=\"\",\"\",VLOOKUP(E2341,PARAMETROS!$I$3:$J$21,2,FALSE))","v":""},null,null,null,null,null,null,""]
[null,{"$f":"IF(A2342=\"\",\"\",VLOOKUP(A2342,PARAMETROS!$B$3:$C$3,2,FALSE))","v":""},null,{"$f":"IF(C2342=\"\",\"\",VLOOKUP(C2342,PARAMETROS!$G$3:$H$21,2,FALSE))","v":""},null,{"$f":"IF(E2342=\"\",\"\",VLOOKUP(E2342,PARAMETROS!$I$3:$J$21,2,FALSE))","v":""},null,null,null,null,null,null,""]
[null,{"$f":"IF(A2343=\"\",\"\",VLOOKUP(A2343,PARAMETROS!$B$3:$C$3,2,FALSE))","v":""},null,{"$f":"IF(C2343=\"\",\"\",VLOOKUP(C2343,PARAMETROS!$G$3:$H$21,2,FALSE))","v":""},null,{"$f":"IF(E2343=\"\",\"\",VLOOKUP(E2343,PARAMETROS!$I$3:$J$21,2,FALSE))","v":""},null,null,null,null,null,null,""]
[null,{"$f":"IF(A2344=\"\",\"\",VLOOKUP(A2344,PARAMETROS!$B$3:$C$3,2,FALSE))","v":""},null,{"$f":"IF(C2344=\"\",\"\",VLOOKUP(C2344,PARAMETROS!$G$3:$H$21,2,FALSE))","v":""},null,{"$f":"IF(E2344=\"\",\"\",VLOOKUP(E2344,PARAMETROS!$I$3:$J$21,2,FALSE))","v":""},null,null,null,null,null,null,""]
[null,{"$f":"IF(A2345=\"\",\"\",VLOOKUP(A2345,PARAMETROS!$B$3:$C$3,2,FALSE))","v":""},null,{"$f":"IF(C2345=\"\",\"\",VLOOKUP(C2345,PARAMETROS!$G$3:$H$21,2,FALSE))","v":""},null,{"$f":"IF(E2345=\"\",\"\",VLOOKUP(E2345,PARAMETROS!$I$3:$J$21,2,FALSE))","v":""},null,null,null,null,null,null,""]
[null,{"$f":"IF(A2346=\"\",\"\",VLOOKUP(A2346,PARAMETROS!$B$3:$C$3,2,FALSE))","v":""},null,{"$f":"IF(C2346=\"\",\"\",VLOOKUP(C2346,PARAMETROS!$G$3:$H$21,2,FALSE))","v":""},null,{"$f":"IF(E2346=\"\",\"\",VLOOKUP(E2346,PARAMETROS!$I$3:$J$21,2,FALSE))","v":""},null,null,null,null,null,null,""]
[null,{"$f":"IF(A2347=\"\",\"\",VLOOKUP(A2347,PARAMETROS!$B$3:$C$3,2,FALSE))","v":""},null,{"$f":"IF(C2347=\"\",\"\",VLOOKUP(C2347,PARAMETROS!$G$3:$H$21,2,FALSE))","v":""},null,{"$f":"IF(E2347=\"\",\"\",VLOOKUP(E2347,PARAMETROS!$I$3:$J$21,2,FALSE))","v":""},null,null,null,null,null,null,""]
[null,{"$f":"IF(A2348=\"\",\"\",VLOOKUP(A2348,PARAMETROS!$B$3:$C$3,2,FALSE))","v":""},null,{"$f":"IF(C2348=\"\",\"\",VLOOKUP(C2348,PARAMETROS!$G$3:$H$21,2,FALSE))","v":""},null,{"$f":"IF(E2348=\"\",\"\",VLOOKUP(E2348,PARAMETROS!$I$3:$J$21,2,FALSE))","v":""},null,null,null,null,null,null,""]
[null,{"$f":"IF(A2349=\"\",\"\",VLOOKUP(A2349,PARAMETROS!$B$3:$C$3,2,FALSE))","v":""},null,{"$f":"IF(C2349=\"\",\"\",VLOOKUP(C2349,PARAMETROS!$G$3:$H$21,2,FALSE))","v":""},null,{"$f":"IF(E2349=\"\",\"\",VLOOKUP(E2349,PARAMETROS!$I$3:$J$21,2,FALSE))","v":""},null,null,null,null,null,null,""]
[null,{"$f":"IF(A2350=\"\",\"\",VLOOKUP(A2350,PARAMETROS!$B$3:$C$3,2,FALSE))","v":""},null,{"$f":"IF(C2350=\"\",\"\",VLOOKUP(C2350,PARAMETROS!$G$3:$H$21,2,FALSE))","v":""},null,{"$f":"IF(E2350=\"\",\"\",VLOOKUP(E2350,PARAMETROS!$I$3:$J$21,2,FALSE))","v":""},null,null,null,null,null,null,""]
[null,{"$f":"IF(A2351=\"\",\"\",VLOOKUP(A2351,PARAMETROS!$B$3:$C$3,2,FALSE))","v":""},null,{"$f":"IF(C2351=\"\",\"\",VLOOKUP(C2351,PARAMETROS!$G$3:$H$21,2,FALSE))","v":""},null,{"$f":"IF(E2351=\"\",\"\",VLOOKUP(E2351,PARAMETROS!$I$3:$J$21,2,FALSE))","v":""},null,null,null,null,null,null,""]
[null,{"$f":"IF(A2352=\"\",\"\",VLOOKUP(A2352,PARAMETROS!$B$3:$C$3,2,FALSE))","v":""},null,{"$f":"IF(C2352=\"\",\"\",VLOOKUP(C2352,PARAMETROS!$G$3:$H$21,2,FALSE))","v":""},null,{"$f":"IF(E2352=\"\",\"\",VLOOKUP(E2352,PARAMETROS!$I$3:$J$21,2,FALSE))","v":""},null,null,null,null,null,null,""]
[null,{"$f":"IF(A2353=\"\",\"\",VLOOKUP(A2353,PARAMETROS!$B$3:$C$3,2,FALSE))","v":""},null,{"$f":"IF(C2353=\"\",\"\",VLOOKUP(C2353,PARAMETROS!$G$3:$H$21,2,FALSE))","v":""},null,{"$f":"IF(E2353=\"\",\"\",VLOOKUP(E2353,PARAMETROS!$I$3:$J$21,2,FALSE))","v":""},null,null,null,null,null,null,""]
[null,{"$f":"IF(A2354=\"\",\"\",VLOOKUP(A2354,PARAMETROS!$B$3:$C$3,2,FALSE))","v":""},null,{"$f":"IF(C2354=\"\",\"\",VLOOKUP(C2354,PARAMETROS!$G$3:$H$21,2,FALSE))","v":""},null,{"$f":"IF(E2354=\"\",\"\",VLOOKUP(E2354,PARAMETROS!$I$3:$J$21,2,FALSE))","v":""},null,null,null,null,null,null,""]
[null,{"$f":"IF(A2355=\"\",\"\",VLOOKUP(A2355,PARAMETROS!$B$3:$C$3,2,FALSE))","v":""},null,{"$f":"IF(C2355=\"\",\"\",VLOOKUP(C2355,PARAMETROS!$G$3:$H$21,2,FALSE))","v":""},null,{"$f":"IF(E2355=\"\",\"\",VLOOKUP(E2355,PARAMETROS!$I$3:$J$21,2,FALSE))","v":""},null,null,null,null,null,null,""]
[null,{"$f":"IF(A2356=\"\",\"\",VLOOKUP(A2356,PARAMETROS!$B$3:$C$3,2,FALSE))","v":""},null,{"$f":"IF(C2356=\"\",\"\",VLOOKUP(C2356,PARAMETROS!$G$3:$H$21,2,FALSE))","v":""},null,{"$f":"IF(E2356=\"\",\"\",VLOOKUP(E2356,PARAMETROS!$I$3:$J$21,2,FALSE))","v":""},null,null,null,null,null,null,""]
[null,{"$f":"IF(A2357=\"\",\"\",VLOOKUP(A2357,PARAMETROS!$B$3:$C$3,2,FALSE))","v":""},null,{"$f":"IF(C2357=\"\",\"\",VLOOKUP(C2357,PARAMETROS!$G$3:$H$21,2,FALSE))","v":""},null,{"$f":"IF(E2357=\"\",\"\",VLOOKUP(E2357,PARAMETROS!$I$3:$J$21,2,FALSE))","v":""},null,null,null,null,null,null,""]
[null,{"$f":"IF(A2358=\"\",\"\",VLOOKUP(A2358,PARAMETROS!$B$3:$C$3,2,FALSE))","v":""},null,{"$f":"IF(C2358=\"\",\"\",VLOOKUP(C2358,PARAMETROS!$G$3:$H$21,2,FALSE))","v":""},null,{"$f":"IF(E2358=\"\",\"\",VLOOKUP(E2358,PARAMETROS!$I$3:$J$21,2,FALSE))","v":""},null,null,null,null,null,null,""]
[null,{"$f":"IF(A2359=\"\",\"\",VLOOKUP(A2359,PARAMETROS!$B$3:$C$3,2,FALSE))","v":""},null,{"$f":"IF(C2359=\"\",\"\",VLOOKUP(C2359,PARAMETROS!$G$3:$H$21,2,FALSE))","v":""},null,{"$f":"IF(E2359=\"\",\"\",VLOOKUP(E2359,PARAMETROS!$I$3:$J$21,2,FALSE))","v":""},null,null,null,null,null,null,""]
[null,{"$f":"IF(A2360=\"\",\"\",VLOOKUP(A2360,PARAMETROS!$B$3:$C$3,2,FALSE))","v":""},null,{"$f":"IF(C2360=\"\",\"\",VLOOKUP(C2360,PARAMETROS!$G$3:$H$21,2,FALSE))","v":""},null,{"$f":"IF(E2360=\"\",\"\",VLOOKUP(E2360,PARAMETROS!$I$3:$J$21,2,FALSE))","v":""},null,null,null,null,null,null,""]
[null,{"$f":"IF(A2361=\"\",\"\",VLOOKUP(A2361,PARAMETROS!$B$3:$C$3,2,FALSE))","v":""},null,{"$f":"IF(C2361=\"\",\"\",VLOOKUP(C2361,PARAMETROS!$G$3:$H$21,2,FALSE))","v":""},null,{"$f":"IF(E2361=\"\",\"\",VLOOKUP(E2361,PARAMETROS!$I$3:$J$21,2,FALSE))","v":""},null,null,null,null,null,null,""]
[null,{"$f":"IF(A2362=\"\",\"\",VLOOKUP(A2362,PARAMETROS!$B$3:$C$3,2,FALSE))","v":""},null,{"$f":"IF(C2362=\"\",\"\",VLOOKUP(C2362,PARAMETROS!$G$3:$H$21,2,FALSE))","v":""},null,{"$f":"IF(E2362=\"\",\"\",VLOOKUP(E2362,PARAMETROS!$I$3:$J$21,2,FALSE))","v":""},null,null,null,null,null,null,""]
[null,{"$f":"IF(A2363=\"\",\"\",VLOOKUP(A2363,PARAMETROS!$B$3:$C$3,2,FALSE))","v":""},null,{"$f":"IF(C2363=\"\",\"\",VLOOKUP(C2363,PARAMETROS!$G$3:$H$21,2,FALSE))","v":""},null,{"$f":"IF(E2363=\"\",\"\",VLOOKUP(E2363,PARAMETROS!$I$3:$J$21,2,FALSE))","v":""},null,null,null,null,null,null,""]
[null,{"$f":"IF(A2364=\"\",\"\",VLOOKUP(A2364,PARAMETROS!$B$3:$C$3,2,FALSE))","v":""},null,{"$f":"IF(C2364=\"\",\"\",VLOOKUP(C2364,PARAMETROS!$G$3:$H$21,2,FALSE))","v":""},null,{"$f":"IF(E2364=\"\",\"\",VLOOKUP(E2364,PARAMETROS!$I$3:$J$21,2,FALSE))","v":""},null,null,null,null,null,null,""]
[null,{"$f":"IF(A2365=\"\",\"\",VLOOKUP(A2365,PARAMETROS!$B$3:$C$3,2,FALSE))","v":""},null,{"$f":"IF(C2365=\"\",\"\",VLOOKUP(C2365,PARAMETROS!$G$3:$H$21,2,FALSE))","v":""},null,{"$f":"IF(E2365=\"\",\"\",VLOOKUP(E2365,PARAMETROS!$I$3:$J$21,2,FALSE))","v":""},null,null,null,null,null,null,""]
[null,{"$f":"IF(A2366=\"\",\"\",VLOOKUP(A2366,PARAMETROS!$B$3:$C$3,2,FALSE))","v":""},null,{"$f":"IF(C2366=\"\",\"\",VLOOKUP(C2366,PARAMETROS!$G$3:$H$21,2,FALSE))","v":""},null,{"$f":"IF(E2366=\"\",\"\",VLOOKUP(E2366,PARAMETROS!$I$3:$J$21,2,FALSE))","v":""},null,null,null,null,null,null,""]
[null,{"$f":"IF(A2367=\"\",\"\",VLOOKUP(A2367,PARAMETROS!$B$3:$C$3,2,FALSE))","v":""},null,{"$f":"IF(C2367=\"\",\"\",VLOOKUP(C2367,PARAMETROS!$G$3:$H$21,2,FALSE))","v":""},null,{"$f":"IF(E2367=\"\",\"\",VLOOKUP(E2367,PARAMETROS!$I$3:$J$21,2,FALSE))","v":""},null,null,null,null,null,null,""]
[null,{"$f":"IF(A2368=\"\",\"\",VLOOKUP(A2368,PARAMETROS!$B$3:$C$3,2,FALSE))","v":""},null,{"$f":"IF(C2368=\"\",\"\",VLOOKUP(C2368,PARAMETROS!$G$3:$H$21,2,FALSE))","v":""},null,{"$f":"IF(E2368=\"\",\"\",VLOOKUP(E2368,PARAMETROS!$I$3:$J$21,2,FALSE))","v":""},null,null,null,null,null,null,""]
[null,{"$f":"IF(A2369=\"\",\"\",VLOOKUP(A2369,PARAMETROS!$B$3:$C$3,2,FALSE))","v":""},null,{"$f":"IF(C2369=\"\",\"\",VLOOKUP(C2369,PARAMETROS!$G$3:$H$21,2,FALSE))","v":""},null,{"$f":"IF(E2369=\"\",\"\",VLOOKUP(E2369,PARAMETROS!$I$3:$J$21,2,FALSE))","v":""},null,null,null,null,null,null,""]
[null,{"$f":"IF(A2370=\"\",\"\",VLOOKUP(A2370,PARAMETROS!$B$3:$C$3,2,FALSE))","v":""},null,{"$f":"IF(C2370=\"\",\"\",VLOOKUP(C2370,PARAMETROS!$G$3:$H$21,2,FALSE))","v":""},null,{"$f":"IF(E2370=\"\",\"\",VLOOKUP(E2370,PARAMETROS!$I$3:$J$21,2,FALSE))","v":""},null,null,null,null,null,null,""]
[null,{"$f":"IF(A2371=\"\",\"\",VLOOKUP(A2371,PARAMETROS!$B$3:$C$3,2,FALSE))","v":""},null,{"$f":"IF(C2371=\"\",\"\",VLOOKUP(C2371,PARAMETROS!$G$3:$H$21,2,FALSE))","v":""},null,{"$f":"IF(E2371=\"\",\"\",VLOOKUP(E2371,PARAMETROS!$I$3:$J$21,2,FALSE))","v":""},null,null,null,null,null,null,""]
[null,{"$f":"IF(A2372=\"\",\"\",VLOOKUP(A2372,PARAMETROS!$B$3:$C$3,2,FALSE))","v":""},null,{"$f":"IF(C2372=\"\",\"\",VLOOKUP(C2372,PARAMETROS!$G$3:$H$21,2,FALSE))","v":""},null,{"$f":"IF(E2372=\"\",\"\",VLOOKUP(E2372,PARAMETROS!$I$3:$J$21,2,FALSE))","v":""},null,null,null,null,null,null,""]
[null,{"$f":"IF(A2373=\"\",\"\",VLOOKUP(A2373,PARAMETROS!$B$3:$C$3,2,FALSE))","v":""},null,{"$f":"IF(C2373=\"\",\"\",VLOOKUP(C2373,PARAMETROS!$G$3:$H$21,2,FALSE))","v":""},null,{"$f":"IF(E2373=\"\",\"\",VLOOKUP(E2373,PARAMETROS!$I$3:$J$21,2,FALSE))","v":""},null,null,null,null,null,null,""]
[null,{"$f":"IF(A2374=\"\",\"\",VLOOKUP(A2374,PARAMETROS!$B$3:$C$3,2,FALSE))","v":""},null,{"$f":"IF(C2374=\"\",\"\",VLOOKUP(C2374,PARAMETROS!$G$3:$H$21,2,FALSE))","v":""},null,{"$f":"IF(E2374=\"\",\"\",VLOOKUP(E2374,PARAMETROS!$I$3:$J$21,2,FALSE))","v":""},null,null,null,null,null,null,""]
[null,{"$f":"IF(A2375=\"\",\"\",VLOOKUP(A2375,PARAMETROS!$B$3:$C$3,2,FALSE))","v":""},null,{"$f":"IF(C2375=\"\",\"\",VLOOKUP(C2375,PARAMETROS!$G$3:$H$21,2,FALSE))","v":""},null,{"$f":"IF(E2375=\"\",\"\",VLOOKUP(E2375,PARAMETROS!$I$3:$J$21,2,FALSE))","v":""},null,null,null,null,null,null,""]
[null,{"$f":"IF(A2376=\"\",\"\",VLOOKUP(A2376,PARAMETROS!$B$3:$C$3,2,FALSE))","v":""},null,{"$f":"IF(C2376=\"\",\"\",VLOOKUP(C2376,PARAMETROS!$G$3:$H$21,2,FALSE))","v":""},null,{"$f":"IF(E2376=\"\",\"\",VLOOKUP(E2376,PARAMETROS!$I$3:$J$21,2,FALSE))","v":""},null,null,null,null,null,null,""]
[null,{"$f":"IF(A2377=\"\",\"\",VLOOKUP(A2377,PARAMETROS!$B$3:$C$3,2,FALSE))","v":""},null,{"$f":"IF(C2377=\"\",\"\",VLOOKUP(C2377,PARAMETROS!$G$3:$H$21,2,FALSE))","v":""},null,{"$f":"IF(E2377=\"\",\"\",VLOOKUP(E2377,PARAMETROS!$I$3:$J$21,2,FALSE))","v":""},null,null,null,null,null,null,""]
[null,{"$f":"IF(A2378=\"\",\"\",VLOOKUP(A2378,PARAMETROS!$B$3:$C$3,2,FALSE))","v":""},null,{"$f":"IF(C2378=\"\",\"\",VLOOKUP(C2378,PARAMETROS!$G$3:$H$21,2,FALSE))","v":""},null,{"$f":"IF(E2378=\"\",\"\",VLOOKUP(E2378,PARAMETROS!$I$3:$J$21,2,FALSE))","v":""},null,null,null,null,null,null,""]
[null,{"$f":"IF(A2379=\"\",\"\",VLOOKUP(A2379,PARAMETROS!$B$3:$C$3,2,FALSE))","v":""},null,{"$f":"IF(C2379=\"\",\"\",VLOOKUP(C2379,PARAMETROS!$G$3:$H$21,2,FALSE))","v":""},null,{"$f":"IF(E2379=\"\",\"\",VLOOKUP(E2379,PARAMETROS!$I$3:$J$21,2,FALSE))","v":""},null,null,null,null,null,null,""]
[null,{"$f":"IF(A2380=\"\",\"\",VLOOKUP(A2380,PARAMETROS!$B$3:$C$3,2,FALSE))","v":""},null,{"$f":"IF(C2380=\"\",\"\",VLOOKUP(C2380,PARAMETROS!$G$3:$H$21,2,FALSE))","v":""},null,{"$f":"IF(E2380=\"\",\"\",VLOOKUP(E2380,PARAMETROS!$I$3:$J$21,2,FALSE))","v":""},null,null,null,null,null,null,""]
[null,{"$f":"IF(A2381=\"\",\"\",VLOOKUP(A2381,PARAMETROS!$B$3:$C$3,2,FALSE))","v":""},null,{"$f":"IF(C2381=\"\",\"\",VLOOKUP(C2381,PARAMETROS!$G$3:$H$21,2,FALSE))","v":""},null,{"$f":"IF(E2381=\"\",\"\",VLOOKUP(E2381,PARAMETROS!$I$3:$J$21,2,FALSE))","v":""},null,null,null,null,null,null,""]
[null,{"$f":"IF(A2382=\"\",\"\",VLOOKUP(A2382,PARAMETROS!$B$3:$C$3,2,FALSE))","v":""},null,{"$f":"IF(C2382=\"\",\"\",VLOOKUP(C2382,PARAMETROS!$G$3:$H$21,2,FALSE))","v":""},null,{"$f":"IF(E2382=\"\",\"\",VLOOKUP(E2382,PARAMETROS!$I$3:$J$21,2,FALSE))","v":""},null,null,null,null,null,null,""]
[null,{"$f":"IF(A2383=\"\",\"\",VLOOKUP(A2383,PARAMETROS!$B$3:$C$3,2,FALSE))","v":""},null,{"$f":"IF(C2383=\"\",\"\",VLOOKUP(C2383,PARAMETROS!$G$3:$H$21,2,FALSE))","v":""},null,{"$f":"IF(E2383=\"\",\"\",VLOOKUP(E2383,PARAMETROS!$I$3:$J$21,2,FALSE))","v":""},null,null,null,null,null,null,{"$f":"IF(L2383=\"\", \"\", L2383)","v":""}]
[null,{"$f":"IF(A2384=\"\",\"\",VLOOKUP(A2384,PARAMETROS!$B$3:$C$3,2,FALSE))","v":""},null,{"$f":"IF(C2384=\"\",\"\",VLOOKUP(C2384,PARAMETROS!$G$3:$H$21,2,FALSE))","v":""},null,{"$f":"IF(E2384=\"\",\"\",VLOOKUP(E2384,PARAMETROS!$I$3:$J$21,2,FALSE))","v":""},null,null,null,null,null,null,""]
[null,{"$f":"IF(A2385=\"\",\"\",VLOOKUP(A2385,PARAMETROS!$B$3:$C$3,2,FALSE))","v":""},null,{"$f":"IF(C2385=\"\",\"\",VLOOKUP(C2385,PARAMETROS!$G$3:$H$21,2,FALSE))","v":""},null,{"$f":"IF(E2385=\"\",\"\",VLOOKUP(E2385,PARAMETROS!$I$3:$J$21,2,FALSE))","v":""},null,null,null,null,null,null,""]
[null,{"$f":"IF(A2386=\"\",\"\",VLOOKUP(A2386,PARAMETROS!$B$3:$C$3,2,FALSE))","v":""},null,{"$f":"IF(C2386=\"\",\"\",VLOOKUP(C2386,PARAMETROS!$G$3:$H$21,2,FALSE))","v":""},null,{"$f":"IF(E2386=\"\",\"\",VLOOKUP(E2386,PARAMETROS!$I$3:$J$21,2,FALSE))","v":""},null,null,null,null,null,null,""]
[null,{"$f":"IF(A2387=\"\",\"\",VLOOKUP(A2387,PARAMETROS!$B$3:$C$3,2,FALSE))","v":""},null,{"$f":"IF(C2387=\"\",\"\",VLOOKUP(C2387,PARAMETROS!$G$3:$H$21,2,FALSE))","v":""},null,{"$f":"IF(E2387=\"\",\"\",VLOOKUP(E2387,PARAMETROS!$I$3:$J$21,2,FALSE))","v":""},null,null,null,null,null,null,""]
[null,{"$f":"IF(A2388=\"\",\"\",VLOOKUP(A2388,PARAMETROS!$B$3:$C$3,2,FALSE))","v":""},null,{"$f":"IF(C2388=\"\",\"\",VLOOKUP(C2388,PARAMETROS!$G$3:$H$21,2,FALSE))","v":""},null,{"$f":"IF(E2388=\"\",\"\",VLOOKUP(E2388,PARAMETROS!$I$3:$J$21,2,FALSE))","v":""},null,null,null,null,null,null,""]
[null,{"$f":"IF(A2389=\"\",\"\",VLOOKUP(A2389,PARAMETROS!$B$3:$C$3,2,FALSE))","v":""},null,{"$f":"IF(C2389=\"\",\"\",VLOOKUP(C2389,PARAMETROS!$G$3:$H$21,2,FALSE))","v":""},null,{"$f":"IF(E2389=\"\",\"\",VLOOKUP(E2389,PARAMETROS!$I$3:$J$21,2,FALSE))","v":""},null,null,null,null,null,null,""]
[null,{"$f":"IF(A2390=\"\",\"\",VLOOKUP(A2390,PARAMETROS!$B$3:$C$3,2,FALSE))","v":""},null,{"$f":"IF(C2390=\"\",\"\",VLOOKUP(C2390,PARAMETROS!$G$3:$H$21,2,FALSE))","v":""},null,{"$f":"IF(E2390=\"\",\"\",VLOOKUP(E2390,PARAMETROS!$I$3:$J$21,2,FALSE))","v":""},null,null,null,null,null,null,""]
[null,{"$f":"IF(A2391=\"\",\"\",VLOOKUP(A2391,PARAMETROS!$B$3:$C$3,2,FALSE))","v":""},null,{"$f":"IF(C2391=\"\",\"\",VLOOKUP(C2391,PARAMETROS!$G$3:$H$21,2,FALSE))","v":""},null,{"$f":"IF(E2391=\"\",\"\",VLOOKUP(E2391,PARAMETROS!$I$3:$J$21,2,FALSE))","v":""},null,null,null,null,null,null,""]
[null,{"$f":"IF(A2392=\"\",\"\",VLOOKUP(A2392,PARAMETROS!$B$3:$C$3,2,FALSE))","v":""},null,{"$f":"IF(C2392=\"\",\"\",VLOOKUP(C2392,PARAMETROS!$G$3:$H$21,2,FALSE))","v":""},null,{"$f":"IF(E2392=\"\",\"\",VLOOKUP(E2392,PARAMETROS!$I$3:$J$21,2,FALSE))","v":""},null,null,null,null,null,null,""]
[null,{"$f":"IF(A2393=\"\",\"\",VLOOKUP(A2393,PARAMETROS!$B$3:$C$3,2,FALSE))","v":""},null,{"$f":"IF(C2393=\"\",\"\",VLOOKUP(C2393,PARAMETROS!$G$3:$H$21,2,FALSE))","v":""},null,{"$f":"IF(E2393=\"\",\"\",VLOOKUP(E2393,PARAMETROS!$I$3:$J$21,2,FALSE))","v":""},null,null,null,null,null,null,""]
[null,{"$f":"IF(A2394=\"\",\"\",VLOOKUP(A2394,PARAMETROS!$B$3:$C$3,2,FALSE))","v":""},null,{"$f":"IF(C2394=\"\",\"\",VLOOKUP(C2394,PARAMETROS!$G$3:$H$21,2,FALSE))","v":""},null,{"$f":"IF(E2394=\"\",\"\",VLOOKUP(E2394,PARAMETROS!$I$3:$J$21,2,FALSE))","v":""},null,null,null,null,null,null,""]
[null,{"$f":"IF(A2395=\"\",\"\",VLOOKUP(A2395,PARAMETROS!$B$3:$C$3,2,FALSE))","v":""},null,{"$f":"IF(C2395=\"\",\"\",VLOOKUP(C2395,PARAMETROS!$G$3:$H$21,2,FALSE))","v":""},null,{"$f":"IF(E2395=\"\",\"\",VLOOKUP(E2395,PARAMETROS!$I$3:$J$21,2,FALSE))","v":""},null,null,null,null,null,null,""]
[null,{"$f":"IF(A2396=\"\",\"\",VLOOKUP(A2396,PARAMETROS!$B$3:$C$3,2,FALSE))","v":""},null,{"$f":"IF(C2396=\"\",\"\",VLOOKUP(C2396,PARAMETROS!$G$3:$H$21,2,FALSE))","v":""},null,{"$f":"IF(E2396=\"\",\"\",VLOOKUP(E2396,PARAMETROS!$I$3:$J$21,2,FALSE))","v":""},null,null,null,null,null,null,""]
[null,{"$f":"IF(A2397=\"\",\"\",VLOOKUP(A2397,PARAMETROS!$B$3:$C$3,2,FALSE))","v":""},null,{"$f":"IF(C2397=\"\",\"\",VLOOKUP(C2397,PARAMETROS!$G$3:$H$21,2,FALSE))","v":""},null,{"$f":"IF(E2397=\"\",\"\",VLOOKUP(E2397,PARAMETROS!$I$3:$J$21,2,FALSE))","v":""},null,null,null,null,null,null,""]
[null,{"$f":"IF(A2398=\"\",\"\",VLOOKUP(A2398,PARAMETROS!$B$3:$C$3,2,FALSE))","v":""},null,{"$f":"IF(C2398=\"\",\"\",VLOOKUP(C2398,PARAMETROS!$G$3:$H$21,2,FALSE))","v":""},null,{"$f":"IF(E2398=\"\",\"\",VLOOKUP(E2398,PARAMETROS!$I$3:$J$21,2,FALSE))","v":""},null,null,null,null,null,null,""]
[null,{"$f":"IF(A2399=\"\",\"\",VLOOKUP(A2399,PARAMETROS!$B$3:$C$3,2,FALSE))","v":""},null,{"$f":"IF(C2399=\"\",\"\",VLOOKUP(C2399,PARAMETROS!$G$3:$H$21,2,FALSE))","v":""},null,{"$f":"IF(E2399=\"\",\"\",VLOOKUP(E2399,PARAMETROS!$I$3:$J$21,2,FALSE))","v":""},null,null,null,null,null,null,""]
[null,{"$f":"IF(A2400=\"\",\"\",VLOOKUP(A2400,PARAMETROS!$B$3:$C$3,2,FALSE))","v":""},null,{"$f":"IF(C2400=\"\",\"\",VLOOKUP(C2400,PARAMETROS!$G$3:$H$21,2,FALSE))","v":""},null,{"$f":"IF(E2400=\"\",\"\",VLOOKUP(E2400,PARAMETROS!$I$3:$J$21,2,FALSE))","v":""},null,null,null,null,null,null,""]
[null,{"$f":"IF(A2401=\"\",\"\",VLOOKUP(A2401,PARAMETROS!$B$3:$C$3,2,FALSE))","v":""},null,{"$f":"IF(C2401=\"\",\"\",VLOOKUP(C2401,PARAMETROS!$G$3:$H$21,2,FALSE))","v":""},null,{"$f":"IF(E2401=\"\",\"\",VLOOKUP(E2401,PARAMETROS!$I$3:$J$21,2,FALSE))","v":""},null,null,null,null,null,null,""]
[null,{"$f":"IF(A2402=\"\",\"\",VLOOKUP(A2402,PARAMETROS!$B$3:$C$3,2,FALSE))","v":""},null,{"$f":"IF(C2402=\"\",\"\",VLOOKUP(C2402,PARAMETROS!$G$3:$H$21,2,FALSE))","v":""},null,{"$f":"IF(E2402=\"\",\"\",VLOOKUP(E2402,PARAMETROS!$I$3:$J$21,2,FALSE))","v":""},null,null,null,null,null,null,""]
[null,{"$f":"IF(A2403=\"\",\"\",VLOOKUP(A2403,PARAMETROS!$B$3:$C$3,2,FALSE))","v":""},null,{"$f":"IF(C2403=\"\",\"\",VLOOKUP(C2403,PARAMETROS!$G$3:$H$21,2,FALSE))","v":""},null,{"$f":"IF(E2403=\"\",\"\",VLOOKUP(E2403,PARAMETROS!$I$3:$J$21,2,FALSE))","v":""},null,null,null,null,null,null,""]
[null,{"$f":"IF(A2404=\"\",\"\",VLOOKUP(A2404,PARAMETROS!$B$3:$C$3,2,FALSE))","v":""},null,{"$f":"IF(C2404=\"\",\"\",VLOOKUP(C2404,PARAMETROS!$G$3:$H$21,2,FALSE))","v":""},null,{"$f":"IF(E2404=\"\",\"\",VLOOKUP(E2404,PARAMETROS!$I$3:$J$21,2,FALSE))","v":""},null,null,null,null,null,null,""]
[null,{"$f":"IF(A2405=\"\",\"\",VLOOKUP(A2405,PARAMETROS!$B$3:$C$3,2,FALSE))","v":""},null,{"$f":"IF(C2405=\"\",\"\",VLOOKUP(C2405,PARAMETROS!$G$3:$H$21,2,FALSE))","v":""},null,{"$f":"IF(E2405=\"\",\"\",VLOOKUP(E2405,PARAMETROS!$I$3:$J$21,2,FALSE))","v":""},null,null,null,null,null,null,""]
[null,{"$f":"IF(A2406=\"\",\"\",VLOOKUP(A2406,PARAMETROS!$B$3:$C$3,2,FALSE))","v":""},null,{"$f":"IF(C2406=\"\",\"\",VLOOKUP(C2406,PARAMETROS!$G$3:$H$21,2,FALSE))","v":""},null,{"$f":"IF(E2406=\"\",\"\",VLOOKUP(E2406,PARAMETROS!$I$3:$J$21,2,FALSE))","v":""},null,null,null,null,null,null,""]
[null,{"$f":"IF(A2407=\"\",\"\",VLOOKUP(A2407,PARAMETROS!$B$3:$C$3,2,FALSE))","v":""},null,{"$f":"IF(C2407=\"\",\"\",VLOOKUP(C2407,PARAMETROS!$G$3:$H$21,2,FALSE))","v":""},null,{"$f":"IF(E2407=\"\",\"\",VLOOKUP(E2407,PARAMETROS!$I$3:$J$21,2,FALSE))","v":""},null,null,null,null,null,null,""]
[null,{"$f":"IF(A2408=\"\",\"\",VLOOKUP(A2408,PARAMETROS!$B$3:$C$3,2,FALSE))","v":""},null,{"$f":"IF(C2408=\"\",\"\",VLOOKUP(C2408,PARAMETROS!$G$3:$H$21,2,FALSE))","v":""},null,{"$f":"IF(E2408=\"\",\"\",VLOOKUP(E2408,PARAMETROS!$I$3:$J$21,2,FALSE))","v":""},null,null,null,null,null,null,""]
[null,{"$f":"IF(A2409=\"\",\"\",VLOOKUP(A2409,PARAMETROS!$B$3:$C$3,2,FALSE))","v":""},null,{"$f":"IF(C2409=\"\",\"\",VLOOKUP(C2409,PARAMETROS!$G$3:$H$21,2,FALSE))","v":""},null,{"$f":"IF(E2409=\"\",\"\",VLOOKUP(E2409,PARAMETROS!$I$3:$J$21,2,FALSE))","v":""},null,null,null,null,null,null,""]
[null,{"$f":"IF(A2410=\"\",\"\",VLOOKUP(A2410,PARAMETROS!$B$3:$C$3,2,FALSE))","v":""},null,{"$f":"IF(C2410=\"\",\"\",VLOOKUP(C2410,PARAMETROS!$G$3:$H$21,2,FALSE))","v":""},null,{"$f":"IF(E2410=\"\",\"\",VLOOKUP(E2410,PARAMETROS!$I$3:$J$21,2,FALSE))","v":""},null,null,null,null,null,null,""]
[null,{"$f":"IF(A2411=\"\",\"\",VLOOKUP(A2411,PARAMETROS!$B$3:$C$3,2,FALSE))","v":""},null,{"$f":"IF(C2411=\"\",\"\",VLOOKUP(C2411,PARAMETROS!$G$3:$H$21,2,FALSE))","v":""},null,{"$f":"IF(E2411=\"\",\"\",VLOOKUP(E2411,PARAMETROS!$I$3:$J$21,2,FALSE))","v":""},null,null,null,null,null,null,""]
[null,{"$f":"IF(A2412=\"\",\"\",VLOOKUP(A2412,PARAMETROS!$B$3:$C$3,2,FALSE))","v":""},null,{"$f":"IF(C2412=\"\",\"\",VLOOKUP(C2412,PARAMETROS!$G$3:$H$21,2,FALSE))","v":""},null,{"$f":"IF(E2412=\"\",\"\",VLOOKUP(E2412,PARAMETROS!$I$3:$J$21,2,FALSE))","v":""},null,null,null,null,null,null,""]
[null,{"$f":"IF(A2413=\"\",\"\",VLOOKUP(A2413,PARAMETROS!$B$3:$C$3,2,FALSE))","v":""},null,{"$f":"IF(C2413=\"\",\"\",VLOOKUP(C2413,PARAMETROS!$G$3:$H$21,2,FALSE))","v":""},null,{"$f":"IF(E2413=\"\",\"\",VLOOKUP(E2413,PARAMETROS!$I$3:$J$21,2,FALSE))","v":""},null,null,null,null,null,null,""]
[null,{"$f":"IF(A2414=\"\",\"\",VLOOKUP(A2414,PARAMETROS!$B$3:$C$3,2,FALSE))","v":""},null,{"$f":"IF(C2414=\"\",\"\",VLOOKUP(C2414,PARAMETROS!$G$3:$H$21,2,FALSE))","v":""},null,{"$f":"IF(E2414=\"\",\"\",VLOOKUP(E2414,PARAMETROS!$I$3:$J$21,2,FALSE))","v":""},null,null,null,null,null,null,""]
[null,{"$f":"IF(A2415=\"\",\"\",VLOOKUP(A2415,PARAMETROS!$B$3:$C$3,2,FALSE))","v":""},null,{"$f":"IF(C2415=\"\",\"\",VLOOKUP(C2415,PARAMETROS!$G$3:$H$21,2,FALSE))","v":""},null,{"$f":"IF(E2415=\"\",\"\",VLOOKUP(E2415,PARAMETROS!$I$3:$J$21,2,FALSE))","v":""},null,null,null,null,null,null,""]
[null,{"$f":"IF(A2416=\"\",\"\",VLOOKUP(A2416,PARAMETROS!$B$3:$C$3,2,FALSE))","v":""},null,{"$f":"IF(C2416=\"\",\"\",VLOOKUP(C2416,PARAMETROS!$G$3:$H$21,2,FALSE))","v":""},null,{"$f":"IF(E2416=\"\",\"\",VLOOKUP(E2416,PARAMETROS!$I$3:$J$21,2,FALSE))","v":""},null,null,null,null,null,null,""]
[null,{"$f":"IF(A2417=\"\",\"\",VLOOKUP(A2417,PARAMETROS!$B$3:$C$3,2,FALSE))","v":""},null,{"$f":"IF(C2417=\"\",\"\",VLOOKUP(C2417,PARAMETROS!$G$3:$H$21,2,FALSE))","v":""},null,{"$f":"IF(E2417=\"\",\"\",VLOOKUP(E2417,PARAMETROS!$I$3:$J$21,2,FALSE))","v":""},null,null,null,null,null,null,""]
[null,{"$f":"IF(A2418=\"\",\"\",VLOOKUP(A2418,PARAMETROS!$B$3:$C$3,2,FALSE))","v":""},null,{"$f":"IF(C2418=\"\",\"\",VLOOKUP(C2418,PARAMETROS!$G$3:$H$21,2,FALSE))","v":""},null,{"$f":"IF(E2418=\"\",\"\",VLOOKUP(E2418,PARAMETROS!$I$3:$J$21,2,FALSE))","v":""},null,null,null,null,null,null,""]
[null,{"$f":"IF(A2419=\"\",\"\",VLOOKUP(A2419,PARAMETROS!$B$3:$C$3,2,FALSE))","v":""},null,{"$f":"IF(C2419=\"\",\"\",VLOOKUP(C2419,PARAMETROS!$G$3:$H$21,2,FALSE))","v":""},null,{"$f":"IF(E2419=\"\",\"\",VLOOKUP(E2419,PARAMETROS!$I$3:$J$21,2,FALSE))","v":""},null,null,null,null,null,null,""]
[null,{"$f":"IF(A2420=\"\",\"\",VLOOKUP(A2420,PARAMETROS!$B$3:$C$3,2,FALSE))","v":""},null,{"$f":"IF(C2420=\"\",\"\",VLOOKUP(C2420,PARAMETROS!$G$3:$H$21,2,FALSE))","v":""},null,{"$f":"IF(E2420=\"\",\"\",VLOOKUP(E2420,PARAMETROS!$I$3:$J$21,2,FALSE))","v":""},null,null,null,null,null,null,""]
[null,{"$f":"IF(A2421=\"\",\"\",VLOOKUP(A2421,PARAMETROS!$B$3:$C$3,2,FALSE))","v":""},null,{"$f":"IF(C2421=\"\",\"\",VLOOKUP(C2421,PARAMETROS!$G$3:$H$21,2,FALSE))","v":""},null,{"$f":"IF(E2421=\"\",\"\",VLOOKUP(E2421,PARAMETROS!$I$3:$J$21,2,FALSE))","v":""},null,null,null,null,null,null,""]
[null,{"$f":"IF(A2422=\"\",\"\",VLOOKUP(A2422,PARAMETROS!$B$3:$C$3,2,FALSE))","v":""},null,{"$f":"IF(C2422=\"\",\"\",VLOOKUP(C2422,PARAMETROS!$G$3:$H$21,2,FALSE))","v":""},null,{"$f":"IF(E2422=\"\",\"\",VLOOKUP(E2422,PARAMETROS!$I$3:$J$21,2,FALSE))","v":""},null,null,null,null,null,null,""]
[null,{"$f":"IF(A2423=\"\",\"\",VLOOKUP(A2423,PARAMETROS!$B$3:$C$3,2,FALSE))","v":""},null,{"$f":"IF(C2423=\"\",\"\",VLOOKUP(C2423,PARAMETROS!$G$3:$H$21,2,FALSE))","v":""},null,{"$f":"IF(E2423=\"\",\"\",VLOOKUP(E2423,PARAMETROS!$I$3:$J$21,2,FALSE))","v":""},null,null,null,null,null,null,""]
[null,{"$f":"IF(A2424=\"\",\"\",VLOOKUP(A2424,PARAMETROS!$B$3:$C$3,2,FALSE))","v":""},null,{"$f":"IF(C2424=\"\",\"\",VLOOKUP(C2424,PARAMETROS!$G$3:$H$21,2,FALSE))","v":""},null,{"$f":"IF(E2424=\"\",\"\",VLOOKUP(E2424,PARAMETROS!$I$3:$J$21,2,FALSE))","v":""},null,null,null,null,null,null,""]
[null,{"$f":"IF(A2425=\"\",\"\",VLOOKUP(A2425,PARAMETROS!$B$3:$C$3,2,FALSE))","v":""},null,{"$f":"IF(C2425=\"\",\"\",VLOOKUP(C2425,PARAMETROS!$G$3:$H$21,2,FALSE))","v":""},null,{"$f":"IF(E2425=\"\",\"\",VLOOKUP(E2425,PARAMETROS!$I$3:$J$21,2,FALSE))","v":""},null,null,null,null,null,null,""]
[null,{"$f":"IF(A2426=\"\",\"\",VLOOKUP(A2426,PARAMETROS!$B$3:$C$3,2,FALSE))","v":""},null,{"$f":"IF(C2426=\"\",\"\",VLOOKUP(C2426,PARAMETROS!$G$3:$H$21,2,FALSE))","v":""},null,{"$f":"IF(E2426=\"\",\"\",VLOOKUP(E2426,PARAMETROS!$I$3:$J$21,2,FALSE))","v":""},null,null,null,null,null,null,""]
[null,{"$f":"IF(A2427=\"\",\"\",VLOOKUP(A2427,PARAMETROS!$B$3:$C$3,2,FALSE))","v":""},null,{"$f":"IF(C2427=\"\",\"\",VLOOKUP(C2427,PARAMETROS!$G$3:$H$21,2,FALSE))","v":""},null,{"$f":"IF(E2427=\"\",\"\",VLOOKUP(E2427,PARAMETROS!$I$3:$J$21,2,FALSE))","v":""},null,null,null,null,null,null,""]
[null,{"$f":"IF(A2428=\"\",\"\",VLOOKUP(A2428,PARAMETROS!$B$3:$C$3,2,FALSE))","v":""},null,{"$f":"IF(C2428=\"\",\"\",VLOOKUP(C2428,PARAMETROS!$G$3:$H$21,2,FALSE))","v":""},null,{"$f":"IF(E2428=\"\",\"\",VLOOKUP(E2428,PARAMETROS!$I$3:$J$21,2,FALSE))","v":""},null,null,null,null,null,null,""]
[null,{"$f":"IF(A2429=\"\",\"\",VLOOKUP(A2429,PARAMETROS!$B$3:$C$3,2,FALSE))","v":""},null,{"$f":"IF(C2429=\"\",\"\",VLOOKUP(C2429,PARAMETROS!$G$3:$H$21,2,FALSE))","v":""},null,{"$f":"IF(E2429=\"\",\"\",VLOOKUP(E2429,PARAMETROS!$I$3:$J$21,2,FALSE))","v":""},null,null,null,null,null,null,""]
[null,{"$f":"IF(A2430=\"\",\"\",VLOOKUP(A2430,PARAMETROS!$B$3:$C$3,2,FALSE))","v":""},null,{"$f":"IF(C2430=\"\",\"\",VLOOKUP(C2430,PARAMETROS!$G$3:$H$21,2,FALSE))","v":""},null,{"$f":"IF(E2430=\"\",\"\",VLOOKUP(E2430,PARAMETROS!$I$3:$J$21,2,FALSE))","v":""},null,null,null,null,null,null,""]
[null,{"$f":"IF(A2431=\"\",\"\",VLOOKUP(A2431,PARAMETROS!$B$3:$C$3,2,FALSE))","v":""},null,{"$f":"IF(C2431=\"\",\"\",VLOOKUP(C2431,PARAMETROS!$G$3:$H$21,2,FALSE))","v":""},null,{"$f":"IF(E2431=\"\",\"\",VLOOKUP(E2431,PARAMETROS!$I$3:$J$21,2,FALSE))","v":""},null,null,null,null,null,null,""]
[null,{"$f":"IF(A2432=\"\",\"\",VLOOKUP(A2432,PARAMETROS!$B$3:$C$3,2,FALSE))","v":""},null,{"$f":"IF(C2432=\"\",\"\",VLOOKUP(C2432,PARAMETROS!$G$3:$H$21,2,FALSE))","v":""},null,{"$f":"IF(E2432=\"\",\"\",VLOOKUP(E2432,PARAMETROS!$I$3:$J$21,2,FALSE))","v":""},null,null,null,null,null,null,""]
[null,{"$f":"IF(A2433=\"\",\"\",VLOOKUP(A2433,PARAMETROS!$B$3:$C$3,2,FALSE))","v":""},null,{"$f":"IF(C2433=\"\",\"\",VLOOKUP(C2433,PARAMETROS!$G$3:$H$21,2,FALSE))","v":""},null,{"$f":"IF(E2433=\"\",\"\",VLOOKUP(E2433,PARAMETROS!$I$3:$J$21,2,FALSE))","v":""},null,null,null,null,null,null,""]
[null,{"$f":"IF(A2434=\"\",\"\",VLOOKUP(A2434,PARAMETROS!$B$3:$C$3,2,FALSE))","v":""},null,{"$f":"IF(C2434=\"\",\"\",VLOOKUP(C2434,PARAMETROS!$G$3:$H$21,2,FALSE))","v":""},null,{"$f":"IF(E2434=\"\",\"\",VLOOKUP(E2434,PARAMETROS!$I$3:$J$21,2,FALSE))","v":""},null,null,null,null,null,null,""]
[null,{"$f":"IF(A2435=\"\",\"\",VLOOKUP(A2435,PARAMETROS!$B$3:$C$3,2,FALSE))","v":""},null,{"$f":"IF(C2435=\"\",\"\",VLOOKUP(C2435,PARAMETROS!$G$3:$H$21,2,FALSE))","v":""},null,{"$f":"IF(E2435=\"\",\"\",VLOOKUP(E2435,PARAMETROS!$I$3:$J$21,2,FALSE))","v":""},null,null,null,null,null,null,""]
[null,{"$f":"IF(A2436=\"\",\"\",VLOOKUP(A2436,PARAMETROS!$B$3:$C$3,2,FALSE))","v":""},null,{"$f":"IF(C2436=\"\",\"\",VLOOKUP(C2436,PARAMETROS!$G$3:$H$21,2,FALSE))","v":""},null,{"$f":"IF(E2436=\"\",\"\",VLOOKUP(E2436,PARAMETROS!$I$3:$J$21,2,FALSE))","v":""},null,null,null,null,null,null,""]
[null,{"$f":"IF(A2437=\"\",\"\",VLOOKUP(A2437,PARAMETROS!$B$3:$C$3,2,FALSE))","v":""},null,{"$f":"IF(C2437=\"\",\"\",VLOOKUP(C2437,PARAMETROS!$G$3:$H$21,2,FALSE))","v":""},null,{"$f":"IF(E2437=\"\",\"\",VLOOKUP(E2437,PARAMETROS!$I$3:$J$21,2,FALSE))","v":""},null,null,null,null,null,null,""]
[null,{"$f":"IF(A2438=\"\",\"\",VLOOKUP(A2438,PARAMETROS!$B$3:$C$3,2,FALSE))","v":""},null,{"$f":"IF(C2438=\"\",\"\",VLOOKUP(C2438,PARAMETROS!$G$3:$H$21,2,FALSE))","v":""},null,{"$f":"IF(E2438=\"\",\"\",VLOOKUP(E2438,PARAMETROS!$I$3:$J$21,2,FALSE))","v":""},null,null,null,null,null,null,""]
[null,{"$f":"IF(A2439=\"\",\"\",VLOOKUP(A2439,PARAMETROS!$B$3:$C$3,2,FALSE))","v":""},null,{"$f":"IF(C2439=\"\",\"\",VLOOKUP(C2439,PARAMETROS!$G$3:$H$21,2,FALSE))","v":""},null,{"$f":"IF(E2439=\"\",\"\",VLOOKUP(E2439,PARAMETROS!$I$3:$J$21,2,FALSE))","v":""},null,null,null,null,null,null,""]
[null,{"$f":"IF(A2440=\"\",\"\",VLOOKUP(A2440,PARAMETROS!$B$3:$C$3,2,FALSE))","v":""},null,{"$f":"IF(C2440=\"\",\"\",VLOOKUP(C2440,PARAMETROS!$G$3:$H$21,2,FALSE))","v":""},null,{"$f":"IF(E2440=\"\",\"\",VLOOKUP(E2440,PARAMETROS!$I$3:$J$21,2,FALSE))","v":""},null,null,null,null,null,null,""]
[null,{"$f":"IF(A2441=\"\",\"\",VLOOKUP(A2441,PARAMETROS!$B$3:$C$3,2,FALSE))","v":""},null,{"$f":"IF(C2441=\"\",\"\",VLOOKUP(C2441,PARAMETROS!$G$3:$H$21,2,FALSE))","v":""},null,{"$f":"IF(E2441=\"\",\"\",VLOOKUP(E2441,PARAMETROS!$I$3:$J$21,2,FALSE))","v":""},null,null,null,null,null,null,""]
[null,{"$f":"IF(A2442=\"\",\"\",VLOOKUP(A2442,PARAMETROS!$B$3:$C$3,2,FALSE))","v":""},null,{"$f":"IF(C2442=\"\",\"\",VLOOKUP(C2442,PARAMETROS!$G$3:$H$21,2,FALSE))","v":""},null,{"$f":"IF(E2442=\"\",\"\",VLOOKUP(E2442,PARAMETROS!$I$3:$J$21,2,FALSE))","v":""},null,null,null,null,null,null,""]
[null,{"$f":"IF(A2443=\"\",\"\",VLOOKUP(A2443,PARAMETROS!$B$3:$C$3,2,FALSE))","v":""},null,{"$f":"IF(C2443=\"\",\"\",VLOOKUP(C2443,PARAMETROS!$G$3:$H$21,2,FALSE))","v":""},null,{"$f":"IF(E2443=\"\",\"\",VLOOKUP(E2443,PARAMETROS!$I$3:$J$21,2,FALSE))","v":""},null,null,null,null,null,null,""]
[null,{"$f":"IF(A2444=\"\",\"\",VLOOKUP(A2444,PARAMETROS!$B$3:$C$3,2,FALSE))","v":""},null,{"$f":"IF(C2444=\"\",\"\",VLOOKUP(C2444,PARAMETROS!$G$3:$H$21,2,FALSE))","v":""},null,{"$f":"IF(E2444=\"\",\"\",VLOOKUP(E2444,PARAMETROS!$I$3:$J$21,2,FALSE))","v":""},null,null,null,null,null,null,""]
[null,{"$f":"IF(A2445=\"\",\"\",VLOOKUP(A2445,PARAMETROS!$B$3:$C$3,2,FALSE))","v":""},null,{"$f":"IF(C2445=\"\",\"\",VLOOKUP(C2445,PARAMETROS!$G$3:$H$21,2,FALSE))","v":""},null,{"$f":"IF(E2445=\"\",\"\",VLOOKUP(E2445,PARAMETROS!$I$3:$J$21,2,FALSE))","v":""},null,null,null,null,null,null,""]
[null,{"$f":"IF(A2446=\"\",\"\",VLOOKUP(A2446,PARAMETROS!$B$3:$C$3,2,FALSE))","v":""},null,{"$f":"IF(C2446=\"\",\"\",VLOOKUP(C2446,PARAMETROS!$G$3:$H$21,2,FALSE))","v":""},null,{"$f":"IF(E2446=\"\",\"\",VLOOKUP(E2446,PARAMETROS!$I$3:$J$21,2,FALSE))","v":""},null,null,null,null,null,null,""]
[null,{"$f":"IF(A2447=\"\",\"\",VLOOKUP(A2447,PARAMETROS!$B$3:$C$3,2,FALSE))","v":""},null,{"$f":"IF(C2447=\"\",\"\",VLOOKUP(C2447,PARAMETROS!$G$3:$H$21,2,FALSE))","v":""},null,{"$f":"IF(E2447=\"\",\"\",VLOOKUP(E2447,PARAMETROS!$I$3:$J$21,2,FALSE))","v":""},null,null,null,null,null,null,{"$f":"IF(L2447=\"\", \"\", L2447)","v":""}]
[null,{"$f":"IF(A2448=\"\",\"\",VLOOKUP(A2448,PARAMETROS!$B$3:$C$3,2,FALSE))","v":""},null,{"$f":"IF(C2448=\"\",\"\",VLOOKUP(C2448,PARAMETROS!$G$3:$H$21,2,FALSE))","v":""},null,{"$f":"IF(E2448=\"\",\"\",VLOOKUP(E2448,PARAMETROS!$I$3:$J$21,2,FALSE))","v":""},null,null,null,null,null,null,""]
[null,{"$f":"IF(A2449=\"\",\"\",VLOOKUP(A2449,PARAMETROS!$B$3:$C$3,2,FALSE))","v":""},null,{"$f":"IF(C2449=\"\",\"\",VLOOKUP(C2449,PARAMETROS!$G$3:$H$21,2,FALSE))","v":""},null,{"$f":"IF(E2449=\"\",\"\",VLOOKUP(E2449,PARAMETROS!$I$3:$J$21,2,FALSE))","v":""},null,null,null,null,null,null,""]
[null,{"$f":"IF(A2450=\"\",\"\",VLOOKUP(A2450,PARAMETROS!$B$3:$C$3,2,FALSE))","v":""},null,{"$f":"IF(C2450=\"\",\"\",VLOOKUP(C2450,PARAMETROS!$G$3:$H$21,2,FALSE))","v":""},null,{"$f":"IF(E2450=\"\",\"\",VLOOKUP(E2450,PARAMETROS!$I$3:$J$21,2,FALSE))","v":""},null,null,null,null,null,null,""]
[null,{"$f":"IF(A2451=\"\",\"\",VLOOKUP(A2451,PARAMETROS!$B$3:$C$3,2,FALSE))","v":""},null,{"$f":"IF(C2451=\"\",\"\",VLOOKUP(C2451,PARAMETROS!$G$3:$H$21,2,FALSE))","v":""},null,{"$f":"IF(E2451=\"\",\"\",VLOOKUP(E2451,PARAMETROS!$I$3:$J$21,2,FALSE))","v":""},null,null,null,null,null,null,""]
[null,{"$f":"IF(A2452=\"\",\"\",VLOOKUP(A2452,PARAMETROS!$B$3:$C$3,2,FALSE))","v":""},null,{"$f":"IF(C2452=\"\",\"\",VLOOKUP(C2452,PARAMETROS!$G$3:$H$21,2,FALSE))","v":""},null,{"$f":"IF(E2452=\"\",\"\",VLOOKUP(E2452,PARAMETROS!$I$3:$J$21,2,FALSE))","v":""},null,null,null,null,null,null,""]
[null,{"$f":"IF(A2453=\"\",\"\",VLOOKUP(A2453,PARAMETROS!$B$3:$C$3,2,FALSE))","v":""},null,{"$f":"IF(C2453=\"\",\"\",VLOOKUP(C2453,PARAMETROS!$G$3:$H$21,2,FALSE))","v":""},null,{"$f":"IF(E2453=\"\",\"\",VLOOKUP(E2453,PARAMETROS!$I$3:$J$21,2,FALSE))","v":""},null,null,null,null,null,null,""]
[null,{"$f":"IF(A2454=\"\",\"\",VLOOKUP(A2454,PARAMETROS!$B$3:$C$3,2,FALSE))","v":""},null,{"$f":"IF(C2454=\"\",\"\",VLOOKUP(C2454,PARAMETROS!$G$3:$H$21,2,FALSE))","v":""},null,{"$f":"IF(E2454=\"\",\"\",VLOOKUP(E2454,PARAMETROS!$I$3:$J$21,2,FALSE))","v":""},null,null,null,null,null,null,""]
[null,{"$f":"IF(A2455=\"\",\"\",VLOOKUP(A2455,PARAMETROS!$B$3:$C$3,2,FALSE))","v":""},null,{"$f":"IF(C2455=\"\",\"\",VLOOKUP(C2455,PARAMETROS!$G$3:$H$21,2,FALSE))","v":""},null,{"$f":"IF(E2455=\"\",\"\",VLOOKUP(E2455,PARAMETROS!$I$3:$J$21,2,FALSE))","v":""},null,null,null,null,null,null,""]
[null,{"$f":"IF(A2456=\"\",\"\",VLOOKUP(A2456,PARAMETROS!$B$3:$C$3,2,FALSE))","v":""},null,{"$f":"IF(C2456=\"\",\"\",VLOOKUP(C2456,PARAMETROS!$G$3:$H$21,2,FALSE))","v":""},null,{"$f":"IF(E2456=\"\",\"\",VLOOKUP(E2456,PARAMETROS!$I$3:$J$21,2,FALSE))","v":""},null,null,null,null,null,null,""]
[null,{"$f":"IF(A2457=\"\",\"\",VLOOKUP(A2457,PARAMETROS!$B$3:$C$3,2,FALSE))","v":""},null,{"$f":"IF(C2457=\"\",\"\",VLOOKUP(C2457,PARAMETROS!$G$3:$H$21,2,FALSE))","v":""},null,{"$f":"IF(E2457=\"\",\"\",VLOOKUP(E2457,PARAMETROS!$I$3:$J$21,2,FALSE))","v":""},null,null,null,null,null,null,""]
[null,{"$f":"IF(A2458=\"\",\"\",VLOOKUP(A2458,PARAMETROS!$B$3:$C$3,2,FALSE))","v":""},null,{"$f":"IF(C2458=\"\",\"\",VLOOKUP(C2458,PARAMETROS!$G$3:$H$21,2,FALSE))","v":""},null,{"$f":"IF(E2458=\"\",\"\",VLOOKUP(E2458,PARAMETROS!$I$3:$J$21,2,FALSE))","v":""},null,null,null,null,null,null,""]
[null,{"$f":"IF(A2459=\"\",\"\",VLOOKUP(A2459,PARAMETROS!$B$3:$C$3,2,FALSE))","v":""},null,{"$f":"IF(C2459=\"\",\"\",VLOOKUP(C2459,PARAMETROS!$G$3:$H$21,2,FALSE))","v":""},null,{"$f":"IF(E2459=\"\",\"\",VLOOKUP(E2459,PARAMETROS!$I$3:$J$21,2,FALSE))","v":""},null,null,null,null,null,null,""]
[null,{"$f":"IF(A2460=\"\",\"\",VLOOKUP(A2460,PARAMETROS!$B$3:$C$3,2,FALSE))","v":""},null,{"$f":"IF(C2460=\"\",\"\",VLOOKUP(C2460,PARAMETROS!$G$3:$H$21,2,FALSE))","v":""},null,{"$f":"IF(E2460=\"\",\"\",VLOOKUP(E2460,PARAMETROS!$I$3:$J$21,2,FALSE))","v":""},null,null,null,null,null,null,""]
[null,{"$f":"IF(A2461=\"\",\"\",VLOOKUP(A2461,PARAMETROS!$B$3:$C$3,2,FALSE))","v":""},null,{"$f":"IF(C2461=\"\",\"\",VLOOKUP(C2461,PARAMETROS!$G$3:$H$21,2,FALSE))","v":""},null,{"$f":"IF(E2461=\"\",\"\",VLOOKUP(E2461,PARAMETROS!$I$3:$J$21,2,FALSE))","v":""},null,null,null,null,null,null,""]
[null,{"$f":"IF(A2462=\"\",\"\",VLOOKUP(A2462,PARAMETROS!$B$3:$C$3,2,FALSE))","v":""},null,{"$f":"IF(C2462=\"\",\"\",VLOOKUP(C2462,PARAMETROS!$G$3:$H$21,2,FALSE))","v":""},null,{"$f":"IF(E2462=\"\",\"\",VLOOKUP(E2462,PARAMETROS!$I$3:$J$21,2,FALSE))","v":""},null,null,null,null,null,null,""]
[null,{"$f":"IF(A2463=\"\",\"\",VLOOKUP(A2463,PARAMETROS!$B$3:$C$3,2,FALSE))","v":""},null,{"$f":"IF(C2463=\"\",\"\",VLOOKUP(C2463,PARAMETROS!$G$3:$H$21,2,FALSE))","v":""},null,{"$f":"IF(E2463=\"\",\"\",VLOOKUP(E2463,PARAMETROS!$I$3:$J$21,2,FALSE))","v":""},null,null,null,null,null,null,""]
[null,{"$f":"IF(A2464=\"\",\"\",VLOOKUP(A2464,PARAMETROS!$B$3:$C$3,2,FALSE))","v":""},null,{"$f":"IF(C2464=\"\",\"\",VLOOKUP(C2464,PARAMETROS!$G$3:$H$21,2,FALSE))","v":""},null,{"$f":"IF(E2464=\"\",\"\",VLOOKUP(E2464,PARAMETROS!$I$3:$J$21,2,FALSE))","v":""},null,null,null,null,null,null,""]
[null,{"$f":"IF(A2465=\"\",\"\",VLOOKUP(A2465,PARAMETROS!$B$3:$C$3,2,FALSE))","v":""},null,{"$f":"IF(C2465=\"\",\"\",VLOOKUP(C2465,PARAMETROS!$G$3:$H$21,2,FALSE))","v":""},null,{"$f":"IF(E2465=\"\",\"\",VLOOKUP(E2465,PARAMETROS!$I$3:$J$21,2,FALSE))","v":""},null,null,null,null,null,null,""]
[null,{"$f":"IF(A2466=\"\",\"\",VLOOKUP(A2466,PARAMETROS!$B$3:$C$3,2,FALSE))","v":""},null,{"$f":"IF(C2466=\"\",\"\",VLOOKUP(C2466,PARAMETROS!$G$3:$H$21,2,FALSE))","v":""},null,{"$f":"IF(E2466=\"\",\"\",VLOOKUP(E2466,PARAMETROS!$I$3:$J$21,2,FALSE))","v":""},null,null,null,null,null,null,""]
[null,{"$f":"IF(A2467=\"\",\"\",VLOOKUP(A2467,PARAMETROS!$B$3:$C$3,2,FALSE))","v":""},null,{"$f":"IF(C2467=\"\",\"\",VLOOKUP(C2467,PARAMETROS!$G$3:$H$21,2,FALSE))","v":""},null,{"$f":"IF(E2467=\"\",\"\",VLOOKUP(E2467,PARAMETROS!$I$3:$J$21,2,FALSE))","v":""},null,null,null,null,null,null,""]
[null,{"$f":"IF(A2468=\"\",\"\",VLOOKUP(A2468,PARAMETROS!$B$3:$C$3,2,FALSE))","v":""},null,{"$f":"IF(C2468=\"\",\"\",VLOOKUP(C2468,PARAMETROS!$G$3:$H$21,2,FALSE))","v":""},null,{"$f":"IF(E2468=\"\",\"\",VLOOKUP(E2468,PARAMETROS!$I$3:$J$21,2,FALSE))","v":""},null,null,null,null,null,null,""]
[null,{"$f":"IF(A2469=\"\",\"\",VLOOKUP(A2469,PARAMETROS!$B$3:$C$3,2,FALSE))","v":""},null,{"$f":"IF(C2469=\"\",\"\",VLOOKUP(C2469,PARAMETROS!$G$3:$H$21,2,FALSE))","v":""},null,{"$f":"IF(E2469=\"\",\"\",VLOOKUP(E2469,PARAMETROS!$I$3:$J$21,2,FALSE))","v":""},null,null,null,null,null,null,""]
[null,{"$f":"IF(A2470=\"\",\"\",VLOOKUP(A2470,PARAMETROS!$B$3:$C$3,2,FALSE))","v":""},null,{"$f":"IF(C2470=\"\",\"\",VLOOKUP(C2470,PARAMETROS!$G$3:$H$21,2,FALSE))","v":""},null,{"$f":"IF(E2470=\"\",\"\",VLOOKUP(E2470,PARAMETROS!$I$3:$J$21,2,FALSE))","v":""},null,null,null,null,null,null,""]
[null,{"$f":"IF(A2471=\"\",\"\",VLOOKUP(A2471,PARAMETROS!$B$3:$C$3,2,FALSE))","v":""},null,{"$f":"IF(C2471=\"\",\"\",VLOOKUP(C2471,PARAMETROS!$G$3:$H$21,2,FALSE))","v":""},null,{"$f":"IF(E2471=\"\",\"\",VLOOKUP(E2471,PARAMETROS!$I$3:$J$21,2,FALSE))","v":""},null,null,null,null,null,null,""]
[null,{"$f":"IF(A2472=\"\",\"\",VLOOKUP(A2472,PARAMETROS!$B$3:$C$3,2,FALSE))","v":""},null,{"$f":"IF(C2472=\"\",\"\",VLOOKUP(C2472,PARAMETROS!$G$3:$H$21,2,FALSE))","v":""},null,{"$f":"IF(E2472=\"\",\"\",VLOOKUP(E2472,PARAMETROS!$I$3:$J$21,2,FALSE))","v":""},null,null,null,null,null,null,""]
[null,{"$f":"IF(A2473=\"\",\"\",VLOOKUP(A2473,PARAMETROS!$B$3:$C$3,2,FALSE))","v":""},null,{"$f":"IF(C2473=\"\",\"\",VLOOKUP(C2473,PARAMETROS!$G$3:$H$21,2,FALSE))","v":""},null,{"$f":"IF(E2473=\"\",\"\",VLOOKUP(E2473,PARAMETROS!$I$3:$J$21,2,FALSE))","v":""},null,null,null,null,null,null,""]
[null,{"$f":"IF(A2474=\"\",\"\",VLOOKUP(A2474,PARAMETROS!$B$3:$C$3,2,FALSE))","v":""},null,{"$f":"IF(C2474=\"\",\"\",VLOOKUP(C2474,PARAMETROS!$G$3:$H$21,2,FALSE))","v":""},null,{"$f":"IF(E2474=\"\",\"\",VLOOKUP(E2474,PARAMETROS!$I$3:$J$21,2,FALSE))","v":""},null,null,null,null,null,null,""]
[null,{"$f":"IF(A2475=\"\",\"\",VLOOKUP(A2475,PARAMETROS!$B$3:$C$3,2,FALSE))","v":""},null,{"$f":"IF(C2475=\"\",\"\",VLOOKUP(C2475,PARAMETROS!$G$3:$H$21,2,FALSE))","v":""},null,{"$f":"IF(E2475=\"\",\"\",VLOOKUP(E2475,PARAMETROS!$I$3:$J$21,2,FALSE))","v":""},null,null,null,null,null,null,""]
[null,{"$f":"IF(A2476=\"\",\"\",VLOOKUP(A2476,PARAMETROS!$B$3:$C$3,2,FALSE))","v":""},null,{"$f":"IF(C2476=\"\",\"\",VLOOKUP(C2476,PARAMETROS!$G$3:$H$21,2,FALSE))","v":""},null,{"$f":"IF(E2476=\"\",\"\",VLOOKUP(E2476,PARAMETROS!$I$3:$J$21,2,FALSE))","v":""},null,null,null,null,null,null,""]
[null,{"$f":"IF(A2477=\"\",\"\",VLOOKUP(A2477,PARAMETROS!$B$3:$C$3,2,FALSE))","v":""},null,{"$f":"IF(C2477=\"\",\"\",VLOOKUP(C2477,PARAMETROS!$G$3:$H$21,2,FALSE))","v":""},null,{"$f":"IF(E2477=\"\",\"\",VLOOKUP(E2477,PARAMETROS!$I$3:$J$21,2,FALSE))","v":""},null,null,null,null,null,null,""]
[null,{"$f":"IF(A2478=\"\",\"\",VLOOKUP(A2478,PARAMETROS!$B$3:$C$3,2,FALSE))","v":""},null,{"$f":"IF(C2478=\"\",\"\",VLOOKUP(C2478,PARAMETROS!$G$3:$H$21,2,FALSE))","v":""},null,{"$f":"IF(E2478=\"\",\"\",VLOOKUP(E2478,PARAMETROS!$I$3:$J$21,2,FALSE))","v":""},null,null,null,null,null,null,""]
[null,{"$f":"IF(A2479=\"\",\"\",VLOOKUP(A2479,PARAMETROS!$B$3:$C$3,2,FALSE))","v":""},null,{"$f":"IF(C2479=\"\",\"\",VLOOKUP(C2479,PARAMETROS!$G$3:$H$21,2,FALSE))","v":""},null,{"$f":"IF(E2479=\"\",\"\",VLOOKUP(E2479,PARAMETROS!$I$3:$J$21,2,FALSE))","v":""},null,null,null,null,null,null,""]
[null,{"$f":"IF(A2480=\"\",\"\",VLOOKUP(A2480,PARAMETROS!$B$3:$C$3,2,FALSE))","v":""},null,{"$f":"IF(C2480=\"\",\"\",VLOOKUP(C2480,PARAMETROS!$G$3:$H$21,2,FALSE))","v":""},null,{"$f":"IF(E2480=\"\",\"\",VLOOKUP(E2480,PARAMETROS!$I$3:$J$21,2,FALSE))","v":""},null,null,null,null,null,null,""]
[null,{"$f":"IF(A2481=\"\",\"\",VLOOKUP(A2481,PARAMETROS!$B$3:$C$3,2,FALSE))","v":""},null,{"$f":"IF(C2481=\"\",\"\",VLOOKUP(C2481,PARAMETROS!$G$3:$H$21,2,FALSE))","v":""},null,{"$f":"IF(E2481=\"\",\"\",VLOOKUP(E2481,PARAMETROS!$I$3:$J$21,2,FALSE))","v":""},null,null,null,null,null,null,""]
[null,{"$f":"IF(A2482=\"\",\"\",VLOOKUP(A2482,PARAMETROS!$B$3:$C$3,2,FALSE))","v":""},null,{"$f":"IF(C2482=\"\",\"\",VLOOKUP(C2482,PARAMETROS!$G$3:$H$21,2,FALSE))","v":""},null,{"$f":"IF(E2482=\"\",\"\",VLOOKUP(E2482,PARAMETROS!$I$3:$J$21,2,FALSE))","v":""},null,null,null,null,null,null,""]
[null,{"$f":"IF(A2483=\"\",\"\",VLOOKUP(A2483,PARAMETROS!$B$3:$C$3,2,FALSE))","v":""},null,{"$f":"IF(C2483=\"\",\"\",VLOOKUP(C2483,PARAMETROS!$G$3:$H$21,2,FALSE))","v":""},null,{"$f":"IF(E2483=\"\",\"\",VLOOKUP(E2483,PARAMETROS!$I$3:$J$21,2,FALSE))","v":""},null,null,null,null,null,null,""]
[null,{"$f":"IF(A2484=\"\",\"\",VLOOKUP(A2484,PARAMETROS!$B$3:$C$3,2,FALSE))","v":""},null,{"$f":"IF(C2484=\"\",\"\",VLOOKUP(C2484,PARAMETROS!$G$3:$H$21,2,FALSE))","v":""},null,{"$f":"IF(E2484=\"\",\"\",VLOOKUP(E2484,PARAMETROS!$I$3:$J$21,2,FALSE))","v":""},null,null,null,null,null,null,""]
[null,{"$f":"IF(A2485=\"\",\"\",VLOOKUP(A2485,PARAMETROS!$B$3:$C$3,2,FALSE))","v":""},null,{"$f":"IF(C2485=\"\",\"\",VLOOKUP(C2485,PARAMETROS!$G$3:$H$21,2,FALSE))","v":""},null,{"$f":"IF(E2485=\"\",\"\",VLOOKUP(E2485,PARAMETROS!$I$3:$J$21,2,FALSE))","v":""},null,null,null,null,null,null,""]
[null,{"$f":"IF(A2486=\"\",\"\",VLOOKUP(A2486,PARAMETROS!$B$3:$C$3,2,FALSE))","v":""},null,{"$f":"IF(C2486=\"\",\"\",VLOOKUP(C2486,PARAMETROS!$G$3:$H$21,2,FALSE))","v":""},null,{"$f":"IF(E2486=\"\",\"\",VLOOKUP(E2486,PARAMETROS!$I$3:$J$21,2,FALSE))","v":""},null,null,null,null,null,null,""]
[null,{"$f":"IF(A2487=\"\",\"\",VLOOKUP(A2487,PARAMETROS!$B$3:$C$3,2,FALSE))","v":""},null,{"$f":"IF(C2487=\"\",\"\",VLOOKUP(C2487,PARAMETROS!$G$3:$H$21,2,FALSE))","v":""},null,{"$f":"IF(E2487=\"\",\"\",VLOOKUP(E2487,PARAMETROS!$I$3:$J$21,2,FALSE))","v":""},null,null,null,null,null,null,""]
[null,{"$f":"IF(A2488=\"\",\"\",VLOOKUP(A2488,PARAMETROS!$B$3:$C$3,2,FALSE))","v":""},null,{"$f":"IF(C2488=\"\",\"\",VLOOKUP(C2488,PARAMETROS!$G$3:$H$21,2,FALSE))","v":""},null,{"$f":"IF(E2488=\"\",\"\",VLOOKUP(E2488,PARAMETROS!$I$3:$J$21,2,FALSE))","v":""},null,null,null,null,null,null,""]
[null,{"$f":"IF(A2489=\"\",\"\",VLOOKUP(A2489,PARAMETROS!$B$3:$C$3,2,FALSE))","v":""},null,{"$f":"IF(C2489=\"\",\"\",VLOOKUP(C2489,PARAMETROS!$G$3:$H$21,2,FALSE))","v":""},null,{"$f":"IF(E2489=\"\",\"\",VLOOKUP(E2489,PARAMETROS!$I$3:$J$21,2,FALSE))","v":""},null,null,null,null,null,null,""]
[null,{"$f":"IF(A2490=\"\",\"\",VLOOKUP(A2490,PARAMETROS!$B$3:$C$3,2,FALSE))","v":""},null,{"$f":"IF(C2490=\"\",\"\",VLOOKUP(C2490,PARAMETROS!$G$3:$H$21,2,FALSE))","v":""},null,{"$f":"IF(E2490=\"\",\"\",VLOOKUP(E2490,PARAMETROS!$I$3:$J$21,2,FALSE))","v":""},null,null,null,null,null,null,""]
[null,{"$f":"IF(A2491=\"\",\"\",VLOOKUP(A2491,PARAMETROS!$B$3:$C$3,2,FALSE))","v":""},null,{"$f":"IF(C2491=\"\",\"\",VLOOKUP(C2491,PARAMETROS!$G$3:$H$21,2,FALSE))","v":""},null,{"$f":"IF(E2491=\"\",\"\",VLOOKUP(E2491,PARAMETROS!$I$3:$J$21,2,FALSE))","v":""},null,null,null,null,null,null,""]
[null,{"$f":"IF(A2492=\"\",\"\",VLOOKUP(A2492,PARAMETROS!$B$3:$C$3,2,FALSE))","v":""},null,{"$f":"IF(C2492=\"\",\"\",VLOOKUP(C2492,PARAMETROS!$G$3:$H$21,2,FALSE))","v":""},null,{"$f":"IF(E2492=\"\",\"\",VLOOKUP(E2492,PARAMETROS!$I$3:$J$21,2,FALSE))","v":""},null,null,null,null,null,null,""]
[null,{"$f":"IF(A2493=\"\",\"\",VLOOKUP(A2493,PARAMETROS!$B$3:$C$3,2,FALSE))","v":""},null,{"$f":"IF(C2493=\"\",\"\",VLOOKUP(C2493,PARAMETROS!$G$3:$H$21,2,FALSE))","v":""},null,{"$f":"IF(E2493=\"\",\"\",VLOOKUP(E2493,PARAMETROS!$I$3:$J$21,2,FALSE))","v":""},null,null,null,null,null,null,""]
[null,{"$f":"IF(A2494=\"\",\"\",VLOOKUP(A2494,PARAMETROS!$B$3:$C$3,2,FALSE))","v":""},null,{"$f":"IF(C2494=\"\",\"\",VLOOKUP(C2494,PARAMETROS!$G$3:$H$21,2,FALSE))","v":""},null,{"$f":"IF(E2494=\"\",\"\",VLOOKUP(E2494,PARAMETROS!$I$3:$J$21,2,FALSE))","v":""},null,null,null,null,null,null,""]
[null,{"$f":"IF(A2495=\"\",\"\",VLOOKUP(A2495,PARAMETROS!$B$3:$C$3,2,FALSE))","v":""},null,{"$f":"IF(C2495=\"\",\"\",VLOOKUP(C2495,PARAMETROS!$G$3:$H$21,2,FALSE))","v":""},null,{"$f":"IF(E2495=\"\",\"\",VLOOKUP(E2495,PARAMETROS!$I$3:$J$21,2,FALSE))","v":""},null,null,null,null,null,null,""]
[null,{"$f":"IF(A2496=\"\",\"\",VLOOKUP(A2496,PARAMETROS!$B$3:$C$3,2,FALSE))","v":""},null,{"$f":"IF(C2496=\"\",\"\",VLOOKUP(C2496,PARAMETROS!$G$3:$H$21,2,FALSE))","v":""},null,{"$f":"IF(E2496=\"\",\"\",VLOOKUP(E2496,PARAMETROS!$I$3:$J$21,2,FALSE))","v":""},null,null,null,null,null,null,""]
[null,{"$f":"IF(A2497=\"\",\"\",VLOOKUP(A2497,PARAMETROS!$B$3:$C$3,2,FALSE))","v":""},null,{"$f":"IF(C2497=\"\",\"\",VLOOKUP(C2497,PARAMETROS!$G$3:$H$21,2,FALSE))","v":""},null,{"$f":"IF(E2497=\"\",\"\",VLOOKUP(E2497,PARAMETROS!$I$3:$J$21,2,FALSE))","v":""},null,null,null,null,null,null,""]
[null,{"$f":"IF(A2498=\"\",\"\",VLOOKUP(A2498,PARAMETROS!$B$3:$C$3,2,FALSE))","v":""},null,{"$f":"IF(C2498=\"\",\"\",VLOOKUP(C2498,PARAMETROS!$G$3:$H$21,2,FALSE))","v":""},null,{"$f":"IF(E2498=\"\",\"\",VLOOKUP(E2498,PARAMETROS!$I$3:$J$21,2,FALSE))","v":""},null,null,null,null,null,null,""]
[null,{"$f":"IF(A2499=\"\",\"\",VLOOKUP(A2499,PARAMETROS!$B$3:$C$3,2,FALSE))","v":""},null,{"$f":"IF(C2499=\"\",\"\",VLOOKUP(C2499,PARAMETROS!$G$3:$H$21,2,FALSE))","v":""},null,{"$f":"IF(E2499=\"\",\"\",VLOOKUP(E2499,PARAMETROS!$I$3:$J$21,2,FALSE))","v":""},null,null,null,null,null,null,""]
[null,{"$f":"IF(A2500=\"\",\"\",VLOOKUP(A2500,PARAMETROS!$B$3:$C$3,2,FALSE))","v":""},null,{"$f":"IF(C2500=\"\",\"\",VLOOKUP(C2500,PARAMETROS!$G$3:$H$21,2,FALSE))","v":""},null,{"$f":"IF(E2500=\"\",\"\",VLOOKUP(E2500,PARAMETROS!$I$3:$J$21,2,FALSE))","v":""},null,null,null,null,null,null,""]
[null,{"$f":"IF(A2501=\"\",\"\",VLOOKUP(A2501,PARAMETROS!$B$3:$C$3,2,FALSE))","v":""},null,{"$f":"IF(C2501=\"\",\"\",VLOOKUP(C2501,PARAMETROS!$G$3:$H$21,2,FALSE))","v":""},null,{"$f":"IF(E2501=\"\",\"\",VLOOKUP(E2501,PARAMETROS!$I$3:$J$21,2,FALSE))","v":""},null,null,null,null,null,null,""]
[null,{"$f":"IF(A2502=\"\",\"\",VLOOKUP(A2502,PARAMETROS!$B$3:$C$3,2,FALSE))","v":""},null,{"$f":"IF(C2502=\"\",\"\",VLOOKUP(C2502,PARAMETROS!$G$3:$H$21,2,FALSE))","v":""},null,{"$f":"IF(E2502=\"\",\"\",VLOOKUP(E2502,PARAMETROS!$I$3:$J$21,2,FALSE))","v":""},null,null,null,null,null,null,""]
[null,{"$f":"IF(A2503=\"\",\"\",VLOOKUP(A2503,PARAMETROS!$B$3:$C$3,2,FALSE))","v":""},null,{"$f":"IF(C2503=\"\",\"\",VLOOKUP(C2503,PARAMETROS!$G$3:$H$21,2,FALSE))","v":""},null,{"$f":"IF(E2503=\"\",\"\",VLOOKUP(E2503,PARAMETROS!$I$3:$J$21,2,FALSE))","v":""},null,null,null,null,null,null,""]
[null,{"$f":"IF(A2504=\"\",\"\",VLOOKUP(A2504,PARAMETROS!$B$3:$C$3,2,FALSE))","v":""},null,{"$f":"IF(C2504=\"\",\"\",VLOOKUP(C2504,PARAMETROS!$G$3:$H$21,2,FALSE))","v":""},null,{"$f":"IF(E2504=\"\",\"\",VLOOKUP(E2504,PARAMETROS!$I$3:$J$21,2,FALSE))","v":""},null,null,null,null,null,null,""]
[null,{"$f":"IF(A2505=\"\",\"\",VLOOKUP(A2505,PARAMETROS!$B$3:$C$3,2,FALSE))","v":""},null,{"$f":"IF(C2505=\"\",\"\",VLOOKUP(C2505,PARAMETROS!$G$3:$H$21,2,FALSE))","v":""},null,{"$f":"IF(E2505=\"\",\"\",VLOOKUP(E2505,PARAMETROS!$I$3:$J$21,2,FALSE))","v":""},null,null,null,null,null,null,""]
[null,{"$f":"IF(A2506=\"\",\"\",VLOOKUP(A2506,PARAMETROS!$B$3:$C$3,2,FALSE))","v":""},null,{"$f":"IF(C2506=\"\",\"\",VLOOKUP(C2506,PARAMETROS!$G$3:$H$21,2,FALSE))","v":""},null,{"$f":"IF(E2506=\"\",\"\",VLOOKUP(E2506,PARAMETROS!$I$3:$J$21,2,FALSE))","v":""},null,null,null,null,null,null,""]
[null,{"$f":"IF(A2507=\"\",\"\",VLOOKUP(A2507,PARAMETROS!$B$3:$C$3,2,FALSE))","v":""},null,{"$f":"IF(C2507=\"\",\"\",VLOOKUP(C2507,PARAMETROS!$G$3:$H$21,2,FALSE))","v":""},null,{"$f":"IF(E2507=\"\",\"\",VLOOKUP(E2507,PARAMETROS!$I$3:$J$21,2,FALSE))","v":""},null,null,null,null,null,null,""]
[null,{"$f":"IF(A2508=\"\",\"\",VLOOKUP(A2508,PARAMETROS!$B$3:$C$3,2,FALSE))","v":""},null,{"$f":"IF(C2508=\"\",\"\",VLOOKUP(C2508,PARAMETROS!$G$3:$H$21,2,FALSE))","v":""},null,{"$f":"IF(E2508=\"\",\"\",VLOOKUP(E2508,PARAMETROS!$I$3:$J$21,2,FALSE))","v":""},null,null,null,null,null,null,""]
[null,{"$f":"IF(A2509=\"\",\"\",VLOOKUP(A2509,PARAMETROS!$B$3:$C$3,2,FALSE))","v":""},null,{"$f":"IF(C2509=\"\",\"\",VLOOKUP(C2509,PARAMETROS!$G$3:$H$21,2,FALSE))","v":""},null,{"$f":"IF(E2509=\"\",\"\",VLOOKUP(E2509,PARAMETROS!$I$3:$J$21,2,FALSE))","v":""},null,null,null,null,null,null,""]
[null,{"$f":"IF(A2510=\"\",\"\",VLOOKUP(A2510,PARAMETROS!$B$3:$C$3,2,FALSE))","v":""},null,{"$f":"IF(C2510=\"\",\"\",VLOOKUP(C2510,PARAMETROS!$G$3:$H$21,2,FALSE))","v":""},null,{"$f":"IF(E2510=\"\",\"\",VLOOKUP(E2510,PARAMETROS!$I$3:$J$21,2,FALSE))","v":""},null,null,null,null,null,null,""]
[null,{"$f":"IF(A2511=\"\",\"\",VLOOKUP(A2511,PARAMETROS!$B$3:$C$3,2,FALSE))","v":""},null,{"$f":"IF(C2511=\"\",\"\",VLOOKUP(C2511,PARAMETROS!$G$3:$H$21,2,FALSE))","v":""},null,{"$f":"IF(E2511=\"\",\"\",VLOOKUP(E2511,PARAMETROS!$I$3:$J$21,2,FALSE))","v":""},null,null,null,null,null,null,{"$f":"IF(L2511=\"\", \"\", L2511)","v":""}]
[null,{"$f":"IF(A2512=\"\",\"\",VLOOKUP(A2512,PARAMETROS!$B$3:$C$3,2,FALSE))","v":""},null,{"$f":"IF(C2512=\"\",\"\",VLOOKUP(C2512,PARAMETROS!$G$3:$H$21,2,FALSE))","v":""},null,{"$f":"IF(E2512=\"\",\"\",VLOOKUP(E2512,PARAMETROS!$I$3:$J$21,2,FALSE))","v":""},null,null,null,null,null,null,""]
[null,{"$f":"IF(A2513=\"\",\"\",VLOOKUP(A2513,PARAMETROS!$B$3:$C$3,2,FALSE))","v":""},null,{"$f":"IF(C2513=\"\",\"\",VLOOKUP(C2513,PARAMETROS!$G$3:$H$21,2,FALSE))","v":""},null,{"$f":"IF(E2513=\"\",\"\",VLOOKUP(E2513,PARAMETROS!$I$3:$J$21,2,FALSE))","v":""},null,null,null,null,null,null,""]
[null,{"$f":"IF(A2514=\"\",\"\",VLOOKUP(A2514,PARAMETROS!$B$3:$C$3,2,FALSE))","v":""},null,{"$f":"IF(C2514=\"\",\"\",VLOOKUP(C2514,PARAMETROS!$G$3:$H$21,2,FALSE))","v":""},null,{"$f":"IF(E2514=\"\",\"\",VLOOKUP(E2514,PARAMETROS!$I$3:$J$21,2,FALSE))","v":""},null,null,null,null,null,null,""]
[null,{"$f":"IF(A2515=\"\",\"\",VLOOKUP(A2515,PARAMETROS!$B$3:$C$3,2,FALSE))","v":""},null,{"$f":"IF(C2515=\"\",\"\",VLOOKUP(C2515,PARAMETROS!$G$3:$H$21,2,FALSE))","v":""},null,{"$f":"IF(E2515=\"\",\"\",VLOOKUP(E2515,PARAMETROS!$I$3:$J$21,2,FALSE))","v":""},null,null,null,null,null,null,""]
[null,{"$f":"IF(A2516=\"\",\"\",VLOOKUP(A2516,PARAMETROS!$B$3:$C$3,2,FALSE))","v":""},null,{"$f":"IF(C2516=\"\",\"\",VLOOKUP(C2516,PARAMETROS!$G$3:$H$21,2,FALSE))","v":""},null,{"$f":"IF(E2516=\"\",\"\",VLOOKUP(E2516,PARAMETROS!$I$3:$J$21,2,FALSE))","v":""},null,null,null,null,null,null,""]
[null,{"$f":"IF(A2517=\"\",\"\",VLOOKUP(A2517,PARAMETROS!$B$3:$C$3,2,FALSE))","v":""},null,{"$f":"IF(C2517=\"\",\"\",VLOOKUP(C2517,PARAMETROS!$G$3:$H$21,2,FALSE))","v":""},null,{"$f":"IF(E2517=\"\",\"\",VLOOKUP(E2517,PARAMETROS!$I$3:$J$21,2,FALSE))","v":""},null,null,null,null,null,null,""]
[null,{"$f":"IF(A2518=\"\",\"\",VLOOKUP(A2518,PARAMETROS!$B$3:$C$3,2,FALSE))","v":""},null,{"$f":"IF(C2518=\"\",\"\",VLOOKUP(C2518,PARAMETROS!$G$3:$H$21,2,FALSE))","v":""},null,{"$f":"IF(E2518=\"\",\"\",VLOOKUP(E2518,PARAMETROS!$I$3:$J$21,2,FALSE))","v":""},null,null,null,null,null,null,""]
[null,{"$f":"IF(A2519=\"\",\"\",VLOOKUP(A2519,PARAMETROS!$B$3:$C$3,2,FALSE))","v":""},null,{"$f":"IF(C2519=\"\",\"\",VLOOKUP(C2519,PARAMETROS!$G$3:$H$21,2,FALSE))","v":""},null,{"$f":"IF(E2519=\"\",\"\",VLOOKUP(E2519,PARAMETROS!$I$3:$J$21,2,FALSE))","v":""},null,null,null,null,null,null,""]
[null,{"$f":"IF(A2520=\"\",\"\",VLOOKUP(A2520,PARAMETROS!$B$3:$C$3,2,FALSE))","v":""},null,{"$f":"IF(C2520=\"\",\"\",VLOOKUP(C2520,PARAMETROS!$G$3:$H$21,2,FALSE))","v":""},null,{"$f":"IF(E2520=\"\",\"\",VLOOKUP(E2520,PARAMETROS!$I$3:$J$21,2,FALSE))","v":""},null,null,null,null,null,null,""]
[null,{"$f":"IF(A2521=\"\",\"\",VLOOKUP(A2521,PARAMETROS!$B$3:$C$3,2,FALSE))","v":""},null,{"$f":"IF(C2521=\"\",\"\",VLOOKUP(C2521,PARAMETROS!$G$3:$H$21,2,FALSE))","v":""},null,{"$f":"IF(E2521=\"\",\"\",VLOOKUP(E2521,PARAMETROS!$I$3:$J$21,2,FALSE))","v":""},null,null,null,null,null,null,""]
[null,{"$f":"IF(A2522=\"\",\"\",VLOOKUP(A2522,PARAMETROS!$B$3:$C$3,2,FALSE))","v":""},null,{"$f":"IF(C2522=\"\",\"\",VLOOKUP(C2522,PARAMETROS!$G$3:$H$21,2,FALSE))","v":""},null,{"$f":"IF(E2522=\"\",\"\",VLOOKUP(E2522,PARAMETROS!$I$3:$J$21,2,FALSE))","v":""},null,null,null,null,null,null,""]
[null,{"$f":"IF(A2523=\"\",\"\",VLOOKUP(A2523,PARAMETROS!$B$3:$C$3,2,FALSE))","v":""},null,{"$f":"IF(C2523=\"\",\"\",VLOOKUP(C2523,PARAMETROS!$G$3:$H$21,2,FALSE))","v":""},null,{"$f":"IF(E2523=\"\",\"\",VLOOKUP(E2523,PARAMETROS!$I$3:$J$21,2,FALSE))","v":""},null,null,null,null,null,null,""]
[null,{"$f":"IF(A2524=\"\",\"\",VLOOKUP(A2524,PARAMETROS!$B$3:$C$3,2,FALSE))","v":""},null,{"$f":"IF(C2524=\"\",\"\",VLOOKUP(C2524,PARAMETROS!$G$3:$H$21,2,FALSE))","v":""},null,{"$f":"IF(E2524=\"\",\"\",VLOOKUP(E2524,PARAMETROS!$I$3:$J$21,2,FALSE))","v":""},null,null,null,null,null,null,""]
[null,{"$f":"IF(A2525=\"\",\"\",VLOOKUP(A2525,PARAMETROS!$B$3:$C$3,2,FALSE))","v":""},null,{"$f":"IF(C2525=\"\",\"\",VLOOKUP(C2525,PARAMETROS!$G$3:$H$21,2,FALSE))","v":""},null,{"$f":"IF(E2525=\"\",\"\",VLOOKUP(E2525,PARAMETROS!$I$3:$J$21,2,FALSE))","v":""},null,null,null,null,null,null,""]
[null,{"$f":"IF(A2526=\"\",\"\",VLOOKUP(A2526,PARAMETROS!$B$3:$C$3,2,FALSE))","v":""},null,{"$f":"IF(C2526=\"\",\"\",VLOOKUP(C2526,PARAMETROS!$G$3:$H$21,2,FALSE))","v":""},null,{"$f":"IF(E2526=\"\",\"\",VLOOKUP(E2526,PARAMETROS!$I$3:$J$21,2,FALSE))","v":""},null,null,null,null,null,null,""]
[null,{"$f":"IF(A2527=\"\",\"\",VLOOKUP(A2527,PARAMETROS!$B$3:$C$3,2,FALSE))","v":""},null,{"$f":"IF(C2527=\"\",\"\",VLOOKUP(C2527,PARAMETROS!$G$3:$H$21,2,FALSE))","v":""},null,{"$f":"IF(E2527=\"\",\"\",VLOOKUP(E2527,PARAMETROS!$I$3:$J$21,2,FALSE))","v":""},null,null,null,null,null,null,""]
[null,{"$f":"IF(A2528=\"\",\"\",VLOOKUP(A2528,PARAMETROS!$B$3:$C$3,2,FALSE))","v":""},null,{"$f":"IF(C2528=\"\",\"\",VLOOKUP(C2528,PARAMETROS!$G$3:$H$21,2,FALSE))","v":""},null,{"$f":"IF(E2528=\"\",\"\",VLOOKUP(E2528,PARAMETROS!$I$3:$J$21,2,FALSE))","v":""},null,null,null,null,null,null,""]
[null,{"$f":"IF(A2529=\"\",\"\",VLOOKUP(A2529,PARAMETROS!$B$3:$C$3,2,FALSE))","v":""},null,{"$f":"IF(C2529=\"\",\"\",VLOOKUP(C2529,PARAMETROS!$G$3:$H$21,2,FALSE))","v":""},null,{"$f":"IF(E2529=\"\",\"\",VLOOKUP(E2529,PARAMETROS!$I$3:$J$21,2,FALSE))","v":""},null,null,null,null,null,null,""]
[null,{"$f":"IF(A2530=\"\",\"\",VLOOKUP(A2530,PARAMETROS!$B$3:$C$3,2,FALSE))","v":""},null,{"$f":"IF(C2530=\"\",\"\",VLOOKUP(C2530,PARAMETROS!$G$3:$H$21,2,FALSE))","v":""},null,{"$f":"IF(E2530=\"\",\"\",VLOOKUP(E2530,PARAMETROS!$I$3:$J$21,2,FALSE))","v":""},null,null,null,null,null,null,""]
[null,{"$f":"IF(A2531=\"\",\"\",VLOOKUP(A2531,PARAMETROS!$B$3:$C$3,2,FALSE))","v":""},null,{"$f":"IF(C2531=\"\",\"\",VLOOKUP(C2531,PARAMETROS!$G$3:$H$21,2,FALSE))","v":""},null,{"$f":"IF(E2531=\"\",\"\",VLOOKUP(E2531,PARAMETROS!$I$3:$J$21,2,FALSE))","v":""},null,null,null,null,null,null,""]
[null,{"$f":"IF(A2532=\"\",\"\",VLOOKUP(A2532,PARAMETROS!$B$3:$C$3,2,FALSE))","v":""},null,{"$f":"IF(C2532=\"\",\"\",VLOOKUP(C2532,PARAMETROS!$G$3:$H$21,2,FALSE))","v":""},null,{"$f":"IF(E2532=\"\",\"\",VLOOKUP(E2532,PARAMETROS!$I$3:$J$21,2,FALSE))","v":""},null,null,null,null,null,null,""]
[null,{"$f":"IF(A2533=\"\",\"\",VLOOKUP(A2533,PARAMETROS!$B$3:$C$3,2,FALSE))","v":""},null,{"$f":"IF(C2533=\"\",\"\",VLOOKUP(C2533,PARAMETROS!$G$3:$H$21,2,FALSE))","v":""},null,{"$f":"IF(E2533=\"\",\"\",VLOOKUP(E2533,PARAMETROS!$I$3:$J$21,2,FALSE))","v":""},null,null,null,null,null,null,""]
[null,{"$f":"IF(A2534=\"\",\"\",VLOOKUP(A2534,PARAMETROS!$B$3:$C$3,2,FALSE))","v":""},null,{"$f":"IF(C2534=\"\",\"\",VLOOKUP(C2534,PARAMETROS!$G$3:$H$21,2,FALSE))","v":""},null,{"$f":"IF(E2534=\"\",\"\",VLOOKUP(E2534,PARAMETROS!$I$3:$J$21,2,FALSE))","v":""},null,null,null,null,null,null,""]
[null,{"$f":"IF(A2535=\"\",\"\",VLOOKUP(A2535,PARAMETROS!$B$3:$C$3,2,FALSE))","v":""},null,{"$f":"IF(C2535=\"\",\"\",VLOOKUP(C2535,PARAMETROS!$G$3:$H$21,2,FALSE))","v":""},null,{"$f":"IF(E2535=\"\",\"\",VLOOKUP(E2535,PARAMETROS!$I$3:$J$21,2,FALSE))","v":""},null,null,null,null,null,null,""]
[null,{"$f":"IF(A2536=\"\",\"\",VLOOKUP(A2536,PARAMETROS!$B$3:$C$3,2,FALSE))","v":""},null,{"$f":"IF(C2536=\"\",\"\",VLOOKUP(C2536,PARAMETROS!$G$3:$H$21,2,FALSE))","v":""},null,{"$f":"IF(E2536=\"\",\"\",VLOOKUP(E2536,PARAMETROS!$I$3:$J$21,2,FALSE))","v":""},null,null,null,null,null,null,""]
[null,{"$f":"IF(A2537=\"\",\"\",VLOOKUP(A2537,PARAMETROS!$B$3:$C$3,2,FALSE))","v":""},null,{"$f":"IF(C2537=\"\",\"\",VLOOKUP(C2537,PARAMETROS!$G$3:$H$21,2,FALSE))","v":""},null,{"$f":"IF(E2537=\"\",\"\",VLOOKUP(E2537,PARAMETROS!$I$3:$J$21,2,FALSE))","v":""},null,null,null,null,null,null,""]
[null,{"$f":"IF(A2538=\"\",\"\",VLOOKUP(A2538,PARAMETROS!$B$3:$C$3,2,FALSE))","v":""},null,{"$f":"IF(C2538=\"\",\"\",VLOOKUP(C2538,PARAMETROS!$G$3:$H$21,2,FALSE))","v":""},null,{"$f":"IF(E2538=\"\",\"\",VLOOKUP(E2538,PARAMETROS!$I$3:$J$21,2,FALSE))","v":""},null,null,null,null,null,null,""]
[null,{"$f":"IF(A2539=\"\",\"\",VLOOKUP(A2539,PARAMETROS!$B$3:$C$3,2,FALSE))","v":""},null,{"$f":"IF(C2539=\"\",\"\",VLOOKUP(C2539,PARAMETROS!$G$3:$H$21,2,FALSE))","v":""},null,{"$f":"IF(E2539=\"\",\"\",VLOOKUP(E2539,PARAMETROS!$I$3:$J$21,2,FALSE))","v":""},null,null,null,null,null,null,""]
[null,{"$f":"IF(A2540=\"\",\"\",VLOOKUP(A2540,PARAMETROS!$B$3:$C$3,2,FALSE))","v":""},null,{"$f":"IF(C2540=\"\",\"\",VLOOKUP(C2540,PARAMETROS!$G$3:$H$21,2,FALSE))","v":""},null,{"$f":"IF(E2540=\"\",\"\",VLOOKUP(E2540,PARAMETROS!$I$3:$J$21,2,FALSE))","v":""},null,null,null,null,null,null,""]
[null,{"$f":"IF(A2541=\"\",\"\",VLOOKUP(A2541,PARAMETROS!$B$3:$C$3,2,FALSE))","v":""},null,{"$f":"IF(C2541=\"\",\"\",VLOOKUP(C2541,PARAMETROS!$G$3:$H$21,2,FALSE))","v":""},null,{"$f":"IF(E2541=\"\",\"\",VLOOKUP(E2541,PARAMETROS!$I$3:$J$21,2,FALSE))","v":""},null,null,null,null,null,null,""]
[null,{"$f":"IF(A2542=\"\",\"\",VLOOKUP(A2542,PARAMETROS!$B$3:$C$3,2,FALSE))","v":""},null,{"$f":"IF(C2542=\"\",\"\",VLOOKUP(C2542,PARAMETROS!$G$3:$H$21,2,FALSE))","v":""},null,{"$f":"IF(E2542=\"\",\"\",VLOOKUP(E2542,PARAMETROS!$I$3:$J$21,2,FALSE))","v":""},null,null,null,null,null,null,""]
[null,{"$f":"IF(A2543=\"\",\"\",VLOOKUP(A2543,PARAMETROS!$B$3:$C$3,2,FALSE))","v":""},null,{"$f":"IF(C2543=\"\",\"\",VLOOKUP(C2543,PARAMETROS!$G$3:$H$21,2,FALSE))","v":""},null,{"$f":"IF(E2543=\"\",\"\",VLOOKUP(E2543,PARAMETROS!$I$3:$J$21,2,FALSE))","v":""},null,null,null,null,null,null,""]
[null,{"$f":"IF(A2544=\"\",\"\",VLOOKUP(A2544,PARAMETROS!$B$3:$C$3,2,FALSE))","v":""},null,{"$f":"IF(C2544=\"\",\"\",VLOOKUP(C2544,PARAMETROS!$G$3:$H$21,2,FALSE))","v":""},null,{"$f":"IF(E2544=\"\",\"\",VLOOKUP(E2544,PARAMETROS!$I$3:$J$21,2,FALSE))","v":""},null,null,null,null,null,null,""]
[null,{"$f":"IF(A2545=\"\",\"\",VLOOKUP(A2545,PARAMETROS!$B$3:$C$3,2,FALSE))","v":""},null,{"$f":"IF(C2545=\"\",\"\",VLOOKUP(C2545,PARAMETROS!$G$3:$H$21,2,FALSE))","v":""},null,{"$f":"IF(E2545=\"\",\"\",VLOOKUP(E2545,PARAMETROS!$I$3:$J$21,2,FALSE))","v":""},null,null,null,null,null,null,""]
[null,{"$f":"IF(A2546=\"\",\"\",VLOOKUP(A2546,PARAMETROS!$B$3:$C$3,2,FALSE))","v":""},null,{"$f":"IF(C2546=\"\",\"\",VLOOKUP(C2546,PARAMETROS!$G$3:$H$21,2,FALSE))","v":""},null,{"$f":"IF(E2546=\"\",\"\",VLOOKUP(E2546,PARAMETROS!$I$3:$J$21,2,FALSE))","v":""},null,null,null,null,null,null,""]
[null,{"$f":"IF(A2547=\"\",\"\",VLOOKUP(A2547,PARAMETROS!$B$3:$C$3,2,FALSE))","v":""},null,{"$f":"IF(C2547=\"\",\"\",VLOOKUP(C2547,PARAMETROS!$G$3:$H$21,2,FALSE))","v":""},null,{"$f":"IF(E2547=\"\",\"\",VLOOKUP(E2547,PARAMETROS!$I$3:$J$21,2,FALSE))","v":""},null,null,null,null,null,null,""]
[null,{"$f":"IF(A2548=\"\",\"\",VLOOKUP(A2548,PARAMETROS!$B$3:$C$3,2,FALSE))","v":""},null,{"$f":"IF(C2548=\"\",\"\",VLOOKUP(C2548,PARAMETROS!$G$3:$H$21,2,FALSE))","v":""},null,{"$f":"IF(E2548=\"\",\"\",VLOOKUP(E2548,PARAMETROS!$I$3:$J$21,2,FALSE))","v":""},null,null,null,null,null,null,""]
[null,{"$f":"IF(A2549=\"\",\"\",VLOOKUP(A2549,PARAMETROS!$B$3:$C$3,2,FALSE))","v":""},null,{"$f":"IF(C2549=\"\",\"\",VLOOKUP(C2549,PARAMETROS!$G$3:$H$21,2,FALSE))","v":""},null,{"$f":"IF(E2549=\"\",\"\",VLOOKUP(E2549,PARAMETROS!$I$3:$J$21,2,FALSE))","v":""},null,null,null,null,null,null,""]
[null,{"$f":"IF(A2550=\"\",\"\",VLOOKUP(A2550,PARAMETROS!$B$3:$C$3,2,FALSE))","v":""},null,{"$f":"IF(C2550=\"\",\"\",VLOOKUP(C2550,PARAMETROS!$G$3:$H$21,2,FALSE))","v":""},null,{"$f":"IF(E2550=\"\",\"\",VLOOKUP(E2550,PARAMETROS!$I$3:$J$21,2,FALSE))","v":""},null,null,null,null,null,null,""]
[null,{"$f":"IF(A2551=\"\",\"\",VLOOKUP(A2551,PARAMETROS!$B$3:$C$3,2,FALSE))","v":""},null,{"$f":"IF(C2551=\"\",\"\",VLOOKUP(C2551,PARAMETROS!$G$3:$H$21,2,FALSE))","v":""},null,{"$f":"IF(E2551=\"\",\"\",VLOOKUP(E2551,PARAMETROS!$I$3:$J$21,2,FALSE))","v":""},null,null,null,null,null,null,""]
[null,{"$f":"IF(A2552=\"\",\"\",VLOOKUP(A2552,PARAMETROS!$B$3:$C$3,2,FALSE))","v":""},null,{"$f":"IF(C2552=\"\",\"\",VLOOKUP(C2552,PARAMETROS!$G$3:$H$21,2,FALSE))","v":""},null,{"$f":"IF(E2552=\"\",\"\",VLOOKUP(E2552,PARAMETROS!$I$3:$J$21,2,FALSE))","v":""},null,null,null,null,null,null,""]
[null,{"$f":"IF(A2553=\"\",\"\",VLOOKUP(A2553,PARAMETROS!$B$3:$C$3,2,FALSE))","v":""},null,{"$f":"IF(C2553=\"\",\"\",VLOOKUP(C2553,PARAMETROS!$G$3:$H$21,2,FALSE))","v":""},null,{"$f":"IF(E2553=\"\",\"\",VLOOKUP(E2553,PARAMETROS!$I$3:$J$21,2,FALSE))","v":""},null,null,null,null,null,null,""]
[null,{"$f":"IF(A2554=\"\",\"\",VLOOKUP(A2554,PARAMETROS!$B$3:$C$3,2,FALSE))","v":""},null,{"$f":"IF(C2554=\"\",\"\",VLOOKUP(C2554,PARAMETROS!$G$3:$H$21,2,FALSE))","v":""},null,{"$f":"IF(E2554=\"\",\"\",VLOOKUP(E2554,PARAMETROS!$I$3:$J$21,2,FALSE))","v":""},null,null,null,null,null,null,""]
[null,{"$f":"IF(A2555=\"\",\"\",VLOOKUP(A2555,PARAMETROS!$B$3:$C$3,2,FALSE))","v":""},null,{"$f":"IF(C2555=\"\",\"\",VLOOKUP(C2555,PARAMETROS!$G$3:$H$21,2,FALSE))","v":""},null,{"$f":"IF(E2555=\"\",\"\",VLOOKUP(E2555,PARAMETROS!$I$3:$J$21,2,FALSE))","v":""},null,null,null,null,null,null,""]
[null,{"$f":"IF(A2556=\"\",\"\",VLOOKUP(A2556,PARAMETROS!$B$3:$C$3,2,FALSE))","v":""},null,{"$f":"IF(C2556=\"\",\"\",VLOOKUP(C2556,PARAMETROS!$G$3:$H$21,2,FALSE))","v":""},null,{"$f":"IF(E2556=\"\",\"\",VLOOKUP(E2556,PARAMETROS!$I$3:$J$21,2,FALSE))","v":""},null,null,null,null,null,null,""]
[null,{"$f":"IF(A2557=\"\",\"\",VLOOKUP(A2557,PARAMETROS!$B$3:$C$3,2,FALSE))","v":""},null,{"$f":"IF(C2557=\"\",\"\",VLOOKUP(C2557,PARAMETROS!$G$3:$H$21,2,FALSE))","v":""},null,{"$f":"IF(E2557=\"\",\"\",VLOOKUP(E2557,PARAMETROS!$I$3:$J$21,2,FALSE))","v":""},null,null,null,null,null,null,""]
[null,{"$f":"IF(A2558=\"\",\"\",VLOOKUP(A2558,PARAMETROS!$B$3:$C$3,2,FALSE))","v":""},null,{"$f":"IF(C2558=\"\",\"\",VLOOKUP(C2558,PARAMETROS!$G$3:$H$21,2,FALSE))","v":""},null,{"$f":"IF(E2558=\"\",\"\",VLOOKUP(E2558,PARAMETROS!$I$3:$J$21,2,FALSE))","v":""},null,null,null,null,null,null,""]
[null,{"$f":"IF(A2559=\"\",\"\",VLOOKUP(A2559,PARAMETROS!$B$3:$C$3,2,FALSE))","v":""},null,{"$f":"IF(C2559=\"\",\"\",VLOOKUP(C2559,PARAMETROS!$G$3:$H$21,2,FALSE))","v":""},null,{"$f":"IF(E2559=\"\",\"\",VLOOKUP(E2559,PARAMETROS!$I$3:$J$21,2,FALSE))","v":""},null,null,null,null,null,null,""]
[null,{"$f":"IF(A2560=\"\",\"\",VLOOKUP(A2560,PARAMETROS!$B$3:$C$3,2,FALSE))","v":""},null,{"$f":"IF(C2560=\"\",\"\",VLOOKUP(C2560,PARAMETROS!$G$3:$H$21,2,FALSE))","v":""},null,{"$f":"IF(E2560=\"\",\"\",VLOOKUP(E2560,PARAMETROS!$I$3:$J$21,2,FALSE))","v":""},null,null,null,null,null,null,""]
[null,{"$f":"IF(A2561=\"\",\"\",VLOOKUP(A2561,PARAMETROS!$B$3:$C$3,2,FALSE))","v":""},null,{"$f":"IF(C2561=\"\",\"\",VLOOKUP(C2561,PARAMETROS!$G$3:$H$21,2,FALSE))","v":""},null,{"$f":"IF(E2561=\"\",\"\",VLOOKUP(E2561,PARAMETROS!$I$3:$J$21,2,FALSE))","v":""},null,null,null,null,null,null,""]
[null,{"$f":"IF(A2562=\"\",\"\",VLOOKUP(A2562,PARAMETROS!$B$3:$C$3,2,FALSE))","v":""},null,{"$f":"IF(C2562=\"\",\"\",VLOOKUP(C2562,PARAMETROS!$G$3:$H$21,2,FALSE))","v":""},null,{"$f":"IF(E2562=\"\",\"\",VLOOKUP(E2562,PARAMETROS!$I$3:$J$21,2,FALSE))","v":""},null,null,null,null,null,null,""]
[null,{"$f":"IF(A2563=\"\",\"\",VLOOKUP(A2563,PARAMETROS!$B$3:$C$3,2,FALSE))","v":""},null,{"$f":"IF(C2563=\"\",\"\",VLOOKUP(C2563,PARAMETROS!$G$3:$H$21,2,FALSE))","v":""},null,{"$f":"IF(E2563=\"\",\"\",VLOOKUP(E2563,PARAMETROS!$I$3:$J$21,2,FALSE))","v":""},null,null,null,null,null,null,""]
[null,{"$f":"IF(A2564=\"\",\"\",VLOOKUP(A2564,PARAMETROS!$B$3:$C$3,2,FALSE))","v":""},null,{"$f":"IF(C2564=\"\",\"\",VLOOKUP(C2564,PARAMETROS!$G$3:$H$21,2,FALSE))","v":""},null,{"$f":"IF(E2564=\"\",\"\",VLOOKUP(E2564,PARAMETROS!$I$3:$J$21,2,FALSE))","v":""},null,null,null,null,null,null,""]
[null,{"$f":"IF(A2565=\"\",\"\",VLOOKUP(A2565,PARAMETROS!$B$3:$C$3,2,FALSE))","v":""},null,{"$f":"IF(C2565=\"\",\"\",VLOOKUP(C2565,PARAMETROS!$G$3:$H$21,2,FALSE))","v":""},null,{"$f":"IF(E2565=\"\",\"\",VLOOKUP(E2565,PARAMETROS!$I$3:$J$21,2,FALSE))","v":""},null,null,null,null,null,null,""]
[null,{"$f":"IF(A2566=\"\",\"\",VLOOKUP(A2566,PARAMETROS!$B$3:$C$3,2,FALSE))","v":""},null,{"$f":"IF(C2566=\"\",\"\",VLOOKUP(C2566,PARAMETROS!$G$3:$H$21,2,FALSE))","v":""},null,{"$f":"IF(E2566=\"\",\"\",VLOOKUP(E2566,PARAMETROS!$I$3:$J$21,2,FALSE))","v":""},null,null,null,null,null,null,""]
[null,{"$f":"IF(A2567=\"\",\"\",VLOOKUP(A2567,PARAMETROS!$B$3:$C$3,2,FALSE))","v":""},null,{"$f":"IF(C2567=\"\",\"\",VLOOKUP(C2567,PARAMETROS!$G$3:$H$21,2,FALSE))","v":""},null,{"$f":"IF(E2567=\"\",\"\",VLOOKUP(E2567,PARAMETROS!$I$3:$J$21,2,FALSE))","v":""},null,null,null,null,null,null,""]
[null,{"$f":"IF(A2568=\"\",\"\",VLOOKUP(A2568,PARAMETROS!$B$3:$C$3,2,FALSE))","v":""},null,{"$f":"IF(C2568=\"\",\"\",VLOOKUP(C2568,PARAMETROS!$G$3:$H$21,2,FALSE))","v":""},null,{"$f":"IF(E2568=\"\",\"\",VLOOKUP(E2568,PARAMETROS!$I$3:$J$21,2,FALSE))","v":""},null,null,null,null,null,null,""]
[null,{"$f":"IF(A2569=\"\",\"\",VLOOKUP(A2569,PARAMETROS!$B$3:$C$3,2,FALSE))","v":""},null,{"$f":"IF(C2569=\"\",\"\",VLOOKUP(C2569,PARAMETROS!$G$3:$H$21,2,FALSE))","v":""},null,{"$f":"IF(E2569=\"\",\"\",VLOOKUP(E2569,PARAMETROS!$I$3:$J$21,2,FALSE))","v":""},null,null,null,null,null,null,""]
[null,{"$f":"IF(A2570=\"\",\"\",VLOOKUP(A2570,PARAMETROS!$B$3:$C$3,2,FALSE))","v":""},null,{"$f":"IF(C2570=\"\",\"\",VLOOKUP(C2570,PARAMETROS!$G$3:$H$21,2,FALSE))","v":""},null,{"$f":"IF(E2570=\"\",\"\",VLOOKUP(E2570,PARAMETROS!$I$3:$J$21,2,FALSE))","v":""},null,null,null,null,null,null,""]
[null,{"$f":"IF(A2571=\"\",\"\",VLOOKUP(A2571,PARAMETROS!$B$3:$C$3,2,FALSE))","v":""},null,{"$f":"IF(C2571=\"\",\"\",VLOOKUP(C2571,PARAMETROS!$G$3:$H$21,2,FALSE))","v":""},null,{"$f":"IF(E2571=\"\",\"\",VLOOKUP(E2571,PARAMETROS!$I$3:$J$21,2,FALSE))","v":""},null,null,null,null,null,null,""]
[null,{"$f":"IF(A2572=\"\",\"\",VLOOKUP(A2572,PARAMETROS!$B$3:$C$3,2,FALSE))","v":""},null,{"$f":"IF(C2572=\"\",\"\",VLOOKUP(C2572,PARAMETROS!$G$3:$H$21,2,FALSE))","v":""},null,{"$f":"IF(E2572=\"\",\"\",VLOOKUP(E2572,PARAMETROS!$I$3:$J$21,2,FALSE))","v":""},null,null,null,null,null,null,""]
[null,{"$f":"IF(A2573=\"\",\"\",VLOOKUP(A2573,PARAMETROS!$B$3:$C$3,2,FALSE))","v":""},null,{"$f":"IF(C2573=\"\",\"\",VLOOKUP(C2573,PARAMETROS!$G$3:$H$21,2,FALSE))","v":""},null,{"$f":"IF(E2573=\"\",\"\",VLOOKUP(E2573,PARAMETROS!$I$3:$J$21,2,FALSE))","v":""},null,null,null,null,null,null,""]
[null,{"$f":"IF(A2574=\"\",\"\",VLOOKUP(A2574,PARAMETROS!$B$3:$C$3,2,FALSE))","v":""},null,{"$f":"IF(C2574=\"\",\"\",VLOOKUP(C2574,PARAMETROS!$G$3:$H$21,2,FALSE))","v":""},null,{"$f":"IF(E2574=\"\",\"\",VLOOKUP(E2574,PARAMETROS!$I$3:$J$21,2,FALSE))","v":""},null,null,null,null,null,null,""]
[null,{"$f":"IF(A2575=\"\",\"\",VLOOKUP(A2575,PARAMETROS!$B$3:$C$3,2,FALSE))","v":""},null,{"$f":"IF(C2575=\"\",\"\",VLOOKUP(C2575,PARAMETROS!$G$3:$H$21,2,FALSE))","v":""},null,{"$f":"IF(E2575=\"\",\"\",VLOOKUP(E2575,PARAMETROS!$I$3:$J$21,2,FALSE))","v":""},null,null,null,null,null,null,{"$f":"IF(L2575=\"\", \"\", L2575)","v":""}]
[null,{"$f":"IF(A2576=\"\",\"\",VLOOKUP(A2576,PARAMETROS!$B$3:$C$3,2,FALSE))","v":""},null,{"$f":"IF(C2576=\"\",\"\",VLOOKUP(C2576,PARAMETROS!$G$3:$H$21,2,FALSE))","v":""},null,{"$f":"IF(E2576=\"\",\"\",VLOOKUP(E2576,PARAMETROS!$I$3:$J$21,2,FALSE))","v":""},null,null,null,null,null,null,""]
[null,{"$f":"IF(A2577=\"\",\"\",VLOOKUP(A2577,PARAMETROS!$B$3:$C$3,2,FALSE))","v":""},null,{"$f":"IF(C2577=\"\",\"\",VLOOKUP(C2577,PARAMETROS!$G$3:$H$21,2,FALSE))","v":""},null,{"$f":"IF(E2577=\"\",\"\",VLOOKUP(E2577,PARAMETROS!$I$3:$J$21,2,FALSE))","v":""},null,null,null,null,null,null,""]
[null,{"$f":"IF(A2578=\"\",\"\",VLOOKUP(A2578,PARAMETROS!$B$3:$C$3,2,FALSE))","v":""},null,{"$f":"IF(C2578=\"\",\"\",VLOOKUP(C2578,PARAMETROS!$G$3:$H$21,2,FALSE))","v":""},null,{"$f":"IF(E2578=\"\",\"\",VLOOKUP(E2578,PARAMETROS!$I$3:$J$21,2,FALSE))","v":""},null,null,null,null,null,null,""]
[null,{"$f":"IF(A2579=\"\",\"\",VLOOKUP(A2579,PARAMETROS!$B$3:$C$3,2,FALSE))","v":""},null,{"$f":"IF(C2579=\"\",\"\",VLOOKUP(C2579,PARAMETROS!$G$3:$H$21,2,FALSE))","v":""},null,{"$f":"IF(E2579=\"\",\"\",VLOOKUP(E2579,PARAMETROS!$I$3:$J$21,2,FALSE))","v":""},null,null,null,null,null,null,""]
[null,{"$f":"IF(A2580=\"\",\"\",VLOOKUP(A2580,PARAMETROS!$B$3:$C$3,2,FALSE))","v":""},null,{"$f":"IF(C2580=\"\",\"\",VLOOKUP(C2580,PARAMETROS!$G$3:$H$21,2,FALSE))","v":""},null,{"$f":"IF(E2580=\"\",\"\",VLOOKUP(E2580,PARAMETROS!$I$3:$J$21,2,FALSE))","v":""},null,null,null,null,null,null,""]
[null,{"$f":"IF(A2581=\"\",\"\",VLOOKUP(A2581,PARAMETROS!$B$3:$C$3,2,FALSE))","v":""},null,{"$f":"IF(C2581=\"\",\"\",VLOOKUP(C2581,PARAMETROS!$G$3:$H$21,2,FALSE))","v":""},null,{"$f":"IF(E2581=\"\",\"\",VLOOKUP(E2581,PARAMETROS!$I$3:$J$21,2,FALSE))","v":""},null,null,null,null,null,null,""]
[null,{"$f":"IF(A2582=\"\",\"\",VLOOKUP(A2582,PARAMETROS!$B$3:$C$3,2,FALSE))","v":""},null,{"$f":"IF(C2582=\"\",\"\",VLOOKUP(C2582,PARAMETROS!$G$3:$H$21,2,FALSE))","v":""},null,{"$f":"IF(E2582=\"\",\"\",VLOOKUP(E2582,PARAMETROS!$I$3:$J$21,2,FALSE))","v":""},null,null,null,null,null,null,""]
[null,{"$f":"IF(A2583=\"\",\"\",VLOOKUP(A2583,PARAMETROS!$B$3:$C$3,2,FALSE))","v":""},null,{"$f":"IF(C2583=\"\",\"\",VLOOKUP(C2583,PARAMETROS!$G$3:$H$21,2,FALSE))","v":""},null,{"$f":"IF(E2583=\"\",\"\",VLOOKUP(E2583,PARAMETROS!$I$3:$J$21,2,FALSE))","v":""},null,null,null,null,null,null,""]
[null,{"$f":"IF(A2584=\"\",\"\",VLOOKUP(A2584,PARAMETROS!$B$3:$C$3,2,FALSE))","v":""},null,{"$f":"IF(C2584=\"\",\"\",VLOOKUP(C2584,PARAMETROS!$G$3:$H$21,2,FALSE))","v":""},null,{"$f":"IF(E2584=\"\",\"\",VLOOKUP(E2584,PARAMETROS!$I$3:$J$21,2,FALSE))","v":""},null,null,null,null,null,null,""]
[null,{"$f":"IF(A2585=\"\",\"\",VLOOKUP(A2585,PARAMETROS!$B$3:$C$3,2,FALSE))","v":""},null,{"$f":"IF(C2585=\"\",\"\",VLOOKUP(C2585,PARAMETROS!$G$3:$H$21,2,FALSE))","v":""},null,{"$f":"IF(E2585=\"\",\"\",VLOOKUP(E2585,PARAMETROS!$I$3:$J$21,2,FALSE))","v":""},null,null,null,null,null,null,""]
[null,{"$f":"IF(A2586=\"\",\"\",VLOOKUP(A2586,PARAMETROS!$B$3:$C$3,2,FALSE))","v":""},null,{"$f":"IF(C2586=\"\",\"\",VLOOKUP(C2586,PARAMETROS!$G$3:$H$21,2,FALSE))","v":""},null,{"$f":"IF(E2586=\"\",\"\",VLOOKUP(E2586,PARAMETROS!$I$3:$J$21,2,FALSE))","v":""},null,null,null,null,null,null,""]
[null,{"$f":"IF(A2587=\"\",\"\",VLOOKUP(A2587,PARAMETROS!$B$3:$C$3,2,FALSE))","v":""},null,{"$f":"IF(C2587=\"\",\"\",VLOOKUP(C2587,PARAMETROS!$G$3:$H$21,2,FALSE))","v":""},null,{"$f":"IF(E2587=\"\",\"\",VLOOKUP(E2587,PARAMETROS!$I$3:$J$21,2,FALSE))","v":""},null,null,null,null,null,null,""]
[null,{"$f":"IF(A2588=\"\",\"\",VLOOKUP(A2588,PARAMETROS!$B$3:$C$3,2,FALSE))","v":""},null,{"$f":"IF(C2588=\"\",\"\",VLOOKUP(C2588,PARAMETROS!$G$3:$H$21,2,FALSE))","v":""},null,{"$f":"IF(E2588=\"\",\"\",VLOOKUP(E2588,PARAMETROS!$I$3:$J$21,2,FALSE))","v":""},null,null,null,null,null,null,""]
[null,{"$f":"IF(A2589=\"\",\"\",VLOOKUP(A2589,PARAMETROS!$B$3:$C$3,2,FALSE))","v":""},null,{"$f":"IF(C2589=\"\",\"\",VLOOKUP(C2589,PARAMETROS!$G$3:$H$21,2,FALSE))","v":""},null,{"$f":"IF(E2589=\"\",\"\",VLOOKUP(E2589,PARAMETROS!$I$3:$J$21,2,FALSE))","v":""},null,null,null,null,null,null,""]
[null,{"$f":"IF(A2590=\"\",\"\",VLOOKUP(A2590,PARAMETROS!$B$3:$C$3,2,FALSE))","v":""},null,{"$f":"IF(C2590=\"\",\"\",VLOOKUP(C2590,PARAMETROS!$G$3:$H$21,2,FALSE))","v":""},null,{"$f":"IF(E2590=\"\",\"\",VLOOKUP(E2590,PARAMETROS!$I$3:$J$21,2,FALSE))","v":""},null,null,null,null,null,null,""]
[null,{"$f":"IF(A2591=\"\",\"\",VLOOKUP(A2591,PARAMETROS!$B$3:$C$3,2,FALSE))","v":""},null,{"$f":"IF(C2591=\"\",\"\",VLOOKUP(C2591,PARAMETROS!$G$3:$H$21,2,FALSE))","v":""},null,{"$f":"IF(E2591=\"\",\"\",VLOOKUP(E2591,PARAMETROS!$I$3:$J$21,2,FALSE))","v":""},null,null,null,null,null,null,""]
[null,{"$f":"IF(A2592=\"\",\"\",VLOOKUP(A2592,PARAMETROS!$B$3:$C$3,2,FALSE))","v":""},null,{"$f":"IF(C2592=\"\",\"\",VLOOKUP(C2592,PARAMETROS!$G$3:$H$21,2,FALSE))","v":""},null,{"$f":"IF(E2592=\"\",\"\",VLOOKUP(E2592,PARAMETROS!$I$3:$J$21,2,FALSE))","v":""},null,null,null,null,null,null,""]
[null,{"$f":"IF(A2593=\"\",\"\",VLOOKUP(A2593,PARAMETROS!$B$3:$C$3,2,FALSE))","v":""},null,{"$f":"IF(C2593=\"\",\"\",VLOOKUP(C2593,PARAMETROS!$G$3:$H$21,2,FALSE))","v":""},null,{"$f":"IF(E2593=\"\",\"\",VLOOKUP(E2593,PARAMETROS!$I$3:$J$21,2,FALSE))","v":""},null,null,null,null,null,null,""]
[null,{"$f":"IF(A2594=\"\",\"\",VLOOKUP(A2594,PARAMETROS!$B$3:$C$3,2,FALSE))","v":""},null,{"$f":"IF(C2594=\"\",\"\",VLOOKUP(C2594,PARAMETROS!$G$3:$H$21,2,FALSE))","v":""},null,{"$f":"IF(E2594=\"\",\"\",VLOOKUP(E2594,PARAMETROS!$I$3:$J$21,2,FALSE))","v":""},null,null,null,null,null,null,""]
[null,{"$f":"IF(A2595=\"\",\"\",VLOOKUP(A2595,PARAMETROS!$B$3:$C$3,2,FALSE))","v":""},null,{"$f":"IF(C2595=\"\",\"\",VLOOKUP(C2595,PARAMETROS!$G$3:$H$21,2,FALSE))","v":""},null,{"$f":"IF(E2595=\"\",\"\",VLOOKUP(E2595,PARAMETROS!$I$3:$J$21,2,FALSE))","v":""},null,null,null,null,null,null,""]
[null,{"$f":"IF(A2596=\"\",\"\",VLOOKUP(A2596,PARAMETROS!$B$3:$C$3,2,FALSE))","v":""},null,{"$f":"IF(C2596=\"\",\"\",VLOOKUP(C2596,PARAMETROS!$G$3:$H$21,2,FALSE))","v":""},null,{"$f":"IF(E2596=\"\",\"\",VLOOKUP(E2596,PARAMETROS!$I$3:$J$21,2,FALSE))","v":""},null,null,null,null,null,null,""]
[null,{"$f":"IF(A2597=\"\",\"\",VLOOKUP(A2597,PARAMETROS!$B$3:$C$3,2,FALSE))","v":""},null,{"$f":"IF(C2597=\"\",\"\",VLOOKUP(C2597,PARAMETROS!$G$3:$H$21,2,FALSE))","v":""},null,{"$f":"IF(E2597=\"\",\"\",VLOOKUP(E2597,PARAMETROS!$I$3:$J$21,2,FALSE))","v":""},null,null,null,null,null,null,""]
[null,{"$f":"IF(A2598=\"\",\"\",VLOOKUP(A2598,PARAMETROS!$B$3:$C$3,2,FALSE))","v":""},null,{"$f":"IF(C2598=\"\",\"\",VLOOKUP(C2598,PARAMETROS!$G$3:$H$21,2,FALSE))","v":""},null,{"$f":"IF(E2598=\"\",\"\",VLOOKUP(E2598,PARAMETROS!$I$3:$J$21,2,FALSE))","v":""},null,null,null,null,null,null,""]
[null,{"$f":"IF(A2599=\"\",\"\",VLOOKUP(A2599,PARAMETROS!$B$3:$C$3,2,FALSE))","v":""},null,{"$f":"IF(C2599=\"\",\"\",VLOOKUP(C2599,PARAMETROS!$G$3:$H$21,2,FALSE))","v":""},null,{"$f":"IF(E2599=\"\",\"\",VLOOKUP(E2599,PARAMETROS!$I$3:$J$21,2,FALSE))","v":""},null,null,null,null,null,null,""]
[null,{"$f":"IF(A2600=\"\",\"\",VLOOKUP(A2600,PARAMETROS!$B$3:$C$3,2,FALSE))","v":""},null,{"$f":"IF(C2600=\"\",\"\",VLOOKUP(C2600,PARAMETROS!$G$3:$H$21,2,FALSE))","v":""},null,{"$f":"IF(E2600=\"\",\"\",VLOOKUP(E2600,PARAMETROS!$I$3:$J$21,2,FALSE))","v":""},null,null,null,null,null,null,""]
[null,{"$f":"IF(A2601=\"\",\"\",VLOOKUP(A2601,PARAMETROS!$B$3:$C$3,2,FALSE))","v":""},null,{"$f":"IF(C2601=\"\",\"\",VLOOKUP(C2601,PARAMETROS!$G$3:$H$21,2,FALSE))","v":""},null,{"$f":"IF(E2601=\"\",\"\",VLOOKUP(E2601,PARAMETROS!$I$3:$J$21,2,FALSE))","v":""},null,null,null,null,null,null,""]
[null,{"$f":"IF(A2602=\"\",\"\",VLOOKUP(A2602,PARAMETROS!$B$3:$C$3,2,FALSE))","v":""},null,{"$f":"IF(C2602=\"\",\"\",VLOOKUP(C2602,PARAMETROS!$G$3:$H$21,2,FALSE))","v":""},null,{"$f":"IF(E2602=\"\",\"\",VLOOKUP(E2602,PARAMETROS!$I$3:$J$21,2,FALSE))","v":""},null,null,null,null,null,null,""]
[null,{"$f":"IF(A2603=\"\",\"\",VLOOKUP(A2603,PARAMETROS!$B$3:$C$3,2,FALSE))","v":""},null,{"$f":"IF(C2603=\"\",\"\",VLOOKUP(C2603,PARAMETROS!$G$3:$H$21,2,FALSE))","v":""},null,{"$f":"IF(E2603=\"\",\"\",VLOOKUP(E2603,PARAMETROS!$I$3:$J$21,2,FALSE))","v":""},null,null,null,null,null,null,""]
[null,{"$f":"IF(A2604=\"\",\"\",VLOOKUP(A2604,PARAMETROS!$B$3:$C$3,2,FALSE))","v":""},null,{"$f":"IF(C2604=\"\",\"\",VLOOKUP(C2604,PARAMETROS!$G$3:$H$21,2,FALSE))","v":""},null,{"$f":"IF(E2604=\"\",\"\",VLOOKUP(E2604,PARAMETROS!$I$3:$J$21,2,FALSE))","v":""},null,null,null,null,null,null,""]
[null,{"$f":"IF(A2605=\"\",\"\",VLOOKUP(A2605,PARAMETROS!$B$3:$C$3,2,FALSE))","v":""},null,{"$f":"IF(C2605=\"\",\"\",VLOOKUP(C2605,PARAMETROS!$G$3:$H$21,2,FALSE))","v":""},null,{"$f":"IF(E2605=\"\",\"\",VLOOKUP(E2605,PARAMETROS!$I$3:$J$21,2,FALSE))","v":""},null,null,null,null,null,null,""]
[null,{"$f":"IF(A2606=\"\",\"\",VLOOKUP(A2606,PARAMETROS!$B$3:$C$3,2,FALSE))","v":""},null,{"$f":"IF(C2606=\"\",\"\",VLOOKUP(C2606,PARAMETROS!$G$3:$H$21,2,FALSE))","v":""},null,{"$f":"IF(E2606=\"\",\"\",VLOOKUP(E2606,PARAMETROS!$I$3:$J$21,2,FALSE))","v":""},null,null,null,null,null,null,""]
[null,{"$f":"IF(A2607=\"\",\"\",VLOOKUP(A2607,PARAMETROS!$B$3:$C$3,2,FALSE))","v":""},null,{"$f":"IF(C2607=\"\",\"\",VLOOKUP(C2607,PARAMETROS!$G$3:$H$21,2,FALSE))","v":""},null,{"$f":"IF(E2607=\"\",\"\",VLOOKUP(E2607,PARAMETROS!$I$3:$J$21,2,FALSE))","v":""},null,null,null,null,null,null,""]
[null,{"$f":"IF(A2608=\"\",\"\",VLOOKUP(A2608,PARAMETROS!$B$3:$C$3,2,FALSE))","v":""},null,{"$f":"IF(C2608=\"\",\"\",VLOOKUP(C2608,PARAMETROS!$G$3:$H$21,2,FALSE))","v":""},null,{"$f":"IF(E2608=\"\",\"\",VLOOKUP(E2608,PARAMETROS!$I$3:$J$21,2,FALSE))","v":""},null,null,null,null,null,null,""]
[null,{"$f":"IF(A2609=\"\",\"\",VLOOKUP(A2609,PARAMETROS!$B$3:$C$3,2,FALSE))","v":""},null,{"$f":"IF(C2609=\"\",\"\",VLOOKUP(C2609,PARAMETROS!$G$3:$H$21,2,FALSE))","v":""},null,{"$f":"IF(E2609=\"\",\"\",VLOOKUP(E2609,PARAMETROS!$I$3:$J$21,2,FALSE))","v":""},null,null,null,null,null,null,""]
[null,{"$f":"IF(A2610=\"\",\"\",VLOOKUP(A2610,PARAMETROS!$B$3:$C$3,2,FALSE))","v":""},null,{"$f":"IF(C2610=\"\",\"\",VLOOKUP(C2610,PARAMETROS!$G$3:$H$21,2,FALSE))","v":""},null,{"$f":"IF(E2610=\"\",\"\",VLOOKUP(E2610,PARAMETROS!$I$3:$J$21,2,FALSE))","v":""},null,null,null,null,null,null,""]
[null,{"$f":"IF(A2611=\"\",\"\",VLOOKUP(A2611,PARAMETROS!$B$3:$C$3,2,FALSE))","v":""},null,{"$f":"IF(C2611=\"\",\"\",VLOOKUP(C2611,PARAMETROS!$G$3:$H$21,2,FALSE))","v":""},null,{"$f":"IF(E2611=\"\",\"\",VLOOKUP(E2611,PARAMETROS!$I$3:$J$21,2,FALSE))","v":""},null,null,null,null,null,null,""]
[null,{"$f":"IF(A2612=\"\",\"\",VLOOKUP(A2612,PARAMETROS!$B$3:$C$3,2,FALSE))","v":""},null,{"$f":"IF(C2612=\"\",\"\",VLOOKUP(C2612,PARAMETROS!$G$3:$H$21,2,FALSE))","v":""},null,{"$f":"IF(E2612=\"\",\"\",VLOOKUP(E2612,PARAMETROS!$I$3:$J$21,2,FALSE))","v":""},null,null,null,null,null,null,""]
[null,{"$f":"IF(A2613=\"\",\"\",VLOOKUP(A2613,PARAMETROS!$B$3:$C$3,2,FALSE))","v":""},null,{"$f":"IF(C2613=\"\",\"\",VLOOKUP(C2613,PARAMETROS!$G$3:$H$21,2,FALSE))","v":""},null,{"$f":"IF(E2613=\"\",\"\",VLOOKUP(E2613,PARAMETROS!$I$3:$J$21,2,FALSE))","v":""},null,null,null,null,null,null,""]
[null,{"$f":"IF(A2614=\"\",\"\",VLOOKUP(A2614,PARAMETROS!$B$3:$C$3,2,FALSE))","v":""},null,{"$f":"IF(C2614=\"\",\"\",VLOOKUP(C2614,PARAMETROS!$G$3:$H$21,2,FALSE))","v":""},null,{"$f":"IF(E2614=\"\",\"\",VLOOKUP(E2614,PARAMETROS!$I$3:$J$21,2,FALSE))","v":""},null,null,null,null,null,null,""]
[null,{"$f":"IF(A2615=\"\",\"\",VLOOKUP(A2615,PARAMETROS!$B$3:$C$3,2,FALSE))","v":""},null,{"$f":"IF(C2615=\"\",\"\",VLOOKUP(C2615,PARAMETROS!$G$3:$H$21,2,FALSE))","v":""},null,{"$f":"IF(E2615=\"\",\"\",VLOOKUP(E2615,PARAMETROS!$I$3:$J$21,2,FALSE))","v":""},null,null,null,null,null,null,""]
[null,{"$f":"IF(A2616=\"\",\"\",VLOOKUP(A2616,PARAMETROS!$B$3:$C$3,2,FALSE))","v":""},null,{"$f":"IF(C2616=\"\",\"\",VLOOKUP(C2616,PARAMETROS!$G$3:$H$21,2,FALSE))","v":""},null,{"$f":"IF(E2616=\"\",\"\",VLOOKUP(E2616,PARAMETROS!$I$3:$J$21,2,FALSE))","v":""},null,null,null,null,null,null,""]
[null,{"$f":"IF(A2617=\"\",\"\",VLOOKUP(A2617,PARAMETROS!$B$3:$C$3,2,FALSE))","v":""},null,{"$f":"IF(C2617=\"\",\"\",VLOOKUP(C2617,PARAMETROS!$G$3:$H$21,2,FALSE))","v":""},null,{"$f":"IF(E2617=\"\",\"\",VLOOKUP(E2617,PARAMETROS!$I$3:$J$21,2,FALSE))","v":""},null,null,null,null,null,null,""]
[null,{"$f":"IF(A2618=\"\",\"\",VLOOKUP(A2618,PARAMETROS!$B$3:$C$3,2,FALSE))","v":""},null,{"$f":"IF(C2618=\"\",\"\",VLOOKUP(C2618,PARAMETROS!$G$3:$H$21,2,FALSE))","v":""},null,{"$f":"IF(E2618=\"\",\"\",VLOOKUP(E2618,PARAMETROS!$I$3:$J$21,2,FALSE))","v":""},null,null,null,null,null,null,""]
[null,{"$f":"IF(A2619=\"\",\"\",VLOOKUP(A2619,PARAMETROS!$B$3:$C$3,2,FALSE))","v":""},null,{"$f":"IF(C2619=\"\",\"\",VLOOKUP(C2619,PARAMETROS!$G$3:$H$21,2,FALSE))","v":""},null,{"$f":"IF(E2619=\"\",\"\",VLOOKUP(E2619,PARAMETROS!$I$3:$J$21,2,FALSE))","v":""},null,null,null,null,null,null,""]
[null,{"$f":"IF(A2620=\"\",\"\",VLOOKUP(A2620,PARAMETROS!$B$3:$C$3,2,FALSE))","v":""},null,{"$f":"IF(C2620=\"\",\"\",VLOOKUP(C2620,PARAMETROS!$G$3:$H$21,2,FALSE))","v":""},null,{"$f":"IF(E2620=\"\",\"\",VLOOKUP(E2620,PARAMETROS!$I$3:$J$21,2,FALSE))","v":""},null,null,null,null,null,null,""]
[null,{"$f":"IF(A2621=\"\",\"\",VLOOKUP(A2621,PARAMETROS!$B$3:$C$3,2,FALSE))","v":""},null,{"$f":"IF(C2621=\"\",\"\",VLOOKUP(C2621,PARAMETROS!$G$3:$H$21,2,FALSE))","v":""},null,{"$f":"IF(E2621=\"\",\"\",VLOOKUP(E2621,PARAMETROS!$I$3:$J$21,2,FALSE))","v":""},null,null,null,null,null,null,""]
[null,{"$f":"IF(A2622=\"\",\"\",VLOOKUP(A2622,PARAMETROS!$B$3:$C$3,2,FALSE))","v":""},null,{"$f":"IF(C2622=\"\",\"\",VLOOKUP(C2622,PARAMETROS!$G$3:$H$21,2,FALSE))","v":""},null,{"$f":"IF(E2622=\"\",\"\",VLOOKUP(E2622,PARAMETROS!$I$3:$J$21,2,FALSE))","v":""},null,null,null,null,null,null,""]
[null,{"$f":"IF(A2623=\"\",\"\",VLOOKUP(A2623,PARAMETROS!$B$3:$C$3,2,FALSE))","v":""},null,{"$f":"IF(C2623=\"\",\"\",VLOOKUP(C2623,PARAMETROS!$G$3:$H$21,2,FALSE))","v":""},null,{"$f":"IF(E2623=\"\",\"\",VLOOKUP(E2623,PARAMETROS!$I$3:$J$21,2,FALSE))","v":""},null,null,null,null,null,null,""]
[null,{"$f":"IF(A2624=\"\",\"\",VLOOKUP(A2624,PARAMETROS!$B$3:$C$3,2,FALSE))","v":""},null,{"$f":"IF(C2624=\"\",\"\",VLOOKUP(C2624,PARAMETROS!$G$3:$H$21,2,FALSE))","v":""},null,{"$f":"IF(E2624=\"\",\"\",VLOOKUP(E2624,PARAMETROS!$I$3:$J$21,2,FALSE))","v":""},null,null,null,null,null,null,""]
[null,{"$f":"IF(A2625=\"\",\"\",VLOOKUP(A2625,PARAMETROS!$B$3:$C$3,2,FALSE))","v":""},null,{"$f":"IF(C2625=\"\",\"\",VLOOKUP(C2625,PARAMETROS!$G$3:$H$21,2,FALSE))","v":""},null,{"$f":"IF(E2625=\"\",\"\",VLOOKUP(E2625,PARAMETROS!$I$3:$J$21,2,FALSE))","v":""},null,null,null,null,null,null,""]
[null,{"$f":"IF(A2626=\"\",\"\",VLOOKUP(A2626,PARAMETROS!$B$3:$C$3,2,FALSE))","v":""},null,{"$f":"IF(C2626=\"\",\"\",VLOOKUP(C2626,PARAMETROS!$G$3:$H$21,2,FALSE))","v":""},null,{"$f":"IF(E2626=\"\",\"\",VLOOKUP(E2626,PARAMETROS!$I$3:$J$21,2,FALSE))","v":""},null,null,null,null,null,null,""]
[null,{"$f":"IF(A2627=\"\",\"\",VLOOKUP(A2627,PARAMETROS!$B$3:$C$3,2,FALSE))","v":""},null,{"$f":"IF(C2627=\"\",\"\",VLOOKUP(C2627,PARAMETROS!$G$3:$H$21,2,FALSE))","v":""},null,{"$f":"IF(E2627=\"\",\"\",VLOOKUP(E2627,PARAMETROS!$I$3:$J$21,2,FALSE))","v":""},null,null,null,null,null,null,""]
[null,{"$f":"IF(A2628=\"\",\"\",VLOOKUP(A2628,PARAMETROS!$B$3:$C$3,2,FALSE))","v":""},null,{"$f":"IF(C2628=\"\",\"\",VLOOKUP(C2628,PARAMETROS!$G$3:$H$21,2,FALSE))","v":""},null,{"$f":"IF(E2628=\"\",\"\",VLOOKUP(E2628,PARAMETROS!$I$3:$J$21,2,FALSE))","v":""},null,null,null,null,null,null,""]
[null,{"$f":"IF(A2629=\"\",\"\",VLOOKUP(A2629,PARAMETROS!$B$3:$C$3,2,FALSE))","v":""},null,{"$f":"IF(C2629=\"\",\"\",VLOOKUP(C2629,PARAMETROS!$G$3:$H$21,2,FALSE))","v":""},null,{"$f":"IF(E2629=\"\",\"\",VLOOKUP(E2629,PARAMETROS!$I$3:$J$21,2,FALSE))","v":""},null,null,null,null,null,null,""]
[null,{"$f":"IF(A2630=\"\",\"\",VLOOKUP(A2630,PARAMETROS!$B$3:$C$3,2,FALSE))","v":""},null,{"$f":"IF(C2630=\"\",\"\",VLOOKUP(C2630,PARAMETROS!$G$3:$H$21,2,FALSE))","v":""},null,{"$f":"IF(E2630=\"\",\"\",VLOOKUP(E2630,PARAMETROS!$I$3:$J$21,2,FALSE))","v":""},null,null,null,null,null,null,""]
[null,{"$f":"IF(A2631=\"\",\"\",VLOOKUP(A2631,PARAMETROS!$B$3:$C$3,2,FALSE))","v":""},null,{"$f":"IF(C2631=\"\",\"\",VLOOKUP(C2631,PARAMETROS!$G$3:$H$21,2,FALSE))","v":""},null,{"$f":"IF(E2631=\"\",\"\",VLOOKUP(E2631,PARAMETROS!$I$3:$J$21,2,FALSE))","v":""},null,null,null,null,null,null,""]
[null,{"$f":"IF(A2632=\"\",\"\",VLOOKUP(A2632,PARAMETROS!$B$3:$C$3,2,FALSE))","v":""},null,{"$f":"IF(C2632=\"\",\"\",VLOOKUP(C2632,PARAMETROS!$G$3:$H$21,2,FALSE))","v":""},null,{"$f":"IF(E2632=\"\",\"\",VLOOKUP(E2632,PARAMETROS!$I$3:$J$21,2,FALSE))","v":""},null,null,null,null,null,null,""]
[null,{"$f":"IF(A2633=\"\",\"\",VLOOKUP(A2633,PARAMETROS!$B$3:$C$3,2,FALSE))","v":""},null,{"$f":"IF(C2633=\"\",\"\",VLOOKUP(C2633,PARAMETROS!$G$3:$H$21,2,FALSE))","v":""},null,{"$f":"IF(E2633=\"\",\"\",VLOOKUP(E2633,PARAMETROS!$I$3:$J$21,2,FALSE))","v":""},null,null,null,null,null,null,""]
[null,{"$f":"IF(A2634=\"\",\"\",VLOOKUP(A2634,PARAMETROS!$B$3:$C$3,2,FALSE))","v":""},null,{"$f":"IF(C2634=\"\",\"\",VLOOKUP(C2634,PARAMETROS!$G$3:$H$21,2,FALSE))","v":""},null,{"$f":"IF(E2634=\"\",\"\",VLOOKUP(E2634,PARAMETROS!$I$3:$J$21,2,FALSE))","v":""},null,null,null,null,null,null,""]
[null,{"$f":"IF(A2635=\"\",\"\",VLOOKUP(A2635,PARAMETROS!$B$3:$C$3,2,FALSE))","v":""},null,{"$f":"IF(C2635=\"\",\"\",VLOOKUP(C2635,PARAMETROS!$G$3:$H$21,2,FALSE))","v":""},null,{"$f":"IF(E2635=\"\",\"\",VLOOKUP(E2635,PARAMETROS!$I$3:$J$21,2,FALSE))","v":""},null,null,null,null,null,null,""]
[null,{"$f":"IF(A2636=\"\",\"\",VLOOKUP(A2636,PARAMETROS!$B$3:$C$3,2,FALSE))","v":""},null,{"$f":"IF(C2636=\"\",\"\",VLOOKUP(C2636,PARAMETROS!$G$3:$H$21,2,FALSE))","v":""},null,{"$f":"IF(E2636=\"\",\"\",VLOOKUP(E2636,PARAMETROS!$I$3:$J$21,2,FALSE))","v":""},null,null,null,null,null,null,""]
[null,{"$f":"IF(A2637=\"\",\"\",VLOOKUP(A2637,PARAMETROS!$B$3:$C$3,2,FALSE))","v":""},null,{"$f":"IF(C2637=\"\",\"\",VLOOKUP(C2637,PARAMETROS!$G$3:$H$21,2,FALSE))","v":""},null,{"$f":"IF(E2637=\"\",\"\",VLOOKUP(E2637,PARAMETROS!$I$3:$J$21,2,FALSE))","v":""},null,null,null,null,null,null,""]
[null,{"$f":"IF(A2638=\"\",\"\",VLOOKUP(A2638,PARAMETROS!$B$3:$C$3,2,FALSE))","v":""},null,{"$f":"IF(C2638=\"\",\"\",VLOOKUP(C2638,PARAMETROS!$G$3:$H$21,2,FALSE))","v":""},null,{"$f":"IF(E2638=\"\",\"\",VLOOKUP(E2638,PARAMETROS!$I$3:$J$21,2,FALSE))","v":""},null,null,null,null,null,null,""]
[null,{"$f":"IF(A2639=\"\",\"\",VLOOKUP(A2639,PARAMETROS!$B$3:$C$3,2,FALSE))","v":""},null,{"$f":"IF(C2639=\"\",\"\",VLOOKUP(C2639,PARAMETROS!$G$3:$H$21,2,FALSE))","v":""},null,{"$f":"IF(E2639=\"\",\"\",VLOOKUP(E2639,PARAMETROS!$I$3:$J$21,2,FALSE))","v":""},null,null,null,null,null,null,{"$f":"IF(L2639=\"\", \"\", L2639)","v":""}]
[null,{"$f":"IF(A2640=\"\",\"\",VLOOKUP(A2640,PARAMETROS!$B$3:$C$3,2,FALSE))","v":""},null,{"$f":"IF(C2640=\"\",\"\",VLOOKUP(C2640,PARAMETROS!$G$3:$H$21,2,FALSE))","v":""},null,{"$f":"IF(E2640=\"\",\"\",VLOOKUP(E2640,PARAMETROS!$I$3:$J$21,2,FALSE))","v":""},null,null,null,null,null,null,""]
[null,{"$f":"IF(A2641=\"\",\"\",VLOOKUP(A2641,PARAMETROS!$B$3:$C$3,2,FALSE))","v":""},null,{"$f":"IF(C2641=\"\",\"\",VLOOKUP(C2641,PARAMETROS!$G$3:$H$21,2,FALSE))","v":""},null,{"$f":"IF(E2641=\"\",\"\",VLOOKUP(E2641,PARAMETROS!$I$3:$J$21,2,FALSE))","v":""},null,null,null,null,null,null,""]
[null,{"$f":"IF(A2642=\"\",\"\",VLOOKUP(A2642,PARAMETROS!$B$3:$C$3,2,FALSE))","v":""},null,{"$f":"IF(C2642=\"\",\"\",VLOOKUP(C2642,PARAMETROS!$G$3:$H$21,2,FALSE))","v":""},null,{"$f":"IF(E2642=\"\",\"\",VLOOKUP(E2642,PARAMETROS!$I$3:$J$21,2,FALSE))","v":""},null,null,null,null,null,null,""]
[null,{"$f":"IF(A2643=\"\",\"\",VLOOKUP(A2643,PARAMETROS!$B$3:$C$3,2,FALSE))","v":""},null,{"$f":"IF(C2643=\"\",\"\",VLOOKUP(C2643,PARAMETROS!$G$3:$H$21,2,FALSE))","v":""},null,{"$f":"IF(E2643=\"\",\"\",VLOOKUP(E2643,PARAMETROS!$I$3:$J$21,2,FALSE))","v":""},null,null,null,null,null,null,""]
[null,{"$f":"IF(A2644=\"\",\"\",VLOOKUP(A2644,PARAMETROS!$B$3:$C$3,2,FALSE))","v":""},null,{"$f":"IF(C2644=\"\",\"\",VLOOKUP(C2644,PARAMETROS!$G$3:$H$21,2,FALSE))","v":""},null,{"$f":"IF(E2644=\"\",\"\",VLOOKUP(E2644,PARAMETROS!$I$3:$J$21,2,FALSE))","v":""},null,null,null,null,null,null,""]
[null,{"$f":"IF(A2645=\"\",\"\",VLOOKUP(A2645,PARAMETROS!$B$3:$C$3,2,FALSE))","v":""},null,{"$f":"IF(C2645=\"\",\"\",VLOOKUP(C2645,PARAMETROS!$G$3:$H$21,2,FALSE))","v":""},null,{"$f":"IF(E2645=\"\",\"\",VLOOKUP(E2645,PARAMETROS!$I$3:$J$21,2,FALSE))","v":""},null,null,null,null,null,null,""]
[null,{"$f":"IF(A2646=\"\",\"\",VLOOKUP(A2646,PARAMETROS!$B$3:$C$3,2,FALSE))","v":""},null,{"$f":"IF(C2646=\"\",\"\",VLOOKUP(C2646,PARAMETROS!$G$3:$H$21,2,FALSE))","v":""},null,{"$f":"IF(E2646=\"\",\"\",VLOOKUP(E2646,PARAMETROS!$I$3:$J$21,2,FALSE))","v":""},null,null,null,null,null,null,""]
[null,{"$f":"IF(A2647=\"\",\"\",VLOOKUP(A2647,PARAMETROS!$B$3:$C$3,2,FALSE))","v":""},null,{"$f":"IF(C2647=\"\",\"\",VLOOKUP(C2647,PARAMETROS!$G$3:$H$21,2,FALSE))","v":""},null,{"$f":"IF(E2647=\"\",\"\",VLOOKUP(E2647,PARAMETROS!$I$3:$J$21,2,FALSE))","v":""},null,null,null,null,null,null,""]
[null,{"$f":"IF(A2648=\"\",\"\",VLOOKUP(A2648,PARAMETROS!$B$3:$C$3,2,FALSE))","v":""},null,{"$f":"IF(C2648=\"\",\"\",VLOOKUP(C2648,PARAMETROS!$G$3:$H$21,2,FALSE))","v":""},null,{"$f":"IF(E2648=\"\",\"\",VLOOKUP(E2648,PARAMETROS!$I$3:$J$21,2,FALSE))","v":""},null,null,null,null,null,null,""]
[null,{"$f":"IF(A2649=\"\",\"\",VLOOKUP(A2649,PARAMETROS!$B$3:$C$3,2,FALSE))","v":""},null,{"$f":"IF(C2649=\"\",\"\",VLOOKUP(C2649,PARAMETROS!$G$3:$H$21,2,FALSE))","v":""},null,{"$f":"IF(E2649=\"\",\"\",VLOOKUP(E2649,PARAMETROS!$I$3:$J$21,2,FALSE))","v":""},null,null,null,null,null,null,""]
[null,{"$f":"IF(A2650=\"\",\"\",VLOOKUP(A2650,PARAMETROS!$B$3:$C$3,2,FALSE))","v":""},null,{"$f":"IF(C2650=\"\",\"\",VLOOKUP(C2650,PARAMETROS!$G$3:$H$21,2,FALSE))","v":""},null,{"$f":"IF(E2650=\"\",\"\",VLOOKUP(E2650,PARAMETROS!$I$3:$J$21,2,FALSE))","v":""},null,null,null,null,null,null,""]
[null,{"$f":"IF(A2651=\"\",\"\",VLOOKUP(A2651,PARAMETROS!$B$3:$C$3,2,FALSE))","v":""},null,{"$f":"IF(C2651=\"\",\"\",VLOOKUP(C2651,PARAMETROS!$G$3:$H$21,2,FALSE))","v":""},null,{"$f":"IF(E2651=\"\",\"\",VLOOKUP(E2651,PARAMETROS!$I$3:$J$21,2,FALSE))","v":""},null,null,null,null,null,null,""]
[null,{"$f":"IF(A2652=\"\",\"\",VLOOKUP(A2652,PARAMETROS!$B$3:$C$3,2,FALSE))","v":""},null,{"$f":"IF(C2652=\"\",\"\",VLOOKUP(C2652,PARAMETROS!$G$3:$H$21,2,FALSE))","v":""},null,{"$f":"IF(E2652=\"\",\"\",VLOOKUP(E2652,PARAMETROS!$I$3:$J$21,2,FALSE))","v":""},null,null,null,null,null,null,""]
[null,{"$f":"IF(A2653=\"\",\"\",VLOOKUP(A2653,PARAMETROS!$B$3:$C$3,2,FALSE))","v":""},null,{"$f":"IF(C2653=\"\",\"\",VLOOKUP(C2653,PARAMETROS!$G$3:$H$21,2,FALSE))","v":""},null,{"$f":"IF(E2653=\"\",\"\",VLOOKUP(E2653,PARAMETROS!$I$3:$J$21,2,FALSE))","v":""},null,null,null,null,null,null,""]
[null,{"$f":"IF(A2654=\"\",\"\",VLOOKUP(A2654,PARAMETROS!$B$3:$C$3,2,FALSE))","v":""},null,{"$f":"IF(C2654=\"\",\"\",VLOOKUP(C2654,PARAMETROS!$G$3:$H$21,2,FALSE))","v":""},null,{"$f":"IF(E2654=\"\",\"\",VLOOKUP(E2654,PARAMETROS!$I$3:$J$21,2,FALSE))","v":""},null,null,null,null,null,null,""]
[null,{"$f":"IF(A2655=\"\",\"\",VLOOKUP(A2655,PARAMETROS!$B$3:$C$3,2,FALSE))","v":""},null,{"$f":"IF(C2655=\"\",\"\",VLOOKUP(C2655,PARAMETROS!$G$3:$H$21,2,FALSE))","v":""},null,{"$f":"IF(E2655=\"\",\"\",VLOOKUP(E2655,PARAMETROS!$I$3:$J$21,2,FALSE))","v":""},null,null,null,null,null,null,""]
[null,{"$f":"IF(A2656=\"\",\"\",VLOOKUP(A2656,PARAMETROS!$B$3:$C$3,2,FALSE))","v":""},null,{"$f":"IF(C2656=\"\",\"\",VLOOKUP(C2656,PARAMETROS!$G$3:$H$21,2,FALSE))","v":""},null,{"$f":"IF(E2656=\"\",\"\",VLOOKUP(E2656,PARAMETROS!$I$3:$J$21,2,FALSE))","v":""},null,null,null,null,null,null,""]
[null,{"$f":"IF(A2657=\"\",\"\",VLOOKUP(A2657,PARAMETROS!$B$3:$C$3,2,FALSE))","v":""},null,{"$f":"IF(C2657=\"\",\"\",VLOOKUP(C2657,PARAMETROS!$G$3:$H$21,2,FALSE))","v":""},null,{"$f":"IF(E2657=\"\",\"\",VLOOKUP(E2657,PARAMETROS!$I$3:$J$21,2,FALSE))","v":""},null,null,null,null,null,null,""]
[null,{"$f":"IF(A2658=\"\",\"\",VLOOKUP(A2658,PARAMETROS!$B$3:$C$3,2,FALSE))","v":""},null,{"$f":"IF(C2658=\"\",\"\",VLOOKUP(C2658,PARAMETROS!$G$3:$H$21,2,FALSE))","v":""},null,{"$f":"IF(E2658=\"\",\"\",VLOOKUP(E2658,PARAMETROS!$I$3:$J$21,2,FALSE))","v":""},null,null,null,null,null,null,""]
[null,{"$f":"IF(A2659=\"\",\"\",VLOOKUP(A2659,PARAMETROS!$B$3:$C$3,2,FALSE))","v":""},null,{"$f":"IF(C2659=\"\",\"\",VLOOKUP(C2659,PARAMETROS!$G$3:$H$21,2,FALSE))","v":""},null,{"$f":"IF(E2659=\"\",\"\",VLOOKUP(E2659,PARAMETROS!$I$3:$J$21,2,FALSE))","v":""},null,null,null,null,null,null,""]
[null,{"$f":"IF(A2660=\"\",\"\",VLOOKUP(A2660,PARAMETROS!$B$3:$C$3,2,FALSE))","v":""},null,{"$f":"IF(C2660=\"\",\"\",VLOOKUP(C2660,PARAMETROS!$G$3:$H$21,2,FALSE))","v":""},null,{"$f":"IF(E2660=\"\",\"\",VLOOKUP(E2660,PARAMETROS!$I$3:$J$21,2,FALSE))","v":""},null,null,null,null,null,null,""]
[null,{"$f":"IF(A2661=\"\",\"\",VLOOKUP(A2661,PARAMETROS!$B$3:$C$3,2,FALSE))","v":""},null,{"$f":"IF(C2661=\"\",\"\",VLOOKUP(C2661,PARAMETROS!$G$3:$H$21,2,FALSE))","v":""},null,{"$f":"IF(E2661=\"\",\"\",VLOOKUP(E2661,PARAMETROS!$I$3:$J$21,2,FALSE))","v":""},null,null,null,null,null,null,""]
[null,{"$f":"IF(A2662=\"\",\"\",VLOOKUP(A2662,PARAMETROS!$B$3:$C$3,2,FALSE))","v":""},null,{"$f":"IF(C2662=\"\",\"\",VLOOKUP(C2662,PARAMETROS!$G$3:$H$21,2,FALSE))","v":""},null,{"$f":"IF(E2662=\"\",\"\",VLOOKUP(E2662,PARAMETROS!$I$3:$J$21,2,FALSE))","v":""},null,null,null,null,null,null,""]
[null,{"$f":"IF(A2663=\"\",\"\",VLOOKUP(A2663,PARAMETROS!$B$3:$C$3,2,FALSE))","v":""},null,{"$f":"IF(C2663=\"\",\"\",VLOOKUP(C2663,PARAMETROS!$G$3:$H$21,2,FALSE))","v":""},null,{"$f":"IF(E2663=\"\",\"\",VLOOKUP(E2663,PARAMETROS!$I$3:$J$21,2,FALSE))","v":""},null,null,null,null,null,null,""]
[null,{"$f":"IF(A2664=\"\",\"\",VLOOKUP(A2664,PARAMETROS!$B$3:$C$3,2,FALSE))","v":""},null,{"$f":"IF(C2664=\"\",\"\",VLOOKUP(C2664,PARAMETROS!$G$3:$H$21,2,FALSE))","v":""},null,{"$f":"IF(E2664=\"\",\"\",VLOOKUP(E2664,PARAMETROS!$I$3:$J$21,2,FALSE))","v":""},null,null,null,null,null,null,""]
[null,{"$f":"IF(A2665=\"\",\"\",VLOOKUP(A2665,PARAMETROS!$B$3:$C$3,2,FALSE))","v":""},null,{"$f":"IF(C2665=\"\",\"\",VLOOKUP(C2665,PARAMETROS!$G$3:$H$21,2,FALSE))","v":""},null,{"$f":"IF(E2665=\"\",\"\",VLOOKUP(E2665,PARAMETROS!$I$3:$J$21,2,FALSE))","v":""},null,null,null,null,null,null,""]
[null,{"$f":"IF(A2666=\"\",\"\",VLOOKUP(A2666,PARAMETROS!$B$3:$C$3,2,FALSE))","v":""},null,{"$f":"IF(C2666=\"\",\"\",VLOOKUP(C2666,PARAMETROS!$G$3:$H$21,2,FALSE))","v":""},null,{"$f":"IF(E2666=\"\",\"\",VLOOKUP(E2666,PARAMETROS!$I$3:$J$21,2,FALSE))","v":""},null,null,null,null,null,null,""]
[null,{"$f":"IF(A2667=\"\",\"\",VLOOKUP(A2667,PARAMETROS!$B$3:$C$3,2,FALSE))","v":""},null,{"$f":"IF(C2667=\"\",\"\",VLOOKUP(C2667,PARAMETROS!$G$3:$H$21,2,FALSE))","v":""},null,{"$f":"IF(E2667=\"\",\"\",VLOOKUP(E2667,PARAMETROS!$I$3:$J$21,2,FALSE))","v":""},null,null,null,null,null,null,""]
[null,{"$f":"IF(A2668=\"\",\"\",VLOOKUP(A2668,PARAMETROS!$B$3:$C$3,2,FALSE))","v":""},null,{"$f":"IF(C2668=\"\",\"\",VLOOKUP(C2668,PARAMETROS!$G$3:$H$21,2,FALSE))","v":""},null,{"$f":"IF(E2668=\"\",\"\",VLOOKUP(E2668,PARAMETROS!$I$3:$J$21,2,FALSE))","v":""},null,null,null,null,null,null,""]
[null,{"$f":"IF(A2669=\"\",\"\",VLOOKUP(A2669,PARAMETROS!$B$3:$C$3,2,FALSE))","v":""},null,{"$f":"IF(C2669=\"\",\"\",VLOOKUP(C2669,PARAMETROS!$G$3:$H$21,2,FALSE))","v":""},null,{"$f":"IF(E2669=\"\",\"\",VLOOKUP(E2669,PARAMETROS!$I$3:$J$21,2,FALSE))","v":""},null,null,null,null,null,null,""]
[null,{"$f":"IF(A2670=\"\",\"\",VLOOKUP(A2670,PARAMETROS!$B$3:$C$3,2,FALSE))","v":""},null,{"$f":"IF(C2670=\"\",\"\",VLOOKUP(C2670,PARAMETROS!$G$3:$H$21,2,FALSE))","v":""},null,{"$f":"IF(E2670=\"\",\"\",VLOOKUP(E2670,PARAMETROS!$I$3:$J$21,2,FALSE))","v":""},null,null,null,null,null,null,""]
[null,{"$f":"IF(A2671=\"\",\"\",VLOOKUP(A2671,PARAMETROS!$B$3:$C$3,2,FALSE))","v":""},null,{"$f":"IF(C2671=\"\",\"\",VLOOKUP(C2671,PARAMETROS!$G$3:$H$21,2,FALSE))","v":""},null,{"$f":"IF(E2671=\"\",\"\",VLOOKUP(E2671,PARAMETROS!$I$3:$J$21,2,FALSE))","v":""},null,null,null,null,null,null,""]
[null,{"$f":"IF(A2672=\"\",\"\",VLOOKUP(A2672,PARAMETROS!$B$3:$C$3,2,FALSE))","v":""},null,{"$f":"IF(C2672=\"\",\"\",VLOOKUP(C2672,PARAMETROS!$G$3:$H$21,2,FALSE))","v":""},null,{"$f":"IF(E2672=\"\",\"\",VLOOKUP(E2672,PARAMETROS!$I$3:$J$21,2,FALSE))","v":""},null,null,null,null,null,null,""]
[null,{"$f":"IF(A2673=\"\",\"\",VLOOKUP(A2673,PARAMETROS!$B$3:$C$3,2,FALSE))","v":""},null,{"$f":"IF(C2673=\"\",\"\",VLOOKUP(C2673,PARAMETROS!$G$3:$H$21,2,FALSE))","v":""},null,{"$f":"IF(E2673=\"\",\"\",VLOOKUP(E2673,PARAMETROS!$I$3:$J$21,2,FALSE))","v":""},null,null,null,null,null,null,""]
[null,{"$f":"IF(A2674=\"\",\"\",VLOOKUP(A2674,PARAMETROS!$B$3:$C$3,2,FALSE))","v":""},null,{"$f":"IF(C2674=\"\",\"\",VLOOKUP(C2674,PARAMETROS!$G$3:$H$21,2,FALSE))","v":""},null,{"$f":"IF(E2674=\"\",\"\",VLOOKUP(E2674,PARAMETROS!$I$3:$J$21,2,FALSE))","v":""},null,null,null,null,null,null,""]
[null,{"$f":"IF(A2675=\"\",\"\",VLOOKUP(A2675,PARAMETROS!$B$3:$C$3,2,FALSE))","v":""},null,{"$f":"IF(C2675=\"\",\"\",VLOOKUP(C2675,PARAMETROS!$G$3:$H$21,2,FALSE))","v":""},null,{"$f":"IF(E2675=\"\",\"\",VLOOKUP(E2675,PARAMETROS!$I$3:$J$21,2,FALSE))","v":""},null,null,null,null,null,null,""]
[null,{"$f":"IF(A2676=\"\",\"\",VLOOKUP(A2676,PARAMETROS!$B$3:$C$3,2,FALSE))","v":""},null,{"$f":"IF(C2676=\"\",\"\",VLOOKUP(C2676,PARAMETROS!$G$3:$H$21,2,FALSE))","v":""},null,{"$f":"IF(E2676=\"\",\"\",VLOOKUP(E2676,PARAMETROS!$I$3:$J$21,2,FALSE))","v":""},null,null,null,null,null,null,""]
[null,{"$f":"IF(A2677=\"\",\"\",VLOOKUP(A2677,PARAMETROS!$B$3:$C$3,2,FALSE))","v":""},null,{"$f":"IF(C2677=\"\",\"\",VLOOKUP(C2677,PARAMETROS!$G$3:$H$21,2,FALSE))","v":""},null,{"$f":"IF(E2677=\"\",\"\",VLOOKUP(E2677,PARAMETROS!$I$3:$J$21,2,FALSE))","v":""},null,null,null,null,null,null,""]
[null,{"$f":"IF(A2678=\"\",\"\",VLOOKUP(A2678,PARAMETROS!$B$3:$C$3,2,FALSE))","v":""},null,{"$f":"IF(C2678=\"\",\"\",VLOOKUP(C2678,PARAMETROS!$G$3:$H$21,2,FALSE))","v":""},null,{"$f":"IF(E2678=\"\",\"\",VLOOKUP(E2678,PARAMETROS!$I$3:$J$21,2,FALSE))","v":""},null,null,null,null,null,null,""]
[null,{"$f":"IF(A2679=\"\",\"\",VLOOKUP(A2679,PARAMETROS!$B$3:$C$3,2,FALSE))","v":""},null,{"$f":"IF(C2679=\"\",\"\",VLOOKUP(C2679,PARAMETROS!$G$3:$H$21,2,FALSE))","v":""},null,{"$f":"IF(E2679=\"\",\"\",VLOOKUP(E2679,PARAMETROS!$I$3:$J$21,2,FALSE))","v":""},null,null,null,null,null,null,""]
[null,{"$f":"IF(A2680=\"\",\"\",VLOOKUP(A2680,PARAMETROS!$B$3:$C$3,2,FALSE))","v":""},null,{"$f":"IF(C2680=\"\",\"\",VLOOKUP(C2680,PARAMETROS!$G$3:$H$21,2,FALSE))","v":""},null,{"$f":"IF(E2680=\"\",\"\",VLOOKUP(E2680,PARAMETROS!$I$3:$J$21,2,FALSE))","v":""},null,null,null,null,null,null,""]
[null,{"$f":"IF(A2681=\"\",\"\",VLOOKUP(A2681,PARAMETROS!$B$3:$C$3,2,FALSE))","v":""},null,{"$f":"IF(C2681=\"\",\"\",VLOOKUP(C2681,PARAMETROS!$G$3:$H$21,2,FALSE))","v":""},null,{"$f":"IF(E2681=\"\",\"\",VLOOKUP(E2681,PARAMETROS!$I$3:$J$21,2,FALSE))","v":""},null,null,null,null,null,null,""]
[null,{"$f":"IF(A2682=\"\",\"\",VLOOKUP(A2682,PARAMETROS!$B$3:$C$3,2,FALSE))","v":""},null,{"$f":"IF(C2682=\"\",\"\",VLOOKUP(C2682,PARAMETROS!$G$3:$H$21,2,FALSE))","v":""},null,{"$f":"IF(E2682=\"\",\"\",VLOOKUP(E2682,PARAMETROS!$I$3:$J$21,2,FALSE))","v":""},null,null,null,null,null,null,""]
[null,{"$f":"IF(A2683=\"\",\"\",VLOOKUP(A2683,PARAMETROS!$B$3:$C$3,2,FALSE))","v":""},null,{"$f":"IF(C2683=\"\",\"\",VLOOKUP(C2683,PARAMETROS!$G$3:$H$21,2,FALSE))","v":""},null,{"$f":"IF(E2683=\"\",\"\",VLOOKUP(E2683,PARAMETROS!$I$3:$J$21,2,FALSE))","v":""},null,null,null,null,null,null,""]
[null,{"$f":"IF(A2684=\"\",\"\",VLOOKUP(A2684,PARAMETROS!$B$3:$C$3,2,FALSE))","v":""},null,{"$f":"IF(C2684=\"\",\"\",VLOOKUP(C2684,PARAMETROS!$G$3:$H$21,2,FALSE))","v":""},null,{"$f":"IF(E2684=\"\",\"\",VLOOKUP(E2684,PARAMETROS!$I$3:$J$21,2,FALSE))","v":""},null,null,null,null,null,null,""]
[null,{"$f":"IF(A2685=\"\",\"\",VLOOKUP(A2685,PARAMETROS!$B$3:$C$3,2,FALSE))","v":""},null,{"$f":"IF(C2685=\"\",\"\",VLOOKUP(C2685,PARAMETROS!$G$3:$H$21,2,FALSE))","v":""},null,{"$f":"IF(E2685=\"\",\"\",VLOOKUP(E2685,PARAMETROS!$I$3:$J$21,2,FALSE))","v":""},null,null,null,null,null,null,""]
[null,{"$f":"IF(A2686=\"\",\"\",VLOOKUP(A2686,PARAMETROS!$B$3:$C$3,2,FALSE))","v":""},null,{"$f":"IF(C2686=\"\",\"\",VLOOKUP(C2686,PARAMETROS!$G$3:$H$21,2,FALSE))","v":""},null,{"$f":"IF(E2686=\"\",\"\",VLOOKUP(E2686,PARAMETROS!$I$3:$J$21,2,FALSE))","v":""},null,null,null,null,null,null,""]
[null,{"$f":"IF(A2687=\"\",\"\",VLOOKUP(A2687,PARAMETROS!$B$3:$C$3,2,FALSE))","v":""},null,{"$f":"IF(C2687=\"\",\"\",VLOOKUP(C2687,PARAMETROS!$G$3:$H$21,2,FALSE))","v":""},null,{"$f":"IF(E2687=\"\",\"\",VLOOKUP(E2687,PARAMETROS!$I$3:$J$21,2,FALSE))","v":""},null,null,null,null,null,null,""]
[null,{"$f":"IF(A2688=\"\",\"\",VLOOKUP(A2688,PARAMETROS!$B$3:$C$3,2,FALSE))","v":""},null,{"$f":"IF(C2688=\"\",\"\",VLOOKUP(C2688,PARAMETROS!$G$3:$H$21,2,FALSE))","v":""},null,{"$f":"IF(E2688=\"\",\"\",VLOOKUP(E2688,PARAMETROS!$I$3:$J$21,2,FALSE))","v":""},null,null,null,null,null,null,""]
[null,{"$f":"IF(A2689=\"\",\"\",VLOOKUP(A2689,PARAMETROS!$B$3:$C$3,2,FALSE))","v":""},null,{"$f":"IF(C2689=\"\",\"\",VLOOKUP(C2689,PARAMETROS!$G$3:$H$21,2,FALSE))","v":""},null,{"$f":"IF(E2689=\"\",\"\",VLOOKUP(E2689,PARAMETROS!$I$3:$J$21,2,FALSE))","v":""},null,null,null,null,null,null,""]
[null,{"$f":"IF(A2690=\"\",\"\",VLOOKUP(A2690,PARAMETROS!$B$3:$C$3,2,FALSE))","v":""},null,{"$f":"IF(C2690=\"\",\"\",VLOOKUP(C2690,PARAMETROS!$G$3:$H$21,2,FALSE))","v":""},null,{"$f":"IF(E2690=\"\",\"\",VLOOKUP(E2690,PARAMETROS!$I$3:$J$21,2,FALSE))","v":""},null,null,null,null,null,null,""]
[null,{"$f":"IF(A2691=\"\",\"\",VLOOKUP(A2691,PARAMETROS!$B$3:$C$3,2,FALSE))","v":""},null,{"$f":"IF(C2691=\"\",\"\",VLOOKUP(C2691,PARAMETROS!$G$3:$H$21,2,FALSE))","v":""},null,{"$f":"IF(E2691=\"\",\"\",VLOOKUP(E2691,PARAMETROS!$I$3:$J$21,2,FALSE))","v":""},null,null,null,null,null,null,""]
[null,{"$f":"IF(A2692=\"\",\"\",VLOOKUP(A2692,PARAMETROS!$B$3:$C$3,2,FALSE))","v":""},null,{"$f":"IF(C2692=\"\",\"\",VLOOKUP(C2692,PARAMETROS!$G$3:$H$21,2,FALSE))","v":""},null,{"$f":"IF(E2692=\"\",\"\",VLOOKUP(E2692,PARAMETROS!$I$3:$J$21,2,FALSE))","v":""},null,null,null,null,null,null,""]
[null,{"$f":"IF(A2693=\"\",\"\",VLOOKUP(A2693,PARAMETROS!$B$3:$C$3,2,FALSE))","v":""},null,{"$f":"IF(C2693=\"\",\"\",VLOOKUP(C2693,PARAMETROS!$G$3:$H$21,2,FALSE))","v":""},null,{"$f":"IF(E2693=\"\",\"\",VLOOKUP(E2693,PARAMETROS!$I$3:$J$21,2,FALSE))","v":""},null,null,null,null,null,null,""]
[null,{"$f":"IF(A2694=\"\",\"\",VLOOKUP(A2694,PARAMETROS!$B$3:$C$3,2,FALSE))","v":""},null,{"$f":"IF(C2694=\"\",\"\",VLOOKUP(C2694,PARAMETROS!$G$3:$H$21,2,FALSE))","v":""},null,{"$f":"IF(E2694=\"\",\"\",VLOOKUP(E2694,PARAMETROS!$I$3:$J$21,2,FALSE))","v":""},null,null,null,null,null,null,""]
[null,{"$f":"IF(A2695=\"\",\"\",VLOOKUP(A2695,PARAMETROS!$B$3:$C$3,2,FALSE))","v":""},null,{"$f":"IF(C2695=\"\",\"\",VLOOKUP(C2695,PARAMETROS!$G$3:$H$21,2,FALSE))","v":""},null,{"$f":"IF(E2695=\"\",\"\",VLOOKUP(E2695,PARAMETROS!$I$3:$J$21,2,FALSE))","v":""},null,null,null,null,null,null,""]
[null,{"$f":"IF(A2696=\"\",\"\",VLOOKUP(A2696,PARAMETROS!$B$3:$C$3,2,FALSE))","v":""},null,{"$f":"IF(C2696=\"\",\"\",VLOOKUP(C2696,PARAMETROS!$G$3:$H$21,2,FALSE))","v":""},null,{"$f":"IF(E2696=\"\",\"\",VLOOKUP(E2696,PARAMETROS!$I$3:$J$21,2,FALSE))","v":""},null,null,null,null,null,null,""]
[null,{"$f":"IF(A2697=\"\",\"\",VLOOKUP(A2697,PARAMETROS!$B$3:$C$3,2,FALSE))","v":""},null,{"$f":"IF(C2697=\"\",\"\",VLOOKUP(C2697,PARAMETROS!$G$3:$H$21,2,FALSE))","v":""},null,{"$f":"IF(E2697=\"\",\"\",VLOOKUP(E2697,PARAMETROS!$I$3:$J$21,2,FALSE))","v":""},null,null,null,null,null,null,""]
[null,{"$f":"IF(A2698=\"\",\"\",VLOOKUP(A2698,PARAMETROS!$B$3:$C$3,2,FALSE))","v":""},null,{"$f":"IF(C2698=\"\",\"\",VLOOKUP(C2698,PARAMETROS!$G$3:$H$21,2,FALSE))","v":""},null,{"$f":"IF(E2698=\"\",\"\",VLOOKUP(E2698,PARAMETROS!$I$3:$J$21,2,FALSE))","v":""},null,null,null,null,null,null,""]
[null,{"$f":"IF(A2699=\"\",\"\",VLOOKUP(A2699,PARAMETROS!$B$3:$C$3,2,FALSE))","v":""},null,{"$f":"IF(C2699=\"\",\"\",VLOOKUP(C2699,PARAMETROS!$G$3:$H$21,2,FALSE))","v":""},null,{"$f":"IF(E2699=\"\",\"\",VLOOKUP(E2699,PARAMETROS!$I$3:$J$21,2,FALSE))","v":""},null,null,null,null,null,null,""]
[null,{"$f":"IF(A2700=\"\",\"\",VLOOKUP(A2700,PARAMETROS!$B$3:$C$3,2,FALSE))","v":""},null,{"$f":"IF(C2700=\"\",\"\",VLOOKUP(C2700,PARAMETROS!$G$3:$H$21,2,FALSE))","v":""},null,{"$f":"IF(E2700=\"\",\"\",VLOOKUP(E2700,PARAMETROS!$I$3:$J$21,2,FALSE))","v":""},null,null,null,null,null,null,""]
[null,{"$f":"IF(A2701=\"\",\"\",VLOOKUP(A2701,PARAMETROS!$B$3:$C$3,2,FALSE))","v":""},null,{"$f":"IF(C2701=\"\",\"\",VLOOKUP(C2701,PARAMETROS!$G$3:$H$21,2,FALSE))","v":""},null,{"$f":"IF(E2701=\"\",\"\",VLOOKUP(E2701,PARAMETROS!$I$3:$J$21,2,FALSE))","v":""},null,null,null,null,null,null,""]
[null,{"$f":"IF(A2702=\"\",\"\",VLOOKUP(A2702,PARAMETROS!$B$3:$C$3,2,FALSE))","v":""},null,{"$f":"IF(C2702=\"\",\"\",VLOOKUP(C2702,PARAMETROS!$G$3:$H$21,2,FALSE))","v":""},null,{"$f":"IF(E2702=\"\",\"\",VLOOKUP(E2702,PARAMETROS!$I$3:$J$21,2,FALSE))","v":""},null,null,null,null,null,null,""]
[null,{"$f":"IF(A2703=\"\",\"\",VLOOKUP(A2703,PARAMETROS!$B$3:$C$3,2,FALSE))","v":""},null,{"$f":"IF(C2703=\"\",\"\",VLOOKUP(C2703,PARAMETROS!$G$3:$H$21,2,FALSE))","v":""},null,{"$f":"IF(E2703=\"\",\"\",VLOOKUP(E2703,PARAMETROS!$I$3:$J$21,2,FALSE))","v":""},null,null,null,null,null,null,{"$f":"IF(L2703=\"\", \"\", L2703)","v":""}]
[null,{"$f":"IF(A2704=\"\",\"\",VLOOKUP(A2704,PARAMETROS!$B$3:$C$3,2,FALSE))","v":""},null,{"$f":"IF(C2704=\"\",\"\",VLOOKUP(C2704,PARAMETROS!$G$3:$H$21,2,FALSE))","v":""},null,{"$f":"IF(E2704=\"\",\"\",VLOOKUP(E2704,PARAMETROS!$I$3:$J$21,2,FALSE))","v":""},null,null,null,null,null,null,""]
[null,{"$f":"IF(A2705=\"\",\"\",VLOOKUP(A2705,PARAMETROS!$B$3:$C$3,2,FALSE))","v":""},null,{"$f":"IF(C2705=\"\",\"\",VLOOKUP(C2705,PARAMETROS!$G$3:$H$21,2,FALSE))","v":""},null,{"$f":"IF(E2705=\"\",\"\",VLOOKUP(E2705,PARAMETROS!$I$3:$J$21,2,FALSE))","v":""},null,null,null,null,null,null,""]
[null,{"$f":"IF(A2706=\"\",\"\",VLOOKUP(A2706,PARAMETROS!$B$3:$C$3,2,FALSE))","v":""},null,{"$f":"IF(C2706=\"\",\"\",VLOOKUP(C2706,PARAMETROS!$G$3:$H$21,2,FALSE))","v":""},null,{"$f":"IF(E2706=\"\",\"\",VLOOKUP(E2706,PARAMETROS!$I$3:$J$21,2,FALSE))","v":""},null,null,null,null,null,null,""]
[null,{"$f":"IF(A2707=\"\",\"\",VLOOKUP(A2707,PARAMETROS!$B$3:$C$3,2,FALSE))","v":""},null,{"$f":"IF(C2707=\"\",\"\",VLOOKUP(C2707,PARAMETROS!$G$3:$H$21,2,FALSE))","v":""},null,{"$f":"IF(E2707=\"\",\"\",VLOOKUP(E2707,PARAMETROS!$I$3:$J$21,2,FALSE))","v":""},null,null,null,null,null,null,""]
[null,{"$f":"IF(A2708=\"\",\"\",VLOOKUP(A2708,PARAMETROS!$B$3:$C$3,2,FALSE))","v":""},null,{"$f":"IF(C2708=\"\",\"\",VLOOKUP(C2708,PARAMETROS!$G$3:$H$21,2,FALSE))","v":""},null,{"$f":"IF(E2708=\"\",\"\",VLOOKUP(E2708,PARAMETROS!$I$3:$J$21,2,FALSE))","v":""},null,null,null,null,null,null,""]
[null,{"$f":"IF(A2709=\"\",\"\",VLOOKUP(A2709,PARAMETROS!$B$3:$C$3,2,FALSE))","v":""},null,{"$f":"IF(C2709=\"\",\"\",VLOOKUP(C2709,PARAMETROS!$G$3:$H$21,2,FALSE))","v":""},null,{"$f":"IF(E2709=\"\",\"\",VLOOKUP(E2709,PARAMETROS!$I$3:$J$21,2,FALSE))","v":""},null,null,null,null,null,null,""]
[null,{"$f":"IF(A2710=\"\",\"\",VLOOKUP(A2710,PARAMETROS!$B$3:$C$3,2,FALSE))","v":""},null,{"$f":"IF(C2710=\"\",\"\",VLOOKUP(C2710,PARAMETROS!$G$3:$H$21,2,FALSE))","v":""},null,{"$f":"IF(E2710=\"\",\"\",VLOOKUP(E2710,PARAMETROS!$I$3:$J$21,2,FALSE))","v":""},null,null,null,null,null,null,""]
[null,{"$f":"IF(A2711=\"\",\"\",VLOOKUP(A2711,PARAMETROS!$B$3:$C$3,2,FALSE))","v":""},null,{"$f":"IF(C2711=\"\",\"\",VLOOKUP(C2711,PARAMETROS!$G$3:$H$21,2,FALSE))","v":""},null,{"$f":"IF(E2711=\"\",\"\",VLOOKUP(E2711,PARAMETROS!$I$3:$J$21,2,FALSE))","v":""},null,null,null,null,null,null,""]
[null,{"$f":"IF(A2712=\"\",\"\",VLOOKUP(A2712,PARAMETROS!$B$3:$C$3,2,FALSE))","v":""},null,{"$f":"IF(C2712=\"\",\"\",VLOOKUP(C2712,PARAMETROS!$G$3:$H$21,2,FALSE))","v":""},null,{"$f":"IF(E2712=\"\",\"\",VLOOKUP(E2712,PARAMETROS!$I$3:$J$21,2,FALSE))","v":""},null,null,null,null,null,null,""]
[null,{"$f":"IF(A2713=\"\",\"\",VLOOKUP(A2713,PARAMETROS!$B$3:$C$3,2,FALSE))","v":""},null,{"$f":"IF(C2713=\"\",\"\",VLOOKUP(C2713,PARAMETROS!$G$3:$H$21,2,FALSE))","v":""},null,{"$f":"IF(E2713=\"\",\"\",VLOOKUP(E2713,PARAMETROS!$I$3:$J$21,2,FALSE))","v":""},null,null,null,null,null,null,""]
[null,{"$f":"IF(A2714=\"\",\"\",VLOOKUP(A2714,PARAMETROS!$B$3:$C$3,2,FALSE))","v":""},null,{"$f":"IF(C2714=\"\",\"\",VLOOKUP(C2714,PARAMETROS!$G$3:$H$21,2,FALSE))","v":""},null,{"$f":"IF(E2714=\"\",\"\",VLOOKUP(E2714,PARAMETROS!$I$3:$J$21,2,FALSE))","v":""},null,null,null,null,null,null,""]
[null,{"$f":"IF(A2715=\"\",\"\",VLOOKUP(A2715,PARAMETROS!$B$3:$C$3,2,FALSE))","v":""},null,{"$f":"IF(C2715=\"\",\"\",VLOOKUP(C2715,PARAMETROS!$G$3:$H$21,2,FALSE))","v":""},null,{"$f":"IF(E2715=\"\",\"\",VLOOKUP(E2715,PARAMETROS!$I$3:$J$21,2,FALSE))","v":""},null,null,null,null,null,null,""]
[null,{"$f":"IF(A2716=\"\",\"\",VLOOKUP(A2716,PARAMETROS!$B$3:$C$3,2,FALSE))","v":""},null,{"$f":"IF(C2716=\"\",\"\",VLOOKUP(C2716,PARAMETROS!$G$3:$H$21,2,FALSE))","v":""},null,{"$f":"IF(E2716=\"\",\"\",VLOOKUP(E2716,PARAMETROS!$I$3:$J$21,2,FALSE))","v":""},null,null,null,null,null,null,""]
[null,{"$f":"IF(A2717=\"\",\"\",VLOOKUP(A2717,PARAMETROS!$B$3:$C$3,2,FALSE))","v":""},null,{"$f":"IF(C2717=\"\",\"\",VLOOKUP(C2717,PARAMETROS!$G$3:$H$21,2,FALSE))","v":""},null,{"$f":"IF(E2717=\"\",\"\",VLOOKUP(E2717,PARAMETROS!$I$3:$J$21,2,FALSE))","v":""},null,null,null,null,null,null,""]
[null,{"$f":"IF(A2718=\"\",\"\",VLOOKUP(A2718,PARAMETROS!$B$3:$C$3,2,FALSE))","v":""},null,{"$f":"IF(C2718=\"\",\"\",VLOOKUP(C2718,PARAMETROS!$G$3:$H$21,2,FALSE))","v":""},null,{"$f":"IF(E2718=\"\",\"\",VLOOKUP(E2718,PARAMETROS!$I$3:$J$21,2,FALSE))","v":""},null,null,null,null,null,null,""]
[null,{"$f":"IF(A2719=\"\",\"\",VLOOKUP(A2719,PARAMETROS!$B$3:$C$3,2,FALSE))","v":""},null,{"$f":"IF(C2719=\"\",\"\",VLOOKUP(C2719,PARAMETROS!$G$3:$H$21,2,FALSE))","v":""},null,{"$f":"IF(E2719=\"\",\"\",VLOOKUP(E2719,PARAMETROS!$I$3:$J$21,2,FALSE))","v":""},null,null,null,null,null,null,""]
[null,{"$f":"IF(A2720=\"\",\"\",VLOOKUP(A2720,PARAMETROS!$B$3:$C$3,2,FALSE))","v":""},null,{"$f":"IF(C2720=\"\",\"\",VLOOKUP(C2720,PARAMETROS!$G$3:$H$21,2,FALSE))","v":""},null,{"$f":"IF(E2720=\"\",\"\",VLOOKUP(E2720,PARAMETROS!$I$3:$J$21,2,FALSE))","v":""},null,null,null,null,null,null,""]
[null,{"$f":"IF(A2721=\"\",\"\",VLOOKUP(A2721,PARAMETROS!$B$3:$C$3,2,FALSE))","v":""},null,{"$f":"IF(C2721=\"\",\"\",VLOOKUP(C2721,PARAMETROS!$G$3:$H$21,2,FALSE))","v":""},null,{"$f":"IF(E2721=\"\",\"\",VLOOKUP(E2721,PARAMETROS!$I$3:$J$21,2,FALSE))","v":""},null,null,null,null,null,null,""]
[null,{"$f":"IF(A2722=\"\",\"\",VLOOKUP(A2722,PARAMETROS!$B$3:$C$3,2,FALSE))","v":""},null,{"$f":"IF(C2722=\"\",\"\",VLOOKUP(C2722,PARAMETROS!$G$3:$H$21,2,FALSE))","v":""},null,{"$f":"IF(E2722=\"\",\"\",VLOOKUP(E2722,PARAMETROS!$I$3:$J$21,2,FALSE))","v":""},null,null,null,null,null,null,""]
[null,{"$f":"IF(A2723=\"\",\"\",VLOOKUP(A2723,PARAMETROS!$B$3:$C$3,2,FALSE))","v":""},null,{"$f":"IF(C2723=\"\",\"\",VLOOKUP(C2723,PARAMETROS!$G$3:$H$21,2,FALSE))","v":""},null,{"$f":"IF(E2723=\"\",\"\",VLOOKUP(E2723,PARAMETROS!$I$3:$J$21,2,FALSE))","v":""},null,null,null,null,null,null,""]
[null,{"$f":"IF(A2724=\"\",\"\",VLOOKUP(A2724,PARAMETROS!$B$3:$C$3,2,FALSE))","v":""},null,{"$f":"IF(C2724=\"\",\"\",VLOOKUP(C2724,PARAMETROS!$G$3:$H$21,2,FALSE))","v":""},null,{"$f":"IF(E2724=\"\",\"\",VLOOKUP(E2724,PARAMETROS!$I$3:$J$21,2,FALSE))","v":""},null,null,null,null,null,null,""]
[null,{"$f":"IF(A2725=\"\",\"\",VLOOKUP(A2725,PARAMETROS!$B$3:$C$3,2,FALSE))","v":""},null,{"$f":"IF(C2725=\"\",\"\",VLOOKUP(C2725,PARAMETROS!$G$3:$H$21,2,FALSE))","v":""},null,{"$f":"IF(E2725=\"\",\"\",VLOOKUP(E2725,PARAMETROS!$I$3:$J$21,2,FALSE))","v":""},null,null,null,null,null,null,""]
[null,{"$f":"IF(A2726=\"\",\"\",VLOOKUP(A2726,PARAMETROS!$B$3:$C$3,2,FALSE))","v":""},null,{"$f":"IF(C2726=\"\",\"\",VLOOKUP(C2726,PARAMETROS!$G$3:$H$21,2,FALSE))","v":""},null,{"$f":"IF(E2726=\"\",\"\",VLOOKUP(E2726,PARAMETROS!$I$3:$J$21,2,FALSE))","v":""},null,null,null,null,null,null,""]
[null,{"$f":"IF(A2727=\"\",\"\",VLOOKUP(A2727,PARAMETROS!$B$3:$C$3,2,FALSE))","v":""},null,{"$f":"IF(C2727=\"\",\"\",VLOOKUP(C2727,PARAMETROS!$G$3:$H$21,2,FALSE))","v":""},null,{"$f":"IF(E2727=\"\",\"\",VLOOKUP(E2727,PARAMETROS!$I$3:$J$21,2,FALSE))","v":""},null,null,null,null,null,null,""]
[null,{"$f":"IF(A2728=\"\",\"\",VLOOKUP(A2728,PARAMETROS!$B$3:$C$3,2,FALSE))","v":""},null,{"$f":"IF(C2728=\"\",\"\",VLOOKUP(C2728,PARAMETROS!$G$3:$H$21,2,FALSE))","v":""},null,{"$f":"IF(E2728=\"\",\"\",VLOOKUP(E2728,PARAMETROS!$I$3:$J$21,2,FALSE))","v":""},null,null,null,null,null,null,""]
[null,{"$f":"IF(A2729=\"\",\"\",VLOOKUP(A2729,PARAMETROS!$B$3:$C$3,2,FALSE))","v":""},null,{"$f":"IF(C2729=\"\",\"\",VLOOKUP(C2729,PARAMETROS!$G$3:$H$21,2,FALSE))","v":""},null,{"$f":"IF(E2729=\"\",\"\",VLOOKUP(E2729,PARAMETROS!$I$3:$J$21,2,FALSE))","v":""},null,null,null,null,null,null,""]
[null,{"$f":"IF(A2730=\"\",\"\",VLOOKUP(A2730,PARAMETROS!$B$3:$C$3,2,FALSE))","v":""},null,{"$f":"IF(C2730=\"\",\"\",VLOOKUP(C2730,PARAMETROS!$G$3:$H$21,2,FALSE))","v":""},null,{"$f":"IF(E2730=\"\",\"\",VLOOKUP(E2730,PARAMETROS!$I$3:$J$21,2,FALSE))","v":""},null,null,null,null,null,null,""]
[null,{"$f":"IF(A2731=\"\",\"\",VLOOKUP(A2731,PARAMETROS!$B$3:$C$3,2,FALSE))","v":""},null,{"$f":"IF(C2731=\"\",\"\",VLOOKUP(C2731,PARAMETROS!$G$3:$H$21,2,FALSE))","v":""},null,{"$f":"IF(E2731=\"\",\"\",VLOOKUP(E2731,PARAMETROS!$I$3:$J$21,2,FALSE))","v":""},null,null,null,null,null,null,""]
[null,{"$f":"IF(A2732=\"\",\"\",VLOOKUP(A2732,PARAMETROS!$B$3:$C$3,2,FALSE))","v":""},null,{"$f":"IF(C2732=\"\",\"\",VLOOKUP(C2732,PARAMETROS!$G$3:$H$21,2,FALSE))","v":""},null,{"$f":"IF(E2732=\"\",\"\",VLOOKUP(E2732,PARAMETROS!$I$3:$J$21,2,FALSE))","v":""},null,null,null,null,null,null,""]
[null,{"$f":"IF(A2733=\"\",\"\",VLOOKUP(A2733,PARAMETROS!$B$3:$C$3,2,FALSE))","v":""},null,{"$f":"IF(C2733=\"\",\"\",VLOOKUP(C2733,PARAMETROS!$G$3:$H$21,2,FALSE))","v":""},null,{"$f":"IF(E2733=\"\",\"\",VLOOKUP(E2733,PARAMETROS!$I$3:$J$21,2,FALSE))","v":""},null,null,null,null,null,null,""]
[null,{"$f":"IF(A2734=\"\",\"\",VLOOKUP(A2734,PARAMETROS!$B$3:$C$3,2,FALSE))","v":""},null,{"$f":"IF(C2734=\"\",\"\",VLOOKUP(C2734,PARAMETROS!$G$3:$H$21,2,FALSE))","v":""},null,{"$f":"IF(E2734=\"\",\"\",VLOOKUP(E2734,PARAMETROS!$I$3:$J$21,2,FALSE))","v":""},null,null,null,null,null,null,""]
[null,{"$f":"IF(A2735=\"\",\"\",VLOOKUP(A2735,PARAMETROS!$B$3:$C$3,2,FALSE))","v":""},null,{"$f":"IF(C2735=\"\",\"\",VLOOKUP(C2735,PARAMETROS!$G$3:$H$21,2,FALSE))","v":""},null,{"$f":"IF(E2735=\"\",\"\",VLOOKUP(E2735,PARAMETROS!$I$3:$J$21,2,FALSE))","v":""},null,null,null,null,null,null,""]
[null,{"$f":"IF(A2736=\"\",\"\",VLOOKUP(A2736,PARAMETROS!$B$3:$C$3,2,FALSE))","v":""},null,{"$f":"IF(C2736=\"\",\"\",VLOOKUP(C2736,PARAMETROS!$G$3:$H$21,2,FALSE))","v":""},null,{"$f":"IF(E2736=\"\",\"\",VLOOKUP(E2736,PARAMETROS!$I$3:$J$21,2,FALSE))","v":""},null,null,null,null,null,null,""]
[null,{"$f":"IF(A2737=\"\",\"\",VLOOKUP(A2737,PARAMETROS!$B$3:$C$3,2,FALSE))","v":""},null,{"$f":"IF(C2737=\"\",\"\",VLOOKUP(C2737,PARAMETROS!$G$3:$H$21,2,FALSE))","v":""},null,{"$f":"IF(E2737=\"\",\"\",VLOOKUP(E2737,PARAMETROS!$I$3:$J$21,2,FALSE))","v":""},null,null,null,null,null,null,""]
[null,{"$f":"IF(A2738=\"\",\"\",VLOOKUP(A2738,PARAMETROS!$B$3:$C$3,2,FALSE))","v":""},null,{"$f":"IF(C2738=\"\",\"\",VLOOKUP(C2738,PARAMETROS!$G$3:$H$21,2,FALSE))","v":""},null,{"$f":"IF(E2738=\"\",\"\",VLOOKUP(E2738,PARAMETROS!$I$3:$J$21,2,FALSE))","v":""},null,null,null,null,null,null,""]
[null,{"$f":"IF(A2739=\"\",\"\",VLOOKUP(A2739,PARAMETROS!$B$3:$C$3,2,FALSE))","v":""},null,{"$f":"IF(C2739=\"\",\"\",VLOOKUP(C2739,PARAMETROS!$G$3:$H$21,2,FALSE))","v":""},null,{"$f":"IF(E2739=\"\",\"\",VLOOKUP(E2739,PARAMETROS!$I$3:$J$21,2,FALSE))","v":""},null,null,null,null,null,null,""]
[null,{"$f":"IF(A2740=\"\",\"\",VLOOKUP(A2740,PARAMETROS!$B$3:$C$3,2,FALSE))","v":""},null,{"$f":"IF(C2740=\"\",\"\",VLOOKUP(C2740,PARAMETROS!$G$3:$H$21,2,FALSE))","v":""},null,{"$f":"IF(E2740=\"\",\"\",VLOOKUP(E2740,PARAMETROS!$I$3:$J$21,2,FALSE))","v":""},null,null,null,null,null,null,""]
[null,{"$f":"IF(A2741=\"\",\"\",VLOOKUP(A2741,PARAMETROS!$B$3:$C$3,2,FALSE))","v":""},null,{"$f":"IF(C2741=\"\",\"\",VLOOKUP(C2741,PARAMETROS!$G$3:$H$21,2,FALSE))","v":""},null,{"$f":"IF(E2741=\"\",\"\",VLOOKUP(E2741,PARAMETROS!$I$3:$J$21,2,FALSE))","v":""},null,null,null,null,null,null,""]
[null,{"$f":"IF(A2742=\"\",\"\",VLOOKUP(A2742,PARAMETROS!$B$3:$C$3,2,FALSE))","v":""},null,{"$f":"IF(C2742=\"\",\"\",VLOOKUP(C2742,PARAMETROS!$G$3:$H$21,2,FALSE))","v":""},null,{"$f":"IF(E2742=\"\",\"\",VLOOKUP(E2742,PARAMETROS!$I$3:$J$21,2,FALSE))","v":""},null,null,null,null,null,null,""]
[null,{"$f":"IF(A2743=\"\",\"\",VLOOKUP(A2743,PARAMETROS!$B$3:$C$3,2,FALSE))","v":""},null,{"$f":"IF(C2743=\"\",\"\",VLOOKUP(C2743,PARAMETROS!$G$3:$H$21,2,FALSE))","v":""},null,{"$f":"IF(E2743=\"\",\"\",VLOOKUP(E2743,PARAMETROS!$I$3:$J$21,2,FALSE))","v":""},null,null,null,null,null,null,""]
[null,{"$f":"IF(A2744=\"\",\"\",VLOOKUP(A2744,PARAMETROS!$B$3:$C$3,2,FALSE))","v":""},null,{"$f":"IF(C2744=\"\",\"\",VLOOKUP(C2744,PARAMETROS!$G$3:$H$21,2,FALSE))","v":""},null,{"$f":"IF(E2744=\"\",\"\",VLOOKUP(E2744,PARAMETROS!$I$3:$J$21,2,FALSE))","v":""},null,null,null,null,null,null,""]
[null,{"$f":"IF(A2745=\"\",\"\",VLOOKUP(A2745,PARAMETROS!$B$3:$C$3,2,FALSE))","v":""},null,{"$f":"IF(C2745=\"\",\"\",VLOOKUP(C2745,PARAMETROS!$G$3:$H$21,2,FALSE))","v":""},null,{"$f":"IF(E2745=\"\",\"\",VLOOKUP(E2745,PARAMETROS!$I$3:$J$21,2,FALSE))","v":""},null,null,null,null,null,null,""]
[null,{"$f":"IF(A2746=\"\",\"\",VLOOKUP(A2746,PARAMETROS!$B$3:$C$3,2,FALSE))","v":""},null,{"$f":"IF(C2746=\"\",\"\",VLOOKUP(C2746,PARAMETROS!$G$3:$H$21,2,FALSE))","v":""},null,{"$f":"IF(E2746=\"\",\"\",VLOOKUP(E2746,PARAMETROS!$I$3:$J$21,2,FALSE))","v":""},null,null,null,null,null,null,""]
[null,{"$f":"IF(A2747=\"\",\"\",VLOOKUP(A2747,PARAMETROS!$B$3:$C$3,2,FALSE))","v":""},null,{"$f":"IF(C2747=\"\",\"\",VLOOKUP(C2747,PARAMETROS!$G$3:$H$21,2,FALSE))","v":""},null,{"$f":"IF(E2747=\"\",\"\",VLOOKUP(E2747,PARAMETROS!$I$3:$J$21,2,FALSE))","v":""},null,null,null,null,null,null,""]
[null,{"$f":"IF(A2748=\"\",\"\",VLOOKUP(A2748,PARAMETROS!$B$3:$C$3,2,FALSE))","v":""},null,{"$f":"IF(C2748=\"\",\"\",VLOOKUP(C2748,PARAMETROS!$G$3:$H$21,2,FALSE))","v":""},null,{"$f":"IF(E2748=\"\",\"\",VLOOKUP(E2748,PARAMETROS!$I$3:$J$21,2,FALSE))","v":""},null,null,null,null,null,null,""]
[null,{"$f":"IF(A2749=\"\",\"\",VLOOKUP(A2749,PARAMETROS!$B$3:$C$3,2,FALSE))","v":""},null,{"$f":"IF(C2749=\"\",\"\",VLOOKUP(C2749,PARAMETROS!$G$3:$H$21,2,FALSE))","v":""},null,{"$f":"IF(E2749=\"\",\"\",VLOOKUP(E2749,PARAMETROS!$I$3:$J$21,2,FALSE))","v":""},null,null,null,null,null,null,""]
[null,{"$f":"IF(A2750=\"\",\"\",VLOOKUP(A2750,PARAMETROS!$B$3:$C$3,2,FALSE))","v":""},null,{"$f":"IF(C2750=\"\",\"\",VLOOKUP(C2750,PARAMETROS!$G$3:$H$21,2,FALSE))","v":""},null,{"$f":"IF(E2750=\"\",\"\",VLOOKUP(E2750,PARAMETROS!$I$3:$J$21,2,FALSE))","v":""},null,null,null,null,null,null,""]
[null,{"$f":"IF(A2751=\"\",\"\",VLOOKUP(A2751,PARAMETROS!$B$3:$C$3,2,FALSE))","v":""},null,{"$f":"IF(C2751=\"\",\"\",VLOOKUP(C2751,PARAMETROS!$G$3:$H$21,2,FALSE))","v":""},null,{"$f":"IF(E2751=\"\",\"\",VLOOKUP(E2751,PARAMETROS!$I$3:$J$21,2,FALSE))","v":""},null,null,null,null,null,null,""]
[null,{"$f":"IF(A2752=\"\",\"\",VLOOKUP(A2752,PARAMETROS!$B$3:$C$3,2,FALSE))","v":""},null,{"$f":"IF(C2752=\"\",\"\",VLOOKUP(C2752,PARAMETROS!$G$3:$H$21,2,FALSE))","v":""},null,{"$f":"IF(E2752=\"\",\"\",VLOOKUP(E2752,PARAMETROS!$I$3:$J$21,2,FALSE))","v":""},null,null,null,null,null,null,""]
[null,{"$f":"IF(A2753=\"\",\"\",VLOOKUP(A2753,PARAMETROS!$B$3:$C$3,2,FALSE))","v":""},null,{"$f":"IF(C2753=\"\",\"\",VLOOKUP(C2753,PARAMETROS!$G$3:$H$21,2,FALSE))","v":""},null,{"$f":"IF(E2753=\"\",\"\",VLOOKUP(E2753,PARAMETROS!$I$3:$J$21,2,FALSE))","v":""},null,null,null,null,null,null,""]
[null,{"$f":"IF(A2754=\"\",\"\",VLOOKUP(A2754,PARAMETROS!$B$3:$C$3,2,FALSE))","v":""},null,{"$f":"IF(C2754=\"\",\"\",VLOOKUP(C2754,PARAMETROS!$G$3:$H$21,2,FALSE))","v":""},null,{"$f":"IF(E2754=\"\",\"\",VLOOKUP(E2754,PARAMETROS!$I$3:$J$21,2,FALSE))","v":""},null,null,null,null,null,null,""]
[null,{"$f":"IF(A2755=\"\",\"\",VLOOKUP(A2755,PARAMETROS!$B$3:$C$3,2,FALSE))","v":""},null,{"$f":"IF(C2755=\"\",\"\",VLOOKUP(C2755,PARAMETROS!$G$3:$H$21,2,FALSE))","v":""},null,{"$f":"IF(E2755=\"\",\"\",VLOOKUP(E2755,PARAMETROS!$I$3:$J$21,2,FALSE))","v":""},null,null,null,null,null,null,""]
[null,{"$f":"IF(A2756=\"\",\"\",VLOOKUP(A2756,PARAMETROS!$B$3:$C$3,2,FALSE))","v":""},null,{"$f":"IF(C2756=\"\",\"\",VLOOKUP(C2756,PARAMETROS!$G$3:$H$21,2,FALSE))","v":""},null,{"$f":"IF(E2756=\"\",\"\",VLOOKUP(E2756,PARAMETROS!$I$3:$J$21,2,FALSE))","v":""},null,null,null,null,null,null,""]
[null,{"$f":"IF(A2757=\"\",\"\",VLOOKUP(A2757,PARAMETROS!$B$3:$C$3,2,FALSE))","v":""},null,{"$f":"IF(C2757=\"\",\"\",VLOOKUP(C2757,PARAMETROS!$G$3:$H$21,2,FALSE))","v":""},null,{"$f":"IF(E2757=\"\",\"\",VLOOKUP(E2757,PARAMETROS!$I$3:$J$21,2,FALSE))","v":""},null,null,null,null,null,null,""]
[null,{"$f":"IF(A2758=\"\",\"\",VLOOKUP(A2758,PARAMETROS!$B$3:$C$3,2,FALSE))","v":""},null,{"$f":"IF(C2758=\"\",\"\",VLOOKUP(C2758,PARAMETROS!$G$3:$H$21,2,FALSE))","v":""},null,{"$f":"IF(E2758=\"\",\"\",VLOOKUP(E2758,PARAMETROS!$I$3:$J$21,2,FALSE))","v":""},null,null,null,null,null,null,""]
[null,{"$f":"IF(A2759=\"\",\"\",VLOOKUP(A2759,PARAMETROS!$B$3:$C$3,2,FALSE))","v":""},null,{"$f":"IF(C2759=\"\",\"\",VLOOKUP(C2759,PARAMETROS!$G$3:$H$21,2,FALSE))","v":""},null,{"$f":"IF(E2759=\"\",\"\",VLOOKUP(E2759,PARAMETROS!$I$3:$J$21,2,FALSE))","v":""},null,null,null,null,null,null,""]
[null,{"$f":"IF(A2760=\"\",\"\",VLOOKUP(A2760,PARAMETROS!$B$3:$C$3,2,FALSE))","v":""},null,{"$f":"IF(C2760=\"\",\"\",VLOOKUP(C2760,PARAMETROS!$G$3:$H$21,2,FALSE))","v":""},null,{"$f":"IF(E2760=\"\",\"\",VLOOKUP(E2760,PARAMETROS!$I$3:$J$21,2,FALSE))","v":""},null,null,null,null,null,null,""]
[null,{"$f":"IF(A2761=\"\",\"\",VLOOKUP(A2761,PARAMETROS!$B$3:$C$3,2,FALSE))","v":""},null,{"$f":"IF(C2761=\"\",\"\",VLOOKUP(C2761,PARAMETROS!$G$3:$H$21,2,FALSE))","v":""},null,{"$f":"IF(E2761=\"\",\"\",VLOOKUP(E2761,PARAMETROS!$I$3:$J$21,2,FALSE))","v":""},null,null,null,null,null,null,""]
[null,{"$f":"IF(A2762=\"\",\"\",VLOOKUP(A2762,PARAMETROS!$B$3:$C$3,2,FALSE))","v":""},null,{"$f":"IF(C2762=\"\",\"\",VLOOKUP(C2762,PARAMETROS!$G$3:$H$21,2,FALSE))","v":""},null,{"$f":"IF(E2762=\"\",\"\",VLOOKUP(E2762,PARAMETROS!$I$3:$J$21,2,FALSE))","v":""},null,null,null,null,null,null,""]
[null,{"$f":"IF(A2763=\"\",\"\",VLOOKUP(A2763,PARAMETROS!$B$3:$C$3,2,FALSE))","v":""},null,{"$f":"IF(C2763=\"\",\"\",VLOOKUP(C2763,PARAMETROS!$G$3:$H$21,2,FALSE))","v":""},null,{"$f":"IF(E2763=\"\",\"\",VLOOKUP(E2763,PARAMETROS!$I$3:$J$21,2,FALSE))","v":""},null,null,null,null,null,null,""]
[null,{"$f":"IF(A2764=\"\",\"\",VLOOKUP(A2764,PARAMETROS!$B$3:$C$3,2,FALSE))","v":""},null,{"$f":"IF(C2764=\"\",\"\",VLOOKUP(C2764,PARAMETROS!$G$3:$H$21,2,FALSE))","v":""},null,{"$f":"IF(E2764=\"\",\"\",VLOOKUP(E2764,PARAMETROS!$I$3:$J$21,2,FALSE))","v":""},null,null,null,null,null,null,""]
[null,{"$f":"IF(A2765=\"\",\"\",VLOOKUP(A2765,PARAMETROS!$B$3:$C$3,2,FALSE))","v":""},null,{"$f":"IF(C2765=\"\",\"\",VLOOKUP(C2765,PARAMETROS!$G$3:$H$21,2,FALSE))","v":""},null,{"$f":"IF(E2765=\"\",\"\",VLOOKUP(E2765,PARAMETROS!$I$3:$J$21,2,FALSE))","v":""},null,null,null,null,null,null,""]
[null,{"$f":"IF(A2766=\"\",\"\",VLOOKUP(A2766,PARAMETROS!$B$3:$C$3,2,FALSE))","v":""},null,{"$f":"IF(C2766=\"\",\"\",VLOOKUP(C2766,PARAMETROS!$G$3:$H$21,2,FALSE))","v":""},null,{"$f":"IF(E2766=\"\",\"\",VLOOKUP(E2766,PARAMETROS!$I$3:$J$21,2,FALSE))","v":""},null,null,null,null,null,null,""]
[null,{"$f":"IF(A2767=\"\",\"\",VLOOKUP(A2767,PARAMETROS!$B$3:$C$3,2,FALSE))","v":""},null,{"$f":"IF(C2767=\"\",\"\",VLOOKUP(C2767,PARAMETROS!$G$3:$H$21,2,FALSE))","v":""},null,{"$f":"IF(E2767=\"\",\"\",VLOOKUP(E2767,PARAMETROS!$I$3:$J$21,2,FALSE))","v":""},null,null,null,null,null,null,{"$f":"IF(L2767=\"\", \"\", L2767)","v":""}]
[null,{"$f":"IF(A2768=\"\",\"\",VLOOKUP(A2768,PARAMETROS!$B$3:$C$3,2,FALSE))","v":""},null,{"$f":"IF(C2768=\"\",\"\",VLOOKUP(C2768,PARAMETROS!$G$3:$H$21,2,FALSE))","v":""},null,{"$f":"IF(E2768=\"\",\"\",VLOOKUP(E2768,PARAMETROS!$I$3:$J$21,2,FALSE))","v":""},null,null,null,null,null,null,""]
[null,{"$f":"IF(A2769=\"\",\"\",VLOOKUP(A2769,PARAMETROS!$B$3:$C$3,2,FALSE))","v":""},null,{"$f":"IF(C2769=\"\",\"\",VLOOKUP(C2769,PARAMETROS!$G$3:$H$21,2,FALSE))","v":""},null,{"$f":"IF(E2769=\"\",\"\",VLOOKUP(E2769,PARAMETROS!$I$3:$J$21,2,FALSE))","v":""},null,null,null,null,null,null,""]
[null,{"$f":"IF(A2770=\"\",\"\",VLOOKUP(A2770,PARAMETROS!$B$3:$C$3,2,FALSE))","v":""},null,{"$f":"IF(C2770=\"\",\"\",VLOOKUP(C2770,PARAMETROS!$G$3:$H$21,2,FALSE))","v":""},null,{"$f":"IF(E2770=\"\",\"\",VLOOKUP(E2770,PARAMETROS!$I$3:$J$21,2,FALSE))","v":""},null,null,null,null,null,null,""]
[null,{"$f":"IF(A2771=\"\",\"\",VLOOKUP(A2771,PARAMETROS!$B$3:$C$3,2,FALSE))","v":""},null,{"$f":"IF(C2771=\"\",\"\",VLOOKUP(C2771,PARAMETROS!$G$3:$H$21,2,FALSE))","v":""},null,{"$f":"IF(E2771=\"\",\"\",VLOOKUP(E2771,PARAMETROS!$I$3:$J$21,2,FALSE))","v":""},null,null,null,null,null,null,""]
[null,{"$f":"IF(A2772=\"\",\"\",VLOOKUP(A2772,PARAMETROS!$B$3:$C$3,2,FALSE))","v":""},null,{"$f":"IF(C2772=\"\",\"\",VLOOKUP(C2772,PARAMETROS!$G$3:$H$21,2,FALSE))","v":""},null,{"$f":"IF(E2772=\"\",\"\",VLOOKUP(E2772,PARAMETROS!$I$3:$J$21,2,FALSE))","v":""},null,null,null,null,null,null,""]
[null,{"$f":"IF(A2773=\"\",\"\",VLOOKUP(A2773,PARAMETROS!$B$3:$C$3,2,FALSE))","v":""},null,{"$f":"IF(C2773=\"\",\"\",VLOOKUP(C2773,PARAMETROS!$G$3:$H$21,2,FALSE))","v":""},null,{"$f":"IF(E2773=\"\",\"\",VLOOKUP(E2773,PARAMETROS!$I$3:$J$21,2,FALSE))","v":""},null,null,null,null,null,null,""]
[null,{"$f":"IF(A2774=\"\",\"\",VLOOKUP(A2774,PARAMETROS!$B$3:$C$3,2,FALSE))","v":""},null,{"$f":"IF(C2774=\"\",\"\",VLOOKUP(C2774,PARAMETROS!$G$3:$H$21,2,FALSE))","v":""},null,{"$f":"IF(E2774=\"\",\"\",VLOOKUP(E2774,PARAMETROS!$I$3:$J$21,2,FALSE))","v":""},null,null,null,null,null,null,""]
[null,{"$f":"IF(A2775=\"\",\"\",VLOOKUP(A2775,PARAMETROS!$B$3:$C$3,2,FALSE))","v":""},null,{"$f":"IF(C2775=\"\",\"\",VLOOKUP(C2775,PARAMETROS!$G$3:$H$21,2,FALSE))","v":""},null,{"$f":"IF(E2775=\"\",\"\",VLOOKUP(E2775,PARAMETROS!$I$3:$J$21,2,FALSE))","v":""},null,null,null,null,null,null,""]
[null,{"$f":"IF(A2776=\"\",\"\",VLOOKUP(A2776,PARAMETROS!$B$3:$C$3,2,FALSE))","v":""},null,{"$f":"IF(C2776=\"\",\"\",VLOOKUP(C2776,PARAMETROS!$G$3:$H$21,2,FALSE))","v":""},null,{"$f":"IF(E2776=\"\",\"\",VLOOKUP(E2776,PARAMETROS!$I$3:$J$21,2,FALSE))","v":""},null,null,null,null,null,null,""]
[null,{"$f":"IF(A2777=\"\",\"\",VLOOKUP(A2777,PARAMETROS!$B$3:$C$3,2,FALSE))","v":""},null,{"$f":"IF(C2777=\"\",\"\",VLOOKUP(C2777,PARAMETROS!$G$3:$H$21,2,FALSE))","v":""},null,{"$f":"IF(E2777=\"\",\"\",VLOOKUP(E2777,PARAMETROS!$I$3:$J$21,2,FALSE))","v":""},null,null,null,null,null,null,""]
[null,{"$f":"IF(A2778=\"\",\"\",VLOOKUP(A2778,PARAMETROS!$B$3:$C$3,2,FALSE))","v":""},null,{"$f":"IF(C2778=\"\",\"\",VLOOKUP(C2778,PARAMETROS!$G$3:$H$21,2,FALSE))","v":""},null,{"$f":"IF(E2778=\"\",\"\",VLOOKUP(E2778,PARAMETROS!$I$3:$J$21,2,FALSE))","v":""},null,null,null,null,null,null,""]
[null,{"$f":"IF(A2779=\"\",\"\",VLOOKUP(A2779,PARAMETROS!$B$3:$C$3,2,FALSE))","v":""},null,{"$f":"IF(C2779=\"\",\"\",VLOOKUP(C2779,PARAMETROS!$G$3:$H$21,2,FALSE))","v":""},null,{"$f":"IF(E2779=\"\",\"\",VLOOKUP(E2779,PARAMETROS!$I$3:$J$21,2,FALSE))","v":""},null,null,null,null,null,null,""]
[null,{"$f":"IF(A2780=\"\",\"\",VLOOKUP(A2780,PARAMETROS!$B$3:$C$3,2,FALSE))","v":""},null,{"$f":"IF(C2780=\"\",\"\",VLOOKUP(C2780,PARAMETROS!$G$3:$H$21,2,FALSE))","v":""},null,{"$f":"IF(E2780=\"\",\"\",VLOOKUP(E2780,PARAMETROS!$I$3:$J$21,2,FALSE))","v":""},null,null,null,null,null,null,""]
[null,{"$f":"IF(A2781=\"\",\"\",VLOOKUP(A2781,PARAMETROS!$B$3:$C$3,2,FALSE))","v":""},null,{"$f":"IF(C2781=\"\",\"\",VLOOKUP(C2781,PARAMETROS!$G$3:$H$21,2,FALSE))","v":""},null,{"$f":"IF(E2781=\"\",\"\",VLOOKUP(E2781,PARAMETROS!$I$3:$J$21,2,FALSE))","v":""},null,null,null,null,null,null,""]
[null,{"$f":"IF(A2782=\"\",\"\",VLOOKUP(A2782,PARAMETROS!$B$3:$C$3,2,FALSE))","v":""},null,{"$f":"IF(C2782=\"\",\"\",VLOOKUP(C2782,PARAMETROS!$G$3:$H$21,2,FALSE))","v":""},null,{"$f":"IF(E2782=\"\",\"\",VLOOKUP(E2782,PARAMETROS!$I$3:$J$21,2,FALSE))","v":""},null,null,null,null,null,null,""]
[null,{"$f":"IF(A2783=\"\",\"\",VLOOKUP(A2783,PARAMETROS!$B$3:$C$3,2,FALSE))","v":""},null,{"$f":"IF(C2783=\"\",\"\",VLOOKUP(C2783,PARAMETROS!$G$3:$H$21,2,FALSE))","v":""},null,{"$f":"IF(E2783=\"\",\"\",VLOOKUP(E2783,PARAMETROS!$I$3:$J$21,2,FALSE))","v":""},null,null,null,null,null,null,""]
[null,{"$f":"IF(A2784=\"\",\"\",VLOOKUP(A2784,PARAMETROS!$B$3:$C$3,2,FALSE))","v":""},null,{"$f":"IF(C2784=\"\",\"\",VLOOKUP(C2784,PARAMETROS!$G$3:$H$21,2,FALSE))","v":""},null,{"$f":"IF(E2784=\"\",\"\",VLOOKUP(E2784,PARAMETROS!$I$3:$J$21,2,FALSE))","v":""},null,null,null,null,null,null,""]
[null,{"$f":"IF(A2785=\"\",\"\",VLOOKUP(A2785,PARAMETROS!$B$3:$C$3,2,FALSE))","v":""},null,{"$f":"IF(C2785=\"\",\"\",VLOOKUP(C2785,PARAMETROS!$G$3:$H$21,2,FALSE))","v":""},null,{"$f":"IF(E2785=\"\",\"\",VLOOKUP(E2785,PARAMETROS!$I$3:$J$21,2,FALSE))","v":""},null,null,null,null,null,null,""]
[null,{"$f":"IF(A2786=\"\",\"\",VLOOKUP(A2786,PARAMETROS!$B$3:$C$3,2,FALSE))","v":""},null,{"$f":"IF(C2786=\"\",\"\",VLOOKUP(C2786,PARAMETROS!$G$3:$H$21,2,FALSE))","v":""},null,{"$f":"IF(E2786=\"\",\"\",VLOOKUP(E2786,PARAMETROS!$I$3:$J$21,2,FALSE))","v":""},null,null,null,null,null,null,""]
[null,{"$f":"IF(A2787=\"\",\"\",VLOOKUP(A2787,PARAMETROS!$B$3:$C$3,2,FALSE))","v":""},null,{"$f":"IF(C2787=\"\",\"\",VLOOKUP(C2787,PARAMETROS!$G$3:$H$21,2,FALSE))","v":""},null,{"$f":"IF(E2787=\"\",\"\",VLOOKUP(E2787,PARAMETROS!$I$3:$J$21,2,FALSE))","v":""},null,null,null,null,null,null,""]
[null,{"$f":"IF(A2788=\"\",\"\",VLOOKUP(A2788,PARAMETROS!$B$3:$C$3,2,FALSE))","v":""},null,{"$f":"IF(C2788=\"\",\"\",VLOOKUP(C2788,PARAMETROS!$G$3:$H$21,2,FALSE))","v":""},null,{"$f":"IF(E2788=\"\",\"\",VLOOKUP(E2788,PARAMETROS!$I$3:$J$21,2,FALSE))","v":""},null,null,null,null,null,null,""]
[null,{"$f":"IF(A2789=\"\",\"\",VLOOKUP(A2789,PARAMETROS!$B$3:$C$3,2,FALSE))","v":""},null,{"$f":"IF(C2789=\"\",\"\",VLOOKUP(C2789,PARAMETROS!$G$3:$H$21,2,FALSE))","v":""},null,{"$f":"IF(E2789=\"\",\"\",VLOOKUP(E2789,PARAMETROS!$I$3:$J$21,2,FALSE))","v":""},null,null,null,null,null,null,""]
[null,{"$f":"IF(A2790=\"\",\"\",VLOOKUP(A2790,PARAMETROS!$B$3:$C$3,2,FALSE))","v":""},null,{"$f":"IF(C2790=\"\",\"\",VLOOKUP(C2790,PARAMETROS!$G$3:$H$21,2,FALSE))","v":""},null,{"$f":"IF(E2790=\"\",\"\",VLOOKUP(E2790,PARAMETROS!$I$3:$J$21,2,FALSE))","v":""},null,null,null,null,null,null,""]
[null,{"$f":"IF(A2791=\"\",\"\",VLOOKUP(A2791,PARAMETROS!$B$3:$C$3,2,FALSE))","v":""},null,{"$f":"IF(C2791=\"\",\"\",VLOOKUP(C2791,PARAMETROS!$G$3:$H$21,2,FALSE))","v":""},null,{"$f":"IF(E2791=\"\",\"\",VLOOKUP(E2791,PARAMETROS!$I$3:$J$21,2,FALSE))","v":""},null,null,null,null,null,null,""]
[null,{"$f":"IF(A2792=\"\",\"\",VLOOKUP(A2792,PARAMETROS!$B$3:$C$3,2,FALSE))","v":""},null,{"$f":"IF(C2792=\"\",\"\",VLOOKUP(C2792,PARAMETROS!$G$3:$H$21,2,FALSE))","v":""},null,{"$f":"IF(E2792=\"\",\"\",VLOOKUP(E2792,PARAMETROS!$I$3:$J$21,2,FALSE))","v":""},null,null,null,null,null,null,""]
[null,{"$f":"IF(A2793=\"\",\"\",VLOOKUP(A2793,PARAMETROS!$B$3:$C$3,2,FALSE))","v":""},null,{"$f":"IF(C2793=\"\",\"\",VLOOKUP(C2793,PARAMETROS!$G$3:$H$21,2,FALSE))","v":""},null,{"$f":"IF(E2793=\"\",\"\",VLOOKUP(E2793,PARAMETROS!$I$3:$J$21,2,FALSE))","v":""},null,null,null,null,null,null,""]
[null,{"$f":"IF(A2794=\"\",\"\",VLOOKUP(A2794,PARAMETROS!$B$3:$C$3,2,FALSE))","v":""},null,{"$f":"IF(C2794=\"\",\"\",VLOOKUP(C2794,PARAMETROS!$G$3:$H$21,2,FALSE))","v":""},null,{"$f":"IF(E2794=\"\",\"\",VLOOKUP(E2794,PARAMETROS!$I$3:$J$21,2,FALSE))","v":""},null,null,null,null,null,null,""]
[null,{"$f":"IF(A2795=\"\",\"\",VLOOKUP(A2795,PARAMETROS!$B$3:$C$3,2,FALSE))","v":""},null,{"$f":"IF(C2795=\"\",\"\",VLOOKUP(C2795,PARAMETROS!$G$3:$H$21,2,FALSE))","v":""},null,{"$f":"IF(E2795=\"\",\"\",VLOOKUP(E2795,PARAMETROS!$I$3:$J$21,2,FALSE))","v":""},null,null,null,null,null,null,""]
[null,{"$f":"IF(A2796=\"\",\"\",VLOOKUP(A2796,PARAMETROS!$B$3:$C$3,2,FALSE))","v":""},null,{"$f":"IF(C2796=\"\",\"\",VLOOKUP(C2796,PARAMETROS!$G$3:$H$21,2,FALSE))","v":""},null,{"$f":"IF(E2796=\"\",\"\",VLOOKUP(E2796,PARAMETROS!$I$3:$J$21,2,FALSE))","v":""},null,null,null,null,null,null,""]
[null,{"$f":"IF(A2797=\"\",\"\",VLOOKUP(A2797,PARAMETROS!$B$3:$C$3,2,FALSE))","v":""},null,{"$f":"IF(C2797=\"\",\"\",VLOOKUP(C2797,PARAMETROS!$G$3:$H$21,2,FALSE))","v":""},null,{"$f":"IF(E2797=\"\",\"\",VLOOKUP(E2797,PARAMETROS!$I$3:$J$21,2,FALSE))","v":""},null,null,null,null,null,null,""]
[null,{"$f":"IF(A2798=\"\",\"\",VLOOKUP(A2798,PARAMETROS!$B$3:$C$3,2,FALSE))","v":""},null,{"$f":"IF(C2798=\"\",\"\",VLOOKUP(C2798,PARAMETROS!$G$3:$H$21,2,FALSE))","v":""},null,{"$f":"IF(E2798=\"\",\"\",VLOOKUP(E2798,PARAMETROS!$I$3:$J$21,2,FALSE))","v":""},null,null,null,null,null,null,""]
[null,{"$f":"IF(A2799=\"\",\"\",VLOOKUP(A2799,PARAMETROS!$B$3:$C$3,2,FALSE))","v":""},null,{"$f":"IF(C2799=\"\",\"\",VLOOKUP(C2799,PARAMETROS!$G$3:$H$21,2,FALSE))","v":""},null,{"$f":"IF(E2799=\"\",\"\",VLOOKUP(E2799,PARAMETROS!$I$3:$J$21,2,FALSE))","v":""},null,null,null,null,null,null,""]
[null,{"$f":"IF(A2800=\"\",\"\",VLOOKUP(A2800,PARAMETROS!$B$3:$C$3,2,FALSE))","v":""},null,{"$f":"IF(C2800=\"\",\"\",VLOOKUP(C2800,PARAMETROS!$G$3:$H$21,2,FALSE))","v":""},null,{"$f":"IF(E2800=\"\",\"\",VLOOKUP(E2800,PARAMETROS!$I$3:$J$21,2,FALSE))","v":""},null,null,null,null,null,null,""]
[null,{"$f":"IF(A2801=\"\",\"\",VLOOKUP(A2801,PARAMETROS!$B$3:$C$3,2,FALSE))","v":""},null,{"$f":"IF(C2801=\"\",\"\",VLOOKUP(C2801,PARAMETROS!$G$3:$H$21,2,FALSE))","v":""},null,{"$f":"IF(E2801=\"\",\"\",VLOOKUP(E2801,PARAMETROS!$I$3:$J$21,2,FALSE))","v":""},null,null,null,null,null,null,""]
[null,{"$f":"IF(A2802=\"\",\"\",VLOOKUP(A2802,PARAMETROS!$B$3:$C$3,2,FALSE))","v":""},null,{"$f":"IF(C2802=\"\",\"\",VLOOKUP(C2802,PARAMETROS!$G$3:$H$21,2,FALSE))","v":""},null,{"$f":"IF(E2802=\"\",\"\",VLOOKUP(E2802,PARAMETROS!$I$3:$J$21,2,FALSE))","v":""},null,null,null,null,null,null,""]
[null,{"$f":"IF(A2803=\"\",\"\",VLOOKUP(A2803,PARAMETROS!$B$3:$C$3,2,FALSE))","v":""},null,{"$f":"IF(C2803=\"\",\"\",VLOOKUP(C2803,PARAMETROS!$G$3:$H$21,2,FALSE))","v":""},null,{"$f":"IF(E2803=\"\",\"\",VLOOKUP(E2803,PARAMETROS!$I$3:$J$21,2,FALSE))","v":""},null,null,null,null,null,null,""]
[null,{"$f":"IF(A2804=\"\",\"\",VLOOKUP(A2804,PARAMETROS!$B$3:$C$3,2,FALSE))","v":""},null,{"$f":"IF(C2804=\"\",\"\",VLOOKUP(C2804,PARAMETROS!$G$3:$H$21,2,FALSE))","v":""},null,{"$f":"IF(E2804=\"\",\"\",VLOOKUP(E2804,PARAMETROS!$I$3:$J$21,2,FALSE))","v":""},null,null,null,null,null,null,""]
[null,{"$f":"IF(A2805=\"\",\"\",VLOOKUP(A2805,PARAMETROS!$B$3:$C$3,2,FALSE))","v":""},null,{"$f":"IF(C2805=\"\",\"\",VLOOKUP(C2805,PARAMETROS!$G$3:$H$21,2,FALSE))","v":""},null,{"$f":"IF(E2805=\"\",\"\",VLOOKUP(E2805,PARAMETROS!$I$3:$J$21,2,FALSE))","v":""},null,null,null,null,null,null,""]
[null,{"$f":"IF(A2806=\"\",\"\",VLOOKUP(A2806,PARAMETROS!$B$3:$C$3,2,FALSE))","v":""},null,{"$f":"IF(C2806=\"\",\"\",VLOOKUP(C2806,PARAMETROS!$G$3:$H$21,2,FALSE))","v":""},null,{"$f":"IF(E2806=\"\",\"\",VLOOKUP(E2806,PARAMETROS!$I$3:$J$21,2,FALSE))","v":""},null,null,null,null,null,null,""]
[null,{"$f":"IF(A2807=\"\",\"\",VLOOKUP(A2807,PARAMETROS!$B$3:$C$3,2,FALSE))","v":""},null,{"$f":"IF(C2807=\"\",\"\",VLOOKUP(C2807,PARAMETROS!$G$3:$H$21,2,FALSE))","v":""},null,{"$f":"IF(E2807=\"\",\"\",VLOOKUP(E2807,PARAMETROS!$I$3:$J$21,2,FALSE))","v":""},null,null,null,null,null,null,""]
[null,{"$f":"IF(A2808=\"\",\"\",VLOOKUP(A2808,PARAMETROS!$B$3:$C$3,2,FALSE))","v":""},null,{"$f":"IF(C2808=\"\",\"\",VLOOKUP(C2808,PARAMETROS!$G$3:$H$21,2,FALSE))","v":""},null,{"$f":"IF(E2808=\"\",\"\",VLOOKUP(E2808,PARAMETROS!$I$3:$J$21,2,FALSE))","v":""},null,null,null,null,null,null,""]
[null,{"$f":"IF(A2809=\"\",\"\",VLOOKUP(A2809,PARAMETROS!$B$3:$C$3,2,FALSE))","v":""},null,{"$f":"IF(C2809=\"\",\"\",VLOOKUP(C2809,PARAMETROS!$G$3:$H$21,2,FALSE))","v":""},null,{"$f":"IF(E2809=\"\",\"\",VLOOKUP(E2809,PARAMETROS!$I$3:$J$21,2,FALSE))","v":""},null,null,null,null,null,null,""]
[null,{"$f":"IF(A2810=\"\",\"\",VLOOKUP(A2810,PARAMETROS!$B$3:$C$3,2,FALSE))","v":""},null,{"$f":"IF(C2810=\"\",\"\",VLOOKUP(C2810,PARAMETROS!$G$3:$H$21,2,FALSE))","v":""},null,{"$f":"IF(E2810=\"\",\"\",VLOOKUP(E2810,PARAMETROS!$I$3:$J$21,2,FALSE))","v":""},null,null,null,null,null,null,""]
[null,{"$f":"IF(A2811=\"\",\"\",VLOOKUP(A2811,PARAMETROS!$B$3:$C$3,2,FALSE))","v":""},null,{"$f":"IF(C2811=\"\",\"\",VLOOKUP(C2811,PARAMETROS!$G$3:$H$21,2,FALSE))","v":""},null,{"$f":"IF(E2811=\"\",\"\",VLOOKUP(E2811,PARAMETROS!$I$3:$J$21,2,FALSE))","v":""},null,null,null,null,null,null,""]
[null,{"$f":"IF(A2812=\"\",\"\",VLOOKUP(A2812,PARAMETROS!$B$3:$C$3,2,FALSE))","v":""},null,{"$f":"IF(C2812=\"\",\"\",VLOOKUP(C2812,PARAMETROS!$G$3:$H$21,2,FALSE))","v":""},null,{"$f":"IF(E2812=\"\",\"\",VLOOKUP(E2812,PARAMETROS!$I$3:$J$21,2,FALSE))","v":""},null,null,null,null,null,null,""]
[null,{"$f":"IF(A2813=\"\",\"\",VLOOKUP(A2813,PARAMETROS!$B$3:$C$3,2,FALSE))","v":""},null,{"$f":"IF(C2813=\"\",\"\",VLOOKUP(C2813,PARAMETROS!$G$3:$H$21,2,FALSE))","v":""},null,{"$f":"IF(E2813=\"\",\"\",VLOOKUP(E2813,PARAMETROS!$I$3:$J$21,2,FALSE))","v":""},null,null,null,null,null,null,""]
[null,{"$f":"IF(A2814=\"\",\"\",VLOOKUP(A2814,PARAMETROS!$B$3:$C$3,2,FALSE))","v":""},null,{"$f":"IF(C2814=\"\",\"\",VLOOKUP(C2814,PARAMETROS!$G$3:$H$21,2,FALSE))","v":""},null,{"$f":"IF(E2814=\"\",\"\",VLOOKUP(E2814,PARAMETROS!$I$3:$J$21,2,FALSE))","v":""},null,null,null,null,null,null,""]
[null,{"$f":"IF(A2815=\"\",\"\",VLOOKUP(A2815,PARAMETROS!$B$3:$C$3,2,FALSE))","v":""},null,{"$f":"IF(C2815=\"\",\"\",VLOOKUP(C2815,PARAMETROS!$G$3:$H$21,2,FALSE))","v":""},null,{"$f":"IF(E2815=\"\",\"\",VLOOKUP(E2815,PARAMETROS!$I$3:$J$21,2,FALSE))","v":""},null,null,null,null,null,null,""]
[null,{"$f":"IF(A2816=\"\",\"\",VLOOKUP(A2816,PARAMETROS!$B$3:$C$3,2,FALSE))","v":""},null,{"$f":"IF(C2816=\"\",\"\",VLOOKUP(C2816,PARAMETROS!$G$3:$H$21,2,FALSE))","v":""},null,{"$f":"IF(E2816=\"\",\"\",VLOOKUP(E2816,PARAMETROS!$I$3:$J$21,2,FALSE))","v":""},null,null,null,null,null,null,""]
[null,{"$f":"IF(A2817=\"\",\"\",VLOOKUP(A2817,PARAMETROS!$B$3:$C$3,2,FALSE))","v":""},null,{"$f":"IF(C2817=\"\",\"\",VLOOKUP(C2817,PARAMETROS!$G$3:$H$21,2,FALSE))","v":""},null,{"$f":"IF(E2817=\"\",\"\",VLOOKUP(E2817,PARAMETROS!$I$3:$J$21,2,FALSE))","v":""},null,null,null,null,null,null,""]
[null,{"$f":"IF(A2818=\"\",\"\",VLOOKUP(A2818,PARAMETROS!$B$3:$C$3,2,FALSE))","v":""},null,{"$f":"IF(C2818=\"\",\"\",VLOOKUP(C2818,PARAMETROS!$G$3:$H$21,2,FALSE))","v":""},null,{"$f":"IF(E2818=\"\",\"\",VLOOKUP(E2818,PARAMETROS!$I$3:$J$21,2,FALSE))","v":""},null,null,null,null,null,null,""]
[null,{"$f":"IF(A2819=\"\",\"\",VLOOKUP(A2819,PARAMETROS!$B$3:$C$3,2,FALSE))","v":""},null,{"$f":"IF(C2819=\"\",\"\",VLOOKUP(C2819,PARAMETROS!$G$3:$H$21,2,FALSE))","v":""},null,{"$f":"IF(E2819=\"\",\"\",VLOOKUP(E2819,PARAMETROS!$I$3:$J$21,2,FALSE))","v":""},null,null,null,null,null,null,""]
[null,{"$f":"IF(A2820=\"\",\"\",VLOOKUP(A2820,PARAMETROS!$B$3:$C$3,2,FALSE))","v":""},null,{"$f":"IF(C2820=\"\",\"\",VLOOKUP(C2820,PARAMETROS!$G$3:$H$21,2,FALSE))","v":""},null,{"$f":"IF(E2820=\"\",\"\",VLOOKUP(E2820,PARAMETROS!$I$3:$J$21,2,FALSE))","v":""},null,null,null,null,null,null,""]
[null,{"$f":"IF(A2821=\"\",\"\",VLOOKUP(A2821,PARAMETROS!$B$3:$C$3,2,FALSE))","v":""},null,{"$f":"IF(C2821=\"\",\"\",VLOOKUP(C2821,PARAMETROS!$G$3:$H$21,2,FALSE))","v":""},null,{"$f":"IF(E2821=\"\",\"\",VLOOKUP(E2821,PARAMETROS!$I$3:$J$21,2,FALSE))","v":""},null,null,null,null,null,null,""]
[null,{"$f":"IF(A2822=\"\",\"\",VLOOKUP(A2822,PARAMETROS!$B$3:$C$3,2,FALSE))","v":""},null,{"$f":"IF(C2822=\"\",\"\",VLOOKUP(C2822,PARAMETROS!$G$3:$H$21,2,FALSE))","v":""},null,{"$f":"IF(E2822=\"\",\"\",VLOOKUP(E2822,PARAMETROS!$I$3:$J$21,2,FALSE))","v":""},null,null,null,null,null,null,""]
[null,{"$f":"IF(A2823=\"\",\"\",VLOOKUP(A2823,PARAMETROS!$B$3:$C$3,2,FALSE))","v":""},null,{"$f":"IF(C2823=\"\",\"\",VLOOKUP(C2823,PARAMETROS!$G$3:$H$21,2,FALSE))","v":""},null,{"$f":"IF(E2823=\"\",\"\",VLOOKUP(E2823,PARAMETROS!$I$3:$J$21,2,FALSE))","v":""},null,null,null,null,null,null,""]
[null,{"$f":"IF(A2824=\"\",\"\",VLOOKUP(A2824,PARAMETROS!$B$3:$C$3,2,FALSE))","v":""},null,{"$f":"IF(C2824=\"\",\"\",VLOOKUP(C2824,PARAMETROS!$G$3:$H$21,2,FALSE))","v":""},null,{"$f":"IF(E2824=\"\",\"\",VLOOKUP(E2824,PARAMETROS!$I$3:$J$21,2,FALSE))","v":""},null,null,null,null,null,null,""]
[null,{"$f":"IF(A2825=\"\",\"\",VLOOKUP(A2825,PARAMETROS!$B$3:$C$3,2,FALSE))","v":""},null,{"$f":"IF(C2825=\"\",\"\",VLOOKUP(C2825,PARAMETROS!$G$3:$H$21,2,FALSE))","v":""},null,{"$f":"IF(E2825=\"\",\"\",VLOOKUP(E2825,PARAMETROS!$I$3:$J$21,2,FALSE))","v":""},null,null,null,null,null,null,""]
[null,{"$f":"IF(A2826=\"\",\"\",VLOOKUP(A2826,PARAMETROS!$B$3:$C$3,2,FALSE))","v":""},null,{"$f":"IF(C2826=\"\",\"\",VLOOKUP(C2826,PARAMETROS!$G$3:$H$21,2,FALSE))","v":""},null,{"$f":"IF(E2826=\"\",\"\",VLOOKUP(E2826,PARAMETROS!$I$3:$J$21,2,FALSE))","v":""},null,null,null,null,null,null,""]
[null,{"$f":"IF(A2827=\"\",\"\",VLOOKUP(A2827,PARAMETROS!$B$3:$C$3,2,FALSE))","v":""},null,{"$f":"IF(C2827=\"\",\"\",VLOOKUP(C2827,PARAMETROS!$G$3:$H$21,2,FALSE))","v":""},null,{"$f":"IF(E2827=\"\",\"\",VLOOKUP(E2827,PARAMETROS!$I$3:$J$21,2,FALSE))","v":""},null,null,null,null,null,null,""]
[null,{"$f":"IF(A2828=\"\",\"\",VLOOKUP(A2828,PARAMETROS!$B$3:$C$3,2,FALSE))","v":""},null,{"$f":"IF(C2828=\"\",\"\",VLOOKUP(C2828,PARAMETROS!$G$3:$H$21,2,FALSE))","v":""},null,{"$f":"IF(E2828=\"\",\"\",VLOOKUP(E2828,PARAMETROS!$I$3:$J$21,2,FALSE))","v":""},null,null,null,null,null,null,""]
[null,{"$f":"IF(A2829=\"\",\"\",VLOOKUP(A2829,PARAMETROS!$B$3:$C$3,2,FALSE))","v":""},null,{"$f":"IF(C2829=\"\",\"\",VLOOKUP(C2829,PARAMETROS!$G$3:$H$21,2,FALSE))","v":""},null,{"$f":"IF(E2829=\"\",\"\",VLOOKUP(E2829,PARAMETROS!$I$3:$J$21,2,FALSE))","v":""},null,null,null,null,null,null,""]
[null,{"$f":"IF(A2830=\"\",\"\",VLOOKUP(A2830,PARAMETROS!$B$3:$C$3,2,FALSE))","v":""},null,{"$f":"IF(C2830=\"\",\"\",VLOOKUP(C2830,PARAMETROS!$G$3:$H$21,2,FALSE))","v":""},null,{"$f":"IF(E2830=\"\",\"\",VLOOKUP(E2830,PARAMETROS!$I$3:$J$21,2,FALSE))","v":""},null,null,null,null,null,null,""]
[null,{"$f":"IF(A2831=\"\",\"\",VLOOKUP(A2831,PARAMETROS!$B$3:$C$3,2,FALSE))","v":""},null,{"$f":"IF(C2831=\"\",\"\",VLOOKUP(C2831,PARAMETROS!$G$3:$H$21,2,FALSE))","v":""},null,{"$f":"IF(E2831=\"\",\"\",VLOOKUP(E2831,PARAMETROS!$I$3:$J$21,2,FALSE))","v":""},null,null,null,null,null,null,{"$f":"IF(L2831=\"\", \"\", L2831)","v":""}]
[null,{"$f":"IF(A2832=\"\",\"\",VLOOKUP(A2832,PARAMETROS!$B$3:$C$3,2,FALSE))","v":""},null,{"$f":"IF(C2832=\"\",\"\",VLOOKUP(C2832,PARAMETROS!$G$3:$H$21,2,FALSE))","v":""},null,{"$f":"IF(E2832=\"\",\"\",VLOOKUP(E2832,PARAMETROS!$I$3:$J$21,2,FALSE))","v":""},null,null,null,null,null,null,""]
[null,{"$f":"IF(A2833=\"\",\"\",VLOOKUP(A2833,PARAMETROS!$B$3:$C$3,2,FALSE))","v":""},null,{"$f":"IF(C2833=\"\",\"\",VLOOKUP(C2833,PARAMETROS!$G$3:$H$21,2,FALSE))","v":""},null,{"$f":"IF(E2833=\"\",\"\",VLOOKUP(E2833,PARAMETROS!$I$3:$J$21,2,FALSE))","v":""},null,null,null,null,null,null,""]
[null,{"$f":"IF(A2834=\"\",\"\",VLOOKUP(A2834,PARAMETROS!$B$3:$C$3,2,FALSE))","v":""},null,{"$f":"IF(C2834=\"\",\"\",VLOOKUP(C2834,PARAMETROS!$G$3:$H$21,2,FALSE))","v":""},null,{"$f":"IF(E2834=\"\",\"\",VLOOKUP(E2834,PARAMETROS!$I$3:$J$21,2,FALSE))","v":""},null,null,null,null,null,null,""]
[null,{"$f":"IF(A2835=\"\",\"\",VLOOKUP(A2835,PARAMETROS!$B$3:$C$3,2,FALSE))","v":""},null,{"$f":"IF(C2835=\"\",\"\",VLOOKUP(C2835,PARAMETROS!$G$3:$H$21,2,FALSE))","v":""},null,{"$f":"IF(E2835=\"\",\"\",VLOOKUP(E2835,PARAMETROS!$I$3:$J$21,2,FALSE))","v":""},null,null,null,null,null,null,""]
[null,{"$f":"IF(A2836=\"\",\"\",VLOOKUP(A2836,PARAMETROS!$B$3:$C$3,2,FALSE))","v":""},null,{"$f":"IF(C2836=\"\",\"\",VLOOKUP(C2836,PARAMETROS!$G$3:$H$21,2,FALSE))","v":""},null,{"$f":"IF(E2836=\"\",\"\",VLOOKUP(E2836,PARAMETROS!$I$3:$J$21,2,FALSE))","v":""},null,null,null,null,null,null,""]
[null,{"$f":"IF(A2837=\"\",\"\",VLOOKUP(A2837,PARAMETROS!$B$3:$C$3,2,FALSE))","v":""},null,{"$f":"IF(C2837=\"\",\"\",VLOOKUP(C2837,PARAMETROS!$G$3:$H$21,2,FALSE))","v":""},null,{"$f":"IF(E2837=\"\",\"\",VLOOKUP(E2837,PARAMETROS!$I$3:$J$21,2,FALSE))","v":""},null,null,null,null,null,null,""]
[null,{"$f":"IF(A2838=\"\",\"\",VLOOKUP(A2838,PARAMETROS!$B$3:$C$3,2,FALSE))","v":""},null,{"$f":"IF(C2838=\"\",\"\",VLOOKUP(C2838,PARAMETROS!$G$3:$H$21,2,FALSE))","v":""},null,{"$f":"IF(E2838=\"\",\"\",VLOOKUP(E2838,PARAMETROS!$I$3:$J$21,2,FALSE))","v":""},null,null,null,null,null,null,""]
[null,{"$f":"IF(A2839=\"\",\"\",VLOOKUP(A2839,PARAMETROS!$B$3:$C$3,2,FALSE))","v":""},null,{"$f":"IF(C2839=\"\",\"\",VLOOKUP(C2839,PARAMETROS!$G$3:$H$21,2,FALSE))","v":""},null,{"$f":"IF(E2839=\"\",\"\",VLOOKUP(E2839,PARAMETROS!$I$3:$J$21,2,FALSE))","v":""},null,null,null,null,null,null,""]
[null,{"$f":"IF(A2840=\"\",\"\",VLOOKUP(A2840,PARAMETROS!$B$3:$C$3,2,FALSE))","v":""},null,{"$f":"IF(C2840=\"\",\"\",VLOOKUP(C2840,PARAMETROS!$G$3:$H$21,2,FALSE))","v":""},null,{"$f":"IF(E2840=\"\",\"\",VLOOKUP(E2840,PARAMETROS!$I$3:$J$21,2,FALSE))","v":""},null,null,null,null,null,null,""]
[null,{"$f":"IF(A2841=\"\",\"\",VLOOKUP(A2841,PARAMETROS!$B$3:$C$3,2,FALSE))","v":""},null,{"$f":"IF(C2841=\"\",\"\",VLOOKUP(C2841,PARAMETROS!$G$3:$H$21,2,FALSE))","v":""},null,{"$f":"IF(E2841=\"\",\"\",VLOOKUP(E2841,PARAMETROS!$I$3:$J$21,2,FALSE))","v":""},null,null,null,null,null,null,""]
[null,{"$f":"IF(A2842=\"\",\"\",VLOOKUP(A2842,PARAMETROS!$B$3:$C$3,2,FALSE))","v":""},null,{"$f":"IF(C2842=\"\",\"\",VLOOKUP(C2842,PARAMETROS!$G$3:$H$21,2,FALSE))","v":""},null,{"$f":"IF(E2842=\"\",\"\",VLOOKUP(E2842,PARAMETROS!$I$3:$J$21,2,FALSE))","v":""},null,null,null,null,null,null,""]
[null,{"$f":"IF(A2843=\"\",\"\",VLOOKUP(A2843,PARAMETROS!$B$3:$C$3,2,FALSE))","v":""},null,{"$f":"IF(C2843=\"\",\"\",VLOOKUP(C2843,PARAMETROS!$G$3:$H$21,2,FALSE))","v":""},null,{"$f":"IF(E2843=\"\",\"\",VLOOKUP(E2843,PARAMETROS!$I$3:$J$21,2,FALSE))","v":""},null,null,null,null,null,null,""]
[null,{"$f":"IF(A2844=\"\",\"\",VLOOKUP(A2844,PARAMETROS!$B$3:$C$3,2,FALSE))","v":""},null,{"$f":"IF(C2844=\"\",\"\",VLOOKUP(C2844,PARAMETROS!$G$3:$H$21,2,FALSE))","v":""},null,{"$f":"IF(E2844=\"\",\"\",VLOOKUP(E2844,PARAMETROS!$I$3:$J$21,2,FALSE))","v":""},null,null,null,null,null,null,""]
[null,{"$f":"IF(A2845=\"\",\"\",VLOOKUP(A2845,PARAMETROS!$B$3:$C$3,2,FALSE))","v":""},null,{"$f":"IF(C2845=\"\",\"\",VLOOKUP(C2845,PARAMETROS!$G$3:$H$21,2,FALSE))","v":""},null,{"$f":"IF(E2845=\"\",\"\",VLOOKUP(E2845,PARAMETROS!$I$3:$J$21,2,FALSE))","v":""},null,null,null,null,null,null,""]
[null,{"$f":"IF(A2846=\"\",\"\",VLOOKUP(A2846,PARAMETROS!$B$3:$C$3,2,FALSE))","v":""},null,{"$f":"IF(C2846=\"\",\"\",VLOOKUP(C2846,PARAMETROS!$G$3:$H$21,2,FALSE))","v":""},null,{"$f":"IF(E2846=\"\",\"\",VLOOKUP(E2846,PARAMETROS!$I$3:$J$21,2,FALSE))","v":""},null,null,null,null,null,null,""]
[null,{"$f":"IF(A2847=\"\",\"\",VLOOKUP(A2847,PARAMETROS!$B$3:$C$3,2,FALSE))","v":""},null,{"$f":"IF(C2847=\"\",\"\",VLOOKUP(C2847,PARAMETROS!$G$3:$H$21,2,FALSE))","v":""},null,{"$f":"IF(E2847=\"\",\"\",VLOOKUP(E2847,PARAMETROS!$I$3:$J$21,2,FALSE))","v":""},null,null,null,null,null,null,""]
[null,{"$f":"IF(A2848=\"\",\"\",VLOOKUP(A2848,PARAMETROS!$B$3:$C$3,2,FALSE))","v":""},null,{"$f":"IF(C2848=\"\",\"\",VLOOKUP(C2848,PARAMETROS!$G$3:$H$21,2,FALSE))","v":""},null,{"$f":"IF(E2848=\"\",\"\",VLOOKUP(E2848,PARAMETROS!$I$3:$J$21,2,FALSE))","v":""},null,null,null,null,null,null,""]
[null,{"$f":"IF(A2849=\"\",\"\",VLOOKUP(A2849,PARAMETROS!$B$3:$C$3,2,FALSE))","v":""},null,{"$f":"IF(C2849=\"\",\"\",VLOOKUP(C2849,PARAMETROS!$G$3:$H$21,2,FALSE))","v":""},null,{"$f":"IF(E2849=\"\",\"\",VLOOKUP(E2849,PARAMETROS!$I$3:$J$21,2,FALSE))","v":""},null,null,null,null,null,null,""]
[null,{"$f":"IF(A2850=\"\",\"\",VLOOKUP(A2850,PARAMETROS!$B$3:$C$3,2,FALSE))","v":""},null,{"$f":"IF(C2850=\"\",\"\",VLOOKUP(C2850,PARAMETROS!$G$3:$H$21,2,FALSE))","v":""},null,{"$f":"IF(E2850=\"\",\"\",VLOOKUP(E2850,PARAMETROS!$I$3:$J$21,2,FALSE))","v":""},null,null,null,null,null,null,""]
[null,{"$f":"IF(A2851=\"\",\"\",VLOOKUP(A2851,PARAMETROS!$B$3:$C$3,2,FALSE))","v":""},null,{"$f":"IF(C2851=\"\",\"\",VLOOKUP(C2851,PARAMETROS!$G$3:$H$21,2,FALSE))","v":""},null,{"$f":"IF(E2851=\"\",\"\",VLOOKUP(E2851,PARAMETROS!$I$3:$J$21,2,FALSE))","v":""},null,null,null,null,null,null,""]
[null,{"$f":"IF(A2852=\"\",\"\",VLOOKUP(A2852,PARAMETROS!$B$3:$C$3,2,FALSE))","v":""},null,{"$f":"IF(C2852=\"\",\"\",VLOOKUP(C2852,PARAMETROS!$G$3:$H$21,2,FALSE))","v":""},null,{"$f":"IF(E2852=\"\",\"\",VLOOKUP(E2852,PARAMETROS!$I$3:$J$21,2,FALSE))","v":""},null,null,null,null,null,null,""]
[null,{"$f":"IF(A2853=\"\",\"\",VLOOKUP(A2853,PARAMETROS!$B$3:$C$3,2,FALSE))","v":""},null,{"$f":"IF(C2853=\"\",\"\",VLOOKUP(C2853,PARAMETROS!$G$3:$H$21,2,FALSE))","v":""},null,{"$f":"IF(E2853=\"\",\"\",VLOOKUP(E2853,PARAMETROS!$I$3:$J$21,2,FALSE))","v":""},null,null,null,null,null,null,""]
[null,{"$f":"IF(A2854=\"\",\"\",VLOOKUP(A2854,PARAMETROS!$B$3:$C$3,2,FALSE))","v":""},null,{"$f":"IF(C2854=\"\",\"\",VLOOKUP(C2854,PARAMETROS!$G$3:$H$21,2,FALSE))","v":""},null,{"$f":"IF(E2854=\"\",\"\",VLOOKUP(E2854,PARAMETROS!$I$3:$J$21,2,FALSE))","v":""},null,null,null,null,null,null,""]
[null,{"$f":"IF(A2855=\"\",\"\",VLOOKUP(A2855,PARAMETROS!$B$3:$C$3,2,FALSE))","v":""},null,{"$f":"IF(C2855=\"\",\"\",VLOOKUP(C2855,PARAMETROS!$G$3:$H$21,2,FALSE))","v":""},null,{"$f":"IF(E2855=\"\",\"\",VLOOKUP(E2855,PARAMETROS!$I$3:$J$21,2,FALSE))","v":""},null,null,null,null,null,null,""]
[null,{"$f":"IF(A2856=\"\",\"\",VLOOKUP(A2856,PARAMETROS!$B$3:$C$3,2,FALSE))","v":""},null,{"$f":"IF(C2856=\"\",\"\",VLOOKUP(C2856,PARAMETROS!$G$3:$H$21,2,FALSE))","v":""},null,{"$f":"IF(E2856=\"\",\"\",VLOOKUP(E2856,PARAMETROS!$I$3:$J$21,2,FALSE))","v":""},null,null,null,null,null,null,""]
[null,{"$f":"IF(A2857=\"\",\"\",VLOOKUP(A2857,PARAMETROS!$B$3:$C$3,2,FALSE))","v":""},null,{"$f":"IF(C2857=\"\",\"\",VLOOKUP(C2857,PARAMETROS!$G$3:$H$21,2,FALSE))","v":""},null,{"$f":"IF(E2857=\"\",\"\",VLOOKUP(E2857,PARAMETROS!$I$3:$J$21,2,FALSE))","v":""},null,null,null,null,null,null,""]
[null,{"$f":"IF(A2858=\"\",\"\",VLOOKUP(A2858,PARAMETROS!$B$3:$C$3,2,FALSE))","v":""},null,{"$f":"IF(C2858=\"\",\"\",VLOOKUP(C2858,PARAMETROS!$G$3:$H$21,2,FALSE))","v":""},null,{"$f":"IF(E2858=\"\",\"\",VLOOKUP(E2858,PARAMETROS!$I$3:$J$21,2,FALSE))","v":""},null,null,null,null,null,null,""]
[null,{"$f":"IF(A2859=\"\",\"\",VLOOKUP(A2859,PARAMETROS!$B$3:$C$3,2,FALSE))","v":""},null,{"$f":"IF(C2859=\"\",\"\",VLOOKUP(C2859,PARAMETROS!$G$3:$H$21,2,FALSE))","v":""},null,{"$f":"IF(E2859=\"\",\"\",VLOOKUP(E2859,PARAMETROS!$I$3:$J$21,2,FALSE))","v":""},null,null,null,null,null,null,""]
[null,{"$f":"IF(A2860=\"\",\"\",VLOOKUP(A2860,PARAMETROS!$B$3:$C$3,2,FALSE))","v":""},null,{"$f":"IF(C2860=\"\",\"\",VLOOKUP(C2860,PARAMETROS!$G$3:$H$21,2,FALSE))","v":""},null,{"$f":"IF(E2860=\"\",\"\",VLOOKUP(E2860,PARAMETROS!$I$3:$J$21,2,FALSE))","v":""},null,null,null,null,null,null,""]
[null,{"$f":"IF(A2861=\"\",\"\",VLOOKUP(A2861,PARAMETROS!$B$3:$C$3,2,FALSE))","v":""},null,{"$f":"IF(C2861=\"\",\"\",VLOOKUP(C2861,PARAMETROS!$G$3:$H$21,2,FALSE))","v":""},null,{"$f":"IF(E2861=\"\",\"\",VLOOKUP(E2861,PARAMETROS!$I$3:$J$21,2,FALSE))","v":""},null,null,null,null,null,null,""]
[null,{"$f":"IF(A2862=\"\",\"\",VLOOKUP(A2862,PARAMETROS!$B$3:$C$3,2,FALSE))","v":""},null,{"$f":"IF(C2862=\"\",\"\",VLOOKUP(C2862,PARAMETROS!$G$3:$H$21,2,FALSE))","v":""},null,{"$f":"IF(E2862=\"\",\"\",VLOOKUP(E2862,PARAMETROS!$I$3:$J$21,2,FALSE))","v":""},null,null,null,null,null,null,""]
[null,{"$f":"IF(A2863=\"\",\"\",VLOOKUP(A2863,PARAMETROS!$B$3:$C$3,2,FALSE))","v":""},null,{"$f":"IF(C2863=\"\",\"\",VLOOKUP(C2863,PARAMETROS!$G$3:$H$21,2,FALSE))","v":""},null,{"$f":"IF(E2863=\"\",\"\",VLOOKUP(E2863,PARAMETROS!$I$3:$J$21,2,FALSE))","v":""},null,null,null,null,null,null,""]
[null,{"$f":"IF(A2864=\"\",\"\",VLOOKUP(A2864,PARAMETROS!$B$3:$C$3,2,FALSE))","v":""},null,{"$f":"IF(C2864=\"\",\"\",VLOOKUP(C2864,PARAMETROS!$G$3:$H$21,2,FALSE))","v":""},null,{"$f":"IF(E2864=\"\",\"\",VLOOKUP(E2864,PARAMETROS!$I$3:$J$21,2,FALSE))","v":""},null,null,null,null,null,null,""]
[null,{"$f":"IF(A2865=\"\",\"\",VLOOKUP(A2865,PARAMETROS!$B$3:$C$3,2,FALSE))","v":""},null,{"$f":"IF(C2865=\"\",\"\",VLOOKUP(C2865,PARAMETROS!$G$3:$H$21,2,FALSE))","v":""},null,{"$f":"IF(E2865=\"\",\"\",VLOOKUP(E2865,PARAMETROS!$I$3:$J$21,2,FALSE))","v":""},null,null,null,null,null,null,""]
[null,{"$f":"IF(A2866=\"\",\"\",VLOOKUP(A2866,PARAMETROS!$B$3:$C$3,2,FALSE))","v":""},null,{"$f":"IF(C2866=\"\",\"\",VLOOKUP(C2866,PARAMETROS!$G$3:$H$21,2,FALSE))","v":""},null,{"$f":"IF(E2866=\"\",\"\",VLOOKUP(E2866,PARAMETROS!$I$3:$J$21,2,FALSE))","v":""},null,null,null,null,null,null,""]
[null,{"$f":"IF(A2867=\"\",\"\",VLOOKUP(A2867,PARAMETROS!$B$3:$C$3,2,FALSE))","v":""},null,{"$f":"IF(C2867=\"\",\"\",VLOOKUP(C2867,PARAMETROS!$G$3:$H$21,2,FALSE))","v":""},null,{"$f":"IF(E2867=\"\",\"\",VLOOKUP(E2867,PARAMETROS!$I$3:$J$21,2,FALSE))","v":""},null,null,null,null,null,null,""]
[null,{"$f":"IF(A2868=\"\",\"\",VLOOKUP(A2868,PARAMETROS!$B$3:$C$3,2,FALSE))","v":""},null,{"$f":"IF(C2868=\"\",\"\",VLOOKUP(C2868,PARAMETROS!$G$3:$H$21,2,FALSE))","v":""},null,{"$f":"IF(E2868=\"\",\"\",VLOOKUP(E2868,PARAMETROS!$I$3:$J$21,2,FALSE))","v":""},null,null,null,null,null,null,""]
[null,{"$f":"IF(A2869=\"\",\"\",VLOOKUP(A2869,PARAMETROS!$B$3:$C$3,2,FALSE))","v":""},null,{"$f":"IF(C2869=\"\",\"\",VLOOKUP(C2869,PARAMETROS!$G$3:$H$21,2,FALSE))","v":""},null,{"$f":"IF(E2869=\"\",\"\",VLOOKUP(E2869,PARAMETROS!$I$3:$J$21,2,FALSE))","v":""},null,null,null,null,null,null,""]
[null,{"$f":"IF(A2870=\"\",\"\",VLOOKUP(A2870,PARAMETROS!$B$3:$C$3,2,FALSE))","v":""},null,{"$f":"IF(C2870=\"\",\"\",VLOOKUP(C2870,PARAMETROS!$G$3:$H$21,2,FALSE))","v":""},null,{"$f":"IF(E2870=\"\",\"\",VLOOKUP(E2870,PARAMETROS!$I$3:$J$21,2,FALSE))","v":""},null,null,null,null,null,null,""]
[null,{"$f":"IF(A2871=\"\",\"\",VLOOKUP(A2871,PARAMETROS!$B$3:$C$3,2,FALSE))","v":""},null,{"$f":"IF(C2871=\"\",\"\",VLOOKUP(C2871,PARAMETROS!$G$3:$H$21,2,FALSE))","v":""},null,{"$f":"IF(E2871=\"\",\"\",VLOOKUP(E2871,PARAMETROS!$I$3:$J$21,2,FALSE))","v":""},null,null,null,null,null,null,""]
[null,{"$f":"IF(A2872=\"\",\"\",VLOOKUP(A2872,PARAMETROS!$B$3:$C$3,2,FALSE))","v":""},null,{"$f":"IF(C2872=\"\",\"\",VLOOKUP(C2872,PARAMETROS!$G$3:$H$21,2,FALSE))","v":""},null,{"$f":"IF(E2872=\"\",\"\",VLOOKUP(E2872,PARAMETROS!$I$3:$J$21,2,FALSE))","v":""},null,null,null,null,null,null,""]
[null,{"$f":"IF(A2873=\"\",\"\",VLOOKUP(A2873,PARAMETROS!$B$3:$C$3,2,FALSE))","v":""},null,{"$f":"IF(C2873=\"\",\"\",VLOOKUP(C2873,PARAMETROS!$G$3:$H$21,2,FALSE))","v":""},null,{"$f":"IF(E2873=\"\",\"\",VLOOKUP(E2873,PARAMETROS!$I$3:$J$21,2,FALSE))","v":""},null,null,null,null,null,null,""]
[null,{"$f":"IF(A2874=\"\",\"\",VLOOKUP(A2874,PARAMETROS!$B$3:$C$3,2,FALSE))","v":""},null,{"$f":"IF(C2874=\"\",\"\",VLOOKUP(C2874,PARAMETROS!$G$3:$H$21,2,FALSE))","v":""},null,{"$f":"IF(E2874=\"\",\"\",VLOOKUP(E2874,PARAMETROS!$I$3:$J$21,2,FALSE))","v":""},null,null,null,null,null,null,""]
[null,{"$f":"IF(A2875=\"\",\"\",VLOOKUP(A2875,PARAMETROS!$B$3:$C$3,2,FALSE))","v":""},null,{"$f":"IF(C2875=\"\",\"\",VLOOKUP(C2875,PARAMETROS!$G$3:$H$21,2,FALSE))","v":""},null,{"$f":"IF(E2875=\"\",\"\",VLOOKUP(E2875,PARAMETROS!$I$3:$J$21,2,FALSE))","v":""},null,null,null,null,null,null,""]
[null,{"$f":"IF(A2876=\"\",\"\",VLOOKUP(A2876,PARAMETROS!$B$3:$C$3,2,FALSE))","v":""},null,{"$f":"IF(C2876=\"\",\"\",VLOOKUP(C2876,PARAMETROS!$G$3:$H$21,2,FALSE))","v":""},null,{"$f":"IF(E2876=\"\",\"\",VLOOKUP(E2876,PARAMETROS!$I$3:$J$21,2,FALSE))","v":""},null,null,null,null,null,null,""]
[null,{"$f":"IF(A2877=\"\",\"\",VLOOKUP(A2877,PARAMETROS!$B$3:$C$3,2,FALSE))","v":""},null,{"$f":"IF(C2877=\"\",\"\",VLOOKUP(C2877,PARAMETROS!$G$3:$H$21,2,FALSE))","v":""},null,{"$f":"IF(E2877=\"\",\"\",VLOOKUP(E2877,PARAMETROS!$I$3:$J$21,2,FALSE))","v":""},null,null,null,null,null,null,""]
[null,{"$f":"IF(A2878=\"\",\"\",VLOOKUP(A2878,PARAMETROS!$B$3:$C$3,2,FALSE))","v":""},null,{"$f":"IF(C2878=\"\",\"\",VLOOKUP(C2878,PARAMETROS!$G$3:$H$21,2,FALSE))","v":""},null,{"$f":"IF(E2878=\"\",\"\",VLOOKUP(E2878,PARAMETROS!$I$3:$J$21,2,FALSE))","v":""},null,null,null,null,null,null,""]
[null,{"$f":"IF(A2879=\"\",\"\",VLOOKUP(A2879,PARAMETROS!$B$3:$C$3,2,FALSE))","v":""},null,{"$f":"IF(C2879=\"\",\"\",VLOOKUP(C2879,PARAMETROS!$G$3:$H$21,2,FALSE))","v":""},null,{"$f":"IF(E2879=\"\",\"\",VLOOKUP(E2879,PARAMETROS!$I$3:$J$21,2,FALSE))","v":""},null,null,null,null,null,null,""]
[null,{"$f":"IF(A2880=\"\",\"\",VLOOKUP(A2880,PARAMETROS!$B$3:$C$3,2,FALSE))","v":""},null,{"$f":"IF(C2880=\"\",\"\",VLOOKUP(C2880,PARAMETROS!$G$3:$H$21,2,FALSE))","v":""},null,{"$f":"IF(E2880=\"\",\"\",VLOOKUP(E2880,PARAMETROS!$I$3:$J$21,2,FALSE))","v":""},null,null,null,null,null,null,""]
[null,{"$f":"IF(A2881=\"\",\"\",VLOOKUP(A2881,PARAMETROS!$B$3:$C$3,2,FALSE))","v":""},null,{"$f":"IF(C2881=\"\",\"\",VLOOKUP(C2881,PARAMETROS!$G$3:$H$21,2,FALSE))","v":""},null,{"$f":"IF(E2881=\"\",\"\",VLOOKUP(E2881,PARAMETROS!$I$3:$J$21,2,FALSE))","v":""},null,null,null,null,null,null,""]
[null,{"$f":"IF(A2882=\"\",\"\",VLOOKUP(A2882,PARAMETROS!$B$3:$C$3,2,FALSE))","v":""},null,{"$f":"IF(C2882=\"\",\"\",VLOOKUP(C2882,PARAMETROS!$G$3:$H$21,2,FALSE))","v":""},null,{"$f":"IF(E2882=\"\",\"\",VLOOKUP(E2882,PARAMETROS!$I$3:$J$21,2,FALSE))","v":""},null,null,null,null,null,null,""]
[null,{"$f":"IF(A2883=\"\",\"\",VLOOKUP(A2883,PARAMETROS!$B$3:$C$3,2,FALSE))","v":""},null,{"$f":"IF(C2883=\"\",\"\",VLOOKUP(C2883,PARAMETROS!$G$3:$H$21,2,FALSE))","v":""},null,{"$f":"IF(E2883=\"\",\"\",VLOOKUP(E2883,PARAMETROS!$I$3:$J$21,2,FALSE))","v":""},null,null,null,null,null,null,""]
[null,{"$f":"IF(A2884=\"\",\"\",VLOOKUP(A2884,PARAMETROS!$B$3:$C$3,2,FALSE))","v":""},null,{"$f":"IF(C2884=\"\",\"\",VLOOKUP(C2884,PARAMETROS!$G$3:$H$21,2,FALSE))","v":""},null,{"$f":"IF(E2884=\"\",\"\",VLOOKUP(E2884,PARAMETROS!$I$3:$J$21,2,FALSE))","v":""},null,null,null,null,null,null,""]
[null,{"$f":"IF(A2885=\"\",\"\",VLOOKUP(A2885,PARAMETROS!$B$3:$C$3,2,FALSE))","v":""},null,{"$f":"IF(C2885=\"\",\"\",VLOOKUP(C2885,PARAMETROS!$G$3:$H$21,2,FALSE))","v":""},null,{"$f":"IF(E2885=\"\",\"\",VLOOKUP(E2885,PARAMETROS!$I$3:$J$21,2,FALSE))","v":""},null,null,null,null,null,null,""]
[null,{"$f":"IF(A2886=\"\",\"\",VLOOKUP(A2886,PARAMETROS!$B$3:$C$3,2,FALSE))","v":""},null,{"$f":"IF(C2886=\"\",\"\",VLOOKUP(C2886,PARAMETROS!$G$3:$H$21,2,FALSE))","v":""},null,{"$f":"IF(E2886=\"\",\"\",VLOOKUP(E2886,PARAMETROS!$I$3:$J$21,2,FALSE))","v":""},null,null,null,null,null,null,""]
[null,{"$f":"IF(A2887=\"\",\"\",VLOOKUP(A2887,PARAMETROS!$B$3:$C$3,2,FALSE))","v":""},null,{"$f":"IF(C2887=\"\",\"\",VLOOKUP(C2887,PARAMETROS!$G$3:$H$21,2,FALSE))","v":""},null,{"$f":"IF(E2887=\"\",\"\",VLOOKUP(E2887,PARAMETROS!$I$3:$J$21,2,FALSE))","v":""},null,null,null,null,null,null,""]
[null,{"$f":"IF(A2888=\"\",\"\",VLOOKUP(A2888,PARAMETROS!$B$3:$C$3,2,FALSE))","v":""},null,{"$f":"IF(C2888=\"\",\"\",VLOOKUP(C2888,PARAMETROS!$G$3:$H$21,2,FALSE))","v":""},null,{"$f":"IF(E2888=\"\",\"\",VLOOKUP(E2888,PARAMETROS!$I$3:$J$21,2,FALSE))","v":""},null,null,null,null,null,null,""]
[null,{"$f":"IF(A2889=\"\",\"\",VLOOKUP(A2889,PARAMETROS!$B$3:$C$3,2,FALSE))","v":""},null,{"$f":"IF(C2889=\"\",\"\",VLOOKUP(C2889,PARAMETROS!$G$3:$H$21,2,FALSE))","v":""},null,{"$f":"IF(E2889=\"\",\"\",VLOOKUP(E2889,PARAMETROS!$I$3:$J$21,2,FALSE))","v":""},null,null,null,null,null,null,""]
[null,{"$f":"IF(A2890=\"\",\"\",VLOOKUP(A2890,PARAMETROS!$B$3:$C$3,2,FALSE))","v":""},null,{"$f":"IF(C2890=\"\",\"\",VLOOKUP(C2890,PARAMETROS!$G$3:$H$21,2,FALSE))","v":""},null,{"$f":"IF(E2890=\"\",\"\",VLOOKUP(E2890,PARAMETROS!$I$3:$J$21,2,FALSE))","v":""},null,null,null,null,null,null,""]
[null,{"$f":"IF(A2891=\"\",\"\",VLOOKUP(A2891,PARAMETROS!$B$3:$C$3,2,FALSE))","v":""},null,{"$f":"IF(C2891=\"\",\"\",VLOOKUP(C2891,PARAMETROS!$G$3:$H$21,2,FALSE))","v":""},null,{"$f":"IF(E2891=\"\",\"\",VLOOKUP(E2891,PARAMETROS!$I$3:$J$21,2,FALSE))","v":""},null,null,null,null,null,null,""]
[null,{"$f":"IF(A2892=\"\",\"\",VLOOKUP(A2892,PARAMETROS!$B$3:$C$3,2,FALSE))","v":""},null,{"$f":"IF(C2892=\"\",\"\",VLOOKUP(C2892,PARAMETROS!$G$3:$H$21,2,FALSE))","v":""},null,{"$f":"IF(E2892=\"\",\"\",VLOOKUP(E2892,PARAMETROS!$I$3:$J$21,2,FALSE))","v":""},null,null,null,null,null,null,""]
[null,{"$f":"IF(A2893=\"\",\"\",VLOOKUP(A2893,PARAMETROS!$B$3:$C$3,2,FALSE))","v":""},null,{"$f":"IF(C2893=\"\",\"\",VLOOKUP(C2893,PARAMETROS!$G$3:$H$21,2,FALSE))","v":""},null,{"$f":"IF(E2893=\"\",\"\",VLOOKUP(E2893,PARAMETROS!$I$3:$J$21,2,FALSE))","v":""},null,null,null,null,null,null,""]
[null,{"$f":"IF(A2894=\"\",\"\",VLOOKUP(A2894,PARAMETROS!$B$3:$C$3,2,FALSE))","v":""},null,{"$f":"IF(C2894=\"\",\"\",VLOOKUP(C2894,PARAMETROS!$G$3:$H$21,2,FALSE))","v":""},null,{"$f":"IF(E2894=\"\",\"\",VLOOKUP(E2894,PARAMETROS!$I$3:$J$21,2,FALSE))","v":""},null,null,null,null,null,null,""]
[null,{"$f":"IF(A2895=\"\",\"\",VLOOKUP(A2895,PARAMETROS!$B$3:$C$3,2,FALSE))","v":""},null,{"$f":"IF(C2895=\"\",\"\",VLOOKUP(C2895,PARAMETROS!$G$3:$H$21,2,FALSE))","v":""},null,{"$f":"IF(E2895=\"\",\"\",VLOOKUP(E2895,PARAMETROS!$I$3:$J$21,2,FALSE))","v":""},null,null,null,null,null,null,{"$f":"IF(L2895=\"\", \"\", L2895)","v":""}]
[null,{"$f":"IF(A2896=\"\",\"\",VLOOKUP(A2896,PARAMETROS!$B$3:$C$3,2,FALSE))","v":""},null,{"$f":"IF(C2896=\"\",\"\",VLOOKUP(C2896,PARAMETROS!$G$3:$H$21,2,FALSE))","v":""},null,{"$f":"IF(E2896=\"\",\"\",VLOOKUP(E2896,PARAMETROS!$I$3:$J$21,2,FALSE))","v":""},null,null,null,null,null,null,""]
[null,{"$f":"IF(A2897=\"\",\"\",VLOOKUP(A2897,PARAMETROS!$B$3:$C$3,2,FALSE))","v":""},null,{"$f":"IF(C2897=\"\",\"\",VLOOKUP(C2897,PARAMETROS!$G$3:$H$21,2,FALSE))","v":""},null,{"$f":"IF(E2897=\"\",\"\",VLOOKUP(E2897,PARAMETROS!$I$3:$J$21,2,FALSE))","v":""},null,null,null,null,null,null,""]
[null,{"$f":"IF(A2898=\"\",\"\",VLOOKUP(A2898,PARAMETROS!$B$3:$C$3,2,FALSE))","v":""},null,{"$f":"IF(C2898=\"\",\"\",VLOOKUP(C2898,PARAMETROS!$G$3:$H$21,2,FALSE))","v":""},null,{"$f":"IF(E2898=\"\",\"\",VLOOKUP(E2898,PARAMETROS!$I$3:$J$21,2,FALSE))","v":""},null,null,null,null,null,null,""]
[null,{"$f":"IF(A2899=\"\",\"\",VLOOKUP(A2899,PARAMETROS!$B$3:$C$3,2,FALSE))","v":""},null,{"$f":"IF(C2899=\"\",\"\",VLOOKUP(C2899,PARAMETROS!$G$3:$H$21,2,FALSE))","v":""},null,{"$f":"IF(E2899=\"\",\"\",VLOOKUP(E2899,PARAMETROS!$I$3:$J$21,2,FALSE))","v":""},null,null,null,null,null,null,""]
[null,{"$f":"IF(A2900=\"\",\"\",VLOOKUP(A2900,PARAMETROS!$B$3:$C$3,2,FALSE))","v":""},null,{"$f":"IF(C2900=\"\",\"\",VLOOKUP(C2900,PARAMETROS!$G$3:$H$21,2,FALSE))","v":""},null,{"$f":"IF(E2900=\"\",\"\",VLOOKUP(E2900,PARAMETROS!$I$3:$J$21,2,FALSE))","v":""},null,null,null,null,null,null,""]
[null,{"$f":"IF(A2901=\"\",\"\",VLOOKUP(A2901,PARAMETROS!$B$3:$C$3,2,FALSE))","v":""},null,{"$f":"IF(C2901=\"\",\"\",VLOOKUP(C2901,PARAMETROS!$G$3:$H$21,2,FALSE))","v":""},null,{"$f":"IF(E2901=\"\",\"\",VLOOKUP(E2901,PARAMETROS!$I$3:$J$21,2,FALSE))","v":""},null,null,null,null,null,null,""]
[null,{"$f":"IF(A2902=\"\",\"\",VLOOKUP(A2902,PARAMETROS!$B$3:$C$3,2,FALSE))","v":""},null,{"$f":"IF(C2902=\"\",\"\",VLOOKUP(C2902,PARAMETROS!$G$3:$H$21,2,FALSE))","v":""},null,{"$f":"IF(E2902=\"\",\"\",VLOOKUP(E2902,PARAMETROS!$I$3:$J$21,2,FALSE))","v":""},null,null,null,null,null,null,""]
[null,{"$f":"IF(A2903=\"\",\"\",VLOOKUP(A2903,PARAMETROS!$B$3:$C$3,2,FALSE))","v":""},null,{"$f":"IF(C2903=\"\",\"\",VLOOKUP(C2903,PARAMETROS!$G$3:$H$21,2,FALSE))","v":""},null,{"$f":"IF(E2903=\"\",\"\",VLOOKUP(E2903,PARAMETROS!$I$3:$J$21,2,FALSE))","v":""},null,null,null,null,null,null,""]
[null,{"$f":"IF(A2904=\"\",\"\",VLOOKUP(A2904,PARAMETROS!$B$3:$C$3,2,FALSE))","v":""},null,{"$f":"IF(C2904=\"\",\"\",VLOOKUP(C2904,PARAMETROS!$G$3:$H$21,2,FALSE))","v":""},null,{"$f":"IF(E2904=\"\",\"\",VLOOKUP(E2904,PARAMETROS!$I$3:$J$21,2,FALSE))","v":""},null,null,null,null,null,null,""]
[null,{"$f":"IF(A2905=\"\",\"\",VLOOKUP(A2905,PARAMETROS!$B$3:$C$3,2,FALSE))","v":""},null,{"$f":"IF(C2905=\"\",\"\",VLOOKUP(C2905,PARAMETROS!$G$3:$H$21,2,FALSE))","v":""},null,{"$f":"IF(E2905=\"\",\"\",VLOOKUP(E2905,PARAMETROS!$I$3:$J$21,2,FALSE))","v":""},null,null,null,null,null,null,""]
[null,{"$f":"IF(A2906=\"\",\"\",VLOOKUP(A2906,PARAMETROS!$B$3:$C$3,2,FALSE))","v":""},null,{"$f":"IF(C2906=\"\",\"\",VLOOKUP(C2906,PARAMETROS!$G$3:$H$21,2,FALSE))","v":""},null,{"$f":"IF(E2906=\"\",\"\",VLOOKUP(E2906,PARAMETROS!$I$3:$J$21,2,FALSE))","v":""},null,null,null,null,null,null,""]
[null,{"$f":"IF(A2907=\"\",\"\",VLOOKUP(A2907,PARAMETROS!$B$3:$C$3,2,FALSE))","v":""},null,{"$f":"IF(C2907=\"\",\"\",VLOOKUP(C2907,PARAMETROS!$G$3:$H$21,2,FALSE))","v":""},null,{"$f":"IF(E2907=\"\",\"\",VLOOKUP(E2907,PARAMETROS!$I$3:$J$21,2,FALSE))","v":""},null,null,null,null,null,null,""]
[null,{"$f":"IF(A2908=\"\",\"\",VLOOKUP(A2908,PARAMETROS!$B$3:$C$3,2,FALSE))","v":""},null,{"$f":"IF(C2908=\"\",\"\",VLOOKUP(C2908,PARAMETROS!$G$3:$H$21,2,FALSE))","v":""},null,{"$f":"IF(E2908=\"\",\"\",VLOOKUP(E2908,PARAMETROS!$I$3:$J$21,2,FALSE))","v":""},null,null,null,null,null,null,""]
[null,{"$f":"IF(A2909=\"\",\"\",VLOOKUP(A2909,PARAMETROS!$B$3:$C$3,2,FALSE))","v":""},null,{"$f":"IF(C2909=\"\",\"\",VLOOKUP(C2909,PARAMETROS!$G$3:$H$21,2,FALSE))","v":""},null,{"$f":"IF(E2909=\"\",\"\",VLOOKUP(E2909,PARAMETROS!$I$3:$J$21,2,FALSE))","v":""},null,null,null,null,null,null,""]
[null,{"$f":"IF(A2910=\"\",\"\",VLOOKUP(A2910,PARAMETROS!$B$3:$C$3,2,FALSE))","v":""},null,{"$f":"IF(C2910=\"\",\"\",VLOOKUP(C2910,PARAMETROS!$G$3:$H$21,2,FALSE))","v":""},null,{"$f":"IF(E2910=\"\",\"\",VLOOKUP(E2910,PARAMETROS!$I$3:$J$21,2,FALSE))","v":""},null,null,null,null,null,null,""]
[null,{"$f":"IF(A2911=\"\",\"\",VLOOKUP(A2911,PARAMETROS!$B$3:$C$3,2,FALSE))","v":""},null,{"$f":"IF(C2911=\"\",\"\",VLOOKUP(C2911,PARAMETROS!$G$3:$H$21,2,FALSE))","v":""},null,{"$f":"IF(E2911=\"\",\"\",VLOOKUP(E2911,PARAMETROS!$I$3:$J$21,2,FALSE))","v":""},null,null,null,null,null,null,""]
[null,{"$f":"IF(A2912=\"\",\"\",VLOOKUP(A2912,PARAMETROS!$B$3:$C$3,2,FALSE))","v":""},null,{"$f":"IF(C2912=\"\",\"\",VLOOKUP(C2912,PARAMETROS!$G$3:$H$21,2,FALSE))","v":""},null,{"$f":"IF(E2912=\"\",\"\",VLOOKUP(E2912,PARAMETROS!$I$3:$J$21,2,FALSE))","v":""},null,null,null,null,null,null,""]
[null,{"$f":"IF(A2913=\"\",\"\",VLOOKUP(A2913,PARAMETROS!$B$3:$C$3,2,FALSE))","v":""},null,{"$f":"IF(C2913=\"\",\"\",VLOOKUP(C2913,PARAMETROS!$G$3:$H$21,2,FALSE))","v":""},null,{"$f":"IF(E2913=\"\",\"\",VLOOKUP(E2913,PARAMETROS!$I$3:$J$21,2,FALSE))","v":""},null,null,null,null,null,null,""]
[null,{"$f":"IF(A2914=\"\",\"\",VLOOKUP(A2914,PARAMETROS!$B$3:$C$3,2,FALSE))","v":""},null,{"$f":"IF(C2914=\"\",\"\",VLOOKUP(C2914,PARAMETROS!$G$3:$H$21,2,FALSE))","v":""},null,{"$f":"IF(E2914=\"\",\"\",VLOOKUP(E2914,PARAMETROS!$I$3:$J$21,2,FALSE))","v":""},null,null,null,null,null,null,""]
[null,{"$f":"IF(A2915=\"\",\"\",VLOOKUP(A2915,PARAMETROS!$B$3:$C$3,2,FALSE))","v":""},null,{"$f":"IF(C2915=\"\",\"\",VLOOKUP(C2915,PARAMETROS!$G$3:$H$21,2,FALSE))","v":""},null,{"$f":"IF(E2915=\"\",\"\",VLOOKUP(E2915,PARAMETROS!$I$3:$J$21,2,FALSE))","v":""},null,null,null,null,null,null,""]
[null,{"$f":"IF(A2916=\"\",\"\",VLOOKUP(A2916,PARAMETROS!$B$3:$C$3,2,FALSE))","v":""},null,{"$f":"IF(C2916=\"\",\"\",VLOOKUP(C2916,PARAMETROS!$G$3:$H$21,2,FALSE))","v":""},null,{"$f":"IF(E2916=\"\",\"\",VLOOKUP(E2916,PARAMETROS!$I$3:$J$21,2,FALSE))","v":""},null,null,null,null,null,null,""]
[null,{"$f":"IF(A2917=\"\",\"\",VLOOKUP(A2917,PARAMETROS!$B$3:$C$3,2,FALSE))","v":""},null,{"$f":"IF(C2917=\"\",\"\",VLOOKUP(C2917,PARAMETROS!$G$3:$H$21,2,FALSE))","v":""},null,{"$f":"IF(E2917=\"\",\"\",VLOOKUP(E2917,PARAMETROS!$I$3:$J$21,2,FALSE))","v":""},null,null,null,null,null,null,""]
[null,{"$f":"IF(A2918=\"\",\"\",VLOOKUP(A2918,PARAMETROS!$B$3:$C$3,2,FALSE))","v":""},null,{"$f":"IF(C2918=\"\",\"\",VLOOKUP(C2918,PARAMETROS!$G$3:$H$21,2,FALSE))","v":""},null,{"$f":"IF(E2918=\"\",\"\",VLOOKUP(E2918,PARAMETROS!$I$3:$J$21,2,FALSE))","v":""},null,null,null,null,null,null,""]
[null,{"$f":"IF(A2919=\"\",\"\",VLOOKUP(A2919,PARAMETROS!$B$3:$C$3,2,FALSE))","v":""},null,{"$f":"IF(C2919=\"\",\"\",VLOOKUP(C2919,PARAMETROS!$G$3:$H$21,2,FALSE))","v":""},null,{"$f":"IF(E2919=\"\",\"\",VLOOKUP(E2919,PARAMETROS!$I$3:$J$21,2,FALSE))","v":""},null,null,null,null,null,null,""]
[null,{"$f":"IF(A2920=\"\",\"\",VLOOKUP(A2920,PARAMETROS!$B$3:$C$3,2,FALSE))","v":""},null,{"$f":"IF(C2920=\"\",\"\",VLOOKUP(C2920,PARAMETROS!$G$3:$H$21,2,FALSE))","v":""},null,{"$f":"IF(E2920=\"\",\"\",VLOOKUP(E2920,PARAMETROS!$I$3:$J$21,2,FALSE))","v":""},null,null,null,null,null,null,""]
[null,{"$f":"IF(A2921=\"\",\"\",VLOOKUP(A2921,PARAMETROS!$B$3:$C$3,2,FALSE))","v":""},null,{"$f":"IF(C2921=\"\",\"\",VLOOKUP(C2921,PARAMETROS!$G$3:$H$21,2,FALSE))","v":""},null,{"$f":"IF(E2921=\"\",\"\",VLOOKUP(E2921,PARAMETROS!$I$3:$J$21,2,FALSE))","v":""},null,null,null,null,null,null,""]
[null,{"$f":"IF(A2922=\"\",\"\",VLOOKUP(A2922,PARAMETROS!$B$3:$C$3,2,FALSE))","v":""},null,{"$f":"IF(C2922=\"\",\"\",VLOOKUP(C2922,PARAMETROS!$G$3:$H$21,2,FALSE))","v":""},null,{"$f":"IF(E2922=\"\",\"\",VLOOKUP(E2922,PARAMETROS!$I$3:$J$21,2,FALSE))","v":""},null,null,null,null,null,null,""]
[null,{"$f":"IF(A2923=\"\",\"\",VLOOKUP(A2923,PARAMETROS!$B$3:$C$3,2,FALSE))","v":""},null,{"$f":"IF(C2923=\"\",\"\",VLOOKUP(C2923,PARAMETROS!$G$3:$H$21,2,FALSE))","v":""},null,{"$f":"IF(E2923=\"\",\"\",VLOOKUP(E2923,PARAMETROS!$I$3:$J$21,2,FALSE))","v":""},null,null,null,null,null,null,""]
[null,{"$f":"IF(A2924=\"\",\"\",VLOOKUP(A2924,PARAMETROS!$B$3:$C$3,2,FALSE))","v":""},null,{"$f":"IF(C2924=\"\",\"\",VLOOKUP(C2924,PARAMETROS!$G$3:$H$21,2,FALSE))","v":""},null,{"$f":"IF(E2924=\"\",\"\",VLOOKUP(E2924,PARAMETROS!$I$3:$J$21,2,FALSE))","v":""},null,null,null,null,null,null,""]
[null,{"$f":"IF(A2925=\"\",\"\",VLOOKUP(A2925,PARAMETROS!$B$3:$C$3,2,FALSE))","v":""},null,{"$f":"IF(C2925=\"\",\"\",VLOOKUP(C2925,PARAMETROS!$G$3:$H$21,2,FALSE))","v":""},null,{"$f":"IF(E2925=\"\",\"\",VLOOKUP(E2925,PARAMETROS!$I$3:$J$21,2,FALSE))","v":""},null,null,null,null,null,null,""]
[null,{"$f":"IF(A2926=\"\",\"\",VLOOKUP(A2926,PARAMETROS!$B$3:$C$3,2,FALSE))","v":""},null,{"$f":"IF(C2926=\"\",\"\",VLOOKUP(C2926,PARAMETROS!$G$3:$H$21,2,FALSE))","v":""},null,{"$f":"IF(E2926=\"\",\"\",VLOOKUP(E2926,PARAMETROS!$I$3:$J$21,2,FALSE))","v":""},null,null,null,null,null,null,""]
[null,{"$f":"IF(A2927=\"\",\"\",VLOOKUP(A2927,PARAMETROS!$B$3:$C$3,2,FALSE))","v":""},null,{"$f":"IF(C2927=\"\",\"\",VLOOKUP(C2927,PARAMETROS!$G$3:$H$21,2,FALSE))","v":""},null,{"$f":"IF(E2927=\"\",\"\",VLOOKUP(E2927,PARAMETROS!$I$3:$J$21,2,FALSE))","v":""},null,null,null,null,null,null,""]
[null,{"$f":"IF(A2928=\"\",\"\",VLOOKUP(A2928,PARAMETROS!$B$3:$C$3,2,FALSE))","v":""},null,{"$f":"IF(C2928=\"\",\"\",VLOOKUP(C2928,PARAMETROS!$G$3:$H$21,2,FALSE))","v":""},null,{"$f":"IF(E2928=\"\",\"\",VLOOKUP(E2928,PARAMETROS!$I$3:$J$21,2,FALSE))","v":""},null,null,null,null,null,null,""]
[null,{"$f":"IF(A2929=\"\",\"\",VLOOKUP(A2929,PARAMETROS!$B$3:$C$3,2,FALSE))","v":""},null,{"$f":"IF(C2929=\"\",\"\",VLOOKUP(C2929,PARAMETROS!$G$3:$H$21,2,FALSE))","v":""},null,{"$f":"IF(E2929=\"\",\"\",VLOOKUP(E2929,PARAMETROS!$I$3:$J$21,2,FALSE))","v":""},null,null,null,null,null,null,""]
[null,{"$f":"IF(A2930=\"\",\"\",VLOOKUP(A2930,PARAMETROS!$B$3:$C$3,2,FALSE))","v":""},null,{"$f":"IF(C2930=\"\",\"\",VLOOKUP(C2930,PARAMETROS!$G$3:$H$21,2,FALSE))","v":""},null,{"$f":"IF(E2930=\"\",\"\",VLOOKUP(E2930,PARAMETROS!$I$3:$J$21,2,FALSE))","v":""},null,null,null,null,null,null,""]
[null,{"$f":"IF(A2931=\"\",\"\",VLOOKUP(A2931,PARAMETROS!$B$3:$C$3,2,FALSE))","v":""},null,{"$f":"IF(C2931=\"\",\"\",VLOOKUP(C2931,PARAMETROS!$G$3:$H$21,2,FALSE))","v":""},null,{"$f":"IF(E2931=\"\",\"\",VLOOKUP(E2931,PARAMETROS!$I$3:$J$21,2,FALSE))","v":""},null,null,null,null,null,null,""]
[null,{"$f":"IF(A2932=\"\",\"\",VLOOKUP(A2932,PARAMETROS!$B$3:$C$3,2,FALSE))","v":""},null,{"$f":"IF(C2932=\"\",\"\",VLOOKUP(C2932,PARAMETROS!$G$3:$H$21,2,FALSE))","v":""},null,{"$f":"IF(E2932=\"\",\"\",VLOOKUP(E2932,PARAMETROS!$I$3:$J$21,2,FALSE))","v":""},null,null,null,null,null,null,""]
[null,{"$f":"IF(A2933=\"\",\"\",VLOOKUP(A2933,PARAMETROS!$B$3:$C$3,2,FALSE))","v":""},null,{"$f":"IF(C2933=\"\",\"\",VLOOKUP(C2933,PARAMETROS!$G$3:$H$21,2,FALSE))","v":""},null,{"$f":"IF(E2933=\"\",\"\",VLOOKUP(E2933,PARAMETROS!$I$3:$J$21,2,FALSE))","v":""},null,null,null,null,null,null,""]
[null,{"$f":"IF(A2934=\"\",\"\",VLOOKUP(A2934,PARAMETROS!$B$3:$C$3,2,FALSE))","v":""},null,{"$f":"IF(C2934=\"\",\"\",VLOOKUP(C2934,PARAMETROS!$G$3:$H$21,2,FALSE))","v":""},null,{"$f":"IF(E2934=\"\",\"\",VLOOKUP(E2934,PARAMETROS!$I$3:$J$21,2,FALSE))","v":""},null,null,null,null,null,null,""]
[null,{"$f":"IF(A2935=\"\",\"\",VLOOKUP(A2935,PARAMETROS!$B$3:$C$3,2,FALSE))","v":""},null,{"$f":"IF(C2935=\"\",\"\",VLOOKUP(C2935,PARAMETROS!$G$3:$H$21,2,FALSE))","v":""},null,{"$f":"IF(E2935=\"\",\"\",VLOOKUP(E2935,PARAMETROS!$I$3:$J$21,2,FALSE))","v":""},null,null,null,null,null,null,""]
[null,{"$f":"IF(A2936=\"\",\"\",VLOOKUP(A2936,PARAMETROS!$B$3:$C$3,2,FALSE))","v":""},null,{"$f":"IF(C2936=\"\",\"\",VLOOKUP(C2936,PARAMETROS!$G$3:$H$21,2,FALSE))","v":""},null,{"$f":"IF(E2936=\"\",\"\",VLOOKUP(E2936,PARAMETROS!$I$3:$J$21,2,FALSE))","v":""},null,null,null,null,null,null,""]
[null,{"$f":"IF(A2937=\"\",\"\",VLOOKUP(A2937,PARAMETROS!$B$3:$C$3,2,FALSE))","v":""},null,{"$f":"IF(C2937=\"\",\"\",VLOOKUP(C2937,PARAMETROS!$G$3:$H$21,2,FALSE))","v":""},null,{"$f":"IF(E2937=\"\",\"\",VLOOKUP(E2937,PARAMETROS!$I$3:$J$21,2,FALSE))","v":""},null,null,null,null,null,null,""]
[null,{"$f":"IF(A2938=\"\",\"\",VLOOKUP(A2938,PARAMETROS!$B$3:$C$3,2,FALSE))","v":""},null,{"$f":"IF(C2938=\"\",\"\",VLOOKUP(C2938,PARAMETROS!$G$3:$H$21,2,FALSE))","v":""},null,{"$f":"IF(E2938=\"\",\"\",VLOOKUP(E2938,PARAMETROS!$I$3:$J$21,2,FALSE))","v":""},null,null,null,null,null,null,""]
[null,{"$f":"IF(A2939=\"\",\"\",VLOOKUP(A2939,PARAMETROS!$B$3:$C$3,2,FALSE))","v":""},null,{"$f":"IF(C2939=\"\",\"\",VLOOKUP(C2939,PARAMETROS!$G$3:$H$21,2,FALSE))","v":""},null,{"$f":"IF(E2939=\"\",\"\",VLOOKUP(E2939,PARAMETROS!$I$3:$J$21,2,FALSE))","v":""},null,null,null,null,null,null,""]
[null,{"$f":"IF(A2940=\"\",\"\",VLOOKUP(A2940,PARAMETROS!$B$3:$C$3,2,FALSE))","v":""},null,{"$f":"IF(C2940=\"\",\"\",VLOOKUP(C2940,PARAMETROS!$G$3:$H$21,2,FALSE))","v":""},null,{"$f":"IF(E2940=\"\",\"\",VLOOKUP(E2940,PARAMETROS!$I$3:$J$21,2,FALSE))","v":""},null,null,null,null,null,null,""]
[null,{"$f":"IF(A2941=\"\",\"\",VLOOKUP(A2941,PARAMETROS!$B$3:$C$3,2,FALSE))","v":""},null,{"$f":"IF(C2941=\"\",\"\",VLOOKUP(C2941,PARAMETROS!$G$3:$H$21,2,FALSE))","v":""},null,{"$f":"IF(E2941=\"\",\"\",VLOOKUP(E2941,PARAMETROS!$I$3:$J$21,2,FALSE))","v":""},null,null,null,null,null,null,""]
[null,{"$f":"IF(A2942=\"\",\"\",VLOOKUP(A2942,PARAMETROS!$B$3:$C$3,2,FALSE))","v":""},null,{"$f":"IF(C2942=\"\",\"\",VLOOKUP(C2942,PARAMETROS!$G$3:$H$21,2,FALSE))","v":""},null,{"$f":"IF(E2942=\"\",\"\",VLOOKUP(E2942,PARAMETROS!$I$3:$J$21,2,FALSE))","v":""},null,null,null,null,null,null,""]
[null,{"$f":"IF(A2943=\"\",\"\",VLOOKUP(A2943,PARAMETROS!$B$3:$C$3,2,FALSE))","v":""},null,{"$f":"IF(C2943=\"\",\"\",VLOOKUP(C2943,PARAMETROS!$G$3:$H$21,2,FALSE))","v":""},null,{"$f":"IF(E2943=\"\",\"\",VLOOKUP(E2943,PARAMETROS!$I$3:$J$21,2,FALSE))","v":""},null,null,null,null,null,null,""]
[null,{"$f":"IF(A2944=\"\",\"\",VLOOKUP(A2944,PARAMETROS!$B$3:$C$3,2,FALSE))","v":""},null,{"$f":"IF(C2944=\"\",\"\",VLOOKUP(C2944,PARAMETROS!$G$3:$H$21,2,FALSE))","v":""},null,{"$f":"IF(E2944=\"\",\"\",VLOOKUP(E2944,PARAMETROS!$I$3:$J$21,2,FALSE))","v":""},null,null,null,null,null,null,""]
[null,{"$f":"IF(A2945=\"\",\"\",VLOOKUP(A2945,PARAMETROS!$B$3:$C$3,2,FALSE))","v":""},null,{"$f":"IF(C2945=\"\",\"\",VLOOKUP(C2945,PARAMETROS!$G$3:$H$21,2,FALSE))","v":""},null,{"$f":"IF(E2945=\"\",\"\",VLOOKUP(E2945,PARAMETROS!$I$3:$J$21,2,FALSE))","v":""},null,null,null,null,null,null,""]
[null,{"$f":"IF(A2946=\"\",\"\",VLOOKUP(A2946,PARAMETROS!$B$3:$C$3,2,FALSE))","v":""},null,{"$f":"IF(C2946=\"\",\"\",VLOOKUP(C2946,PARAMETROS!$G$3:$H$21,2,FALSE))","v":""},null,{"$f":"IF(E2946=\"\",\"\",VLOOKUP(E2946,PARAMETROS!$I$3:$J$21,2,FALSE))","v":""},null,null,null,null,null,null,""]
[null,{"$f":"IF(A2947=\"\",\"\",VLOOKUP(A2947,PARAMETROS!$B$3:$C$3,2,FALSE))","v":""},null,{"$f":"IF(C2947=\"\",\"\",VLOOKUP(C2947,PARAMETROS!$G$3:$H$21,2,FALSE))","v":""},null,{"$f":"IF(E2947=\"\",\"\",VLOOKUP(E2947,PARAMETROS!$I$3:$J$21,2,FALSE))","v":""},null,null,null,null,null,null,""]
[null,{"$f":"IF(A2948=\"\",\"\",VLOOKUP(A2948,PARAMETROS!$B$3:$C$3,2,FALSE))","v":""},null,{"$f":"IF(C2948=\"\",\"\",VLOOKUP(C2948,PARAMETROS!$G$3:$H$21,2,FALSE))","v":""},null,{"$f":"IF(E2948=\"\",\"\",VLOOKUP(E2948,PARAMETROS!$I$3:$J$21,2,FALSE))","v":""},null,null,null,null,null,null,""]
[null,{"$f":"IF(A2949=\"\",\"\",VLOOKUP(A2949,PARAMETROS!$B$3:$C$3,2,FALSE))","v":""},null,{"$f":"IF(C2949=\"\",\"\",VLOOKUP(C2949,PARAMETROS!$G$3:$H$21,2,FALSE))","v":""},null,{"$f":"IF(E2949=\"\",\"\",VLOOKUP(E2949,PARAMETROS!$I$3:$J$21,2,FALSE))","v":""},null,null,null,null,null,null,""]
[null,{"$f":"IF(A2950=\"\",\"\",VLOOKUP(A2950,PARAMETROS!$B$3:$C$3,2,FALSE))","v":""},null,{"$f":"IF(C2950=\"\",\"\",VLOOKUP(C2950,PARAMETROS!$G$3:$H$21,2,FALSE))","v":""},null,{"$f":"IF(E2950=\"\",\"\",VLOOKUP(E2950,PARAMETROS!$I$3:$J$21,2,FALSE))","v":""},null,null,null,null,null,null,""]
[null,{"$f":"IF(A2951=\"\",\"\",VLOOKUP(A2951,PARAMETROS!$B$3:$C$3,2,FALSE))","v":""},null,{"$f":"IF(C2951=\"\",\"\",VLOOKUP(C2951,PARAMETROS!$G$3:$H$21,2,FALSE))","v":""},null,{"$f":"IF(E2951=\"\",\"\",VLOOKUP(E2951,PARAMETROS!$I$3:$J$21,2,FALSE))","v":""},null,null,null,null,null,null,""]
[null,{"$f":"IF(A2952=\"\",\"\",VLOOKUP(A2952,PARAMETROS!$B$3:$C$3,2,FALSE))","v":""},null,{"$f":"IF(C2952=\"\",\"\",VLOOKUP(C2952,PARAMETROS!$G$3:$H$21,2,FALSE))","v":""},null,{"$f":"IF(E2952=\"\",\"\",VLOOKUP(E2952,PARAMETROS!$I$3:$J$21,2,FALSE))","v":""},null,null,null,null,null,null,""]
[null,{"$f":"IF(A2953=\"\",\"\",VLOOKUP(A2953,PARAMETROS!$B$3:$C$3,2,FALSE))","v":""},null,{"$f":"IF(C2953=\"\",\"\",VLOOKUP(C2953,PARAMETROS!$G$3:$H$21,2,FALSE))","v":""},null,{"$f":"IF(E2953=\"\",\"\",VLOOKUP(E2953,PARAMETROS!$I$3:$J$21,2,FALSE))","v":""},null,null,null,null,null,null,""]
[null,{"$f":"IF(A2954=\"\",\"\",VLOOKUP(A2954,PARAMETROS!$B$3:$C$3,2,FALSE))","v":""},null,{"$f":"IF(C2954=\"\",\"\",VLOOKUP(C2954,PARAMETROS!$G$3:$H$21,2,FALSE))","v":""},null,{"$f":"IF(E2954=\"\",\"\",VLOOKUP(E2954,PARAMETROS!$I$3:$J$21,2,FALSE))","v":""},null,null,null,null,null,null,""]
[null,{"$f":"IF(A2955=\"\",\"\",VLOOKUP(A2955,PARAMETROS!$B$3:$C$3,2,FALSE))","v":""},null,{"$f":"IF(C2955=\"\",\"\",VLOOKUP(C2955,PARAMETROS!$G$3:$H$21,2,FALSE))","v":""},null,{"$f":"IF(E2955=\"\",\"\",VLOOKUP(E2955,PARAMETROS!$I$3:$J$21,2,FALSE))","v":""},null,null,null,null,null,null,""]
[null,{"$f":"IF(A2956=\"\",\"\",VLOOKUP(A2956,PARAMETROS!$B$3:$C$3,2,FALSE))","v":""},null,{"$f":"IF(C2956=\"\",\"\",VLOOKUP(C2956,PARAMETROS!$G$3:$H$21,2,FALSE))","v":""},null,{"$f":"IF(E2956=\"\",\"\",VLOOKUP(E2956,PARAMETROS!$I$3:$J$21,2,FALSE))","v":""},null,null,null,null,null,null,""]
[null,{"$f":"IF(A2957=\"\",\"\",VLOOKUP(A2957,PARAMETROS!$B$3:$C$3,2,FALSE))","v":""},null,{"$f":"IF(C2957=\"\",\"\",VLOOKUP(C2957,PARAMETROS!$G$3:$H$21,2,FALSE))","v":""},null,{"$f":"IF(E2957=\"\",\"\",VLOOKUP(E2957,PARAMETROS!$I$3:$J$21,2,FALSE))","v":""},null,null,null,null,null,null,""]
[null,{"$f":"IF(A2958=\"\",\"\",VLOOKUP(A2958,PARAMETROS!$B$3:$C$3,2,FALSE))","v":""},null,{"$f":"IF(C2958=\"\",\"\",VLOOKUP(C2958,PARAMETROS!$G$3:$H$21,2,FALSE))","v":""},null,{"$f":"IF(E2958=\"\",\"\",VLOOKUP(E2958,PARAMETROS!$I$3:$J$21,2,FALSE))","v":""},null,null,null,null,null,null,""]
[null,{"$f":"IF(A2959=\"\",\"\",VLOOKUP(A2959,PARAMETROS!$B$3:$C$3,2,FALSE))","v":""},null,{"$f":"IF(C2959=\"\",\"\",VLOOKUP(C2959,PARAMETROS!$G$3:$H$21,2,FALSE))","v":""},null,{"$f":"IF(E2959=\"\",\"\",VLOOKUP(E2959,PARAMETROS!$I$3:$J$21,2,FALSE))","v":""},null,null,null,null,null,null,{"$f":"IF(L2959=\"\", \"\", L2959)","v":""}]
[null,{"$f":"IF(A2960=\"\",\"\",VLOOKUP(A2960,PARAMETROS!$B$3:$C$3,2,FALSE))","v":""},null,{"$f":"IF(C2960=\"\",\"\",VLOOKUP(C2960,PARAMETROS!$G$3:$H$21,2,FALSE))","v":""},null,{"$f":"IF(E2960=\"\",\"\",VLOOKUP(E2960,PARAMETROS!$I$3:$J$21,2,FALSE))","v":""},null,null,null,null,null,null,""]
[null,{"$f":"IF(A2961=\"\",\"\",VLOOKUP(A2961,PARAMETROS!$B$3:$C$3,2,FALSE))","v":""},null,{"$f":"IF(C2961=\"\",\"\",VLOOKUP(C2961,PARAMETROS!$G$3:$H$21,2,FALSE))","v":""},null,{"$f":"IF(E2961=\"\",\"\",VLOOKUP(E2961,PARAMETROS!$I$3:$J$21,2,FALSE))","v":""},null,null,null,null,null,null,""]
[null,{"$f":"IF(A2962=\"\",\"\",VLOOKUP(A2962,PARAMETROS!$B$3:$C$3,2,FALSE))","v":""},null,{"$f":"IF(C2962=\"\",\"\",VLOOKUP(C2962,PARAMETROS!$G$3:$H$21,2,FALSE))","v":""},null,{"$f":"IF(E2962=\"\",\"\",VLOOKUP(E2962,PARAMETROS!$I$3:$J$21,2,FALSE))","v":""},null,null,null,null,null,null,""]
[null,{"$f":"IF(A2963=\"\",\"\",VLOOKUP(A2963,PARAMETROS!$B$3:$C$3,2,FALSE))","v":""},null,{"$f":"IF(C2963=\"\",\"\",VLOOKUP(C2963,PARAMETROS!$G$3:$H$21,2,FALSE))","v":""},null,{"$f":"IF(E2963=\"\",\"\",VLOOKUP(E2963,PARAMETROS!$I$3:$J$21,2,FALSE))","v":""},null,null,null,null,null,null,""]
[null,{"$f":"IF(A2964=\"\",\"\",VLOOKUP(A2964,PARAMETROS!$B$3:$C$3,2,FALSE))","v":""},null,{"$f":"IF(C2964=\"\",\"\",VLOOKUP(C2964,PARAMETROS!$G$3:$H$21,2,FALSE))","v":""},null,{"$f":"IF(E2964=\"\",\"\",VLOOKUP(E2964,PARAMETROS!$I$3:$J$21,2,FALSE))","v":""},null,null,null,null,null,null,""]
[null,{"$f":"IF(A2965=\"\",\"\",VLOOKUP(A2965,PARAMETROS!$B$3:$C$3,2,FALSE))","v":""},null,{"$f":"IF(C2965=\"\",\"\",VLOOKUP(C2965,PARAMETROS!$G$3:$H$21,2,FALSE))","v":""},null,{"$f":"IF(E2965=\"\",\"\",VLOOKUP(E2965,PARAMETROS!$I$3:$J$21,2,FALSE))","v":""},null,null,null,null,null,null,""]
[null,{"$f":"IF(A2966=\"\",\"\",VLOOKUP(A2966,PARAMETROS!$B$3:$C$3,2,FALSE))","v":""},null,{"$f":"IF(C2966=\"\",\"\",VLOOKUP(C2966,PARAMETROS!$G$3:$H$21,2,FALSE))","v":""},null,{"$f":"IF(E2966=\"\",\"\",VLOOKUP(E2966,PARAMETROS!$I$3:$J$21,2,FALSE))","v":""},null,null,null,null,null,null,""]
[null,{"$f":"IF(A2967=\"\",\"\",VLOOKUP(A2967,PARAMETROS!$B$3:$C$3,2,FALSE))","v":""},null,{"$f":"IF(C2967=\"\",\"\",VLOOKUP(C2967,PARAMETROS!$G$3:$H$21,2,FALSE))","v":""},null,{"$f":"IF(E2967=\"\",\"\",VLOOKUP(E2967,PARAMETROS!$I$3:$J$21,2,FALSE))","v":""},null,null,null,null,null,null,""]
[null,{"$f":"IF(A2968=\"\",\"\",VLOOKUP(A2968,PARAMETROS!$B$3:$C$3,2,FALSE))","v":""},null,{"$f":"IF(C2968=\"\",\"\",VLOOKUP(C2968,PARAMETROS!$G$3:$H$21,2,FALSE))","v":""},null,{"$f":"IF(E2968=\"\",\"\",VLOOKUP(E2968,PARAMETROS!$I$3:$J$21,2,FALSE))","v":""},null,null,null,null,null,null,""]
[null,{"$f":"IF(A2969=\"\",\"\",VLOOKUP(A2969,PARAMETROS!$B$3:$C$3,2,FALSE))","v":""},null,{"$f":"IF(C2969=\"\",\"\",VLOOKUP(C2969,PARAMETROS!$G$3:$H$21,2,FALSE))","v":""},null,{"$f":"IF(E2969=\"\",\"\",VLOOKUP(E2969,PARAMETROS!$I$3:$J$21,2,FALSE))","v":""},null,null,null,null,null,null,""]
[null,{"$f":"IF(A2970=\"\",\"\",VLOOKUP(A2970,PARAMETROS!$B$3:$C$3,2,FALSE))","v":""},null,{"$f":"IF(C2970=\"\",\"\",VLOOKUP(C2970,PARAMETROS!$G$3:$H$21,2,FALSE))","v":""},null,{"$f":"IF(E2970=\"\",\"\",VLOOKUP(E2970,PARAMETROS!$I$3:$J$21,2,FALSE))","v":""},null,null,null,null,null,null,""]
[null,{"$f":"IF(A2971=\"\",\"\",VLOOKUP(A2971,PARAMETROS!$B$3:$C$3,2,FALSE))","v":""},null,{"$f":"IF(C2971=\"\",\"\",VLOOKUP(C2971,PARAMETROS!$G$3:$H$21,2,FALSE))","v":""},null,{"$f":"IF(E2971=\"\",\"\",VLOOKUP(E2971,PARAMETROS!$I$3:$J$21,2,FALSE))","v":""},null,null,null,null,null,null,""]
[null,{"$f":"IF(A2972=\"\",\"\",VLOOKUP(A2972,PARAMETROS!$B$3:$C$3,2,FALSE))","v":""},null,{"$f":"IF(C2972=\"\",\"\",VLOOKUP(C2972,PARAMETROS!$G$3:$H$21,2,FALSE))","v":""},null,{"$f":"IF(E2972=\"\",\"\",VLOOKUP(E2972,PARAMETROS!$I$3:$J$21,2,FALSE))","v":""},null,null,null,null,null,null,""]
[null,{"$f":"IF(A2973=\"\",\"\",VLOOKUP(A2973,PARAMETROS!$B$3:$C$3,2,FALSE))","v":""},null,{"$f":"IF(C2973=\"\",\"\",VLOOKUP(C2973,PARAMETROS!$G$3:$H$21,2,FALSE))","v":""},null,{"$f":"IF(E2973=\"\",\"\",VLOOKUP(E2973,PARAMETROS!$I$3:$J$21,2,FALSE))","v":""},null,null,null,null,null,null,""]
[null,{"$f":"IF(A2974=\"\",\"\",VLOOKUP(A2974,PARAMETROS!$B$3:$C$3,2,FALSE))","v":""},null,{"$f":"IF(C2974=\"\",\"\",VLOOKUP(C2974,PARAMETROS!$G$3:$H$21,2,FALSE))","v":""},null,{"$f":"IF(E2974=\"\",\"\",VLOOKUP(E2974,PARAMETROS!$I$3:$J$21,2,FALSE))","v":""},null,null,null,null,null,null,""]
[null,{"$f":"IF(A2975=\"\",\"\",VLOOKUP(A2975,PARAMETROS!$B$3:$C$3,2,FALSE))","v":""},null,{"$f":"IF(C2975=\"\",\"\",VLOOKUP(C2975,PARAMETROS!$G$3:$H$21,2,FALSE))","v":""},null,{"$f":"IF(E2975=\"\",\"\",VLOOKUP(E2975,PARAMETROS!$I$3:$J$21,2,FALSE))","v":""},null,null,null,null,null,null,""]
[null,{"$f":"IF(A2976=\"\",\"\",VLOOKUP(A2976,PARAMETROS!$B$3:$C$3,2,FALSE))","v":""},null,{"$f":"IF(C2976=\"\",\"\",VLOOKUP(C2976,PARAMETROS!$G$3:$H$21,2,FALSE))","v":""},null,{"$f":"IF(E2976=\"\",\"\",VLOOKUP(E2976,PARAMETROS!$I$3:$J$21,2,FALSE))","v":""},null,null,null,null,null,null,""]
[null,{"$f":"IF(A2977=\"\",\"\",VLOOKUP(A2977,PARAMETROS!$B$3:$C$3,2,FALSE))","v":""},null,{"$f":"IF(C2977=\"\",\"\",VLOOKUP(C2977,PARAMETROS!$G$3:$H$21,2,FALSE))","v":""},null,{"$f":"IF(E2977=\"\",\"\",VLOOKUP(E2977,PARAMETROS!$I$3:$J$21,2,FALSE))","v":""},null,null,null,null,null,null,""]
[null,{"$f":"IF(A2978=\"\",\"\",VLOOKUP(A2978,PARAMETROS!$B$3:$C$3,2,FALSE))","v":""},null,{"$f":"IF(C2978=\"\",\"\",VLOOKUP(C2978,PARAMETROS!$G$3:$H$21,2,FALSE))","v":""},null,{"$f":"IF(E2978=\"\",\"\",VLOOKUP(E2978,PARAMETROS!$I$3:$J$21,2,FALSE))","v":""},null,null,null,null,null,null,""]
[null,{"$f":"IF(A2979=\"\",\"\",VLOOKUP(A2979,PARAMETROS!$B$3:$C$3,2,FALSE))","v":""},null,{"$f":"IF(C2979=\"\",\"\",VLOOKUP(C2979,PARAMETROS!$G$3:$H$21,2,FALSE))","v":""},null,{"$f":"IF(E2979=\"\",\"\",VLOOKUP(E2979,PARAMETROS!$I$3:$J$21,2,FALSE))","v":""},null,null,null,null,null,null,""]
[null,{"$f":"IF(A2980=\"\",\"\",VLOOKUP(A2980,PARAMETROS!$B$3:$C$3,2,FALSE))","v":""},null,{"$f":"IF(C2980=\"\",\"\",VLOOKUP(C2980,PARAMETROS!$G$3:$H$21,2,FALSE))","v":""},null,{"$f":"IF(E2980=\"\",\"\",VLOOKUP(E2980,PARAMETROS!$I$3:$J$21,2,FALSE))","v":""},null,null,null,null,null,null,""]
[null,{"$f":"IF(A2981=\"\",\"\",VLOOKUP(A2981,PARAMETROS!$B$3:$C$3,2,FALSE))","v":""},null,{"$f":"IF(C2981=\"\",\"\",VLOOKUP(C2981,PARAMETROS!$G$3:$H$21,2,FALSE))","v":""},null,{"$f":"IF(E2981=\"\",\"\",VLOOKUP(E2981,PARAMETROS!$I$3:$J$21,2,FALSE))","v":""},null,null,null,null,null,null,""]
[null,{"$f":"IF(A2982=\"\",\"\",VLOOKUP(A2982,PARAMETROS!$B$3:$C$3,2,FALSE))","v":""},null,{"$f":"IF(C2982=\"\",\"\",VLOOKUP(C2982,PARAMETROS!$G$3:$H$21,2,FALSE))","v":""},null,{"$f":"IF(E2982=\"\",\"\",VLOOKUP(E2982,PARAMETROS!$I$3:$J$21,2,FALSE))","v":""},null,null,null,null,null,null,""]
[null,{"$f":"IF(A2983=\"\",\"\",VLOOKUP(A2983,PARAMETROS!$B$3:$C$3,2,FALSE))","v":""},null,{"$f":"IF(C2983=\"\",\"\",VLOOKUP(C2983,PARAMETROS!$G$3:$H$21,2,FALSE))","v":""},null,{"$f":"IF(E2983=\"\",\"\",VLOOKUP(E2983,PARAMETROS!$I$3:$J$21,2,FALSE))","v":""},null,null,null,null,null,null,""]
[null,{"$f":"IF(A2984=\"\",\"\",VLOOKUP(A2984,PARAMETROS!$B$3:$C$3,2,FALSE))","v":""},null,{"$f":"IF(C2984=\"\",\"\",VLOOKUP(C2984,PARAMETROS!$G$3:$H$21,2,FALSE))","v":""},null,{"$f":"IF(E2984=\"\",\"\",VLOOKUP(E2984,PARAMETROS!$I$3:$J$21,2,FALSE))","v":""},null,null,null,null,null,null,""]
[null,{"$f":"IF(A2985=\"\",\"\",VLOOKUP(A2985,PARAMETROS!$B$3:$C$3,2,FALSE))","v":""},null,{"$f":"IF(C2985=\"\",\"\",VLOOKUP(C2985,PARAMETROS!$G$3:$H$21,2,FALSE))","v":""},null,{"$f":"IF(E2985=\"\",\"\",VLOOKUP(E2985,PARAMETROS!$I$3:$J$21,2,FALSE))","v":""},null,null,null,null,null,null,""]
[null,{"$f":"IF(A2986=\"\",\"\",VLOOKUP(A2986,PARAMETROS!$B$3:$C$3,2,FALSE))","v":""},null,{"$f":"IF(C2986=\"\",\"\",VLOOKUP(C2986,PARAMETROS!$G$3:$H$21,2,FALSE))","v":""},null,{"$f":"IF(E2986=\"\",\"\",VLOOKUP(E2986,PARAMETROS!$I$3:$J$21,2,FALSE))","v":""},null,null,null,null,null,null,""]
[null,{"$f":"IF(A2987=\"\",\"\",VLOOKUP(A2987,PARAMETROS!$B$3:$C$3,2,FALSE))","v":""},null,{"$f":"IF(C2987=\"\",\"\",VLOOKUP(C2987,PARAMETROS!$G$3:$H$21,2,FALSE))","v":""},null,{"$f":"IF(E2987=\"\",\"\",VLOOKUP(E2987,PARAMETROS!$I$3:$J$21,2,FALSE))","v":""},null,null,null,null,null,null,""]
[null,{"$f":"IF(A2988=\"\",\"\",VLOOKUP(A2988,PARAMETROS!$B$3:$C$3,2,FALSE))","v":""},null,{"$f":"IF(C2988=\"\",\"\",VLOOKUP(C2988,PARAMETROS!$G$3:$H$21,2,FALSE))","v":""},null,{"$f":"IF(E2988=\"\",\"\",VLOOKUP(E2988,PARAMETROS!$I$3:$J$21,2,FALSE))","v":""},null,null,null,null,null,null,""]
[null,{"$f":"IF(A2989=\"\",\"\",VLOOKUP(A2989,PARAMETROS!$B$3:$C$3,2,FALSE))","v":""},null,{"$f":"IF(C2989=\"\",\"\",VLOOKUP(C2989,PARAMETROS!$G$3:$H$21,2,FALSE))","v":""},null,{"$f":"IF(E2989=\"\",\"\",VLOOKUP(E2989,PARAMETROS!$I$3:$J$21,2,FALSE))","v":""},null,null,null,null,null,null,""]
[null,{"$f":"IF(A2990=\"\",\"\",VLOOKUP(A2990,PARAMETROS!$B$3:$C$3,2,FALSE))","v":""},null,{"$f":"IF(C2990=\"\",\"\",VLOOKUP(C2990,PARAMETROS!$G$3:$H$21,2,FALSE))","v":""},null,{"$f":"IF(E2990=\"\",\"\",VLOOKUP(E2990,PARAMETROS!$I$3:$J$21,2,FALSE))","v":""},null,null,null,null,null,null,""]
[null,{"$f":"IF(A2991=\"\",\"\",VLOOKUP(A2991,PARAMETROS!$B$3:$C$3,2,FALSE))","v":""},null,{"$f":"IF(C2991=\"\",\"\",VLOOKUP(C2991,PARAMETROS!$G$3:$H$21,2,FALSE))","v":""},null,{"$f":"IF(E2991=\"\",\"\",VLOOKUP(E2991,PARAMETROS!$I$3:$J$21,2,FALSE))","v":""},null,null,null,null,null,null,""]
[null,{"$f":"IF(A2992=\"\",\"\",VLOOKUP(A2992,PARAMETROS!$B$3:$C$3,2,FALSE))","v":""},null,{"$f":"IF(C2992=\"\",\"\",VLOOKUP(C2992,PARAMETROS!$G$3:$H$21,2,FALSE))","v":""},null,{"$f":"IF(E2992=\"\",\"\",VLOOKUP(E2992,PARAMETROS!$I$3:$J$21,2,FALSE))","v":""},null,null,null,null,null,null,""]
[null,{"$f":"IF(A2993=\"\",\"\",VLOOKUP(A2993,PARAMETROS!$B$3:$C$3,2,FALSE))","v":""},null,{"$f":"IF(C2993=\"\",\"\",VLOOKUP(C2993,PARAMETROS!$G$3:$H$21,2,FALSE))","v":""},null,{"$f":"IF(E2993=\"\",\"\",VLOOKUP(E2993,PARAMETROS!$I$3:$J$21,2,FALSE))","v":""},null,null,null,null,null,null,""]
[null,{"$f":"IF(A2994=\"\",\"\",VLOOKUP(A2994,PARAMETROS!$B$3:$C$3,2,FALSE))","v":""},null,{"$f":"IF(C2994=\"\",\"\",VLOOKUP(C2994,PARAMETROS!$G$3:$H$21,2,FALSE))","v":""},null,{"$f":"IF(E2994=\"\",\"\",VLOOKUP(E2994,PARAMETROS!$I$3:$J$21,2,FALSE))","v":""},null,null,null,null,null,null,""]
[null,{"$f":"IF(A2995=\"\",\"\",VLOOKUP(A2995,PARAMETROS!$B$3:$C$3,2,FALSE))","v":""},null,{"$f":"IF(C2995=\"\",\"\",VLOOKUP(C2995,PARAMETROS!$G$3:$H$21,2,FALSE))","v":""},null,{"$f":"IF(E2995=\"\",\"\",VLOOKUP(E2995,PARAMETROS!$I$3:$J$21,2,FALSE))","v":""},null,null,null,null,null,null,""]
[null,{"$f":"IF(A2996=\"\",\"\",VLOOKUP(A2996,PARAMETROS!$B$3:$C$3,2,FALSE))","v":""},null,{"$f":"IF(C2996=\"\",\"\",VLOOKUP(C2996,PARAMETROS!$G$3:$H$21,2,FALSE))","v":""},null,{"$f":"IF(E2996=\"\",\"\",VLOOKUP(E2996,PARAMETROS!$I$3:$J$21,2,FALSE))","v":""},null,null,null,null,null,null,""]
[null,{"$f":"IF(A2997=\"\",\"\",VLOOKUP(A2997,PARAMETROS!$B$3:$C$3,2,FALSE))","v":""},null,{"$f":"IF(C2997=\"\",\"\",VLOOKUP(C2997,PARAMETROS!$G$3:$H$21,2,FALSE))","v":""},null,{"$f":"IF(E2997=\"\",\"\",VLOOKUP(E2997,PARAMETROS!$I$3:$J$21,2,FALSE))","v":""},null,null,null,null,null,null,""]
[null,{"$f":"IF(A2998=\"\",\"\",VLOOKUP(A2998,PARAMETROS!$B$3:$C$3,2,FALSE))","v":""},null,{"$f":"IF(C2998=\"\",\"\",VLOOKUP(C2998,PARAMETROS!$G$3:$H$21,2,FALSE))","v":""},null,{"$f":"IF(E2998=\"\",\"\",VLOOKUP(E2998,PARAMETROS!$I$3:$J$21,2,FALSE))","v":""},null,null,null,null,null,null,""]
[null,{"$f":"IF(A2999=\"\",\"\",VLOOKUP(A2999,PARAMETROS!$B$3:$C$3,2,FALSE))","v":""},null,{"$f":"IF(C2999=\"\",\"\",VLOOKUP(C2999,PARAMETROS!$G$3:$H$21,2,FALSE))","v":""},null,{"$f":"IF(E2999=\"\",\"\",VLOOKUP(E2999,PARAMETROS!$I$3:$J$21,2,FALSE))","v":""},null,null,null,null,null,null,""]
[null,{"$f":"IF(A3000=\"\",\"\",VLOOKUP(A3000,PARAMETROS!$B$3:$C$3,2,FALSE))","v":""},null,{"$f":"IF(C3000=\"\",\"\",VLOOKUP(C3000,PARAMETROS!$G$3:$H$21,2,FALSE))","v":""},null,{"$f":"IF(E3000=\"\",\"\",VLOOKUP(E3000,PARAMETROS!$I$3:$J$21,2,FALSE))","v":""},null,null,null,null,null,null,""]
[null,{"$f":"IF(A3001=\"\",\"\",VLOOKUP(A3001,PARAMETROS!$B$3:$C$3,2,FALSE))","v":""},null,{"$f":"IF(C3001=\"\",\"\",VLOOKUP(C3001,PARAMETROS!$G$3:$H$21,2,FALSE))","v":""},null,{"$f":"IF(E3001=\"\",\"\",VLOOKUP(E3001,PARAMETROS!$I$3:$J$21,2,FALSE))","v":""},null,null,null,null,null,null,""]
[null,{"$f":"IF(A3002=\"\",\"\",VLOOKUP(A3002,PARAMETROS!$B$3:$C$3,2,FALSE))","v":""},null,{"$f":"IF(C3002=\"\",\"\",VLOOKUP(C3002,PARAMETROS!$G$3:$H$21,2,FALSE))","v":""},null,{"$f":"IF(E3002=\"\",\"\",VLOOKUP(E3002,PARAMETROS!$I$3:$J$21,2,FALSE))","v":""},null,null,null,null,null,null,""]
[null,{"$f":"IF(A3003=\"\",\"\",VLOOKUP(A3003,PARAMETROS!$B$3:$C$3,2,FALSE))","v":""},null,{"$f":"IF(C3003=\"\",\"\",VLOOKUP(C3003,PARAMETROS!$G$3:$H$21,2,FALSE))","v":""},null,{"$f":"IF(E3003=\"\",\"\",VLOOKUP(E3003,PARAMETROS!$I$3:$J$21,2,FALSE))","v":""},null,null,null,null,null,null,""]
[null,{"$f":"IF(A3004=\"\",\"\",VLOOKUP(A3004,PARAMETROS!$B$3:$C$3,2,FALSE))","v":""},null,{"$f":"IF(C3004=\"\",\"\",VLOOKUP(C3004,PARAMETROS!$G$3:$H$21,2,FALSE))","v":""},null,{"$f":"IF(E3004=\"\",\"\",VLOOKUP(E3004,PARAMETROS!$I$3:$J$21,2,FALSE))","v":""},null,null,null,null,null,null,""]
[null,{"$f":"IF(A3005=\"\",\"\",VLOOKUP(A3005,PARAMETROS!$B$3:$C$3,2,FALSE))","v":""},null,{"$f":"IF(C3005=\"\",\"\",VLOOKUP(C3005,PARAMETROS!$G$3:$H$21,2,FALSE))","v":""},null,{"$f":"IF(E3005=\"\",\"\",VLOOKUP(E3005,PARAMETROS!$I$3:$J$21,2,FALSE))","v":""},null,null,null,null,null,null,""]
[null,{"$f":"IF(A3006=\"\",\"\",VLOOKUP(A3006,PARAMETROS!$B$3:$C$3,2,FALSE))","v":""},null,{"$f":"IF(C3006=\"\",\"\",VLOOKUP(C3006,PARAMETROS!$G$3:$H$21,2,FALSE))","v":""},null,{"$f":"IF(E3006=\"\",\"\",VLOOKUP(E3006,PARAMETROS!$I$3:$J$21,2,FALSE))","v":""},null,null,null,null,null,null,""]
[null,{"$f":"IF(A3007=\"\",\"\",VLOOKUP(A3007,PARAMETROS!$B$3:$C$3,2,FALSE))","v":""},null,{"$f":"IF(C3007=\"\",\"\",VLOOKUP(C3007,PARAMETROS!$G$3:$H$21,2,FALSE))","v":""},null,{"$f":"IF(E3007=\"\",\"\",VLOOKUP(E3007,PARAMETROS!$I$3:$J$21,2,FALSE))","v":""},null,null,null,null,null,null,""]
[null,{"$f":"IF(A3008=\"\",\"\",VLOOKUP(A3008,PARAMETROS!$B$3:$C$3,2,FALSE))","v":""},null,{"$f":"IF(C3008=\"\",\"\",VLOOKUP(C3008,PARAMETROS!$G$3:$H$21,2,FALSE))","v":""},null,{"$f":"IF(E3008=\"\",\"\",VLOOKUP(E3008,PARAMETROS!$I$3:$J$21,2,FALSE))","v":""},null,null,null,null,null,null,""]
[null,{"$f":"IF(A3009=\"\",\"\",VLOOKUP(A3009,PARAMETROS!$B$3:$C$3,2,FALSE))","v":""},null,{"$f":"IF(C3009=\"\",\"\",VLOOKUP(C3009,PARAMETROS!$G$3:$H$21,2,FALSE))","v":""},null,{"$f":"IF(E3009=\"\",\"\",VLOOKUP(E3009,PARAMETROS!$I$3:$J$21,2,FALSE))","v":""},null,null,null,null,null,null,""]
[null,{"$f":"IF(A3010=\"\",\"\",VLOOKUP(A3010,PARAMETROS!$B$3:$C$3,2,FALSE))","v":""},null,{"$f":"IF(C3010=\"\",\"\",VLOOKUP(C3010,PARAMETROS!$G$3:$H$21,2,FALSE))","v":""},null,{"$f":"IF(E3010=\"\",\"\",VLOOKUP(E3010,PARAMETROS!$I$3:$J$21,2,FALSE))","v":""},null,null,null,null,null,null,""]
[null,{"$f":"IF(A3011=\"\",\"\",VLOOKUP(A3011,PARAMETROS!$B$3:$C$3,2,FALSE))","v":""},null,{"$f":"IF(C3011=\"\",\"\",VLOOKUP(C3011,PARAMETROS!$G$3:$H$21,2,FALSE))","v":""},null,{"$f":"IF(E3011=\"\",\"\",VLOOKUP(E3011,PARAMETROS!$I$3:$J$21,2,FALSE))","v":""},null,null,null,null,null,null,""]
[null,{"$f":"IF(A3012=\"\",\"\",VLOOKUP(A3012,PARAMETROS!$B$3:$C$3,2,FALSE))","v":""},null,{"$f":"IF(C3012=\"\",\"\",VLOOKUP(C3012,PARAMETROS!$G$3:$H$21,2,FALSE))","v":""},null,{"$f":"IF(E3012=\"\",\"\",VLOOKUP(E3012,PARAMETROS!$I$3:$J$21,2,FALSE))","v":""},null,null,null,null,null,null,""]
[null,{"$f":"IF(A3013=\"\",\"\",VLOOKUP(A3013,PARAMETROS!$B$3:$C$3,2,FALSE))","v":""},null,{"$f":"IF(C3013=\"\",\"\",VLOOKUP(C3013,PARAMETROS!$G$3:$H$21,2,FALSE))","v":""},null,{"$f":"IF(E3013=\"\",\"\",VLOOKUP(E3013,PARAMETROS!$I$3:$J$21,2,FALSE))","v":""},null,null,null,null,null,null,""]
[null,{"$f":"IF(A3014=\"\",\"\",VLOOKUP(A3014,PARAMETROS!$B$3:$C$3,2,FALSE))","v":""},null,{"$f":"IF(C3014=\"\",\"\",VLOOKUP(C3014,PARAMETROS!$G$3:$H$21,2,FALSE))","v":""},null,{"$f":"IF(E3014=\"\",\"\",VLOOKUP(E3014,PARAMETROS!$I$3:$J$21,2,FALSE))","v":""},null,null,null,null,null,null,""]
[null,{"$f":"IF(A3015=\"\",\"\",VLOOKUP(A3015,PARAMETROS!$B$3:$C$3,2,FALSE))","v":""},null,{"$f":"IF(C3015=\"\",\"\",VLOOKUP(C3015,PARAMETROS!$G$3:$H$21,2,FALSE))","v":""},null,{"$f":"IF(E3015=\"\",\"\",VLOOKUP(E3015,PARAMETROS!$I$3:$J$21,2,FALSE))","v":""},null,null,null,null,null,null,""]
[null,{"$f":"IF(A3016=\"\",\"\",VLOOKUP(A3016,PARAMETROS!$B$3:$C$3,2,FALSE))","v":""},null,{"$f":"IF(C3016=\"\",\"\",VLOOKUP(C3016,PARAMETROS!$G$3:$H$21,2,FALSE))","v":""},null,{"$f":"IF(E3016=\"\",\"\",VLOOKUP(E3016,PARAMETROS!$I$3:$J$21,2,FALSE))","v":""},null,null,null,null,null,null,""]
[null,{"$f":"IF(A3017=\"\",\"\",VLOOKUP(A3017,PARAMETROS!$B$3:$C$3,2,FALSE))","v":""},null,{"$f":"IF(C3017=\"\",\"\",VLOOKUP(C3017,PARAMETROS!$G$3:$H$21,2,FALSE))","v":""},null,{"$f":"IF(E3017=\"\",\"\",VLOOKUP(E3017,PARAMETROS!$I$3:$J$21,2,FALSE))","v":""},null,null,null,null,null,null,""]
[null,{"$f":"IF(A3018=\"\",\"\",VLOOKUP(A3018,PARAMETROS!$B$3:$C$3,2,FALSE))","v":""},null,{"$f":"IF(C3018=\"\",\"\",VLOOKUP(C3018,PARAMETROS!$G$3:$H$21,2,FALSE))","v":""},null,{"$f":"IF(E3018=\"\",\"\",VLOOKUP(E3018,PARAMETROS!$I$3:$J$21,2,FALSE))","v":""},null,null,null,null,null,null,""]
[null,{"$f":"IF(A3019=\"\",\"\",VLOOKUP(A3019,PARAMETROS!$B$3:$C$3,2,FALSE))","v":""},null,{"$f":"IF(C3019=\"\",\"\",VLOOKUP(C3019,PARAMETROS!$G$3:$H$21,2,FALSE))","v":""},null,{"$f":"IF(E3019=\"\",\"\",VLOOKUP(E3019,PARAMETROS!$I$3:$J$21,2,FALSE))","v":""},null,null,null,null,null,null,""]
[null,{"$f":"IF(A3020=\"\",\"\",VLOOKUP(A3020,PARAMETROS!$B$3:$C$3,2,FALSE))","v":""},null,{"$f":"IF(C3020=\"\",\"\",VLOOKUP(C3020,PARAMETROS!$G$3:$H$21,2,FALSE))","v":""},null,{"$f":"IF(E3020=\"\",\"\",VLOOKUP(E3020,PARAMETROS!$I$3:$J$21,2,FALSE))","v":""},null,null,null,null,null,null,""]
[null,{"$f":"IF(A3021=\"\",\"\",VLOOKUP(A3021,PARAMETROS!$B$3:$C$3,2,FALSE))","v":""},null,{"$f":"IF(C3021=\"\",\"\",VLOOKUP(C3021,PARAMETROS!$G$3:$H$21,2,FALSE))","v":""},null,{"$f":"IF(E3021=\"\",\"\",VLOOKUP(E3021,PARAMETROS!$I$3:$J$21,2,FALSE))","v":""},null,null,null,null,null,null,""]
[null,{"$f":"IF(A3022=\"\",\"\",VLOOKUP(A3022,PARAMETROS!$B$3:$C$3,2,FALSE))","v":""},null,{"$f":"IF(C3022=\"\",\"\",VLOOKUP(C3022,PARAMETROS!$G$3:$H$21,2,FALSE))","v":""},null,{"$f":"IF(E3022=\"\",\"\",VLOOKUP(E3022,PARAMETROS!$I$3:$J$21,2,FALSE))","v":""},null,null,null,null,null,null,""]
[null,{"$f":"IF(A3023=\"\",\"\",VLOOKUP(A3023,PARAMETROS!$B$3:$C$3,2,FALSE))","v":""},null,{"$f":"IF(C3023=\"\",\"\",VLOOKUP(C3023,PARAMETROS!$G$3:$H$21,2,FALSE))","v":""},null,{"$f":"IF(E3023=\"\",\"\",VLOOKUP(E3023,PARAMETROS!$I$3:$J$21,2,FALSE))","v":""},null,null,null,null,null,null,{"$f":"IF(L3023=\"\", \"\", L3023)","v":""}]
[null,{"$f":"IF(A3024=\"\",\"\",VLOOKUP(A3024,PARAMETROS!$B$3:$C$3,2,FALSE))","v":""},null,{"$f":"IF(C3024=\"\",\"\",VLOOKUP(C3024,PARAMETROS!$G$3:$H$21,2,FALSE))","v":""},null,{"$f":"IF(E3024=\"\",\"\",VLOOKUP(E3024,PARAMETROS!$I$3:$J$21,2,FALSE))","v":""},null,null,null,null,null,null,""]
[null,{"$f":"IF(A3025=\"\",\"\",VLOOKUP(A3025,PARAMETROS!$B$3:$C$3,2,FALSE))","v":""},null,{"$f":"IF(C3025=\"\",\"\",VLOOKUP(C3025,PARAMETROS!$G$3:$H$21,2,FALSE))","v":""},null,{"$f":"IF(E3025=\"\",\"\",VLOOKUP(E3025,PARAMETROS!$I$3:$J$21,2,FALSE))","v":""},null,null,null,null,null,null,""]
[null,{"$f":"IF(A3026=\"\",\"\",VLOOKUP(A3026,PARAMETROS!$B$3:$C$3,2,FALSE))","v":""},null,{"$f":"IF(C3026=\"\",\"\",VLOOKUP(C3026,PARAMETROS!$G$3:$H$21,2,FALSE))","v":""},null,{"$f":"IF(E3026=\"\",\"\",VLOOKUP(E3026,PARAMETROS!$I$3:$J$21,2,FALSE))","v":""},null,null,null,null,null,null,""]
[null,{"$f":"IF(A3027=\"\",\"\",VLOOKUP(A3027,PARAMETROS!$B$3:$C$3,2,FALSE))","v":""},null,{"$f":"IF(C3027=\"\",\"\",VLOOKUP(C3027,PARAMETROS!$G$3:$H$21,2,FALSE))","v":""},null,{"$f":"IF(E3027=\"\",\"\",VLOOKUP(E3027,PARAMETROS!$I$3:$J$21,2,FALSE))","v":""},null,null,null,null,null,null,""]
[null,{"$f":"IF(A3028=\"\",\"\",VLOOKUP(A3028,PARAMETROS!$B$3:$C$3,2,FALSE))","v":""},null,{"$f":"IF(C3028=\"\",\"\",VLOOKUP(C3028,PARAMETROS!$G$3:$H$21,2,FALSE))","v":""},null,{"$f":"IF(E3028=\"\",\"\",VLOOKUP(E3028,PARAMETROS!$I$3:$J$21,2,FALSE))","v":""},null,null,null,null,null,null,""]
[null,{"$f":"IF(A3029=\"\",\"\",VLOOKUP(A3029,PARAMETROS!$B$3:$C$3,2,FALSE))","v":""},null,{"$f":"IF(C3029=\"\",\"\",VLOOKUP(C3029,PARAMETROS!$G$3:$H$21,2,FALSE))","v":""},null,{"$f":"IF(E3029=\"\",\"\",VLOOKUP(E3029,PARAMETROS!$I$3:$J$21,2,FALSE))","v":""},null,null,null,null,null,null,""]
[null,{"$f":"IF(A3030=\"\",\"\",VLOOKUP(A3030,PARAMETROS!$B$3:$C$3,2,FALSE))","v":""},null,{"$f":"IF(C3030=\"\",\"\",VLOOKUP(C3030,PARAMETROS!$G$3:$H$21,2,FALSE))","v":""},null,{"$f":"IF(E3030=\"\",\"\",VLOOKUP(E3030,PARAMETROS!$I$3:$J$21,2,FALSE))","v":""},null,null,null,null,null,null,""]
[null,{"$f":"IF(A3031=\"\",\"\",VLOOKUP(A3031,PARAMETROS!$B$3:$C$3,2,FALSE))","v":""},null,{"$f":"IF(C3031=\"\",\"\",VLOOKUP(C3031,PARAMETROS!$G$3:$H$21,2,FALSE))","v":""},null,{"$f":"IF(E3031=\"\",\"\",VLOOKUP(E3031,PARAMETROS!$I$3:$J$21,2,FALSE))","v":""},null,null,null,null,null,null,""]
[null,{"$f":"IF(A3032=\"\",\"\",VLOOKUP(A3032,PARAMETROS!$B$3:$C$3,2,FALSE))","v":""},null,{"$f":"IF(C3032=\"\",\"\",VLOOKUP(C3032,PARAMETROS!$G$3:$H$21,2,FALSE))","v":""},null,{"$f":"IF(E3032=\"\",\"\",VLOOKUP(E3032,PARAMETROS!$I$3:$J$21,2,FALSE))","v":""},null,null,null,null,null,null,""]
[null,{"$f":"IF(A3033=\"\",\"\",VLOOKUP(A3033,PARAMETROS!$B$3:$C$3,2,FALSE))","v":""},null,{"$f":"IF(C3033=\"\",\"\",VLOOKUP(C3033,PARAMETROS!$G$3:$H$21,2,FALSE))","v":""},null,{"$f":"IF(E3033=\"\",\"\",VLOOKUP(E3033,PARAMETROS!$I$3:$J$21,2,FALSE))","v":""},null,null,null,null,null,null,""]
[null,{"$f":"IF(A3034=\"\",\"\",VLOOKUP(A3034,PARAMETROS!$B$3:$C$3,2,FALSE))","v":""},null,{"$f":"IF(C3034=\"\",\"\",VLOOKUP(C3034,PARAMETROS!$G$3:$H$21,2,FALSE))","v":""},null,{"$f":"IF(E3034=\"\",\"\",VLOOKUP(E3034,PARAMETROS!$I$3:$J$21,2,FALSE))","v":""},null,null,null,null,null,null,""]
[null,{"$f":"IF(A3035=\"\",\"\",VLOOKUP(A3035,PARAMETROS!$B$3:$C$3,2,FALSE))","v":""},null,{"$f":"IF(C3035=\"\",\"\",VLOOKUP(C3035,PARAMETROS!$G$3:$H$21,2,FALSE))","v":""},null,{"$f":"IF(E3035=\"\",\"\",VLOOKUP(E3035,PARAMETROS!$I$3:$J$21,2,FALSE))","v":""},null,null,null,null,null,null,""]
[null,{"$f":"IF(A3036=\"\",\"\",VLOOKUP(A3036,PARAMETROS!$B$3:$C$3,2,FALSE))","v":""},null,{"$f":"IF(C3036=\"\",\"\",VLOOKUP(C3036,PARAMETROS!$G$3:$H$21,2,FALSE))","v":""},null,{"$f":"IF(E3036=\"\",\"\",VLOOKUP(E3036,PARAMETROS!$I$3:$J$21,2,FALSE))","v":""},null,null,null,null,null,null,""]
[null,{"$f":"IF(A3037=\"\",\"\",VLOOKUP(A3037,PARAMETROS!$B$3:$C$3,2,FALSE))","v":""},null,{"$f":"IF(C3037=\"\",\"\",VLOOKUP(C3037,PARAMETROS!$G$3:$H$21,2,FALSE))","v":""},null,{"$f":"IF(E3037=\"\",\"\",VLOOKUP(E3037,PARAMETROS!$I$3:$J$21,2,FALSE))","v":""},null,null,null,null,null,null,""]
[null,{"$f":"IF(A3038=\"\",\"\",VLOOKUP(A3038,PARAMETROS!$B$3:$C$3,2,FALSE))","v":""},null,{"$f":"IF(C3038=\"\",\"\",VLOOKUP(C3038,PARAMETROS!$G$3:$H$21,2,FALSE))","v":""},null,{"$f":"IF(E3038=\"\",\"\",VLOOKUP(E3038,PARAMETROS!$I$3:$J$21,2,FALSE))","v":""},null,null,null,null,null,null,""]
[null,{"$f":"IF(A3039=\"\",\"\",VLOOKUP(A3039,PARAMETROS!$B$3:$C$3,2,FALSE))","v":""},null,{"$f":"IF(C3039=\"\",\"\",VLOOKUP(C3039,PARAMETROS!$G$3:$H$21,2,FALSE))","v":""},null,{"$f":"IF(E3039=\"\",\"\",VLOOKUP(E3039,PARAMETROS!$I$3:$J$21,2,FALSE))","v":""},null,null,null,null,null,null,""]
[null,{"$f":"IF(A3040=\"\",\"\",VLOOKUP(A3040,PARAMETROS!$B$3:$C$3,2,FALSE))","v":""},null,{"$f":"IF(C3040=\"\",\"\",VLOOKUP(C3040,PARAMETROS!$G$3:$H$21,2,FALSE))","v":""},null,{"$f":"IF(E3040=\"\",\"\",VLOOKUP(E3040,PARAMETROS!$I$3:$J$21,2,FALSE))","v":""},null,null,null,null,null,null,""]
[null,{"$f":"IF(A3041=\"\",\"\",VLOOKUP(A3041,PARAMETROS!$B$3:$C$3,2,FALSE))","v":""},null,{"$f":"IF(C3041=\"\",\"\",VLOOKUP(C3041,PARAMETROS!$G$3:$H$21,2,FALSE))","v":""},null,{"$f":"IF(E3041=\"\",\"\",VLOOKUP(E3041,PARAMETROS!$I$3:$J$21,2,FALSE))","v":""},null,null,null,null,null,null,""]
[null,{"$f":"IF(A3042=\"\",\"\",VLOOKUP(A3042,PARAMETROS!$B$3:$C$3,2,FALSE))","v":""},null,{"$f":"IF(C3042=\"\",\"\",VLOOKUP(C3042,PARAMETROS!$G$3:$H$21,2,FALSE))","v":""},null,{"$f":"IF(E3042=\"\",\"\",VLOOKUP(E3042,PARAMETROS!$I$3:$J$21,2,FALSE))","v":""},null,null,null,null,null,null,""]
[null,{"$f":"IF(A3043=\"\",\"\",VLOOKUP(A3043,PARAMETROS!$B$3:$C$3,2,FALSE))","v":""},null,{"$f":"IF(C3043=\"\",\"\",VLOOKUP(C3043,PARAMETROS!$G$3:$H$21,2,FALSE))","v":""},null,{"$f":"IF(E3043=\"\",\"\",VLOOKUP(E3043,PARAMETROS!$I$3:$J$21,2,FALSE))","v":""},null,null,null,null,null,null,""]
[null,{"$f":"IF(A3044=\"\",\"\",VLOOKUP(A3044,PARAMETROS!$B$3:$C$3,2,FALSE))","v":""},null,{"$f":"IF(C3044=\"\",\"\",VLOOKUP(C3044,PARAMETROS!$G$3:$H$21,2,FALSE))","v":""},null,{"$f":"IF(E3044=\"\",\"\",VLOOKUP(E3044,PARAMETROS!$I$3:$J$21,2,FALSE))","v":""},null,null,null,null,null,null,""]
[null,{"$f":"IF(A3045=\"\",\"\",VLOOKUP(A3045,PARAMETROS!$B$3:$C$3,2,FALSE))","v":""},null,{"$f":"IF(C3045=\"\",\"\",VLOOKUP(C3045,PARAMETROS!$G$3:$H$21,2,FALSE))","v":""},null,{"$f":"IF(E3045=\"\",\"\",VLOOKUP(E3045,PARAMETROS!$I$3:$J$21,2,FALSE))","v":""},null,null,null,null,null,null,""]
[null,{"$f":"IF(A3046=\"\",\"\",VLOOKUP(A3046,PARAMETROS!$B$3:$C$3,2,FALSE))","v":""},null,{"$f":"IF(C3046=\"\",\"\",VLOOKUP(C3046,PARAMETROS!$G$3:$H$21,2,FALSE))","v":""},null,{"$f":"IF(E3046=\"\",\"\",VLOOKUP(E3046,PARAMETROS!$I$3:$J$21,2,FALSE))","v":""},null,null,null,null,null,null,""]
[null,{"$f":"IF(A3047=\"\",\"\",VLOOKUP(A3047,PARAMETROS!$B$3:$C$3,2,FALSE))","v":""},null,{"$f":"IF(C3047=\"\",\"\",VLOOKUP(C3047,PARAMETROS!$G$3:$H$21,2,FALSE))","v":""},null,{"$f":"IF(E3047=\"\",\"\",VLOOKUP(E3047,PARAMETROS!$I$3:$J$21,2,FALSE))","v":""},null,null,null,null,null,null,""]
[null,{"$f":"IF(A3048=\"\",\"\",VLOOKUP(A3048,PARAMETROS!$B$3:$C$3,2,FALSE))","v":""},null,{"$f":"IF(C3048=\"\",\"\",VLOOKUP(C3048,PARAMETROS!$G$3:$H$21,2,FALSE))","v":""},null,{"$f":"IF(E3048=\"\",\"\",VLOOKUP(E3048,PARAMETROS!$I$3:$J$21,2,FALSE))","v":""},null,null,null,null,null,null,""]
[null,{"$f":"IF(A3049=\"\",\"\",VLOOKUP(A3049,PARAMETROS!$B$3:$C$3,2,FALSE))","v":""},null,{"$f":"IF(C3049=\"\",\"\",VLOOKUP(C3049,PARAMETROS!$G$3:$H$21,2,FALSE))","v":""},null,{"$f":"IF(E3049=\"\",\"\",VLOOKUP(E3049,PARAMETROS!$I$3:$J$21,2,FALSE))","v":""},null,null,null,null,null,null,""]
[null,{"$f":"IF(A3050=\"\",\"\",VLOOKUP(A3050,PARAMETROS!$B$3:$C$3,2,FALSE))","v":""},null,{"$f":"IF(C3050=\"\",\"\",VLOOKUP(C3050,PARAMETROS!$G$3:$H$21,2,FALSE))","v":""},null,{"$f":"IF(E3050=\"\",\"\",VLOOKUP(E3050,PARAMETROS!$I$3:$J$21,2,FALSE))","v":""},null,null,null,null,null,null,""]
[null,{"$f":"IF(A3051=\"\",\"\",VLOOKUP(A3051,PARAMETROS!$B$3:$C$3,2,FALSE))","v":""},null,{"$f":"IF(C3051=\"\",\"\",VLOOKUP(C3051,PARAMETROS!$G$3:$H$21,2,FALSE))","v":""},null,{"$f":"IF(E3051=\"\",\"\",VLOOKUP(E3051,PARAMETROS!$I$3:$J$21,2,FALSE))","v":""},null,null,null,null,null,null,""]
[null,{"$f":"IF(A3052=\"\",\"\",VLOOKUP(A3052,PARAMETROS!$B$3:$C$3,2,FALSE))","v":""},null,{"$f":"IF(C3052=\"\",\"\",VLOOKUP(C3052,PARAMETROS!$G$3:$H$21,2,FALSE))","v":""},null,{"$f":"IF(E3052=\"\",\"\",VLOOKUP(E3052,PARAMETROS!$I$3:$J$21,2,FALSE))","v":""},null,null,null,null,null,null,""]
[null,{"$f":"IF(A3053=\"\",\"\",VLOOKUP(A3053,PARAMETROS!$B$3:$C$3,2,FALSE))","v":""},null,{"$f":"IF(C3053=\"\",\"\",VLOOKUP(C3053,PARAMETROS!$G$3:$H$21,2,FALSE))","v":""},null,{"$f":"IF(E3053=\"\",\"\",VLOOKUP(E3053,PARAMETROS!$I$3:$J$21,2,FALSE))","v":""},null,null,null,null,null,null,""]
[null,{"$f":"IF(A3054=\"\",\"\",VLOOKUP(A3054,PARAMETROS!$B$3:$C$3,2,FALSE))","v":""},null,{"$f":"IF(C3054=\"\",\"\",VLOOKUP(C3054,PARAMETROS!$G$3:$H$21,2,FALSE))","v":""},null,{"$f":"IF(E3054=\"\",\"\",VLOOKUP(E3054,PARAMETROS!$I$3:$J$21,2,FALSE))","v":""},null,null,null,null,null,null,""]
[null,{"$f":"IF(A3055=\"\",\"\",VLOOKUP(A3055,PARAMETROS!$B$3:$C$3,2,FALSE))","v":""},null,{"$f":"IF(C3055=\"\",\"\",VLOOKUP(C3055,PARAMETROS!$G$3:$H$21,2,FALSE))","v":""},null,{"$f":"IF(E3055=\"\",\"\",VLOOKUP(E3055,PARAMETROS!$I$3:$J$21,2,FALSE))","v":""},null,null,null,null,null,null,""]
[null,{"$f":"IF(A3056=\"\",\"\",VLOOKUP(A3056,PARAMETROS!$B$3:$C$3,2,FALSE))","v":""},null,{"$f":"IF(C3056=\"\",\"\",VLOOKUP(C3056,PARAMETROS!$G$3:$H$21,2,FALSE))","v":""},null,{"$f":"IF(E3056=\"\",\"\",VLOOKUP(E3056,PARAMETROS!$I$3:$J$21,2,FALSE))","v":""},null,null,null,null,null,null,""]
[null,{"$f":"IF(A3057=\"\",\"\",VLOOKUP(A3057,PARAMETROS!$B$3:$C$3,2,FALSE))","v":""},null,{"$f":"IF(C3057=\"\",\"\",VLOOKUP(C3057,PARAMETROS!$G$3:$H$21,2,FALSE))","v":""},null,{"$f":"IF(E3057=\"\",\"\",VLOOKUP(E3057,PARAMETROS!$I$3:$J$21,2,FALSE))","v":""},null,null,null,null,null,null,""]
[null,{"$f":"IF(A3058=\"\",\"\",VLOOKUP(A3058,PARAMETROS!$B$3:$C$3,2,FALSE))","v":""},null,{"$f":"IF(C3058=\"\",\"\",VLOOKUP(C3058,PARAMETROS!$G$3:$H$21,2,FALSE))","v":""},null,{"$f":"IF(E3058=\"\",\"\",VLOOKUP(E3058,PARAMETROS!$I$3:$J$21,2,FALSE))","v":""},null,null,null,null,null,null,""]
[null,{"$f":"IF(A3059=\"\",\"\",VLOOKUP(A3059,PARAMETROS!$B$3:$C$3,2,FALSE))","v":""},null,{"$f":"IF(C3059=\"\",\"\",VLOOKUP(C3059,PARAMETROS!$G$3:$H$21,2,FALSE))","v":""},null,{"$f":"IF(E3059=\"\",\"\",VLOOKUP(E3059,PARAMETROS!$I$3:$J$21,2,FALSE))","v":""},null,null,null,null,null,null,""]
[null,{"$f":"IF(A3060=\"\",\"\",VLOOKUP(A3060,PARAMETROS!$B$3:$C$3,2,FALSE))","v":""},null,{"$f":"IF(C3060=\"\",\"\",VLOOKUP(C3060,PARAMETROS!$G$3:$H$21,2,FALSE))","v":""},null,{"$f":"IF(E3060=\"\",\"\",VLOOKUP(E3060,PARAMETROS!$I$3:$J$21,2,FALSE))","v":""},null,null,null,null,null,null,""]
[null,{"$f":"IF(A3061=\"\",\"\",VLOOKUP(A3061,PARAMETROS!$B$3:$C$3,2,FALSE))","v":""},null,{"$f":"IF(C3061=\"\",\"\",VLOOKUP(C3061,PARAMETROS!$G$3:$H$21,2,FALSE))","v":""},null,{"$f":"IF(E3061=\"\",\"\",VLOOKUP(E3061,PARAMETROS!$I$3:$J$21,2,FALSE))","v":""},null,null,null,null,null,null,""]
[null,{"$f":"IF(A3062=\"\",\"\",VLOOKUP(A3062,PARAMETROS!$B$3:$C$3,2,FALSE))","v":""},null,{"$f":"IF(C3062=\"\",\"\",VLOOKUP(C3062,PARAMETROS!$G$3:$H$21,2,FALSE))","v":""},null,{"$f":"IF(E3062=\"\",\"\",VLOOKUP(E3062,PARAMETROS!$I$3:$J$21,2,FALSE))","v":""},null,null,null,null,null,null,""]
[null,{"$f":"IF(A3063=\"\",\"\",VLOOKUP(A3063,PARAMETROS!$B$3:$C$3,2,FALSE))","v":""},null,{"$f":"IF(C3063=\"\",\"\",VLOOKUP(C3063,PARAMETROS!$G$3:$H$21,2,FALSE))","v":""},null,{"$f":"IF(E3063=\"\",\"\",VLOOKUP(E3063,PARAMETROS!$I$3:$J$21,2,FALSE))","v":""},null,null,null,null,null,null,""]
[null,{"$f":"IF(A3064=\"\",\"\",VLOOKUP(A3064,PARAMETROS!$B$3:$C$3,2,FALSE))","v":""},null,{"$f":"IF(C3064=\"\",\"\",VLOOKUP(C3064,PARAMETROS!$G$3:$H$21,2,FALSE))","v":""},null,{"$f":"IF(E3064=\"\",\"\",VLOOKUP(E3064,PARAMETROS!$I$3:$J$21,2,FALSE))","v":""},null,null,null,null,null,null,""]
[null,{"$f":"IF(A3065=\"\",\"\",VLOOKUP(A3065,PARAMETROS!$B$3:$C$3,2,FALSE))","v":""},null,{"$f":"IF(C3065=\"\",\"\",VLOOKUP(C3065,PARAMETROS!$G$3:$H$21,2,FALSE))","v":""},null,{"$f":"IF(E3065=\"\",\"\",VLOOKUP(E3065,PARAMETROS!$I$3:$J$21,2,FALSE))","v":""},null,null,null,null,null,null,""]
[null,{"$f":"IF(A3066=\"\",\"\",VLOOKUP(A3066,PARAMETROS!$B$3:$C$3,2,FALSE))","v":""},null,{"$f":"IF(C3066=\"\",\"\",VLOOKUP(C3066,PARAMETROS!$G$3:$H$21,2,FALSE))","v":""},null,{"$f":"IF(E3066=\"\",\"\",VLOOKUP(E3066,PARAMETROS!$I$3:$J$21,2,FALSE))","v":""},null,null,null,null,null,null,""]
[null,{"$f":"IF(A3067=\"\",\"\",VLOOKUP(A3067,PARAMETROS!$B$3:$C$3,2,FALSE))","v":""},null,{"$f":"IF(C3067=\"\",\"\",VLOOKUP(C3067,PARAMETROS!$G$3:$H$21,2,FALSE))","v":""},null,{"$f":"IF(E3067=\"\",\"\",VLOOKUP(E3067,PARAMETROS!$I$3:$J$21,2,FALSE))","v":""},null,null,null,null,null,null,""]
[null,{"$f":"IF(A3068=\"\",\"\",VLOOKUP(A3068,PARAMETROS!$B$3:$C$3,2,FALSE))","v":""},null,{"$f":"IF(C3068=\"\",\"\",VLOOKUP(C3068,PARAMETROS!$G$3:$H$21,2,FALSE))","v":""},null,{"$f":"IF(E3068=\"\",\"\",VLOOKUP(E3068,PARAMETROS!$I$3:$J$21,2,FALSE))","v":""},null,null,null,null,null,null,""]
[null,{"$f":"IF(A3069=\"\",\"\",VLOOKUP(A3069,PARAMETROS!$B$3:$C$3,2,FALSE))","v":""},null,{"$f":"IF(C3069=\"\",\"\",VLOOKUP(C3069,PARAMETROS!$G$3:$H$21,2,FALSE))","v":""},null,{"$f":"IF(E3069=\"\",\"\",VLOOKUP(E3069,PARAMETROS!$I$3:$J$21,2,FALSE))","v":""},null,null,null,null,null,null,""]
[null,{"$f":"IF(A3070=\"\",\"\",VLOOKUP(A3070,PARAMETROS!$B$3:$C$3,2,FALSE))","v":""},null,{"$f":"IF(C3070=\"\",\"\",VLOOKUP(C3070,PARAMETROS!$G$3:$H$21,2,FALSE))","v":""},null,{"$f":"IF(E3070=\"\",\"\",VLOOKUP(E3070,PARAMETROS!$I$3:$J$21,2,FALSE))","v":""},null,null,null,null,null,null,""]
[null,{"$f":"IF(A3071=\"\",\"\",VLOOKUP(A3071,PARAMETROS!$B$3:$C$3,2,FALSE))","v":""},null,{"$f":"IF(C3071=\"\",\"\",VLOOKUP(C3071,PARAMETROS!$G$3:$H$21,2,FALSE))","v":""},null,{"$f":"IF(E3071=\"\",\"\",VLOOKUP(E3071,PARAMETROS!$I$3:$J$21,2,FALSE))","v":""},null,null,null,null,null,null,""]
[null,{"$f":"IF(A3072=\"\",\"\",VLOOKUP(A3072,PARAMETROS!$B$3:$C$3,2,FALSE))","v":""},null,{"$f":"IF(C3072=\"\",\"\",VLOOKUP(C3072,PARAMETROS!$G$3:$H$21,2,FALSE))","v":""},null,{"$f":"IF(E3072=\"\",\"\",VLOOKUP(E3072,PARAMETROS!$I$3:$J$21,2,FALSE))","v":""},null,null,null,null,null,null,""]
[null,{"$f":"IF(A3073=\"\",\"\",VLOOKUP(A3073,PARAMETROS!$B$3:$C$3,2,FALSE))","v":""},null,{"$f":"IF(C3073=\"\",\"\",VLOOKUP(C3073,PARAMETROS!$G$3:$H$21,2,FALSE))","v":""},null,{"$f":"IF(E3073=\"\",\"\",VLOOKUP(E3073,PARAMETROS!$I$3:$J$21,2,FALSE))","v":""},null,null,null,null,null,null,""]
[null,{"$f":"IF(A3074=\"\",\"\",VLOOKUP(A3074,PARAMETROS!$B$3:$C$3,2,FALSE))","v":""},null,{"$f":"IF(C3074=\"\",\"\",VLOOKUP(C3074,PARAMETROS!$G$3:$H$21,2,FALSE))","v":""},null,{"$f":"IF(E3074=\"\",\"\",VLOOKUP(E3074,PARAMETROS!$I$3:$J$21,2,FALSE))","v":""},null,null,null,null,null,null,""]
[null,{"$f":"IF(A3075=\"\",\"\",VLOOKUP(A3075,PARAMETROS!$B$3:$C$3,2,FALSE))","v":""},null,{"$f":"IF(C3075=\"\",\"\",VLOOKUP(C3075,PARAMETROS!$G$3:$H$21,2,FALSE))","v":""},null,{"$f":"IF(E3075=\"\",\"\",VLOOKUP(E3075,PARAMETROS!$I$3:$J$21,2,FALSE))","v":""},null,null,null,null,null,null,""]
[null,{"$f":"IF(A3076=\"\",\"\",VLOOKUP(A3076,PARAMETROS!$B$3:$C$3,2,FALSE))","v":""},null,{"$f":"IF(C3076=\"\",\"\",VLOOKUP(C3076,PARAMETROS!$G$3:$H$21,2,FALSE))","v":""},null,{"$f":"IF(E3076=\"\",\"\",VLOOKUP(E3076,PARAMETROS!$I$3:$J$21,2,FALSE))","v":""},null,null,null,null,null,null,""]
[null,{"$f":"IF(A3077=\"\",\"\",VLOOKUP(A3077,PARAMETROS!$B$3:$C$3,2,FALSE))","v":""},null,{"$f":"IF(C3077=\"\",\"\",VLOOKUP(C3077,PARAMETROS!$G$3:$H$21,2,FALSE))","v":""},null,{"$f":"IF(E3077=\"\",\"\",VLOOKUP(E3077,PARAMETROS!$I$3:$J$21,2,FALSE))","v":""},null,null,null,null,null,null,""]
[null,{"$f":"IF(A3078=\"\",\"\",VLOOKUP(A3078,PARAMETROS!$B$3:$C$3,2,FALSE))","v":""},null,{"$f":"IF(C3078=\"\",\"\",VLOOKUP(C3078,PARAMETROS!$G$3:$H$21,2,FALSE))","v":""},null,{"$f":"IF(E3078=\"\",\"\",VLOOKUP(E3078,PARAMETROS!$I$3:$J$21,2,FALSE))","v":""},null,null,null,null,null,null,""]
[null,{"$f":"IF(A3079=\"\",\"\",VLOOKUP(A3079,PARAMETROS!$B$3:$C$3,2,FALSE))","v":""},null,{"$f":"IF(C3079=\"\",\"\",VLOOKUP(C3079,PARAMETROS!$G$3:$H$21,2,FALSE))","v":""},null,{"$f":"IF(E3079=\"\",\"\",VLOOKUP(E3079,PARAMETROS!$I$3:$J$21,2,FALSE))","v":""},null,null,null,null,null,null,""]
[null,{"$f":"IF(A3080=\"\",\"\",VLOOKUP(A3080,PARAMETROS!$B$3:$C$3,2,FALSE))","v":""},null,{"$f":"IF(C3080=\"\",\"\",VLOOKUP(C3080,PARAMETROS!$G$3:$H$21,2,FALSE))","v":""},null,{"$f":"IF(E3080=\"\",\"\",VLOOKUP(E3080,PARAMETROS!$I$3:$J$21,2,FALSE))","v":""},null,null,null,null,null,null,""]
[null,{"$f":"IF(A3081=\"\",\"\",VLOOKUP(A3081,PARAMETROS!$B$3:$C$3,2,FALSE))","v":""},null,{"$f":"IF(C3081=\"\",\"\",VLOOKUP(C3081,PARAMETROS!$G$3:$H$21,2,FALSE))","v":""},null,{"$f":"IF(E3081=\"\",\"\",VLOOKUP(E3081,PARAMETROS!$I$3:$J$21,2,FALSE))","v":""},null,null,null,null,null,null,""]
[null,{"$f":"IF(A3082=\"\",\"\",VLOOKUP(A3082,PARAMETROS!$B$3:$C$3,2,FALSE))","v":""},null,{"$f":"IF(C3082=\"\",\"\",VLOOKUP(C3082,PARAMETROS!$G$3:$H$21,2,FALSE))","v":""},null,{"$f":"IF(E3082=\"\",\"\",VLOOKUP(E3082,PARAMETROS!$I$3:$J$21,2,FALSE))","v":""},null,null,null,null,null,null,""]
[null,{"$f":"IF(A3083=\"\",\"\",VLOOKUP(A3083,PARAMETROS!$B$3:$C$3,2,FALSE))","v":""},null,{"$f":"IF(C3083=\"\",\"\",VLOOKUP(C3083,PARAMETROS!$G$3:$H$21,2,FALSE))","v":""},null,{"$f":"IF(E3083=\"\",\"\",VLOOKUP(E3083,PARAMETROS!$I$3:$J$21,2,FALSE))","v":""},null,null,null,null,null,null,""]
[null,{"$f":"IF(A3084=\"\",\"\",VLOOKUP(A3084,PARAMETROS!$B$3:$C$3,2,FALSE))","v":""},null,{"$f":"IF(C3084=\"\",\"\",VLOOKUP(C3084,PARAMETROS!$G$3:$H$21,2,FALSE))","v":""},null,{"$f":"IF(E3084=\"\",\"\",VLOOKUP(E3084,PARAMETROS!$I$3:$J$21,2,FALSE))","v":""},null,null,null,null,null,null,""]
[null,{"$f":"IF(A3085=\"\",\"\",VLOOKUP(A3085,PARAMETROS!$B$3:$C$3,2,FALSE))","v":""},null,{"$f":"IF(C3085=\"\",\"\",VLOOKUP(C3085,PARAMETROS!$G$3:$H$21,2,FALSE))","v":""},null,{"$f":"IF(E3085=\"\",\"\",VLOOKUP(E3085,PARAMETROS!$I$3:$J$21,2,FALSE))","v":""},null,null,null,null,null,null,""]
[null,{"$f":"IF(A3086=\"\",\"\",VLOOKUP(A3086,PARAMETROS!$B$3:$C$3,2,FALSE))","v":""},null,{"$f":"IF(C3086=\"\",\"\",VLOOKUP(C3086,PARAMETROS!$G$3:$H$21,2,FALSE))","v":""},null,{"$f":"IF(E3086=\"\",\"\",VLOOKUP(E3086,PARAMETROS!$I$3:$J$21,2,FALSE))","v":""},null,null,null,null,null,null,""]
[null,{"$f":"IF(A3087=\"\",\"\",VLOOKUP(A3087,PARAMETROS!$B$3:$C$3,2,FALSE))","v":""},null,{"$f":"IF(C3087=\"\",\"\",VLOOKUP(C3087,PARAMETROS!$G$3:$H$21,2,FALSE))","v":""},null,{"$f":"IF(E3087=\"\",\"\",VLOOKUP(E3087,PARAMETROS!$I$3:$J$21,2,FALSE))","v":""},null,null,null,null,null,null,{"$f":"IF(L3087=\"\", \"\", L3087)","v":""}]
[null,{"$f":"IF(A3088=\"\",\"\",VLOOKUP(A3088,PARAMETROS!$B$3:$C$3,2,FALSE))","v":""},null,{"$f":"IF(C3088=\"\",\"\",VLOOKUP(C3088,PARAMETROS!$G$3:$H$21,2,FALSE))","v":""},null,{"$f":"IF(E3088=\"\",\"\",VLOOKUP(E3088,PARAMETROS!$I$3:$J$21,2,FALSE))","v":""},null,null,null,null,null,null,""]
[null,{"$f":"IF(A3089=\"\",\"\",VLOOKUP(A3089,PARAMETROS!$B$3:$C$3,2,FALSE))","v":""},null,{"$f":"IF(C3089=\"\",\"\",VLOOKUP(C3089,PARAMETROS!$G$3:$H$21,2,FALSE))","v":""},null,{"$f":"IF(E3089=\"\",\"\",VLOOKUP(E3089,PARAMETROS!$I$3:$J$21,2,FALSE))","v":""},null,null,null,null,null,null,""]
[null,{"$f":"IF(A3090=\"\",\"\",VLOOKUP(A3090,PARAMETROS!$B$3:$C$3,2,FALSE))","v":""},null,{"$f":"IF(C3090=\"\",\"\",VLOOKUP(C3090,PARAMETROS!$G$3:$H$21,2,FALSE))","v":""},null,{"$f":"IF(E3090=\"\",\"\",VLOOKUP(E3090,PARAMETROS!$I$3:$J$21,2,FALSE))","v":""},null,null,null,null,null,null,""]
[null,{"$f":"IF(A3091=\"\",\"\",VLOOKUP(A3091,PARAMETROS!$B$3:$C$3,2,FALSE))","v":""},null,{"$f":"IF(C3091=\"\",\"\",VLOOKUP(C3091,PARAMETROS!$G$3:$H$21,2,FALSE))","v":""},null,{"$f":"IF(E3091=\"\",\"\",VLOOKUP(E3091,PARAMETROS!$I$3:$J$21,2,FALSE))","v":""},null,null,null,null,null,null,""]
[null,{"$f":"IF(A3092=\"\",\"\",VLOOKUP(A3092,PARAMETROS!$B$3:$C$3,2,FALSE))","v":""},null,{"$f":"IF(C3092=\"\",\"\",VLOOKUP(C3092,PARAMETROS!$G$3:$H$21,2,FALSE))","v":""},null,{"$f":"IF(E3092=\"\",\"\",VLOOKUP(E3092,PARAMETROS!$I$3:$J$21,2,FALSE))","v":""},null,null,null,null,null,null,""]
[null,{"$f":"IF(A3093=\"\",\"\",VLOOKUP(A3093,PARAMETROS!$B$3:$C$3,2,FALSE))","v":""},null,{"$f":"IF(C3093=\"\",\"\",VLOOKUP(C3093,PARAMETROS!$G$3:$H$21,2,FALSE))","v":""},null,{"$f":"IF(E3093=\"\",\"\",VLOOKUP(E3093,PARAMETROS!$I$3:$J$21,2,FALSE))","v":""},null,null,null,null,null,null,""]
[null,{"$f":"IF(A3094=\"\",\"\",VLOOKUP(A3094,PARAMETROS!$B$3:$C$3,2,FALSE))","v":""},null,{"$f":"IF(C3094=\"\",\"\",VLOOKUP(C3094,PARAMETROS!$G$3:$H$21,2,FALSE))","v":""},null,{"$f":"IF(E3094=\"\",\"\",VLOOKUP(E3094,PARAMETROS!$I$3:$J$21,2,FALSE))","v":""},null,null,null,null,null,null,""]
[null,{"$f":"IF(A3095=\"\",\"\",VLOOKUP(A3095,PARAMETROS!$B$3:$C$3,2,FALSE))","v":""},null,{"$f":"IF(C3095=\"\",\"\",VLOOKUP(C3095,PARAMETROS!$G$3:$H$21,2,FALSE))","v":""},null,{"$f":"IF(E3095=\"\",\"\",VLOOKUP(E3095,PARAMETROS!$I$3:$J$21,2,FALSE))","v":""},null,null,null,null,null,null,""]
[null,{"$f":"IF(A3096=\"\",\"\",VLOOKUP(A3096,PARAMETROS!$B$3:$C$3,2,FALSE))","v":""},null,{"$f":"IF(C3096=\"\",\"\",VLOOKUP(C3096,PARAMETROS!$G$3:$H$21,2,FALSE))","v":""},null,{"$f":"IF(E3096=\"\",\"\",VLOOKUP(E3096,PARAMETROS!$I$3:$J$21,2,FALSE))","v":""},null,null,null,null,null,null,""]
[null,{"$f":"IF(A3097=\"\",\"\",VLOOKUP(A3097,PARAMETROS!$B$3:$C$3,2,FALSE))","v":""},null,{"$f":"IF(C3097=\"\",\"\",VLOOKUP(C3097,PARAMETROS!$G$3:$H$21,2,FALSE))","v":""},null,{"$f":"IF(E3097=\"\",\"\",VLOOKUP(E3097,PARAMETROS!$I$3:$J$21,2,FALSE))","v":""},null,null,null,null,null,null,""]
[null,{"$f":"IF(A3098=\"\",\"\",VLOOKUP(A3098,PARAMETROS!$B$3:$C$3,2,FALSE))","v":""},null,{"$f":"IF(C3098=\"\",\"\",VLOOKUP(C3098,PARAMETROS!$G$3:$H$21,2,FALSE))","v":""},null,{"$f":"IF(E3098=\"\",\"\",VLOOKUP(E3098,PARAMETROS!$I$3:$J$21,2,FALSE))","v":""},null,null,null,null,null,null,""]
[null,{"$f":"IF(A3099=\"\",\"\",VLOOKUP(A3099,PARAMETROS!$B$3:$C$3,2,FALSE))","v":""},null,{"$f":"IF(C3099=\"\",\"\",VLOOKUP(C3099,PARAMETROS!$G$3:$H$21,2,FALSE))","v":""},null,{"$f":"IF(E3099=\"\",\"\",VLOOKUP(E3099,PARAMETROS!$I$3:$J$21,2,FALSE))","v":""},null,null,null,null,null,null,""]
[null,{"$f":"IF(A3100=\"\",\"\",VLOOKUP(A3100,PARAMETROS!$B$3:$C$3,2,FALSE))","v":""},null,{"$f":"IF(C3100=\"\",\"\",VLOOKUP(C3100,PARAMETROS!$G$3:$H$21,2,FALSE))","v":""},null,{"$f":"IF(E3100=\"\",\"\",VLOOKUP(E3100,PARAMETROS!$I$3:$J$21,2,FALSE))","v":""},null,null,null,null,null,null,""]
[null,{"$f":"IF(A3101=\"\",\"\",VLOOKUP(A3101,PARAMETROS!$B$3:$C$3,2,FALSE))","v":""},null,{"$f":"IF(C3101=\"\",\"\",VLOOKUP(C3101,PARAMETROS!$G$3:$H$21,2,FALSE))","v":""},null,{"$f":"IF(E3101=\"\",\"\",VLOOKUP(E3101,PARAMETROS!$I$3:$J$21,2,FALSE))","v":""},null,null,null,null,null,null,""]
[null,{"$f":"IF(A3102=\"\",\"\",VLOOKUP(A3102,PARAMETROS!$B$3:$C$3,2,FALSE))","v":""},null,{"$f":"IF(C3102=\"\",\"\",VLOOKUP(C3102,PARAMETROS!$G$3:$H$21,2,FALSE))","v":""},null,{"$f":"IF(E3102=\"\",\"\",VLOOKUP(E3102,PARAMETROS!$I$3:$J$21,2,FALSE))","v":""},null,null,null,null,null,null,""]
[null,{"$f":"IF(A3103=\"\",\"\",VLOOKUP(A3103,PARAMETROS!$B$3:$C$3,2,FALSE))","v":""},null,{"$f":"IF(C3103=\"\",\"\",VLOOKUP(C3103,PARAMETROS!$G$3:$H$21,2,FALSE))","v":""},null,{"$f":"IF(E3103=\"\",\"\",VLOOKUP(E3103,PARAMETROS!$I$3:$J$21,2,FALSE))","v":""},null,null,null,null,null,null,""]
[null,{"$f":"IF(A3104=\"\",\"\",VLOOKUP(A3104,PARAMETROS!$B$3:$C$3,2,FALSE))","v":""},null,{"$f":"IF(C3104=\"\",\"\",VLOOKUP(C3104,PARAMETROS!$G$3:$H$21,2,FALSE))","v":""},null,{"$f":"IF(E3104=\"\",\"\",VLOOKUP(E3104,PARAMETROS!$I$3:$J$21,2,FALSE))","v":""},null,null,null,null,null,null,""]
[null,{"$f":"IF(A3105=\"\",\"\",VLOOKUP(A3105,PARAMETROS!$B$3:$C$3,2,FALSE))","v":""},null,{"$f":"IF(C3105=\"\",\"\",VLOOKUP(C3105,PARAMETROS!$G$3:$H$21,2,FALSE))","v":""},null,{"$f":"IF(E3105=\"\",\"\",VLOOKUP(E3105,PARAMETROS!$I$3:$J$21,2,FALSE))","v":""},null,null,null,null,null,null,""]
[null,{"$f":"IF(A3106=\"\",\"\",VLOOKUP(A3106,PARAMETROS!$B$3:$C$3,2,FALSE))","v":""},null,{"$f":"IF(C3106=\"\",\"\",VLOOKUP(C3106,PARAMETROS!$G$3:$H$21,2,FALSE))","v":""},null,{"$f":"IF(E3106=\"\",\"\",VLOOKUP(E3106,PARAMETROS!$I$3:$J$21,2,FALSE))","v":""},null,null,null,null,null,null,""]
[null,{"$f":"IF(A3107=\"\",\"\",VLOOKUP(A3107,PARAMETROS!$B$3:$C$3,2,FALSE))","v":""},null,{"$f":"IF(C3107=\"\",\"\",VLOOKUP(C3107,PARAMETROS!$G$3:$H$21,2,FALSE))","v":""},null,{"$f":"IF(E3107=\"\",\"\",VLOOKUP(E3107,PARAMETROS!$I$3:$J$21,2,FALSE))","v":""},null,null,null,null,null,null,""]
[null,{"$f":"IF(A3108=\"\",\"\",VLOOKUP(A3108,PARAMETROS!$B$3:$C$3,2,FALSE))","v":""},null,{"$f":"IF(C3108=\"\",\"\",VLOOKUP(C3108,PARAMETROS!$G$3:$H$21,2,FALSE))","v":""},null,{"$f":"IF(E3108=\"\",\"\",VLOOKUP(E3108,PARAMETROS!$I$3:$J$21,2,FALSE))","v":""},null,null,null,null,null,null,""]
[null,{"$f":"IF(A3109=\"\",\"\",VLOOKUP(A3109,PARAMETROS!$B$3:$C$3,2,FALSE))","v":""},null,{"$f":"IF(C3109=\"\",\"\",VLOOKUP(C3109,PARAMETROS!$G$3:$H$21,2,FALSE))","v":""},null,{"$f":"IF(E3109=\"\",\"\",VLOOKUP(E3109,PARAMETROS!$I$3:$J$21,2,FALSE))","v":""},null,null,null,null,null,null,""]
[null,{"$f":"IF(A3110=\"\",\"\",VLOOKUP(A3110,PARAMETROS!$B$3:$C$3,2,FALSE))","v":""},null,{"$f":"IF(C3110=\"\",\"\",VLOOKUP(C3110,PARAMETROS!$G$3:$H$21,2,FALSE))","v":""},null,{"$f":"IF(E3110=\"\",\"\",VLOOKUP(E3110,PARAMETROS!$I$3:$J$21,2,FALSE))","v":""},null,null,null,null,null,null,""]
[null,{"$f":"IF(A3111=\"\",\"\",VLOOKUP(A3111,PARAMETROS!$B$3:$C$3,2,FALSE))","v":""},null,{"$f":"IF(C3111=\"\",\"\",VLOOKUP(C3111,PARAMETROS!$G$3:$H$21,2,FALSE))","v":""},null,{"$f":"IF(E3111=\"\",\"\",VLOOKUP(E3111,PARAMETROS!$I$3:$J$21,2,FALSE))","v":""},null,null,null,null,null,null,""]
[null,{"$f":"IF(A3112=\"\",\"\",VLOOKUP(A3112,PARAMETROS!$B$3:$C$3,2,FALSE))","v":""},null,{"$f":"IF(C3112=\"\",\"\",VLOOKUP(C3112,PARAMETROS!$G$3:$H$21,2,FALSE))","v":""},null,{"$f":"IF(E3112=\"\",\"\",VLOOKUP(E3112,PARAMETROS!$I$3:$J$21,2,FALSE))","v":""},null,null,null,null,null,null,""]
[null,{"$f":"IF(A3113=\"\",\"\",VLOOKUP(A3113,PARAMETROS!$B$3:$C$3,2,FALSE))","v":""},null,{"$f":"IF(C3113=\"\",\"\",VLOOKUP(C3113,PARAMETROS!$G$3:$H$21,2,FALSE))","v":""},null,{"$f":"IF(E3113=\"\",\"\",VLOOKUP(E3113,PARAMETROS!$I$3:$J$21,2,FALSE))","v":""},null,null,null,null,null,null,""]
[null,{"$f":"IF(A3114=\"\",\"\",VLOOKUP(A3114,PARAMETROS!$B$3:$C$3,2,FALSE))","v":""},null,{"$f":"IF(C3114=\"\",\"\",VLOOKUP(C3114,PARAMETROS!$G$3:$H$21,2,FALSE))","v":""},null,{"$f":"IF(E3114=\"\",\"\",VLOOKUP(E3114,PARAMETROS!$I$3:$J$21,2,FALSE))","v":""},null,null,null,null,null,null,""]
[null,{"$f":"IF(A3115=\"\",\"\",VLOOKUP(A3115,PARAMETROS!$B$3:$C$3,2,FALSE))","v":""},null,{"$f":"IF(C3115=\"\",\"\",VLOOKUP(C3115,PARAMETROS!$G$3:$H$21,2,FALSE))","v":""},null,{"$f":"IF(E3115=\"\",\"\",VLOOKUP(E3115,PARAMETROS!$I$3:$J$21,2,FALSE))","v":""},null,null,null,null,null,null,""]
[null,{"$f":"IF(A3116=\"\",\"\",VLOOKUP(A3116,PARAMETROS!$B$3:$C$3,2,FALSE))","v":""},null,{"$f":"IF(C3116=\"\",\"\",VLOOKUP(C3116,PARAMETROS!$G$3:$H$21,2,FALSE))","v":""},null,{"$f":"IF(E3116=\"\",\"\",VLOOKUP(E3116,PARAMETROS!$I$3:$J$21,2,FALSE))","v":""},null,null,null,null,null,null,""]
[null,{"$f":"IF(A3117=\"\",\"\",VLOOKUP(A3117,PARAMETROS!$B$3:$C$3,2,FALSE))","v":""},null,{"$f":"IF(C3117=\"\",\"\",VLOOKUP(C3117,PARAMETROS!$G$3:$H$21,2,FALSE))","v":""},null,{"$f":"IF(E3117=\"\",\"\",VLOOKUP(E3117,PARAMETROS!$I$3:$J$21,2,FALSE))","v":""},null,null,null,null,null,null,""]
[null,{"$f":"IF(A3118=\"\",\"\",VLOOKUP(A3118,PARAMETROS!$B$3:$C$3,2,FALSE))","v":""},null,{"$f":"IF(C3118=\"\",\"\",VLOOKUP(C3118,PARAMETROS!$G$3:$H$21,2,FALSE))","v":""},null,{"$f":"IF(E3118=\"\",\"\",VLOOKUP(E3118,PARAMETROS!$I$3:$J$21,2,FALSE))","v":""},null,null,null,null,null,null,""]
[null,{"$f":"IF(A3119=\"\",\"\",VLOOKUP(A3119,PARAMETROS!$B$3:$C$3,2,FALSE))","v":""},null,{"$f":"IF(C3119=\"\",\"\",VLOOKUP(C3119,PARAMETROS!$G$3:$H$21,2,FALSE))","v":""},null,{"$f":"IF(E3119=\"\",\"\",VLOOKUP(E3119,PARAMETROS!$I$3:$J$21,2,FALSE))","v":""},null,null,null,null,null,null,""]
[null,{"$f":"IF(A3120=\"\",\"\",VLOOKUP(A3120,PARAMETROS!$B$3:$C$3,2,FALSE))","v":""},null,{"$f":"IF(C3120=\"\",\"\",VLOOKUP(C3120,PARAMETROS!$G$3:$H$21,2,FALSE))","v":""},null,{"$f":"IF(E3120=\"\",\"\",VLOOKUP(E3120,PARAMETROS!$I$3:$J$21,2,FALSE))","v":""},null,null,null,null,null,null,""]
[null,{"$f":"IF(A3121=\"\",\"\",VLOOKUP(A3121,PARAMETROS!$B$3:$C$3,2,FALSE))","v":""},null,{"$f":"IF(C3121=\"\",\"\",VLOOKUP(C3121,PARAMETROS!$G$3:$H$21,2,FALSE))","v":""},null,{"$f":"IF(E3121=\"\",\"\",VLOOKUP(E3121,PARAMETROS!$I$3:$J$21,2,FALSE))","v":""},null,null,null,null,null,null,""]
[null,{"$f":"IF(A3122=\"\",\"\",VLOOKUP(A3122,PARAMETROS!$B$3:$C$3,2,FALSE))","v":""},null,{"$f":"IF(C3122=\"\",\"\",VLOOKUP(C3122,PARAMETROS!$G$3:$H$21,2,FALSE))","v":""},null,{"$f":"IF(E3122=\"\",\"\",VLOOKUP(E3122,PARAMETROS!$I$3:$J$21,2,FALSE))","v":""},null,null,null,null,null,null,""]
[null,{"$f":"IF(A3123=\"\",\"\",VLOOKUP(A3123,PARAMETROS!$B$3:$C$3,2,FALSE))","v":""},null,{"$f":"IF(C3123=\"\",\"\",VLOOKUP(C3123,PARAMETROS!$G$3:$H$21,2,FALSE))","v":""},null,{"$f":"IF(E3123=\"\",\"\",VLOOKUP(E3123,PARAMETROS!$I$3:$J$21,2,FALSE))","v":""},null,null,null,null,null,null,""]
[null,{"$f":"IF(A3124=\"\",\"\",VLOOKUP(A3124,PARAMETROS!$B$3:$C$3,2,FALSE))","v":""},null,{"$f":"IF(C3124=\"\",\"\",VLOOKUP(C3124,PARAMETROS!$G$3:$H$21,2,FALSE))","v":""},null,{"$f":"IF(E3124=\"\",\"\",VLOOKUP(E3124,PARAMETROS!$I$3:$J$21,2,FALSE))","v":""},null,null,null,null,null,null,""]
[null,{"$f":"IF(A3125=\"\",\"\",VLOOKUP(A3125,PARAMETROS!$B$3:$C$3,2,FALSE))","v":""},null,{"$f":"IF(C3125=\"\",\"\",VLOOKUP(C3125,PARAMETROS!$G$3:$H$21,2,FALSE))","v":""},null,{"$f":"IF(E3125=\"\",\"\",VLOOKUP(E3125,PARAMETROS!$I$3:$J$21,2,FALSE))","v":""},null,null,null,null,null,null,""]
[null,{"$f":"IF(A3126=\"\",\"\",VLOOKUP(A3126,PARAMETROS!$B$3:$C$3,2,FALSE))","v":""},null,{"$f":"IF(C3126=\"\",\"\",VLOOKUP(C3126,PARAMETROS!$G$3:$H$21,2,FALSE))","v":""},null,{"$f":"IF(E3126=\"\",\"\",VLOOKUP(E3126,PARAMETROS!$I$3:$J$21,2,FALSE))","v":""},null,null,null,null,null,null,""]
[null,{"$f":"IF(A3127=\"\",\"\",VLOOKUP(A3127,PARAMETROS!$B$3:$C$3,2,FALSE))","v":""},null,{"$f":"IF(C3127=\"\",\"\",VLOOKUP(C3127,PARAMETROS!$G$3:$H$21,2,FALSE))","v":""},null,{"$f":"IF(E3127=\"\",\"\",VLOOKUP(E3127,PARAMETROS!$I$3:$J$21,2,FALSE))","v":""},null,null,null,null,null,null,""]
[null,{"$f":"IF(A3128=\"\",\"\",VLOOKUP(A3128,PARAMETROS!$B$3:$C$3,2,FALSE))","v":""},null,{"$f":"IF(C3128=\"\",\"\",VLOOKUP(C3128,PARAMETROS!$G$3:$H$21,2,FALSE))","v":""},null,{"$f":"IF(E3128=\"\",\"\",VLOOKUP(E3128,PARAMETROS!$I$3:$J$21,2,FALSE))","v":""},null,null,null,null,null,null,""]
[null,{"$f":"IF(A3129=\"\",\"\",VLOOKUP(A3129,PARAMETROS!$B$3:$C$3,2,FALSE))","v":""},null,{"$f":"IF(C3129=\"\",\"\",VLOOKUP(C3129,PARAMETROS!$G$3:$H$21,2,FALSE))","v":""},null,{"$f":"IF(E3129=\"\",\"\",VLOOKUP(E3129,PARAMETROS!$I$3:$J$21,2,FALSE))","v":""},null,null,null,null,null,null,""]
[null,{"$f":"IF(A3130=\"\",\"\",VLOOKUP(A3130,PARAMETROS!$B$3:$C$3,2,FALSE))","v":""},null,{"$f":"IF(C3130=\"\",\"\",VLOOKUP(C3130,PARAMETROS!$G$3:$H$21,2,FALSE))","v":""},null,{"$f":"IF(E3130=\"\",\"\",VLOOKUP(E3130,PARAMETROS!$I$3:$J$21,2,FALSE))","v":""},null,null,null,null,null,null,""]
[null,{"$f":"IF(A3131=\"\",\"\",VLOOKUP(A3131,PARAMETROS!$B$3:$C$3,2,FALSE))","v":""},null,{"$f":"IF(C3131=\"\",\"\",VLOOKUP(C3131,PARAMETROS!$G$3:$H$21,2,FALSE))","v":""},null,{"$f":"IF(E3131=\"\",\"\",VLOOKUP(E3131,PARAMETROS!$I$3:$J$21,2,FALSE))","v":""},null,null,null,null,null,null,""]
[null,{"$f":"IF(A3132=\"\",\"\",VLOOKUP(A3132,PARAMETROS!$B$3:$C$3,2,FALSE))","v":""},null,{"$f":"IF(C3132=\"\",\"\",VLOOKUP(C3132,PARAMETROS!$G$3:$H$21,2,FALSE))","v":""},null,{"$f":"IF(E3132=\"\",\"\",VLOOKUP(E3132,PARAMETROS!$I$3:$J$21,2,FALSE))","v":""},null,null,null,null,null,null,""]
[null,{"$f":"IF(A3133=\"\",\"\",VLOOKUP(A3133,PARAMETROS!$B$3:$C$3,2,FALSE))","v":""},null,{"$f":"IF(C3133=\"\",\"\",VLOOKUP(C3133,PARAMETROS!$G$3:$H$21,2,FALSE))","v":""},null,{"$f":"IF(E3133=\"\",\"\",VLOOKUP(E3133,PARAMETROS!$I$3:$J$21,2,FALSE))","v":""},null,null,null,null,null,null,""]
[null,{"$f":"IF(A3134=\"\",\"\",VLOOKUP(A3134,PARAMETROS!$B$3:$C$3,2,FALSE))","v":""},null,{"$f":"IF(C3134=\"\",\"\",VLOOKUP(C3134,PARAMETROS!$G$3:$H$21,2,FALSE))","v":""},null,{"$f":"IF(E3134=\"\",\"\",VLOOKUP(E3134,PARAMETROS!$I$3:$J$21,2,FALSE))","v":""},null,null,null,null,null,null,""]
[null,{"$f":"IF(A3135=\"\",\"\",VLOOKUP(A3135,PARAMETROS!$B$3:$C$3,2,FALSE))","v":""},null,{"$f":"IF(C3135=\"\",\"\",VLOOKUP(C3135,PARAMETROS!$G$3:$H$21,2,FALSE))","v":""},null,{"$f":"IF(E3135=\"\",\"\",VLOOKUP(E3135,PARAMETROS!$I$3:$J$21,2,FALSE))","v":""},null,null,null,null,null,null,""]
[null,{"$f":"IF(A3136=\"\",\"\",VLOOKUP(A3136,PARAMETROS!$B$3:$C$3,2,FALSE))","v":""},null,{"$f":"IF(C3136=\"\",\"\",VLOOKUP(C3136,PARAMETROS!$G$3:$H$21,2,FALSE))","v":""},null,{"$f":"IF(E3136=\"\",\"\",VLOOKUP(E3136,PARAMETROS!$I$3:$J$21,2,FALSE))","v":""},null,null,null,null,null,null,""]
[null,{"$f":"IF(A3137=\"\",\"\",VLOOKUP(A3137,PARAMETROS!$B$3:$C$3,2,FALSE))","v":""},null,{"$f":"IF(C3137=\"\",\"\",VLOOKUP(C3137,PARAMETROS!$G$3:$H$21,2,FALSE))","v":""},null,{"$f":"IF(E3137=\"\",\"\",VLOOKUP(E3137,PARAMETROS!$I$3:$J$21,2,FALSE))","v":""},null,null,null,null,null,null,""]
[null,{"$f":"IF(A3138=\"\",\"\",VLOOKUP(A3138,PARAMETROS!$B$3:$C$3,2,FALSE))","v":""},null,{"$f":"IF(C3138=\"\",\"\",VLOOKUP(C3138,PARAMETROS!$G$3:$H$21,2,FALSE))","v":""},null,{"$f":"IF(E3138=\"\",\"\",VLOOKUP(E3138,PARAMETROS!$I$3:$J$21,2,FALSE))","v":""},null,null,null,null,null,null,""]
[null,{"$f":"IF(A3139=\"\",\"\",VLOOKUP(A3139,PARAMETROS!$B$3:$C$3,2,FALSE))","v":""},null,{"$f":"IF(C3139=\"\",\"\",VLOOKUP(C3139,PARAMETROS!$G$3:$H$21,2,FALSE))","v":""},null,{"$f":"IF(E3139=\"\",\"\",VLOOKUP(E3139,PARAMETROS!$I$3:$J$21,2,FALSE))","v":""},null,null,null,null,null,null,""]
[null,{"$f":"IF(A3140=\"\",\"\",VLOOKUP(A3140,PARAMETROS!$B$3:$C$3,2,FALSE))","v":""},null,{"$f":"IF(C3140=\"\",\"\",VLOOKUP(C3140,PARAMETROS!$G$3:$H$21,2,FALSE))","v":""},null,{"$f":"IF(E3140=\"\",\"\",VLOOKUP(E3140,PARAMETROS!$I$3:$J$21,2,FALSE))","v":""},null,null,null,null,null,null,""]
[null,{"$f":"IF(A3141=\"\",\"\",VLOOKUP(A3141,PARAMETROS!$B$3:$C$3,2,FALSE))","v":""},null,{"$f":"IF(C3141=\"\",\"\",VLOOKUP(C3141,PARAMETROS!$G$3:$H$21,2,FALSE))","v":""},null,{"$f":"IF(E3141=\"\",\"\",VLOOKUP(E3141,PARAMETROS!$I$3:$J$21,2,FALSE))","v":""},null,null,null,null,null,null,""]
[null,{"$f":"IF(A3142=\"\",\"\",VLOOKUP(A3142,PARAMETROS!$B$3:$C$3,2,FALSE))","v":""},null,{"$f":"IF(C3142=\"\",\"\",VLOOKUP(C3142,PARAMETROS!$G$3:$H$21,2,FALSE))","v":""},null,{"$f":"IF(E3142=\"\",\"\",VLOOKUP(E3142,PARAMETROS!$I$3:$J$21,2,FALSE))","v":""},null,null,null,null,null,null,""]
[null,{"$f":"IF(A3143=\"\",\"\",VLOOKUP(A3143,PARAMETROS!$B$3:$C$3,2,FALSE))","v":""},null,{"$f":"IF(C3143=\"\",\"\",VLOOKUP(C3143,PARAMETROS!$G$3:$H$21,2,FALSE))","v":""},null,{"$f":"IF(E3143=\"\",\"\",VLOOKUP(E3143,PARAMETROS!$I$3:$J$21,2,FALSE))","v":""},null,null,null,null,null,null,""]
[null,{"$f":"IF(A3144=\"\",\"\",VLOOKUP(A3144,PARAMETROS!$B$3:$C$3,2,FALSE))","v":""},null,{"$f":"IF(C3144=\"\",\"\",VLOOKUP(C3144,PARAMETROS!$G$3:$H$21,2,FALSE))","v":""},null,{"$f":"IF(E3144=\"\",\"\",VLOOKUP(E3144,PARAMETROS!$I$3:$J$21,2,FALSE))","v":""},null,null,null,null,null,null,""]
[null,{"$f":"IF(A3145=\"\",\"\",VLOOKUP(A3145,PARAMETROS!$B$3:$C$3,2,FALSE))","v":""},null,{"$f":"IF(C3145=\"\",\"\",VLOOKUP(C3145,PARAMETROS!$G$3:$H$21,2,FALSE))","v":""},null,{"$f":"IF(E3145=\"\",\"\",VLOOKUP(E3145,PARAMETROS!$I$3:$J$21,2,FALSE))","v":""},null,null,null,null,null,null,""]
[null,{"$f":"IF(A3146=\"\",\"\",VLOOKUP(A3146,PARAMETROS!$B$3:$C$3,2,FALSE))","v":""},null,{"$f":"IF(C3146=\"\",\"\",VLOOKUP(C3146,PARAMETROS!$G$3:$H$21,2,FALSE))","v":""},null,{"$f":"IF(E3146=\"\",\"\",VLOOKUP(E3146,PARAMETROS!$I$3:$J$21,2,FALSE))","v":""},null,null,null,null,null,null,""]
[null,{"$f":"IF(A3147=\"\",\"\",VLOOKUP(A3147,PARAMETROS!$B$3:$C$3,2,FALSE))","v":""},null,{"$f":"IF(C3147=\"\",\"\",VLOOKUP(C3147,PARAMETROS!$G$3:$H$21,2,FALSE))","v":""},null,{"$f":"IF(E3147=\"\",\"\",VLOOKUP(E3147,PARAMETROS!$I$3:$J$21,2,FALSE))","v":""},null,null,null,null,null,null,""]
[null,{"$f":"IF(A3148=\"\",\"\",VLOOKUP(A3148,PARAMETROS!$B$3:$C$3,2,FALSE))","v":""},null,{"$f":"IF(C3148=\"\",\"\",VLOOKUP(C3148,PARAMETROS!$G$3:$H$21,2,FALSE))","v":""},null,{"$f":"IF(E3148=\"\",\"\",VLOOKUP(E3148,PARAMETROS!$I$3:$J$21,2,FALSE))","v":""},null,null,null,null,null,null,""]
[null,{"$f":"IF(A3149=\"\",\"\",VLOOKUP(A3149,PARAMETROS!$B$3:$C$3,2,FALSE))","v":""},null,{"$f":"IF(C3149=\"\",\"\",VLOOKUP(C3149,PARAMETROS!$G$3:$H$21,2,FALSE))","v":""},null,{"$f":"IF(E3149=\"\",\"\",VLOOKUP(E3149,PARAMETROS!$I$3:$J$21,2,FALSE))","v":""},null,null,null,null,null,null,""]
[null,{"$f":"IF(A3150=\"\",\"\",VLOOKUP(A3150,PARAMETROS!$B$3:$C$3,2,FALSE))","v":""},null,{"$f":"IF(C3150=\"\",\"\",VLOOKUP(C3150,PARAMETROS!$G$3:$H$21,2,FALSE))","v":""},null,{"$f":"IF(E3150=\"\",\"\",VLOOKUP(E3150,PARAMETROS!$I$3:$J$21,2,FALSE))","v":""},null,null,null,null,null,null,""]
[null,{"$f":"IF(A3151=\"\",\"\",VLOOKUP(A3151,PARAMETROS!$B$3:$C$3,2,FALSE))","v":""},null,{"$f":"IF(C3151=\"\",\"\",VLOOKUP(C3151,PARAMETROS!$G$3:$H$21,2,FALSE))","v":""},null,{"$f":"IF(E3151=\"\",\"\",VLOOKUP(E3151,PARAMETROS!$I$3:$J$21,2,FALSE))","v":""},null,null,null,null,null,null,{"$f":"IF(L3151=\"\", \"\", L3151)","v":""}]
[null,{"$f":"IF(A3152=\"\",\"\",VLOOKUP(A3152,PARAMETROS!$B$3:$C$3,2,FALSE))","v":""},null,{"$f":"IF(C3152=\"\",\"\",VLOOKUP(C3152,PARAMETROS!$G$3:$H$21,2,FALSE))","v":""},null,{"$f":"IF(E3152=\"\",\"\",VLOOKUP(E3152,PARAMETROS!$I$3:$J$21,2,FALSE))","v":""},null,null,null,null,null,null,""]
[null,{"$f":"IF(A3153=\"\",\"\",VLOOKUP(A3153,PARAMETROS!$B$3:$C$3,2,FALSE))","v":""},null,{"$f":"IF(C3153=\"\",\"\",VLOOKUP(C3153,PARAMETROS!$G$3:$H$21,2,FALSE))","v":""},null,{"$f":"IF(E3153=\"\",\"\",VLOOKUP(E3153,PARAMETROS!$I$3:$J$21,2,FALSE))","v":""},null,null,null,null,null,null,""]
[null,{"$f":"IF(A3154=\"\",\"\",VLOOKUP(A3154,PARAMETROS!$B$3:$C$3,2,FALSE))","v":""},null,{"$f":"IF(C3154=\"\",\"\",VLOOKUP(C3154,PARAMETROS!$G$3:$H$21,2,FALSE))","v":""},null,{"$f":"IF(E3154=\"\",\"\",VLOOKUP(E3154,PARAMETROS!$I$3:$J$21,2,FALSE))","v":""},null,null,null,null,null,null,""]
[null,{"$f":"IF(A3155=\"\",\"\",VLOOKUP(A3155,PARAMETROS!$B$3:$C$3,2,FALSE))","v":""},null,{"$f":"IF(C3155=\"\",\"\",VLOOKUP(C3155,PARAMETROS!$G$3:$H$21,2,FALSE))","v":""},null,{"$f":"IF(E3155=\"\",\"\",VLOOKUP(E3155,PARAMETROS!$I$3:$J$21,2,FALSE))","v":""},null,null,null,null,null,null,""]
[null,{"$f":"IF(A3156=\"\",\"\",VLOOKUP(A3156,PARAMETROS!$B$3:$C$3,2,FALSE))","v":""},null,{"$f":"IF(C3156=\"\",\"\",VLOOKUP(C3156,PARAMETROS!$G$3:$H$21,2,FALSE))","v":""},null,{"$f":"IF(E3156=\"\",\"\",VLOOKUP(E3156,PARAMETROS!$I$3:$J$21,2,FALSE))","v":""},null,null,null,null,null,null,""]
[null,{"$f":"IF(A3157=\"\",\"\",VLOOKUP(A3157,PARAMETROS!$B$3:$C$3,2,FALSE))","v":""},null,{"$f":"IF(C3157=\"\",\"\",VLOOKUP(C3157,PARAMETROS!$G$3:$H$21,2,FALSE))","v":""},null,{"$f":"IF(E3157=\"\",\"\",VLOOKUP(E3157,PARAMETROS!$I$3:$J$21,2,FALSE))","v":""},null,null,null,null,null,null,""]
[null,{"$f":"IF(A3158=\"\",\"\",VLOOKUP(A3158,PARAMETROS!$B$3:$C$3,2,FALSE))","v":""},null,{"$f":"IF(C3158=\"\",\"\",VLOOKUP(C3158,PARAMETROS!$G$3:$H$21,2,FALSE))","v":""},null,{"$f":"IF(E3158=\"\",\"\",VLOOKUP(E3158,PARAMETROS!$I$3:$J$21,2,FALSE))","v":""},null,null,null,null,null,null,""]
[null,{"$f":"IF(A3159=\"\",\"\",VLOOKUP(A3159,PARAMETROS!$B$3:$C$3,2,FALSE))","v":""},null,{"$f":"IF(C3159=\"\",\"\",VLOOKUP(C3159,PARAMETROS!$G$3:$H$21,2,FALSE))","v":""},null,{"$f":"IF(E3159=\"\",\"\",VLOOKUP(E3159,PARAMETROS!$I$3:$J$21,2,FALSE))","v":""},null,null,null,null,null,null,""]
[null,{"$f":"IF(A3160=\"\",\"\",VLOOKUP(A3160,PARAMETROS!$B$3:$C$3,2,FALSE))","v":""},null,{"$f":"IF(C3160=\"\",\"\",VLOOKUP(C3160,PARAMETROS!$G$3:$H$21,2,FALSE))","v":""},null,{"$f":"IF(E3160=\"\",\"\",VLOOKUP(E3160,PARAMETROS!$I$3:$J$21,2,FALSE))","v":""},null,null,null,null,null,null,""]
[null,{"$f":"IF(A3161=\"\",\"\",VLOOKUP(A3161,PARAMETROS!$B$3:$C$3,2,FALSE))","v":""},null,{"$f":"IF(C3161=\"\",\"\",VLOOKUP(C3161,PARAMETROS!$G$3:$H$21,2,FALSE))","v":""},null,{"$f":"IF(E3161=\"\",\"\",VLOOKUP(E3161,PARAMETROS!$I$3:$J$21,2,FALSE))","v":""},null,null,null,null,null,null,""]
[null,{"$f":"IF(A3162=\"\",\"\",VLOOKUP(A3162,PARAMETROS!$B$3:$C$3,2,FALSE))","v":""},null,{"$f":"IF(C3162=\"\",\"\",VLOOKUP(C3162,PARAMETROS!$G$3:$H$21,2,FALSE))","v":""},null,{"$f":"IF(E3162=\"\",\"\",VLOOKUP(E3162,PARAMETROS!$I$3:$J$21,2,FALSE))","v":""},null,null,null,null,null,null,""]
[null,{"$f":"IF(A3163=\"\",\"\",VLOOKUP(A3163,PARAMETROS!$B$3:$C$3,2,FALSE))","v":""},null,{"$f":"IF(C3163=\"\",\"\",VLOOKUP(C3163,PARAMETROS!$G$3:$H$21,2,FALSE))","v":""},null,{"$f":"IF(E3163=\"\",\"\",VLOOKUP(E3163,PARAMETROS!$I$3:$J$21,2,FALSE))","v":""},null,null,null,null,null,null,""]
[null,{"$f":"IF(A3164=\"\",\"\",VLOOKUP(A3164,PARAMETROS!$B$3:$C$3,2,FALSE))","v":""},null,{"$f":"IF(C3164=\"\",\"\",VLOOKUP(C3164,PARAMETROS!$G$3:$H$21,2,FALSE))","v":""},null,{"$f":"IF(E3164=\"\",\"\",VLOOKUP(E3164,PARAMETROS!$I$3:$J$21,2,FALSE))","v":""},null,null,null,null,null,null,""]
[null,{"$f":"IF(A3165=\"\",\"\",VLOOKUP(A3165,PARAMETROS!$B$3:$C$3,2,FALSE))","v":""},null,{"$f":"IF(C3165=\"\",\"\",VLOOKUP(C3165,PARAMETROS!$G$3:$H$21,2,FALSE))","v":""},null,{"$f":"IF(E3165=\"\",\"\",VLOOKUP(E3165,PARAMETROS!$I$3:$J$21,2,FALSE))","v":""},null,null,null,null,null,null,""]
[null,{"$f":"IF(A3166=\"\",\"\",VLOOKUP(A3166,PARAMETROS!$B$3:$C$3,2,FALSE))","v":""},null,{"$f":"IF(C3166=\"\",\"\",VLOOKUP(C3166,PARAMETROS!$G$3:$H$21,2,FALSE))","v":""},null,{"$f":"IF(E3166=\"\",\"\",VLOOKUP(E3166,PARAMETROS!$I$3:$J$21,2,FALSE))","v":""},null,null,null,null,null,null,""]
[null,{"$f":"IF(A3167=\"\",\"\",VLOOKUP(A3167,PARAMETROS!$B$3:$C$3,2,FALSE))","v":""},null,{"$f":"IF(C3167=\"\",\"\",VLOOKUP(C3167,PARAMETROS!$G$3:$H$21,2,FALSE))","v":""},null,{"$f":"IF(E3167=\"\",\"\",VLOOKUP(E3167,PARAMETROS!$I$3:$J$21,2,FALSE))","v":""},null,null,null,null,null,null,""]
[null,{"$f":"IF(A3168=\"\",\"\",VLOOKUP(A3168,PARAMETROS!$B$3:$C$3,2,FALSE))","v":""},null,{"$f":"IF(C3168=\"\",\"\",VLOOKUP(C3168,PARAMETROS!$G$3:$H$21,2,FALSE))","v":""},null,{"$f":"IF(E3168=\"\",\"\",VLOOKUP(E3168,PARAMETROS!$I$3:$J$21,2,FALSE))","v":""},null,null,null,null,null,null,""]
[null,{"$f":"IF(A3169=\"\",\"\",VLOOKUP(A3169,PARAMETROS!$B$3:$C$3,2,FALSE))","v":""},null,{"$f":"IF(C3169=\"\",\"\",VLOOKUP(C3169,PARAMETROS!$G$3:$H$21,2,FALSE))","v":""},null,{"$f":"IF(E3169=\"\",\"\",VLOOKUP(E3169,PARAMETROS!$I$3:$J$21,2,FALSE))","v":""},null,null,null,null,null,null,""]
[null,{"$f":"IF(A3170=\"\",\"\",VLOOKUP(A3170,PARAMETROS!$B$3:$C$3,2,FALSE))","v":""},null,{"$f":"IF(C3170=\"\",\"\",VLOOKUP(C3170,PARAMETROS!$G$3:$H$21,2,FALSE))","v":""},null,{"$f":"IF(E3170=\"\",\"\",VLOOKUP(E3170,PARAMETROS!$I$3:$J$21,2,FALSE))","v":""},null,null,null,null,null,null,""]
[null,{"$f":"IF(A3171=\"\",\"\",VLOOKUP(A3171,PARAMETROS!$B$3:$C$3,2,FALSE))","v":""},null,{"$f":"IF(C3171=\"\",\"\",VLOOKUP(C3171,PARAMETROS!$G$3:$H$21,2,FALSE))","v":""},null,{"$f":"IF(E3171=\"\",\"\",VLOOKUP(E3171,PARAMETROS!$I$3:$J$21,2,FALSE))","v":""},null,null,null,null,null,null,""]
[null,{"$f":"IF(A3172=\"\",\"\",VLOOKUP(A3172,PARAMETROS!$B$3:$C$3,2,FALSE))","v":""},null,{"$f":"IF(C3172=\"\",\"\",VLOOKUP(C3172,PARAMETROS!$G$3:$H$21,2,FALSE))","v":""},null,{"$f":"IF(E3172=\"\",\"\",VLOOKUP(E3172,PARAMETROS!$I$3:$J$21,2,FALSE))","v":""},null,null,null,null,null,null,""]
[null,{"$f":"IF(A3173=\"\",\"\",VLOOKUP(A3173,PARAMETROS!$B$3:$C$3,2,FALSE))","v":""},null,{"$f":"IF(C3173=\"\",\"\",VLOOKUP(C3173,PARAMETROS!$G$3:$H$21,2,FALSE))","v":""},null,{"$f":"IF(E3173=\"\",\"\",VLOOKUP(E3173,PARAMETROS!$I$3:$J$21,2,FALSE))","v":""},null,null,null,null,null,null,""]
[null,{"$f":"IF(A3174=\"\",\"\",VLOOKUP(A3174,PARAMETROS!$B$3:$C$3,2,FALSE))","v":""},null,{"$f":"IF(C3174=\"\",\"\",VLOOKUP(C3174,PARAMETROS!$G$3:$H$21,2,FALSE))","v":""},null,{"$f":"IF(E3174=\"\",\"\",VLOOKUP(E3174,PARAMETROS!$I$3:$J$21,2,FALSE))","v":""},null,null,null,null,null,null,""]
[null,{"$f":"IF(A3175=\"\",\"\",VLOOKUP(A3175,PARAMETROS!$B$3:$C$3,2,FALSE))","v":""},null,{"$f":"IF(C3175=\"\",\"\",VLOOKUP(C3175,PARAMETROS!$G$3:$H$21,2,FALSE))","v":""},null,{"$f":"IF(E3175=\"\",\"\",VLOOKUP(E3175,PARAMETROS!$I$3:$J$21,2,FALSE))","v":""},null,null,null,null,null,null,""]
[null,{"$f":"IF(A3176=\"\",\"\",VLOOKUP(A3176,PARAMETROS!$B$3:$C$3,2,FALSE))","v":""},null,{"$f":"IF(C3176=\"\",\"\",VLOOKUP(C3176,PARAMETROS!$G$3:$H$21,2,FALSE))","v":""},null,{"$f":"IF(E3176=\"\",\"\",VLOOKUP(E3176,PARAMETROS!$I$3:$J$21,2,FALSE))","v":""},null,null,null,null,null,null,""]
[null,{"$f":"IF(A3177=\"\",\"\",VLOOKUP(A3177,PARAMETROS!$B$3:$C$3,2,FALSE))","v":""},null,{"$f":"IF(C3177=\"\",\"\",VLOOKUP(C3177,PARAMETROS!$G$3:$H$21,2,FALSE))","v":""},null,{"$f":"IF(E3177=\"\",\"\",VLOOKUP(E3177,PARAMETROS!$I$3:$J$21,2,FALSE))","v":""},null,null,null,null,null,null,""]
[null,{"$f":"IF(A3178=\"\",\"\",VLOOKUP(A3178,PARAMETROS!$B$3:$C$3,2,FALSE))","v":""},null,{"$f":"IF(C3178=\"\",\"\",VLOOKUP(C3178,PARAMETROS!$G$3:$H$21,2,FALSE))","v":""},null,{"$f":"IF(E3178=\"\",\"\",VLOOKUP(E3178,PARAMETROS!$I$3:$J$21,2,FALSE))","v":""},null,null,null,null,null,null,""]
[null,{"$f":"IF(A3179=\"\",\"\",VLOOKUP(A3179,PARAMETROS!$B$3:$C$3,2,FALSE))","v":""},null,{"$f":"IF(C3179=\"\",\"\",VLOOKUP(C3179,PARAMETROS!$G$3:$H$21,2,FALSE))","v":""},null,{"$f":"IF(E3179=\"\",\"\",VLOOKUP(E3179,PARAMETROS!$I$3:$J$21,2,FALSE))","v":""},null,null,null,null,null,null,""]
[null,{"$f":"IF(A3180=\"\",\"\",VLOOKUP(A3180,PARAMETROS!$B$3:$C$3,2,FALSE))","v":""},null,{"$f":"IF(C3180=\"\",\"\",VLOOKUP(C3180,PARAMETROS!$G$3:$H$21,2,FALSE))","v":""},null,{"$f":"IF(E3180=\"\",\"\",VLOOKUP(E3180,PARAMETROS!$I$3:$J$21,2,FALSE))","v":""},null,null,null,null,null,null,""]
[null,{"$f":"IF(A3181=\"\",\"\",VLOOKUP(A3181,PARAMETROS!$B$3:$C$3,2,FALSE))","v":""},null,{"$f":"IF(C3181=\"\",\"\",VLOOKUP(C3181,PARAMETROS!$G$3:$H$21,2,FALSE))","v":""},null,{"$f":"IF(E3181=\"\",\"\",VLOOKUP(E3181,PARAMETROS!$I$3:$J$21,2,FALSE))","v":""},null,null,null,null,null,null,""]
[null,{"$f":"IF(A3182=\"\",\"\",VLOOKUP(A3182,PARAMETROS!$B$3:$C$3,2,FALSE))","v":""},null,{"$f":"IF(C3182=\"\",\"\",VLOOKUP(C3182,PARAMETROS!$G$3:$H$21,2,FALSE))","v":""},null,{"$f":"IF(E3182=\"\",\"\",VLOOKUP(E3182,PARAMETROS!$I$3:$J$21,2,FALSE))","v":""},null,null,null,null,null,null,""]
[null,{"$f":"IF(A3183=\"\",\"\",VLOOKUP(A3183,PARAMETROS!$B$3:$C$3,2,FALSE))","v":""},null,{"$f":"IF(C3183=\"\",\"\",VLOOKUP(C3183,PARAMETROS!$G$3:$H$21,2,FALSE))","v":""},null,{"$f":"IF(E3183=\"\",\"\",VLOOKUP(E3183,PARAMETROS!$I$3:$J$21,2,FALSE))","v":""},null,null,null,null,null,null,""]
[null,{"$f":"IF(A3184=\"\",\"\",VLOOKUP(A3184,PARAMETROS!$B$3:$C$3,2,FALSE))","v":""},null,{"$f":"IF(C3184=\"\",\"\",VLOOKUP(C3184,PARAMETROS!$G$3:$H$21,2,FALSE))","v":""},null,{"$f":"IF(E3184=\"\",\"\",VLOOKUP(E3184,PARAMETROS!$I$3:$J$21,2,FALSE))","v":""},null,null,null,null,null,null,""]
[null,{"$f":"IF(A3185=\"\",\"\",VLOOKUP(A3185,PARAMETROS!$B$3:$C$3,2,FALSE))","v":""},null,{"$f":"IF(C3185=\"\",\"\",VLOOKUP(C3185,PARAMETROS!$G$3:$H$21,2,FALSE))","v":""},null,{"$f":"IF(E3185=\"\",\"\",VLOOKUP(E3185,PARAMETROS!$I$3:$J$21,2,FALSE))","v":""},null,null,null,null,null,null,""]
[null,{"$f":"IF(A3186=\"\",\"\",VLOOKUP(A3186,PARAMETROS!$B$3:$C$3,2,FALSE))","v":""},null,{"$f":"IF(C3186=\"\",\"\",VLOOKUP(C3186,PARAMETROS!$G$3:$H$21,2,FALSE))","v":""},null,{"$f":"IF(E3186=\"\",\"\",VLOOKUP(E3186,PARAMETROS!$I$3:$J$21,2,FALSE))","v":""},null,null,null,null,null,null,""]
[null,{"$f":"IF(A3187=\"\",\"\",VLOOKUP(A3187,PARAMETROS!$B$3:$C$3,2,FALSE))","v":""},null,{"$f":"IF(C3187=\"\",\"\",VLOOKUP(C3187,PARAMETROS!$G$3:$H$21,2,FALSE))","v":""},null,{"$f":"IF(E3187=\"\",\"\",VLOOKUP(E3187,PARAMETROS!$I$3:$J$21,2,FALSE))","v":""},null,null,null,null,null,null,""]
[null,{"$f":"IF(A3188=\"\",\"\",VLOOKUP(A3188,PARAMETROS!$B$3:$C$3,2,FALSE))","v":""},null,{"$f":"IF(C3188=\"\",\"\",VLOOKUP(C3188,PARAMETROS!$G$3:$H$21,2,FALSE))","v":""},null,{"$f":"IF(E3188=\"\",\"\",VLOOKUP(E3188,PARAMETROS!$I$3:$J$21,2,FALSE))","v":""},null,null,null,null,null,null,""]
[null,{"$f":"IF(A3189=\"\",\"\",VLOOKUP(A3189,PARAMETROS!$B$3:$C$3,2,FALSE))","v":""},null,{"$f":"IF(C3189=\"\",\"\",VLOOKUP(C3189,PARAMETROS!$G$3:$H$21,2,FALSE))","v":""},null,{"$f":"IF(E3189=\"\",\"\",VLOOKUP(E3189,PARAMETROS!$I$3:$J$21,2,FALSE))","v":""},null,null,null,null,null,null,""]
[null,{"$f":"IF(A3190=\"\",\"\",VLOOKUP(A3190,PARAMETROS!$B$3:$C$3,2,FALSE))","v":""},null,{"$f":"IF(C3190=\"\",\"\",VLOOKUP(C3190,PARAMETROS!$G$3:$H$21,2,FALSE))","v":""},null,{"$f":"IF(E3190=\"\",\"\",VLOOKUP(E3190,PARAMETROS!$I$3:$J$21,2,FALSE))","v":""},null,null,null,null,null,null,""]
[null,{"$f":"IF(A3191=\"\",\"\",VLOOKUP(A3191,PARAMETROS!$B$3:$C$3,2,FALSE))","v":""},null,{"$f":"IF(C3191=\"\",\"\",VLOOKUP(C3191,PARAMETROS!$G$3:$H$21,2,FALSE))","v":""},null,{"$f":"IF(E3191=\"\",\"\",VLOOKUP(E3191,PARAMETROS!$I$3:$J$21,2,FALSE))","v":""},null,null,null,null,null,null,""]
[null,{"$f":"IF(A3192=\"\",\"\",VLOOKUP(A3192,PARAMETROS!$B$3:$C$3,2,FALSE))","v":""},null,{"$f":"IF(C3192=\"\",\"\",VLOOKUP(C3192,PARAMETROS!$G$3:$H$21,2,FALSE))","v":""},null,{"$f":"IF(E3192=\"\",\"\",VLOOKUP(E3192,PARAMETROS!$I$3:$J$21,2,FALSE))","v":""},null,null,null,null,null,null,""]
[null,{"$f":"IF(A3193=\"\",\"\",VLOOKUP(A3193,PARAMETROS!$B$3:$C$3,2,FALSE))","v":""},null,{"$f":"IF(C3193=\"\",\"\",VLOOKUP(C3193,PARAMETROS!$G$3:$H$21,2,FALSE))","v":""},null,{"$f":"IF(E3193=\"\",\"\",VLOOKUP(E3193,PARAMETROS!$I$3:$J$21,2,FALSE))","v":""},null,null,null,null,null,null,""]
[null,{"$f":"IF(A3194=\"\",\"\",VLOOKUP(A3194,PARAMETROS!$B$3:$C$3,2,FALSE))","v":""},null,{"$f":"IF(C3194=\"\",\"\",VLOOKUP(C3194,PARAMETROS!$G$3:$H$21,2,FALSE))","v":""},null,{"$f":"IF(E3194=\"\",\"\",VLOOKUP(E3194,PARAMETROS!$I$3:$J$21,2,FALSE))","v":""},null,null,null,null,null,null,""]
[null,{"$f":"IF(A3195=\"\",\"\",VLOOKUP(A3195,PARAMETROS!$B$3:$C$3,2,FALSE))","v":""},null,{"$f":"IF(C3195=\"\",\"\",VLOOKUP(C3195,PARAMETROS!$G$3:$H$21,2,FALSE))","v":""},null,{"$f":"IF(E3195=\"\",\"\",VLOOKUP(E3195,PARAMETROS!$I$3:$J$21,2,FALSE))","v":""},null,null,null,null,null,null,""]
[null,{"$f":"IF(A3196=\"\",\"\",VLOOKUP(A3196,PARAMETROS!$B$3:$C$3,2,FALSE))","v":""},null,{"$f":"IF(C3196=\"\",\"\",VLOOKUP(C3196,PARAMETROS!$G$3:$H$21,2,FALSE))","v":""},null,{"$f":"IF(E3196=\"\",\"\",VLOOKUP(E3196,PARAMETROS!$I$3:$J$21,2,FALSE))","v":""},null,null,null,null,null,null,""]
[null,{"$f":"IF(A3197=\"\",\"\",VLOOKUP(A3197,PARAMETROS!$B$3:$C$3,2,FALSE))","v":""},null,{"$f":"IF(C3197=\"\",\"\",VLOOKUP(C3197,PARAMETROS!$G$3:$H$21,2,FALSE))","v":""},null,{"$f":"IF(E3197=\"\",\"\",VLOOKUP(E3197,PARAMETROS!$I$3:$J$21,2,FALSE))","v":""},null,null,null,null,null,null,""]
[null,{"$f":"IF(A3198=\"\",\"\",VLOOKUP(A3198,PARAMETROS!$B$3:$C$3,2,FALSE))","v":""},null,{"$f":"IF(C3198=\"\",\"\",VLOOKUP(C3198,PARAMETROS!$G$3:$H$21,2,FALSE))","v":""},null,{"$f":"IF(E3198=\"\",\"\",VLOOKUP(E3198,PARAMETROS!$I$3:$J$21,2,FALSE))","v":""},null,null,null,null,null,null,""]
[null,{"$f":"IF(A3199=\"\",\"\",VLOOKUP(A3199,PARAMETROS!$B$3:$C$3,2,FALSE))","v":""},null,{"$f":"IF(C3199=\"\",\"\",VLOOKUP(C3199,PARAMETROS!$G$3:$H$21,2,FALSE))","v":""},null,{"$f":"IF(E3199=\"\",\"\",VLOOKUP(E3199,PARAMETROS!$I$3:$J$21,2,FALSE))","v":""},null,null,null,null,null,null,""]
[null,{"$f":"IF(A3200=\"\",\"\",VLOOKUP(A3200,PARAMETROS!$B$3:$C$3,2,FALSE))","v":""},null,{"$f":"IF(C3200=\"\",\"\",VLOOKUP(C3200,PARAMETROS!$G$3:$H$21,2,FALSE))","v":""},null,{"$f":"IF(E3200=\"\",\"\",VLOOKUP(E3200,PARAMETROS!$I$3:$J$21,2,FALSE))","v":""},null,null,null,null,null,null,""]
[null,{"$f":"IF(A3201=\"\",\"\",VLOOKUP(A3201,PARAMETROS!$B$3:$C$3,2,FALSE))","v":""},null,{"$f":"IF(C3201=\"\",\"\",VLOOKUP(C3201,PARAMETROS!$G$3:$H$21,2,FALSE))","v":""},null,{"$f":"IF(E3201=\"\",\"\",VLOOKUP(E3201,PARAMETROS!$I$3:$J$21,2,FALSE))","v":""},null,null,null,null,null,null,""]
[null,{"$f":"IF(A3202=\"\",\"\",VLOOKUP(A3202,PARAMETROS!$B$3:$C$3,2,FALSE))","v":""},null,{"$f":"IF(C3202=\"\",\"\",VLOOKUP(C3202,PARAMETROS!$G$3:$H$21,2,FALSE))","v":""},null,{"$f":"IF(E3202=\"\",\"\",VLOOKUP(E3202,PARAMETROS!$I$3:$J$21,2,FALSE))","v":""},null,null,null,null,null,null,""]
[null,{"$f":"IF(A3203=\"\",\"\",VLOOKUP(A3203,PARAMETROS!$B$3:$C$3,2,FALSE))","v":""},null,{"$f":"IF(C3203=\"\",\"\",VLOOKUP(C3203,PARAMETROS!$G$3:$H$21,2,FALSE))","v":""},null,{"$f":"IF(E3203=\"\",\"\",VLOOKUP(E3203,PARAMETROS!$I$3:$J$21,2,FALSE))","v":""},null,null,null,null,null,null,""]
[null,{"$f":"IF(A3204=\"\",\"\",VLOOKUP(A3204,PARAMETROS!$B$3:$C$3,2,FALSE))","v":""},null,{"$f":"IF(C3204=\"\",\"\",VLOOKUP(C3204,PARAMETROS!$G$3:$H$21,2,FALSE))","v":""},null,{"$f":"IF(E3204=\"\",\"\",VLOOKUP(E3204,PARAMETROS!$I$3:$J$21,2,FALSE))","v":""},null,null,null,null,null,null,""]
[null,{"$f":"IF(A3205=\"\",\"\",VLOOKUP(A3205,PARAMETROS!$B$3:$C$3,2,FALSE))","v":""},null,{"$f":"IF(C3205=\"\",\"\",VLOOKUP(C3205,PARAMETROS!$G$3:$H$21,2,FALSE))","v":""},null,{"$f":"IF(E3205=\"\",\"\",VLOOKUP(E3205,PARAMETROS!$I$3:$J$21,2,FALSE))","v":""},null,null,null,null,null,null,""]
[null,{"$f":"IF(A3206=\"\",\"\",VLOOKUP(A3206,PARAMETROS!$B$3:$C$3,2,FALSE))","v":""},null,{"$f":"IF(C3206=\"\",\"\",VLOOKUP(C3206,PARAMETROS!$G$3:$H$21,2,FALSE))","v":""},null,{"$f":"IF(E3206=\"\",\"\",VLOOKUP(E3206,PARAMETROS!$I$3:$J$21,2,FALSE))","v":""},null,null,null,null,null,null,""]
[null,{"$f":"IF(A3207=\"\",\"\",VLOOKUP(A3207,PARAMETROS!$B$3:$C$3,2,FALSE))","v":""},null,{"$f":"IF(C3207=\"\",\"\",VLOOKUP(C3207,PARAMETROS!$G$3:$H$21,2,FALSE))","v":""},null,{"$f":"IF(E3207=\"\",\"\",VLOOKUP(E3207,PARAMETROS!$I$3:$J$21,2,FALSE))","v":""},null,null,null,null,null,null,""]
[null,{"$f":"IF(A3208=\"\",\"\",VLOOKUP(A3208,PARAMETROS!$B$3:$C$3,2,FALSE))","v":""},null,{"$f":"IF(C3208=\"\",\"\",VLOOKUP(C3208,PARAMETROS!$G$3:$H$21,2,FALSE))","v":""},null,{"$f":"IF(E3208=\"\",\"\",VLOOKUP(E3208,PARAMETROS!$I$3:$J$21,2,FALSE))","v":""},null,null,null,null,null,null,""]
[null,{"$f":"IF(A3209=\"\",\"\",VLOOKUP(A3209,PARAMETROS!$B$3:$C$3,2,FALSE))","v":""},null,{"$f":"IF(C3209=\"\",\"\",VLOOKUP(C3209,PARAMETROS!$G$3:$H$21,2,FALSE))","v":""},null,{"$f":"IF(E3209=\"\",\"\",VLOOKUP(E3209,PARAMETROS!$I$3:$J$21,2,FALSE))","v":""},null,null,null,null,null,null,""]
[null,{"$f":"IF(A3210=\"\",\"\",VLOOKUP(A3210,PARAMETROS!$B$3:$C$3,2,FALSE))","v":""},null,{"$f":"IF(C3210=\"\",\"\",VLOOKUP(C3210,PARAMETROS!$G$3:$H$21,2,FALSE))","v":""},null,{"$f":"IF(E3210=\"\",\"\",VLOOKUP(E3210,PARAMETROS!$I$3:$J$21,2,FALSE))","v":""},null,null,null,null,null,null,""]
[null,{"$f":"IF(A3211=\"\",\"\",VLOOKUP(A3211,PARAMETROS!$B$3:$C$3,2,FALSE))","v":""},null,{"$f":"IF(C3211=\"\",\"\",VLOOKUP(C3211,PARAMETROS!$G$3:$H$21,2,FALSE))","v":""},null,{"$f":"IF(E3211=\"\",\"\",VLOOKUP(E3211,PARAMETROS!$I$3:$J$21,2,FALSE))","v":""},null,null,null,null,null,null,""]
[null,{"$f":"IF(A3212=\"\",\"\",VLOOKUP(A3212,PARAMETROS!$B$3:$C$3,2,FALSE))","v":""},null,{"$f":"IF(C3212=\"\",\"\",VLOOKUP(C3212,PARAMETROS!$G$3:$H$21,2,FALSE))","v":""},null,{"$f":"IF(E3212=\"\",\"\",VLOOKUP(E3212,PARAMETROS!$I$3:$J$21,2,FALSE))","v":""},null,null,null,null,null,null,""]
[null,{"$f":"IF(A3213=\"\",\"\",VLOOKUP(A3213,PARAMETROS!$B$3:$C$3,2,FALSE))","v":""},null,{"$f":"IF(C3213=\"\",\"\",VLOOKUP(C3213,PARAMETROS!$G$3:$H$21,2,FALSE))","v":""},null,{"$f":"IF(E3213=\"\",\"\",VLOOKUP(E3213,PARAMETROS!$I$3:$J$21,2,FALSE))","v":""},null,null,null,null,null,null,""]
[null,{"$f":"IF(A3214=\"\",\"\",VLOOKUP(A3214,PARAMETROS!$B$3:$C$3,2,FALSE))","v":""},null,{"$f":"IF(C3214=\"\",\"\",VLOOKUP(C3214,PARAMETROS!$G$3:$H$21,2,FALSE))","v":""},null,{"$f":"IF(E3214=\"\",\"\",VLOOKUP(E3214,PARAMETROS!$I$3:$J$21,2,FALSE))","v":""},null,null,null,null,null,null,""]
[null,{"$f":"IF(A3215=\"\",\"\",VLOOKUP(A3215,PARAMETROS!$B$3:$C$3,2,FALSE))","v":""},null,{"$f":"IF(C3215=\"\",\"\",VLOOKUP(C3215,PARAMETROS!$G$3:$H$21,2,FALSE))","v":""},null,{"$f":"IF(E3215=\"\",\"\",VLOOKUP(E3215,PARAMETROS!$I$3:$J$21,2,FALSE))","v":""},null,null,null,null,null,null,{"$f":"IF(L3215=\"\", \"\", L3215)","v":""}]
[null,{"$f":"IF(A3216=\"\",\"\",VLOOKUP(A3216,PARAMETROS!$B$3:$C$3,2,FALSE))","v":""},null,{"$f":"IF(C3216=\"\",\"\",VLOOKUP(C3216,PARAMETROS!$G$3:$H$21,2,FALSE))","v":""},null,{"$f":"IF(E3216=\"\",\"\",VLOOKUP(E3216,PARAMETROS!$I$3:$J$21,2,FALSE))","v":""},null,null,null,null,null,null,""]
[null,{"$f":"IF(A3217=\"\",\"\",VLOOKUP(A3217,PARAMETROS!$B$3:$C$3,2,FALSE))","v":""},null,{"$f":"IF(C3217=\"\",\"\",VLOOKUP(C3217,PARAMETROS!$G$3:$H$21,2,FALSE))","v":""},null,{"$f":"IF(E3217=\"\",\"\",VLOOKUP(E3217,PARAMETROS!$I$3:$J$21,2,FALSE))","v":""},null,null,null,null,null,null,""]
[null,{"$f":"IF(A3218=\"\",\"\",VLOOKUP(A3218,PARAMETROS!$B$3:$C$3,2,FALSE))","v":""},null,{"$f":"IF(C3218=\"\",\"\",VLOOKUP(C3218,PARAMETROS!$G$3:$H$21,2,FALSE))","v":""},null,{"$f":"IF(E3218=\"\",\"\",VLOOKUP(E3218,PARAMETROS!$I$3:$J$21,2,FALSE))","v":""},null,null,null,null,null,null,""]
[null,{"$f":"IF(A3219=\"\",\"\",VLOOKUP(A3219,PARAMETROS!$B$3:$C$3,2,FALSE))","v":""},null,{"$f":"IF(C3219=\"\",\"\",VLOOKUP(C3219,PARAMETROS!$G$3:$H$21,2,FALSE))","v":""},null,{"$f":"IF(E3219=\"\",\"\",VLOOKUP(E3219,PARAMETROS!$I$3:$J$21,2,FALSE))","v":""},null,null,null,null,null,null,""]
[null,{"$f":"IF(A3220=\"\",\"\",VLOOKUP(A3220,PARAMETROS!$B$3:$C$3,2,FALSE))","v":""},null,{"$f":"IF(C3220=\"\",\"\",VLOOKUP(C3220,PARAMETROS!$G$3:$H$21,2,FALSE))","v":""},null,{"$f":"IF(E3220=\"\",\"\",VLOOKUP(E3220,PARAMETROS!$I$3:$J$21,2,FALSE))","v":""},null,null,null,null,null,null,""]
[null,{"$f":"IF(A3221=\"\",\"\",VLOOKUP(A3221,PARAMETROS!$B$3:$C$3,2,FALSE))","v":""},null,{"$f":"IF(C3221=\"\",\"\",VLOOKUP(C3221,PARAMETROS!$G$3:$H$21,2,FALSE))","v":""},null,{"$f":"IF(E3221=\"\",\"\",VLOOKUP(E3221,PARAMETROS!$I$3:$J$21,2,FALSE))","v":""},null,null,null,null,null,null,""]
[null,{"$f":"IF(A3222=\"\",\"\",VLOOKUP(A3222,PARAMETROS!$B$3:$C$3,2,FALSE))","v":""},null,{"$f":"IF(C3222=\"\",\"\",VLOOKUP(C3222,PARAMETROS!$G$3:$H$21,2,FALSE))","v":""},null,{"$f":"IF(E3222=\"\",\"\",VLOOKUP(E3222,PARAMETROS!$I$3:$J$21,2,FALSE))","v":""},null,null,null,null,null,null,""]
[null,{"$f":"IF(A3223=\"\",\"\",VLOOKUP(A3223,PARAMETROS!$B$3:$C$3,2,FALSE))","v":""},null,{"$f":"IF(C3223=\"\",\"\",VLOOKUP(C3223,PARAMETROS!$G$3:$H$21,2,FALSE))","v":""},null,{"$f":"IF(E3223=\"\",\"\",VLOOKUP(E3223,PARAMETROS!$I$3:$J$21,2,FALSE))","v":""},null,null,null,null,null,null,""]
[null,{"$f":"IF(A3224=\"\",\"\",VLOOKUP(A3224,PARAMETROS!$B$3:$C$3,2,FALSE))","v":""},null,{"$f":"IF(C3224=\"\",\"\",VLOOKUP(C3224,PARAMETROS!$G$3:$H$21,2,FALSE))","v":""},null,{"$f":"IF(E3224=\"\",\"\",VLOOKUP(E3224,PARAMETROS!$I$3:$J$21,2,FALSE))","v":""},null,null,null,null,null,null,""]
[null,{"$f":"IF(A3225=\"\",\"\",VLOOKUP(A3225,PARAMETROS!$B$3:$C$3,2,FALSE))","v":""},null,{"$f":"IF(C3225=\"\",\"\",VLOOKUP(C3225,PARAMETROS!$G$3:$H$21,2,FALSE))","v":""},null,{"$f":"IF(E3225=\"\",\"\",VLOOKUP(E3225,PARAMETROS!$I$3:$J$21,2,FALSE))","v":""},null,null,null,null,null,null,""]
[null,{"$f":"IF(A3226=\"\",\"\",VLOOKUP(A3226,PARAMETROS!$B$3:$C$3,2,FALSE))","v":""},null,{"$f":"IF(C3226=\"\",\"\",VLOOKUP(C3226,PARAMETROS!$G$3:$H$21,2,FALSE))","v":""},null,{"$f":"IF(E3226=\"\",\"\",VLOOKUP(E3226,PARAMETROS!$I$3:$J$21,2,FALSE))","v":""},null,null,null,null,null,null,""]
[null,{"$f":"IF(A3227=\"\",\"\",VLOOKUP(A3227,PARAMETROS!$B$3:$C$3,2,FALSE))","v":""},null,{"$f":"IF(C3227=\"\",\"\",VLOOKUP(C3227,PARAMETROS!$G$3:$H$21,2,FALSE))","v":""},null,{"$f":"IF(E3227=\"\",\"\",VLOOKUP(E3227,PARAMETROS!$I$3:$J$21,2,FALSE))","v":""},null,null,null,null,null,null,""]
[null,{"$f":"IF(A3228=\"\",\"\",VLOOKUP(A3228,PARAMETROS!$B$3:$C$3,2,FALSE))","v":""},null,{"$f":"IF(C3228=\"\",\"\",VLOOKUP(C3228,PARAMETROS!$G$3:$H$21,2,FALSE))","v":""},null,{"$f":"IF(E3228=\"\",\"\",VLOOKUP(E3228,PARAMETROS!$I$3:$J$21,2,FALSE))","v":""},null,null,null,null,null,null,""]
[null,{"$f":"IF(A3229=\"\",\"\",VLOOKUP(A3229,PARAMETROS!$B$3:$C$3,2,FALSE))","v":""},null,{"$f":"IF(C3229=\"\",\"\",VLOOKUP(C3229,PARAMETROS!$G$3:$H$21,2,FALSE))","v":""},null,{"$f":"IF(E3229=\"\",\"\",VLOOKUP(E3229,PARAMETROS!$I$3:$J$21,2,FALSE))","v":""},null,null,null,null,null,null,""]
[null,{"$f":"IF(A3230=\"\",\"\",VLOOKUP(A3230,PARAMETROS!$B$3:$C$3,2,FALSE))","v":""},null,{"$f":"IF(C3230=\"\",\"\",VLOOKUP(C3230,PARAMETROS!$G$3:$H$21,2,FALSE))","v":""},null,{"$f":"IF(E3230=\"\",\"\",VLOOKUP(E3230,PARAMETROS!$I$3:$J$21,2,FALSE))","v":""},null,null,null,null,null,null,""]
[null,{"$f":"IF(A3231=\"\",\"\",VLOOKUP(A3231,PARAMETROS!$B$3:$C$3,2,FALSE))","v":""},null,{"$f":"IF(C3231=\"\",\"\",VLOOKUP(C3231,PARAMETROS!$G$3:$H$21,2,FALSE))","v":""},null,{"$f":"IF(E3231=\"\",\"\",VLOOKUP(E3231,PARAMETROS!$I$3:$J$21,2,FALSE))","v":""},null,null,null,null,null,null,""]
[null,{"$f":"IF(A3232=\"\",\"\",VLOOKUP(A3232,PARAMETROS!$B$3:$C$3,2,FALSE))","v":""},null,{"$f":"IF(C3232=\"\",\"\",VLOOKUP(C3232,PARAMETROS!$G$3:$H$21,2,FALSE))","v":""},null,{"$f":"IF(E3232=\"\",\"\",VLOOKUP(E3232,PARAMETROS!$I$3:$J$21,2,FALSE))","v":""},null,null,null,null,null,null,""]
[null,{"$f":"IF(A3233=\"\",\"\",VLOOKUP(A3233,PARAMETROS!$B$3:$C$3,2,FALSE))","v":""},null,{"$f":"IF(C3233=\"\",\"\",VLOOKUP(C3233,PARAMETROS!$G$3:$H$21,2,FALSE))","v":""},null,{"$f":"IF(E3233=\"\",\"\",VLOOKUP(E3233,PARAMETROS!$I$3:$J$21,2,FALSE))","v":""},null,null,null,null,null,null,""]
[null,{"$f":"IF(A3234=\"\",\"\",VLOOKUP(A3234,PARAMETROS!$B$3:$C$3,2,FALSE))","v":""},null,{"$f":"IF(C3234=\"\",\"\",VLOOKUP(C3234,PARAMETROS!$G$3:$H$21,2,FALSE))","v":""},null,{"$f":"IF(E3234=\"\",\"\",VLOOKUP(E3234,PARAMETROS!$I$3:$J$21,2,FALSE))","v":""},null,null,null,null,null,null,""]
[null,{"$f":"IF(A3235=\"\",\"\",VLOOKUP(A3235,PARAMETROS!$B$3:$C$3,2,FALSE))","v":""},null,{"$f":"IF(C3235=\"\",\"\",VLOOKUP(C3235,PARAMETROS!$G$3:$H$21,2,FALSE))","v":""},null,{"$f":"IF(E3235=\"\",\"\",VLOOKUP(E3235,PARAMETROS!$I$3:$J$21,2,FALSE))","v":""},null,null,null,null,null,null,""]
[null,{"$f":"IF(A3236=\"\",\"\",VLOOKUP(A3236,PARAMETROS!$B$3:$C$3,2,FALSE))","v":""},null,{"$f":"IF(C3236=\"\",\"\",VLOOKUP(C3236,PARAMETROS!$G$3:$H$21,2,FALSE))","v":""},null,{"$f":"IF(E3236=\"\",\"\",VLOOKUP(E3236,PARAMETROS!$I$3:$J$21,2,FALSE))","v":""},null,null,null,null,null,null,""]
[null,{"$f":"IF(A3237=\"\",\"\",VLOOKUP(A3237,PARAMETROS!$B$3:$C$3,2,FALSE))","v":""},null,{"$f":"IF(C3237=\"\",\"\",VLOOKUP(C3237,PARAMETROS!$G$3:$H$21,2,FALSE))","v":""},null,{"$f":"IF(E3237=\"\",\"\",VLOOKUP(E3237,PARAMETROS!$I$3:$J$21,2,FALSE))","v":""},null,null,null,null,null,null,""]
[null,{"$f":"IF(A3238=\"\",\"\",VLOOKUP(A3238,PARAMETROS!$B$3:$C$3,2,FALSE))","v":""},null,{"$f":"IF(C3238=\"\",\"\",VLOOKUP(C3238,PARAMETROS!$G$3:$H$21,2,FALSE))","v":""},null,{"$f":"IF(E3238=\"\",\"\",VLOOKUP(E3238,PARAMETROS!$I$3:$J$21,2,FALSE))","v":""},null,null,null,null,null,null,""]
[null,{"$f":"IF(A3239=\"\",\"\",VLOOKUP(A3239,PARAMETROS!$B$3:$C$3,2,FALSE))","v":""},null,{"$f":"IF(C3239=\"\",\"\",VLOOKUP(C3239,PARAMETROS!$G$3:$H$21,2,FALSE))","v":""},null,{"$f":"IF(E3239=\"\",\"\",VLOOKUP(E3239,PARAMETROS!$I$3:$J$21,2,FALSE))","v":""},null,null,null,null,null,null,""]
[null,{"$f":"IF(A3240=\"\",\"\",VLOOKUP(A3240,PARAMETROS!$B$3:$C$3,2,FALSE))","v":""},null,{"$f":"IF(C3240=\"\",\"\",VLOOKUP(C3240,PARAMETROS!$G$3:$H$21,2,FALSE))","v":""},null,{"$f":"IF(E3240=\"\",\"\",VLOOKUP(E3240,PARAMETROS!$I$3:$J$21,2,FALSE))","v":""},null,null,null,null,null,null,""]
[null,{"$f":"IF(A3241=\"\",\"\",VLOOKUP(A3241,PARAMETROS!$B$3:$C$3,2,FALSE))","v":""},null,{"$f":"IF(C3241=\"\",\"\",VLOOKUP(C3241,PARAMETROS!$G$3:$H$21,2,FALSE))","v":""},null,{"$f":"IF(E3241=\"\",\"\",VLOOKUP(E3241,PARAMETROS!$I$3:$J$21,2,FALSE))","v":""},null,null,null,null,null,null,""]
[null,{"$f":"IF(A3242=\"\",\"\",VLOOKUP(A3242,PARAMETROS!$B$3:$C$3,2,FALSE))","v":""},null,{"$f":"IF(C3242=\"\",\"\",VLOOKUP(C3242,PARAMETROS!$G$3:$H$21,2,FALSE))","v":""},null,{"$f":"IF(E3242=\"\",\"\",VLOOKUP(E3242,PARAMETROS!$I$3:$J$21,2,FALSE))","v":""},null,null,null,null,null,null,""]
[null,{"$f":"IF(A3243=\"\",\"\",VLOOKUP(A3243,PARAMETROS!$B$3:$C$3,2,FALSE))","v":""},null,{"$f":"IF(C3243=\"\",\"\",VLOOKUP(C3243,PARAMETROS!$G$3:$H$21,2,FALSE))","v":""},null,{"$f":"IF(E3243=\"\",\"\",VLOOKUP(E3243,PARAMETROS!$I$3:$J$21,2,FALSE))","v":""},null,null,null,null,null,null,""]
[null,{"$f":"IF(A3244=\"\",\"\",VLOOKUP(A3244,PARAMETROS!$B$3:$C$3,2,FALSE))","v":""},null,{"$f":"IF(C3244=\"\",\"\",VLOOKUP(C3244,PARAMETROS!$G$3:$H$21,2,FALSE))","v":""},null,{"$f":"IF(E3244=\"\",\"\",VLOOKUP(E3244,PARAMETROS!$I$3:$J$21,2,FALSE))","v":""},null,null,null,null,null,null,""]
[null,{"$f":"IF(A3245=\"\",\"\",VLOOKUP(A3245,PARAMETROS!$B$3:$C$3,2,FALSE))","v":""},null,{"$f":"IF(C3245=\"\",\"\",VLOOKUP(C3245,PARAMETROS!$G$3:$H$21,2,FALSE))","v":""},null,{"$f":"IF(E3245=\"\",\"\",VLOOKUP(E3245,PARAMETROS!$I$3:$J$21,2,FALSE))","v":""},null,null,null,null,null,null,""]
[null,{"$f":"IF(A3246=\"\",\"\",VLOOKUP(A3246,PARAMETROS!$B$3:$C$3,2,FALSE))","v":""},null,{"$f":"IF(C3246=\"\",\"\",VLOOKUP(C3246,PARAMETROS!$G$3:$H$21,2,FALSE))","v":""},null,{"$f":"IF(E3246=\"\",\"\",VLOOKUP(E3246,PARAMETROS!$I$3:$J$21,2,FALSE))","v":""},null,null,null,null,null,null,""]
[null,{"$f":"IF(A3247=\"\",\"\",VLOOKUP(A3247,PARAMETROS!$B$3:$C$3,2,FALSE))","v":""},null,{"$f":"IF(C3247=\"\",\"\",VLOOKUP(C3247,PARAMETROS!$G$3:$H$21,2,FALSE))","v":""},null,{"$f":"IF(E3247=\"\",\"\",VLOOKUP(E3247,PARAMETROS!$I$3:$J$21,2,FALSE))","v":""},null,null,null,null,null,null,""]
[null,{"$f":"IF(A3248=\"\",\"\",VLOOKUP(A3248,PARAMETROS!$B$3:$C$3,2,FALSE))","v":""},null,{"$f":"IF(C3248=\"\",\"\",VLOOKUP(C3248,PARAMETROS!$G$3:$H$21,2,FALSE))","v":""},null,{"$f":"IF(E3248=\"\",\"\",VLOOKUP(E3248,PARAMETROS!$I$3:$J$21,2,FALSE))","v":""},null,null,null,null,null,null,""]
[null,{"$f":"IF(A3249=\"\",\"\",VLOOKUP(A3249,PARAMETROS!$B$3:$C$3,2,FALSE))","v":""},null,{"$f":"IF(C3249=\"\",\"\",VLOOKUP(C3249,PARAMETROS!$G$3:$H$21,2,FALSE))","v":""},null,{"$f":"IF(E3249=\"\",\"\",VLOOKUP(E3249,PARAMETROS!$I$3:$J$21,2,FALSE))","v":""},null,null,null,null,null,null,""]
[null,{"$f":"IF(A3250=\"\",\"\",VLOOKUP(A3250,PARAMETROS!$B$3:$C$3,2,FALSE))","v":""},null,{"$f":"IF(C3250=\"\",\"\",VLOOKUP(C3250,PARAMETROS!$G$3:$H$21,2,FALSE))","v":""},null,{"$f":"IF(E3250=\"\",\"\",VLOOKUP(E3250,PARAMETROS!$I$3:$J$21,2,FALSE))","v":""},null,null,null,null,null,null,""]
[null,{"$f":"IF(A3251=\"\",\"\",VLOOKUP(A3251,PARAMETROS!$B$3:$C$3,2,FALSE))","v":""},null,{"$f":"IF(C3251=\"\",\"\",VLOOKUP(C3251,PARAMETROS!$G$3:$H$21,2,FALSE))","v":""},null,{"$f":"IF(E3251=\"\",\"\",VLOOKUP(E3251,PARAMETROS!$I$3:$J$21,2,FALSE))","v":""},null,null,null,null,null,null,""]
[null,{"$f":"IF(A3252=\"\",\"\",VLOOKUP(A3252,PARAMETROS!$B$3:$C$3,2,FALSE))","v":""},null,{"$f":"IF(C3252=\"\",\"\",VLOOKUP(C3252,PARAMETROS!$G$3:$H$21,2,FALSE))","v":""},null,{"$f":"IF(E3252=\"\",\"\",VLOOKUP(E3252,PARAMETROS!$I$3:$J$21,2,FALSE))","v":""},null,null,null,null,null,null,""]
[null,{"$f":"IF(A3253=\"\",\"\",VLOOKUP(A3253,PARAMETROS!$B$3:$C$3,2,FALSE))","v":""},null,{"$f":"IF(C3253=\"\",\"\",VLOOKUP(C3253,PARAMETROS!$G$3:$H$21,2,FALSE))","v":""},null,{"$f":"IF(E3253=\"\",\"\",VLOOKUP(E3253,PARAMETROS!$I$3:$J$21,2,FALSE))","v":""},null,null,null,null,null,null,""]
[null,{"$f":"IF(A3254=\"\",\"\",VLOOKUP(A3254,PARAMETROS!$B$3:$C$3,2,FALSE))","v":""},null,{"$f":"IF(C3254=\"\",\"\",VLOOKUP(C3254,PARAMETROS!$G$3:$H$21,2,FALSE))","v":""},null,{"$f":"IF(E3254=\"\",\"\",VLOOKUP(E3254,PARAMETROS!$I$3:$J$21,2,FALSE))","v":""},null,null,null,null,null,null,""]
[null,{"$f":"IF(A3255=\"\",\"\",VLOOKUP(A3255,PARAMETROS!$B$3:$C$3,2,FALSE))","v":""},null,{"$f":"IF(C3255=\"\",\"\",VLOOKUP(C3255,PARAMETROS!$G$3:$H$21,2,FALSE))","v":""},null,{"$f":"IF(E3255=\"\",\"\",VLOOKUP(E3255,PARAMETROS!$I$3:$J$21,2,FALSE))","v":""},null,null,null,null,null,null,""]
[null,{"$f":"IF(A3256=\"\",\"\",VLOOKUP(A3256,PARAMETROS!$B$3:$C$3,2,FALSE))","v":""},null,{"$f":"IF(C3256=\"\",\"\",VLOOKUP(C3256,PARAMETROS!$G$3:$H$21,2,FALSE))","v":""},null,{"$f":"IF(E3256=\"\",\"\",VLOOKUP(E3256,PARAMETROS!$I$3:$J$21,2,FALSE))","v":""},null,null,null,null,null,null,""]
[null,{"$f":"IF(A3257=\"\",\"\",VLOOKUP(A3257,PARAMETROS!$B$3:$C$3,2,FALSE))","v":""},null,{"$f":"IF(C3257=\"\",\"\",VLOOKUP(C3257,PARAMETROS!$G$3:$H$21,2,FALSE))","v":""},null,{"$f":"IF(E3257=\"\",\"\",VLOOKUP(E3257,PARAMETROS!$I$3:$J$21,2,FALSE))","v":""},null,null,null,null,null,null,""]
[null,{"$f":"IF(A3258=\"\",\"\",VLOOKUP(A3258,PARAMETROS!$B$3:$C$3,2,FALSE))","v":""},null,{"$f":"IF(C3258=\"\",\"\",VLOOKUP(C3258,PARAMETROS!$G$3:$H$21,2,FALSE))","v":""},null,{"$f":"IF(E3258=\"\",\"\",VLOOKUP(E3258,PARAMETROS!$I$3:$J$21,2,FALSE))","v":""},null,null,null,null,null,null,""]
[null,{"$f":"IF(A3259=\"\",\"\",VLOOKUP(A3259,PARAMETROS!$B$3:$C$3,2,FALSE))","v":""},null,{"$f":"IF(C3259=\"\",\"\",VLOOKUP(C3259,PARAMETROS!$G$3:$H$21,2,FALSE))","v":""},null,{"$f":"IF(E3259=\"\",\"\",VLOOKUP(E3259,PARAMETROS!$I$3:$J$21,2,FALSE))","v":""},null,null,null,null,null,null,""]
[null,{"$f":"IF(A3260=\"\",\"\",VLOOKUP(A3260,PARAMETROS!$B$3:$C$3,2,FALSE))","v":""},null,{"$f":"IF(C3260=\"\",\"\",VLOOKUP(C3260,PARAMETROS!$G$3:$H$21,2,FALSE))","v":""},null,{"$f":"IF(E3260=\"\",\"\",VLOOKUP(E3260,PARAMETROS!$I$3:$J$21,2,FALSE))","v":""},null,null,null,null,null,null,""]
[null,{"$f":"IF(A3261=\"\",\"\",VLOOKUP(A3261,PARAMETROS!$B$3:$C$3,2,FALSE))","v":""},null,{"$f":"IF(C3261=\"\",\"\",VLOOKUP(C3261,PARAMETROS!$G$3:$H$21,2,FALSE))","v":""},null,{"$f":"IF(E3261=\"\",\"\",VLOOKUP(E3261,PARAMETROS!$I$3:$J$21,2,FALSE))","v":""},null,null,null,null,null,null,""]
[null,{"$f":"IF(A3262=\"\",\"\",VLOOKUP(A3262,PARAMETROS!$B$3:$C$3,2,FALSE))","v":""},null,{"$f":"IF(C3262=\"\",\"\",VLOOKUP(C3262,PARAMETROS!$G$3:$H$21,2,FALSE))","v":""},null,{"$f":"IF(E3262=\"\",\"\",VLOOKUP(E3262,PARAMETROS!$I$3:$J$21,2,FALSE))","v":""},null,null,null,null,null,null,""]
[null,{"$f":"IF(A3263=\"\",\"\",VLOOKUP(A3263,PARAMETROS!$B$3:$C$3,2,FALSE))","v":""},null,{"$f":"IF(C3263=\"\",\"\",VLOOKUP(C3263,PARAMETROS!$G$3:$H$21,2,FALSE))","v":""},null,{"$f":"IF(E3263=\"\",\"\",VLOOKUP(E3263,PARAMETROS!$I$3:$J$21,2,FALSE))","v":""},null,null,null,null,null,null,""]
[null,{"$f":"IF(A3264=\"\",\"\",VLOOKUP(A3264,PARAMETROS!$B$3:$C$3,2,FALSE))","v":""},null,{"$f":"IF(C3264=\"\",\"\",VLOOKUP(C3264,PARAMETROS!$G$3:$H$21,2,FALSE))","v":""},null,{"$f":"IF(E3264=\"\",\"\",VLOOKUP(E3264,PARAMETROS!$I$3:$J$21,2,FALSE))","v":""},null,null,null,null,null,null,""]
[null,{"$f":"IF(A3265=\"\",\"\",VLOOKUP(A3265,PARAMETROS!$B$3:$C$3,2,FALSE))","v":""},null,{"$f":"IF(C3265=\"\",\"\",VLOOKUP(C3265,PARAMETROS!$G$3:$H$21,2,FALSE))","v":""},null,{"$f":"IF(E3265=\"\",\"\",VLOOKUP(E3265,PARAMETROS!$I$3:$J$21,2,FALSE))","v":""},null,null,null,null,null,null,""]
[null,{"$f":"IF(A3266=\"\",\"\",VLOOKUP(A3266,PARAMETROS!$B$3:$C$3,2,FALSE))","v":""},null,{"$f":"IF(C3266=\"\",\"\",VLOOKUP(C3266,PARAMETROS!$G$3:$H$21,2,FALSE))","v":""},null,{"$f":"IF(E3266=\"\",\"\",VLOOKUP(E3266,PARAMETROS!$I$3:$J$21,2,FALSE))","v":""},null,null,null,null,null,null,""]
[null,{"$f":"IF(A3267=\"\",\"\",VLOOKUP(A3267,PARAMETROS!$B$3:$C$3,2,FALSE))","v":""},null,{"$f":"IF(C3267=\"\",\"\",VLOOKUP(C3267,PARAMETROS!$G$3:$H$21,2,FALSE))","v":""},null,{"$f":"IF(E3267=\"\",\"\",VLOOKUP(E3267,PARAMETROS!$I$3:$J$21,2,FALSE))","v":""},null,null,null,null,null,null,""]
[null,{"$f":"IF(A3268=\"\",\"\",VLOOKUP(A3268,PARAMETROS!$B$3:$C$3,2,FALSE))","v":""},null,{"$f":"IF(C3268=\"\",\"\",VLOOKUP(C3268,PARAMETROS!$G$3:$H$21,2,FALSE))","v":""},null,{"$f":"IF(E3268=\"\",\"\",VLOOKUP(E3268,PARAMETROS!$I$3:$J$21,2,FALSE))","v":""},null,null,null,null,null,null,""]
[null,{"$f":"IF(A3269=\"\",\"\",VLOOKUP(A3269,PARAMETROS!$B$3:$C$3,2,FALSE))","v":""},null,{"$f":"IF(C3269=\"\",\"\",VLOOKUP(C3269,PARAMETROS!$G$3:$H$21,2,FALSE))","v":""},null,{"$f":"IF(E3269=\"\",\"\",VLOOKUP(E3269,PARAMETROS!$I$3:$J$21,2,FALSE))","v":""},null,null,null,null,null,null,""]
[null,{"$f":"IF(A3270=\"\",\"\",VLOOKUP(A3270,PARAMETROS!$B$3:$C$3,2,FALSE))","v":""},null,{"$f":"IF(C3270=\"\",\"\",VLOOKUP(C3270,PARAMETROS!$G$3:$H$21,2,FALSE))","v":""},null,{"$f":"IF(E3270=\"\",\"\",VLOOKUP(E3270,PARAMETROS!$I$3:$J$21,2,FALSE))","v":""},null,null,null,null,null,null,""]
[null,{"$f":"IF(A3271=\"\",\"\",VLOOKUP(A3271,PARAMETROS!$B$3:$C$3,2,FALSE))","v":""},null,{"$f":"IF(C3271=\"\",\"\",VLOOKUP(C3271,PARAMETROS!$G$3:$H$21,2,FALSE))","v":""},null,{"$f":"IF(E3271=\"\",\"\",VLOOKUP(E3271,PARAMETROS!$I$3:$J$21,2,FALSE))","v":""},null,null,null,null,null,null,""]
[null,{"$f":"IF(A3272=\"\",\"\",VLOOKUP(A3272,PARAMETROS!$B$3:$C$3,2,FALSE))","v":""},null,{"$f":"IF(C3272=\"\",\"\",VLOOKUP(C3272,PARAMETROS!$G$3:$H$21,2,FALSE))","v":""},null,{"$f":"IF(E3272=\"\",\"\",VLOOKUP(E3272,PARAMETROS!$I$3:$J$21,2,FALSE))","v":""},null,null,null,null,null,null,""]
[null,{"$f":"IF(A3273=\"\",\"\",VLOOKUP(A3273,PARAMETROS!$B$3:$C$3,2,FALSE))","v":""},null,{"$f":"IF(C3273=\"\",\"\",VLOOKUP(C3273,PARAMETROS!$G$3:$H$21,2,FALSE))","v":""},null,{"$f":"IF(E3273=\"\",\"\",VLOOKUP(E3273,PARAMETROS!$I$3:$J$21,2,FALSE))","v":""},null,null,null,null,null,null,""]
[null,{"$f":"IF(A3274=\"\",\"\",VLOOKUP(A3274,PARAMETROS!$B$3:$C$3,2,FALSE))","v":""},null,{"$f":"IF(C3274=\"\",\"\",VLOOKUP(C3274,PARAMETROS!$G$3:$H$21,2,FALSE))","v":""},null,{"$f":"IF(E3274=\"\",\"\",VLOOKUP(E3274,PARAMETROS!$I$3:$J$21,2,FALSE))","v":""},null,null,null,null,null,null,""]
[null,{"$f":"IF(A3275=\"\",\"\",VLOOKUP(A3275,PARAMETROS!$B$3:$C$3,2,FALSE))","v":""},null,{"$f":"IF(C3275=\"\",\"\",VLOOKUP(C3275,PARAMETROS!$G$3:$H$21,2,FALSE))","v":""},null,{"$f":"IF(E3275=\"\",\"\",VLOOKUP(E3275,PARAMETROS!$I$3:$J$21,2,FALSE))","v":""},null,null,null,null,null,null,""]
[null,{"$f":"IF(A3276=\"\",\"\",VLOOKUP(A3276,PARAMETROS!$B$3:$C$3,2,FALSE))","v":""},null,{"$f":"IF(C3276=\"\",\"\",VLOOKUP(C3276,PARAMETROS!$G$3:$H$21,2,FALSE))","v":""},null,{"$f":"IF(E3276=\"\",\"\",VLOOKUP(E3276,PARAMETROS!$I$3:$J$21,2,FALSE))","v":""},null,null,null,null,null,null,""]
[null,{"$f":"IF(A3277=\"\",\"\",VLOOKUP(A3277,PARAMETROS!$B$3:$C$3,2,FALSE))","v":""},null,{"$f":"IF(C3277=\"\",\"\",VLOOKUP(C3277,PARAMETROS!$G$3:$H$21,2,FALSE))","v":""},null,{"$f":"IF(E3277=\"\",\"\",VLOOKUP(E3277,PARAMETROS!$I$3:$J$21,2,FALSE))","v":""},null,null,null,null,null,null,""]
[null,{"$f":"IF(A3278=\"\",\"\",VLOOKUP(A3278,PARAMETROS!$B$3:$C$3,2,FALSE))","v":""},null,{"$f":"IF(C3278=\"\",\"\",VLOOKUP(C3278,PARAMETROS!$G$3:$H$21,2,FALSE))","v":""},null,{"$f":"IF(E3278=\"\",\"\",VLOOKUP(E3278,PARAMETROS!$I$3:$J$21,2,FALSE))","v":""},null,null,null,null,null,null,""]
[null,{"$f":"IF(A3279=\"\",\"\",VLOOKUP(A3279,PARAMETROS!$B$3:$C$3,2,FALSE))","v":""},null,{"$f":"IF(C3279=\"\",\"\",VLOOKUP(C3279,PARAMETROS!$G$3:$H$21,2,FALSE))","v":""},null,{"$f":"IF(E3279=\"\",\"\",VLOOKUP(E3279,PARAMETROS!$I$3:$J$21,2,FALSE))","v":""},null,null,null,null,null,null,{"$f":"IF(L3279=\"\", \"\", L3279)","v":""}]
[null,{"$f":"IF(A3280=\"\",\"\",VLOOKUP(A3280,PARAMETROS!$B$3:$C$3,2,FALSE))","v":""},null,{"$f":"IF(C3280=\"\",\"\",VLOOKUP(C3280,PARAMETROS!$G$3:$H$21,2,FALSE))","v":""},null,{"$f":"IF(E3280=\"\",\"\",VLOOKUP(E3280,PARAMETROS!$I$3:$J$21,2,FALSE))","v":""},null,null,null,null,null,null,""]
[null,{"$f":"IF(A3281=\"\",\"\",VLOOKUP(A3281,PARAMETROS!$B$3:$C$3,2,FALSE))","v":""},null,{"$f":"IF(C3281=\"\",\"\",VLOOKUP(C3281,PARAMETROS!$G$3:$H$21,2,FALSE))","v":""},null,{"$f":"IF(E3281=\"\",\"\",VLOOKUP(E3281,PARAMETROS!$I$3:$J$21,2,FALSE))","v":""},null,null,null,null,null,null,""]
[null,{"$f":"IF(A3282=\"\",\"\",VLOOKUP(A3282,PARAMETROS!$B$3:$C$3,2,FALSE))","v":""},null,{"$f":"IF(C3282=\"\",\"\",VLOOKUP(C3282,PARAMETROS!$G$3:$H$21,2,FALSE))","v":""},null,{"$f":"IF(E3282=\"\",\"\",VLOOKUP(E3282,PARAMETROS!$I$3:$J$21,2,FALSE))","v":""},null,null,null,null,null,null,""]
[null,{"$f":"IF(A3283=\"\",\"\",VLOOKUP(A3283,PARAMETROS!$B$3:$C$3,2,FALSE))","v":""},null,{"$f":"IF(C3283=\"\",\"\",VLOOKUP(C3283,PARAMETROS!$G$3:$H$21,2,FALSE))","v":""},null,{"$f":"IF(E3283=\"\",\"\",VLOOKUP(E3283,PARAMETROS!$I$3:$J$21,2,FALSE))","v":""},null,null,null,null,null,null,""]
[null,{"$f":"IF(A3284=\"\",\"\",VLOOKUP(A3284,PARAMETROS!$B$3:$C$3,2,FALSE))","v":""},null,{"$f":"IF(C3284=\"\",\"\",VLOOKUP(C3284,PARAMETROS!$G$3:$H$21,2,FALSE))","v":""},null,{"$f":"IF(E3284=\"\",\"\",VLOOKUP(E3284,PARAMETROS!$I$3:$J$21,2,FALSE))","v":""},null,null,null,null,null,null,""]
[null,{"$f":"IF(A3285=\"\",\"\",VLOOKUP(A3285,PARAMETROS!$B$3:$C$3,2,FALSE))","v":""},null,{"$f":"IF(C3285=\"\",\"\",VLOOKUP(C3285,PARAMETROS!$G$3:$H$21,2,FALSE))","v":""},null,{"$f":"IF(E3285=\"\",\"\",VLOOKUP(E3285,PARAMETROS!$I$3:$J$21,2,FALSE))","v":""},null,null,null,null,null,null,""]
[null,{"$f":"IF(A3286=\"\",\"\",VLOOKUP(A3286,PARAMETROS!$B$3:$C$3,2,FALSE))","v":""},null,{"$f":"IF(C3286=\"\",\"\",VLOOKUP(C3286,PARAMETROS!$G$3:$H$21,2,FALSE))","v":""},null,{"$f":"IF(E3286=\"\",\"\",VLOOKUP(E3286,PARAMETROS!$I$3:$J$21,2,FALSE))","v":""},null,null,null,null,null,null,""]
[null,{"$f":"IF(A3287=\"\",\"\",VLOOKUP(A3287,PARAMETROS!$B$3:$C$3,2,FALSE))","v":""},null,{"$f":"IF(C3287=\"\",\"\",VLOOKUP(C3287,PARAMETROS!$G$3:$H$21,2,FALSE))","v":""},null,{"$f":"IF(E3287=\"\",\"\",VLOOKUP(E3287,PARAMETROS!$I$3:$J$21,2,FALSE))","v":""},null,null,null,null,null,null,""]
[null,{"$f":"IF(A3288=\"\",\"\",VLOOKUP(A3288,PARAMETROS!$B$3:$C$3,2,FALSE))","v":""},null,{"$f":"IF(C3288=\"\",\"\",VLOOKUP(C3288,PARAMETROS!$G$3:$H$21,2,FALSE))","v":""},null,{"$f":"IF(E3288=\"\",\"\",VLOOKUP(E3288,PARAMETROS!$I$3:$J$21,2,FALSE))","v":""},null,null,null,null,null,null,""]
[null,{"$f":"IF(A3289=\"\",\"\",VLOOKUP(A3289,PARAMETROS!$B$3:$C$3,2,FALSE))","v":""},null,{"$f":"IF(C3289=\"\",\"\",VLOOKUP(C3289,PARAMETROS!$G$3:$H$21,2,FALSE))","v":""},null,{"$f":"IF(E3289=\"\",\"\",VLOOKUP(E3289,PARAMETROS!$I$3:$J$21,2,FALSE))","v":""},null,null,null,null,null,null,""]
[null,{"$f":"IF(A3290=\"\",\"\",VLOOKUP(A3290,PARAMETROS!$B$3:$C$3,2,FALSE))","v":""},null,{"$f":"IF(C3290=\"\",\"\",VLOOKUP(C3290,PARAMETROS!$G$3:$H$21,2,FALSE))","v":""},null,{"$f":"IF(E3290=\"\",\"\",VLOOKUP(E3290,PARAMETROS!$I$3:$J$21,2,FALSE))","v":""},null,null,null,null,null,null,""]
[null,{"$f":"IF(A3291=\"\",\"\",VLOOKUP(A3291,PARAMETROS!$B$3:$C$3,2,FALSE))","v":""},null,{"$f":"IF(C3291=\"\",\"\",VLOOKUP(C3291,PARAMETROS!$G$3:$H$21,2,FALSE))","v":""},null,{"$f":"IF(E3291=\"\",\"\",VLOOKUP(E3291,PARAMETROS!$I$3:$J$21,2,FALSE))","v":""},null,null,null,null,null,null,""]
[null,{"$f":"IF(A3292=\"\",\"\",VLOOKUP(A3292,PARAMETROS!$B$3:$C$3,2,FALSE))","v":""},null,{"$f":"IF(C3292=\"\",\"\",VLOOKUP(C3292,PARAMETROS!$G$3:$H$21,2,FALSE))","v":""},null,{"$f":"IF(E3292=\"\",\"\",VLOOKUP(E3292,PARAMETROS!$I$3:$J$21,2,FALSE))","v":""},null,null,null,null,null,null,""]
[null,{"$f":"IF(A3293=\"\",\"\",VLOOKUP(A3293,PARAMETROS!$B$3:$C$3,2,FALSE))","v":""},null,{"$f":"IF(C3293=\"\",\"\",VLOOKUP(C3293,PARAMETROS!$G$3:$H$21,2,FALSE))","v":""},null,{"$f":"IF(E3293=\"\",\"\",VLOOKUP(E3293,PARAMETROS!$I$3:$J$21,2,FALSE))","v":""},null,null,null,null,null,null,""]
[null,{"$f":"IF(A3294=\"\",\"\",VLOOKUP(A3294,PARAMETROS!$B$3:$C$3,2,FALSE))","v":""},null,{"$f":"IF(C3294=\"\",\"\",VLOOKUP(C3294,PARAMETROS!$G$3:$H$21,2,FALSE))","v":""},null,{"$f":"IF(E3294=\"\",\"\",VLOOKUP(E3294,PARAMETROS!$I$3:$J$21,2,FALSE))","v":""},null,null,null,null,null,null,""]
[null,{"$f":"IF(A3295=\"\",\"\",VLOOKUP(A3295,PARAMETROS!$B$3:$C$3,2,FALSE))","v":""},null,{"$f":"IF(C3295=\"\",\"\",VLOOKUP(C3295,PARAMETROS!$G$3:$H$21,2,FALSE))","v":""},null,{"$f":"IF(E3295=\"\",\"\",VLOOKUP(E3295,PARAMETROS!$I$3:$J$21,2,FALSE))","v":""},null,null,null,null,null,null,""]
[null,{"$f":"IF(A3296=\"\",\"\",VLOOKUP(A3296,PARAMETROS!$B$3:$C$3,2,FALSE))","v":""},null,{"$f":"IF(C3296=\"\",\"\",VLOOKUP(C3296,PARAMETROS!$G$3:$H$21,2,FALSE))","v":""},null,{"$f":"IF(E3296=\"\",\"\",VLOOKUP(E3296,PARAMETROS!$I$3:$J$21,2,FALSE))","v":""},null,null,null,null,null,null,""]
[null,{"$f":"IF(A3297=\"\",\"\",VLOOKUP(A3297,PARAMETROS!$B$3:$C$3,2,FALSE))","v":""},null,{"$f":"IF(C3297=\"\",\"\",VLOOKUP(C3297,PARAMETROS!$G$3:$H$21,2,FALSE))","v":""},null,{"$f":"IF(E3297=\"\",\"\",VLOOKUP(E3297,PARAMETROS!$I$3:$J$21,2,FALSE))","v":""},null,null,null,null,null,null,""]
[null,{"$f":"IF(A3298=\"\",\"\",VLOOKUP(A3298,PARAMETROS!$B$3:$C$3,2,FALSE))","v":""},null,{"$f":"IF(C3298=\"\",\"\",VLOOKUP(C3298,PARAMETROS!$G$3:$H$21,2,FALSE))","v":""},null,{"$f":"IF(E3298=\"\",\"\",VLOOKUP(E3298,PARAMETROS!$I$3:$J$21,2,FALSE))","v":""},null,null,null,null,null,null,""]
[null,{"$f":"IF(A3299=\"\",\"\",VLOOKUP(A3299,PARAMETROS!$B$3:$C$3,2,FALSE))","v":""},null,{"$f":"IF(C3299=\"\",\"\",VLOOKUP(C3299,PARAMETROS!$G$3:$H$21,2,FALSE))","v":""},null,{"$f":"IF(E3299=\"\",\"\",VLOOKUP(E3299,PARAMETROS!$I$3:$J$21,2,FALSE))","v":""},null,null,null,null,null,null,""]
[null,{"$f":"IF(A3300=\"\",\"\",VLOOKUP(A3300,PARAMETROS!$B$3:$C$3,2,FALSE))","v":""},null,{"$f":"IF(C3300=\"\",\"\",VLOOKUP(C3300,PARAMETROS!$G$3:$H$21,2,FALSE))","v":""},null,{"$f":"IF(E3300=\"\",\"\",VLOOKUP(E3300,PARAMETROS!$I$3:$J$21,2,FALSE))","v":""},null,null,null,null,null,null,""]
[null,{"$f":"IF(A3301=\"\",\"\",VLOOKUP(A3301,PARAMETROS!$B$3:$C$3,2,FALSE))","v":""},null,{"$f":"IF(C3301=\"\",\"\",VLOOKUP(C3301,PARAMETROS!$G$3:$H$21,2,FALSE))","v":""},null,{"$f":"IF(E3301=\"\",\"\",VLOOKUP(E3301,PARAMETROS!$I$3:$J$21,2,FALSE))","v":""},null,null,null,null,null,null,""]
[null,{"$f":"IF(A3302=\"\",\"\",VLOOKUP(A3302,PARAMETROS!$B$3:$C$3,2,FALSE))","v":""},null,{"$f":"IF(C3302=\"\",\"\",VLOOKUP(C3302,PARAMETROS!$G$3:$H$21,2,FALSE))","v":""},null,{"$f":"IF(E3302=\"\",\"\",VLOOKUP(E3302,PARAMETROS!$I$3:$J$21,2,FALSE))","v":""},null,null,null,null,null,null,""]
[null,{"$f":"IF(A3303=\"\",\"\",VLOOKUP(A3303,PARAMETROS!$B$3:$C$3,2,FALSE))","v":""},null,{"$f":"IF(C3303=\"\",\"\",VLOOKUP(C3303,PARAMETROS!$G$3:$H$21,2,FALSE))","v":""},null,{"$f":"IF(E3303=\"\",\"\",VLOOKUP(E3303,PARAMETROS!$I$3:$J$21,2,FALSE))","v":""},null,null,null,null,null,null,""]
[null,{"$f":"IF(A3304=\"\",\"\",VLOOKUP(A3304,PARAMETROS!$B$3:$C$3,2,FALSE))","v":""},null,{"$f":"IF(C3304=\"\",\"\",VLOOKUP(C3304,PARAMETROS!$G$3:$H$21,2,FALSE))","v":""},null,{"$f":"IF(E3304=\"\",\"\",VLOOKUP(E3304,PARAMETROS!$I$3:$J$21,2,FALSE))","v":""},null,null,null,null,null,null,""]
[null,{"$f":"IF(A3305=\"\",\"\",VLOOKUP(A3305,PARAMETROS!$B$3:$C$3,2,FALSE))","v":""},null,{"$f":"IF(C3305=\"\",\"\",VLOOKUP(C3305,PARAMETROS!$G$3:$H$21,2,FALSE))","v":""},null,{"$f":"IF(E3305=\"\",\"\",VLOOKUP(E3305,PARAMETROS!$I$3:$J$21,2,FALSE))","v":""},null,null,null,null,null,null,""]
[null,{"$f":"IF(A3306=\"\",\"\",VLOOKUP(A3306,PARAMETROS!$B$3:$C$3,2,FALSE))","v":""},null,{"$f":"IF(C3306=\"\",\"\",VLOOKUP(C3306,PARAMETROS!$G$3:$H$21,2,FALSE))","v":""},null,{"$f":"IF(E3306=\"\",\"\",VLOOKUP(E3306,PARAMETROS!$I$3:$J$21,2,FALSE))","v":""},null,null,null,null,null,null,""]
[null,{"$f":"IF(A3307=\"\",\"\",VLOOKUP(A3307,PARAMETROS!$B$3:$C$3,2,FALSE))","v":""},null,{"$f":"IF(C3307=\"\",\"\",VLOOKUP(C3307,PARAMETROS!$G$3:$H$21,2,FALSE))","v":""},null,{"$f":"IF(E3307=\"\",\"\",VLOOKUP(E3307,PARAMETROS!$I$3:$J$21,2,FALSE))","v":""},null,null,null,null,null,null,""]
[null,{"$f":"IF(A3308=\"\",\"\",VLOOKUP(A3308,PARAMETROS!$B$3:$C$3,2,FALSE))","v":""},null,{"$f":"IF(C3308=\"\",\"\",VLOOKUP(C3308,PARAMETROS!$G$3:$H$21,2,FALSE))","v":""},null,{"$f":"IF(E3308=\"\",\"\",VLOOKUP(E3308,PARAMETROS!$I$3:$J$21,2,FALSE))","v":""},null,null,null,null,null,null,""]
[null,{"$f":"IF(A3309=\"\",\"\",VLOOKUP(A3309,PARAMETROS!$B$3:$C$3,2,FALSE))","v":""},null,{"$f":"IF(C3309=\"\",\"\",VLOOKUP(C3309,PARAMETROS!$G$3:$H$21,2,FALSE))","v":""},null,{"$f":"IF(E3309=\"\",\"\",VLOOKUP(E3309,PARAMETROS!$I$3:$J$21,2,FALSE))","v":""},null,null,null,null,null,null,""]
[null,{"$f":"IF(A3310=\"\",\"\",VLOOKUP(A3310,PARAMETROS!$B$3:$C$3,2,FALSE))","v":""},null,{"$f":"IF(C3310=\"\",\"\",VLOOKUP(C3310,PARAMETROS!$G$3:$H$21,2,FALSE))","v":""},null,{"$f":"IF(E3310=\"\",\"\",VLOOKUP(E3310,PARAMETROS!$I$3:$J$21,2,FALSE))","v":""},null,null,null,null,null,null,""]
[null,{"$f":"IF(A3311=\"\",\"\",VLOOKUP(A3311,PARAMETROS!$B$3:$C$3,2,FALSE))","v":""},null,{"$f":"IF(C3311=\"\",\"\",VLOOKUP(C3311,PARAMETROS!$G$3:$H$21,2,FALSE))","v":""},null,{"$f":"IF(E3311=\"\",\"\",VLOOKUP(E3311,PARAMETROS!$I$3:$J$21,2,FALSE))","v":""},null,null,null,null,null,null,""]
[null,{"$f":"IF(A3312=\"\",\"\",VLOOKUP(A3312,PARAMETROS!$B$3:$C$3,2,FALSE))","v":""},null,{"$f":"IF(C3312=\"\",\"\",VLOOKUP(C3312,PARAMETROS!$G$3:$H$21,2,FALSE))","v":""},null,{"$f":"IF(E3312=\"\",\"\",VLOOKUP(E3312,PARAMETROS!$I$3:$J$21,2,FALSE))","v":""},null,null,null,null,null,null,""]
[null,{"$f":"IF(A3313=\"\",\"\",VLOOKUP(A3313,PARAMETROS!$B$3:$C$3,2,FALSE))","v":""},null,{"$f":"IF(C3313=\"\",\"\",VLOOKUP(C3313,PARAMETROS!$G$3:$H$21,2,FALSE))","v":""},null,{"$f":"IF(E3313=\"\",\"\",VLOOKUP(E3313,PARAMETROS!$I$3:$J$21,2,FALSE))","v":""},null,null,null,null,null,null,""]
[null,{"$f":"IF(A3314=\"\",\"\",VLOOKUP(A3314,PARAMETROS!$B$3:$C$3,2,FALSE))","v":""},null,{"$f":"IF(C3314=\"\",\"\",VLOOKUP(C3314,PARAMETROS!$G$3:$H$21,2,FALSE))","v":""},null,{"$f":"IF(E3314=\"\",\"\",VLOOKUP(E3314,PARAMETROS!$I$3:$J$21,2,FALSE))","v":""},null,null,null,null,null,null,""]
[null,{"$f":"IF(A3315=\"\",\"\",VLOOKUP(A3315,PARAMETROS!$B$3:$C$3,2,FALSE))","v":""},null,{"$f":"IF(C3315=\"\",\"\",VLOOKUP(C3315,PARAMETROS!$G$3:$H$21,2,FALSE))","v":""},null,{"$f":"IF(E3315=\"\",\"\",VLOOKUP(E3315,PARAMETROS!$I$3:$J$21,2,FALSE))","v":""},null,null,null,null,null,null,""]
[null,{"$f":"IF(A3316=\"\",\"\",VLOOKUP(A3316,PARAMETROS!$B$3:$C$3,2,FALSE))","v":""},null,{"$f":"IF(C3316=\"\",\"\",VLOOKUP(C3316,PARAMETROS!$G$3:$H$21,2,FALSE))","v":""},null,{"$f":"IF(E3316=\"\",\"\",VLOOKUP(E3316,PARAMETROS!$I$3:$J$21,2,FALSE))","v":""},null,null,null,null,null,null,""]
[null,{"$f":"IF(A3317=\"\",\"\",VLOOKUP(A3317,PARAMETROS!$B$3:$C$3,2,FALSE))","v":""},null,{"$f":"IF(C3317=\"\",\"\",VLOOKUP(C3317,PARAMETROS!$G$3:$H$21,2,FALSE))","v":""},null,{"$f":"IF(E3317=\"\",\"\",VLOOKUP(E3317,PARAMETROS!$I$3:$J$21,2,FALSE))","v":""},null,null,null,null,null,null,""]
[null,{"$f":"IF(A3318=\"\",\"\",VLOOKUP(A3318,PARAMETROS!$B$3:$C$3,2,FALSE))","v":""},null,{"$f":"IF(C3318=\"\",\"\",VLOOKUP(C3318,PARAMETROS!$G$3:$H$21,2,FALSE))","v":""},null,{"$f":"IF(E3318=\"\",\"\",VLOOKUP(E3318,PARAMETROS!$I$3:$J$21,2,FALSE))","v":""},null,null,null,null,null,null,""]
[null,{"$f":"IF(A3319=\"\",\"\",VLOOKUP(A3319,PARAMETROS!$B$3:$C$3,2,FALSE))","v":""},null,{"$f":"IF(C3319=\"\",\"\",VLOOKUP(C3319,PARAMETROS!$G$3:$H$21,2,FALSE))","v":""},null,{"$f":"IF(E3319=\"\",\"\",VLOOKUP(E3319,PARAMETROS!$I$3:$J$21,2,FALSE))","v":""},null,null,null,null,null,null,""]
[null,{"$f":"IF(A3320=\"\",\"\",VLOOKUP(A3320,PARAMETROS!$B$3:$C$3,2,FALSE))","v":""},null,{"$f":"IF(C3320=\"\",\"\",VLOOKUP(C3320,PARAMETROS!$G$3:$H$21,2,FALSE))","v":""},null,{"$f":"IF(E3320=\"\",\"\",VLOOKUP(E3320,PARAMETROS!$I$3:$J$21,2,FALSE))","v":""},null,null,null,null,null,null,""]
[null,{"$f":"IF(A3321=\"\",\"\",VLOOKUP(A3321,PARAMETROS!$B$3:$C$3,2,FALSE))","v":""},null,{"$f":"IF(C3321=\"\",\"\",VLOOKUP(C3321,PARAMETROS!$G$3:$H$21,2,FALSE))","v":""},null,{"$f":"IF(E3321=\"\",\"\",VLOOKUP(E3321,PARAMETROS!$I$3:$J$21,2,FALSE))","v":""},null,null,null,null,null,null,""]
[null,{"$f":"IF(A3322=\"\",\"\",VLOOKUP(A3322,PARAMETROS!$B$3:$C$3,2,FALSE))","v":""},null,{"$f":"IF(C3322=\"\",\"\",VLOOKUP(C3322,PARAMETROS!$G$3:$H$21,2,FALSE))","v":""},null,{"$f":"IF(E3322=\"\",\"\",VLOOKUP(E3322,PARAMETROS!$I$3:$J$21,2,FALSE))","v":""},null,null,null,null,null,null,""]
[null,{"$f":"IF(A3323=\"\",\"\",VLOOKUP(A3323,PARAMETROS!$B$3:$C$3,2,FALSE))","v":""},null,{"$f":"IF(C3323=\"\",\"\",VLOOKUP(C3323,PARAMETROS!$G$3:$H$21,2,FALSE))","v":""},null,{"$f":"IF(E3323=\"\",\"\",VLOOKUP(E3323,PARAMETROS!$I$3:$J$21,2,FALSE))","v":""},null,null,null,null,null,null,""]
[null,{"$f":"IF(A3324=\"\",\"\",VLOOKUP(A3324,PARAMETROS!$B$3:$C$3,2,FALSE))","v":""},null,{"$f":"IF(C3324=\"\",\"\",VLOOKUP(C3324,PARAMETROS!$G$3:$H$21,2,FALSE))","v":""},null,{"$f":"IF(E3324=\"\",\"\",VLOOKUP(E3324,PARAMETROS!$I$3:$J$21,2,FALSE))","v":""},null,null,null,null,null,null,""]
[null,{"$f":"IF(A3325=\"\",\"\",VLOOKUP(A3325,PARAMETROS!$B$3:$C$3,2,FALSE))","v":""},null,{"$f":"IF(C3325=\"\",\"\",VLOOKUP(C3325,PARAMETROS!$G$3:$H$21,2,FALSE))","v":""},null,{"$f":"IF(E3325=\"\",\"\",VLOOKUP(E3325,PARAMETROS!$I$3:$J$21,2,FALSE))","v":""},null,null,null,null,null,null,""]
[null,{"$f":"IF(A3326=\"\",\"\",VLOOKUP(A3326,PARAMETROS!$B$3:$C$3,2,FALSE))","v":""},null,{"$f":"IF(C3326=\"\",\"\",VLOOKUP(C3326,PARAMETROS!$G$3:$H$21,2,FALSE))","v":""},null,{"$f":"IF(E3326=\"\",\"\",VLOOKUP(E3326,PARAMETROS!$I$3:$J$21,2,FALSE))","v":""},null,null,null,null,null,null,""]
[null,{"$f":"IF(A3327=\"\",\"\",VLOOKUP(A3327,PARAMETROS!$B$3:$C$3,2,FALSE))","v":""},null,{"$f":"IF(C3327=\"\",\"\",VLOOKUP(C3327,PARAMETROS!$G$3:$H$21,2,FALSE))","v":""},null,{"$f":"IF(E3327=\"\",\"\",VLOOKUP(E3327,PARAMETROS!$I$3:$J$21,2,FALSE))","v":""},null,null,null,null,null,null,""]
[null,{"$f":"IF(A3328=\"\",\"\",VLOOKUP(A3328,PARAMETROS!$B$3:$C$3,2,FALSE))","v":""},null,{"$f":"IF(C3328=\"\",\"\",VLOOKUP(C3328,PARAMETROS!$G$3:$H$21,2,FALSE))","v":""},null,{"$f":"IF(E3328=\"\",\"\",VLOOKUP(E3328,PARAMETROS!$I$3:$J$21,2,FALSE))","v":""},null,null,null,null,null,null,""]
[null,{"$f":"IF(A3329=\"\",\"\",VLOOKUP(A3329,PARAMETROS!$B$3:$C$3,2,FALSE))","v":""},null,{"$f":"IF(C3329=\"\",\"\",VLOOKUP(C3329,PARAMETROS!$G$3:$H$21,2,FALSE))","v":""},null,{"$f":"IF(E3329=\"\",\"\",VLOOKUP(E3329,PARAMETROS!$I$3:$J$21,2,FALSE))","v":""},null,null,null,null,null,null,""]
[null,{"$f":"IF(A3330=\"\",\"\",VLOOKUP(A3330,PARAMETROS!$B$3:$C$3,2,FALSE))","v":""},null,{"$f":"IF(C3330=\"\",\"\",VLOOKUP(C3330,PARAMETROS!$G$3:$H$21,2,FALSE))","v":""},null,{"$f":"IF(E3330=\"\",\"\",VLOOKUP(E3330,PARAMETROS!$I$3:$J$21,2,FALSE))","v":""},null,null,null,null,null,null,""]
[null,{"$f":"IF(A3331=\"\",\"\",VLOOKUP(A3331,PARAMETROS!$B$3:$C$3,2,FALSE))","v":""},null,{"$f":"IF(C3331=\"\",\"\",VLOOKUP(C3331,PARAMETROS!$G$3:$H$21,2,FALSE))","v":""},null,{"$f":"IF(E3331=\"\",\"\",VLOOKUP(E3331,PARAMETROS!$I$3:$J$21,2,FALSE))","v":""},null,null,null,null,null,null,""]
[null,{"$f":"IF(A3332=\"\",\"\",VLOOKUP(A3332,PARAMETROS!$B$3:$C$3,2,FALSE))","v":""},null,{"$f":"IF(C3332=\"\",\"\",VLOOKUP(C3332,PARAMETROS!$G$3:$H$21,2,FALSE))","v":""},null,{"$f":"IF(E3332=\"\",\"\",VLOOKUP(E3332,PARAMETROS!$I$3:$J$21,2,FALSE))","v":""},null,null,null,null,null,null,""]
[null,{"$f":"IF(A3333=\"\",\"\",VLOOKUP(A3333,PARAMETROS!$B$3:$C$3,2,FALSE))","v":""},null,{"$f":"IF(C3333=\"\",\"\",VLOOKUP(C3333,PARAMETROS!$G$3:$H$21,2,FALSE))","v":""},null,{"$f":"IF(E3333=\"\",\"\",VLOOKUP(E3333,PARAMETROS!$I$3:$J$21,2,FALSE))","v":""},null,null,null,null,null,null,""]
[null,{"$f":"IF(A3334=\"\",\"\",VLOOKUP(A3334,PARAMETROS!$B$3:$C$3,2,FALSE))","v":""},null,{"$f":"IF(C3334=\"\",\"\",VLOOKUP(C3334,PARAMETROS!$G$3:$H$21,2,FALSE))","v":""},null,{"$f":"IF(E3334=\"\",\"\",VLOOKUP(E3334,PARAMETROS!$I$3:$J$21,2,FALSE))","v":""},null,null,null,null,null,null,""]
[null,{"$f":"IF(A3335=\"\",\"\",VLOOKUP(A3335,PARAMETROS!$B$3:$C$3,2,FALSE))","v":""},null,{"$f":"IF(C3335=\"\",\"\",VLOOKUP(C3335,PARAMETROS!$G$3:$H$21,2,FALSE))","v":""},null,{"$f":"IF(E3335=\"\",\"\",VLOOKUP(E3335,PARAMETROS!$I$3:$J$21,2,FALSE))","v":""},null,null,null,null,null,null,""]
[null,{"$f":"IF(A3336=\"\",\"\",VLOOKUP(A3336,PARAMETROS!$B$3:$C$3,2,FALSE))","v":""},null,{"$f":"IF(C3336=\"\",\"\",VLOOKUP(C3336,PARAMETROS!$G$3:$H$21,2,FALSE))","v":""},null,{"$f":"IF(E3336=\"\",\"\",VLOOKUP(E3336,PARAMETROS!$I$3:$J$21,2,FALSE))","v":""},null,null,null,null,null,null,""]
[null,{"$f":"IF(A3337=\"\",\"\",VLOOKUP(A3337,PARAMETROS!$B$3:$C$3,2,FALSE))","v":""},null,{"$f":"IF(C3337=\"\",\"\",VLOOKUP(C3337,PARAMETROS!$G$3:$H$21,2,FALSE))","v":""},null,{"$f":"IF(E3337=\"\",\"\",VLOOKUP(E3337,PARAMETROS!$I$3:$J$21,2,FALSE))","v":""},null,null,null,null,null,null,""]
[null,{"$f":"IF(A3338=\"\",\"\",VLOOKUP(A3338,PARAMETROS!$B$3:$C$3,2,FALSE))","v":""},null,{"$f":"IF(C3338=\"\",\"\",VLOOKUP(C3338,PARAMETROS!$G$3:$H$21,2,FALSE))","v":""},null,{"$f":"IF(E3338=\"\",\"\",VLOOKUP(E3338,PARAMETROS!$I$3:$J$21,2,FALSE))","v":""},null,null,null,null,null,null,""]
[null,{"$f":"IF(A3339=\"\",\"\",VLOOKUP(A3339,PARAMETROS!$B$3:$C$3,2,FALSE))","v":""},null,{"$f":"IF(C3339=\"\",\"\",VLOOKUP(C3339,PARAMETROS!$G$3:$H$21,2,FALSE))","v":""},null,{"$f":"IF(E3339=\"\",\"\",VLOOKUP(E3339,PARAMETROS!$I$3:$J$21,2,FALSE))","v":""},null,null,null,null,null,null,""]
[null,{"$f":"IF(A3340=\"\",\"\",VLOOKUP(A3340,PARAMETROS!$B$3:$C$3,2,FALSE))","v":""},null,{"$f":"IF(C3340=\"\",\"\",VLOOKUP(C3340,PARAMETROS!$G$3:$H$21,2,FALSE))","v":""},null,{"$f":"IF(E3340=\"\",\"\",VLOOKUP(E3340,PARAMETROS!$I$3:$J$21,2,FALSE))","v":""},null,null,null,null,null,null,""]
[null,{"$f":"IF(A3341=\"\",\"\",VLOOKUP(A3341,PARAMETROS!$B$3:$C$3,2,FALSE))","v":""},null,{"$f":"IF(C3341=\"\",\"\",VLOOKUP(C3341,PARAMETROS!$G$3:$H$21,2,FALSE))","v":""},null,{"$f":"IF(E3341=\"\",\"\",VLOOKUP(E3341,PARAMETROS!$I$3:$J$21,2,FALSE))","v":""},null,null,null,null,null,null,""]
[null,{"$f":"IF(A3342=\"\",\"\",VLOOKUP(A3342,PARAMETROS!$B$3:$C$3,2,FALSE))","v":""},null,{"$f":"IF(C3342=\"\",\"\",VLOOKUP(C3342,PARAMETROS!$G$3:$H$21,2,FALSE))","v":""},null,{"$f":"IF(E3342=\"\",\"\",VLOOKUP(E3342,PARAMETROS!$I$3:$J$21,2,FALSE))","v":""},null,null,null,null,null,null,""]
[null,{"$f":"IF(A3343=\"\",\"\",VLOOKUP(A3343,PARAMETROS!$B$3:$C$3,2,FALSE))","v":""},null,{"$f":"IF(C3343=\"\",\"\",VLOOKUP(C3343,PARAMETROS!$G$3:$H$21,2,FALSE))","v":""},null,{"$f":"IF(E3343=\"\",\"\",VLOOKUP(E3343,PARAMETROS!$I$3:$J$21,2,FALSE))","v":""},null,null,null,null,null,null,{"$f":"IF(L3343=\"\", \"\", L3343)","v":""}]
[null,{"$f":"IF(A3344=\"\",\"\",VLOOKUP(A3344,PARAMETROS!$B$3:$C$3,2,FALSE))","v":""},null,{"$f":"IF(C3344=\"\",\"\",VLOOKUP(C3344,PARAMETROS!$G$3:$H$21,2,FALSE))","v":""},null,{"$f":"IF(E3344=\"\",\"\",VLOOKUP(E3344,PARAMETROS!$I$3:$J$21,2,FALSE))","v":""},null,null,null,null,null,null,""]
[null,{"$f":"IF(A3345=\"\",\"\",VLOOKUP(A3345,PARAMETROS!$B$3:$C$3,2,FALSE))","v":""},null,{"$f":"IF(C3345=\"\",\"\",VLOOKUP(C3345,PARAMETROS!$G$3:$H$21,2,FALSE))","v":""},null,{"$f":"IF(E3345=\"\",\"\",VLOOKUP(E3345,PARAMETROS!$I$3:$J$21,2,FALSE))","v":""},null,null,null,null,null,null,""]
[null,{"$f":"IF(A3346=\"\",\"\",VLOOKUP(A3346,PARAMETROS!$B$3:$C$3,2,FALSE))","v":""},null,{"$f":"IF(C3346=\"\",\"\",VLOOKUP(C3346,PARAMETROS!$G$3:$H$21,2,FALSE))","v":""},null,{"$f":"IF(E3346=\"\",\"\",VLOOKUP(E3346,PARAMETROS!$I$3:$J$21,2,FALSE))","v":""},null,null,null,null,null,null,""]
[null,{"$f":"IF(A3347=\"\",\"\",VLOOKUP(A3347,PARAMETROS!$B$3:$C$3,2,FALSE))","v":""},null,{"$f":"IF(C3347=\"\",\"\",VLOOKUP(C3347,PARAMETROS!$G$3:$H$21,2,FALSE))","v":""},null,{"$f":"IF(E3347=\"\",\"\",VLOOKUP(E3347,PARAMETROS!$I$3:$J$21,2,FALSE))","v":""},null,null,null,null,null,null,""]
[null,{"$f":"IF(A3348=\"\",\"\",VLOOKUP(A3348,PARAMETROS!$B$3:$C$3,2,FALSE))","v":""},null,{"$f":"IF(C3348=\"\",\"\",VLOOKUP(C3348,PARAMETROS!$G$3:$H$21,2,FALSE))","v":""},null,{"$f":"IF(E3348=\"\",\"\",VLOOKUP(E3348,PARAMETROS!$I$3:$J$21,2,FALSE))","v":""},null,null,null,null,null,null,""]
[null,{"$f":"IF(A3349=\"\",\"\",VLOOKUP(A3349,PARAMETROS!$B$3:$C$3,2,FALSE))","v":""},null,{"$f":"IF(C3349=\"\",\"\",VLOOKUP(C3349,PARAMETROS!$G$3:$H$21,2,FALSE))","v":""},null,{"$f":"IF(E3349=\"\",\"\",VLOOKUP(E3349,PARAMETROS!$I$3:$J$21,2,FALSE))","v":""},null,null,null,null,null,null,""]
[null,{"$f":"IF(A3350=\"\",\"\",VLOOKUP(A3350,PARAMETROS!$B$3:$C$3,2,FALSE))","v":""},null,{"$f":"IF(C3350=\"\",\"\",VLOOKUP(C3350,PARAMETROS!$G$3:$H$21,2,FALSE))","v":""},null,{"$f":"IF(E3350=\"\",\"\",VLOOKUP(E3350,PARAMETROS!$I$3:$J$21,2,FALSE))","v":""},null,null,null,null,null,null,""]
[null,{"$f":"IF(A3351=\"\",\"\",VLOOKUP(A3351,PARAMETROS!$B$3:$C$3,2,FALSE))","v":""},null,{"$f":"IF(C3351=\"\",\"\",VLOOKUP(C3351,PARAMETROS!$G$3:$H$21,2,FALSE))","v":""},null,{"$f":"IF(E3351=\"\",\"\",VLOOKUP(E3351,PARAMETROS!$I$3:$J$21,2,FALSE))","v":""},null,null,null,null,null,null,""]
[null,{"$f":"IF(A3352=\"\",\"\",VLOOKUP(A3352,PARAMETROS!$B$3:$C$3,2,FALSE))","v":""},null,{"$f":"IF(C3352=\"\",\"\",VLOOKUP(C3352,PARAMETROS!$G$3:$H$21,2,FALSE))","v":""},null,{"$f":"IF(E3352=\"\",\"\",VLOOKUP(E3352,PARAMETROS!$I$3:$J$21,2,FALSE))","v":""},null,null,null,null,null,null,""]
[null,{"$f":"IF(A3353=\"\",\"\",VLOOKUP(A3353,PARAMETROS!$B$3:$C$3,2,FALSE))","v":""},null,{"$f":"IF(C3353=\"\",\"\",VLOOKUP(C3353,PARAMETROS!$G$3:$H$21,2,FALSE))","v":""},null,{"$f":"IF(E3353=\"\",\"\",VLOOKUP(E3353,PARAMETROS!$I$3:$J$21,2,FALSE))","v":""},null,null,null,null,null,null,""]
[null,{"$f":"IF(A3354=\"\",\"\",VLOOKUP(A3354,PARAMETROS!$B$3:$C$3,2,FALSE))","v":""},null,{"$f":"IF(C3354=\"\",\"\",VLOOKUP(C3354,PARAMETROS!$G$3:$H$21,2,FALSE))","v":""},null,{"$f":"IF(E3354=\"\",\"\",VLOOKUP(E3354,PARAMETROS!$I$3:$J$21,2,FALSE))","v":""},null,null,null,null,null,null,""]
[null,{"$f":"IF(A3355=\"\",\"\",VLOOKUP(A3355,PARAMETROS!$B$3:$C$3,2,FALSE))","v":""},null,{"$f":"IF(C3355=\"\",\"\",VLOOKUP(C3355,PARAMETROS!$G$3:$H$21,2,FALSE))","v":""},null,{"$f":"IF(E3355=\"\",\"\",VLOOKUP(E3355,PARAMETROS!$I$3:$J$21,2,FALSE))","v":""},null,null,null,null,null,null,""]
[null,{"$f":"IF(A3356=\"\",\"\",VLOOKUP(A3356,PARAMETROS!$B$3:$C$3,2,FALSE))","v":""},null,{"$f":"IF(C3356=\"\",\"\",VLOOKUP(C3356,PARAMETROS!$G$3:$H$21,2,FALSE))","v":""},null,{"$f":"IF(E3356=\"\",\"\",VLOOKUP(E3356,PARAMETROS!$I$3:$J$21,2,FALSE))","v":""},null,null,null,null,null,null,""]
[null,{"$f":"IF(A3357=\"\",\"\",VLOOKUP(A3357,PARAMETROS!$B$3:$C$3,2,FALSE))","v":""},null,{"$f":"IF(C3357=\"\",\"\",VLOOKUP(C3357,PARAMETROS!$G$3:$H$21,2,FALSE))","v":""},null,{"$f":"IF(E3357=\"\",\"\",VLOOKUP(E3357,PARAMETROS!$I$3:$J$21,2,FALSE))","v":""},null,null,null,null,null,null,""]
[null,{"$f":"IF(A3358=\"\",\"\",VLOOKUP(A3358,PARAMETROS!$B$3:$C$3,2,FALSE))","v":""},null,{"$f":"IF(C3358=\"\",\"\",VLOOKUP(C3358,PARAMETROS!$G$3:$H$21,2,FALSE))","v":""},null,{"$f":"IF(E3358=\"\",\"\",VLOOKUP(E3358,PARAMETROS!$I$3:$J$21,2,FALSE))","v":""},null,null,null,null,null,null,""]
[null,{"$f":"IF(A3359=\"\",\"\",VLOOKUP(A3359,PARAMETROS!$B$3:$C$3,2,FALSE))","v":""},null,{"$f":"IF(C3359=\"\",\"\",VLOOKUP(C3359,PARAMETROS!$G$3:$H$21,2,FALSE))","v":""},null,{"$f":"IF(E3359=\"\",\"\",VLOOKUP(E3359,PARAMETROS!$I$3:$J$21,2,FALSE))","v":""},null,null,null,null,null,null,""]
[null,{"$f":"IF(A3360=\"\",\"\",VLOOKUP(A3360,PARAMETROS!$B$3:$C$3,2,FALSE))","v":""},null,{"$f":"IF(C3360=\"\",\"\",VLOOKUP(C3360,PARAMETROS!$G$3:$H$21,2,FALSE))","v":""},null,{"$f":"IF(E3360=\"\",\"\",VLOOKUP(E3360,PARAMETROS!$I$3:$J$21,2,FALSE))","v":""},null,null,null,null,null,null,""]
[null,{"$f":"IF(A3361=\"\",\"\",VLOOKUP(A3361,PARAMETROS!$B$3:$C$3,2,FALSE))","v":""},null,{"$f":"IF(C3361=\"\",\"\",VLOOKUP(C3361,PARAMETROS!$G$3:$H$21,2,FALSE))","v":""},null,{"$f":"IF(E3361=\"\",\"\",VLOOKUP(E3361,PARAMETROS!$I$3:$J$21,2,FALSE))","v":""},null,null,null,null,null,null,""]
[null,{"$f":"IF(A3362=\"\",\"\",VLOOKUP(A3362,PARAMETROS!$B$3:$C$3,2,FALSE))","v":""},null,{"$f":"IF(C3362=\"\",\"\",VLOOKUP(C3362,PARAMETROS!$G$3:$H$21,2,FALSE))","v":""},null,{"$f":"IF(E3362=\"\",\"\",VLOOKUP(E3362,PARAMETROS!$I$3:$J$21,2,FALSE))","v":""},null,null,null,null,null,null,""]
[null,{"$f":"IF(A3363=\"\",\"\",VLOOKUP(A3363,PARAMETROS!$B$3:$C$3,2,FALSE))","v":""},null,{"$f":"IF(C3363=\"\",\"\",VLOOKUP(C3363,PARAMETROS!$G$3:$H$21,2,FALSE))","v":""},null,{"$f":"IF(E3363=\"\",\"\",VLOOKUP(E3363,PARAMETROS!$I$3:$J$21,2,FALSE))","v":""},null,null,null,null,null,null,""]
[null,{"$f":"IF(A3364=\"\",\"\",VLOOKUP(A3364,PARAMETROS!$B$3:$C$3,2,FALSE))","v":""},null,{"$f":"IF(C3364=\"\",\"\",VLOOKUP(C3364,PARAMETROS!$G$3:$H$21,2,FALSE))","v":""},null,{"$f":"IF(E3364=\"\",\"\",VLOOKUP(E3364,PARAMETROS!$I$3:$J$21,2,FALSE))","v":""},null,null,null,null,null,null,""]
[null,{"$f":"IF(A3365=\"\",\"\",VLOOKUP(A3365,PARAMETROS!$B$3:$C$3,2,FALSE))","v":""},null,{"$f":"IF(C3365=\"\",\"\",VLOOKUP(C3365,PARAMETROS!$G$3:$H$21,2,FALSE))","v":""},null,{"$f":"IF(E3365=\"\",\"\",VLOOKUP(E3365,PARAMETROS!$I$3:$J$21,2,FALSE))","v":""},null,null,null,null,null,null,""]
[null,{"$f":"IF(A3366=\"\",\"\",VLOOKUP(A3366,PARAMETROS!$B$3:$C$3,2,FALSE))","v":""},null,{"$f":"IF(C3366=\"\",\"\",VLOOKUP(C3366,PARAMETROS!$G$3:$H$21,2,FALSE))","v":""},null,{"$f":"IF(E3366=\"\",\"\",VLOOKUP(E3366,PARAMETROS!$I$3:$J$21,2,FALSE))","v":""},null,null,null,null,null,null,""]
[null,{"$f":"IF(A3367=\"\",\"\",VLOOKUP(A3367,PARAMETROS!$B$3:$C$3,2,FALSE))","v":""},null,{"$f":"IF(C3367=\"\",\"\",VLOOKUP(C3367,PARAMETROS!$G$3:$H$21,2,FALSE))","v":""},null,{"$f":"IF(E3367=\"\",\"\",VLOOKUP(E3367,PARAMETROS!$I$3:$J$21,2,FALSE))","v":""},null,null,null,null,null,null,""]
[null,{"$f":"IF(A3368=\"\",\"\",VLOOKUP(A3368,PARAMETROS!$B$3:$C$3,2,FALSE))","v":""},null,{"$f":"IF(C3368=\"\",\"\",VLOOKUP(C3368,PARAMETROS!$G$3:$H$21,2,FALSE))","v":""},null,{"$f":"IF(E3368=\"\",\"\",VLOOKUP(E3368,PARAMETROS!$I$3:$J$21,2,FALSE))","v":""},null,null,null,null,null,null,""]
[null,{"$f":"IF(A3369=\"\",\"\",VLOOKUP(A3369,PARAMETROS!$B$3:$C$3,2,FALSE))","v":""},null,{"$f":"IF(C3369=\"\",\"\",VLOOKUP(C3369,PARAMETROS!$G$3:$H$21,2,FALSE))","v":""},null,{"$f":"IF(E3369=\"\",\"\",VLOOKUP(E3369,PARAMETROS!$I$3:$J$21,2,FALSE))","v":""},null,null,null,null,null,null,""]
[null,{"$f":"IF(A3370=\"\",\"\",VLOOKUP(A3370,PARAMETROS!$B$3:$C$3,2,FALSE))","v":""},null,{"$f":"IF(C3370=\"\",\"\",VLOOKUP(C3370,PARAMETROS!$G$3:$H$21,2,FALSE))","v":""},null,{"$f":"IF(E3370=\"\",\"\",VLOOKUP(E3370,PARAMETROS!$I$3:$J$21,2,FALSE))","v":""},null,null,null,null,null,null,""]
[null,{"$f":"IF(A3371=\"\",\"\",VLOOKUP(A3371,PARAMETROS!$B$3:$C$3,2,FALSE))","v":""},null,{"$f":"IF(C3371=\"\",\"\",VLOOKUP(C3371,PARAMETROS!$G$3:$H$21,2,FALSE))","v":""},null,{"$f":"IF(E3371=\"\",\"\",VLOOKUP(E3371,PARAMETROS!$I$3:$J$21,2,FALSE))","v":""},null,null,null,null,null,null,""]
[null,{"$f":"IF(A3372=\"\",\"\",VLOOKUP(A3372,PARAMETROS!$B$3:$C$3,2,FALSE))","v":""},null,{"$f":"IF(C3372=\"\",\"\",VLOOKUP(C3372,PARAMETROS!$G$3:$H$21,2,FALSE))","v":""},null,{"$f":"IF(E3372=\"\",\"\",VLOOKUP(E3372,PARAMETROS!$I$3:$J$21,2,FALSE))","v":""},null,null,null,null,null,null,""]
[null,{"$f":"IF(A3373=\"\",\"\",VLOOKUP(A3373,PARAMETROS!$B$3:$C$3,2,FALSE))","v":""},null,{"$f":"IF(C3373=\"\",\"\",VLOOKUP(C3373,PARAMETROS!$G$3:$H$21,2,FALSE))","v":""},null,{"$f":"IF(E3373=\"\",\"\",VLOOKUP(E3373,PARAMETROS!$I$3:$J$21,2,FALSE))","v":""},null,null,null,null,null,null,""]
[null,{"$f":"IF(A3374=\"\",\"\",VLOOKUP(A3374,PARAMETROS!$B$3:$C$3,2,FALSE))","v":""},null,{"$f":"IF(C3374=\"\",\"\",VLOOKUP(C3374,PARAMETROS!$G$3:$H$21,2,FALSE))","v":""},null,{"$f":"IF(E3374=\"\",\"\",VLOOKUP(E3374,PARAMETROS!$I$3:$J$21,2,FALSE))","v":""},null,null,null,null,null,null,""]
[null,{"$f":"IF(A3375=\"\",\"\",VLOOKUP(A3375,PARAMETROS!$B$3:$C$3,2,FALSE))","v":""},null,{"$f":"IF(C3375=\"\",\"\",VLOOKUP(C3375,PARAMETROS!$G$3:$H$21,2,FALSE))","v":""},null,{"$f":"IF(E3375=\"\",\"\",VLOOKUP(E3375,PARAMETROS!$I$3:$J$21,2,FALSE))","v":""},null,null,null,null,null,null,""]
[null,{"$f":"IF(A3376=\"\",\"\",VLOOKUP(A3376,PARAMETROS!$B$3:$C$3,2,FALSE))","v":""},null,{"$f":"IF(C3376=\"\",\"\",VLOOKUP(C3376,PARAMETROS!$G$3:$H$21,2,FALSE))","v":""},null,{"$f":"IF(E3376=\"\",\"\",VLOOKUP(E3376,PARAMETROS!$I$3:$J$21,2,FALSE))","v":""},null,null,null,null,null,null,""]
[null,{"$f":"IF(A3377=\"\",\"\",VLOOKUP(A3377,PARAMETROS!$B$3:$C$3,2,FALSE))","v":""},null,{"$f":"IF(C3377=\"\",\"\",VLOOKUP(C3377,PARAMETROS!$G$3:$H$21,2,FALSE))","v":""},null,{"$f":"IF(E3377=\"\",\"\",VLOOKUP(E3377,PARAMETROS!$I$3:$J$21,2,FALSE))","v":""},null,null,null,null,null,null,""]
[null,{"$f":"IF(A3378=\"\",\"\",VLOOKUP(A3378,PARAMETROS!$B$3:$C$3,2,FALSE))","v":""},null,{"$f":"IF(C3378=\"\",\"\",VLOOKUP(C3378,PARAMETROS!$G$3:$H$21,2,FALSE))","v":""},null,{"$f":"IF(E3378=\"\",\"\",VLOOKUP(E3378,PARAMETROS!$I$3:$J$21,2,FALSE))","v":""},null,null,null,null,null,null,""]
[null,{"$f":"IF(A3379=\"\",\"\",VLOOKUP(A3379,PARAMETROS!$B$3:$C$3,2,FALSE))","v":""},null,{"$f":"IF(C3379=\"\",\"\",VLOOKUP(C3379,PARAMETROS!$G$3:$H$21,2,FALSE))","v":""},null,{"$f":"IF(E3379=\"\",\"\",VLOOKUP(E3379,PARAMETROS!$I$3:$J$21,2,FALSE))","v":""},null,null,null,null,null,null,""]
[null,{"$f":"IF(A3380=\"\",\"\",VLOOKUP(A3380,PARAMETROS!$B$3:$C$3,2,FALSE))","v":""},null,{"$f":"IF(C3380=\"\",\"\",VLOOKUP(C3380,PARAMETROS!$G$3:$H$21,2,FALSE))","v":""},null,{"$f":"IF(E3380=\"\",\"\",VLOOKUP(E3380,PARAMETROS!$I$3:$J$21,2,FALSE))","v":""},null,null,null,null,null,null,""]
[null,{"$f":"IF(A3381=\"\",\"\",VLOOKUP(A3381,PARAMETROS!$B$3:$C$3,2,FALSE))","v":""},null,{"$f":"IF(C3381=\"\",\"\",VLOOKUP(C3381,PARAMETROS!$G$3:$H$21,2,FALSE))","v":""},null,{"$f":"IF(E3381=\"\",\"\",VLOOKUP(E3381,PARAMETROS!$I$3:$J$21,2,FALSE))","v":""},null,null,null,null,null,null,""]
[null,{"$f":"IF(A3382=\"\",\"\",VLOOKUP(A3382,PARAMETROS!$B$3:$C$3,2,FALSE))","v":""},null,{"$f":"IF(C3382=\"\",\"\",VLOOKUP(C3382,PARAMETROS!$G$3:$H$21,2,FALSE))","v":""},null,{"$f":"IF(E3382=\"\",\"\",VLOOKUP(E3382,PARAMETROS!$I$3:$J$21,2,FALSE))","v":""},null,null,null,null,null,null,""]
[null,{"$f":"IF(A3383=\"\",\"\",VLOOKUP(A3383,PARAMETROS!$B$3:$C$3,2,FALSE))","v":""},null,{"$f":"IF(C3383=\"\",\"\",VLOOKUP(C3383,PARAMETROS!$G$3:$H$21,2,FALSE))","v":""},null,{"$f":"IF(E3383=\"\",\"\",VLOOKUP(E3383,PARAMETROS!$I$3:$J$21,2,FALSE))","v":""},null,null,null,null,null,null,""]
[null,{"$f":"IF(A3384=\"\",\"\",VLOOKUP(A3384,PARAMETROS!$B$3:$C$3,2,FALSE))","v":""},null,{"$f":"IF(C3384=\"\",\"\",VLOOKUP(C3384,PARAMETROS!$G$3:$H$21,2,FALSE))","v":""},null,{"$f":"IF(E3384=\"\",\"\",VLOOKUP(E3384,PARAMETROS!$I$3:$J$21,2,FALSE))","v":""},null,null,null,null,null,null,""]
[null,{"$f":"IF(A3385=\"\",\"\",VLOOKUP(A3385,PARAMETROS!$B$3:$C$3,2,FALSE))","v":""},null,{"$f":"IF(C3385=\"\",\"\",VLOOKUP(C3385,PARAMETROS!$G$3:$H$21,2,FALSE))","v":""},null,{"$f":"IF(E3385=\"\",\"\",VLOOKUP(E3385,PARAMETROS!$I$3:$J$21,2,FALSE))","v":""},null,null,null,null,null,null,""]
[null,{"$f":"IF(A3386=\"\",\"\",VLOOKUP(A3386,PARAMETROS!$B$3:$C$3,2,FALSE))","v":""},null,{"$f":"IF(C3386=\"\",\"\",VLOOKUP(C3386,PARAMETROS!$G$3:$H$21,2,FALSE))","v":""},null,{"$f":"IF(E3386=\"\",\"\",VLOOKUP(E3386,PARAMETROS!$I$3:$J$21,2,FALSE))","v":""},null,null,null,null,null,null,""]
[null,{"$f":"IF(A3387=\"\",\"\",VLOOKUP(A3387,PARAMETROS!$B$3:$C$3,2,FALSE))","v":""},null,{"$f":"IF(C3387=\"\",\"\",VLOOKUP(C3387,PARAMETROS!$G$3:$H$21,2,FALSE))","v":""},null,{"$f":"IF(E3387=\"\",\"\",VLOOKUP(E3387,PARAMETROS!$I$3:$J$21,2,FALSE))","v":""},null,null,null,null,null,null,""]
[null,{"$f":"IF(A3388=\"\",\"\",VLOOKUP(A3388,PARAMETROS!$B$3:$C$3,2,FALSE))","v":""},null,{"$f":"IF(C3388=\"\",\"\",VLOOKUP(C3388,PARAMETROS!$G$3:$H$21,2,FALSE))","v":""},null,{"$f":"IF(E3388=\"\",\"\",VLOOKUP(E3388,PARAMETROS!$I$3:$J$21,2,FALSE))","v":""},null,null,null,null,null,null,""]
[null,{"$f":"IF(A3389=\"\",\"\",VLOOKUP(A3389,PARAMETROS!$B$3:$C$3,2,FALSE))","v":""},null,{"$f":"IF(C3389=\"\",\"\",VLOOKUP(C3389,PARAMETROS!$G$3:$H$21,2,FALSE))","v":""},null,{"$f":"IF(E3389=\"\",\"\",VLOOKUP(E3389,PARAMETROS!$I$3:$J$21,2,FALSE))","v":""},null,null,null,null,null,null,""]
[null,{"$f":"IF(A3390=\"\",\"\",VLOOKUP(A3390,PARAMETROS!$B$3:$C$3,2,FALSE))","v":""},null,{"$f":"IF(C3390=\"\",\"\",VLOOKUP(C3390,PARAMETROS!$G$3:$H$21,2,FALSE))","v":""},null,{"$f":"IF(E3390=\"\",\"\",VLOOKUP(E3390,PARAMETROS!$I$3:$J$21,2,FALSE))","v":""},null,null,null,null,null,null,""]
[null,{"$f":"IF(A3391=\"\",\"\",VLOOKUP(A3391,PARAMETROS!$B$3:$C$3,2,FALSE))","v":""},null,{"$f":"IF(C3391=\"\",\"\",VLOOKUP(C3391,PARAMETROS!$G$3:$H$21,2,FALSE))","v":""},null,{"$f":"IF(E3391=\"\",\"\",VLOOKUP(E3391,PARAMETROS!$I$3:$J$21,2,FALSE))","v":""},null,null,null,null,null,null,""]
[null,{"$f":"IF(A3392=\"\",\"\",VLOOKUP(A3392,PARAMETROS!$B$3:$C$3,2,FALSE))","v":""},null,{"$f":"IF(C3392=\"\",\"\",VLOOKUP(C3392,PARAMETROS!$G$3:$H$21,2,FALSE))","v":""},null,{"$f":"IF(E3392=\"\",\"\",VLOOKUP(E3392,PARAMETROS!$I$3:$J$21,2,FALSE))","v":""},null,null,null,null,null,null,""]
[null,{"$f":"IF(A3393=\"\",\"\",VLOOKUP(A3393,PARAMETROS!$B$3:$C$3,2,FALSE))","v":""},null,{"$f":"IF(C3393=\"\",\"\",VLOOKUP(C3393,PARAMETROS!$G$3:$H$21,2,FALSE))","v":""},null,{"$f":"IF(E3393=\"\",\"\",VLOOKUP(E3393,PARAMETROS!$I$3:$J$21,2,FALSE))","v":""},null,null,null,null,null,null,""]
[null,{"$f":"IF(A3394=\"\",\"\",VLOOKUP(A3394,PARAMETROS!$B$3:$C$3,2,FALSE))","v":""},null,{"$f":"IF(C3394=\"\",\"\",VLOOKUP(C3394,PARAMETROS!$G$3:$H$21,2,FALSE))","v":""},null,{"$f":"IF(E3394=\"\",\"\",VLOOKUP(E3394,PARAMETROS!$I$3:$J$21,2,FALSE))","v":""},null,null,null,null,null,null,""]
[null,{"$f":"IF(A3395=\"\",\"\",VLOOKUP(A3395,PARAMETROS!$B$3:$C$3,2,FALSE))","v":""},null,{"$f":"IF(C3395=\"\",\"\",VLOOKUP(C3395,PARAMETROS!$G$3:$H$21,2,FALSE))","v":""},null,{"$f":"IF(E3395=\"\",\"\",VLOOKUP(E3395,PARAMETROS!$I$3:$J$21,2,FALSE))","v":""},null,null,null,null,null,null,""]
[null,{"$f":"IF(A3396=\"\",\"\",VLOOKUP(A3396,PARAMETROS!$B$3:$C$3,2,FALSE))","v":""},null,{"$f":"IF(C3396=\"\",\"\",VLOOKUP(C3396,PARAMETROS!$G$3:$H$21,2,FALSE))","v":""},null,{"$f":"IF(E3396=\"\",\"\",VLOOKUP(E3396,PARAMETROS!$I$3:$J$21,2,FALSE))","v":""},null,null,null,null,null,null,""]
[null,{"$f":"IF(A3397=\"\",\"\",VLOOKUP(A3397,PARAMETROS!$B$3:$C$3,2,FALSE))","v":""},null,{"$f":"IF(C3397=\"\",\"\",VLOOKUP(C3397,PARAMETROS!$G$3:$H$21,2,FALSE))","v":""},null,{"$f":"IF(E3397=\"\",\"\",VLOOKUP(E3397,PARAMETROS!$I$3:$J$21,2,FALSE))","v":""},null,null,null,null,null,null,""]
[null,{"$f":"IF(A3398=\"\",\"\",VLOOKUP(A3398,PARAMETROS!$B$3:$C$3,2,FALSE))","v":""},null,{"$f":"IF(C3398=\"\",\"\",VLOOKUP(C3398,PARAMETROS!$G$3:$H$21,2,FALSE))","v":""},null,{"$f":"IF(E3398=\"\",\"\",VLOOKUP(E3398,PARAMETROS!$I$3:$J$21,2,FALSE))","v":""},null,null,null,null,null,null,""]
[null,{"$f":"IF(A3399=\"\",\"\",VLOOKUP(A3399,PARAMETROS!$B$3:$C$3,2,FALSE))","v":""},null,{"$f":"IF(C3399=\"\",\"\",VLOOKUP(C3399,PARAMETROS!$G$3:$H$21,2,FALSE))","v":""},null,{"$f":"IF(E3399=\"\",\"\",VLOOKUP(E3399,PARAMETROS!$I$3:$J$21,2,FALSE))","v":""},null,null,null,null,null,null,""]
[null,{"$f":"IF(A3400=\"\",\"\",VLOOKUP(A3400,PARAMETROS!$B$3:$C$3,2,FALSE))","v":""},null,{"$f":"IF(C3400=\"\",\"\",VLOOKUP(C3400,PARAMETROS!$G$3:$H$21,2,FALSE))","v":""},null,{"$f":"IF(E3400=\"\",\"\",VLOOKUP(E3400,PARAMETROS!$I$3:$J$21,2,FALSE))","v":""},null,null,null,null,null,null,""]
[null,{"$f":"IF(A3401=\"\",\"\",VLOOKUP(A3401,PARAMETROS!$B$3:$C$3,2,FALSE))","v":""},null,{"$f":"IF(C3401=\"\",\"\",VLOOKUP(C3401,PARAMETROS!$G$3:$H$21,2,FALSE))","v":""},null,{"$f":"IF(E3401=\"\",\"\",VLOOKUP(E3401,PARAMETROS!$I$3:$J$21,2,FALSE))","v":""},null,null,null,null,null,null,""]
[null,{"$f":"IF(A3402=\"\",\"\",VLOOKUP(A3402,PARAMETROS!$B$3:$C$3,2,FALSE))","v":""},null,{"$f":"IF(C3402=\"\",\"\",VLOOKUP(C3402,PARAMETROS!$G$3:$H$21,2,FALSE))","v":""},null,{"$f":"IF(E3402=\"\",\"\",VLOOKUP(E3402,PARAMETROS!$I$3:$J$21,2,FALSE))","v":""},null,null,null,null,null,null,""]
[null,{"$f":"IF(A3403=\"\",\"\",VLOOKUP(A3403,PARAMETROS!$B$3:$C$3,2,FALSE))","v":""},null,{"$f":"IF(C3403=\"\",\"\",VLOOKUP(C3403,PARAMETROS!$G$3:$H$21,2,FALSE))","v":""},null,{"$f":"IF(E3403=\"\",\"\",VLOOKUP(E3403,PARAMETROS!$I$3:$J$21,2,FALSE))","v":""},null,null,null,null,null,null,""]
[null,{"$f":"IF(A3404=\"\",\"\",VLOOKUP(A3404,PARAMETROS!$B$3:$C$3,2,FALSE))","v":""},null,{"$f":"IF(C3404=\"\",\"\",VLOOKUP(C3404,PARAMETROS!$G$3:$H$21,2,FALSE))","v":""},null,{"$f":"IF(E3404=\"\",\"\",VLOOKUP(E3404,PARAMETROS!$I$3:$J$21,2,FALSE))","v":""},null,null,null,null,null,null,""]
[null,{"$f":"IF(A3405=\"\",\"\",VLOOKUP(A3405,PARAMETROS!$B$3:$C$3,2,FALSE))","v":""},null,{"$f":"IF(C3405=\"\",\"\",VLOOKUP(C3405,PARAMETROS!$G$3:$H$21,2,FALSE))","v":""},null,{"$f":"IF(E3405=\"\",\"\",VLOOKUP(E3405,PARAMETROS!$I$3:$J$21,2,FALSE))","v":""},null,null,null,null,null,null,""]
[null,{"$f":"IF(A3406=\"\",\"\",VLOOKUP(A3406,PARAMETROS!$B$3:$C$3,2,FALSE))","v":""},null,{"$f":"IF(C3406=\"\",\"\",VLOOKUP(C3406,PARAMETROS!$G$3:$H$21,2,FALSE))","v":""},null,{"$f":"IF(E3406=\"\",\"\",VLOOKUP(E3406,PARAMETROS!$I$3:$J$21,2,FALSE))","v":""},null,null,null,null,null,null,""]
[null,{"$f":"IF(A3407=\"\",\"\",VLOOKUP(A3407,PARAMETROS!$B$3:$C$3,2,FALSE))","v":""},null,{"$f":"IF(C3407=\"\",\"\",VLOOKUP(C3407,PARAMETROS!$G$3:$H$21,2,FALSE))","v":""},null,{"$f":"IF(E3407=\"\",\"\",VLOOKUP(E3407,PARAMETROS!$I$3:$J$21,2,FALSE))","v":""},null,null,null,null,null,null,{"$f":"IF(L3407=\"\", \"\", L3407)","v":""}]
[null,{"$f":"IF(A3408=\"\",\"\",VLOOKUP(A3408,PARAMETROS!$B$3:$C$3,2,FALSE))","v":""},null,{"$f":"IF(C3408=\"\",\"\",VLOOKUP(C3408,PARAMETROS!$G$3:$H$21,2,FALSE))","v":""},null,{"$f":"IF(E3408=\"\",\"\",VLOOKUP(E3408,PARAMETROS!$I$3:$J$21,2,FALSE))","v":""},null,null,null,null,null,null,""]
[null,{"$f":"IF(A3409=\"\",\"\",VLOOKUP(A3409,PARAMETROS!$B$3:$C$3,2,FALSE))","v":""},null,{"$f":"IF(C3409=\"\",\"\",VLOOKUP(C3409,PARAMETROS!$G$3:$H$21,2,FALSE))","v":""},null,{"$f":"IF(E3409=\"\",\"\",VLOOKUP(E3409,PARAMETROS!$I$3:$J$21,2,FALSE))","v":""},null,null,null,null,null,null,""]
[null,{"$f":"IF(A3410=\"\",\"\",VLOOKUP(A3410,PARAMETROS!$B$3:$C$3,2,FALSE))","v":""},null,{"$f":"IF(C3410=\"\",\"\",VLOOKUP(C3410,PARAMETROS!$G$3:$H$21,2,FALSE))","v":""},null,{"$f":"IF(E3410=\"\",\"\",VLOOKUP(E3410,PARAMETROS!$I$3:$J$21,2,FALSE))","v":""},null,null,null,null,null,null,""]
[null,{"$f":"IF(A3411=\"\",\"\",VLOOKUP(A3411,PARAMETROS!$B$3:$C$3,2,FALSE))","v":""},null,{"$f":"IF(C3411=\"\",\"\",VLOOKUP(C3411,PARAMETROS!$G$3:$H$21,2,FALSE))","v":""},null,{"$f":"IF(E3411=\"\",\"\",VLOOKUP(E3411,PARAMETROS!$I$3:$J$21,2,FALSE))","v":""},null,null,null,null,null,null,""]
[null,{"$f":"IF(A3412=\"\",\"\",VLOOKUP(A3412,PARAMETROS!$B$3:$C$3,2,FALSE))","v":""},null,{"$f":"IF(C3412=\"\",\"\",VLOOKUP(C3412,PARAMETROS!$G$3:$H$21,2,FALSE))","v":""},null,{"$f":"IF(E3412=\"\",\"\",VLOOKUP(E3412,PARAMETROS!$I$3:$J$21,2,FALSE))","v":""},null,null,null,null,null,null,""]
[null,{"$f":"IF(A3413=\"\",\"\",VLOOKUP(A3413,PARAMETROS!$B$3:$C$3,2,FALSE))","v":""},null,{"$f":"IF(C3413=\"\",\"\",VLOOKUP(C3413,PARAMETROS!$G$3:$H$21,2,FALSE))","v":""},null,{"$f":"IF(E3413=\"\",\"\",VLOOKUP(E3413,PARAMETROS!$I$3:$J$21,2,FALSE))","v":""},null,null,null,null,null,null,""]
[null,{"$f":"IF(A3414=\"\",\"\",VLOOKUP(A3414,PARAMETROS!$B$3:$C$3,2,FALSE))","v":""},null,{"$f":"IF(C3414=\"\",\"\",VLOOKUP(C3414,PARAMETROS!$G$3:$H$21,2,FALSE))","v":""},null,{"$f":"IF(E3414=\"\",\"\",VLOOKUP(E3414,PARAMETROS!$I$3:$J$21,2,FALSE))","v":""},null,null,null,null,null,null,""]
[null,{"$f":"IF(A3415=\"\",\"\",VLOOKUP(A3415,PARAMETROS!$B$3:$C$3,2,FALSE))","v":""},null,{"$f":"IF(C3415=\"\",\"\",VLOOKUP(C3415,PARAMETROS!$G$3:$H$21,2,FALSE))","v":""},null,{"$f":"IF(E3415=\"\",\"\",VLOOKUP(E3415,PARAMETROS!$I$3:$J$21,2,FALSE))","v":""},null,null,null,null,null,null,""]
[null,{"$f":"IF(A3416=\"\",\"\",VLOOKUP(A3416,PARAMETROS!$B$3:$C$3,2,FALSE))","v":""},null,{"$f":"IF(C3416=\"\",\"\",VLOOKUP(C3416,PARAMETROS!$G$3:$H$21,2,FALSE))","v":""},null,{"$f":"IF(E3416=\"\",\"\",VLOOKUP(E3416,PARAMETROS!$I$3:$J$21,2,FALSE))","v":""},null,null,null,null,null,null,""]
[null,{"$f":"IF(A3417=\"\",\"\",VLOOKUP(A3417,PARAMETROS!$B$3:$C$3,2,FALSE))","v":""},null,{"$f":"IF(C3417=\"\",\"\",VLOOKUP(C3417,PARAMETROS!$G$3:$H$21,2,FALSE))","v":""},null,{"$f":"IF(E3417=\"\",\"\",VLOOKUP(E3417,PARAMETROS!$I$3:$J$21,2,FALSE))","v":""},null,null,null,null,null,null,""]
[null,{"$f":"IF(A3418=\"\",\"\",VLOOKUP(A3418,PARAMETROS!$B$3:$C$3,2,FALSE))","v":""},null,{"$f":"IF(C3418=\"\",\"\",VLOOKUP(C3418,PARAMETROS!$G$3:$H$21,2,FALSE))","v":""},null,{"$f":"IF(E3418=\"\",\"\",VLOOKUP(E3418,PARAMETROS!$I$3:$J$21,2,FALSE))","v":""},null,null,null,null,null,null,""]
[null,{"$f":"IF(A3419=\"\",\"\",VLOOKUP(A3419,PARAMETROS!$B$3:$C$3,2,FALSE))","v":""},null,{"$f":"IF(C3419=\"\",\"\",VLOOKUP(C3419,PARAMETROS!$G$3:$H$21,2,FALSE))","v":""},null,{"$f":"IF(E3419=\"\",\"\",VLOOKUP(E3419,PARAMETROS!$I$3:$J$21,2,FALSE))","v":""},null,null,null,null,null,null,""]
[null,{"$f":"IF(A3420=\"\",\"\",VLOOKUP(A3420,PARAMETROS!$B$3:$C$3,2,FALSE))","v":""},null,{"$f":"IF(C3420=\"\",\"\",VLOOKUP(C3420,PARAMETROS!$G$3:$H$21,2,FALSE))","v":""},null,{"$f":"IF(E3420=\"\",\"\",VLOOKUP(E3420,PARAMETROS!$I$3:$J$21,2,FALSE))","v":""},null,null,null,null,null,null,""]
[null,{"$f":"IF(A3421=\"\",\"\",VLOOKUP(A3421,PARAMETROS!$B$3:$C$3,2,FALSE))","v":""},null,{"$f":"IF(C3421=\"\",\"\",VLOOKUP(C3421,PARAMETROS!$G$3:$H$21,2,FALSE))","v":""},null,{"$f":"IF(E3421=\"\",\"\",VLOOKUP(E3421,PARAMETROS!$I$3:$J$21,2,FALSE))","v":""},null,null,null,null,null,null,""]
[null,{"$f":"IF(A3422=\"\",\"\",VLOOKUP(A3422,PARAMETROS!$B$3:$C$3,2,FALSE))","v":""},null,{"$f":"IF(C3422=\"\",\"\",VLOOKUP(C3422,PARAMETROS!$G$3:$H$21,2,FALSE))","v":""},null,{"$f":"IF(E3422=\"\",\"\",VLOOKUP(E3422,PARAMETROS!$I$3:$J$21,2,FALSE))","v":""},null,null,null,null,null,null,""]
[null,{"$f":"IF(A3423=\"\",\"\",VLOOKUP(A3423,PARAMETROS!$B$3:$C$3,2,FALSE))","v":""},null,{"$f":"IF(C3423=\"\",\"\",VLOOKUP(C3423,PARAMETROS!$G$3:$H$21,2,FALSE))","v":""},null,{"$f":"IF(E3423=\"\",\"\",VLOOKUP(E3423,PARAMETROS!$I$3:$J$21,2,FALSE))","v":""},null,null,null,null,null,null,""]
[null,{"$f":"IF(A3424=\"\",\"\",VLOOKUP(A3424,PARAMETROS!$B$3:$C$3,2,FALSE))","v":""},null,{"$f":"IF(C3424=\"\",\"\",VLOOKUP(C3424,PARAMETROS!$G$3:$H$21,2,FALSE))","v":""},null,{"$f":"IF(E3424=\"\",\"\",VLOOKUP(E3424,PARAMETROS!$I$3:$J$21,2,FALSE))","v":""},null,null,null,null,null,null,""]
[null,{"$f":"IF(A3425=\"\",\"\",VLOOKUP(A3425,PARAMETROS!$B$3:$C$3,2,FALSE))","v":""},null,{"$f":"IF(C3425=\"\",\"\",VLOOKUP(C3425,PARAMETROS!$G$3:$H$21,2,FALSE))","v":""},null,{"$f":"IF(E3425=\"\",\"\",VLOOKUP(E3425,PARAMETROS!$I$3:$J$21,2,FALSE))","v":""},null,null,null,null,null,null,""]
[null,{"$f":"IF(A3426=\"\",\"\",VLOOKUP(A3426,PARAMETROS!$B$3:$C$3,2,FALSE))","v":""},null,{"$f":"IF(C3426=\"\",\"\",VLOOKUP(C3426,PARAMETROS!$G$3:$H$21,2,FALSE))","v":""},null,{"$f":"IF(E3426=\"\",\"\",VLOOKUP(E3426,PARAMETROS!$I$3:$J$21,2,FALSE))","v":""},null,null,null,null,null,null,""]
[null,{"$f":"IF(A3427=\"\",\"\",VLOOKUP(A3427,PARAMETROS!$B$3:$C$3,2,FALSE))","v":""},null,{"$f":"IF(C3427=\"\",\"\",VLOOKUP(C3427,PARAMETROS!$G$3:$H$21,2,FALSE))","v":""},null,{"$f":"IF(E3427=\"\",\"\",VLOOKUP(E3427,PARAMETROS!$I$3:$J$21,2,FALSE))","v":""},null,null,null,null,null,null,""]
[null,{"$f":"IF(A3428=\"\",\"\",VLOOKUP(A3428,PARAMETROS!$B$3:$C$3,2,FALSE))","v":""},null,{"$f":"IF(C3428=\"\",\"\",VLOOKUP(C3428,PARAMETROS!$G$3:$H$21,2,FALSE))","v":""},null,{"$f":"IF(E3428=\"\",\"\",VLOOKUP(E3428,PARAMETROS!$I$3:$J$21,2,FALSE))","v":""},null,null,null,null,null,null,""]
[null,{"$f":"IF(A3429=\"\",\"\",VLOOKUP(A3429,PARAMETROS!$B$3:$C$3,2,FALSE))","v":""},null,{"$f":"IF(C3429=\"\",\"\",VLOOKUP(C3429,PARAMETROS!$G$3:$H$21,2,FALSE))","v":""},null,{"$f":"IF(E3429=\"\",\"\",VLOOKUP(E3429,PARAMETROS!$I$3:$J$21,2,FALSE))","v":""},null,null,null,null,null,null,""]
[null,{"$f":"IF(A3430=\"\",\"\",VLOOKUP(A3430,PARAMETROS!$B$3:$C$3,2,FALSE))","v":""},null,{"$f":"IF(C3430=\"\",\"\",VLOOKUP(C3430,PARAMETROS!$G$3:$H$21,2,FALSE))","v":""},null,{"$f":"IF(E3430=\"\",\"\",VLOOKUP(E3430,PARAMETROS!$I$3:$J$21,2,FALSE))","v":""},null,null,null,null,null,null,""]
[null,{"$f":"IF(A3431=\"\",\"\",VLOOKUP(A3431,PARAMETROS!$B$3:$C$3,2,FALSE))","v":""},null,{"$f":"IF(C3431=\"\",\"\",VLOOKUP(C3431,PARAMETROS!$G$3:$H$21,2,FALSE))","v":""},null,{"$f":"IF(E3431=\"\",\"\",VLOOKUP(E3431,PARAMETROS!$I$3:$J$21,2,FALSE))","v":""},null,null,null,null,null,null,""]
[null,{"$f":"IF(A3432=\"\",\"\",VLOOKUP(A3432,PARAMETROS!$B$3:$C$3,2,FALSE))","v":""},null,{"$f":"IF(C3432=\"\",\"\",VLOOKUP(C3432,PARAMETROS!$G$3:$H$21,2,FALSE))","v":""},null,{"$f":"IF(E3432=\"\",\"\",VLOOKUP(E3432,PARAMETROS!$I$3:$J$21,2,FALSE))","v":""},null,null,null,null,null,null,""]
[null,{"$f":"IF(A3433=\"\",\"\",VLOOKUP(A3433,PARAMETROS!$B$3:$C$3,2,FALSE))","v":""},null,{"$f":"IF(C3433=\"\",\"\",VLOOKUP(C3433,PARAMETROS!$G$3:$H$21,2,FALSE))","v":""},null,{"$f":"IF(E3433=\"\",\"\",VLOOKUP(E3433,PARAMETROS!$I$3:$J$21,2,FALSE))","v":""},null,null,null,null,null,null,""]
[null,{"$f":"IF(A3434=\"\",\"\",VLOOKUP(A3434,PARAMETROS!$B$3:$C$3,2,FALSE))","v":""},null,{"$f":"IF(C3434=\"\",\"\",VLOOKUP(C3434,PARAMETROS!$G$3:$H$21,2,FALSE))","v":""},null,{"$f":"IF(E3434=\"\",\"\",VLOOKUP(E3434,PARAMETROS!$I$3:$J$21,2,FALSE))","v":""},null,null,null,null,null,null,""]
[null,{"$f":"IF(A3435=\"\",\"\",VLOOKUP(A3435,PARAMETROS!$B$3:$C$3,2,FALSE))","v":""},null,{"$f":"IF(C3435=\"\",\"\",VLOOKUP(C3435,PARAMETROS!$G$3:$H$21,2,FALSE))","v":""},null,{"$f":"IF(E3435=\"\",\"\",VLOOKUP(E3435,PARAMETROS!$I$3:$J$21,2,FALSE))","v":""},null,null,null,null,null,null,""]
[null,{"$f":"IF(A3436=\"\",\"\",VLOOKUP(A3436,PARAMETROS!$B$3:$C$3,2,FALSE))","v":""},null,{"$f":"IF(C3436=\"\",\"\",VLOOKUP(C3436,PARAMETROS!$G$3:$H$21,2,FALSE))","v":""},null,{"$f":"IF(E3436=\"\",\"\",VLOOKUP(E3436,PARAMETROS!$I$3:$J$21,2,FALSE))","v":""},null,null,null,null,null,null,""]
[null,{"$f":"IF(A3437=\"\",\"\",VLOOKUP(A3437,PARAMETROS!$B$3:$C$3,2,FALSE))","v":""},null,{"$f":"IF(C3437=\"\",\"\",VLOOKUP(C3437,PARAMETROS!$G$3:$H$21,2,FALSE))","v":""},null,{"$f":"IF(E3437=\"\",\"\",VLOOKUP(E3437,PARAMETROS!$I$3:$J$21,2,FALSE))","v":""},null,null,null,null,null,null,""]
[null,{"$f":"IF(A3438=\"\",\"\",VLOOKUP(A3438,PARAMETROS!$B$3:$C$3,2,FALSE))","v":""},null,{"$f":"IF(C3438=\"\",\"\",VLOOKUP(C3438,PARAMETROS!$G$3:$H$21,2,FALSE))","v":""},null,{"$f":"IF(E3438=\"\",\"\",VLOOKUP(E3438,PARAMETROS!$I$3:$J$21,2,FALSE))","v":""},null,null,null,null,null,null,""]
[null,{"$f":"IF(A3439=\"\",\"\",VLOOKUP(A3439,PARAMETROS!$B$3:$C$3,2,FALSE))","v":""},null,{"$f":"IF(C3439=\"\",\"\",VLOOKUP(C3439,PARAMETROS!$G$3:$H$21,2,FALSE))","v":""},null,{"$f":"IF(E3439=\"\",\"\",VLOOKUP(E3439,PARAMETROS!$I$3:$J$21,2,FALSE))","v":""},null,null,null,null,null,null,""]
[null,{"$f":"IF(A3440=\"\",\"\",VLOOKUP(A3440,PARAMETROS!$B$3:$C$3,2,FALSE))","v":""},null,{"$f":"IF(C3440=\"\",\"\",VLOOKUP(C3440,PARAMETROS!$G$3:$H$21,2,FALSE))","v":""},null,{"$f":"IF(E3440=\"\",\"\",VLOOKUP(E3440,PARAMETROS!$I$3:$J$21,2,FALSE))","v":""},null,null,null,null,null,null,""]
[null,{"$f":"IF(A3441=\"\",\"\",VLOOKUP(A3441,PARAMETROS!$B$3:$C$3,2,FALSE))","v":""},null,{"$f":"IF(C3441=\"\",\"\",VLOOKUP(C3441,PARAMETROS!$G$3:$H$21,2,FALSE))","v":""},null,{"$f":"IF(E3441=\"\",\"\",VLOOKUP(E3441,PARAMETROS!$I$3:$J$21,2,FALSE))","v":""},null,null,null,null,null,null,""]
[null,{"$f":"IF(A3442=\"\",\"\",VLOOKUP(A3442,PARAMETROS!$B$3:$C$3,2,FALSE))","v":""},null,{"$f":"IF(C3442=\"\",\"\",VLOOKUP(C3442,PARAMETROS!$G$3:$H$21,2,FALSE))","v":""},null,{"$f":"IF(E3442=\"\",\"\",VLOOKUP(E3442,PARAMETROS!$I$3:$J$21,2,FALSE))","v":""},null,null,null,null,null,null,""]
[null,{"$f":"IF(A3443=\"\",\"\",VLOOKUP(A3443,PARAMETROS!$B$3:$C$3,2,FALSE))","v":""},null,{"$f":"IF(C3443=\"\",\"\",VLOOKUP(C3443,PARAMETROS!$G$3:$H$21,2,FALSE))","v":""},null,{"$f":"IF(E3443=\"\",\"\",VLOOKUP(E3443,PARAMETROS!$I$3:$J$21,2,FALSE))","v":""},null,null,null,null,null,null,""]
[null,{"$f":"IF(A3444=\"\",\"\",VLOOKUP(A3444,PARAMETROS!$B$3:$C$3,2,FALSE))","v":""},null,{"$f":"IF(C3444=\"\",\"\",VLOOKUP(C3444,PARAMETROS!$G$3:$H$21,2,FALSE))","v":""},null,{"$f":"IF(E3444=\"\",\"\",VLOOKUP(E3444,PARAMETROS!$I$3:$J$21,2,FALSE))","v":""},null,null,null,null,null,null,""]
[null,{"$f":"IF(A3445=\"\",\"\",VLOOKUP(A3445,PARAMETROS!$B$3:$C$3,2,FALSE))","v":""},null,{"$f":"IF(C3445=\"\",\"\",VLOOKUP(C3445,PARAMETROS!$G$3:$H$21,2,FALSE))","v":""},null,{"$f":"IF(E3445=\"\",\"\",VLOOKUP(E3445,PARAMETROS!$I$3:$J$21,2,FALSE))","v":""},null,null,null,null,null,null,""]
[null,{"$f":"IF(A3446=\"\",\"\",VLOOKUP(A3446,PARAMETROS!$B$3:$C$3,2,FALSE))","v":""},null,{"$f":"IF(C3446=\"\",\"\",VLOOKUP(C3446,PARAMETROS!$G$3:$H$21,2,FALSE))","v":""},null,{"$f":"IF(E3446=\"\",\"\",VLOOKUP(E3446,PARAMETROS!$I$3:$J$21,2,FALSE))","v":""},null,null,null,null,null,null,""]
[null,{"$f":"IF(A3447=\"\",\"\",VLOOKUP(A3447,PARAMETROS!$B$3:$C$3,2,FALSE))","v":""},null,{"$f":"IF(C3447=\"\",\"\",VLOOKUP(C3447,PARAMETROS!$G$3:$H$21,2,FALSE))","v":""},null,{"$f":"IF(E3447=\"\",\"\",VLOOKUP(E3447,PARAMETROS!$I$3:$J$21,2,FALSE))","v":""},null,null,null,null,null,null,""]
[null,{"$f":"IF(A3448=\"\",\"\",VLOOKUP(A3448,PARAMETROS!$B$3:$C$3,2,FALSE))","v":""},null,{"$f":"IF(C3448=\"\",\"\",VLOOKUP(C3448,PARAMETROS!$G$3:$H$21,2,FALSE))","v":""},null,{"$f":"IF(E3448=\"\",\"\",VLOOKUP(E3448,PARAMETROS!$I$3:$J$21,2,FALSE))","v":""},null,null,null,null,null,null,""]
[null,{"$f":"IF(A3449=\"\",\"\",VLOOKUP(A3449,PARAMETROS!$B$3:$C$3,2,FALSE))","v":""},null,{"$f":"IF(C3449=\"\",\"\",VLOOKUP(C3449,PARAMETROS!$G$3:$H$21,2,FALSE))","v":""},null,{"$f":"IF(E3449=\"\",\"\",VLOOKUP(E3449,PARAMETROS!$I$3:$J$21,2,FALSE))","v":""},null,null,null,null,null,null,""]
[null,{"$f":"IF(A3450=\"\",\"\",VLOOKUP(A3450,PARAMETROS!$B$3:$C$3,2,FALSE))","v":""},null,{"$f":"IF(C3450=\"\",\"\",VLOOKUP(C3450,PARAMETROS!$G$3:$H$21,2,FALSE))","v":""},null,{"$f":"IF(E3450=\"\",\"\",VLOOKUP(E3450,PARAMETROS!$I$3:$J$21,2,FALSE))","v":""},null,null,null,null,null,null,""]
[null,{"$f":"IF(A3451=\"\",\"\",VLOOKUP(A3451,PARAMETROS!$B$3:$C$3,2,FALSE))","v":""},null,{"$f":"IF(C3451=\"\",\"\",VLOOKUP(C3451,PARAMETROS!$G$3:$H$21,2,FALSE))","v":""},null,{"$f":"IF(E3451=\"\",\"\",VLOOKUP(E3451,PARAMETROS!$I$3:$J$21,2,FALSE))","v":""},null,null,null,null,null,null,""]
[null,{"$f":"IF(A3452=\"\",\"\",VLOOKUP(A3452,PARAMETROS!$B$3:$C$3,2,FALSE))","v":""},null,{"$f":"IF(C3452=\"\",\"\",VLOOKUP(C3452,PARAMETROS!$G$3:$H$21,2,FALSE))","v":""},null,{"$f":"IF(E3452=\"\",\"\",VLOOKUP(E3452,PARAMETROS!$I$3:$J$21,2,FALSE))","v":""},null,null,null,null,null,null,""]
[null,{"$f":"IF(A3453=\"\",\"\",VLOOKUP(A3453,PARAMETROS!$B$3:$C$3,2,FALSE))","v":""},null,{"$f":"IF(C3453=\"\",\"\",VLOOKUP(C3453,PARAMETROS!$G$3:$H$21,2,FALSE))","v":""},null,{"$f":"IF(E3453=\"\",\"\",VLOOKUP(E3453,PARAMETROS!$I$3:$J$21,2,FALSE))","v":""},null,null,null,null,null,null,""]
[null,{"$f":"IF(A3454=\"\",\"\",VLOOKUP(A3454,PARAMETROS!$B$3:$C$3,2,FALSE))","v":""},null,{"$f":"IF(C3454=\"\",\"\",VLOOKUP(C3454,PARAMETROS!$G$3:$H$21,2,FALSE))","v":""},null,{"$f":"IF(E3454=\"\",\"\",VLOOKUP(E3454,PARAMETROS!$I$3:$J$21,2,FALSE))","v":""},null,null,null,null,null,null,""]
[null,{"$f":"IF(A3455=\"\",\"\",VLOOKUP(A3455,PARAMETROS!$B$3:$C$3,2,FALSE))","v":""},null,{"$f":"IF(C3455=\"\",\"\",VLOOKUP(C3455,PARAMETROS!$G$3:$H$21,2,FALSE))","v":""},null,{"$f":"IF(E3455=\"\",\"\",VLOOKUP(E3455,PARAMETROS!$I$3:$J$21,2,FALSE))","v":""},null,null,null,null,null,null,""]
[null,{"$f":"IF(A3456=\"\",\"\",VLOOKUP(A3456,PARAMETROS!$B$3:$C$3,2,FALSE))","v":""},null,{"$f":"IF(C3456=\"\",\"\",VLOOKUP(C3456,PARAMETROS!$G$3:$H$21,2,FALSE))","v":""},null,{"$f":"IF(E3456=\"\",\"\",VLOOKUP(E3456,PARAMETROS!$I$3:$J$21,2,FALSE))","v":""},null,null,null,null,null,null,""]
[null,{"$f":"IF(A3457=\"\",\"\",VLOOKUP(A3457,PARAMETROS!$B$3:$C$3,2,FALSE))","v":""},null,{"$f":"IF(C3457=\"\",\"\",VLOOKUP(C3457,PARAMETROS!$G$3:$H$21,2,FALSE))","v":""},null,{"$f":"IF(E3457=\"\",\"\",VLOOKUP(E3457,PARAMETROS!$I$3:$J$21,2,FALSE))","v":""},null,null,null,null,null,null,""]
[null,{"$f":"IF(A3458=\"\",\"\",VLOOKUP(A3458,PARAMETROS!$B$3:$C$3,2,FALSE))","v":""},null,{"$f":"IF(C3458=\"\",\"\",VLOOKUP(C3458,PARAMETROS!$G$3:$H$21,2,FALSE))","v":""},null,{"$f":"IF(E3458=\"\",\"\",VLOOKUP(E3458,PARAMETROS!$I$3:$J$21,2,FALSE))","v":""},null,null,null,null,null,null,""]
[null,{"$f":"IF(A3459=\"\",\"\",VLOOKUP(A3459,PARAMETROS!$B$3:$C$3,2,FALSE))","v":""},null,{"$f":"IF(C3459=\"\",\"\",VLOOKUP(C3459,PARAMETROS!$G$3:$H$21,2,FALSE))","v":""},null,{"$f":"IF(E3459=\"\",\"\",VLOOKUP(E3459,PARAMETROS!$I$3:$J$21,2,FALSE))","v":""},null,null,null,null,null,null,""]
[null,{"$f":"IF(A3460=\"\",\"\",VLOOKUP(A3460,PARAMETROS!$B$3:$C$3,2,FALSE))","v":""},null,{"$f":"IF(C3460=\"\",\"\",VLOOKUP(C3460,PARAMETROS!$G$3:$H$21,2,FALSE))","v":""},null,{"$f":"IF(E3460=\"\",\"\",VLOOKUP(E3460,PARAMETROS!$I$3:$J$21,2,FALSE))","v":""},null,null,null,null,null,null,""]
[null,{"$f":"IF(A3461=\"\",\"\",VLOOKUP(A3461,PARAMETROS!$B$3:$C$3,2,FALSE))","v":""},null,{"$f":"IF(C3461=\"\",\"\",VLOOKUP(C3461,PARAMETROS!$G$3:$H$21,2,FALSE))","v":""},null,{"$f":"IF(E3461=\"\",\"\",VLOOKUP(E3461,PARAMETROS!$I$3:$J$21,2,FALSE))","v":""},null,null,null,null,null,null,""]
[null,{"$f":"IF(A3462=\"\",\"\",VLOOKUP(A3462,PARAMETROS!$B$3:$C$3,2,FALSE))","v":""},null,{"$f":"IF(C3462=\"\",\"\",VLOOKUP(C3462,PARAMETROS!$G$3:$H$21,2,FALSE))","v":""},null,{"$f":"IF(E3462=\"\",\"\",VLOOKUP(E3462,PARAMETROS!$I$3:$J$21,2,FALSE))","v":""},null,null,null,null,null,null,""]
[null,{"$f":"IF(A3463=\"\",\"\",VLOOKUP(A3463,PARAMETROS!$B$3:$C$3,2,FALSE))","v":""},null,{"$f":"IF(C3463=\"\",\"\",VLOOKUP(C3463,PARAMETROS!$G$3:$H$21,2,FALSE))","v":""},null,{"$f":"IF(E3463=\"\",\"\",VLOOKUP(E3463,PARAMETROS!$I$3:$J$21,2,FALSE))","v":""},null,null,null,null,null,null,""]
[null,{"$f":"IF(A3464=\"\",\"\",VLOOKUP(A3464,PARAMETROS!$B$3:$C$3,2,FALSE))","v":""},null,{"$f":"IF(C3464=\"\",\"\",VLOOKUP(C3464,PARAMETROS!$G$3:$H$21,2,FALSE))","v":""},null,{"$f":"IF(E3464=\"\",\"\",VLOOKUP(E3464,PARAMETROS!$I$3:$J$21,2,FALSE))","v":""},null,null,null,null,null,null,""]
[null,{"$f":"IF(A3465=\"\",\"\",VLOOKUP(A3465,PARAMETROS!$B$3:$C$3,2,FALSE))","v":""},null,{"$f":"IF(C3465=\"\",\"\",VLOOKUP(C3465,PARAMETROS!$G$3:$H$21,2,FALSE))","v":""},null,{"$f":"IF(E3465=\"\",\"\",VLOOKUP(E3465,PARAMETROS!$I$3:$J$21,2,FALSE))","v":""},null,null,null,null,null,null,""]
[null,{"$f":"IF(A3466=\"\",\"\",VLOOKUP(A3466,PARAMETROS!$B$3:$C$3,2,FALSE))","v":""},null,{"$f":"IF(C3466=\"\",\"\",VLOOKUP(C3466,PARAMETROS!$G$3:$H$21,2,FALSE))","v":""},null,{"$f":"IF(E3466=\"\",\"\",VLOOKUP(E3466,PARAMETROS!$I$3:$J$21,2,FALSE))","v":""},null,null,null,null,null,null,""]
[null,{"$f":"IF(A3467=\"\",\"\",VLOOKUP(A3467,PARAMETROS!$B$3:$C$3,2,FALSE))","v":""},null,{"$f":"IF(C3467=\"\",\"\",VLOOKUP(C3467,PARAMETROS!$G$3:$H$21,2,FALSE))","v":""},null,{"$f":"IF(E3467=\"\",\"\",VLOOKUP(E3467,PARAMETROS!$I$3:$J$21,2,FALSE))","v":""},null,null,null,null,null,null,""]
[null,{"$f":"IF(A3468=\"\",\"\",VLOOKUP(A3468,PARAMETROS!$B$3:$C$3,2,FALSE))","v":""},null,{"$f":"IF(C3468=\"\",\"\",VLOOKUP(C3468,PARAMETROS!$G$3:$H$21,2,FALSE))","v":""},null,{"$f":"IF(E3468=\"\",\"\",VLOOKUP(E3468,PARAMETROS!$I$3:$J$21,2,FALSE))","v":""},null,null,null,null,null,null,""]
[null,{"$f":"IF(A3469=\"\",\"\",VLOOKUP(A3469,PARAMETROS!$B$3:$C$3,2,FALSE))","v":""},null,{"$f":"IF(C3469=\"\",\"\",VLOOKUP(C3469,PARAMETROS!$G$3:$H$21,2,FALSE))","v":""},null,{"$f":"IF(E3469=\"\",\"\",VLOOKUP(E3469,PARAMETROS!$I$3:$J$21,2,FALSE))","v":""},null,null,null,null,null,null,""]
[null,{"$f":"IF(A3470=\"\",\"\",VLOOKUP(A3470,PARAMETROS!$B$3:$C$3,2,FALSE))","v":""},null,{"$f":"IF(C3470=\"\",\"\",VLOOKUP(C3470,PARAMETROS!$G$3:$H$21,2,FALSE))","v":""},null,{"$f":"IF(E3470=\"\",\"\",VLOOKUP(E3470,PARAMETROS!$I$3:$J$21,2,FALSE))","v":""},null,null,null,null,null,null,""]
[null,{"$f":"IF(A3471=\"\",\"\",VLOOKUP(A3471,PARAMETROS!$B$3:$C$3,2,FALSE))","v":""},null,{"$f":"IF(C3471=\"\",\"\",VLOOKUP(C3471,PARAMETROS!$G$3:$H$21,2,FALSE))","v":""},null,{"$f":"IF(E3471=\"\",\"\",VLOOKUP(E3471,PARAMETROS!$I$3:$J$21,2,FALSE))","v":""},null,null,null,null,null,null,{"$f":"IF(L3471=\"\", \"\", L3471)","v":""}]
[null,{"$f":"IF(A3472=\"\",\"\",VLOOKUP(A3472,PARAMETROS!$B$3:$C$3,2,FALSE))","v":""},null,{"$f":"IF(C3472=\"\",\"\",VLOOKUP(C3472,PARAMETROS!$G$3:$H$21,2,FALSE))","v":""},null,{"$f":"IF(E3472=\"\",\"\",VLOOKUP(E3472,PARAMETROS!$I$3:$J$21,2,FALSE))","v":""},null,null,null,null,null,null,""]
[null,{"$f":"IF(A3473=\"\",\"\",VLOOKUP(A3473,PARAMETROS!$B$3:$C$3,2,FALSE))","v":""},null,{"$f":"IF(C3473=\"\",\"\",VLOOKUP(C3473,PARAMETROS!$G$3:$H$21,2,FALSE))","v":""},null,{"$f":"IF(E3473=\"\",\"\",VLOOKUP(E3473,PARAMETROS!$I$3:$J$21,2,FALSE))","v":""},null,null,null,null,null,null,""]
[null,{"$f":"IF(A3474=\"\",\"\",VLOOKUP(A3474,PARAMETROS!$B$3:$C$3,2,FALSE))","v":""},null,{"$f":"IF(C3474=\"\",\"\",VLOOKUP(C3474,PARAMETROS!$G$3:$H$21,2,FALSE))","v":""},null,{"$f":"IF(E3474=\"\",\"\",VLOOKUP(E3474,PARAMETROS!$I$3:$J$21,2,FALSE))","v":""},null,null,null,null,null,null,""]
[null,{"$f":"IF(A3475=\"\",\"\",VLOOKUP(A3475,PARAMETROS!$B$3:$C$3,2,FALSE))","v":""},null,{"$f":"IF(C3475=\"\",\"\",VLOOKUP(C3475,PARAMETROS!$G$3:$H$21,2,FALSE))","v":""},null,{"$f":"IF(E3475=\"\",\"\",VLOOKUP(E3475,PARAMETROS!$I$3:$J$21,2,FALSE))","v":""},null,null,null,null,null,null,""]
[null,{"$f":"IF(A3476=\"\",\"\",VLOOKUP(A3476,PARAMETROS!$B$3:$C$3,2,FALSE))","v":""},null,{"$f":"IF(C3476=\"\",\"\",VLOOKUP(C3476,PARAMETROS!$G$3:$H$21,2,FALSE))","v":""},null,{"$f":"IF(E3476=\"\",\"\",VLOOKUP(E3476,PARAMETROS!$I$3:$J$21,2,FALSE))","v":""},null,null,null,null,null,null,""]
[null,{"$f":"IF(A3477=\"\",\"\",VLOOKUP(A3477,PARAMETROS!$B$3:$C$3,2,FALSE))","v":""},null,{"$f":"IF(C3477=\"\",\"\",VLOOKUP(C3477,PARAMETROS!$G$3:$H$21,2,FALSE))","v":""},null,{"$f":"IF(E3477=\"\",\"\",VLOOKUP(E3477,PARAMETROS!$I$3:$J$21,2,FALSE))","v":""},null,null,null,null,null,null,""]
[null,{"$f":"IF(A3478=\"\",\"\",VLOOKUP(A3478,PARAMETROS!$B$3:$C$3,2,FALSE))","v":""},null,{"$f":"IF(C3478=\"\",\"\",VLOOKUP(C3478,PARAMETROS!$G$3:$H$21,2,FALSE))","v":""},null,{"$f":"IF(E3478=\"\",\"\",VLOOKUP(E3478,PARAMETROS!$I$3:$J$21,2,FALSE))","v":""},null,null,null,null,null,null,""]
[null,{"$f":"IF(A3479=\"\",\"\",VLOOKUP(A3479,PARAMETROS!$B$3:$C$3,2,FALSE))","v":""},null,{"$f":"IF(C3479=\"\",\"\",VLOOKUP(C3479,PARAMETROS!$G$3:$H$21,2,FALSE))","v":""},null,{"$f":"IF(E3479=\"\",\"\",VLOOKUP(E3479,PARAMETROS!$I$3:$J$21,2,FALSE))","v":""},null,null,null,null,null,null,""]
[null,{"$f":"IF(A3480=\"\",\"\",VLOOKUP(A3480,PARAMETROS!$B$3:$C$3,2,FALSE))","v":""},null,{"$f":"IF(C3480=\"\",\"\",VLOOKUP(C3480,PARAMETROS!$G$3:$H$21,2,FALSE))","v":""},null,{"$f":"IF(E3480=\"\",\"\",VLOOKUP(E3480,PARAMETROS!$I$3:$J$21,2,FALSE))","v":""},null,null,null,null,null,null,""]
[null,{"$f":"IF(A3481=\"\",\"\",VLOOKUP(A3481,PARAMETROS!$B$3:$C$3,2,FALSE))","v":""},null,{"$f":"IF(C3481=\"\",\"\",VLOOKUP(C3481,PARAMETROS!$G$3:$H$21,2,FALSE))","v":""},null,{"$f":"IF(E3481=\"\",\"\",VLOOKUP(E3481,PARAMETROS!$I$3:$J$21,2,FALSE))","v":""},null,null,null,null,null,null,""]
[null,{"$f":"IF(A3482=\"\",\"\",VLOOKUP(A3482,PARAMETROS!$B$3:$C$3,2,FALSE))","v":""},null,{"$f":"IF(C3482=\"\",\"\",VLOOKUP(C3482,PARAMETROS!$G$3:$H$21,2,FALSE))","v":""},null,{"$f":"IF(E3482=\"\",\"\",VLOOKUP(E3482,PARAMETROS!$I$3:$J$21,2,FALSE))","v":""},null,null,null,null,null,null,""]
[null,{"$f":"IF(A3483=\"\",\"\",VLOOKUP(A3483,PARAMETROS!$B$3:$C$3,2,FALSE))","v":""},null,{"$f":"IF(C3483=\"\",\"\",VLOOKUP(C3483,PARAMETROS!$G$3:$H$21,2,FALSE))","v":""},null,{"$f":"IF(E3483=\"\",\"\",VLOOKUP(E3483,PARAMETROS!$I$3:$J$21,2,FALSE))","v":""},null,null,null,null,null,null,""]
[null,{"$f":"IF(A3484=\"\",\"\",VLOOKUP(A3484,PARAMETROS!$B$3:$C$3,2,FALSE))","v":""},null,{"$f":"IF(C3484=\"\",\"\",VLOOKUP(C3484,PARAMETROS!$G$3:$H$21,2,FALSE))","v":""},null,{"$f":"IF(E3484=\"\",\"\",VLOOKUP(E3484,PARAMETROS!$I$3:$J$21,2,FALSE))","v":""},null,null,null,null,null,null,""]
[null,{"$f":"IF(A3485=\"\",\"\",VLOOKUP(A3485,PARAMETROS!$B$3:$C$3,2,FALSE))","v":""},null,{"$f":"IF(C3485=\"\",\"\",VLOOKUP(C3485,PARAMETROS!$G$3:$H$21,2,FALSE))","v":""},null,{"$f":"IF(E3485=\"\",\"\",VLOOKUP(E3485,PARAMETROS!$I$3:$J$21,2,FALSE))","v":""},null,null,null,null,null,null,""]
[null,{"$f":"IF(A3486=\"\",\"\",VLOOKUP(A3486,PARAMETROS!$B$3:$C$3,2,FALSE))","v":""},null,{"$f":"IF(C3486=\"\",\"\",VLOOKUP(C3486,PARAMETROS!$G$3:$H$21,2,FALSE))","v":""},null,{"$f":"IF(E3486=\"\",\"\",VLOOKUP(E3486,PARAMETROS!$I$3:$J$21,2,FALSE))","v":""},null,null,null,null,null,null,""]
[null,{"$f":"IF(A3487=\"\",\"\",VLOOKUP(A3487,PARAMETROS!$B$3:$C$3,2,FALSE))","v":""},null,{"$f":"IF(C3487=\"\",\"\",VLOOKUP(C3487,PARAMETROS!$G$3:$H$21,2,FALSE))","v":""},null,{"$f":"IF(E3487=\"\",\"\",VLOOKUP(E3487,PARAMETROS!$I$3:$J$21,2,FALSE))","v":""},null,null,null,null,null,null,""]
[null,{"$f":"IF(A3488=\"\",\"\",VLOOKUP(A3488,PARAMETROS!$B$3:$C$3,2,FALSE))","v":""},null,{"$f":"IF(C3488=\"\",\"\",VLOOKUP(C3488,PARAMETROS!$G$3:$H$21,2,FALSE))","v":""},null,{"$f":"IF(E3488=\"\",\"\",VLOOKUP(E3488,PARAMETROS!$I$3:$J$21,2,FALSE))","v":""},null,null,null,null,null,null,""]
[null,{"$f":"IF(A3489=\"\",\"\",VLOOKUP(A3489,PARAMETROS!$B$3:$C$3,2,FALSE))","v":""},null,{"$f":"IF(C3489=\"\",\"\",VLOOKUP(C3489,PARAMETROS!$G$3:$H$21,2,FALSE))","v":""},null,{"$f":"IF(E3489=\"\",\"\",VLOOKUP(E3489,PARAMETROS!$I$3:$J$21,2,FALSE))","v":""},null,null,null,null,null,null,""]
[null,{"$f":"IF(A3490=\"\",\"\",VLOOKUP(A3490,PARAMETROS!$B$3:$C$3,2,FALSE))","v":""},null,{"$f":"IF(C3490=\"\",\"\",VLOOKUP(C3490,PARAMETROS!$G$3:$H$21,2,FALSE))","v":""},null,{"$f":"IF(E3490=\"\",\"\",VLOOKUP(E3490,PARAMETROS!$I$3:$J$21,2,FALSE))","v":""},null,null,null,null,null,null,""]
[null,{"$f":"IF(A3491=\"\",\"\",VLOOKUP(A3491,PARAMETROS!$B$3:$C$3,2,FALSE))","v":""},null,{"$f":"IF(C3491=\"\",\"\",VLOOKUP(C3491,PARAMETROS!$G$3:$H$21,2,FALSE))","v":""},null,{"$f":"IF(E3491=\"\",\"\",VLOOKUP(E3491,PARAMETROS!$I$3:$J$21,2,FALSE))","v":""},null,null,null,null,null,null,""]
[null,{"$f":"IF(A3492=\"\",\"\",VLOOKUP(A3492,PARAMETROS!$B$3:$C$3,2,FALSE))","v":""},null,{"$f":"IF(C3492=\"\",\"\",VLOOKUP(C3492,PARAMETROS!$G$3:$H$21,2,FALSE))","v":""},null,{"$f":"IF(E3492=\"\",\"\",VLOOKUP(E3492,PARAMETROS!$I$3:$J$21,2,FALSE))","v":""},null,null,null,null,null,null,""]
[null,{"$f":"IF(A3493=\"\",\"\",VLOOKUP(A3493,PARAMETROS!$B$3:$C$3,2,FALSE))","v":""},null,{"$f":"IF(C3493=\"\",\"\",VLOOKUP(C3493,PARAMETROS!$G$3:$H$21,2,FALSE))","v":""},null,{"$f":"IF(E3493=\"\",\"\",VLOOKUP(E3493,PARAMETROS!$I$3:$J$21,2,FALSE))","v":""},null,null,null,null,null,null,""]
[null,{"$f":"IF(A3494=\"\",\"\",VLOOKUP(A3494,PARAMETROS!$B$3:$C$3,2,FALSE))","v":""},null,{"$f":"IF(C3494=\"\",\"\",VLOOKUP(C3494,PARAMETROS!$G$3:$H$21,2,FALSE))","v":""},null,{"$f":"IF(E3494=\"\",\"\",VLOOKUP(E3494,PARAMETROS!$I$3:$J$21,2,FALSE))","v":""},null,null,null,null,null,null,""]
[null,{"$f":"IF(A3495=\"\",\"\",VLOOKUP(A3495,PARAMETROS!$B$3:$C$3,2,FALSE))","v":""},null,{"$f":"IF(C3495=\"\",\"\",VLOOKUP(C3495,PARAMETROS!$G$3:$H$21,2,FALSE))","v":""},null,{"$f":"IF(E3495=\"\",\"\",VLOOKUP(E3495,PARAMETROS!$I$3:$J$21,2,FALSE))","v":""},null,null,null,null,null,null,""]
[null,{"$f":"IF(A3496=\"\",\"\",VLOOKUP(A3496,PARAMETROS!$B$3:$C$3,2,FALSE))","v":""},null,{"$f":"IF(C3496=\"\",\"\",VLOOKUP(C3496,PARAMETROS!$G$3:$H$21,2,FALSE))","v":""},null,{"$f":"IF(E3496=\"\",\"\",VLOOKUP(E3496,PARAMETROS!$I$3:$J$21,2,FALSE))","v":""},null,null,null,null,null,null,""]
[null,{"$f":"IF(A3497=\"\",\"\",VLOOKUP(A3497,PARAMETROS!$B$3:$C$3,2,FALSE))","v":""},null,{"$f":"IF(C3497=\"\",\"\",VLOOKUP(C3497,PARAMETROS!$G$3:$H$21,2,FALSE))","v":""},null,{"$f":"IF(E3497=\"\",\"\",VLOOKUP(E3497,PARAMETROS!$I$3:$J$21,2,FALSE))","v":""},null,null,null,null,null,null,""]
[null,{"$f":"IF(A3498=\"\",\"\",VLOOKUP(A3498,PARAMETROS!$B$3:$C$3,2,FALSE))","v":""},null,{"$f":"IF(C3498=\"\",\"\",VLOOKUP(C3498,PARAMETROS!$G$3:$H$21,2,FALSE))","v":""},null,{"$f":"IF(E3498=\"\",\"\",VLOOKUP(E3498,PARAMETROS!$I$3:$J$21,2,FALSE))","v":""},null,null,null,null,null,null,""]
[null,{"$f":"IF(A3499=\"\",\"\",VLOOKUP(A3499,PARAMETROS!$B$3:$C$3,2,FALSE))","v":""},null,{"$f":"IF(C3499=\"\",\"\",VLOOKUP(C3499,PARAMETROS!$G$3:$H$21,2,FALSE))","v":""},null,{"$f":"IF(E3499=\"\",\"\",VLOOKUP(E3499,PARAMETROS!$I$3:$J$21,2,FALSE))","v":""},null,null,null,null,null,null,""]
[null,{"$f":"IF(A3500=\"\",\"\",VLOOKUP(A3500,PARAMETROS!$B$3:$C$3,2,FALSE))","v":""},null,{"$f":"IF(C3500=\"\",\"\",VLOOKUP(C3500,PARAMETROS!$G$3:$H$21,2,FALSE))","v":""},null,{"$f":"IF(E3500=\"\",\"\",VLOOKUP(E3500,PARAMETROS!$I$3:$J$21,2,FALSE))","v":""},null,null,null,null,null,null,""]
[null,{"$f":"IF(A3501=\"\",\"\",VLOOKUP(A3501,PARAMETROS!$B$3:$C$3,2,FALSE))","v":""},null,{"$f":"IF(C3501=\"\",\"\",VLOOKUP(C3501,PARAMETROS!$G$3:$H$21,2,FALSE))","v":""},null,{"$f":"IF(E3501=\"\",\"\",VLOOKUP(E3501,PARAMETROS!$I$3:$J$21,2,FALSE))","v":""},null,null,null,null,null,null,""]
[null,{"$f":"IF(A3502=\"\",\"\",VLOOKUP(A3502,PARAMETROS!$B$3:$C$3,2,FALSE))","v":""},null,{"$f":"IF(C3502=\"\",\"\",VLOOKUP(C3502,PARAMETROS!$G$3:$H$21,2,FALSE))","v":""},null,{"$f":"IF(E3502=\"\",\"\",VLOOKUP(E3502,PARAMETROS!$I$3:$J$21,2,FALSE))","v":""},null,null,null,null,null,null,""]
[null,{"$f":"IF(A3503=\"\",\"\",VLOOKUP(A3503,PARAMETROS!$B$3:$C$3,2,FALSE))","v":""},null,{"$f":"IF(C3503=\"\",\"\",VLOOKUP(C3503,PARAMETROS!$G$3:$H$21,2,FALSE))","v":""},null,{"$f":"IF(E3503=\"\",\"\",VLOOKUP(E3503,PARAMETROS!$I$3:$J$21,2,FALSE))","v":""},null,null,null,null,null,null,""]
[null,{"$f":"IF(A3504=\"\",\"\",VLOOKUP(A3504,PARAMETROS!$B$3:$C$3,2,FALSE))","v":""},null,{"$f":"IF(C3504=\"\",\"\",VLOOKUP(C3504,PARAMETROS!$G$3:$H$21,2,FALSE))","v":""},null,{"$f":"IF(E3504=\"\",\"\",VLOOKUP(E3504,PARAMETROS!$I$3:$J$21,2,FALSE))","v":""},null,null,null,null,null,null,""]
[null,{"$f":"IF(A3505=\"\",\"\",VLOOKUP(A3505,PARAMETROS!$B$3:$C$3,2,FALSE))","v":""},null,{"$f":"IF(C3505=\"\",\"\",VLOOKUP(C3505,PARAMETROS!$G$3:$H$21,2,FALSE))","v":""},null,{"$f":"IF(E3505=\"\",\"\",VLOOKUP(E3505,PARAMETROS!$I$3:$J$21,2,FALSE))","v":""},null,null,null,null,null,null,""]
[null,{"$f":"IF(A3506=\"\",\"\",VLOOKUP(A3506,PARAMETROS!$B$3:$C$3,2,FALSE))","v":""},null,{"$f":"IF(C3506=\"\",\"\",VLOOKUP(C3506,PARAMETROS!$G$3:$H$21,2,FALSE))","v":""},null,{"$f":"IF(E3506=\"\",\"\",VLOOKUP(E3506,PARAMETROS!$I$3:$J$21,2,FALSE))","v":""},null,null,null,null,null,null,""]
[null,{"$f":"IF(A3507=\"\",\"\",VLOOKUP(A3507,PARAMETROS!$B$3:$C$3,2,FALSE))","v":""},null,{"$f":"IF(C3507=\"\",\"\",VLOOKUP(C3507,PARAMETROS!$G$3:$H$21,2,FALSE))","v":""},null,{"$f":"IF(E3507=\"\",\"\",VLOOKUP(E3507,PARAMETROS!$I$3:$J$21,2,FALSE))","v":""},null,null,null,null,null,null,""]
[null,{"$f":"IF(A3508=\"\",\"\",VLOOKUP(A3508,PARAMETROS!$B$3:$C$3,2,FALSE))","v":""},null,{"$f":"IF(C3508=\"\",\"\",VLOOKUP(C3508,PARAMETROS!$G$3:$H$21,2,FALSE))","v":""},null,{"$f":"IF(E3508=\"\",\"\",VLOOKUP(E3508,PARAMETROS!$I$3:$J$21,2,FALSE))","v":""},null,null,null,null,null,null,""]
[null,{"$f":"IF(A3509=\"\",\"\",VLOOKUP(A3509,PARAMETROS!$B$3:$C$3,2,FALSE))","v":""},null,{"$f":"IF(C3509=\"\",\"\",VLOOKUP(C3509,PARAMETROS!$G$3:$H$21,2,FALSE))","v":""},null,{"$f":"IF(E3509=\"\",\"\",VLOOKUP(E3509,PARAMETROS!$I$3:$J$21,2,FALSE))","v":""},null,null,null,null,null,null,""]
[null,{"$f":"IF(A3510=\"\",\"\",VLOOKUP(A3510,PARAMETROS!$B$3:$C$3,2,FALSE))","v":""},null,{"$f":"IF(C3510=\"\",\"\",VLOOKUP(C3510,PARAMETROS!$G$3:$H$21,2,FALSE))","v":""},null,{"$f":"IF(E3510=\"\",\"\",VLOOKUP(E3510,PARAMETROS!$I$3:$J$21,2,FALSE))","v":""},null,null,null,null,null,null,""]
[null,{"$f":"IF(A3511=\"\",\"\",VLOOKUP(A3511,PARAMETROS!$B$3:$C$3,2,FALSE))","v":""},null,{"$f":"IF(C3511=\"\",\"\",VLOOKUP(C3511,PARAMETROS!$G$3:$H$21,2,FALSE))","v":""},null,{"$f":"IF(E3511=\"\",\"\",VLOOKUP(E3511,PARAMETROS!$I$3:$J$21,2,FALSE))","v":""},null,null,null,null,null,null,""]
[null,{"$f":"IF(A3512=\"\",\"\",VLOOKUP(A3512,PARAMETROS!$B$3:$C$3,2,FALSE))","v":""},null,{"$f":"IF(C3512=\"\",\"\",VLOOKUP(C3512,PARAMETROS!$G$3:$H$21,2,FALSE))","v":""},null,{"$f":"IF(E3512=\"\",\"\",VLOOKUP(E3512,PARAMETROS!$I$3:$J$21,2,FALSE))","v":""},null,null,null,null,null,null,""]
[null,{"$f":"IF(A3513=\"\",\"\",VLOOKUP(A3513,PARAMETROS!$B$3:$C$3,2,FALSE))","v":""},null,{"$f":"IF(C3513=\"\",\"\",VLOOKUP(C3513,PARAMETROS!$G$3:$H$21,2,FALSE))","v":""},null,{"$f":"IF(E3513=\"\",\"\",VLOOKUP(E3513,PARAMETROS!$I$3:$J$21,2,FALSE))","v":""},null,null,null,null,null,null,""]
[null,{"$f":"IF(A3514=\"\",\"\",VLOOKUP(A3514,PARAMETROS!$B$3:$C$3,2,FALSE))","v":""},null,{"$f":"IF(C3514=\"\",\"\",VLOOKUP(C3514,PARAMETROS!$G$3:$H$21,2,FALSE))","v":""},null,{"$f":"IF(E3514=\"\",\"\",VLOOKUP(E3514,PARAMETROS!$I$3:$J$21,2,FALSE))","v":""},null,null,null,null,null,null,""]
[null,{"$f":"IF(A3515=\"\",\"\",VLOOKUP(A3515,PARAMETROS!$B$3:$C$3,2,FALSE))","v":""},null,{"$f":"IF(C3515=\"\",\"\",VLOOKUP(C3515,PARAMETROS!$G$3:$H$21,2,FALSE))","v":""},null,{"$f":"IF(E3515=\"\",\"\",VLOOKUP(E3515,PARAMETROS!$I$3:$J$21,2,FALSE))","v":""},null,null,null,null,null,null,""]
[null,{"$f":"IF(A3516=\"\",\"\",VLOOKUP(A3516,PARAMETROS!$B$3:$C$3,2,FALSE))","v":""},null,{"$f":"IF(C3516=\"\",\"\",VLOOKUP(C3516,PARAMETROS!$G$3:$H$21,2,FALSE))","v":""},null,{"$f":"IF(E3516=\"\",\"\",VLOOKUP(E3516,PARAMETROS!$I$3:$J$21,2,FALSE))","v":""},null,null,null,null,null,null,""]
[null,{"$f":"IF(A3517=\"\",\"\",VLOOKUP(A3517,PARAMETROS!$B$3:$C$3,2,FALSE))","v":""},null,{"$f":"IF(C3517=\"\",\"\",VLOOKUP(C3517,PARAMETROS!$G$3:$H$21,2,FALSE))","v":""},null,{"$f":"IF(E3517=\"\",\"\",VLOOKUP(E3517,PARAMETROS!$I$3:$J$21,2,FALSE))","v":""},null,null,null,null,null,null,""]
[null,{"$f":"IF(A3518=\"\",\"\",VLOOKUP(A3518,PARAMETROS!$B$3:$C$3,2,FALSE))","v":""},null,{"$f":"IF(C3518=\"\",\"\",VLOOKUP(C3518,PARAMETROS!$G$3:$H$21,2,FALSE))","v":""},null,{"$f":"IF(E3518=\"\",\"\",VLOOKUP(E3518,PARAMETROS!$I$3:$J$21,2,FALSE))","v":""},null,null,null,null,null,null,""]
[null,{"$f":"IF(A3519=\"\",\"\",VLOOKUP(A3519,PARAMETROS!$B$3:$C$3,2,FALSE))","v":""},null,{"$f":"IF(C3519=\"\",\"\",VLOOKUP(C3519,PARAMETROS!$G$3:$H$21,2,FALSE))","v":""},null,{"$f":"IF(E3519=\"\",\"\",VLOOKUP(E3519,PARAMETROS!$I$3:$J$21,2,FALSE))","v":""},null,null,null,null,null,null,""]
[null,{"$f":"IF(A3520=\"\",\"\",VLOOKUP(A3520,PARAMETROS!$B$3:$C$3,2,FALSE))","v":""},null,{"$f":"IF(C3520=\"\",\"\",VLOOKUP(C3520,PARAMETROS!$G$3:$H$21,2,FALSE))","v":""},null,{"$f":"IF(E3520=\"\",\"\",VLOOKUP(E3520,PARAMETROS!$I$3:$J$21,2,FALSE))","v":""},null,null,null,null,null,null,""]
[null,{"$f":"IF(A3521=\"\",\"\",VLOOKUP(A3521,PARAMETROS!$B$3:$C$3,2,FALSE))","v":""},null,{"$f":"IF(C3521=\"\",\"\",VLOOKUP(C3521,PARAMETROS!$G$3:$H$21,2,FALSE))","v":""},null,{"$f":"IF(E3521=\"\",\"\",VLOOKUP(E3521,PARAMETROS!$I$3:$J$21,2,FALSE))","v":""},null,null,null,null,null,null,""]
[null,{"$f":"IF(A3522=\"\",\"\",VLOOKUP(A3522,PARAMETROS!$B$3:$C$3,2,FALSE))","v":""},null,{"$f":"IF(C3522=\"\",\"\",VLOOKUP(C3522,PARAMETROS!$G$3:$H$21,2,FALSE))","v":""},null,{"$f":"IF(E3522=\"\",\"\",VLOOKUP(E3522,PARAMETROS!$I$3:$J$21,2,FALSE))","v":""},null,null,null,null,null,null,""]
[null,{"$f":"IF(A3523=\"\",\"\",VLOOKUP(A3523,PARAMETROS!$B$3:$C$3,2,FALSE))","v":""},null,{"$f":"IF(C3523=\"\",\"\",VLOOKUP(C3523,PARAMETROS!$G$3:$H$21,2,FALSE))","v":""},null,{"$f":"IF(E3523=\"\",\"\",VLOOKUP(E3523,PARAMETROS!$I$3:$J$21,2,FALSE))","v":""},null,null,null,null,null,null,""]
[null,{"$f":"IF(A3524=\"\",\"\",VLOOKUP(A3524,PARAMETROS!$B$3:$C$3,2,FALSE))","v":""},null,{"$f":"IF(C3524=\"\",\"\",VLOOKUP(C3524,PARAMETROS!$G$3:$H$21,2,FALSE))","v":""},null,{"$f":"IF(E3524=\"\",\"\",VLOOKUP(E3524,PARAMETROS!$I$3:$J$21,2,FALSE))","v":""},null,null,null,null,null,null,""]
[null,{"$f":"IF(A3525=\"\",\"\",VLOOKUP(A3525,PARAMETROS!$B$3:$C$3,2,FALSE))","v":""},null,{"$f":"IF(C3525=\"\",\"\",VLOOKUP(C3525,PARAMETROS!$G$3:$H$21,2,FALSE))","v":""},null,{"$f":"IF(E3525=\"\",\"\",VLOOKUP(E3525,PARAMETROS!$I$3:$J$21,2,FALSE))","v":""},null,null,null,null,null,null,""]
[null,{"$f":"IF(A3526=\"\",\"\",VLOOKUP(A3526,PARAMETROS!$B$3:$C$3,2,FALSE))","v":""},null,{"$f":"IF(C3526=\"\",\"\",VLOOKUP(C3526,PARAMETROS!$G$3:$H$21,2,FALSE))","v":""},null,{"$f":"IF(E3526=\"\",\"\",VLOOKUP(E3526,PARAMETROS!$I$3:$J$21,2,FALSE))","v":""},null,null,null,null,null,null,""]
[null,{"$f":"IF(A3527=\"\",\"\",VLOOKUP(A3527,PARAMETROS!$B$3:$C$3,2,FALSE))","v":""},null,{"$f":"IF(C3527=\"\",\"\",VLOOKUP(C3527,PARAMETROS!$G$3:$H$21,2,FALSE))","v":""},null,{"$f":"IF(E3527=\"\",\"\",VLOOKUP(E3527,PARAMETROS!$I$3:$J$21,2,FALSE))","v":""},null,null,null,null,null,null,""]
[null,{"$f":"IF(A3528=\"\",\"\",VLOOKUP(A3528,PARAMETROS!$B$3:$C$3,2,FALSE))","v":""},null,{"$f":"IF(C3528=\"\",\"\",VLOOKUP(C3528,PARAMETROS!$G$3:$H$21,2,FALSE))","v":""},null,{"$f":"IF(E3528=\"\",\"\",VLOOKUP(E3528,PARAMETROS!$I$3:$J$21,2,FALSE))","v":""},null,null,null,null,null,null,""]
[null,{"$f":"IF(A3529=\"\",\"\",VLOOKUP(A3529,PARAMETROS!$B$3:$C$3,2,FALSE))","v":""},null,{"$f":"IF(C3529=\"\",\"\",VLOOKUP(C3529,PARAMETROS!$G$3:$H$21,2,FALSE))","v":""},null,{"$f":"IF(E3529=\"\",\"\",VLOOKUP(E3529,PARAMETROS!$I$3:$J$21,2,FALSE))","v":""},null,null,null,null,null,null,""]
[null,{"$f":"IF(A3530=\"\",\"\",VLOOKUP(A3530,PARAMETROS!$B$3:$C$3,2,FALSE))","v":""},null,{"$f":"IF(C3530=\"\",\"\",VLOOKUP(C3530,PARAMETROS!$G$3:$H$21,2,FALSE))","v":""},null,{"$f":"IF(E3530=\"\",\"\",VLOOKUP(E3530,PARAMETROS!$I$3:$J$21,2,FALSE))","v":""},null,null,null,null,null,null,""]
[null,{"$f":"IF(A3531=\"\",\"\",VLOOKUP(A3531,PARAMETROS!$B$3:$C$3,2,FALSE))","v":""},null,{"$f":"IF(C3531=\"\",\"\",VLOOKUP(C3531,PARAMETROS!$G$3:$H$21,2,FALSE))","v":""},null,{"$f":"IF(E3531=\"\",\"\",VLOOKUP(E3531,PARAMETROS!$I$3:$J$21,2,FALSE))","v":""},null,null,null,null,null,null,""]
[null,{"$f":"IF(A3532=\"\",\"\",VLOOKUP(A3532,PARAMETROS!$B$3:$C$3,2,FALSE))","v":""},null,{"$f":"IF(C3532=\"\",\"\",VLOOKUP(C3532,PARAMETROS!$G$3:$H$21,2,FALSE))","v":""},null,{"$f":"IF(E3532=\"\",\"\",VLOOKUP(E3532,PARAMETROS!$I$3:$J$21,2,FALSE))","v":""},null,null,null,null,null,null,""]
[null,{"$f":"IF(A3533=\"\",\"\",VLOOKUP(A3533,PARAMETROS!$B$3:$C$3,2,FALSE))","v":""},null,{"$f":"IF(C3533=\"\",\"\",VLOOKUP(C3533,PARAMETROS!$G$3:$H$21,2,FALSE))","v":""},null,{"$f":"IF(E3533=\"\",\"\",VLOOKUP(E3533,PARAMETROS!$I$3:$J$21,2,FALSE))","v":""},null,null,null,null,null,null,""]
[null,{"$f":"IF(A3534=\"\",\"\",VLOOKUP(A3534,PARAMETROS!$B$3:$C$3,2,FALSE))","v":""},null,{"$f":"IF(C3534=\"\",\"\",VLOOKUP(C3534,PARAMETROS!$G$3:$H$21,2,FALSE))","v":""},null,{"$f":"IF(E3534=\"\",\"\",VLOOKUP(E3534,PARAMETROS!$I$3:$J$21,2,FALSE))","v":""},null,null,null,null,null,null,""]
[null,{"$f":"IF(A3535=\"\",\"\",VLOOKUP(A3535,PARAMETROS!$B$3:$C$3,2,FALSE))","v":""},null,{"$f":"IF(C3535=\"\",\"\",VLOOKUP(C3535,PARAMETROS!$G$3:$H$21,2,FALSE))","v":""},null,{"$f":"IF(E3535=\"\",\"\",VLOOKUP(E3535,PARAMETROS!$I$3:$J$21,2,FALSE))","v":""},null,null,null,null,null,null,{"$f":"IF(L3535=\"\", \"\", L3535)","v":""}]
[null,{"$f":"IF(A3536=\"\",\"\",VLOOKUP(A3536,PARAMETROS!$B$3:$C$3,2,FALSE))","v":""},null,{"$f":"IF(C3536=\"\",\"\",VLOOKUP(C3536,PARAMETROS!$G$3:$H$21,2,FALSE))","v":""},null,{"$f":"IF(E3536=\"\",\"\",VLOOKUP(E3536,PARAMETROS!$I$3:$J$21,2,FALSE))","v":""},null,null,null,null,null,null,""]
[null,{"$f":"IF(A3537=\"\",\"\",VLOOKUP(A3537,PARAMETROS!$B$3:$C$3,2,FALSE))","v":""},null,{"$f":"IF(C3537=\"\",\"\",VLOOKUP(C3537,PARAMETROS!$G$3:$H$21,2,FALSE))","v":""},null,{"$f":"IF(E3537=\"\",\"\",VLOOKUP(E3537,PARAMETROS!$I$3:$J$21,2,FALSE))","v":""},null,null,null,null,null,null,""]
[null,{"$f":"IF(A3538=\"\",\"\",VLOOKUP(A3538,PARAMETROS!$B$3:$C$3,2,FALSE))","v":""},null,{"$f":"IF(C3538=\"\",\"\",VLOOKUP(C3538,PARAMETROS!$G$3:$H$21,2,FALSE))","v":""},null,{"$f":"IF(E3538=\"\",\"\",VLOOKUP(E3538,PARAMETROS!$I$3:$J$21,2,FALSE))","v":""},null,null,null,null,null,null,""]
[null,{"$f":"IF(A3539=\"\",\"\",VLOOKUP(A3539,PARAMETROS!$B$3:$C$3,2,FALSE))","v":""},null,{"$f":"IF(C3539=\"\",\"\",VLOOKUP(C3539,PARAMETROS!$G$3:$H$21,2,FALSE))","v":""},null,{"$f":"IF(E3539=\"\",\"\",VLOOKUP(E3539,PARAMETROS!$I$3:$J$21,2,FALSE))","v":""},null,null,null,null,null,null,""]
[null,{"$f":"IF(A3540=\"\",\"\",VLOOKUP(A3540,PARAMETROS!$B$3:$C$3,2,FALSE))","v":""},null,{"$f":"IF(C3540=\"\",\"\",VLOOKUP(C3540,PARAMETROS!$G$3:$H$21,2,FALSE))","v":""},null,{"$f":"IF(E3540=\"\",\"\",VLOOKUP(E3540,PARAMETROS!$I$3:$J$21,2,FALSE))","v":""},null,null,null,null,null,null,""]
[null,{"$f":"IF(A3541=\"\",\"\",VLOOKUP(A3541,PARAMETROS!$B$3:$C$3,2,FALSE))","v":""},null,{"$f":"IF(C3541=\"\",\"\",VLOOKUP(C3541,PARAMETROS!$G$3:$H$21,2,FALSE))","v":""},null,{"$f":"IF(E3541=\"\",\"\",VLOOKUP(E3541,PARAMETROS!$I$3:$J$21,2,FALSE))","v":""},null,null,null,null,null,null,""]
[null,{"$f":"IF(A3542=\"\",\"\",VLOOKUP(A3542,PARAMETROS!$B$3:$C$3,2,FALSE))","v":""},null,{"$f":"IF(C3542=\"\",\"\",VLOOKUP(C3542,PARAMETROS!$G$3:$H$21,2,FALSE))","v":""},null,{"$f":"IF(E3542=\"\",\"\",VLOOKUP(E3542,PARAMETROS!$I$3:$J$21,2,FALSE))","v":""},null,null,null,null,null,null,""]
[null,{"$f":"IF(A3543=\"\",\"\",VLOOKUP(A3543,PARAMETROS!$B$3:$C$3,2,FALSE))","v":""},null,{"$f":"IF(C3543=\"\",\"\",VLOOKUP(C3543,PARAMETROS!$G$3:$H$21,2,FALSE))","v":""},null,{"$f":"IF(E3543=\"\",\"\",VLOOKUP(E3543,PARAMETROS!$I$3:$J$21,2,FALSE))","v":""},null,null,null,null,null,null,""]
[null,{"$f":"IF(A3544=\"\",\"\",VLOOKUP(A3544,PARAMETROS!$B$3:$C$3,2,FALSE))","v":""},null,{"$f":"IF(C3544=\"\",\"\",VLOOKUP(C3544,PARAMETROS!$G$3:$H$21,2,FALSE))","v":""},null,{"$f":"IF(E3544=\"\",\"\",VLOOKUP(E3544,PARAMETROS!$I$3:$J$21,2,FALSE))","v":""},null,null,null,null,null,null,""]
[null,{"$f":"IF(A3545=\"\",\"\",VLOOKUP(A3545,PARAMETROS!$B$3:$C$3,2,FALSE))","v":""},null,{"$f":"IF(C3545=\"\",\"\",VLOOKUP(C3545,PARAMETROS!$G$3:$H$21,2,FALSE))","v":""},null,{"$f":"IF(E3545=\"\",\"\",VLOOKUP(E3545,PARAMETROS!$I$3:$J$21,2,FALSE))","v":""},null,null,null,null,null,null,""]
[null,{"$f":"IF(A3546=\"\",\"\",VLOOKUP(A3546,PARAMETROS!$B$3:$C$3,2,FALSE))","v":""},null,{"$f":"IF(C3546=\"\",\"\",VLOOKUP(C3546,PARAMETROS!$G$3:$H$21,2,FALSE))","v":""},null,{"$f":"IF(E3546=\"\",\"\",VLOOKUP(E3546,PARAMETROS!$I$3:$J$21,2,FALSE))","v":""},null,null,null,null,null,null,""]
[null,{"$f":"IF(A3547=\"\",\"\",VLOOKUP(A3547,PARAMETROS!$B$3:$C$3,2,FALSE))","v":""},null,{"$f":"IF(C3547=\"\",\"\",VLOOKUP(C3547,PARAMETROS!$G$3:$H$21,2,FALSE))","v":""},null,{"$f":"IF(E3547=\"\",\"\",VLOOKUP(E3547,PARAMETROS!$I$3:$J$21,2,FALSE))","v":""},null,null,null,null,null,null,""]
[null,{"$f":"IF(A3548=\"\",\"\",VLOOKUP(A3548,PARAMETROS!$B$3:$C$3,2,FALSE))","v":""},null,{"$f":"IF(C3548=\"\",\"\",VLOOKUP(C3548,PARAMETROS!$G$3:$H$21,2,FALSE))","v":""},null,{"$f":"IF(E3548=\"\",\"\",VLOOKUP(E3548,PARAMETROS!$I$3:$J$21,2,FALSE))","v":""},null,null,null,null,null,null,""]
[null,{"$f":"IF(A3549=\"\",\"\",VLOOKUP(A3549,PARAMETROS!$B$3:$C$3,2,FALSE))","v":""},null,{"$f":"IF(C3549=\"\",\"\",VLOOKUP(C3549,PARAMETROS!$G$3:$H$21,2,FALSE))","v":""},null,{"$f":"IF(E3549=\"\",\"\",VLOOKUP(E3549,PARAMETROS!$I$3:$J$21,2,FALSE))","v":""},null,null,null,null,null,null,""]
[null,{"$f":"IF(A3550=\"\",\"\",VLOOKUP(A3550,PARAMETROS!$B$3:$C$3,2,FALSE))","v":""},null,{"$f":"IF(C3550=\"\",\"\",VLOOKUP(C3550,PARAMETROS!$G$3:$H$21,2,FALSE))","v":""},null,{"$f":"IF(E3550=\"\",\"\",VLOOKUP(E3550,PARAMETROS!$I$3:$J$21,2,FALSE))","v":""},null,null,null,null,null,null,""]
[null,{"$f":"IF(A3551=\"\",\"\",VLOOKUP(A3551,PARAMETROS!$B$3:$C$3,2,FALSE))","v":""},null,{"$f":"IF(C3551=\"\",\"\",VLOOKUP(C3551,PARAMETROS!$G$3:$H$21,2,FALSE))","v":""},null,{"$f":"IF(E3551=\"\",\"\",VLOOKUP(E3551,PARAMETROS!$I$3:$J$21,2,FALSE))","v":""},null,null,null,null,null,null,""]
[null,{"$f":"IF(A3552=\"\",\"\",VLOOKUP(A3552,PARAMETROS!$B$3:$C$3,2,FALSE))","v":""},null,{"$f":"IF(C3552=\"\",\"\",VLOOKUP(C3552,PARAMETROS!$G$3:$H$21,2,FALSE))","v":""},null,{"$f":"IF(E3552=\"\",\"\",VLOOKUP(E3552,PARAMETROS!$I$3:$J$21,2,FALSE))","v":""},null,null,null,null,null,null,""]
[null,{"$f":"IF(A3553=\"\",\"\",VLOOKUP(A3553,PARAMETROS!$B$3:$C$3,2,FALSE))","v":""},null,{"$f":"IF(C3553=\"\",\"\",VLOOKUP(C3553,PARAMETROS!$G$3:$H$21,2,FALSE))","v":""},null,{"$f":"IF(E3553=\"\",\"\",VLOOKUP(E3553,PARAMETROS!$I$3:$J$21,2,FALSE))","v":""},null,null,null,null,null,null,""]
[null,{"$f":"IF(A3554=\"\",\"\",VLOOKUP(A3554,PARAMETROS!$B$3:$C$3,2,FALSE))","v":""},null,{"$f":"IF(C3554=\"\",\"\",VLOOKUP(C3554,PARAMETROS!$G$3:$H$21,2,FALSE))","v":""},null,{"$f":"IF(E3554=\"\",\"\",VLOOKUP(E3554,PARAMETROS!$I$3:$J$21,2,FALSE))","v":""},null,null,null,null,null,null,""]
[null,{"$f":"IF(A3555=\"\",\"\",VLOOKUP(A3555,PARAMETROS!$B$3:$C$3,2,FALSE))","v":""},null,{"$f":"IF(C3555=\"\",\"\",VLOOKUP(C3555,PARAMETROS!$G$3:$H$21,2,FALSE))","v":""},null,{"$f":"IF(E3555=\"\",\"\",VLOOKUP(E3555,PARAMETROS!$I$3:$J$21,2,FALSE))","v":""},null,null,null,null,null,null,""]
[null,{"$f":"IF(A3556=\"\",\"\",VLOOKUP(A3556,PARAMETROS!$B$3:$C$3,2,FALSE))","v":""},null,{"$f":"IF(C3556=\"\",\"\",VLOOKUP(C3556,PARAMETROS!$G$3:$H$21,2,FALSE))","v":""},null,{"$f":"IF(E3556=\"\",\"\",VLOOKUP(E3556,PARAMETROS!$I$3:$J$21,2,FALSE))","v":""},null,null,null,null,null,null,""]
[null,{"$f":"IF(A3557=\"\",\"\",VLOOKUP(A3557,PARAMETROS!$B$3:$C$3,2,FALSE))","v":""},null,{"$f":"IF(C3557=\"\",\"\",VLOOKUP(C3557,PARAMETROS!$G$3:$H$21,2,FALSE))","v":""},null,{"$f":"IF(E3557=\"\",\"\",VLOOKUP(E3557,PARAMETROS!$I$3:$J$21,2,FALSE))","v":""},null,null,null,null,null,null,""]
[null,{"$f":"IF(A3558=\"\",\"\",VLOOKUP(A3558,PARAMETROS!$B$3:$C$3,2,FALSE))","v":""},null,{"$f":"IF(C3558=\"\",\"\",VLOOKUP(C3558,PARAMETROS!$G$3:$H$21,2,FALSE))","v":""},null,{"$f":"IF(E3558=\"\",\"\",VLOOKUP(E3558,PARAMETROS!$I$3:$J$21,2,FALSE))","v":""},null,null,null,null,null,null,""]
[null,{"$f":"IF(A3559=\"\",\"\",VLOOKUP(A3559,PARAMETROS!$B$3:$C$3,2,FALSE))","v":""},null,{"$f":"IF(C3559=\"\",\"\",VLOOKUP(C3559,PARAMETROS!$G$3:$H$21,2,FALSE))","v":""},null,{"$f":"IF(E3559=\"\",\"\",VLOOKUP(E3559,PARAMETROS!$I$3:$J$21,2,FALSE))","v":""},null,null,null,null,null,null,""]
[null,{"$f":"IF(A3560=\"\",\"\",VLOOKUP(A3560,PARAMETROS!$B$3:$C$3,2,FALSE))","v":""},null,{"$f":"IF(C3560=\"\",\"\",VLOOKUP(C3560,PARAMETROS!$G$3:$H$21,2,FALSE))","v":""},null,{"$f":"IF(E3560=\"\",\"\",VLOOKUP(E3560,PARAMETROS!$I$3:$J$21,2,FALSE))","v":""},null,null,null,null,null,null,""]
[null,{"$f":"IF(A3561=\"\",\"\",VLOOKUP(A3561,PARAMETROS!$B$3:$C$3,2,FALSE))","v":""},null,{"$f":"IF(C3561=\"\",\"\",VLOOKUP(C3561,PARAMETROS!$G$3:$H$21,2,FALSE))","v":""},null,{"$f":"IF(E3561=\"\",\"\",VLOOKUP(E3561,PARAMETROS!$I$3:$J$21,2,FALSE))","v":""},null,null,null,null,null,null,""]
[null,{"$f":"IF(A3562=\"\",\"\",VLOOKUP(A3562,PARAMETROS!$B$3:$C$3,2,FALSE))","v":""},null,{"$f":"IF(C3562=\"\",\"\",VLOOKUP(C3562,PARAMETROS!$G$3:$H$21,2,FALSE))","v":""},null,{"$f":"IF(E3562=\"\",\"\",VLOOKUP(E3562,PARAMETROS!$I$3:$J$21,2,FALSE))","v":""},null,null,null,null,null,null,""]
[null,{"$f":"IF(A3563=\"\",\"\",VLOOKUP(A3563,PARAMETROS!$B$3:$C$3,2,FALSE))","v":""},null,{"$f":"IF(C3563=\"\",\"\",VLOOKUP(C3563,PARAMETROS!$G$3:$H$21,2,FALSE))","v":""},null,{"$f":"IF(E3563=\"\",\"\",VLOOKUP(E3563,PARAMETROS!$I$3:$J$21,2,FALSE))","v":""},null,null,null,null,null,null,""]
[null,{"$f":"IF(A3564=\"\",\"\",VLOOKUP(A3564,PARAMETROS!$B$3:$C$3,2,FALSE))","v":""},null,{"$f":"IF(C3564=\"\",\"\",VLOOKUP(C3564,PARAMETROS!$G$3:$H$21,2,FALSE))","v":""},null,{"$f":"IF(E3564=\"\",\"\",VLOOKUP(E3564,PARAMETROS!$I$3:$J$21,2,FALSE))","v":""},null,null,null,null,null,null,""]
[null,{"$f":"IF(A3565=\"\",\"\",VLOOKUP(A3565,PARAMETROS!$B$3:$C$3,2,FALSE))","v":""},null,{"$f":"IF(C3565=\"\",\"\",VLOOKUP(C3565,PARAMETROS!$G$3:$H$21,2,FALSE))","v":""},null,{"$f":"IF(E3565=\"\",\"\",VLOOKUP(E3565,PARAMETROS!$I$3:$J$21,2,FALSE))","v":""},null,null,null,null,null,null,""]
[null,{"$f":"IF(A3566=\"\",\"\",VLOOKUP(A3566,PARAMETROS!$B$3:$C$3,2,FALSE))","v":""},null,{"$f":"IF(C3566=\"\",\"\",VLOOKUP(C3566,PARAMETROS!$G$3:$H$21,2,FALSE))","v":""},null,{"$f":"IF(E3566=\"\",\"\",VLOOKUP(E3566,PARAMETROS!$I$3:$J$21,2,FALSE))","v":""},null,null,null,null,null,null,""]
[null,{"$f":"IF(A3567=\"\",\"\",VLOOKUP(A3567,PARAMETROS!$B$3:$C$3,2,FALSE))","v":""},null,{"$f":"IF(C3567=\"\",\"\",VLOOKUP(C3567,PARAMETROS!$G$3:$H$21,2,FALSE))","v":""},null,{"$f":"IF(E3567=\"\",\"\",VLOOKUP(E3567,PARAMETROS!$I$3:$J$21,2,FALSE))","v":""},null,null,null,null,null,null,""]
[null,{"$f":"IF(A3568=\"\",\"\",VLOOKUP(A3568,PARAMETROS!$B$3:$C$3,2,FALSE))","v":""},null,{"$f":"IF(C3568=\"\",\"\",VLOOKUP(C3568,PARAMETROS!$G$3:$H$21,2,FALSE))","v":""},null,{"$f":"IF(E3568=\"\",\"\",VLOOKUP(E3568,PARAMETROS!$I$3:$J$21,2,FALSE))","v":""},null,null,null,null,null,null,""]
[null,{"$f":"IF(A3569=\"\",\"\",VLOOKUP(A3569,PARAMETROS!$B$3:$C$3,2,FALSE))","v":""},null,{"$f":"IF(C3569=\"\",\"\",VLOOKUP(C3569,PARAMETROS!$G$3:$H$21,2,FALSE))","v":""},null,{"$f":"IF(E3569=\"\",\"\",VLOOKUP(E3569,PARAMETROS!$I$3:$J$21,2,FALSE))","v":""},null,null,null,null,null,null,""]
[null,{"$f":"IF(A3570=\"\",\"\",VLOOKUP(A3570,PARAMETROS!$B$3:$C$3,2,FALSE))","v":""},null,{"$f":"IF(C3570=\"\",\"\",VLOOKUP(C3570,PARAMETROS!$G$3:$H$21,2,FALSE))","v":""},null,{"$f":"IF(E3570=\"\",\"\",VLOOKUP(E3570,PARAMETROS!$I$3:$J$21,2,FALSE))","v":""},null,null,null,null,null,null,""]
[null,{"$f":"IF(A3571=\"\",\"\",VLOOKUP(A3571,PARAMETROS!$B$3:$C$3,2,FALSE))","v":""},null,{"$f":"IF(C3571=\"\",\"\",VLOOKUP(C3571,PARAMETROS!$G$3:$H$21,2,FALSE))","v":""},null,{"$f":"IF(E3571=\"\",\"\",VLOOKUP(E3571,PARAMETROS!$I$3:$J$21,2,FALSE))","v":""},null,null,null,null,null,null,""]
[null,{"$f":"IF(A3572=\"\",\"\",VLOOKUP(A3572,PARAMETROS!$B$3:$C$3,2,FALSE))","v":""},null,{"$f":"IF(C3572=\"\",\"\",VLOOKUP(C3572,PARAMETROS!$G$3:$H$21,2,FALSE))","v":""},null,{"$f":"IF(E3572=\"\",\"\",VLOOKUP(E3572,PARAMETROS!$I$3:$J$21,2,FALSE))","v":""},null,null,null,null,null,null,""]
[null,{"$f":"IF(A3573=\"\",\"\",VLOOKUP(A3573,PARAMETROS!$B$3:$C$3,2,FALSE))","v":""},null,{"$f":"IF(C3573=\"\",\"\",VLOOKUP(C3573,PARAMETROS!$G$3:$H$21,2,FALSE))","v":""},null,{"$f":"IF(E3573=\"\",\"\",VLOOKUP(E3573,PARAMETROS!$I$3:$J$21,2,FALSE))","v":""},null,null,null,null,null,null,""]
[null,{"$f":"IF(A3574=\"\",\"\",VLOOKUP(A3574,PARAMETROS!$B$3:$C$3,2,FALSE))","v":""},null,{"$f":"IF(C3574=\"\",\"\",VLOOKUP(C3574,PARAMETROS!$G$3:$H$21,2,FALSE))","v":""},null,{"$f":"IF(E3574=\"\",\"\",VLOOKUP(E3574,PARAMETROS!$I$3:$J$21,2,FALSE))","v":""},null,null,null,null,null,null,""]
[null,{"$f":"IF(A3575=\"\",\"\",VLOOKUP(A3575,PARAMETROS!$B$3:$C$3,2,FALSE))","v":""},null,{"$f":"IF(C3575=\"\",\"\",VLOOKUP(C3575,PARAMETROS!$G$3:$H$21,2,FALSE))","v":""},null,{"$f":"IF(E3575=\"\",\"\",VLOOKUP(E3575,PARAMETROS!$I$3:$J$21,2,FALSE))","v":""},null,null,null,null,null,null,""]
[null,{"$f":"IF(A3576=\"\",\"\",VLOOKUP(A3576,PARAMETROS!$B$3:$C$3,2,FALSE))","v":""},null,{"$f":"IF(C3576=\"\",\"\",VLOOKUP(C3576,PARAMETROS!$G$3:$H$21,2,FALSE))","v":""},null,{"$f":"IF(E3576=\"\",\"\",VLOOKUP(E3576,PARAMETROS!$I$3:$J$21,2,FALSE))","v":""},null,null,null,null,null,null,""]
[null,{"$f":"IF(A3577=\"\",\"\",VLOOKUP(A3577,PARAMETROS!$B$3:$C$3,2,FALSE))","v":""},null,{"$f":"IF(C3577=\"\",\"\",VLOOKUP(C3577,PARAMETROS!$G$3:$H$21,2,FALSE))","v":""},null,{"$f":"IF(E3577=\"\",\"\",VLOOKUP(E3577,PARAMETROS!$I$3:$J$21,2,FALSE))","v":""},null,null,null,null,null,null,""]
[null,{"$f":"IF(A3578=\"\",\"\",VLOOKUP(A3578,PARAMETROS!$B$3:$C$3,2,FALSE))","v":""},null,{"$f":"IF(C3578=\"\",\"\",VLOOKUP(C3578,PARAMETROS!$G$3:$H$21,2,FALSE))","v":""},null,{"$f":"IF(E3578=\"\",\"\",VLOOKUP(E3578,PARAMETROS!$I$3:$J$21,2,FALSE))","v":""},null,null,null,null,null,null,""]
[null,{"$f":"IF(A3579=\"\",\"\",VLOOKUP(A3579,PARAMETROS!$B$3:$C$3,2,FALSE))","v":""},null,{"$f":"IF(C3579=\"\",\"\",VLOOKUP(C3579,PARAMETROS!$G$3:$H$21,2,FALSE))","v":""},null,{"$f":"IF(E3579=\"\",\"\",VLOOKUP(E3579,PARAMETROS!$I$3:$J$21,2,FALSE))","v":""},null,null,null,null,null,null,""]
[null,{"$f":"IF(A3580=\"\",\"\",VLOOKUP(A3580,PARAMETROS!$B$3:$C$3,2,FALSE))","v":""},null,{"$f":"IF(C3580=\"\",\"\",VLOOKUP(C3580,PARAMETROS!$G$3:$H$21,2,FALSE))","v":""},null,{"$f":"IF(E3580=\"\",\"\",VLOOKUP(E3580,PARAMETROS!$I$3:$J$21,2,FALSE))","v":""},null,null,null,null,null,null,""]
[null,{"$f":"IF(A3581=\"\",\"\",VLOOKUP(A3581,PARAMETROS!$B$3:$C$3,2,FALSE))","v":""},null,{"$f":"IF(C3581=\"\",\"\",VLOOKUP(C3581,PARAMETROS!$G$3:$H$21,2,FALSE))","v":""},null,{"$f":"IF(E3581=\"\",\"\",VLOOKUP(E3581,PARAMETROS!$I$3:$J$21,2,FALSE))","v":""},null,null,null,null,null,null,""]
[null,{"$f":"IF(A3582=\"\",\"\",VLOOKUP(A3582,PARAMETROS!$B$3:$C$3,2,FALSE))","v":""},null,{"$f":"IF(C3582=\"\",\"\",VLOOKUP(C3582,PARAMETROS!$G$3:$H$21,2,FALSE))","v":""},null,{"$f":"IF(E3582=\"\",\"\",VLOOKUP(E3582,PARAMETROS!$I$3:$J$21,2,FALSE))","v":""},null,null,null,null,null,null,""]
[null,{"$f":"IF(A3583=\"\",\"\",VLOOKUP(A3583,PARAMETROS!$B$3:$C$3,2,FALSE))","v":""},null,{"$f":"IF(C3583=\"\",\"\",VLOOKUP(C3583,PARAMETROS!$G$3:$H$21,2,FALSE))","v":""},null,{"$f":"IF(E3583=\"\",\"\",VLOOKUP(E3583,PARAMETROS!$I$3:$J$21,2,FALSE))","v":""},null,null,null,null,null,null,""]
[null,{"$f":"IF(A3584=\"\",\"\",VLOOKUP(A3584,PARAMETROS!$B$3:$C$3,2,FALSE))","v":""},null,{"$f":"IF(C3584=\"\",\"\",VLOOKUP(C3584,PARAMETROS!$G$3:$H$21,2,FALSE))","v":""},null,{"$f":"IF(E3584=\"\",\"\",VLOOKUP(E3584,PARAMETROS!$I$3:$J$21,2,FALSE))","v":""},null,null,null,null,null,null,""]
[null,{"$f":"IF(A3585=\"\",\"\",VLOOKUP(A3585,PARAMETROS!$B$3:$C$3,2,FALSE))","v":""},null,{"$f":"IF(C3585=\"\",\"\",VLOOKUP(C3585,PARAMETROS!$G$3:$H$21,2,FALSE))","v":""},null,{"$f":"IF(E3585=\"\",\"\",VLOOKUP(E3585,PARAMETROS!$I$3:$J$21,2,FALSE))","v":""},null,null,null,null,null,null,""]
[null,{"$f":"IF(A3586=\"\",\"\",VLOOKUP(A3586,PARAMETROS!$B$3:$C$3,2,FALSE))","v":""},null,{"$f":"IF(C3586=\"\",\"\",VLOOKUP(C3586,PARAMETROS!$G$3:$H$21,2,FALSE))","v":""},null,{"$f":"IF(E3586=\"\",\"\",VLOOKUP(E3586,PARAMETROS!$I$3:$J$21,2,FALSE))","v":""},null,null,null,null,null,null,""]
[null,{"$f":"IF(A3587=\"\",\"\",VLOOKUP(A3587,PARAMETROS!$B$3:$C$3,2,FALSE))","v":""},null,{"$f":"IF(C3587=\"\",\"\",VLOOKUP(C3587,PARAMETROS!$G$3:$H$21,2,FALSE))","v":""},null,{"$f":"IF(E3587=\"\",\"\",VLOOKUP(E3587,PARAMETROS!$I$3:$J$21,2,FALSE))","v":""},null,null,null,null,null,null,""]
[null,{"$f":"IF(A3588=\"\",\"\",VLOOKUP(A3588,PARAMETROS!$B$3:$C$3,2,FALSE))","v":""},null,{"$f":"IF(C3588=\"\",\"\",VLOOKUP(C3588,PARAMETROS!$G$3:$H$21,2,FALSE))","v":""},null,{"$f":"IF(E3588=\"\",\"\",VLOOKUP(E3588,PARAMETROS!$I$3:$J$21,2,FALSE))","v":""},null,null,null,null,null,null,""]
[null,{"$f":"IF(A3589=\"\",\"\",VLOOKUP(A3589,PARAMETROS!$B$3:$C$3,2,FALSE))","v":""},null,{"$f":"IF(C3589=\"\",\"\",VLOOKUP(C3589,PARAMETROS!$G$3:$H$21,2,FALSE))","v":""},null,{"$f":"IF(E3589=\"\",\"\",VLOOKUP(E3589,PARAMETROS!$I$3:$J$21,2,FALSE))","v":""},null,null,null,null,null,null,""]
[null,{"$f":"IF(A3590=\"\",\"\",VLOOKUP(A3590,PARAMETROS!$B$3:$C$3,2,FALSE))","v":""},null,{"$f":"IF(C3590=\"\",\"\",VLOOKUP(C3590,PARAMETROS!$G$3:$H$21,2,FALSE))","v":""},null,{"$f":"IF(E3590=\"\",\"\",VLOOKUP(E3590,PARAMETROS!$I$3:$J$21,2,FALSE))","v":""},null,null,null,null,null,null,""]
[null,{"$f":"IF(A3591=\"\",\"\",VLOOKUP(A3591,PARAMETROS!$B$3:$C$3,2,FALSE))","v":""},null,{"$f":"IF(C3591=\"\",\"\",VLOOKUP(C3591,PARAMETROS!$G$3:$H$21,2,FALSE))","v":""},null,{"$f":"IF(E3591=\"\",\"\",VLOOKUP(E3591,PARAMETROS!$I$3:$J$21,2,FALSE))","v":""},null,null,null,null,null,null,""]
[null,{"$f":"IF(A3592=\"\",\"\",VLOOKUP(A3592,PARAMETROS!$B$3:$C$3,2,FALSE))","v":""},null,{"$f":"IF(C3592=\"\",\"\",VLOOKUP(C3592,PARAMETROS!$G$3:$H$21,2,FALSE))","v":""},null,{"$f":"IF(E3592=\"\",\"\",VLOOKUP(E3592,PARAMETROS!$I$3:$J$21,2,FALSE))","v":""},null,null,null,null,null,null,""]
[null,{"$f":"IF(A3593=\"\",\"\",VLOOKUP(A3593,PARAMETROS!$B$3:$C$3,2,FALSE))","v":""},null,{"$f":"IF(C3593=\"\",\"\",VLOOKUP(C3593,PARAMETROS!$G$3:$H$21,2,FALSE))","v":""},null,{"$f":"IF(E3593=\"\",\"\",VLOOKUP(E3593,PARAMETROS!$I$3:$J$21,2,FALSE))","v":""},null,null,null,null,null,null,""]
[null,{"$f":"IF(A3594=\"\",\"\",VLOOKUP(A3594,PARAMETROS!$B$3:$C$3,2,FALSE))","v":""},null,{"$f":"IF(C3594=\"\",\"\",VLOOKUP(C3594,PARAMETROS!$G$3:$H$21,2,FALSE))","v":""},null,{"$f":"IF(E3594=\"\",\"\",VLOOKUP(E3594,PARAMETROS!$I$3:$J$21,2,FALSE))","v":""},null,null,null,null,null,null,""]
[null,{"$f":"IF(A3595=\"\",\"\",VLOOKUP(A3595,PARAMETROS!$B$3:$C$3,2,FALSE))","v":""},null,{"$f":"IF(C3595=\"\",\"\",VLOOKUP(C3595,PARAMETROS!$G$3:$H$21,2,FALSE))","v":""},null,{"$f":"IF(E3595=\"\",\"\",VLOOKUP(E3595,PARAMETROS!$I$3:$J$21,2,FALSE))","v":""},null,null,null,null,null,null,""]
[null,{"$f":"IF(A3596=\"\",\"\",VLOOKUP(A3596,PARAMETROS!$B$3:$C$3,2,FALSE))","v":""},null,{"$f":"IF(C3596=\"\",\"\",VLOOKUP(C3596,PARAMETROS!$G$3:$H$21,2,FALSE))","v":""},null,{"$f":"IF(E3596=\"\",\"\",VLOOKUP(E3596,PARAMETROS!$I$3:$J$21,2,FALSE))","v":""},null,null,null,null,null,null,""]
[null,{"$f":"IF(A3597=\"\",\"\",VLOOKUP(A3597,PARAMETROS!$B$3:$C$3,2,FALSE))","v":""},null,{"$f":"IF(C3597=\"\",\"\",VLOOKUP(C3597,PARAMETROS!$G$3:$H$21,2,FALSE))","v":""},null,{"$f":"IF(E3597=\"\",\"\",VLOOKUP(E3597,PARAMETROS!$I$3:$J$21,2,FALSE))","v":""},null,null,null,null,null,null,""]
[null,{"$f":"IF(A3598=\"\",\"\",VLOOKUP(A3598,PARAMETROS!$B$3:$C$3,2,FALSE))","v":""},null,{"$f":"IF(C3598=\"\",\"\",VLOOKUP(C3598,PARAMETROS!$G$3:$H$21,2,FALSE))","v":""},null,{"$f":"IF(E3598=\"\",\"\",VLOOKUP(E3598,PARAMETROS!$I$3:$J$21,2,FALSE))","v":""},null,null,null,null,null,null,""]
[null,{"$f":"IF(A3599=\"\",\"\",VLOOKUP(A3599,PARAMETROS!$B$3:$C$3,2,FALSE))","v":""},null,{"$f":"IF(C3599=\"\",\"\",VLOOKUP(C3599,PARAMETROS!$G$3:$H$21,2,FALSE))","v":""},null,{"$f":"IF(E3599=\"\",\"\",VLOOKUP(E3599,PARAMETROS!$I$3:$J$21,2,FALSE))","v":""},null,null,null,null,null,null,{"$f":"IF(L3599=\"\", \"\", L3599)","v":""}]
[null,{"$f":"IF(A3600=\"\",\"\",VLOOKUP(A3600,PARAMETROS!$B$3:$C$3,2,FALSE))","v":""},null,{"$f":"IF(C3600=\"\",\"\",VLOOKUP(C3600,PARAMETROS!$G$3:$H$21,2,FALSE))","v":""},null,{"$f":"IF(E3600=\"\",\"\",VLOOKUP(E3600,PARAMETROS!$I$3:$J$21,2,FALSE))","v":""},null,null,null,null,null,null,""]
[null,{"$f":"IF(A3601=\"\",\"\",VLOOKUP(A3601,PARAMETROS!$B$3:$C$3,2,FALSE))","v":""},null,{"$f":"IF(C3601=\"\",\"\",VLOOKUP(C3601,PARAMETROS!$G$3:$H$21,2,FALSE))","v":""},null,{"$f":"IF(E3601=\"\",\"\",VLOOKUP(E3601,PARAMETROS!$I$3:$J$21,2,FALSE))","v":""},null,null,null,null,null,null,""]
[null,{"$f":"IF(A3602=\"\",\"\",VLOOKUP(A3602,PARAMETROS!$B$3:$C$3,2,FALSE))","v":""},null,{"$f":"IF(C3602=\"\",\"\",VLOOKUP(C3602,PARAMETROS!$G$3:$H$21,2,FALSE))","v":""},null,{"$f":"IF(E3602=\"\",\"\",VLOOKUP(E3602,PARAMETROS!$I$3:$J$21,2,FALSE))","v":""},null,null,null,null,null,null,""]
[null,{"$f":"IF(A3603=\"\",\"\",VLOOKUP(A3603,PARAMETROS!$B$3:$C$3,2,FALSE))","v":""},null,{"$f":"IF(C3603=\"\",\"\",VLOOKUP(C3603,PARAMETROS!$G$3:$H$21,2,FALSE))","v":""},null,{"$f":"IF(E3603=\"\",\"\",VLOOKUP(E3603,PARAMETROS!$I$3:$J$21,2,FALSE))","v":""},null,null,null,null,null,null,""]
[null,{"$f":"IF(A3604=\"\",\"\",VLOOKUP(A3604,PARAMETROS!$B$3:$C$3,2,FALSE))","v":""},null,{"$f":"IF(C3604=\"\",\"\",VLOOKUP(C3604,PARAMETROS!$G$3:$H$21,2,FALSE))","v":""},null,{"$f":"IF(E3604=\"\",\"\",VLOOKUP(E3604,PARAMETROS!$I$3:$J$21,2,FALSE))","v":""},null,null,null,null,null,null,""]
[null,{"$f":"IF(A3605=\"\",\"\",VLOOKUP(A3605,PARAMETROS!$B$3:$C$3,2,FALSE))","v":""},null,{"$f":"IF(C3605=\"\",\"\",VLOOKUP(C3605,PARAMETROS!$G$3:$H$21,2,FALSE))","v":""},null,{"$f":"IF(E3605=\"\",\"\",VLOOKUP(E3605,PARAMETROS!$I$3:$J$21,2,FALSE))","v":""},null,null,null,null,null,null,""]
[null,{"$f":"IF(A3606=\"\",\"\",VLOOKUP(A3606,PARAMETROS!$B$3:$C$3,2,FALSE))","v":""},null,{"$f":"IF(C3606=\"\",\"\",VLOOKUP(C3606,PARAMETROS!$G$3:$H$21,2,FALSE))","v":""},null,{"$f":"IF(E3606=\"\",\"\",VLOOKUP(E3606,PARAMETROS!$I$3:$J$21,2,FALSE))","v":""},null,null,null,null,null,null,""]
[null,{"$f":"IF(A3607=\"\",\"\",VLOOKUP(A3607,PARAMETROS!$B$3:$C$3,2,FALSE))","v":""},null,{"$f":"IF(C3607=\"\",\"\",VLOOKUP(C3607,PARAMETROS!$G$3:$H$21,2,FALSE))","v":""},null,{"$f":"IF(E3607=\"\",\"\",VLOOKUP(E3607,PARAMETROS!$I$3:$J$21,2,FALSE))","v":""},null,null,null,null,null,null,""]
[null,{"$f":"IF(A3608=\"\",\"\",VLOOKUP(A3608,PARAMETROS!$B$3:$C$3,2,FALSE))","v":""},null,{"$f":"IF(C3608=\"\",\"\",VLOOKUP(C3608,PARAMETROS!$G$3:$H$21,2,FALSE))","v":""},null,{"$f":"IF(E3608=\"\",\"\",VLOOKUP(E3608,PARAMETROS!$I$3:$J$21,2,FALSE))","v":""},null,null,null,null,null,null,""]
[null,{"$f":"IF(A3609=\"\",\"\",VLOOKUP(A3609,PARAMETROS!$B$3:$C$3,2,FALSE))","v":""},null,{"$f":"IF(C3609=\"\",\"\",VLOOKUP(C3609,PARAMETROS!$G$3:$H$21,2,FALSE))","v":""},null,{"$f":"IF(E3609=\"\",\"\",VLOOKUP(E3609,PARAMETROS!$I$3:$J$21,2,FALSE))","v":""},null,null,null,null,null,null,""]
[null,{"$f":"IF(A3610=\"\",\"\",VLOOKUP(A3610,PARAMETROS!$B$3:$C$3,2,FALSE))","v":""},null,{"$f":"IF(C3610=\"\",\"\",VLOOKUP(C3610,PARAMETROS!$G$3:$H$21,2,FALSE))","v":""},null,{"$f":"IF(E3610=\"\",\"\",VLOOKUP(E3610,PARAMETROS!$I$3:$J$21,2,FALSE))","v":""},null,null,null,null,null,null,""]
[null,{"$f":"IF(A3611=\"\",\"\",VLOOKUP(A3611,PARAMETROS!$B$3:$C$3,2,FALSE))","v":""},null,{"$f":"IF(C3611=\"\",\"\",VLOOKUP(C3611,PARAMETROS!$G$3:$H$21,2,FALSE))","v":""},null,{"$f":"IF(E3611=\"\",\"\",VLOOKUP(E3611,PARAMETROS!$I$3:$J$21,2,FALSE))","v":""},null,null,null,null,null,null,""]
[null,{"$f":"IF(A3612=\"\",\"\",VLOOKUP(A3612,PARAMETROS!$B$3:$C$3,2,FALSE))","v":""},null,{"$f":"IF(C3612=\"\",\"\",VLOOKUP(C3612,PARAMETROS!$G$3:$H$21,2,FALSE))","v":""},null,{"$f":"IF(E3612=\"\",\"\",VLOOKUP(E3612,PARAMETROS!$I$3:$J$21,2,FALSE))","v":""},null,null,null,null,null,null,""]
[null,{"$f":"IF(A3613=\"\",\"\",VLOOKUP(A3613,PARAMETROS!$B$3:$C$3,2,FALSE))","v":""},null,{"$f":"IF(C3613=\"\",\"\",VLOOKUP(C3613,PARAMETROS!$G$3:$H$21,2,FALSE))","v":""},null,{"$f":"IF(E3613=\"\",\"\",VLOOKUP(E3613,PARAMETROS!$I$3:$J$21,2,FALSE))","v":""},null,null,null,null,null,null,""]
[null,{"$f":"IF(A3614=\"\",\"\",VLOOKUP(A3614,PARAMETROS!$B$3:$C$3,2,FALSE))","v":""},null,{"$f":"IF(C3614=\"\",\"\",VLOOKUP(C3614,PARAMETROS!$G$3:$H$21,2,FALSE))","v":""},null,{"$f":"IF(E3614=\"\",\"\",VLOOKUP(E3614,PARAMETROS!$I$3:$J$21,2,FALSE))","v":""},null,null,null,null,null,null,""]
[null,{"$f":"IF(A3615=\"\",\"\",VLOOKUP(A3615,PARAMETROS!$B$3:$C$3,2,FALSE))","v":""},null,{"$f":"IF(C3615=\"\",\"\",VLOOKUP(C3615,PARAMETROS!$G$3:$H$21,2,FALSE))","v":""},null,{"$f":"IF(E3615=\"\",\"\",VLOOKUP(E3615,PARAMETROS!$I$3:$J$21,2,FALSE))","v":""},null,null,null,null,null,null,""]
[null,{"$f":"IF(A3616=\"\",\"\",VLOOKUP(A3616,PARAMETROS!$B$3:$C$3,2,FALSE))","v":""},null,{"$f":"IF(C3616=\"\",\"\",VLOOKUP(C3616,PARAMETROS!$G$3:$H$21,2,FALSE))","v":""},null,{"$f":"IF(E3616=\"\",\"\",VLOOKUP(E3616,PARAMETROS!$I$3:$J$21,2,FALSE))","v":""},null,null,null,null,null,null,""]
[null,{"$f":"IF(A3617=\"\",\"\",VLOOKUP(A3617,PARAMETROS!$B$3:$C$3,2,FALSE))","v":""},null,{"$f":"IF(C3617=\"\",\"\",VLOOKUP(C3617,PARAMETROS!$G$3:$H$21,2,FALSE))","v":""},null,{"$f":"IF(E3617=\"\",\"\",VLOOKUP(E3617,PARAMETROS!$I$3:$J$21,2,FALSE))","v":""},null,null,null,null,null,null,""]
[null,{"$f":"IF(A3618=\"\",\"\",VLOOKUP(A3618,PARAMETROS!$B$3:$C$3,2,FALSE))","v":""},null,{"$f":"IF(C3618=\"\",\"\",VLOOKUP(C3618,PARAMETROS!$G$3:$H$21,2,FALSE))","v":""},null,{"$f":"IF(E3618=\"\",\"\",VLOOKUP(E3618,PARAMETROS!$I$3:$J$21,2,FALSE))","v":""},null,null,null,null,null,null,""]
[null,{"$f":"IF(A3619=\"\",\"\",VLOOKUP(A3619,PARAMETROS!$B$3:$C$3,2,FALSE))","v":""},null,{"$f":"IF(C3619=\"\",\"\",VLOOKUP(C3619,PARAMETROS!$G$3:$H$21,2,FALSE))","v":""},null,{"$f":"IF(E3619=\"\",\"\",VLOOKUP(E3619,PARAMETROS!$I$3:$J$21,2,FALSE))","v":""},null,null,null,null,null,null,""]
[null,{"$f":"IF(A3620=\"\",\"\",VLOOKUP(A3620,PARAMETROS!$B$3:$C$3,2,FALSE))","v":""},null,{"$f":"IF(C3620=\"\",\"\",VLOOKUP(C3620,PARAMETROS!$G$3:$H$21,2,FALSE))","v":""},null,{"$f":"IF(E3620=\"\",\"\",VLOOKUP(E3620,PARAMETROS!$I$3:$J$21,2,FALSE))","v":""},null,null,null,null,null,null,""]
[null,{"$f":"IF(A3621=\"\",\"\",VLOOKUP(A3621,PARAMETROS!$B$3:$C$3,2,FALSE))","v":""},null,{"$f":"IF(C3621=\"\",\"\",VLOOKUP(C3621,PARAMETROS!$G$3:$H$21,2,FALSE))","v":""},null,{"$f":"IF(E3621=\"\",\"\",VLOOKUP(E3621,PARAMETROS!$I$3:$J$21,2,FALSE))","v":""},null,null,null,null,null,null,""]
[null,{"$f":"IF(A3622=\"\",\"\",VLOOKUP(A3622,PARAMETROS!$B$3:$C$3,2,FALSE))","v":""},null,{"$f":"IF(C3622=\"\",\"\",VLOOKUP(C3622,PARAMETROS!$G$3:$H$21,2,FALSE))","v":""},null,{"$f":"IF(E3622=\"\",\"\",VLOOKUP(E3622,PARAMETROS!$I$3:$J$21,2,FALSE))","v":""},null,null,null,null,null,null,""]
[null,{"$f":"IF(A3623=\"\",\"\",VLOOKUP(A3623,PARAMETROS!$B$3:$C$3,2,FALSE))","v":""},null,{"$f":"IF(C3623=\"\",\"\",VLOOKUP(C3623,PARAMETROS!$G$3:$H$21,2,FALSE))","v":""},null,{"$f":"IF(E3623=\"\",\"\",VLOOKUP(E3623,PARAMETROS!$I$3:$J$21,2,FALSE))","v":""},null,null,null,null,null,null,""]
[null,{"$f":"IF(A3624=\"\",\"\",VLOOKUP(A3624,PARAMETROS!$B$3:$C$3,2,FALSE))","v":""},null,{"$f":"IF(C3624=\"\",\"\",VLOOKUP(C3624,PARAMETROS!$G$3:$H$21,2,FALSE))","v":""},null,{"$f":"IF(E3624=\"\",\"\",VLOOKUP(E3624,PARAMETROS!$I$3:$J$21,2,FALSE))","v":""},null,null,null,null,null,null,""]
[null,{"$f":"IF(A3625=\"\",\"\",VLOOKUP(A3625,PARAMETROS!$B$3:$C$3,2,FALSE))","v":""},null,{"$f":"IF(C3625=\"\",\"\",VLOOKUP(C3625,PARAMETROS!$G$3:$H$21,2,FALSE))","v":""},null,{"$f":"IF(E3625=\"\",\"\",VLOOKUP(E3625,PARAMETROS!$I$3:$J$21,2,FALSE))","v":""},null,null,null,null,null,null,""]
[null,{"$f":"IF(A3626=\"\",\"\",VLOOKUP(A3626,PARAMETROS!$B$3:$C$3,2,FALSE))","v":""},null,{"$f":"IF(C3626=\"\",\"\",VLOOKUP(C3626,PARAMETROS!$G$3:$H$21,2,FALSE))","v":""},null,{"$f":"IF(E3626=\"\",\"\",VLOOKUP(E3626,PARAMETROS!$I$3:$J$21,2,FALSE))","v":""},null,null,null,null,null,null,""]
[null,{"$f":"IF(A3627=\"\",\"\",VLOOKUP(A3627,PARAMETROS!$B$3:$C$3,2,FALSE))","v":""},null,{"$f":"IF(C3627=\"\",\"\",VLOOKUP(C3627,PARAMETROS!$G$3:$H$21,2,FALSE))","v":""},null,{"$f":"IF(E3627=\"\",\"\",VLOOKUP(E3627,PARAMETROS!$I$3:$J$21,2,FALSE))","v":""},null,null,null,null,null,null,""]
[null,{"$f":"IF(A3628=\"\",\"\",VLOOKUP(A3628,PARAMETROS!$B$3:$C$3,2,FALSE))","v":""},null,{"$f":"IF(C3628=\"\",\"\",VLOOKUP(C3628,PARAMETROS!$G$3:$H$21,2,FALSE))","v":""},null,{"$f":"IF(E3628=\"\",\"\",VLOOKUP(E3628,PARAMETROS!$I$3:$J$21,2,FALSE))","v":""},null,null,null,null,null,null,""]
[null,{"$f":"IF(A3629=\"\",\"\",VLOOKUP(A3629,PARAMETROS!$B$3:$C$3,2,FALSE))","v":""},null,{"$f":"IF(C3629=\"\",\"\",VLOOKUP(C3629,PARAMETROS!$G$3:$H$21,2,FALSE))","v":""},null,{"$f":"IF(E3629=\"\",\"\",VLOOKUP(E3629,PARAMETROS!$I$3:$J$21,2,FALSE))","v":""},null,null,null,null,null,null,""]
[null,{"$f":"IF(A3630=\"\",\"\",VLOOKUP(A3630,PARAMETROS!$B$3:$C$3,2,FALSE))","v":""},null,{"$f":"IF(C3630=\"\",\"\",VLOOKUP(C3630,PARAMETROS!$G$3:$H$21,2,FALSE))","v":""},null,{"$f":"IF(E3630=\"\",\"\",VLOOKUP(E3630,PARAMETROS!$I$3:$J$21,2,FALSE))","v":""},null,null,null,null,null,null,""]
[null,{"$f":"IF(A3631=\"\",\"\",VLOOKUP(A3631,PARAMETROS!$B$3:$C$3,2,FALSE))","v":""},null,{"$f":"IF(C3631=\"\",\"\",VLOOKUP(C3631,PARAMETROS!$G$3:$H$21,2,FALSE))","v":""},null,{"$f":"IF(E3631=\"\",\"\",VLOOKUP(E3631,PARAMETROS!$I$3:$J$21,2,FALSE))","v":""},null,null,null,null,null,null,""]
[null,{"$f":"IF(A3632=\"\",\"\",VLOOKUP(A3632,PARAMETROS!$B$3:$C$3,2,FALSE))","v":""},null,{"$f":"IF(C3632=\"\",\"\",VLOOKUP(C3632,PARAMETROS!$G$3:$H$21,2,FALSE))","v":""},null,{"$f":"IF(E3632=\"\",\"\",VLOOKUP(E3632,PARAMETROS!$I$3:$J$21,2,FALSE))","v":""},null,null,null,null,null,null,""]
[null,{"$f":"IF(A3633=\"\",\"\",VLOOKUP(A3633,PARAMETROS!$B$3:$C$3,2,FALSE))","v":""},null,{"$f":"IF(C3633=\"\",\"\",VLOOKUP(C3633,PARAMETROS!$G$3:$H$21,2,FALSE))","v":""},null,{"$f":"IF(E3633=\"\",\"\",VLOOKUP(E3633,PARAMETROS!$I$3:$J$21,2,FALSE))","v":""},null,null,null,null,null,null,""]
[null,{"$f":"IF(A3634=\"\",\"\",VLOOKUP(A3634,PARAMETROS!$B$3:$C$3,2,FALSE))","v":""},null,{"$f":"IF(C3634=\"\",\"\",VLOOKUP(C3634,PARAMETROS!$G$3:$H$21,2,FALSE))","v":""},null,{"$f":"IF(E3634=\"\",\"\",VLOOKUP(E3634,PARAMETROS!$I$3:$J$21,2,FALSE))","v":""},null,null,null,null,null,null,""]
[null,{"$f":"IF(A3635=\"\",\"\",VLOOKUP(A3635,PARAMETROS!$B$3:$C$3,2,FALSE))","v":""},null,{"$f":"IF(C3635=\"\",\"\",VLOOKUP(C3635,PARAMETROS!$G$3:$H$21,2,FALSE))","v":""},null,{"$f":"IF(E3635=\"\",\"\",VLOOKUP(E3635,PARAMETROS!$I$3:$J$21,2,FALSE))","v":""},null,null,null,null,null,null,""]
[null,{"$f":"IF(A3636=\"\",\"\",VLOOKUP(A3636,PARAMETROS!$B$3:$C$3,2,FALSE))","v":""},null,{"$f":"IF(C3636=\"\",\"\",VLOOKUP(C3636,PARAMETROS!$G$3:$H$21,2,FALSE))","v":""},null,{"$f":"IF(E3636=\"\",\"\",VLOOKUP(E3636,PARAMETROS!$I$3:$J$21,2,FALSE))","v":""},null,null,null,null,null,null,""]
[null,{"$f":"IF(A3637=\"\",\"\",VLOOKUP(A3637,PARAMETROS!$B$3:$C$3,2,FALSE))","v":""},null,{"$f":"IF(C3637=\"\",\"\",VLOOKUP(C3637,PARAMETROS!$G$3:$H$21,2,FALSE))","v":""},null,{"$f":"IF(E3637=\"\",\"\",VLOOKUP(E3637,PARAMETROS!$I$3:$J$21,2,FALSE))","v":""},null,null,null,null,null,null,""]
[null,{"$f":"IF(A3638=\"\",\"\",VLOOKUP(A3638,PARAMETROS!$B$3:$C$3,2,FALSE))","v":""},null,{"$f":"IF(C3638=\"\",\"\",VLOOKUP(C3638,PARAMETROS!$G$3:$H$21,2,FALSE))","v":""},null,{"$f":"IF(E3638=\"\",\"\",VLOOKUP(E3638,PARAMETROS!$I$3:$J$21,2,FALSE))","v":""},null,null,null,null,null,null,""]
[null,{"$f":"IF(A3639=\"\",\"\",VLOOKUP(A3639,PARAMETROS!$B$3:$C$3,2,FALSE))","v":""},null,{"$f":"IF(C3639=\"\",\"\",VLOOKUP(C3639,PARAMETROS!$G$3:$H$21,2,FALSE))","v":""},null,{"$f":"IF(E3639=\"\",\"\",VLOOKUP(E3639,PARAMETROS!$I$3:$J$21,2,FALSE))","v":""},null,null,null,null,null,null,""]
[null,{"$f":"IF(A3640=\"\",\"\",VLOOKUP(A3640,PARAMETROS!$B$3:$C$3,2,FALSE))","v":""},null,{"$f":"IF(C3640=\"\",\"\",VLOOKUP(C3640,PARAMETROS!$G$3:$H$21,2,FALSE))","v":""},null,{"$f":"IF(E3640=\"\",\"\",VLOOKUP(E3640,PARAMETROS!$I$3:$J$21,2,FALSE))","v":""},null,null,null,null,null,null,""]
[null,{"$f":"IF(A3641=\"\",\"\",VLOOKUP(A3641,PARAMETROS!$B$3:$C$3,2,FALSE))","v":""},null,{"$f":"IF(C3641=\"\",\"\",VLOOKUP(C3641,PARAMETROS!$G$3:$H$21,2,FALSE))","v":""},null,{"$f":"IF(E3641=\"\",\"\",VLOOKUP(E3641,PARAMETROS!$I$3:$J$21,2,FALSE))","v":""},null,null,null,null,null,null,""]
[null,{"$f":"IF(A3642=\"\",\"\",VLOOKUP(A3642,PARAMETROS!$B$3:$C$3,2,FALSE))","v":""},null,{"$f":"IF(C3642=\"\",\"\",VLOOKUP(C3642,PARAMETROS!$G$3:$H$21,2,FALSE))","v":""},null,{"$f":"IF(E3642=\"\",\"\",VLOOKUP(E3642,PARAMETROS!$I$3:$J$21,2,FALSE))","v":""},null,null,null,null,null,null,""]
[null,{"$f":"IF(A3643=\"\",\"\",VLOOKUP(A3643,PARAMETROS!$B$3:$C$3,2,FALSE))","v":""},null,{"$f":"IF(C3643=\"\",\"\",VLOOKUP(C3643,PARAMETROS!$G$3:$H$21,2,FALSE))","v":""},null,{"$f":"IF(E3643=\"\",\"\",VLOOKUP(E3643,PARAMETROS!$I$3:$J$21,2,FALSE))","v":""},null,null,null,null,null,null,""]
[null,{"$f":"IF(A3644=\"\",\"\",VLOOKUP(A3644,PARAMETROS!$B$3:$C$3,2,FALSE))","v":""},null,{"$f":"IF(C3644=\"\",\"\",VLOOKUP(C3644,PARAMETROS!$G$3:$H$21,2,FALSE))","v":""},null,{"$f":"IF(E3644=\"\",\"\",VLOOKUP(E3644,PARAMETROS!$I$3:$J$21,2,FALSE))","v":""},null,null,null,null,null,null,""]
[null,{"$f":"IF(A3645=\"\",\"\",VLOOKUP(A3645,PARAMETROS!$B$3:$C$3,2,FALSE))","v":""},null,{"$f":"IF(C3645=\"\",\"\",VLOOKUP(C3645,PARAMETROS!$G$3:$H$21,2,FALSE))","v":""},null,{"$f":"IF(E3645=\"\",\"\",VLOOKUP(E3645,PARAMETROS!$I$3:$J$21,2,FALSE))","v":""},null,null,null,null,null,null,""]
[null,{"$f":"IF(A3646=\"\",\"\",VLOOKUP(A3646,PARAMETROS!$B$3:$C$3,2,FALSE))","v":""},null,{"$f":"IF(C3646=\"\",\"\",VLOOKUP(C3646,PARAMETROS!$G$3:$H$21,2,FALSE))","v":""},null,{"$f":"IF(E3646=\"\",\"\",VLOOKUP(E3646,PARAMETROS!$I$3:$J$21,2,FALSE))","v":""},null,null,null,null,null,null,""]
[null,{"$f":"IF(A3647=\"\",\"\",VLOOKUP(A3647,PARAMETROS!$B$3:$C$3,2,FALSE))","v":""},null,{"$f":"IF(C3647=\"\",\"\",VLOOKUP(C3647,PARAMETROS!$G$3:$H$21,2,FALSE))","v":""},null,{"$f":"IF(E3647=\"\",\"\",VLOOKUP(E3647,PARAMETROS!$I$3:$J$21,2,FALSE))","v":""},null,null,null,null,null,null,""]
[null,{"$f":"IF(A3648=\"\",\"\",VLOOKUP(A3648,PARAMETROS!$B$3:$C$3,2,FALSE))","v":""},null,{"$f":"IF(C3648=\"\",\"\",VLOOKUP(C3648,PARAMETROS!$G$3:$H$21,2,FALSE))","v":""},null,{"$f":"IF(E3648=\"\",\"\",VLOOKUP(E3648,PARAMETROS!$I$3:$J$21,2,FALSE))","v":""},null,null,null,null,null,null,""]
[null,{"$f":"IF(A3649=\"\",\"\",VLOOKUP(A3649,PARAMETROS!$B$3:$C$3,2,FALSE))","v":""},null,{"$f":"IF(C3649=\"\",\"\",VLOOKUP(C3649,PARAMETROS!$G$3:$H$21,2,FALSE))","v":""},null,{"$f":"IF(E3649=\"\",\"\",VLOOKUP(E3649,PARAMETROS!$I$3:$J$21,2,FALSE))","v":""},null,null,null,null,null,null,""]
[null,{"$f":"IF(A3650=\"\",\"\",VLOOKUP(A3650,PARAMETROS!$B$3:$C$3,2,FALSE))","v":""},null,{"$f":"IF(C3650=\"\",\"\",VLOOKUP(C3650,PARAMETROS!$G$3:$H$21,2,FALSE))","v":""},null,{"$f":"IF(E3650=\"\",\"\",VLOOKUP(E3650,PARAMETROS!$I$3:$J$21,2,FALSE))","v":""},null,null,null,null,null,null,""]
[null,{"$f":"IF(A3651=\"\",\"\",VLOOKUP(A3651,PARAMETROS!$B$3:$C$3,2,FALSE))","v":""},null,{"$f":"IF(C3651=\"\",\"\",VLOOKUP(C3651,PARAMETROS!$G$3:$H$21,2,FALSE))","v":""},null,{"$f":"IF(E3651=\"\",\"\",VLOOKUP(E3651,PARAMETROS!$I$3:$J$21,2,FALSE))","v":""},null,null,null,null,null,null,""]
[null,{"$f":"IF(A3652=\"\",\"\",VLOOKUP(A3652,PARAMETROS!$B$3:$C$3,2,FALSE))","v":""},null,{"$f":"IF(C3652=\"\",\"\",VLOOKUP(C3652,PARAMETROS!$G$3:$H$21,2,FALSE))","v":""},null,{"$f":"IF(E3652=\"\",\"\",VLOOKUP(E3652,PARAMETROS!$I$3:$J$21,2,FALSE))","v":""},null,null,null,null,null,null,""]
[null,{"$f":"IF(A3653=\"\",\"\",VLOOKUP(A3653,PARAMETROS!$B$3:$C$3,2,FALSE))","v":""},null,{"$f":"IF(C3653=\"\",\"\",VLOOKUP(C3653,PARAMETROS!$G$3:$H$21,2,FALSE))","v":""},null,{"$f":"IF(E3653=\"\",\"\",VLOOKUP(E3653,PARAMETROS!$I$3:$J$21,2,FALSE))","v":""},null,null,null,null,null,null,""]
[null,{"$f":"IF(A3654=\"\",\"\",VLOOKUP(A3654,PARAMETROS!$B$3:$C$3,2,FALSE))","v":""},null,{"$f":"IF(C3654=\"\",\"\",VLOOKUP(C3654,PARAMETROS!$G$3:$H$21,2,FALSE))","v":""},null,{"$f":"IF(E3654=\"\",\"\",VLOOKUP(E3654,PARAMETROS!$I$3:$J$21,2,FALSE))","v":""},null,null,null,null,null,null,""]
[null,{"$f":"IF(A3655=\"\",\"\",VLOOKUP(A3655,PARAMETROS!$B$3:$C$3,2,FALSE))","v":""},null,{"$f":"IF(C3655=\"\",\"\",VLOOKUP(C3655,PARAMETROS!$G$3:$H$21,2,FALSE))","v":""},null,{"$f":"IF(E3655=\"\",\"\",VLOOKUP(E3655,PARAMETROS!$I$3:$J$21,2,FALSE))","v":""},null,null,null,null,null,null,""]
[null,{"$f":"IF(A3656=\"\",\"\",VLOOKUP(A3656,PARAMETROS!$B$3:$C$3,2,FALSE))","v":""},null,{"$f":"IF(C3656=\"\",\"\",VLOOKUP(C3656,PARAMETROS!$G$3:$H$21,2,FALSE))","v":""},null,{"$f":"IF(E3656=\"\",\"\",VLOOKUP(E3656,PARAMETROS!$I$3:$J$21,2,FALSE))","v":""},null,null,null,null,null,null,""]
[null,{"$f":"IF(A3657=\"\",\"\",VLOOKUP(A3657,PARAMETROS!$B$3:$C$3,2,FALSE))","v":""},null,{"$f":"IF(C3657=\"\",\"\",VLOOKUP(C3657,PARAMETROS!$G$3:$H$21,2,FALSE))","v":""},null,{"$f":"IF(E3657=\"\",\"\",VLOOKUP(E3657,PARAMETROS!$I$3:$J$21,2,FALSE))","v":""},null,null,null,null,null,null,""]
[null,{"$f":"IF(A3658=\"\",\"\",VLOOKUP(A3658,PARAMETROS!$B$3:$C$3,2,FALSE))","v":""},null,{"$f":"IF(C3658=\"\",\"\",VLOOKUP(C3658,PARAMETROS!$G$3:$H$21,2,FALSE))","v":""},null,{"$f":"IF(E3658=\"\",\"\",VLOOKUP(E3658,PARAMETROS!$I$3:$J$21,2,FALSE))","v":""},null,null,null,null,null,null,""]
[null,{"$f":"IF(A3659=\"\",\"\",VLOOKUP(A3659,PARAMETROS!$B$3:$C$3,2,FALSE))","v":""},null,{"$f":"IF(C3659=\"\",\"\",VLOOKUP(C3659,PARAMETROS!$G$3:$H$21,2,FALSE))","v":""},null,{"$f":"IF(E3659=\"\",\"\",VLOOKUP(E3659,PARAMETROS!$I$3:$J$21,2,FALSE))","v":""},null,null,null,null,null,null,""]
[null,{"$f":"IF(A3660=\"\",\"\",VLOOKUP(A3660,PARAMETROS!$B$3:$C$3,2,FALSE))","v":""},null,{"$f":"IF(C3660=\"\",\"\",VLOOKUP(C3660,PARAMETROS!$G$3:$H$21,2,FALSE))","v":""},null,{"$f":"IF(E3660=\"\",\"\",VLOOKUP(E3660,PARAMETROS!$I$3:$J$21,2,FALSE))","v":""},null,null,null,null,null,null,""]
[null,{"$f":"IF(A3661=\"\",\"\",VLOOKUP(A3661,PARAMETROS!$B$3:$C$3,2,FALSE))","v":""},null,{"$f":"IF(C3661=\"\",\"\",VLOOKUP(C3661,PARAMETROS!$G$3:$H$21,2,FALSE))","v":""},null,{"$f":"IF(E3661=\"\",\"\",VLOOKUP(E3661,PARAMETROS!$I$3:$J$21,2,FALSE))","v":""},null,null,null,null,null,null,""]
[null,{"$f":"IF(A3662=\"\",\"\",VLOOKUP(A3662,PARAMETROS!$B$3:$C$3,2,FALSE))","v":""},null,{"$f":"IF(C3662=\"\",\"\",VLOOKUP(C3662,PARAMETROS!$G$3:$H$21,2,FALSE))","v":""},null,{"$f":"IF(E3662=\"\",\"\",VLOOKUP(E3662,PARAMETROS!$I$3:$J$21,2,FALSE))","v":""},null,null,null,null,null,null,""]
[null,{"$f":"IF(A3663=\"\",\"\",VLOOKUP(A3663,PARAMETROS!$B$3:$C$3,2,FALSE))","v":""},null,{"$f":"IF(C3663=\"\",\"\",VLOOKUP(C3663,PARAMETROS!$G$3:$H$21,2,FALSE))","v":""},null,{"$f":"IF(E3663=\"\",\"\",VLOOKUP(E3663,PARAMETROS!$I$3:$J$21,2,FALSE))","v":""},null,null,null,null,null,null,{"$f":"IF(L3663=\"\", \"\", L3663)","v":""}]
[null,{"$f":"IF(A3664=\"\",\"\",VLOOKUP(A3664,PARAMETROS!$B$3:$C$3,2,FALSE))","v":""},null,{"$f":"IF(C3664=\"\",\"\",VLOOKUP(C3664,PARAMETROS!$G$3:$H$21,2,FALSE))","v":""},null,{"$f":"IF(E3664=\"\",\"\",VLOOKUP(E3664,PARAMETROS!$I$3:$J$21,2,FALSE))","v":""},null,null,null,null,null,null,""]
[null,{"$f":"IF(A3665=\"\",\"\",VLOOKUP(A3665,PARAMETROS!$B$3:$C$3,2,FALSE))","v":""},null,{"$f":"IF(C3665=\"\",\"\",VLOOKUP(C3665,PARAMETROS!$G$3:$H$21,2,FALSE))","v":""},null,{"$f":"IF(E3665=\"\",\"\",VLOOKUP(E3665,PARAMETROS!$I$3:$J$21,2,FALSE))","v":""},null,null,null,null,null,null,""]
[null,{"$f":"IF(A3666=\"\",\"\",VLOOKUP(A3666,PARAMETROS!$B$3:$C$3,2,FALSE))","v":""},null,{"$f":"IF(C3666=\"\",\"\",VLOOKUP(C3666,PARAMETROS!$G$3:$H$21,2,FALSE))","v":""},null,{"$f":"IF(E3666=\"\",\"\",VLOOKUP(E3666,PARAMETROS!$I$3:$J$21,2,FALSE))","v":""},null,null,null,null,null,null,""]
[null,{"$f":"IF(A3667=\"\",\"\",VLOOKUP(A3667,PARAMETROS!$B$3:$C$3,2,FALSE))","v":""},null,{"$f":"IF(C3667=\"\",\"\",VLOOKUP(C3667,PARAMETROS!$G$3:$H$21,2,FALSE))","v":""},null,{"$f":"IF(E3667=\"\",\"\",VLOOKUP(E3667,PARAMETROS!$I$3:$J$21,2,FALSE))","v":""},null,null,null,null,null,null,""]
[null,{"$f":"IF(A3668=\"\",\"\",VLOOKUP(A3668,PARAMETROS!$B$3:$C$3,2,FALSE))","v":""},null,{"$f":"IF(C3668=\"\",\"\",VLOOKUP(C3668,PARAMETROS!$G$3:$H$21,2,FALSE))","v":""},null,{"$f":"IF(E3668=\"\",\"\",VLOOKUP(E3668,PARAMETROS!$I$3:$J$21,2,FALSE))","v":""},null,null,null,null,null,null,""]
[null,{"$f":"IF(A3669=\"\",\"\",VLOOKUP(A3669,PARAMETROS!$B$3:$C$3,2,FALSE))","v":""},null,{"$f":"IF(C3669=\"\",\"\",VLOOKUP(C3669,PARAMETROS!$G$3:$H$21,2,FALSE))","v":""},null,{"$f":"IF(E3669=\"\",\"\",VLOOKUP(E3669,PARAMETROS!$I$3:$J$21,2,FALSE))","v":""},null,null,null,null,null,null,""]
[null,{"$f":"IF(A3670=\"\",\"\",VLOOKUP(A3670,PARAMETROS!$B$3:$C$3,2,FALSE))","v":""},null,{"$f":"IF(C3670=\"\",\"\",VLOOKUP(C3670,PARAMETROS!$G$3:$H$21,2,FALSE))","v":""},null,{"$f":"IF(E3670=\"\",\"\",VLOOKUP(E3670,PARAMETROS!$I$3:$J$21,2,FALSE))","v":""},null,null,null,null,null,null,""]
[null,{"$f":"IF(A3671=\"\",\"\",VLOOKUP(A3671,PARAMETROS!$B$3:$C$3,2,FALSE))","v":""},null,{"$f":"IF(C3671=\"\",\"\",VLOOKUP(C3671,PARAMETROS!$G$3:$H$21,2,FALSE))","v":""},null,{"$f":"IF(E3671=\"\",\"\",VLOOKUP(E3671,PARAMETROS!$I$3:$J$21,2,FALSE))","v":""},null,null,null,null,null,null,""]
[null,{"$f":"IF(A3672=\"\",\"\",VLOOKUP(A3672,PARAMETROS!$B$3:$C$3,2,FALSE))","v":""},null,{"$f":"IF(C3672=\"\",\"\",VLOOKUP(C3672,PARAMETROS!$G$3:$H$21,2,FALSE))","v":""},null,{"$f":"IF(E3672=\"\",\"\",VLOOKUP(E3672,PARAMETROS!$I$3:$J$21,2,FALSE))","v":""},null,null,null,null,null,null,""]
[null,{"$f":"IF(A3673=\"\",\"\",VLOOKUP(A3673,PARAMETROS!$B$3:$C$3,2,FALSE))","v":""},null,{"$f":"IF(C3673=\"\",\"\",VLOOKUP(C3673,PARAMETROS!$G$3:$H$21,2,FALSE))","v":""},null,{"$f":"IF(E3673=\"\",\"\",VLOOKUP(E3673,PARAMETROS!$I$3:$J$21,2,FALSE))","v":""},null,null,null,null,null,null,""]
[null,{"$f":"IF(A3674=\"\",\"\",VLOOKUP(A3674,PARAMETROS!$B$3:$C$3,2,FALSE))","v":""},null,{"$f":"IF(C3674=\"\",\"\",VLOOKUP(C3674,PARAMETROS!$G$3:$H$21,2,FALSE))","v":""},null,{"$f":"IF(E3674=\"\",\"\",VLOOKUP(E3674,PARAMETROS!$I$3:$J$21,2,FALSE))","v":""},null,null,null,null,null,null,""]
[null,{"$f":"IF(A3675=\"\",\"\",VLOOKUP(A3675,PARAMETROS!$B$3:$C$3,2,FALSE))","v":""},null,{"$f":"IF(C3675=\"\",\"\",VLOOKUP(C3675,PARAMETROS!$G$3:$H$21,2,FALSE))","v":""},null,{"$f":"IF(E3675=\"\",\"\",VLOOKUP(E3675,PARAMETROS!$I$3:$J$21,2,FALSE))","v":""},null,null,null,null,null,null,""]
[null,{"$f":"IF(A3676=\"\",\"\",VLOOKUP(A3676,PARAMETROS!$B$3:$C$3,2,FALSE))","v":""},null,{"$f":"IF(C3676=\"\",\"\",VLOOKUP(C3676,PARAMETROS!$G$3:$H$21,2,FALSE))","v":""},null,{"$f":"IF(E3676=\"\",\"\",VLOOKUP(E3676,PARAMETROS!$I$3:$J$21,2,FALSE))","v":""},null,null,null,null,null,null,""]
[null,{"$f":"IF(A3677=\"\",\"\",VLOOKUP(A3677,PARAMETROS!$B$3:$C$3,2,FALSE))","v":""},null,{"$f":"IF(C3677=\"\",\"\",VLOOKUP(C3677,PARAMETROS!$G$3:$H$21,2,FALSE))","v":""},null,{"$f":"IF(E3677=\"\",\"\",VLOOKUP(E3677,PARAMETROS!$I$3:$J$21,2,FALSE))","v":""},null,null,null,null,null,null,""]
[null,{"$f":"IF(A3678=\"\",\"\",VLOOKUP(A3678,PARAMETROS!$B$3:$C$3,2,FALSE))","v":""},null,{"$f":"IF(C3678=\"\",\"\",VLOOKUP(C3678,PARAMETROS!$G$3:$H$21,2,FALSE))","v":""},null,{"$f":"IF(E3678=\"\",\"\",VLOOKUP(E3678,PARAMETROS!$I$3:$J$21,2,FALSE))","v":""},null,null,null,null,null,null,""]
[null,{"$f":"IF(A3679=\"\",\"\",VLOOKUP(A3679,PARAMETROS!$B$3:$C$3,2,FALSE))","v":""},null,{"$f":"IF(C3679=\"\",\"\",VLOOKUP(C3679,PARAMETROS!$G$3:$H$21,2,FALSE))","v":""},null,{"$f":"IF(E3679=\"\",\"\",VLOOKUP(E3679,PARAMETROS!$I$3:$J$21,2,FALSE))","v":""},null,null,null,null,null,null,""]
[null,{"$f":"IF(A3680=\"\",\"\",VLOOKUP(A3680,PARAMETROS!$B$3:$C$3,2,FALSE))","v":""},null,{"$f":"IF(C3680=\"\",\"\",VLOOKUP(C3680,PARAMETROS!$G$3:$H$21,2,FALSE))","v":""},null,{"$f":"IF(E3680=\"\",\"\",VLOOKUP(E3680,PARAMETROS!$I$3:$J$21,2,FALSE))","v":""},null,null,null,null,null,null,""]
[null,{"$f":"IF(A3681=\"\",\"\",VLOOKUP(A3681,PARAMETROS!$B$3:$C$3,2,FALSE))","v":""},null,{"$f":"IF(C3681=\"\",\"\",VLOOKUP(C3681,PARAMETROS!$G$3:$H$21,2,FALSE))","v":""},null,{"$f":"IF(E3681=\"\",\"\",VLOOKUP(E3681,PARAMETROS!$I$3:$J$21,2,FALSE))","v":""},null,null,null,null,null,null,""]
[null,{"$f":"IF(A3682=\"\",\"\",VLOOKUP(A3682,PARAMETROS!$B$3:$C$3,2,FALSE))","v":""},null,{"$f":"IF(C3682=\"\",\"\",VLOOKUP(C3682,PARAMETROS!$G$3:$H$21,2,FALSE))","v":""},null,{"$f":"IF(E3682=\"\",\"\",VLOOKUP(E3682,PARAMETROS!$I$3:$J$21,2,FALSE))","v":""},null,null,null,null,null,null,""]
[null,{"$f":"IF(A3683=\"\",\"\",VLOOKUP(A3683,PARAMETROS!$B$3:$C$3,2,FALSE))","v":""},null,{"$f":"IF(C3683=\"\",\"\",VLOOKUP(C3683,PARAMETROS!$G$3:$H$21,2,FALSE))","v":""},null,{"$f":"IF(E3683=\"\",\"\",VLOOKUP(E3683,PARAMETROS!$I$3:$J$21,2,FALSE))","v":""},null,null,null,null,null,null,""]
[null,{"$f":"IF(A3684=\"\",\"\",VLOOKUP(A3684,PARAMETROS!$B$3:$C$3,2,FALSE))","v":""},null,{"$f":"IF(C3684=\"\",\"\",VLOOKUP(C3684,PARAMETROS!$G$3:$H$21,2,FALSE))","v":""},null,{"$f":"IF(E3684=\"\",\"\",VLOOKUP(E3684,PARAMETROS!$I$3:$J$21,2,FALSE))","v":""},null,null,null,null,null,null,""]
[null,{"$f":"IF(A3685=\"\",\"\",VLOOKUP(A3685,PARAMETROS!$B$3:$C$3,2,FALSE))","v":""},null,{"$f":"IF(C3685=\"\",\"\",VLOOKUP(C3685,PARAMETROS!$G$3:$H$21,2,FALSE))","v":""},null,{"$f":"IF(E3685=\"\",\"\",VLOOKUP(E3685,PARAMETROS!$I$3:$J$21,2,FALSE))","v":""},null,null,null,null,null,null,""]
[null,{"$f":"IF(A3686=\"\",\"\",VLOOKUP(A3686,PARAMETROS!$B$3:$C$3,2,FALSE))","v":""},null,{"$f":"IF(C3686=\"\",\"\",VLOOKUP(C3686,PARAMETROS!$G$3:$H$21,2,FALSE))","v":""},null,{"$f":"IF(E3686=\"\",\"\",VLOOKUP(E3686,PARAMETROS!$I$3:$J$21,2,FALSE))","v":""},null,null,null,null,null,null,""]
[null,{"$f":"IF(A3687=\"\",\"\",VLOOKUP(A3687,PARAMETROS!$B$3:$C$3,2,FALSE))","v":""},null,{"$f":"IF(C3687=\"\",\"\",VLOOKUP(C3687,PARAMETROS!$G$3:$H$21,2,FALSE))","v":""},null,{"$f":"IF(E3687=\"\",\"\",VLOOKUP(E3687,PARAMETROS!$I$3:$J$21,2,FALSE))","v":""},null,null,null,null,null,null,""]
[null,{"$f":"IF(A3688=\"\",\"\",VLOOKUP(A3688,PARAMETROS!$B$3:$C$3,2,FALSE))","v":""},null,{"$f":"IF(C3688=\"\",\"\",VLOOKUP(C3688,PARAMETROS!$G$3:$H$21,2,FALSE))","v":""},null,{"$f":"IF(E3688=\"\",\"\",VLOOKUP(E3688,PARAMETROS!$I$3:$J$21,2,FALSE))","v":""},null,null,null,null,null,null,""]
[null,{"$f":"IF(A3689=\"\",\"\",VLOOKUP(A3689,PARAMETROS!$B$3:$C$3,2,FALSE))","v":""},null,{"$f":"IF(C3689=\"\",\"\",VLOOKUP(C3689,PARAMETROS!$G$3:$H$21,2,FALSE))","v":""},null,{"$f":"IF(E3689=\"\",\"\",VLOOKUP(E3689,PARAMETROS!$I$3:$J$21,2,FALSE))","v":""},null,null,null,null,null,null,""]
[null,{"$f":"IF(A3690=\"\",\"\",VLOOKUP(A3690,PARAMETROS!$B$3:$C$3,2,FALSE))","v":""},null,{"$f":"IF(C3690=\"\",\"\",VLOOKUP(C3690,PARAMETROS!$G$3:$H$21,2,FALSE))","v":""},null,{"$f":"IF(E3690=\"\",\"\",VLOOKUP(E3690,PARAMETROS!$I$3:$J$21,2,FALSE))","v":""},null,null,null,null,null,null,""]
[null,{"$f":"IF(A3691=\"\",\"\",VLOOKUP(A3691,PARAMETROS!$B$3:$C$3,2,FALSE))","v":""},null,{"$f":"IF(C3691=\"\",\"\",VLOOKUP(C3691,PARAMETROS!$G$3:$H$21,2,FALSE))","v":""},null,{"$f":"IF(E3691=\"\",\"\",VLOOKUP(E3691,PARAMETROS!$I$3:$J$21,2,FALSE))","v":""},null,null,null,null,null,null,""]
[null,{"$f":"IF(A3692=\"\",\"\",VLOOKUP(A3692,PARAMETROS!$B$3:$C$3,2,FALSE))","v":""},null,{"$f":"IF(C3692=\"\",\"\",VLOOKUP(C3692,PARAMETROS!$G$3:$H$21,2,FALSE))","v":""},null,{"$f":"IF(E3692=\"\",\"\",VLOOKUP(E3692,PARAMETROS!$I$3:$J$21,2,FALSE))","v":""},null,null,null,null,null,null,""]
[null,{"$f":"IF(A3693=\"\",\"\",VLOOKUP(A3693,PARAMETROS!$B$3:$C$3,2,FALSE))","v":""},null,{"$f":"IF(C3693=\"\",\"\",VLOOKUP(C3693,PARAMETROS!$G$3:$H$21,2,FALSE))","v":""},null,{"$f":"IF(E3693=\"\",\"\",VLOOKUP(E3693,PARAMETROS!$I$3:$J$21,2,FALSE))","v":""},null,null,null,null,null,null,""]
[null,{"$f":"IF(A3694=\"\",\"\",VLOOKUP(A3694,PARAMETROS!$B$3:$C$3,2,FALSE))","v":""},null,{"$f":"IF(C3694=\"\",\"\",VLOOKUP(C3694,PARAMETROS!$G$3:$H$21,2,FALSE))","v":""},null,{"$f":"IF(E3694=\"\",\"\",VLOOKUP(E3694,PARAMETROS!$I$3:$J$21,2,FALSE))","v":""},null,null,null,null,null,null,""]
[null,{"$f":"IF(A3695=\"\",\"\",VLOOKUP(A3695,PARAMETROS!$B$3:$C$3,2,FALSE))","v":""},null,{"$f":"IF(C3695=\"\",\"\",VLOOKUP(C3695,PARAMETROS!$G$3:$H$21,2,FALSE))","v":""},null,{"$f":"IF(E3695=\"\",\"\",VLOOKUP(E3695,PARAMETROS!$I$3:$J$21,2,FALSE))","v":""},null,null,null,null,null,null,""]
[null,{"$f":"IF(A3696=\"\",\"\",VLOOKUP(A3696,PARAMETROS!$B$3:$C$3,2,FALSE))","v":""},null,{"$f":"IF(C3696=\"\",\"\",VLOOKUP(C3696,PARAMETROS!$G$3:$H$21,2,FALSE))","v":""},null,{"$f":"IF(E3696=\"\",\"\",VLOOKUP(E3696,PARAMETROS!$I$3:$J$21,2,FALSE))","v":""},null,null,null,null,null,null,""]
[null,{"$f":"IF(A3697=\"\",\"\",VLOOKUP(A3697,PARAMETROS!$B$3:$C$3,2,FALSE))","v":""},null,{"$f":"IF(C3697=\"\",\"\",VLOOKUP(C3697,PARAMETROS!$G$3:$H$21,2,FALSE))","v":""},null,{"$f":"IF(E3697=\"\",\"\",VLOOKUP(E3697,PARAMETROS!$I$3:$J$21,2,FALSE))","v":""},null,null,null,null,null,null,""]
[null,{"$f":"IF(A3698=\"\",\"\",VLOOKUP(A3698,PARAMETROS!$B$3:$C$3,2,FALSE))","v":""},null,{"$f":"IF(C3698=\"\",\"\",VLOOKUP(C3698,PARAMETROS!$G$3:$H$21,2,FALSE))","v":""},null,{"$f":"IF(E3698=\"\",\"\",VLOOKUP(E3698,PARAMETROS!$I$3:$J$21,2,FALSE))","v":""},null,null,null,null,null,null,""]
[null,{"$f":"IF(A3699=\"\",\"\",VLOOKUP(A3699,PARAMETROS!$B$3:$C$3,2,FALSE))","v":""},null,{"$f":"IF(C3699=\"\",\"\",VLOOKUP(C3699,PARAMETROS!$G$3:$H$21,2,FALSE))","v":""},null,{"$f":"IF(E3699=\"\",\"\",VLOOKUP(E3699,PARAMETROS!$I$3:$J$21,2,FALSE))","v":""},null,null,null,null,null,null,""]
[null,{"$f":"IF(A3700=\"\",\"\",VLOOKUP(A3700,PARAMETROS!$B$3:$C$3,2,FALSE))","v":""},null,{"$f":"IF(C3700=\"\",\"\",VLOOKUP(C3700,PARAMETROS!$G$3:$H$21,2,FALSE))","v":""},null,{"$f":"IF(E3700=\"\",\"\",VLOOKUP(E3700,PARAMETROS!$I$3:$J$21,2,FALSE))","v":""},null,null,null,null,null,null,""]
[null,{"$f":"IF(A3701=\"\",\"\",VLOOKUP(A3701,PARAMETROS!$B$3:$C$3,2,FALSE))","v":""},null,{"$f":"IF(C3701=\"\",\"\",VLOOKUP(C3701,PARAMETROS!$G$3:$H$21,2,FALSE))","v":""},null,{"$f":"IF(E3701=\"\",\"\",VLOOKUP(E3701,PARAMETROS!$I$3:$J$21,2,FALSE))","v":""},null,null,null,null,null,null,""]
[null,{"$f":"IF(A3702=\"\",\"\",VLOOKUP(A3702,PARAMETROS!$B$3:$C$3,2,FALSE))","v":""},null,{"$f":"IF(C3702=\"\",\"\",VLOOKUP(C3702,PARAMETROS!$G$3:$H$21,2,FALSE))","v":""},null,{"$f":"IF(E3702=\"\",\"\",VLOOKUP(E3702,PARAMETROS!$I$3:$J$21,2,FALSE))","v":""},null,null,null,null,null,null,""]
[null,{"$f":"IF(A3703=\"\",\"\",VLOOKUP(A3703,PARAMETROS!$B$3:$C$3,2,FALSE))","v":""},null,{"$f":"IF(C3703=\"\",\"\",VLOOKUP(C3703,PARAMETROS!$G$3:$H$21,2,FALSE))","v":""},null,{"$f":"IF(E3703=\"\",\"\",VLOOKUP(E3703,PARAMETROS!$I$3:$J$21,2,FALSE))","v":""},null,null,null,null,null,null,""]
[null,{"$f":"IF(A3704=\"\",\"\",VLOOKUP(A3704,PARAMETROS!$B$3:$C$3,2,FALSE))","v":""},null,{"$f":"IF(C3704=\"\",\"\",VLOOKUP(C3704,PARAMETROS!$G$3:$H$21,2,FALSE))","v":""},null,{"$f":"IF(E3704=\"\",\"\",VLOOKUP(E3704,PARAMETROS!$I$3:$J$21,2,FALSE))","v":""},null,null,null,null,null,null,""]
[null,{"$f":"IF(A3705=\"\",\"\",VLOOKUP(A3705,PARAMETROS!$B$3:$C$3,2,FALSE))","v":""},null,{"$f":"IF(C3705=\"\",\"\",VLOOKUP(C3705,PARAMETROS!$G$3:$H$21,2,FALSE))","v":""},null,{"$f":"IF(E3705=\"\",\"\",VLOOKUP(E3705,PARAMETROS!$I$3:$J$21,2,FALSE))","v":""},null,null,null,null,null,null,""]
[null,{"$f":"IF(A3706=\"\",\"\",VLOOKUP(A3706,PARAMETROS!$B$3:$C$3,2,FALSE))","v":""},null,{"$f":"IF(C3706=\"\",\"\",VLOOKUP(C3706,PARAMETROS!$G$3:$H$21,2,FALSE))","v":""},null,{"$f":"IF(E3706=\"\",\"\",VLOOKUP(E3706,PARAMETROS!$I$3:$J$21,2,FALSE))","v":""},null,null,null,null,null,null,""]
[null,{"$f":"IF(A3707=\"\",\"\",VLOOKUP(A3707,PARAMETROS!$B$3:$C$3,2,FALSE))","v":""},null,{"$f":"IF(C3707=\"\",\"\",VLOOKUP(C3707,PARAMETROS!$G$3:$H$21,2,FALSE))","v":""},null,{"$f":"IF(E3707=\"\",\"\",VLOOKUP(E3707,PARAMETROS!$I$3:$J$21,2,FALSE))","v":""},null,null,null,null,null,null,""]
[null,{"$f":"IF(A3708=\"\",\"\",VLOOKUP(A3708,PARAMETROS!$B$3:$C$3,2,FALSE))","v":""},null,{"$f":"IF(C3708=\"\",\"\",VLOOKUP(C3708,PARAMETROS!$G$3:$H$21,2,FALSE))","v":""},null,{"$f":"IF(E3708=\"\",\"\",VLOOKUP(E3708,PARAMETROS!$I$3:$J$21,2,FALSE))","v":""},null,null,null,null,null,null,""]
[null,{"$f":"IF(A3709=\"\",\"\",VLOOKUP(A3709,PARAMETROS!$B$3:$C$3,2,FALSE))","v":""},null,{"$f":"IF(C3709=\"\",\"\",VLOOKUP(C3709,PARAMETROS!$G$3:$H$21,2,FALSE))","v":""},null,{"$f":"IF(E3709=\"\",\"\",VLOOKUP(E3709,PARAMETROS!$I$3:$J$21,2,FALSE))","v":""},null,null,null,null,null,null,""]
[null,{"$f":"IF(A3710=\"\",\"\",VLOOKUP(A3710,PARAMETROS!$B$3:$C$3,2,FALSE))","v":""},null,{"$f":"IF(C3710=\"\",\"\",VLOOKUP(C3710,PARAMETROS!$G$3:$H$21,2,FALSE))","v":""},null,{"$f":"IF(E3710=\"\",\"\",VLOOKUP(E3710,PARAMETROS!$I$3:$J$21,2,FALSE))","v":""},null,null,null,null,null,null,""]
[null,{"$f":"IF(A3711=\"\",\"\",VLOOKUP(A3711,PARAMETROS!$B$3:$C$3,2,FALSE))","v":""},null,{"$f":"IF(C3711=\"\",\"\",VLOOKUP(C3711,PARAMETROS!$G$3:$H$21,2,FALSE))","v":""},null,{"$f":"IF(E3711=\"\",\"\",VLOOKUP(E3711,PARAMETROS!$I$3:$J$21,2,FALSE))","v":""},null,null,null,null,null,null,""]
[null,{"$f":"IF(A3712=\"\",\"\",VLOOKUP(A3712,PARAMETROS!$B$3:$C$3,2,FALSE))","v":""},null,{"$f":"IF(C3712=\"\",\"\",VLOOKUP(C3712,PARAMETROS!$G$3:$H$21,2,FALSE))","v":""},null,{"$f":"IF(E3712=\"\",\"\",VLOOKUP(E3712,PARAMETROS!$I$3:$J$21,2,FALSE))","v":""},null,null,null,null,null,null,""]
[null,{"$f":"IF(A3713=\"\",\"\",VLOOKUP(A3713,PARAMETROS!$B$3:$C$3,2,FALSE))","v":""},null,{"$f":"IF(C3713=\"\",\"\",VLOOKUP(C3713,PARAMETROS!$G$3:$H$21,2,FALSE))","v":""},null,{"$f":"IF(E3713=\"\",\"\",VLOOKUP(E3713,PARAMETROS!$I$3:$J$21,2,FALSE))","v":""},null,null,null,null,null,null,""]
[null,{"$f":"IF(A3714=\"\",\"\",VLOOKUP(A3714,PARAMETROS!$B$3:$C$3,2,FALSE))","v":""},null,{"$f":"IF(C3714=\"\",\"\",VLOOKUP(C3714,PARAMETROS!$G$3:$H$21,2,FALSE))","v":""},null,{"$f":"IF(E3714=\"\",\"\",VLOOKUP(E3714,PARAMETROS!$I$3:$J$21,2,FALSE))","v":""},null,null,null,null,null,null,""]
[null,{"$f":"IF(A3715=\"\",\"\",VLOOKUP(A3715,PARAMETROS!$B$3:$C$3,2,FALSE))","v":""},null,{"$f":"IF(C3715=\"\",\"\",VLOOKUP(C3715,PARAMETROS!$G$3:$H$21,2,FALSE))","v":""},null,{"$f":"IF(E3715=\"\",\"\",VLOOKUP(E3715,PARAMETROS!$I$3:$J$21,2,FALSE))","v":""},null,null,null,null,null,null,""]
[null,{"$f":"IF(A3716=\"\",\"\",VLOOKUP(A3716,PARAMETROS!$B$3:$C$3,2,FALSE))","v":""},null,{"$f":"IF(C3716=\"\",\"\",VLOOKUP(C3716,PARAMETROS!$G$3:$H$21,2,FALSE))","v":""},null,{"$f":"IF(E3716=\"\",\"\",VLOOKUP(E3716,PARAMETROS!$I$3:$J$21,2,FALSE))","v":""},null,null,null,null,null,null,""]
[null,{"$f":"IF(A3717=\"\",\"\",VLOOKUP(A3717,PARAMETROS!$B$3:$C$3,2,FALSE))","v":""},null,{"$f":"IF(C3717=\"\",\"\",VLOOKUP(C3717,PARAMETROS!$G$3:$H$21,2,FALSE))","v":""},null,{"$f":"IF(E3717=\"\",\"\",VLOOKUP(E3717,PARAMETROS!$I$3:$J$21,2,FALSE))","v":""},null,null,null,null,null,null,""]
[null,{"$f":"IF(A3718=\"\",\"\",VLOOKUP(A3718,PARAMETROS!$B$3:$C$3,2,FALSE))","v":""},null,{"$f":"IF(C3718=\"\",\"\",VLOOKUP(C3718,PARAMETROS!$G$3:$H$21,2,FALSE))","v":""},null,{"$f":"IF(E3718=\"\",\"\",VLOOKUP(E3718,PARAMETROS!$I$3:$J$21,2,FALSE))","v":""},null,null,null,null,null,null,""]
[null,{"$f":"IF(A3719=\"\",\"\",VLOOKUP(A3719,PARAMETROS!$B$3:$C$3,2,FALSE))","v":""},null,{"$f":"IF(C3719=\"\",\"\",VLOOKUP(C3719,PARAMETROS!$G$3:$H$21,2,FALSE))","v":""},null,{"$f":"IF(E3719=\"\",\"\",VLOOKUP(E3719,PARAMETROS!$I$3:$J$21,2,FALSE))","v":""},null,null,null,null,null,null,""]
[null,{"$f":"IF(A3720=\"\",\"\",VLOOKUP(A3720,PARAMETROS!$B$3:$C$3,2,FALSE))","v":""},null,{"$f":"IF(C3720=\"\",\"\",VLOOKUP(C3720,PARAMETROS!$G$3:$H$21,2,FALSE))","v":""},null,{"$f":"IF(E3720=\"\",\"\",VLOOKUP(E3720,PARAMETROS!$I$3:$J$21,2,FALSE))","v":""},null,null,null,null,null,null,""]
[null,{"$f":"IF(A3721=\"\",\"\",VLOOKUP(A3721,PARAMETROS!$B$3:$C$3,2,FALSE))","v":""},null,{"$f":"IF(C3721=\"\",\"\",VLOOKUP(C3721,PARAMETROS!$G$3:$H$21,2,FALSE))","v":""},null,{"$f":"IF(E3721=\"\",\"\",VLOOKUP(E3721,PARAMETROS!$I$3:$J$21,2,FALSE))","v":""},null,null,null,null,null,null,""]
[null,{"$f":"IF(A3722=\"\",\"\",VLOOKUP(A3722,PARAMETROS!$B$3:$C$3,2,FALSE))","v":""},null,{"$f":"IF(C3722=\"\",\"\",VLOOKUP(C3722,PARAMETROS!$G$3:$H$21,2,FALSE))","v":""},null,{"$f":"IF(E3722=\"\",\"\",VLOOKUP(E3722,PARAMETROS!$I$3:$J$21,2,FALSE))","v":""},null,null,null,null,null,null,""]
[null,{"$f":"IF(A3723=\"\",\"\",VLOOKUP(A3723,PARAMETROS!$B$3:$C$3,2,FALSE))","v":""},null,{"$f":"IF(C3723=\"\",\"\",VLOOKUP(C3723,PARAMETROS!$G$3:$H$21,2,FALSE))","v":""},null,{"$f":"IF(E3723=\"\",\"\",VLOOKUP(E3723,PARAMETROS!$I$3:$J$21,2,FALSE))","v":""},null,null,null,null,null,null,""]
[null,{"$f":"IF(A3724=\"\",\"\",VLOOKUP(A3724,PARAMETROS!$B$3:$C$3,2,FALSE))","v":""},null,{"$f":"IF(C3724=\"\",\"\",VLOOKUP(C3724,PARAMETROS!$G$3:$H$21,2,FALSE))","v":""},null,{"$f":"IF(E3724=\"\",\"\",VLOOKUP(E3724,PARAMETROS!$I$3:$J$21,2,FALSE))","v":""},null,null,null,null,null,null,""]
[null,{"$f":"IF(A3725=\"\",\"\",VLOOKUP(A3725,PARAMETROS!$B$3:$C$3,2,FALSE))","v":""},null,{"$f":"IF(C3725=\"\",\"\",VLOOKUP(C3725,PARAMETROS!$G$3:$H$21,2,FALSE))","v":""},null,{"$f":"IF(E3725=\"\",\"\",VLOOKUP(E3725,PARAMETROS!$I$3:$J$21,2,FALSE))","v":""},null,null,null,null,null,null,""]
[null,{"$f":"IF(A3726=\"\",\"\",VLOOKUP(A3726,PARAMETROS!$B$3:$C$3,2,FALSE))","v":""},null,{"$f":"IF(C3726=\"\",\"\",VLOOKUP(C3726,PARAMETROS!$G$3:$H$21,2,FALSE))","v":""},null,{"$f":"IF(E3726=\"\",\"\",VLOOKUP(E3726,PARAMETROS!$I$3:$J$21,2,FALSE))","v":""},null,null,null,null,null,null,""]
[null,{"$f":"IF(A3727=\"\",\"\",VLOOKUP(A3727,PARAMETROS!$B$3:$C$3,2,FALSE))","v":""},null,{"$f":"IF(C3727=\"\",\"\",VLOOKUP(C3727,PARAMETROS!$G$3:$H$21,2,FALSE))","v":""},null,{"$f":"IF(E3727=\"\",\"\",VLOOKUP(E3727,PARAMETROS!$I$3:$J$21,2,FALSE))","v":""},null,null,null,null,null,null,{"$f":"IF(L3727=\"\", \"\", L3727)","v":""}]
[null,{"$f":"IF(A3728=\"\",\"\",VLOOKUP(A3728,PARAMETROS!$B$3:$C$3,2,FALSE))","v":""},null,{"$f":"IF(C3728=\"\",\"\",VLOOKUP(C3728,PARAMETROS!$G$3:$H$21,2,FALSE))","v":""},null,{"$f":"IF(E3728=\"\",\"\",VLOOKUP(E3728,PARAMETROS!$I$3:$J$21,2,FALSE))","v":""},null,null,null,null,null,null,""]
[null,{"$f":"IF(A3729=\"\",\"\",VLOOKUP(A3729,PARAMETROS!$B$3:$C$3,2,FALSE))","v":""},null,{"$f":"IF(C3729=\"\",\"\",VLOOKUP(C3729,PARAMETROS!$G$3:$H$21,2,FALSE))","v":""},null,{"$f":"IF(E3729=\"\",\"\",VLOOKUP(E3729,PARAMETROS!$I$3:$J$21,2,FALSE))","v":""},null,null,null,null,null,null,""]
[null,{"$f":"IF(A3730=\"\",\"\",VLOOKUP(A3730,PARAMETROS!$B$3:$C$3,2,FALSE))","v":""},null,{"$f":"IF(C3730=\"\",\"\",VLOOKUP(C3730,PARAMETROS!$G$3:$H$21,2,FALSE))","v":""},null,{"$f":"IF(E3730=\"\",\"\",VLOOKUP(E3730,PARAMETROS!$I$3:$J$21,2,FALSE))","v":""},null,null,null,null,null,null,""]
[null,{"$f":"IF(A3731=\"\",\"\",VLOOKUP(A3731,PARAMETROS!$B$3:$C$3,2,FALSE))","v":""},null,{"$f":"IF(C3731=\"\",\"\",VLOOKUP(C3731,PARAMETROS!$G$3:$H$21,2,FALSE))","v":""},null,{"$f":"IF(E3731=\"\",\"\",VLOOKUP(E3731,PARAMETROS!$I$3:$J$21,2,FALSE))","v":""},null,null,null,null,null,null,""]
[null,{"$f":"IF(A3732=\"\",\"\",VLOOKUP(A3732,PARAMETROS!$B$3:$C$3,2,FALSE))","v":""},null,{"$f":"IF(C3732=\"\",\"\",VLOOKUP(C3732,PARAMETROS!$G$3:$H$21,2,FALSE))","v":""},null,{"$f":"IF(E3732=\"\",\"\",VLOOKUP(E3732,PARAMETROS!$I$3:$J$21,2,FALSE))","v":""},null,null,null,null,null,null,""]
[null,{"$f":"IF(A3733=\"\",\"\",VLOOKUP(A3733,PARAMETROS!$B$3:$C$3,2,FALSE))","v":""},null,{"$f":"IF(C3733=\"\",\"\",VLOOKUP(C3733,PARAMETROS!$G$3:$H$21,2,FALSE))","v":""},null,{"$f":"IF(E3733=\"\",\"\",VLOOKUP(E3733,PARAMETROS!$I$3:$J$21,2,FALSE))","v":""},null,null,null,null,null,null,""]
[null,{"$f":"IF(A3734=\"\",\"\",VLOOKUP(A3734,PARAMETROS!$B$3:$C$3,2,FALSE))","v":""},null,{"$f":"IF(C3734=\"\",\"\",VLOOKUP(C3734,PARAMETROS!$G$3:$H$21,2,FALSE))","v":""},null,{"$f":"IF(E3734=\"\",\"\",VLOOKUP(E3734,PARAMETROS!$I$3:$J$21,2,FALSE))","v":""},null,null,null,null,null,null,""]
[null,{"$f":"IF(A3735=\"\",\"\",VLOOKUP(A3735,PARAMETROS!$B$3:$C$3,2,FALSE))","v":""},null,{"$f":"IF(C3735=\"\",\"\",VLOOKUP(C3735,PARAMETROS!$G$3:$H$21,2,FALSE))","v":""},null,{"$f":"IF(E3735=\"\",\"\",VLOOKUP(E3735,PARAMETROS!$I$3:$J$21,2,FALSE))","v":""},null,null,null,null,null,null,""]
[null,{"$f":"IF(A3736=\"\",\"\",VLOOKUP(A3736,PARAMETROS!$B$3:$C$3,2,FALSE))","v":""},null,{"$f":"IF(C3736=\"\",\"\",VLOOKUP(C3736,PARAMETROS!$G$3:$H$21,2,FALSE))","v":""},null,{"$f":"IF(E3736=\"\",\"\",VLOOKUP(E3736,PARAMETROS!$I$3:$J$21,2,FALSE))","v":""},null,null,null,null,null,null,""]
[null,{"$f":"IF(A3737=\"\",\"\",VLOOKUP(A3737,PARAMETROS!$B$3:$C$3,2,FALSE))","v":""},null,{"$f":"IF(C3737=\"\",\"\",VLOOKUP(C3737,PARAMETROS!$G$3:$H$21,2,FALSE))","v":""},null,{"$f":"IF(E3737=\"\",\"\",VLOOKUP(E3737,PARAMETROS!$I$3:$J$21,2,FALSE))","v":""},null,null,null,null,null,null,""]
[null,{"$f":"IF(A3738=\"\",\"\",VLOOKUP(A3738,PARAMETROS!$B$3:$C$3,2,FALSE))","v":""},null,{"$f":"IF(C3738=\"\",\"\",VLOOKUP(C3738,PARAMETROS!$G$3:$H$21,2,FALSE))","v":""},null,{"$f":"IF(E3738=\"\",\"\",VLOOKUP(E3738,PARAMETROS!$I$3:$J$21,2,FALSE))","v":""},null,null,null,null,null,null,""]
[null,{"$f":"IF(A3739=\"\",\"\",VLOOKUP(A3739,PARAMETROS!$B$3:$C$3,2,FALSE))","v":""},null,{"$f":"IF(C3739=\"\",\"\",VLOOKUP(C3739,PARAMETROS!$G$3:$H$21,2,FALSE))","v":""},null,{"$f":"IF(E3739=\"\",\"\",VLOOKUP(E3739,PARAMETROS!$I$3:$J$21,2,FALSE))","v":""},null,null,null,null,null,null,""]
[null,{"$f":"IF(A3740=\"\",\"\",VLOOKUP(A3740,PARAMETROS!$B$3:$C$3,2,FALSE))","v":""},null,{"$f":"IF(C3740=\"\",\"\",VLOOKUP(C3740,PARAMETROS!$G$3:$H$21,2,FALSE))","v":""},null,{"$f":"IF(E3740=\"\",\"\",VLOOKUP(E3740,PARAMETROS!$I$3:$J$21,2,FALSE))","v":""},null,null,null,null,null,null,""]
[null,{"$f":"IF(A3741=\"\",\"\",VLOOKUP(A3741,PARAMETROS!$B$3:$C$3,2,FALSE))","v":""},null,{"$f":"IF(C3741=\"\",\"\",VLOOKUP(C3741,PARAMETROS!$G$3:$H$21,2,FALSE))","v":""},null,{"$f":"IF(E3741=\"\",\"\",VLOOKUP(E3741,PARAMETROS!$I$3:$J$21,2,FALSE))","v":""},null,null,null,null,null,null,""]
[null,{"$f":"IF(A3742=\"\",\"\",VLOOKUP(A3742,PARAMETROS!$B$3:$C$3,2,FALSE))","v":""},null,{"$f":"IF(C3742=\"\",\"\",VLOOKUP(C3742,PARAMETROS!$G$3:$H$21,2,FALSE))","v":""},null,{"$f":"IF(E3742=\"\",\"\",VLOOKUP(E3742,PARAMETROS!$I$3:$J$21,2,FALSE))","v":""},null,null,null,null,null,null,""]
[null,{"$f":"IF(A3743=\"\",\"\",VLOOKUP(A3743,PARAMETROS!$B$3:$C$3,2,FALSE))","v":""},null,{"$f":"IF(C3743=\"\",\"\",VLOOKUP(C3743,PARAMETROS!$G$3:$H$21,2,FALSE))","v":""},null,{"$f":"IF(E3743=\"\",\"\",VLOOKUP(E3743,PARAMETROS!$I$3:$J$21,2,FALSE))","v":""},null,null,null,null,null,null,""]
[null,{"$f":"IF(A3744=\"\",\"\",VLOOKUP(A3744,PARAMETROS!$B$3:$C$3,2,FALSE))","v":""},null,{"$f":"IF(C3744=\"\",\"\",VLOOKUP(C3744,PARAMETROS!$G$3:$H$21,2,FALSE))","v":""},null,{"$f":"IF(E3744=\"\",\"\",VLOOKUP(E3744,PARAMETROS!$I$3:$J$21,2,FALSE))","v":""},null,null,null,null,null,null,""]
[null,{"$f":"IF(A3745=\"\",\"\",VLOOKUP(A3745,PARAMETROS!$B$3:$C$3,2,FALSE))","v":""},null,{"$f":"IF(C3745=\"\",\"\",VLOOKUP(C3745,PARAMETROS!$G$3:$H$21,2,FALSE))","v":""},null,{"$f":"IF(E3745=\"\",\"\",VLOOKUP(E3745,PARAMETROS!$I$3:$J$21,2,FALSE))","v":""},null,null,null,null,null,null,""]
[null,{"$f":"IF(A3746=\"\",\"\",VLOOKUP(A3746,PARAMETROS!$B$3:$C$3,2,FALSE))","v":""},null,{"$f":"IF(C3746=\"\",\"\",VLOOKUP(C3746,PARAMETROS!$G$3:$H$21,2,FALSE))","v":""},null,{"$f":"IF(E3746=\"\",\"\",VLOOKUP(E3746,PARAMETROS!$I$3:$J$21,2,FALSE))","v":""},null,null,null,null,null,null,""]
[null,{"$f":"IF(A3747=\"\",\"\",VLOOKUP(A3747,PARAMETROS!$B$3:$C$3,2,FALSE))","v":""},null,{"$f":"IF(C3747=\"\",\"\",VLOOKUP(C3747,PARAMETROS!$G$3:$H$21,2,FALSE))","v":""},null,{"$f":"IF(E3747=\"\",\"\",VLOOKUP(E3747,PARAMETROS!$I$3:$J$21,2,FALSE))","v":""},null,null,null,null,null,null,""]
[null,{"$f":"IF(A3748=\"\",\"\",VLOOKUP(A3748,PARAMETROS!$B$3:$C$3,2,FALSE))","v":""},null,{"$f":"IF(C3748=\"\",\"\",VLOOKUP(C3748,PARAMETROS!$G$3:$H$21,2,FALSE))","v":""},null,{"$f":"IF(E3748=\"\",\"\",VLOOKUP(E3748,PARAMETROS!$I$3:$J$21,2,FALSE))","v":""},null,null,null,null,null,null,""]
[null,{"$f":"IF(A3749=\"\",\"\",VLOOKUP(A3749,PARAMETROS!$B$3:$C$3,2,FALSE))","v":""},null,{"$f":"IF(C3749=\"\",\"\",VLOOKUP(C3749,PARAMETROS!$G$3:$H$21,2,FALSE))","v":""},null,{"$f":"IF(E3749=\"\",\"\",VLOOKUP(E3749,PARAMETROS!$I$3:$J$21,2,FALSE))","v":""},null,null,null,null,null,null,""]
[null,{"$f":"IF(A3750=\"\",\"\",VLOOKUP(A3750,PARAMETROS!$B$3:$C$3,2,FALSE))","v":""},null,{"$f":"IF(C3750=\"\",\"\",VLOOKUP(C3750,PARAMETROS!$G$3:$H$21,2,FALSE))","v":""},null,{"$f":"IF(E3750=\"\",\"\",VLOOKUP(E3750,PARAMETROS!$I$3:$J$21,2,FALSE))","v":""},null,null,null,null,null,null,""]
[null,{"$f":"IF(A3751=\"\",\"\",VLOOKUP(A3751,PARAMETROS!$B$3:$C$3,2,FALSE))","v":""},null,{"$f":"IF(C3751=\"\",\"\",VLOOKUP(C3751,PARAMETROS!$G$3:$H$21,2,FALSE))","v":""},null,{"$f":"IF(E3751=\"\",\"\",VLOOKUP(E3751,PARAMETROS!$I$3:$J$21,2,FALSE))","v":""},null,null,null,null,null,null,""]
[null,{"$f":"IF(A3752=\"\",\"\",VLOOKUP(A3752,PARAMETROS!$B$3:$C$3,2,FALSE))","v":""},null,{"$f":"IF(C3752=\"\",\"\",VLOOKUP(C3752,PARAMETROS!$G$3:$H$21,2,FALSE))","v":""},null,{"$f":"IF(E3752=\"\",\"\",VLOOKUP(E3752,PARAMETROS!$I$3:$J$21,2,FALSE))","v":""},null,null,null,null,null,null,""]
[null,{"$f":"IF(A3753=\"\",\"\",VLOOKUP(A3753,PARAMETROS!$B$3:$C$3,2,FALSE))","v":""},null,{"$f":"IF(C3753=\"\",\"\",VLOOKUP(C3753,PARAMETROS!$G$3:$H$21,2,FALSE))","v":""},null,{"$f":"IF(E3753=\"\",\"\",VLOOKUP(E3753,PARAMETROS!$I$3:$J$21,2,FALSE))","v":""},null,null,null,null,null,null,""]
[null,{"$f":"IF(A3754=\"\",\"\",VLOOKUP(A3754,PARAMETROS!$B$3:$C$3,2,FALSE))","v":""},null,{"$f":"IF(C3754=\"\",\"\",VLOOKUP(C3754,PARAMETROS!$G$3:$H$21,2,FALSE))","v":""},null,{"$f":"IF(E3754=\"\",\"\",VLOOKUP(E3754,PARAMETROS!$I$3:$J$21,2,FALSE))","v":""},null,null,null,null,null,null,""]
[null,{"$f":"IF(A3755=\"\",\"\",VLOOKUP(A3755,PARAMETROS!$B$3:$C$3,2,FALSE))","v":""},null,{"$f":"IF(C3755=\"\",\"\",VLOOKUP(C3755,PARAMETROS!$G$3:$H$21,2,FALSE))","v":""},null,{"$f":"IF(E3755=\"\",\"\",VLOOKUP(E3755,PARAMETROS!$I$3:$J$21,2,FALSE))","v":""},null,null,null,null,null,null,""]
[null,{"$f":"IF(A3756=\"\",\"\",VLOOKUP(A3756,PARAMETROS!$B$3:$C$3,2,FALSE))","v":""},null,{"$f":"IF(C3756=\"\",\"\",VLOOKUP(C3756,PARAMETROS!$G$3:$H$21,2,FALSE))","v":""},null,{"$f":"IF(E3756=\"\",\"\",VLOOKUP(E3756,PARAMETROS!$I$3:$J$21,2,FALSE))","v":""},null,null,null,null,null,null,""]
[null,{"$f":"IF(A3757=\"\",\"\",VLOOKUP(A3757,PARAMETROS!$B$3:$C$3,2,FALSE))","v":""},null,{"$f":"IF(C3757=\"\",\"\",VLOOKUP(C3757,PARAMETROS!$G$3:$H$21,2,FALSE))","v":""},null,{"$f":"IF(E3757=\"\",\"\",VLOOKUP(E3757,PARAMETROS!$I$3:$J$21,2,FALSE))","v":""},null,null,null,null,null,null,""]
[null,{"$f":"IF(A3758=\"\",\"\",VLOOKUP(A3758,PARAMETROS!$B$3:$C$3,2,FALSE))","v":""},null,{"$f":"IF(C3758=\"\",\"\",VLOOKUP(C3758,PARAMETROS!$G$3:$H$21,2,FALSE))","v":""},null,{"$f":"IF(E3758=\"\",\"\",VLOOKUP(E3758,PARAMETROS!$I$3:$J$21,2,FALSE))","v":""},null,null,null,null,null,null,""]
[null,{"$f":"IF(A3759=\"\",\"\",VLOOKUP(A3759,PARAMETROS!$B$3:$C$3,2,FALSE))","v":""},null,{"$f":"IF(C3759=\"\",\"\",VLOOKUP(C3759,PARAMETROS!$G$3:$H$21,2,FALSE))","v":""},null,{"$f":"IF(E3759=\"\",\"\",VLOOKUP(E3759,PARAMETROS!$I$3:$J$21,2,FALSE))","v":""},null,null,null,null,null,null,""]
[null,{"$f":"IF(A3760=\"\",\"\",VLOOKUP(A3760,PARAMETROS!$B$3:$C$3,2,FALSE))","v":""},null,{"$f":"IF(C3760=\"\",\"\",VLOOKUP(C3760,PARAMETROS!$G$3:$H$21,2,FALSE))","v":""},null,{"$f":"IF(E3760=\"\",\"\",VLOOKUP(E3760,PARAMETROS!$I$3:$J$21,2,FALSE))","v":""},null,null,null,null,null,null,""]
[null,{"$f":"IF(A3761=\"\",\"\",VLOOKUP(A3761,PARAMETROS!$B$3:$C$3,2,FALSE))","v":""},null,{"$f":"IF(C3761=\"\",\"\",VLOOKUP(C3761,PARAMETROS!$G$3:$H$21,2,FALSE))","v":""},null,{"$f":"IF(E3761=\"\",\"\",VLOOKUP(E3761,PARAMETROS!$I$3:$J$21,2,FALSE))","v":""},null,null,null,null,null,null,""]
[null,{"$f":"IF(A3762=\"\",\"\",VLOOKUP(A3762,PARAMETROS!$B$3:$C$3,2,FALSE))","v":""},null,{"$f":"IF(C3762=\"\",\"\",VLOOKUP(C3762,PARAMETROS!$G$3:$H$21,2,FALSE))","v":""},null,{"$f":"IF(E3762=\"\",\"\",VLOOKUP(E3762,PARAMETROS!$I$3:$J$21,2,FALSE))","v":""},null,null,null,null,null,null,""]
[null,{"$f":"IF(A3763=\"\",\"\",VLOOKUP(A3763,PARAMETROS!$B$3:$C$3,2,FALSE))","v":""},null,{"$f":"IF(C3763=\"\",\"\",VLOOKUP(C3763,PARAMETROS!$G$3:$H$21,2,FALSE))","v":""},null,{"$f":"IF(E3763=\"\",\"\",VLOOKUP(E3763,PARAMETROS!$I$3:$J$21,2,FALSE))","v":""},null,null,null,null,null,null,""]
[null,{"$f":"IF(A3764=\"\",\"\",VLOOKUP(A3764,PARAMETROS!$B$3:$C$3,2,FALSE))","v":""},null,{"$f":"IF(C3764=\"\",\"\",VLOOKUP(C3764,PARAMETROS!$G$3:$H$21,2,FALSE))","v":""},null,{"$f":"IF(E3764=\"\",\"\",VLOOKUP(E3764,PARAMETROS!$I$3:$J$21,2,FALSE))","v":""},null,null,null,null,null,null,""]
[null,{"$f":"IF(A3765=\"\",\"\",VLOOKUP(A3765,PARAMETROS!$B$3:$C$3,2,FALSE))","v":""},null,{"$f":"IF(C3765=\"\",\"\",VLOOKUP(C3765,PARAMETROS!$G$3:$H$21,2,FALSE))","v":""},null,{"$f":"IF(E3765=\"\",\"\",VLOOKUP(E3765,PARAMETROS!$I$3:$J$21,2,FALSE))","v":""},null,null,null,null,null,null,""]
[null,{"$f":"IF(A3766=\"\",\"\",VLOOKUP(A3766,PARAMETROS!$B$3:$C$3,2,FALSE))","v":""},null,{"$f":"IF(C3766=\"\",\"\",VLOOKUP(C3766,PARAMETROS!$G$3:$H$21,2,FALSE))","v":""},null,{"$f":"IF(E3766=\"\",\"\",VLOOKUP(E3766,PARAMETROS!$I$3:$J$21,2,FALSE))","v":""},null,null,null,null,null,null,""]
[null,{"$f":"IF(A3767=\"\",\"\",VLOOKUP(A3767,PARAMETROS!$B$3:$C$3,2,FALSE))","v":""},null,{"$f":"IF(C3767=\"\",\"\",VLOOKUP(C3767,PARAMETROS!$G$3:$H$21,2,FALSE))","v":""},null,{"$f":"IF(E3767=\"\",\"\",VLOOKUP(E3767,PARAMETROS!$I$3:$J$21,2,FALSE))","v":""},null,null,null,null,null,null,""]
[null,{"$f":"IF(A3768=\"\",\"\",VLOOKUP(A3768,PARAMETROS!$B$3:$C$3,2,FALSE))","v":""},null,{"$f":"IF(C3768=\"\",\"\",VLOOKUP(C3768,PARAMETROS!$G$3:$H$21,2,FALSE))","v":""},null,{"$f":"IF(E3768=\"\",\"\",VLOOKUP(E3768,PARAMETROS!$I$3:$J$21,2,FALSE))","v":""},null,null,null,null,null,null,""]
[null,{"$f":"IF(A3769=\"\",\"\",VLOOKUP(A3769,PARAMETROS!$B$3:$C$3,2,FALSE))","v":""},null,{"$f":"IF(C3769=\"\",\"\",VLOOKUP(C3769,PARAMETROS!$G$3:$H$21,2,FALSE))","v":""},null,{"$f":"IF(E3769=\"\",\"\",VLOOKUP(E3769,PARAMETROS!$I$3:$J$21,2,FALSE))","v":""},null,null,null,null,null,null,""]
[null,{"$f":"IF(A3770=\"\",\"\",VLOOKUP(A3770,PARAMETROS!$B$3:$C$3,2,FALSE))","v":""},null,{"$f":"IF(C3770=\"\",\"\",VLOOKUP(C3770,PARAMETROS!$G$3:$H$21,2,FALSE))","v":""},null,{"$f":"IF(E3770=\"\",\"\",VLOOKUP(E3770,PARAMETROS!$I$3:$J$21,2,FALSE))","v":""},null,null,null,null,null,null,""]
[null,{"$f":"IF(A3771=\"\",\"\",VLOOKUP(A3771,PARAMETROS!$B$3:$C$3,2,FALSE))","v":""},null,{"$f":"IF(C3771=\"\",\"\",VLOOKUP(C3771,PARAMETROS!$G$3:$H$21,2,FALSE))","v":""},null,{"$f":"IF(E3771=\"\",\"\",VLOOKUP(E3771,PARAMETROS!$I$3:$J$21,2,FALSE))","v":""},null,null,null,null,null,null,""]
[null,{"$f":"IF(A3772=\"\",\"\",VLOOKUP(A3772,PARAMETROS!$B$3:$C$3,2,FALSE))","v":""},null,{"$f":"IF(C3772=\"\",\"\",VLOOKUP(C3772,PARAMETROS!$G$3:$H$21,2,FALSE))","v":""},null,{"$f":"IF(E3772=\"\",\"\",VLOOKUP(E3772,PARAMETROS!$I$3:$J$21,2,FALSE))","v":""},null,null,null,null,null,null,""]
[null,{"$f":"IF(A3773=\"\",\"\",VLOOKUP(A3773,PARAMETROS!$B$3:$C$3,2,FALSE))","v":""},null,{"$f":"IF(C3773=\"\",\"\",VLOOKUP(C3773,PARAMETROS!$G$3:$H$21,2,FALSE))","v":""},null,{"$f":"IF(E3773=\"\",\"\",VLOOKUP(E3773,PARAMETROS!$I$3:$J$21,2,FALSE))","v":""},null,null,null,null,null,null,""]
[null,{"$f":"IF(A3774=\"\",\"\",VLOOKUP(A3774,PARAMETROS!$B$3:$C$3,2,FALSE))","v":""},null,{"$f":"IF(C3774=\"\",\"\",VLOOKUP(C3774,PARAMETROS!$G$3:$H$21,2,FALSE))","v":""},null,{"$f":"IF(E3774=\"\",\"\",VLOOKUP(E3774,PARAMETROS!$I$3:$J$21,2,FALSE))","v":""},null,null,null,null,null,null,""]
[null,{"$f":"IF(A3775=\"\",\"\",VLOOKUP(A3775,PARAMETROS!$B$3:$C$3,2,FALSE))","v":""},null,{"$f":"IF(C3775=\"\",\"\",VLOOKUP(C3775,PARAMETROS!$G$3:$H$21,2,FALSE))","v":""},null,{"$f":"IF(E3775=\"\",\"\",VLOOKUP(E3775,PARAMETROS!$I$3:$J$21,2,FALSE))","v":""},null,null,null,null,null,null,""]
[null,{"$f":"IF(A3776=\"\",\"\",VLOOKUP(A3776,PARAMETROS!$B$3:$C$3,2,FALSE))","v":""},null,{"$f":"IF(C3776=\"\",\"\",VLOOKUP(C3776,PARAMETROS!$G$3:$H$21,2,FALSE))","v":""},null,{"$f":"IF(E3776=\"\",\"\",VLOOKUP(E3776,PARAMETROS!$I$3:$J$21,2,FALSE))","v":""},null,null,null,null,null,null,""]
[null,{"$f":"IF(A3777=\"\",\"\",VLOOKUP(A3777,PARAMETROS!$B$3:$C$3,2,FALSE))","v":""},null,{"$f":"IF(C3777=\"\",\"\",VLOOKUP(C3777,PARAMETROS!$G$3:$H$21,2,FALSE))","v":""},null,{"$f":"IF(E3777=\"\",\"\",VLOOKUP(E3777,PARAMETROS!$I$3:$J$21,2,FALSE))","v":""},null,null,null,null,null,null,""]
[null,{"$f":"IF(A3778=\"\",\"\",VLOOKUP(A3778,PARAMETROS!$B$3:$C$3,2,FALSE))","v":""},null,{"$f":"IF(C3778=\"\",\"\",VLOOKUP(C3778,PARAMETROS!$G$3:$H$21,2,FALSE))","v":""},null,{"$f":"IF(E3778=\"\",\"\",VLOOKUP(E3778,PARAMETROS!$I$3:$J$21,2,FALSE))","v":""},null,null,null,null,null,null,""]
[null,{"$f":"IF(A3779=\"\",\"\",VLOOKUP(A3779,PARAMETROS!$B$3:$C$3,2,FALSE))","v":""},null,{"$f":"IF(C3779=\"\",\"\",VLOOKUP(C3779,PARAMETROS!$G$3:$H$21,2,FALSE))","v":""},null,{"$f":"IF(E3779=\"\",\"\",VLOOKUP(E3779,PARAMETROS!$I$3:$J$21,2,FALSE))","v":""},null,null,null,null,null,null,""]
[null,{"$f":"IF(A3780=\"\",\"\",VLOOKUP(A3780,PARAMETROS!$B$3:$C$3,2,FALSE))","v":""},null,{"$f":"IF(C3780=\"\",\"\",VLOOKUP(C3780,PARAMETROS!$G$3:$H$21,2,FALSE))","v":""},null,{"$f":"IF(E3780=\"\",\"\",VLOOKUP(E3780,PARAMETROS!$I$3:$J$21,2,FALSE))","v":""},null,null,null,null,null,null,""]
[null,{"$f":"IF(A3781=\"\",\"\",VLOOKUP(A3781,PARAMETROS!$B$3:$C$3,2,FALSE))","v":""},null,{"$f":"IF(C3781=\"\",\"\",VLOOKUP(C3781,PARAMETROS!$G$3:$H$21,2,FALSE))","v":""},null,{"$f":"IF(E3781=\"\",\"\",VLOOKUP(E3781,PARAMETROS!$I$3:$J$21,2,FALSE))","v":""},null,null,null,null,null,null,""]
[null,{"$f":"IF(A3782=\"\",\"\",VLOOKUP(A3782,PARAMETROS!$B$3:$C$3,2,FALSE))","v":""},null,{"$f":"IF(C3782=\"\",\"\",VLOOKUP(C3782,PARAMETROS!$G$3:$H$21,2,FALSE))","v":""},null,{"$f":"IF(E3782=\"\",\"\",VLOOKUP(E3782,PARAMETROS!$I$3:$J$21,2,FALSE))","v":""},null,null,null,null,null,null,""]
[null,{"$f":"IF(A3783=\"\",\"\",VLOOKUP(A3783,PARAMETROS!$B$3:$C$3,2,FALSE))","v":""},null,{"$f":"IF(C3783=\"\",\"\",VLOOKUP(C3783,PARAMETROS!$G$3:$H$21,2,FALSE))","v":""},null,{"$f":"IF(E3783=\"\",\"\",VLOOKUP(E3783,PARAMETROS!$I$3:$J$21,2,FALSE))","v":""},null,null,null,null,null,null,""]
[null,{"$f":"IF(A3784=\"\",\"\",VLOOKUP(A3784,PARAMETROS!$B$3:$C$3,2,FALSE))","v":""},null,{"$f":"IF(C3784=\"\",\"\",VLOOKUP(C3784,PARAMETROS!$G$3:$H$21,2,FALSE))","v":""},null,{"$f":"IF(E3784=\"\",\"\",VLOOKUP(E3784,PARAMETROS!$I$3:$J$21,2,FALSE))","v":""},null,null,null,null,null,null,""]
[null,{"$f":"IF(A3785=\"\",\"\",VLOOKUP(A3785,PARAMETROS!$B$3:$C$3,2,FALSE))","v":""},null,{"$f":"IF(C3785=\"\",\"\",VLOOKUP(C3785,PARAMETROS!$G$3:$H$21,2,FALSE))","v":""},null,{"$f":"IF(E3785=\"\",\"\",VLOOKUP(E3785,PARAMETROS!$I$3:$J$21,2,FALSE))","v":""},null,null,null,null,null,null,""]
[null,{"$f":"IF(A3786=\"\",\"\",VLOOKUP(A3786,PARAMETROS!$B$3:$C$3,2,FALSE))","v":""},null,{"$f":"IF(C3786=\"\",\"\",VLOOKUP(C3786,PARAMETROS!$G$3:$H$21,2,FALSE))","v":""},null,{"$f":"IF(E3786=\"\",\"\",VLOOKUP(E3786,PARAMETROS!$I$3:$J$21,2,FALSE))","v":""},null,null,null,null,null,null,""]
[null,{"$f":"IF(A3787=\"\",\"\",VLOOKUP(A3787,PARAMETROS!$B$3:$C$3,2,FALSE))","v":""},null,{"$f":"IF(C3787=\"\",\"\",VLOOKUP(C3787,PARAMETROS!$G$3:$H$21,2,FALSE))","v":""},null,{"$f":"IF(E3787=\"\",\"\",VLOOKUP(E3787,PARAMETROS!$I$3:$J$21,2,FALSE))","v":""},null,null,null,null,null,null,""]
[null,{"$f":"IF(A3788=\"\",\"\",VLOOKUP(A3788,PARAMETROS!$B$3:$C$3,2,FALSE))","v":""},null,{"$f":"IF(C3788=\"\",\"\",VLOOKUP(C3788,PARAMETROS!$G$3:$H$21,2,FALSE))","v":""},null,{"$f":"IF(E3788=\"\",\"\",VLOOKUP(E3788,PARAMETROS!$I$3:$J$21,2,FALSE))","v":""},null,null,null,null,null,null,""]
[null,{"$f":"IF(A3789=\"\",\"\",VLOOKUP(A3789,PARAMETROS!$B$3:$C$3,2,FALSE))","v":""},null,{"$f":"IF(C3789=\"\",\"\",VLOOKUP(C3789,PARAMETROS!$G$3:$H$21,2,FALSE))","v":""},null,{"$f":"IF(E3789=\"\",\"\",VLOOKUP(E3789,PARAMETROS!$I$3:$J$21,2,FALSE))","v":""},null,null,null,null,null,null,""]
[null,{"$f":"IF(A3790=\"\",\"\",VLOOKUP(A3790,PARAMETROS!$B$3:$C$3,2,FALSE))","v":""},null,{"$f":"IF(C3790=\"\",\"\",VLOOKUP(C3790,PARAMETROS!$G$3:$H$21,2,FALSE))","v":""},null,{"$f":"IF(E3790=\"\",\"\",VLOOKUP(E3790,PARAMETROS!$I$3:$J$21,2,FALSE))","v":""},null,null,null,null,null,null,""]
[null,{"$f":"IF(A3791=\"\",\"\",VLOOKUP(A3791,PARAMETROS!$B$3:$C$3,2,FALSE))","v":""},null,{"$f":"IF(C3791=\"\",\"\",VLOOKUP(C3791,PARAMETROS!$G$3:$H$21,2,FALSE))","v":""},null,{"$f":"IF(E3791=\"\",\"\",VLOOKUP(E3791,PARAMETROS!$I$3:$J$21,2,FALSE))","v":""},null,null,null,null,null,null,{"$f":"IF(L3791=\"\", \"\", L3791)","v":""}]
[null,{"$f":"IF(A3792=\"\",\"\",VLOOKUP(A3792,PARAMETROS!$B$3:$C$3,2,FALSE))","v":""},null,{"$f":"IF(C3792=\"\",\"\",VLOOKUP(C3792,PARAMETROS!$G$3:$H$21,2,FALSE))","v":""},null,{"$f":"IF(E3792=\"\",\"\",VLOOKUP(E3792,PARAMETROS!$I$3:$J$21,2,FALSE))","v":""},null,null,null,null,null,null,""]
[null,{"$f":"IF(A3793=\"\",\"\",VLOOKUP(A3793,PARAMETROS!$B$3:$C$3,2,FALSE))","v":""},null,{"$f":"IF(C3793=\"\",\"\",VLOOKUP(C3793,PARAMETROS!$G$3:$H$21,2,FALSE))","v":""},null,{"$f":"IF(E3793=\"\",\"\",VLOOKUP(E3793,PARAMETROS!$I$3:$J$21,2,FALSE))","v":""},null,null,null,null,null,null,""]
[null,{"$f":"IF(A3794=\"\",\"\",VLOOKUP(A3794,PARAMETROS!$B$3:$C$3,2,FALSE))","v":""},null,{"$f":"IF(C3794=\"\",\"\",VLOOKUP(C3794,PARAMETROS!$G$3:$H$21,2,FALSE))","v":""},null,{"$f":"IF(E3794=\"\",\"\",VLOOKUP(E3794,PARAMETROS!$I$3:$J$21,2,FALSE))","v":""},null,null,null,null,null,null,""]
[null,{"$f":"IF(A3795=\"\",\"\",VLOOKUP(A3795,PARAMETROS!$B$3:$C$3,2,FALSE))","v":""},null,{"$f":"IF(C3795=\"\",\"\",VLOOKUP(C3795,PARAMETROS!$G$3:$H$21,2,FALSE))","v":""},null,{"$f":"IF(E3795=\"\",\"\",VLOOKUP(E3795,PARAMETROS!$I$3:$J$21,2,FALSE))","v":""},null,null,null,null,null,null,""]
[null,{"$f":"IF(A3796=\"\",\"\",VLOOKUP(A3796,PARAMETROS!$B$3:$C$3,2,FALSE))","v":""},null,{"$f":"IF(C3796=\"\",\"\",VLOOKUP(C3796,PARAMETROS!$G$3:$H$21,2,FALSE))","v":""},null,{"$f":"IF(E3796=\"\",\"\",VLOOKUP(E3796,PARAMETROS!$I$3:$J$21,2,FALSE))","v":""},null,null,null,null,null,null,""]
[null,{"$f":"IF(A3797=\"\",\"\",VLOOKUP(A3797,PARAMETROS!$B$3:$C$3,2,FALSE))","v":""},null,{"$f":"IF(C3797=\"\",\"\",VLOOKUP(C3797,PARAMETROS!$G$3:$H$21,2,FALSE))","v":""},null,{"$f":"IF(E3797=\"\",\"\",VLOOKUP(E3797,PARAMETROS!$I$3:$J$21,2,FALSE))","v":""},null,null,null,null,null,null,""]
[null,{"$f":"IF(A3798=\"\",\"\",VLOOKUP(A3798,PARAMETROS!$B$3:$C$3,2,FALSE))","v":""},null,{"$f":"IF(C3798=\"\",\"\",VLOOKUP(C3798,PARAMETROS!$G$3:$H$21,2,FALSE))","v":""},null,{"$f":"IF(E3798=\"\",\"\",VLOOKUP(E3798,PARAMETROS!$I$3:$J$21,2,FALSE))","v":""},null,null,null,null,null,null,""]
[null,{"$f":"IF(A3799=\"\",\"\",VLOOKUP(A3799,PARAMETROS!$B$3:$C$3,2,FALSE))","v":""},null,{"$f":"IF(C3799=\"\",\"\",VLOOKUP(C3799,PARAMETROS!$G$3:$H$21,2,FALSE))","v":""},null,{"$f":"IF(E3799=\"\",\"\",VLOOKUP(E3799,PARAMETROS!$I$3:$J$21,2,FALSE))","v":""},null,null,null,null,null,null,""]
[null,{"$f":"IF(A3800=\"\",\"\",VLOOKUP(A3800,PARAMETROS!$B$3:$C$3,2,FALSE))","v":""},null,{"$f":"IF(C3800=\"\",\"\",VLOOKUP(C3800,PARAMETROS!$G$3:$H$21,2,FALSE))","v":""},null,{"$f":"IF(E3800=\"\",\"\",VLOOKUP(E3800,PARAMETROS!$I$3:$J$21,2,FALSE))","v":""},null,null,null,null,null,null,""]
[null,{"$f":"IF(A3801=\"\",\"\",VLOOKUP(A3801,PARAMETROS!$B$3:$C$3,2,FALSE))","v":""},null,{"$f":"IF(C3801=\"\",\"\",VLOOKUP(C3801,PARAMETROS!$G$3:$H$21,2,FALSE))","v":""},null,{"$f":"IF(E3801=\"\",\"\",VLOOKUP(E3801,PARAMETROS!$I$3:$J$21,2,FALSE))","v":""},null,null,null,null,null,null,""]
[null,{"$f":"IF(A3802=\"\",\"\",VLOOKUP(A3802,PARAMETROS!$B$3:$C$3,2,FALSE))","v":""},null,{"$f":"IF(C3802=\"\",\"\",VLOOKUP(C3802,PARAMETROS!$G$3:$H$21,2,FALSE))","v":""},null,{"$f":"IF(E3802=\"\",\"\",VLOOKUP(E3802,PARAMETROS!$I$3:$J$21,2,FALSE))","v":""},null,null,null,null,null,null,""]
[null,{"$f":"IF(A3803=\"\",\"\",VLOOKUP(A3803,PARAMETROS!$B$3:$C$3,2,FALSE))","v":""},null,{"$f":"IF(C3803=\"\",\"\",VLOOKUP(C3803,PARAMETROS!$G$3:$H$21,2,FALSE))","v":""},null,{"$f":"IF(E3803=\"\",\"\",VLOOKUP(E3803,PARAMETROS!$I$3:$J$21,2,FALSE))","v":""},null,null,null,null,null,null,""]
[null,{"$f":"IF(A3804=\"\",\"\",VLOOKUP(A3804,PARAMETROS!$B$3:$C$3,2,FALSE))","v":""},null,{"$f":"IF(C3804=\"\",\"\",VLOOKUP(C3804,PARAMETROS!$G$3:$H$21,2,FALSE))","v":""},null,{"$f":"IF(E3804=\"\",\"\",VLOOKUP(E3804,PARAMETROS!$I$3:$J$21,2,FALSE))","v":""},null,null,null,null,null,null,""]
[null,{"$f":"IF(A3805=\"\",\"\",VLOOKUP(A3805,PARAMETROS!$B$3:$C$3,2,FALSE))","v":""},null,{"$f":"IF(C3805=\"\",\"\",VLOOKUP(C3805,PARAMETROS!$G$3:$H$21,2,FALSE))","v":""},null,{"$f":"IF(E3805=\"\",\"\",VLOOKUP(E3805,PARAMETROS!$I$3:$J$21,2,FALSE))","v":""},null,null,null,null,null,null,""]
[null,{"$f":"IF(A3806=\"\",\"\",VLOOKUP(A3806,PARAMETROS!$B$3:$C$3,2,FALSE))","v":""},null,{"$f":"IF(C3806=\"\",\"\",VLOOKUP(C3806,PARAMETROS!$G$3:$H$21,2,FALSE))","v":""},null,{"$f":"IF(E3806=\"\",\"\",VLOOKUP(E3806,PARAMETROS!$I$3:$J$21,2,FALSE))","v":""},null,null,null,null,null,null,""]
[null,{"$f":"IF(A3807=\"\",\"\",VLOOKUP(A3807,PARAMETROS!$B$3:$C$3,2,FALSE))","v":""},null,{"$f":"IF(C3807=\"\",\"\",VLOOKUP(C3807,PARAMETROS!$G$3:$H$21,2,FALSE))","v":""},null,{"$f":"IF(E3807=\"\",\"\",VLOOKUP(E3807,PARAMETROS!$I$3:$J$21,2,FALSE))","v":""},null,null,null,null,null,null,""]
[null,{"$f":"IF(A3808=\"\",\"\",VLOOKUP(A3808,PARAMETROS!$B$3:$C$3,2,FALSE))","v":""},null,{"$f":"IF(C3808=\"\",\"\",VLOOKUP(C3808,PARAMETROS!$G$3:$H$21,2,FALSE))","v":""},null,{"$f":"IF(E3808=\"\",\"\",VLOOKUP(E3808,PARAMETROS!$I$3:$J$21,2,FALSE))","v":""},null,null,null,null,null,null,""]
[null,{"$f":"IF(A3809=\"\",\"\",VLOOKUP(A3809,PARAMETROS!$B$3:$C$3,2,FALSE))","v":""},null,{"$f":"IF(C3809=\"\",\"\",VLOOKUP(C3809,PARAMETROS!$G$3:$H$21,2,FALSE))","v":""},null,{"$f":"IF(E3809=\"\",\"\",VLOOKUP(E3809,PARAMETROS!$I$3:$J$21,2,FALSE))","v":""},null,null,null,null,null,null,""]
[null,{"$f":"IF(A3810=\"\",\"\",VLOOKUP(A3810,PARAMETROS!$B$3:$C$3,2,FALSE))","v":""},null,{"$f":"IF(C3810=\"\",\"\",VLOOKUP(C3810,PARAMETROS!$G$3:$H$21,2,FALSE))","v":""},null,{"$f":"IF(E3810=\"\",\"\",VLOOKUP(E3810,PARAMETROS!$I$3:$J$21,2,FALSE))","v":""},null,null,null,null,null,null,""]
[null,{"$f":"IF(A3811=\"\",\"\",VLOOKUP(A3811,PARAMETROS!$B$3:$C$3,2,FALSE))","v":""},null,{"$f":"IF(C3811=\"\",\"\",VLOOKUP(C3811,PARAMETROS!$G$3:$H$21,2,FALSE))","v":""},null,{"$f":"IF(E3811=\"\",\"\",VLOOKUP(E3811,PARAMETROS!$I$3:$J$21,2,FALSE))","v":""},null,null,null,null,null,null,""]
[null,{"$f":"IF(A3812=\"\",\"\",VLOOKUP(A3812,PARAMETROS!$B$3:$C$3,2,FALSE))","v":""},null,{"$f":"IF(C3812=\"\",\"\",VLOOKUP(C3812,PARAMETROS!$G$3:$H$21,2,FALSE))","v":""},null,{"$f":"IF(E3812=\"\",\"\",VLOOKUP(E3812,PARAMETROS!$I$3:$J$21,2,FALSE))","v":""},null,null,null,null,null,null,""]
[null,{"$f":"IF(A3813=\"\",\"\",VLOOKUP(A3813,PARAMETROS!$B$3:$C$3,2,FALSE))","v":""},null,{"$f":"IF(C3813=\"\",\"\",VLOOKUP(C3813,PARAMETROS!$G$3:$H$21,2,FALSE))","v":""},null,{"$f":"IF(E3813=\"\",\"\",VLOOKUP(E3813,PARAMETROS!$I$3:$J$21,2,FALSE))","v":""},null,null,null,null,null,null,""]
[null,{"$f":"IF(A3814=\"\",\"\",VLOOKUP(A3814,PARAMETROS!$B$3:$C$3,2,FALSE))","v":""},null,{"$f":"IF(C3814=\"\",\"\",VLOOKUP(C3814,PARAMETROS!$G$3:$H$21,2,FALSE))","v":""},null,{"$f":"IF(E3814=\"\",\"\",VLOOKUP(E3814,PARAMETROS!$I$3:$J$21,2,FALSE))","v":""},null,null,null,null,null,null,""]
[null,{"$f":"IF(A3815=\"\",\"\",VLOOKUP(A3815,PARAMETROS!$B$3:$C$3,2,FALSE))","v":""},null,{"$f":"IF(C3815=\"\",\"\",VLOOKUP(C3815,PARAMETROS!$G$3:$H$21,2,FALSE))","v":""},null,{"$f":"IF(E3815=\"\",\"\",VLOOKUP(E3815,PARAMETROS!$I$3:$J$21,2,FALSE))","v":""},null,null,null,null,null,null,""]
[null,{"$f":"IF(A3816=\"\",\"\",VLOOKUP(A3816,PARAMETROS!$B$3:$C$3,2,FALSE))","v":""},null,{"$f":"IF(C3816=\"\",\"\",VLOOKUP(C3816,PARAMETROS!$G$3:$H$21,2,FALSE))","v":""},null,{"$f":"IF(E3816=\"\",\"\",VLOOKUP(E3816,PARAMETROS!$I$3:$J$21,2,FALSE))","v":""},null,null,null,null,null,null,""]
[null,{"$f":"IF(A3817=\"\",\"\",VLOOKUP(A3817,PARAMETROS!$B$3:$C$3,2,FALSE))","v":""},null,{"$f":"IF(C3817=\"\",\"\",VLOOKUP(C3817,PARAMETROS!$G$3:$H$21,2,FALSE))","v":""},null,{"$f":"IF(E3817=\"\",\"\",VLOOKUP(E3817,PARAMETROS!$I$3:$J$21,2,FALSE))","v":""},null,null,null,null,null,null,""]
[null,{"$f":"IF(A3818=\"\",\"\",VLOOKUP(A3818,PARAMETROS!$B$3:$C$3,2,FALSE))","v":""},null,{"$f":"IF(C3818=\"\",\"\",VLOOKUP(C3818,PARAMETROS!$G$3:$H$21,2,FALSE))","v":""},null,{"$f":"IF(E3818=\"\",\"\",VLOOKUP(E3818,PARAMETROS!$I$3:$J$21,2,FALSE))","v":""},null,null,null,null,null,null,""]
[null,{"$f":"IF(A3819=\"\",\"\",VLOOKUP(A3819,PARAMETROS!$B$3:$C$3,2,FALSE))","v":""},null,{"$f":"IF(C3819=\"\",\"\",VLOOKUP(C3819,PARAMETROS!$G$3:$H$21,2,FALSE))","v":""},null,{"$f":"IF(E3819=\"\",\"\",VLOOKUP(E3819,PARAMETROS!$I$3:$J$21,2,FALSE))","v":""},null,null,null,null,null,null,""]
[null,{"$f":"IF(A3820=\"\",\"\",VLOOKUP(A3820,PARAMETROS!$B$3:$C$3,2,FALSE))","v":""},null,{"$f":"IF(C3820=\"\",\"\",VLOOKUP(C3820,PARAMETROS!$G$3:$H$21,2,FALSE))","v":""},null,{"$f":"IF(E3820=\"\",\"\",VLOOKUP(E3820,PARAMETROS!$I$3:$J$21,2,FALSE))","v":""},null,null,null,null,null,null,""]
[null,{"$f":"IF(A3821=\"\",\"\",VLOOKUP(A3821,PARAMETROS!$B$3:$C$3,2,FALSE))","v":""},null,{"$f":"IF(C3821=\"\",\"\",VLOOKUP(C3821,PARAMETROS!$G$3:$H$21,2,FALSE))","v":""},null,{"$f":"IF(E3821=\"\",\"\",VLOOKUP(E3821,PARAMETROS!$I$3:$J$21,2,FALSE))","v":""},null,null,null,null,null,null,""]
[null,{"$f":"IF(A3822=\"\",\"\",VLOOKUP(A3822,PARAMETROS!$B$3:$C$3,2,FALSE))","v":""},null,{"$f":"IF(C3822=\"\",\"\",VLOOKUP(C3822,PARAMETROS!$G$3:$H$21,2,FALSE))","v":""},null,{"$f":"IF(E3822=\"\",\"\",VLOOKUP(E3822,PARAMETROS!$I$3:$J$21,2,FALSE))","v":""},null,null,null,null,null,null,""]
[null,{"$f":"IF(A3823=\"\",\"\",VLOOKUP(A3823,PARAMETROS!$B$3:$C$3,2,FALSE))","v":""},null,{"$f":"IF(C3823=\"\",\"\",VLOOKUP(C3823,PARAMETROS!$G$3:$H$21,2,FALSE))","v":""},null,{"$f":"IF(E3823=\"\",\"\",VLOOKUP(E3823,PARAMETROS!$I$3:$J$21,2,FALSE))","v":""},null,null,null,null,null,null,""]
[null,{"$f":"IF(A3824=\"\",\"\",VLOOKUP(A3824,PARAMETROS!$B$3:$C$3,2,FALSE))","v":""},null,{"$f":"IF(C3824=\"\",\"\",VLOOKUP(C3824,PARAMETROS!$G$3:$H$21,2,FALSE))","v":""},null,{"$f":"IF(E3824=\"\",\"\",VLOOKUP(E3824,PARAMETROS!$I$3:$J$21,2,FALSE))","v":""},null,null,null,null,null,null,""]
[null,{"$f":"IF(A3825=\"\",\"\",VLOOKUP(A3825,PARAMETROS!$B$3:$C$3,2,FALSE))","v":""},null,{"$f":"IF(C3825=\"\",\"\",VLOOKUP(C3825,PARAMETROS!$G$3:$H$21,2,FALSE))","v":""},null,{"$f":"IF(E3825=\"\",\"\",VLOOKUP(E3825,PARAMETROS!$I$3:$J$21,2,FALSE))","v":""},null,null,null,null,null,null,""]
[null,{"$f":"IF(A3826=\"\",\"\",VLOOKUP(A3826,PARAMETROS!$B$3:$C$3,2,FALSE))","v":""},null,{"$f":"IF(C3826=\"\",\"\",VLOOKUP(C3826,PARAMETROS!$G$3:$H$21,2,FALSE))","v":""},null,{"$f":"IF(E3826=\"\",\"\",VLOOKUP(E3826,PARAMETROS!$I$3:$J$21,2,FALSE))","v":""},null,null,null,null,null,null,""]
[null,{"$f":"IF(A3827=\"\",\"\",VLOOKUP(A3827,PARAMETROS!$B$3:$C$3,2,FALSE))","v":""},null,{"$f":"IF(C3827=\"\",\"\",VLOOKUP(C3827,PARAMETROS!$G$3:$H$21,2,FALSE))","v":""},null,{"$f":"IF(E3827=\"\",\"\",VLOOKUP(E3827,PARAMETROS!$I$3:$J$21,2,FALSE))","v":""},null,null,null,null,null,null,""]
[null,{"$f":"IF(A3828=\"\",\"\",VLOOKUP(A3828,PARAMETROS!$B$3:$C$3,2,FALSE))","v":""},null,{"$f":"IF(C3828=\"\",\"\",VLOOKUP(C3828,PARAMETROS!$G$3:$H$21,2,FALSE))","v":""},null,{"$f":"IF(E3828=\"\",\"\",VLOOKUP(E3828,PARAMETROS!$I$3:$J$21,2,FALSE))","v":""},null,null,null,null,null,null,""]
[null,{"$f":"IF(A3829=\"\",\"\",VLOOKUP(A3829,PARAMETROS!$B$3:$C$3,2,FALSE))","v":""},null,{"$f":"IF(C3829=\"\",\"\",VLOOKUP(C3829,PARAMETROS!$G$3:$H$21,2,FALSE))","v":""},null,{"$f":"IF(E3829=\"\",\"\",VLOOKUP(E3829,PARAMETROS!$I$3:$J$21,2,FALSE))","v":""},null,null,null,null,null,null,""]
[null,{"$f":"IF(A3830=\"\",\"\",VLOOKUP(A3830,PARAMETROS!$B$3:$C$3,2,FALSE))","v":""},null,{"$f":"IF(C3830=\"\",\"\",VLOOKUP(C3830,PARAMETROS!$G$3:$H$21,2,FALSE))","v":""},null,{"$f":"IF(E3830=\"\",\"\",VLOOKUP(E3830,PARAMETROS!$I$3:$J$21,2,FALSE))","v":""},null,null,null,null,null,null,""]
[null,{"$f":"IF(A3831=\"\",\"\",VLOOKUP(A3831,PARAMETROS!$B$3:$C$3,2,FALSE))","v":""},null,{"$f":"IF(C3831=\"\",\"\",VLOOKUP(C3831,PARAMETROS!$G$3:$H$21,2,FALSE))","v":""},null,{"$f":"IF(E3831=\"\",\"\",VLOOKUP(E3831,PARAMETROS!$I$3:$J$21,2,FALSE))","v":""},null,null,null,null,null,null,""]
[null,{"$f":"IF(A3832=\"\",\"\",VLOOKUP(A3832,PARAMETROS!$B$3:$C$3,2,FALSE))","v":""},null,{"$f":"IF(C3832=\"\",\"\",VLOOKUP(C3832,PARAMETROS!$G$3:$H$21,2,FALSE))","v":""},null,{"$f":"IF(E3832=\"\",\"\",VLOOKUP(E3832,PARAMETROS!$I$3:$J$21,2,FALSE))","v":""},null,null,null,null,null,null,""]
[null,{"$f":"IF(A3833=\"\",\"\",VLOOKUP(A3833,PARAMETROS!$B$3:$C$3,2,FALSE))","v":""},null,{"$f":"IF(C3833=\"\",\"\",VLOOKUP(C3833,PARAMETROS!$G$3:$H$21,2,FALSE))","v":""},null,{"$f":"IF(E3833=\"\",\"\",VLOOKUP(E3833,PARAMETROS!$I$3:$J$21,2,FALSE))","v":""},null,null,null,null,null,null,""]
[null,{"$f":"IF(A3834=\"\",\"\",VLOOKUP(A3834,PARAMETROS!$B$3:$C$3,2,FALSE))","v":""},null,{"$f":"IF(C3834=\"\",\"\",VLOOKUP(C3834,PARAMETROS!$G$3:$H$21,2,FALSE))","v":""},null,{"$f":"IF(E3834=\"\",\"\",VLOOKUP(E3834,PARAMETROS!$I$3:$J$21,2,FALSE))","v":""},null,null,null,null,null,null,""]
[null,{"$f":"IF(A3835=\"\",\"\",VLOOKUP(A3835,PARAMETROS!$B$3:$C$3,2,FALSE))","v":""},null,{"$f":"IF(C3835=\"\",\"\",VLOOKUP(C3835,PARAMETROS!$G$3:$H$21,2,FALSE))","v":""},null,{"$f":"IF(E3835=\"\",\"\",VLOOKUP(E3835,PARAMETROS!$I$3:$J$21,2,FALSE))","v":""},null,null,null,null,null,null,""]
[null,{"$f":"IF(A3836=\"\",\"\",VLOOKUP(A3836,PARAMETROS!$B$3:$C$3,2,FALSE))","v":""},null,{"$f":"IF(C3836=\"\",\"\",VLOOKUP(C3836,PARAMETROS!$G$3:$H$21,2,FALSE))","v":""},null,{"$f":"IF(E3836=\"\",\"\",VLOOKUP(E3836,PARAMETROS!$I$3:$J$21,2,FALSE))","v":""},null,null,null,null,null,null,""]
[null,{"$f":"IF(A3837=\"\",\"\",VLOOKUP(A3837,PARAMETROS!$B$3:$C$3,2,FALSE))","v":""},null,{"$f":"IF(C3837=\"\",\"\",VLOOKUP(C3837,PARAMETROS!$G$3:$H$21,2,FALSE))","v":""},null,{"$f":"IF(E3837=\"\",\"\",VLOOKUP(E3837,PARAMETROS!$I$3:$J$21,2,FALSE))","v":""},null,null,null,null,null,null,""]
[null,{"$f":"IF(A3838=\"\",\"\",VLOOKUP(A3838,PARAMETROS!$B$3:$C$3,2,FALSE))","v":""},null,{"$f":"IF(C3838=\"\",\"\",VLOOKUP(C3838,PARAMETROS!$G$3:$H$21,2,FALSE))","v":""},null,{"$f":"IF(E3838=\"\",\"\",VLOOKUP(E3838,PARAMETROS!$I$3:$J$21,2,FALSE))","v":""},null,null,null,null,null,null,""]
[null,{"$f":"IF(A3839=\"\",\"\",VLOOKUP(A3839,PARAMETROS!$B$3:$C$3,2,FALSE))","v":""},null,{"$f":"IF(C3839=\"\",\"\",VLOOKUP(C3839,PARAMETROS!$G$3:$H$21,2,FALSE))","v":""},null,{"$f":"IF(E3839=\"\",\"\",VLOOKUP(E3839,PARAMETROS!$I$3:$J$21,2,FALSE))","v":""},null,null,null,null,null,null,""]
[null,{"$f":"IF(A3840=\"\",\"\",VLOOKUP(A3840,PARAMETROS!$B$3:$C$3,2,FALSE))","v":""},null,{"$f":"IF(C3840=\"\",\"\",VLOOKUP(C3840,PARAMETROS!$G$3:$H$21,2,FALSE))","v":""},null,{"$f":"IF(E3840=\"\",\"\",VLOOKUP(E3840,PARAMETROS!$I$3:$J$21,2,FALSE))","v":""},null,null,null,null,null,null,""]
[null,{"$f":"IF(A3841=\"\",\"\",VLOOKUP(A3841,PARAMETROS!$B$3:$C$3,2,FALSE))","v":""},null,{"$f":"IF(C3841=\"\",\"\",VLOOKUP(C3841,PARAMETROS!$G$3:$H$21,2,FALSE))","v":""},null,{"$f":"IF(E3841=\"\",\"\",VLOOKUP(E3841,PARAMETROS!$I$3:$J$21,2,FALSE))","v":""},null,null,null,null,null,null,""]
[null,{"$f":"IF(A3842=\"\",\"\",VLOOKUP(A3842,PARAMETROS!$B$3:$C$3,2,FALSE))","v":""},null,{"$f":"IF(C3842=\"\",\"\",VLOOKUP(C3842,PARAMETROS!$G$3:$H$21,2,FALSE))","v":""},null,{"$f":"IF(E3842=\"\",\"\",VLOOKUP(E3842,PARAMETROS!$I$3:$J$21,2,FALSE))","v":""},null,null,null,null,null,null,""]
[null,{"$f":"IF(A3843=\"\",\"\",VLOOKUP(A3843,PARAMETROS!$B$3:$C$3,2,FALSE))","v":""},null,{"$f":"IF(C3843=\"\",\"\",VLOOKUP(C3843,PARAMETROS!$G$3:$H$21,2,FALSE))","v":""},null,{"$f":"IF(E3843=\"\",\"\",VLOOKUP(E3843,PARAMETROS!$I$3:$J$21,2,FALSE))","v":""},null,null,null,null,null,null,""]
[null,{"$f":"IF(A3844=\"\",\"\",VLOOKUP(A3844,PARAMETROS!$B$3:$C$3,2,FALSE))","v":""},null,{"$f":"IF(C3844=\"\",\"\",VLOOKUP(C3844,PARAMETROS!$G$3:$H$21,2,FALSE))","v":""},null,{"$f":"IF(E3844=\"\",\"\",VLOOKUP(E3844,PARAMETROS!$I$3:$J$21,2,FALSE))","v":""},null,null,null,null,null,null,""]
[null,{"$f":"IF(A3845=\"\",\"\",VLOOKUP(A3845,PARAMETROS!$B$3:$C$3,2,FALSE))","v":""},null,{"$f":"IF(C3845=\"\",\"\",VLOOKUP(C3845,PARAMETROS!$G$3:$H$21,2,FALSE))","v":""},null,{"$f":"IF(E3845=\"\",\"\",VLOOKUP(E3845,PARAMETROS!$I$3:$J$21,2,FALSE))","v":""},null,null,null,null,null,null,""]
[null,{"$f":"IF(A3846=\"\",\"\",VLOOKUP(A3846,PARAMETROS!$B$3:$C$3,2,FALSE))","v":""},null,{"$f":"IF(C3846=\"\",\"\",VLOOKUP(C3846,PARAMETROS!$G$3:$H$21,2,FALSE))","v":""},null,{"$f":"IF(E3846=\"\",\"\",VLOOKUP(E3846,PARAMETROS!$I$3:$J$21,2,FALSE))","v":""},null,null,null,null,null,null,""]
[null,{"$f":"IF(A3847=\"\",\"\",VLOOKUP(A3847,PARAMETROS!$B$3:$C$3,2,FALSE))","v":""},null,{"$f":"IF(C3847=\"\",\"\",VLOOKUP(C3847,PARAMETROS!$G$3:$H$21,2,FALSE))","v":""},null,{"$f":"IF(E3847=\"\",\"\",VLOOKUP(E3847,PARAMETROS!$I$3:$J$21,2,FALSE))","v":""},null,null,null,null,null,null,""]
[null,{"$f":"IF(A3848=\"\",\"\",VLOOKUP(A3848,PARAMETROS!$B$3:$C$3,2,FALSE))","v":""},null,{"$f":"IF(C3848=\"\",\"\",VLOOKUP(C3848,PARAMETROS!$G$3:$H$21,2,FALSE))","v":""},null,{"$f":"IF(E3848=\"\",\"\",VLOOKUP(E3848,PARAMETROS!$I$3:$J$21,2,FALSE))","v":""},null,null,null,null,null,null,""]
[null,{"$f":"IF(A3849=\"\",\"\",VLOOKUP(A3849,PARAMETROS!$B$3:$C$3,2,FALSE))","v":""},null,{"$f":"IF(C3849=\"\",\"\",VLOOKUP(C3849,PARAMETROS!$G$3:$H$21,2,FALSE))","v":""},null,{"$f":"IF(E3849=\"\",\"\",VLOOKUP(E3849,PARAMETROS!$I$3:$J$21,2,FALSE))","v":""},null,null,null,null,null,null,""]
[null,{"$f":"IF(A3850=\"\",\"\",VLOOKUP(A3850,PARAMETROS!$B$3:$C$3,2,FALSE))","v":""},null,{"$f":"IF(C3850=\"\",\"\",VLOOKUP(C3850,PARAMETROS!$G$3:$H$21,2,FALSE))","v":""},null,{"$f":"IF(E3850=\"\",\"\",VLOOKUP(E3850,PARAMETROS!$I$3:$J$21,2,FALSE))","v":""},null,null,null,null,null,null,""]
[null,{"$f":"IF(A3851=\"\",\"\",VLOOKUP(A3851,PARAMETROS!$B$3:$C$3,2,FALSE))","v":""},null,{"$f":"IF(C3851=\"\",\"\",VLOOKUP(C3851,PARAMETROS!$G$3:$H$21,2,FALSE))","v":""},null,{"$f":"IF(E3851=\"\",\"\",VLOOKUP(E3851,PARAMETROS!$I$3:$J$21,2,FALSE))","v":""},null,null,null,null,null,null,""]
[null,{"$f":"IF(A3852=\"\",\"\",VLOOKUP(A3852,PARAMETROS!$B$3:$C$3,2,FALSE))","v":""},null,{"$f":"IF(C3852=\"\",\"\",VLOOKUP(C3852,PARAMETROS!$G$3:$H$21,2,FALSE))","v":""},null,{"$f":"IF(E3852=\"\",\"\",VLOOKUP(E3852,PARAMETROS!$I$3:$J$21,2,FALSE))","v":""},null,null,null,null,null,null,""]
[null,{"$f":"IF(A3853=\"\",\"\",VLOOKUP(A3853,PARAMETROS!$B$3:$C$3,2,FALSE))","v":""},null,{"$f":"IF(C3853=\"\",\"\",VLOOKUP(C3853,PARAMETROS!$G$3:$H$21,2,FALSE))","v":""},null,{"$f":"IF(E3853=\"\",\"\",VLOOKUP(E3853,PARAMETROS!$I$3:$J$21,2,FALSE))","v":""},null,null,null,null,null,null,""]
[null,{"$f":"IF(A3854=\"\",\"\",VLOOKUP(A3854,PARAMETROS!$B$3:$C$3,2,FALSE))","v":""},null,{"$f":"IF(C3854=\"\",\"\",VLOOKUP(C3854,PARAMETROS!$G$3:$H$21,2,FALSE))","v":""},null,{"$f":"IF(E3854=\"\",\"\",VLOOKUP(E3854,PARAMETROS!$I$3:$J$21,2,FALSE))","v":""},null,null,null,null,null,null,""]
[null,{"$f":"IF(A3855=\"\",\"\",VLOOKUP(A3855,PARAMETROS!$B$3:$C$3,2,FALSE))","v":""},null,{"$f":"IF(C3855=\"\",\"\",VLOOKUP(C3855,PARAMETROS!$G$3:$H$21,2,FALSE))","v":""},null,{"$f":"IF(E3855=\"\",\"\",VLOOKUP(E3855,PARAMETROS!$I$3:$J$21,2,FALSE))","v":""},null,null,null,null,null,null,{"$f":"IF(L3855=\"\", \"\", L3855)","v":""}]
[null,{"$f":"IF(A3856=\"\",\"\",VLOOKUP(A3856,PARAMETROS!$B$3:$C$3,2,FALSE))","v":""},null,{"$f":"IF(C3856=\"\",\"\",VLOOKUP(C3856,PARAMETROS!$G$3:$H$21,2,FALSE))","v":""},null,{"$f":"IF(E3856=\"\",\"\",VLOOKUP(E3856,PARAMETROS!$I$3:$J$21,2,FALSE))","v":""},null,null,null,null,null,null,""]
[null,{"$f":"IF(A3857=\"\",\"\",VLOOKUP(A3857,PARAMETROS!$B$3:$C$3,2,FALSE))","v":""},null,{"$f":"IF(C3857=\"\",\"\",VLOOKUP(C3857,PARAMETROS!$G$3:$H$21,2,FALSE))","v":""},null,{"$f":"IF(E3857=\"\",\"\",VLOOKUP(E3857,PARAMETROS!$I$3:$J$21,2,FALSE))","v":""},null,null,null,null,null,null,""]
[null,{"$f":"IF(A3858=\"\",\"\",VLOOKUP(A3858,PARAMETROS!$B$3:$C$3,2,FALSE))","v":""},null,{"$f":"IF(C3858=\"\",\"\",VLOOKUP(C3858,PARAMETROS!$G$3:$H$21,2,FALSE))","v":""},null,{"$f":"IF(E3858=\"\",\"\",VLOOKUP(E3858,PARAMETROS!$I$3:$J$21,2,FALSE))","v":""},null,null,null,null,null,null,""]
[null,{"$f":"IF(A3859=\"\",\"\",VLOOKUP(A3859,PARAMETROS!$B$3:$C$3,2,FALSE))","v":""},null,{"$f":"IF(C3859=\"\",\"\",VLOOKUP(C3859,PARAMETROS!$G$3:$H$21,2,FALSE))","v":""},null,{"$f":"IF(E3859=\"\",\"\",VLOOKUP(E3859,PARAMETROS!$I$3:$J$21,2,FALSE))","v":""},null,null,null,null,null,null,""]
[null,{"$f":"IF(A3860=\"\",\"\",VLOOKUP(A3860,PARAMETROS!$B$3:$C$3,2,FALSE))","v":""},null,{"$f":"IF(C3860=\"\",\"\",VLOOKUP(C3860,PARAMETROS!$G$3:$H$21,2,FALSE))","v":""},null,{"$f":"IF(E3860=\"\",\"\",VLOOKUP(E3860,PARAMETROS!$I$3:$J$21,2,FALSE))","v":""},null,null,null,null,null,null,""]
[null,{"$f":"IF(A3861=\"\",\"\",VLOOKUP(A3861,PARAMETROS!$B$3:$C$3,2,FALSE))","v":""},null,{"$f":"IF(C3861=\"\",\"\",VLOOKUP(C3861,PARAMETROS!$G$3:$H$21,2,FALSE))","v":""},null,{"$f":"IF(E3861=\"\",\"\",VLOOKUP(E3861,PARAMETROS!$I$3:$J$21,2,FALSE))","v":""},null,null,null,null,null,null,""]
[null,{"$f":"IF(A3862=\"\",\"\",VLOOKUP(A3862,PARAMETROS!$B$3:$C$3,2,FALSE))","v":""},null,{"$f":"IF(C3862=\"\",\"\",VLOOKUP(C3862,PARAMETROS!$G$3:$H$21,2,FALSE))","v":""},null,{"$f":"IF(E3862=\"\",\"\",VLOOKUP(E3862,PARAMETROS!$I$3:$J$21,2,FALSE))","v":""},null,null,null,null,null,null,""]
[null,{"$f":"IF(A3863=\"\",\"\",VLOOKUP(A3863,PARAMETROS!$B$3:$C$3,2,FALSE))","v":""},null,{"$f":"IF(C3863=\"\",\"\",VLOOKUP(C3863,PARAMETROS!$G$3:$H$21,2,FALSE))","v":""},null,{"$f":"IF(E3863=\"\",\"\",VLOOKUP(E3863,PARAMETROS!$I$3:$J$21,2,FALSE))","v":""},null,null,null,null,null,null,""]
[null,{"$f":"IF(A3864=\"\",\"\",VLOOKUP(A3864,PARAMETROS!$B$3:$C$3,2,FALSE))","v":""},null,{"$f":"IF(C3864=\"\",\"\",VLOOKUP(C3864,PARAMETROS!$G$3:$H$21,2,FALSE))","v":""},null,{"$f":"IF(E3864=\"\",\"\",VLOOKUP(E3864,PARAMETROS!$I$3:$J$21,2,FALSE))","v":""},null,null,null,null,null,null,""]
[null,{"$f":"IF(A3865=\"\",\"\",VLOOKUP(A3865,PARAMETROS!$B$3:$C$3,2,FALSE))","v":""},null,{"$f":"IF(C3865=\"\",\"\",VLOOKUP(C3865,PARAMETROS!$G$3:$H$21,2,FALSE))","v":""},null,{"$f":"IF(E3865=\"\",\"\",VLOOKUP(E3865,PARAMETROS!$I$3:$J$21,2,FALSE))","v":""},null,null,null,null,null,null,""]
[null,{"$f":"IF(A3866=\"\",\"\",VLOOKUP(A3866,PARAMETROS!$B$3:$C$3,2,FALSE))","v":""},null,{"$f":"IF(C3866=\"\",\"\",VLOOKUP(C3866,PARAMETROS!$G$3:$H$21,2,FALSE))","v":""},null,{"$f":"IF(E3866=\"\",\"\",VLOOKUP(E3866,PARAMETROS!$I$3:$J$21,2,FALSE))","v":""},null,null,null,null,null,null,""]
[null,{"$f":"IF(A3867=\"\",\"\",VLOOKUP(A3867,PARAMETROS!$B$3:$C$3,2,FALSE))","v":""},null,{"$f":"IF(C3867=\"\",\"\",VLOOKUP(C3867,PARAMETROS!$G$3:$H$21,2,FALSE))","v":""},null,{"$f":"IF(E3867=\"\",\"\",VLOOKUP(E3867,PARAMETROS!$I$3:$J$21,2,FALSE))","v":""},null,null,null,null,null,null,""]
[null,{"$f":"IF(A3868=\"\",\"\",VLOOKUP(A3868,PARAMETROS!$B$3:$C$3,2,FALSE))","v":""},null,{"$f":"IF(C3868=\"\",\"\",VLOOKUP(C3868,PARAMETROS!$G$3:$H$21,2,FALSE))","v":""},null,{"$f":"IF(E3868=\"\",\"\",VLOOKUP(E3868,PARAMETROS!$I$3:$J$21,2,FALSE))","v":""},null,null,null,null,null,null,""]
[null,{"$f":"IF(A3869=\"\",\"\",VLOOKUP(A3869,PARAMETROS!$B$3:$C$3,2,FALSE))","v":""},null,{"$f":"IF(C3869=\"\",\"\",VLOOKUP(C3869,PARAMETROS!$G$3:$H$21,2,FALSE))","v":""},null,{"$f":"IF(E3869=\"\",\"\",VLOOKUP(E3869,PARAMETROS!$I$3:$J$21,2,FALSE))","v":""},null,null,null,null,null,null,""]
[null,{"$f":"IF(A3870=\"\",\"\",VLOOKUP(A3870,PARAMETROS!$B$3:$C$3,2,FALSE))","v":""},null,{"$f":"IF(C3870=\"\",\"\",VLOOKUP(C3870,PARAMETROS!$G$3:$H$21,2,FALSE))","v":""},null,{"$f":"IF(E3870=\"\",\"\",VLOOKUP(E3870,PARAMETROS!$I$3:$J$21,2,FALSE))","v":""},null,null,null,null,null,null,""]
[null,{"$f":"IF(A3871=\"\",\"\",VLOOKUP(A3871,PARAMETROS!$B$3:$C$3,2,FALSE))","v":""},null,{"$f":"IF(C3871=\"\",\"\",VLOOKUP(C3871,PARAMETROS!$G$3:$H$21,2,FALSE))","v":""},null,{"$f":"IF(E3871=\"\",\"\",VLOOKUP(E3871,PARAMETROS!$I$3:$J$21,2,FALSE))","v":""},null,null,null,null,null,null,""]
[null,{"$f":"IF(A3872=\"\",\"\",VLOOKUP(A3872,PARAMETROS!$B$3:$C$3,2,FALSE))","v":""},null,{"$f":"IF(C3872=\"\",\"\",VLOOKUP(C3872,PARAMETROS!$G$3:$H$21,2,FALSE))","v":""},null,{"$f":"IF(E3872=\"\",\"\",VLOOKUP(E3872,PARAMETROS!$I$3:$J$21,2,FALSE))","v":""},null,null,null,null,null,null,""]
[null,{"$f":"IF(A3873=\"\",\"\",VLOOKUP(A3873,PARAMETROS!$B$3:$C$3,2,FALSE))","v":""},null,{"$f":"IF(C3873=\"\",\"\",VLOOKUP(C3873,PARAMETROS!$G$3:$H$21,2,FALSE))","v":""},null,{"$f":"IF(E3873=\"\",\"\",VLOOKUP(E3873,PARAMETROS!$I$3:$J$21,2,FALSE))","v":""},null,null,null,null,null,null,""]
[null,{"$f":"IF(A3874=\"\",\"\",VLOOKUP(A3874,PARAMETROS!$B$3:$C$3,2,FALSE))","v":""},null,{"$f":"IF(C3874=\"\",\"\",VLOOKUP(C3874,PARAMETROS!$G$3:$H$21,2,FALSE))","v":""},null,{"$f":"IF(E3874=\"\",\"\",VLOOKUP(E3874,PARAMETROS!$I$3:$J$21,2,FALSE))","v":""},null,null,null,null,null,null,""]
[null,{"$f":"IF(A3875=\"\",\"\",VLOOKUP(A3875,PARAMETROS!$B$3:$C$3,2,FALSE))","v":""},null,{"$f":"IF(C3875=\"\",\"\",VLOOKUP(C3875,PARAMETROS!$G$3:$H$21,2,FALSE))","v":""},null,{"$f":"IF(E3875=\"\",\"\",VLOOKUP(E3875,PARAMETROS!$I$3:$J$21,2,FALSE))","v":""},null,null,null,null,null,null,""]
[null,{"$f":"IF(A3876=\"\",\"\",VLOOKUP(A3876,PARAMETROS!$B$3:$C$3,2,FALSE))","v":""},null,{"$f":"IF(C3876=\"\",\"\",VLOOKUP(C3876,PARAMETROS!$G$3:$H$21,2,FALSE))","v":""},null,{"$f":"IF(E3876=\"\",\"\",VLOOKUP(E3876,PARAMETROS!$I$3:$J$21,2,FALSE))","v":""},null,null,null,null,null,null,""]
[null,{"$f":"IF(A3877=\"\",\"\",VLOOKUP(A3877,PARAMETROS!$B$3:$C$3,2,FALSE))","v":""},null,{"$f":"IF(C3877=\"\",\"\",VLOOKUP(C3877,PARAMETROS!$G$3:$H$21,2,FALSE))","v":""},null,{"$f":"IF(E3877=\"\",\"\",VLOOKUP(E3877,PARAMETROS!$I$3:$J$21,2,FALSE))","v":""},null,null,null,null,null,null,""]
[null,{"$f":"IF(A3878=\"\",\"\",VLOOKUP(A3878,PARAMETROS!$B$3:$C$3,2,FALSE))","v":""},null,{"$f":"IF(C3878=\"\",\"\",VLOOKUP(C3878,PARAMETROS!$G$3:$H$21,2,FALSE))","v":""},null,{"$f":"IF(E3878=\"\",\"\",VLOOKUP(E3878,PARAMETROS!$I$3:$J$21,2,FALSE))","v":""},null,null,null,null,null,null,""]
[null,{"$f":"IF(A3879=\"\",\"\",VLOOKUP(A3879,PARAMETROS!$B$3:$C$3,2,FALSE))","v":""},null,{"$f":"IF(C3879=\"\",\"\",VLOOKUP(C3879,PARAMETROS!$G$3:$H$21,2,FALSE))","v":""},null,{"$f":"IF(E3879=\"\",\"\",VLOOKUP(E3879,PARAMETROS!$I$3:$J$21,2,FALSE))","v":""},null,null,null,null,null,null,""]
[null,{"$f":"IF(A3880=\"\",\"\",VLOOKUP(A3880,PARAMETROS!$B$3:$C$3,2,FALSE))","v":""},null,{"$f":"IF(C3880=\"\",\"\",VLOOKUP(C3880,PARAMETROS!$G$3:$H$21,2,FALSE))","v":""},null,{"$f":"IF(E3880=\"\",\"\",VLOOKUP(E3880,PARAMETROS!$I$3:$J$21,2,FALSE))","v":""},null,null,null,null,null,null,""]
[null,{"$f":"IF(A3881=\"\",\"\",VLOOKUP(A3881,PARAMETROS!$B$3:$C$3,2,FALSE))","v":""},null,{"$f":"IF(C3881=\"\",\"\",VLOOKUP(C3881,PARAMETROS!$G$3:$H$21,2,FALSE))","v":""},null,{"$f":"IF(E3881=\"\",\"\",VLOOKUP(E3881,PARAMETROS!$I$3:$J$21,2,FALSE))","v":""},null,null,null,null,null,null,""]
[null,{"$f":"IF(A3882=\"\",\"\",VLOOKUP(A3882,PARAMETROS!$B$3:$C$3,2,FALSE))","v":""},null,{"$f":"IF(C3882=\"\",\"\",VLOOKUP(C3882,PARAMETROS!$G$3:$H$21,2,FALSE))","v":""},null,{"$f":"IF(E3882=\"\",\"\",VLOOKUP(E3882,PARAMETROS!$I$3:$J$21,2,FALSE))","v":""},null,null,null,null,null,null,""]
[null,{"$f":"IF(A3883=\"\",\"\",VLOOKUP(A3883,PARAMETROS!$B$3:$C$3,2,FALSE))","v":""},null,{"$f":"IF(C3883=\"\",\"\",VLOOKUP(C3883,PARAMETROS!$G$3:$H$21,2,FALSE))","v":""},null,{"$f":"IF(E3883=\"\",\"\",VLOOKUP(E3883,PARAMETROS!$I$3:$J$21,2,FALSE))","v":""},null,null,null,null,null,null,""]
[null,{"$f":"IF(A3884=\"\",\"\",VLOOKUP(A3884,PARAMETROS!$B$3:$C$3,2,FALSE))","v":""},null,{"$f":"IF(C3884=\"\",\"\",VLOOKUP(C3884,PARAMETROS!$G$3:$H$21,2,FALSE))","v":""},null,{"$f":"IF(E3884=\"\",\"\",VLOOKUP(E3884,PARAMETROS!$I$3:$J$21,2,FALSE))","v":""},null,null,null,null,null,null,""]
[null,{"$f":"IF(A3885=\"\",\"\",VLOOKUP(A3885,PARAMETROS!$B$3:$C$3,2,FALSE))","v":""},null,{"$f":"IF(C3885=\"\",\"\",VLOOKUP(C3885,PARAMETROS!$G$3:$H$21,2,FALSE))","v":""},null,{"$f":"IF(E3885=\"\",\"\",VLOOKUP(E3885,PARAMETROS!$I$3:$J$21,2,FALSE))","v":""},null,null,null,null,null,null,""]
[null,{"$f":"IF(A3886=\"\",\"\",VLOOKUP(A3886,PARAMETROS!$B$3:$C$3,2,FALSE))","v":""},null,{"$f":"IF(C3886=\"\",\"\",VLOOKUP(C3886,PARAMETROS!$G$3:$H$21,2,FALSE))","v":""},null,{"$f":"IF(E3886=\"\",\"\",VLOOKUP(E3886,PARAMETROS!$I$3:$J$21,2,FALSE))","v":""},null,null,null,null,null,null,""]
[null,{"$f":"IF(A3887=\"\",\"\",VLOOKUP(A3887,PARAMETROS!$B$3:$C$3,2,FALSE))","v":""},null,{"$f":"IF(C3887=\"\",\"\",VLOOKUP(C3887,PARAMETROS!$G$3:$H$21,2,FALSE))","v":""},null,{"$f":"IF(E3887=\"\",\"\",VLOOKUP(E3887,PARAMETROS!$I$3:$J$21,2,FALSE))","v":""},null,null,null,null,null,null,""]
[null,{"$f":"IF(A3888=\"\",\"\",VLOOKUP(A3888,PARAMETROS!$B$3:$C$3,2,FALSE))","v":""},null,{"$f":"IF(C3888=\"\",\"\",VLOOKUP(C3888,PARAMETROS!$G$3:$H$21,2,FALSE))","v":""},null,{"$f":"IF(E3888=\"\",\"\",VLOOKUP(E3888,PARAMETROS!$I$3:$J$21,2,FALSE))","v":""},null,null,null,null,null,null,""]
[null,{"$f":"IF(A3889=\"\",\"\",VLOOKUP(A3889,PARAMETROS!$B$3:$C$3,2,FALSE))","v":""},null,{"$f":"IF(C3889=\"\",\"\",VLOOKUP(C3889,PARAMETROS!$G$3:$H$21,2,FALSE))","v":""},null,{"$f":"IF(E3889=\"\",\"\",VLOOKUP(E3889,PARAMETROS!$I$3:$J$21,2,FALSE))","v":""},null,null,null,null,null,null,""]
[null,{"$f":"IF(A3890=\"\",\"\",VLOOKUP(A3890,PARAMETROS!$B$3:$C$3,2,FALSE))","v":""},null,{"$f":"IF(C3890=\"\",\"\",VLOOKUP(C3890,PARAMETROS!$G$3:$H$21,2,FALSE))","v":""},null,{"$f":"IF(E3890=\"\",\"\",VLOOKUP(E3890,PARAMETROS!$I$3:$J$21,2,FALSE))","v":""},null,null,null,null,null,null,""]
[null,{"$f":"IF(A3891=\"\",\"\",VLOOKUP(A3891,PARAMETROS!$B$3:$C$3,2,FALSE))","v":""},null,{"$f":"IF(C3891=\"\",\"\",VLOOKUP(C3891,PARAMETROS!$G$3:$H$21,2,FALSE))","v":""},null,{"$f":"IF(E3891=\"\",\"\",VLOOKUP(E3891,PARAMETROS!$I$3:$J$21,2,FALSE))","v":""},null,null,null,null,null,null,""]
[null,{"$f":"IF(A3892=\"\",\"\",VLOOKUP(A3892,PARAMETROS!$B$3:$C$3,2,FALSE))","v":""},null,{"$f":"IF(C3892=\"\",\"\",VLOOKUP(C3892,PARAMETROS!$G$3:$H$21,2,FALSE))","v":""},null,{"$f":"IF(E3892=\"\",\"\",VLOOKUP(E3892,PARAMETROS!$I$3:$J$21,2,FALSE))","v":""},null,null,null,null,null,null,""]
[null,{"$f":"IF(A3893=\"\",\"\",VLOOKUP(A3893,PARAMETROS!$B$3:$C$3,2,FALSE))","v":""},null,{"$f":"IF(C3893=\"\",\"\",VLOOKUP(C3893,PARAMETROS!$G$3:$H$21,2,FALSE))","v":""},null,{"$f":"IF(E3893=\"\",\"\",VLOOKUP(E3893,PARAMETROS!$I$3:$J$21,2,FALSE))","v":""},null,null,null,null,null,null,""]
[null,{"$f":"IF(A3894=\"\",\"\",VLOOKUP(A3894,PARAMETROS!$B$3:$C$3,2,FALSE))","v":""},null,{"$f":"IF(C3894=\"\",\"\",VLOOKUP(C3894,PARAMETROS!$G$3:$H$21,2,FALSE))","v":""},null,{"$f":"IF(E3894=\"\",\"\",VLOOKUP(E3894,PARAMETROS!$I$3:$J$21,2,FALSE))","v":""},null,null,null,null,null,null,""]
[null,{"$f":"IF(A3895=\"\",\"\",VLOOKUP(A3895,PARAMETROS!$B$3:$C$3,2,FALSE))","v":""},null,{"$f":"IF(C3895=\"\",\"\",VLOOKUP(C3895,PARAMETROS!$G$3:$H$21,2,FALSE))","v":""},null,{"$f":"IF(E3895=\"\",\"\",VLOOKUP(E3895,PARAMETROS!$I$3:$J$21,2,FALSE))","v":""},null,null,null,null,null,null,""]
[null,{"$f":"IF(A3896=\"\",\"\",VLOOKUP(A3896,PARAMETROS!$B$3:$C$3,2,FALSE))","v":""},null,{"$f":"IF(C3896=\"\",\"\",VLOOKUP(C3896,PARAMETROS!$G$3:$H$21,2,FALSE))","v":""},null,{"$f":"IF(E3896=\"\",\"\",VLOOKUP(E3896,PARAMETROS!$I$3:$J$21,2,FALSE))","v":""},null,null,null,null,null,null,""]
[null,{"$f":"IF(A3897=\"\",\"\",VLOOKUP(A3897,PARAMETROS!$B$3:$C$3,2,FALSE))","v":""},null,{"$f":"IF(C3897=\"\",\"\",VLOOKUP(C3897,PARAMETROS!$G$3:$H$21,2,FALSE))","v":""},null,{"$f":"IF(E3897=\"\",\"\",VLOOKUP(E3897,PARAMETROS!$I$3:$J$21,2,FALSE))","v":""},null,null,null,null,null,null,""]
[null,{"$f":"IF(A3898=\"\",\"\",VLOOKUP(A3898,PARAMETROS!$B$3:$C$3,2,FALSE))","v":""},null,{"$f":"IF(C3898=\"\",\"\",VLOOKUP(C3898,PARAMETROS!$G$3:$H$21,2,FALSE))","v":""},null,{"$f":"IF(E3898=\"\",\"\",VLOOKUP(E3898,PARAMETROS!$I$3:$J$21,2,FALSE))","v":""},null,null,null,null,null,null,""]
[null,{"$f":"IF(A3899=\"\",\"\",VLOOKUP(A3899,PARAMETROS!$B$3:$C$3,2,FALSE))","v":""},null,{"$f":"IF(C3899=\"\",\"\",VLOOKUP(C3899,PARAMETROS!$G$3:$H$21,2,FALSE))","v":""},null,{"$f":"IF(E3899=\"\",\"\",VLOOKUP(E3899,PARAMETROS!$I$3:$J$21,2,FALSE))","v":""},null,null,null,null,null,null,""]
[null,{"$f":"IF(A3900=\"\",\"\",VLOOKUP(A3900,PARAMETROS!$B$3:$C$3,2,FALSE))","v":""},null,{"$f":"IF(C3900=\"\",\"\",VLOOKUP(C3900,PARAMETROS!$G$3:$H$21,2,FALSE))","v":""},null,{"$f":"IF(E3900=\"\",\"\",VLOOKUP(E3900,PARAMETROS!$I$3:$J$21,2,FALSE))","v":""},null,null,null,null,null,null,""]
[null,{"$f":"IF(A3901=\"\",\"\",VLOOKUP(A3901,PARAMETROS!$B$3:$C$3,2,FALSE))","v":""},null,{"$f":"IF(C3901=\"\",\"\",VLOOKUP(C3901,PARAMETROS!$G$3:$H$21,2,FALSE))","v":""},null,{"$f":"IF(E3901=\"\",\"\",VLOOKUP(E3901,PARAMETROS!$I$3:$J$21,2,FALSE))","v":""},null,null,null,null,null,null,""]
[null,{"$f":"IF(A3902=\"\",\"\",VLOOKUP(A3902,PARAMETROS!$B$3:$C$3,2,FALSE))","v":""},null,{"$f":"IF(C3902=\"\",\"\",VLOOKUP(C3902,PARAMETROS!$G$3:$H$21,2,FALSE))","v":""},null,{"$f":"IF(E3902=\"\",\"\",VLOOKUP(E3902,PARAMETROS!$I$3:$J$21,2,FALSE))","v":""},null,null,null,null,null,null,""]
[null,{"$f":"IF(A3903=\"\",\"\",VLOOKUP(A3903,PARAMETROS!$B$3:$C$3,2,FALSE))","v":""},null,{"$f":"IF(C3903=\"\",\"\",VLOOKUP(C3903,PARAMETROS!$G$3:$H$21,2,FALSE))","v":""},null,{"$f":"IF(E3903=\"\",\"\",VLOOKUP(E3903,PARAMETROS!$I$3:$J$21,2,FALSE))","v":""},null,null,null,null,null,null,""]
[null,{"$f":"IF(A3904=\"\",\"\",VLOOKUP(A3904,PARAMETROS!$B$3:$C$3,2,FALSE))","v":""},null,{"$f":"IF(C3904=\"\",\"\",VLOOKUP(C3904,PARAMETROS!$G$3:$H$21,2,FALSE))","v":""},null,{"$f":"IF(E3904=\"\",\"\",VLOOKUP(E3904,PARAMETROS!$I$3:$J$21,2,FALSE))","v":""},null,null,null,null,null,null,""]
[null,{"$f":"IF(A3905=\"\",\"\",VLOOKUP(A3905,PARAMETROS!$B$3:$C$3,2,FALSE))","v":""},null,{"$f":"IF(C3905=\"\",\"\",VLOOKUP(C3905,PARAMETROS!$G$3:$H$21,2,FALSE))","v":""},null,{"$f":"IF(E3905=\"\",\"\",VLOOKUP(E3905,PARAMETROS!$I$3:$J$21,2,FALSE))","v":""},null,null,null,null,null,null,""]
[null,{"$f":"IF(A3906=\"\",\"\",VLOOKUP(A3906,PARAMETROS!$B$3:$C$3,2,FALSE))","v":""},null,{"$f":"IF(C3906=\"\",\"\",VLOOKUP(C3906,PARAMETROS!$G$3:$H$21,2,FALSE))","v":""},null,{"$f":"IF(E3906=\"\",\"\",VLOOKUP(E3906,PARAMETROS!$I$3:$J$21,2,FALSE))","v":""},null,null,null,null,null,null,""]
[null,{"$f":"IF(A3907=\"\",\"\",VLOOKUP(A3907,PARAMETROS!$B$3:$C$3,2,FALSE))","v":""},null,{"$f":"IF(C3907=\"\",\"\",VLOOKUP(C3907,PARAMETROS!$G$3:$H$21,2,FALSE))","v":""},null,{"$f":"IF(E3907=\"\",\"\",VLOOKUP(E3907,PARAMETROS!$I$3:$J$21,2,FALSE))","v":""},null,null,null,null,null,null,""]
[null,{"$f":"IF(A3908=\"\",\"\",VLOOKUP(A3908,PARAMETROS!$B$3:$C$3,2,FALSE))","v":""},null,{"$f":"IF(C3908=\"\",\"\",VLOOKUP(C3908,PARAMETROS!$G$3:$H$21,2,FALSE))","v":""},null,{"$f":"IF(E3908=\"\",\"\",VLOOKUP(E3908,PARAMETROS!$I$3:$J$21,2,FALSE))","v":""},null,null,null,null,null,null,""]
[null,{"$f":"IF(A3909=\"\",\"\",VLOOKUP(A3909,PARAMETROS!$B$3:$C$3,2,FALSE))","v":""},null,{"$f":"IF(C3909=\"\",\"\",VLOOKUP(C3909,PARAMETROS!$G$3:$H$21,2,FALSE))","v":""},null,{"$f":"IF(E3909=\"\",\"\",VLOOKUP(E3909,PARAMETROS!$I$3:$J$21,2,FALSE))","v":""},null,null,null,null,null,null,""]
[null,{"$f":"IF(A3910=\"\",\"\",VLOOKUP(A3910,PARAMETROS!$B$3:$C$3,2,FALSE))","v":""},null,{"$f":"IF(C3910=\"\",\"\",VLOOKUP(C3910,PARAMETROS!$G$3:$H$21,2,FALSE))","v":""},null,{"$f":"IF(E3910=\"\",\"\",VLOOKUP(E3910,PARAMETROS!$I$3:$J$21,2,FALSE))","v":""},null,null,null,null,null,null,""]
[null,{"$f":"IF(A3911=\"\",\"\",VLOOKUP(A3911,PARAMETROS!$B$3:$C$3,2,FALSE))","v":""},null,{"$f":"IF(C3911=\"\",\"\",VLOOKUP(C3911,PARAMETROS!$G$3:$H$21,2,FALSE))","v":""},null,{"$f":"IF(E3911=\"\",\"\",VLOOKUP(E3911,PARAMETROS!$I$3:$J$21,2,FALSE))","v":""},null,null,null,null,null,null,""]
[null,{"$f":"IF(A3912=\"\",\"\",VLOOKUP(A3912,PARAMETROS!$B$3:$C$3,2,FALSE))","v":""},null,{"$f":"IF(C3912=\"\",\"\",VLOOKUP(C3912,PARAMETROS!$G$3:$H$21,2,FALSE))","v":""},null,{"$f":"IF(E3912=\"\",\"\",VLOOKUP(E3912,PARAMETROS!$I$3:$J$21,2,FALSE))","v":""},null,null,null,null,null,null,""]
[null,{"$f":"IF(A3913=\"\",\"\",VLOOKUP(A3913,PARAMETROS!$B$3:$C$3,2,FALSE))","v":""},null,{"$f":"IF(C3913=\"\",\"\",VLOOKUP(C3913,PARAMETROS!$G$3:$H$21,2,FALSE))","v":""},null,{"$f":"IF(E3913=\"\",\"\",VLOOKUP(E3913,PARAMETROS!$I$3:$J$21,2,FALSE))","v":""},null,null,null,null,null,null,""]
[null,{"$f":"IF(A3914=\"\",\"\",VLOOKUP(A3914,PARAMETROS!$B$3:$C$3,2,FALSE))","v":""},null,{"$f":"IF(C3914=\"\",\"\",VLOOKUP(C3914,PARAMETROS!$G$3:$H$21,2,FALSE))","v":""},null,{"$f":"IF(E3914=\"\",\"\",VLOOKUP(E3914,PARAMETROS!$I$3:$J$21,2,FALSE))","v":""},null,null,null,null,null,null,""]
[null,{"$f":"IF(A3915=\"\",\"\",VLOOKUP(A3915,PARAMETROS!$B$3:$C$3,2,FALSE))","v":""},null,{"$f":"IF(C3915=\"\",\"\",VLOOKUP(C3915,PARAMETROS!$G$3:$H$21,2,FALSE))","v":""},null,{"$f":"IF(E3915=\"\",\"\",VLOOKUP(E3915,PARAMETROS!$I$3:$J$21,2,FALSE))","v":""},null,null,null,null,null,null,""]
[null,{"$f":"IF(A3916=\"\",\"\",VLOOKUP(A3916,PARAMETROS!$B$3:$C$3,2,FALSE))","v":""},null,{"$f":"IF(C3916=\"\",\"\",VLOOKUP(C3916,PARAMETROS!$G$3:$H$21,2,FALSE))","v":""},null,{"$f":"IF(E3916=\"\",\"\",VLOOKUP(E3916,PARAMETROS!$I$3:$J$21,2,FALSE))","v":""},null,null,null,null,null,null,""]
[null,{"$f":"IF(A3917=\"\",\"\",VLOOKUP(A3917,PARAMETROS!$B$3:$C$3,2,FALSE))","v":""},null,{"$f":"IF(C3917=\"\",\"\",VLOOKUP(C3917,PARAMETROS!$G$3:$H$21,2,FALSE))","v":""},null,{"$f":"IF(E3917=\"\",\"\",VLOOKUP(E3917,PARAMETROS!$I$3:$J$21,2,FALSE))","v":""},null,null,null,null,null,null,""]
[null,{"$f":"IF(A3918=\"\",\"\",VLOOKUP(A3918,PARAMETROS!$B$3:$C$3,2,FALSE))","v":""},null,{"$f":"IF(C3918=\"\",\"\",VLOOKUP(C3918,PARAMETROS!$G$3:$H$21,2,FALSE))","v":""},null,{"$f":"IF(E3918=\"\",\"\",VLOOKUP(E3918,PARAMETROS!$I$3:$J$21,2,FALSE))","v":""},null,null,null,null,null,null,""]
[null,{"$f":"IF(A3919=\"\",\"\",VLOOKUP(A3919,PARAMETROS!$B$3:$C$3,2,FALSE))","v":""},null,{"$f":"IF(C3919=\"\",\"\",VLOOKUP(C3919,PARAMETROS!$G$3:$H$21,2,FALSE))","v":""},null,{"$f":"IF(E3919=\"\",\"\",VLOOKUP(E3919,PARAMETROS!$I$3:$J$21,2,FALSE))","v":""},null,null,null,null,null,null,{"$f":"IF(L3919=\"\", \"\", L3919)","v":""}]
[null,{"$f":"IF(A3920=\"\",\"\",VLOOKUP(A3920,PARAMETROS!$B$3:$C$3,2,FALSE))","v":""},null,{"$f":"IF(C3920=\"\",\"\",VLOOKUP(C3920,PARAMETROS!$G$3:$H$21,2,FALSE))","v":""},null,{"$f":"IF(E3920=\"\",\"\",VLOOKUP(E3920,PARAMETROS!$I$3:$J$21,2,FALSE))","v":""},null,null,null,null,null,null,""]
[null,{"$f":"IF(A3921=\"\",\"\",VLOOKUP(A3921,PARAMETROS!$B$3:$C$3,2,FALSE))","v":""},null,{"$f":"IF(C3921=\"\",\"\",VLOOKUP(C3921,PARAMETROS!$G$3:$H$21,2,FALSE))","v":""},null,{"$f":"IF(E3921=\"\",\"\",VLOOKUP(E3921,PARAMETROS!$I$3:$J$21,2,FALSE))","v":""},null,null,null,null,null,null,""]
[null,{"$f":"IF(A3922=\"\",\"\",VLOOKUP(A3922,PARAMETROS!$B$3:$C$3,2,FALSE))","v":""},null,{"$f":"IF(C3922=\"\",\"\",VLOOKUP(C3922,PARAMETROS!$G$3:$H$21,2,FALSE))","v":""},null,{"$f":"IF(E3922=\"\",\"\",VLOOKUP(E3922,PARAMETROS!$I$3:$J$21,2,FALSE))","v":""},null,null,null,null,null,null,""]
[null,{"$f":"IF(A3923=\"\",\"\",VLOOKUP(A3923,PARAMETROS!$B$3:$C$3,2,FALSE))","v":""},null,{"$f":"IF(C3923=\"\",\"\",VLOOKUP(C3923,PARAMETROS!$G$3:$H$21,2,FALSE))","v":""},null,{"$f":"IF(E3923=\"\",\"\",VLOOKUP(E3923,PARAMETROS!$I$3:$J$21,2,FALSE))","v":""},null,null,null,null,null,null,""]
[null,{"$f":"IF(A3924=\"\",\"\",VLOOKUP(A3924,PARAMETROS!$B$3:$C$3,2,FALSE))","v":""},null,{"$f":"IF(C3924=\"\",\"\",VLOOKUP(C3924,PARAMETROS!$G$3:$H$21,2,FALSE))","v":""},null,{"$f":"IF(E3924=\"\",\"\",VLOOKUP(E3924,PARAMETROS!$I$3:$J$21,2,FALSE))","v":""},null,null,null,null,null,null,""]
[null,{"$f":"IF(A3925=\"\",\"\",VLOOKUP(A3925,PARAMETROS!$B$3:$C$3,2,FALSE))","v":""},null,{"$f":"IF(C3925=\"\",\"\",VLOOKUP(C3925,PARAMETROS!$G$3:$H$21,2,FALSE))","v":""},null,{"$f":"IF(E3925=\"\",\"\",VLOOKUP(E3925,PARAMETROS!$I$3:$J$21,2,FALSE))","v":""},null,null,null,null,null,null,""]
[null,{"$f":"IF(A3926=\"\",\"\",VLOOKUP(A3926,PARAMETROS!$B$3:$C$3,2,FALSE))","v":""},null,{"$f":"IF(C3926=\"\",\"\",VLOOKUP(C3926,PARAMETROS!$G$3:$H$21,2,FALSE))","v":""},null,{"$f":"IF(E3926=\"\",\"\",VLOOKUP(E3926,PARAMETROS!$I$3:$J$21,2,FALSE))","v":""},null,null,null,null,null,null,""]
[null,{"$f":"IF(A3927=\"\",\"\",VLOOKUP(A3927,PARAMETROS!$B$3:$C$3,2,FALSE))","v":""},null,{"$f":"IF(C3927=\"\",\"\",VLOOKUP(C3927,PARAMETROS!$G$3:$H$21,2,FALSE))","v":""},null,{"$f":"IF(E3927=\"\",\"\",VLOOKUP(E3927,PARAMETROS!$I$3:$J$21,2,FALSE))","v":""},null,null,null,null,null,null,""]
[null,{"$f":"IF(A3928=\"\",\"\",VLOOKUP(A3928,PARAMETROS!$B$3:$C$3,2,FALSE))","v":""},null,{"$f":"IF(C3928=\"\",\"\",VLOOKUP(C3928,PARAMETROS!$G$3:$H$21,2,FALSE))","v":""},null,{"$f":"IF(E3928=\"\",\"\",VLOOKUP(E3928,PARAMETROS!$I$3:$J$21,2,FALSE))","v":""},null,null,null,null,null,null,""]
[null,{"$f":"IF(A3929=\"\",\"\",VLOOKUP(A3929,PARAMETROS!$B$3:$C$3,2,FALSE))","v":""},null,{"$f":"IF(C3929=\"\",\"\",VLOOKUP(C3929,PARAMETROS!$G$3:$H$21,2,FALSE))","v":""},null,{"$f":"IF(E3929=\"\",\"\",VLOOKUP(E3929,PARAMETROS!$I$3:$J$21,2,FALSE))","v":""},null,null,null,null,null,null,""]
[null,{"$f":"IF(A3930=\"\",\"\",VLOOKUP(A3930,PARAMETROS!$B$3:$C$3,2,FALSE))","v":""},null,{"$f":"IF(C3930=\"\",\"\",VLOOKUP(C3930,PARAMETROS!$G$3:$H$21,2,FALSE))","v":""},null,{"$f":"IF(E3930=\"\",\"\",VLOOKUP(E3930,PARAMETROS!$I$3:$J$21,2,FALSE))","v":""},null,null,null,null,null,null,""]
[null,{"$f":"IF(A3931=\"\",\"\",VLOOKUP(A3931,PARAMETROS!$B$3:$C$3,2,FALSE))","v":""},null,{"$f":"IF(C3931=\"\",\"\",VLOOKUP(C3931,PARAMETROS!$G$3:$H$21,2,FALSE))","v":""},null,{"$f":"IF(E3931=\"\",\"\",VLOOKUP(E3931,PARAMETROS!$I$3:$J$21,2,FALSE))","v":""},null,null,null,null,null,null,""]
[null,{"$f":"IF(A3932=\"\",\"\",VLOOKUP(A3932,PARAMETROS!$B$3:$C$3,2,FALSE))","v":""},null,{"$f":"IF(C3932=\"\",\"\",VLOOKUP(C3932,PARAMETROS!$G$3:$H$21,2,FALSE))","v":""},null,{"$f":"IF(E3932=\"\",\"\",VLOOKUP(E3932,PARAMETROS!$I$3:$J$21,2,FALSE))","v":""},null,null,null,null,null,null,""]
[null,{"$f":"IF(A3933=\"\",\"\",VLOOKUP(A3933,PARAMETROS!$B$3:$C$3,2,FALSE))","v":""},null,{"$f":"IF(C3933=\"\",\"\",VLOOKUP(C3933,PARAMETROS!$G$3:$H$21,2,FALSE))","v":""},null,{"$f":"IF(E3933=\"\",\"\",VLOOKUP(E3933,PARAMETROS!$I$3:$J$21,2,FALSE))","v":""},null,null,null,null,null,null,""]
[null,{"$f":"IF(A3934=\"\",\"\",VLOOKUP(A3934,PARAMETROS!$B$3:$C$3,2,FALSE))","v":""},null,{"$f":"IF(C3934=\"\",\"\",VLOOKUP(C3934,PARAMETROS!$G$3:$H$21,2,FALSE))","v":""},null,{"$f":"IF(E3934=\"\",\"\",VLOOKUP(E3934,PARAMETROS!$I$3:$J$21,2,FALSE))","v":""},null,null,null,null,null,null,""]
[null,{"$f":"IF(A3935=\"\",\"\",VLOOKUP(A3935,PARAMETROS!$B$3:$C$3,2,FALSE))","v":""},null,{"$f":"IF(C3935=\"\",\"\",VLOOKUP(C3935,PARAMETROS!$G$3:$H$21,2,FALSE))","v":""},null,{"$f":"IF(E3935=\"\",\"\",VLOOKUP(E3935,PARAMETROS!$I$3:$J$21,2,FALSE))","v":""},null,null,null,null,null,null,""]
[null,{"$f":"IF(A3936=\"\",\"\",VLOOKUP(A3936,PARAMETROS!$B$3:$C$3,2,FALSE))","v":""},null,{"$f":"IF(C3936=\"\",\"\",VLOOKUP(C3936,PARAMETROS!$G$3:$H$21,2,FALSE))","v":""},null,{"$f":"IF(E3936=\"\",\"\",VLOOKUP(E3936,PARAMETROS!$I$3:$J$21,2,FALSE))","v":""},null,null,null,null,null,null,""]
[null,{"$f":"IF(A3937=\"\",\"\",VLOOKUP(A3937,PARAMETROS!$B$3:$C$3,2,FALSE))","v":""},null,{"$f":"IF(C3937=\"\",\"\",VLOOKUP(C3937,PARAMETROS!$G$3:$H$21,2,FALSE))","v":""},null,{"$f":"IF(E3937=\"\",\"\",VLOOKUP(E3937,PARAMETROS!$I$3:$J$21,2,FALSE))","v":""},null,null,null,null,null,null,""]
[null,{"$f":"IF(A3938=\"\",\"\",VLOOKUP(A3938,PARAMETROS!$B$3:$C$3,2,FALSE))","v":""},null,{"$f":"IF(C3938=\"\",\"\",VLOOKUP(C3938,PARAMETROS!$G$3:$H$21,2,FALSE))","v":""},null,{"$f":"IF(E3938=\"\",\"\",VLOOKUP(E3938,PARAMETROS!$I$3:$J$21,2,FALSE))","v":""},null,null,null,null,null,null,""]
[null,{"$f":"IF(A3939=\"\",\"\",VLOOKUP(A3939,PARAMETROS!$B$3:$C$3,2,FALSE))","v":""},null,{"$f":"IF(C3939=\"\",\"\",VLOOKUP(C3939,PARAMETROS!$G$3:$H$21,2,FALSE))","v":""},null,{"$f":"IF(E3939=\"\",\"\",VLOOKUP(E3939,PARAMETROS!$I$3:$J$21,2,FALSE))","v":""},null,null,null,null,null,null,""]
[null,{"$f":"IF(A3940=\"\",\"\",VLOOKUP(A3940,PARAMETROS!$B$3:$C$3,2,FALSE))","v":""},null,{"$f":"IF(C3940=\"\",\"\",VLOOKUP(C3940,PARAMETROS!$G$3:$H$21,2,FALSE))","v":""},null,{"$f":"IF(E3940=\"\",\"\",VLOOKUP(E3940,PARAMETROS!$I$3:$J$21,2,FALSE))","v":""},null,null,null,null,null,null,""]
[null,{"$f":"IF(A3941=\"\",\"\",VLOOKUP(A3941,PARAMETROS!$B$3:$C$3,2,FALSE))","v":""},null,{"$f":"IF(C3941=\"\",\"\",VLOOKUP(C3941,PARAMETROS!$G$3:$H$21,2,FALSE))","v":""},null,{"$f":"IF(E3941=\"\",\"\",VLOOKUP(E3941,PARAMETROS!$I$3:$J$21,2,FALSE))","v":""},null,null,null,null,null,null,""]
[null,{"$f":"IF(A3942=\"\",\"\",VLOOKUP(A3942,PARAMETROS!$B$3:$C$3,2,FALSE))","v":""},null,{"$f":"IF(C3942=\"\",\"\",VLOOKUP(C3942,PARAMETROS!$G$3:$H$21,2,FALSE))","v":""},null,{"$f":"IF(E3942=\"\",\"\",VLOOKUP(E3942,PARAMETROS!$I$3:$J$21,2,FALSE))","v":""},null,null,null,null,null,null,""]
[null,{"$f":"IF(A3943=\"\",\"\",VLOOKUP(A3943,PARAMETROS!$B$3:$C$3,2,FALSE))","v":""},null,{"$f":"IF(C3943=\"\",\"\",VLOOKUP(C3943,PARAMETROS!$G$3:$H$21,2,FALSE))","v":""},null,{"$f":"IF(E3943=\"\",\"\",VLOOKUP(E3943,PARAMETROS!$I$3:$J$21,2,FALSE))","v":""},null,null,null,null,null,null,""]
[null,{"$f":"IF(A3944=\"\",\"\",VLOOKUP(A3944,PARAMETROS!$B$3:$C$3,2,FALSE))","v":""},null,{"$f":"IF(C3944=\"\",\"\",VLOOKUP(C3944,PARAMETROS!$G$3:$H$21,2,FALSE))","v":""},null,{"$f":"IF(E3944=\"\",\"\",VLOOKUP(E3944,PARAMETROS!$I$3:$J$21,2,FALSE))","v":""},null,null,null,null,null,null,""]
[null,{"$f":"IF(A3945=\"\",\"\",VLOOKUP(A3945,PARAMETROS!$B$3:$C$3,2,FALSE))","v":""},null,{"$f":"IF(C3945=\"\",\"\",VLOOKUP(C3945,PARAMETROS!$G$3:$H$21,2,FALSE))","v":""},null,{"$f":"IF(E3945=\"\",\"\",VLOOKUP(E3945,PARAMETROS!$I$3:$J$21,2,FALSE))","v":""},null,null,null,null,null,null,""]
[null,{"$f":"IF(A3946=\"\",\"\",VLOOKUP(A3946,PARAMETROS!$B$3:$C$3,2,FALSE))","v":""},null,{"$f":"IF(C3946=\"\",\"\",VLOOKUP(C3946,PARAMETROS!$G$3:$H$21,2,FALSE))","v":""},null,{"$f":"IF(E3946=\"\",\"\",VLOOKUP(E3946,PARAMETROS!$I$3:$J$21,2,FALSE))","v":""},null,null,null,null,null,null,""]
[null,{"$f":"IF(A3947=\"\",\"\",VLOOKUP(A3947,PARAMETROS!$B$3:$C$3,2,FALSE))","v":""},null,{"$f":"IF(C3947=\"\",\"\",VLOOKUP(C3947,PARAMETROS!$G$3:$H$21,2,FALSE))","v":""},null,{"$f":"IF(E3947=\"\",\"\",VLOOKUP(E3947,PARAMETROS!$I$3:$J$21,2,FALSE))","v":""},null,null,null,null,null,null,""]
[null,{"$f":"IF(A3948=\"\",\"\",VLOOKUP(A3948,PARAMETROS!$B$3:$C$3,2,FALSE))","v":""},null,{"$f":"IF(C3948=\"\",\"\",VLOOKUP(C3948,PARAMETROS!$G$3:$H$21,2,FALSE))","v":""},null,{"$f":"IF(E3948=\"\",\"\",VLOOKUP(E3948,PARAMETROS!$I$3:$J$21,2,FALSE))","v":""},null,null,null,null,null,null,""]
[null,{"$f":"IF(A3949=\"\",\"\",VLOOKUP(A3949,PARAMETROS!$B$3:$C$3,2,FALSE))","v":""},null,{"$f":"IF(C3949=\"\",\"\",VLOOKUP(C3949,PARAMETROS!$G$3:$H$21,2,FALSE))","v":""},null,{"$f":"IF(E3949=\"\",\"\",VLOOKUP(E3949,PARAMETROS!$I$3:$J$21,2,FALSE))","v":""},null,null,null,null,null,null,""]
[null,{"$f":"IF(A3950=\"\",\"\",VLOOKUP(A3950,PARAMETROS!$B$3:$C$3,2,FALSE))","v":""},null,{"$f":"IF(C3950=\"\",\"\",VLOOKUP(C3950,PARAMETROS!$G$3:$H$21,2,FALSE))","v":""},null,{"$f":"IF(E3950=\"\",\"\",VLOOKUP(E3950,PARAMETROS!$I$3:$J$21,2,FALSE))","v":""},null,null,null,null,null,null,""]
[null,{"$f":"IF(A3951=\"\",\"\",VLOOKUP(A3951,PARAMETROS!$B$3:$C$3,2,FALSE))","v":""},null,{"$f":"IF(C3951=\"\",\"\",VLOOKUP(C3951,PARAMETROS!$G$3:$H$21,2,FALSE))","v":""},null,{"$f":"IF(E3951=\"\",\"\",VLOOKUP(E3951,PARAMETROS!$I$3:$J$21,2,FALSE))","v":""},null,null,null,null,null,null,""]
[null,{"$f":"IF(A3952=\"\",\"\",VLOOKUP(A3952,PARAMETROS!$B$3:$C$3,2,FALSE))","v":""},null,{"$f":"IF(C3952=\"\",\"\",VLOOKUP(C3952,PARAMETROS!$G$3:$H$21,2,FALSE))","v":""},null,{"$f":"IF(E3952=\"\",\"\",VLOOKUP(E3952,PARAMETROS!$I$3:$J$21,2,FALSE))","v":""},null,null,null,null,null,null,""]
[null,{"$f":"IF(A3953=\"\",\"\",VLOOKUP(A3953,PARAMETROS!$B$3:$C$3,2,FALSE))","v":""},null,{"$f":"IF(C3953=\"\",\"\",VLOOKUP(C3953,PARAMETROS!$G$3:$H$21,2,FALSE))","v":""},null,{"$f":"IF(E3953=\"\",\"\",VLOOKUP(E3953,PARAMETROS!$I$3:$J$21,2,FALSE))","v":""},null,null,null,null,null,null,""]
[null,{"$f":"IF(A3954=\"\",\"\",VLOOKUP(A3954,PARAMETROS!$B$3:$C$3,2,FALSE))","v":""},null,{"$f":"IF(C3954=\"\",\"\",VLOOKUP(C3954,PARAMETROS!$G$3:$H$21,2,FALSE))","v":""},null,{"$f":"IF(E3954=\"\",\"\",VLOOKUP(E3954,PARAMETROS!$I$3:$J$21,2,FALSE))","v":""},null,null,null,null,null,null,""]
[null,{"$f":"IF(A3955=\"\",\"\",VLOOKUP(A3955,PARAMETROS!$B$3:$C$3,2,FALSE))","v":""},null,{"$f":"IF(C3955=\"\",\"\",VLOOKUP(C3955,PARAMETROS!$G$3:$H$21,2,FALSE))","v":""},null,{"$f":"IF(E3955=\"\",\"\",VLOOKUP(E3955,PARAMETROS!$I$3:$J$21,2,FALSE))","v":""},null,null,null,null,null,null,""]
[null,{"$f":"IF(A3956=\"\",\"\",VLOOKUP(A3956,PARAMETROS!$B$3:$C$3,2,FALSE))","v":""},null,{"$f":"IF(C3956=\"\",\"\",VLOOKUP(C3956,PARAMETROS!$G$3:$H$21,2,FALSE))","v":""},null,{"$f":"IF(E3956=\"\",\"\",VLOOKUP(E3956,PARAMETROS!$I$3:$J$21,2,FALSE))","v":""},null,null,null,null,null,null,""]
[null,{"$f":"IF(A3957=\"\",\"\",VLOOKUP(A3957,PARAMETROS!$B$3:$C$3,2,FALSE))","v":""},null,{"$f":"IF(C3957=\"\",\"\",VLOOKUP(C3957,PARAMETROS!$G$3:$H$21,2,FALSE))","v":""},null,{"$f":"IF(E3957=\"\",\"\",VLOOKUP(E3957,PARAMETROS!$I$3:$J$21,2,FALSE))","v":""},null,null,null,null,null,null,""]
[null,{"$f":"IF(A3958=\"\",\"\",VLOOKUP(A3958,PARAMETROS!$B$3:$C$3,2,FALSE))","v":""},null,{"$f":"IF(C3958=\"\",\"\",VLOOKUP(C3958,PARAMETROS!$G$3:$H$21,2,FALSE))","v":""},null,{"$f":"IF(E3958=\"\",\"\",VLOOKUP(E3958,PARAMETROS!$I$3:$J$21,2,FALSE))","v":""},null,null,null,null,null,null,""]
[null,{"$f":"IF(A3959=\"\",\"\",VLOOKUP(A3959,PARAMETROS!$B$3:$C$3,2,FALSE))","v":""},null,{"$f":"IF(C3959=\"\",\"\",VLOOKUP(C3959,PARAMETROS!$G$3:$H$21,2,FALSE))","v":""},null,{"$f":"IF(E3959=\"\",\"\",VLOOKUP(E3959,PARAMETROS!$I$3:$J$21,2,FALSE))","v":""},null,null,null,null,null,null,""]
[null,{"$f":"IF(A3960=\"\",\"\",VLOOKUP(A3960,PARAMETROS!$B$3:$C$3,2,FALSE))","v":""},null,{"$f":"IF(C3960=\"\",\"\",VLOOKUP(C3960,PARAMETROS!$G$3:$H$21,2,FALSE))","v":""},null,{"$f":"IF(E3960=\"\",\"\",VLOOKUP(E3960,PARAMETROS!$I$3:$J$21,2,FALSE))","v":""},null,null,null,null,null,null,""]
[null,{"$f":"IF(A3961=\"\",\"\",VLOOKUP(A3961,PARAMETROS!$B$3:$C$3,2,FALSE))","v":""},null,{"$f":"IF(C3961=\"\",\"\",VLOOKUP(C3961,PARAMETROS!$G$3:$H$21,2,FALSE))","v":""},null,{"$f":"IF(E3961=\"\",\"\",VLOOKUP(E3961,PARAMETROS!$I$3:$J$21,2,FALSE))","v":""},null,null,null,null,null,null,""]
[null,{"$f":"IF(A3962=\"\",\"\",VLOOKUP(A3962,PARAMETROS!$B$3:$C$3,2,FALSE))","v":""},null,{"$f":"IF(C3962=\"\",\"\",VLOOKUP(C3962,PARAMETROS!$G$3:$H$21,2,FALSE))","v":""},null,{"$f":"IF(E3962=\"\",\"\",VLOOKUP(E3962,PARAMETROS!$I$3:$J$21,2,FALSE))","v":""},null,null,null,null,null,null,""]
[null,{"$f":"IF(A3963=\"\",\"\",VLOOKUP(A3963,PARAMETROS!$B$3:$C$3,2,FALSE))","v":""},null,{"$f":"IF(C3963=\"\",\"\",VLOOKUP(C3963,PARAMETROS!$G$3:$H$21,2,FALSE))","v":""},null,{"$f":"IF(E3963=\"\",\"\",VLOOKUP(E3963,PARAMETROS!$I$3:$J$21,2,FALSE))","v":""},null,null,null,null,null,null,""]
[null,{"$f":"IF(A3964=\"\",\"\",VLOOKUP(A3964,PARAMETROS!$B$3:$C$3,2,FALSE))","v":""},null,{"$f":"IF(C3964=\"\",\"\",VLOOKUP(C3964,PARAMETROS!$G$3:$H$21,2,FALSE))","v":""},null,{"$f":"IF(E3964=\"\",\"\",VLOOKUP(E3964,PARAMETROS!$I$3:$J$21,2,FALSE))","v":""},null,null,null,null,null,null,""]
[null,{"$f":"IF(A3965=\"\",\"\",VLOOKUP(A3965,PARAMETROS!$B$3:$C$3,2,FALSE))","v":""},null,{"$f":"IF(C3965=\"\",\"\",VLOOKUP(C3965,PARAMETROS!$G$3:$H$21,2,FALSE))","v":""},null,{"$f":"IF(E3965=\"\",\"\",VLOOKUP(E3965,PARAMETROS!$I$3:$J$21,2,FALSE))","v":""},null,null,null,null,null,null,""]
[null,{"$f":"IF(A3966=\"\",\"\",VLOOKUP(A3966,PARAMETROS!$B$3:$C$3,2,FALSE))","v":""},null,{"$f":"IF(C3966=\"\",\"\",VLOOKUP(C3966,PARAMETROS!$G$3:$H$21,2,FALSE))","v":""},null,{"$f":"IF(E3966=\"\",\"\",VLOOKUP(E3966,PARAMETROS!$I$3:$J$21,2,FALSE))","v":""},null,null,null,null,null,null,""]
[null,{"$f":"IF(A3967=\"\",\"\",VLOOKUP(A3967,PARAMETROS!$B$3:$C$3,2,FALSE))","v":""},null,{"$f":"IF(C3967=\"\",\"\",VLOOKUP(C3967,PARAMETROS!$G$3:$H$21,2,FALSE))","v":""},null,{"$f":"IF(E3967=\"\",\"\",VLOOKUP(E3967,PARAMETROS!$I$3:$J$21,2,FALSE))","v":""},null,null,null,null,null,null,""]
[null,{"$f":"IF(A3968=\"\",\"\",VLOOKUP(A3968,PARAMETROS!$B$3:$C$3,2,FALSE))","v":""},null,{"$f":"IF(C3968=\"\",\"\",VLOOKUP(C3968,PARAMETROS!$G$3:$H$21,2,FALSE))","v":""},null,{"$f":"IF(E3968=\"\",\"\",VLOOKUP(E3968,PARAMETROS!$I$3:$J$21,2,FALSE))","v":""},null,null,null,null,null,null,""]
[null,{"$f":"IF(A3969=\"\",\"\",VLOOKUP(A3969,PARAMETROS!$B$3:$C$3,2,FALSE))","v":""},null,{"$f":"IF(C3969=\"\",\"\",VLOOKUP(C3969,PARAMETROS!$G$3:$H$21,2,FALSE))","v":""},null,{"$f":"IF(E3969=\"\",\"\",VLOOKUP(E3969,PARAMETROS!$I$3:$J$21,2,FALSE))","v":""},null,null,null,null,null,null,""]
[null,{"$f":"IF(A3970=\"\",\"\",VLOOKUP(A3970,PARAMETROS!$B$3:$C$3,2,FALSE))","v":""},null,{"$f":"IF(C3970=\"\",\"\",VLOOKUP(C3970,PARAMETROS!$G$3:$H$21,2,FALSE))","v":""},null,{"$f":"IF(E3970=\"\",\"\",VLOOKUP(E3970,PARAMETROS!$I$3:$J$21,2,FALSE))","v":""},null,null,null,null,null,null,""]
[null,{"$f":"IF(A3971=\"\",\"\",VLOOKUP(A3971,PARAMETROS!$B$3:$C$3,2,FALSE))","v":""},null,{"$f":"IF(C3971=\"\",\"\",VLOOKUP(C3971,PARAMETROS!$G$3:$H$21,2,FALSE))","v":""},null,{"$f":"IF(E3971=\"\",\"\",VLOOKUP(E3971,PARAMETROS!$I$3:$J$21,2,FALSE))","v":""},null,null,null,null,null,null,""]
[null,{"$f":"IF(A3972=\"\",\"\",VLOOKUP(A3972,PARAMETROS!$B$3:$C$3,2,FALSE))","v":""},null,{"$f":"IF(C3972=\"\",\"\",VLOOKUP(C3972,PARAMETROS!$G$3:$H$21,2,FALSE))","v":""},null,{"$f":"IF(E3972=\"\",\"\",VLOOKUP(E3972,PARAMETROS!$I$3:$J$21,2,FALSE))","v":""},null,null,null,null,null,null,""]
[null,{"$f":"IF(A3973=\"\",\"\",VLOOKUP(A3973,PARAMETROS!$B$3:$C$3,2,FALSE))","v":""},null,{"$f":"IF(C3973=\"\",\"\",VLOOKUP(C3973,PARAMETROS!$G$3:$H$21,2,FALSE))","v":""},null,{"$f":"IF(E3973=\"\",\"\",VLOOKUP(E3973,PARAMETROS!$I$3:$J$21,2,FALSE))","v":""},null,null,null,null,null,null,""]
[null,{"$f":"IF(A3974=\"\",\"\",VLOOKUP(A3974,PARAMETROS!$B$3:$C$3,2,FALSE))","v":""},null,{"$f":"IF(C3974=\"\",\"\",VLOOKUP(C3974,PARAMETROS!$G$3:$H$21,2,FALSE))","v":""},null,{"$f":"IF(E3974=\"\",\"\",VLOOKUP(E3974,PARAMETROS!$I$3:$J$21,2,FALSE))","v":""},null,null,null,null,null,null,{"$f":"IF(L3974=\"\", \"\", L3974)","v":""}]
["*",null,"*",null,"*"]

{"sheet":"PARAMETROS","index":1,"n_rows":92,"n_cols":34,"rows_kept":92,"cut":false,"hidden":true,"merged":[]}
[]
[null,"REGIONAL","CODREG",null,"CENTRO ZONAL",null,"CENTRO ZONAL","CÓDIGO CENTRO ZONAL","MUNICIPIO DE ATENCIÓN","CÓDIGO \nMUNICIPIO",null,"CODIGO UDS",null,"UDS",null,"RESPONSABLE DEL ENCUENTRO",null,"FECHA DEL ENCUENTRO DD/MM/AAAA",null,"ESTRATEGIA DE ATENCIÓN/ TIPO DE ENCUENTRO",null,"COMPONENTE PRINCIPAL",null,"OTRO COMPONENTE",null,"CICLO",null,"ÉNFASIS",null,"INTENCIONALIDAD",null,"TIEMPO DE EXPERIENCIA",null,"RESPONSABLE DE ACTIVIDAD"]
[null,"LA GUAJIRA",44,null,"CZ RIOHACHA 1",null,"CZ RIOHACHA 1",4401,"RIOHACHA","44001",null,null,null,"UAC 1 ",null,"EDITABLE",null,"EDITABLE",null,"ENCUENTRO EN SITIO",null,"ACOMPAÑAMIENTO ENFOQUE PSICOSOCIAL",null,"ACOMPAÑAMIENTO ENFOQUE PSICOSOCIAL",null,"FAMILIA",null,"ESTATUS MIGRATORIO",null,"EDITABLE ",null,"1 HORA",null,"EDITABLE"]
[null,null,null,null,"CZ RIOHACHA 2",null,"CZ RIOHACHA 1","4401","DIBULLA","44090",null,null,null,"UAC 2",null,null,null,null,null,"ENCUENTROS ENTRE FAMILIAS Y REDES VINCULARES",null,"EDUCACIÓN PARA LA SALUD ALIMENTARIA",null,"EDUCACIÓN PARA LA SALUD ALIMENTARIA",null,"GRUPO",null,"COMPRENSIONES DEL TERRITORIO E INFORMACIÓN SOBRE RUTAS SEGURAS PARA EL TRÁNSITO MIGRATORIO",null,null,null,"2 HORAS"]
[null,null,null,null,"CZ FONSECA",null,"CZ RIOHACHA 2","4402","RIOHACHA","44001",null,null,null,"UAC 3",null,null,null,null,null,"ENCUENTROS COMUNITARIOS",null,"INTEGRACIÓN CON LA COMUNIDAD DE ACOGIDA Y PREVENCIÓN DE XENOFOBIA",null,"INTEGRACIÓN CON LA COMUNIDAD DE ACOGIDA Y PREVENCIÓN DE XENOFOBIA",null,null,null,"INFORMACIÓN DERECHOS",null,null,null,"3 HORAS"]
[null,null,null,null,"CZ MANAURE",null,"CZ RIOHACHA 2","4402","DIBULLA","44090",null,null,null,"UAC 4",null,null,null,null,null,null,null,"PRÁCTICAS DE CUIDADO PARA LA PRIMERA INFANCIA",null,"PRÁCTICAS DE CUIDADO PARA LA PRIMERA INFANCIA",null,null,null,"DUELO MIGRATORIO",null,null,null,"4 HORAS"]
[null,null,null,null,"CZ MAICAO",null,"CZ FONSECA","4403","BARRANCAS","44078",null,null,null,"UAC 5",null,null,null,null,null,null,null,"ESTRATEGIA DE COMUNICACIONES",null,"ESTRATEGIA DE COMUNICACIONES",null,null,null,"PRIMEROS AUXILIOS PSICOLÓGICOS",null,null,null,"5 HORAS"]
[null,null,null,null,"CZ NAZARETH",null,"CZ FONSECA","4403","DISTRACCIÓN","44098",null,null,null,"UAC 6",null,null,null,null,null,null,null,null,null,null,null,null,null,"ACTIVACIÓN DE RUTA DE PROTECCIÓN",null,null,null,"6 HORAS"]
[null,null,null,null,"CZ ICHITKI WAYUUWAAPULE",null,"CZ FONSECA","4403","EL MOLINO","44110",null,null,null,"UAC 7",null,null,null,null,null,null,null,null,null,null,null,null,null,"IDENTIFICACIÓN DE RIESGOS ",null,null,null,"7 HORAS"]
[null,null,null,null,null,null,"CZ FONSECA","4403","FONSECA","44279",null,null,null,"UAC 8",null,null,null,null,null,null,null,null,null,null,null,null,null,"ENTREGA DE MENSAJES CLAVE EN PROTECCIÓN",null,null,null,"8 HORAS"]
[null,null,null,null,null,null,"CZ FONSECA","4403","HATONUEVO","44378",null,null,null,"UAC 9",null,null,null,null,null,null,null,null,null,null,null,null,null,"APOYO HUMANITARIO"]
[null,null,null,null,null,null,"CZ FONSECA","4403","LA JAGUA DEL PILAR","44420",null,null,null,"UAC 10",null,null,null,null,null,null,null,null,null,null,null,null,null,"COMPRENSIONES DINÁMICAS Y ROLES FAMILIARES"]
[null,null,null,null,null,null,"CZ FONSECA","4403","SAN JUAN DEL CESAR","44650",null,null,null,"UAC 11",null,null,null,null,null,null,null,null,null,null,null,null,null,"ENFOQUE EN NECESIDADES INMEDIATAS EN PRÁCTICAS ALIMENTARIAS SALUDABLES EN EL PROCESO MIGRATORIO"]
[null,null,null,null,null,null,"CZ FONSECA","4403","URUMITA","44855",null,null,null,"UAC 12",null,null,null,null,null,null,null,null,null,null,null,null,null,"ENFOQUE DE HÁBITOS ALIMENTARIOS ADAPTACIÓN A UN NUEVO CONTEXTO"]
[null,null,null,null,null,null,"CZ FONSECA","4403","VILLANUEVA","44874",null,null,null,"UAC 13",null,null,null,null,null,null,null,null,null,null,null,null,null,"ENFOQUE EN LA ALIMENTACIÓN SALUDABLE PARA NIÑAS, NIÑOS, MUJERES Y PERSONAS EN GESTACIÓN O EN PERIODO DE LACTANCIA"]
[null,null,null,null,null,null,"CZ MANAURE","4404","MANAURE","44560",null,null,null,"UAC 14",null,null,null,null,null,null,null,null,null,null,null,null,null,"ENFOQUE EN MOVILIZACIÓN COMUNITARIA Y FORTALECIMIENTO DE CAPACIDADES PARA LA SALUD ALIMENTARIA"]
[null,null,null,null,null,null,"CZ MANAURE","4404","URIBIA","44847",null,null,null,"UAC 15",null,null,null,null,null,null,null,null,null,null,null,null,null,"ENFOQUE DE APRENDIZAJE COLECTIVO PARA MANTENER HÁBITOS ALIMENTARIOS SALUDABLES Y SOSTENIBLES"]
[null,null,null,null,null,null,"CZ MAICAO","4405","ALBANIA","44035",null,null,null,"UAC 16",null,null,null,null,null,null,null,null,null,null,null,null,null,"GESTIÓN DE OFERTA LOCAL E INSTITUCIONALIDAD"]
[null,null,null,null,null,null,"CZ MAICAO","4405","MAICAO","44430",null,null,null,"UAC 17",null,null,null,null,null,null,null,null,null,null,null,null,null,"PREVENCIÓN DE VIOLENCIAS Y XENOFOBIA: ESCNNA, VIOLENCIA SEXUAL, VIOLENCIA FISICA, TRABAJO INFANTIL, TRABAJO JUVENIL"]
[null,null,null,null,null,null,"CZ NAZARETH","4408","URIBIA","44847",null,null,null,"UAC 18",null,null,null,null,null,null,null,null,null,null,null,null,null,"DESERCIÓN ESCOLAR"]
[null,null,null,null,null,null,"CZ ICHITKI WAYUUWAAPULE","4409","URIBIA","44847",null,null,null,"UAC 19",null,null,null,null,null,null,null,null,null,null,null,null,null,"REGULARIZACIÓN"]
[null,null,null,null,null,null,null,null,null,null,null,null,null,"UAC 20",null,null,null,null,null,null,null,null,null,null,null,null,null,"DIFUSIÓN DE DERECHOS DE POBLACIÓN MIGRANTE"]
[null,null,null,null,null,null,null,null,null,null,null,null,null,"UAC 21",null,null,null,null,null,null,null,null,null,null,null,null,null,"EXPERIENCIAS PEDAGÓGICAS PARA EL CUIDADO Y LA CRIANZA"]
[null,null,null,null,null,null,null,null,null,null,null,null,null,"UAC 22",null,null,null,null,null,null,null,null,null,null,null,null,null,"PRACTICAS DE CUIDADO Y PROTECCIÓN PARA LA PRIMERA INFANCIA"]
[null,null,null,null,null,null,null,null,null,null,null,null,null,"UAC 23",null,null,null,null,null,null,null,null,null,null,null,null,null,"ACTIVACIÓN DE RUTA PARA LA PRIMERA INFANCIA"]
[null,null,null,null,null,null,null,null,null,null,null,null,null,"UAC 24",null,null,null,null,null,null,null,null,null,null,null,null,null,"ATENCIÓN ALIMENTARIA Y NUTRICIONAL"]
[null,null,null,null,null,null,null,null,null,null,null,null,null,"UAC 25",null,null,null,null,null,null,null,null,null,null,null,null,null,"CUIDADO SENSIBLE Y AMOROSO PARA LA PREVENCIÓN DE VIOLENCIAS"]
[null,null,null,null,null,null,null,null,null,null,null,null,null,"UAC 26",null,null,null,null,null,null,null,null,null,null,null,null,null,"ACTIVIDADES RECTORAS PARA LA PRIMERA INFANCIA"]
[null,null,null,null,null,null,null,null,null,null,null,null,null,"UAC 27",null,null,null,null,null,null,null,null,null,null,null,null,null,"CONSTRUCCIÓN Y DIFUCIÓN DE MENSAJES CLAVE"]
[null,null,null,null,null,null,null,null,null,null,null,null,null,"UAC 28",null,null,null,null,null,null,null,null,null,null,null,null,null,"INFORMACIÓN DERECHOS Y SERVICIOS"]
[null,null,null,null,null,null,null,null,null,null,null,null,null,"UAC 29"]
[null,null,null,null,null,null,null,null,null,null,null,null,null,"UAC 30"]
[null,null,null,null,null,null,null,null,null,null,null,null,null,"UAC 31"]
[null,null,null,null,null,null,null,null,null,null,null,null,null,"UAC 32"]
[null,null,null,null,null,null,null,null,null,null,null,null,null,"UAC 33"]
[null,null,null,null,null,null,null,null,null,null,null,null,null,"UAC 34"]
[null,null,null,null,null,null,null,null,null,null,null,null,null,"UAC 35"]
[null,null,null,null,null,null,null,null,null,null,null,null,null,"UAC 36"]
[null,null,null,null,null,null,null,null,null,null,null,null,null,"UAC 37"]
[null,null,null,null,null,null,null,null,null,null,null,null,null,"UAC 38"]
[null,null,null,null,null,null,null,null,null,null,null,null,null,"UAC 39"]
[null,null,null,null,null,null,null,null,null,null,null,null,null,"UAC 40"]
[null,null,null,null,null,null,null,null,null,null,null,null,null,"UAC 41"]
[null,null,null,null,null,null,null,null,null,null,null,null,null,"UAC 42"]
[null,null,null,null,null,null,null,null,null,null,null,null,null,"UAC 43"]
[null,null,null,null,null,null,null,null,null,null,null,null,null,"UAC 44"]
[null,null,null,null,null,null,null,null,null,null,null,null,null,"UAC 45"]
[null,null,null,null,null,null,null,null,null,null,null,null,null,"UAC 46"]
[null,null,null,null,null,null,null,null,null,null,null,null,null,"UAC 47"]
[null,null,null,null,null,null,null,null,null,null,null,null,null,"UAC 48"]
[null,null,null,null,null,null,null,null,null,null,null,null,null,"UAC 49"]
[null,null,null,null,null,null,null,null,null,null,null,null,null,"UAC 50"]
[null,null,null,null,null,null,null,null,null,null,null,null,null,"UAC 51"]
[null,null,null,null,null,null,null,null,null,null,null,null,null,"UAC 52"]
[null,null,null,null,null,null,null,null,null,null,null,null,null,"UAC 53"]
[null,null,null,null,null,null,null,null,null,null,null,null,null,"UAC 54"]
[null,null,null,null,null,null,null,null,null,null,null,null,null,"UAC 55"]
[null,null,null,null,null,null,null,null,null,null,null,null,null,"UAC 56"]
[null,null,null,null,null,null,null,null,null,null,null,null,null,"UAC 57"]
[null,null,null,null,null,null,null,null,null,null,null,null,null,"UAC 58"]
[null,null,null,null,null,null,null,null,null,null,null,null,null,"UAC 59"]
[null,null,null,null,null,null,null,null,null,null,null,null,null,"UAC 60"]
[null,null,null,null,null,null,null,null,null,null,null,null,null,"UAC 61"]
[null,null,null,null,null,null,null,null,null,null,null,null,null,"UAC 62"]
[null,null,null,null,null,null,null,null,null,null,null,null,null,"UAC 63"]
[null,null,null,null,null,null,null,null,null,null,null,null,null,"UAC 64"]
[null,null,null,null,null,null,null,null,null,null,null,null,null,"UAC 65"]
[null,null,null,null,null,null,null,null,null,null,null,null,null,"UAC 66"]
[null,null,null,null,null,null,null,null,null,null,null,null,null,"UAC 67"]
[null,null,null,null,null,null,null,null,null,null,null,null,null,"UAC 68"]
[null,null,null,null,null,null,null,null,null,null,null,null,null,"UAC 69"]
[null,null,null,null,null,null,null,null,null,null,null,null,null,"UAC 70"]
[null,null,null,null,null,null,null,null,null,null,null,null,null,"UAC 71"]
[null,null,null,null,null,null,null,null,null,null,null,null,null,"UAC 72"]
[null,null,null,null,null,null,null,null,null,null,null,null,null,"UAC 73"]
[null,null,null,null,null,null,null,null,null,null,null,null,null,"UAC 74"]
[null,null,null,null,null,null,null,null,null,null,null,null,null,"UAC 75"]
[null,null,null,null,null,null,null,null,null,null,null,null,null,"UAC 76"]
[null,null,null,null,null,null,null,null,null,null,null,null,null,"UAC 77"]
[null,null,null,null,null,null,null,null,null,null,null,null,null,"UAC 78"]
[null,null,null,null,null,null,null,null,null,null,null,null,null,"UAC 79"]
[null,null,null,null,null,null,null,null,null,null,null,null,null,"UAC 80"]
[null,null,null,null,null,null,null,null,null,null,null,null,null,"UAC 81"]
[null,null,null,null,null,null,null,null,null,null,null,null,null,"UAC 82"]
[null,null,null,null,null,null,null,null,null,null,null,null,null,"UAC 83"]
[null,null,null,null,null,null,null,null,null,null,null,null,null,"UAC 84"]
[null,null,null,null,null,null,null,null,null,null,null,null,null,"UAC 85"]
[null,null,null,null,null,null,null,null,null,null,null,null,null,"UAC 86"]
[null,null,null,null,null,null,null,null,null,null,null,null,null,"UAC 87"]
[null,null,null,null,null,null,null,null,null,null,null,null,null,"UAC 88"]
[null,null,null,null,null,null,null,null,null,null,null,null,null,"UAC 89"]
[null,null,null,null,null,null,null,null,null,null,null,null,null,"UAC 90"]