Workbook
Name Decision: [1]lista!$A$6:$A$7
Name Decision: [2]lista!$A$6:$A$7
Name Decision: [1]lista!$A$6:$A$7
Name Decision: [3]lista!$A$6:$A$7
Name PARTICIPACION: [1]lista!$A$15:$A$17
Name PARTICIPACION: [2]lista!$A$15:$A$17
Name PARTICIPACION: [1]lista!$A$15:$A$17
Name PARTICIPACION: [3]lista!$A$15:$A$17
Name Procedencia: [1]lista!$A$2:$A$3
Name Procedencia: [2]lista!$A$2:$A$3
Name Procedencia: [1]lista!$A$2:$A$3
Name Procedencia: [3]lista!$A$2:$A$3
Name tipo: [1]lista!$A$11:$A$13
Name tipo: [2]lista!$A$11:$A$13
Name tipo: [1]lista!$A$11:$A$13
Name tipo: [3]lista!$A$11:$A$13
Name x: [4]lista!$A$11:$A$13
Name x: [5]lista!$A$11:$A$13

Sheet INFO GENERAL Y FINANCIERA
B8: Formato Información General Y Financiera De Proveedores
B10: Ciudad | R10: Fecha Dd/mm/aa | AA10: Persona Natural
AA11: Persona Jurídica
B12: 1. Información General
B13: 1.1. Identificación.
B14: Personas naturales | I14: Nombre Comercial | AF14: Cédula
B16: Personas jurídicas | I16: Razón Social | AF16: DV
B18: Dirección | AA18: Fax | AF18: Ciudad
B20: Pagina Web | AA20: Sector al que pertenece
B22: 1.2. Personas De Contacto
B23: Gerente General | P23: E-mail | AA23: Ext. | AF23: Celular
B25: Director Comercial | P25: E-mail | AA25: Ext. | AF25: Celular
B27: Asesor Comercial | P27: E-mail | AA27: Ext. | AF27: Celular
B29: 1.3. Productos Y Servicios Inscritos En El Rup De Acuerdo Con El Unspsc
B30: Incluir Listado Con Breve Descripción De Los Productos Y/o Servicios Que Ofrece La Compañía, Registrados En El Rup (agregue Las Filas Necesarias) | AF30: Código de Naciones Unidas
B36: 1.4. Códigos CIIU | AF36: 1.5. Número De Empleados
B37: Código De Actividad | I37: Descripción Actividad Económica CIIU | AA37: Tarifa ICA
B41: 2. Información Financiera
B42: Nombre Del Indicador | O42: Cuenta | W42: Valores En Pesos a Diciembre 31 De 2014 | AE42: Indicador | AI42: Veces- Porcentaje
B43: Capacidad Financiera | E43: índice De Liquidez | O43: Activo Corriente --> | AE43: =+IFERROR(W43/W44,0) -> 0 | AI43: Veces
O44: Pasivo Corriente -->
E45: Índice De Endeudamiento | O45: Pasivo Total--> | AE45: =+IFERROR(W45/W46,0) -> 0 | AI45: Porcentaje
O46: Activo Total-->
E47: Razón De Cobertura De Intereses | O47: Utilidad Operacional--> | AE47: =+IFERROR(W47/W48,0) -> 0 | AI47: Veces
O48: Gastos De Interés-->
E49: Capital de Trabajo | O49: Activo Corriente--> | AE49: =+W49-W50 -> 0 | AI49: Pesos
O50: Pasivo corriente-->
B51: Capacidad Organizacional | E51: Rentabilidad Del Patrimonio | O51: Utilidad Operacional--> | AE51: =+IFERROR(W51/W52,0) -> 0 | AI51: Porcentaje
O52: Patrimonio-->
E53: Rentabilidad Del Activo | O53: Utilidad Operacional--> | AE53: =+IFERROR(W53/W54,0) -> 0 | AI53: Porcentaje
O54: Activo Total-->
B55: Nota: Para las empresas inspeccionadas, vigiladas o controladas por la Supersociedades, la información consignada en este numeral será validada con la reportada a la Supersociedades y disponible para consulta en Internet mediante el Sistema de Información y Riesgo Empresarial de la Supersociedades (SIREM). Si se evidencian diferencias en los valores consignados en este formato y los reportados a la Supersociedades se tomará como referencia la información del SIREM.
B56: Otra información relevante de la empresa (consigne en este espacio otra información que considere de interés)

Sheet  Circular 00435 de 2015
B2: CIRCULAR No. 20147000000435 - SUPERVIGILANCIA
B4: TARIFA MÍNIMA REGULADA PARA EL 2015
B5: JORNADA LABORAL | C5: Variable de Proporcionalidad | E5: ESCENARIO 1: (1 año de ejecución) | G5: 2015 | H5: 2016
B6: 06:00 a.m. A 02:00 p.m. Turno de 8 Horas Diurno | C6: 0.2985 | E6: TIEMPO DE EJECUCIÓN (meses) | G6: 1 | H6: 11
B7: 02:00 p.m. A 10:00 p.m. Turno de 8 Horas Diurno | C7: 0.2985 | E7: SMMLV (Nota 1) | G7: 644350 | H7: =G7*(1+3.66%) -> 667933.21
B8: 10:00 p.m. A 06:00 a.m. Turno de 8 Horas Nocturno | C8: 0.403
B10: CANTIDADES DE DÍAS MES (CIRCULAR 20143200000025 DE 2014) | E10: ESCENARIO 2: (2 años y 6 meses de ejecución) | G10: 2015 | H10: 2016 | I10: 2017 | J10: 2018
B11: Lunes a viernes sin festivos | C11: 20 | E11: TIEMPO DE EJECUCIÓN (meses) | G11: 0.5 | H11: 12 | I11: 12 | J11: 5.5
B12: Lunes a sábados sin festivos | C12: 24 | E12: SMMLV (Nota 1) | G12: 644350 | H12: =G12*(1+3.66%) -> 667933.21 | I12: =H12*(1+3.66%) -> 692379.57 | J12: =I12*(1+3.66%) -> 717720.66
B13: Lunes a viernes con festivos | C13: 22
B14: Lunes a sábados con festivos | C14: 26
B15: Sábados y Domingos | C15: 8
B16: Sábados, Domingos y festivos | C16: 10
B18: Administración y Supervisión
B19: Sin Arma | C19: 0.08
B20: Con Arma | C20: 0.1
B21: Con Canino | C21: 0.11
B23: TURNOS DE VIGILANCIA | C23: Variable de Proporcionalidad | D23: Proporción del Mes | E23: Administración y Supervisión | F23: valor unitario Turno | G23: valor A y S (8%, 10%, 11%) | H23: valor unitario incluido A y S | I23: Base del 10% para impuesto IVA | J23: IVA | K23: valor unitario incluido IVA | L23: Presupuesto Estimado Area Técnica Turnos de Vigilancia | M23: Diferencia
A24: 1 | B24: 24 horas lunes a domingo sin arma | C24: =SUM($C$6:$C$8) -> 1 | D24: =30/30 -> 1 | E24: =+C19 -> 0.08 | F24: =+(($G$7*8.8)*C24*D24) -> 5670280 | G24: =+F24*E24 -> 453622.4 | H24: =+ROUND(F24+G24,0) -> 6123902 | I24: =+H24*10% -> 612390.2 | J24: 0.16 | K24: =+ROUND((I24*J24),0)+H24 -> 6221884 | L24: =+#REF! -> #REF! | M24: =+K24-L24 -> #REF!
A25: 2 | B25: 24 horas lunes a domingo con arma | C25: =SUM($C$6:$C$8) -> 1 | D25: =30/30 -> 1 | E25: =+C20 -> 0.1 | F25: =+(($G$7*8.8)*C25*D25) -> 5670280 | G25: =+F25*E25 -> 567028 | H25: =+ROUND(F25+G25,0) -> 6237308 | I25: =+H25*10% -> 623730.8 | J25: 0.16 | K25: =+ROUND((I25*J25),0)+H25 -> 6337105 | L25: =+#REF! -> #REF! | M25: =+K25-L25 -> #REF!
A26: 3 | B26: 16 horas diurnas lunes a viernes sin arma con festivos | C26: =($C$6/8)*16 -> 0.597 | D26: =$C$13/30 -> 0.73333333 | E26: =+C19 -> 0.08 | F26: =+(($G$7*8.8)*C26*D26) -> 2482448.6 | G26: =+F26*E26 -> 198595.89 | H26: =+ROUND(F26+G26,0) -> 2681044 | I26: =+H26*10% -> 268104.4 | J26: 0.16 | K26: =+ROUND((I26*J26),0)+H26 -> 2723941 | M26: =+K26-L26 -> 2723941
A27: 4 | B27: 16 horas diurnas lunes a viernes con arma con festivos | C27: =($C$6/8)*16 -> 0.597 | D27: =$C$13/30 -> 0.73333333 | E27: =+C20 -> 0.1 | F27: =+(($G$7*8.8)*C27*D27) -> 2482448.6 | G27: =+F27*E27 -> 248244.86 | H27: =+ROUND(F27+G27,0) -> 2730693 | I27: =+H27*10% -> 273069.3 | J27: 0.16 | K27: =+ROUND((I27*J27),0)+H27 -> 2774384 | L27: =+#REF! -> #REF! | M27: =+K27-L27 -> #REF!
A28: 5 | B28: 12 horas diurnas lunes a domingo sin arma | C28: =($C$6/8)*12 -> 0.44775 | D28: =30/30 -> 1 | E28: =+C19 -> 0.08 | F28: =+(($G$7*8.8)*C28*D28) -> 2538867.9 | G28: =+F28*E28 -> 203109.43 | H28: =+ROUND(F28+G28,0) -> 2741977 | I28: =+H28*10% -> 274197.7 | J28: 0.16 | K28: =+ROUND((I28*J28),0)+H28 -> 2785849 | L28: =+#REF! -> #REF! | M28: =+K28-L28 -> #REF!
A29: 6 | B29: 12 horas nocturnas lunes a domingo con arma | C29: =($C$8/8)*12 -> 0.6045 | D29: =30/30 -> 1 | E29: =+C20 -> 0.1 | F29: =+(($G$7*8.8)*C29*D29) -> 3427684.3 | G29: =+F29*E29 -> 342768.43 | H29: =+ROUND(F29+G29,0) -> 3770453 | I29: =+H29*10% -> 377045.3 | J29: 0.16 | K29: =+ROUND((I29*J29),0)+H29 -> 3830780 | L29: =+#REF! -> #REF! | M29: =+K29-L29 -> #REF!
A30: 7 | B30: 12 horas diurnas lunes a domingo con canino | C30: =($C$6/8)*12 -> 0.44775 | D30: =30/30 -> 1 | E30: =+C21 -> 0.11 | F30: =+(($G$7*8.8)*C30*D30) -> 2538867.9 | G30: =+F30*E30 -> 279275.47 | H30: =+ROUND(F30+G30,0) -> 2818143 | I30: =+H30*10% -> 281814.3 | J30: 0.16 | K30: =+ROUND((I30*J30),0)+H30 -> 2863233 | L30: =+#REF! -> #REF! | M30: =+K30-L30 -> #REF!
A31: 8 | B31: 12 horas diurnas lunes a sábado con arma con festivos | C31: =($C$6/8)*12 -> 0.44775 | D31: =$C$14/30 -> 0.86666667 | E31: =+C20 -> 0.1 | F31: =+(($G$7*8.8)*C31*D31) -> 2200352.2 | G31: =+F31*E31 -> 220035.22 | H31: =+ROUND(F31+G31,0) -> 2420387 | I31: =+H31*10% -> 242038.7 | J31: 0.16 | K31: =+ROUND((I31*J31),0)+H31 -> 2459113 | L31: =+#REF! -> #REF! | M31: =+K31-L31 -> #REF!
A32: 9 | B32: 12 horas diurnas lunes a viernes sin arma con festivos | C32: =($C$6/8)*12 -> 0.44775 | D32: =$C$13/30 -> 0.73333333 | E32: =+C19 -> 0.08 | F32: =+(($G$7*8.8)*C32*D32) -> 1861836.4 | G32: =+F32*E32 -> 148946.92 | H32: =+ROUND(F32+G32,0) -> 2010783 | I32: =+H32*10% -> 201078.3 | J32: 0.16 | K32: =+ROUND((I32*J32),0)+H32 -> 2042956 | L32: =+#REF! -> #REF! | M32: =+K32-L32 -> #REF!
A33: 10 | B33: 12 horas diurnas lunes a viernes con canino sin festivos | C33: =($C$6/8)*12 -> 0.44775 | D33: =$C$11/30 -> 0.66666667 | E33: =+C21 -> 0.11 | F33: =+(($G$7*8.8)*C33*D33) -> 1692578.6 | G33: =+F33*E33 -> 186183.64 | H33: =+ROUND(F33+G33,0) -> 1878762 | I33: =+H33*10% -> 187876.2 | J33: 0.16 | K33: =+ROUND((I33*J33),0)+H33 -> 1908822 | L33: =+#REF! -> #REF! | M33: =+K33-L33 -> #REF!
A34: 11 | B34: 12 horas diurnas lunes a viernes con arma con festivos | C34: =($C$6/8)*12 -> 0.44775 | D34: =$C$13/30 -> 0.73333333 | E34: =+C20 -> 0.1 | F34: =+(($G$7*8.8)*C34*D34) -> 1861836.4 | G34: =+F34*E34 -> 186183.64 | H34: =+ROUND(F34+G34,0) -> 2048020 | I34: =+H34*10% -> 204802 | J34: 0.16 | K34: =+ROUND((I34*J34),0)+H34 -> 2080788 | L34: =+#REF! -> #REF! | M34: =+K34-L34 -> #REF!
A35: 12 | B35: 12 horas diurnas lunes a viernes con arma sin festivos | C35: =($C$6/8)*12 -> 0.44775 | D35: =$C$11/30 -> 0.66666667 | E35: =+C20 -> 0.1 | F35: =+(($G$7*8.8)*C35*D35) -> 1692578.6 | G35: =+F35*E35 -> 169257.86 | H35: =+ROUND(F35+G35,0) -> 1861836 | I35: =+H35*10% -> 186183.6 | J35: 0.16 | K35: =+ROUND((I35*J35),0)+H35 -> 1891625 | L35: =+#REF! -> #REF! | M35: =+K35-L35 -> #REF!
A36: 13 | B36: 12 horas diurnas lunes a viernes con canino con festivos | C36: =($C$6/8)*12 -> 0.44775 | D36: =$C$13/30 -> 0.73333333 | E36: =+C21 -> 0.11 | F36: =+(($G$7*8.8)*C36*D36) -> 1861836.4 | G36: =+F36*E36 -> 204802.01 | H36: =+ROUND(F36+G36,0) -> 2066638 | I36: =+H36*10% -> 206663.8 | J36: 0.16 | K36: =+ROUND((I36*J36),0)+H36 -> 2099704 | L36: =+#REF! -> #REF! | M36: =+K36-L36 -> #REF!
A37: 14 | B37: 12 horas diurnas lunes a domingo con arma | C37: =($C$6/8)*12 -> 0.44775 | D37: =30/30 -> 1 | E37: =+C20 -> 0.1 | F37: =+(($G$7*8.8)*C37*D37) -> 2538867.9 | G37: =+F37*E37 -> 253886.79 | H37: =+ROUND(F37+G37,0) -> 2792755 | I37: =+H37*10% -> 279275.5 | J37: 0.16 | K37: =+ROUND((I37*J37),0)+H37 -> 2837439 | L37: =+#REF! -> #REF! | M37: =+K37-L37 -> #REF!
A38: 15 | B38: 12 horas diurnas lunes a viernes sin arma sin festivos | C38: =($C$6/8)*12 -> 0.44775 | D38: =$C$11/30 -> 0.66666667 | E38: =+C19 -> 0.08 | F38: =+(($G$7*8.8)*C38*D38) -> 1692578.6 | G38: =+F38*E38 -> 135406.29 | H38: =+ROUND(F38+G38,0) -> 1827985 | I38: =+H38*10% -> 182798.5 | J38: 0.16 | K38: =+ROUND((I38*J38),0)+H38 -> 1857233 | L38: =+#REF! -> #REF! | M38: =+K38-L38 -> #REF!
A39: 16 | B39: 10 horas diurnas lunes a viernes con arma con festivos | C39: =($C$6/8)*10 -> 0.373125 | D39: =$C$13/30 -> 0.73333333 | E39: =+C20 -> 0.1 | F39: =+(($G$7*8.8)*C39*D39) -> 1551530.4 | G39: =+F39*E39 -> 155153.04 | H39: =+ROUND(F39+G39,0) -> 1706683 | I39: =+H39*10% -> 170668.3 | J39: 0.16 | K39: =+ROUND((I39*J39),0)+H39 -> 1733990 | L39: =+#REF! -> #REF! | M39: =+K39-L39 -> #REF!
A40: 17 | B40: 9 horas diurnas lunes a viernes sin arma con festivos | C40: =($C$6/8)*9 -> 0.3358125 | D40: =$C$13/30 -> 0.73333333 | E40: =+C19 -> 0.08 | F40: =+(($G$7*8.8)*C40*D40) -> 1396377.3 | G40: =+F40*E40 -> 111710.19 | H40: =+ROUND(F40+G40,0) -> 1508088 | I40: =+H40*10% -> 150808.8 | J40: 0.16 | K40: =+ROUND((I40*J40),0)+H40 -> 1532217 | L40: =+#REF! -> #REF! | M40: =+K40-L40 -> #REF!
A41: 18 | B41: 9 horas diurnas lunes a viernes con arma con festivos | C41: =($C$6/8)*9 -> 0.3358125 | D41: =$C$13/30 -> 0.73333333 | E41: =+C20 -> 0.1 | F41: =+(($G$7*8.8)*C41*D41) -> 1396377.3 | G41: =+F41*E41 -> 139637.73 | H41: =+ROUND(F41+G41,0) -> 1536015 | I41: =+H41*10% -> 153601.5 | J41: 0.16 | K41: =+ROUND((I41*J41),0)+H41 -> 1560591 | L41: =+#REF! -> #REF! | M41: =+K41-L41 -> #REF!
A42: 19 | B42: 8 horas nocturnas lunes a domingo con arma | C42: =($C$8/8)*8 -> 0.403 | D42: =30/30 -> 1 | E42: =+C20 -> 0.1 | F42: =+(($G$7*8.8)*C42*D42) -> 2285122.8 | G42: =+F42*E42 -> 228512.28 | H42: =+ROUND(F42+G42,0) -> 2513635 | I42: =+H42*10% -> 251363.5 | J42: 0.16 | K42: =+ROUND((I42*J42),0)+H42 -> 2553853 | L42: =+#REF! -> #REF! | M42: =+K42-L42 -> #REF!
A43: 20 | B43: 8 horas diurnas lunes a domingo con arma | C43: =($C$6/8)*8 -> 0.2985 | D43: =30/30 -> 1 | E43: =+C20 -> 0.1 | F43: =+(($G$7*8.8)*C43*D43) -> 1692578.6 | G43: =+F43*E43 -> 169257.86 | H43: =+ROUND(F43+G43,0) -> 1861836 | I43: =+H43*10% -> 186183.6 | J43: 0.16 | K43: =+ROUND((I43*J43),0)+H43 -> 1891625 | L43: =+#REF! -> #REF! | M43: =+K43-L43 -> #REF!
A44: 21 | B44: 8 horas nocturnas lunes a viernes con arma con festivos | C44: =($C$8/8)*8 -> 0.403 | D44: =$C$13/30 -> 0.73333333 | E44: =+C20 -> 0.1 | F44: =+(($G$7*8.8)*C44*D44) -> 1675756.7 | G44: =+F44*E44 -> 167575.67 | H44: =+ROUND(F44+G44,0) -> 1843332 | I44: =+H44*10% -> 184333.2 | J44: 0.16 | K44: =+ROUND((I44*J44),0)+H44 -> 1872825 | L44: =+#REF! -> #REF! | M44: =+H44-L44 -> #REF!
A45: 22 | B45: 8 horas diurnas lunes a viernes sin arma con festivos | C45: =($C$6/8)*8 -> 0.2985 | D45: =$C$13/30 -> 0.73333333 | E45: =+C19 -> 0.08 | F45: =+(($G$7*8.8)*C45*D45) -> 1241224.3 | G45: =+F45*E45 -> 99297.943 | H45: =+ROUND(F45+G45,0) -> 1340522 | I45: =+H45*10% -> 134052.2 | J45: 0.16 | K45: =+ROUND((I45*J45),0)+H45 -> 1361970 | L45: =+#REF! -> #REF! | M45: =+K45-L45 -> #REF!
...

Sheet FORMATO COTIZACIÓN-ESCENARIO 1
B9: SOLICITUD DE COTIZACIÓN
B10: Empresa: | D10: Nit: | H10: Fecha:
B11: Contacto: | D11: Cargo: | H11: Tel. celular:
B12: E-Mail: | D12: Dirección: | H12: Tel. fijo:
B14: Instrucciones para el diligenciamiento del formato de cotización
B15: • Por favor diligenciar solo las celdas en AMARILLO. Se deben llenar todas las casillas. • Revisar todos los requerimientos que se exponen en el documento "Ficha de Condiciones Técnicas" y anexos; y formular su cotización en concordancia con este. • Asignar precio MENSUAL sin incluir el IVA para cada ítem de los elementos tecnológicos en cada Macro Región. • El valor de la cotización deber ser expresado en PESOS COLOMBIANOS. • Los valores unitarios deberán aproximarse por exceso o por defecto al entero más cercano. Si la cifra no está aproximada y aparece con centavos, el ICBF aproximará al entero inferior. • No modificar, agregar o quitar ningún ítem o sub-ítem. • Por favor indicar en la hoja "Medios Tecnológicos" si los equipos cotizados son propios o alquilados.
B16: Notas: (1) Se estima un incremento del 3,66% para el SMMLV del año 2016 a partir de lo definido en la Circular No.07 de 2015 del Ministerio de Hacienda. Sin embargo, para dicha vigencia en el contrato a suscribir, se ajustará el porcentaje de incremento del SMMLV de acuerdo a la normatividad que regula el servicio de vigilancia. (2) Para efectos de cotización se requiere el valor unitario mensual para cada ítem de los elementos tecnológicos. Con dichos valores y los tomados de la circular 20147000000435 del 31 de diciembre de 2014 para los turnos de vigilancia, serán realizados los cálculos para la ejecución del contrato durante 1 mes en la vigencia 2015 y 11 meses en la vigencia 2016. (3) El precio por concepto de la supervisión operativa móvil, (Coordinador del contrato – Supervisores) no generará costo alguno para la entidad contratante (ICBF). (4) El número de cámaras requerido para cada uno de los circuitos cerrados de televisión (CCTV) se encuentra en la FCT de cada macroregión.
E18: 2015 | F18: 2016
B19: TIEMPO DE EJECUCIÓN (meses) (Nota 1) | E19: =+' Circular 00435 de 2015'!G6 -> 1 | F19: =+' Circular 00435 de 2015'!H6 -> 11
B20: SMMLV (Nota 2) | E20: =+' Circular 00435 de 2015'!G7 -> 644350 | F20: =+' Circular 00435 de 2015'!H7 -> 667933.21
D22: MACRO REGIÓN UNO (1) | G22: MACRO REGIÓN DOS (2) | J22: MACRO REGIÓN TRES (3) | M22: MACRO REGIÓN CUATRO (4) | P22: MACRO REGIÓN CINCO (5)
B23: TURNOS DE VIGILANCIA | D23: Cantidad | E23: Precio Unitario Mensual Antes de IVA | F23: Precio Total Mensual Antes de IVA | G23: Cantidad | H23: Precio Unitario Mensual Antes de IVA | I23: Precio Total Mensual Antes de IVA | J23: Cantidad | K23: Precio Unitario Mensual Antes de IVA | L23: Precio Total Mensual Antes de IVA | M23: Cantidad | N23: Precio Unitario Mensual Antes de IVA | O23: Precio Total Mensual Antes de IVA | P23: Cantidad | Q23: Precio Unitario Mensual Antes de IVA | R23: Precio Total Mensual Antes de IVA
A24: 1 | B24: 24 horas lunes a domingo sin arma | D24: =3+4+1 -> 8 | E24: =+IF(D24=0,0,(VLOOKUP($B24,' Circular 00435 de 2015'!$B$24:$H$51,7,0))) -> 6123902 | F24: =+E24*D24 -> 48991216 | G24: 1 | H24: =+IF(G24=0,0,(VLOOKUP($B24,' Circular 00435 de 2015'!$B$24:$H$51,7,0))) -> 6123902 | I24: =+H24*G24 -> 6123902 | J24: =2+2 -> 4 | K24: =+IF(J24=0,0,(VLOOKUP($B24,' Circular 00435 de 2015'!$B$24:$H$51,7,0))) -> 6123902 | L24: =+K24*J24 -> 24495608 | M24: =1+2 -> 3 | N24: =+IF(M24=0,0,(VLOOKUP($B24,' Circular 00435 de 2015'!$B$24:$H$51,7,0))) -> 6123902 | O24: =+N24*M24 -> 18371706 | P24: =5+1+2+3 -> 11 | Q24: =+IF(P24=0,0,(VLOOKUP($B24,' Circular 00435 de 2015'!$B$24:$H$51,7,0))) -> 6123902 | R24: =+Q24*P24 -> 67362922
A25: 2 | B25: 24 horas lunes a domingo con arma | D25: =26-1+31+22+12+1+2+1+9+3 -> 106 | E25: =+IF(D25=0,0,(VLOOKUP($B25,' Circular 00435 de 2015'!$B$24:$H$51,7,0))) -> 6237308 | F25: =+E25*D25 -> 661154648 | G25: =23-1+12+14+7+9+8+13 -> 85 | H25: =+IF(G25=0,0,(VLOOKUP($B25,' Circular 00435 de 2015'!$B$24:$H$51,7,0))) -> 6237308 | I25: =+H25*G25 -> 530171180 | J25: =22-1+10+7+8+6+10 -> 62 | K25: =+IF(J25=0,0,(VLOOKUP($B25,' Circular 00435 de 2015'!$B$24:$H$51,7,0))) -> 6237308 | L25: =+K25*J25 -> 386713096 | M25: =16-1+18+8+9+6+4 -> 60 | N25: =+IF(M25=0,0,(VLOOKUP($B25,' Circular 00435 de 2015'!$B$24:$H$51,7,0))) -> 6237308 | O25: =+N25*M25 -> 374238480 | P25: =13-1+14+8+10+5+1+4 -> 54 | Q25: =+IF(P25=0,0,(VLOOKUP($B25,' Circular 00435 de 2015'!$B$24:$H$51,7,0))) -> 6237308 | R25: =+Q25*P25 -> 336814632
A26: 5 | B26: 12 horas diurnas lunes a domingo sin arma | E26: =+IF(D26=0,0,(VLOOKUP($B26,' Circular 00435 de 2015'!$B$24:$H$51,7,0))) -> 0 | F26: =+E26*D26 -> 0 | H26: =+IF(G26=0,0,(VLOOKUP($B26,' Circular 00435 de 2015'!$B$24:$H$51,7,0))) -> 0 | I26: =+H26*G26 -> 0 | J26: 3 | K26: =+IF(J26=0,0,(VLOOKUP($B26,' Circular 00435 de 2015'!$B$24:$H$51,7,0))) -> 2741977 | L26: =+K26*J26 -> 8225931 | N26: =+IF(M26=0,0,(VLOOKUP($B26,' Circular 00435 de 2015'!$B$24:$H$51,7,0))) -> 0 | O26: =+N26*M26 -> 0 | P26: 1 | Q26: =+IF(P26=0,0,(VLOOKUP($B26,' Circular 00435 de 2015'!$B$24:$H$51,7,0))) -> 2741977 | R26: =+Q26*P26 -> 2741977
A27: 6 | B27: 12 horas nocturnas lunes a domingo con arma | E27: =+IF(D27=0,0,(VLOOKUP($B27,' Circular 00435 de 2015'!$B$24:$H$51,7,0))) -> 0 | F27: =+E27*D27 -> 0 | G27: 2 | H27: =+IF(G27=0,0,(VLOOKUP($B27,' Circular 00435 de 2015'!$B$24:$H$51,7,0))) -> 3770453 | I27: =+H27*G27 -> 7540906 | K27: =+IF(J27=0,0,(VLOOKUP($B27,' Circular 00435 de 2015'!$B$24:$H$51,7,0))) -> 0 | L27: =+K27*J27 -> 0 | N27: =+IF(M27=0,0,(VLOOKUP($B27,' Circular 00435 de 2015'!$B$24:$H$51,7,0))) -> 0 | O27: =+N27*M27 -> 0 | P27: 1 | Q27: =+IF(P27=0,0,(VLOOKUP($B27,' Circular 00435 de 2015'!$B$24:$H$51,7,0))) -> 3770453 | R27: =+Q27*P27 -> 3770453
A28: 7 | B28: 12 horas diurnas lunes a domingo con canino | D28: =1+1 -> 2 | E28: =+IF(D28=0,0,(VLOOKUP($B28,' Circular 00435 de 2015'!$B$24:$H$51,7,0))) -> 2818143 | F28: =+E28*D28 -> 5636286 | H28: =+IF(G28=0,0,(VLOOKUP($B28,' Circular 00435 de 2015'!$B$24:$H$51,7,0))) -> 0 | I28: =+H28*G28 -> 0 | K28: =+IF(J28=0,0,(VLOOKUP($B28,' Circular 00435 de 2015'!$B$24:$H$51,7,0))) -> 0 | L28: =+K28*J28 -> 0 | N28: =+IF(M28=0,0,(VLOOKUP($B28,' Circular 00435 de 2015'!$B$24:$H$51,7,0))) -> 0 | O28: =+N28*M28 -> 0 | Q28: =+IF(P28=0,0,(VLOOKUP($B28,' Circular 00435 de 2015'!$B$24:$H$51,7,0))) -> 0 | R28: =+Q28*P28 -> 0
A29: 9 | B29: 12 horas diurnas lunes a viernes sin arma con festivos | D29: =13+30+14+2+1 -> 60 | E29: =+IF(D29=0,0,(VLOOKUP($B29,' Circular 00435 de 2015'!$B$24:$H$51,7,0))) -> 2010783 | F29: =+E29*D29 -> 120646980 | G29: 4 | H29: =+IF(G29=0,0,(VLOOKUP($B29,' Circular 00435 de 2015'!$B$24:$H$51,7,0))) -> 2010783 | I29: =+H29*G29 -> 8043132 | J29: =3+2 -> 5 | K29: =+IF(J29=0,0,(VLOOKUP($B29,' Circular 00435 de 2015'!$B$24:$H$51,7,0))) -> 2010783 | L29: =+K29*J29 -> 10053915 | N29: =+IF(M29=0,0,(VLOOKUP($B29,' Circular 00435 de 2015'!$B$24:$H$51,7,0))) -> 0 | O29: =+N29*M29 -> 0 | Q29: =+IF(P29=0,0,(VLOOKUP($B29,' Circular 00435 de 2015'!$B$24:$H$51,7,0))) -> 0 | R29: =+Q29*P29 -> 0
A30: 10 | B30: 12 horas diurnas lunes a viernes con canino sin festivos | E30: =+IF(D30=0,0,(VLOOKUP($B30,' Circular 00435 de 2015'!$B$24:$H$51,7,0))) -> 0 | F30: =+E30*D30 -> 0 | G30: 1 | H30: =+IF(G30=0,0,(VLOOKUP($B30,' Circular 00435 de 2015'!$B$24:$H$51,7,0))) -> 1878762 | I30: =+H30*G30 -> 1878762 | J30: 1 | K30: =+IF(J30=0,0,(VLOOKUP($B30,' Circular 00435 de 2015'!$B$24:$H$51,7,0))) -> 1878762 | L30: =+K30*J30 -> 1878762 | M30: 1 | N30: =+IF(M30=0,0,(VLOOKUP($B30,' Circular 00435 de 2015'!$B$24:$H$51,7,0))) -> 1878762 | O30: =+N30*M30 -> 1878762 | P30: 1 | Q30: =+IF(P30=0,0,(VLOOKUP($B30,' Circular 00435 de 2015'!$B$24:$H$51,7,0))) -> 1878762 | R30: =+Q30*P30 -> 1878762
A31: 11 | B31: 12 horas diurnas lunes a viernes con arma con festivos | D31: 4 | E31: =+IF(D31=0,0,(VLOOKUP($B31,' Circular 00435 de 2015'!$B$24:$H$51,7,0))) -> 2048020 | F31: =+E31*D31 -> 8192080 | G31: 6 | H31: =+IF(G31=0,0,(VLOOKUP($B31,' Circular 00435 de 2015'!$B$24:$H$51,7,0))) -> 2048020 | I31: =+H31*G31 -> 12288120 | J31: =1+4+3 -> 8 | K31: =+IF(J31=0,0,(VLOOKUP($B31,' Circular 00435 de 2015'!$B$24:$H$51,7,0))) -> 2048020 | L31: =+K31*J31 -> 16384160 | M31: =3+1 -> 4 | N31: =+IF(M31=0,0,(VLOOKUP($B31,' Circular 00435 de 2015'!$B$24:$H$51,7,0))) -> 2048020 | O31: =+N31*M31 -> 8192080 | Q31: =+IF(P31=0,0,(VLOOKUP($B31,' Circular 00435 de 2015'!$B$24:$H$51,7,0))) -> 0 | R31: =+Q31*P31 -> 0
A32: 12 | B32: 12 horas diurnas lunes a viernes con arma sin festivos | E32: =+IF(D32=0,0,(VLOOKUP($B32,' Circular 00435 de 2015'!$B$24:$H$51,7,0))) -> 0 | F32: =+E32*D32 -> 0 | G32: 4 | H32: =+IF(G32=0,0,(VLOOKUP($B32,' Circular 00435 de 2015'!$B$24:$H$51,7,0))) -> 1861836 | I32: =+H32*G32 -> 7447344 | K32: =+IF(J32=0,0,(VLOOKUP($B32,' Circular 00435 de 2015'!$B$24:$H$51,7,0))) -> 0 | L32: =+K32*J32 -> 0 | M32: =2+1 -> 3 | N32: =+IF(M32=0,0,(VLOOKUP($B32,' Circular 00435 de 2015'!$B$24:$H$51,7,0))) -> 1861836 | O32: =+N32*M32 -> 5585508 | P32: 1 | Q32: =+IF(P32=0,0,(VLOOKUP($B32,' Circular 00435 de 2015'!$B$24:$H$51,7,0))) -> 1861836 | R32: =+Q32*P32 -> 1861836
A33: 13 | B33: 12 horas diurnas lunes a viernes con canino con festivos | D33: 1 | E33: =+IF(D33=0,0,(VLOOKUP($B33,' Circular 00435 de 2015'!$B$24:$H$51,7,0))) -> 2066638 | F33: =+E33*D33 -> 2066638 | H33: =+IF(G33=0,0,(VLOOKUP($B33,' Circular 00435 de 2015'!$B$24:$H$51,7,0))) -> 0 | I33: =+H33*G33 -> 0 | K33: =+IF(J33=0,0,(VLOOKUP($B33,' Circular 00435 de 2015'!$B$24:$H$51,7,0))) -> 0 | L33: =+K33*J33 -> 0 | N33: =+IF(M33=0,0,(VLOOKUP($B33,' Circular 00435 de 2015'!$B$24:$H$51,7,0))) -> 0 | O33: =+N33*M33 -> 0 | Q33: =+IF(P33=0,0,(VLOOKUP($B33,' Circular 00435 de 2015'!$B$24:$H$51,7,0))) -> 0 | R33: =+Q33*P33 -> 0
A34: 14 | B34: 12 horas diurnas lunes a domingo con arma | E34: =+IF(D34=0,0,(VLOOKUP($B34,' Circular 00435 de 2015'!$B$24:$H$51,7,0))) -> 0 | F34: =+E34*D34 -> 0 | G34: 2 | H34: =+IF(G34=0,0,(VLOOKUP($B34,' Circular 00435 de 2015'!$B$24:$H$51,7,0))) -> 2792755 | I34: =+H34*G34 -> 5585510 | J34: 2 | K34: =+IF(J34=0,0,(VLOOKUP($B34,' Circular 00435 de 2015'!$B$24:$H$51,7,0))) -> 2792755 | L34: =+K34*J34 -> 5585510 | M34: 1 | N34: =+IF(M34=0,0,(VLOOKUP($B34,' Circular 00435 de 2015'!$B$24:$H$51,7,0))) -> 2792755 | O34: =+N34*M34 -> 2792755 | P34: =1+2 -> 3 | Q34: =+IF(P34=0,0,(VLOOKUP($B34,' Circular 00435 de 2015'!$B$24:$H$51,7,0))) -> 2792755 | R34: =+Q34*P34 -> 8378265
A35: 15 | B35: 12 horas diurnas lunes a viernes sin arma sin festivos | E35: =+IF(D35=0,0,(VLOOKUP($B35,' Circular 00435 de 2015'!$B$24:$H$51,7,0))) -> 0 | F35: =+E35*D35 -> 0 | G35: 3 | H35: =+IF(G35=0,0,(VLOOKUP($B35,' Circular 00435 de 2015'!$B$24:$H$51,7,0))) -> 1827985 | I35: =+H35*G35 -> 5483955 | J35: =5+3+2+3 -> 13 | K35: =+IF(J35=0,0,(VLOOKUP($B35,' Circular 00435 de 2015'!$B$24:$H$51,7,0))) -> 1827985 | L35: =+K35*J35 -> 23763805 | M35: =1+2 -> 3 | N35: =+IF(M35=0,0,(VLOOKUP($B35,' Circular 00435 de 2015'!$B$24:$H$51,7,0))) -> 1827985 | O35: =+N35*M35 -> 5483955 | P35: =12+7+5+8+2+1+2 -> 37 | Q35: =+IF(P35=0,0,(VLOOKUP($B35,' Circular 00435 de 2015'!$B$24:$H$51,7,0))) -> 1827985 | R35: =+Q35*P35 -> 67635445
A36: 27 | B36: 12 horas diurnas lunes a sábado con arma sin festivos | E36: =+IF(D36=0,0,(VLOOKUP($B36,' Circular 00435 de 2015'!$B$24:$H$51,7,0))) -> 0 | F36: =+E36*D36 -> 0 | H36: =+IF(G36=0,0,(VLOOKUP($B36,' Circular 00435 de 2015'!$B$24:$H$51,7,0))) -> 0 | I36: =+H36*G36 -> 0 | J36: 2 | K36: =+IF(J36=0,0,(VLOOKUP($B36,' Circular 00435 de 2015'!$B$24:$H$51,7,0))) -> 1117102 | L36: =+K36*J36 -> 2234204 | N36: =+IF(M36=0,0,(VLOOKUP($B36,' Circular 00435 de 2015'!$B$24:$H$51,7,0))) -> 0 | O36: =+N36*M36 -> 0 | Q36: =+IF(P36=0,0,(VLOOKUP($B36,' Circular 00435 de 2015'!$B$24:$H$51,7,0))) -> 0 | R36: =+Q36*P36 -> 0
A37: 28 | B37: 12 horas diurnas lunes a sábado sin arma con festivos | D37: 1 | E37: =+IF(D37=0,0,(VLOOKUP($B37,' Circular 00435 de 2015'!$B$24:$H$51,7,0))) -> 1188190 | F37: =+E37*D37 -> 1188190 | H37: =+IF(G37=0,0,(VLOOKUP($B37,' Circular 00435 de 2015'!$B$24:$H$51,7,0))) -> 0 | I37: =+H37*G37 -> 0 | K37: =+IF(J37=0,0,(VLOOKUP($B37,' Circular 00435 de 2015'!$B$24:$H$51,7,0))) -> 0 | L37: =+K37*J37 -> 0 | N37: =+IF(M37=0,0,(VLOOKUP($B37,' Circular 00435 de 2015'!$B$24:$H$51,7,0))) -> 0 | O37: =+N37*M37 -> 0 | Q37: =+IF(P37=0,0,(VLOOKUP($B37,' Circular 00435 de 2015'!$B$24:$H$51,7,0))) -> 0 | R37: =+Q37*P37 -> 0
B38: Conductor Escolta para el vehículo destinado al apoyo de la supervisión | D38: 1 | F38: =+E38*D38 -> 0 | G38: 1 | I38: =+H38*G38 -> 0 | J38: 1 | L38: =+K38*J38 -> 0 | M38: 1 | O38: =+N38*M38 -> 0 | P38: 1 | R38: =+Q38*P38 -> 0
B39: TOTAL POR MACRO REGIÓN | D39: =SUM(D24:D37) -> 182 | E39: SUBTOTAL 2015 | F39: =SUM(F24:F38) -> 847876038 | G39: =SUM(G24:G37) -> 108 | H39: SUBTOTAL 2015 | I39: =SUM(I24:I38) -> 584562811 | J39: =SUM(J24:J37) -> 100 | K39: SUBTOTAL 2015 | L39: =SUM(L24:L38) -> 479334991 | M39: =SUM(M24:M37) -> 75 | N39: SUBTOTAL 2015 | O39: =SUM(O24:O38) -> 416543246 | P39: =SUM(P24:P37) -> 109 | Q39: SUBTOTAL 2015 | R39: =SUM(R24:R38) -> 490444292
D40: BASE DEL 10% PARA IMPUESTO IVA | F40: =+F39*10% -> 84787604 | G40: BASE DEL 10% PARA IMPUESTO IVA | I40: =+I39*10% -> 58456281 | J40: BASE DEL 10% PARA IMPUESTO IVA | L40: =+L39*10% -> 47933499 | M40: BASE DEL 10% PARA IMPUESTO IVA | O40: =+O39*10% -> 41654325 | P40: BASE DEL 10% PARA IMPUESTO IVA | R40: =+R39*10% -> 49044429
D41: IVA | E41: 0.16 | F41: =+F40*E41 -> 13566017 | G41: IVA | H41: 0.16 | I41: =+I40*H41 -> 9353005 | J41: IVA | K41: 0.16 | L41: =+L40*K41 -> 7669359.9 | M41: IVA | N41: 0.16 | O41: =+O40*N41 -> 6664691.9 | P41: IVA | Q41: 0.16 | R41: =+R40*Q41 -> 7847108.7
D42: PRECIO MENSUAL TURNOS DE VIGILANCIA MACRO REGIÓN No.1 - 2015 | F42: =+ROUND(F39+F41,0) -> 861442055 | G42: PRECIO MENSUAL TURNOS DE VIGILANCIA MACRO REGIÓN No.2 - 2015 | I42: =+ROUND(I39+I41,0) -> 593915816 | J42: PRECIO MENSUAL TURNOS DE VIGILANCIA MACRO REGIÓN No.3 - 2015 | L42: =+ROUND(L39+L41,0) -> 487004351 | M42: PRECIO MENSUAL TURNOS DE VIGILANCIA MACRO REGIÓN No.4 - 2015 | O42: =+ROUND(O39+O41,0) -> 423207938 | P42: PRECIO MENSUAL TURNOS DE VIGILANCIA MACRO REGIÓN No.5 - 2015 | R42: =+ROUND(R39+R41,0) -> 498291401
D44: MACRO REGIÓN UNO (1) | G44: MACRO REGIÓN DOS (2) | J44: MACRO REGIÓN TRES (3) | M44: MACRO REGIÓN CUATRO (4) | P44: MACRO REGIÓN CINCO (5)
B45: MEDIOS TECNOLÓGICOS Y MONITOREO | D45: Cantidad | E45: Precio Unitario Mensual Antes de IVA | F45: Precio Total Mensual Antes de IVA | G45: Cantidad | H45: Precio Unitario Mensual Antes de IVA | I45: Precio Total Mensual Antes de IVA | J45: Cantidad | K45: Precio Unitario Mensual Antes de IVA | L45: Precio Total Mensual Antes de IVA | M45: Cantidad | N45: Precio Unitario Mensual Antes de IVA | O45: Precio Total Mensual Antes de IVA | P45: Cantidad | Q45: Precio Unitario Mensual Antes de IVA | R45: Precio Total Mensual Antes de IVA
B46: Detectores Manuales de Metales | D46: =4+21+16+10+1+2+2+7 -> 63 | F46: =+E46*D46 -> 0 | G46: =15+11+7+7+9+6+11 -> 66 | I46: =+H46*G46 -> 0 | J46: =20+9+9+9+6+10 -> 63 | L46: =+K46*J46 -> 0 | M46: =10+9+6+9+4+4 -> 42 | O46: =+N46*M46 -> 0 | P46: =12+13+5+8+3+1+3 -> 45 | R46: =+Q46*P46 -> 0
B47: Arcos Detectores de Metales | D47: =3+15+12+7+1+1+1+2 -> 42 | F47: =+E47*D47 -> 0 | G47: =3+2+2+1+4+2+1 -> 15 | I47: =+H47*G47 -> 0 | J47: =3+1+1+1+2+1 -> 9 | L47: =+K47*J47 -> 0 | M47: =2+1+1+1+1+1 -> 7 | O47: =+N47*M47 -> 0 | P47: =4+4+2+2+1+1+1 -> 15 | R47: =+Q47*P47 -> 0
B48: Computadores All in One | D48: =4+2+1+8+1+1+1+2 -> 20 | F48: =+E48*D48 -> 0 | G48: =3+1+1+1+1+1+1 -> 9 | I48: =+H48*G48 -> 0 | J48: =2+1+1+1+2+1 -> 8 | L48: =+K48*J48 -> 0 | M48: =2+1+1+1+1 -> 6 | O48: =+N48*M48 -> 0 | P48: =5+4+2+4+1+1+1 -> 18 | R48: =+Q48*P48 -> 0
B49: Rayos X | D49: =1+1 -> 2 | F49: =+E49*D49 -> 0 | G49: 1 | I49: =+H49*G49 -> 0 | J49: 1 | L49: =+K49*J49 -> 0 | M49: 1 | O49: =+N49*M49 -> 0 | P49: 1 | R49: =+Q49*P49 -> 0
B50: Circuitos cerrados de televisión (Nota 4) | D50: =7+29+18+11+2+3+2+3 -> 75 | F50: =+E50*D50 -> 0 | G50: =31+12+9+7+10+6+15 -> 90 | I50: =+H50*G50 -> 0 | J50: =20+11+8+11+7+9 -> 66 | L50: =+K50*J50 -> 0 | M50: =9+11+7+10+6+4 -> 47 | O50: =+N50*M50 -> 0 | P50: =14+14+9+9+4+2+5 -> 57 | R50: =+Q50*P50 -> 0
B51: Domos | D51: =4+3 -> 7 | F51: =+E51*D51 -> 0 | G51: =1+1+1+1+1+1 -> 6 | I51: =+H51*G51 -> 0 | J51: =2+1+1+1+2+1 -> 8 | L51: =+K51*J51 -> 0 | O51: =+N51*M51 -> 0 | R51: =+Q51*P51 -> 0
B52: Cámaras IP | D52: =1+18+3+1+1+1+1+1 -> 27 | F52: =+E52*D52 -> 0 | G52: 6 | I52: =+H52*G52 -> 0 | J52: =3+1+2+8+1+1 -> 16 | L52: =+K52*J52 -> 0 | M52: =10+5+2+3+1+1 -> 22 | O52: =+N52*M52 -> 0 | P52: =5+7+3+4+1+1+1 -> 22 | R52: =+Q52*P52 -> 0
...

Sheet FORMATO COTIZACIÓN-ESCENARIO 2
B9: SOLICITUD DE COTIZACIÓN
B10: Empresa: | D10: Nit: | H10: Fecha:
B11: Contacto: | D11: Cargo: | H11: Tel. celular:
B12: E-Mail: | D12: Dirección: | H12: Tel. fijo:
B14: Instrucciones para el diligenciamiento del formato de cotización
B15: • Por favor diligenciar solo las celdas en AMARILLO. Se deben llenar todas las casillas. • Revisar todos los requerimientos que se exponen en el documento "Ficha de Condiciones Técnicas" y anexos; y formular su cotización en concordancia con este. • Asignar precio MENSUAL sin incluir el IVA para cada ítem de los elementos tecnológicos en cada Macro Región. • El valor de la cotización deber ser expresado en PESOS COLOMBIANOS. • Los valores unitarios deberán aproximarse por exceso o por defecto al entero más cercano. Si la cifra no está aproximada y aparece con centavos, el ICBF aproximará al entero inferior. • No modificar, agregar o quitar ningún ítem o sub-ítem. • Por favor indicar en la hoja "Medios Tecnológicos" si los equipos cotizados son propios o alquilados.
B16: Notas: (1) Se estima un incremento del 3,66% para el SMMLV de los años 2016, 2017 y 2018 a partir de lo definido en la Circular No.07 de 2015 del Ministerio de Hacienda. Sin embargo, para dicha vigencia en el contrato a suscribir, se ajustará el porcentaje de incremento del SMMLV de acuerdo a la normatividad que regula el servicio de vigilancia. (2) Para efectos de cotización se requiere el valor unitario mensual para cada ítem de los elementos tecnológicos. Con dichos valores y los tomados de la circular 20147000000435 del 31 de diciembre de 2014 para los turnos de vigilancia, serán realizados los cálculos para la ejecución del contrato durante 15 días de la vigencia 2015, 12 meses en las vigencia 2016 y 2017, y 5 meses 15 días para la vigencia 2018. (3) El precio por concepto de la supervisión operativa móvil, (Coordinador del contrato – Supervisores) no generará costo alguno para la entidad contratante (ICBF). (4) El número de cámaras requerido para cada uno de los circuitos cerrados de televisión (CCTV) se encuentra en la FCT de cada macroregión.
E18: 2015 | F18: 2016 | G18: 2017 | H18: 2018
B19: TIEMPO DE EJECUCIÓN (meses) (Nota 1) | E19: 0.5 | F19: 12 | G19: 12 | H19: 5.5
B20: SMMLV (Nota 2) | E20: =+' Circular 00435 de 2015'!G12 -> 644350 | F20: =+' Circular 00435 de 2015'!H12 -> 667933.21 | G20: =+' Circular 00435 de 2015'!I12 -> 692379.57 | H20: =+' Circular 00435 de 2015'!J12 -> 717720.66
D22: MACRO REGIÓN UNO (1) | G22: MACRO REGIÓN DOS (2) | J22: MACRO REGIÓN TRES (3) | M22: MACRO REGIÓN CUATRO (4) | P22: MACRO REGIÓN CINCO (5)
B23: TURNOS DE VIGILANCIA | D23: Cantidad | E23: Precio Unitario Mensual Antes de IVA | F23: Precio Total Mensual Antes de IVA | G23: Cantidad | H23: Precio Unitario Mensual Antes de IVA | I23: Precio Total Mensual Antes de IVA | J23: Cantidad | K23: Precio Unitario Mensual Antes de IVA | L23: Precio Total Mensual Antes de IVA | M23: Cantidad | N23: Precio Unitario Mensual Antes de IVA | O23: Precio Total Mensual Antes de IVA | P23: Cantidad | Q23: Precio Unitario Mensual Antes de IVA | R23: Precio Total Mensual Antes de IVA
A24: 1 | B24: 24 horas lunes a domingo sin arma | D24: =3+4+1 -> 8 | E24: =+IF(D24=0,0,(VLOOKUP($B24,' Circular 00435 de 2015'!$B$24:$H$51,7,0))) -> 6123902 | F24: =+E24*D24 -> 48991216 | G24: 1 | H24: =+IF(G24=0,0,(VLOOKUP($B24,' Circular 00435 de 2015'!$B$24:$H$51,7,0))) -> 6123902 | I24: =+H24*G24 -> 6123902 | J24: =2+2 -> 4 | K24: =+IF(J24=0,0,(VLOOKUP($B24,' Circular 00435 de 2015'!$B$24:$H$51,7,0))) -> 6123902 | L24: =+K24*J24 -> 24495608 | M24: =1+2 -> 3 | N24: =+IF(M24=0,0,(VLOOKUP($B24,' Circular 00435 de 2015'!$B$24:$H$51,7,0))) -> 6123902 | O24: =+N24*M24 -> 18371706 | P24: =5+1+2+3 -> 11 | Q24: =+IF(P24=0,0,(VLOOKUP($B24,' Circular 00435 de 2015'!$B$24:$H$51,7,0))) -> 6123902 | R24: =+Q24*P24 -> 67362922
A25: 2 | B25: 24 horas lunes a domingo con arma | D25: =26-1+31+22+12+1+2+1+9+3 -> 106 | E25: =+IF(D25=0,0,(VLOOKUP($B25,' Circular 00435 de 2015'!$B$24:$H$51,7,0))) -> 6237308 | F25: =+E25*D25 -> 661154648 | G25: =23-1+12+14+7+9+8+13 -> 85 | H25: =+IF(G25=0,0,(VLOOKUP($B25,' Circular 00435 de 2015'!$B$24:$H$51,7,0))) -> 6237308 | I25: =+H25*G25 -> 530171180 | J25: =22-1+10+7+8+6+10 -> 62 | K25: =+IF(J25=0,0,(VLOOKUP($B25,' Circular 00435 de 2015'!$B$24:$H$51,7,0))) -> 6237308 | L25: =+K25*J25 -> 386713096 | M25: =16-1+18+8+9+6+4 -> 60 | N25: =+IF(M25=0,0,(VLOOKUP($B25,' Circular 00435 de 2015'!$B$24:$H$51,7,0))) -> 6237308 | O25: =+N25*M25 -> 374238480 | P25: =13-1+14+8+10+5+1+4 -> 54 | Q25: =+IF(P25=0,0,(VLOOKUP($B25,' Circular 00435 de 2015'!$B$24:$H$51,7,0))) -> 6237308 | R25: =+Q25*P25 -> 336814632
A26: 5 | B26: 12 horas diurnas lunes a domingo sin arma | E26: =+IF(D26=0,0,(VLOOKUP($B26,' Circular 00435 de 2015'!$B$24:$H$51,7,0))) -> 0 | F26: =+E26*D26 -> 0 | H26: =+IF(G26=0,0,(VLOOKUP($B26,' Circular 00435 de 2015'!$B$24:$H$51,7,0))) -> 0 | I26: =+H26*G26 -> 0 | J26: 3 | K26: =+IF(J26=0,0,(VLOOKUP($B26,' Circular 00435 de 2015'!$B$24:$H$51,7,0))) -> 2741977 | L26: =+K26*J26 -> 8225931 | N26: =+IF(M26=0,0,(VLOOKUP($B26,' Circular 00435 de 2015'!$B$24:$H$51,7,0))) -> 0 | O26: =+N26*M26 -> 0 | P26: 1 | Q26: =+IF(P26=0,0,(VLOOKUP($B26,' Circular 00435 de 2015'!$B$24:$H$51,7,0))) -> 2741977 | R26: =+Q26*P26 -> 2741977
A27: 6 | B27: 12 horas nocturnas lunes a domingo con arma | E27: =+IF(D27=0,0,(VLOOKUP($B27,' Circular 00435 de 2015'!$B$24:$H$51,7,0))) -> 0 | F27: =+E27*D27 -> 0 | G27: 2 | H27: =+IF(G27=0,0,(VLOOKUP($B27,' Circular 00435 de 2015'!$B$24:$H$51,7,0))) -> 3770453 | I27: =+H27*G27 -> 7540906 | K27: =+IF(J27=0,0,(VLOOKUP($B27,' Circular 00435 de 2015'!$B$24:$H$51,7,0))) -> 0 | L27: =+K27*J27 -> 0 | N27: =+IF(M27=0,0,(VLOOKUP($B27,' Circular 00435 de 2015'!$B$24:$H$51,7,0))) -> 0 | O27: =+N27*M27 -> 0 | P27: 1 | Q27: =+IF(P27=0,0,(VLOOKUP($B27,' Circular 00435 de 2015'!$B$24:$H$51,7,0))) -> 3770453 | R27: =+Q27*P27 -> 3770453
A28: 7 | B28: 12 horas diurnas lunes a domingo con canino | D28: =1+1 -> 2 | E28: =+IF(D28=0,0,(VLOOKUP($B28,' Circular 00435 de 2015'!$B$24:$H$51,7,0))) -> 2818143 | F28: =+E28*D28 -> 5636286 | H28: =+IF(G28=0,0,(VLOOKUP($B28,' Circular 00435 de 2015'!$B$24:$H$51,7,0))) -> 0 | I28: =+H28*G28 -> 0 | K28: =+IF(J28=0,0,(VLOOKUP($B28,' Circular 00435 de 2015'!$B$24:$H$51,7,0))) -> 0 | L28: =+K28*J28 -> 0 | N28: =+IF(M28=0,0,(VLOOKUP($B28,' Circular 00435 de 2015'!$B$24:$H$51,7,0))) -> 0 | O28: =+N28*M28 -> 0 | Q28: =+IF(P28=0,0,(VLOOKUP($B28,' Circular 00435 de 2015'!$B$24:$H$51,7,0))) -> 0 | R28: =+Q28*P28 -> 0
A29: 9 | B29: 12 horas diurnas lunes a viernes sin arma con festivos | D29: =13+30+14+2+1 -> 60 | E29: =+IF(D29=0,0,(VLOOKUP($B29,' Circular 00435 de 2015'!$B$24:$H$51,7,0))) -> 2010783 | F29: =+E29*D29 -> 120646980 | G29: 4 | H29: =+IF(G29=0,0,(VLOOKUP($B29,' Circular 00435 de 2015'!$B$24:$H$51,7,0))) -> 2010783 | I29: =+H29*G29 -> 8043132 | J29: =3+2 -> 5 | K29: =+IF(J29=0,0,(VLOOKUP($B29,' Circular 00435 de 2015'!$B$24:$H$51,7,0))) -> 2010783 | L29: =+K29*J29 -> 10053915 | N29: =+IF(M29=0,0,(VLOOKUP($B29,' Circular 00435 de 2015'!$B$24:$H$51,7,0))) -> 0 | O29: =+N29*M29 -> 0 | Q29: =+IF(P29=0,0,(VLOOKUP($B29,' Circular 00435 de 2015'!$B$24:$H$51,7,0))) -> 0 | R29: =+Q29*P29 -> 0
A30: 10 | B30: 12 horas diurnas lunes a viernes con canino sin festivos | E30: =+IF(D30=0,0,(VLOOKUP($B30,' Circular 00435 de 2015'!$B$24:$H$51,7,0))) -> 0 | F30: =+E30*D30 -> 0 | G30: 1 | H30: =+IF(G30=0,0,(VLOOKUP($B30,' Circular 00435 de 2015'!$B$24:$H$51,7,0))) -> 1878762 | I30: =+H30*G30 -> 1878762 | J30: 1 | K30: =+IF(J30=0,0,(VLOOKUP($B30,' Circular 00435 de 2015'!$B$24:$H$51,7,0))) -> 1878762 | L30: =+K30*J30 -> 1878762 | M30: 1 | N30: =+IF(M30=0,0,(VLOOKUP($B30,' Circular 00435 de 2015'!$B$24:$H$51,7,0))) -> 1878762 | O30: =+N30*M30 -> 1878762 | P30: 1 | Q30: =+IF(P30=0,0,(VLOOKUP($B30,' Circular 00435 de 2015'!$B$24:$H$51,7,0))) -> 1878762 | R30: =+Q30*P30 -> 1878762
A31: 11 | B31: 12 horas diurnas lunes a viernes con arma con festivos | D31: 4 | E31: =+IF(D31=0,0,(VLOOKUP($B31,' Circular 00435 de 2015'!$B$24:$H$51,7,0))) -> 2048020 | F31: =+E31*D31 -> 8192080 | G31: 6 | H31: =+IF(G31=0,0,(VLOOKUP($B31,' Circular 00435 de 2015'!$B$24:$H$51,7,0))) -> 2048020 | I31: =+H31*G31 -> 12288120 | J31: =1+4+3 -> 8 | K31: =+IF(J31=0,0,(VLOOKUP($B31,' Circular 00435 de 2015'!$B$24:$H$51,7,0))) -> 2048020 | L31: =+K31*J31 -> 16384160 | M31: =3+1 -> 4 | N31: =+IF(M31=0,0,(VLOOKUP($B31,' Circular 00435 de 2015'!$B$24:$H$51,7,0))) -> 2048020 | O31: =+N31*M31 -> 8192080 | Q31: =+IF(P31=0,0,(VLOOKUP($B31,' Circular 00435 de 2015'!$B$24:$H$51,7,0))) -> 0 | R31: =+Q31*P31 -> 0
A32: 12 | B32: 12 horas diurnas lunes a viernes con arma sin festivos | E32: =+IF(D32=0,0,(VLOOKUP($B32,' Circular 00435 de 2015'!$B$24:$H$51,7,0))) -> 0 | F32: =+E32*D32 -> 0 | G32: 4 | H32: =+IF(G32=0,0,(VLOOKUP($B32,' Circular 00435 de 2015'!$B$24:$H$51,7,0))) -> 1861836 | I32: =+H32*G32 -> 7447344 | K32: =+IF(J32=0,0,(VLOOKUP($B32,' Circular 00435 de 2015'!$B$24:$H$51,7,0))) -> 0 | L32: =+K32*J32 -> 0 | M32: =2+1 -> 3 | N32: =+IF(M32=0,0,(VLOOKUP($B32,' Circular 00435 de 2015'!$B$24:$H$51,7,0))) -> 1861836 | O32: =+N32*M32 -> 5585508 | P32: 1 | Q32: =+IF(P32=0,0,(VLOOKUP($B32,' Circular 00435 de 2015'!$B$24:$H$51,7,0))) -> 1861836 | R32: =+Q32*P32 -> 1861836
A33: 13 | B33: 12 horas diurnas lunes a viernes con canino con festivos | D33: 1 | E33: =+IF(D33=0,0,(VLOOKUP($B33,' Circular 00435 de 2015'!$B$24:$H$51,7,0))) -> 2066638 | F33: =+E33*D33 -> 2066638 | H33: =+IF(G33=0,0,(VLOOKUP($B33,' Circular 00435 de 2015'!$B$24:$H$51,7,0))) -> 0 | I33: =+H33*G33 -> 0 | K33: =+IF(J33=0,0,(VLOOKUP($B33,' Circular 00435 de 2015'!$B$24:$H$51,7,0))) -> 0 | L33: =+K33*J33 -> 0 | N33: =+IF(M33=0,0,(VLOOKUP($B33,' Circular 00435 de 2015'!$B$24:$H$51,7,0))) -> 0 | O33: =+N33*M33 -> 0 | Q33: =+IF(P33=0,0,(VLOOKUP($B33,' Circular 00435 de 2015'!$B$24:$H$51,7,0))) -> 0 | R33: =+Q33*P33 -> 0
A34: 14 | B34: 12 horas diurnas lunes a domingo con arma | E34: =+IF(D34=0,0,(VLOOKUP($B34,' Circular 00435 de 2015'!$B$24:$H$51,7,0))) -> 0 | F34: =+E34*D34 -> 0 | G34: 2 | H34: =+IF(G34=0,0,(VLOOKUP($B34,' Circular 00435 de 2015'!$B$24:$H$51,7,0))) -> 2792755 | I34: =+H34*G34 -> 5585510 | J34: 2 | K34: =+IF(J34=0,0,(VLOOKUP($B34,' Circular 00435 de 2015'!$B$24:$H$51,7,0))) -> 2792755 | L34: =+K34*J34 -> 5585510 | M34: 1 | N34: =+IF(M34=0,0,(VLOOKUP($B34,' Circular 00435 de 2015'!$B$24:$H$51,7,0))) -> 2792755 | O34: =+N34*M34 -> 2792755 | P34: =1+2 -> 3 | Q34: =+IF(P34=0,0,(VLOOKUP($B34,' Circular 00435 de 2015'!$B$24:$H$51,7,0))) -> 2792755 | R34: =+Q34*P34 -> 8378265
A35: 15 | B35: 12 horas diurnas lunes a viernes sin arma sin festivos | E35: =+IF(D35=0,0,(VLOOKUP($B35,' Circular 00435 de 2015'!$B$24:$H$51,7,0))) -> 0 | F35: =+E35*D35 -> 0 | G35: 3 | H35: =+IF(G35=0,0,(VLOOKUP($B35,' Circular 00435 de 2015'!$B$24:$H$51,7,0))) -> 1827985 | I35: =+H35*G35 -> 5483955 | J35: =5+3+2+3 -> 13 | K35: =+IF(J35=0,0,(VLOOKUP($B35,' Circular 00435 de 2015'!$B$24:$H$51,7,0))) -> 1827985 | L35: =+K35*J35 -> 23763805 | M35: =1+2 -> 3 | N35: =+IF(M35=0,0,(VLOOKUP($B35,' Circular 00435 de 2015'!$B$24:$H$51,7,0))) -> 1827985 | O35: =+N35*M35 -> 5483955 | P35: =12+7+5+8+2+1+2 -> 37 | Q35: =+IF(P35=0,0,(VLOOKUP($B35,' Circular 00435 de 2015'!$B$24:$H$51,7,0))) -> 1827985 | R35: =+Q35*P35 -> 67635445
A36: 27 | B36: 12 horas diurnas lunes a sábado con arma sin festivos | E36: =+IF(D36=0,0,(VLOOKUP($B36,' Circular 00435 de 2015'!$B$24:$H$51,7,0))) -> 0 | F36: =+E36*D36 -> 0 | H36: =+IF(G36=0,0,(VLOOKUP($B36,' Circular 00435 de 2015'!$B$24:$H$51,7,0))) -> 0 | I36: =+H36*G36 -> 0 | J36: 2 | K36: =+IF(J36=0,0,(VLOOKUP($B36,' Circular 00435 de 2015'!$B$24:$H$51,7,0))) -> 1117102 | L36: =+K36*J36 -> 2234204 | N36: =+IF(M36=0,0,(VLOOKUP($B36,' Circular 00435 de 2015'!$B$24:$H$51,7,0))) -> 0 | O36: =+N36*M36 -> 0 | Q36: =+IF(P36=0,0,(VLOOKUP($B36,' Circular 00435 de 2015'!$B$24:$H$51,7,0))) -> 0 | R36: =+Q36*P36 -> 0
A37: 28 | B37: 12 horas diurnas lunes a sábado sin arma con festivos | D37: 1 | E37: =+IF(D37=0,0,(VLOOKUP($B37,' Circular 00435 de 2015'!$B$24:$H$51,7,0))) -> 1188190 | F37: =+E37*D37 -> 1188190 | H37: =+IF(G37=0,0,(VLOOKUP($B37,' Circular 00435 de 2015'!$B$24:$H$51,7,0))) -> 0 | I37: =+H37*G37 -> 0 | K37: =+IF(J37=0,0,(VLOOKUP($B37,' Circular 00435 de 2015'!$B$24:$H$51,7,0))) -> 0 | L37: =+K37*J37 -> 0 | N37: =+IF(M37=0,0,(VLOOKUP($B37,' Circular 00435 de 2015'!$B$24:$H$51,7,0))) -> 0 | O37: =+N37*M37 -> 0 | Q37: =+IF(P37=0,0,(VLOOKUP($B37,' Circular 00435 de 2015'!$B$24:$H$51,7,0))) -> 0 | R37: =+Q37*P37 -> 0
B38: Conductor Escolta para el vehículo destinado al apoyo de la supervisión | D38: 1 | F38: =+E38*D38 -> 0 | G38: 1 | I38: =+H38*G38 -> 0 | J38: 1 | L38: =+K38*J38 -> 0 | M38: 1 | O38: =+N38*M38 -> 0 | P38: 1 | R38: =+Q38*P38 -> 0
B39: TOTAL POR MACRO REGIÓN | D39: =SUM(D24:D37) -> 182 | E39: SUBTOTAL 2015 | F39: =SUM(F24:F38) -> 847876038 | G39: =SUM(G24:G37) -> 108 | H39: SUBTOTAL 2015 | I39: =SUM(I24:I38) -> 584562811 | J39: =SUM(J24:J37) -> 100 | K39: SUBTOTAL 2015 | L39: =SUM(L24:L38) -> 479334991 | M39: =SUM(M24:M37) -> 75 | N39: SUBTOTAL 2015 | O39: =SUM(O24:O38) -> 416543246 | P39: =SUM(P24:P37) -> 109 | Q39: SUBTOTAL 2015 | R39: =SUM(R24:R38) -> 490444292
D40: BASE DEL 10% PARA IMPUESTO IVA | F40: =+F39*10% -> 84787604 | G40: BASE DEL 10% PARA IMPUESTO IVA | I40: =+I39*10% -> 58456281 | J40: BASE DEL 10% PARA IMPUESTO IVA | L40: =+L39*10% -> 47933499 | M40: BASE DEL 10% PARA IMPUESTO IVA | O40: =+O39*10% -> 41654325 | P40: BASE DEL 10% PARA IMPUESTO IVA | R40: =+R39*10% -> 49044429
D41: IVA | E41: 0.16 | F41: =+F40*E41 -> 13566017 | G41: IVA | H41: 0.16 | I41: =+I40*H41 -> 9353005 | J41: IVA | K41: 0.16 | L41: =+L40*K41 -> 7669359.9 | M41: IVA | N41: 0.16 | O41: =+O40*N41 -> 6664691.9 | P41: IVA | Q41: 0.16 | R41: =+R40*Q41 -> 7847108.7
D42: PRECIO MENSUAL TURNOS DE VIGILANCIA MACRO REGIÓN No.1 - 2015 | F42: =+ROUND(F39+F41,0) -> 861442055 | G42: PRECIO MENSUAL TURNOS DE VIGILANCIA MACRO REGIÓN No.2 - 2015 | I42: =+ROUND(I39+I41,0) -> 593915816 | J42: PRECIO MENSUAL TURNOS DE VIGILANCIA MACRO REGIÓN No.3 - 2015 | L42: =+ROUND(L39+L41,0) -> 487004351 | M42: PRECIO MENSUAL TURNOS DE VIGILANCIA MACRO REGIÓN No.4 - 2015 | O42: =+ROUND(O39+O41,0) -> 423207938 | P42: PRECIO MENSUAL TURNOS DE VIGILANCIA MACRO REGIÓN No.5 - 2015 | R42: =+ROUND(R39+R41,0) -> 498291401
D44: MACRO REGIÓN UNO (1) | G44: MACRO REGIÓN DOS (2) | J44: MACRO REGIÓN TRES (3) | M44: MACRO REGIÓN CUATRO (4) | P44: MACRO REGIÓN CINCO (5)
B45: MEDIOS TECNOLÓGICOS Y MONITOREO | D45: Cantidad | E45: Precio Unitario Mensual Antes de IVA | F45: Precio Total Mensual Antes de IVA | G45: Cantidad | H45: Precio Unitario Mensual Antes de IVA | I45: Precio Total Mensual Antes de IVA | J45: Cantidad | K45: Precio Unitario Mensual Antes de IVA | L45: Precio Total Mensual Antes de IVA | M45: Cantidad | N45: Precio Unitario Mensual Antes de IVA | O45: Precio Total Mensual Antes de IVA | P45: Cantidad | Q45: Precio Unitario Mensual Antes de IVA | R45: Precio Total Mensual Antes de IVA
B46: Detectores Manuales de Metales | D46: =4+21+16+10+1+2+2+7 -> 63 | F46: =+E46*D46 -> 0 | G46: =15+11+7+7+9+6+11 -> 66 | I46: =+H46*G46 -> 0 | J46: =20+9+9+9+6+10 -> 63 | L46: =+K46*J46 -> 0 | M46: =10+9+6+9+4+4 -> 42 | O46: =+N46*M46 -> 0 | P46: =12+13+5+8+3+1+3 -> 45 | R46: =+Q46*P46 -> 0
B47: Arcos Detectores de Metales | D47: =3+15+12+7+1+1+1+2 -> 42 | F47: =+E47*D47 -> 0 | G47: =3+2+2+1+4+2+1 -> 15 | I47: =+H47*G47 -> 0 | J47: =3+1+1+1+2+1 -> 9 | L47: =+K47*J47 -> 0 | M47: =2+1+1+1+1+1 -> 7 | O47: =+N47*M47 -> 0 | P47: =4+4+2+2+1+1+1 -> 15 | R47: =+Q47*P47 -> 0
B48: Computadores All in One | D48: =4+2+1+8+1+1+1+2 -> 20 | F48: =+E48*D48 -> 0 | G48: =3+1+1+1+1+1+1 -> 9 | I48: =+H48*G48 -> 0 | J48: =2+1+1+1+2+1 -> 8 | L48: =+K48*J48 -> 0 | M48: =2+1+1+1+1 -> 6 | O48: =+N48*M48 -> 0 | P48: =5+4+2+4+1+1+1 -> 18 | R48: =+Q48*P48 -> 0
B49: Rayos X | D49: =1+1 -> 2 | F49: =+E49*D49 -> 0 | G49: 1 | I49: =+H49*G49 -> 0 | J49: 1 | L49: =+K49*J49 -> 0 | M49: 1 | O49: =+N49*M49 -> 0 | P49: 1 | R49: =+Q49*P49 -> 0
B50: Circuitos cerrados de televisión (Nota 4) | D50: =7+29+18+11+2+3+2+3 -> 75 | F50: =+E50*D50 -> 0 | G50: =31+12+9+7+10+6+15 -> 90 | I50: =+H50*G50 -> 0 | J50: =20+11+8+11+7+9 -> 66 | L50: =+K50*J50 -> 0 | M50: =9+11+7+10+6+4 -> 47 | O50: =+N50*M50 -> 0 | P50: =14+14+9+9+4+2+5 -> 57 | R50: =+Q50*P50 -> 0
B51: Domos | D51: =4+3 -> 7 | F51: =+E51*D51 -> 0 | G51: =1+1+1+1+1+1 -> 6 | I51: =+H51*G51 -> 0 | J51: =2+1+1+1+2+1 -> 8 | L51: =+K51*J51 -> 0 | O51: =+N51*M51 -> 0 | R51: =+Q51*P51 -> 0
B52: Cámaras IP | D52: =1+18+3+1+1+1+1+1 -> 27 | F52: =+E52*D52 -> 0 | G52: 6 | I52: =+H52*G52 -> 0 | J52: =3+1+2+8+1+1 -> 16 | L52: =+K52*J52 -> 0 | M52: =10+5+2+3+1+1 -> 22 | O52: =+N52*M52 -> 0 | P52: =5+7+3+4+1+1+1 -> 22 | R52: =+Q52*P52 -> 0
...

Sheet Medios Tecnológicos
B2: Nota: Por favor indicar con una X en el siguiente cuadro si los equipos cotizados son propios o alquilados. (FAVOR DILIGENCIAR SEGÚN CORRESPONDA)
B5: MEDIOS TECNOLÓGICOS Y MONITOREO | C5: Equipos Propios | D5: Equipos Alquilados
B6: Detectores Manuales de Metales
B7: Arcos Detectores de Metales
B8: Computadores All in One
B9: Rayos X
B10: Circuitos cerrados de televisión (Nota 4)
B11: Domos
B12: Cámaras IP
B13: Alarmas monitoreadas
B14: Tecnologia IDEN - Trunking Digital
B15: Celular
B16: Radio
B17: Armerillo Capacidad 3 Armas
... B24: Ronderos

Sheet POLIZAS
B9: CONCEPTOS A TENER EN CUENTA PARA REALIZAR LA COTIZACIÓN DE DOTACIÓN INDUSTRIAL
B12: El presente cuadro es de carácter informativo, no se debe diligenciar. Sin embargo se entiende que la cotización incluye la totalidad de los conceptos relacionados a continuación.
B14: PÓLIZAS PARA LEGALIZACIÓN DEL CONTRATO
B16: CONCEPTO | D16: COBERTURA | E16: PLAZO (En Meses)
B17: Garantía de Seriedad de la oferta | D17: 0.1 | E17: Plazo de Ejecución
B18: Cumplimiento | D18: 0.2 | E18: Plazo de ejecución + 4 meses mas
B19: Salarios, Prestaciones | D19: 0.1 | E19: Plazo de ejecución + 36 meses mas
B20: Calidad de los Servicios | D20: 0.2 | E20: Plazo de ejecución + 4 meses mas
B21: Responsabilidad civil extracontractual | D21: 0.1 | E21: Plazo de Ejecución
B22: Cobertura: Corresponde al porcentaje del valor total del contrato a amparar.

Sheet INFO EXPERIENCIA
B8: EXPERIENCIA EN CONTRATACION EN LOS ULTIMOS 5 AÑOS
B9: EXPERIENCIA EN CONTRATACIÓN EN LOS ÚLTIMOS 5 AÑOS
B11: Con el fin de conocer la experiencia con la que cuentan las empresas del sector relacionada con el objeto del presente estudio de mercado, agradecemos diligenciar el cuadro que sigue con base en los contratos suscritos en los últimos 5 años, cuyos objetos están relacionados con el objeto del presente estudio de mercado
B13: Tipo de entidad | C13: Entidad o Empresa | D13: Numero del contrato | E13: Objeto del contrato | F13: Fecha de suscripción (dd/mmm/aa) | G13: Plazo de ejecución (en años) | H13: Forma de participación (UT, consorcio, individual) | I13: % de participación | J13: Valor total ejecutado del contrato (de acuerdo con el % de participación)
B25: Nota: Agregar las filas necesarias para reportar la experiencia
