Workbook
Name Decision: [1]lista!$A$6:$A$7
Name Decision: [1]lista!$A$6:$A$7
Name Decision: [1]lista!$A$6:$A$7
Name Decision: [2]lista!$A$6:$A$7
Name PARTICIPACION: [1]lista!$A$15:$A$17
Name PARTICIPACION: [1]lista!$A$15:$A$17
Name PARTICIPACION: [1]lista!$A$15:$A$17
Name PARTICIPACION: [2]lista!$A$15:$A$17
Name Procedencia: [1]lista!$A$2:$A$3
Name Procedencia: [1]lista!$A$2:$A$3
Name Procedencia: [1]lista!$A$2:$A$3
Name Procedencia: [2]lista!$A$2:$A$3
Name tipo: [1]lista!$A$11:$A$13
Name tipo: [1]lista!$A$11:$A$13
Name tipo: [1]lista!$A$11:$A$13
Name tipo: [2]lista!$A$11:$A$13
Name x: [3]lista!$A$11:$A$13

Sheet INFO GENERAL Y FINANCIERA
B8: Formato Información General Y Financiera De Proveedores
B10: Ciudad | M10: Fecha Dd/mm/aa | AD10: Persona Natural
AD11: Persona Jurídica
B12: 1. Información General
B13: 1.1. Identificación.
B14: Personas naturales | F14: Nombre Comercial | U14: Nombres y Apellidos | AK14: Cédula
B16: Personas jurídicas | F16: Razón Social | U16: NIT | AK16: DV
B18: Dirección | U18: Teléfono | AD18: Fax | AK18: Ciudad
B20: Pagina Web | U20: Años de Constitución | AD20: Sector al que pertenece
B22: 1.2. Personas De Contacto
B23: Gerente General | K23: E-mail | U23: Teléfono | AD23: Ext. | AK23: Celular
B25: Director Comercial | K25: E-mail | U25: Teléfono | AD25: Ext. | AK25: Celular
B27: Asesor Comercial | K27: E-mail | U27: Teléfono | AD27: Ext. | AK27: Celular
B29: 1.3. Productos Y Servicios Inscritos En El Rup De Acuerdo Con El Unspsc
B30: Incluir Listado Con Breve Descripción De Los Productos Y/o Servicios Que Ofrece La Compañía, Registrados En El Rup (agregue Las Filas Necesarias) | AK30: Código de Naciones Unidas
B36: 1.4. Códigos CIIU | AK36: 1.5. Número De Empleados
B37: Código De Actividad | F37: Descripción Actividad Económica CIIU | AD37: Tarifa ICA
B41: 2. Información Financiera - A Diciembre 31 De 2013
B42: Nombre Del Indicador | M42: Cuenta | U42: Valores En Pesos | AD42: Indicador
B43: Capacidad Financiera | F43: índice De Liquidez | M43: Activo Corriente --> | AD43: =+IFERROR(U43/U44,0) -> 0 | AK43: Veces
M44: Pasivo Corriente -->
F45: Índice De Endeudamiento | M45: Pasivo Total--> | AD45: =+IFERROR(U45/U46,0) -> 0 | AK45: Porcentaje
M46: Activo Total-->
F47: Razón De Cobertura De Intereses | M47: Utilidad Operacional--> | AD47: =+IFERROR(U47/U48,0) -> 0 | AK47: Veces
M48: Gastos De Interés-->
B49: Capacidad Organizacional | F49: Rentabilidad Del Patrimonio | M49: Utilidad Operacional--> | AD49: =+IFERROR(U49/U50,0) -> 0 | AK49: Porcentaje
M50: Patrimonio-->
F51: Rentabilidad Del Activo | M51: Utilidad Operacional--> | AD51: =+IFERROR(U51/U52,0) -> 0 | AK51: Porcentaje
M52: Activo Total-->
B53: Nota: Para las empresas inspeccionadas, vigiladas o controladas por la Supersociedades, la información consignada en este numeral será validada con la reportada a la Supersociedades y disponible para consulta en Internet mediante el Sistema de Información y Riesgo Empresarial de la Supersociedades (SIREM). Si se evidencian diferencias en los valores consignados en este formato y los reportados a la Supersociedades se tomará como referencia la información del SIREM.
B54: Otra información relevante de la empresa (consigne en este espacio otra información que considere de interés)

Sheet SDC Vigilancia 
B9: COTIZACIÓN- VIGILANCIA
B12: EMPRESA: | F12: NIT: | I12: FECHA:
B13: CONTACTO | F13: CARGO: | I13: TEL. CELULAR :
B14: E-MAIL: | F14: DIRECCIÓN: | I14: TELEFONO FIJO:
B16: Instrucciones para el diligenciamiento del formato de cotización
B17: • Por favor diligenciar solo las celdas en AMARILLO. Se deben llenar todas las casillas. • Revisar todos los requerimientos que se exponen en el documento "Ficha de Condiciones Técnicas" y Anexos; y formular su cotización en concordancia con este. • Asignar precio sin incluir el IVA en las celda de la columna "G" para los elementos tecnologicos. • El valor de la cotización deber ser expresado en PESOS COLOMBIANOS. • Los valores unitarios deberán aproximarse por exceso o por defecto al entero más cercano. Si la cifra no está aproximada y aparece con centavos, el ICBF aproximará al entero inferior. • No modificar, agregar o quitar ningún ítem o sub-ítem.
B18: Notas: (1) Sede de la Dirección General: Los servicios caninos deben poseer adiestramiento en antiexplosivos y defensa controlada. (2) Regional Bogotá: Los servicios caninos deben poseer adiestramiento en antiexplosivos.
D20: 2014
B21: TIEMPO DE EJECUCIÓN (meses) | D21: 1
B22: SMLMV (**) | D22: 616600
B24: TURNOS | C24: Sede de la Dirección General | D24: Regional Bogotá | E24: Regional Cundinamarca | F24: total | G24: valor unitario | H24: valor A y S (8%, 10%, 11%) | I24: valor unitario incluido A y S | J24: valor total antes de IVA
B25: 24 horas lunes a domingo con arma | C25: 5 | D25: 49 | E25: 23 | F25: =SUM(C25:E25) -> 77 | G25: =+($D$22*8.8)*VLOOKUP($B25,' Circular '!$B$24:$E$32,2,0)*VLOOKUP($B25,' Circular '!$B$24:$E$32,3,0) -> 5426080 | H25: =+G25*VLOOKUP($B25,' Circular '!$B$24:$E$32,4,0) -> 542608 | I25: =+ROUND(H25+G25,0) -> 5968688 | J25: =+I25*F25*$D$21 -> 459588976
B26: 12 horas diurnas lunes a domingo con canino | C26: 1 | D26: 0 | E26: 0 | F26: =SUM(C26:E26) -> 1 | G26: =+($D$22*8.8)*VLOOKUP($B26,' Circular '!$B$24:$E$32,2,0)*VLOOKUP($B26,' Circular '!$B$24:$E$32,3,0) -> 2429527.3 | H26: =+G26*VLOOKUP($B26,' Circular '!$B$24:$E$32,4,0) -> 267248.01 | I26: =+ROUND(H26+G26,0) -> 2696775 | J26: =+I26*F26*$D$21 -> 2696775
B27: 12 horas diurnas con arma | C27: 0 | D27: 10 | E27: 0 | F27: =SUM(C27:E27) -> 10 | G27: =+($D$22*8.8)*VLOOKUP($B27,' Circular '!$B$24:$E$32,2,0)*VLOOKUP($B27,' Circular '!$B$24:$E$32,3,0) -> 2429527.3 | H27: =+G27*VLOOKUP($B27,' Circular '!$B$24:$E$32,4,0) -> 242952.73 | I27: =+ROUND(H27+G27,0) -> 2672480 | J27: =+I27*F27*$D$21 -> 26724800
B28: 12 horas diurnas sin arma | C28: 9 | D28: 13 | E28: 0 | F28: =SUM(C28:E28) -> 22 | G28: =+($D$22*8.8)*VLOOKUP($B28,' Circular '!$B$24:$E$32,2,0)*VLOOKUP($B28,' Circular '!$B$24:$E$32,3,0) -> 2429527.3 | H28: =+G28*VLOOKUP($B28,' Circular '!$B$24:$E$32,4,0) -> 194362.19 | I28: =+ROUND(H28+G28,0) -> 2623890 | J28: =+I28*F28*$D$21 -> 57725580
B29: 12 horas lunes a viernes diurnas sin arma | C29: 0 | D29: 0 | E29: 2 | F29: =SUM(C29:E29) -> 2 | G29: =+($D$22*8.8)*VLOOKUP($B29,' Circular '!$B$24:$E$32,2,0)*VLOOKUP($B29,' Circular '!$B$24:$E$32,3,0) -> 1781653.4 | H29: =+G29*VLOOKUP($B29,' Circular '!$B$24:$E$32,4,0) -> 142532.27 | I29: =+ROUND(H29+G29,0) -> 1924186 | J29: =+I29*F29*$D$21 -> 3848372
B30: 10 horas diurnas sin arma | C30: 0 | D30: 3 | E30: 0 | F30: =SUM(C30:E30) -> 3 | G30: =+($D$22*8.8)*VLOOKUP($B30,' Circular '!$B$24:$E$32,2,0)*VLOOKUP($B30,' Circular '!$B$24:$E$32,3,0) -> 1781653.4 | H30: =+G30*VLOOKUP($B30,' Circular '!$B$24:$E$32,4,0) -> 142532.27 | I30: =+ROUND(H30+G30,0) -> 1924186 | J30: =+I30*F30*$D$21 -> 5772558
B31: 16 horas diurnas sin arma | C31: 1 | D31: 0 | E31: 0 | F31: =SUM(C31:E31) -> 1 | G31: =+($D$22*8.8)*VLOOKUP($B31,' Circular '!$B$24:$E$32,2,0)*VLOOKUP($B31,' Circular '!$B$24:$E$32,3,0) -> 2375537.8 | H31: =+G31*VLOOKUP($B31,' Circular '!$B$24:$E$32,4,0) -> 190043.03 | I31: =+ROUND(H31+G31,0) -> 2565581 | J31: =+I31*F31*$D$21 -> 2565581
B32: 12 horas diurnas con canino | C32: 1 | D32: 1 | E32: 0 | F32: =SUM(C32:E32) -> 2 | G32: =+($D$22*8.8)*VLOOKUP($B32,' Circular '!$B$24:$E$32,2,0)*VLOOKUP($B32,' Circular '!$B$24:$E$32,3,0) -> 1781653.4 | H32: =+G32*VLOOKUP($B32,' Circular '!$B$24:$E$32,4,0) -> 195981.87 | I32: =+ROUND(H32+G32,0) -> 1977635 | J32: =+I32*F32*$D$21 -> 3955270
B33: 04 horas diurnas con canino (18:00-22:00) | C33: 1 | D33: 0 | E33: 0 | F33: =SUM(C33:E33) -> 1 | G33: =+($D$22*8.8)*VLOOKUP($B33,' Circular '!$B$24:$E$32,2,0)*VLOOKUP($B33,' Circular '!$B$24:$E$32,3,0) -> 593884.46 | H33: =+G33*VLOOKUP($B33,' Circular '!$B$24:$E$32,4,0) -> 65327.29 | I33: =+ROUND(H33+G33,0) -> 659212 | J33: =+I33*F33*$D$21 -> 659212
B34: Total por sede | C34: =SUM(C25:C33) -> 18 | D34: =SUM(D25:D33) -> 76 | E34: =SUM(E25:E33) -> 25 | F34: =SUM(F25:F33) -> 119 | G34: SUBTOTAL 2014 | J34: =SUM(J25:J33) -> 563537124
G35: BASE DEL 10% PARA IMPUESTO IVA | J35: =+J34*10% -> 56353712
G36: IVA 16% | J36: =+J35*16% -> 9016594
G37: VALOR MENSUAL TURNOS SERVICIO DE VIGILANCIA Y SEGURIDAD PRIVADA 2014 | J37: =+ROUND(J34+J36,0) -> 572553718
B39: MEDIOS TÉCNOLOGICOS Y MONITOREO | C39: Sede de la Dirección General | D39: Regional Bogotá | E39: Regional Cundinamarca | F39: total | G39: valor unitario | H39: valor A y S (8%, 10%, 11%) | I39: valor unitario incluido A y S | J39: valor total antes de IVA
B40: Monitoreo | E40: 1 | F40: 1 | H40: No Aplica | I40: =+G40 -> 0 | J40: =+I40*F40 -> 0
B41: Detectores manuales de metales. | F41: 45 | H41: No Aplica | I41: =+G41 -> 0 | J41: =+I41*F41 -> 0
B42: Cuatro (4) computadores All in One con procesador mínimo de Intel Core i5 de 2.9GHZ o superior y memoria RAM de 6GB o superior, y disco duro de mínimo 800 GB o superior, con equipos de registro fotográfico para control del personal que solicita acceso a las instalaciones del Instituto Colombiano de Bienestar Familiar, con impresoras para la impresión de stickers y su software, debidamente licenciado para llevar el registro de control de acceso de visitantes en las recepciones de la Sede de la Dirección General Avenida Carrera 68 No. 64C-75, de la Regional Bogotá Cra. 50 No. 26-51, de la Regional Cundinamarca Calle 53 No. 6–07/11, los cuales deberán ser instalados a la red del Instituto para tener acceso de consulta desde el equipo del funcionario encargado de la seguridad del Instituto. | F42: 45 | H42: No Aplica | I42: =+G42 -> 0 | J42: =+I42*F42 -> 0
B43: Arcos Detectores de Metales con seis zonas de detección independiente, alarma audible, medidas del arco interno de 200cmX75cmX53cm | C43: 1 | D43: 1 | E43: 1 | F43: =SUM(C43:E43) -> 3 | H43: No Aplica | I43: =+G43 -> 0 | J43: =+I43*F43 -> 0
B44: Equipo de rayos X con Banda transportadora, Túnel de 50cm X 33cm | C44: 1 | F44: =SUM(C44:E44) -> 1 | H44: No Aplica | I44: =+G44 -> 0 | J44: =+I44*F44 -> 0
B45: Circuitos Cerrados de TV | C45: 30 + 8 | D45: 30 | E45: 10 + 8 | F45: =30+8+30+10+8 -> 86 | H45: No Aplica | I45: =+G45 -> 0 | J45: =+I45*F45 -> 0
B46: Armerillos para el descargue de armas cortas y el almacenamiento de las mismas (*) | C46: 1 | D46: 17 | E46: 1 | F46: =SUM(C46:E46) -> 19 | H46: No Aplica | I46: =+G46 -> 0 | J46: =+I46*F46 -> 0
B47: Linternas de batería recargable, una por cada puesto de 24 horas. | C47: 5 | D47: 49 | E47: 23 | F47: =SUM(C47:E47) -> 77 | H47: No Aplica | I47: =+G47 -> 0 | J47: =+I47*F47 -> 0
B48: Equipos de comunicación portátiles con un alcance mínimo de cuatro (4) kilómetros (punto a punto), para la prestación del servicio y/o equipos Avantel y/o celulares abiertos y/o con plan de minutos para enviar o recibir llamadas en cualquier momento. Por cada puesto de vigilancia. | C48: 18 | D48: 76 | E48: 25 | F48: =SUM(C48:E48) -> 119 | H48: No Aplica | I48: =+G48 -> 0 | J48: =+I48*F48 -> 0
B49: Lámparas de emergencia recargables para uso portátil o colocación fija con mínimo 30 LED, de operación automática. El número de lámparas y su lugar de ubicación obedecerá al estudio de seguridad creado para cada puesto de servicio. | C49: 18 | D49: 76 | E49: 25 | F49: =SUM(C49:E49) -> 119 | H49: No Aplica | I49: =+G49 -> 0 | J49: =+I49*F49 -> 0
G50: SUBTOTAL 2014 | J50: =SUM(J40:J49) -> 0
G51: BASE DEL 10% PARA IMPUESTO IVA | J51: =+J50*10% -> 0
B52: * Armerillo: • Dirección General: 1 (con capacidad para 10 armas cortas.) • Regional Bogotá: 17 (1 con capacidad para 10 armas cortas y 16 con capacidad para 3 armas cortas) • Regional Cundinamarca: 1 (con capacidad para 10 armas cortas) | G52: IVA 16% | J52: =+J51*16% -> 0
G53: VALOR MENSUAL MEDIOS TÉCNOLOGICOS Y MONITOREO SERVICIO DE VIGILANCIA Y SEGURIDAD PRIVADA 2014 | J53: =+ROUND(J50+J52,0) -> 0
B55: La presente cotización:
...

Sheet POLIZAS
B9: CONCEPTOS A TENER EN CUENTA PARA REALIZAR LA COTIZACIÓN DE DOTACIÓN INDUSTRIAL
B12: El presente cuadro es de carácter informativo, no se debe diligenciar. Sin embargo se entiende que la cotización incluye la totalidad de los conceptos relacionados a continuación.
B14: POLIZAS PARA LEGALIZACIÓN DEL CONTRATO
B16: CONCEPTO | D16: COBERTURA | E16: PLAZO (En Meses)
B17: Garantía de Seriedad de la oferta | D17: 0.1 | E17: Plazo de Ejecución
B18: Cumplimiento | D18: 0.2 | E18: Plazo de ejecución + 4 meses mas
B19: Salarios, Prestaciones | D19: 0.1 | E19: Plazo de ejecución + 36 meses mas
B20: Calidad de los Servicios | D20: 0.2 | E20: Plazo de ejecución + 4 meses mas
B21: Responsabilidad civil extracontraactual | D21: 0.1 | E21: Plazo de Ejecución
B22: Cobertura: Corresponde al porcentaje del valor total del contrato a amparar.

Sheet  Circular 
B2: CIRCULAR EXTERNA 201432000000 DE 2014 SUPERVIGILANCIA
B4: TARIFA MINIMA REGULADA PARA EL 2014
B5: JORNDA LABORAL | C5: Variable de Proporcionalidad
B6: 06:00 a.m. A 02:00 p.m. Turno de 8 Horas Diurno | C6: 0.2985
B7: 02:00 p.m. A 10:00 p.m. Turno de 8 Horas Diurno | C7: 0.2985
B8: 10:00 p.m. A 06:00 a.m. Turno de 8 Horas nocturno | C8: 0.403
B10: CANTIDADES DE DIAS MES (CIRCULAR 201432000000 DE 2014)
B11: Lunes a viernes sin festivos | C11: 20
B12: Lunes a sabados sin festivos | C12: 24
B13: Lunes a viernes con festivos | C13: 22
B14: Lunes a sabados con festivos | C14: 26
B15: Sabados y Domingos | C15: 8
B16: Sabados, Domingos y festivos | C16: 10
B18: Administración y Supervisión
B19: Sin armas | C19: 0.08
B20: Con Arma | C20: 0.1
B21: Con Canino | C21: 0.11
C23: Variable de Proporcionalidad | D23: Proporción del Mes | E23: Administración y Supervisión
B24: 24 horas lunes a domingo con arma | C24: =+SUM(C6:C8) -> 1 | D24: =30/30 -> 1 | E24: =+C20 -> 0.1
B25: 12 horas diurnas lunes a domingo con canino | C25: =+($C$6/8)*12 -> 0.44775 | D25: =30/30 -> 1 | E25: =+C21 -> 0.11
B26: 12 horas diurnas con arma | C26: =+($C$6/8)*12 -> 0.44775 | D26: =30/30 -> 1 | E26: =+C20 -> 0.1
B27: 12 horas diurnas sin arma | C27: =+($C$6/8)*12 -> 0.44775 | D27: =30/30 -> 1 | E27: =+C19 -> 0.08
B28: 12 horas lunes a viernes diurnas sin arma | C28: =+($C$6/8)*12 -> 0.44775 | D28: =+$C$13/30 -> 0.73333333 | E28: =+C19 -> 0.08
B29: 10 horas diurnas sin arma | C29: =+($C$6/8)*12 -> 0.44775 | D29: =+$C$13/30 -> 0.73333333 | E29: =+C19 -> 0.08
B30: 16 horas diurnas sin arma | C30: =+(($C$6+$C$7)/16)*16 -> 0.597 | D30: =+$C$13/30 -> 0.73333333 | E30: =+C19 -> 0.08
B31: 12 horas diurnas con canino | C31: =+($C$6/8)*12 -> 0.44775 | D31: =+$C$13/30 -> 0.73333333 | E31: =+C21 -> 0.11
B32: 04 horas diurnas con canino (18:00-22:00) | C32: =+($C$6/8)*4 -> 0.14925 | D32: =+$C$13/30 -> 0.73333333 | E32: =+C21 -> 0.11

Sheet INFO EXPERIENCIA
B8: EXPERIENCIA EN CONTRATACION EN LOS ULTIMOS 5 AÑOS
B9: EXPERIENCIA EN CONTRATACIÓN EN LOS ÚLTIMOS 5 AÑOS
B11: Empresa: | C11: =IF('SDC Vigilancia '!C12:E12="","",'SDC Vigilancia '!C12:E12) | F11: Nit: | G11: =IF('SDC Vigilancia '!G12:H12="","",'SDC Vigilancia '!G12:H12) | I11: Fecha: | J11: =IF('SDC Vigilancia '!J12="","",'SDC Vigilancia '!J12)
B12: Contacto: | C12: =IF('SDC Vigilancia '!C13:E13="","",'SDC Vigilancia '!C13:E13) | F12: Cargo: | G12: =IF('SDC Vigilancia '!G13:H13="","",'SDC Vigilancia '!G13:H13) | I12: Tel. celular: | J12: =IF('SDC Vigilancia '!J13="","",'SDC Vigilancia '!J13)
B13: E-Mail: | C13: =IF('SDC Vigilancia '!C14:E14="","",'SDC Vigilancia '!C14:E14) | F13: Dirección: | G13: =IF('SDC Vigilancia '!G14:H14="","",'SDC Vigilancia '!G14:H14) | I13: Tel. fijo: | J13: =IF('SDC Vigilancia '!J14="","",'SDC Vigilancia '!J14)
B15: Con el fin de conocer la experiencia con la que cuentan las empresas del sector relacionada con el objeto del presente estudio de mercado, agradecemos diligenciar el cuadro que sigue con base en los contratos suscritos en los últimos 5 años, cuyos objetos están relacionados con el objeto del presente estudio de mercado
B17: Tipo de entidad | C17: Entidad o Empresa | D17: Numero del contrato | E17: Objeto del contrato | F17: Fecha de suscripción (dd/mmm/aa) | G17: Plazo de ejecución (en años) | H17: Forma de participación (UT, consorcio, individual) | I17: % de participación | J17: Valor total ejecutado del contrato (de acuerdo con el % de participación)
B29: Nota: Agregar las filas necesarias para reportar la experiencia
