Workbook
Name dato: #REF!
Name dato_1: #REF!
Name Decision: [1]lista!$A$6:$A$7
Name dep: '[2]Centros Zonales'!$C$245:$C$248
Name gestor: #REF!
Name gestor_1: #REF!
Name hcb: #REF!
Name hcb_1: #REF!
Name hcbf: #REF!
Name hcbf_1: #REF!
Name hg: #REF!
Name hg_1: #REF!
Name macro: '[2]Centros Zonales'!#REF!
Name mod: '[2]Centros Zonales'!#REF!
Name mod_1: [3]Regionales!#REF!
Name moda: '[2]Centros Zonales'!#REF!
Name moda_1: [3]Regionales!#REF!
Name modal: '[2]Centros Zonales'!#REF!
Name modal_1: [3]Regionales!#REF!
Name modalidades: '[2]Centros Zonales'!#REF!
Name modalidades_1: [3]Regionales!#REF!
Name PARTICIPACION: [1]lista!$A$15:$A$17
Name pb: #REF!
Name pb_1: #REF!
Name Procedencia: [1]lista!$A$2:$A$3
Name programa: '[2]Centros Zonales'!#REF!
Name programa_1: [3]Regionales!#REF!
Name region: #REF!
Name region_1: #REF!
Name regional: '[2]Centros Zonales'!#REF!
Name serie: '[2]Centros Zonales'!#REF!
Name serie_1: [3]Regionales!#REF!
Name tipo: [1]lista!$A$11:$A$13
Name vincu: #REF!
Name vincu_1: #REF!

Sheet SDC Vigilancia
C4: EMPRESA: | D4: CONTACTO: | H4: FECHA:
C5: CARGO: | D5: E-MAIL:
C7: NOTA (1) :por favor diligenciar solo las celdas en AMARILLO. se deben llenar todas las casillas.
C8: NOTA (2): Revisar todos los requerimientos que se exponen en el documento "Ficha Tecnica" anexo.
C9: NOTA (3): El valor de la cotización deber ser expresado en PESOS COLOMBIANOS.
C10: NOTA (4): Asignar precio MENSUAL sin incluir el IVA para cada ítem de los medios tecnológicos para cada una de las regionales
C11: NOTA (5): Los valores unitarios deberán aproximarse por exceso o por defecto al entero más cercano. si la cifra no está aproximada y aparece con 50 centavos, el ICBF aproximará al entero inferior
C12: NOTA (6): no modificar , agregar o quitar ningún ítem o subitem
D13: 2013 | E13: 2014 (*)
C14: TIEMPO DE EJECUCIÓN (meses) | D14: 1 | E14: 7
C15: SMLMV (*) | D15: 589500 | E15: =+D15*(1+3%) -> 607185
D17: AMAZONAS | G17: ANTIOQUIA | J17: ARAUCA | M17: ATLANTICO | P17: BOLIVAR | S17: BOYACA | V17: CALDAS | Y17: CAQUETA | AB17: CASANARE | AE17: CAUCA | AH17: CESAR | AK17: CHOCO | AN17: CORDOBA | AQ17: GUAINIA | AT17: GUAJIRA | AW17: GUAVIARE | AZ17: HUILA | BC17: MAGDALENA | BF17: META | BI17: NORTE DE SANTANDER | BL17: NARIÑO | BO17: PUTUMAYO | BR17: QUINDIO | BU17: RISARALDA | BX17: SAN ANDRES | CA17: SANTANDER | CD17: SUCRE | CG17: TOLIMA | CJ17: VALLE | CM17: VAUPES | CP17: VICHADA
C18: TURNOS (VALOR MENSUAL 2013) | D18: Cantidad | E18: Valor Unitario Mensual Antes de IVA | F18: Valor Total Mensual Antes de IVA | G18: Cantidad | H18: Valor Unitario Mensual Antes de IVA | I18: Valor Total Mensual Antes de IVA | J18: Cantidad | K18: Valor Unitario Mensual Antes de IVA | L18: Valor Total Mensual Antes de IVA | M18: Cantidad | N18: Valor Unitario Mensual Antes de IVA | O18: Valor Total Mensual Antes de IVA | P18: Cantidad | Q18: Valor Unitario Mensual Antes de IVA | R18: Valor Total Mensual Antes de IVA | S18: Cantidad | T18: Valor Unitario Mensual Antes de IVA | U18: Valor Total Mensual Antes de IVA | V18: Cantidad | W18: Valor Unitario Mensual Antes de IVA | X18: Valor Total Mensual Antes de IVA | Y18: Cantidad | Z18: Valor Unitario Mensual Antes de IVA | AA18: Valor Total Mensual Antes de IVA | AB18: Cantidad | AC18: Valor Unitario Mensual Antes de IVA | AD18: Valor Total Mensual Antes de IVA | AE18: Cantidad | AF18: Valor Unitario Mensual Antes de IVA | AG18: Valor Total Mensual Antes de IVA | AH18: Cantidad | AI18: Valor Unitario Mensual Antes de IVA | AJ18: Valor Total Mensual Antes de IVA | AK18: Cantidad | AL18: Valor Unitario Mensual Antes de IVA | AM18: Valor Total Mensual Antes de IVA | AN18: Cantidad | AO18: Valor Unitario Mensual Antes de IVA | AP18: Valor Total Mensual Antes de IVA | AQ18: Cantidad | AR18: Valor Unitario Mensual Antes de IVA | AS18: Valor Total Mensual Antes de IVA | AT18: Cantidad | AU18: Valor Unitario Mensual Antes de IVA | AV18: Valor Total Mensual Antes de IVA | AW18: Cantidad | AX18: Valor Unitario Mensual Antes de IVA | AY18: Valor Total Mensual Antes de IVA | AZ18: Cantidad | BA18: Valor Unitario Mensual Antes de IVA | BB18: Valor Total Mensual Antes de IVA | BC18: Cantidad | BD18: Valor Unitario Mensual Antes de IVA | BE18: Valor Total Mensual Antes de IVA | BF18: Cantidad | BG18: Valor Unitario Mensual Antes de IVA | BH18: Valor Total Mensual Antes de IVA | BI18: Cantidad | BJ18: Valor Unitario Mensual Antes de IVA | BK18: Valor Total Mensual Antes de IVA | BL18: Cantidad | BM18: Valor Unitario Mensual Antes de IVA | BN18: Valor Total Mensual Antes de IVA | BO18: Cantidad | BP18: Valor Unitario Mensual Antes de IVA | BQ18: Valor Total Mensual Antes de IVA | BR18: Cantidad | BS18: Valor Unitario Mensual Antes de IVA | BT18: Valor Total Mensual Antes de IVA | BU18: Cantidad | BV18: Valor Unitario Mensual Antes de IVA | BW18: Valor Total Mensual Antes de IVA | BX18: Cantidad | BY18: Valor Unitario Mensual Antes de IVA | BZ18: Valor Total Mensual Antes de IVA | CA18: Cantidad | CB18: Valor Unitario Mensual Antes de IVA | CC18: Valor Total Mensual Antes de IVA | CD18: Cantidad | CE18: Valor Unitario Mensual Antes de IVA | CF18: Valor Total Mensual Antes de IVA | CG18: Cantidad | CH18: Valor Unitario Mensual Antes de IVA | CI18: Valor Total Mensual Antes de IVA | CJ18: Cantidad | CK18: Valor Unitario Mensual Antes de IVA | CL18: Valor Total Mensual Antes de IVA | CM18: Cantidad | CN18: Valor Unitario Mensual Antes de IVA | CO18: Valor Total Mensual Antes de IVA | CP18: Cantidad | CQ18: Valor Unitario Mensual Antes de IVA | CR18: Valor Total Mensual Antes de IVA
A19: 24 | B19: 1 | C19: 24 HORAS - CON ARMA - L A D - FUNCIONAMIENTO | D19: =+HLOOKUP($C19,'Vigilancia 091213'!$G$4:$AF$38,(VLOOKUP(D$17,'Vigilancia 091213'!$B$7:$C$38,2,0)),0) -> 0 | E19: =+IF(D19=0,0,(VLOOKUP($C19,'Guia Circular 015'!$B$19:$H$44,7,0))) -> 0 | F19: =+E19*D19 -> 0 | G19: =+HLOOKUP($C19,'Vigilancia 091213'!$G$4:$AF$38,(VLOOKUP(G$17,'Vigilancia 091213'!$B$7:$C$38,2,0)),0) -> 1 | H19: =+IF(G19=0,0,(VLOOKUP($C19,'Guia Circular 015'!$B$19:$H$44,7,0))) -> 5706360 | I19: =+H19*G19 -> 5706360 | J19: =+HLOOKUP($C19,'Vigilancia 091213'!$G$4:$AF$38,(VLOOKUP(J$17,'Vigilancia 091213'!$B$7:$C$38,2,0)),0) -> 0 | K19: =+IF(J19=0,0,(VLOOKUP($C19,'Guia Circular 015'!$B$19:$H$44,7,0))) -> 0 | L19: =+K19*J19 -> 0 | M19: =+HLOOKUP($C19,'Vigilancia 091213'!$G$4:$AF$38,(VLOOKUP(M$17,'Vigilancia 091213'!$B$7:$C$38,2,0)),0) -> 1 | N19: =+IF(M19=0,0,(VLOOKUP($C19,'Guia Circular 015'!$B$19:$H$44,7,0))) -> 5706360 | O19: =+N19*M19 -> 5706360 | P19: =+HLOOKUP($C19,'Vigilancia 091213'!$G$4:$AF$38,(VLOOKUP(P$17,'Vigilancia 091213'!$B$7:$C$38,2,0)),0) -> 1 | Q19: =+IF(P19=0,0,(VLOOKUP($C19,'Guia Circular 015'!$B$19:$H$44,7,0))) -> 5706360 | R19: =+Q19*P19 -> 5706360 | S19: =+HLOOKUP($C19,'Vigilancia 091213'!$G$4:$AF$38,(VLOOKUP(S$17,'Vigilancia 091213'!$B$7:$C$38,2,0)),0) -> 1 | T19: =+IF(S19=0,0,(VLOOKUP($C19,'Guia Circular 015'!$B$19:$H$44,7,0))) -> 5706360 | U19: =+T19*S19 -> 5706360 | V19: =+HLOOKUP($C19,'Vigilancia 091213'!$G$4:$AF$38,(VLOOKUP(V$17,'Vigilancia 091213'!$B$7:$C$38,2,0)),0) -> 1 | W19: =+IF(V19=0,0,(VLOOKUP($C19,'Guia Circular 015'!$B$19:$H$44,7,0))) -> 5706360 | X19: =+W19*V19 -> 5706360 | Y19: =+HLOOKUP($C19,'Vigilancia 091213'!$G$4:$AF$38,(VLOOKUP(Y$17,'Vigilancia 091213'!$B$7:$C$38,2,0)),0) -> 1 | Z19: =+IF(Y19=0,0,(VLOOKUP($C19,'Guia Circular 015'!$B$19:$H$44,7,0))) -> 5706360 | AA19: =+Z19*Y19 -> 5706360 | AB19: =+HLOOKUP($C19,'Vigilancia 091213'!$G$4:$AF$38,(VLOOKUP(AB$17,'Vigilancia 091213'!$B$7:$C$38,2,0)),0) -> 1 | AC19: =+IF(AB19=0,0,(VLOOKUP($C19,'Guia Circular 015'!$B$19:$H$44,7,0))) -> 5706360 | AD19: =+AC19*AB19 -> 5706360 | AE19: =+HLOOKUP($C19,'Vigilancia 091213'!$G$4:$AF$38,(VLOOKUP(AE$17,'Vigilancia 091213'!$B$7:$C$38,2,0)),0) -> 1 | AF19: =+IF(AE19=0,0,(VLOOKUP($C19,'Guia Circular 015'!$B$19:$H$44,7,0))) -> 5706360 | AG19: =+AF19*AE19 -> 5706360 | AH19: =+HLOOKUP($C19,'Vigilancia 091213'!$G$4:$AF$38,(VLOOKUP(AH$17,'Vigilancia 091213'!$B$7:$C$38,2,0)),0) -> 0 | AI19: =+IF(AH19=0,0,(VLOOKUP($C19,'Guia Circular 015'!$B$19:$H$44,7,0))) -> 0 | AJ19: =+AI19*AH19 -> 0 | AK19: =+HLOOKUP($C19,'Vigilancia 091213'!$G$4:$AF$38,(VLOOKUP(AK$17,'Vigilancia 091213'!$B$7:$C$38,2,0)),0) -> 1 | AL19: =+IF(AK19=0,0,(VLOOKUP($C19,'Guia Circular 015'!$B$19:$H$44,7,0))) -> 5706360 | AM19: =+AL19*AK19 -> 5706360 | AN19: =+HLOOKUP($C19,'Vigilancia 091213'!$G$4:$AF$38,(VLOOKUP(AN$17,'Vigilancia 091213'!$B$7:$C$38,2,0)),0) -> 1 | AO19: =+IF(AN19=0,0,(VLOOKUP($C19,'Guia Circular 015'!$B$19:$H$44,7,0))) -> 5706360 | AP19: =+AO19*AN19 -> 5706360 | AQ19: =+HLOOKUP($C19,'Vigilancia 091213'!$G$4:$AF$38,(VLOOKUP(AQ$17,'Vigilancia 091213'!$B$7:$C$38,2,0)),0) -> 0 | AR19: =+IF(AQ19=0,0,(VLOOKUP($C19,'Guia Circular 015'!$B$19:$H$44,7,0))) -> 0 | AS19: =+AR19*AQ19 -> 0 | AT19: =+HLOOKUP($C19,'Vigilancia 091213'!$G$4:$AF$38,(VLOOKUP(AT$17,'Vigilancia 091213'!$B$7:$C$38,2,0)),0) -> 1 | AU19: =+IF(AT19=0,0,(VLOOKUP($C19,'Guia Circular 015'!$B$19:$H$44,7,0))) -> 5706360 | AV19: =+AU19*AT19 -> 5706360 | AW19: =+HLOOKUP($C19,'Vigilancia 091213'!$G$4:$AF$38,(VLOOKUP(AW$17,'Vigilancia 091213'!$B$7:$C$38,2,0)),0) -> 0 | AX19: =+IF(AW19=0,0,(VLOOKUP($C19,'Guia Circular 015'!$B$19:$H$44,7,0))) -> 0 | AY19: =+AX19*AW19 -> 0 | AZ19: =+HLOOKUP($C19,'Vigilancia 091213'!$G$4:$AF$38,(VLOOKUP(AZ$17,'Vigilancia 091213'!$B$7:$C$38,2,0)),0) -> 1 | BA19: =+IF(AZ19=0,0,(VLOOKUP($C19,'Guia Circular 015'!$B$19:$H$44,7,0))) -> 5706360 | BB19: =+BA19*AZ19 -> 5706360 | BC19: =+HLOOKUP($C19,'Vigilancia 091213'!$G$4:$AF$38,(VLOOKUP(BC$17,'Vigilancia 091213'!$B$7:$C$38,2,0)),0) -> 1 | BD19: =+IF(BC19=0,0,(VLOOKUP($C19,'Guia Circular 015'!$B$19:$H$44,7,0))) -> 5706360 | BE19: =+BD19*BC19 -> 5706360 | BF19: =+HLOOKUP($C19,'Vigilancia 091213'!$G$4:$AF$38,(VLOOKUP(BF$17,'Vigilancia 091213'!$B$7:$C$38,2,0)),0) -> 1 | BG19: =+IF(BF19=0,0,(VLOOKUP($C19,'Guia Circular 015'!$B$19:$H$44,7,0))) -> 5706360 | BH19: =+BG19*BF19 -> 5706360 | BI19: =+HLOOKUP($C19,'Vigilancia 091213'!$G$4:$AF$38,(VLOOKUP(BI$17,'Vigilancia 091213'!$B$7:$C$38,2,0)),0) -> 1 | BJ19: =+IF(BI19=0,0,(VLOOKUP($C19,'Guia Circular 015'!$B$19:$H$44,7,0))) -> 5706360 | BK19: =+BJ19*BI19 -> 5706360 | BL19: =+HLOOKUP($C19,'Vigilancia 091213'!$G$4:$AF$38,(VLOOKUP(BL$17,'Vigilancia 091213'!$B$7:$C$38,2,0)),0) -> 1 | BM19: =+IF(BL19=0,0,(VLOOKUP($C19,'Guia Circular 015'!$B$19:$H$44,7,0))) -> 5706360 | BN19: =+BM19*BL19 -> 5706360 | BO19: =+HLOOKUP($C19,'Vigilancia 091213'!$G$4:$AF$38,(VLOOKUP(BO$17,'Vigilancia 091213'!$B$7:$C$38,2,0)),0) -> 0 | BP19: =+IF(BO19=0,0,(VLOOKUP($C19,'Guia Circular 015'!$B$19:$H$44,7,0))) -> 0 | BQ19: =+BP19*BO19 -> 0 | BR19: =+HLOOKUP($C19,'Vigilancia 091213'!$G$4:$AF$38,(VLOOKUP(BR$17,'Vigilancia 091213'!$B$7:$C$38,2,0)),0) -> 1 | BS19: =+IF(BR19=0,0,(VLOOKUP($C19,'Guia Circular 015'!$B$19:$H$44,7,0))) -> 5706360 | BT19: =+BS19*BR19 -> 5706360 | BU19: =+HLOOKUP($C19,'Vigilancia 091213'!$G$4:$AF$38,(VLOOKUP(BU$17,'Vigilancia 091213'!$B$7:$C$38,2,0)),0) -> 1 | BV19: =+IF(BU19=0,0,(VLOOKUP($C19,'Guia Circular 015'!$B$19:$H$44,7,0))) -> 5706360 | BW19: =+BV19*BU19 -> 5706360 | BX19: =+HLOOKUP($C19,'Vigilancia 091213'!$G$4:$AF$38,(VLOOKUP(BX$17,'Vigilancia 091213'!$B$7:$C$38,2,0)),0) -> 0 | BY19: =+IF(BX19=0,0,(VLOOKUP($C19,'Guia Circular 015'!$B$19:$H$44,7,0))) -> 0 | BZ19: =+BY19*BX19 -> 0 | CA19: =+HLOOKUP($C19,'Vigilancia 091213'!$G$4:$AF$38,(VLOOKUP(CA$17,'Vigilancia 091213'!$B$7:$C$38,2,0)),0) -> 1 | CB19: =+IF(CA19=0,0,(VLOOKUP($C19,'Guia Circular 015'!$B$19:$H$44,7,0))) -> 5706360 | CC19: =+CB19*CA19 -> 5706360 | CD19: =+HLOOKUP($C19,'Vigilancia 091213'!$G$4:$AF$38,(VLOOKUP(CD$17,'Vigilancia 091213'!$B$7:$C$38,2,0)),0) -> 1 | CE19: =+IF(CD19=0,0,(VLOOKUP($C19,'Guia Circular 015'!$B$19:$H$44,7,0))) -> 5706360 | CF19: =+CE19*CD19 -> 5706360 | CG19: =+HLOOKUP($C19,'Vigilancia 091213'!$G$4:$AF$38,(VLOOKUP(CG$17,'Vigilancia 091213'!$B$7:$C$38,2,0)),0) -> 1 | CH19: =+IF(CG19=0,0,(VLOOKUP($C19,'Guia Circular 015'!$B$19:$H$44,7,0))) -> 5706360 | CI19: =+CH19*CG19 -> 5706360 | CJ19: =+HLOOKUP($C19,'Vigilancia 091213'!$G$4:$AF$38,(VLOOKUP(CJ$17,'Vigilancia 091213'!$B$7:$C$38,2,0)),0) -> 1 | CK19: =+IF(CJ19=0,0,(VLOOKUP($C19,'Guia Circular 015'!$B$19:$H$44,7,0))) -> 5706360 | CL19: =+CK19*CJ19 -> 5706360 | CM19: =+HLOOKUP($C19,'Vigilancia 091213'!$G$4:$AF$38,(VLOOKUP(CM$17,'Vigilancia 091213'!$B$7:$C$38,2,0)),0) -> 0 | CN19: =+IF(CM19=0,0,(VLOOKUP($C19,'Guia Circular 015'!$B$19:$H$44,7,0))) -> 0 | CO19: =+CN19*CM19 -> 0 | CP19: =+HLOOKUP($C19,'Vigilancia 091213'!$G$4:$AF$38,(VLOOKUP(CP$17,'Vigilancia 091213'!$B$7:$C$38,2,0)),0) -> 1 | CQ19: =+IF(CP19=0,0,(VLOOKUP($C19,'Guia Circular 015'!$B$19:$H$44,7,0))) -> 5706360 | CR19: =+CQ19*CP19 -> 5706360
A20: 24 | B20: 2 | C20: 24 HORAS - CON ARMA - L A D - INVERSION | D20: =+HLOOKUP($C20,'Vigilancia 091213'!$G$4:$AF$38,(VLOOKUP(D$17,'Vigilancia 091213'!$B$7:$C$38,2,0)),0) -> 0 | E20: =+IF(D20=0,0,(VLOOKUP($C20,'Guia Circular 015'!$B$19:$H$44,7,0))) -> 0 | F20: =+E20*D20 -> 0 | G20: =+HLOOKUP($C20,'Vigilancia 091213'!$G$4:$AF$38,(VLOOKUP(G$17,'Vigilancia 091213'!$B$7:$C$38,2,0)),0) -> 18 | H20: =+IF(G20=0,0,(VLOOKUP($C20,'Guia Circular 015'!$B$19:$H$44,7,0))) -> 5706360 | I20: =+H20*G20 -> 102714480 | J20: =+HLOOKUP($C20,'Vigilancia 091213'!$G$4:$AF$38,(VLOOKUP(J$17,'Vigilancia 091213'!$B$7:$C$38,2,0)),0) -> 3 | K20: =+IF(J20=0,0,(VLOOKUP($C20,'Guia Circular 015'!$B$19:$H$44,7,0))) -> 5706360 | L20: =+K20*J20 -> 17119080 | M20: =+HLOOKUP($C20,'Vigilancia 091213'!$G$4:$AF$38,(VLOOKUP(M$17,'Vigilancia 091213'!$B$7:$C$38,2,0)),0) -> 13 | N20: =+IF(M20=0,0,(VLOOKUP($C20,'Guia Circular 015'!$B$19:$H$44,7,0))) -> 5706360 | O20: =+N20*M20 -> 74182680 | P20: =+HLOOKUP($C20,'Vigilancia 091213'!$G$4:$AF$38,(VLOOKUP(P$17,'Vigilancia 091213'!$B$7:$C$38,2,0)),0) -> 11 | Q20: =+IF(P20=0,0,(VLOOKUP($C20,'Guia Circular 015'!$B$19:$H$44,7,0))) -> 5706360 | R20: =+Q20*P20 -> 62769960 | S20: =+HLOOKUP($C20,'Vigilancia 091213'!$G$4:$AF$38,(VLOOKUP(S$17,'Vigilancia 091213'!$B$7:$C$38,2,0)),0) -> 14 | T20: =+IF(S20=0,0,(VLOOKUP($C20,'Guia Circular 015'!$B$19:$H$44,7,0))) -> 5706360 | U20: =+T20*S20 -> 79889040 | V20: =+HLOOKUP($C20,'Vigilancia 091213'!$G$4:$AF$38,(VLOOKUP(V$17,'Vigilancia 091213'!$B$7:$C$38,2,0)),0) -> 4 | W20: =+IF(V20=0,0,(VLOOKUP($C20,'Guia Circular 015'!$B$19:$H$44,7,0))) -> 5706360 | X20: =+W20*V20 -> 22825440 | Y20: =+HLOOKUP($C20,'Vigilancia 091213'!$G$4:$AF$38,(VLOOKUP(Y$17,'Vigilancia 091213'!$B$7:$C$38,2,0)),0) -> 5 | Z20: =+IF(Y20=0,0,(VLOOKUP($C20,'Guia Circular 015'!$B$19:$H$44,7,0))) -> 5706360 | AA20: =+Z20*Y20 -> 28531800 | AB20: =+HLOOKUP($C20,'Vigilancia 091213'!$G$4:$AF$38,(VLOOKUP(AB$17,'Vigilancia 091213'!$B$7:$C$38,2,0)),0) -> 4 | AC20: =+IF(AB20=0,0,(VLOOKUP($C20,'Guia Circular 015'!$B$19:$H$44,7,0))) -> 5706360 | AD20: =+AC20*AB20 -> 22825440 | AE20: =+HLOOKUP($C20,'Vigilancia 091213'!$G$4:$AF$38,(VLOOKUP(AE$17,'Vigilancia 091213'!$B$7:$C$38,2,0)),0) -> 7 | AF20: =+IF(AE20=0,0,(VLOOKUP($C20,'Guia Circular 015'!$B$19:$H$44,7,0))) -> 5706360 | AG20: =+AF20*AE20 -> 39944520 | AH20: =+HLOOKUP($C20,'Vigilancia 091213'!$G$4:$AF$38,(VLOOKUP(AH$17,'Vigilancia 091213'!$B$7:$C$38,2,0)),0) -> 9 | AI20: =+IF(AH20=0,0,(VLOOKUP($C20,'Guia Circular 015'!$B$19:$H$44,7,0))) -> 5706360 | AJ20: =+AI20*AH20 -> 51357240 | AK20: =+HLOOKUP($C20,'Vigilancia 091213'!$G$4:$AF$38,(VLOOKUP(AK$17,'Vigilancia 091213'!$B$7:$C$38,2,0)),0) -> 8 | AL20: =+IF(AK20=0,0,(VLOOKUP($C20,'Guia Circular 015'!$B$19:$H$44,7,0))) -> 5706360 | AM20: =+AL20*AK20 -> 45650880 | AN20: =+HLOOKUP($C20,'Vigilancia 091213'!$G$4:$AF$38,(VLOOKUP(AN$17,'Vigilancia 091213'!$B$7:$C$38,2,0)),0) -> 9 | AO20: =+IF(AN20=0,0,(VLOOKUP($C20,'Guia Circular 015'!$B$19:$H$44,7,0))) -> 5706360 | AP20: =+AO20*AN20 -> 51357240 | AQ20: =+HLOOKUP($C20,'Vigilancia 091213'!$G$4:$AF$38,(VLOOKUP(AQ$17,'Vigilancia 091213'!$B$7:$C$38,2,0)),0) -> 1 | AR20: =+IF(AQ20=0,0,(VLOOKUP($C20,'Guia Circular 015'!$B$19:$H$44,7,0))) -> 5706360 | AS20: =+AR20*AQ20 -> 5706360 | AT20: =+HLOOKUP($C20,'Vigilancia 091213'!$G$4:$AF$38,(VLOOKUP(AT$17,'Vigilancia 091213'!$B$7:$C$38,2,0)),0) -> 5 | AU20: =+IF(AT20=0,0,(VLOOKUP($C20,'Guia Circular 015'!$B$19:$H$44,7,0))) -> 5706360 | AV20: =+AU20*AT20 -> 28531800 | AW20: =+HLOOKUP($C20,'Vigilancia 091213'!$G$4:$AF$38,(VLOOKUP(AW$17,'Vigilancia 091213'!$B$7:$C$38,2,0)),0) -> 1 | AX20: =+IF(AW20=0,0,(VLOOKUP($C20,'Guia Circular 015'!$B$19:$H$44,7,0))) -> 5706360 | AY20: =+AX20*AW20 -> 5706360 | AZ20: =+HLOOKUP($C20,'Vigilancia 091213'!$G$4:$AF$38,(VLOOKUP(AZ$17,'Vigilancia 091213'!$B$7:$C$38,2,0)),0) -> 7 | BA20: =+IF(AZ20=0,0,(VLOOKUP($C20,'Guia Circular 015'!$B$19:$H$44,7,0))) -> 5706360 | BB20: =+BA20*AZ20 -> 39944520 | BC20: =+HLOOKUP($C20,'Vigilancia 091213'!$G$4:$AF$38,(VLOOKUP(BC$17,'Vigilancia 091213'!$B$7:$C$38,2,0)),0) -> 8 | BD20: =+IF(BC20=0,0,(VLOOKUP($C20,'Guia Circular 015'!$B$19:$H$44,7,0))) -> 5706360 | BE20: =+BD20*BC20 -> 45650880 | BF20: =+HLOOKUP($C20,'Vigilancia 091213'!$G$4:$AF$38,(VLOOKUP(BF$17,'Vigilancia 091213'!$B$7:$C$38,2,0)),0) -> 8 | BG20: =+IF(BF20=0,0,(VLOOKUP($C20,'Guia Circular 015'!$B$19:$H$44,7,0))) -> 5706360 | BH20: =+BG20*BF20 -> 45650880 | BI20: =+HLOOKUP($C20,'Vigilancia 091213'!$G$4:$AF$38,(VLOOKUP(BI$17,'Vigilancia 091213'!$B$7:$C$38,2,0)),0) -> 10 | BJ20: =+IF(BI20=0,0,(VLOOKUP($C20,'Guia Circular 015'!$B$19:$H$44,7,0))) -> 5706360 | BK20: =+BJ20*BI20 -> 57063600 | BL20: =+HLOOKUP($C20,'Vigilancia 091213'!$G$4:$AF$38,(VLOOKUP(BL$17,'Vigilancia 091213'!$B$7:$C$38,2,0)),0) -> 12 | BM20: =+IF(BL20=0,0,(VLOOKUP($C20,'Guia Circular 015'!$B$19:$H$44,7,0))) -> 5706360 | BN20: =+BM20*BL20 -> 68476320 | BO20: =+HLOOKUP($C20,'Vigilancia 091213'!$G$4:$AF$38,(VLOOKUP(BO$17,'Vigilancia 091213'!$B$7:$C$38,2,0)),0) -> 1 | BP20: =+IF(BO20=0,0,(VLOOKUP($C20,'Guia Circular 015'!$B$19:$H$44,7,0))) -> 5706360 | BQ20: =+BP20*BO20 -> 5706360 | BR20: =+HLOOKUP($C20,'Vigilancia 091213'!$G$4:$AF$38,(VLOOKUP(BR$17,'Vigilancia 091213'!$B$7:$C$38,2,0)),0) -> 4 | BS20: =+IF(BR20=0,0,(VLOOKUP($C20,'Guia Circular 015'!$B$19:$H$44,7,0))) -> 5706360 | BT20: =+BS20*BR20 -> 22825440 | BU20: =+HLOOKUP($C20,'Vigilancia 091213'!$G$4:$AF$38,(VLOOKUP(BU$17,'Vigilancia 091213'!$B$7:$C$38,2,0)),0) -> 5 | BV20: =+IF(BU20=0,0,(VLOOKUP($C20,'Guia Circular 015'!$B$19:$H$44,7,0))) -> 5706360 | BW20: =+BV20*BU20 -> 28531800 | BX20: =+HLOOKUP($C20,'Vigilancia 091213'!$G$4:$AF$38,(VLOOKUP(BX$17,'Vigilancia 091213'!$B$7:$C$38,2,0)),0) -> 0 | BY20: =+IF(BX20=0,0,(VLOOKUP($C20,'Guia Circular 015'!$B$19:$H$44,7,0))) -> 0 | BZ20: =+BY20*BX20 -> 0 | CA20: =+HLOOKUP($C20,'Vigilancia 091213'!$G$4:$AF$38,(VLOOKUP(CA$17,'Vigilancia 091213'!$B$7:$C$38,2,0)),0) -> 10 | CB20: =+IF(CA20=0,0,(VLOOKUP($C20,'Guia Circular 015'!$B$19:$H$44,7,0))) -> 5706360 | CC20: =+CB20*CA20 -> 57063600 | CD20: =+HLOOKUP($C20,'Vigilancia 091213'!$G$4:$AF$38,(VLOOKUP(CD$17,'Vigilancia 091213'!$B$7:$C$38,2,0)),0) -> 4 | CE20: =+IF(CD20=0,0,(VLOOKUP($C20,'Guia Circular 015'!$B$19:$H$44,7,0))) -> 5706360 | CF20: =+CE20*CD20 -> 22825440 | CG20: =+HLOOKUP($C20,'Vigilancia 091213'!$G$4:$AF$38,(VLOOKUP(CG$17,'Vigilancia 091213'!$B$7:$C$38,2,0)),0) -> 13 | CH20: =+IF(CG20=0,0,(VLOOKUP($C20,'Guia Circular 015'!$B$19:$H$44,7,0))) -> 5706360 | CI20: =+CH20*CG20 -> 74182680 | CJ20: =+HLOOKUP($C20,'Vigilancia 091213'!$G$4:$AF$38,(VLOOKUP(CJ$17,'Vigilancia 091213'!$B$7:$C$38,2,0)),0) -> 18 | CK20: =+IF(CJ20=0,0,(VLOOKUP($C20,'Guia Circular 015'!$B$19:$H$44,7,0))) -> 5706360 | CL20: =+CK20*CJ20 -> 102714480 | CM20: =+HLOOKUP($C20,'Vigilancia 091213'!$G$4:$AF$38,(VLOOKUP(CM$17,'Vigilancia 091213'!$B$7:$C$38,2,0)),0) -> 0 | CN20: =+IF(CM20=0,0,(VLOOKUP($C20,'Guia Circular 015'!$B$19:$H$44,7,0))) -> 0 | CO20: =+CN20*CM20 -> 0 | CP20: =+HLOOKUP($C20,'Vigilancia 091213'!$G$4:$AF$38,(VLOOKUP(CP$17,'Vigilancia 091213'!$B$7:$C$38,2,0)),0) -> 0 | CQ20: =+IF(CP20=0,0,(VLOOKUP($C20,'Guia Circular 015'!$B$19:$H$44,7,0))) -> 0 | CR20: =+CQ20*CP20 -> 0
A21: 24 | B21: 3 | C21: 24 HORAS - CON ARMA - L A D - SIN IVA | D21: =+HLOOKUP($C21,'Vigilancia 091213'!$G$4:$AF$38,(VLOOKUP(D$17,'Vigilancia 091213'!$B$7:$C$38,2,0)),0) -> 7 | E21: =+IF(D21=0,0,(VLOOKUP($C21,'Guia Circular 015'!$B$19:$H$44,7,0))) -> 5706360 | F21: =+E21*D21 -> 39944520 | G21: =+HLOOKUP($C21,'Vigilancia 091213'!$G$4:$AF$38,(VLOOKUP(G$17,'Vigilancia 091213'!$B$7:$C$38,2,0)),0) -> 0 | H21: =+IF(G21=0,0,(VLOOKUP($C21,'Guia Circular 015'!$B$19:$H$44,7,0))) -> 0 | I21: =+H21*G21 -> 0 | J21: =+HLOOKUP($C21,'Vigilancia 091213'!$G$4:$AF$38,(VLOOKUP(J$17,'Vigilancia 091213'!$B$7:$C$38,2,0)),0) -> 0 | K21: =+IF(J21=0,0,(VLOOKUP($C21,'Guia Circular 015'!$B$19:$H$44,7,0))) -> 0 | L21: =+K21*J21 -> 0 | M21: =+HLOOKUP($C21,'Vigilancia 091213'!$G$4:$AF$38,(VLOOKUP(M$17,'Vigilancia 091213'!$B$7:$C$38,2,0)),0) -> 0 | N21: =+IF(M21=0,0,(VLOOKUP($C21,'Guia Circular 015'!$B$19:$H$44,7,0))) -> 0 | O21: =+N21*M21 -> 0 | P21: =+HLOOKUP($C21,'Vigilancia 091213'!$G$4:$AF$38,(VLOOKUP(P$17,'Vigilancia 091213'!$B$7:$C$38,2,0)),0) -> 0 | Q21: =+IF(P21=0,0,(VLOOKUP($C21,'Guia Circular 015'!$B$19:$H$44,7,0))) -> 0 | R21: =+Q21*P21 -> 0 | S21: =+HLOOKUP($C21,'Vigilancia 091213'!$G$4:$AF$38,(VLOOKUP(S$17,'Vigilancia 091213'!$B$7:$C$38,2,0)),0) -> 0 | T21: =+IF(S21=0,0,(VLOOKUP($C21,'Guia Circular 015'!$B$19:$H$44,7,0))) -> 0 | U21: =+T21*S21 -> 0 | V21: =+HLOOKUP($C21,'Vigilancia 091213'!$G$4:$AF$38,(VLOOKUP(V$17,'Vigilancia 091213'!$B$7:$C$38,2,0)),0) -> 0 | W21: =+IF(V21=0,0,(VLOOKUP($C21,'Guia Circular 015'!$B$19:$H$44,7,0))) -> 0 | X21: =+W21*V21 -> 0 | Y21: =+HLOOKUP($C21,'Vigilancia 091213'!$G$4:$AF$38,(VLOOKUP(Y$17,'Vigilancia 091213'!$B$7:$C$38,2,0)),0) -> 0 | Z21: =+IF(Y21=0,0,(VLOOKUP($C21,'Guia Circular 015'!$B$19:$H$44,7,0))) -> 0 | AA21: =+Z21*Y21 -> 0 | AB21: =+HLOOKUP($C21,'Vigilancia 091213'!$G$4:$AF$38,(VLOOKUP(AB$17,'Vigilancia 091213'!$B$7:$C$38,2,0)),0) -> 0 | AC21: =+IF(AB21=0,0,(VLOOKUP($C21,'Guia Circular 015'!$B$19:$H$44,7,0))) -> 0 | AD21: =+AC21*AB21 -> 0 | AE21: =+HLOOKUP($C21,'Vigilancia 091213'!$G$4:$AF$38,(VLOOKUP(AE$17,'Vigilancia 091213'!$B$7:$C$38,2,0)),0) -> 0 | AF21: =+IF(AE21=0,0,(VLOOKUP($C21,'Guia Circular 015'!$B$19:$H$44,7,0))) -> 0 | AG21: =+AF21*AE21 -> 0 | AH21: =+HLOOKUP($C21,'Vigilancia 091213'!$G$4:$AF$38,(VLOOKUP(AH$17,'Vigilancia 091213'!$B$7:$C$38,2,0)),0) -> 0 | AI21: =+IF(AH21=0,0,(VLOOKUP($C21,'Guia Circular 015'!$B$19:$H$44,7,0))) -> 0 | AJ21: =+AI21*AH21 -> 0 | AK21: =+HLOOKUP($C21,'Vigilancia 091213'!$G$4:$AF$38,(VLOOKUP(AK$17,'Vigilancia 091213'!$B$7:$C$38,2,0)),0) -> 0 | AL21: =+IF(AK21=0,0,(VLOOKUP($C21,'Guia Circular 015'!$B$19:$H$44,7,0))) -> 0 | AM21: =+AL21*AK21 -> 0 | AN21: =+HLOOKUP($C21,'Vigilancia 091213'!$G$4:$AF$38,(VLOOKUP(AN$17,'Vigilancia 091213'!$B$7:$C$38,2,0)),0) -> 0 | AO21: =+IF(AN21=0,0,(VLOOKUP($C21,'Guia Circular 015'!$B$19:$H$44,7,0))) -> 0 | AP21: =+AO21*AN21 -> 0 | AQ21: =+HLOOKUP($C21,'Vigilancia 091213'!$G$4:$AF$38,(VLOOKUP(AQ$17,'Vigilancia 091213'!$B$7:$C$38,2,0)),0) -> 0 | AR21: =+IF(AQ21=0,0,(VLOOKUP($C21,'Guia Circular 015'!$B$19:$H$44,7,0))) -> 0 | AS21: =+AR21*AQ21 -> 0 | AT21: =+HLOOKUP($C21,'Vigilancia 091213'!$G$4:$AF$38,(VLOOKUP(AT$17,'Vigilancia 091213'!$B$7:$C$38,2,0)),0) -> 0 | AU21: =+IF(AT21=0,0,(VLOOKUP($C21,'Guia Circular 015'!$B$19:$H$44,7,0))) -> 0 | AV21: =+AU21*AT21 -> 0 | AW21: =+HLOOKUP($C21,'Vigilancia 091213'!$G$4:$AF$38,(VLOOKUP(AW$17,'Vigilancia 091213'!$B$7:$C$38,2,0)),0) -> 0 | AX21: =+IF(AW21=0,0,(VLOOKUP($C21,'Guia Circular 015'!$B$19:$H$44,7,0))) -> 0 | AY21: =+AX21*AW21 -> 0 | AZ21: =+HLOOKUP($C21,'Vigilancia 091213'!$G$4:$AF$38,(VLOOKUP(AZ$17,'Vigilancia 091213'!$B$7:$C$38,2,0)),0) -> 0 | BA21: =+IF(AZ21=0,0,(VLOOKUP($C21,'Guia Circular 015'!$B$19:$H$44,7,0))) -> 0 | BB21: =+BA21*AZ21 -> 0 | BC21: =+HLOOKUP($C21,'Vigilancia 091213'!$G$4:$AF$38,(VLOOKUP(BC$17,'Vigilancia 091213'!$B$7:$C$38,2,0)),0) -> 0 | BD21: =+IF(BC21=0,0,(VLOOKUP($C21,'Guia Circular 015'!$B$19:$H$44,7,0))) -> 0 | BE21: =+BD21*BC21 -> 0 | BF21: =+HLOOKUP($C21,'Vigilancia 091213'!$G$4:$AF$38,(VLOOKUP(BF$17,'Vigilancia 091213'!$B$7:$C$38,2,0)),0) -> 0 | BG21: =+IF(BF21=0,0,(VLOOKUP($C21,'Guia Circular 015'!$B$19:$H$44,7,0))) -> 0 | BH21: =+BG21*BF21 -> 0 | BI21: =+HLOOKUP($C21,'Vigilancia 091213'!$G$4:$AF$38,(VLOOKUP(BI$17,'Vigilancia 091213'!$B$7:$C$38,2,0)),0) -> 0 | BJ21: =+IF(BI21=0,0,(VLOOKUP($C21,'Guia Circular 015'!$B$19:$H$44,7,0))) -> 0 | BK21: =+BJ21*BI21 -> 0 | BL21: =+HLOOKUP($C21,'Vigilancia 091213'!$G$4:$AF$38,(VLOOKUP(BL$17,'Vigilancia 091213'!$B$7:$C$38,2,0)),0) -> 0 | BM21: =+IF(BL21=0,0,(VLOOKUP($C21,'Guia Circular 015'!$B$19:$H$44,7,0))) -> 0 | BN21: =+BM21*BL21 -> 0 | BO21: =+HLOOKUP($C21,'Vigilancia 091213'!$G$4:$AF$38,(VLOOKUP(BO$17,'Vigilancia 091213'!$B$7:$C$38,2,0)),0) -> 0 | BP21: =+IF(BO21=0,0,(VLOOKUP($C21,'Guia Circular 015'!$B$19:$H$44,7,0))) -> 0 | BQ21: =+BP21*BO21 -> 0 | BR21: =+HLOOKUP($C21,'Vigilancia 091213'!$G$4:$AF$38,(VLOOKUP(BR$17,'Vigilancia 091213'!$B$7:$C$38,2,0)),0) -> 0 | BS21: =+IF(BR21=0,0,(VLOOKUP($C21,'Guia Circular 015'!$B$19:$H$44,7,0))) -> 0 | BT21: =+BS21*BR21 -> 0 | BU21: =+HLOOKUP($C21,'Vigilancia 091213'!$G$4:$AF$38,(VLOOKUP(BU$17,'Vigilancia 091213'!$B$7:$C$38,2,0)),0) -> 0 | BV21: =+IF(BU21=0,0,(VLOOKUP($C21,'Guia Circular 015'!$B$19:$H$44,7,0))) -> 0 | BW21: =+BV21*BU21 -> 0 | BX21: =+HLOOKUP($C21,'Vigilancia 091213'!$G$4:$AF$38,(VLOOKUP(BX$17,'Vigilancia 091213'!$B$7:$C$38,2,0)),0) -> 4 | BY21: =+IF(BX21=0,0,(VLOOKUP($C21,'Guia Circular 015'!$B$19:$H$44,7,0))) -> 5706360 | BZ21: =+BY21*BX21 -> 22825440 | CA21: =+HLOOKUP($C21,'Vigilancia 091213'!$G$4:$AF$38,(VLOOKUP(CA$17,'Vigilancia 091213'!$B$7:$C$38,2,0)),0) -> 0 | CB21: =+IF(CA21=0,0,(VLOOKUP($C21,'Guia Circular 015'!$B$19:$H$44,7,0))) -> 0 | CC21: =+CB21*CA21 -> 0 | CD21: =+HLOOKUP($C21,'Vigilancia 091213'!$G$4:$AF$38,(VLOOKUP(CD$17,'Vigilancia 091213'!$B$7:$C$38,2,0)),0) -> 0 | CE21: =+IF(CD21=0,0,(VLOOKUP($C21,'Guia Circular 015'!$B$19:$H$44,7,0))) -> 0 | CF21: =+CE21*CD21 -> 0 | CG21: =+HLOOKUP($C21,'Vigilancia 091213'!$G$4:$AF$38,(VLOOKUP(CG$17,'Vigilancia 091213'!$B$7:$C$38,2,0)),0) -> 0 | CH21: =+IF(CG21=0,0,(VLOOKUP($C21,'Guia Circular 015'!$B$19:$H$44,7,0))) -> 0 | CI21: =+CH21*CG21 -> 0 | CJ21: =+HLOOKUP($C21,'Vigilancia 091213'!$G$4:$AF$38,(VLOOKUP(CJ$17,'Vigilancia 091213'!$B$7:$C$38,2,0)),0) -> 0 | CK21: =+IF(CJ21=0,0,(VLOOKUP($C21,'Guia Circular 015'!$B$19:$H$44,7,0))) -> 0 | CL21: =+CK21*CJ21 -> 0 | CM21: =+HLOOKUP($C21,'Vigilancia 091213'!$G$4:$AF$38,(VLOOKUP(CM$17,'Vigilancia 091213'!$B$7:$C$38,2,0)),0) -> 0 | CN21: =+IF(CM21=0,0,(VLOOKUP($C21,'Guia Circular 015'!$B$19:$H$44,7,0))) -> 0 | CO21: =+CN21*CM21 -> 0 | CP21: =+HLOOKUP($C21,'Vigilancia 091213'!$G$4:$AF$38,(VLOOKUP(CP$17,'Vigilancia 091213'!$B$7:$C$38,2,0)),0) -> 0 | CQ21: =+IF(CP21=0,0,(VLOOKUP($C21,'Guia Circular 015'!$B$19:$H$44,7,0))) -> 0 | CR21: =+CQ21*CP21 -> 0
A22: 24 | B22: 4 | C22: 24 HORAS - SIN ARMA - L A D | D22: =+HLOOKUP($C22,'Vigilancia 091213'!$G$4:$AF$38,(VLOOKUP(D$17,'Vigilancia 091213'!$B$7:$C$38,2,0)),0) -> 0 | E22: =+IF(D22=0,0,(VLOOKUP($C22,'Guia Circular 015'!$B$19:$H$44,7,0))) -> 0 | F22: =+E22*D22 -> 0 | G22: =+HLOOKUP($C22,'Vigilancia 091213'!$G$4:$AF$38,(VLOOKUP(G$17,'Vigilancia 091213'!$B$7:$C$38,2,0)),0) -> 1 | H22: =+IF(G22=0,0,(VLOOKUP($C22,'Guia Circular 015'!$B$19:$H$44,7,0))) -> 5602608 | I22: =+H22*G22 -> 5602608 | J22: =+HLOOKUP($C22,'Vigilancia 091213'!$G$4:$AF$38,(VLOOKUP(J$17,'Vigilancia 091213'!$B$7:$C$38,2,0)),0) -> 0 | K22: =+IF(J22=0,0,(VLOOKUP($C22,'Guia Circular 015'!$B$19:$H$44,7,0))) -> 0 | L22: =+K22*J22 -> 0 | M22: =+HLOOKUP($C22,'Vigilancia 091213'!$G$4:$AF$38,(VLOOKUP(M$17,'Vigilancia 091213'!$B$7:$C$38,2,0)),0) -> 0 | N22: =+IF(M22=0,0,(VLOOKUP($C22,'Guia Circular 015'!$B$19:$H$44,7,0))) -> 0 | O22: =+N22*M22 -> 0 | P22: =+HLOOKUP($C22,'Vigilancia 091213'!$G$4:$AF$38,(VLOOKUP(P$17,'Vigilancia 091213'!$B$7:$C$38,2,0)),0) -> 0 | Q22: =+IF(P22=0,0,(VLOOKUP($C22,'Guia Circular 015'!$B$19:$H$44,7,0))) -> 0 | R22: =+Q22*P22 -> 0 | S22: =+HLOOKUP($C22,'Vigilancia 091213'!$G$4:$AF$38,(VLOOKUP(S$17,'Vigilancia 091213'!$B$7:$C$38,2,0)),0) -> 0 | T22: =+IF(S22=0,0,(VLOOKUP($C22,'Guia Circular 015'!$B$19:$H$44,7,0))) -> 0 | U22: =+T22*S22 -> 0 | V22: =+HLOOKUP($C22,'Vigilancia 091213'!$G$4:$AF$38,(VLOOKUP(V$17,'Vigilancia 091213'!$B$7:$C$38,2,0)),0) -> 0 | W22: =+IF(V22=0,0,(VLOOKUP($C22,'Guia Circular 015'!$B$19:$H$44,7,0))) -> 0 | X22: =+W22*V22 -> 0 | Y22: =+HLOOKUP($C22,'Vigilancia 091213'!$G$4:$AF$38,(VLOOKUP(Y$17,'Vigilancia 091213'!$B$7:$C$38,2,0)),0) -> 0 | Z22: =+IF(Y22=0,0,(VLOOKUP($C22,'Guia Circular 015'!$B$19:$H$44,7,0))) -> 0 | AA22: =+Z22*Y22 -> 0 | AB22: =+HLOOKUP($C22,'Vigilancia 091213'!$G$4:$AF$38,(VLOOKUP(AB$17,'Vigilancia 091213'!$B$7:$C$38,2,0)),0) -> 0 | AC22: =+IF(AB22=0,0,(VLOOKUP($C22,'Guia Circular 015'!$B$19:$H$44,7,0))) -> 0 | AD22: =+AC22*AB22 -> 0 | AE22: =+HLOOKUP($C22,'Vigilancia 091213'!$G$4:$AF$38,(VLOOKUP(AE$17,'Vigilancia 091213'!$B$7:$C$38,2,0)),0) -> 0 | AF22: =+IF(AE22=0,0,(VLOOKUP($C22,'Guia Circular 015'!$B$19:$H$44,7,0))) -> 0 | AG22: =+AF22*AE22 -> 0 | AH22: =+HLOOKUP($C22,'Vigilancia 091213'!$G$4:$AF$38,(VLOOKUP(AH$17,'Vigilancia 091213'!$B$7:$C$38,2,0)),0) -> 0 | AI22: =+IF(AH22=0,0,(VLOOKUP($C22,'Guia Circular 015'!$B$19:$H$44,7,0))) -> 0 | AJ22: =+AI22*AH22 -> 0 | AK22: =+HLOOKUP($C22,'Vigilancia 091213'!$G$4:$AF$38,(VLOOKUP(AK$17,'Vigilancia 091213'!$B$7:$C$38,2,0)),0) -> 0 | AL22: =+IF(AK22=0,0,(VLOOKUP($C22,'Guia Circular 015'!$B$19:$H$44,7,0))) -> 0 | AM22: =+AL22*AK22 -> 0 | AN22: =+HLOOKUP($C22,'Vigilancia 091213'!$G$4:$AF$38,(VLOOKUP(AN$17,'Vigilancia 091213'!$B$7:$C$38,2,0)),0) -> 0 | AO22: =+IF(AN22=0,0,(VLOOKUP($C22,'Guia Circular 015'!$B$19:$H$44,7,0))) -> 0 | AP22: =+AO22*AN22 -> 0 | AQ22: =+HLOOKUP($C22,'Vigilancia 091213'!$G$4:$AF$38,(VLOOKUP(AQ$17,'Vigilancia 091213'!$B$7:$C$38,2,0)),0) -> 1 | AR22: =+IF(AQ22=0,0,(VLOOKUP($C22,'Guia Circular 015'!$B$19:$H$44,7,0))) -> 5602608 | AS22: =+AR22*AQ22 -> 5602608 | AT22: =+HLOOKUP($C22,'Vigilancia 091213'!$G$4:$AF$38,(VLOOKUP(AT$17,'Vigilancia 091213'!$B$7:$C$38,2,0)),0) -> 0 | AU22: =+IF(AT22=0,0,(VLOOKUP($C22,'Guia Circular 015'!$B$19:$H$44,7,0))) -> 0 | AV22: =+AU22*AT22 -> 0 | AW22: =+HLOOKUP($C22,'Vigilancia 091213'!$G$4:$AF$38,(VLOOKUP(AW$17,'Vigilancia 091213'!$B$7:$C$38,2,0)),0) -> 0 | AX22: =+IF(AW22=0,0,(VLOOKUP($C22,'Guia Circular 015'!$B$19:$H$44,7,0))) -> 0 | AY22: =+AX22*AW22 -> 0 | AZ22: =+HLOOKUP($C22,'Vigilancia 091213'!$G$4:$AF$38,(VLOOKUP(AZ$17,'Vigilancia 091213'!$B$7:$C$38,2,0)),0) -> 0 | BA22: =+IF(AZ22=0,0,(VLOOKUP($C22,'Guia Circular 015'!$B$19:$H$44,7,0))) -> 0 | BB22: =+BA22*AZ22 -> 0 | BC22: =+HLOOKUP($C22,'Vigilancia 091213'!$G$4:$AF$38,(VLOOKUP(BC$17,'Vigilancia 091213'!$B$7:$C$38,2,0)),0) -> 0 | BD22: =+IF(BC22=0,0,(VLOOKUP($C22,'Guia Circular 015'!$B$19:$H$44,7,0))) -> 0 | BE22: =+BD22*BC22 -> 0 | BF22: =+HLOOKUP($C22,'Vigilancia 091213'!$G$4:$AF$38,(VLOOKUP(BF$17,'Vigilancia 091213'!$B$7:$C$38,2,0)),0) -> 0 | BG22: =+IF(BF22=0,0,(VLOOKUP($C22,'Guia Circular 015'!$B$19:$H$44,7,0))) -> 0 | BH22: =+BG22*BF22 -> 0 | BI22: =+HLOOKUP($C22,'Vigilancia 091213'!$G$4:$AF$38,(VLOOKUP(BI$17,'Vigilancia 091213'!$B$7:$C$38,2,0)),0) -> 0 | BJ22: =+IF(BI22=0,0,(VLOOKUP($C22,'Guia Circular 015'!$B$19:$H$44,7,0))) -> 0 | BK22: =+BJ22*BI22 -> 0 | BL22: =+HLOOKUP($C22,'Vigilancia 091213'!$G$4:$AF$38,(VLOOKUP(BL$17,'Vigilancia 091213'!$B$7:$C$38,2,0)),0) -> 0 | BM22: =+IF(BL22=0,0,(VLOOKUP($C22,'Guia Circular 015'!$B$19:$H$44,7,0))) -> 0 | BN22: =+BM22*BL22 -> 0 | BO22: =+HLOOKUP($C22,'Vigilancia 091213'!$G$4:$AF$38,(VLOOKUP(BO$17,'Vigilancia 091213'!$B$7:$C$38,2,0)),0) -> 8 | BP22: =+IF(BO22=0,0,(VLOOKUP($C22,'Guia Circular 015'!$B$19:$H$44,7,0))) -> 5602608 | BQ22: =+BP22*BO22 -> 44820864 | BR22: =+HLOOKUP($C22,'Vigilancia 091213'!$G$4:$AF$38,(VLOOKUP(BR$17,'Vigilancia 091213'!$B$7:$C$38,2,0)),0) -> 0 | BS22: =+IF(BR22=0,0,(VLOOKUP($C22,'Guia Circular 015'!$B$19:$H$44,7,0))) -> 0 | BT22: =+BS22*BR22 -> 0 | BU22: =+HLOOKUP($C22,'Vigilancia 091213'!$G$4:$AF$38,(VLOOKUP(BU$17,'Vigilancia 091213'!$B$7:$C$38,2,0)),0) -> 0 | BV22: =+IF(BU22=0,0,(VLOOKUP($C22,'Guia Circular 015'!$B$19:$H$44,7,0))) -> 0 | BW22: =+BV22*BU22 -> 0 | BX22: =+HLOOKUP($C22,'Vigilancia 091213'!$G$4:$AF$38,(VLOOKUP(BX$17,'Vigilancia 091213'!$B$7:$C$38,2,0)),0) -> 0 | BY22: =+IF(BX22=0,0,(VLOOKUP($C22,'Guia Circular 015'!$B$19:$H$44,7,0))) -> 0 | BZ22: =+BY22*BX22 -> 0 | CA22: =+HLOOKUP($C22,'Vigilancia 091213'!$G$4:$AF$38,(VLOOKUP(CA$17,'Vigilancia 091213'!$B$7:$C$38,2,0)),0) -> 0 | CB22: =+IF(CA22=0,0,(VLOOKUP($C22,'Guia Circular 015'!$B$19:$H$44,7,0))) -> 0 | CC22: =+CB22*CA22 -> 0 | CD22: =+HLOOKUP($C22,'Vigilancia 091213'!$G$4:$AF$38,(VLOOKUP(CD$17,'Vigilancia 091213'!$B$7:$C$38,2,0)),0) -> 0 | CE22: =+IF(CD22=0,0,(VLOOKUP($C22,'Guia Circular 015'!$B$19:$H$44,7,0))) -> 0 | CF22: =+CE22*CD22 -> 0 | CG22: =+HLOOKUP($C22,'Vigilancia 091213'!$G$4:$AF$38,(VLOOKUP(CG$17,'Vigilancia 091213'!$B$7:$C$38,2,0)),0) -> 0 | CH22: =+IF(CG22=0,0,(VLOOKUP($C22,'Guia Circular 015'!$B$19:$H$44,7,0))) -> 0 | CI22: =+CH22*CG22 -> 0 | CJ22: =+HLOOKUP($C22,'Vigilancia 091213'!$G$4:$AF$38,(VLOOKUP(CJ$17,'Vigilancia 091213'!$B$7:$C$38,2,0)),0) -> 0 | CK22: =+IF(CJ22=0,0,(VLOOKUP($C22,'Guia Circular 015'!$B$19:$H$44,7,0))) -> 0 | CL22: =+CK22*CJ22 -> 0 | CM22: =+HLOOKUP($C22,'Vigilancia 091213'!$G$4:$AF$38,(VLOOKUP(CM$17,'Vigilancia 091213'!$B$7:$C$38,2,0)),0) -> 0 | CN22: =+IF(CM22=0,0,(VLOOKUP($C22,'Guia Circular 015'!$B$19:$H$44,7,0))) -> 0 | CO22: =+CN22*CM22 -> 0 | CP22: =+HLOOKUP($C22,'Vigilancia 091213'!$G$4:$AF$38,(VLOOKUP(CP$17,'Vigilancia 091213'!$B$7:$C$38,2,0)),0) -> 3 | CQ22: =+IF(CP22=0,0,(VLOOKUP($C22,'Guia Circular 015'!$B$19:$H$44,7,0))) -> 5602608 | CR22: =+CQ22*CP22 -> 16807824
B23: 5 | C23: 12 HORAS - DIURNAS - CON ARMA - L A D | D23: =+HLOOKUP($C23,'Vigilancia 091213'!$G$4:$AF$38,(VLOOKUP(D$17,'Vigilancia 091213'!$B$7:$C$38,2,0)),0) -> 0 | E23: =+IF(D23=0,0,(VLOOKUP($C23,'Guia Circular 015'!$B$19:$H$44,7,0))) -> 0 | F23: =+E23*D23 -> 0 | G23: =+HLOOKUP($C23,'Vigilancia 091213'!$G$4:$AF$38,(VLOOKUP(G$17,'Vigilancia 091213'!$B$7:$C$38,2,0)),0) -> 0 | H23: =+IF(G23=0,0,(VLOOKUP($C23,'Guia Circular 015'!$B$19:$H$44,7,0))) -> 0 | I23: =+H23*G23 -> 0 | J23: =+HLOOKUP($C23,'Vigilancia 091213'!$G$4:$AF$38,(VLOOKUP(J$17,'Vigilancia 091213'!$B$7:$C$38,2,0)),0) -> 0 | K23: =+IF(J23=0,0,(VLOOKUP($C23,'Guia Circular 015'!$B$19:$H$44,7,0))) -> 0 | L23: =+K23*J23 -> 0 | M23: =+HLOOKUP($C23,'Vigilancia 091213'!$G$4:$AF$38,(VLOOKUP(M$17,'Vigilancia 091213'!$B$7:$C$38,2,0)),0) -> 0 | N23: =+IF(M23=0,0,(VLOOKUP($C23,'Guia Circular 015'!$B$19:$H$44,7,0))) -> 0 | O23: =+N23*M23 -> 0 | P23: =+HLOOKUP($C23,'Vigilancia 091213'!$G$4:$AF$38,(VLOOKUP(P$17,'Vigilancia 091213'!$B$7:$C$38,2,0)),0) -> 0 | Q23: =+IF(P23=0,0,(VLOOKUP($C23,'Guia Circular 015'!$B$19:$H$44,7,0))) -> 0 | R23: =+Q23*P23 -> 0 | S23: =+HLOOKUP($C23,'Vigilancia 091213'!$G$4:$AF$38,(VLOOKUP(S$17,'Vigilancia 091213'!$B$7:$C$38,2,0)),0) -> 2 | T23: =+IF(S23=0,0,(VLOOKUP($C23,'Guia Circular 015'!$B$19:$H$44,7,0))) -> 2555023 | U23: =+T23*S23 -> 5110046 | V23: =+HLOOKUP($C23,'Vigilancia 091213'!$G$4:$AF$38,(VLOOKUP(V$17,'Vigilancia 091213'!$B$7:$C$38,2,0)),0) -> 0 | W23: =+IF(V23=0,0,(VLOOKUP($C23,'Guia Circular 015'!$B$19:$H$44,7,0))) -> 0 | X23: =+W23*V23 -> 0 | Y23: =+HLOOKUP($C23,'Vigilancia 091213'!$G$4:$AF$38,(VLOOKUP(Y$17,'Vigilancia 091213'!$B$7:$C$38,2,0)),0) -> 0 | Z23: =+IF(Y23=0,0,(VLOOKUP($C23,'Guia Circular 015'!$B$19:$H$44,7,0))) -> 0 | AA23: =+Z23*Y23 -> 0 | AB23: =+HLOOKUP($C23,'Vigilancia 091213'!$G$4:$AF$38,(VLOOKUP(AB$17,'Vigilancia 091213'!$B$7:$C$38,2,0)),0) -> 0 | AC23: =+IF(AB23=0,0,(VLOOKUP($C23,'Guia Circular 015'!$B$19:$H$44,7,0))) -> 0 | AD23: =+AC23*AB23 -> 0 | AE23: =+HLOOKUP($C23,'Vigilancia 091213'!$G$4:$AF$38,(VLOOKUP(AE$17,'Vigilancia 091213'!$B$7:$C$38,2,0)),0) -> 0 | AF23: =+IF(AE23=0,0,(VLOOKUP($C23,'Guia Circular 015'!$B$19:$H$44,7,0))) -> 0 | AG23: =+AF23*AE23 -> 0 | AH23: =+HLOOKUP($C23,'Vigilancia 091213'!$G$4:$AF$38,(VLOOKUP(AH$17,'Vigilancia 091213'!$B$7:$C$38,2,0)),0) -> 0 | AI23: =+IF(AH23=0,0,(VLOOKUP($C23,'Guia Circular 015'!$B$19:$H$44,7,0))) -> 0 | AJ23: =+AI23*AH23 -> 0 | AK23: =+HLOOKUP($C23,'Vigilancia 091213'!$G$4:$AF$38,(VLOOKUP(AK$17,'Vigilancia 091213'!$B$7:$C$38,2,0)),0) -> 1 | AL23: =+IF(AK23=0,0,(VLOOKUP($C23,'Guia Circular 015'!$B$19:$H$44,7,0))) -> 2555023 | AM23: =+AL23*AK23 -> 2555023 | AN23: =+HLOOKUP($C23,'Vigilancia 091213'!$G$4:$AF$38,(VLOOKUP(AN$17,'Vigilancia 091213'!$B$7:$C$38,2,0)),0) -> 0 | AO23: =+IF(AN23=0,0,(VLOOKUP($C23,'Guia Circular 015'!$B$19:$H$44,7,0))) -> 0 | AP23: =+AO23*AN23 -> 0 | AQ23: =+HLOOKUP($C23,'Vigilancia 091213'!$G$4:$AF$38,(VLOOKUP(AQ$17,'Vigilancia 091213'!$B$7:$C$38,2,0)),0) -> 0 | AR23: =+IF(AQ23=0,0,(VLOOKUP($C23,'Guia Circular 015'!$B$19:$H$44,7,0))) -> 0 | AS23: =+AR23*AQ23 -> 0 | AT23: =+HLOOKUP($C23,'Vigilancia 091213'!$G$4:$AF$38,(VLOOKUP(AT$17,'Vigilancia 091213'!$B$7:$C$38,2,0)),0) -> 0 | AU23: =+IF(AT23=0,0,(VLOOKUP($C23,'Guia Circular 015'!$B$19:$H$44,7,0))) -> 0 | AV23: =+AU23*AT23 -> 0 | AW23: =+HLOOKUP($C23,'Vigilancia 091213'!$G$4:$AF$38,(VLOOKUP(AW$17,'Vigilancia 091213'!$B$7:$C$38,2,0)),0) -> 0 | AX23: =+IF(AW23=0,0,(VLOOKUP($C23,'Guia Circular 015'!$B$19:$H$44,7,0))) -> 0 | AY23: =+AX23*AW23 -> 0 | AZ23: =+HLOOKUP($C23,'Vigilancia 091213'!$G$4:$AF$38,(VLOOKUP(AZ$17,'Vigilancia 091213'!$B$7:$C$38,2,0)),0) -> 0 | BA23: =+IF(AZ23=0,0,(VLOOKUP($C23,'Guia Circular 015'!$B$19:$H$44,7,0))) -> 0 | BB23: =+BA23*AZ23 -> 0 | BC23: =+HLOOKUP($C23,'Vigilancia 091213'!$G$4:$AF$38,(VLOOKUP(BC$17,'Vigilancia 091213'!$B$7:$C$38,2,0)),0) -> 0 | BD23: =+IF(BC23=0,0,(VLOOKUP($C23,'Guia Circular 015'!$B$19:$H$44,7,0))) -> 0 | BE23: =+BD23*BC23 -> 0 | BF23: =+HLOOKUP($C23,'Vigilancia 091213'!$G$4:$AF$38,(VLOOKUP(BF$17,'Vigilancia 091213'!$B$7:$C$38,2,0)),0) -> 0 | BG23: =+IF(BF23=0,0,(VLOOKUP($C23,'Guia Circular 015'!$B$19:$H$44,7,0))) -> 0 | BH23: =+BG23*BF23 -> 0 | BI23: =+HLOOKUP($C23,'Vigilancia 091213'!$G$4:$AF$38,(VLOOKUP(BI$17,'Vigilancia 091213'!$B$7:$C$38,2,0)),0) -> 0 | BJ23: =+IF(BI23=0,0,(VLOOKUP($C23,'Guia Circular 015'!$B$19:$H$44,7,0))) -> 0 | BK23: =+BJ23*BI23 -> 0 | BL23: =+HLOOKUP($C23,'Vigilancia 091213'!$G$4:$AF$38,(VLOOKUP(BL$17,'Vigilancia 091213'!$B$7:$C$38,2,0)),0) -> 0 | BM23: =+IF(BL23=0,0,(VLOOKUP($C23,'Guia Circular 015'!$B$19:$H$44,7,0))) -> 0 | BN23: =+BM23*BL23 -> 0 | BO23: =+HLOOKUP($C23,'Vigilancia 091213'!$G$4:$AF$38,(VLOOKUP(BO$17,'Vigilancia 091213'!$B$7:$C$38,2,0)),0) -> 0 | BP23: =+IF(BO23=0,0,(VLOOKUP($C23,'Guia Circular 015'!$B$19:$H$44,7,0))) -> 0 | BQ23: =+BP23*BO23 -> 0 | BR23: =+HLOOKUP($C23,'Vigilancia 091213'!$G$4:$AF$38,(VLOOKUP(BR$17,'Vigilancia 091213'!$B$7:$C$38,2,0)),0) -> 1 | BS23: =+IF(BR23=0,0,(VLOOKUP($C23,'Guia Circular 015'!$B$19:$H$44,7,0))) -> 2555023 | BT23: =+BS23*BR23 -> 2555023 | BU23: =+HLOOKUP($C23,'Vigilancia 091213'!$G$4:$AF$38,(VLOOKUP(BU$17,'Vigilancia 091213'!$B$7:$C$38,2,0)),0) -> 0 | BV23: =+IF(BU23=0,0,(VLOOKUP($C23,'Guia Circular 015'!$B$19:$H$44,7,0))) -> 0 | BW23: =+BV23*BU23 -> 0 | BX23: =+HLOOKUP($C23,'Vigilancia 091213'!$G$4:$AF$38,(VLOOKUP(BX$17,'Vigilancia 091213'!$B$7:$C$38,2,0)),0) -> 0 | BY23: =+IF(BX23=0,0,(VLOOKUP($C23,'Guia Circular 015'!$B$19:$H$44,7,0))) -> 0 | BZ23: =+BY23*BX23 -> 0 | CA23: =+HLOOKUP($C23,'Vigilancia 091213'!$G$4:$AF$38,(VLOOKUP(CA$17,'Vigilancia 091213'!$B$7:$C$38,2,0)),0) -> 2 | CB23: =+IF(CA23=0,0,(VLOOKUP($C23,'Guia Circular 015'!$B$19:$H$44,7,0))) -> 2555023 | CC23: =+CB23*CA23 -> 5110046 | CD23: =+HLOOKUP($C23,'Vigilancia 091213'!$G$4:$AF$38,(VLOOKUP(CD$17,'Vigilancia 091213'!$B$7:$C$38,2,0)),0) -> 0 | CE23: =+IF(CD23=0,0,(VLOOKUP($C23,'Guia Circular 015'!$B$19:$H$44,7,0))) -> 0 | CF23: =+CE23*CD23 -> 0 | CG23: =+HLOOKUP($C23,'Vigilancia 091213'!$G$4:$AF$38,(VLOOKUP(CG$17,'Vigilancia 091213'!$B$7:$C$38,2,0)),0) -> 1 | CH23: =+IF(CG23=0,0,(VLOOKUP($C23,'Guia Circular 015'!$B$19:$H$44,7,0))) -> 2555023 | CI23: =+CH23*CG23 -> 2555023 | CJ23: =+HLOOKUP($C23,'Vigilancia 091213'!$G$4:$AF$38,(VLOOKUP(CJ$17,'Vigilancia 091213'!$B$7:$C$38,2,0)),0) -> 0 | CK23: =+IF(CJ23=0,0,(VLOOKUP($C23,'Guia Circular 015'!$B$19:$H$44,7,0))) -> 0 | CL23: =+CK23*CJ23 -> 0 | CM23: =+HLOOKUP($C23,'Vigilancia 091213'!$G$4:$AF$38,(VLOOKUP(CM$17,'Vigilancia 091213'!$B$7:$C$38,2,0)),0) -> 3 | CN23: =+IF(CM23=0,0,(VLOOKUP($C23,'Guia Circular 015'!$B$19:$H$44,7,0))) -> 2555023 | CO23: =+CN23*CM23 -> 7665069 | CP23: =+HLOOKUP($C23,'Vigilancia 091213'!$G$4:$AF$38,(VLOOKUP(CP$17,'Vigilancia 091213'!$B$7:$C$38,2,0)),0) -> 0 | CQ23: =+IF(CP23=0,0,(VLOOKUP($C23,'Guia Circular 015'!$B$19:$H$44,7,0))) -> 0 | CR23: =+CQ23*CP23 -> 0
B24: 6 | C24: 12 HORAS - DIURNAS - CON ARMA - L A V - CON FESTIVOS | D24: =+HLOOKUP($C24,'Vigilancia 091213'!$G$4:$AF$38,(VLOOKUP(D$17,'Vigilancia 091213'!$B$7:$C$38,2,0)),0) -> 0 | E24: =+IF(D24=0,0,(VLOOKUP($C24,'Guia Circular 015'!$B$19:$H$44,7,0))) -> 0 | F24: =+E24*D24 -> 0 | G24: =+HLOOKUP($C24,'Vigilancia 091213'!$G$4:$AF$38,(VLOOKUP(G$17,'Vigilancia 091213'!$B$7:$C$38,2,0)),0) -> 1 | H24: =+IF(G24=0,0,(VLOOKUP($C24,'Guia Circular 015'!$B$19:$H$44,7,0))) -> 1873683 | I24: =+H24*G24 -> 1873683 | J24: =+HLOOKUP($C24,'Vigilancia 091213'!$G$4:$AF$38,(VLOOKUP(J$17,'Vigilancia 091213'!$B$7:$C$38,2,0)),0) -> 1 | K24: =+IF(J24=0,0,(VLOOKUP($C24,'Guia Circular 015'!$B$19:$H$44,7,0))) -> 1873683 | L24: =+K24*J24 -> 1873683 | M24: =+HLOOKUP($C24,'Vigilancia 091213'!$G$4:$AF$38,(VLOOKUP(M$17,'Vigilancia 091213'!$B$7:$C$38,2,0)),0) -> 2 | N24: =+IF(M24=0,0,(VLOOKUP($C24,'Guia Circular 015'!$B$19:$H$44,7,0))) -> 1873683 | O24: =+N24*M24 -> 3747366 | P24: =+HLOOKUP($C24,'Vigilancia 091213'!$G$4:$AF$38,(VLOOKUP(P$17,'Vigilancia 091213'!$B$7:$C$38,2,0)),0) -> 0 | Q24: =+IF(P24=0,0,(VLOOKUP($C24,'Guia Circular 015'!$B$19:$H$44,7,0))) -> 0 | R24: =+Q24*P24 -> 0 | S24: =+HLOOKUP($C24,'Vigilancia 091213'!$G$4:$AF$38,(VLOOKUP(S$17,'Vigilancia 091213'!$B$7:$C$38,2,0)),0) -> 0 | T24: =+IF(S24=0,0,(VLOOKUP($C24,'Guia Circular 015'!$B$19:$H$44,7,0))) -> 0 | U24: =+T24*S24 -> 0 | V24: =+HLOOKUP($C24,'Vigilancia 091213'!$G$4:$AF$38,(VLOOKUP(V$17,'Vigilancia 091213'!$B$7:$C$38,2,0)),0) -> 5 | W24: =+IF(V24=0,0,(VLOOKUP($C24,'Guia Circular 015'!$B$19:$H$44,7,0))) -> 1873683 | X24: =+W24*V24 -> 9368415 | Y24: =+HLOOKUP($C24,'Vigilancia 091213'!$G$4:$AF$38,(VLOOKUP(Y$17,'Vigilancia 091213'!$B$7:$C$38,2,0)),0) -> 0 | Z24: =+IF(Y24=0,0,(VLOOKUP($C24,'Guia Circular 015'!$B$19:$H$44,7,0))) -> 0 | AA24: =+Z24*Y24 -> 0 | AB24: =+HLOOKUP($C24,'Vigilancia 091213'!$G$4:$AF$38,(VLOOKUP(AB$17,'Vigilancia 091213'!$B$7:$C$38,2,0)),0) -> 0 | AC24: =+IF(AB24=0,0,(VLOOKUP($C24,'Guia Circular 015'!$B$19:$H$44,7,0))) -> 0 | AD24: =+AC24*AB24 -> 0 | AE24: =+HLOOKUP($C24,'Vigilancia 091213'!$G$4:$AF$38,(VLOOKUP(AE$17,'Vigilancia 091213'!$B$7:$C$38,2,0)),0) -> 0 | AF24: =+IF(AE24=0,0,(VLOOKUP($C24,'Guia Circular 015'!$B$19:$H$44,7,0))) -> 0 | AG24: =+AF24*AE24 -> 0 | AH24: =+HLOOKUP($C24,'Vigilancia 091213'!$G$4:$AF$38,(VLOOKUP(AH$17,'Vigilancia 091213'!$B$7:$C$38,2,0)),0) -> 0 | AI24: =+IF(AH24=0,0,(VLOOKUP($C24,'Guia Circular 015'!$B$19:$H$44,7,0))) -> 0 | AJ24: =+AI24*AH24 -> 0 | AK24: =+HLOOKUP($C24,'Vigilancia 091213'!$G$4:$AF$38,(VLOOKUP(AK$17,'Vigilancia 091213'!$B$7:$C$38,2,0)),0) -> 0 | AL24: =+IF(AK24=0,0,(VLOOKUP($C24,'Guia Circular 015'!$B$19:$H$44,7,0))) -> 0 | AM24: =+AL24*AK24 -> 0 | AN24: =+HLOOKUP($C24,'Vigilancia 091213'!$G$4:$AF$38,(VLOOKUP(AN$17,'Vigilancia 091213'!$B$7:$C$38,2,0)),0) -> 0 | AO24: =+IF(AN24=0,0,(VLOOKUP($C24,'Guia Circular 015'!$B$19:$H$44,7,0))) -> 0 | AP24: =+AO24*AN24 -> 0 | AQ24: =+HLOOKUP($C24,'Vigilancia 091213'!$G$4:$AF$38,(VLOOKUP(AQ$17,'Vigilancia 091213'!$B$7:$C$38,2,0)),0) -> 0 | AR24: =+IF(AQ24=0,0,(VLOOKUP($C24,'Guia Circular 015'!$B$19:$H$44,7,0))) -> 0 | AS24: =+AR24*AQ24 -> 0 | AT24: =+HLOOKUP($C24,'Vigilancia 091213'!$G$4:$AF$38,(VLOOKUP(AT$17,'Vigilancia 091213'!$B$7:$C$38,2,0)),0) -> 1 | AU24: =+IF(AT24=0,0,(VLOOKUP($C24,'Guia Circular 015'!$B$19:$H$44,7,0))) -> 1873683 | AV24: =+AU24*AT24 -> 1873683 | AW24: =+HLOOKUP($C24,'Vigilancia 091213'!$G$4:$AF$38,(VLOOKUP(AW$17,'Vigilancia 091213'!$B$7:$C$38,2,0)),0) -> 0 | AX24: =+IF(AW24=0,0,(VLOOKUP($C24,'Guia Circular 015'!$B$19:$H$44,7,0))) -> 0 | AY24: =+AX24*AW24 -> 0 | AZ24: =+HLOOKUP($C24,'Vigilancia 091213'!$G$4:$AF$38,(VLOOKUP(AZ$17,'Vigilancia 091213'!$B$7:$C$38,2,0)),0) -> 0 | BA24: =+IF(AZ24=0,0,(VLOOKUP($C24,'Guia Circular 015'!$B$19:$H$44,7,0))) -> 0 | BB24: =+BA24*AZ24 -> 0 | BC24: =+HLOOKUP($C24,'Vigilancia 091213'!$G$4:$AF$38,(VLOOKUP(BC$17,'Vigilancia 091213'!$B$7:$C$38,2,0)),0) -> 0 | BD24: =+IF(BC24=0,0,(VLOOKUP($C24,'Guia Circular 015'!$B$19:$H$44,7,0))) -> 0 | BE24: =+BD24*BC24 -> 0 | BF24: =+HLOOKUP($C24,'Vigilancia 091213'!$G$4:$AF$38,(VLOOKUP(BF$17,'Vigilancia 091213'!$B$7:$C$38,2,0)),0) -> 3 | BG24: =+IF(BF24=0,0,(VLOOKUP($C24,'Guia Circular 015'!$B$19:$H$44,7,0))) -> 1873683 | BH24: =+BG24*BF24 -> 5621049 | BI24: =+HLOOKUP($C24,'Vigilancia 091213'!$G$4:$AF$38,(VLOOKUP(BI$17,'Vigilancia 091213'!$B$7:$C$38,2,0)),0) -> 0 | BJ24: =+IF(BI24=0,0,(VLOOKUP($C24,'Guia Circular 015'!$B$19:$H$44,7,0))) -> 0 | BK24: =+BJ24*BI24 -> 0 | BL24: =+HLOOKUP($C24,'Vigilancia 091213'!$G$4:$AF$38,(VLOOKUP(BL$17,'Vigilancia 091213'!$B$7:$C$38,2,0)),0) -> 0 | BM24: =+IF(BL24=0,0,(VLOOKUP($C24,'Guia Circular 015'!$B$19:$H$44,7,0))) -> 0 | BN24: =+BM24*BL24 -> 0 | BO24: =+HLOOKUP($C24,'Vigilancia 091213'!$G$4:$AF$38,(VLOOKUP(BO$17,'Vigilancia 091213'!$B$7:$C$38,2,0)),0) -> 0 | BP24: =+IF(BO24=0,0,(VLOOKUP($C24,'Guia Circular 015'!$B$19:$H$44,7,0))) -> 0 | BQ24: =+BP24*BO24 -> 0 | BR24: =+HLOOKUP($C24,'Vigilancia 091213'!$G$4:$AF$38,(VLOOKUP(BR$17,'Vigilancia 091213'!$B$7:$C$38,2,0)),0) -> 0 | BS24: =+IF(BR24=0,0,(VLOOKUP($C24,'Guia Circular 015'!$B$19:$H$44,7,0))) -> 0 | BT24: =+BS24*BR24 -> 0 | BU24: =+HLOOKUP($C24,'Vigilancia 091213'!$G$4:$AF$38,(VLOOKUP(BU$17,'Vigilancia 091213'!$B$7:$C$38,2,0)),0) -> 2 | BV24: =+IF(BU24=0,0,(VLOOKUP($C24,'Guia Circular 015'!$B$19:$H$44,7,0))) -> 1873683 | BW24: =+BV24*BU24 -> 3747366 | BX24: =+HLOOKUP($C24,'Vigilancia 091213'!$G$4:$AF$38,(VLOOKUP(BX$17,'Vigilancia 091213'!$B$7:$C$38,2,0)),0) -> 0 | BY24: =+IF(BX24=0,0,(VLOOKUP($C24,'Guia Circular 015'!$B$19:$H$44,7,0))) -> 0 | BZ24: =+BY24*BX24 -> 0 | CA24: =+HLOOKUP($C24,'Vigilancia 091213'!$G$4:$AF$38,(VLOOKUP(CA$17,'Vigilancia 091213'!$B$7:$C$38,2,0)),0) -> 0 | CB24: =+IF(CA24=0,0,(VLOOKUP($C24,'Guia Circular 015'!$B$19:$H$44,7,0))) -> 0 | CC24: =+CB24*CA24 -> 0 | CD24: =+HLOOKUP($C24,'Vigilancia 091213'!$G$4:$AF$38,(VLOOKUP(CD$17,'Vigilancia 091213'!$B$7:$C$38,2,0)),0) -> 1 | CE24: =+IF(CD24=0,0,(VLOOKUP($C24,'Guia Circular 015'!$B$19:$H$44,7,0))) -> 1873683 | CF24: =+CE24*CD24 -> 1873683 | CG24: =+HLOOKUP($C24,'Vigilancia 091213'!$G$4:$AF$38,(VLOOKUP(CG$17,'Vigilancia 091213'!$B$7:$C$38,2,0)),0) -> 0 | CH24: =+IF(CG24=0,0,(VLOOKUP($C24,'Guia Circular 015'!$B$19:$H$44,7,0))) -> 0 | CI24: =+CH24*CG24 -> 0 | CJ24: =+HLOOKUP($C24,'Vigilancia 091213'!$G$4:$AF$38,(VLOOKUP(CJ$17,'Vigilancia 091213'!$B$7:$C$38,2,0)),0) -> 3 | CK24: =+IF(CJ24=0,0,(VLOOKUP($C24,'Guia Circular 015'!$B$19:$H$44,7,0))) -> 1873683 | CL24: =+CK24*CJ24 -> 5621049 | CM24: =+HLOOKUP($C24,'Vigilancia 091213'!$G$4:$AF$38,(VLOOKUP(CM$17,'Vigilancia 091213'!$B$7:$C$38,2,0)),0) -> 0 | CN24: =+IF(CM24=0,0,(VLOOKUP($C24,'Guia Circular 015'!$B$19:$H$44,7,0))) -> 0 | CO24: =+CN24*CM24 -> 0 | CP24: =+HLOOKUP($C24,'Vigilancia 091213'!$G$4:$AF$38,(VLOOKUP(CP$17,'Vigilancia 091213'!$B$7:$C$38,2,0)),0) -> 0 | CQ24: =+IF(CP24=0,0,(VLOOKUP($C24,'Guia Circular 015'!$B$19:$H$44,7,0))) -> 0 | CR24: =+CQ24*CP24 -> 0
B25: 7 | C25: 12 HORAS - DIURNAS - SIN ARMA - L A V - CON FESTIVOS | D25: =+HLOOKUP($C25,'Vigilancia 091213'!$G$4:$AF$38,(VLOOKUP(D$17,'Vigilancia 091213'!$B$7:$C$38,2,0)),0) -> 0 | E25: =+IF(D25=0,0,(VLOOKUP($C25,'Guia Circular 015'!$B$19:$H$44,7,0))) -> 0 | F25: =+E25*D25 -> 0 | G25: =+HLOOKUP($C25,'Vigilancia 091213'!$G$4:$AF$38,(VLOOKUP(G$17,'Vigilancia 091213'!$B$7:$C$38,2,0)),0) -> 1 | H25: =+IF(G25=0,0,(VLOOKUP($C25,'Guia Circular 015'!$B$19:$H$44,7,0))) -> 1839616 | I25: =+H25*G25 -> 1839616 | J25: =+HLOOKUP($C25,'Vigilancia 091213'!$G$4:$AF$38,(VLOOKUP(J$17,'Vigilancia 091213'!$B$7:$C$38,2,0)),0) -> 0 | K25: =+IF(J25=0,0,(VLOOKUP($C25,'Guia Circular 015'!$B$19:$H$44,7,0))) -> 0 | L25: =+K25*J25 -> 0 | M25: =+HLOOKUP($C25,'Vigilancia 091213'!$G$4:$AF$38,(VLOOKUP(M$17,'Vigilancia 091213'!$B$7:$C$38,2,0)),0) -> 0 | N25: =+IF(M25=0,0,(VLOOKUP($C25,'Guia Circular 015'!$B$19:$H$44,7,0))) -> 0 | O25: =+N25*M25 -> 0 | P25: =+HLOOKUP($C25,'Vigilancia 091213'!$G$4:$AF$38,(VLOOKUP(P$17,'Vigilancia 091213'!$B$7:$C$38,2,0)),0) -> 0 | Q25: =+IF(P25=0,0,(VLOOKUP($C25,'Guia Circular 015'!$B$19:$H$44,7,0))) -> 0 | R25: =+Q25*P25 -> 0 | S25: =+HLOOKUP($C25,'Vigilancia 091213'!$G$4:$AF$38,(VLOOKUP(S$17,'Vigilancia 091213'!$B$7:$C$38,2,0)),0) -> 0 | T25: =+IF(S25=0,0,(VLOOKUP($C25,'Guia Circular 015'!$B$19:$H$44,7,0))) -> 0 | U25: =+T25*S25 -> 0 | V25: =+HLOOKUP($C25,'Vigilancia 091213'!$G$4:$AF$38,(VLOOKUP(V$17,'Vigilancia 091213'!$B$7:$C$38,2,0)),0) -> 0 | W25: =+IF(V25=0,0,(VLOOKUP($C25,'Guia Circular 015'!$B$19:$H$44,7,0))) -> 0 | X25: =+W25*V25 -> 0 | Y25: =+HLOOKUP($C25,'Vigilancia 091213'!$G$4:$AF$38,(VLOOKUP(Y$17,'Vigilancia 091213'!$B$7:$C$38,2,0)),0) -> 0 | Z25: =+IF(Y25=0,0,(VLOOKUP($C25,'Guia Circular 015'!$B$19:$H$44,7,0))) -> 0 | AA25: =+Z25*Y25 -> 0 | AB25: =+HLOOKUP($C25,'Vigilancia 091213'!$G$4:$AF$38,(VLOOKUP(AB$17,'Vigilancia 091213'!$B$7:$C$38,2,0)),0) -> 0 | AC25: =+IF(AB25=0,0,(VLOOKUP($C25,'Guia Circular 015'!$B$19:$H$44,7,0))) -> 0 | AD25: =+AC25*AB25 -> 0 | AE25: =+HLOOKUP($C25,'Vigilancia 091213'!$G$4:$AF$38,(VLOOKUP(AE$17,'Vigilancia 091213'!$B$7:$C$38,2,0)),0) -> 0 | AF25: =+IF(AE25=0,0,(VLOOKUP($C25,'Guia Circular 015'!$B$19:$H$44,7,0))) -> 0 | AG25: =+AF25*AE25 -> 0 | AH25: =+HLOOKUP($C25,'Vigilancia 091213'!$G$4:$AF$38,(VLOOKUP(AH$17,'Vigilancia 091213'!$B$7:$C$38,2,0)),0) -> 0 | AI25: =+IF(AH25=0,0,(VLOOKUP($C25,'Guia Circular 015'!$B$19:$H$44,7,0))) -> 0 | AJ25: =+AI25*AH25 -> 0 | AK25: =+HLOOKUP($C25,'Vigilancia 091213'!$G$4:$AF$38,(VLOOKUP(AK$17,'Vigilancia 091213'!$B$7:$C$38,2,0)),0) -> 0 | AL25: =+IF(AK25=0,0,(VLOOKUP($C25,'Guia Circular 015'!$B$19:$H$44,7,0))) -> 0 | AM25: =+AL25*AK25 -> 0 | AN25: =+HLOOKUP($C25,'Vigilancia 091213'!$G$4:$AF$38,(VLOOKUP(AN$17,'Vigilancia 091213'!$B$7:$C$38,2,0)),0) -> 0 | AO25: =+IF(AN25=0,0,(VLOOKUP($C25,'Guia Circular 015'!$B$19:$H$44,7,0))) -> 0 | AP25: =+AO25*AN25 -> 0 | AQ25: =+HLOOKUP($C25,'Vigilancia 091213'!$G$4:$AF$38,(VLOOKUP(AQ$17,'Vigilancia 091213'!$B$7:$C$38,2,0)),0) -> 0 | AR25: =+IF(AQ25=0,0,(VLOOKUP($C25,'Guia Circular 015'!$B$19:$H$44,7,0))) -> 0 | AS25: =+AR25*AQ25 -> 0 | AT25: =+HLOOKUP($C25,'Vigilancia 091213'!$G$4:$AF$38,(VLOOKUP(AT$17,'Vigilancia 091213'!$B$7:$C$38,2,0)),0) -> 0 | AU25: =+IF(AT25=0,0,(VLOOKUP($C25,'Guia Circular 015'!$B$19:$H$44,7,0))) -> 0 | AV25: =+AU25*AT25 -> 0 | AW25: =+HLOOKUP($C25,'Vigilancia 091213'!$G$4:$AF$38,(VLOOKUP(AW$17,'Vigilancia 091213'!$B$7:$C$38,2,0)),0) -> 0 | AX25: =+IF(AW25=0,0,(VLOOKUP($C25,'Guia Circular 015'!$B$19:$H$44,7,0))) -> 0 | AY25: =+AX25*AW25 -> 0 | AZ25: =+HLOOKUP($C25,'Vigilancia 091213'!$G$4:$AF$38,(VLOOKUP(AZ$17,'Vigilancia 091213'!$B$7:$C$38,2,0)),0) -> 0 | BA25: =+IF(AZ25=0,0,(VLOOKUP($C25,'Guia Circular 015'!$B$19:$H$44,7,0))) -> 0 | BB25: =+BA25*AZ25 -> 0 | BC25: =+HLOOKUP($C25,'Vigilancia 091213'!$G$4:$AF$38,(VLOOKUP(BC$17,'Vigilancia 091213'!$B$7:$C$38,2,0)),0) -> 0 | BD25: =+IF(BC25=0,0,(VLOOKUP($C25,'Guia Circular 015'!$B$19:$H$44,7,0))) -> 0 | BE25: =+BD25*BC25 -> 0 | BF25: =+HLOOKUP($C25,'Vigilancia 091213'!$G$4:$AF$38,(VLOOKUP(BF$17,'Vigilancia 091213'!$B$7:$C$38,2,0)),0) -> 0 | BG25: =+IF(BF25=0,0,(VLOOKUP($C25,'Guia Circular 015'!$B$19:$H$44,7,0))) -> 0 | BH25: =+BG25*BF25 -> 0 | BI25: =+HLOOKUP($C25,'Vigilancia 091213'!$G$4:$AF$38,(VLOOKUP(BI$17,'Vigilancia 091213'!$B$7:$C$38,2,0)),0) -> 0 | BJ25: =+IF(BI25=0,0,(VLOOKUP($C25,'Guia Circular 015'!$B$19:$H$44,7,0))) -> 0 | BK25: =+BJ25*BI25 -> 0 | BL25: =+HLOOKUP($C25,'Vigilancia 091213'!$G$4:$AF$38,(VLOOKUP(BL$17,'Vigilancia 091213'!$B$7:$C$38,2,0)),0) -> 0 | BM25: =+IF(BL25=0,0,(VLOOKUP($C25,'Guia Circular 015'!$B$19:$H$44,7,0))) -> 0 | BN25: =+BM25*BL25 -> 0 | BO25: =+HLOOKUP($C25,'Vigilancia 091213'!$G$4:$AF$38,(VLOOKUP(BO$17,'Vigilancia 091213'!$B$7:$C$38,2,0)),0) -> 0 | BP25: =+IF(BO25=0,0,(VLOOKUP($C25,'Guia Circular 015'!$B$19:$H$44,7,0))) -> 0 | BQ25: =+BP25*BO25 -> 0 | BR25: =+HLOOKUP($C25,'Vigilancia 091213'!$G$4:$AF$38,(VLOOKUP(BR$17,'Vigilancia 091213'!$B$7:$C$38,2,0)),0) -> 0 | BS25: =+IF(BR25=0,0,(VLOOKUP($C25,'Guia Circular 015'!$B$19:$H$44,7,0))) -> 0 | BT25: =+BS25*BR25 -> 0 | BU25: =+HLOOKUP($C25,'Vigilancia 091213'!$G$4:$AF$38,(VLOOKUP(BU$17,'Vigilancia 091213'!$B$7:$C$38,2,0)),0) -> 0 | BV25: =+IF(BU25=0,0,(VLOOKUP($C25,'Guia Circular 015'!$B$19:$H$44,7,0))) -> 0 | BW25: =+BV25*BU25 -> 0 | BX25: =+HLOOKUP($C25,'Vigilancia 091213'!$G$4:$AF$38,(VLOOKUP(BX$17,'Vigilancia 091213'!$B$7:$C$38,2,0)),0) -> 0 | BY25: =+IF(BX25=0,0,(VLOOKUP($C25,'Guia Circular 015'!$B$19:$H$44,7,0))) -> 0 | BZ25: =+BY25*BX25 -> 0 | CA25: =+HLOOKUP($C25,'Vigilancia 091213'!$G$4:$AF$38,(VLOOKUP(CA$17,'Vigilancia 091213'!$B$7:$C$38,2,0)),0) -> 0 | CB25: =+IF(CA25=0,0,(VLOOKUP($C25,'Guia Circular 015'!$B$19:$H$44,7,0))) -> 0 | CC25: =+CB25*CA25 -> 0 | CD25: =+HLOOKUP($C25,'Vigilancia 091213'!$G$4:$AF$38,(VLOOKUP(CD$17,'Vigilancia 091213'!$B$7:$C$38,2,0)),0) -> 0 | CE25: =+IF(CD25=0,0,(VLOOKUP($C25,'Guia Circular 015'!$B$19:$H$44,7,0))) -> 0 | CF25: =+CE25*CD25 -> 0 | CG25: =+HLOOKUP($C25,'Vigilancia 091213'!$G$4:$AF$38,(VLOOKUP(CG$17,'Vigilancia 091213'!$B$7:$C$38,2,0)),0) -> 0 | CH25: =+IF(CG25=0,0,(VLOOKUP($C25,'Guia Circular 015'!$B$19:$H$44,7,0))) -> 0 | CI25: =+CH25*CG25 -> 0 | CJ25: =+HLOOKUP($C25,'Vigilancia 091213'!$G$4:$AF$38,(VLOOKUP(CJ$17,'Vigilancia 091213'!$B$7:$C$38,2,0)),0) -> 0 | CK25: =+IF(CJ25=0,0,(VLOOKUP($C25,'Guia Circular 015'!$B$19:$H$44,7,0))) -> 0 | CL25: =+CK25*CJ25 -> 0 | CM25: =+HLOOKUP($C25,'Vigilancia 091213'!$G$4:$AF$38,(VLOOKUP(CM$17,'Vigilancia 091213'!$B$7:$C$38,2,0)),0) -> 0 | CN25: =+IF(CM25=0,0,(VLOOKUP($C25,'Guia Circular 015'!$B$19:$H$44,7,0))) -> 0 | CO25: =+CN25*CM25 -> 0 | CP25: =+HLOOKUP($C25,'Vigilancia 091213'!$G$4:$AF$38,(VLOOKUP(CP$17,'Vigilancia 091213'!$B$7:$C$38,2,0)),0) -> 0 | CQ25: =+IF(CP25=0,0,(VLOOKUP($C25,'Guia Circular 015'!$B$19:$H$44,7,0))) -> 0 | CR25: =+CQ25*CP25 -> 0
