Workbook
Name Decision: [1]lista!$A$6:$A$7
Name PARTICIPACION: [1]lista!$A$15:$A$17
Name Procedencia: [1]lista!$A$2:$A$3
Name tipo: [1]lista!$A$11:$A$13

Sheet SDC Vigilancia
B4: EMPRESA: | C4: CONTACTO: | H4: FECHA:
B5: CARGO: | C5: E-MAIL:
B7: NOTA (1) :por favor diligenciar solo las celdas en AMARILLO. se deben llenar todas las casillas.
B8: NOTA (2): Revisar todos los requerimientos que se exponen en el documento "Ficha Tecnica" anexo.
B9: NOTA (3): El valor de la cotización deber ser expresado en PESOS COLOMBIANOS.
B10: NOTA (4): Asignar precio sin incluir el IVA en las celdas de la columna "G"
B11: NOTA (5): Los valores unitarios deberán aproximarse por exceso o por defecto al entero más cercano. si la cifra no está aproximada y aparece con 50 centavos, el ICBF aproximará al entero inferior
B12: NOTA (6): no modificar , agregar o quitar ningún ítem o subitem
I14: 2013 | J14: 2014
G15: TIEMPO DE EJECUCIÓN (meses) | I15: 1 | J15: 7
G16: SMLMV (**) | I16: 589500 | J16: =+I16*(1+3%) -> 607185
B18: TURNOS | C18: Sede de la Dirección General | D18: Regional Bogotá | E18: Regional Cundinamarca | F18: total | G18: valor unitario | H18: valor A y S (8%, 10%, 11%) | I18: valor unitario incluido A y S | J18: valor total antes de IVA
B19: 24 horas lunes a domingo con arma | C19: 6 | D19: 50 | E19: 23 | F19: =SUM(C19:E19) -> 79 | G19: =+($I$16*8.8)*VLOOKUP($B19,'Guia Circular 015'!$B$19:$E$25,2,0)*VLOOKUP($B19,'Guia Circular 015'!$B$19:$E$25,3,0) -> 5187600 | H19: =+G19*VLOOKUP($B19,'Guia Circular 015'!$B$19:$E$25,4,0) -> 518760 | I19: =+ROUND(H19+G19,0) -> 5706360 | J19: =+I19*F19 -> 450802440
B20: 12 horas diurnas sin arma lunes a domingo con canino | C20: 1 | D20: 0 | E20: 0 | F20: =SUM(C20:E20) -> 1 | G20: =+($I$16*8.8)*VLOOKUP($B20,'Guia Circular 015'!$B$19:$E$25,2,0)*VLOOKUP($B20,'Guia Circular 015'!$B$19:$E$25,3,0) -> 2322747.9 | H20: =+G20*VLOOKUP($B20,'Guia Circular 015'!$B$19:$E$25,4,0) -> 255502.27 | I20: =+ROUND(H20+G20,0) -> 2578250 | J20: =+I20*F20 -> 2578250
B21: 12 horas diurnas sin arma lunes a viernes con canino incluye festivos | C21: 1 | D21: 1 | E21: 0 | F21: =SUM(C21:E21) -> 2 | G21: =+($I$16*8.8)*VLOOKUP($B21,'Guia Circular 015'!$B$19:$E$25,2,0)*VLOOKUP($B21,'Guia Circular 015'!$B$19:$E$25,3,0) -> 1703348.5 | H21: =+G21*VLOOKUP($B21,'Guia Circular 015'!$B$19:$E$25,4,0) -> 187368.33 | I21: =+ROUND(H21+G21,0) -> 1890717 | J21: =+I21*F21 -> 3781434
B22: 04 horas diurnas sin arma lunes a viernes con canino incluye festivos (18:00-22:00) | C22: 1 | D22: 0 | E22: 0 | F22: =SUM(C22:E22) -> 1 | G22: =+($I$16*8.8)*VLOOKUP($B22,'Guia Circular 015'!$B$19:$E$25,2,0)*VLOOKUP($B22,'Guia Circular 015'!$B$19:$E$25,3,0) -> 567782.82 | H22: =+G22*VLOOKUP($B22,'Guia Circular 015'!$B$19:$E$25,4,0) -> 62456.11 | I22: =+ROUND(H22+G22,0) -> 630239 | J22: =+I22*F22 -> 630239
B23: 12 horas diurnas con arma lunes a viernes con festivos | C23: 2 | D23: 11 | E23: 1 | F23: =SUM(C23:E23) -> 14 | G23: =+($I$16*8.8)*VLOOKUP($B23,'Guia Circular 015'!$B$19:$E$25,2,0)*VLOOKUP($B23,'Guia Circular 015'!$B$19:$E$25,3,0) -> 1703348.5 | H23: =+G23*VLOOKUP($B23,'Guia Circular 015'!$B$19:$E$25,4,0) -> 170334.85 | I23: =+ROUND(H23+G23,0) -> 1873683 | J23: =+I23*F23 -> 26231562
B24: 12 horas diurnas sin arma lunes a viernes con festivos | C24: 5 | D24: 10 | E24: 1 | F24: =SUM(C24:E24) -> 16 | G24: =+($I$16*8.8)*VLOOKUP($B24,'Guia Circular 015'!$B$19:$E$25,2,0)*VLOOKUP($B24,'Guia Circular 015'!$B$19:$E$25,3,0) -> 1703348.5 | H24: =+G24*VLOOKUP($B24,'Guia Circular 015'!$B$19:$E$25,4,0) -> 136267.88 | I24: =+ROUND(H24+G24,0) -> 1839616 | J24: =+I24*F24 -> 29433856
B25: 10 horas diurnas sin arma lunes a viernes con festivos | C25: 1 | D25: 3 | E25: 0 | F25: =SUM(C25:E25) -> 4 | G25: =+($I$16*8.8)*VLOOKUP($B25,'Guia Circular 015'!$B$19:$E$25,2,0)*VLOOKUP($B25,'Guia Circular 015'!$B$19:$E$25,3,0) -> 1419457 | H25: =+G25*VLOOKUP($B25,'Guia Circular 015'!$B$19:$E$25,4,0) -> 113556.56 | I25: =+ROUND(H25+G25,0) -> 1533014 | J25: =+I25*F25 -> 6132056
B26: Total por sede | C26: =SUM(C19:C25) -> 17 | D26: =SUM(D19:D25) -> 75 | E26: =SUM(E19:E25) -> 25 | F26: =SUM(F19:F25) -> 117 | G26: SUBTOTAL 2013 | J26: =SUM(J19:J25) -> 519589837
B27: Notas: | G27: BASE DEL 10% PARA IMPUESTO IVA | J27: =+J26*10% -> 51958984
B28: Sede de la Dirección General - Turno de 12 horas diurnas de lunes a domingo con canino: Especialidad en Antiexplosivos | G28: IVA 16% | J28: =+J27*16% -> 8313437.4
B29: Sede de la Dirección General - Turno de 4 horas de lunes a viernes con canino desde las 18:00 hasta las 22:00 horas: Especialidad Defensa Controlada Regional Bogotá - Turno de 12 horas diurnas de lunes a viernes con canino: Especialidad en Antiexplosivos | G29: VALOR MENSUAL TURNOS SERVICIO DE VIGILANCIA Y SEGURIDAD PRIVADA 2013 | J29: =+ROUND(J26+J28,0) -> 527903274
B31: MEDIOS TÉCNOLOGICOS Y MONITOREO | C31: Sede de la Dirección General | D31: Regional Bogotá | E31: Regional Cundinamarca | F31: total | G31: valor unitario | H31: valor A y S (8%, 10%, 11%) | I31: valor unitario incluido A y S | J31: valor total antes de IVA
B32: Monitoreo | C32: 0 | D32: 0 | E32: 1 | F32: =SUM(C32:E32) -> 1 | H32: No Aplica | I32: =+G32 -> 0 | J32: =+I32*F32 -> 0
B33: Detectores manuales de metales. | F33: 45 | H33: No Aplica | I33: =+G33 -> 0 | J33: =+I33*F33 -> 0
B34: computadores All in One con procesador mínimo de Intel core i5 de 2.9 GHZ o superior y memoria RAM de 6GB o superior, y disco duro de mínimo 800 GB o superior, con equipos de registro fotográfico para control del personal que solicita acceso a las instalaciones del Instituto Colombiano de Bienestar Familiar, con impresoras para la impresión de stickers y su software, debidamente licenciado para llevar el registro de control de acceso de visitantes en las recepciones de la Dirección General Avenida Carrera 68 No. 64C-75, de la Regional Bogotá Cra. 50 No. 26-51, de la Regional Cundinamarca Calle 53 No. 6–07/11, los cuales deberán ser instalados a la red del Instituto para tener acceso de consulta desde el equipo del funcionario encargado de la seguridad del Instituto | F34: 4 | H34: No Aplica | I34: =+G34 -> 0 | J34: =+I34*F34 -> 0
B35: Arcos Detectores de Metales con seis zonas de detección independiente, alarma audible, medidas del arco interno de 200cmX75cmX53cm | C35: 1 | D35: 1 | E35: 1 | F35: =SUM(C35:E35) -> 3 | H35: No Aplica | I35: =+G35 -> 0 | J35: =+I35*F35 -> 0
B36: Equipo de rayos X con Banda transportadora, Túnel de 50cm X 33cm | C36: 1 | D36: 0 | E36: 0 | F36: =SUM(C36:E36) -> 1 | H36: No Aplica | I36: =+G36 -> 0 | J36: =+I36*F36 -> 0
B37: Circuitos Cerrados de TV | C37: 30 + 8 | D37: 30 | E37: 10 + 8 | F37: =30+8+30+10+8 -> 86 | H37: No Aplica | I37: =+G37 -> 0 | J37: =+I37*F37 -> 0
B38: Armerillos para el descargue de armas cortas y el almacenamiento de las mismas (*) | C38: 1 | D38: 17 | E38: 1 | F38: =SUM(C38:E38) -> 19 | H38: No Aplica | I38: =+G38 -> 0 | J38: =+I38*F38 -> 0
B39: Linternas de batería recargable, una por cada puesto de 24 horas. | C39: 6 | D39: 50 | E39: 23 | F39: =SUM(C39:E39) -> 79 | H39: No Aplica | I39: =+G39 -> 0 | J39: =+I39*F39 -> 0
B40: Radioteléfonos portátiles con un alcance mínimo de cuatro (4) kilómetros (punto a punto), para la prestación del servicio y/o equipos Avantel y/o celulares abiertos para efectuar o recibir llamadas en cualquier momento. Por cada puesto de vigilancia. | C40: 17 | D40: 75 | E40: 25 | F40: =SUM(C40:E40) -> 117 | H40: No Aplica | I40: =+G40 -> 0 | J40: =+I40*F40 -> 0
B41: Lámparas de emergencia recargables para uso portátil o colocación fija con mínimo 30 LED, de operación automática. Por cada puesto de vigilancia indicado por el supervisor del contrato. | C41: 17 | D41: 75 | E41: 25 | F41: =SUM(C41:E41) -> 117 | H41: No Aplica | I41: =+G41 -> 0 | J41: =+I41*F41 -> 0
G42: SUBTOTAL 2013 | J42: =SUM(J32:J41) -> 0
B43: (*) Dirección General: 1 (con capacidad para 10 armas cortas.) (*) Regional Bogotá: 17 (1 con capacidad para 10 armas cortas y 16 con capacidad para 3 armas cortas) (*)Regional Cundinamarca: 1 (con capacidad para 10 armas cortas) | G43: BASE DEL 10% PARA IMPUESTO IVA | J43: =+J42*10% -> 0
G44: IVA 16% | J44: =+J43*16% -> 0
G45: VALOR MENSUAL MEDIOS TÉCNOLOGICOS Y MONITOREO SERVICIO DE VIGILANCIA Y SEGURIDAD PRIVADA 2013 | J45: =+ROUND(J42+J44,0) -> 0
B47: (**) Se estima un incremento del 3% para el SMLMV del 2014 a partir de lo definido en la Circular No 7 de 2013 del Ministerio de Hacienda, Sin embargo para la vigencia 2014 en el contrato a suscribir se ajustara el porcentaje de incremento del SMLMV de acuerdo a la normatividad que regula el servicio de vigilancia.
B48: La presente Cotización incluye todos los costos directos e indirectos en que incurra la empresa contratista durante la ejecución del contrato. Así mismo esta cotización cuenta con las obligaciones tributarias de acuerdo con las normas aplicables para el tipo de servicio y contrato correspondiente, y los costos de las pólizas.
...

Sheet POLIZAS
B9: CONCEPTOS A TENER EN CUENTA
B12: El presente cuadro es de carácter informativo, no se debe diligenciar. Sin embargo se entiende que la cotización incluye la totalidad de los conceptos relacionados a continuación.
B14: POLIZAS PARA LEGALIZACIÓN DEL CONTRATO
B16: CONCEPTO | D16: COBERTURA | E16: PLAZO (En Meses)
B17: Garantía de Seriedad de la oferta | D17: 0.1 | E17: Plazo de Ejecución
B18: Cumplimiento | D18: 0.2 | E18: Plazo de ejecución + 4 meses mas
B19: Salarios, Prestaciones | D19: 0.1 | E19: Plazo de ejecución + 36 meses mas
B20: Calidad de los Servicios | D20: 0.2 | E20: Plazo de ejecución + 4 meses mas
B21: Responsabilidad civil extracontraactual | D21: 0.1 | E21: Plazo de Ejecución
B22: Cobertura: Corresponde al porcentaje del valor total del contrato a amparar.

Sheet INFO GENERAL Y FINANCIERA
B8: FORMATO INFORMACIÓN GENERAL Y FINANCIERA DE PROVEEDORES
B10: CIUDAD | D10: FECHA DD/MM/AA | F10: PERSONA NATURAL
F11: PERSONA JURIDICA
B12: 1. INFORMACIÓN GENERAL
B13: 1.1. Identificación.
B14: PERSONAS NATURALES | C14: NOMBRE COMERCIAL | E14: NOMBRES Y APELLIDOS | G14: CÉDULA
B16: PERSONAS JURIDICAS | C16: RAZÓN SOCIAL | F16: NIT | G16: DV
B18: DIRECCIÓN | E18: TELÉFONO | F18: FAX | G18: CIUDAD
B20: PAGINA WEB | E20: TIEMPO DE CONSTITUCION | G20: OTROS
B22: 1.2. Personas de Contacto
B23: GERENTE GENERAL | D23: E-MAIL | E23: TELEFONO | F23: EXT. | G23: CELULAR
B26: DIRECTOR COMERCIAL | D26: E-MAIL | E26: TELEFONO | F26: EXT. | G26: CELULAR
B29: 1.3. Descripción de la Compañía.
B30: PRODUCTOS Y/O SERVICIOS (incluir en esta casilla un listado o breve descripción de los produtos y/o servicios que ofrece la compañía). | G30: NUMERO DE EMPLEADOS
B32: Códigos CIIU
B33: Código de Actividad CIIU a Declarar | D33: Descripción Actividad Económica CIIU | F33: Tarifa ICA por Mil (incluir el valor que corresponda a la agrupación y a la actividad)
B39: 2. INFORMACIÓN FINANCIERA - A DICIEMBRE 31 DE 2012
B40: INDICADOR | D40: DESCRIPCIÓN | F40: VALOR
B41: Patrimonio | D41: Patrimonio total | F41: En pesos
B42: Capital real del proponente | D42: Capital social efectivamente pagado más las reservas constituidas, más las utilidades retenidas, más las utilidades del ejercicio. | F42: En pesos
B43: Liquidez | D43: Activo corriente sobre pasivo corriente | F43: Veces
B44: Nivel de endeudamiento | D44: Pasivo total sobre activo total | F44: Porcentaje
B45: Capital de trabajo | D45: Activo corriente menos pasivo corriente | F45: En pesos
B46: Indicador de Riesgo | D46: Activos fijos sobre el patrimonio neto | F46: Porcentaje
B47: EBITDA | D47: Utilidad operacional más depreciaciones y amortizaciones. | F47: En pesos
B48: Crecimiento EBITDA | D48: EBITDA del último año (2012) sobre el EBITDA del año inmediatamente anterior (2011) | F48: Veces
B49: Rotación del inventario | D49: Costos de ventas sobre inventario | F49: Veces
B50: Ingresos brutos operacionales | F50: En pesos
B51: OTRA INFORMACION RELEVANTE

Sheet Guia Circular 015
B2: CIRCULAR EXTERNA 015 DE 2013 SUPERVIGILANCIA
B4: TARIFA MINIMA REGULADA PARA EL 2013
B5: JORNDA LABORAL | C5: Variable de Proporcionalidad | E5: Administración y Supervisión
B6: 06:00 a.m. A 02:00 p.m. Turno de 8 Horas Diurno | C6: 0.2985 | E6: Sin armas | F6: 0.08
B7: 02:00 p.m. A 10:00 p.m. Turno de 8 Horas Diurno | C7: 0.2985 | E7: Con Arma | F7: 0.1
B8: 10:00 p.m. A 06:00 a.m. Turno de 8 Horas nocturno | C8: 0.403 | E8: Con Canino | F8: 0.11
B10: CANTIDADES DE DIAS MES (CIRCULAR 015 DE 2013)
B11: Lunes a viernes sin festivos | C11: 20
B12: Lunes a sabados sin festivos | C12: 24
B13: Lunes a viernes con festivos | C13: 22
B14: Lunes a sabados con festivos | C14: 26
B15: Sabados y Domingos | C15: 8
B16: Sabados, Domingos y festivos | C16: 10
B18: TURNOS | C18: Variable de Proporcionalidad | D18: Proporción del Mes | E18: Administración y Supervisión
B19: 24 horas lunes a domingo con arma | C19: =+SUM(C6:C8) -> 1 | D19: =30/30 -> 1 | E19: =+F7 -> 0.1
B20: 12 horas diurnas sin arma lunes a domingo con canino | C20: =+($C$6/8)*12 -> 0.44775 | D20: =30/30 -> 1 | E20: =+F8 -> 0.11
B21: 12 horas diurnas sin arma lunes a viernes con canino incluye festivos | C21: =+($C$6/8)*12 -> 0.44775 | D21: =+$C$13/30 -> 0.73333333 | E21: =+F8 -> 0.11
B22: 04 horas diurnas sin arma lunes a viernes con canino incluye festivos (18:00-22:00) | C22: =+($C$6/8)*4 -> 0.14925 | D22: =+$C$13/30 -> 0.73333333 | E22: =+F8 -> 0.11
B23: 12 horas diurnas con arma lunes a viernes con festivos | C23: =+($C$6/8)*12 -> 0.44775 | D23: =+$C$13/30 -> 0.73333333 | E23: =+F7 -> 0.1
B24: 12 horas diurnas sin arma lunes a viernes con festivos | C24: =+($C$6/8)*12 -> 0.44775 | D24: =+$C$13/30 -> 0.73333333 | E24: =+F6 -> 0.08
B25: 10 horas diurnas sin arma lunes a viernes con festivos | C25: =+($C$6/8)*10 -> 0.373125 | D25: =+$C$13/30 -> 0.73333333 | E25: =+F6 -> 0.08
