Workbook
Name ¿Quiénes_están_inscritos_dentro_del_sistema__incluye_desinscr___: #REF!
Name ActividadRE: #REF!
Name ALMUERZO: '[1]Resumen Preparaciones'!$C$52:$C$113
Name almuerzocena: '[1]Resumen Preparaciones'!$C$52:$C$141
Name Calidad: [2]PERSONAL!$P$58
Name Campamento: [2]PERSONAL!$P$122
Name CostoDirectoObra: #REF!
Name CuantostieneEdSuperior: #REF!
Name Decision: [3]lista!$A$6:$A$7
Name Decision: [3]lista!$A$6:$A$7
Name Decision: [3]lista!$A$6:$A$7
Name Dedicacion: '[4]Tal Humano'!#REF!
Name desayuno: '[1]Resumen Preparaciones'!$C$5:$C$50
Name DESAYUNOS: '[1]Resumen Preparaciones'!$C$5:$C$33
Name DeseanCapacitacionEn: #REF!
Name DESINSCRITOS: #REF!
Name DISTRIBUCIONPORTIPOCONTRATO: #REF!
Name Ed_cons_empr_CodEntidad: #REF!
Name Ed_emp_codemp: #REF!
Name EdSuperior2: #REF!
Name EdSuperior3: #REF!
Name Empresa: #REF!
Name Ensayos: [2]PERSONAL!$P$100
Name EstadoMadCabFamilia: #REF!
Name Estrategia: [5]Tablas!$F$2:$F$34
Name Fuente: [5]Tablas!$D$2:$D$10
Name Funcionario: [6]frmFuncionario!#REF!
Name GruporUPS: #REF!
Name HFGHGFH3: [7]Planta_Super!#REF!
Name Horas: '[8]Tal Humano'!#REF!
Name hrgc: #REF!
Name Incre: #REF!
Name INCREMENTO: #REF!
Name INCREMENTOS: #REF!
Name Indemnizacion: #REF!
Name InfLaboral: #REF!
Name InfLabrl: #REF!
Name Ins: #REF!
Name InsEnt: #REF!
Name InsFisMag: #REF!
Name IVASobreUtilidad: [2]IMPUESTOS!$E$16
Name LimitacionAuditiva: #REF!
Name LimitacionFisicaOMental: #REF!
Name LimitacionVisual: #REF!
Name LISTA_1: #REF!
Name LISTA_2: #REF!
Name LISTA_PROM: #REF!
Name LISTA_TASAS: [9]RESUMEN!$B$22:$B$25
Name MadreCabezaFamilia: #REF!
Name Mas_Bajo_Adminstración: '[10]Costo Total'!#REF!
Name Mas_Bajo_Imprevistos: '[10]Costo Total'!#REF!
Name NivelEducacionBasica: #REF!
Name NIVELEDUCACIONSUP: #REF!
Name NivelEducacionSuperior: #REF!
Name NoFacturable: [2]PERSONAL!$P$46
Name NoNOInscritos: #REF!
Name NUMERO: [7]Planta_Super!#REF!
Name Objetivos: [5]Tablas!$E$2:$E$17
Name Oficina: [2]PERSONAL!$P$69
Name PagoRE: #REF!

Sheet INFO GENERAL Y FINANCIERA 
B8: Formato Información General Y Financiera De Proveedores
B10: Ciudad | R10: Fecha Dd/mm/aa | AA10: Persona Natural
AA11: Persona Jurídica
B12: 1. Información General
B13: 1.1. Identificación.
B14: Personas naturales | I14: Nombre Comercial | AF14: Cédula
B16: Personas jurídicas | I16: Razón Social | AF16: DV
B18: Dirección | AA18: Fax | AF18: Ciudad
B20: Pagina Web | AA20: Sector al que pertenece
B22: 1.2. Personas De Contacto
B23: Gerente General | P23: E-mail | AA23: Ext. | AF23: Celular
B25: Director Comercial | P25: E-mail | AA25: Ext. | AF25: Celular
B27: Asesor Comercial | P27: E-mail | AA27: Ext. | AF27: Celular
B29: 1.3. Productos Y Servicios Inscritos En El Rup De Acuerdo Con El Unspsc
B30: Incluir Listado Con Breve Descripción De Los Productos Y/o Servicios Que Ofrece La Compañía, Registrados En El Rup (agregue Las Filas Necesarias) | AF30: Código de Naciones Unidas
B36: 1.4. Códigos CIIU | AF36: 1.5. Número De Empleados
B37: Código De Actividad | I37: Descripción Actividad Económica CIIU | AA37: Tarifa ICA
B41: 2. Información Financiera
B42: Nombre Del Indicador | O42: Cuenta | W42: Valores En Pesos a Diciembre 31 De 2014 | AE42: Indicador | AI42: Veces- Porcentaje
B43: Capacidad Financiera | E43: índice De Liquidez | O43: Activo Corriente --> | AE43: =+IFERROR(W43/W44,0) -> 0 | AI43: Veces
O44: Pasivo Corriente -->
E45: Índice De Endeudamiento | O45: Pasivo Total--> | AE45: =+IFERROR(W45/W46,0) -> 0 | AI45: Porcentaje
O46: Activo Total-->
E47: Razón De Cobertura De Intereses | O47: Utilidad Operacional--> | AE47: =+IFERROR(W47/W48,0) -> 0 | AI47: Veces
O48: Gastos De Interés-->
E49: Capital de Trabajo | O49: Activo Corriente--> | AE49: =+W49-W50 -> 0 | AI49: Pesos
O50: Pasivo corriente-->
B51: Capacidad Organizacional | E51: Rentabilidad Del Patrimonio | O51: Utilidad Operacional--> | AE51: =+IFERROR(W51/W52,0) -> 0 | AI51: Porcentaje
O52: Patrimonio-->
E53: Rentabilidad Del Activo | O53: Utilidad Operacional--> | AE53: =+IFERROR(W53/W54,0) -> 0 | AI53: Porcentaje
O54: Activo Total-->
B55: Nota: Para las empresas inspeccionadas, vigiladas o controladas por la Supersociedades, la información consignada en este numeral será validada con la reportada a la Supersociedades y disponible para consulta en Internet mediante el Sistema de Información y Riesgo Empresarial de la Supersociedades (SIREM). Si se evidencian diferencias en los valores consignados en este formato y los reportados a la Supersociedades se tomará como referencia la información del SIREM.
B56: Otra información relevante de la empresa (consigne en este espacio otra información que considere de interés)

Sheet INFO EXPERIENCIA
B8: EXPERIENCIA EN CONTRATACION EN LOS ULTIMOS 5 AÑOS
B9: EXPERIENCIA EN CONTRATACIÓN EN LOS ÚLTIMOS 5 AÑOS
B11: Empresa: | F11: Nit: | I11: Fecha:
B12: Contacto: | F12: Cargo: | I12: Tel. celular:
B13: E-Mail: | F13: Dirección: | I13: Tel. fijo:
B15: Con el fin de conocer la experiencia con la que cuentan las empresas del sector relacionada con el objeto del presente estudio de mercado, agradecemos diligenciar el cuadro que sigue con base en los contratos suscritos en los últimos 5 años, cuyos objetos están relacionados con el objeto del presente estudio de mercado
B17: Tipo de entidad | C17: Entidad o Empresa | D17: Numero del contrato | E17: Objeto del contrato | F17: Fecha de suscripción (dd/mmm/aa) | G17: Plazo de ejecución (en años) | H17: Forma de participación (UT, consorcio, individual) | I17: % de participación | J17: Valor total ejecutado del contrato (de acuerdo con el % de participación)
B29: Nota: Agregar las filas necesarias para reportar la experiencia

Sheet MACRO 1_Permanente
B8: COTIZACIÓN - TRANSPORTE PÚBLICO TERRESTRE AUTOMOTOR ESPECIAL - MACRO 1 (Dirección General, Bogotá, Cundinamarca y Meta)
B10: EMPRESA: | I10: NIT: | N10: FECHA:
B11: CONTACTO: | I11: CARGO: | N11: CELULAR:
B12: E-MAIL: | I12: DIRECCIÓN | N12: TEL. FIJO:
B14: Instrucciones para el diligenciamiento del formato de cotización
B15: • Por favor diligenciar solo las celdas en AMARILLO. Se deben llenar todas las casillas. • Revisar todos los requerimientos que se exponen en el documento "Ficha de Condiciones Técnicas" y Anexos; y formular su cotización en concordancia con este. • Asignar precio sin incluir el IVA en las celdas de las columnas denominadas "Precio unitario diario (recorrido mañana y tarde), columnas "G, I, K y M" • El valor de la cotización deber ser expresado en PESOS COLOMBIANOS CORRIENTES DE CADA AÑO (2015, 2016, 2017 y 2018), según corresponda. • Los valores unitarios deberán aproximarse por exceso o por defecto al entero más cercano. Si la cifra no está aproximada y aparece con centavos, el ICBF aproximará al entero inferior. • No modificar, agregar o quitar ningún ítem o sub-ítem. • El plazo de ejecución: 0,5 meses (11 días habiles) durante el 2015; 12 meses de cada año 2016 y 2017 (246 y 243 días hábiles respectivamente); y 6 meses del año 2018 (121 días hábiles).
B16: Nota (1): Estas rutas son NOCTURNAS, y únicamente hace 1 (un) recorrido por día. Nota (2): Teniendo en cuenta que las empresas manejan diferentes vehículos con diferentes capacidades, por favor diligenciar la capacidad real de la ruta que se cotiza. Nota (3): La capacidad minima de ocupantes no incluye el conductor. Nota (4); Corresponde a vehículos con disponibilidad de servicio 24 horas en jornada continua. Nota (5): Teniendo en cuenta la aprobación de vigencias futuras de la Entidad, el incremento anual debe ser máximo del 3%.
B18: Año | D18: 2015 | E18: 2016 | F18: 2017 | G18: 2018
B19: Días hábiles por año --> | D19: 11 | E19: 246 | F19: 243 | G19: 121
B20: Plazo de ejecución (Meses) --> | D20: 0.5 | E20: 12 | F20: 12 | G20: 6
G22: 2015 | I22: 2016 | K22: 2017 | M22: 2018 | O22: TOTAL PERIODO
B23: Concepto | C23: Sedes | D23: Cantidad de pasajeros | E23: Capacidad de pasajeros real cotizada (nota 2) | F23: Cantidad | G23: Precio unitario diario (recorrido mañana y tarde) | H23: Precio total vigencia | I23: Precio unitario diario (recorrido mañana y tarde) | J23: Precio total vigencia | K23: Precio unitario diario (recorrido mañana y tarde) | L23: Precio total vigencia | M23: Precio unitario diario (recorrido mañana y tarde) | N23: Precio total vigencia | O23: Modalidad: Rutas 2015 - 2018
B24: 1.Modalidad Rutas (Modelos superiores al año 2012) | C24: Sede de la Direccion general (Ave. Cra. 68 con cra 64C) | D24: 33 | F24: 3 | H24: =ROUND(G24*F24*$D$19,0) -> 0 | J24: =I24*F24*$E$19 -> 0 | L24: =K24*F24*$F$19 -> 0 | N24: =M24*F24*$G$19 -> 0 | O24: =H24+J24+L24+N24 -> 0
D25: 25 | F25: 5 | H25: =ROUND(G25*F25*$D$19,0) -> 0 | J25: =I25*F25*$E$19 -> 0 | L25: =K25*F25*$F$19 -> 0 | N25: =M25*F25*$G$19 -> 0 | O25: =H25+J25+L25+N25 -> 0
D26: 18 | F26: 1 | H26: =ROUND(G26*F26*$D$19,0) -> 0 | J26: =I26*F26*$E$19 -> 0 | L26: =K26*F26*$F$19 -> 0 | N26: =M26*F26*$G$19 -> 0 | O26: =H26+J26+L26+N26 -> 0
D27: 12 (nota 1) | F27: 2 | H27: =ROUND(G27*F27*$D$19,0) -> 0 | J27: =I27*F27*$E$19 -> 0 | L27: =K27*F27*$F$19 -> 0 | N27: =M27*F27*$G$19 -> 0 | O27: =H27+J27+L27+N27 -> 0
C28: SUBTOTAL | F28: =SUM(F24:F27) -> 11 | H28: =SUM(H24:H27) -> 0 | J28: =SUM(J24:J27) -> 0 | L28: =SUM(L24:L27) -> 0 | N28: =SUM(N24:N27) -> 0 | O28: =H28+J28+L28+N28 -> 0
C29: Regional Bogotá (Carrera 50 No. 26-51 can) | D29: 30 | F29: 1 | H29: =ROUND(G29*F29*$D$19,0) -> 0 | J29: =I29*F29*$E$19 -> 0 | L29: =K29*F29*$F$19 -> 0 | N29: =M29*F29*$G$19 -> 0 | O29: =H29+J29+L29+N29 -> 0
D30: 25 | F30: 4 | H30: =ROUND(G30*F30*$D$19,0) -> 0 | J30: =I30*F30*$E$19 -> 0 | L30: =K30*F30*$F$19 -> 0 | N30: =M30*F30*$G$19 -> 0 | O30: =H30+J30+L30+N30 -> 0
D31: 40 | F31: 2 | H31: =ROUND(G31*F31*$D$19,0) -> 0 | J31: =I31*F31*$E$19 -> 0 | L31: =K31*F31*$F$19 -> 0 | N31: =M31*F31*$G$19 -> 0 | O31: =H31+J31+L31+N31 -> 0
D32: 9 (nota 1) | F32: 2 | H32: =ROUND(G32*F32*$D$19,0) -> 0 | J32: =I32*F32*$E$19 -> 0 | L32: =K32*F32*$F$19 -> 0 | N32: =M32*F32*$G$19 -> 0 | O32: =H32+J32+L32+N32 -> 0
C33: SUBTOTAL | F33: =SUM(F29:F32) -> 9 | H33: =SUM(H29:H32) -> 0 | J33: =SUM(J29:J32) -> 0 | L33: =SUM(L29:L32) -> 0 | N33: =SUM(N29:N32) -> 0 | O33: =H33+J33+L33+N33 -> 0
C34: Regional Cundinamarca (Ave. Cra. 7 con calle 53) | D34: 18 | F34: 5 | H34: =ROUND(G34*F34*$D$19,0) -> 0 | J34: =I34*F34*$E$19 -> 0 | L34: =K34*F34*$F$19 -> 0 | N34: =M34*F34*$G$19 -> 0 | O34: =H34+J34+L34+N34 -> 0
D35: 12 | F35: 1 | H35: =ROUND(G35*F35*$D$19,0) -> 0 | J35: =I35*F35*$E$19 -> 0 | L35: =K35*F35*$F$19 -> 0 | N35: =M35*F35*$G$19 -> 0 | O35: =H35+J35+L35+N35 -> 0
C36: SUBTOTAL | F36: =SUM(F34:F35) -> 6 | H36: =SUM(H34:H35) -> 0 | J36: =SUM(J34:J35) -> 0 | L36: =SUM(L34:L35) -> 0 | N36: =SUM(N34:N35) -> 0 | O36: =H36+J36+L36+N36 -> 0
C37: SUBTOTAL RUTAS | F37: =F28+F33+F36 -> 26 | H37: =H36+H33+H28 -> 0 | J37: =J36+J33+J28 -> 0 | L37: =L36+L33+L28 -> 0 | N37: =N36+N33+N28 -> 0 | O37: =H37+J37+L37+N37 -> 0
B38: VEHÍCULOS ASIGNADOS A REGIONALES O CENTROS ZONALES (no incluyen desplazamientos fuera del perímetro urbano)
G39: 2015 | I39: 2016 | K39: 2017 | M39: 2018 | O39: TOTAL PERIODO
B40: Concepto | C40: Sedes | D40: Tipo de Vehículo | E40: Capacidad minima pasajeros (nota 3) | F40: Cantidad | G40: Precio unitario mes | H40: Precio total vigencia | I40: Precio unitario mes | J40: Precio total vigencia | K40: Precio unitario mes | L40: Precio total vigencia | M40: Precio unitario mes | N40: Precio total vigencia | O40: Modalidad: Vehículos 2015 - 2018
C41: Sede de la Direccion General
B42: 2. Modalidad de vehiculos (Modelos superiores al año 2013) | C42: Sede de la Direccion general (Ave. Cra. 68 con cra 64C) | D42: Vehículos 4x4 o 4x2 cilindraje mínimo de 1600 C.C. Tipo campero | E42: 4 | F42: 13 | H42: =ROUND(F42*G42*$D$20,0) -> 0 | J42: =I42*F42*$E$20 -> 0 | L42: =K42*F42*$F$20 -> 0 | N42: =M42*F42*$G$20 -> 0 | O42: =H42+J42+L42+N42 -> 0
D43: Vehículos 4x4 o 4x2 cilindraje mínimo de 2000 C.C. con 4 puertas, de platón | E43: 4 | F43: 1 | H43: =ROUND(F43*G43*$D$20,0) -> 0 | J43: =I43*F43*$E$20 -> 0 | L43: =K43*F43*$F$20 -> 0 | N43: =M43*F43*$G$20 -> 0 | O43: =H43+J43+L43+N43 -> 0
D44: Vehículo tipo van con cilindraje de mínimo 2000 C.C. | E44: 8 | F44: 2 | H44: =ROUND(F44*G44*$D$20,0) -> 0 | J44: =I44*F44*$E$20 -> 0 | L44: =K44*F44*$F$20 -> 0 | N44: =M44*F44*$G$20 -> 0 | O44: =H44+J44+L44+N44 -> 0
C45: Subtotal Sede de la Dirección | F45: =SUM(F42:F44) -> 16 | H45: =SUM(H42:H44) -> 0 | J45: =SUM(J42:J44) -> 0 | L45: =SUM(L42:L44) -> 0 | N45: =SUM(N42:N44) -> 0 | O45: =H45+J45+L45+N45 -> 0
C46: Regional Cundinamarca
C47: CZ Villeta Carrera 9 N°6-82 VILLETA | D47: Vehículos 4x4 o 4x2 cilindraje mínimo de 1600 C.C. Tipo campero | E47: 4 | F47: 1 | H47: =ROUND(F47*G47*$D$20,0) -> 0 | J47: =I47*F47*$E$20 -> 0 | L47: =K47*F47*$F$20 -> 0 | N47: =M47*F47*$G$20 -> 0 | O47: =H47+J47+L47+N47 -> 0
C48: CZ Facatativa Carrera 6 N°3-28 | D48: Vehículos 4x4 o 4x2 cilindraje mínimo de 1600 C.C. Tipo campero mínimo 4 pasajeros | E48: 4 | F48: 1 | H48: =ROUND(F48*G48*$D$20,0) -> 0 | J48: =I48*F48*$E$20 -> 0 | L48: =K48*F48*$F$20 -> 0 | N48: =M48*F48*$G$20 -> 0 | O48: =H48+J48+L48+N48 -> 0
C49: CZ Fusagasuga Calle 7A N°3-07 Este Barrio Pekin | D49: Vehículos 4x4 o 4x2 cilindraje mínimo de 1600 C.C. Tipo campero | E49: 4 | F49: 1 | H49: =ROUND(F49*G49*$D$20,0) -> 0 | J49: =I49*F49*$E$20 -> 0 | L49: =K49*F49*$F$20 -> 0 | N49: =M49*F49*$G$20 -> 0 | O49: =H49+J49+L49+N49 -> 0
C50: CZ GIRARDOT Carrera 7 A N°20 -26 Barrio Granada | D50: Vehículos 4x4 o 4x2 cilindraje mínimo de 1600 C.C. Tipo campero | E50: 4 | F50: 1 | H50: =ROUND(F50*G50*$D$20,0) -> 0 | J50: =I50*F50*$E$20 -> 0 | L50: =K50*F50*$F$20 -> 0 | N50: =M50*F50*$G$20 -> 0 | O50: =H50+J50+L50+N50 -> 0
C51: CZ La Mesa Calle 8 N°12-03 | D51: Vehículos 4x4 o 4x2 cilindraje mínimo de 1600 C.C. Tipo campero | E51: 4 | F51: 1 | H51: =ROUND(F51*G51*$D$20,0) -> 0 | J51: =I51*F51*$E$20 -> 0 | L51: =K51*F51*$F$20 -> 0 | N51: =M51*F51*$G$20 -> 0 | O51: =H51+J51+L51+N51 -> 0
...

Sheet MACRO 1_Eventuales
B8: COTIZACIÓN - TRANSPORTE PÚBLICO TERRESTRE AUTOMOTOR ESPECIAL - MACRO 1 (Dirección General, Bogotá, Cundinamarca y Meta)
B10: EMPRESA: | D10: ='MACRO 1_Permanente'!D10:H10 -> 0 | I10: NIT: | J10: ='MACRO 1_Permanente'!J10:M10 -> 0
B11: CONTACTO: | D11: ='MACRO 1_Permanente'!D11:H11 -> 0 | I11: CARGO: | J11: ='MACRO 1_Permanente'!J11:M11 -> 0
B12: E-MAIL: | D12: ='MACRO 1_Permanente'!D12:H12 -> 0 | I12: DIRECCIÓN | J12: ='MACRO 1_Permanente'!J12:M12 -> 0
B14: Instrucciones para el diligenciamiento del formato de cotización
B15: • Por favor diligenciar solo las celdas en AMARILLO. Se deben llenar todas las casillas. • Revisar todos los requerimientos que se exponen en el documento "Ficha de Condiciones Técnicas" y Anexos; y formular su cotización en concordancia con este. • Asignar precio en las celdas de las columnas denominadas "Valor del recorrido IDA/ VUELTA (con carro asignado a la Regiona), columnas "E, G, I y K", y en "Valor del recorrido IDA/VUELTA (con carro diferente al asignado a la Regional), columnas "F, H, J y L" • El valor de la cotización deber ser expresado en PESOS COLOMBIANOS CORRIENTES DE CADA AÑO (2015, 2016, 2017 y 2018), según corresponda. • Los valores unitarios deberán aproximarse por exceso o por defecto al entero más cercano. Si la cifra no está aproximada y aparece con centavos, el ICBF aproximará al entero inferior. • No modificar, agregar o quitar ningún ítem o sub-ítem. • El plazo de ejecución: 0,5 meses (11 días habiles) durante el 2015; 12 meses de cada año 2016 y 2017 (246 y 243 días hábiles respectivamente); y 6 meses del año 2018 (121 días hábiles).
B16: Nota (1): Los vehículos para recorridos eventuales deben cumplir con las mismas especificaciones técnicas de los vehículos asignados a cada regional Nota (5): Teniendo en cuenta la aprobación de vigencias futuras de la Entidad, el incremento anual debe ser máximo del 3%.
B20: COSTO TRAYECTOS INTERMUNICIPALES (Recorridos eventuales)
E22: 2015 | G22: 2016 | I22: 2017 | K22: 2018
B23: ORIGEN | C23: DESTINO | D23: TIPO DE VEHÍCULO (Nota 1) | E23: Valor del Recorrido IDA/VUELTA (Con carro asignado a la Regional) | F23: Valor del Recorrido IDA/VUELTA (Con carro diferente al asignado a la Regional) | G23: Valor del Recorrido IDA/VUELTA (Con carro asignado a la Regional) | H23: Valor del Recorrido IDA/VUELTA (Con carro diferente al asignado a la Regional) | I23: Valor del Recorrido IDA/VUELTA (Con carro asignado a la Regional) | J23: Valor del Recorrido IDA/VUELTA (Con carro diferente al asignado a la Regional) | K23: Valor del Recorrido IDA/VUELTA (Con carro asignado a la Regional) | L23: Valor del Recorrido IDA/VUELTA (Con carro diferente al asignado a la Regional)
E24: Precio unitario | F24: Precio unitario | G24: Precio unitario | H24: Precio unitario | I24: Precio unitario | J24: Precio unitario | K24: Precio unitario | L24: Precio unitario
B25: REGIONAL CUNDINAMARCA
B26: ='MACRO 1_Permanente'!C46 -> Regional Cundinamarca | C26: ='MACRO 1_Permanente'!C47 -> CZ Villeta Carrera 9 N°6-82 VILLETA | D26: ='MACRO 1_Permanente'!D47 -> Vehículos 4x4 o 4x2 cilindraje mínimo de 1600 C.C. Tipo campero
C27: ='MACRO 1_Permanente'!C48 -> CZ Facatativa Carrera 6 N°3-28
C28: ='MACRO 1_Permanente'!C49 -> CZ Fusagasuga Calle 7A N°3-07 Este Barrio Pekin
C29: ='MACRO 1_Permanente'!C50 -> CZ GIRARDOT Carrera 7 A N°20 -26 Barrio Granada
C30: ='MACRO 1_Permanente'!C51 -> CZ La Mesa Calle 8 N°12-03
C31: ='MACRO 1_Permanente'!C52 -> CZ Caqueza Carrera 5 N° 5-09
C32: ='MACRO 1_Permanente'!C53 -> CZ Chocontá Calle 6 N° 5-53
C33: ='MACRO 1_Permanente'!C54 -> CZ Gacheta Carrera 4 N° 4-27
C34: ='MACRO 1_Permanente'!C55 -> CZ Zipaquira Calle 7 N°1-80
C35: ='MACRO 1_Permanente'!C56 -> CZ Pacho Carrera 16 N° 6-52
C36: ='MACRO 1_Permanente'!C57 -> CZ Ubate Calle 8 N° 9-115
C37: ='MACRO 1_Permanente'!C58 -> CZ San Juan de Rio Seco Carrera 7 N°5-67
C38: ='MACRO 1_Permanente'!C59 -> CZ Soacha Transversal 15 Diagonal 33 Barrio Rincon de Santafé
C39: ='MACRO 1_Permanente'!C60 -> Sede Regional - Grupo Asistencia Técnica (Calle 53 N° 6-11)
B40: REGIONAL META
B41: ='MACRO 1_Permanente'!C67 -> Regional Meta | C41: Acacias | D41: ='MACRO 1_Permanente'!$D$69 -> Vehículos 4x4 o 4x2 cilindraje mínimo de 2000 C.C. con 4 puertas, de platón
C42: Puerto Lopez
C43: Granada
C44: Restrepo
C45: Cumaral
C46: Barranca de Uia
C47: El calvario
C48: San Juanito
C49: Uribe
C50: Guamal
C51: Castilla la nueva
C52: San Martin
C53: Cubarral
...

Sheet MACRO 2_Permanente
B8: COTIZACIÓN - TRANSPORTE PÚBLICO TERRESTRE AUTOMOTOR ESPECIAL - MACRO 2 (Valle, Caqueta, Tolima, Cauca, Huila y Nariño)
B10: EMPRESA: | I10: NIT: | N10: FECHA:
B11: CONTACTO: | I11: CARGO: | N11: CELULAR:
B12: E-MAIL: | I12: DIRECCIÓN | N12: TEL. FIJO:
B14: Instrucciones para el diligenciamiento del formato de cotización
B15: • Por favor diligenciar solo las celdas en AMARILLO. Se deben llenar todas las casillas. • Revisar todos los requerimientos que se exponen en el documento "Ficha de Condiciones Técnicas" y Anexos; y formular su cotización en concordancia con este. • Asignar precio sin incluir el IVA en las celdas de las columnas denominadas "Precio unitario diario (recorrido mañana y tarde), columnas "G, H, J y L" • El valor de la cotización deber ser expresado en PESOS COLOMBIANOS CORRIENTES DE CADA AÑO (2015, 2016, 2017 y 2018), según corresponda. • Los valores unitarios deberán aproximarse por exceso o por defecto al entero más cercano. Si la cifra no está aproximada y aparece con centavos, el ICBF aproximará al entero inferior. • No modificar, agregar o quitar ningún ítem o sub-ítem. • El plazo de ejecución: 0,5 meses (11 días habiles) durante el 2015; 12 meses de cada año 2016 y 2017 (246 y 243 días hábiles respectivamente); y 6 meses del año 2018 (121 días hábiles).
B16: Nota (1): Estas rutas son NOCTURNAS, y únicamente hace 1 (un) recorrido por día. Nota (2): Teniendo en cuenta que las empresas manejan diferentes vehículos con diferentes capacidades, por favor diligenciar la capacidad real de la ruta que se cotiza. Nota (3): La capacidad minima de ocupantes no incluye el conductor. Nota (4); Corresponde a vehículos con disponibilidad de servicio 24 horas en jornada continua. Nota (5): Teniendo en cuenta la aprobación de vigencias futuras de la Entidad, el incremento anual debe ser máximo del 3%.
B18: Año | D18: 2015 | E18: 2016 | F18: 2017 | G18: 2018
B19: Días hábiles por año : | D19: 11 | E19: 246 | F19: 243 | G19: 121
B20: Plazo de ejecución ( Meses) | D20: 0.5 | E20: 12 | F20: 12 | G20: 6
B22: VEHÍCULOS ASIGNADOS A REGIONALES O CENTROS ZONALES (no incluyen desplazamientos fuera del perímetro urbano)
F23: 2015 | H23: 2016 | J23: 2017 | L23: 2018 | N23: TOTAL PERIODO
B24: Regionales | C24: Tipo de Vehículo (Modelo 2013 o superior) | D24: Capacidad minima pasajeros (nota 3) | E24: Cantidad | F24: Precio unitario mes | G24: Precio total vigencia | H24: Precio unitario mes | I24: Precio total vigencia | J24: Precio unitario mes | K24: Precio total vigencia | L24: Precio unitario mes | M24: Precio total vigencia | N24: Modalidad: Vehículos 2015 - 2018
B25: Valle | C25: Vehículos 4x4 o 4x2 cilindraje mínimo de 1600 C.C. Tipo campero | D25: 4 | E25: 6 | F25: 222 | G25: =ROUND(F25*E25*$D$20,0) -> 666 | H25: 222 | I25: =H25*E25*$E$20 -> 15984 | J25: 222 | K25: =J25*E25*$F$20 -> 15984 | L25: 222 | M25: =L25*E25*$G$20 -> 7992 | N25: =G25+I25+K25+M25 -> 40626
C26: Vehículos 4X4 o 4X2 cilindraje mínimo de 2000 C.C. 4 puertas con platón | D26: 4 | E26: 20 | F26: 222 | G26: =ROUND(F26*E26*$D$20,0) -> 2220 | H26: 222 | I26: =H26*E26*$E$20 -> 53280 | J26: 222 | K26: =J26*E26*$F$20 -> 53280 | L26: 222 | M26: =L26*E26*$G$20 -> 26640 | N26: =G26+I26+K26+M26 -> 135420
C27: Vehículo tipo van con cilindraje de mínimo 1100 C.C | D27: 6 | E27: 4 | F27: 222 | G27: =ROUND(F27*E27*$D$20,0) -> 444 | H27: 222 | I27: =H27*E27*$E$20 -> 10656 | J27: 222 | K27: =J27*E27*$F$20 -> 10656 | L27: 222 | M27: =L27*E27*$G$20 -> 5328 | N27: =G27+I27+K27+M27 -> 27084
B28: SUBTOTAL REGIONAL VALLE | E28: =SUM(E25:E27) -> 30 | G28: =SUM(G25:G27) -> 3330 | I28: =SUM(I25:I27) -> 79920 | K28: =SUM(K25:K27) -> 79920 | M28: =SUM(M25:M27) -> 39960 | N28: =G28+I28+K28+M28 -> 203130
B29: Caquetá | C29: Vehículos 4x4 cilindraje mínimo de 2000 C.C. 4 puertas con platón. | D29: 4 | E29: 8 | F29: 1 | G29: =ROUND(F29*E29*$D$20,0) -> 4 | H29: 1 | I29: =H29*E29*$E$20 -> 96 | J29: 1 | K29: =J29*E29*$F$20 -> 96 | L29: 1 | M29: =L29*E29*$G$20 -> 48 | N29: =G29+I29+K29+M29 -> 244
B30: SUBTOTAL REGIONAL CAQUETÁ | E30: =E29 -> 8 | G30: =G29 -> 4 | I30: =I29 -> 96 | K30: =K29 -> 96 | M30: =M29 -> 48 | N30: =G30+I30+K30+M30 -> 244
B31: Tolima | C31: Vehículos 4x4 cilindraje mínimo de 2000 C.C. 4 puertas con platón | D31: 4 | E31: 19 | G31: =ROUND(F31*E31*$D$20,0) -> 0 | H31: 1 | I31: =H31*E31*$E$20 -> 228 | J31: 1 | K31: =J31*E31*$F$20 -> 228 | L31: 1 | M31: =L31*E31*$G$20 -> 114 | N31: =G31+I31+K31+M31 -> 570
B32: SUBTOTAL REGIONAL TOLIMA | E32: =E31 -> 19 | G32: =G31 -> 0 | I32: =I31 -> 228 | K32: =K31 -> 228 | M32: =M31 -> 114 | N32: =G32+I32+K32+M32 -> 570
B33: Cauca | C33: Vehículos 4x4 o 4x2 cilindraje mínimo de 2000 C.C. Tipo campero mínimo 4 pasajeros | D33: 4 | E33: 2 | G33: =ROUND(F33*E33*$D$20,0) -> 0 | I33: =H33*E33*$E$20 -> 0 | K33: =J33*E33*$F$20 -> 0 | M33: =L33*E33*$G$20 -> 0 | N33: =G33+I33+K33+M33 -> 0
C34: Vehículos 4X4 o 4x2 cilindraje mínimo de 2000 C.C. con 4 puertas, de platón | D34: 4 | E34: 14 | G34: =ROUND(F34*E34*$D$20,0) -> 0 | I34: =H34*E34*$E$20 -> 0 | K34: =J34*E34*$F$20 -> 0 | M34: =L34*E34*$G$20 -> 0 | N34: =G34+I34+K34+M34 -> 0
B35: SUBTOTAL REGIONAL CAUCA | E35: =SUM(E33:E34) -> 16 | G35: =SUM(G33:G34) -> 0 | I35: =SUM(I33:I34) -> 0 | K35: =SUM(K33:K34) -> 0 | M35: =SUM(M33:M34) -> 0 | N35: =G35+I35+K35+M35 -> 0
B36: Huila | C36: Vehículos 4X4 o 4x2 cilindraje mínimo de 2000 C.C. con 4 puertas, de platón | D36: 4 | E36: 10 | G36: =ROUND(F36*E36*$D$20,0) -> 0 | I36: =H36*E36*$E$20 -> 0 | K36: =J36*E36*$F$20 -> 0 | M36: =L36*E36*$G$20 -> 0 | N36: =G36+I36+K36+M36 -> 0
B37: SUBTOTAL REGIONAL HUILA | E37: =E36 -> 10 | G37: =G36 -> 0 | I37: =I36 -> 0 | K37: =K36 -> 0 | M37: =M36 -> 0 | N37: =G37+I37+K37+M37 -> 0
B38: Nariño | C38: Vehículos 4X4 o 4x2 cilindraje mínimo de 2000 C.C. con 4 puertas, de platón | D38: 4 | E38: 12 | G38: =ROUND(F38*E38*$D$20,0) -> 0 | I38: =H38*E38*$E$20 -> 0 | K38: =J38*E38*$F$20 -> 0 | M38: =L38*E38*$G$20 -> 0 | N38: =G38+I38+K38+M38 -> 0
B39: SUBTOTAL REGIONAL NARIÑO | E39: =SUM(E38:E38) -> 12 | G39: =SUM(G38:G38) -> 0 | I39: =SUM(I38:I38) -> 0 | K39: =SUM(K38:K38) -> 0 | M39: =SUM(M38:M38) -> 0 | N39: =G39+I39+K39+M39 -> 0
B40: SUBTOTAL VEHICULOS | E40: =E39+E37+E35+E32+E30+E28 -> 95 | G40: =G39+G37+G35+G32+G30+G28 -> 3334 | I40: =I39+I37+I35+I32+I30+I28 -> 80244 | K40: =K39+K37+K35+K32+K30+K28 -> 80244 | M40: =M39+M37+M35+M32+M30+M28 -> 40122 | N40: =G40+I40+K40+M40 -> 203944
B42: TOTAL MACRO REGIÓN 2 | F42: =G40 -> 3334 | H42: =I40 -> 80244 | J42: =K40 -> 80244 | L42: =M40 -> 40122 | N42: =F42+H42+J42+L42 -> 203944
B44: La presente cotización:
B45: • Incluye todos los costos y gastos directos e indirectos en que debe incurrir el contratista durante la ejecución del contrato de acuerdo con las especificaciones de la Ficha de Condiciones Técnicas, las obligaciones tributarias de acuerdo con las normas aplicables para el tipo de servicio y contrato correspondiente, y los costos de las pólizas. • Se remite como parte del estudio de mercado, previo a la contratación, y no implica ninguna obligación de contratar. • Tiene una vigencia de 90 dias a partir de la fecha de diligenciamiento.
B46: Inscripción en el Registro Único de Proponentes: Las personas naturales y jurídicas, nacionales o extranjeras, con domicilio en Colombia, interesadas en participar en procesos de contratación convocados por las entidades estatales, deben estar inscritas en el RUP, salvo las excepciones previstas de forma taxativa en la ley (Artículo 2.2.1.1.1.5.1 del Drecreto 1082 de 2015). Se aclara que esta inscripción no se requiere para remitir cotización durante el estudio de mercado.
B49: 7 MESES CONTRATO | C49: 3303976447
B50: 7 MESES INFO SUMINISTRADA | C50: 3303976445

Sheet MACRO 2_Eventuales
B8: COTIZACIÓN - TRANSPORTE PÚBLICO TERRESTRE AUTOMOTOR ESPECIAL - MACRO 2 (Valle, Caqueta, Tolima, Cauca, Huila y Nariño)
B10: EMPRESA: | D10: ='MACRO 2_Permanente'!D10:H10 -> 0 | I10: NIT: | J10: ='MACRO 2_Permanente'!J10:M10 -> 0
B11: CONTACTO: | D11: ='MACRO 2_Permanente'!D11:H11 -> 0 | I11: CARGO: | J11: ='MACRO 2_Permanente'!J11:M11 -> 0
B12: E-MAIL: | D12: ='MACRO 2_Permanente'!D12:H12 -> 0 | I12: DIRECCIÓN | J12: ='MACRO 2_Permanente'!J12:M12 -> 0
B14: Instrucciones para el diligenciamiento del formato de cotización
B15: • Por favor diligenciar solo las celdas en AMARILLO. Se deben llenar todas las casillas. • Revisar todos los requerimientos que se exponen en el documento "Ficha de Condiciones Técnicas" y Anexos; y formular su cotización en concordancia con este. • Asignar precio en las celdas de las columnas denominadas "Valor del recorrido IDA/ VUELTA (con carro asignado a la Regiona), columnas "E, G, I y K", y en "Valor del recorrido IDA/VUELTA (con carro diferente al asignado a la Regional), columnas "F, H, J y L" • El valor de la cotización deber ser expresado en PESOS COLOMBIANOS CORRIENTES DE CADA AÑO (2015, 2016, 2017 y 2018), según corresponda. • Los valores unitarios deberán aproximarse por exceso o por defecto al entero más cercano. Si la cifra no está aproximada y aparece con centavos, el ICBF aproximará al entero inferior. • No modificar, agregar o quitar ningún ítem o sub-ítem. • El plazo de ejecución: 0,5 meses (11 días habiles) durante el 2015; 12 meses de cada año 2016 y 2017 (246 y 243 días hábiles respectivamente); y 6 meses del año 2018 (121 días hábiles).
B16: Nota (1): Los vehículos para recorridos eventuales deben cumplir con las mismas especificaciones técnicas de los vehículos asignados a cada regional Nota (5): Teniendo en cuenta la aprobación de vigencias futuras de la Entidad, el incremento anual debe ser máximo del 3%.
B20: COSTO TRAYECTOS INTERMUNICIPALES (Recorridos eventuales)
E22: 2015 | G22: 2016 | I22: 2017 | K22: 2018
B23: ORIGEN | C23: DESTINO | D23: TIPO DE VEHÍCULO (Nota 1) | E23: Valor del Recorrido IDA/VUELTA (Con carro asignado a la Regional) | F23: Valor del Recorrido IDA/VUELTA (Con carro diferente al asignado a la Regional) | G23: Valor del Recorrido IDA/VUELTA (Con carro asignado a la Regional) | H23: Valor del Recorrido IDA/VUELTA (Con carro diferente al asignado a la Regional) | I23: Valor del Recorrido IDA/VUELTA (Con carro asignado a la Regional) | J23: Valor del Recorrido IDA/VUELTA (Con carro diferente al asignado a la Regional) | K23: Valor del Recorrido IDA/VUELTA (Con carro asignado a la Regional) | L23: Valor del Recorrido IDA/VUELTA (Con carro diferente al asignado a la Regional)
E24: Precio unitario | F24: Precio unitario | G24: Precio unitario | H24: Precio unitario | I24: Precio unitario | J24: Precio unitario | K24: Precio unitario | L24: Precio unitario
B25: REGIONAL VALLE DEL CAUCA
B26: Dirección Regional AV 2A NORTE 33AN 45 PRADOS DEL NORTE Cali | C26: Centro Zonal Ladera CRA43 #5 A-17 | D26: Vehículos 4X4 o 4X2 cilindraje mínimo de 2000 C.C. 4 puertas con platón
C27: Centro Zonal Yumbo CRA 4 #1 B-07
C28: Centro Zonal Palmira CRA.31 #23-52
C29: Centro Zonal Buga CARRERA 8 A- con callejon balboa
C30: Centro Zonal Tulua CALLE 25 # 26 - 64
C31: Centro Zonal Roldanillo CRA. 6 #9-103
C32: Centro Zonal Cartago CRA. 6 #9-49
C33: Centro Zonal Buenaventura Calle 6 # 52 - 71
C34: Centro zonal Jamundi CRA. 13 #10-21
C35: Centro Zonal Sevilla CALLE 49 # 48 - 42
B36: REGIONAL CAQUETA
B37: Dirección Regional TRANSVERSAL 6 NO.16-51 - Florencia | C37: Centro Zonal Puerto Rico CARRERA 7 NO.5-46 | D37: Vehículo 4X4 o 4X2 cilindraje mínimo de 2000 C.C. 4 puertas con platón.
C38: Centro Zonal Belén de los Andaquíes CALLE 7 NO. 7-20
B39: REGIONAL TOLIMA
B40: Dirección Regional CARRERA 5 NO. 43-23 - Ibague | C40: Centro Zonal Líbano CALLE 6 NO. 14-60 CON CARRERA 15 | D40: Vehículo 4X4 o 4X2 cilindraje mínimo de 2000 C.C. 4 puertas con platón.
C41: Centro Zonal Lérida AV12 CL 2A B/MINUTO DE DIOS
C42: Centro Zonal Honda CARRERA 14 # 7-31 Alto del Rosario-antiguas oficinas de Telecom
C43: Centro Zonal Espinal CARRERA 6 NO. 12 - 56
C44: Centro Zonal Chaparral Avenida del Estudiante - Oficinas
C45: Centro Zonal Purificación CALLE 7 NO. 7A -24 B. SANTA BARBARA
C46: Centro Zonal Melgar CALLE 8 NO. 19-10 PISO 2 C.C ULLOA PLAZA - B/AVENIDA CAFAM
B47: REGIONAL NARIÑO
B48: Dirección Regional Calle 23 Carrera 3° Esquina - Pasto | C48: Centro Zonal Ipiales CALLE 11 Nº 3 - 21 barrio la libertad | D48: Vehículo 4X4 o 4X2 cilindraje mínimo de 2000 C.C. 4 puertas con platón.
C49: Centro Zonal Tuquerres Calle 14 no. 15-25 tuquerres
C50: Centro Zonal Tumaco cra 8 no. 14-23 parque colon
C51: Centro Zonal la Unión carrera 1 no.11 -37 b/ san antonio
C52: Centro zonal Remolino panamericana norte km 84
C53: Unidad local La Cruz antiguo edificio coorpo-nariño
...

Sheet MACRO 3_Pemanente
B8: COTIZACIÓN - TRANSPORTE PÚBLICO TERRESTRE AUTOMOTOR ESPECIAL - MACRO 3 (Caldas, Quindio, Risaralda, Córdoba y Antioquia)
B10: EMPRESA: | I10: NIT: | N10: FECHA:
B11: CONTACTO: | I11: CARGO: | N11: CELULAR:
B12: E-MAIL: | I12: DIRECCIÓN | N12: TEL. FIJO:
B14: Instrucciones para el diligenciamiento del formato de cotización
B15: • Por favor diligenciar solo las celdas en AMARILLO. Se deben llenar todas las casillas. • Revisar todos los requerimientos que se exponen en el documento "Ficha de Condiciones Técnicas" y Anexos; y formular su cotización en concordancia con este. • Asignar precio sin incluir el IVA en las celdas de las columnas denominadas "Precio unitario diario (recorrido mañana y tarde), columnas "G, H, J y L" • El valor de la cotización deber ser expresado en PESOS COLOMBIANOS CORRIENTES DE CADA AÑO (2015, 2016, 2017 y 2018), según corresponda. • Los valores unitarios deberán aproximarse por exceso o por defecto al entero más cercano. Si la cifra no está aproximada y aparece con centavos, el ICBF aproximará al entero inferior. • No modificar, agregar o quitar ningún ítem o sub-ítem. • El plazo de ejecución: 0,5 meses (11 días habiles) durante el 2015; 12 meses de cada año 2016 y 2017 (246 y 243 días hábiles respectivamente); y 6 meses del año 2018 (121 días hábiles).
B16: Nota (1): Estas rutas son NOCTURNAS, y únicamente hace 1 (un) recorrido por día. Nota (2): Teniendo en cuenta que las empresas manejan diferentes vehículos con diferentes capacidades, por favor diligenciar la capacidad real de la ruta que se cotiza. Nota (3): La capacidad minima de ocupantes no incluye el conductor. Nota (4); Corresponde a vehículos con disponibilidad de servicio 24 horas en jornada continua. Nota (5): Teniendo en cuenta la aprobación de vigencias futuras de la Entidad, el incremento anual debe ser máximo del 3%.
B18: Año | D18: 2015 | E18: 2016 | F18: 2017 | G18: 2018
B19: Días hábiles por año: | D19: 11 | E19: 246 | F19: 243 | G19: 121
B20: Plazo de ejecución ( Meses) | D20: 0.5 | E20: 12 | F20: 12 | G20: 6
B22: VEHÍCULOS ASIGNADOS A REGIONALES O CENTROS ZONALES (no incluyen desplazamientos fuera del perímetro urbano)
F23: 2015 | H23: 2016 | J23: 2017 | L23: 2018 | N23: TOTAL PERIODO
B24: Regionales | C24: Tipo de Vehículo (Modelo 2013 o superior) | D24: Capacidad minima pasajeros (nota 1) | E24: Cantidad | F24: Precio unitario mes | G24: Precio total vigencia | H24: Precio unitario mes | I24: Precio total vigencia | J24: Precio unitario mes | K24: Precio total vigencia | L24: Precio unitario mes | M24: Precio total vigencia | N24: Modalidad: Vehículos 2015 - 2018
B25: Caldas | C25: Vehículos 4x4 o 4x2 cilindraje mínimo de 1600 C.C. Tipo campero | D25: 4 | E25: 5 | G25: =ROUND(F25*E25*$D$20,0) -> 0 | I25: =H25*E25*$E$20 -> 0 | K25: =J25*E25*$F$20 -> 0 | M25: =L25*E25*$G$20 -> 0 | N25: =G25+I25+K25+M25 -> 0
C26: Vehículos 4X4 o 4x2 cilindraje mínimo de 2000 C.C. con 4 puertas, de platón | D26: 4 | E26: 7 | G26: =ROUND(F26*E26*$D$20,0) -> 0 | I26: =H26*E26*$E$20 -> 0 | K26: =J26*E26*$F$20 -> 0 | M26: =L26*E26*$G$20 -> 0 | N26: =G26+I26+K26+M26 -> 0
B27: SUBTOTAL REGIONAL CALDA | E27: =SUM(E25:E26) -> 12 | G27: =SUM(G25:G26) -> 0 | I27: =SUM(I25:I26) -> 0 | K27: =SUM(K25:K26) -> 0 | M27: =SUM(M25:M26) -> 0 | N27: =G27+I27+K27+M27 -> 0
B28: Quindio | C28: Vehículos 4X4 o 4x2 cilindraje mínimo de 2000 C.C. con 4 puertas, de platón | D28: 4 | E28: 9 | G28: =ROUND(F28*E28*$D$20,0) -> 0 | I28: =H28*E28*$E$20 -> 0 | K28: =J28*E28*$F$20 -> 0 | M28: =L28*E28*$G$20 -> 0 | N28: =G28+I28+K28+M28 -> 0
B29: SUBTOTAL REGIONAL QUINDIO | E29: =E28 -> 9 | G29: =G28 -> 0 | I29: =I28 -> 0 | K29: =K28 -> 0 | M29: =M28 -> 0 | N29: =G29+I29+K29+M29 -> 0
B30: Risaralda | C30: Vehículos 4x4 o 4x2 cilindraje mínimo de 1600 C.C. Tipo campero | D30: 4 | E30: 1 | G30: =ROUND(F30*E30*$D$20,0) -> 0 | I30: =H30*E30*$E$20 -> 0 | K30: =J30*E30*$F$20 -> 0 | M30: =L30*E30*$G$20 -> 0 | N30: =G30+I30+K30+M30 -> 0
C31: Vehículos 4X4 o 4x2 cilindraje mínimo de 2000 C.C. con 4 puertas, de platón | D31: 4 | E31: 9 | G31: =ROUND(F31*E31*$D$20,0) -> 0 | I31: =H31*E31*$E$20 -> 0 | K31: =J31*E31*$F$20 -> 0 | M31: =L31*E31*$G$20 -> 0 | N31: =G31+I31+K31+M31 -> 0
B32: SUBTOTAL REGIONAL RISARALDA | E32: =SUM(E30:E31) -> 10 | G32: =SUM(G30:G31) -> 0 | I32: =SUM(I30:I31) -> 0 | K32: =SUM(K30:K31) -> 0 | M32: =SUM(M30:M31) -> 0 | N32: =G32+I32+K32+M32 -> 0
B33: Córdoba | C33: Vehículos 4x4 o 4x2 cilindraje mínimo de 1600 C.C. Tipo campero | D33: 4 | E33: 1 | G33: =ROUND(F33*E33*$D$20,0) -> 0 | I33: =H33*E33*$E$20 -> 0 | K33: =J33*E33*$F$20 -> 0 | M33: =L33*E33*$G$20 -> 0 | N33: =G33+I33+K33+M33 -> 0
C34: Vehículos 4X4 o 4x2 cilindraje mínimo de 2000 C.C. con 4 puertas, de platón | D34: 4 | E34: 15 | G34: =ROUND(F34*E34*$D$20,0) -> 0 | I34: =H34*E34*$E$20 -> 0 | K34: =J34*E34*$F$20 -> 0 | M34: =L34*E34*$G$20 -> 0 | N34: =G34+I34+K34+M34 -> 0
B35: SUBTOTAL REGIONAL CORDOBA | E35: =SUM(E33:E34) -> 16 | G35: =SUM(G33:G34) -> 0 | I35: =SUM(I33:I34) -> 0 | K35: =SUM(K33:K34) -> 0 | M35: =SUM(M33:M34) -> 0 | N35: =G35+I35+K35+M35 -> 0
B36: Antioquia | C36: Vehículos 4x4 o 4x2 cilindraje mínimo de 1600 C.C. Tipo campero | D36: 4 | E36: 2 | G36: =ROUND(F36*E36*$D$20,0) -> 0 | I36: =H36*E36*$E$20 -> 0 | K36: =J36*E36*$F$20 -> 0 | M36: =L36*E36*$G$20 -> 0 | N36: =G36+I36+K36+M36 -> 0
C37: Vehículos 4X4 o 4x2 cilindraje mínimo de 2000 C.C. con 4 puertas, de platón (aplica nota No. 4 para cinco -5- vehículos) | D37: 4 | E37: 35 | G37: =ROUND(F37*E37*$D$20,0) -> 0 | I37: =H37*E37*$E$20 -> 0 | K37: =J37*E37*$F$20 -> 0 | M37: =L37*E37*$G$20 -> 0 | N37: =G37+I37+K37+M37 -> 0
B38: SUBTOTAL REGIONAL ANTIOQUIA | E38: =SUM(E36:E37) -> 37 | G38: =SUM(G36:G37) -> 0 | I38: =SUM(I36:I37) -> 0 | K38: =SUM(K36:K37) -> 0 | M38: =SUM(M36:M37) -> 0 | N38: =G38+I38+K38+M38 -> 0
B39: SUBTOTAL VEHICULOS | E39: =E38+E35+E32+E29+E27 -> 84 | G39: =G38+G35+G32+G29+G27 -> 0 | I39: =I38+I35+I32+I29+I27 -> 0 | K39: =K38+K35+K32+K29+K27 -> 0 | M39: =M38+M35+M32+M29+M27 -> 0 | N39: =G39+I39+K39+M39 -> 0
B41: TOTAL MACRO REGIÓN 3 | F41: =G39 -> 0 | H41: =I39 -> 0 | J41: =K39 -> 0 | L41: =M39 -> 0 | N41: =F41+H41+J41+L41 -> 0
B43: La presente cotización:
B44: • Incluye todos los costos y gastos directos e indirectos en que debe incurrir el contratista durante la ejecución del contrato de acuerdo con las especificaciones de la Ficha de Condiciones Técnicas, las obligaciones tributarias de acuerdo con las normas aplicables para el tipo de servicio y contrato correspondiente, y los costos de las pólizas. • Se remite como parte del estudio de mercado, previo a la contratación, y no implica ninguna obligación de contratar. • Tiene una vigencia de 90 dias a partir de la fecha de diligenciamiento.
B45: Inscripción en el Registro Único de Proponentes: Las personas naturales y jurídicas, nacionales o extranjeras, con domicilio en Colombia, interesadas en participar en procesos de contratación convocados por las entidades estatales, deben estar inscritas en el RUP, salvo las excepciones previstas de forma taxativa en la ley (Artículo 2.2.1.1.1.5.1 del Drecreto 1082 de 2015). Se aclara que esta inscripción no se requiere para remitir cotización durante el estudio de mercado.
B49: 7 MESES CONTRATO | C49: 3005534000
B50: 7 MESES INFO SUMINISTRADA | C50: 3006389050

Sheet MACRO 3_Eventuales
B8: COTIZACIÓN - TRANSPORTE PÚBLICO TERRESTRE AUTOMOTOR ESPECIAL - MACRO 3 (Caldas, Quindio, Risaralda, Córdoba y Antioquia)
B10: EMPRESA: | D10: ='MACRO 3_Pemanente'!D10:H10 -> 0 | I10: NIT: | J10: ='MACRO 3_Pemanente'!J10:M10 -> 0
B11: CONTACTO: | D11: ='MACRO 3_Pemanente'!D11:H11 -> 0 | I11: CARGO: | J11: ='MACRO 3_Pemanente'!J11:M11 -> 0
B12: E-MAIL: | D12: ='MACRO 3_Pemanente'!D12:H12 -> 0 | I12: DIRECCIÓN | J12: ='MACRO 3_Pemanente'!J12:M12 -> 0
B14: Instrucciones para el diligenciamiento del formato de cotización
B15: • Por favor diligenciar solo las celdas en AMARILLO. Se deben llenar todas las casillas. • Revisar todos los requerimientos que se exponen en el documento "Ficha de Condiciones Técnicas" y Anexos; y formular su cotización en concordancia con este. • Asignar precio en las celdas de las columnas denominadas "Valor del recorrido IDA/ VUELTA (con carro asignado a la Regiona), columnas "E, G, I y K", y en "Valor del recorrido IDA/VUELTA (con carro diferente al asignado a la Regional), columnas "F, H, J y L" • El valor de la cotización deber ser expresado en PESOS COLOMBIANOS CORRIENTES DE CADA AÑO (2015, 2016, 2017 y 2018), según corresponda. • Los valores unitarios deberán aproximarse por exceso o por defecto al entero más cercano. Si la cifra no está aproximada y aparece con centavos, el ICBF aproximará al entero inferior. • No modificar, agregar o quitar ningún ítem o sub-ítem. • El plazo de ejecución: 0,5 meses (11 días habiles) durante el 2015; 12 meses de cada año 2016 y 2017 (246 y 243 días hábiles respectivamente); y 6 meses del año 2018 (121 días hábiles).
B16: Nota (1): Los vehículos para recorridos eventuales deben cumplir con las mismas especificaciones técnicas de los vehículos asignados a cada regional Nota (5): Teniendo en cuenta la aprobación de vigencias futuras de la Entidad, el incremento anual debe ser máximo del 3%.
B20: COSTO TRAYECTOS INTERMUNICIPALES (Recorridos eventuales)
E22: 2015 | G22: 2016 | I22: 2017 | K22: 2018
B23: ORIGEN | C23: DESTINO | D23: TIPO DE VEHÍCULO (Nota 1) | E23: Valor del Recorrido IDA/VUELTA (Con carro asignado a la Regional) | F23: Valor del Recorrido IDA/VUELTA (Con carro diferente al asignado a la Regional) | G23: Valor del Recorrido IDA/VUELTA (Con carro asignado a la Regional) | H23: Valor del Recorrido IDA/VUELTA (Con carro diferente al asignado a la Regional) | I23: Valor del Recorrido IDA/VUELTA (Con carro asignado a la Regional) | J23: Valor del Recorrido IDA/VUELTA (Con carro diferente al asignado a la Regional) | K23: Valor del Recorrido IDA/VUELTA (Con carro asignado a la Regional) | L23: Valor del Recorrido IDA/VUELTA (Con carro diferente al asignado a la Regional)
E24: Precio unitario | F24: Precio unitario | G24: Precio unitario | H24: Precio unitario | I24: Precio unitario | J24: Precio unitario | K24: Precio unitario | L24: Precio unitario
B25: REGIONAL CALDAS
B26: Dirección Regional Av. Santander Carrera 23 No. 39-60 | C26: Centro Zonal del Café CALLE 14 2-30 BARRIO EL EDEN | D26: Vehículo 4X4 o 4x2 cilindraje mínimo de 2000 C.C. 4 puertas con platón
C27: Centro Zonal Norte Carrera 6 N° 6 40 (Salamina)
C28: Centro Zonal Occidente Carrera 6 Nº 6- 56/64 (Riosucio)
C29: Centro Zonal Sur Oriente Carrera 5 Calle 7 (Manzanares) | D29: Vehículo 4x4 o 4x2 cilindraje mínimo de 1600 C.C. Tipo Campero
C30: Centro Zonal Oriente Carrera 5 No. 7 - 05 Esquina (Dorada) | D30: Vehículo 4X4 o 4x2 cilindraje mínimo de 2000 C.C. 4 puertas con platón
B31: REGIONAL RISARALDA
B32: Dirección Regional CRA 8 BIS NO. 35-11 | C32: Centro zonal Santa Rosa De Cabal Cra 12 No 11-51 | D32: Vehículo 4X4 o 4x2 cilindraje mínimo de 2000 C.C. con platón
C33: Centro Zonal Belen De Umbria calle 9 no 8-39 8-43
C34: Centro zonal La Virginia kr 6 no. 10-28
C35: Centro zonal Dosquebradas cra 20 no 17-66 b santa monica
B36: REGIONAL QUINDIO
B37: Dirección Regional Carrera 23, Calles 3ra y 4ta Barrio Sesenta Casas | C37: C. Z. Calarcá Carrera 25 con Calle 39 Esquina, Piso 2 | D37: Vehículos 4X4 o 4x2 cilindraje mínimo de 2000 C.C. con platón
B38: REGIONAL CORDOBA
B39: Dirección Regional Carrera 9 No. 10-26 | C39: Centro Zonal Cerete calle 12 no.9-57 calle del carmen cerete | D39: Vehículos 4X4 o 4x2 cilindraje mínimo de 2000 C.C. 4 puertas con platón
C40: Centro Zonal Planeta rica carrera 10 no.20-54 barrio centro pta rica
C41: Centro Zonal - Tierralta carrera 9 y 10 calle 5 barrio el prado tierralta
C42: Centro Zonal Montelibano Calle 14 No. 4 - 30 Barrio
C43: Centro Zonal - Lorica calle 21 no.7a-45 lorica
C44: Centro Zonal - Sahagún calle 15 cra 16 esquina barrio centro
C45: Centro Zonal - San Andrés de Sotavento Trasversal 7 N°. 7-710, Centro
B46: REGIONAL ANTIOQUIA
B47: Dirección Regional Calle 45 No. 79-141 | C47: Centro Zonal 5 Aburrá Norte Diag 54 No. 42B-19 | D47: Vehículo 4x4 o 4x2 cilindraje mínimo de 1600 C.C. Tipo Campero.
C48: Centro Zonal 6 Aburra Sur Carrera 51 No. 52-19
C49: Centro .Zonal 7 Bajo Cauca Trans. 13 No. 14 C 36 | D49: Vehículo 4X4 o 4x2 cilindraje mínimo de 2000 C.C. 4 puertas con platón
C50: Centro Zonal 8 La Meseta Carrera 20 No. 21 – 64
C51: Centro Zonal 9 Magdalena Medio Calle 10 X Carrera 10
C52: Centro Zonal 10 Occidente Calle 9 No. 8-34
C53: Centro .Zonal 11 Carrera Uribe Uribe No. 10-86 Dabeiba
...

Sheet MACRO 4_Permanente
B8: COTIZACIÓN - TRANSPORTE PÚBLICO TERRESTRE AUTOMOTOR ESPECIAL - MACRO 4 (Sucre, Bolivar, Atlántico, Magdalena y Guajira)
B10: EMPRESA: | I10: NIT: | N10: FECHA:
B11: CONTACTO: | I11: CARGO: | N11: CELULAR:
B12: E-MAIL: | I12: DIRECCIÓN | N12: TEL. FIJO:
B14: Instrucciones para el diligenciamiento del formato de cotización
B15: • Por favor diligenciar solo las celdas en AMARILLO. Se deben llenar todas las casillas. • Revisar todos los requerimientos que se exponen en el documento "Ficha de Condiciones Técnicas" y Anexos; y formular su cotización en concordancia con este. • Asignar precio sin incluir el IVA en las celdas de las columnas denominadas "Precio unitario diario (recorrido mañana y tarde), columnas "G, H, J y L" • El valor de la cotización deber ser expresado en PESOS COLOMBIANOS CORRIENTES DE CADA AÑO (2015, 2016, 2017 y 2018), según corresponda. • Los valores unitarios deberán aproximarse por exceso o por defecto al entero más cercano. Si la cifra no está aproximada y aparece con centavos, el ICBF aproximará al entero inferior. • No modificar, agregar o quitar ningún ítem o sub-ítem. • El plazo de ejecución: 0,5 meses (11 días habiles) durante el 2015; 12 meses de cada año 2016 y 2017 (246 y 243 días hábiles respectivamente); y 6 meses del año 2018 (121 días hábiles).
B16: Nota (1): Estas rutas son NOCTURNAS, y únicamente hace 1 (un) recorrido por día. Nota (2): Teniendo en cuenta que las empresas manejan diferentes vehículos con diferentes capacidades, por favor diligenciar la capacidad real de la ruta que se cotiza. Nota (3): La capacidad minima de ocupantes no incluye el conductor. Nota (4); Corresponde a vehículos con disponibilidad de servicio 24 horas en jornada continua. Nota (5): Teniendo en cuenta la aprobación de vigencias futuras de la Entidad, el incremento anual debe ser máximo del 3%.
B18: Año | D18: 2015 | E18: 2016 | F18: 2017 | G18: 2018
B19: Días hábiles por año : | D19: 11 | E19: 246 | F19: 243 | G19: 121
B20: Plazo de ejecución (Meses) | D20: 0.5 | E20: 12 | F20: 12 | G20: 6
F22: 2015 | H22: 2016 | J22: 2017 | L22: 2018 | N22: TOTAL PERIODO
B23: Regionales | C23: Tipo de Vehículo (Modelo 2013 o superior) | D23: Capacidad minima pasajeros (nota 1) | E23: Cantidad | F23: Precio unitario mes | G23: Precio total vigencia | H23: Precio unitario mes | I23: Precio total vigencia | J23: Precio unitario mes | K23: Precio total vigencia | L23: Precio unitario mes | M23: Precio total vigencia | N23: Modalidad: Vehículos 2015 - 2018
B24: Sucre | C24: Vehículos 4x4 o 4x2 cilindraje mínimo de 1600 C.C. Tipo Campero | D24: 4 | E24: 1 | G24: =ROUND(F24*E24*$D$20,0) -> 0 | I24: =H24*E24*$E$20 -> 0 | K24: =J24*E24*$F$20 -> 0 | M24: =L24*E24*$G$20 -> 0 | N24: =G24+I24+K24+M24 -> 0
C25: Vehículo tipo VAN con cilindraje de mínimo 1100 C.C | D25: 6 | E25: 1 | G25: =ROUND(F25*E25*$D$20,0) -> 0 | I25: =H25*E25*$E$20 -> 0 | K25: =J25*E25*$F$20 -> 0 | M25: =L25*E25*$G$20 -> 0 | N25: =G25+I25+K25+M25 -> 0
C26: Vehículos 4X4 o 4X2 cilindraje mínimo de 2000 C.C. con platón | D26: 4 | E26: 10 | G26: =ROUND(F26*E26*$D$20,0) -> 0 | I26: =H26*E26*$E$20 -> 0 | K26: =J26*E26*$F$20 -> 0 | M26: =L26*E26*$G$20 -> 0 | N26: =G26+I26+K26+M26 -> 0
B27: SUBTOTAL REGIONAL SUCRE | E27: =SUM(E24:E26) -> 12 | G27: =SUM(G24:G26) -> 0 | I27: =SUM(I24:I26) -> 0 | K27: =SUM(K24:K26) -> 0 | M27: =SUM(M24:M26) -> 0 | N27: =G27+I27+K27+M27 -> 0
B28: Bolivar | C28: Vehículos 4x4 o 4x2 cilindraje mínimo de 1600 C.C. Tipo Campero | D28: 4 | E28: 2 | G28: =ROUND(F28*E28*$D$20,0) -> 0 | I28: =H28*E28*$E$20 -> 0 | K28: =J28*E28*$F$20 -> 0 | M28: =L28*E28*$G$20 -> 0 | N28: =G28+I28+K28+M28 -> 0
C29: Vehículos 4X4 o 4X2 cilindraje mínimo de 2000 C.C. con platón. | D29: 4 | E29: 16 | G29: =ROUND(F29*E29*$D$20,0) -> 0 | I29: =H29*E29*$E$20 -> 0 | K29: =J29*E29*$F$20 -> 0 | M29: =L29*E29*$G$20 -> 0 | N29: =G29+I29+K29+M29 -> 0
B30: SUBTOTAL REGIONAL BOLIVAR | E30: =SUM(E28:E29) -> 18 | G30: =SUM(G28:G29) -> 0 | I30: =SUM(I28:I29) -> 0 | K30: =SUM(K28:K29) -> 0 | M30: =SUM(M28:M29) -> 0 | N30: =G30+I30+K30+M30 -> 0
B31: Atlántico | C31: Vehículos 4x4 o 4x2 cilindraje mínimo de 1600 C.C. Tipo Campero | D31: 4 | E31: 2 | G31: =ROUND(F31*E31*$D$20,0) -> 0 | I31: =H31*E31*$E$20 -> 0 | K31: =J31*E31*$F$20 -> 0 | M31: =L31*E31*$G$20 -> 0 | N31: =G31+I31+K31+M31 -> 0
C32: Micro bus 2000 cc | D32: 12 | E32: 3 | G32: =ROUND(F32*E32*$D$20,0) -> 0 | I32: =H32*E32*$E$20 -> 0 | K32: =J32*E32*$F$20 -> 0 | M32: =L32*E32*$G$20 -> 0 | N32: =G32+I32+K32+M32 -> 0
C33: Vehículos 4X4 o 4X2 cilindraje mínimo de 2000 C.C. con platón. | D33: 4 | E33: 10 | G33: =ROUND(F33*E33*$D$20,0) -> 0 | I33: =H33*E33*$E$20 -> 0 | K33: =J33*E33*$F$20 -> 0 | M33: =L33*E33*$G$20 -> 0 | N33: =G33+I33+K33+M33 -> 0
B34: SUBTOTAL REGIONAL ATLANTICO | E34: =SUM(E31:E33) -> 15 | G34: =SUM(G31:G33) -> 0 | I34: =SUM(I31:I33) -> 0 | K34: =SUM(K31:K33) -> 0 | M34: =SUM(M31:M33) -> 0 | N34: =G34+I34+K34+M34 -> 0
B35: Magdalena | C35: Vehículo tipo VAN con cilindraje de mínimo 1100 C.C. | D35: 6 | E35: 5 | G35: =ROUND(F35*E35*$D$20,0) -> 0 | I35: =H35*E35*$E$20 -> 0 | K35: =J35*E35*$F$20 -> 0 | M35: =L35*E35*$G$20 -> 0 | N35: =G35+I35+K35+M35 -> 0
C36: Vehículos 4x4 o 4x2 cilindraje mínimo de 1600 C.C. Tipo Campero. | D36: 4 | E36: 4 | G36: =ROUND(F36*E36*$D$20,0) -> 0 | I36: =H36*E36*$E$20 -> 0 | K36: =J36*E36*$F$20 -> 0 | M36: =L36*E36*$G$20 -> 0 | N36: =G36+I36+K36+M36 -> 0
C37: Vehículos 4X4 o 4X2 cilindraje mínimo de 2000 C.C. con platón. | D37: 4 | E37: 8 | G37: =ROUND(F37*E37*$D$20,0) -> 0 | I37: =H37*E37*$E$20 -> 0 | K37: =J37*E37*$F$20 -> 0 | M37: =L37*E37*$G$20 -> 0 | N37: =G37+I37+K37+M37 -> 0
B38: SUBTOTAL REGIONAL MAGDALENA | E38: =SUM(E35:E37) -> 17 | G38: =SUM(G35:G37) -> 0 | I38: =SUM(I35:I37) -> 0 | K38: =SUM(K35:K37) -> 0 | M38: =SUM(M35:M37) -> 0 | N38: =G38+I38+K38+M38 -> 0
B39: Guajira | C39: Vehículos 4X4 o 4X2 cilindraje mínimo de 2000 C.C. con platón. | D39: 4 | E39: 11 | G39: =ROUND(F39*E39*$D$20,0) -> 0 | I39: =H39*E39*$E$20 -> 0 | K39: =J39*E39*$F$20 -> 0 | M39: =L39*E39*$G$20 -> 0 | N39: =G39+I39+K39+M39 -> 0
B40: SUBTOTAL REGIONAL GUAJIRA | E40: =E39 -> 11 | G40: =G39 -> 0 | I40: =I39 -> 0 | K40: =K39 -> 0 | M40: =M39 -> 0 | N40: =G40+I40+K40+M40 -> 0
B41: SUBTOTAL VEHICULOS GUAJIRA | E41: =E40+E38+E34+E30+E27 -> 73 | G41: =G40+G38+G34+G30+G27 -> 0 | I41: =I40+I38+I34+I30+I27 -> 0 | K41: =K40+K38+K34+K30+K27 -> 0 | M41: =M40+M38+M34+M30+M27 -> 0 | N41: =G41+I41+K41+M41 -> 0
B43: TOTAL MACRO REGIÓN 4 | F43: =G41 -> 0 | H43: =I41 -> 0 | J43: =K41 -> 0 | L43: =M41 -> 0 | N43: =F43+H43+J43+L43 -> 0
B44: Nota 1: La capacidad mínima de ocupantes no incluye el conductor.
B46: La presente cotización:
B47: • Incluye todos los costos y gastos directos e indirectos en que debe incurrir el contratista durante la ejecución del contrato de acuerdo con las especificaciones de la Ficha de Condiciones Técnicas, las obligaciones tributarias de acuerdo con las normas aplicables para el tipo de servicio y contrato correspondiente, y los costos de las pólizas. • Se remite como parte del estudio de mercado, previo a la contratación, y no implica ninguna obligación de contratar. • Tiene una vigencia de 90 dias a partir de la fecha de diligenciamiento.
B48: Inscripción en el Registro Único de Proponentes: Las personas naturales y jurídicas, nacionales o extranjeras, con domicilio en Colombia, interesadas en participar en procesos de contratación convocados por las entidades estatales, deben estar inscritas en el RUP, salvo las excepciones previstas de forma taxativa en la ley (Artículo 2.2.1.1.1.5.1 del Drecreto 1082 de 2015). Se aclara que esta inscripción no se requiere para remitir cotización durante el estudio de mercado.
B53: 7 MESES INFO SUMINISTRADA | C53: 2168181148

Sheet MACRO 4_Eventuales
B8: COTIZACIÓN - TRANSPORTE PÚBLICO TERRESTRE AUTOMOTOR ESPECIAL - MACRO 4 (Sucre, Bolivar, Atlántico, Magdalena y Guajira)
B10: EMPRESA: | D10: ='MACRO 4_Permanente'!D10:H10 -> 0 | I10: NIT: | J10: ='MACRO 4_Permanente'!J10:M10 -> 0
B11: CONTACTO: | D11: ='MACRO 4_Permanente'!D11:H11 -> 0 | I11: CARGO: | J11: ='MACRO 4_Permanente'!J11:M11 -> 0
B12: E-MAIL: | D12: ='MACRO 4_Permanente'!D12:H12 -> 0 | I12: DIRECCIÓN | J12: ='MACRO 4_Permanente'!J12:M12 -> 0
B14: Instrucciones para el diligenciamiento del formato de cotización
B15: • Por favor diligenciar solo las celdas en AMARILLO. Se deben llenar todas las casillas. • Revisar todos los requerimientos que se exponen en el documento "Ficha de Condiciones Técnicas" y Anexos; y formular su cotización en concordancia con este. • Asignar precio en las celdas de las columnas denominadas "Valor del recorrido IDA/ VUELTA (con carro asignado a la Regiona), columnas "E, G, I y K", y en "Valor del recorrido IDA/VUELTA (con carro diferente al asignado a la Regional), columnas "F, H, J y L" • El valor de la cotización deber ser expresado en PESOS COLOMBIANOS CORRIENTES DE CADA AÑO (2015, 2016, 2017 y 2018), según corresponda. • Los valores unitarios deberán aproximarse por exceso o por defecto al entero más cercano. Si la cifra no está aproximada y aparece con centavos, el ICBF aproximará al entero inferior. • No modificar, agregar o quitar ningún ítem o sub-ítem. • El plazo de ejecución: 0,5 meses (11 días habiles) durante el 2015; 12 meses de cada año 2016 y 2017 (246 y 243 días hábiles respectivamente); y 6 meses del año 2018 (121 días hábiles).
B16: Nota (1): Los vehículos para recorridos eventuales deben cumplir con las mismas especificaciones técnicas de los vehículos asignados a cada regional Nota (5): Teniendo en cuenta la aprobación de vigencias futuras de la Entidad, el incremento anual debe ser máximo del 3%.
B20: COSTO TRAYECTOS INTERMUNICIPALES (Recorridos eventuales)
E22: 2015 | G22: 2016 | I22: 2017 | K22: 2018
B23: ORIGEN | C23: DESTINO | D23: TIPO DE VEHÍCULO (Nota 1) | E23: Valor del Recorrido IDA/VUELTA (Con carro asignado a la Regional) | F23: Valor del Recorrido IDA/VUELTA (Con carro diferente al asignado a la Regional) | G23: Valor del Recorrido IDA/VUELTA (Con carro asignado a la Regional) | H23: Valor del Recorrido IDA/VUELTA (Con carro diferente al asignado a la Regional) | I23: Valor del Recorrido IDA/VUELTA (Con carro asignado a la Regional) | J23: Valor del Recorrido IDA/VUELTA (Con carro diferente al asignado a la Regional) | K23: Valor del Recorrido IDA/VUELTA (Con carro asignado a la Regional) | L23: Valor del Recorrido IDA/VUELTA (Con carro diferente al asignado a la Regional)
E24: Precio unitario | F24: Precio unitario | G24: Precio unitario | H24: Precio unitario | I24: Precio unitario | J24: Precio unitario | K24: Precio unitario | L24: Precio unitario
B25: REGIONAL SUCRE
B26: Dirección Regional DIAGONAL 35 N32-31 MZ P LO 13 | C26: Centro Zonal Mojana Calle 11 # 4 - 59 | D26: Vehículos 4X4 o 4X2 cilindraje mínimo de 2000 C.C. 4 puertas con platón.
B27: REGIONAL BOLIVAR
B28: Dirección Regional CL 32B NO. 8A - 50 LA MATUNA PISOS 16 Y 17 | C28: Centro Zonal Turbaco KR 15 Nº 28 284 | D28: Vehículos 4X4 o 4X2 cilindraje mínimo de 2000 C.C. 4 puertas con platón
C29: Centro Zonal El Carmen de Bolívar CL 25 N° 47 17
C30: Centro Zonal Magangué av. colombia c 15 n°.6-36 magangue
C31: Centro Zonal Mompox cl 19 n° 1 a 12
C32: Centro Zonal Simiti cl libertador c 11 n°20 35
B33: REGIONAL ATLÁNTICO
B34: Dirección Regional CARRERA 46 NO. 61-15 | C34: Centro Zonal Sabanagrande carrera 1b no. 2a-25 | D34: Vehículo 4X4 o 4X2 cilindraje mínimo de 2000 C.C. 4 puertas con platón.
C35: Centro Zonal Baranoa carrera 18 no. 19-20
C36: Centro Zonal Sabanalarga carrera. 18 no. 22 a- 53
B37: REGIONAL MAGDALENA
B38: Dirección Regional CARRERA 12 NO. 25-55 | C38: Centro Zonal Ciénaga cl 12 13 04 cienaga | D38: Vehículo 4X4 o 4X2 cilindraje mínimo de 2000 C.C. 4 puertas con platón
C39: Centro Zonal Fundación calle 12 no 7b- 04
C40: Centro Zonal del Rio-Pivijay calle 10 no. 13-62
C41: Centro Zonal Plato carrera 145a no.14, calle del cementerio
C42: Centro Zonal el Banco cl 5 9 60 el banco
C43: Centro Zonal Santa Ana kra. 5 sector Plaza de Boyaca-Santa Ana
B44: REGIONAL GUAJIRA
B45: Dirección Regional Calle 15 carrera 15 esquina, Avenida al aeropuerto | C45: Centro zonal Fonseca calle 13 salida a barrancas | D45: Vehículos 4X4 o 4X2 cilindraje mínimo de 2000 C.C. 4 puertas con platón.
C46: Centro zonal Manaure Calle 10 Carrera 5 Esquina
C47: Centro zonal Maicao calle 3 # 19-02
B49: La presente cotización:
B50: • Incluye todos los costos y gastos directos e indirectos en que debe incurrir el contratista durante la ejecución del contrato de acuerdo con las especificaciones de la Ficha de Condiciones Técnicas, las obligaciones tributarias de acuerdo con las normas aplicables para el tipo de servicio y contrato correspondiente, y los costos de las pólizas. • Se remite como parte del estudio de mercado, previo a la contratación, y no implica ninguna obligación de contratar. • Tiene una vigencia de 90 dias a partir de la fecha de diligenciamiento.
B51: Inscripción en el Registro Único de Proponentes: Las personas naturales y jurídicas, nacionales o extranjeras, con domicilio en Colombia, interesadas en participar en procesos de contratación convocados por las entidades estatales, deben estar inscritas en el RUP, salvo las excepciones previstas de forma taxativa en la ley (Artículo 2.2.1.1.1.5.1 del Drecreto 1082 de 2015). Se aclara que esta inscripción no se requiere para remitir cotización durante el estudio de mercado.

Sheet MACRO 5_Permanente
B8: COTIZACIÓN - TRANSPORTE PÚBLICO TERRESTRE AUTOMOTOR ESPECIAL - MACRO 5 (Santander, Norte de Santander, Cesar y Boyacá)
B10: EMPRESA: | I10: NIT: | N10: FECHA:
B11: CONTACTO: | I11: CARGO: | N11: CELULAR:
B12: E-MAIL: | I12: DIRECCIÓN | N12: TEL. FIJO:
B14: Instrucciones para el diligenciamiento del formato de cotización
B15: • Por favor diligenciar solo las celdas en AMARILLO. Se deben llenar todas las casillas. • Revisar todos los requerimientos que se exponen en el documento "Ficha de Condiciones Técnicas" y Anexos; y formular su cotización en concordancia con este. • Asignar precio sin incluir el IVA en las celdas de las columnas denominadas "Precio unitario diario (recorrido mañana y tarde), columnas "G, I, K y M" • El valor de la cotización deber ser expresado en PESOS COLOMBIANOS CORRIENTES DE CADA AÑO (2015, 2016, 2017 y 2018), según corresponda. • Los valores unitarios deberán aproximarse por exceso o por defecto al entero más cercano. Si la cifra no está aproximada y aparece con centavos, el ICBF aproximará al entero inferior. • No modificar, agregar o quitar ningún ítem o sub-ítem. • El plazo de ejecución: 0,5 meses (11 días habiles) durante el 2015; 12 meses de cada año 2016 y 2017 (246 y 243 días hábiles respectivamente); y 6 meses del año 2018 (121 días hábiles).
B16: Nota (1): Estas rutas son NOCTURNAS, y únicamente hace 1 (un) recorrido por día. Nota (2): Teniendo en cuenta que las empresas manejan diferentes vehículos con diferentes capacidades, por favor diligenciar la capacidad real de la ruta que se cotiza. Nota (3): La capacidad minima de ocupantes no incluye el conductor. Nota (4); Corresponde a vehículos con disponibilidad de servicio 24 horas en jornada continua. Nota (5): Teniendo en cuenta la aprobación de vigencias futuras de la Entidad, el incremento anual debe ser máximo del 3%.
B18: Año | D18: 2015 | E18: 2016 | F18: 2017 | G18: 2018
B19: Días hábiles por año : | D19: 11 | E19: 246 | F19: 243 | G19: 121
B20: Plazo de ejecución ( Meses) | D20: 0.5 | E20: 12 | F20: 12 | G20: 6
G22: 2015 | I22: 2016 | K22: 2017 | M22: 2018 | O22: TOTAL PERIODO
B23: Concepto | C23: Sedes | D23: Cantidad de pasajeros | E23: Capacidad de pasajeros real cotizada (nota 2) | F23: Cantidad | G23: Precio unitario diario (recorrido mañana y tarde) | H23: Precio total vigencia | I23: Precio unitario diario (recorrido mañana y tarde) | J23: Precio total vigencia | K23: Precio unitario diario (recorrido mañana y tarde) | L23: Precio total vigencia | M23: Precio unitario diario (recorrido mañana y tarde) | N23: Precio total vigencia | O23: Modalidad: Rutas 2015 - 2018
B24: 1.Modalidad Rutas (Modelos superiores al año 2012) | C24: Santander | D24: 25 | F24: 1 | H24: =ROUND(G24*F24*$D$19,0) -> 0 | J24: =$E$19*I24*F24 -> 0 | L24: =$F$19*K24*F24 -> 0 | N24: =M24*$G$19*F24 -> 0 | O24: =H24+J24+L24+N24 -> 0
