Workbook
Name Decision: [1]lista!$A$6:$A$7
Name PARTICIPACION: [1]lista!$A$15:$A$17
Name Procedencia: [1]lista!$A$2:$A$3
Name tipo: [1]lista!$A$11:$A$13
Name x: [2]lista!$A$11:$A$13

Sheet INFO GENERAL Y FINANCIERA
B8: Formato Información General Y Financiera De Proveedores
B10: Ciudad | M10: Fecha Dd/mm/aa | AD10: Persona Natural
AD11: Persona Jurídica
B12: 1. Información General
B13: 1.1. Identificación.
B14: Personas naturales | F14: Nombre Comercial | U14: Nombres y Apellidos | AK14: Cédula
B16: Personas jurídicas | F16: Razón Social | U16: NIT | AK16: DV
B18: Dirección | U18: Teléfono | AD18: Fax | AK18: Ciudad
B20: Pagina Web | U20: Años de Constitución | AD20: Sector al que pertenece
B22: 1.2. Personas De Contacto
B23: Gerente General | K23: E-mail | U23: Teléfono | AD23: Ext. | AK23: Celular
B25: Director Comercial | K25: E-mail | U25: Teléfono | AD25: Ext. | AK25: Celular
B27: Asesor Comercial | K27: E-mail | U27: Teléfono | AD27: Ext. | AK27: Celular
B29: 1.3. Productos Y Servicios Inscritos En El Rup De Acuerdo Con El Unspsc
B30: Incluir Listado Con Breve Descripción De Los Productos Y/o Servicios Que Ofrece La Compañía, Registrados En El Rup (agregue Las Filas Necesarias) | AK30: Código de Naciones Unidas
B36: 1.4. Códigos CIIU | AK36: 1.5. Número De Empleados
B37: Código De Actividad | F37: Descripción Actividad Económica CIIU | AD37: Tarifa ICA
B41: 2. Información Financiera - A Diciembre 31 De 2013
B42: Nombre Del Indicador | M42: Cuenta | U42: Valores En Pesos | AD42: Indicador
B43: Capacidad Financiera | F43: índice De Liquidez | M43: Activo Corriente --> | AD43: =+IFERROR(U43/U44,0) -> 0 | AK43: Veces
M44: Pasivo Corriente -->
F45: Índice De Endeudamiento | M45: Pasivo Total--> | AD45: =+IFERROR(U45/U46,0) -> 0 | AK45: Porcentaje
M46: Activo Total-->
F47: Razón De Cobertura De Intereses | M47: Utilidad Operacional--> | AD47: =+IFERROR(U47/U48,0) -> 0 | AK47: Veces
M48: Gastos De Interés-->
F49: Capital de Trabajo | M49: Activo Corriente--> | AD49: =+U49-U50 -> 0 | AK49: Pesos
M50: Pasivo corriente-->
B51: Capacidad Organizacional | F51: Rentabilidad Del Patrimonio | M51: Utilidad Operacional--> | AD51: =+IFERROR(U51/U52,0) -> 0 | AK51: Porcentaje
M52: Patrimonio-->
F53: Rentabilidad Del Activo | M53: Utilidad Operacional--> | AD53: =+IFERROR(U53/U54,0) -> 0 | AK53: Porcentaje
M54: Activo Total-->
B55: Nota: Para las empresas inspeccionadas, vigiladas o controladas por la Supersociedades, la información consignada en este numeral será validada con la reportada a la Supersociedades y disponible para consulta en Internet mediante el Sistema de Información y Riesgo Empresarial de la Supersociedades (SIREM). Si se evidencian diferencias en los valores consignados en este formato y los reportados a la Supersociedades se tomará como referencia la información del SIREM.
B56: Otra información relevante de la empresa (consigne en este espacio otra información que considere de interés)

Sheet TIQUETES
B10: COTIZACIÓN- TIQUETES AEREOS NIVEL NACIONAL 2015
B13: EMPRESA: | F13: NIT: | I13: FECHA:
B14: CONTACTO | F14: CARGO: | I14: TEL. CELULAR :
B15: E-MAIL: | F15: DIRECCIÓN: | I15: TELEFONO FIJO:
B17: Instrucciones para el diligenciamiento del formato de cotización
B18: • Por favor diligenciar solo las celdas en AMARILLO. Se deben llenar todas las casillas. • Revisar todos los requerimientos que se exponen en el documento "Ficha de Condiciones Técnicas" y Anexos; y formular su cotización en concordancia con este. • Asignar precio sin incluir el IVA en las celdas de la columnas "D, F,G,H,I,J" y asignar la tarifa de IVA que corresponda en las celdas de la columna "C". • El valor de la cotización deber ser expresado en PESOS COLOMBIANOS. • Los valores unitarios deberán aproximarse por exceso o por defecto al entero más cercano. Si la cifra no está aproximada y aparece con centavos, el ICBF aproximará al entero inferior. • No modificar, agregar o quitar ningún ítem o sub-ítem.
B19: Nota(1): Las Tarifas estan sujetas a cambios y disponibilidad al momento de reservar Nota(2): los precios cotizados deber corresponder a la vigencia 2015 Nota(3): Por favor incluir el costo de todas las tarifas requeridas. Nota (4): Por favor tener en cuenta que algunos itinerarios cuentan con ida y regreso, otros unicamente un trayecto. Nota (5): Si su tarifa de expedición de tiquete es 0 por favor indicar "0" en la celda D25 o D26, para tiquetes nacionales o internacionales. Nota (6): Para dimensionar la cantidad de tiquetes requeridos por favor tenga en cuanta la proyección de tiquetes relacionados en la hoja "PROYECCIÓN DE TIQUETES 2015"
B21: Cuenta con el Sistema de información de aplicación web, el cual se detalla en el numeral 6.9 "Sistema de Información en linea y tiempo real" del documento Ficha de Condiciones Técnicas" (Por favor escoger de la lista desplegable Si o No)
B23: Cuadro No. 1
B24: Tarifa expedición de tiquetes | D24: Valor Tarifa sin IVA | E24: IVA | F24: Tarifa total
B25: Tiquetes nacionales | F25: =D25+E25 -> 0
B26: Tiquetes internacionales | F26: =D26+E26 -> 0
B28: Cuadro No.2
B29: RUTA | C29: TARIFA IVA (%) | D29: COSTO UNITARIO TIQUETE SIN IVA | E29: VALOR TIQUETE IVA INCLUIDO | F29: TARIFA EXPEDICION TIQUETE (De acuerdo con el cuadro No. 1) | G29: TARIFA ADMINISTRATIVA (Res. 3596/06) | H29: TASA AEROPORTUARIA | I29: CARGO POR COMBUSTIBLE NACIONAL/ INTERNACIONAL | J29: OTROS IMPUESTOS TIQUETES INTERNACIONALES | K29: COSTO TOTAL TIQUETE (Unitario, Incluido Impuestos)
B30: Apartado - Medellin | E30: =+ROUND(D30*(1+$C30),0) -> 0 | F30: =+$D$25 -> 0 | K30: =SUM(E30:J30) -> 0
B31: Apartado - Medellin - Apartado | E31: =+ROUND(D31*(1+$C31),0) -> 0 | F31: =+$D$25 -> 0 | K31: =SUM(E31:J31) -> 0
B32: Apartado-Bogotá-Apartado | E32: =+ROUND(D32*(1+$C32),0) -> 0 | F32: =+$D$25 -> 0 | K32: =SUM(E32:J32) -> 0
B33: Apartado-Cali-Apartado | E33: =+ROUND(D33*(1+$C33),0) -> 0 | F33: =+$D$25 -> 0 | K33: =SUM(E33:J33) -> 0
B34: Apartado-Manizales-Apartado | E34: =+ROUND(D34*(1+$C34),0) -> 0 | F34: =+$D$25 -> 0 | K34: =SUM(E34:J34) -> 0
B35: Apartado-Medellin-Apartado | E35: =+ROUND(D35*(1+$C35),0) -> 0 | F35: =+$D$25 -> 0 | K35: =SUM(E35:J35) -> 0
B36: Apartado-Quibdo-Apartado | E36: =+ROUND(D36*(1+$C36),0) -> 0 | F36: =+$D$25 -> 0 | K36: =SUM(E36:J36) -> 0
B37: Arauca - Bogotá | E37: =+ROUND(D37*(1+$C37),0) -> 0 | F37: =+$D$25 -> 0 | K37: =SUM(E37:J37) -> 0
B38: Arauca - Cucuta | E38: =+ROUND(D38*(1+$C38),0) -> 0 | F38: =+$D$25 -> 0 | K38: =SUM(E38:J38) -> 0
B39: Armenia - Bogotá | E39: =+ROUND(D39*(1+$C39),0) -> 0 | F39: =+$D$25 -> 0 | K39: =SUM(E39:J39) -> 0
B40: Armenia - Pasto | E40: =+ROUND(D40*(1+$C40),0) -> 0 | F40: =+$D$25 -> 0 | K40: =SUM(E40:J40) -> 0
B41: Armenia- Bogta | E41: =+ROUND(D41*(1+$C41),0) -> 0 | F41: =+$D$25 -> 0 | K41: =SUM(E41:J41) -> 0
... B108: Bogotá-Armenia-Bogotá | E108: =+ROUND(D108*(1+$C108),0) -> 0 | F108: =+$D$25 -> 0 | K108: =SUM(E108:J108) -> 0
B109: Bogotá-Asuncion-Bogotá | E109: =+ROUND(D109*(1+$C109),0) -> 0 | F109: =+D26 -> 0 | K109: =SUM(E109:J109) -> 0
B110: Bogotá-Barrancabermeja-Bogotá | E110: =+ROUND(D110*(1+$C110),0) -> 0 | F110: =+$D$25 -> 0 | K110: =SUM(E110:J110) -> 0
B111: Bogotá-BarrancodeLobaySanMartíndeLoba-Bogotá | E111: =+ROUND(D111*(1+$C111),0) -> 0 | F111: =+$D$25 -> 0 | K111: =SUM(E111:J111) -> 0
B112: Bogotá-Barranquilla-Bogotá | E112: =+ROUND(D112*(1+$C112),0) -> 0 | F112: =+$D$25 -> 0 | K112: =SUM(E112:J112) -> 0
B113: Bogotá-Barranquilla-Santamarta-Bogotá | E113: =+ROUND(D113*(1+$C113),0) -> 0 | F113: =+$D$25 -> 0 | K113: =SUM(E113:J113) -> 0
B114: Bogotá-Brasilia-Bogotá | E114: =+ROUND(D114*(1+$C114),0) -> 0 | F114: =+D26 -> 0 | K114: =SUM(E114:J114) -> 0
B115: Bogotá-Bucaramanga | E115: =+ROUND(D115*(1+$C115),0) -> 0 | F115: =+$D$25 -> 0 | K115: =SUM(E115:J115) -> 0
B116: Bogotá-Bucaramanga-Bogotá | E116: =+ROUND(D116*(1+$C116),0) -> 0 | F116: =+$D$25 -> 0 | K116: =SUM(E116:J116) -> 0
B117: Bogotá-Buenaventura-Bogotá | E117: =+ROUND(D117*(1+$C117),0) -> 0 | F117: =+$D$25 -> 0 | K117: =SUM(E117:J117) -> 0
B118: Bogotá-Buenos Aires-Bogotá | E118: =+ROUND(D118*(1+$C118),0) -> 0 | F118: =+D26 -> 0 | K118: =SUM(E118:J118) -> 0
B119: Bogotá-Cali-Bogotá | E119: =+ROUND(D119*(1+$C119),0) -> 0 | F119: =+$D$25 -> 0 | K119: =SUM(E119:J119) -> 0
B120: Bogotá-Cali-Tumaco-Cali-Bogotá | E120: =+ROUND(D120*(1+$C120),0) -> 0 | F120: =+$D$25 -> 0 | K120: =SUM(E120:J120) -> 0
B121: Bogotá-Cartagena-Bogotá | E121: =+ROUND(D121*(1+$C121),0) -> 0 | F121: =+$D$25 -> 0 | K121: =SUM(E121:J121) -> 0
...

Sheet PROYECCIÓN TIQUETES 2015
A1: SEDE NACIONAL Y REGIONALES
A2: ITINERARIO | B2: Cantidad de tiquetes requeridos
A3: Cali -Choco | B3: 4 | D3: Cali -Choco | E3: 4
A4: Manizales - San Andrés | B4: 3 | D4: Manizales - San Andrés | E4: 3
A5: San Andrés - Cali | B5: 4 | D5: San Andrés - Cali | E5: 4
A6: San Andrés - Providencia | B6: 110 | D6: San Andrés - Providencia | E6: 110
A7: San Andrés - San jose del Guaviare De Costa Rica | B7: 1 | D7: San Andrés - San jose del Guaviare De Costa Rica | E7: 1
A8: Apartado - Medellin | B8: 20 | D8: Apartado - Medellin | E8: 20
A9: Apartado - Medellin - Apartado | B9: 17 | D9: Apartado - Medellin - Apartado | E9: 17
A10: Apartado-Bogotá-Apartado | B10: 3 | D10: Apartado-Bogotá-Apartado | E10: 3
A11: Apartado-Cali-Apartado | B11: 2 | D11: Apartado-Cali-Apartado | E11: 2
A12: Apartado-Manizales-Apartado | B12: 2 | D12: Apartado-Manizales-Apartado | E12: 2
A13: Apartado-Medellin-Apartado | B13: 6 | D13: Apartado-Medellin-Apartado | E13: 6
A14: Apartado-Quibdo-Apartado | B14: 6 | D14: Apartado-Quibdo-Apartado | E14: 6
... A21: Armenia-Bogotá-Armenia | B21: 60 | D21: Armenia-Bogotá-Armenia | E21: 60
A22: Armenia-Medellin-Armenia | B22: 16
A23: Armenia-mitu-Armenia | B23: 4 | D23: Armenia-Medellin-Armenia | E23: 16
A24: Armenia-puerto Carreño-Armenia | B24: 4 | D24: Armenia-mitu-Armenia | E24: 4
A25: Armenia-Puerto Inrida-Armenia | B25: 4 | D25: Armenia-puerto Carreño-Armenia | E25: 4
A26: Armenia-Sta Marta-Armenia | B26: 3 | D26: Armenia-Puerto Inrida-Armenia | E26: 4
A27: Armenia-Villavicencio-Armenia | B27: 5 | D27: Armenia-Sta Marta-Armenia | E27: 3
A28: Bahia Solano-Cali-Bahia Solano | B28: 3 | D28: Armenia-Villavicencio-Armenia | E28: 5
A29: Bahia Solano-Manizales-Bahia Solano | B29: 4
A30: Bahia Solano-Medellin-Bahia Solano | B30: 6 | D30: Bahia Solano-Cali-Bahia Solano | E30: 3
A31: Bahia Solano-Quibdo-Bahia Solano | B31: 17 | D31: Bahia Solano-Manizales-Bahia Solano | E31: 4
A32: Baranquilla- Riohacha - Barranquilla | B32: 6 | D32: Bahia Solano-Medellin-Bahia Solano | E32: 6
A33: Barranquilla - Bogotá | B33: 2 | D33: Bahia Solano-Quibdo-Bahia Solano | E33: 17
A34: Barranquilla - Bogotá - Barranquilla | B34: 102 | D34: Baranquilla- Riohacha - Barranquilla | E34: 6
A35: Barranquilla - Bucaramanga | B35: 15 | D35: Barranquilla - Bogotá | E35: 2
A36: Barranquilla - Cartagena - Barranquilla | B36: 6 | D36: Barranquilla - Bogotá - Barranquilla | E36: 102
A37: Barranquilla - San jose del Guaviare Del Guaviare | B37: 5 | D37: Barranquilla - Bucaramanga | E37: 15
A38: Barranquilla - Villavicencio | B38: 2
A39: Barranquilla- Bogotá-Ibague | B39: 2 | D39: Barranquilla - Cartagena - Barranquilla | E39: 6
A40: Barraquilla-Pasto | B40: 3 | D40: Barranquilla - San jose del Guaviare Del Guaviare | E40: 5
A41: Bogotá - Manizales | B41: 7
A42: Bogotá - Pasto | B42: 2 | D42: Barranquilla - Villavicencio | E42: 2
A43: Bogotá - Tumaco | B43: 5 | D43: Barranquilla- Bogotá-Ibague | E43: 2
A44: Bogotá - Arauca | B44: 60 | D44: Barraquilla-Pasto | E44: 3
A45: Bogotá - Armenia | B45: 2 | D45: Bogotá - Ibagué | E45: 7
A46: Bogotá - Barranquilla | B46: 9 | D46: Bucaramanga - Bogotá | E46: 1
...

Sheet ESTADISTICAS 2014
A2: ESTADISTICA DE TIQUETES ENERO A NOVIEMBRE DE 2014
A4: Rutas | B4: Febrero | C4: Marzo | D4: Abril | E4: Mayo | F4: Junio | G4: Julio | H4: Agosto | I4: Septiembre | J4: Octubre | K4: Noviembre | L4: Total general
A5: Apartado-Medellin | C5: 1 | F5: 1 | L5: 2
A6: Apartado-Medellin-Bogota | B6: 3 | L6: 3
A7: Arauca-Bogota | D7: 1 | E7: 2 | L7: 3
A8: Armenia-Bogota-Armenia | I8: 1 | J8: 1 | L8: 2
A9: BahiaSolano-Medellin-Bogota | C9: 1 | L9: 1
A10: Barranquilla-Bogota | B10: 2 | C10: 6 | D10: 2 | E10: 2 | G10: 1 | J10: 3 | K10: 5 | L10: 21
A11: Barranquilla-Bogota-Barranquilla | J11: 1 | L11: 1
A12: Barranquilla-Bogota-Barranquilla-Bogota | J12: 1 | L12: 1
A13: Bogota-Apartado | F13: 1 | L13: 1
A14: Bogota-Apartado-Bogota | B14: 1 | L14: 1
A15: Bogota-Arauca | B15: 1 | E15: 2 | L15: 3
A16: Bogota-Arauca-Bogota | C16: 10 | D16: 13 | E16: 8 | F16: 6 | G16: 5 | H16: 2 | I16: 4 | J16: 7 | K16: 7 | L16: 62
A17: Bogota-Armenia-Bogota | B17: 3 | C17: 11 | D17: 5 | E17: 5 | F17: 1 | G17: 5 | H17: 6 | I17: 3 | J17: 17 | K17: 12 | L17: 68
A18: Bogota-Armenia-Manizales-Bogota | G18: 1 | L18: 1
A19: Bogota-Armenia-Pereira-Bogota | C19: 2 | G19: 1 | L19: 3
A20: Bogota-BahiaSolano-Bogota | B20: 2 | L20: 2
A21: Bogota-Barrancabermeja-Bogota | C21: 1 | E21: 11 | F21: 3 | H21: 1 | I21: 1 | J21: 6 | L21: 24
A22: Bogota-Barrancabermeja-Bucaramanga-Bogota | D22: 1 | L22: 1
A23: Bogota-Barranquilla | B23: 1 | C23: 5 | G23: 1 | J23: 2 | K23: 1 | L23: 10
A24: Bogota-Barranquilla-Bogota | B24: 6 | C24: 29 | D24: 11 | E24: 20 | F24: 14 | G24: 18 | H24: 3 | I24: 5 | J24: 24 | K24: 30 | L24: 165
A25: Bogota-Barranquilla-Cartagena-Bogota | C25: 1 | F25: 1 | L25: 4
A26: Bogota-Barranquilla-SantaMarta-Bogota | E26: 2 | K26: 1 | L26: 3
A27: Bogota-Bucaramanga | E27: 4 | G27: 1 | J27: 3 | K27: 4 | L27: 12
A28: Bogota-Bucaramanga-Bogota | B28: 6 | C28: 32 | D28: 3 | E28: 18 | F28: 23 | G28: 9 | H28: 5 | I28: 3 | J28: 22 | K28: 14 | L28: 139
A29: Bogota-Bucaramanga-Cucuta-Bogota | C29: 1 | D29: 1 | F29: 1 | I29: 1 | J29: 1 | L29: 6
A30: Bogota-Buenaventura | D30: 1 | L30: 1
A31: Bogotá-Buenaventura-Bogota | F31: 1 | L31: 1
A32: Bogota-Cali | B32: 1 | C32: 5 | D32: 4 | E32: 3 | F32: 1 | H32: 3 | J32: 8 | L32: 25
A33: Bogota-Cali-Bogota | B33: 16 | C33: 30 | D33: 14 | E33: 37 | F33: 25 | G33: 26 | H33: 6 | I33: 5 | J33: 59 | K33: 28 | L33: 261
A34: Bogota-Cali-Bogota-SantaMarta | K34: 1 | L34: 1
A35: Bogota-Cali-Pasto-Bogota | L35: 2
A36: Bogota-Cali-Popayan-Bogota | F36: 1 | L36: 2
A37: Bogota-Cali-Tumaco-Cali | D37: 2 | J37: 4 | L37: 7
A38: Bogota-Cali-Tumaco-Cali-Bogota | B38: 1 | C38: 10 | D38: 2 | E38: 2 | G38: 2 | H38: 2 | I38: 3 | J38: 3 | K38: 4 | L38: 29
A39: Bogota-Cali-Tumaco-Pasto-Bogota | K39: 3 | L39: 7
A40: Bogota-Cartagena | C40: 2 | E40: 8 | F40: 3 | G40: 1 | J40: 9 | K40: 7 | L40: 30
A41: Bogota-Cartagena-Barranquilla-Bogota | B41: 1 | E41: 2 | J41: 2 | L41: 5
A42: Bogota-Cartagena-Bogota | B42: 15 | C42: 15 | D42: 9 | E42: 22 | F42: 9 | G42: 8 | H42: 1 | I42: 4 | J42: 49 | K42: 18 | L42: 159
...

Sheet POLIZAS
B9: CONCEPTOS A TENER EN CUENTA PARA REALIZAR LA COTIZACIÓN DE DOTACIÓN INDUSTRIAL
B12: El presente cuadro es de carácter informativo, no se debe diligenciar. Sin embargo se entiende que la cotización incluye la totalidad de los conceptos relacionados a continuación.
B14: PÓLIZAS PARA LEGALIZACIÓN DEL CONTRATO
B16: CONCEPTO | D16: COBERTURA | E16: PLAZO (En Meses)
B17: Garantía de Seriedad de la oferta | D17: 0.1 | E17: Plazo de Ejecución
B18: Cumplimiento | D18: 0.2 | E18: Plazo de ejecución + 4 meses mas
B19: Salarios, Prestaciones | D19: 0.1 | E19: Plazo de ejecución + 36 meses mas
B20: Calidad de los Servicios | D20: 0.2 | E20: Plazo de ejecución + 4 meses mas
B21: Responsabilidad civil extracontractual | D21: 0.1 | E21: Plazo de Ejecución
B22: Cobertura: Corresponde al porcentaje del valor total del contrato a amparar.

Sheet INFO EXPERIENCIA
B8: EXPERIENCIA EN CONTRATACION EN LOS ULTIMOS 5 AÑOS
B9: EXPERIENCIA EN CONTRATACIÓN EN LOS ÚLTIMOS 5 AÑOS
B11: Empresa: | C11: =IF(TIQUETES!C13="","",TIQUETES!C13) | F11: Nit: | G11: =IF(TIQUETES!G13:H13="","",TIQUETES!G13:H13) | I11: Fecha: | J11: =IF(TIQUETES!J13="","",TIQUETES!J13)
B12: Contacto: | C12: =IF(TIQUETES!C14="","",TIQUETES!C14) | F12: Cargo: | G12: =IF(TIQUETES!G14:H14="","",TIQUETES!G14:H14) | I12: Tel. celular: | J12: =IF(TIQUETES!J14="","",TIQUETES!J14)
B13: E-Mail: | C13: =IF(TIQUETES!C15="","",TIQUETES!C15) | F13: Dirección: | G13: =IF(TIQUETES!G15:H15="","",TIQUETES!G15:H15) | I13: Tel. fijo: | J13: =IF(TIQUETES!J15="","",TIQUETES!J15)
B15: Con el fin de conocer la experiencia con la que cuentan las empresas del sector relacionada con el objeto del presente estudio de mercado, agradecemos diligenciar el cuadro que sigue con base en los contratos suscritos en los últimos 5 años, cuyos objetos están relacionados con el objeto del presente estudio de mercado
B17: Tipo de entidad | C17: Entidad o Empresa | D17: Numero del contrato | E17: Objeto del contrato | F17: Fecha de suscripción (dd/mmm/aa) | G17: Plazo de ejecución (en años) | H17: Forma de participación (UT, consorcio, individual) | I17: % de participación | J17: Valor total ejecutado del contrato (de acuerdo con el % de participación)
B29: Nota: Agregar las filas necesarias para reportar la experiencia
