Workbook
Name Decision: [1]lista!$A$6:$A$7
Name PARTICIPACION: [1]lista!$A$15:$A$17
Name Procedencia: [1]lista!$A$2:$A$3
Name tipo: [1]lista!$A$11:$A$13
Name x: [2]lista!$A$11:$A$13

Sheet INFO GENERAL Y FINANCIERA
B8: Formato Información General Y Financiera De Proveedores
B10: Ciudad | M10: Fecha Dd/mm/aa | AD10: Persona Natural
AD11: Persona Jurídica
B12: 1. Información General
B13: 1.1. Identificación.
B14: Personas naturales | F14: Nombre Comercial | U14: Nombres y Apellidos | AK14: Cédula
B16: Personas jurídicas | F16: Razón Social | U16: NIT | AK16: DV
B18: Dirección | U18: Teléfono | AD18: Fax | AK18: Ciudad
B20: Pagina Web | U20: Años de Constitución | AD20: Sector al que pertenece
B22: 1.2. Personas De Contacto
B23: Gerente General | K23: E-mail | U23: Teléfono | AD23: Ext. | AK23: Celular
B25: Director Comercial | K25: E-mail | U25: Teléfono | AD25: Ext. | AK25: Celular
B27: Asesor Comercial | K27: E-mail | U27: Teléfono | AD27: Ext. | AK27: Celular
B29: 1.3. Productos Y Servicios Inscritos En El Rup De Acuerdo Con El Unspsc
B30: Incluir Listado Con Breve Descripción De Los Productos Y/o Servicios Que Ofrece La Compañía, Registrados En El Rup (agregue Las Filas Necesarias) | AK30: Código de Naciones Unidas
B36: 1.4. Códigos CIIU | AK36: 1.5. Número De Empleados
B37: Código De Actividad | F37: Descripción Actividad Económica CIIU | AD37: Tarifa ICA
B41: 2. Información Financiera - A Diciembre 31 De 2013
B42: Nombre Del Indicador | M42: Cuenta | U42: Valores En Pesos | AD42: Indicador
B43: Capacidad Financiera | F43: índice De Liquidez | M43: Activo Corriente --> | AD43: =+IFERROR(U43/U44,0) -> 0 | AK43: Veces
M44: Pasivo Corriente -->
F45: Índice De Endeudamiento | M45: Pasivo Total--> | AD45: =+IFERROR(U45/U46,0) -> 0 | AK45: Porcentaje
M46: Activo Total-->
F47: Razón De Cobertura De Intereses | M47: Utilidad Operacional--> | AD47: =+IFERROR(U47/U48,0) -> 0 | AK47: Veces
M48: Gastos De Interés-->
B49: Capacidad Organizacional | F49: Rentabilidad Del Patrimonio | M49: Utilidad Operacional--> | AD49: =+IFERROR(U49/U50,0) -> 0 | AK49: Porcentaje
M50: Patrimonio-->
F51: Rentabilidad Del Activo | M51: Utilidad Operacional--> | AD51: =+IFERROR(U51/U52,0) -> 0 | AK51: Porcentaje
M52: Activo Total-->
B53: Nota: Para las empresas inspeccionadas, vigiladas o controladas por la Supersociedades, la información consignada en este numeral será validada con la reportada a la Supersociedades y disponible para consulta en Internet mediante el Sistema de Información y Riesgo Empresarial de la Supersociedades (SIREM). Si se evidencian diferencias en los valores consignados en este formato y los reportados a la Supersociedades se tomará como referencia la información del SIREM.
B54: Otra información relevante de la empresa (consigne en este espacio otra información que considere de interés)

Sheet TIQUETES
B10: COTIZACIÓN- TIQUETES AEREOS
B13: EMPRESA: | F13: NIT: | I13: FECHA:
B14: CONTACTO | F14: CARGO: | I14: TEL. CELULAR :
B15: E-MAIL: | F15: DIRECCIÓN: | I15: TELEFONO FIJO:
B17: Instrucciones para el diligenciamiento del formato de cotización
B18: • Por favor diligenciar solo las celdas en AMARILLO. Se deben llenar todas las casillas. • Revisar todos los requerimientos que se exponen en el documento "Ficha de Condiciones Técnicas" y Anexos; y formular su cotización en concordancia con este. • Asignar precio sin incluir el IVA en las celdas de la columnas "D, F,G,H,I,J" y asignar la tarifa de IVA que corresponda en las celdas de la columna "CY", para la tárifa expedición de tiquetes por favor asignar precio cin incluir IVA en las celdas de la columna "E" y asignar la tárifa IVA que corresponda a las celdas de la columna "D" • El valor de la cotización deber ser expresado en PESOS COLOMBIANOS. • Los valores unitarios deberán aproximarse por exceso o por defecto al entero más cercano. Si la cifra no está aproximada y aparece con centavos, el ICBF aproximará al entero inferior. • No modificar, agregar o quitar ningún ítem o sub-ítem.
B19: Nota(1): Las Tarifas estan sujetas a cambios y disponibilidad al momento de reservar
B21: Tarifa expedición de tiquetes | D21: IVA | E21: Tarifa sin IVA | F21: Tarifa total
B22: Tiquetes nacionales | F22: =D22+E22 -> 0
B23: Tiquetes internacionales | F23: =D23+E23 -> 0
B25: RUTA | C25: TARIFA IVA (%) | D25: COSTO UNITARIO TIQUETE SIN IVA | E25: VALOR TIQUETE IVA INCLUIDO | F25: TARIFA EXPEDICION TIQUETE (según tabla anterior) | G25: TARIFA ADMINISTRATIVA (Res. 3596/06) | H25: TASA AEROPORTUARIA | I25: CARGO POR COMBUSTIBLE NACIONAL/ INTERNACIONAL | J25: OTROS IMPUESTOS TIQUETES INTERNACIONALES | K25: COSTO TOTAL TIQUETE (Unitario, Incluido Impuestos)
B26: Apartado-Medellin-Bogota | E26: =+ROUND(D26*(1+$C26),0) -> 0 | K26: =SUM(E26:J26) -> 0
B27: Bogota-Apartado-Bogota | E27: =+ROUND(D27*(1+$C27),0) -> 0 | K27: =SUM(E27:J27) -> 0
B28: Bogota-Arauca-Bogota | E28: =+ROUND(D28*(1+$C28),0) -> 0 | K28: =SUM(E28:J28) -> 0
B29: Bogota-Armenia-Bogota | E29: =+ROUND(D29*(1+$C29),0) -> 0 | K29: =SUM(E29:J29) -> 0
B30: Bogota-Armenia-Pereira-Bogota | E30: =+ROUND(D30*(1+$C30),0) -> 0 | K30: =SUM(E30:J30) -> 0
B31: Bogota-BahiaSolano-Bogota | E31: =+ROUND(D31*(1+$C31),0) -> 0 | K31: =SUM(E31:J31) -> 0
B32: Bogota-Barrancabermeja-Bogota | E32: =+ROUND(D32*(1+$C32),0) -> 0 | K32: =SUM(E32:J32) -> 0
B33: Bogota-Barranquilla-Bogota | E33: =+ROUND(D33*(1+$C33),0) -> 0 | K33: =SUM(E33:J33) -> 0
B34: Bogota-Barranquilla-Cartagena-Bogota | E34: =+ROUND(D34*(1+$C34),0) -> 0 | K34: =SUM(E34:J34) -> 0
B35: Bogota-Bucaramanga-Arauca-Bogota | E35: =+ROUND(D35*(1+$C35),0) -> 0 | K35: =SUM(E35:J35) -> 0
B36: Bogota-Bucaramanga-Bogota | E36: =+ROUND(D36*(1+$C36),0) -> 0 | K36: =SUM(E36:J36) -> 0
B37: Bogota-Buenaventura-Bogota | E37: =+ROUND(D37*(1+$C37),0) -> 0 | K37: =SUM(E37:J37) -> 0
... B87: Yopal-Bogota-Yopal | E87: =+ROUND(D87*(1+$C87),0) -> 0 | K87: =SUM(E87:J87) -> 0
B89: La presente cotización:
B90: • Incluye todos los costos y gastos directos e indirectos en que debe incurrir el contratista durante la ejecución del contrato de acuerdo con las especificaciones de la Ficha de Condiciones Técnicas, las obligaciones tributarias de acuerdo con las normas aplicables para el tipo de servicio y contrato correspondiente, y los costos de las pólizas. • Se remite como parte del estudio de mercado, previo a la contratación, y no implica ninguna obligación de contratar. • Tiene una vigencia de 90 dias a partir de la fecha de diligenciamiento.
B91: Inscripción en el Registro Único de Proponentes: Las personas naturales y jurídicas, nacionales o extranjeras, con domicilio en Colombia, interesadas en participar en procesos de contratación convocados por las entidades estatales, deben estar inscritas en el RUP, salvo las excepciones previstas de forma taxativa en la ley (Artículo 8 del Decreto 1510 de 2013). Se aclara que esta inscripción no se requiere para remitir cotización durante el estudio de mercado.

Sheet Estadisticas 2013
A1: ANEXO N° 1 ESTADISTICAS 2013
A2: ESTADISTICA PARA COTIZACIÓN TIQUETES 2013
B3: MESES
A4: Trayectos | B4: Enero | C4: Febrero | D4: Marzo | E4: Abril | F4: Mayo | G4: Junio | H4: Julio | I4: Agosto | J4: Septiembre | K4: Octubre | L4: Noviembre | M4: Diciembre | N4: Total general
A5: Apartado-Bogota | H5: 1 | J5: 8 | N5: 9
A6: Apartado-Medellin | F6: 1 | L6: 2 | N6: 3
A7: Arauca-Bogota | D7: 2 | E7: 2 | F7: 1 | G7: 1 | K7: 1 | N7: 7
A8: Arauca-Bogota-Arauca | D8: 1 | N8: 1
A9: Armenia-Bogota | G9: 2 | J9: 4 | N9: 6
A10: Armenia-Bogota-Armenia | D10: 2 | N10: 2
A11: Armenia-Bogota-Medellin | F11: 1 | N11: 1
A12: BahiaSolano-Bogota | F12: 1 | G12: 1 | N12: 2
A13: BahiaSolano-Medellin | F13: 1 | K13: 1 | N13: 2
A14: BahiaSolano-Medellin-Quibdo | K14: 1 | N14: 1
A15: Barrancabermeja-Bogota | H15: 4 | I15: 2 | J15: 2 | N15: 8
A16: Barranquilla-Bogota | B16: 1 | J16: 3 | N16: 4
A17: Barranquilla-Bogota-Barranquilla | D17: 1 | N17: 1
A18: Barranquilla-Medellin | B18: 1 | N18: 1
A19: Barranquilla-Monteria | H19: 1 | N19: 1
A20: Bogota Santamarta | K20: 1 | N20: 1
A21: Bogota-Apartado | F21: 1 | N21: 1
A22: Bogota-Apartado-Bogota | B22: 2 | E22: 1 | F22: 7 | G22: 1 | I22: 2 | J22: 4 | N22: 17
A23: Bogota-Arauca | E23: 1 | F23: 1 | G23: 1 | K23: 2 | N23: 5
A24: Bogota-Arauca-Bogota | B24: 7 | D24: 1 | E24: 4 | F24: 12 | G24: 10 | H24: 5 | I24: 15 | J24: 9 | K24: 6 | L24: 1 | M24: 1 | N24: 71
A25: Bogota-Armenia | G25: 1 | I25: 1 | J25: 3 | N25: 5
A26: Bogota-Armenia-Bogota | B26: 2 | C26: 1 | D26: 17 | E26: 6 | F26: 23 | G26: 20 | H26: 22 | I26: 23 | J26: 74 | K26: 22 | L26: 13 | M26: 1 | N26: 224
A27: Bogota-Armenia-Manizales-Bogota | J27: 1 | N27: 1
A28: Bogota-Barrancabermeja | E28: 3 | H28: 4 | N28: 7
A29: Bogota-Barrancabermeja-Bogota | C29: 1 | D29: 1 | E29: 3 | F29: 5 | G29: 5 | I29: 4 | J29: 6 | N29: 25
A30: Bogota-Barranquilla | E30: 1 | J30: 3 | N30: 4
A31: Bogota-Barranquilla-Bogota | B31: 11 | C31: 24 | D31: 34 | E31: 38 | F31: 24 | G31: 30 | H31: 39 | I31: 38 | J31: 42 | K31: 35 | L31: 29 | M31: 8 | N31: 352
A32: Bogota-Barranquilla-Cartagena-Bogota | J32: 1 | N32: 1
A33: Bogota-Barranquilla-Santamarta-Bogota | D33: 1 | N33: 1
A34: Bogota-Brasil-Bogota | I34: 1 | N34: 1
A35: Bogota-Brasilia-Bogota | D35: 1 | H35: 2 | K35: 1 | N35: 4
A36: Bogota-Bucaramanga | E36: 1 | F36: 1 | G36: 1 | K36: 1 | M36: 2 | N36: 6
A37: Bogota-Bucaramanga-Bogota | B37: 1 | C37: 8 | D37: 21 | E37: 17 | F37: 26 | G37: 28 | H37: 18 | I37: 44 | J37: 25 | K37: 42 | L37: 23 | M37: 10 | N37: 263
A38: Bogota-Bucaramanga-Cucuta-Bogota | F38: 1 | N38: 1
A39: Bogota-Buenaventura | F39: 1 | G39: 1 | H39: 2 | I39: 2 | L39: 4 | M39: 1 | N39: 11
A40: Bogota-Buenaventura-Bogota | E40: 1 | F40: 1 | I40: 1 | N40: 3
...

Sheet PROYECCIÓN 2014
A1: PROYECCIÓN TIQUETES SEPT-DIC 2014
A2: Trayectos | B2: No. de trayecto
A3: Apartado-Medellin-Bogota | B3: 9
A4: Bogota-Apartado-Bogota | B4: 26
A5: Bogota-Arauca-Bogota | B5: 17
A6: Bogota-Armenia-Bogota | B6: 42
A7: Bogota-Armenia-Pereira-Bogota | B7: 6
A8: Bogota-BahiaSolano-Bogota | B8: 16
A9: Bogota-Barrancabermeja-Bogota | B9: 46
A10: Bogota-Barranquilla-Bogota | B10: 92
A11: Bogota-Barranquilla-Cartagena-Bogota | B11: 12
A12: Bogota-Bucaramanga-Arauca-Bogota | B12: 8
A13: Bogota-Bucaramanga-Bogota | B13: 63
A14: Bogota-Buenaventura-Bogota | B14: 21
... A35: Bogota-Neiva-Florencia-Bogota | B35: 13
A36: Bogota-Pasto-Bogota | B36: 52 | J36: =836/4 -> 209
A37: Bogota-Pereira-Armenia-Bogota | B37: 28
A38: Bogota-Pereira-Bogota | B38: 63
A39: Bogota-Popayan-Bogota | B39: 54
A40: Bogota-Popayan-Cali-Bogota | B40: 13
A41: Bogota-PuertoCarreño | B41: 15
A42: Bogota-PuertoCarreño-Bogota | B42: 26
A43: Bogota-PuertoInirida-Bogota | B43: 14
A44: Bogota-Putumayo-Bogota | B44: 19
A45: Bogota-Quibdo-Bogota | B45: 38
A46: Bogota-Rioacha-Bogota | B46: 47
A47: Bogota-Rioacha-SantaMarta-Bogota | B47: 6
A48: Bogota-SanAndrés-Bogota | B48: 48
... A64: Yopal-Bogota-Yopal | B64: 13
A65: Total general | B65: =SUM(B3:B64) -> 2093

Sheet POLIZAS
B9: CONCEPTOS A TENER EN CUENTA PARA REALIZAR LA COTIZACIÓN DE DOTACIÓN INDUSTRIAL
B12: El presente cuadro es de carácter informativo, no se debe diligenciar. Sin embargo se entiende que la cotización incluye la totalidad de los conceptos relacionados a continuación.
B14: PÓLIZAS PARA LEGALIZACIÓN DEL CONTRATO
B16: CONCEPTO | D16: COBERTURA | E16: PLAZO (En Meses)
B17: Garantía de Seriedad de la oferta | D17: 0.1 | E17: Plazo de Ejecución
B18: Cumplimiento | D18: 0.2 | E18: Plazo de ejecución + 4 meses mas
B19: Salarios, Prestaciones | D19: 0.1 | E19: Plazo de ejecución + 36 meses mas
B20: Calidad de los Servicios | D20: 0.2 | E20: Plazo de ejecución + 4 meses mas
B21: Responsabilidad civil extracontractual | D21: 0.1 | E21: Plazo de Ejecución
B22: Cobertura: Corresponde al porcentaje del valor total del contrato a amparar.

Sheet INFO EXPERIENCIA
B8: EXPERIENCIA EN CONTRATACION EN LOS ULTIMOS 5 AÑOS
B9: EXPERIENCIA EN CONTRATACIÓN EN LOS ÚLTIMOS 5 AÑOS
B11: Empresa: | C11: =IF(TIQUETES!C13="","",TIQUETES!C13) | F11: Nit: | G11: =IF(TIQUETES!G13:H13="","",TIQUETES!G13:H13) | I11: Fecha: | J11: =IF(TIQUETES!J13="","",TIQUETES!J13)
B12: Contacto: | C12: =IF(TIQUETES!C14="","",TIQUETES!C14) | F12: Cargo: | G12: =IF(TIQUETES!G14:H14="","",TIQUETES!G14:H14) | I12: Tel. celular: | J12: =IF(TIQUETES!J14="","",TIQUETES!J14)
B13: E-Mail: | C13: =IF(TIQUETES!C15="","",TIQUETES!C15) | F13: Dirección: | G13: =IF(TIQUETES!G15:H15="","",TIQUETES!G15:H15) | I13: Tel. fijo: | J13: =IF(TIQUETES!J15="","",TIQUETES!J15)
B15: Con el fin de conocer la experiencia con la que cuentan las empresas del sector relacionada con el objeto del presente estudio de mercado, agradecemos diligenciar el cuadro que sigue con base en los contratos suscritos en los últimos 5 años, cuyos objetos están relacionados con el objeto del presente estudio de mercado
B17: Tipo de entidad | C17: Entidad o Empresa | D17: Numero del contrato | E17: Objeto del contrato | F17: Fecha de suscripción (dd/mmm/aa) | G17: Plazo de ejecución (en años) | H17: Forma de participación (UT, consorcio, individual) | I17: % de participación | J17: Valor total ejecutado del contrato (de acuerdo con el % de participación)
B29: Nota: Agregar las filas necesarias para reportar la experiencia
