Workbook
Name Decision: [1]lista!$A$6:$A$7
Name Decision: [2]lista!$A$6:$A$7
Name PARTICIPACION: [1]lista!$A$15:$A$17
Name PARTICIPACION: [2]lista!$A$15:$A$17
Name Procedencia: [1]lista!$A$2:$A$3
Name Procedencia: [2]lista!$A$2:$A$3
Name tipo: [1]lista!$A$11:$A$13
Name tipo: [2]lista!$A$11:$A$13
Name x: [3]lista!$A$11:$A$13
Name x: [4]lista!$A$11:$A$13

Sheet COTIZACION
B10: COTIZACIÓN - TELEFONÍA IP
B12: EMPRESA | G12: NIT: | K12: FECHA:
B13: CONTACTO | G13: CARGO: | K13: TEL. CELULAR :
B14: E-MAIL: | G14: DIRECCIÓN: | K14: TELEFONO FIJO:
B16: Instrucciones para el diligenciamiento del formato de cotización
B17: • Por favor diligenciar solo las celdas en AMARILLO. • Revisar todos los requerimientos que se exponen en el documento "Ficha de Condiciones Técnicas Escenciales para la Prestación del Servicio y/o Entrega del Bien" (FCT) y Anexos; y formular su cotización en concordancia con este, garantizando que los bienes y/o servicios ofrecidos cumplan en su totalidad con las especificaciones técnicas descritas en la FCT. • Asignar precio sin incluir el IVA en las celdas de la columna "Valor unitario antes de IVA" y asignar la tarifa de IVA que corresponda en las celdas de la columna "Tarifa IVA%". • El valor de la cotización deber ser expresado en PESOS COLOMBIANOS. • Los valores unitarios deberán aproximarse por exceso o por defecto al entero más cercano. Si la cifra no está aproximada y aparece con centavos, el ICBF aproximará al entero inferior. • No modificar, agregar o quitar ningún ítem o sub-ítem.
B18: Notas: (1) Se estima el plazo de ejecución en 4 meses, teniendo en cuenta el tiempo requerido para elaborar estudios previos y adelantar el proceso de selección. De igual forma se considera que en la FCT se establece el plazo de ejecución hasta el 31 de diciembre de 2015
B20: Plazo de ejecución (meses) (1) | F20: 4
B22: Cuadro No. 1: Ampliacion de la Solucion Telefonica IP, bolsa de repuestos requeridos frecuentemente
B23: Item | C23: Item | D23: Elementos | G23: Cantidad | H23: Tarifa IVA | I23: Valor unitario sin IVA | J23: Valor unitario IVA incluido | K23: Valor Total sin IVA | L23: Valor Total IVA incluido
B24: Ampliacion solución Telefonica IP | C24: Solucion Telefonica IP | D24: Telefonos IP marca NEC | G24: 200 | J24: =+ROUND(I24*(1+H24),0) -> 0 | K24: =ROUND(I24*G24,0) -> 0 | L24: =ROUND(J24*G24,0) -> 0
D25: Adaptadores | G25: 200 | J25: =+ROUND(I25*(1+H25),0) -> 0 | K25: =ROUND(I25*G25,0) -> 0 | L25: =ROUND(J25*G25,0) -> 0
D26: Patch Cord UTP | G26: 200 | J26: =+ROUND(I26*(1+H26),0) -> 0 | K26: =ROUND(I26*G26,0) -> 0 | L26: =ROUND(J26*G26,0) -> 0
D27: Servidor de Voz marca NEC | G27: 1 | J27: =+ROUND(I27*(1+H27),0) -> 0 | K27: =ROUND(I27*G27,0) -> 0 | L27: =ROUND(J27*G27,0) -> 0
B28: Bolsa de repuestos requeridos frecuentemente | C28: Soluciones de Repuesto | D28: Adaptadores de Corriente | G28: 30 | J28: =+ROUND(I28*(1+H28),0) -> 0 | K28: =ROUND(I28*G28,0) -> 0 | L28: =ROUND(J28*G28,0) -> 0
D29: Bocinas para telefono IP | G29: 30 | J29: =+ROUND(I29*(1+H29),0) -> 0 | K29: =ROUND(I29*G29,0) -> 0 | L29: =ROUND(J29*G29,0) -> 0
D30: Cordones para bocinas telefono IP | G30: 5 | J30: =+ROUND(I30*(1+H30),0) -> 0 | K30: =ROUND(I30*G30,0) -> 0 | L30: =ROUND(J30*G30,0) -> 0
D31: Tarjeta SCA-4LC2COTA | G31: 1 | J31: =+ROUND(I31*(1+H31),0) -> 0 | K31: =ROUND(I31*G31,0) -> 0 | L31: =ROUND(J31*G31,0) -> 0
D32: Tubos acusticos | G32: 20 | J32: =+ROUND(I32*(1+H32),0) -> 0 | K32: =ROUND(I32*G32,0) -> 0 | L32: =ROUND(J32*G32,0) -> 0
D33: Espumas para diadema | G33: 20 | J33: =+ROUND(I33*(1+H33),0) -> 0 | K33: =ROUND(I33*G33,0) -> 0 | L33: =ROUND(J33*G33,0) -> 0
D34: Auricular Bluetooth | G34: 2 | J34: =+ROUND(I34*(1+H34),0) -> 0 | K34: =ROUND(I34*G34,0) -> 0 | L34: =ROUND(J34*G34,0) -> 0
B35: Subtotal | L35: =SUM(L24:L34) -> 0
B36: Bolsa de Repuestos Atencion de Consumidores | C36: Servidor HP Proliant G180 | D36: SATA MDL | G36: 1 | J36: =+ROUND(I36*(1+H36),0) -> 0 | K36: =ROUND(I36*G36,0) -> 0 | L36: =ROUND(J36*G36,0) -> 0
D37: memoria RAM de 8GB | G37: 1 | J37: =+ROUND(I37*(1+H37),0) -> 0 | K37: =ROUND(I37*G37,0) -> 0 | L37: =ROUND(J37*G37,0) -> 0
D38: procesador de Intel E5620 2.40GHz | G38: 1 | J38: =+ROUND(I38*(1+H38),0) -> 0 | K38: =ROUND(I38*G38,0) -> 0 | L38: =ROUND(J38*G38,0) -> 0
D39: disco duro HP de 1 TB | G39: 1 | J39: =+ROUND(I39*(1+H39),0) -> 0 | K39: =ROUND(I39*G39,0) -> 0 | L39: =ROUND(J39*G39,0) -> 0
C40: Servidor HP Proliant G160 | D40: SAS de 600GB, 6G DP de 15K | G40: 1 | J40: =+ROUND(I40*(1+H40),0) -> 0 | K40: =ROUND(I40*G40,0) -> 0 | L40: =ROUND(J40*G40,0) -> 0
D41: Una memoria RAM de 8GB | G41: 1 | J41: =+ROUND(I41*(1+H41),0) -> 0 | K41: =ROUND(I41*G41,0) -> 0 | L41: =ROUND(J41*G41,0) -> 0
D42: Un procesador de Intel E5620 2.40GHz | G42: 1 | J42: =+ROUND(I42*(1+H42),0) -> 0 | K42: =ROUND(I42*G42,0) -> 0 | L42: =ROUND(J42*G42,0) -> 0
D43: Disco duro HP de 1 TB | G43: 1 | J43: =+ROUND(I43*(1+H43),0) -> 0 | K43: =ROUND(I43*G43,0) -> 0 | L43: =ROUND(J43*G43,0) -> 0
C44: Servidor NEC Express 5800 | D44: memoria RAM de 8GB | G44: 1 | J44: =+ROUND(I44*(1+H44),0) -> 0 | K44: =ROUND(I44*G44,0) -> 0 | L44: =ROUND(J44*G44,0) -> 0
D45: procesador de Intel E5620 2.40GHz | G45: 1 | J45: =+ROUND(I45*(1+H45),0) -> 0 | K45: =ROUND(I45*G45,0) -> 0 | L45: =ROUND(J45*G45,0) -> 0
D46: Disco duro de 500 GB | G46: 1 | J46: =+ROUND(I46*(1+H46),0) -> 0 | K46: =ROUND(I46*G46,0) -> 0 | L46: =ROUND(J46*G46,0) -> 0
C47: Servidor AVST LE2900 NEC | D47: Memoria RAM de 3GB | G47: 1 | J47: =+ROUND(I47*(1+H47),0) -> 0 | K47: =ROUND(I47*G47,0) -> 0 | L47: =ROUND(J47*G47,0) -> 0
D48: Procesador de Intel E5504 2 GHz | G48: 1 | J48: =+ROUND(I48*(1+H48),0) -> 0 | K48: =ROUND(I48*G48,0) -> 0 | L48: =ROUND(J48*G48,0) -> 0
D49: Disco duro de 500 GB | G49: 1 | J49: =+ROUND(I49*(1+H49),0) -> 0 | K49: =ROUND(I49*G49,0) -> 0 | L49: =ROUND(J49*G49,0) -> 0
D50: SATA de 85GB | G50: 1 | J50: =+ROUND(I50*(1+H50),0) -> 0 | K50: =ROUND(I50*G50,0) -> 0 | L50: =ROUND(J50*G50,0) -> 0
C51: Servidor SV8500 Servidor SV8500 | D51: SV8500 SYSTEM | G51: 1 | J51: =+ROUND(I51*(1+H51),0) -> 0 | K51: =ROUND(I51*G51,0) -> 0 | L51: =ROUND(J51*G51,0) -> 0
D52: SN1753 PWRMAC | G52: 1 | J52: =+ROUND(I52*(1+H52),0) -> 0 | K52: =ROUND(I52*G52,0) -> 0 | L52: =ROUND(J52*G52,0) -> 0
D53: SCG-IO00-A | G53: 1 | J53: =+ROUND(I53*(1+H53),0) -> 0 | K53: =ROUND(I53*G53,0) -> 0 | L53: =ROUND(J53*G53,0) -> 0
...

Sheet INFO GENERAL Y FINANCIERA
B8: Formato Información General Y Financiera De Proveedores
B10: Ciudad | R10: Fecha Dd/mm/aa | AA10: Persona Natural
AA11: Persona Jurídica
B12: 1. Información General
B13: 1.1. Identificación.
B14: Personas naturales | I14: Nombre Comercial | AF14: Cédula
B16: Personas jurídicas | I16: Razón Social | AF16: DV
B18: Dirección | AA18: Fax | AF18: Ciudad
B20: Pagina Web | AA20: Sector al que pertenece
B22: 1.2. Personas De Contacto
B23: Gerente General | P23: E-mail | AA23: Ext. | AF23: Celular
B25: Director Comercial | P25: E-mail | AA25: Ext. | AF25: Celular
B27: Asesor Comercial | P27: E-mail | AA27: Ext. | AF27: Celular
B29: 1.3. Productos Y Servicios Inscritos En El Rup De Acuerdo Con El Unspsc
B30: Incluir Listado Con Breve Descripción De Los Productos Y/o Servicios Que Ofrece La Compañía, Registrados En El Rup (agregue Las Filas Necesarias) | AF30: Código de Naciones Unidas
B36: 1.4. Códigos CIIU | AF36: 1.5. Número De Empleados
B37: Código De Actividad | I37: Descripción Actividad Económica CIIU | AA37: Tarifa ICA
B41: 2. Información Financiera
B42: Nombre Del Indicador | O42: Cuenta | W42: Valores En Pesos a Diciembre 31 De 2014 | AE42: Indicador | AI42: Veces- Porcentaje
B43: Capacidad Financiera | E43: índice De Liquidez | O43: Activo Corriente --> | AE43: =+IFERROR(W43/W44,0) -> 0 | AI43: Veces
O44: Pasivo Corriente -->
E45: Índice De Endeudamiento | O45: Pasivo Total--> | AE45: =+IFERROR(W45/W46,0) -> 0 | AI45: Porcentaje
O46: Activo Total-->
E47: Razón De Cobertura De Intereses | O47: Utilidad Operacional--> | AE47: =+IFERROR(W47/W48,0) -> 0 | AI47: Veces
O48: Gastos De Interés-->
E49: Capital de Trabajo | O49: Activo Corriente--> | AE49: =+W49-W50 -> 0 | AI49: Pesos
O50: Pasivo corriente-->
B51: Capacidad Organizacional | E51: Rentabilidad Del Patrimonio | O51: Utilidad Operacional--> | AE51: =+IFERROR(W51/W52,0) -> 0 | AI51: Porcentaje
O52: Patrimonio-->
E53: Rentabilidad Del Activo | O53: Utilidad Operacional--> | AE53: =+IFERROR(W53/W54,0) -> 0 | AI53: Porcentaje
O54: Activo Total-->
B55: Nota: Para las empresas inspeccionadas, vigiladas o controladas por la Supersociedades, la información consignada en este numeral será validada con la reportada a la Supersociedades y disponible para consulta en Internet mediante el Sistema de Información y Riesgo Empresarial de la Supersociedades (SIREM). Si se evidencian diferencias en los valores consignados en este formato y los reportados a la Supersociedades se tomará como referencia la información del SIREM.
B56: Otra información relevante de la empresa (consigne en este espacio otra información que considere de interés)

Sheet INFO EXPERIENCIA
B9: EXPERIENCIA EN CONTRATACIÓN EN LOS ÚLTIMOS 5 AÑOS
B11: Empresa: | C11: =COTIZACION!E12 -> 0 | F11: Nit: | G11: =COTIZACION!J12 -> 0 | I11: Fecha: | J11: =COTIZACION!L12 -> 0
B12: Contacto: | C12: =COTIZACION!D13 -> 0 | F12: Cargo: | G12: =COTIZACION!J13 -> 0 | I12: Tel. celular: | J12: =COTIZACION!L13 -> 0
B13: E-Mail: | C13: =COTIZACION!D14 -> 0 | F13: Dirección: | G13: =COTIZACION!J14 -> 0 | I13: Tel. fijo: | J13: =COTIZACION!L14 -> 0
B15: Con el fin de conocer la experiencia con la que cuentan las empresas del sector relacionada con el objeto del presente estudio de mercado, agradecemos diligenciar el cuadro que sigue con base en los contratos suscritos en los últimos 5 años, cuyos objetos están relacionados con el objeto del presente estudio de mercado
B17: Tipo de entidad | C17: Entidad o Empresa | D17: Numero del contrato | E17: Objeto del contrato | F17: Fecha de suscripción (dd/mmm/aa) | G17: Plazo de ejecución (en años) | H17: Forma de participación (UT, consorcio, individual) | I17: % de participación | J17: Valor total ejecutado del contrato (de acuerdo con el % de participación) | K17: Puntos de Telefonia IP instalados en el contrato.
B29: Nota: Agregar las filas necesarias para reportar la experiencia

Sheet POLIZAS
B8: CONCEPTOS A TENER EN CUENTA PARA REALIZAR LA COTIZACIÓN DE DOTACIÓN INDUSTRIAL
B11: El presente cuadro es de carácter informativo, no se debe diligenciar. Sin embargo se entiende que la cotización incluye la totalidad de los conceptos relacionados a continuación.
B13: PÓLIZAS PARA LEGALIZACIÓN DEL CONTRATO
B15: CONCEPTO | D15: COBERTURA | E15: PLAZO (En Meses)
B16: Garantía de Seriedad de la oferta | D16: 0.1 | E16: Plazo de Ejecución
B17: Cumplimiento | D17: 0.2 | E17: Plazo de ejecución + 4 meses mas
B18: Salarios, Prestaciones | D18: 0.1 | E18: Plazo de ejecución + 36 meses mas
B19: Calidad de los Servicios | D19: 0.2 | E19: Plazo de ejecución + 4 meses mas
B20: Responsabilidad civil extracontractual | D20: 0.1 | E20: Plazo de Ejecución
B21: Cobertura: Corresponde al porcentaje del valor total del contrato a amparar.
