Workbook
Name _ftn1: 'Cotizacion Enterprise'!#REF!
Name _ftn1: 'Cotizacion Open'!#REF!
Name _ftn2: 'Cotizacion Enterprise'!#REF!
Name _ftn2: 'Cotizacion Open'!#REF!
Name _ftn3: 'Cotizacion Enterprise'!#REF!
Name _ftn3: 'Cotizacion Open'!#REF!
Name _ftnref1: 'Cotizacion Enterprise'!#REF!
Name _ftnref1: 'Cotizacion Open'!#REF!
Name _ftnref2: 'Cotizacion Enterprise'!#REF!
Name _ftnref2: 'Cotizacion Open'!#REF!
Name _ftnref3: 'Cotizacion Enterprise'!#REF!
Name _ftnref3: 'Cotizacion Open'!#REF!
Name Decision: [1]lista!$A$6:$A$7
Name Decision: [1]lista!$A$6:$A$7
Name Decision: [1]lista!$A$6:$A$7
Name Decision: [2]lista!$A$6:$A$7
Name PARTICIPACION: [1]lista!$A$15:$A$17
Name PARTICIPACION: [1]lista!$A$15:$A$17
Name PARTICIPACION: [1]lista!$A$15:$A$17
Name PARTICIPACION: [2]lista!$A$15:$A$17
Name Procedencia: [1]lista!$A$2:$A$3
Name Procedencia: [1]lista!$A$2:$A$3
Name Procedencia: [1]lista!$A$2:$A$3
Name Procedencia: [2]lista!$A$2:$A$3
Name tipo: [1]lista!$A$11:$A$13
Name tipo: [1]lista!$A$11:$A$13
Name tipo: [1]lista!$A$11:$A$13
Name tipo: [2]lista!$A$11:$A$13
Name x: [3]lista!$A$11:$A$13
Name x: [3]lista!$A$11:$A$13
Name x: [3]lista!$A$11:$A$13
Name x: [4]lista!$A$11:$A$13

Sheet Cotizacion Enterprise
B8: FORMATO DE COTIZACIÓN
B9: Fecha: | D9: Empresa: | F9: Cargo: | H9: E-Mail:
B10: Nit: | D10: Contacto: | F10: Dirección: | H10: Tel. celular y fijo:
B12: Instrucciones para el diligenciamiento del formato de cotización
B13: • Por favor diligenciar solo las celdas en AMARILLO. • Asignar precio sin incluir el IVA en las celdas de la columna "H" y asignar la tarifa de IVA que corresponda en las celdas de la columna "G" • El valor de la cotización deber ser expresado en PESOS COLOMBIANOS. • Los valores unitarios deberán aproximarse por exceso o por defecto al entero más cercano. Si la cifra no está aproximada y aparece con centavos, el ICBF aproximará al entero inferior. • No modificar, agregar o quitar ningún ítem o sub-ítem.
B14: Notas: Actualmente el ICBF cuenta con la licencias ENTERPRISE AGREEMENT No. 87416527 (1) Del númeral 1 al 17 son las licencias para renovar. (2) Del numeral 18 al 27 son las licencias que se quieren adquirir. Estas nuevas licencias deben ser cotizadas considerando el periodo del EA año 2 – TrueUp año 2. (3) Ítems 1 y 2: la Entidad solo adquirirá 10.000 licencias de office365. Para el presente estudio de mercado se solicita cotizar los planes E3 y E4 y con el fin de evaluar posteriormente el plan que más se ajuste a las necesidades de la Entidad. (4) Ítems 18 y 19: la Entidad solo adquirirá 1.000 licencias de office365. Para el presente estudio de mercado se solicita cotizar los planes E3 y E4 y con el fin de evaluar posteriormente el plan que más se ajuste a las necesidades de la Entidad.
B16: COSTO DE RENOVACIÓN LICENCIAS ENTERPRISE AGREEMENT No. 87416527 (nota 1)
B17: Ítem | C17: Descripción | D17: Modalidad de adquisición | F17: Cantidad | G17: Tarifa IVA % | H17: Valor unitario antes de IVA | I17: Valor Total IVA Incluido | J17: Valor Total IVA Incluido
B18: 1 | C18: Off365PE3 ShrdSvr ALNG SubsVL MVL PerUsr (nota3) | D18: Suscripción | F18: 10000 | I18: =+H18*(1+G18) -> 0 | J18: =+I18*F18 -> 0
B19: 2 | C19: Off365PE4 ShrdSvr ALNG SubsVL MVL PerUsr (nota3) | D19: Suscripción | F19: 10000 | I19: =+H19*(1+G19) -> 0 | J19: =+I19*F19 -> 0
B20: 3 | C20: ECALBridgeOff365 ALNG LicSAPk MVL Pltfrm DvcCAL | D20: A perpetuidad | F20: 10000 | I20: =+H20*(1+G20) -> 0 | J20: =+I20*F21 -> 0
B21: 4 | C21: WinPro ALNG SA MVL Pltfrm | D21: A perpetuidad | F21: 1000 | I21: =+H21*(1+G21) -> 0 | J21: =+I21*F22 -> 0
B22: 5 | C22: WinPro ALNG UpgrdSAPk MVL Pltfrm | D22: A perpetuidad | F22: 9000 | I22: =+H22*(1+G22) -> 0 | J22: =+I22*F23 -> 0
B23: 6 | C23: SQLSvrEntCore ALNG LicSAPk MVL 2Lic CoreLic | D23: A perpetuidad | F23: 30 | I23: =+H23*(1+G23) -> 0 | J23: =+I23*F24 -> 0
B24: 7 | C24: VisioPro ALNG LicSAPk MVL | D24: A perpetuidad | F24: 30 | I24: =+H24*(1+G24) -> 0 | J24: =+I24*F25 -> 0
B25: 8 | C25: PrjctPro ALNG LicSAPk MVL w1PrjctSvrCAL | D25: A perpetuidad | F25: 40 | I25: =+H25*(1+G25) -> 0 | J25: =+I25*F26 -> 0
B26: 9 | C26: VSUltwMSDN ALNG LicSAPk MVL | D26: A perpetuidad | F26: 12 | I26: =+H26*(1+G26) -> 0 | J26: =+I26*F27 -> 0
B27: 10 | C27: SharePointSvr ALNG LicSAPk MVL | D27: A perpetuidad | F27: 2 | I27: =+H27*(1+G27) -> 0 | J27: =+I27*F28 -> 0
B28: 11 | C28: LyncSvr LicSAPk MVL | D28: A perpetuidad | F28: 3 | I28: =+H28*(1+G28) -> 0 | J28: =+I28*F29 -> 0
B29: 12 | C29: CISDataCtr ALNG LicSAPk MVL | D29: A perpetuidad | F29: 5 | I29: =+H29*(1+G29) -> 0 | J29: =+I29*F30 -> 0
B30: 13 | C30: FrfrntIdnttyMgrCAL ALNG LicSAPk MVL UsrCAL | D30: A perpetuidad | F30: 100 | I30: =+H30*(1+G30) -> 0 | J30: =+I30*F31 -> 0
B31: 14 | C31: FrfrntIdnttyMgr ALNG LicSAPk MVL | D31: A perpetuidad | F31: 1 | I31: =+H31*(1+G31) -> 0 | J31: =+I31*F32 -> 0
... B33: 16 | C33: DynCRMProCAL ALNG LicSAPk MVL DvcCAL | D33: A perpetuidad | F33: 100 | I33: =+H33*(1+G33) -> 0 | J33: =+I33*F34 -> 0
B34: 17 | C34: WinRmtDsktpSrvcsCAL ALNG LicSAPk MVL UsrCAL | D34: A perpetuidad | F34: 80 | I34: =+H34*(1+G34) -> 0 | J34: =+I34*F34 -> 0
B35: Escenario 1 RENOVACIÓN LICENCIAS ENTERPRISE AGREEMENT incluye item 1 " Off365PE3 ShrdSvr ALNG SubsVL MVL PerUsr" | J35: =IF(H18=0,"",SUM(J18,J20:J34))
B36: Escenario 3 RENOVACIÓN LICENCIAS ENTERPRISE AGREEMENT incluye item 2 "Off365PE4 ShrdSvr ALNG SubsVL MVL PerUsr" | J36: =IF(H19=0,"",SUM(J19:J34))
B37: COSTO ADQUISICIÓN LICENCIAS ENTERPRISE AGREEMENT (nota 2)
B38: Ítem | C38: Descripción | D38: Modalidad de adquisición | F38: Cantidad | G38: Tarifa IVA % | H38: Valor unitario antes de IVA | I38: Valor Total IVA Incluido | J38: Valor Total IVA Incluido
B39: 18 | C39: Off365PE3 ShrdSvr ALNG SubsVL MVL PerUsr (nota4) | D39: Suscripción | F39: 1000 | I39: =+H39*(1+$G39) -> 0 | J39: =+I39*F39 -> 0
B40: 19 | C40: Off365PE4 ShrdSvr ALNG SubsVL MVL PerUsr (nota4) | D40: Suscripción | F40: 1000 | I40: =+H40*(1+$G40) -> 0 | J40: =+I40*F40 -> 0
B41: 20 | C41: ECALBridgeOff365 ALNG LicSAPk MVL Pltfrm DvcCAL | D41: A perpetuidad | F41: 1000 | I41: =+H41*(1+$G41) -> 0 | J41: =+I41*F41 -> 0
B42: 21 | C42: WinPro ALNG UpgrdSAPk MVL Pltfrm | D42: A perpetuidad | F42: 1000 | I42: =+H42*(1+$G42) -> 0 | J42: =+I42*F42 -> 0
B43: 22 | C43: SQLSvrEntCore ALNG LicSAPk MVL 2Lic CoreLic | D43: A perpetuidad | F43: 12 | I43: =+H43*(1+$G43) -> 0 | J43: =+I43*F43 -> 0
B44: 23 | C44: CISDataCtr ALNG LicSAPk MVL | D44: A perpetuidad | F44: 2 | I44: =+H44*(1+$G44) -> 0 | J44: =+I44*F44 -> 0
B45: 24 | C45: WinRmtDsktpSrvcsCAL ALNG LicSAPk MVL UsrCAL | D45: A perpetuidad | F45: 80 | I45: =+H45*(1+$G45) -> 0 | J45: =+I45*F45 -> 0
B46: 25 | C46: VSTeamFndtnSvr LicSAPk OLP NL Gov | D46: A perpetuidad | F46: 1 | I46: =+H46*(1+$G46) -> 0 | J46: =+I46*F46 -> 0
B47: 26 | C47: Licencias de VSUltwMSDN ALNG LicSAPk MVL | D47: A perpetuidad | F47: 18 | I47: =+H47*(1+$G47) -> 0 | J47: =+I47*F47 -> 0
B48: 27 | C48: SharePointSvr ALNG LicSAPk MVL | D48: A perpetuidad | F48: 1 | I48: =+H48*(1+$G48) -> 0 | J48: =+I48*F48 -> 0
B49: 28 | C49: LyncSvrPlusCAL ALNG LicSAPk MVL UsrCAL | D49: A perpetuidad | F49: 11000 | I49: =+H49*(1+$G49) -> 0 | J49: =+I49*F49 -> 0
B50: TOTAL ADQUISICIÓN LICENCIAS ENTERPRISE AGREEMENT incluye item 18 "Off365PE3 ShrdSvr ALNG SubsVL MVL PerUsr" | J50: =IF(H39=0,"",SUM(J39,J41:J49))
...

Sheet Cotizacion Open
B8: FORMATO DE COTIZACIÓN
B9: Fecha: | D9: Empresa: | F9: Cargo: | H9: E-Mail:
B10: Nit: | D10: Contacto: | F10: Dirección: | H10: Tel. celular y fijo:
B12: Instrucciones para el diligenciamiento del formato de cotización
B13: • Por favor diligenciar solo las celdas en AMARILLO. • Asignar precio sin incluir el IVA en las celdas de la columna "H" y asignar la tarifa de IVA que corresponda en las celdas de la columna "G" • El valor de la cotización deber ser expresado en PESOS COLOMBIANOS. • Los valores unitarios deberán aproximarse por exceso o por defecto al entero más cercano. Si la cifra no está aproximada y aparece con centavos, el ICBF aproximará al entero inferior. • No modificar, agregar o quitar ningún ítem o sub-ítem.
B14: Notas: (1) Ítems 1 y 2: la Entidad solo adquirirá 10.000 licencias de office365. Para el presente estudio de mercado se solicita cotizar los planes E3 y E4 y con el fin de evaluar posteriormente el plan que más se ajuste a las necesidades de la Entidad. (2) Solo para efectos de estimar totales se tomara el valor mas alto del rango.
B16: COSTO DE ADQUISICIÓN LICENCIAS OPEN
B17: Ítem | C17: Descripción | D17: Modalidad de adquisición | F17: Cantidad | G17: Tarifa IVA % | H17: Valor unitario antes de IVA | I17: Valor unitario IVA Incluido | J17: Valor Total IVA Incluido
B18: 1 | C18: Office365PlanE3Open ShrdSvr SubsVL OLP NL Annual Gov Qlfd (Nota 1)-(Nota 2) | D18: Suscripción | F18: 11000 | I18: =H18*(1+G18) -> 0 | J18: =+I18*F18 -> 0
B19: 2 | C19: Off365PlanE4Open ShrdSvr SubsVL OLP NL Annual Gov Qlfd (Nota 1)-(Nota 2) | D19: Suscripción | F19: 11000 | I19: =H19*(1+G19) -> 0 | J19: =+I19*F19 -> 0
B20: 3 | C20: CoreCAL LicSAPk OLP NL Gov DvcCAL (Nota 2) | D20: A perpetuidad | F20: 11000 | I20: =H20*(1+G20) -> 0 | J20: =+I20*F20 -> 0
B21: 4 | C21: WinRghtsMgmtSrvcsCAL WinNT LicSAPk OLP NL Gov UsrCAL (Nota 2) | D21: A perpetuidad | F21: 11000 | I21: =H21*(1+G21) -> 0 | J21: =+I21*F21 -> 0
B22: 5 | C22: SysCtrCltMgmtSte LicSAPk OLP NL Gov PerUsr (Nota 2) | D22: A perpetuidad | F22: 11000 | I22: =H22*(1+G22) -> 0 | J22: =+I22*F22 -> 0
B23: 6 | C23: WinEntforSA UpgrdSAPk OLP NL Gov (Nota 2) | D23: A perpetuidad | F23: 11000 | I23: =H23*(1+G23) -> 0 | J23: =+I23*F23 -> 0
B24: 7 | C24: SQLSvrEntCore LicSAPk OLP 2Lic NL Gov CoreLic Qlfd (Nota 2) | D24: A perpetuidad | F24: 42 | I24: =H24*(1+G24) -> 0 | J24: =+I24*F24 -> 0
B25: 8 | C25: VisioPro LicSAPk OLP NL Gov | D25: A perpetuidad | F25: 30 | I25: =H25*(1+G25) -> 0 | J25: =+I25*F25 -> 0
B26: 9 | C26: PrjctPro LicSAPk OLP NL Gov w1PrjctSvrCAL | D26: A perpetuidad | F26: 40 | I26: =H26*(1+G26) -> 0 | J26: =+I26*F26 -> 0
B27: 10 | C27: VSUltwMSDN LicSAPk OLP NL Gov Qlfd (Nota 2) | D27: A perpetuidad | F27: 30 | I27: =H27*(1+G27) -> 0 | J27: =+I27*F27 -> 0
B28: 11 | C28: SharePointSvr LicSAPk OLP NL Gov | D28: A perpetuidad | F28: 2-3 | I28: =H28*(1+G28) -> 0 | J28: =+I28*F28 -> 0
B29: 12 | C29: LyncSvr LicSAPk OLP NL Gov | D29: A perpetuidad | F29: 3 | I29: =H29*(1+G29) -> 0 | J29: =+I29*F29 -> 0
B30: 13 | C30: CISDataCtr LicSAPk OLP NL Gov 2Proc Qlfd (Nota 2) | D30: A perpetuidad | F30: 7 | I30: =H30*(1+G30) -> 0 | J30: =+I30*F30 -> 0
B31: 14 | C31: FrfrntIdnttyMgrCAL LicSAPk OLP NL Gov UsrCAL | D31: A perpetuidad | F31: 100 | I31: =H31*(1+G31) -> 0 | J31: =+I31*F31 -> 0
B32: 15 | C32: FrfrntIdnttyMgr LicSAPk OLP NL Gov | D32: A perpetuidad | F32: 1 | I32: =H32*(1+G32) -> 0 | J32: =+I32*F32 -> 0
B33: 16 | C33: DynCRMSvr LicSAPk OLP NL Gov Qlfd | D33: A perpetuidad | F33: 1 | I33: =H33*(1+G33) -> 0 | J33: =+I33*F33 -> 0
B34: 17 | C34: DynCRMProCAL LicSAPk OLP NL Gov DvcCAL Qlfd | D34: A perpetuidad | F34: 100 | I34: =H34*(1+G34) -> 0 | J34: =+I34*F34 -> 0
B35: 18 | C35: WinRmtDsktpSrvcsCAL LicSAPk OLP NL Gov UsrCAL (Nota 2) | D35: A perpetuidad | F35: 160 | I35: =H35*(1+G35) -> 0 | J35: =+I35*F35 -> 0
B36: 19 | C36: VSTeamFndtnSvr LicSAPk OLP NL Gov | D36: A perpetuidad | F36: 1 | I36: =H36*(1+G36) -> 0 | J36: =+I36*F36 -> 0
B37: 20 | C37: LyncSvrPlusCAL LicSAPk OLP NL Gov UsrCAL | D37: A perpetuidad | F37: 11000 | I37: =H37*(1+G37) -> 0 | J37: =+I37*F37 -> 0
B38: Escenario 1: La entidad adquirirá los productos desde el ítem 1 al 18 excluyendo el ítem 2. | J38: =IF(H18=0,"",SUM(J18,J20:J35))
B39: Escenario 2: La entidad adquirirá los productos desde el ítem 1 al 20 excluyendo el ítem 2. | J39: =IF(H18=0,"",SUM(J18,J20:J37))
B40: Escenario 3: La entidad adquirirá los productos desde el ítem 2 al 18. | J40: =IF(H19=0,"",SUM(J19:J35))
B41: Escenario 4: La entidad adquirirá los productos desde el ítem 2 al 20. | J41: =IF(H19=0,"",SUM(J19:J37))
B43: La presente cotización:
B44: • Incluye todos los costos y gastos directos e indirectos en que debe incurrir el contratista durante la ejecución del contrato de acuerdo con las especificaciones de la Ficha de Condiciones Técnicas, las obligaciones tributarias de acuerdo con las normas aplicables para el tipo de servicio y contrato correspondiente, y los costos de las pólizas. • Se remite como parte del estudio de mercado, previo a la contratación, y no implica ninguna obligación de contratar. • Tiene una vigencia de 90 días a partir de la fecha de diligenciamiento.
B45: Inscripción en el Registro Único de Proponentes: Las personas naturales y jurídicas, nacionales o extranjeras, con domicilio en Colombia, interesadas en participar en procesos de contratación convocados por las entidades estatales, deben estar inscritas en el RUP, salvo las excepciones previstas de forma taxativa en la ley (Artículo 8 del Decreto 1510 de 2013). Se aclara que esta inscripción no se requiere para remitir cotización durante el estudio de mercado.

Sheet INFO GENERAL Y FINANCIERA
B8: Formato Información General Y Financiera De Proveedores
B10: Ciudad | M10: Fecha Dd/mm/aa | AD10: Persona Natural
AD11: Persona Jurídica
B12: 1. Información General
B13: 1.1. Identificación.
B14: Personas naturales | F14: Nombre Comercial | U14: Nombres y Apellidos | AK14: Cédula
B16: Personas jurídicas | F16: Razón Social | U16: NIT | AK16: DV
B18: Dirección | U18: Teléfono | AD18: Fax | AK18: Ciudad
B20: Pagina Web | U20: Años de Constitución | AD20: Sector al que pertenece
B22: 1.2. Personas De Contacto
B23: Gerente General | K23: E-mail | U23: Teléfono | AD23: Ext. | AK23: Celular
B25: Director Comercial | K25: E-mail | U25: Teléfono | AD25: Ext. | AK25: Celular
B27: Asesor Comercial | K27: E-mail | U27: Teléfono | AD27: Ext. | AK27: Celular
B29: 1.3. Productos Y Servicios Inscritos En El Rup De Acuerdo Con El Unspsc
B30: Incluir Listado Con Breve Descripción De Los Productos Y/o Servicios Que Ofrece La Compañía, Registrados En El Rup (agregue Las Filas Necesarias) | AK30: Código de Naciones Unidas
B36: 1.4. Códigos CIIU | AK36: 1.5. Número De Empleados
B37: Código De Actividad | F37: Descripción Actividad Económica CIIU | AD37: Tarifa ICA
B41: 2. Información Financiera
B42: Nombre Del Indicador | J42: Cuenta | R42: Valores En Pesos a Diciembre 31 De 2013 | Y42: Valores En Pesos a Diciembre 31 De 2014 | AF42: Indicador 2013 | AJ42: Indicador 2014 | AN42: Veces- Porcentaje
B43: Capacidad Financiera | D43: índice De Liquidez | J43: Activo Corriente --> | AF43: =+IFERROR(R43/R44,0) -> 0 | AJ43: =+IFERROR(Y43/Y44,0) -> 0 | AN43: Veces
J44: Pasivo Corriente -->
D45: Índice De Endeudamiento | J45: Pasivo Total--> | AF45: =+IFERROR(R45/R46,0) -> 0 | AJ45: =+IFERROR(Y45/Y46,0) -> 0 | AN45: Porcentaje
J46: Activo Total-->
D47: Razón De Cobertura De Intereses | J47: Utilidad Operacional--> | AF47: =+IFERROR(R47/R48,0) -> 0 | AJ47: =+IFERROR(Y47/Y48,0) -> 0 | AN47: Veces
J48: Gastos De Interés-->
D49: Capital de Trabajo | J49: Activo Corriente--> | AF49: =+R49-R50 -> 0 | AJ49: =+Y49-Y50 -> 0 | AN49: Pesos
J50: Pasivo corriente-->
B51: Capacidad Organizacional | D51: Rentabilidad Del Patrimonio | J51: Utilidad Operacional--> | AF51: =+IFERROR(R51/R52,0) -> 0 | AJ51: =+IFERROR(Y51/Y52,0) -> 0 | AN51: Porcentaje
J52: Patrimonio-->
D53: Rentabilidad Del Activo | J53: Utilidad Operacional--> | AF53: =+IFERROR(R53/R54,0) -> 0 | AJ53: =+IFERROR(Y53/Y54,0) -> 0 | AN53: Porcentaje
J54: Activo Total-->
B55: Nota: Para las empresas inspeccionadas, vigiladas o controladas por la Supersociedades, la información consignada en este numeral será validada con la reportada a la Supersociedades y disponible para consulta en Internet mediante el Sistema de Información y Riesgo Empresarial de la Supersociedades (SIREM). Si se evidencian diferencias en los valores consignados en este formato y los reportados a la Supersociedades se tomará como referencia la información del SIREM.
B56: Otra información relevante de la empresa (consigne en este espacio otra información que considere de interés)

Sheet POLIZAS
B8: CONCEPTOS A TENER EN CUENTA PARA REALIZAR LA COTIZACIÓN DE DOTACIÓN INDUSTRIAL
B11: El presente cuadro es de carácter informativo, no se debe diligenciar. Sin embargo se entiende que la cotización incluye la totalidad de los conceptos relacionados a continuación.
B13: PÓLIZAS PARA LEGALIZACIÓN DEL CONTRATO
B15: CONCEPTO | D15: COBERTURA | E15: PLAZO (En Meses)
B16: Garantía de Seriedad de la oferta | D16: 0.1 | E16: Plazo de Ejecución
B17: Cumplimiento | D17: 0.2 | E17: Plazo de ejecución + 4 meses mas
B18: Salarios, Prestaciones | D18: 0.1 | E18: Plazo de ejecución + 36 meses mas
B19: Calidad de los Servicios | D19: 0.2 | E19: Plazo de ejecución + 4 meses mas
B20: Responsabilidad civil extracontractual | D20: 0.1 | E20: Plazo de Ejecución
B21: Cobertura: Corresponde al porcentaje del valor total del contrato a amparar.

Sheet INFO EXPERIENCIA
B8: EXPERIENCIA EN CONTRATACION EN LOS ULTIMOS 5 AÑOS
B9: EXPERIENCIA EN CONTRATACIÓN EN LOS ÚLTIMOS 5 AÑOS
B11: Empresa: | C11: =+'Cotizacion Enterprise'!E9 -> 0 | F11: Nit: | G11: =+'Cotizacion Enterprise'!C10 -> 0 | I11: Fecha: | J11: =+'Cotizacion Enterprise'!C9 -> 0
B12: Contacto: | C12: =+'Cotizacion Enterprise'!E10 -> 0 | F12: Cargo: | G12: =+'Cotizacion Enterprise'!G9 -> 0 | I12: Tel. celular:
B13: E-Mail: | F13: Dirección: | G13: =+'Cotizacion Enterprise'!G10 -> 0 | I13: Tel. fijo:
B15: Con el fin de conocer la experiencia con la que cuentan las empresas del sector relacionada con el objeto del presente estudio de mercado, agradecemos diligenciar el cuadro que sigue con base en los contratos suscritos en los últimos 5 años, cuyos objetos están relacionados con el objeto del presente estudio de mercado
B17: Tipo de entidad | C17: Entidad o Empresa | D17: Numero del contrato | E17: Objeto del contrato | F17: Fecha de suscripción (dd/mmm/aa) | G17: Plazo de ejecución (en años) | H17: Forma de participación (UT, consorcio, individual) | I17: % de participación | J17: Valor total ejecutado del contrato (de acuerdo con el % de participación)
B29: Nota: Agregar las filas necesarias para reportar la experiencia
