Workbook
Name Decision: [1]lista!$A$6:$A$7
Name PARTICIPACION: [1]lista!$A$15:$A$17
Name Procedencia: [1]lista!$A$2:$A$3
Name tipo: [1]lista!$A$11:$A$13
Name x: [2]lista!$A$11:$A$13

Sheet BOLSA DE REPUESTOS
B10: COTIZACIÓN- REPUESTOS, PARTES Y ELEMENTOS
B13: EMPRESA: | F13: NIT: | I13: FECHA:
B14: CONTACTO | F14: CARGO: | I14: TEL. CELULAR :
B15: E-MAIL: | F15: DIRECCIÓN: | I15: TELEFONO FIJO:
B17: Instrucciones para el diligenciamiento del formato de cotización
B18: • Por favor diligenciar solo las celdas en AMARILLO. Se deben llenar todas las casillas. • Revisar todos los requerimientos que se exponen en el documento "Ficha de Condiciones Técnicas" y Anexos; y formular su cotización en concordancia con este. • Asignar precio sin incluir el IVA en las celdas de la columna "I" y asignar la tarifa de IVA que corresponda en las celdas de la columna "J" • El valor de la cotización deber ser expresado en PESOS COLOMBIANOS. • Los valores unitarios deberán aproximarse por exceso o por defecto al entero más cercano. Si la cifra no está aproximada y aparece con centavos, el ICBF aproximará al entero inferior. • No modificar, agregar o quitar ningún ítem o sub-ítem.
B19: Notas: (1) Para los casos en los que el ICBF no hubiera determinado marca y modelo, por favor especificar la marca y el modelo que ofrece el proveedor. Para estos casos, si cuenta con diferentes marcas y/o modelos de un mismo elemento por favor relacionelos en filas separadas. En los casos en los que el ICBF ha determinado marca y modelo favor cotizar únicamente lo solicitado.
B21: ITEM | C21: No. PARTE | D21: ELEMENTO | E21: EQUIPO | F21: MARCA (Nota 1) | G21: MODELO (Nota 1) | H21: CANTIDAD | I21: PRECIO UNITARIO SIN IVA | J21: TARIFA IVA(%) | K21: PRECIO UNITARIO IVA INCLUIDO
B22: 1 | C22: Apple 60W MagSafe | D22: ADAPTADOR | E22: PORTATIL | F22: APPLE | G22: MACBOOK PRO | H22: 1 | K22: =+ROUND(I22*(1+J22),0) -> 0
B23: 2 | C23: 593572-002 | D23: BATERIA | E23: PORTATIL | F23: HP | G23: 4320s/4420s | H23: 1 | K23: =+ROUND(I23*(1+J23),0) -> 0
B24: 3 | C24: UNIVERSAL/GENERICO | D24: BATERIA 9V (PARA GENERADOR DE TONO) | E24: CONECTIVIDAD | F24: ESPECIFICAR MARCA/S OFRECIDA/S | G24: ESPECIFICAR MODELO/S OFRECIDO/S
H25: 1 | K25: =+ROUND(I25*(1+J25),0) -> 0
H26: 1 | K26: =+ROUND(I26*(1+J26),0) -> 0
H27: 1 | K27: =+ROUND(I27*(1+J27),0) -> 0
H28: 1 | K28: =+ROUND(I28*(1+J28),0) -> 0
H29: 1 | K29: =+ROUND(I29*(1+J29),0) -> 0
B30: 4 | C30: 432861-001 | D30: BOARD | E30: DESKTOP | F30: HP | G30: DC5750 SFF | H30: 1 | K30: =+ROUND(I30*(1+J30),0) -> 0
B31: 5 | C31: 71Y6839 | D31: BOARD | E31: DESKTOP | F31: LENOVO | G31: 7303-BD8 | H31: 1 | K31: =+ROUND(I31*(1+J31),0) -> 0
B32: 6 | C32: 46R8892 | D32: BOARD | E32: DESKTOP | F32: LENOVO | G32: 7269-D9S | H32: 1 | K32: =+ROUND(I32*(1+J32),0) -> 0
B33: 7 | C33: 599523-001 | D33: BOARD | E33: PORTATIL | F33: HP | G33: 4420s | H33: 1 | K33: =+ROUND(I33*(1+J33),0) -> 0
B34: 8 | C34: 461536-001 | D34: BOARD | E34: DESKTOP | F34: HP | G34: 5800 | H34: 1 | K34: =+ROUND(I34*(1+J34),0) -> 0
B35: 9 | C35: 587302-001 | D35: BOARD | E35: DESKTOP | F35: HP | G35: 3000 | H35: 1 | K35: =+ROUND(I35*(1+J35),0) -> 0
B36: 10 | C36: 531966-001 | D36: BOARD | E36: DESKTOP | F36: HP | G36: 6005 | H36: 1 | K36: =+ROUND(I36*(1+J36),0) -> 0
B37: 11 | C37: 531965-001 | D37: BOARD | E37: DESKTOP | F37: HP | G37: 6000 | H37: 1 | K37: =+ROUND(I37*(1+J37),0) -> 0
B38: 12 | C38: 657239-001 | D38: BOARD | E38: DESKTOP | F38: HP | G38: 6300 | H38: 1 | K38: =+ROUND(I38*(1+J38),0) -> 0
B39: 13 | C39: UNIVERSAL/GENERICO | D39: BROCHA MONA 1" | E39: MANTENIMIENTO PREVENTIVO | F39: ESPECIFICAR MARCA/S OFRECIDA/S | G39: ESPECIFICAR MODELO/S OFRECIDO/S
H40: 1 | K40: =+ROUND(I40*(1+J40),0) -> 0
H41: 1 | K41: =+ROUND(I41*(1+J41),0) -> 0
H42: 1 | K42: =+ROUND(I42*(1+J42),0) -> 0
H43: 1 | K43: =+ROUND(I43*(1+J43),0) -> 0
H44: 1 | K44: =+ROUND(I44*(1+J44),0) -> 0
B45: 14 | C45: UNIVERSAL/GENERICO | D45: CABLE DE CONSOLA CON CONVERSOR | E45: CONECTIVIDAD | F45: ESPECIFICAR MARCA/S OFRECIDA/S | G45: ESPECIFICAR MODELO/S OFRECIDO/S
H46: 1 | K46: =+ROUND(I46*(1+J46),0) -> 0
H47: 1 | K47: =+ROUND(I47*(1+J47),0) -> 0
H48: 1 | K48: =+ROUND(I48*(1+J48),0) -> 0
H49: 1 | K49: =+ROUND(I49*(1+J49),0) -> 0
H50: 1 | K50: =+ROUND(I50*(1+J50),0) -> 0
B51: 15 | C51: UNIVERSAL/GENERICO | D51: CABLE DE VIDEO VGA DE 5 METROS | E51: VARIOS | F51: ESPECIFICAR MARCA/S OFRECIDA/S | G51: ESPECIFICAR MODELO/S OFRECIDO/S
H52: 1 | K52: =+ROUND(I52*(1+J52),0) -> 0
H53: 1 | K53: =+ROUND(I53*(1+J53),0) -> 0
...

Sheet INFO GENERAL Y FINANCIERA
B8: Formato Información General Y Financiera De Proveedores
B10: Ciudad | M10: Fecha Dd/mm/aa | AD10: Persona Natural
AD11: Persona Jurídica
B12: 1. Información General
B13: 1.1. Identificación.
B14: Personas naturales | F14: Nombre Comercial | U14: Nombres y Apellidos | AK14: Cédula
B16: Personas jurídicas | F16: Razón Social | U16: NIT | AK16: DV
B18: Dirección | U18: Teléfono | AD18: Fax | AK18: Ciudad
B20: Pagina Web | U20: Años de Constitución | AD20: Sector al que pertenece
B22: 1.2. Personas De Contacto
B23: Gerente General | K23: E-mail | U23: Teléfono | AD23: Ext. | AK23: Celular
B25: Director Comercial | K25: E-mail | U25: Teléfono | AD25: Ext. | AK25: Celular
B27: Asesor Comercial | K27: E-mail | U27: Teléfono | AD27: Ext. | AK27: Celular
B29: 1.3. Productos Y Servicios Inscritos En El Rup De Acuerdo Con El Unspsc
B30: Incluir Listado Con Breve Descripción De Los Productos Y/o Servicios Que Ofrece La Compañía, Registrados En El Rup (agregue Las Filas Necesarias) | AK30: Código de Naciones Unidas
B36: 1.4. Códigos CIIU | AK36: 1.5. Número De Empleados
B37: Código De Actividad | F37: Descripción Actividad Económica CIIU | AD37: Tarifa ICA
B41: 2. Información Financiera
B42: Nombre Del Indicador | J42: Cuenta | R42: Valores En Pesos a Diciembre 31 De 2013 | Y42: Valores En Pesos a Diciembre 31 De 2014 | AF42: Indicador 2013 | AJ42: Indicador 2014 | AN42: Veces- Porcentaje
B43: Capacidad Financiera | D43: índice De Liquidez | J43: Activo Corriente --> | AF43: =+IFERROR(R43/R44,0) -> 0 | AJ43: =+IFERROR(Y43/Y44,0) -> 0 | AN43: Veces
J44: Pasivo Corriente -->
D45: Índice De Endeudamiento | J45: Pasivo Total--> | AF45: =+IFERROR(R45/R46,0) -> 0 | AJ45: =+IFERROR(Y45/Y46,0) -> 0 | AN45: Porcentaje
J46: Activo Total-->
D47: Razón De Cobertura De Intereses | J47: Utilidad Operacional--> | AF47: =+IFERROR(R47/R48,0) -> 0 | AJ47: =+IFERROR(Y47/Y48,0) -> 0 | AN47: Veces
J48: Gastos De Interés-->
D49: Capital de Trabajo | J49: Activo Corriente--> | AF49: =+R49-R50 -> 0 | AJ49: =+Y49-Y50 -> 0 | AN49: Pesos
J50: Pasivo corriente-->
B51: Capacidad Organizacional | D51: Rentabilidad Del Patrimonio | J51: Utilidad Operacional--> | AF51: =+IFERROR(R51/R52,0) -> 0 | AJ51: =+IFERROR(Y51/Y52,0) -> 0 | AN51: Porcentaje
J52: Patrimonio-->
D53: Rentabilidad Del Activo | J53: Utilidad Operacional--> | AF53: =+IFERROR(R53/R54,0) -> 0 | AJ53: =+IFERROR(Y53/Y54,0) -> 0 | AN53: Porcentaje
J54: Activo Total-->
B55: Nota: Para las empresas inspeccionadas, vigiladas o controladas por la Supersociedades, la información consignada en este numeral será validada con la reportada a la Supersociedades y disponible para consulta en Internet mediante el Sistema de Información y Riesgo Empresarial de la Supersociedades (SIREM). Si se evidencian diferencias en los valores consignados en este formato y los reportados a la Supersociedades se tomará como referencia la información del SIREM.
B56: Otra información relevante de la empresa (consigne en este espacio otra información que considere de interés)

Sheet INFO EXPERIENCIA
B8: EXPERIENCIA EN CONTRATACION EN LOS ULTIMOS 5 AÑOS
B9: EXPERIENCIA EN CONTRATACIÓN EN LOS ÚLTIMOS 5 AÑOS
B11: Empresa: | C11: =+'BOLSA DE REPUESTOS'!D13 -> 0 | F11: Nit: | G11: =+'BOLSA DE REPUESTOS'!G13 -> 0 | I11: Fecha: | J11: =+'BOLSA DE REPUESTOS'!J13:K13 -> 0
B12: Contacto: | C12: =+'BOLSA DE REPUESTOS'!D14 -> 0 | F12: Cargo: | G12: =+'BOLSA DE REPUESTOS'!G14:H14 -> 0 | I12: Tel. celular: | J12: =+'BOLSA DE REPUESTOS'!J14:K14 -> 0
B13: E-Mail: | C13: =+'BOLSA DE REPUESTOS'!D15 -> 0 | F13: Dirección: | G13: =+'BOLSA DE REPUESTOS'!G15:H15 -> 0 | I13: Tel. fijo: | J13: =+'BOLSA DE REPUESTOS'!J15:K15 -> 0
B15: Con el fin de conocer la experiencia con la que cuentan las empresas del sector relacionada con el objeto del presente estudio de mercado, agradecemos diligenciar el cuadro que sigue con base en los contratos suscritos en los últimos 5 años, cuyos objetos están relacionados con el objeto del presente estudio de mercado
B17: Tipo de entidad | C17: Entidad o Empresa | D17: Numero del contrato | E17: Objeto del contrato | F17: Fecha de suscripción (dd/mmm/aa) | G17: Plazo de ejecución (en años) | H17: Forma de participación (UT, consorcio, individual) | I17: % de participación | J17: Valor total ejecutado del contrato (de acuerdo con el % de participación)
B29: Nota: Agregar las filas necesarias para reportar la experiencia

Sheet POLIZAS
B9: CONCEPTOS A TENER EN CUENTA PARA REALIZAR LA COTIZACIÓN DE DOTACIÓN INDUSTRIAL
B12: El presente cuadro es de carácter informativo, no se debe diligenciar. Sin embargo se entiende que la cotización incluye la totalidad de los conceptos relacionados a continuación.
B14: POLIZAS PARA LEGALIZACIÓN DEL CONTRATO
B16: CONCEPTO | D16: COBERTURA | E16: PLAZO (En Meses)
B17: Garantía de Seriedad de la oferta | D17: 0.1 | E17: Plazo de Ejecución
B18: Cumplimiento | D18: 0.2 | E18: Plazo de ejecución + 4 meses mas
B19: Salarios, Prestaciones | D19: 0.1 | E19: Plazo de ejecución + 36 meses mas
B20: Calidad de los Servicios | D20: 0.2 | E20: Plazo de ejecución + 4 meses mas
B21: Responsabilidad civil extracontraactual | D21: 0.1 | E21: Plazo de Ejecución
B22: Cobertura: Corresponde al porcentaje del valor total del contrato a amparar.
