Workbook
Name Decision: [1]lista!$A$6:$A$7
Name PARTICIPACION: [1]lista!$A$15:$A$17
Name Procedencia: [1]lista!$A$2:$A$3
Name tipo: [1]lista!$A$11:$A$13
Name x: [2]lista!$A$11:$A$13

Sheet Redes SDC 1
B2: República de Colombia Instituto Colombiano de Bienestar Familiar Cecilia de la Fuente de Lleras Dirección de Abastecimiento
B4: Cotización - Servicios de Red de Área Amplia (WAN), Red de Área Local (LAN), Red Inalámbrica (WLAN), Internet e Internet Móvil , bajo la modalidad de Outsourcing para el Instituto Colombiano de Bienestar Familiar – ICBF.
B6: EMPRESA: | H6: DIRECCIÓN: | M6: NIT: | P6: TEL. CELULAR :
B7: CONTACTO | E7: CARGO: | H7: E-MAIL: | M7: FECHA: | P7: TELEFONO FIJO:
B9: Instrucciones para el diligenciamiento del formato de cotización
B10: • Por favor diligenciar solo las celdas en AMARILLO. Se deben llenar todas las casillas. • Revisar todos los requerimientos que se exponen en el documento "Ficha de Condiciones Técnicas" y Anexos (FCT); y formular su cotización en concordancia con este. • El valor de la cotización deber ser expresado en PESOS COLOMBIANOS. • Los valores unitarios deberán aproximarse por exceso o por defecto al entero más cercano. Si la cifra no está aproximada y aparece con centavos, el ICBF aproximará al entero inferior. • No modificar, agregar o quitar ningún ítem o sub-ítem. Notas: (1) El valor total de la cotización deberá incluir la totalidad de los meses contemplados en el plazo de ejecución del contrato (Numeral 9 de la FCT), teniendo en cuenta que durante los meses de la etapa de transición (2 primeros meses de ejecución) no se generará factura. Se estima para el presente estudio de mercado que la etapa de transición será durante los meses de noviembre y diciembre del 2014. Sin embargo, los meses facturables de operación del año 2015 dependerán de la fecha de legalización e inicio del contrato y de los meses en los que efectivamente se realice la etapa de transición. Se precisa que los 7 meses facturables de operación contemplados para el año 2018, incluyen los 3 meses finales de entrega al futuro nuevo operador. (2) Corresponde a las cantidades requeridas actualmente por la Entidad. El contratista estará en la capacidad de atender requerimientos adicionales de la Entidad. (3) Para el presente Estudio de mercado se deberá cotizar el valor unitario o mensual según corresponda para el año 2015. Para los años 2016, 2017 y 2018 la actualización de precios será constante y se realizará de manera automática. (4) Para este servicio por favor diligenciar la hoja "Redes SDC 2". Este servicio se facturará una única vez, al inicio del contrato. El valor a cotizar debe corresponder a la totalidad del valor del último kilómetro (la obra civil, los equipos y accesorios de red que se requieren) en la instalación de la totalidad de los canales definidos por el ICBF. El valor de este servicio que se refleja en la presente cotización está vinculado a la sumatoria total de la hoja "Redes SDC 2". (5) Para este servicio por favor diligenciar la hoja "Redes SDC 3". Cotizar la totalidad de los enlaces para las sedes descritas en hoja "Redes SDC 3" de acuerdo con el tipo de enlace ofrecido. Se deberá contemplar en la cotización la opción que represente un menor costo mensual entre canales dedicados, internet banda ancha e internet móvil. El valor de este servicio que se refleja en la presente cotización está vinculado a la sumatoria total de la hoja "Redes SDC 3". (6) Las hojas "Redes SDC 4" y "Redes SDC 5", incluyen bienes y servicios que la Entidad podrá requerir durante la ejecución del contrato, se requiere cotizar sus precios unitarios y hacen parte integral de la presente cotización.
Q11: =+Q13+N13+K13+H13 -> 43
F12: 2015 | I12: 2016 | L12: 2017 | O12: 2018 | R12: Total contratación
F13: =+"Meses facturables de Operación "&F12 -> Meses facturables de Operación 2015 | H13: 12 | I13: =+"Meses facturables de Operación "&I12 -> Meses facturables de Operación 2016 | K13: 12 | L13: =+"Meses facturables de Operación "&L12 -> Meses facturables de Operación 2017 | N13: 12 | O13: =+"Meses facturables de Operación "&O12 -> Meses facturables de Operación 2018 | Q13: 7
B14: Servicio | C14: Subservicio | D14: Unidad | E14: Cantidad por mes para cada año (2) | F14: Valor Unitario (3) | G14: Valor Mensual (3) | H14: Valor Total Anual | I14: Valor Unitario (3) | J14: Valor Mensual (3) | K14: Valor Total Anual | L14: Valor Unitario (3) | M14: Valor Mensual (3) | N14: Valor Total Anual | O14: Valor Unitario (3) | P14: Valor Mensual (3) | Q14: Valor Total Anual | T14: Control | U14: Control | V14: Control | W14: Control | X14: Control
B15: Internet | C15: No Aplica | D15: Mbps | E15: 200 | G15: =+F15*$E15 -> 0 | H15: =+G15*H$13 -> 0 | I15: =+F15 -> 0 | J15: =+I15*$E15 -> 0 | K15: =+J15*K$13 -> 0 | L15: =+I15 -> 0 | M15: =+L15*$E15 -> 0 | N15: =+M15*N$13 -> 0 | O15: =+L15 -> 0 | P15: =+O15*$E15 -> 0 | Q15: =+P15*Q$13 -> 0 | R15: =+Q15+N15+K15+H15 -> 0 | T15: =+H15/H$13/E15-F15 -> 0 | U15: =+K15/K$13/E15-I15 -> 0 | V15: =+N15/N$13/E15-L15 -> 0 | W15: =+Q15/Q$13/E15-O15 -> 0 | X15: =+R15-Q15-N15-K15-H15 -> 0
B16: Internet Móvil | C16: No Aplica | D16: Modem USB | E16: 300 | G16: =+F16*$E16 -> 0 | H16: =+G16*H$13 -> 0 | I16: =+F16 -> 0 | J16: =+I16*$E16 -> 0 | K16: =+J16*K$13 -> 0 | L16: =+I16 -> 0 | M16: =+L16*$E16 -> 0 | N16: =+M16*N$13 -> 0 | O16: =+L16 -> 0 | P16: =+O16*$E16 -> 0 | Q16: =+P16*Q$13 -> 0 | R16: =+Q16+N16+K16+H16 -> 0 | T16: =+H16/H$13/E16-F16 -> 0 | U16: =+K16/K$13/E16-I16 -> 0 | V16: =+N16/N$13/E16-L16 -> 0 | W16: =+Q16/Q$13/E16-O16 -> 0 | X16: =+R16-Q16-N16-K16-H16 -> 0
B17: Red Área Amplia (WAN) | C17: Último kilómetro) (4) | D17: Sede (4) | E17: Listado en "Redes SDC 2" | H17: =+'Redes SDC 2'!$H$313 -> 0 | R17: =+Q17+N17+K17+H17 -> 0 | T17: =+R17-H17 -> 0 | X17: =+R17-Q17-N17-K17-H17 -> 0
C18: Canales (5) | D18: Mes (5) | E18: Listado en "Redes SDC 3" | G18: =+'Redes SDC 3'!$M$313 -> 0 | H18: =+G18*H$13 -> 0 | J18: =+$G$18 -> 0 | K18: =+J18*K$13 -> 0 | M18: =+$G$18 -> 0 | N18: =+M18*N$13 -> 0 | P18: =+$G$18 -> 0 | Q18: =+P18*Q$13 -> 0 | R18: =+Q18+N18+K18+H18 -> 0 | T18: =+H18/H$13-G18 -> 0 | U18: =+K18/K$13-J18 -> 0 | V18: =+N18/N$13-M18 -> 0 | W18: =+Q18/Q$13-P18 -> 0 | X18: =+R18-Q18-N18-K18-H18 -> 0
B19: Red Inalámbrica (WLAN) | C19: Servicio en la Sede de la Dirección General | D19: Mes | E19: No Aplica | H19: =+G19*H$13 -> 0 | J19: =+G19 -> 0 | K19: =+J19*K$13 -> 0 | M19: =+J19 -> 0 | N19: =+M19*N$13 -> 0 | P19: =+M19 -> 0 | Q19: =+P19*Q$13 -> 0 | R19: =+Q19+N19+K19+H19 -> 0 | T19: =+H19/H$13-G19 -> 0 | U19: =+K19/K$13-J19 -> 0 | V19: =+N19/N$13-M19 -> 0 | W19: =+Q19/Q$13-P19 -> 0 | X19: =+R19-Q19-N19-K19-H19 -> 0
B20: Centro de Administración y Monitoreo | C20: Administración (incluye equipos y servicio) -INTERNET | D20: Mes | E20: No Aplica | H20: =+G20*H$13 -> 0 | J20: =+G20 -> 0 | K20: =+J20*K$13 -> 0 | M20: =+J20 -> 0 | N20: =+M20*N$13 -> 0 | P20: =+M20 -> 0 | Q20: =+P20*Q$13 -> 0 | R20: =+Q20+N20+K20+H20 -> 0 | T20: =+H20/H$13-G20 -> 0 | U20: =+K20/K$13-J20 -> 0 | V20: =+N20/N$13-M20 -> 0 | W20: =+Q20/Q$13-P20 -> 0 | X20: =+R20-Q20-N20-K20-H20 -> 0
C21: Administración (incluye equipos y servicio) - RED WAN | D21: Mes | E21: No Aplica | H21: =+G21*H$13 -> 0 | J21: =+G21 -> 0 | K21: =+J21*K$13 -> 0 | M21: =+J21 -> 0 | N21: =+M21*N$13 -> 0 | P21: =+M21 -> 0 | Q21: =+P21*Q$13 -> 0 | R21: =+Q21+N21+K21+H21 -> 0 | T21: =+H21/H$13-G21 -> 0 | U21: =+K21/K$13-J21 -> 0 | V21: =+N21/N$13-M21 -> 0 | W21: =+Q21/Q$13-P21 -> 0 | X21: =+R21-Q21-N21-K21-H21 -> 0
C22: Administración (incluye equipos y servicio) - RED LAN | D22: Mes | E22: No Aplica | H22: =+G22*H$13 -> 0 | J22: =+G22 -> 0 | K22: =+J22*K$13 -> 0 | M22: =+J22 -> 0 | N22: =+M22*N$13 -> 0 | P22: =+M22 -> 0 | Q22: =+P22*Q$13 -> 0 | R22: =+Q22+N22+K22+H22 -> 0 | T22: =+H22/H$13-G22 -> 0 | U22: =+K22/K$13-J22 -> 0 | V22: =+N22/N$13-M22 -> 0 | W22: =+Q22/Q$13-P22 -> 0 | X22: =+R22-Q22-N22-K22-H22 -> 0
C23: Herramientas de Gestión y Monitoreo - INTERNET | D23: Mes | E23: No Aplica | H23: =+G23*H$13 -> 0 | J23: =+G23 -> 0 | K23: =+J23*K$13 -> 0 | M23: =+J23 -> 0 | N23: =+M23*N$13 -> 0 | P23: =+M23 -> 0 | Q23: =+P23*Q$13 -> 0 | R23: =+Q23+N23+K23+H23 -> 0 | T23: =+H23/H$13-G23 -> 0 | U23: =+K23/K$13-J23 -> 0 | V23: =+N23/N$13-M23 -> 0 | W23: =+Q23/Q$13-P23 -> 0 | X23: =+R23-Q23-N23-K23-H23 -> 0
C24: Herramientas de Gestión y Monitoreo - RED WAN | D24: Mes | E24: No Aplica | H24: =+G24*H$13 -> 0 | J24: =+G24 -> 0 | K24: =+J24*K$13 -> 0 | M24: =+J24 -> 0 | N24: =+M24*N$13 -> 0 | P24: =+M24 -> 0 | Q24: =+P24*Q$13 -> 0 | R24: =+Q24+N24+K24+H24 -> 0 | T24: =+H24/H$13-G24 -> 0 | U24: =+K24/K$13-J24 -> 0 | V24: =+N24/N$13-M24 -> 0 | W24: =+Q24/Q$13-P24 -> 0 | X24: =+R24-Q24-N24-K24-H24 -> 0
B25: Gobernabilidad | C25: Gestión y Administración del contrato | D25: Mes | E25: No Aplica | H25: =+G25*H$13 -> 0 | J25: =+G25 -> 0 | K25: =+J25*K$13 -> 0 | M25: =+J25 -> 0 | N25: =+M25*N$13 -> 0 | P25: =+M25 -> 0 | Q25: =+P25*Q$13 -> 0 | R25: =+Q25+N25+K25+H25 -> 0 | T25: =+H25/H$13-G25 -> 0 | U25: =+K25/K$13-J25 -> 0 | V25: =+N25/N$13-M25 -> 0 | W25: =+Q25/Q$13-P25 -> 0 | X25: =+R25-Q25-N25-K25-H25 -> 0
B26: Subtotal mensual y anual antes de IVA | G26: =+G15+G16+G18+G19+SUM(G20:G25)+H17/H13 -> 0 | H26: =+H15+H16+H18+H19+SUM(H20:H25)+H17 -> 0 | J26: =+J15+J16+J18+J19+SUM(J20:J25) -> 0 | K26: =+K15+K16+K18+K19+SUM(K20:K25) -> 0 | M26: =+M15+M16+M18+M19+SUM(M20:M25) -> 0 | N26: =+N15+N16+N18+N19+SUM(N20:N25) -> 0 | P26: =+P15+P16+P18+P19+SUM(P20:P25) -> 0 | Q26: =+Q15+Q16+Q18+Q19+SUM(Q20:Q25) -> 0 | R26: =+R15+R16+R18+R19+SUM(R20:R25)+R17 -> 0
B27: IVA (Tarifa 16%) | G27: =+G26*16% -> 0 | H27: =+H26*16% -> 0 | J27: =+J26*16% -> 0 | K27: =+K26*16% -> 0 | M27: =+M26*16% -> 0 | N27: =+N26*16% -> 0 | P27: =+P26*16% -> 0 | Q27: =+Q26*16% -> 0 | R27: =+R26*16% -> 0
B28: Total mensual y anual incluido IVA | G28: =+G27+G26 -> 0 | H28: =+H26+H27 -> 0 | J28: =+J27+J26 -> 0 | K28: =+K26+K27 -> 0 | M28: =+M27+M26 -> 0 | N28: =+N26+N27 -> 0 | P28: =+P27+P26 -> 0 | Q28: =+Q26+Q27 -> 0 | R28: =+R26+R27 -> 0
B30: RESUMEN IVA INCLUIDO | F30: =+F12 -> 2015 | H30: =+I12 -> 2016 | J30: =+L12 -> 2017 | L30: =+O12 -> 2018 | N30: Total Cotización
F31: Valor Mensual IVA Incluido | G31: Valor Total Anual IVA Incluido | H31: Valor Mensual IVA Incluido | I31: Valor Total Anual IVA Incluido | J31: Valor Mensual IVA Incluido | K31: Valor Total Anual IVA Incluido | L31: Valor Mensual IVA Incluido | M31: Valor Total Anual IVA Incluido | N31: Valor Total
B32: =+B15 -> Internet | F32: =+ROUND(G15*1.16,0) -> 0 | G32: =+ROUND(H15*1.16,0) -> 0 | H32: =+ROUND(J15*1.16,0) -> 0 | I32: =+ROUND(K15*1.16,0) -> 0 | J32: =+ROUND(M15*1.16,0) -> 0 | K32: =+ROUND(N15*1.16,0) -> 0 | L32: =+ROUND(P15*1.16,0) -> 0 | M32: =+ROUND(Q15*1.16,0) -> 0 | N32: =+G32+I32+K32+M32 -> 0
B33: =+B16 -> Internet Móvil | F33: =+ROUND(G16*1.16,0) -> 0 | G33: =+ROUND(H16*1.16,0) -> 0 | H33: =+ROUND(J16*1.16,0) -> 0 | I33: =+ROUND(K16*1.16,0) -> 0 | J33: =+ROUND(M16*1.16,0) -> 0 | K33: =+ROUND(N16*1.16,0) -> 0 | L33: =+ROUND(P16*1.16,0) -> 0 | M33: =+ROUND(Q16*1.16,0) -> 0 | N33: =+G33+I33+K33+M33 -> 0
B34: =+B17 -> Red Área Amplia (WAN) | F34: =+ROUND(((H17/H$13)+G18)*1.16,0) -> 0 | G34: =+ROUND((H18+H17)*1.16,0) -> 0 | H34: =+ROUND(((K17/K$13)+J18)*1.16,0) -> 0 | I34: =+ROUND((K18+K17)*1.16,0) -> 0 | J34: =+ROUND(((N17/N$13)+M18)*1.16,0) -> 0 | K34: =+ROUND((N18+N17)*1.16,0) -> 0 | L34: =+ROUND(((Q17/Q$13)+P18)*1.16,0) -> 0 | M34: =+ROUND((Q18+Q17)*1.16,0) -> 0 | N34: =+G34+I34+K34+M34 -> 0
B35: =+B19 -> Red Inalámbrica (WLAN) | F35: =+ROUND(G19*1.16,0) -> 0 | G35: =+ROUND(H19*1.16,0) -> 0 | H35: =+ROUND(J19*1.16,0) -> 0 | I35: =+ROUND(K19*1.16,0) -> 0 | J35: =+ROUND(M19*1.16,0) -> 0 | K35: =+ROUND(N19*1.16,0) -> 0 | L35: =+ROUND(P19*1.16,0) -> 0 | M35: =+ROUND(Q19*1.16,0) -> 0 | N35: =+G35+I35+K35+M35 -> 0
B36: =+B20 -> Centro de Administración y Monitoreo | F36: =+ROUND((SUM(G20:G24))*1.16,0) -> 0 | G36: =+ROUND((SUM(H20:H24))*1.16,0) -> 0 | H36: =+ROUND((SUM(J20:J24))*1.16,0) -> 0 | I36: =+ROUND((SUM(K20:K24))*1.16,0) -> 0 | J36: =+ROUND((SUM(M20:M24))*1.16,0) -> 0 | K36: =+ROUND((SUM(N20:N24))*1.16,0) -> 0 | L36: =+ROUND((SUM(P20:P24))*1.16,0) -> 0 | M36: =+ROUND((SUM(Q20:Q24))*1.16,0) -> 0 | N36: =+G36+I36+K36+M36 -> 0
B37: =+B25 -> Gobernabilidad | F37: =+ROUND(G25*1.16,0) -> 0 | G37: =+ROUND(H25*1.16,0) -> 0 | H37: =+ROUND(J25*1.16,0) -> 0 | I37: =+ROUND(K25*1.16,0) -> 0 | J37: =+ROUND(M25*1.16,0) -> 0 | K37: =+ROUND(N25*1.16,0) -> 0 | L37: =+ROUND(P25*1.16,0) -> 0 | M37: =+ROUND(Q25*1.16,0) -> 0 | N37: =+G37+I37+K37+M37 -> 0
B38: Total IVA incluido | F38: =SUM(F32:F37) -> 0 | G38: =SUM(G32:G37) -> 0 | H38: =SUM(H32:H37) -> 0 | I38: =SUM(I32:I37) -> 0 | J38: =SUM(J32:J37) -> 0 | K38: =SUM(K32:K37) -> 0 | L38: =SUM(L32:L37) -> 0 | M38: =SUM(M32:M37) -> 0 | N38: =SUM(N32:N37) -> 0
B40: La presente cotización:
B41: • Incluye todos los costos y gastos directos e indirectos en que debe incurrir el contratista durante la ejecución del contrato de acuerdo con las especificaciones de la Ficha de Condiciones Técnicas, las obligaciones tributarias de acuerdo con las normas aplicables para el tipo de servicio y contrato correspondiente, y los costos de las pólizas. • Se remite como parte del estudio de mercado, previo a la contratación, y no implica ninguna obligación de contratar. • Tiene una vigencia de 90 días a partir de la fecha de diligenciamiento.
B42: Inscripción en el Registro Único de Proponentes: Las personas naturales y jurídicas, nacionales o extranjeras, con domicilio en Colombia, interesadas en participar en procesos de contratación convocados por las entidades estatales, deben estar inscritas en el RUP, salvo las excepciones previstas de forma taxativa en la ley (Artículo 8 del Decreto 1510 de 2013). Se aclara que esta inscripción no se requiere para remitir cotización durante el estudio de mercado.
G45: Control | H45: =+H28/H13-G28 -> 0 | K45: =+K28/K13-J28 -> 0 | N45: =+N28/N13-M28 -> 0 | Q45: =+Q28/Q13-P28 -> 0
G46: Control | H46: =+G38/H13-F38 -> 0 | K46: =+I38/K13-H38 -> 0 | N46: =+K38/N13-J38 -> 0 | Q46: =+M38/Q13-L38 -> 0
G47: Control | H47: =+H28-G38 -> 0 | K47: =+K28-I38 -> 0 | N47: =+N28-K38 -> 0 | Q47: =+Q28-M38 -> 0 | R47: =+R28-N38 -> 0

Sheet Redes SDC 2
B4: Cotización - Servicios de Red de Área Amplia (WAN), Red de Área Local (LAN), Red Inalámbrica (WLAN), Internet e Internet Móvil , bajo la modalidad de Outsourcing para el Instituto Colombiano de Bienestar Familiar – ICBF.
B6: EMPRESA: | D6: =+IF('Redes SDC 1'!$C$6=0,"",('Redes SDC 1'!C6))
B7: CONTACTO: | D7: =+IF('Redes SDC 1'!$C$6=0,"",('Redes SDC 1'!C7))
B9: Instrucciones para el diligenciamiento del formato de cotización
B10: • Por favor diligenciar solo las celdas en AMARILLO. Se deben llenar todas las casillas. • Revisar todos los requerimientos que se exponen en el documento "Ficha de Condiciones Técnicas" y Anexos (FCT); y formular su cotización en concordancia con este. • El valor de la cotización deber ser expresado en PESOS COLOMBIANOS. • Los valores unitarios deberán aproximarse por exceso o por defecto al entero más cercano. Si la cifra no está aproximada y aparece con centavos, el ICBF aproximará al entero inferior. • No modificar, agregar o quitar ningún ítem o sub-ítem. Notas: (1) Este servicio se facturará una única vez, al inicio del contrato. El valor a cotizar debe corresponder a la totalidad del valor del último kilómetro (la obra civil, los equipos y accesorios de red que se requieren) en la instalación de la totalidad de los canales definidos por el ICBF. El valor total de este servicio se reflejará en la hoja "Redes SDC 1" (2) Las sedes relacionadas en este documento corresponden a las decritas en la Hoja "enlaces WAN" del Anexo "ANEXO 3.2–WAN ULTIMA MILLA-TRASLADOS"
B11: RED WAN - ULTIMO KILOMETRO
B13: ID (2) | C13: Regional | D13: Tipo de Sede | E13: Nombre | F13: Ciudad | G13: Direccion | H13: Valor Antes de IVA (1)
A14: 1 | B14: 1 | C14: AMAZONAS | D14: CAIVAS | E14: LETICIA | F14: LETICIA | G14: calle 14 N° 10-32 Barrio Victoria Regia
A15: 2 | B15: 2 | C15: AMAZONAS | D15: REG | E15: AMAZONAS | F15: LETICIA | G15: CARRERA 4º No. 4 - 10 BARRIO GAITAN
A16: 3 | B16: 3 | C16: AMAZONAS | D16: SRPA | E16: CSJ - AMAZONAS | F16: AMAZONAS | G16: Carrera 5 Calle 5
A17: 4 | B17: 4 | C17: AMAZONAS | D17: UL | E17: PUERTO NARIÑO | F17: PUERTO NARIÑO | G17: Barrio Loma Linda – Al lado del Hospital Local Pto. Nariño
A18: 5 | B18: 5 | C18: ANTIOQUIA | D18: CAIVAS | E18: MEDELLIN | F18: MEDELLIN | G18: CARRERA 44 A 31- 156 San Diego
A19: 6 | B19: 6 | C19: ANTIOQUIA | D19: SRPA | E19: CSJ - MEDELLIN | F19: MEDELLIN | G19: CARRERA 83 No. 47A-47 BARRIO LA FLORESTA - Se tiene una accion popular y se espera que la sede nos apruebe el cambio
A20: 7 | B20: 7 | C20: ANTIOQUIA | D20: SRPA | E20: CSJ - RIONEGRO | F20: RIONEGRO | G20: Vereda Barro Blanco, Sector Las Delicias, vía El Porvenir – Rionegro Antioquía
A21: 8 | B21: 8 | C21: ANTIOQUIA | D21: CAIF | E21: COMUNA 8 | F21: MEDELLIN | G21: CARRERA 39 No. 50-68 Plaza de Flórez Ayacucho
A22: 9 | B22: 9 | C22: ANTIOQUIA | D22: CZ | E22: NORORIENTAL | F22: MEDELLIN | G22: Carrera 50ª Nº 63-43 Medellín.
A23: 10 | B23: 10 | C23: ANTIOQUIA | D23: CZ | E23: NOROCCIDENTAL | F23: MEDELLIN | G23: Carrera 70 No 42-37
A24: 11 | B24: 11 | C24: ANTIOQUIA | D24: CZ | E24: SURORIENTAL | F24: MEDELLIN | G24: Carrera 80 No. 38 B - 48 Barrio Laureles
A25: 12 | B25: 12 | C25: ANTIOQUIA | D25: CZ | E25: ABURRA NORTE | F25: BELLO | G25: Diagonal 54 Nº 42B-19 Bello - Niquia
... A214: 201 | B214: 202 | C214: NACIONAL | D214: SEDE NACIONAL - DIT | E214: BOGOTA | F214: BOGOTA | G214: Calle 57 No 16-35
A215: 202 | B215: 203 | C215: NACIONAL | E215: SIBERIA FUNZA | F215: Funza
A216: 203 | B216: 204 | C216: NARIÑO | D216: CAIVAS | E216: PASTO | F216: PASTO | G216: CALLE 19 No. 21A29 COMPLEJO BANCARIO
A217: 204 | B217: 205 | C217: NARIÑO | D217: SRPA | E217: CSJ - NARIÑO | F217: PASTO | G217: CALE 20 NO. 7 – 06. BARRIO SENDOYA. PASTO
A218: 205 | B218: 206 | C218: NARIÑO | D218: UL | E218: EL CHARCO | F218: EL CHARCO | G218: BARRIO EL CANAL, EDIFICIO CORPONARIÑO
A219: 206 | B219: 207 | C219: NARIÑO | D219: CZ | E219: PASTO 1 | F219: PASTO | G219: CARRERA 24 No. 16-19 EDIFICIO CONTINENTAL
A220: 207 | B220: 208 | C220: NARIÑO | D220: CZ | E220: PASTO 2 | F220: PASTO | G220: CALLE 20 No. 38 – 63. AVENIDA LOS ESTUDIANTES
A221: 208 | B221: 209 | C221: NARIÑO | D221: CZ | E221: TUMACO | F221: TUMACO | G221: CALLE SAN CARLOS. HOTEL PUNTA DEL ESTE. PISOS 2 Y 3
A222: 209 | B222: 210 | C222: NARIÑO | D222: CZ | E222: IPIALES | F222: IPIALES | G222: CARRERA 3 CON CALLE 10 NO. 10 – 21, BARRIO LIBERTAD, SECTOR LA LAGUNA.
A223: 210 | B223: 211 | C223: NARIÑO | D223: CZ | E223: TUQUERRES | F223: TUQUERRES | G223: CALLE 14 NO. 15-22.BARRIO SAN FRANCISCO
A224: 211 | B224: 212 | C224: NARIÑO | D224: CZ | E224: LA UNION | F224: LA UNION | G224: CARRERA 1 NO. 21 - 61, BARRIO INMACULADA, CONJUNTO RESIDENCIAL BALCONES DE LA VENTA
A225: 212 | B225: 213 | C225: NARIÑO | D225: CZ | E225: BARBACOAS | F225: BARBACOAS | G225: CALLE GUABO, FRENTE AL BANCO AGRARIO
A226: 213 | B226: 214 | C226: NARIÑO | D226: CZ | E226: REMOLINO | F226: TAMINANGO | G226: VIA PANAMERICANA NORTE KM 34 EL REMOLINO
A227: 214 | B227: 215 | C227: NARIÑO | D227: REG | E227: NARIÑO | F227: PASTO | G227: CRA 3 CON CALLE 23 ESQUINA B/ EL MERCEDARIO
... A309: 296 | B309: 299 | C309: VALLE | D309: REG | E309: VALLE | F309: SANTIAGO DE CALI | G309: AVENIDA 2A NORTE NO. 33 AN - 45 BARRIO PRADOS DEL NORTE
A310: 297 | B310: 300 | C310: VALLE | D310: SRPA | E310: CSJ-CALI2 | F310: SANTIAGO DE CALI
A311: 298 | B311: 301 | C311: VAUPES | D311: REG | E311: VAUPES | F311: MITU | G311: Carrera 15A 13ª – 52 Barrio Centro
A312: 299 | B312: 302 | C312: VICHADA | D312: REG | E312: VICHADA | F312: PUERTO CARREÑO | G312: Carrera 11 No. 14 - 70
G313: TOTAL VALOR DEL ÚLTIMO KILÓMETRO | H313: =SUM(H14:H312) -> 0

Sheet Redes SDC 3
B4: Cotización - Servicios de Red de Área Amplia (WAN), Red de Área Local (LAN), Red Inalámbrica (WLAN), Internet e Internet Móvil , bajo la modalidad de Outsourcing para el Instituto Colombiano de Bienestar Familiar – ICBF.
B6: EMPRESA: | D6: =+IF('Redes SDC 1'!$C$6=0,"",('Redes SDC 1'!C6))
B7: CONTACTO: | D7: =+IF('Redes SDC 1'!$C$6=0,"",('Redes SDC 1'!C7))
B9: Instrucciones para el diligenciamiento del formato de cotización
B10: • Por favor diligenciar solo las celdas en AMARILLO. Se deben llenar todas las casillas. • Revisar todos los requerimientos que se exponen en el documento "Ficha de Condiciones Técnicas" y Anexos (FCT); y formular su cotización en concordancia con este. • El valor de la cotización deber ser expresado en PESOS COLOMBIANOS. • Los valores unitarios deberán aproximarse por exceso o por defecto al entero más cercano. Si la cifra no está aproximada y aparece con centavos, el ICBF aproximará al entero inferior. • No modificar, agregar o quitar ningún ítem o sub-ítem. Notas: (1) Cotizar la totalidad de los enlaces para las sedes descritas en este formato de acuerdo con el tipo de enlace ofrecido. Se deberá contenmplar en la cotización la opción que represente un menor costo mensual entre canales dedicados, internet banda ancha e internet móvil. El valor total de este servicio se reflejará en la hoja "Redes SDC 1". (2) Seleccionar en las celdas de la columna "K" y "L" segun corresponda el tipo de Canal y Medio ofrecido para cada sede. El potencial proveedor deberá cotizar la opción que represente un menor costo mensual entre canales dedicados, internet banda ancha e Internet Movil
B11: RED WAN - COSTOS ENLACES
B13: ID (1) | C13: Regional | D13: Tipo de Sede | E13: Nombre | F13: Ciudad | G13: Direccion | H13: MEDIO ACTUAL | I13: Observaciones Enlace Sugerido por el ICBF | J13: Canal solicitado 2014 (Kbps) | K13: Tipo de canal Ofrecido (2) | L13: Medio Ofrecido (2) | M13: Valor Mensual Antes de IVA (1)
A14: 70 | B14: 1 | C14: AMAZONAS | D14: CAIVAS | E14: LETICIA | F14: LETICIA | G14: calle 14 N° 10-32 Barrio Victoria Regia | H14: Satelital | I14: Canal Dedicado | J14: 512
A15: 268 | B15: 2 | C15: AMAZONAS | D15: REG | E15: AMAZONAS | F15: LETICIA | G15: CARRERA 4º No. 4 - 10 BARRIO GAITAN | H15: Satelital | I15: Canal Dedicado | J15: =4*1024 -> 4096
A16: 5 | B16: 3 | C16: AMAZONAS | D16: SRPA | E16: CSJ - AMAZONAS | F16: AMAZONAS | G16: Carrera 5 Calle 5 | H16: Satelital | I16: Internet movil / Canales compartidos | J16: 2048
A17: 10 | B17: 4 | C17: AMAZONAS | D17: UL | E17: PUERTO NARIÑO | F17: PUERTO NARIÑO | G17: Barrio Loma Linda – Al lado del Hospital Local Pto. Nariño | H17: Satelital | I17: Internet movil / Canales compartidos | J17: 3072
A18: 66 | B18: 5 | C18: ANTIOQUIA | D18: CAIVAS | E18: MEDELLIN | F18: MEDELLIN | G18: CARRERA 44 A 31- 156 San Diego | H18: Fibra | I18: Canales compartidos (Banda ancha) | J18: 9216
A19: 204 | B19: 6 | C19: ANTIOQUIA | D19: SRPA | E19: CSJ - MEDELLIN | F19: MEDELLIN | G19: CARRERA 83 No. 47A-47 BARRIO LA FLORESTA - Se tiene una accion popular y se espera que la sede nos apruebe el cambio | H19: Fibra | I19: Canal Dedicado | J19: =2*1024 -> 2048
A20: 11 | B20: 7 | C20: ANTIOQUIA | D20: SRPA | E20: CSJ - RIONEGRO | F20: RIONEGRO | G20: Vereda Barro Blanco, Sector Las Delicias, vía El Porvenir – Rionegro Antioquía | H20: Fibra | I20: Internet movil / Canales compartidos | J20: 3072
A21: 52 | B21: 8 | C21: ANTIOQUIA | D21: CAIF | E21: COMUNA 8 | F21: MEDELLIN | G21: CARRERA 39 No. 50-68 Plaza de Flórez Ayacucho | H21: Fibra | I21: Canales compartidos (Banda ancha) | J21: 6144
A22: 267 | B22: 9 | C22: ANTIOQUIA | D22: CZ | E22: NORORIENTAL | F22: MEDELLIN | G22: Carrera 50ª Nº 63-43 Medellín. | H22: Fibra | I22: Canal Dedicado | J22: 4608
A23: 265 | B23: 10 | C23: ANTIOQUIA | D23: CZ | E23: NOROCCIDENTAL | F23: MEDELLIN | G23: Carrera 70 No 42-37 | H23: Fibra | I23: Canal Dedicado | J23: 4096
A24: 260 | B24: 11 | C24: ANTIOQUIA | D24: CZ | E24: SURORIENTAL | F24: MEDELLIN | G24: Carrera 80 No. 38 B - 48 Barrio Laureles | H24: Fibra | I24: Canal Dedicado | J24: 4096
A25: 242 | B25: 12 | C25: ANTIOQUIA | D25: CZ | E25: ABURRA NORTE | F25: BELLO | G25: Diagonal 54 Nº 42B-19 Bello - Niquia | H25: Fibra | I25: Canal Dedicado | J25: =3*1024 -> 3072
A26: 239 | B26: 13 | C26: ANTIOQUIA | D26: CZ | E26: ABURRA SUR | F26: ITAGUI | G26: Carrera 51 Nº 52-19 Itagüí | H26: Fibra | I26: Canal Dedicado | J26: 2560
A27: 115 | B27: 14 | C27: ANTIOQUIA | D27: CZ | E27: BAJO CAUCA | F27: CAUCASIA | G27: Tr. 13 Nº 14C-36 Barrio Pajonal Caucasia | H27: Fibra | I27: Canal Dedicado | J27: 1024
A28: 110 | B28: 15 | C28: ANTIOQUIA | D28: CZ | E28: LA MESETA | F28: YARUMAL | G28: Calle 21 Nº 18-45, Yarumal | H28: Fibra | I28: Canal Dedicado | J28: 1024
A29: 97 | B29: 16 | C29: ANTIOQUIA | D29: CZ | E29: MAGDALENA MEDIO | F29: PUERTO BERRIO | G29: Calle 10 con Carrera 10, Puerto Berrío | H29: Fibra | I29: Canal Dedicado | J29: 1024
A30: 113 | B30: 17 | C30: ANTIOQUIA | D30: CZ | E30: OCCIDENTE | F30: SANTA FE DE ANTIOQUIA | G30: Calle 9 # 8-40 Carrera Santander | H30: Fibra | I30: Canal Dedicado | J30: 1024
A31: 65 | B31: 18 | C31: ANTIOQUIA | D31: CZ | E31: OCCIDENTE MEDIO | F31: DABEIBA | G31: Carrera Uribe Uribe # 10 - 86 calle Principal | H31: Fibra | I31: Canales compartidos (Banda ancha) | J31: 9216
A32: 211 | B32: 19 | C32: ANTIOQUIA | D32: CZ | E32: ORIENTE | F32: RIONEGRO | G32: Calle 48 Nº 51-19 Piso 3º Rionegro | H32: Fibra | I32: Canal Dedicado | J32: 2048
A33: 74 | B33: 20 | C33: ANTIOQUIA | D33: CZ | E33: PORCE NUS | F33: YOLOMBO | G33: Carrera 18 # 19-97 Denominado Calle Cordoba | H33: Fibra | I33: Canal Dedicado | J33: 512
A34: 123 | B34: 21 | C34: ANTIOQUIA | D34: CZ | E34: SUROESTE - | F34: ANDES | G34: calle 49A Nº49a-39 | H34: Fibra | I34: Canal Dedicado | J34: 1024
A35: 73 | B35: 22 | C35: ANTIOQUIA | D35: CZ | E35: PENDERISCO | F35: URRAO | G35: Calle 29 Nº 29-43 Urrao | H35: Fibra | I35: Canal Dedicado | J35: 512
A36: 190 | B36: 23 | C36: ANTIOQUIA | D36: CZ | E36: URABA | F36: APARTADÓ | G36: Carrera 100 # 112-04, Apartado Vía Turbo frente al SENA | H36: Fibra | I36: Canal Dedicado | J36: 1536
A37: 127 | B37: 24 | C37: ANTIOQUIA | D37: CZ | E37: ORIENTE MEDIO | F37: EL SANTUARIO | G37: Calle 49 Nº 47-23 piso 1º Santuario | H37: Fibra | I37: Canal Dedicado | J37: 1024
A38: 296 | B38: 25 | C38: ANTIOQUIA | D38: REG | E38: ANTIOQUIA | F38: MEDELLIN | G38: CALLE 45 NO. 79 - 141 LA AMÉRICA | H38: Fibra | I38: Canal Dedicado | J38: =15*1024 -> 15360
A39: 41 | B39: 26 | C39: ANTIOQUIA | D39: CAIF | E39: COMUNA 13 | F39: MEDELLIN | G39: Calle 39C No. 109-24 Casa de Justicia Comuna 13 | H39: Fibra | I39: Canales compartidos (Banda ancha) | J39: 5120
A40: 61 | B40: 27 | C40: ANTIOQUIA | D40: HOGAR DE PASO 2 | E40: HOGAR DE PASO 2 - CENTRO DE DIAGNOSTICO SEDE ROBLEDO | F40: MEDELLIN | G40: ROBLEDO CALLE 78B #72 A 36 | H40: Fibra | I40: Canales compartidos (Banda ancha) | J40: 8192
A41: 2 | B41: 28 | C41: ANTIOQUIA | D41: HOGAR DE PASO 1 | E41: HOGAR DE PASO 1 - CENTRO DE DIAGNOSTICO CERRO EL VOLADOR | F41: MEDELLIN | G41: CARERRA 65 # 59 A 321 INTERIOR 104 CERRO EL VOLADOR | H41: Fibra | I41: Internet movil / Canales compartidos | J41: 1024
A42: 200 | B42: 29 | C42: ARAUCA | D42: CZ | E42: SARAVENA | F42: SARAVENA | G42: CARRERA 16 NO. 28 - 09 BARRIO 6 DE OCTUBRE | H42: Fibra | I42: Canal Dedicado | J42: 2048
A43: 167 | B43: 30 | C43: ARAUCA | D43: CZ | E43: TAME | F43: TAME | G43: CARRERA 14 NO. 15 - 57 BARRIO CENTRO | H43: Fibra | I43: Canal Dedicado | J43: 1536
A44: 269 | B44: 31 | C44: ARAUCA | D44: CZ / REG | E44: ARAUCA | F44: ARAUCA | G44: CALLE 21 NO. 1 - 24 BARRIO FUNDADORES | H44: Fibra | I44: Canal Dedicado | J44: 5120
A45: 55 | B45: 32 | C45: ATLANTICO | D45: CAIVAS | E45: BARANQUILLA | F45: BARRANQUILLA | G45: CARRERA 55 No 72-94 | H45: Fibra | I45: Canales compartidos (Banda ancha) | J45: 7168
A46: 137 | B46: 33 | C46: ATLANTICO | D46: SRPA | E46: CSJ - BARRANQUILLA | F46: BARRANQUILLA | G46: Cl. 45 N. 44 94 | H46: Fibra | I46: Canal Dedicado | J46: 1280
...

Sheet Redes SDC 4
B4: Cotización - Servicios de Red de Área Amplia (WAN), Red de Área Local (LAN), Red Inalámbrica (WLAN), Internet e Internet Móvil , bajo la modalidad de Outsourcing para el Instituto Colombiano de Bienestar Familiar – ICBF.
B6: EMPRESA: | D6: =+IF('Redes SDC 1'!$C$6=0,"",('Redes SDC 1'!C6))
B7: CONTACTO: | D7: =+IF('Redes SDC 1'!$C$6=0,"",('Redes SDC 1'!C7))
B9: Instrucciones para el diligenciamiento del formato de cotización
B10: • Por favor diligenciar solo las celdas en AMARILLO. Se deben llenar todas las casillas. • Revisar todos los requerimientos que se exponen en el documento "Ficha de Condiciones Técnicas" y Anexos (FCT); y formular su cotización en concordancia con este. • El valor de la cotización deber ser expresado en PESOS COLOMBIANOS. • Los valores unitarios deberán aproximarse por exceso o por defecto al entero más cercano. Si la cifra no está aproximada y aparece con centavos, el ICBF aproximará al entero inferior. • No modificar, agregar o quitar ningún ítem o sub-ítem. Notas: (1) Cotizar la totalidad de los eventos para las sedes descritas en este documento. Las sedes relacionadas en este documento corresponden a las decritas en la Hoja "Traslados" del Anexo "ANEXO 3.2–WAN ULTIMA MILLA-TRASLADOS"
B12: RED WAN - TRASLADOS
B14: ID (1) | C14: Regional | D14: Tipo de Sede | E14: Nombre | F14: Ciudad | G14: Direccion | H14: Rango Traslados de Sedes - Enlaces Nuevos | L14: Rango Traslados Internos Equipos de Comiunicaciones
H15: 0 - 10 km | I15: 11 - 20 km | J15: 31 - 40 km | K15: 41 km en adelante | L15: 0 - 100 mts | M15: 101 - 200 mts | N15: 201 - 300 mts | O15: 301 mts en adelante
H16: Valor Unitario por Evento Antes de IVA
A17: 70 | B17: 1 | C17: AMAZONAS | D17: CAIVAS | E17: LETICIA | F17: LETICIA | G17: calle 14 N° 10-32 Barrio Victoria Regia
A18: 268 | B18: 2 | C18: AMAZONAS | D18: REG | E18: AMAZONAS | F18: LETICIA | G18: CARRERA 4º No. 4 - 10 BARRIO GAITAN
A19: 5 | B19: 3 | C19: AMAZONAS | D19: SRPA | E19: CSJ - AMAZONAS | F19: AMAZONAS | G19: Carrera 5 Calle 5
A20: 10 | B20: 4 | C20: AMAZONAS | D20: UL | E20: PUERTO NARIÑO | F20: PUERTO NARIÑO | G20: Barrio Loma Linda – Al lado del Hospital Local Pto. Nariño
A21: 66 | B21: 5 | C21: ANTIOQUIA | D21: CAIVAS | E21: MEDELLIN | F21: MEDELLIN | G21: CARRERA 44 A 31- 156 San Diego
A22: 204 | B22: 6 | C22: ANTIOQUIA | D22: SRPA | E22: CSJ - MEDELLIN | F22: MEDELLIN | G22: CARRERA 83 No. 47A-47 BARRIO LA FLORESTA - Se tiene una accion popular y se espera que la sede nos apruebe el cambio
A23: 11 | B23: 7 | C23: ANTIOQUIA | D23: SRPA | E23: CSJ - RIONEGRO | F23: RIONEGRO | G23: Vereda Barro Blanco, Sector Las Delicias, vía El Porvenir – Rionegro Antioquía
A24: 52 | B24: 8 | C24: ANTIOQUIA | D24: CAIF | E24: COMUNA 8 | F24: MEDELLIN | G24: CARRERA 39 No. 50-68 Plaza de Flórez Ayacucho
A25: 267 | B25: 9 | C25: ANTIOQUIA | D25: CZ | E25: NORORIENTAL | F25: MEDELLIN | G25: Carrera 50ª Nº 63-43 Medellín.
A26: 265 | B26: 10 | C26: ANTIOQUIA | D26: CZ | E26: NOROCCIDENTAL | F26: MEDELLIN | G26: Carrera 70 No 42-37
A27: 260 | B27: 11 | C27: ANTIOQUIA | D27: CZ | E27: SURORIENTAL | F27: MEDELLIN | G27: Carrera 80 No. 38 B - 48 Barrio Laureles
A28: 242 | B28: 12 | C28: ANTIOQUIA | D28: CZ | E28: ABURRA NORTE | F28: BELLO | G28: Diagonal 54 Nº 42B-19 Bello - Niquia
... A217: 290 | B217: 202 | C217: NACIONAL | D217: SEDE NACIONAL - DIT | E217: BOGOTA | F217: BOGOTA | G217: Calle 57 No 16-35
A218: 208 | B218: 203 | C218: NACIONAL | E218: SIBERIA FUNZA | F218: Funza
A219: 48 | B219: 204 | C219: NARIÑO | D219: CAIVAS | E219: PASTO | F219: PASTO | G219: CALLE 19 No. 21A29 COMPLEJO BANCARIO
A220: 78 | B220: 205 | C220: NARIÑO | D220: SRPA | E220: CSJ - NARIÑO | F220: PASTO | G220: CALE 20 NO. 7 – 06. BARRIO SENDOYA. PASTO
A221: 34 | B221: 206 | C221: NARIÑO | D221: UL | E221: EL CHARCO | F221: EL CHARCO | G221: BARRIO EL CANAL, EDIFICIO CORPONARIÑO
A222: 246 | B222: 207 | C222: NARIÑO | D222: CZ | E222: PASTO 1 | F222: PASTO | G222: CARRERA 24 No. 16-19 EDIFICIO CONTINENTAL
A223: 254 | B223: 208 | C223: NARIÑO | D223: CZ | E223: PASTO 2 | F223: PASTO | G223: CALLE 20 No. 38 – 63. AVENIDA LOS ESTUDIANTES
A224: 228 | B224: 209 | C224: NARIÑO | D224: CZ | E224: TUMACO | F224: TUMACO | G224: CALLE SAN CARLOS. HOTEL PUNTA DEL ESTE. PISOS 2 Y 3
A225: 206 | B225: 210 | C225: NARIÑO | D225: CZ | E225: IPIALES | F225: IPIALES | G225: CARRERA 3 CON CALLE 10 NO. 10 – 21, BARRIO LIBERTAD, SECTOR LA LAGUNA.
A226: 192 | B226: 211 | C226: NARIÑO | D226: CZ | E226: TUQUERRES | F226: TUQUERRES | G226: CALLE 14 NO. 15-22.BARRIO SAN FRANCISCO
A227: 151 | B227: 212 | C227: NARIÑO | D227: CZ | E227: LA UNION | F227: LA UNION | G227: CARRERA 1 NO. 21 - 61, BARRIO INMACULADA, CONJUNTO RESIDENCIAL BALCONES DE LA VENTA
A228: 86 | B228: 213 | C228: NARIÑO | D228: CZ | E228: BARBACOAS | F228: BARBACOAS | G228: CALLE GUABO, FRENTE AL BANCO AGRARIO
A229: 82 | B229: 214 | C229: NARIÑO | D229: CZ | E229: REMOLINO | F229: TAMINANGO | G229: VIA PANAMERICANA NORTE KM 34 EL REMOLINO
A230: 286 | B230: 215 | C230: NARIÑO | D230: REG | E230: NARIÑO | F230: PASTO | G230: CRA 3 CON CALLE 23 ESQUINA B/ EL MERCEDARIO
... A312: 294 | B312: 299 | C312: VALLE | D312: REG | E312: VALLE | F312: SANTIAGO DE CALI | G312: AVENIDA 2A NORTE NO. 33 AN - 45 BARRIO PRADOS DEL NORTE
A313: 185 | B313: 300 | C313: VALLE | D313: SRPA | E313: CSJ-CALI2 | F313: SANTIAGO DE CALI
A314: 248 | B314: 301 | C314: VAUPES | D314: REG | E314: VAUPES | F314: MITU | G314: Carrera 15A 13ª – 52 Barrio Centro
A315: 238 | B315: 302 | C315: VICHADA | D315: REG | E315: VICHADA | F315: PUERTO CARREÑO | G315: Carrera 11 No. 14 - 70

Sheet Redes SDC 5
B4: Cotización - Servicios de Red de Área Amplia (WAN), Red de Área Local (LAN), Red Inalámbrica (WLAN), Internet e Internet Móvil , bajo la modalidad de Outsourcing para el Instituto Colombiano de Bienestar Familiar – ICBF.
B6: EMPRESA: | D6: =+IF('Redes SDC 1'!$C$6=0,"",('Redes SDC 1'!C6))
B7: CONTACTO: | D7: =+IF('Redes SDC 1'!$C$6=0,"",('Redes SDC 1'!C7))
B9: Instrucciones para el diligenciamiento del formato de cotización
B10: • Por favor diligenciar solo las celdas en AMARILLO. Se deben llenar todas las casillas. • Revisar todos los requerimientos que se exponen en el documento "Ficha de Condiciones Técnicas" y Anexos (FCT); y formular su cotización en concordancia con este. • El valor de la cotización deber ser expresado en PESOS COLOMBIANOS. • Los valores unitarios deberán aproximarse por exceso o por defecto al entero más cercano. Si la cifra no está aproximada y aparece con centavos, el ICBF aproximará al entero inferior. • No modificar, agregar o quitar ningún ítem o sub-ítem. • Los Bienes y Servicios relacionados en este formato la Entidad los podrá requerir durante la ejecución del contrato, se requiere cotizar sus precios unitarios o valor mensual y estos hacen parte integral de la cotización (1) Para el presente estudio de mercado se requiere determinar el valor unitario mensual del servicio y el dispositivo "Terminal Internet Satelital" según características descritas en el ANEXO 2 – MOVIL SATELITAL. Este servicio se pagará de acuerdo con el número de dispositivos solicitados por le ICBF y la cantidad de meses en los que se utilice el servicio. (2) Para el presente estudio de mercado se requiere para estos equipos, determinar el valor unitario de arrendamiento mensual sin incluir la administración, según características descritas en el anexo "ANEXO 5.2-LAN-SWITCHES CORE Y SWITCHES DE ACCESO".
B11: EQUIPOS/DISPOSITIVOS
B13: No. | C13: Servicio | D13: Unidad | E13: Tarifa IVA | F13: Precio Unitario Antes de IVA | G13: Valor Mensual Antes de IVA | H13: Total IVA Incluido
B14: 1 | C14: Internet Móvil Satelital (1) | D14: Dispositivos - Terminal Internet Móvil Satelital | H14: =+ROUND(G14*(1+E14),0) -> 0
B15: 2 | C15: Red de Área Local (LAN) | D15: Switch Core (2) | H15: =+ROUND(G15*(1+E15),0) -> 0
B16: 3 | C16: Red de Área Local (LAN) | D16: Switches de acceso para las redes de área local - 24 x Puertos 1G (2) | H16: =+ROUND(G16*(1+E16),0) -> 0
B17: 4 | C17: Red de Área Local (LAN) | D17: Switches de acceso para las redes de área local - 48 x Puertos 1G (2) | H17: =+ROUND(G17*(1+E17),0) -> 0
B18: 5 | C18: Red de Área Local (LAN) | D18: Rack para equipos de comunicaciones | H18: =+ROUND(F18*(1+E18),0) -> 0
B20: EQUIPOS/DISPOSITIVOS - CON OPCIÓN DE COMPRA
B22: No. | C22: Servicio | D22: Unidad | E22: Tarifa IVA | F22: Precio Unitario Antes de IVA | G22: Valor Mensual Antes de IVA | H22: Total IVA Incluido
B23: 2 | C23: Red de Área Local (LAN) | D23: Switch Core (5) | H23: =+ROUND(F23*(1+E23),0) -> 0
B25: LISTADO DE ELEMENTOS REQUERIDOS PARA CENTROS DE CABLEADO CENTROS DE CÓMPUTO
B27: No. | C27: DESCRIPCIÓN | E27: UNIDADES | F27: Tarifa IVA | G27: Precio Unitario Antes de IVA | H27: Precio Unitario IVA Incluido
B28: 1 | C28: Patch Pannel cat 6a 1ru | E28: 1 | H28: =+ROUND(G28*(1+F28),0) -> 0
B29: 2 | C29: Patch Pannel cat 6a 2ru | E29: 1 | H29: =+ROUND(G29*(1+F29),0) -> 0
B30: 3 | C30: Patch Cord cat 6a 1,5metros Certificado | E30: 1 | H30: =+ROUND(G30*(1+F30),0) -> 0
B31: 4 | C31: Patch Cord cat 6a 3 metros Certificado | E31: 1 | H31: =+ROUND(G31*(1+F31),0) -> 0
B32: 5 | C32: Patch Cord cat 5 1,5metros Certificado | E32: 1 | H32: =+ROUND(G32*(1+F32),0) -> 0
B33: 6 | C33: Patch Cord cat 5 3 metros Certificado | E33: 1 | H33: =+ROUND(G33*(1+F33),0) -> 0
B34: 7 | C34: Patch Cord Fibra Monomodo 1,5 metros Certificado | E34: 1 | H34: =+ROUND(G34*(1+F34),0) -> 0
B35: 8 | C35: Patch Cord Fibra Monomodo 3 metros Certificado | E35: 1 | H35: =+ROUND(G35*(1+F35),0) -> 0
B36: 9 | C36: Patch Cord Fibra Multimodo 1,5 metros Certificado | E36: 1 | H36: =+ROUND(G36*(1+F36),0) -> 0
B37: 10 | C37: Patch Cord Fibra Multimodo 3 metros Certificado | E37: 1 | H37: =+ROUND(G37*(1+F37),0) -> 0
B38: 11 | C38: Fibra Monomodo por metros con conectores que se requieran Certificado | E38: 1 metro | H38: =+ROUND(G38*(1+F38),0) -> 0
B39: 12 | C39: Fibra Multimodo por metros con conectores que se requieran Certificado | E39: 1 metro | H39: =+ROUND(G39*(1+F39),0) -> 0
B40: 13 | C40: Cable UTP por metros con conectores Certificado | E40: 1 metro | H40: =+ROUND(G40*(1+F40),0) -> 0
B41: 14 | C41: Crossconection UTP finalizado en patch pannel con jack Certificado | E41: 1 metro | H41: =+ROUND(G41*(1+F41),0) -> 0
B42: 15 | C42: Crossconection Fibra finalizada en ODF Certificado | E42: 1 metro | H42: =+ROUND(G42*(1+F42),0) -> 0
B43: 16 | C43: ODF con conector que se requiera (LC, SC, etc) | E43: 1 | H43: =+ROUND(G43*(1+F43),0) -> 0
B44: 17 | C44: Marquillado por Patch Cord | E44: 1 | H44: =+ROUND(G44*(1+F44),0) -> 0
B45: 18 | C45: PDU administrable | E45: 1 | H45: =+ROUND(G45*(1+F45),0) -> 0
B46: 19 | C46: Organizador de cable 1ru | E46: 1 | H46: =+ROUND(G46*(1+F46),0) -> 0
B47: 20 | C47: Organizador de cable 2ru | E47: 1 | H47: =+ROUND(G47*(1+F47),0) -> 0
B48: 21 | C48: Bandeja ventilada 1 ru | E48: 1 | H48: =+ROUND(G48*(1+F48),0) -> 0
B49: 22 | C49: Conexión a tierra (Cable, conectores e instalacion) | E49: 1 | H49: =+ROUND(G49*(1+F49),0) -> 0
B50: 23 | C50: DPS Dispositivo Proteccion Sobretencion | E50: 1 | H50: =+ROUND(G50*(1+F50),0) -> 0
...

Sheet INFO GENERAL Y FINANCIERA
B8: Formato Información General Y Financiera De Proveedores
B10: Ciudad | M10: Fecha Dd/mm/aa | AD10: Persona Natural
AD11: Persona Jurídica
B12: 1. Información General
B13: 1.1. Identificación.
B14: Personas naturales | F14: Nombre Comercial | U14: Nombres y Apellidos | AK14: Cédula
B16: Personas jurídicas | F16: Razón Social | U16: NIT | AK16: DV
B18: Dirección | U18: Teléfono | AD18: Fax | AK18: Ciudad
B20: Pagina Web | U20: Años de Constitución | AD20: Sector al que pertenece
B22: 1.2. Personas De Contacto
B23: Gerente General | K23: E-mail | U23: Teléfono | AD23: Ext. | AK23: Celular
B25: Director Comercial | K25: E-mail | U25: Teléfono | AD25: Ext. | AK25: Celular
B27: Asesor Comercial | K27: E-mail | U27: Teléfono | AD27: Ext. | AK27: Celular
B29: 1.3. Productos Y Servicios Inscritos En El Rup De Acuerdo Con El Unspsc
B30: Incluir listado de los productos y/o servicios que ofrece la compañía, registrados en el RUP y que estén relacionados con el objeto del presente Estudio de Mercado (agregue las filas necesarias)
B31: Código de Naciones Unidas | G31: Producto
B38: 1.4. Códigos CIIU | AK38: 1.5. Número De Empleados
B39: Código De Actividad | F39: Descripción Actividad Económica CIIU | AD39: Tarifa ICA
B43: 2. Información Financiera - A Diciembre 31 De 2013
B44: Nombre Del Indicador | M44: Cuenta | U44: Valores En Pesos | AD44: Indicador
B45: Capacidad Financiera | F45: índice De Liquidez | M45: Activo Corriente --> | AD45: =+IFERROR(U45/U46,0) -> 0 | AK45: Veces
M46: Pasivo Corriente -->
F47: Índice De Endeudamiento | M47: Pasivo Total--> | AD47: =+IFERROR(U47/U48,0) -> 0 | AK47: Porcentaje
M48: Activo Total-->
F49: Razón De Cobertura De Intereses | M49: Utilidad Operacional--> | AD49: =+IFERROR(U49/U50,0) -> 0 | AK49: Veces
M50: Gastos De Interés-->
B51: Capacidad Organizacional | F51: Rentabilidad Del Patrimonio | M51: Utilidad Operacional--> | AD51: =+IFERROR(U51/U52,0) -> 0 | AK51: Porcentaje
M52: Patrimonio-->
F53: Rentabilidad Del Activo | M53: Utilidad Operacional--> | AD53: =+IFERROR(U53/U54,0) -> 0 | AK53: Porcentaje
M54: Activo Total-->
B55: Nota: Para las empresas inspeccionadas, vigiladas o controladas por la Supersociedades, la información consignada en este numeral será validada con la reportada a la Supersociedades y disponible para consulta en Internet mediante el Sistema de Información y Riesgo Empresarial de la Supersociedades (SIREM). Si se evidencian diferencias en los valores consignados en este formato y los reportados a la Supersociedades se tomará como referencia la información del SIREM.
B56: Otra información relevante de la empresa (consigne en este espacio otra información que considere de interés)

Sheet POLIZAS
B9: CONCEPTOS A TENER EN CUENTA PARA REALIZAR LA COTIZACIÓN DE DOTACIÓN INDUSTRIAL
B12: El presente cuadro es de carácter informativo, no se debe diligenciar. Sin embargo se entiende que la cotización incluye la totalidad de los conceptos relacionados a continuación.
B14: PÓLIZAS PARA LEGALIZACIÓN DEL CONTRATO
B16: CONCEPTO | D16: COBERTURA | E16: PLAZO (En Meses)
B17: Garantía de Seriedad de la oferta | D17: 0.1 | E17: Plazo de Ejecución
B18: Cumplimiento | D18: 0.2 | E18: Plazo de ejecución + 4 meses mas
B19: Salarios, Prestaciones | D19: 0.1 | E19: Plazo de ejecución + 36 meses mas
B20: Calidad de los Servicios | D20: 0.2 | E20: Plazo de ejecución + 4 meses mas
B21: Responsabilidad civil extracontractual | D21: 0.1 | E21: Plazo de Ejecución
B22: Cobertura: Corresponde al porcentaje del valor total del contrato a amparar.

Sheet INFO EXPERIENCIA
B8: EXPERIENCIA EN CONTRATACION EN LOS ULTIMOS 5 AÑOS
B9: EXPERIENCIA EN CONTRATACIÓN EN LOS ÚLTIMOS 5 AÑOS
B11: Empresa: | C11: =IF('Redes SDC 1'!C6="","",'Redes SDC 1'!C6) | F11: Nit: | G11: =IF('Redes SDC 1'!N6="","",'Redes SDC 1'!N6) | I11: Fecha: | J11: =IF('Redes SDC 1'!N7="","",'Redes SDC 1'!N7)
B12: Contacto: | C12: =IF('Redes SDC 1'!C7="","",'Redes SDC 1'!C7) | F12: Cargo: | G12: =IF('Redes SDC 1'!F7="","",'Redes SDC 1'!F7) | I12: Tel. celular: | J12: =IF('Redes SDC 1'!Q6="","",'Redes SDC 1'!Q6)
B13: E-Mail: | C13: =IF('Redes SDC 1'!I7="","",'Redes SDC 1'!I7) | F13: Dirección: | G13: =IF('Redes SDC 1'!I6="","",'Redes SDC 1'!I6) | I13: Tel. fijo: | J13: =IF('Redes SDC 1'!Q7="","",'Redes SDC 1'!Q7)
B15: Con el fin de conocer la experiencia con la que cuentan las empresas del sector relacionada con el objeto del presente estudio de mercado, agradecemos diligenciar el cuadro que sigue con base en los contratos suscritos en los últimos 5 años, cuyos objetos están relacionados con el objeto del presente estudio de mercado
B17: Tipo de entidad | C17: Entidad o Empresa | D17: Numero del contrato | E17: Objeto del contrato | F17: Fecha de suscripción (dd/mmm/aa) | G17: Plazo de ejecución (en años) | H17: Forma de participación (UT, consorcio, individual) | I17: % de participación | J17: Valor total ejecutado del contrato (de acuerdo con el % de participación)
B29: Nota: Agregar las filas necesarias para reportar la experiencia
