Workbook
Name OLE_LINK1: '1.Listado de items'!#REF!

Sheet PRESP (2)
B1: ALCALDÍA MAYOR DE BOGOTÁ D.C.
B2: SECRETARÍA DE EDUCACIÓN DISTRITAL
B3: DIRECCIÓN DE CONSTRUCCIÓN y CONSERVACIÓN DE ESTABLECIMIENTOS EDUCATIVOS
B4: COLEGIO DISTRITAL __________________________________ - CPF _____
B5: OBJETO: __________________________________________________
B6: LISTADO DE PRECIOS DE REFERENCIA DE ACTIVIDADES DE OBRA
B7: ANEXO TÉCNICO No. 1
B9: 1 | C9: 3 | D9: 4 | F9: 5 | I9: 5
B10: ITEM | C10: DESCRIPCIÓN | D10: UN | E10: CANTIDAD | F10: PRECIO UNITARIO COSTO DIRECTO | G10: VALOR PARCIAL | H10: VALOR SUBCAPÍTULOS | I10: VALOR CAPÍTULOS
B12: 1 | C12: =VLOOKUP($B12,'1.Listado de items'!$C$23:$E$45,3,FALSE) -> #N/A | I12: =SUM(H12:H14) -> #N/A
B13: 1.3 | C13: =VLOOKUP($B13,'1.Listado de items'!$C$23:$E$45,3,FALSE) -> #N/A | H13: =SUM(G12:G14) -> #N/A
B14: 1.3.24 | C14: =VLOOKUP($B14,'1.Listado de items'!$C$23:$E$45,3,FALSE) -> #N/A | D14: =VLOOKUP($B14,'1.Listado de items'!$C$23:$E$45,4,FALSE) -> #N/A | E14: 240 | F14: =VLOOKUP($B14,'1.Listado de items'!$C$23:$E$45,7,FALSE) -> #N/A | G14: =ROUND(E14*F14,0) -> #N/A
B16: 11 | C16: =VLOOKUP($B16,'1.Listado de items'!$C$23:$E$45,3,FALSE) -> #N/A | I16: =SUM(H17:H19) -> #N/A
B17: 11.2 | C17: =VLOOKUP($B17,'1.Listado de items'!$C$23:$E$45,3,FALSE) -> #N/A | H17: =SUM(G17:G19) -> #N/A
B18: 11.2.39 | C18: =VLOOKUP($B18,'1.Listado de items'!$C$23:$E$45,3,FALSE) -> #N/A | D18: =VLOOKUP($B18,'1.Listado de items'!$C$23:$E$45,4,FALSE) -> #N/A | E18: =240*2.8 -> 672 | F18: =VLOOKUP($B18,'1.Listado de items'!$C$23:$E$45,7,FALSE) -> #N/A | G18: =ROUND(E18*F18,0) -> #N/A
B19: 11.2.40 | C19: =VLOOKUP($B19,'1.Listado de items'!$C$23:$E$45,3,FALSE) -> #N/A | D19: =VLOOKUP($B19,'1.Listado de items'!$C$23:$E$45,4,FALSE) -> #N/A | E19: =ROUNDUP(250/(2.44*0.82),0) -> 125 | F19: =VLOOKUP($B19,'1.Listado de items'!$C$23:$E$45,7,FALSE) -> #N/A | G19: =ROUND(E19*F19,0) -> #N/A
B21: 21 | C21: =VLOOKUP($B21,'1.Listado de items'!$C$23:$E$45,3,FALSE) -> #N/A
B22: 21.1 | C22: =VLOOKUP($B22,'1.Listado de items'!$C$23:$E$45,3,FALSE) -> #N/A
B23: 21.1.1 | C23: =VLOOKUP($B23,'1.Listado de items'!$C$23:$E$45,3,FALSE) -> M2 | D23: =VLOOKUP($B23,'1.Listado de items'!$C$23:$E$45,4,FALSE) -> #REF! | E23: 18 | F23: =VLOOKUP($B23,'1.Listado de items'!$C$23:$E$45,7,FALSE) -> #REF! | G23: =ROUND(E23*F23,0) -> #REF!
C24: =VLOOKUP($B24,'1.Listado de items'!$C$23:$E$45,3,FALSE) -> #N/A | D24: =VLOOKUP($B24,'1.Listado de items'!$C$23:$E$45,4,FALSE) -> #N/A | E24: 19 | F24: =VLOOKUP($B24,'1.Listado de items'!$C$23:$E$45,7,FALSE) -> #N/A | G24: =ROUND(E24*F24,0) -> #N/A
C25: =VLOOKUP($B25,'1.Listado de items'!$C$23:$E$45,3,FALSE) -> #N/A | D25: =VLOOKUP($B25,'1.Listado de items'!$C$23:$E$45,4,FALSE) -> #N/A | E25: 20 | F25: =VLOOKUP($B25,'1.Listado de items'!$C$23:$E$45,7,FALSE) -> #N/A | G25: =ROUND(E25*F25,0) -> #N/A
C26: =VLOOKUP($B26,'1.Listado de items'!$C$23:$E$45,3,FALSE) -> #N/A | D26: =VLOOKUP($B26,'1.Listado de items'!$C$23:$E$45,4,FALSE) -> #N/A | E26: 21 | F26: =VLOOKUP($B26,'1.Listado de items'!$C$23:$E$45,7,FALSE) -> #N/A | G26: =ROUND(E26*F26,0) -> #N/A
C27: =VLOOKUP($B27,'1.Listado de items'!$C$23:$E$45,3,FALSE) -> #N/A | D27: =VLOOKUP($B27,'1.Listado de items'!$C$23:$E$45,4,FALSE) -> #N/A | E27: 22 | F27: =VLOOKUP($B27,'1.Listado de items'!$C$23:$E$45,7,FALSE) -> #N/A | G27: =ROUND(E27*F27,0) -> #N/A
C28: =VLOOKUP($B28,'1.Listado de items'!$C$23:$E$45,3,FALSE) -> #N/A | D28: =VLOOKUP($B28,'1.Listado de items'!$C$23:$E$45,4,FALSE) -> #N/A | E28: 23 | F28: =VLOOKUP($B28,'1.Listado de items'!$C$23:$E$45,7,FALSE) -> #N/A | G28: =ROUND(E28*F28,0) -> #N/A
C29: =VLOOKUP($B29,'1.Listado de items'!$C$23:$E$45,3,FALSE) -> #N/A | D29: =VLOOKUP($B29,'1.Listado de items'!$C$23:$E$45,4,FALSE) -> #N/A | E29: 24 | F29: =VLOOKUP($B29,'1.Listado de items'!$C$23:$E$45,7,FALSE) -> #N/A | G29: =ROUND(E29*F29,0) -> #N/A
C30: =VLOOKUP($B30,'1.Listado de items'!$C$23:$E$45,3,FALSE) -> #N/A | D30: =VLOOKUP($B30,'1.Listado de items'!$C$23:$E$45,4,FALSE) -> #N/A | E30: 25 | F30: =VLOOKUP($B30,'1.Listado de items'!$C$23:$E$45,7,FALSE) -> #N/A | G30: =ROUND(E30*F30,0) -> #N/A
C31: =VLOOKUP($B31,'1.Listado de items'!$C$23:$E$45,3,FALSE) -> #N/A | D31: =VLOOKUP($B31,'1.Listado de items'!$C$23:$E$45,4,FALSE) -> #N/A | E31: 26 | F31: =VLOOKUP($B31,'1.Listado de items'!$C$23:$E$45,7,FALSE) -> #N/A | G31: =ROUND(E31*F31,0) -> #N/A
C32: =VLOOKUP($B32,'1.Listado de items'!$C$23:$E$45,3,FALSE) -> #N/A | D32: =VLOOKUP($B32,'1.Listado de items'!$C$23:$E$45,4,FALSE) -> #N/A | E32: 27 | F32: =VLOOKUP($B32,'1.Listado de items'!$C$23:$E$45,7,FALSE) -> #N/A | G32: =ROUND(E32*F32,0) -> #N/A
C33: =VLOOKUP($B33,'1.Listado de items'!$C$23:$E$45,3,FALSE) -> #N/A | D33: =VLOOKUP($B33,'1.Listado de items'!$C$23:$E$45,4,FALSE) -> #N/A | E33: 28 | F33: =VLOOKUP($B33,'1.Listado de items'!$C$23:$E$45,7,FALSE) -> #N/A | G33: =ROUND(E33*F33,0) -> #N/A
C34: =VLOOKUP($B34,'1.Listado de items'!$C$23:$E$45,3,FALSE) -> #N/A | D34: =VLOOKUP($B34,'1.Listado de items'!$C$23:$E$45,4,FALSE) -> #N/A | E34: 29 | F34: =VLOOKUP($B34,'1.Listado de items'!$C$23:$E$45,7,FALSE) -> #N/A | G34: =ROUND(E34*F34,0) -> #N/A
C35: =VLOOKUP($B35,'1.Listado de items'!$C$23:$E$45,3,FALSE) -> #N/A | D35: =VLOOKUP($B35,'1.Listado de items'!$C$23:$E$45,4,FALSE) -> #N/A | E35: 30 | F35: =VLOOKUP($B35,'1.Listado de items'!$C$23:$E$45,7,FALSE) -> #N/A | G35: =ROUND(E35*F35,0) -> #N/A
... C40: =VLOOKUP($B40,'1.Listado de items'!$C$23:$E$45,3,FALSE) -> #N/A | D40: =VLOOKUP($B40,'1.Listado de items'!$C$23:$E$45,4,FALSE) -> #N/A | E40: 35 | F40: =VLOOKUP($B40,'1.Listado de items'!$C$23:$E$45,7,FALSE) -> #N/A | G40: =ROUND(E40*F40,0) -> #N/A
C42: COSTO DIRECTO | I42: =SUM(I12:I40) -> #N/A
C43: A. I. U. | D43: 0.26 | I43: =ROUND(I42*D43,0) -> #N/A
C44: COSTO TOTAL | I44: =SUM(I42:I43) -> #N/A

Sheet 1.Listado de items
B2: EMPRESA:
B3: NIT:
B4: CONTACTO:
B5: CARGO:
B7: Consultar NOTAS sobre el diligenciamiento del formato al final del documento
B9: NOTA (1): Antes de diligenciar el presente formato de cotización, revisar todos los requerimientos que se exponen en el documento "FICHA TÉCNICA Y SUS ANEXOS" .
B10: NOTA(2): Por favor diligenciar solo las celdas en AMARILLO. se deben llenar todas las casillas. No modificar el orden de las filas y columnas
B11: NOTA (3): Los valores deben ser expresados en PESOS COLOMBIANOS
B12: NOTA (4): No modificar, agregar o quitar ningun item o subitem
B13: NOTA (5): Los valores unitarios deberán aproximarse por exceso o por defecto al entero más cercano. si la cifra no está aproximada y aparece con 50 centavos, el ICBF aproximará al entero inferior.
B14: NOTA (6): ir al al ANEXO N° 2 ESPCIFICACIONES TÉCNICAS, para revisar el detalle de los items solicitados
B15: NOTA (7): Las especificaciones de los numerales 7, 8 y 15 se encuentran detalladas en el ANEXO N°3 ESPECIFICACIONES TÉCNICAS, OBRAS ELÉCTRICAS Y DE CABLEADO ESTRUCTURADO
D18: PRESUPUESTO SEDE VALLEDUPAR
C21: PRESUPUESTO ORIGINAL
C22: ITEM | D22: DESCRIPCIÓN | E22: UN | F22: CNT | G22: PRECIO UNITARIO | H22: PRECIO TOTAL
C23: 1.1.9 | D23: VALLA INFORMATIVA DE LICENCIA DE CONSTRUCCION (1.00 X 1.00) | E23: UN | F23: 1 | G23: 189624.09 | H23: =F23*G23 -> 189624.09
C24: 1.3.1 | D24: DEMOLICION CIELO RASO FALSO (INC. RETIRO DE SOBR.) | E24: M2 | F24: 1133 | G24: 9624.1165 | H24: =F24*G24 -> 10904124
C25: 1.3.6 | D25: DESMONTE DE ENCHAPES Y MUROS | E25: M2 | F25: 240 | G25: 12119.46 | H25: =F25*G25 -> 2908670.3
C26: 1.3.7 | D26: DEMOLICIÓN DE ORINAL Ó LAVAMANOS CORRIDO (INC. RETIRO DE SOBR.) | E26: ML | F26: 6 | G26: 23249.201 | H26: =F26*G26 -> 139495.2
C27: 1.3.8 | D27: DEMOLICION MUROS EN BLOQUE; E = 12 cm (INC. RETIRO DE SOBR.) | E27: M2 | F27: 60 | G27: 10451.06 | H27: =F27*G27 -> 627063.61
C28: 1.3.14 | D28: DEMOLICIÓN DE PISOS EN BALDOSÍN (INC. RETIRO DE SOBR.) | E28: M2 | F28: 122 | G28: 9062.8737 | H28: =F28*G28 -> 1105670.6
C29: 1.3.22 | D29: DESMONTE APARATOS SANITARIOS (INC. RETIRO DE SOBR.) | E29: UN | F29: 7 | G29: 18837.728 | H29: =F29*G29 -> 131864.1
C30: 1.3.27 | D30: DESMONTE PUERTAS CON MARCOS (INC. RETIRO DE SOBR.) | E30: UN | F30: 6 | G30: 19802.033 | H30: =F30*G30 -> 118812.2
C31: 1.3.29 | D31: DESMONTE VENTANAS O PUERTAS METÁLICAS (INC. RETIRO DE SOBRANTES) | E31: M2 | F31: 382.275 | G31: 13910.018 | H31: =F31*G31 -> 5317452
C32: 8.15.1 | D32: REVISIÓN Y REPARACIÓN DE PUNTO ELÉCTRICO (INC. CAMBIO DE APARATOS) | E32: UN | F32: 100 | G32: 59288.062 | H32: =F32*G32 -> 5928806.2
C33: 12.1.4 | D33: VENTANAS SERIE 5020 ALUMINIO | E33: M2 | F33: 382 | G33: 199320.6 | H33: =F33*G33 -> 76140470
C34: 16,1,4 | D34: SANITARIO NOVA Ref. 30351 | E34: UN | F34: 12 | G34: 334261.56 | H34: =F34*G34 -> 4011138.7
... C43: 21.1.2 | D43: LIMPIEZA DE FACHADAS | E43: M2 | F43: 1520 | G43: 10508.48 | H43: =F43*G43 -> 15972890
C44: 27.1 | D44: SUMINISTRO E INSTALACIÓN DE VINILOS ADHESIVOS SOBRE MURO CON IMPRESIÓN DIGITAL SEGÚN DISEÑO. | E44: M2 | F44: 70 | G44: 78526.504 | H44: =F44*G44 -> 5496855.3
C45: 28.1 | D45: SUMINISTRO E INSTALACIÓN DE CINTA ANTIDESLIZANTE PARA ESCALERAS INTERNAS Y EXTERNAS, ESPESOR 2.5 CM | E45: ML | F45: 60.31 | G45: 15241.506 | H45: =F45*G45 -> 919215.25
C46: 1.1 | D46: SUMINISTRO Y INTALACION PISO PORCELANATO .60x.60 | E46: M2 | F46: 209.52 | G46: 72500 | H46: =F46*G46 -> 15190200
C47: 1.2 | D47: PULIDA DE PISO, INCLUYE SELLADO | E47: M2 | F47: 1446.56 | G47: 18000 | H47: =F47*G47 -> 26038080
C48: 14,1,2 | D48: CERAMICA 0.30 X 0.30 PARA BAÑOS Y ASEO | E48: M2 | F48: 103 | G48: 50562.858 | H48: =F48*G48 -> 5207974.4
C49: 10,2,27 | D49: TABLETA GRES LISO DE 33 x 33 MORTERO 1:4 | E49: M2 | F49: 62 | G49: 46581.951 | H49: =F49*G49 -> 2888081
D50: CARRAPLAST TERRAZA | E50: M2 | F50: 36
D51: VIDRIO LAMINADOVERDE INSTITUCIONAL FACHADA | E51: M2 | F51: 65
C52: 1.12 | D52: DESMONTE E INSTALACION DE AIRES ACONDICIONADOS EXISTENTES (INCL. ACCESORIOS) | E52: UN | F52: 50 | G52: 525000 | H52: =F52*G52 -> 26250000
D53: DESMONTE MUEBLES EN MADERA | E53: UN | F53: 30
C54: 17,1,5 | D54: PUERTAS EN LAMINA CON RECUBRIMIENTO ELECTROESTATICO PARA BAÑOS | E54: M2 | F54: 48.7 | G54: 258493.15 | H54: =F54*G54 -> 12588616
C55: 17,1,6 | D55: DIVISIONES OFICINAS EN DRY WALL | E55: M2 | F55: 78 | G55: 80327.216 | H55: =F55*G55 -> 6265522.9
...
