Workbook

Sheet Acta No 1
A8: PRIMERA ACTA PARCIAL DE OBRA CENTRO ZONAL GIRON
B10: 1. INFORMACIÓN GENERAL
B12: CONTRATO: | C12: 1718 DE 2013
B14: CONTRATISTA: | C14: UNION TEMPORAL - ICBF - 11 - OSCHAVS -2013
B16: OBJETO DEL CONTRATO: | C16: "Contratar las obras necesarias para la construcción, remodelación adecuación, mantenimiento preventivo y correctivo de los inmuebles donde funcionan las sedes administrativas, centros zonales, sedes regionales y unidades de servicio del ICBF a nivel nacional".
B18: VALOR INICIAL DEL CONTRATO | C18: 4460000000
B19: VALOR ADICIONAL | C19: 0
B20: VALOR TOTAL | C20: =+C19+C18 -> 4460000000
B22: FECHA DE INICIO: | C22: 24 de Febrero de 2014
B23: PLAZO INICIAL: | C23: 31 de Julio de 2014
B24: PLAZO DE PRORROGA 1: | C24: 31 de Diciembre de 2014
A27: ITEM | B27: DESCRIPCIÓN | C27: UN | D27: CANTIDAD | E27: PRECIO UNITARIO | F27: SUB TOTAL | G27: ULTIMO ACUMULADO | H27: VALOR ULTIMO ACUMULADO | I27: CANTIDAD EJECUTADA PRESENTE ACTA | J27: VALOR PRESENTE ACTA | K27: CANTIDAD TOTAL EJECUTADO | L27: VALOR TOTAL EJECUTADO | M27: SALDO CANTIDAD POR EJECUTAR | N27: SALDO VALOR POR EJECUTAR
A28: 1.1.6 | B28: LIMPIEZA, DESCAPOTE, RETIRO SOBR. - MANUAL | C28: M2 | D28: 208.7 | E28: 10502 | F28: =+E28*D28 -> 2191767.4 | I28: 208.7 | J28: =+I28*E28 -> 2191767.4 | K28: =+I28 -> 208.7 | L28: =+J28 -> 2191767.4 | M28: =+D28-K28 -> 0 | N28: =+M28*E28 -> 0
A29: 1.3 | B29: DEMOLICIONES - DESMONTES - RETIROS
A30: 1.3.1 | B30: DEMOLICION CIELO RASO FALSO (INC. RETIRO DE SOBR.) | C30: M2 | D30: 56.8 | E30: 9431.5085 | F30: =+E30*D30 -> 535709.68 | I30: 56.8 | J30: =I30*E30 -> 535709.68 | K30: =G30+I30 -> 56.8 | L30: =K30*E30 -> 535709.68 | M30: =+D30-K30 -> 0 | N30: =+M30*E30 -> 0 | O30: =D30-(G30+I30+M30) -> 0 | P30: =D30-(G30+I30) -> 0 | Q30: =P30-M30 -> 0 | R30: =K30-I30-G30 -> 0 | S30: =L30-J30-H30 -> 0
A31: 1,3,5 | B31: DEMOLICIONES VARIAS EN CONCRETO Y MAMPOSTERIA | C31: M3 | D31: =16.8+4.24+35.7 -> 56.74 | E31: 124407.04 | F31: =+E31*D31 -> 7058855.6 | I31: 53.2 | J31: =I31*E31 -> 6618454.7 | K31: =+I31+G31 -> 53.2 | L31: =+J31+H31 -> 6618454.7 | M31: =+D31-K31 -> 3.54 | N31: =+M31*E31 -> 440400.93 | O31: =D31-(G31+I31+M31) -> 0 | P31: =D31-(G31+I31) -> 3.54 | Q31: =P31-M31 -> 0 | R31: =K31-I31-G31 -> 0 | S31: =L31-J31-H31 -> 0
A32: 1.3.6 | B32: DESMONTE DE ENCAHPES Y MUROS | C32: M2 | D32: 104.6 | E32: 11876.912 | F32: =+E32*D32 -> 1242325 | I32: 104.6 | J32: =I32*E32 -> 1242325 | K32: =G32+I32 -> 104.6 | L32: =K32*E32 -> 1242325 | M32: =+D32-K32 -> 0 | N32: =+M32*E32 -> 0 | O32: =D32-(G32+I32+M32) -> 0 | P32: =D32-(G32+I32) -> 0 | Q32: =P32-M32 -> 0 | R32: =K32-I32-G32 -> 0 | S32: =L32-J32-H32 -> 0
A33: 1.3.7 | B33: DEMOLICIÓN DE ORINAL Ó LAVAMANOS CORRIDO (INC. RETIRO DE SOBR.) | C33: ML | D33: 9.8 | E33: 22783.913 | F33: =+E33*D33 -> 223282.35 | I33: 9.8 | J33: =I33*E33 -> 223282.35 | K33: =G33+I33 -> 9.8 | L33: =K33*E33 -> 223282.35 | M33: =+D33-K33 -> 0 | N33: =+M33*E33 -> 0 | O33: =D33-(G33+I33+M33) -> 0 | P33: =D33-(G33+I33) -> 0 | Q33: =P33-M33 -> 0 | R33: =K33-I33-G33 -> 0 | S33: =L33-J33-H33 -> 0
A34: 1.3.11 | B34: DEMOLICIÓN DE MUROS TOLETE E=25 CM. (INC. RETIRO DE SOBR.) | C34: M2 | D34: 118.02 | E34: 16938.982 | F34: =+E34*D34 -> 1999138.6 | I34: 0 | J34: =I34*E34 -> 0 | K34: =G34+I34 -> 0 | L34: =K34*E34 -> 0 | M34: =+D34-K34 -> 118.02 | N34: =+M34*E34 -> 1999138.6 | O34: =D34-(G34+I34+M34) -> 0 | P34: =D34-(G34+I34) -> 118.02 | Q34: =P34-M34 -> 0 | R34: =K34-I34-G34 -> 0 | S34: =L34-J34-H34 -> 0
A35: 1.3.12 | B35: DEMOLICION PAÑETES (INC. RETIRO DE SOBR.) | C35: M2 | D35: 250 | E35: 9424.8652 | F35: =+E35*D35 -> 2356216.3 | J35: =I35*E35 -> 0 | K35: =G35+I35 -> 0 | L35: =K35*E35 -> 0 | M35: =+D35-K35 -> 250 | N35: =+M35*E35 -> 2356216.3 | O35: =D35-(G35+I35+M35) -> 0 | P35: =D35-(G35+I35) -> 250 | Q35: =P35-M35 -> 0 | R35: =K35-I35-G35 -> 0 | S35: =L35-J35-H35 -> 0
A36: 1.3.15 | B36: DEMOLICION PISOS EN TABLON (INC. RETIRO DE SOBR.) | C36: M2 | D36: =807*1.03 -> 831.21 | E36: 9018.5583 | F36: =+E36*D36 -> 7496315.8 | I36: 792 | J36: =I36*E36 -> 7142698.2 | K36: =G36+I36 -> 792 | L36: =K36*E36 -> 7142698.2 | M36: =+D36-K36 -> 39.21 | N36: =+M36*E36 -> 353617.67 | O36: =D36-(G36+I36+M36) -> 0 | P36: =D36-(G36+I36) -> 39.21 | Q36: =P36-M36 -> 0 | R36: =K36-I36-G36 -> 0 | S36: =L36-J36-H36 -> 0
A37: 1.3.18 | B37: DEMOLICION PLACA MACIZA H = 0.10 (INC. RETIRO DE SOBR.) | C37: M2 | D37: =24.5*1.05 -> 25.725 | E37: 40827.833 | F37: =+E37*D37 -> 1050296 | J37: =I37*E37 -> 0 | M37: =+D37-K37 -> 25.725 | N37: =+M37*E37 -> 1050296 | O37: =D37-(G37+I37+M37) -> 0 | P37: =D37-(G37+I37) -> 25.725 | Q37: =P37-M37 -> 0 | R37: =K37-I37-G37 -> 0 | S37: =L37-J37-H37 -> 0
A38: 1.3.21 | B38: DEMOLICION DE PLACA DE PISO H=10 (INC RETIRO DE SOBR) | C38: M2 | D38: 831.21 | E38: 33717 | F38: =+E38*D38 -> 28025908 | I38: 792 | J38: =I38*E38 -> 26703864 | K38: =+I38 -> 792 | L38: =+J38 -> 26703864 | M38: =+D38-K38 -> 39.21 | N38: =+M38*E38 -> 1322043.6
A39: 1.3.22 | B39: DESMONTE APARATOS SANITARIOS (INC. RETIRO DE SOBR.) | C39: UN | D39: 10 | E39: 18460.727 | F39: =+E39*D39 -> 184607.27 | I39: 8 | J39: =I39*E39 -> 147685.82 | K39: =G39+I39 -> 8 | L39: =K39*E39 -> 147685.82 | M39: =+D39-K39 -> 2 | N39: =+M39*E39 -> 36921.455 | O39: =D39-(G39+I39+M39) -> 0 | P39: =D39-(G39+I39) -> 2 | Q39: =P39-M39 -> 0 | R39: =K39-I39-G39 -> 0 | S39: =L39-J39-H39 -> 0
A40: 1.3.27 | B40: DESMONTE PUERTAS CON MARCOS (INC. RETIRO DE SOBR.) | C40: UN | D40: 12 | E40: 19405.734 | F40: =+E40*D40 -> 232868.81 | I40: 9 | J40: =I40*E40 -> 174651.6 | K40: =+I40 -> 9 | L40: =+J40 -> 174651.6 | M40: =+D40-K40 -> 3 | N40: =+M40*E40 -> 58217.201 | O40: =D40-(G40+I40+M40) -> 0 | P40: =D40-(G40+I40) -> 3 | Q40: =P40-M40 -> 0 | R40: =K40-I40-G40 -> 0 | S40: =L40-J40-H40 -> 0
A41: 1.3.29 | B41: DESMONTE VENTANAS O PUERTAS METÁLICAS (INC. RETIRO DE SOBRANTES) | C41: M2 | D41: =119*1.05 -> 124.95 | E41: 13631.636 | F41: =+E41*D41 -> 1703272.9 | I41: 30.1 | J41: =I41*E41 -> 410312.23 | K41: =+I41 -> 30.1 | L41: =+J41 -> 410312.23 | M41: =+D41-K41 -> 94.85 | N41: =+M41*E41 -> 1292960.6 | O41: =D41-(G41+I41+M41) -> 0 | P41: =D41-(G41+I41) -> 94.85 | Q41: =P41-M41 -> 0 | R41: =K41-I41-G41 -> 0 | S41: =L41-J41-H41 -> 0
A42: 1.3.36 | B42: DEMOLICION MESÓN CORRIDO (INC. RETIRO DE SOBR.) | C42: ML | D42: 27.2 | E42: 14424.724 | F42: =+E42*D42 -> 392352.49 | I42: 23.9 | J42: =I42*E42 -> 344750.9 | K42: =G42+I42 -> 23.9 | L42: =K42*E42 -> 344750.9 | M42: =+D42-K42 -> 3.3 | N42: =+M42*E42 -> 47601.589 | O42: =D42-(G42+I42+M42) -> 0 | P42: =D42-(G42+I42) -> 3.3 | Q42: =P42-M42 -> 0 | R42: =K42-I42-G42 -> 0 | S42: =L42-J42-H42 -> 0
A43: 1.4 | B43: VARIOS - PRELIMINARES | O43: =D43-(G43+I43+M43) -> 0 | P43: =D43-(G43+I43) -> 0 | Q43: =P43-M43 -> 0 | R43: =K43-I43-G43 -> 0 | S43: =L43-J43-H43 -> 0
A44: 1.4.2 | B44: RETIRO DE SOBRANTES CARGUE TRANSPORTE Y DISPOSICION FINAL DE ESCOMBROS A SITIO AUTORIZADO | C44: M3 | D44: 200 | E44: 51478.234 | F44: =+E44*D44 -> 10295647 | I44: 168 | J44: =I44*E44 -> 8648343.3 | K44: =G44+I44 -> 168 | L44: =K44*E44 -> 8648343.3 | M44: =+D44-K44 -> 32 | N44: =+M44*E44 -> 1647303.5 | O44: =D44-(G44+I44+M44) -> 0 | P44: =D44-(G44+I44) -> 32 | Q44: =P44-M44 -> 0 | R44: =K44-I44-G44 -> 0 | S44: =L44-J44-H44 -> 0
A45: 2.5 | B45: OBRAS DE MITIGACION Y ESTABILIZACION | O45: =D45-(G45+I45+M45) -> 0 | P45: =D45-(G45+I45) -> 0 | Q45: =P45-M45 -> 0 | R45: =K45-I45-G45 -> 0 | S45: =L45-J45-H45 -> 0
A46: 2.5.14 | B46: . PRADIZACION ZONAS VERDES | C46: M2 | D46: 50 | E46: 19287.533 | F46: =E46*D46 -> 964376.65 | M46: =+D46-K46 -> 50 | N46: =+M46*E46 -> 964376.65 | O46: =D46-(G46+I46+M46) -> 0 | P46: =D46-(G46+I46) -> 50 | Q46: =P46-M46 -> 0 | R46: =K46-I46-G46 -> 0 | S46: =L46-J46-H46 -> 0
A47: 3.4 | B47: CONSTRUCCIONES EN MAMPOSTERIA | O47: =D47-(G47+I47+M47) -> 0 | P47: =D47-(G47+I47) -> 0 | Q47: =P47-M47 -> 0 | R47: =K47-I47-G47 -> 0 | S47: =L47-J47-H47 -> 0
A48: 3.4.2 | B48: CAJAS INSPECCION 60 x 60 x 60 cm (INC. BASE y CAÑUELA Y TAPA CON MARCO METALICO) | C48: UN | D48: 4 | E48: 272707.75 | F48: =E48*D48 -> 1090831 | J48: =I48*E48 -> 0 | K48: =G48+I48 -> 0 | L48: =K48*E48 -> 0 | M48: =+D48-K48 -> 4 | N48: =+M48*E48 -> 1090831 | O48: =D48-(G48+I48+M48) -> 0 | P48: =D48-(G48+I48) -> 4 | Q48: =P48-M48 -> 0 | R48: =K48-I48-G48 -> 0 | S48: =L48-J48-H48 -> 0
A49: 3.5 | B49: MOVIMIENTO DE TIERRAS | O49: =D49-(G49+I49+M49) -> 0 | P49: =D49-(G49+I49) -> 0 | Q49: =P49-M49 -> 0 | R49: =K49-I49-G49 -> 0 | S49: =L49-J49-H49 -> 0
A50: 3.5.2 | B50: EXCAVACION MANUAL TIERRA. H=2.50 (INC. RETIRO DE SOBR.) | C50: M3 | D50: 1.8 | E50: 27178.928 | F50: =E50*D50 -> 48922.07 | J50: =I50*E50 -> 0 | K50: =G50+I50 -> 0 | L50: =K50*E50 -> 0 | M50: =+D50-K50 -> 1.8 | N50: =+M50*E50 -> 48922.07 | O50: =D50-(G50+I50+M50) -> 0 | P50: =D50-(G50+I50) -> 1.8 | Q50: =P50-M50 -> 0 | R50: =K50-I50-G50 -> 0 | S50: =L50-J50-H50 -> 0
A51: 4 | B51: ESTRUCTURA | O51: =D51-(G51+I51+M51) -> 0 | P51: =D51-(G51+I51) -> 0 | Q51: =P51-M51 -> 0 | R51: =K51-I51-G51 -> 0 | S51: =L51-J51-H51 -> 0
A52: 4.1 | B52: ELEMENTOS VERTICALES EN CONCRETO | O52: =D52-(G52+I52+M52) -> 0 | P52: =D52-(G52+I52) -> 0 | Q52: =P52-M52 -> 0 | R52: =K52-I52-G52 -> 0 | S52: =L52-J52-H52 -> 0
A53: 4.1.1 | B53: CONCRETO PARA COLUMNAS 3000 PSI | C53: M3 | D53: 1.62 | E53: 608238.59 | F53: =E53*D53 -> 985346.52 | J53: =I53*E53 -> 0 | K53: =G53+I53 -> 0 | L53: =K53*E53 -> 0 | M53: =+D53-K53 -> 1.62 | N53: =+M53*E53 -> 985346.52 | O53: =D53-(G53+I53+M53) -> 0 | P53: =D53-(G53+I53) -> 1.62 | Q53: =P53-M53 -> 0 | R53: =K53-I53-G53 -> 0 | S53: =L53-J53-H53 -> 0
A54: 4.2 | B54: ELEMENTOS HORIZONTALES EN CONCRETO | O54: =D54-(G54+I54+M54) -> 0 | P54: =D54-(G54+I54) -> 0 | Q54: =P54-M54 -> 0 | R54: =K54-I54-G54 -> 0 | S54: =L54-J54-H54 -> 0
A55: 4.2.1 | B55: CONCRETO PARA VIGAS AÉREAS 3000 PSI | C55: M3 | D55: 1.75 | E55: 705289.93 | F55: =E55*D56 -> 1234257.4 | J55: =I55*E55 -> 0 | K55: =G55+I55 -> 0 | L55: =K55*E55 -> 0 | M55: =+D55-K55 -> 1.75 | N55: =+M55*E55 -> 1234257.4 | O55: =D55-(G55+I55+M55) -> 0 | P55: =D55-(G55+I55) -> 1.75 | Q55: =P55-M55 -> 0 | R55: =K55-I55-G55 -> 0 | S55: =L55-J55-H55 -> 0
...

Sheet ACTA No 2
A8: SEGUNDA ACTA PARCIAL DE OBRA CENTRO ZONAL GIRON
B10: 1. INFORMACIÓN GENERAL
B12: CONTRATO: | C12: 1718 DE 2013
B14: CONTRATISTA: | C14: UNION TEMPORAL - ICBF - 11 - OSCHAVS -2013
B16: OBJETO DEL CONTRATO: | C16: "Contratar las obras necesarias para la construcción, remodelación adecuación, mantenimiento preventivo y correctivo de los inmuebles donde funcionan las sedes administrativas, centros zonales, sedes regionales y unidades de servicio del ICBF a nivel nacional".
B18: VALOR INICIAL DEL CONTRATO | C18: 4460000000
B19: VALOR ADICIONAL | C19: 0
B20: VALOR TOTAL | C20: =+C19+C18 -> 4460000000
B22: FECHA DE INICIO: | C22: 24 de Febrero de 2014
B23: PLAZO INICIAL: | C23: 31 de Julio de 2014
B24: PLAZO DE PRORROGA 1: | C24: 31 de Diciembre de 2014
A27: ITEM | B27: DESCRIPCIÓN | C27: UN | D27: CANTIDAD | E27: PRECIO UNITARIO | F27: SUB TOTAL | G27: ULTIMO ACUMULADO | H27: VALOR ULTIMO ACUMULADO | I27: CANTIDAD EJECUTADA PRESENTE ACTA | J27: VALOR PRESENTE ACTA | K27: CANTIDAD TOTAL EJECUTADO | L27: VALOR TOTAL EJECUTADO | M27: SALDO CANTIDAD POR EJECUTAR | N27: SALDO VALOR POR EJECUTAR
A28: 1.1.6 | B28: LIMPIEZA, DESCAPOTE, RETIRO SOBR. - MANUAL | C28: M2 | D28: 208.7 | E28: 10502 | F28: =+E28*D28 -> 2191767.4 | G28: =+'Acta No 1'!I28+'Acta No 1'!G28 -> 208.7 | H28: =+G28*E28 -> 2191767.4 | J28: =+I28*E28 -> 0 | K28: =+G28+J28 -> 208.7 | L28: =+K28*E28 -> 2191767.4 | M28: =+D28-K28 -> 0 | N28: =+M28*E28 -> 0
A29: 1.3 | B29: DEMOLICIONES - DESMONTES - RETIROS
A30: 1.3.1 | B30: DEMOLICION CIELO RASO FALSO (INC. RETIRO DE SOBR.) | C30: M2 | D30: 56.8 | E30: 9431.5085 | F30: =+E30*D30 -> 535709.68 | G30: =+'Acta No 1'!I30+'Acta No 1'!G30 -> 56.8 | H30: =+G30*E30 -> 535709.68 | J30: =I30*E30 -> 0 | K30: =+G30+J30 -> 56.8 | L30: =+K30*E30 -> 535709.68 | M30: =+D30-K30 -> 0 | N30: =+M30*E30 -> 0 | O30: =D30-(G30+I30+M30) -> 0 | P30: =D30-(G30+I30) -> 0 | Q30: =P30-M30 -> 0 | R30: =K30-I30-G30 -> 0 | S30: =L30-J30-H30 -> 0
A31: 1,3,5 | B31: DEMOLICIONES VARIAS EN CONCRETO Y MAMPOSTERIA | C31: M3 | D31: =16.8+4.24+35.7 -> 56.74 | E31: 124407.04 | F31: =+E31*D31 -> 7058855.6 | G31: =+'Acta No 1'!I31+'Acta No 1'!G31 -> 53.2 | H31: =+G31*E31 -> 6618454.7 | I31: 0 | J31: =I31*E31 -> 0 | K31: =+I31+G31 -> 53.2 | L31: =+K31*E31 -> 6618454.7 | M31: =+D31-K31 -> 3.54 | N31: =+M31*E31 -> 440400.93 | O31: =D31-(G31+I31+M31) -> 0 | P31: =D31-(G31+I31) -> 3.54 | Q31: =P31-M31 -> 0 | R31: =K31-I31-G31 -> 0 | S31: =L31-J31-H31 -> 0
A32: 1.3.6 | B32: DESMONTE DE ENCAHPES Y MUROS | C32: M2 | D32: 104.6 | E32: 11876.912 | F32: =+E32*D32 -> 1242325 | G32: =+'Acta No 1'!I32+'Acta No 1'!G32 -> 104.6 | H32: =+G32*E32 -> 1242325 | J32: =I32*E32 -> 0 | K32: =+G32+J32 -> 104.6 | L32: =+K32*E32 -> 1242325 | M32: =+D32-K32 -> 0 | N32: =+M32*E32 -> 0 | O32: =D32-(G32+I32+M32) -> 0 | P32: =D32-(G32+I32) -> 0 | Q32: =P32-M32 -> 0 | R32: =K32-I32-G32 -> 0 | S32: =L32-J32-H32 -> 0
A33: 1.3.7 | B33: DEMOLICIÓN DE ORINAL Ó LAVAMANOS CORRIDO (INC. RETIRO DE SOBR.) | C33: ML | D33: 9.8 | E33: 22783.913 | F33: =+E33*D33 -> 223282.35 | G33: =+'Acta No 1'!I33+'Acta No 1'!G33 -> 9.8 | H33: =+G33*E33 -> 223282.35 | J33: =I33*E33 -> 0 | K33: =+G33+J33 -> 9.8 | L33: =+K33*E33 -> 223282.35 | M33: =+D33-K33 -> 0 | N33: =+M33*E33 -> 0 | O33: =D33-(G33+I33+M33) -> 0 | P33: =D33-(G33+I33) -> 0 | Q33: =P33-M33 -> 0 | R33: =K33-I33-G33 -> 0 | S33: =L33-J33-H33 -> 0
A34: 1.3.11 | B34: DEMOLICIÓN DE MUROS TOLETE E=25 CM. (INC. RETIRO DE SOBR.) | C34: M2 | D34: 118.02 | E34: 16938.982 | F34: =+E34*D34 -> 1999138.6 | G34: =+'Acta No 1'!I34+'Acta No 1'!G34 -> 0 | H34: =+G34*E34 -> 0 | J34: =I34*E34 -> 0 | K34: =+G34+J34 -> 0 | L34: =+K34*E34 -> 0 | M34: =+D34-K34 -> 118.02 | N34: =+M34*E34 -> 1999138.6 | O34: =D34-(G34+I34+M34) -> 0 | P34: =D34-(G34+I34) -> 118.02 | Q34: =P34-M34 -> 0 | R34: =K34-I34-G34 -> 0 | S34: =L34-J34-H34 -> 0
A35: 1.3.12 | B35: DEMOLICION PAÑETES (INC. RETIRO DE SOBR.) | C35: M2 | D35: 250 | E35: 9424.8652 | F35: =+E35*D35 -> 2356216.3 | G35: =+'Acta No 1'!I35+'Acta No 1'!G35 -> 0 | H35: =+G35*E35 -> 0 | J35: =I35*E35 -> 0 | K35: =+G35+J35 -> 0 | L35: =+K35*E35 -> 0 | M35: =+D35-K35 -> 250 | N35: =+M35*E35 -> 2356216.3 | O35: =D35-(G35+I35+M35) -> 0 | P35: =D35-(G35+I35) -> 250 | Q35: =P35-M35 -> 0 | R35: =K35-I35-G35 -> 0 | S35: =L35-J35-H35 -> 0
A36: 1.3.15 | B36: DEMOLICION PISOS EN TABLON (INC. RETIRO DE SOBR.) | C36: M2 | D36: =807*1.03 -> 831.21 | E36: 9018.5583 | F36: =+E36*D36 -> 7496315.8 | G36: =+'Acta No 1'!I36+'Acta No 1'!G36 -> 792 | H36: =+G36*E36 -> 7142698.2 | J36: =I36*E36 -> 0 | K36: =+G36+J36 -> 792 | L36: =+K36*E36 -> 7142698.2 | M36: =+D36-K36 -> 39.21 | N36: =+M36*E36 -> 353617.67 | O36: =D36-(G36+I36+M36) -> 0 | P36: =D36-(G36+I36) -> 39.21 | Q36: =P36-M36 -> 0 | R36: =K36-I36-G36 -> 0 | S36: =L36-J36-H36 -> 0
A37: 1.3.18 | B37: DEMOLICION PLACA MACIZA H = 0.10 (INC. RETIRO DE SOBR.) | C37: M2 | D37: =24.5*1.05 -> 25.725 | E37: 40827.833 | F37: =+E37*D37 -> 1050296 | G37: =+'Acta No 1'!I37+'Acta No 1'!G37 -> 0 | H37: =+G37*E37 -> 0 | J37: =I37*E37 -> 0 | K37: =+G37+J37 -> 0 | L37: =+K37*E37 -> 0 | M37: =+D37-K37 -> 25.725 | N37: =+M37*E37 -> 1050296 | O37: =D37-(G37+I37+M37) -> 0 | P37: =D37-(G37+I37) -> 25.725 | Q37: =P37-M37 -> 0 | R37: =K37-I37-G37 -> 0 | S37: =L37-J37-H37 -> 0
A38: 1.3.21 | B38: DEMOLICION DE PLACA DE PISO H=10 (INC RETIRO DE SOBR) | C38: M2 | D38: 831.21 | E38: 33717 | F38: =+E38*D38 -> 28025908 | G38: =+'Acta No 1'!I38+'Acta No 1'!G38 -> 792 | H38: =+G38*E38 -> 26703864 | J38: =I38*E38 -> 0 | K38: =+G38+J38 -> 792 | L38: =+K38*E38 -> 26703864 | M38: =+D38-K38 -> 39.21 | N38: =+M38*E38 -> 1322043.6
A39: 1.3.22 | B39: DESMONTE APARATOS SANITARIOS (INC. RETIRO DE SOBR.) | C39: UN | D39: 10 | E39: 18460.727 | F39: =+E39*D39 -> 184607.27 | G39: =+'Acta No 1'!I39+'Acta No 1'!G39 -> 8 | H39: =+G39*E39 -> 147685.82 | J39: =I39*E39 -> 0 | K39: =+G39+J39 -> 8 | L39: =+K39*E39 -> 147685.82 | M39: =+D39-K39 -> 2 | N39: =+M39*E39 -> 36921.455 | O39: =D39-(G39+I39+M39) -> 0 | P39: =D39-(G39+I39) -> 2 | Q39: =P39-M39 -> 0 | R39: =K39-I39-G39 -> 0 | S39: =L39-J39-H39 -> 0
A40: 1.3.27 | B40: DESMONTE PUERTAS CON MARCOS (INC. RETIRO DE SOBR.) | C40: UN | D40: 13 | E40: 19405.734 | F40: =+E40*D40 -> 252274.54 | G40: =+'Acta No 1'!I40+'Acta No 1'!G40 -> 9 | H40: =+G40*E40 -> 174651.6 | I40: 4 | J40: =I40*E40 -> 77622.935 | K40: =+G40+I40 -> 13 | L40: =+K40*E40 -> 252274.54 | M40: =+D40-K40 -> 0 | N40: =+M40*E40 -> 0 | O40: =D40-(G40+I40+M40) -> 0 | P40: =D40-(G40+I40) -> 0 | Q40: =P40-M40 -> 0 | R40: =K40-I40-G40 -> 0 | S40: =L40-J40-H40 -> 0
A41: 1.3.29 | B41: DESMONTE VENTANAS O PUERTAS METÁLICAS (INC. RETIRO DE SOBRANTES) | C41: M2 | D41: =119*1.05 -> 124.95 | E41: 13631.636 | F41: =+E41*D41 -> 1703272.9 | G41: =+'Acta No 1'!I41+'Acta No 1'!G41 -> 30.1 | H41: =+G41*E41 -> 410312.23 | I41: 77.3 | J41: =I41*E41 -> 1053725.4 | K41: =+I41+G41 -> 107.4 | L41: =+K41*E41 -> 1464037.7 | M41: =+D41-K41 -> 17.55 | N41: =+M41*E41 -> 239235.2 | O41: =D41-(G41+I41+M41) -> 0 | P41: =D41-(G41+I41) -> 17.55 | Q41: =P41-M41 -> 0 | R41: =K41-I41-G41 -> 0 | S41: =L41-J41-H41 -> 0
A42: 1.3.36 | B42: DEMOLICION MESÓN CORRIDO (INC. RETIRO DE SOBR.) | C42: ML | D42: 27.2 | E42: 14424.724 | F42: =+E42*D42 -> 392352.49 | G42: =+'Acta No 1'!I42+'Acta No 1'!G42 -> 23.9 | H42: =+G42*E42 -> 344750.9 | J42: =I42*E42 -> 0 | K42: =+G42+J42 -> 23.9 | L42: =+K42*E42 -> 344750.9 | M42: =+D42-K42 -> 3.3 | N42: =+M42*E42 -> 47601.589 | O42: =D42-(G42+I42+M42) -> 0 | P42: =D42-(G42+I42) -> 3.3 | Q42: =P42-M42 -> 0 | R42: =K42-I42-G42 -> 0 | S42: =L42-J42-H42 -> 0
A43: 1.4 | B43: VARIOS - PRELIMINARES | O43: =D43-(G43+I43+M43) -> 0 | P43: =D43-(G43+I43) -> 0 | Q43: =P43-M43 -> 0 | R43: =K43-I43-G43 -> 0 | S43: =L43-J43-H43 -> 0
A44: 1.4.2 | B44: RETIRO DE SOBRANTES CARGUE TRANSPORTE Y DISPOSICION FINAL DE ESCOMBROS A SITIO AUTORIZADO | C44: M3 | D44: =288+78 -> 366 | E44: 51478.234 | F44: =+E44*D44 -> 18841034 | G44: =+'Acta No 1'!I44+'Acta No 1'!G44 -> 168 | H44: =+G44*E44 -> 8648343.3 | I44: 198 | J44: =I44*E44 -> 10192690 | K44: =+I44+G44 -> 366 | L44: =+K44*E44 -> 18841034 | M44: =+D44-K44 -> 0 | N44: =+M44*E44 -> 0 | O44: =D44-(G44+I44+M44) -> 0 | P44: =D44-(G44+I44) -> 0 | Q44: =P44-M44 -> 0 | R44: =K44-I44-G44 -> 0 | S44: =L44-J44-H44 -> 0
A45: 2. | B45: CIMENTACION
A46: 2.1 | B46: EXCAVACIONES RELLENOS Y REEMPLAZOS
A47: 2.1.4 | B47: RELLENOS EN MATERIAL COMUN | C47: M3 | D47: 105 | E47: 38788 | F47: =+E47*D47 -> 4072740 | I47: 40.8 | J47: =I47*E47 -> 1582550.4 | K47: =+I47+G47 -> 40.8
A48: 2.5 | B48: OBRAS DE MITIGACION Y ESTABILIZACION | O48: =D48-(G48+I48+M48) -> 0 | P48: =D48-(G48+I48) -> 0 | Q48: =P48-M48 -> 0 | R48: =K48-I48-G48 -> 0 | S48: =L48-J48-H48 -> 0
A49: 2.5.14 | B49: . PRADIZACION ZONAS VERDES | C49: M2 | D49: 50 | E49: 19287.533 | F49: =E49*D49 -> 964376.65 | M49: =+D49-K49 -> 50 | N49: =+M49*E49 -> 964376.65 | O49: =D49-(G49+I49+M49) -> 0 | P49: =D49-(G49+I49) -> 50 | Q49: =P49-M49 -> 0 | R49: =K49-I49-G49 -> 0 | S49: =L49-J49-H49 -> 0
A50: 3.4 | B50: CONSTRUCCIONES EN MAMPOSTERIA | O50: =D50-(G50+I50+M50) -> 0 | P50: =D50-(G50+I50) -> 0 | Q50: =P50-M50 -> 0 | R50: =K50-I50-G50 -> 0 | S50: =L50-J50-H50 -> 0
A51: 3.4.3 | B51: CAJAS INSPECCION 80 x 80 x 80 cm (INC. BASE y CAÑUELA Y TAPA CON MARCO METALICO) | C51: UN | D51: 7 | E51: 346247 | F51: =E51*D51 -> 2423729 | I51: 7 | J51: =I51*E51 -> 2423729 | K51: =G51+I51 -> 7 | L51: =K51*E51 -> 2423729 | M51: =+D51-K51 -> 0 | N51: =+M51*E51 -> 0 | O51: =D51-(G51+I51+M51) -> 0 | P51: =D51-(G51+I51) -> 0 | Q51: =P51-M51 -> 0 | R51: =K51-I51-G51 -> 0 | S51: =L51-J51-H51 -> 0
A52: 3.5 | B52: MOVIMIENTO DE TIERRAS | O52: =D52-(G52+I52+M52) -> 0 | P52: =D52-(G52+I52) -> 0 | Q52: =P52-M52 -> 0 | R52: =K52-I52-G52 -> 0 | S52: =L52-J52-H52 -> 0
A53: 3.5.2 | B53: EXCAVACION MANUAL TIERRA. H=2.50 (INC. RETIRO DE SOBR.) | C53: M3 | D53: 33 | E53: 27178.928 | F53: =E53*D53 -> 896904.62 | I53: 33 | J53: =I53*E53 -> 896904.62 | K53: =G53+I53 -> 33 | L53: =K53*E53 -> 896904.62 | M53: =+D53-K53 -> 0 | N53: =+M53*E53 -> 0 | O53: =D53-(G53+I53+M53) -> 0 | P53: =D53-(G53+I53) -> 0 | Q53: =P53-M53 -> 0 | R53: =K53-I53-G53 -> 0 | S53: =L53-J53-H53 -> 0
A54: 4 | B54: ESTRUCTURA | O54: =D54-(G54+I54+M54) -> 0 | P54: =D54-(G54+I54) -> 0 | Q54: =P54-M54 -> 0 | R54: =K54-I54-G54 -> 0 | S54: =L54-J54-H54 -> 0
A55: 4.1 | B55: ELEMENTOS VERTICALES EN CONCRETO | O55: =D55-(G55+I55+M55) -> 0 | P55: =D55-(G55+I55) -> 0 | Q55: =P55-M55 -> 0 | R55: =K55-I55-G55 -> 0 | S55: =L55-J55-H55 -> 0
...
