{"text_format":"1","workbook":"xlsx","n_sheets":7,"sheets":["FAMILIAS_RUUM","LISTAS","FORMULAS","CODIGO REGIONALES","municipio","Divipolas","CODIGO PAIS"],"not_rendered":{"charts":0,"images":2,"macros":1,"external_links":2,"defined_names":243,"comments":0,"pivot_tables":0},"unopened":[],"bounds":{"document_bytes":16777216,"sheet_cells":100000,"rows_first":2000,"rows_last":500,"rows_between":2000,"halvings":0,"cell_chars":16384,"cell_head_chars":4096},"cells_cut":0,"cells_raw":0,"read":"whole","date_system":"1900"}

{"sheet":"FAMILIAS_RUUM","index":0,"n_rows":1509,"n_cols":214,"rows_kept":562,"cut":true,"hidden":false,"merged":[[3,213,4,213],[3,0,3,4],[3,77,3,81],[3,82,3,84],[3,85,3,94],[3,96,3,98],[3,99,3,103],[3,105,3,107],[3,108,3,110],[3,150,3,151],[3,111,3,113],[3,114,3,116],[3,117,3,119],[3,120,3,122],[3,201,3,203],[3,204,3,207],[3,208,3,211],[3,172,3,175],[3,177,3,179],[3,180,3,182],[3,191,3,192],[3,194,3,197],[3,198,3,200],[0,0,2,0],[0,1,2,5],[2,6,2,7],[3,139,3,140],[3,141,3,143],[3,123,3,125],[3,126,3,128],[3,129,3,131],[3,132,3,134],[3,136,3,138]],"bounds":{"rows_first":250,"rows_last":62,"rows_between":250,"halvings":3}}
[null,"PROCESO GESTION PARA LA PROTECCIÓN \n\nFORMATO REGISTRO UNICO DE UNIDADES MOVILES EMERGENCIA \nRUUME\n\nRESTABLECIMIENTO DE DERECHOS",null,null,null,null,"F4.P6.P","2017-08-03"]
[null,null,null,null,null,null,"Versión 2","Página 1 de 1"]
[null,null,null,null,null,null,"CONFIDENCIAL"]
["* @ Versión 4.017     CODIFICACION  DE ARCHIVO",null,null,null,null,"A. INFORMACION DEL LUGAR DE ATENCION",null,null,null,null,null,null,null,"NO ES CAMPO OBLIGATORIO PARA ZVTN",null,null,null,null,null,null,"B. DATOS DEL GRUPO FAMILIAR - RESPONSABLE DEL GRUPO FAMILIAR",null,null,null,null,null,null,null,null,null,null,null,null,null,null,null,null,null,null,"G. AYUDA HUMANITARIA DE TRANSICION COMPONENTE DE ALIMENTACION (ART. 65 LEY 1448 DE 2011)",null,null,null,null,null,null,"DATOS DEL GRUPO FAMILIAR - OTRAS VARIABLES DE VULNERABILIDAD",null,null,null,null,null,null,"B. INFORMACION DEL BENEFICIARIO",null,null,null,null,null,null,null,null,null,null,null,null,null,null,null,null,null,null,null,null,null,null,null,null,null,null,null,null,null,null,null,null,null,null,null,null,null,null,null,null,null,null,null,null,null,null,null,null,null,null,"C. HECHOS VICTIMIZANTES","C2 .SEÑALE EL HECHO DEL CUAL HA SIDO VICTIMA EN EL MARCO DEL CONFLICTO ARMADO",null,null,null,null,null,null,null,null,null,null,null,null,null,null,null,null,null,null,null,null,null,null,null,null,null,null,null,null,null,null,"D. RACION ALIMENTARIA DE EMERGENCIA",null,null,"E. ETAPAS DE LA ATENCION HUMANITARIA",null,"F. OTROS RIESGOS PRESUNTOS POSIBLES VULNERABLES DE DERECHOS",null,null,null,null,null,null,null,null,"F2. ACCIONES REALIZADAS:",null,null,null,null,null,"F3. REMISION A OTRAS ENTIDADES DEL SNARIV",null,null,null,null,"G. NUTRICION - INFORMACION ANTROPOMETRICA",null,null,null,null,null,null,null,null,null,null,"H. INFORMACION ANTROPOMETRICA (Informacion para menores de edad y madres Gestantes)",null,null,null,null,"I. BIENESTARINA",null,null,"J. CONEXIÓN CON EL SIM",null,null,null,null,null,null,null,null,null,null,"ACTUALIZACIÓN DEL TIPO DE DOCUMENTO",null,null,"AREAS DE DERECHO",null,null,null,null,null,null,"CASO",null,null,"LONGITUD",null,null,null,"LATITUD",null,null,null,null,"OBSERVACIONES"]
["NO. BENEFICIARIOS","NOMBRE ARCHIVO","FECHA DE ATENCION","REGIONAL ICBF","CODIGO DE LA REGIONAL","A1. DEPARTAMENTO DE ATENCION","A1. CODIGO DEL DEPARTAMENTO DE ATENCION","A2. MUNICIPIO / DISTRITO DE ATENCION","A2. CODIGO MUNICIPIO / DISTRITO DE ATENCION","A4. ZONA DE ATENCION","A5 - A8. TIPO DE ZONA DE ATENCION","A6 - A9. NOMBRE DE LA ZONA DE ATENCION","A7. NOMBRE DEL BARRIO \n(SI SE ENCUENTRA UBICADO EN ZONA URBANA)","A10. DIRECCION","A11. NUMERO TELEFONICO","A12. NUMERO CELULAR","A13. DEPARTAMENTO EXPULSOR","A13. CODIGO DEL DEPARTAMENTO EXPULSOR","A13. MUNICIPIO EXPULSOR","A13. CODIGO MUNICIPIO DE EXPULSOR","B1. PRIMER NOMBRE DEL RESPONSABLE DEL GRUPO FAMILIAR","B1. SEGUNDO NOMBRE  DEL RESPONSABLE DEL GRUPO FAMILIAR","B1. PRIMER APELLIDO  DEL RESPONSABLE DEL GRUPO FAMILIAR","B1. SEGUNDO APELLIDO  DEL RESPONSABLE DEL GRUPO FAMILIAR","B2. SEXO","B3. PAIS DE NACIMIENTO DEL RESPONSABLE DEL GRUPO FAMILIAR","B3. CODIGO PAIS DE NACIMIENTO DEL RESPONSABLE DEL GRUPO FAMILIAR","B3. DEPARTAMENTO DE NACIMIENTO DEL RESPONSABLE DEL GRUPO FAMILIAR","B3. CODIGO DEL DEPARTAMENTO DE NACIMIENTO DEL RESPONSABLE DEL GRUPO FAMILIAR","B3. MUNICIPIO/DISTRITO DE NACIMIENTO DEL RESPONSABLE DEL GRUPO FAMILIAR","B3.CODIGO MUNICIPIO DE NACIMIENTO DEL RESPONSABLE DEL GRUPO FAMILIAR","B4.FECHA DE NACIMIENTO","B6. TIPO DE DOCUMENTO DE IDENTIDAD DEL RESPONSABLE DEL BENEFICIARIO","B7. NUMERO DE DOCUMENTO DE IDENTIDAD DEL RESPONSABLE DEL GRUPO FAMILIAR","B8.FECHA DE EXPEDICION DEL DOCUMENTO DE IDENTIDAD \n(DILIGENCIAR SOLO SI ES DE NACIONALIDAD COLOMBIANA)","B9. DEPARTAMENTO DE EXPEDICION DEL DOCUMENTO DE IDENTIDAD\n(DILIGENCIAR SOLO SI ES DE NACIONALIDAD COLOMBIANA)","B9. CODIGO DEL DEPARTAMENTO DE EXPEDICION DEL DOCUMENTO DEL BENEFICIARIO","B9. MUNICIPIO DE EXPEDICION DEL DOCUMENTO DE IDENTIDAD\n(DILIGENCIAR SOLO SI ES DE NACIONALIDAD COLOMBIANA)","B9. CODIGO MUNICIPIO DE EXPEDICION DEL DOCUMENTO DE IDENTIDAD","G1. ¿CUENTA CON AYUDA HUMANITARIA DE TRANSICION COMPONENTE DE ALIMENTACION?","G2. ¿INVIRTIO LA AYUDA HUMANITARIA DE TRANSICION COMPONENTE DE ALIMENTACION EN COMPRAS DE:\nALIMENTOS?","G2. ¿INVIRTIO LA AYUDA HUMANITARIA DE TRANSICION COMPONENTE DE ALIMENTACION EN PAGO DE:\nSERVICIOS PUBLICOS?","G2. ¿INVIRTIO LA AYUDA HUMANITARIA DE TRANSICION COMPONENTE DE ALIMENTACION EN COMPRA DE:\nELEMENTOS DE ASEO?","G2. ¿INVIRTIO LA AYUDA HUMANITARIA DE TRANSICION COMPONENTE DE ALIMENTACION EN PAGO DE:\nTRANSPORTE?","G2. ¿INVIRTIO LA AYUDA HUMANITARIA DE TRANSICION COMPONENTE DE ALIMENTACION EN: \nOTRA NECESIDAD?","G2. ¿EN CUAL NECESIDAD  HA INVERTIDO LA AYUDA HUMANITARIA DE TRANSICION COMPONENTE DE ALIMENTACION ?\n(RESPONDA SI EN LA PREGUNTA ANTERIOR SELECCIONO LA OPCION \"SI\")","H1. SELECCIONE DE LA LISTA EL TIPO VIVIENDA","H2.. CONDICIONES DE VIVIENDA:\n¿CUENTA CON ACUEDUCTO?","H3. CONDICIONES DE VIVIENDA:\n¿CUENTA CON ALCANTARILLADO?","H4. CONDICIONES DE VIVIENDA:\n¿CUENTA CON POSO SEPTICO?","H5. CONDICIONES DE VIVIENDA:\n¿CUENTA CON ACCESO A AGUA POTABLE?","H6. ¿CUANTOS SON LOS MIEMBROS QUE CONFORMAN EL HOGAR?\n(INCLUYENDO EL RESPONSABLE DEL GRUPO FAMILIAR)","H6. ¿CUANTAS PERSONAS DEL HOGAR RECIBEN INGRESOS?","B1. SEÑALE EL PARENTESCO CON EL RESPONSABLE DEL GRUPO FAMILIAR","B2. PRIMER NOMBRE DEL INTEGRANTE","B2. SEGUNDO NOMBRE DEL INTEGRANTE","B2. PRIMER APELLIDO DEL INTEGRANTE ","B2. SEGUNDO APELLIDO DEL INTEGRANTE ","B3. SEXO","B4. PAIS DE NACIMIENTO DEL INTEGRANTE","B4. CODIGO PAIS DE NACIMIENTO DEL INTEGRANTE","B4. DEPARTAMENTO DE NACIMIENTO DEL INTEGRANTE","B4. CODIGO DEL DEPARTAMENTO DE NACIMIENTO DEL INTEGRANTE","B4. MUNICIPIO/DISTRITO DE NACIMIENTO DEL INTEGRANTE","B4. CODIGO MUNICIPIO DE NACIMIENTO DEL INTEGRANTE","B5. FECHA DE NACIMIENTO DEL INTEGRANTE","B6. EDAD (AÑOS)","B6. EDAD (MESES)","B7. TIPO DE DOCUMENTO DE IDENTIDAD DEL INTEGRANTE","B8. NUMERO DE DOCUMENTO DE IDENTIDAD DEL INTEGRANTE","B9.FECHA DE EXPEDICION DEL DOCUMENTO DE IDENTIDAD \n(DILIGENCIAR SOLO SI ES DE NACIONALIDAD COLOMBIANA)","B10. DEPARTAMENTO DE EXPEDICION DEL DOCUMENTO DE IDENTIDAD\n(DILIGENCIAR SOLO SI ES DE NACIONALIDAD COLOMBIANA)","B10. CODIGO DEPARTAMENTO DE EXPEDICION DEL DOCUMENTO DE IDENTIDAD","B10. MUNICIPIO DE EXPEDICION DEL DOCUMENTO DE IDENTIDAD\n(DILIGENCIAR SOLO SI ES DE NACIONALIDAD COLOMBIANA)","B10. CODIGO MUNICIPIO DE EXPEDICION DEL DOCUMENTO DE IDENTIDAD","B11. NUMERO TELEFONICO DEL INTEGRANTE","B12. NUMERO CELULAR DEL INTEGRANTE","B13. GRUPO ETNICO EN EL CUAL SE RECONOCE EL INTEGRANTE","B14. SI SE AUTORECONOCE COMO AFROCOLOMBIANO COMUNIDAD NEGRA O PALENQUERO INDIQUE A QUE TERRITORIO PERTENECE","B15. SI SE AUTORECONOCE COMO INDIGENA INDIQUE EL PUEBLO AL QUE PERTENECE ","B15. SI SE AUTORECONOCE COMO INDIGENA INDIQUE EL NOMBRE DEL RESGUARDO   AL QUE PERTENECE","B15. SI SE AUTORECONOCE COMO INDIGENA INDIQUE EL NOMBRE DE LA COMUNIDAD A LA QUE PERTENECE","B16. ¿HA PRESENTADO DECLARACION?","B17. ¿HA SIDO VICTIMA DE \nMAS \nDE UN DESPLAZAMIENTO?","B17. ¿DE CUANTOS DESPLAZAMIENTOS HA SIDO VICTIMA? ","B18. ¿PERSONA EN CONDICION ESPECIAL DE DISCAPACIDAD?","B19. PERSONA EN SITUACION DE DISCAPACIDAD (PARA BENEFICIARIOS CON DISCAPACIDAD) ¿LA DISCAPACIDAD ES DE  MOVILIDAD?","B19. PERSONA EN SITUACION DE DISCAPACIDAD (PARA BENEFICIARIOS CON DISCAPACIDAD) ¿LA DISCAPACIDAD \nES SENSORIAL VISUAL?","B19. PERSONA EN SITUACION DE DISCAPACIDAD (PARA BENEFICIARIOS CON DISCAPACIDAD) ¿LA DISCAPACIDAD \nES SENSORIAL AUDITIVA?","B19. PERSONA EN SITUACION DE DISCAPACIDAD (PARA BENEFICIARIOS CON DISCAPACIDAD) ¿LA DISCAPACIDAD \nES SENSORIAL GUSTO, OLFATO, TACTO?","B19. PERSONA EN SITUACION DE DISCAPACIDAD (PARA BENEFICIARIOS CON DISCAPACIDAD) ¿LA DISCAPACIDAD ES \nSISTEMICA?","B19. PERSONA EN SITUACION DE DISCAPACIDAD (PARA BENEFICIARIOS CON DISCAPACIDAD) ¿LA DISCAPACIDAD \nES MENTAL COGNITIVA?","B19. PERSONA EN SITUACION DE DISCAPACIDAD (PARA BENEFICIARIOS CON DISCAPACIDAD) ¿LA DISCAPACIDAD \nES MENTAL PSICOLOGICA?","B19. PERSONA EN SITUACION DE DISCAPACIDAD (PARA BENEFICIARIOS CON DISCAPACIDAD)  ¿LA DISCAPACIDAD \nES DE VOZ Y HABLA?","B19. PERSONA EN SITUACION DE DISCAPACIDAD (PARA BENEFICIARIOS CON DISCAPACIDAD)  ¿LA DISCAPACIDAD \nES DE PIEL, PELO Y UÑAS?","B20. SISTEMA GENERAL DE SEGURIDAD SOCIAL EN SALUD (SGSSS) \nDEL BENEFICIARIO","B21. SITUACIONES DIFERENCIALES \n¿ES MUJER GESTANTE?","B21. SITUACIONES DIFERENCIALES \n¿ES MADRE EN PERIODO DE LACTANCIA?","B21. SITUACIONES DIFERENCIALES \n¿ES ADULTO MAYOR?\n\n(ESTA PREGUNTA SE DILIGENCIA AUTOMATICAMENTE SEGUN RESPUESTAS DE SEXO Y EDAD)","B22. NIVEL DE ESCOLARIDAD\n(ULTIMO NIVEL ALCANZADO)","B22. ESCOLARIZADO ACTUALMENTE","B22. GRADO QUE CURSA ACTUALMENTE","B22. ULTIMO GRADO CURSADO","B22. AÑO EN EL QUE LO CURSO","C1 ¿HA SIDO VICTIMA DEL CONFLICTO ARMADO INTERNO?","C2. ABANDONO O DESPOJO FORZADO DE TIERRAS","C2. VICTIMA DE ACTO TERRORISTA (ATENTADOS - COMBATES - ENFRENTAMIENTOS - HOSTIGAMIENTOS)","C2. VICTIMAS DE AMENAZAS CONTRA DE LA VIDA O CONTRA SU INTEGRIDAD PERSONAL POR MIEMBROS DE GRUPOS ARMADOS ORGANIZDOS AL MARGEN DE LA LEY","C2. VICTIMAS DE ATAQUES EN CONTRA DEL DERECHO A LA LIBERTAD, INTEGRIDAD Y FORMACION SEXUAL","C2. NIÑOS, NIÑAS Y ADOLESCENTES NACIDOS COMO CONSECUENCIA DE ABUSO SEXUAL EN EL MARCO DE CONFLICTO ARMADO","C2. HUERFANOS A CAUSA DE LA VIOLENCIA ARMADA, HIJOS DE PADRES DESAPARECIDOS O SECUESTRADOS POR ACCION DE LOS GRUPOS ARMADOS ORGANIZADOS AL MARGEN DE LA LEY","C2. HOMICIDIO","C2. LA MADRE \nDE LA PERSONA FUE VICTIMA DE\nHOMICIDIO\n(SOLO SE RESPONDE SI LA RESPUESTA DE LA PREGUNTA HOMICIDIO ES \"SI\")","C2. EL PADRE \nDE LA PERSONA FUE VICTIMA DE\nHOMICIDIO\n(SOLO SE RESPONDE SI LA RESPUESTA DE LA PREGUNTA HOMICIDIO ES \"SI\")","C2. EL HIJO \nDE LA PERSONA FUE VICTIMA DE\nHOMICIDIO\n(SOLO SE RESPONDE SI LA RESPUESTA DE LA PREGUNTA HOMICIDIO ES \"SI\")","C2. LA HIJA \nDE LA PERSONA FUE VICTIMA DE\nHOMICIDIO\n(SOLO SE RESPONDE SI LA RESPUESTA DE LA PREGUNTA HOMICIDIO ES \"SI\")","C2. EL ABUELO \nDE LA PERSONA FUE VICTIMA DE\nHOMICIDIO\n(SOLO SE RESPONDE SI LA RESPUESTA DE LA PREGUNTA HOMICIDIO ES \"SI\")","C2. LA ABUELA \nDE LA PERSONA FUE VICTIMA DE\nHOMICIDIO\n(SOLO SE RESPONDE SI LA RESPUESTA DE LA PREGUNTA HOMICIDIO ES \"SI\")","C2. VICTIMAS DE MINAS ANTIPERSONAL, MUNISIONES SIN EXPLOTAR O ARTEFACTO EXPLOSIVO IMPROVISADO","C2. SECUESTRO","C2. LA MADRE \nDE LA PERSONA ES VICTIMA DE\nSECUESTRO\n(SOLO SE RESPONDE SI LA PREGUNTA SECUESTRO ES \"SI\")","C2. EL PADRE \nDE LA PERSONA ES VICTIMA DE\nSECUESTRO\n(SOLO SE RESPONDE SI LA PREGUNTA SECUESTRO ES \"SI\")","C2. EL HIJO \nDE LA PERSONA ES VICTIMA DE\nSECUESTRO\n(SOLO SE RESPONDE SI LA PREGUNTA SECUESTRO ES \"SI\")","C2. LA HIJA \nDE LA PERSONA ES VICTIMA DE\nSECUESTRO\n(SOLO SE RESPONDE SI LA PREGUNTA SECUESTRO ES \"SI\")","C2. EL ABUELO \nDE LA PERSONA ES VICTIMA DE\nSECUESTRO\n(SOLO SE RESPONDE SI LA PREGUNTA SECUESTRO ES \"SI\")","C2. LA ABUELA \nDE LA PERSONA ES VICTIMA DE\nSECUESTRO\n(SOLO SE RESPONDE SI LA PREGUNTA SECUESTRO ES \"SI\")","C2. TORTURA","C2. VICTIMAS DE RECLUTAMIENTO ILICITO (DESVINCULADOS DE GRUPOS ARMADOS ILEGALES)","C2. AMENAZADO DE RECLUTAMIENTO INMINENTE POR PARTE DE LOS GRUPOS ARMADOS ORGANIZADOS AL MARGEN DE LA LEY","C2. DESAPARICION FORZADA","C2. LA MADRE \nDE LA PERSONA ES VICTIMA DE\nDESAPARICION FORZADA\n(SOLO SE RESPONDE SI LA PREGUNTA DESAPARICION FORZADA ES \"SI\")","C2. EL PADRE \nDE LA PERSONA ES VICTIMA DE\nDESAPARICION FORZADA\n(SOLO SE RESPONDE SI LA PREGUNTA DESAPARICION FORZADA ES \"SI\")","C2. EL HIJO \nDE LA PERSONA ES VICTIMA DE\nDESAPARICION FORZADA\n(SOLO SE RESPONDE SI LA PREGUNTA DESAPARICION FORZADA ES \"SI\")","C2. LA HIJA \nDE LA PERSONA ES VICTIMA DE\nDESAPARICION FORZADA\n(SOLO SE RESPONDE SI LA PREGUNTA DESAPARICION FORZADA ES \"SI\")","C2. EL ABUELO \nDE LA PERSONA ES VICTIMA DE\nDESAPARICION FORZADA\n(SOLO SE RESPONDE SI LA PREGUNTA DESAPARICION FORZADA ES \"SI\")","C2. LA ABUELA \nDE LA PERSONA ES VICTIMA DE\nDESAPARICION FORZADA\n(SOLO SE RESPONDE SI LA PREGUNTA DESAPARICION FORZADA ES \"SI\")","D1. RECIBIO RACION ALIMENTARIA DE EMERGENCIA","D2. TIPO DE RACION RECIBIDA","D3. NUMERO DE RACION ENTREGADA","E1. ESTABLEZCA EN QUE FASE O ETAPA DE DESPLAZAMIENTO SE LE ESTA PRESTANDO LA ATENCION","E2. ESTABLEZCA EL TIPO DE DESPLAZAMIENTO","F1. OTROS RIESGOS ASOCIADOS AL DESPLAZAMIENTO FORZADO: \nEN RIESGO O CON MAL NUTRICION","F1. OTROS RIESGOS ASOCIADOS AL DESPLAZAMIENTO FORZADO: \nVIOLENCIA INTRAFAMILIAR","F1. OTROS RIESGOS ASOCIADOS AL DESPLAZAMIENTO FORZADO: \nMALTRATO FISICO Y/O PSICOLOGICO","F1. OTROS RIESGOS ASOCIADOS AL DESPLAZAMIENTO FORZADO: \nVIOLENCIA SEXUAL","F1. OTROS RIESGOS ASOCIADOS AL DESPLAZAMIENTO FORZADO: \nVIOLENCIA COMUNITARIA","F1. OTROS RIESGOS ASOCIADOS AL DESPLAZAMIENTO FORZADO: \nNIÑO, NIÑA O ADOLESCENTE TRABAJADOR","F1. OTROS RIESGOS ASOCIADOS AL DESPLAZAMIENTO FORZADO: \nCONSUMO SPA","F1. OTROS RIESGOS ASOCIADOS AL DESPLAZAMIENTO FORZADO: \nVIDA EN CALLE","F1. OTROS RIESGOS ASOCIADOS AL DESPLAZAMIENTO FORZADO: \nCONFLICTO CON LA LEY","F2. ACCIONES REALIZADAS:\n DIAGNOSTICO INICIAL","F2. ACCIONES REALIZADAS: \nPRIMEROS AUXILIOS PSICOSOCIALES","F2. ACCIONES REALIZADAS: \nACTIVIDADES ARTISTICAS Y RECREATIVAS","F2. ACCIONES REALIZADAS: \nVALORACION Y ATENCION NUTRICIONAL","F2. ACCIONES REALIZADAS: \n REMISION A OTROS PROGRAMAS  DEL ICBF","F2. ACCIONES REALIZADAS: \nREMISION A OTRAS ENTIDADES DEL SNARIV O DEL SNBF","F3. ACCIONES REALIZADAS: REMISION A OTRAS ENTIDADES DEL SNARIV: \nSALUD","F3. ACCIONES REALIZADAS: REMISION A OTRAS ENTIDADES DEL SNARIV: \nEDUCACION","F3. ACCIONES REALIZADAS: REMISION A OTRAS ENTIDADES DEL SNARIV: \nREGISTRADURIA","F3. ACCIONES REALIZADAS: REMISION A OTRAS ENTIDADES DEL SNARIV: \nUNIDADES DE ATENCION A VICTIMAS","F3. ACCIONES REALIZADAS: REMISION A OTRAS ENTIDADES DEL SNARIV: \nOTROS","G1 ¿CUANTAS COMIDAS RECIBEN LOS NIÑOS, NIÑAS Y ADOLESCENTES AL DIA?","G2. ¿SE EVIDENCIA PREOCUPACIONES POR EL ABASTECIMIENTOS SUFICIENTE DE LOS ALIMENTOS Y DISMINUCION EN LA CALIDAD DE LOS ALIMENTOS?","G3. ¿LA INGESTA DE ALIMENTOS HA SIDO REDUCIDA EN LOS ADULTOS. HAY SENSACION DE HAMBRE?","G4. TODOS LOS MIEMBROS DEL HOGAR HAN REDUCIDO LA INGESTA DE ALIMENTOS HASTA QUE LOS NIÑOS, NIÑAS Y ADOLESCENTES EXPERIMENTAN HAMBRE?","G5. ¿ES USTED BENEFICIARIO DE UN PROGRAMA CON  ASISTENCIA ALIMENTARIA DEL ICBF?","G5. ¿CUAL ES EL PROGRAMA DE ASISTENCIA ALIMENTARIA DEL ICBF?\n(SOLO RESPONDA SI LA RESPUESTA ANTERIOR ES \"SI\")","G5. ¿ES USTED BENEFICIARIO DEL  PROGRAMA CON  ASISTENCIA ALIMENTARIA: \nFAMILIAS EN SU TIERRA FEST?","G5. ¿ES USTED BENEFICIARIO DEL  PROGRAMA CON  ASISTENCIA ALIMENTARIA: \nRED DE SEGURIDAD ALIMENTARIA RESA?","G5. ¿ES USTED BENEFICIARIO DEL  PROGRAMA CON  ASISTENCIA ALIMENTARIA: \nFAMILIAS EN ACCION?","G5. ¿ES USTED BENEFICIARIO DE OTRO PROGRAMA CON  ASISTENCIA ALIMENTARIA?","G5. ¿CUAL ES EL OTRO PROGRAMA CON  ASISTENCIA ALIMENTARIA?\n(SOLO RESPONDA SI LA RESPUESTA ANTERIOR ES \"SI\")","H1. PESO (KG)","H2. TALLA (CM)","H3. SEMANAS DE GESTACION","H4. INDICADOR\n(ESTA PREGUNTA SE DILIGENCIA AUTOMATICAMENTE SOLO SI EL INTEGRANTE ATENDIDO ES MENOR DE 18 AÑOS O MADRE GESTANTE)","H5. SELECCIONE EL DIAGNOSTICO DE ACUERDO CON EL INDICADOR\n(SOLO SE DILIGENCIA SI EL INTEGRANTE ATENDIDO ES MENOR DE 18 AÑOS O MADRE GESTANTE)","I1. RECIBIO BIENESTARINA","I2. CANTIDAD BIENESTARINA POLVO\n(BOLSAS 900 Gramos)\n","I3. CANTIDAD BIENESTARINA LIQUIDA\n(CAJAS 200 Mililitros)","J1. NUMERO DE ATENCION","J2. CODIGO\nRGF: Responsable del grupo familiar\nJH: Jefe de Hogar","J3. NUMERO DE LA PETICION","VALIDACION FECHAS NACIMIENTO Y ATENCION","PRIMER NOMBRE","SEGUNDO NOMBRE","PRIMER APELLIDO","SEGUNDO APELLIDO","NUMERO DE DOCUMENTO","NUMERO CELULAR","CORREO ELECTRONICO INSTITUCIONAL","K1. ACTUALIZACION DEL TIPO DE DOCUMENTO DE IDENTIDAD DEL INTEGRANTE","K2. ACTUALIZACION DEL NUMERO DE DOCUMENTO DE IDENTIDAD DEL INTEGRANTE","VALIDACION CAMPOS INDISPENSABLES","VIDA Y SUPERVIVENCIA","EDUCACION Y DESARROLLO","PARTICIPACIÓN","PROTECCIÓN","CONSTATACIÓN DE DERECHOS","TIENE PLATINFA","REMISIONES AUTORIDAD COMPETENTE","ESTADO DEL CASO","FECHA DE CIERRE DEL CASO","MOTIVOS DE CIERRE DE CASO","Posicion Longitud","Grados Longitud","Minutos Longitud","Segundos Longitud","Posicion Latitud","Grados Latitud","Minutos Latitud","Segundos Latitud","Hora captura coordenada"]
[{"$f":"IF(C6<>\"\",1,\"\")","v":""},null,null,null,{"$f":"IFERROR(VLOOKUP(D6,'CODIGO REGIONALES'!$J$2:$L$33,3,0),\"\")","v":""},null,{"$f":"IF(ISNA(VLOOKUP(F6,Divipolas!$A$2:$B$1123,2,FALSE)),\"\",VLOOKUP(F6,Divipolas!$A$2:$B$1123,2,FALSE))","v":""},null,{"$f":"IF(ISNA(VLOOKUP((CONCATENATE(F6,H6)),Divipolas!$F$2:$G$1123,2,FALSE)),\"\",VLOOKUP((CONCATENATE(F6,H6)),Divipolas!$F$2:$G$1123,2,FALSE))","v":""},null,null,null,null,null,null,null,null,{"$f":"IF(ISNA(VLOOKUP(Q6,Divipolas!$A$2:$B$1123,2,FALSE)),\"\",VLOOKUP(Q6,Divipolas!$A$2:$B$1123,2,FALSE))","v":""},null,{"$f":"IF(ISNA(VLOOKUP((CONCATENATE(Q6,S6)),Divipolas!$F$2:$G$1123,2,FALSE)),\"\",VLOOKUP((CONCATENATE(Q6,S6)),Divipolas!$F$2:$G$1123,2,FALSE))","v":""},null,null,null,null,null,null,{"$f":"IF(ISNA(VLOOKUP(Z6,'CODIGO PAIS'!$A$2:$B$231,2,FALSE)),\"\",VLOOKUP(Z6,'CODIGO PAIS'!$A$2:$B$231,2,FALSE))","v":""},null,{"$f":"IF(ISNA(VLOOKUP(AB6,Divipolas!$A$2:$B$1123,2,FALSE)),\"\",VLOOKUP(AB6,Divipolas!$A$2:$B$1123,2,FALSE))","v":""},null,{"$f":"IF(ISNA(VLOOKUP((CONCATENATE(AB6,AD6)),Divipolas!$F$2:$G$1123,2,FALSE)),\"\",VLOOKUP((CONCATENATE(AB6,AD6)),Divipolas!$F$2:$G$1123,2,FALSE))","v":""},null,null,null,null,null,{"$f":"IF(ISNA(VLOOKUP(AJ6,Divipolas!$A$2:$B$1123,2,FALSE)),\"\",VLOOKUP(AJ6,Divipolas!$A$2:$B$1123,2,FALSE))","v":""},null,{"$f":"IF(ISNA(VLOOKUP((CONCATENATE(AJ6,AL6)),Divipolas!$F$2:$G$1123,2,FALSE)),\"\",VLOOKUP((CONCATENATE(AJ6,AL6)),Divipolas!$F$2:$G$1123,2,FALSE))","v":""},null,null,null,null,null,null,null,null,null,null,null,null,null,null,null,null,null,null,null,null,null,{"$f":"IF(ISNA(VLOOKUP(BH6,'CODIGO PAIS'!$A$2:$B$231,2,FALSE)),\"\",VLOOKUP(BH6,'CODIGO PAIS'!$A$2:$B$231,2,FALSE))","v":""},null,{"$f":"IF(ISNA(VLOOKUP(BJ6,Divipolas!$A$2:$B$1123,2,FALSE)),\"\",VLOOKUP(BJ6,Divipolas!$A$2:$B$1123,2,FALSE))","v":""},null,{"$f":"IF(ISNA(VLOOKUP((CONCATENATE(BJ6,BL6)),Divipolas!$F$2:$G$1123,2,FALSE)),\"\",VLOOKUP((CONCATENATE(BJ6,BL6)),Divipolas!$F$2:$G$1123,2,FALSE))","v":""},null,{"$f":"IF(OR(C6=\"\",BN6=\"\"),\"\",DATEDIF(BN6,C6,\"y\"))","v":""},{"$f":"IF(OR(C6=\"\",BN6=\"\"),\"\",DATEDIF(BN6,C6,\"ym\"))","v":""},null,null,null,null,{"$f":"IF(ISNA(VLOOKUP(BT6,Divipolas!$A$2:$B$1123,2,FALSE)),\"\",VLOOKUP(BT6,Divipolas!$A$2:$B$1123,2,FALSE))","v":""},null,{"$f":"IF(ISNA(VLOOKUP((CONCATENATE(BT6,BV6)),Divipolas!$F$2:$G$1123,2,FALSE)),\"\",VLOOKUP((CONCATENATE(BT6,BV6)),Divipolas!$F$2:$G$1123,2,FALSE))","v":""},null,null,null,null,null,null,null,null,null,null,null,null,null,null,null,null,null,null,null,null,null,null,null,{"$f":"IF(OR(BG6=\"\",BO6=\"\"),\"\",IF(AND(BG6=\"F\",BO6>=52),\"SI\",IF(AND(BG6=\"M\",BO6>=57),\"SI\",\"NO\")))","v":""},null,null,null,null,null,null,null,null,null,null,null,null,null,null,null,null,null,null,null,null,null,null,null,null,null,null,null,null,null,null,null,null,null,null,null,null,null,null,null,null,null,null,null,null,null,null,null,null,null,null,null,null,null,null,null,null,null,null,null,null,null,null,null,null,null,null,null,null,null,null,null,null,null,null,null,null,{"$f":"IF(C6<>\"\",(IF(AND((DATEDIF(BN6,C6,\"m\"))>=0,(DATEDIF(BN6,C6,\"m\"))<=59),INDI2,IF(CS6=\"SI\",INDI3,IF(AND((DATEDIF(BN6,C6,\"m\"))>59,(DATEDIF(BN6,C6,\"m\"))<=215),INDI4,\"\")))),\"\")","v":""},null,null,null,null,null,null,null,{"$f":"IF(C6=\"\",\"VERIFIQUE FECHAS\",IF(BN6=\"\",\"VERIFIQUE FECHAS\",IF(AF6=\"\",\"VERIFIQUE FECHAS\",IF(C6>=BN6,\"OK\",\"VERIFIQUE FECHAS\"))))","v":"VERIFIQUE FECHAS"},null,null,null,null,null,null,null,null,null,{"$f":"IF(D6=\"\",\"VERIFIQUE COLUMNA D\",IF(F6=\"\",\"VERIFIQUE COLUMNA F\",IF(H6=\"\",\"VERIFIQUE COLUMNA H\",IF(J6=\"\",\"VERIFIQUE COLUMNA J\",IF(K6=\"\",\"VERIFIQUE COLUMNA K\",IF(N6=\"\",\"VERIFIQUE COLUMNA N\",IF(U6=\"\",\"VERIFIQUE COLUMNA U\",IF(W6=\"\",\"VERIFIQUE COLUMNA W\",IF(Y6=\"\",\"VERIFIQUE COLUMNA Y\",IF(AF6=\"\",\"VERIFIQUE COLUMNA AF\",IF(AG6=\"\",\"VERIFIQUE COLUMNA AG\",IF(BB6=\"\",\"VERIFIQUE COLUMNA BB\",IF(BC6=\"\",\"VERIFIQUE COLUMNA BC\",IF(BE6=\"\",\"VERIFIQUE COLUMNA BE\",IF(BG6=\"\",\"VERIFIQUE COLUMNA BG\",IF(BN6=\"\",\"VERIFIQUE COLUMNA BN\",IF(BQ6=\"\",\"VERIFIQUE COLUMNA BQ\",IF(BZ6=\"\",\"VERIFIQUE COLUMNA BZ\",IF(EJ6=\"\",\"VERIFIQUE COLUMNA EJ\",IF(EK6=\"\",\"VERIFIQUE COLUMNA EK\",IF(FY6=\"\",\"VERIFIQUE COLUMNA FY\",IF(GC6=\"\",\"VERIFIQUE COLUMNA GC\",IF(GE6=\"\",\"VERIFIQUE COLUMNA GE\",\"Campos o.k.\")))))))))))))))))))))))","v":"VERIFIQUE COLUMNA D"}]
[{"$f":"IF(C7<>\"\",A6+1,\"\")","v":""},{"$f":"IF(AND($B$6<>\"\",C7<>\"\"),$B$6,\"\")","v":""},null,{"$f":"IF(AND(C7<>\"\",D6<>\"\"),D6,\"\")","v":""},{"$f":"IFERROR(VLOOKUP(D7,'CODIGO REGIONALES'!$J$2:$L$33,3,0),\"\")","v":""},{"$f":"IF(AND(C7<>\"\",F6<>\"\"),F6,\"\")","v":""},{"$f":"IF(ISNA(VLOOKUP(F7,Divipolas!$A$2:$B$1123,2,FALSE)),\"\",VLOOKUP(F7,Divipolas!$A$2:$B$1123,2,FALSE))","v":""},{"$f":"IF(AND(C7<>\"\",H6<>\"\"),H6,\"\")","v":""},{"$f":"IF(ISNA(VLOOKUP((CONCATENATE(F7,H7)),Divipolas!$F$2:$G$1123,2,FALSE)),\"\",VLOOKUP((CONCATENATE(F7,H7)),Divipolas!$F$2:$G$1123,2,FALSE))","v":""},{"$f":"IF(AND($C7<>\"\",J6<>\"\"),J6,\"\")","v":""},"","","","",{"$f":"IF(AND(C7<>\"\",O6<>\"\"),O6,\"\")","v":""},{"$f":"IF(AND(C7<>\"\",P6<>\"\"),P6,\"\")","v":""},{"$f":"IF(AND($C7<>\"\",Q6<>\"\"),Q6,\"\")","v":""},{"$f":"IF(ISNA(VLOOKUP(Q7,Divipolas!$A$2:$B$1123,2,FALSE)),\"\",VLOOKUP(Q7,Divipolas!$A$2:$B$1123,2,FALSE))","v":""},{"$f":"IF(AND($C7<>\"\",S6<>\"\"),S6,\"\")","v":""},{"$f":"IF(ISNA(VLOOKUP((CONCATENATE(Q7,S7)),Divipolas!$F$2:$G$1123,2,FALSE)),\"\",VLOOKUP((CONCATENATE(Q7,S7)),Divipolas!$F$2:$G$1123,2,FALSE))","v":""},{"$f":"IF(AND(BC7<>\"\",U6<>\"\"),U6,\"\")","v":""},{"$f":"IF(AND(BC7<>\"\",V6<>\"\"),V6,\"\")","v":""},{"$f":"IF(AND(BC7<>\"\",W6<>\"\"),W6,\"\")","v":""},{"$f":"IF(AND(BC7<>\"\",X6<>\"\"),X6,\"\")","v":""},{"$f":"IF(AND(BC7<>\"\",Y6<>\"\"),Y6,\"\")","v":""},{"$f":"IF(AND(BC7<>\"\",Z6<>\"\"),Z6,\"\")","v":""},{"$f":"IF(ISNA(VLOOKUP(Z7,'CODIGO PAIS'!$A$2:$B$231,2,FALSE)),\"\",VLOOKUP(Z7,'CODIGO PAIS'!$A$2:$B$231,2,FALSE))","v":""},{"$f":"IF(AND(BC7<>\"\",AB6<>\"\"),AB6,\"\")","v":""},{"$f":"IF(ISNA(VLOOKUP(AB7,Divipolas!$A$2:$B$1123,2,FALSE)),\"\",VLOOKUP(AB7,Divipolas!$A$2:$B$1123,2,FALSE))","v":""},{"$f":"IF(AND(BC7<>\"\",AD6<>\"\"),AD6,\"\")","v":""},{"$f":"IF(ISNA(VLOOKUP((CONCATENATE(AB7,AD7)),Divipolas!$F$2:$G$1123,2,FALSE)),\"\",VLOOKUP((CONCATENATE(AB7,AD7)),Divipolas!$F$2:$G$1123,2,FALSE))","v":""},{"$f":"IF(AND(BC7<>\"\",AF6<>\"\"),AF6,\"\")","v":""},{"$f":"IF(AND(BC7<>\"\",AG6<>\"\"),AG6,\"\")","v":""},{"$f":"IF(AND(BC7<>\"\",AH6<>\"\"),AH6,\"\")","v":""},{"$f":"IF(AND(BC7<>\"\",AI6<>\"\"),AI6,\"\")","v":""},{"$f":"IF(AND(BC7<>\"\",AJ6<>\"\"),AJ6,\"\")","v":""},{"$f":"IF(ISNA(VLOOKUP(AJ7,Divipolas!$A$2:$B$1123,2,FALSE)),\"\",VLOOKUP(AJ7,Divipolas!$A$2:$B$1123,2,FALSE))","v":""},{"$f":"IF(AND(BC7<>\"\",AL6<>\"\"),AL6,\"\")","v":""},{"$f":"IF(ISNA(VLOOKUP((CONCATENATE(AJ7,AL7)),Divipolas!$F$2:$G$1123,2,FALSE)),\"\",VLOOKUP((CONCATENATE(AJ7,AL7)),Divipolas!$F$2:$G$1123,2,FALSE))","v":""},{"$f":"IF(AND($BC7<>\"\",AN6<>\"\"),AN6,\"\")","v":""},"","","","","","",{"$f":"IF(AND($BC7<>\"\",AU6<>\"\"),AU6,\"\")","v":""},{"$f":"IF(AND(BC7<>\"\",AV6<>\"\"),AV6,\"\")","v":""},{"$f":"IF(AND(BC7<>\"\",AW6<>\"\"),AW6,\"\")","v":""},{"$f":"IF(AND(BC7<>\"\",AX6<>\"\"),AX6,\"\")","v":""},{"$f":"IF(AND(BC7<>\"\",AY6<>\"\"),AY6,\"\")","v":""},{"$f":"IF(AND(BC7<>\"\",AZ6<>\"\"),AZ6,\"\")","v":""},{"$f":"IF(AND(BC7<>\"\",BA6<>\"\"),BA6,\"\")","v":""},null,null,null,null,null,null,null,{"$f":"IF(ISNA(VLOOKUP(BH7,'CODIGO PAIS'!$A$2:$B$231,2,FALSE)),\"\",VLOOKUP(BH7,'CODIGO PAIS'!$A$2:$B$231,2,FALSE))","v":""},null,{"$f":"IF(ISNA(VLOOKUP(BJ7,Divipolas!$A$2:$B$1123,2,FALSE)),\"\",VLOOKUP(BJ7,Divipolas!$A$2:$B$1123,2,FALSE))","v":""},null,{"$f":"IF(ISNA(VLOOKUP((CONCATENATE(BJ7,BL7)),Divipolas!$F$2:$G$1123,2,FALSE)),\"\",VLOOKUP((CONCATENATE(BJ7,BL7)),Divipolas!$F$2:$G$1123,2,FALSE))","v":""},null,{"$f":"IF(OR(C7=\"\",BN7=\"\"),\"\",DATEDIF(BN7,C7,\"y\"))","v":""},{"$f":"IF(OR(C7=\"\",BN7=\"\"),\"\",DATEDIF(BN7,C7,\"ym\"))","v":""},null,null,null,null,{"$f":"IF(ISNA(VLOOKUP(BT7,Divipolas!$A$2:$B$1123,2,FALSE)),\"\",VLOOKUP(BT7,Divipolas!$A$2:$B$1123,2,FALSE))","v":""},null,{"$f":"IF(ISNA(VLOOKUP((CONCATENATE(BT7,BV7)),Divipolas!$F$2:$G$1123,2,FALSE)),\"\",VLOOKUP((CONCATENATE(BT7,BV7)),Divipolas!$F$2:$G$1123,2,FALSE))","v":""},null,null,null,null,null,null,null,null,null,null,null,null,null,null,null,null,null,null,null,null,null,null,null,{"$f":"IF(OR(BG7=\"\",BO7=\"\"),\"\",IF(AND(BG7=\"F\",BO7>=52),\"SI\",IF(AND(BG7=\"M\",BO7>=57),\"SI\",\"NO\")))","v":""},null,null,null,null,null,null,null,null,null,null,null,null,null,null,null,null,null,null,null,null,null,null,null,null,null,null,null,null,null,null,null,null,null,null,null,null,null,null,null,null,null,null,null,null,null,null,null,null,null,null,null,null,null,null,null,null,null,null,null,null,null,null,null,null,null,null,null,null,null,null,null,null,null,null,null,null,"",null,null,null,null,null,null,null,{"$f":"IF(C7=\"\",\"VERIFIQUE FECHAS\",IF(BN7=\"\",\"VERIFIQUE FECHAS\",IF(AF7=\"\",\"VERIFIQUE FECHAS\",IF(C7>=BN7,\"OK\",\"VERIFIQUE FECHAS\"))))","v":"VERIFIQUE FECHAS"},null,null,null,null,null,null,null,null,null,{"$f":"IF(D7=\"\",\"VERIFIQUE COLUMNA D\",IF(F7=\"\",\"VERIFIQUE COLUMNA F\",IF(H7=\"\",\"VERIFIQUE COLUMNA H\",IF(J7=\"\",\"VERIFIQUE COLUMNA J\",IF(K7=\"\",\"VERIFIQUE COLUMNA K\",IF(N7=\"\",\"VERIFIQUE COLUMNA N\",IF(U7=\"\",\"VERIFIQUE COLUMNA U\",IF(W7=\"\",\"VERIFIQUE COLUMNA W\",IF(Y7=\"\",\"VERIFIQUE COLUMNA Y\",IF(AF7=\"\",\"VERIFIQUE COLUMNA AF\",IF(AG7=\"\",\"VERIFIQUE COLUMNA AG\",IF(BB7=\"\",\"VERIFIQUE COLUMNA BB\",IF(BC7=\"\",\"VERIFIQUE COLUMNA BC\",IF(BE7=\"\",\"VERIFIQUE COLUMNA BE\",IF(BG7=\"\",\"VERIFIQUE COLUMNA BG\",IF(BN7=\"\",\"VERIFIQUE COLUMNA BN\",IF(BQ7=\"\",\"VERIFIQUE COLUMNA BQ\",IF(BZ7=\"\",\"VERIFIQUE COLUMNA BZ\",IF(EJ7=\"\",\"VERIFIQUE COLUMNA EJ\",IF(EK7=\"\",\"VERIFIQUE COLUMNA EK\",IF(FY7=\"\",\"VERIFIQUE COLUMNA FY\",IF(GC7=\"\",\"VERIFIQUE COLUMNA GC\",IF(GE7=\"\",\"VERIFIQUE COLUMNA GE\",\"Campos o.k.\")))))))))))))))))))))))","v":"VERIFIQUE COLUMNA D"}]
[{"$f":"IF(C8<>\"\",A7+1,\"\")","v":""},{"$f":"IF(AND($B$6<>\"\",C8<>\"\"),$B$6,\"\")","v":""},null,{"$f":"IF(AND(C8<>\"\",D7<>\"\"),D7,\"\")","v":""},{"$f":"IFERROR(VLOOKUP(D8,'CODIGO REGIONALES'!$J$2:$L$33,3,0),\"\")","v":""},{"$f":"IF(AND(C8<>\"\",F7<>\"\"),F7,\"\")","v":""},{"$f":"IF(ISNA(VLOOKUP(F8,Divipolas!$A$2:$B$1123,2,FALSE)),\"\",VLOOKUP(F8,Divipolas!$A$2:$B$1123,2,FALSE))","v":""},{"$f":"IF(AND(C8<>\"\",H7<>\"\"),H7,\"\")","v":""},{"$f":"IF(ISNA(VLOOKUP((CONCATENATE(F8,H8)),Divipolas!$F$2:$G$1123,2,FALSE)),\"\",VLOOKUP((CONCATENATE(F8,H8)),Divipolas!$F$2:$G$1123,2,FALSE))","v":""},"","","","","",{"$f":"IF(AND(C8<>\"\",O7<>\"\"),O7,\"\")","v":""},{"$f":"IF(AND(C8<>\"\",P7<>\"\"),P7,\"\")","v":""},{"$f":"IF(AND($C8<>\"\",Q7<>\"\"),Q7,\"\")","v":""},{"$f":"IF(ISNA(VLOOKUP(Q8,Divipolas!$A$2:$B$1123,2,FALSE)),\"\",VLOOKUP(Q8,Divipolas!$A$2:$B$1123,2,FALSE))","v":""},{"$f":"IF(AND($C8<>\"\",S7<>\"\"),S7,\"\")","v":""},{"$f":"IF(ISNA(VLOOKUP((CONCATENATE(Q8,S8)),Divipolas!$F$2:$G$1123,2,FALSE)),\"\",VLOOKUP((CONCATENATE(Q8,S8)),Divipolas!$F$2:$G$1123,2,FALSE))","v":""},{"$f":"IF(AND(BC8<>\"\",U7<>\"\"),U7,\"\")","v":""},{"$f":"IF(AND(BC8<>\"\",V7<>\"\"),V7,\"\")","v":""},{"$f":"IF(AND(BC8<>\"\",W7<>\"\"),W7,\"\")","v":""},{"$f":"IF(AND(BC8<>\"\",X7<>\"\"),X7,\"\")","v":""},{"$f":"IF(AND(BC8<>\"\",Y7<>\"\"),Y7,\"\")","v":""},{"$f":"IF(AND(BC8<>\"\",Z7<>\"\"),Z7,\"\")","v":""},{"$f":"IF(ISNA(VLOOKUP(Z8,'CODIGO PAIS'!$A$2:$B$231,2,FALSE)),\"\",VLOOKUP(Z8,'CODIGO PAIS'!$A$2:$B$231,2,FALSE))","v":""},{"$f":"IF(AND(BC8<>\"\",AB7<>\"\"),AB7,\"\")","v":""},{"$f":"IF(ISNA(VLOOKUP(AB8,Divipolas!$A$2:$B$1123,2,FALSE)),\"\",VLOOKUP(AB8,Divipolas!$A$2:$B$1123,2,FALSE))","v":""},{"$f":"IF(AND(BC8<>\"\",AD7<>\"\"),AD7,\"\")","v":""},{"$f":"IF(ISNA(VLOOKUP((CONCATENATE(AB8,AD8)),Divipolas!$F$2:$G$1123,2,FALSE)),\"\",VLOOKUP((CONCATENATE(AB8,AD8)),Divipolas!$F$2:$G$1123,2,FALSE))","v":""},{"$f":"IF(AND(BC8<>\"\",AF7<>\"\"),AF7,\"\")","v":""},{"$f":"IF(AND(BC8<>\"\",AG7<>\"\"),AG7,\"\")","v":""},{"$f":"IF(AND(BC8<>\"\",AH7<>\"\"),AH7,\"\")","v":""},{"$f":"IF(AND(BC8<>\"\",AI7<>\"\"),AI7,\"\")","v":""},{"$f":"IF(AND(BC8<>\"\",AJ7<>\"\"),AJ7,\"\")","v":""},{"$f":"IF(ISNA(VLOOKUP(AJ8,Divipolas!$A$2:$B$1123,2,FALSE)),\"\",VLOOKUP(AJ8,Divipolas!$A$2:$B$1123,2,FALSE))","v":""},{"$f":"IF(AND(BC8<>\"\",AL7<>\"\"),AL7,\"\")","v":""},{"$f":"IF(ISNA(VLOOKUP((CONCATENATE(AJ8,AL8)),Divipolas!$F$2:$G$1123,2,FALSE)),\"\",VLOOKUP((CONCATENATE(AJ8,AL8)),Divipolas!$F$2:$G$1123,2,FALSE))","v":""},{"$f":"IF(AND($BC8<>\"\",AN7<>\"\"),AN7,\"\")","v":""},"","","","","","",{"$f":"IF(AND($BC8<>\"\",AU7<>\"\"),AU7,\"\")","v":""},{"$f":"IF(AND(BC8<>\"\",AV7<>\"\"),AV7,\"\")","v":""},{"$f":"IF(AND(BC8<>\"\",AW7<>\"\"),AW7,\"\")","v":""},{"$f":"IF(AND(BC8<>\"\",AX7<>\"\"),AX7,\"\")","v":""},{"$f":"IF(AND(BC8<>\"\",AY7<>\"\"),AY7,\"\")","v":""},{"$f":"IF(AND(BC8<>\"\",AZ7<>\"\"),AZ7,\"\")","v":""},{"$f":"IF(AND(BC8<>\"\",BA7<>\"\"),BA7,\"\")","v":""},null,null,null,null,null,null,null,{"$f":"IF(ISNA(VLOOKUP(BH8,'CODIGO PAIS'!$A$2:$B$231,2,FALSE)),\"\",VLOOKUP(BH8,'CODIGO PAIS'!$A$2:$B$231,2,FALSE))","v":""},null,{"$f":"IF(ISNA(VLOOKUP(BJ8,Divipolas!$A$2:$B$1123,2,FALSE)),\"\",VLOOKUP(BJ8,Divipolas!$A$2:$B$1123,2,FALSE))","v":""},null,{"$f":"IF(ISNA(VLOOKUP((CONCATENATE(BJ8,BL8)),Divipolas!$F$2:$G$1123,2,FALSE)),\"\",VLOOKUP((CONCATENATE(BJ8,BL8)),Divipolas!$F$2:$G$1123,2,FALSE))","v":""},null,{"$f":"IF(OR(C8=\"\",BN8=\"\"),\"\",DATEDIF(BN8,C8,\"y\"))","v":""},{"$f":"IF(OR(C8=\"\",BN8=\"\"),\"\",DATEDIF(BN8,C8,\"ym\"))","v":""},null,null,null,null,{"$f":"IF(ISNA(VLOOKUP(BT8,Divipolas!$A$2:$B$1123,2,FALSE)),\"\",VLOOKUP(BT8,Divipolas!$A$2:$B$1123,2,FALSE))","v":""},null,{"$f":"IF(ISNA(VLOOKUP((CONCATENATE(BT8,BV8)),Divipolas!$F$2:$G$1123,2,FALSE)),\"\",VLOOKUP((CONCATENATE(BT8,BV8)),Divipolas!$F$2:$G$1123,2,FALSE))","v":""},null,null,null,null,null,null,null,null,null,null,null,null,null,null,null,null,null,null,null,null,null,null,null,{"$f":"IF(OR(BG8=\"\",BO8=\"\"),\"\",IF(AND(BG8=\"F\",BO8>=52),\"SI\",IF(AND(BG8=\"M\",BO8>=57),\"SI\",\"NO\")))","v":""},null,null,null,null,null,null,null,null,null,null,null,null,null,null,null,null,null,null,null,null,null,null,null,null,null,null,null,null,null,null,null,null,null,null,null,null,null,null,null,null,null,null,null,null,null,null,null,null,null,null,null,null,null,null,null,null,null,null,null,null,null,null,null,null,null,null,null,null,null,null,null,null,null,null,null,null,"",null,null,null,null,null,null,null,"VERIFIQUE FECHAS",null,null,null,null,null,null,null,null,null,"VERIFIQUE COLUMNA D"]
[{"$f":"IF(C9<>\"\",A8+1,\"\")","v":""},{"$f":"IF(AND($B$6<>\"\",C9<>\"\"),$B$6,\"\")","v":""},null,{"$f":"IF(AND(C9<>\"\",D8<>\"\"),D8,\"\")","v":""},{"$f":"IFERROR(VLOOKUP(D9,'CODIGO REGIONALES'!$J$2:$L$33,3,0),\"\")","v":""},{"$f":"IF(AND(C9<>\"\",F8<>\"\"),F8,\"\")","v":""},{"$f":"IF(ISNA(VLOOKUP(F9,Divipolas!$A$2:$B$1123,2,FALSE)),\"\",VLOOKUP(F9,Divipolas!$A$2:$B$1123,2,FALSE))","v":""},{"$f":"IF(AND(C9<>\"\",H8<>\"\"),H8,\"\")","v":""},{"$f":"IF(ISNA(VLOOKUP((CONCATENATE(F9,H9)),Divipolas!$F$2:$G$1123,2,FALSE)),\"\",VLOOKUP((CONCATENATE(F9,H9)),Divipolas!$F$2:$G$1123,2,FALSE))","v":""},{"$f":"IF(AND($C9<>\"\",J8<>\"\"),J8,\"\")","v":""},"","","","",{"$f":"IF(AND(C9<>\"\",O8<>\"\"),O8,\"\")","v":""},{"$f":"IF(AND(C9<>\"\",P8<>\"\"),P8,\"\")","v":""},{"$f":"IF(AND($C9<>\"\",Q8<>\"\"),Q8,\"\")","v":""},{"$f":"IF(ISNA(VLOOKUP(Q9,Divipolas!$A$2:$B$1123,2,FALSE)),\"\",VLOOKUP(Q9,Divipolas!$A$2:$B$1123,2,FALSE))","v":""},{"$f":"IF(AND($C9<>\"\",S8<>\"\"),S8,\"\")","v":""},{"$f":"IF(ISNA(VLOOKUP((CONCATENATE(Q9,S9)),Divipolas!$F$2:$G$1123,2,FALSE)),\"\",VLOOKUP((CONCATENATE(Q9,S9)),Divipolas!$F$2:$G$1123,2,FALSE))","v":""},{"$f":"IF(AND(BC9<>\"\",U8<>\"\"),U8,\"\")","v":""},{"$f":"IF(AND(BC9<>\"\",V8<>\"\"),V8,\"\")","v":""},{"$f":"IF(AND(BC9<>\"\",W8<>\"\"),W8,\"\")","v":""},{"$f":"IF(AND(BC9<>\"\",X8<>\"\"),X8,\"\")","v":""},{"$f":"IF(AND(BC9<>\"\",Y8<>\"\"),Y8,\"\")","v":""},{"$f":"IF(AND(BC9<>\"\",Z8<>\"\"),Z8,\"\")","v":""},{"$f":"IF(ISNA(VLOOKUP(Z9,'CODIGO PAIS'!$A$2:$B$231,2,FALSE)),\"\",VLOOKUP(Z9,'CODIGO PAIS'!$A$2:$B$231,2,FALSE))","v":""},{"$f":"IF(AND(BC9<>\"\",AB8<>\"\"),AB8,\"\")","v":""},{"$f":"IF(ISNA(VLOOKUP(AB9,Divipolas!$A$2:$B$1123,2,FALSE)),\"\",VLOOKUP(AB9,Divipolas!$A$2:$B$1123,2,FALSE))","v":""},{"$f":"IF(AND(BC9<>\"\",AD8<>\"\"),AD8,\"\")","v":""},{"$f":"IF(ISNA(VLOOKUP((CONCATENATE(AB9,AD9)),Divipolas!$F$2:$G$1123,2,FALSE)),\"\",VLOOKUP((CONCATENATE(AB9,AD9)),Divipolas!$F$2:$G$1123,2,FALSE))","v":""},{"$f":"IF(AND(BC9<>\"\",AF8<>\"\"),AF8,\"\")","v":""},{"$f":"IF(AND(BC9<>\"\",AG8<>\"\"),AG8,\"\")","v":""},{"$f":"IF(AND(BC9<>\"\",AH8<>\"\"),AH8,\"\")","v":""},{"$f":"IF(AND(BC9<>\"\",AI8<>\"\"),AI8,\"\")","v":""},{"$f":"IF(AND(BC9<>\"\",AJ8<>\"\"),AJ8,\"\")","v":""},{"$f":"IF(ISNA(VLOOKUP(AJ9,Divipolas!$A$2:$B$1123,2,FALSE)),\"\",VLOOKUP(AJ9,Divipolas!$A$2:$B$1123,2,FALSE))","v":""},{"$f":"IF(AND(BC9<>\"\",AL8<>\"\"),AL8,\"\")","v":""},{"$f":"IF(ISNA(VLOOKUP((CONCATENATE(AJ9,AL9)),Divipolas!$F$2:$G$1123,2,FALSE)),\"\",VLOOKUP((CONCATENATE(AJ9,AL9)),Divipolas!$F$2:$G$1123,2,FALSE))","v":""},"","","","","","","",{"$f":"IF(AND($BC9<>\"\",AU8<>\"\"),AU8,\"\")","v":""},{"$f":"IF(AND(BC9<>\"\",AV8<>\"\"),AV8,\"\")","v":""},{"$f":"IF(AND(BC9<>\"\",AW8<>\"\"),AW8,\"\")","v":""},{"$f":"IF(AND(BC9<>\"\",AX8<>\"\"),AX8,\"\")","v":""},{"$f":"IF(AND(BC9<>\"\",AY8<>\"\"),AY8,\"\")","v":""},{"$f":"IF(AND(BC9<>\"\",AZ8<>\"\"),AZ8,\"\")","v":""},{"$f":"IF(AND(BC9<>\"\",BA8<>\"\"),BA8,\"\")","v":""},null,null,null,null,null,null,null,{"$f":"IF(ISNA(VLOOKUP(BH9,'CODIGO PAIS'!$A$2:$B$231,2,FALSE)),\"\",VLOOKUP(BH9,'CODIGO PAIS'!$A$2:$B$231,2,FALSE))","v":""},null,{"$f":"IF(ISNA(VLOOKUP(BJ9,Divipolas!$A$2:$B$1123,2,FALSE)),\"\",VLOOKUP(BJ9,Divipolas!$A$2:$B$1123,2,FALSE))","v":""},null,{"$f":"IF(ISNA(VLOOKUP((CONCATENATE(BJ9,BL9)),Divipolas!$F$2:$G$1123,2,FALSE)),\"\",VLOOKUP((CONCATENATE(BJ9,BL9)),Divipolas!$F$2:$G$1123,2,FALSE))","v":""},null,{"$f":"IF(OR(C9=\"\",BN9=\"\"),\"\",DATEDIF(BN9,C9,\"y\"))","v":""},{"$f":"IF(OR(C9=\"\",BN9=\"\"),\"\",DATEDIF(BN9,C9,\"ym\"))","v":""},null,null,null,null,{"$f":"IF(ISNA(VLOOKUP(BT9,Divipolas!$A$2:$B$1123,2,FALSE)),\"\",VLOOKUP(BT9,Divipolas!$A$2:$B$1123,2,FALSE))","v":""},null,{"$f":"IF(ISNA(VLOOKUP((CONCATENATE(BT9,BV9)),Divipolas!$F$2:$G$1123,2,FALSE)),\"\",VLOOKUP((CONCATENATE(BT9,BV9)),Divipolas!$F$2:$G$1123,2,FALSE))","v":""},null,null,null,null,null,null,null,null,null,null,null,null,null,null,null,null,null,null,null,null,null,null,null,{"$f":"IF(OR(BG9=\"\",BO9=\"\"),\"\",IF(AND(BG9=\"F\",BO9>=52),\"SI\",IF(AND(BG9=\"M\",BO9>=57),\"SI\",\"NO\")))","v":""},null,null,null,null,null,null,null,null,null,null,null,null,null,null,null,null,null,null,null,null,null,null,null,null,null,null,null,null,null,null,null,null,null,null,null,null,null,null,null,null,null,null,null,null,null,null,null,null,null,null,null,null,null,null,null,null,null,null,null,null,null,null,null,null,null,null,null,null,null,null,null,null,null,null,null,null,"",null,null,null,null,null,null,null,"VERIFIQUE FECHAS",null,null,null,null,null,null,null,null,null,"VERIFIQUE COLUMNA D"]
[{"$f":"IF(C10<>\"\",A9+1,\"\")","v":""},{"$f":"IF(AND($B$6<>\"\",C10<>\"\"),$B$6,\"\")","v":""},null,{"$f":"IF(AND(C10<>\"\",D9<>\"\"),D9,\"\")","v":""},{"$f":"IFERROR(VLOOKUP(D10,'CODIGO REGIONALES'!$J$2:$L$33,3,0),\"\")","v":""},{"$f":"IF(AND(C10<>\"\",F9<>\"\"),F9,\"\")","v":""},{"$f":"IF(ISNA(VLOOKUP(F10,Divipolas!$A$2:$B$1123,2,FALSE)),\"\",VLOOKUP(F10,Divipolas!$A$2:$B$1123,2,FALSE))","v":""},{"$f":"IF(AND(C10<>\"\",H9<>\"\"),H9,\"\")","v":""},{"$f":"IF(ISNA(VLOOKUP((CONCATENATE(F10,H10)),Divipolas!$F$2:$G$1123,2,FALSE)),\"\",VLOOKUP((CONCATENATE(F10,H10)),Divipolas!$F$2:$G$1123,2,FALSE))","v":""},"","","","","",{"$f":"IF(AND(C10<>\"\",O9<>\"\"),O9,\"\")","v":""},{"$f":"IF(AND(C10<>\"\",P9<>\"\"),P9,\"\")","v":""},{"$f":"IF(AND($C10<>\"\",Q9<>\"\"),Q9,\"\")","v":""},{"$f":"IF(ISNA(VLOOKUP(Q10,Divipolas!$A$2:$B$1123,2,FALSE)),\"\",VLOOKUP(Q10,Divipolas!$A$2:$B$1123,2,FALSE))","v":""},{"$f":"IF(AND($C10<>\"\",S9<>\"\"),S9,\"\")","v":""},{"$f":"IF(ISNA(VLOOKUP((CONCATENATE(Q10,S10)),Divipolas!$F$2:$G$1123,2,FALSE)),\"\",VLOOKUP((CONCATENATE(Q10,S10)),Divipolas!$F$2:$G$1123,2,FALSE))","v":""},{"$f":"IF(AND(BC10<>\"\",U9<>\"\"),U9,\"\")","v":""},{"$f":"IF(AND(BC10<>\"\",V9<>\"\"),V9,\"\")","v":""},{"$f":"IF(AND(BC10<>\"\",W9<>\"\"),W9,\"\")","v":""},{"$f":"IF(AND(BC10<>\"\",X9<>\"\"),X9,\"\")","v":""},{"$f":"IF(AND(BC10<>\"\",Y9<>\"\"),Y9,\"\")","v":""},{"$f":"IF(AND(BC10<>\"\",Z9<>\"\"),Z9,\"\")","v":""},{"$f":"IF(ISNA(VLOOKUP(Z10,'CODIGO PAIS'!$A$2:$B$231,2,FALSE)),\"\",VLOOKUP(Z10,'CODIGO PAIS'!$A$2:$B$231,2,FALSE))","v":""},{"$f":"IF(AND(BC10<>\"\",AB9<>\"\"),AB9,\"\")","v":""},{"$f":"IF(ISNA(VLOOKUP(AB10,Divipolas!$A$2:$B$1123,2,FALSE)),\"\",VLOOKUP(AB10,Divipolas!$A$2:$B$1123,2,FALSE))","v":""},{"$f":"IF(AND(BC10<>\"\",AD9<>\"\"),AD9,\"\")","v":""},{"$f":"IF(ISNA(VLOOKUP((CONCATENATE(AB10,AD10)),Divipolas!$F$2:$G$1123,2,FALSE)),\"\",VLOOKUP((CONCATENATE(AB10,AD10)),Divipolas!$F$2:$G$1123,2,FALSE))","v":""},{"$f":"IF(AND(BC10<>\"\",AF9<>\"\"),AF9,\"\")","v":""},{"$f":"IF(AND(BC10<>\"\",AG9<>\"\"),AG9,\"\")","v":""},{"$f":"IF(AND(BC10<>\"\",AH9<>\"\"),AH9,\"\")","v":""},{"$f":"IF(AND(BC10<>\"\",AI9<>\"\"),AI9,\"\")","v":""},{"$f":"IF(AND(BC10<>\"\",AJ9<>\"\"),AJ9,\"\")","v":""},{"$f":"IF(ISNA(VLOOKUP(AJ10,Divipolas!$A$2:$B$1123,2,FALSE)),\"\",VLOOKUP(AJ10,Divipolas!$A$2:$B$1123,2,FALSE))","v":""},{"$f":"IF(AND(BC10<>\"\",AL9<>\"\"),AL9,\"\")","v":""},{"$f":"IF(ISNA(VLOOKUP((CONCATENATE(AJ10,AL10)),Divipolas!$F$2:$G$1123,2,FALSE)),\"\",VLOOKUP((CONCATENATE(AJ10,AL10)),Divipolas!$F$2:$G$1123,2,FALSE))","v":""},"","","","","","","",{"$f":"IF(AND($BC10<>\"\",AU9<>\"\"),AU9,\"\")","v":""},{"$f":"IF(AND(BC10<>\"\",AV9<>\"\"),AV9,\"\")","v":""},{"$f":"IF(AND(BC10<>\"\",AW9<>\"\"),AW9,\"\")","v":""},{"$f":"IF(AND(BC10<>\"\",AX9<>\"\"),AX9,\"\")","v":""},{"$f":"IF(AND(BC10<>\"\",AY9<>\"\"),AY9,\"\")","v":""},{"$f":"IF(AND(BC10<>\"\",AZ9<>\"\"),AZ9,\"\")","v":""},{"$f":"IF(AND(BC10<>\"\",BA9<>\"\"),BA9,\"\")","v":""},null,null,null,null,null,null,null,{"$f":"IF(ISNA(VLOOKUP(BH10,'CODIGO PAIS'!$A$2:$B$231,2,FALSE)),\"\",VLOOKUP(BH10,'CODIGO PAIS'!$A$2:$B$231,2,FALSE))","v":""},null,{"$f":"IF(ISNA(VLOOKUP(BJ10,Divipolas!$A$2:$B$1123,2,FALSE)),\"\",VLOOKUP(BJ10,Divipolas!$A$2:$B$1123,2,FALSE))","v":""},null,{"$f":"IF(ISNA(VLOOKUP((CONCATENATE(BJ10,BL10)),Divipolas!$F$2:$G$1123,2,FALSE)),\"\",VLOOKUP((CONCATENATE(BJ10,BL10)),Divipolas!$F$2:$G$1123,2,FALSE))","v":""},null,{"$f":"IF(OR(C10=\"\",BN10=\"\"),\"\",DATEDIF(BN10,C10,\"y\"))","v":""},{"$f":"IF(OR(C10=\"\",BN10=\"\"),\"\",DATEDIF(BN10,C10,\"ym\"))","v":""},null,null,null,null,{"$f":"IF(ISNA(VLOOKUP(BT10,Divipolas!$A$2:$B$1123,2,FALSE)),\"\",VLOOKUP(BT10,Divipolas!$A$2:$B$1123,2,FALSE))","v":""},null,{"$f":"IF(ISNA(VLOOKUP((CONCATENATE(BT10,BV10)),Divipolas!$F$2:$G$1123,2,FALSE)),\"\",VLOOKUP((CONCATENATE(BT10,BV10)),Divipolas!$F$2:$G$1123,2,FALSE))","v":""},null,null,null,null,null,null,null,null,null,null,null,null,null,null,null,null,null,null,null,null,null,null,null,{"$f":"IF(OR(BG10=\"\",BO10=\"\"),\"\",IF(AND(BG10=\"F\",BO10>=52),\"SI\",IF(AND(BG10=\"M\",BO10>=57),\"SI\",\"NO\")))","v":""},null,null,null,null,null,null,null,null,null,null,null,null,null,null,null,null,null,null,null,null,null,null,null,null,null,null,null,null,null,null,null,null,null,null,null,null,null,null,null,null,null,null,null,null,null,null,null,null,null,null,null,null,null,null,null,null,null,null,null,null,null,null,null,null,null,null,null,null,null,null,null,null,null,null,null,null,"",null,null,null,null,null,null,null,"VERIFIQUE FECHAS",null,null,null,null,null,null,null,null,null,"VERIFIQUE COLUMNA D"]
[{"$f":"IF(C11<>\"\",A10+1,\"\")","v":""},"",null,{"$f":"IF(AND(C11<>\"\",D10<>\"\"),D10,\"\")","v":""},{"$f":"IFERROR(VLOOKUP(D11,'CODIGO REGIONALES'!$J$2:$L$33,3,0),\"\")","v":""},{"$f":"IF(AND(C11<>\"\",F10<>\"\"),F10,\"\")","v":""},{"$f":"IF(ISNA(VLOOKUP(F11,Divipolas!$A$2:$B$1123,2,FALSE)),\"\",VLOOKUP(F11,Divipolas!$A$2:$B$1123,2,FALSE))","v":""},{"$f":"IF(AND(C11<>\"\",H10<>\"\"),H10,\"\")","v":""},{"$f":"IF(ISNA(VLOOKUP((CONCATENATE(F11,H11)),Divipolas!$F$2:$G$1123,2,FALSE)),\"\",VLOOKUP((CONCATENATE(F11,H11)),Divipolas!$F$2:$G$1123,2,FALSE))","v":""},{"$f":"IF(AND(C11<>\"\",J10<>\"\"),J10,\"\")","v":""},"","","","","","","",{"$f":"IF(ISNA(VLOOKUP(Q11,Divipolas!$A$2:$B$1123,2,FALSE)),\"\",VLOOKUP(Q11,Divipolas!$A$2:$B$1123,2,FALSE))","v":""},{"$f":"IF(AND($C11<>\"\",S10<>\"\"),S10,\"\")","v":""},{"$f":"IF(ISNA(VLOOKUP((CONCATENATE(Q11,S11)),Divipolas!$F$2:$G$1123,2,FALSE)),\"\",VLOOKUP((CONCATENATE(Q11,S11)),Divipolas!$F$2:$G$1123,2,FALSE))","v":""},{"$f":"IF(AND(BC11<>\"\",U10<>\"\"),U10,\"\")","v":""},{"$f":"IF(AND(BC11<>\"\",V10<>\"\"),V10,\"\")","v":""},{"$f":"IF(AND(BC11<>\"\",W10<>\"\"),W10,\"\")","v":""},{"$f":"IF(AND(BC11<>\"\",X10<>\"\"),X10,\"\")","v":""},{"$f":"IF(AND(BC11<>\"\",Y10<>\"\"),Y10,\"\")","v":""},{"$f":"IF(AND(BC11<>\"\",Z10<>\"\"),Z10,\"\")","v":""},{"$f":"IF(ISNA(VLOOKUP(Z11,'CODIGO PAIS'!$A$2:$B$231,2,FALSE)),\"\",VLOOKUP(Z11,'CODIGO PAIS'!$A$2:$B$231,2,FALSE))","v":""},{"$f":"IF(AND(BC11<>\"\",AB10<>\"\"),AB10,\"\")","v":""},{"$f":"IF(ISNA(VLOOKUP(AB11,Divipolas!$A$2:$B$1123,2,FALSE)),\"\",VLOOKUP(AB11,Divipolas!$A$2:$B$1123,2,FALSE))","v":""},{"$f":"IF(AND(BC11<>\"\",AD10<>\"\"),AD10,\"\")","v":""},{"$f":"IF(ISNA(VLOOKUP((CONCATENATE(AB11,AD11)),Divipolas!$F$2:$G$1123,2,FALSE)),\"\",VLOOKUP((CONCATENATE(AB11,AD11)),Divipolas!$F$2:$G$1123,2,FALSE))","v":""},{"$f":"IF(AND(BC11<>\"\",AF10<>\"\"),AF10,\"\")","v":""},{"$f":"IF(AND(BC11<>\"\",AG10<>\"\"),AG10,\"\")","v":""},{"$f":"IF(AND(BC11<>\"\",AH10<>\"\"),AH10,\"\")","v":""},{"$f":"IF(AND(BC11<>\"\",AI10<>\"\"),AI10,\"\")","v":""},{"$f":"IF(AND(BC11<>\"\",AJ10<>\"\"),AJ10,\"\")","v":""},{"$f":"IF(ISNA(VLOOKUP(AJ11,Divipolas!$A$2:$B$1123,2,FALSE)),\"\",VLOOKUP(AJ11,Divipolas!$A$2:$B$1123,2,FALSE))","v":""},{"$f":"IF(AND(BC11<>\"\",AL10<>\"\"),AL10,\"\")","v":""},{"$f":"IF(ISNA(VLOOKUP((CONCATENATE(AJ11,AL11)),Divipolas!$F$2:$G$1123,2,FALSE)),\"\",VLOOKUP((CONCATENATE(AJ11,AL11)),Divipolas!$F$2:$G$1123,2,FALSE))","v":""},{"$f":"IF(AND(BC11<>\"\",AN10<>\"\"),AN10,\"\")","v":""},{"$f":"IF(AND(BC11<>\"\",AO10<>\"\"),AO10,\"\")","v":""},{"$f":"IF(AND(BC11<>\"\",AP10<>\"\"),AP10,\"\")","v":""},{"$f":"IF(AND(BC11<>\"\",AQ10<>\"\"),AQ10,\"\")","v":""},{"$f":"IF(AND(BC11<>\"\",AR10<>\"\"),AR10,\"\")","v":""},{"$f":"IF(AND(BC11<>\"\",AS10<>\"\"),AS10,\"\")","v":""},{"$f":"IF(AND(BC11<>\"\",AT10<>\"\"),AT10,\"\")","v":""},{"$f":"IF(AND($BC11<>\"\",AU10<>\"\"),AU10,\"\")","v":""},{"$f":"IF(AND(BC11<>\"\",AV10<>\"\"),AV10,\"\")","v":""},{"$f":"IF(AND(BC11<>\"\",AW10<>\"\"),AW10,\"\")","v":""},{"$f":"IF(AND(BC11<>\"\",AX10<>\"\"),AX10,\"\")","v":""},{"$f":"IF(AND(BC11<>\"\",AY10<>\"\"),AY10,\"\")","v":""},{"$f":"IF(AND(BC11<>\"\",AZ10<>\"\"),AZ10,\"\")","v":""},{"$f":"IF(AND(BC11<>\"\",BA10<>\"\"),BA10,\"\")","v":""},null,null,null,null,null,null,null,{"$f":"IF(ISNA(VLOOKUP(BH11,'CODIGO PAIS'!$A$2:$B$231,2,FALSE)),\"\",VLOOKUP(BH11,'CODIGO PAIS'!$A$2:$B$231,2,FALSE))","v":""},null,{"$f":"IF(ISNA(VLOOKUP(BJ11,Divipolas!$A$2:$B$1123,2,FALSE)),\"\",VLOOKUP(BJ11,Divipolas!$A$2:$B$1123,2,FALSE))","v":""},null,{"$f":"IF(ISNA(VLOOKUP((CONCATENATE(BJ11,BL11)),Divipolas!$F$2:$G$1123,2,FALSE)),\"\",VLOOKUP((CONCATENATE(BJ11,BL11)),Divipolas!$F$2:$G$1123,2,FALSE))","v":""},null,{"$f":"IF(OR(C11=\"\",BN11=\"\"),\"\",DATEDIF(BN11,C11,\"y\"))","v":""},{"$f":"IF(OR(C11=\"\",BN11=\"\"),\"\",DATEDIF(BN11,C11,\"ym\"))","v":""},null,null,null,null,{"$f":"IF(ISNA(VLOOKUP(BT11,Divipolas!$A$2:$B$1123,2,FALSE)),\"\",VLOOKUP(BT11,Divipolas!$A$2:$B$1123,2,FALSE))","v":""},null,{"$f":"IF(ISNA(VLOOKUP((CONCATENATE(BT11,BV11)),Divipolas!$F$2:$G$1123,2,FALSE)),\"\",VLOOKUP((CONCATENATE(BT11,BV11)),Divipolas!$F$2:$G$1123,2,FALSE))","v":""},null,null,null,null,null,null,null,null,null,null,null,null,null,null,null,null,null,null,null,null,null,null,null,{"$f":"IF(OR(BG11=\"\",BO11=\"\"),\"\",IF(AND(BG11=\"F\",BO11>=52),\"SI\",IF(AND(BG11=\"M\",BO11>=57),\"SI\",\"NO\")))","v":""},null,null,null,null,null,null,null,null,null,null,null,null,null,null,null,null,null,null,null,null,null,null,null,null,null,null,null,null,null,null,null,null,null,null,null,null,null,null,null,null,null,null,null,null,null,null,null,null,null,null,null,null,null,null,null,null,null,null,null,null,null,null,null,null,null,null,null,null,null,null,null,null,null,null,null,null,"",null,null,null,null,null,null,null,"VERIFIQUE FECHAS",null,null,null,null,null,null,null,null,null,"VERIFIQUE COLUMNA D"]
["","",null,"",{"$f":"IFERROR(VLOOKUP(D12,'CODIGO REGIONALES'!$J$2:$L$33,3,0),\"\")","v":""},"",{"$f":"IF(ISNA(VLOOKUP(F12,Divipolas!$A$2:$B$1123,2,FALSE)),\"\",VLOOKUP(F12,Divipolas!$A$2:$B$1123,2,FALSE))","v":""},"",{"$f":"IF(ISNA(VLOOKUP((CONCATENATE(F12,H12)),Divipolas!$F$2:$G$1123,2,FALSE)),\"\",VLOOKUP((CONCATENATE(F12,H12)),Divipolas!$F$2:$G$1123,2,FALSE))","v":""},"","","","","","","","",{"$f":"IF(ISNA(VLOOKUP(Q12,Divipolas!$A$2:$B$1123,2,FALSE)),\"\",VLOOKUP(Q12,Divipolas!$A$2:$B$1123,2,FALSE))","v":""},"",{"$f":"IF(ISNA(VLOOKUP((CONCATENATE(Q12,S12)),Divipolas!$F$2:$G$1123,2,FALSE)),\"\",VLOOKUP((CONCATENATE(Q12,S12)),Divipolas!$F$2:$G$1123,2,FALSE))","v":""},"","","","","","",{"$f":"IF(ISNA(VLOOKUP(Z12,'CODIGO PAIS'!$A$2:$B$231,2,FALSE)),\"\",VLOOKUP(Z12,'CODIGO PAIS'!$A$2:$B$231,2,FALSE))","v":""},"",{"$f":"IF(ISNA(VLOOKUP(AB12,Divipolas!$A$2:$B$1123,2,FALSE)),\"\",VLOOKUP(AB12,Divipolas!$A$2:$B$1123,2,FALSE))","v":""},"",{"$f":"IF(ISNA(VLOOKUP((CONCATENATE(AB12,AD12)),Divipolas!$F$2:$G$1123,2,FALSE)),\"\",VLOOKUP((CONCATENATE(AB12,AD12)),Divipolas!$F$2:$G$1123,2,FALSE))","v":""},"","","","","",{"$f":"IF(ISNA(VLOOKUP(AJ12,Divipolas!$A$2:$B$1123,2,FALSE)),\"\",VLOOKUP(AJ12,Divipolas!$A$2:$B$1123,2,FALSE))","v":""},"",{"$f":"IF(ISNA(VLOOKUP((CONCATENATE(AJ12,AL12)),Divipolas!$F$2:$G$1123,2,FALSE)),\"\",VLOOKUP((CONCATENATE(AJ12,AL12)),Divipolas!$F$2:$G$1123,2,FALSE))","v":""},"","","","","","","","","","","","","","",null,null,null,null,null,null,null,{"$f":"IF(ISNA(VLOOKUP(BH12,'CODIGO PAIS'!$A$2:$B$231,2,FALSE)),\"\",VLOOKUP(BH12,'CODIGO PAIS'!$A$2:$B$231,2,FALSE))","v":""},null,{"$f":"IF(ISNA(VLOOKUP(BJ12,Divipolas!$A$2:$B$1123,2,FALSE)),\"\",VLOOKUP(BJ12,Divipolas!$A$2:$B$1123,2,FALSE))","v":""},null,{"$f":"IF(ISNA(VLOOKUP((CONCATENATE(BJ12,BL12)),Divipolas!$F$2:$G$1123,2,FALSE)),\"\",VLOOKUP((CONCATENATE(BJ12,BL12)),Divipolas!$F$2:$G$1123,2,FALSE))","v":""},null,"","",null,null,null,null,{"$f":"IF(ISNA(VLOOKUP(BT12,Divipolas!$A$2:$B$1123,2,FALSE)),\"\",VLOOKUP(BT12,Divipolas!$A$2:$B$1123,2,FALSE))","v":""},null,{"$f":"IF(ISNA(VLOOKUP((CONCATENATE(BT12,BV12)),Divipolas!$F$2:$G$1123,2,FALSE)),\"\",VLOOKUP((CONCATENATE(BT12,BV12)),Divipolas!$F$2:$G$1123,2,FALSE))","v":""},null,null,null,null,null,null,null,null,null,null,null,null,null,null,null,null,null,null,null,null,null,null,null,"",null,null,null,null,null,null,null,null,null,null,null,null,null,null,null,null,null,null,null,null,null,null,null,null,null,null,null,null,null,null,null,null,null,null,null,null,null,null,null,null,null,null,null,null,null,null,null,null,null,null,null,null,null,null,null,null,null,null,null,null,null,null,null,null,null,null,null,null,null,null,null,null,null,null,null,null,"",null,null,null,null,null,null,null,"VERIFIQUE FECHAS",null,null,null,null,null,null,null,null,null,"VERIFIQUE COLUMNA D"]
["","",null,"",{"$f":"IFERROR(VLOOKUP(D13,'CODIGO REGIONALES'!$J$2:$L$33,3,0),\"\")","v":""},"",{"$f":"IF(ISNA(VLOOKUP(F13,Divipolas!$A$2:$B$1123,2,FALSE)),\"\",VLOOKUP(F13,Divipolas!$A$2:$B$1123,2,FALSE))","v":""},"",{"$f":"IF(ISNA(VLOOKUP((CONCATENATE(F13,H13)),Divipolas!$F$2:$G$1123,2,FALSE)),\"\",VLOOKUP((CONCATENATE(F13,H13)),Divipolas!$F$2:$G$1123,2,FALSE))","v":""},"","","","","","","","",{"$f":"IF(ISNA(VLOOKUP(Q13,Divipolas!$A$2:$B$1123,2,FALSE)),\"\",VLOOKUP(Q13,Divipolas!$A$2:$B$1123,2,FALSE))","v":""},"",{"$f":"IF(ISNA(VLOOKUP((CONCATENATE(Q13,S13)),Divipolas!$F$2:$G$1123,2,FALSE)),\"\",VLOOKUP((CONCATENATE(Q13,S13)),Divipolas!$F$2:$G$1123,2,FALSE))","v":""},"","","","",{"$f":"IF(AND(BC13<>\"\",Y12<>\"\"),Y12,\"\")","v":""},{"$f":"IF(AND(BC13<>\"\",Z12<>\"\"),Z12,\"\")","v":""},{"$f":"IF(ISNA(VLOOKUP(Z13,'CODIGO PAIS'!$A$2:$B$231,2,FALSE)),\"\",VLOOKUP(Z13,'CODIGO PAIS'!$A$2:$B$231,2,FALSE))","v":""},{"$f":"IF(AND(BC13<>\"\",AB12<>\"\"),AB12,\"\")","v":""},{"$f":"IF(ISNA(VLOOKUP(AB13,Divipolas!$A$2:$B$1123,2,FALSE)),\"\",VLOOKUP(AB13,Divipolas!$A$2:$B$1123,2,FALSE))","v":""},{"$f":"IF(AND(BC13<>\"\",AD12<>\"\"),AD12,\"\")","v":""},{"$f":"IF(ISNA(VLOOKUP((CONCATENATE(AB13,AD13)),Divipolas!$F$2:$G$1123,2,FALSE)),\"\",VLOOKUP((CONCATENATE(AB13,AD13)),Divipolas!$F$2:$G$1123,2,FALSE))","v":""},{"$f":"IF(AND(BC13<>\"\",AF12<>\"\"),AF12,\"\")","v":""},{"$f":"IF(AND(BC13<>\"\",AG12<>\"\"),AG12,\"\")","v":""},{"$f":"IF(AND(BC13<>\"\",AH12<>\"\"),AH12,\"\")","v":""},{"$f":"IF(AND(BC13<>\"\",AI12<>\"\"),AI12,\"\")","v":""},{"$f":"IF(AND(BC13<>\"\",AJ12<>\"\"),AJ12,\"\")","v":""},{"$f":"IF(ISNA(VLOOKUP(AJ13,Divipolas!$A$2:$B$1123,2,FALSE)),\"\",VLOOKUP(AJ13,Divipolas!$A$2:$B$1123,2,FALSE))","v":""},{"$f":"IF(AND(BC13<>\"\",AL12<>\"\"),AL12,\"\")","v":""},{"$f":"IF(ISNA(VLOOKUP((CONCATENATE(AJ13,AL13)),Divipolas!$F$2:$G$1123,2,FALSE)),\"\",VLOOKUP((CONCATENATE(AJ13,AL13)),Divipolas!$F$2:$G$1123,2,FALSE))","v":""},"","","","","","","","","",{"$f":"IF(AND(BC13<>\"\",AW12<>\"\"),AW12,\"\")","v":""},{"$f":"IF(AND(BC13<>\"\",AX12<>\"\"),AX12,\"\")","v":""},{"$f":"IF(AND(BC13<>\"\",AY12<>\"\"),AY12,\"\")","v":""},{"$f":"IF(AND(BC13<>\"\",AZ12<>\"\"),AZ12,\"\")","v":""},{"$f":"IF(AND(BC13<>\"\",BA12<>\"\"),BA12,\"\")","v":""},null,null,null,null,null,null,null,{"$f":"IF(ISNA(VLOOKUP(BH13,'CODIGO PAIS'!$A$2:$B$231,2,FALSE)),\"\",VLOOKUP(BH13,'CODIGO PAIS'!$A$2:$B$231,2,FALSE))","v":""},null,{"$f":"IF(ISNA(VLOOKUP(BJ13,Divipolas!$A$2:$B$1123,2,FALSE)),\"\",VLOOKUP(BJ13,Divipolas!$A$2:$B$1123,2,FALSE))","v":""},null,{"$f":"IF(ISNA(VLOOKUP((CONCATENATE(BJ13,BL13)),Divipolas!$F$2:$G$1123,2,FALSE)),\"\",VLOOKUP((CONCATENATE(BJ13,BL13)),Divipolas!$F$2:$G$1123,2,FALSE))","v":""},null,"","",null,null,null,null,{"$f":"IF(ISNA(VLOOKUP(BT13,Divipolas!$A$2:$B$1123,2,FALSE)),\"\",VLOOKUP(BT13,Divipolas!$A$2:$B$1123,2,FALSE))","v":""},null,{"$f":"IF(ISNA(VLOOKUP((CONCATENATE(BT13,BV13)),Divipolas!$F$2:$G$1123,2,FALSE)),\"\",VLOOKUP((CONCATENATE(BT13,BV13)),Divipolas!$F$2:$G$1123,2,FALSE))","v":""},null,null,null,null,null,null,null,null,null,null,null,null,null,null,null,null,null,null,null,null,null,null,null,"",null,null,null,null,null,null,null,null,null,null,null,null,null,null,null,null,null,null,null,null,null,null,null,null,null,null,null,null,null,null,null,null,null,null,null,null,null,null,null,null,null,null,null,null,null,null,null,null,null,null,null,null,null,null,null,null,null,null,null,null,null,null,null,null,null,null,null,null,null,null,null,null,null,null,null,null,"",null,null,null,null,null,null,null,"VERIFIQUE FECHAS",null,null,null,null,null,null,null,null,null,"VERIFIQUE COLUMNA D"]
[{"$f":"IF(C14<>\"\",A13+1,\"\")","v":""},"",null,{"$f":"IF(AND(C14<>\"\",D13<>\"\"),D13,\"\")","v":""},{"$f":"IFERROR(VLOOKUP(D14,'CODIGO REGIONALES'!$J$2:$L$33,3,0),\"\")","v":""},{"$f":"IF(AND(C14<>\"\",F13<>\"\"),F13,\"\")","v":""},{"$f":"IF(ISNA(VLOOKUP(F14,Divipolas!$A$2:$B$1123,2,FALSE)),\"\",VLOOKUP(F14,Divipolas!$A$2:$B$1123,2,FALSE))","v":""},{"$f":"IF(AND(C14<>\"\",H13<>\"\"),H13,\"\")","v":""},{"$f":"IF(ISNA(VLOOKUP((CONCATENATE(F14,H14)),Divipolas!$F$2:$G$1123,2,FALSE)),\"\",VLOOKUP((CONCATENATE(F14,H14)),Divipolas!$F$2:$G$1123,2,FALSE))","v":""},{"$f":"IF(AND(C14<>\"\",J13<>\"\"),J13,\"\")","v":""},"","","","","","","",{"$f":"IF(ISNA(VLOOKUP(Q14,Divipolas!$A$2:$B$1123,2,FALSE)),\"\",VLOOKUP(Q14,Divipolas!$A$2:$B$1123,2,FALSE))","v":""},{"$f":"IF(AND($C14<>\"\",S13<>\"\"),S13,\"\")","v":""},{"$f":"IF(ISNA(VLOOKUP((CONCATENATE(Q14,S14)),Divipolas!$F$2:$G$1123,2,FALSE)),\"\",VLOOKUP((CONCATENATE(Q14,S14)),Divipolas!$F$2:$G$1123,2,FALSE))","v":""},{"$f":"IF(AND(BC14<>\"\",U13<>\"\"),U13,\"\")","v":""},{"$f":"IF(AND(BC14<>\"\",V13<>\"\"),V13,\"\")","v":""},{"$f":"IF(AND(BC14<>\"\",W13<>\"\"),W13,\"\")","v":""},{"$f":"IF(AND(BC14<>\"\",X13<>\"\"),X13,\"\")","v":""},{"$f":"IF(AND(BC14<>\"\",Y13<>\"\"),Y13,\"\")","v":""},{"$f":"IF(AND(BC14<>\"\",Z13<>\"\"),Z13,\"\")","v":""},{"$f":"IF(ISNA(VLOOKUP(Z14,'CODIGO PAIS'!$A$2:$B$231,2,FALSE)),\"\",VLOOKUP(Z14,'CODIGO PAIS'!$A$2:$B$231,2,FALSE))","v":""},{"$f":"IF(AND(BC14<>\"\",AB13<>\"\"),AB13,\"\")","v":""},{"$f":"IF(ISNA(VLOOKUP(AB14,Divipolas!$A$2:$B$1123,2,FALSE)),\"\",VLOOKUP(AB14,Divipolas!$A$2:$B$1123,2,FALSE))","v":""},{"$f":"IF(AND(BC14<>\"\",AD13<>\"\"),AD13,\"\")","v":""},{"$f":"IF(ISNA(VLOOKUP((CONCATENATE(AB14,AD14)),Divipolas!$F$2:$G$1123,2,FALSE)),\"\",VLOOKUP((CONCATENATE(AB14,AD14)),Divipolas!$F$2:$G$1123,2,FALSE))","v":""},{"$f":"IF(AND(BC14<>\"\",AF13<>\"\"),AF13,\"\")","v":""},{"$f":"IF(AND(BC14<>\"\",AG13<>\"\"),AG13,\"\")","v":""},{"$f":"IF(AND(BC14<>\"\",AH13<>\"\"),AH13,\"\")","v":""},{"$f":"IF(AND(BC14<>\"\",AI13<>\"\"),AI13,\"\")","v":""},{"$f":"IF(AND(BC14<>\"\",AJ13<>\"\"),AJ13,\"\")","v":""},{"$f":"IF(ISNA(VLOOKUP(AJ14,Divipolas!$A$2:$B$1123,2,FALSE)),\"\",VLOOKUP(AJ14,Divipolas!$A$2:$B$1123,2,FALSE))","v":""},{"$f":"IF(AND(BC14<>\"\",AL13<>\"\"),AL13,\"\")","v":""},{"$f":"IF(ISNA(VLOOKUP((CONCATENATE(AJ14,AL14)),Divipolas!$F$2:$G$1123,2,FALSE)),\"\",VLOOKUP((CONCATENATE(AJ14,AL14)),Divipolas!$F$2:$G$1123,2,FALSE))","v":""},"","","","","","","","","",{"$f":"IF(AND(BC14<>\"\",AW13<>\"\"),AW13,\"\")","v":""},{"$f":"IF(AND(BC14<>\"\",AX13<>\"\"),AX13,\"\")","v":""},{"$f":"IF(AND(BC14<>\"\",AY13<>\"\"),AY13,\"\")","v":""},{"$f":"IF(AND(BC14<>\"\",AZ13<>\"\"),AZ13,\"\")","v":""},{"$f":"IF(AND(BC14<>\"\",BA13<>\"\"),BA13,\"\")","v":""},null,null,null,null,null,null,null,{"$f":"IF(ISNA(VLOOKUP(BH14,'CODIGO PAIS'!$A$2:$B$231,2,FALSE)),\"\",VLOOKUP(BH14,'CODIGO PAIS'!$A$2:$B$231,2,FALSE))","v":""},null,{"$f":"IF(ISNA(VLOOKUP(BJ14,Divipolas!$A$2:$B$1123,2,FALSE)),\"\",VLOOKUP(BJ14,Divipolas!$A$2:$B$1123,2,FALSE))","v":""},null,{"$f":"IF(ISNA(VLOOKUP((CONCATENATE(BJ14,BL14)),Divipolas!$F$2:$G$1123,2,FALSE)),\"\",VLOOKUP((CONCATENATE(BJ14,BL14)),Divipolas!$F$2:$G$1123,2,FALSE))","v":""},null,"","",null,null,null,null,{"$f":"IF(ISNA(VLOOKUP(BT14,Divipolas!$A$2:$B$1123,2,FALSE)),\"\",VLOOKUP(BT14,Divipolas!$A$2:$B$1123,2,FALSE))","v":""},null,{"$f":"IF(ISNA(VLOOKUP((CONCATENATE(BT14,BV14)),Divipolas!$F$2:$G$1123,2,FALSE)),\"\",VLOOKUP((CONCATENATE(BT14,BV14)),Divipolas!$F$2:$G$1123,2,FALSE))","v":""},null,null,null,null,null,null,null,null,null,null,null,null,null,null,null,null,null,null,null,null,null,null,null,"",null,null,null,null,null,null,null,null,null,null,null,null,null,null,null,null,null,null,null,null,null,null,null,null,null,null,null,null,null,null,null,null,null,null,null,null,null,null,null,null,null,null,null,null,null,null,null,null,null,null,null,null,null,null,null,null,null,null,null,null,null,null,null,null,null,null,null,null,null,null,null,null,null,null,null,null,"",null,null,null,null,null,null,null,"VERIFIQUE FECHAS",null,null,null,null,null,null,null,null,null,"VERIFIQUE COLUMNA D"]
["","",null,"",{"$f":"IFERROR(VLOOKUP(D15,'CODIGO REGIONALES'!$J$2:$L$33,3,0),\"\")","v":""},"",{"$f":"IF(ISNA(VLOOKUP(F15,Divipolas!$A$2:$B$1123,2,FALSE)),\"\",VLOOKUP(F15,Divipolas!$A$2:$B$1123,2,FALSE))","v":""},"",{"$f":"IF(ISNA(VLOOKUP((CONCATENATE(F15,H15)),Divipolas!$F$2:$G$1123,2,FALSE)),\"\",VLOOKUP((CONCATENATE(F15,H15)),Divipolas!$F$2:$G$1123,2,FALSE))","v":""},"","","","","","","","",{"$f":"IF(ISNA(VLOOKUP(Q15,Divipolas!$A$2:$B$1123,2,FALSE)),\"\",VLOOKUP(Q15,Divipolas!$A$2:$B$1123,2,FALSE))","v":""},"",{"$f":"IF(ISNA(VLOOKUP((CONCATENATE(Q15,S15)),Divipolas!$F$2:$G$1123,2,FALSE)),\"\",VLOOKUP((CONCATENATE(Q15,S15)),Divipolas!$F$2:$G$1123,2,FALSE))","v":""},"","","","","","",{"$f":"IF(ISNA(VLOOKUP(Z15,'CODIGO PAIS'!$A$2:$B$231,2,FALSE)),\"\",VLOOKUP(Z15,'CODIGO PAIS'!$A$2:$B$231,2,FALSE))","v":""},"",{"$f":"IF(ISNA(VLOOKUP(AB15,Divipolas!$A$2:$B$1123,2,FALSE)),\"\",VLOOKUP(AB15,Divipolas!$A$2:$B$1123,2,FALSE))","v":""},"",{"$f":"IF(ISNA(VLOOKUP((CONCATENATE(AB15,AD15)),Divipolas!$F$2:$G$1123,2,FALSE)),\"\",VLOOKUP((CONCATENATE(AB15,AD15)),Divipolas!$F$2:$G$1123,2,FALSE))","v":""},"","","","","",{"$f":"IF(ISNA(VLOOKUP(AJ15,Divipolas!$A$2:$B$1123,2,FALSE)),\"\",VLOOKUP(AJ15,Divipolas!$A$2:$B$1123,2,FALSE))","v":""},"",{"$f":"IF(ISNA(VLOOKUP((CONCATENATE(AJ15,AL15)),Divipolas!$F$2:$G$1123,2,FALSE)),\"\",VLOOKUP((CONCATENATE(AJ15,AL15)),Divipolas!$F$2:$G$1123,2,FALSE))","v":""},"","","","","","","","","","","","","","",null,null,null,null,null,null,null,{"$f":"IF(ISNA(VLOOKUP(BH15,'CODIGO PAIS'!$A$2:$B$231,2,FALSE)),\"\",VLOOKUP(BH15,'CODIGO PAIS'!$A$2:$B$231,2,FALSE))","v":""},null,{"$f":"IF(ISNA(VLOOKUP(BJ15,Divipolas!$A$2:$B$1123,2,FALSE)),\"\",VLOOKUP(BJ15,Divipolas!$A$2:$B$1123,2,FALSE))","v":""},null,{"$f":"IF(ISNA(VLOOKUP((CONCATENATE(BJ15,BL15)),Divipolas!$F$2:$G$1123,2,FALSE)),\"\",VLOOKUP((CONCATENATE(BJ15,BL15)),Divipolas!$F$2:$G$1123,2,FALSE))","v":""},null,"","",null,null,null,null,{"$f":"IF(ISNA(VLOOKUP(BT15,Divipolas!$A$2:$B$1123,2,FALSE)),\"\",VLOOKUP(BT15,Divipolas!$A$2:$B$1123,2,FALSE))","v":""},null,{"$f":"IF(ISNA(VLOOKUP((CONCATENATE(BT15,BV15)),Divipolas!$F$2:$G$1123,2,FALSE)),\"\",VLOOKUP((CONCATENATE(BT15,BV15)),Divipolas!$F$2:$G$1123,2,FALSE))","v":""},null,null,null,null,null,null,null,null,null,null,null,null,null,null,null,null,null,null,null,null,null,null,null,"",null,null,null,null,null,null,null,null,null,null,null,null,null,null,null,null,null,null,null,null,null,null,null,null,null,null,null,null,null,null,null,null,null,null,null,null,null,null,null,null,null,null,null,null,null,null,null,null,null,null,null,null,null,null,null,null,null,null,null,null,null,null,null,null,null,null,null,null,null,null,null,null,null,null,null,null,"",null,null,null,null,null,null,null,"VERIFIQUE FECHAS",null,null,null,null,null,null,null,null,null,"VERIFIQUE COLUMNA D"]
["","",null,"",{"$f":"IFERROR(VLOOKUP(D16,'CODIGO REGIONALES'!$J$2:$L$33,3,0),\"\")","v":""},"",{"$f":"IF(ISNA(VLOOKUP(F16,Divipolas!$A$2:$B$1123,2,FALSE)),\"\",VLOOKUP(F16,Divipolas!$A$2:$B$1123,2,FALSE))","v":""},"",{"$f":"IF(ISNA(VLOOKUP((CONCATENATE(F16,H16)),Divipolas!$F$2:$G$1123,2,FALSE)),\"\",VLOOKUP((CONCATENATE(F16,H16)),Divipolas!$F$2:$G$1123,2,FALSE))","v":""},"","","","","","","","",{"$f":"IF(ISNA(VLOOKUP(Q16,Divipolas!$A$2:$B$1123,2,FALSE)),\"\",VLOOKUP(Q16,Divipolas!$A$2:$B$1123,2,FALSE))","v":""},"",{"$f":"IF(ISNA(VLOOKUP((CONCATENATE(Q16,S16)),Divipolas!$F$2:$G$1123,2,FALSE)),\"\",VLOOKUP((CONCATENATE(Q16,S16)),Divipolas!$F$2:$G$1123,2,FALSE))","v":""},"","","","","","",{"$f":"IF(ISNA(VLOOKUP(Z16,'CODIGO PAIS'!$A$2:$B$231,2,FALSE)),\"\",VLOOKUP(Z16,'CODIGO PAIS'!$A$2:$B$231,2,FALSE))","v":""},"",{"$f":"IF(ISNA(VLOOKUP(AB16,Divipolas!$A$2:$B$1123,2,FALSE)),\"\",VLOOKUP(AB16,Divipolas!$A$2:$B$1123,2,FALSE))","v":""},"",{"$f":"IF(ISNA(VLOOKUP((CONCATENATE(AB16,AD16)),Divipolas!$F$2:$G$1123,2,FALSE)),\"\",VLOOKUP((CONCATENATE(AB16,AD16)),Divipolas!$F$2:$G$1123,2,FALSE))","v":""},"","","","","",{"$f":"IF(ISNA(VLOOKUP(AJ16,Divipolas!$A$2:$B$1123,2,FALSE)),\"\",VLOOKUP(AJ16,Divipolas!$A$2:$B$1123,2,FALSE))","v":""},"",{"$f":"IF(ISNA(VLOOKUP((CONCATENATE(AJ16,AL16)),Divipolas!$F$2:$G$1123,2,FALSE)),\"\",VLOOKUP((CONCATENATE(AJ16,AL16)),Divipolas!$F$2:$G$1123,2,FALSE))","v":""},"","","","","","","","","","","","","","",null,null,null,null,null,null,null,{"$f":"IF(ISNA(VLOOKUP(BH16,'CODIGO PAIS'!$A$2:$B$231,2,FALSE)),\"\",VLOOKUP(BH16,'CODIGO PAIS'!$A$2:$B$231,2,FALSE))","v":""},null,{"$f":"IF(ISNA(VLOOKUP(BJ16,Divipolas!$A$2:$B$1123,2,FALSE)),\"\",VLOOKUP(BJ16,Divipolas!$A$2:$B$1123,2,FALSE))","v":""},null,{"$f":"IF(ISNA(VLOOKUP((CONCATENATE(BJ16,BL16)),Divipolas!$F$2:$G$1123,2,FALSE)),\"\",VLOOKUP((CONCATENATE(BJ16,BL16)),Divipolas!$F$2:$G$1123,2,FALSE))","v":""},null,"","",null,null,null,null,{"$f":"IF(ISNA(VLOOKUP(BT16,Divipolas!$A$2:$B$1123,2,FALSE)),\"\",VLOOKUP(BT16,Divipolas!$A$2:$B$1123,2,FALSE))","v":""},null,{"$f":"IF(ISNA(VLOOKUP((CONCATENATE(BT16,BV16)),Divipolas!$F$2:$G$1123,2,FALSE)),\"\",VLOOKUP((CONCATENATE(BT16,BV16)),Divipolas!$F$2:$G$1123,2,FALSE))","v":""},null,null,null,null,null,null,null,null,null,null,null,null,null,null,null,null,null,null,null,null,null,null,null,"",null,null,null,null,null,null,null,null,null,null,null,null,null,null,null,null,null,null,null,null,null,null,null,null,null,null,null,null,null,null,null,null,null,null,null,null,null,null,null,null,null,null,null,null,null,null,null,null,null,null,null,null,null,null,null,null,null,null,null,null,null,null,null,null,null,null,null,null,null,null,null,null,null,null,null,null,"",null,null,null,null,null,null,null,"VERIFIQUE FECHAS",null,null,null,null,null,null,null,null,null,"VERIFIQUE COLUMNA D"]
["","",null,"",{"$f":"IFERROR(VLOOKUP(D17,'CODIGO REGIONALES'!$J$2:$L$33,3,0),\"\")","v":""},"",{"$f":"IF(ISNA(VLOOKUP(F17,Divipolas!$A$2:$B$1123,2,FALSE)),\"\",VLOOKUP(F17,Divipolas!$A$2:$B$1123,2,FALSE))","v":""},"",{"$f":"IF(ISNA(VLOOKUP((CONCATENATE(F17,H17)),Divipolas!$F$2:$G$1123,2,FALSE)),\"\",VLOOKUP((CONCATENATE(F17,H17)),Divipolas!$F$2:$G$1123,2,FALSE))","v":""},"","","","","","","","",{"$f":"IF(ISNA(VLOOKUP(Q17,Divipolas!$A$2:$B$1123,2,FALSE)),\"\",VLOOKUP(Q17,Divipolas!$A$2:$B$1123,2,FALSE))","v":""},"",{"$f":"IF(ISNA(VLOOKUP((CONCATENATE(Q17,S17)),Divipolas!$F$2:$G$1123,2,FALSE)),\"\",VLOOKUP((CONCATENATE(Q17,S17)),Divipolas!$F$2:$G$1123,2,FALSE))","v":""},"","","","","","",{"$f":"IF(ISNA(VLOOKUP(Z17,'CODIGO PAIS'!$A$2:$B$231,2,FALSE)),\"\",VLOOKUP(Z17,'CODIGO PAIS'!$A$2:$B$231,2,FALSE))","v":""},"",{"$f":"IF(ISNA(VLOOKUP(AB17,Divipolas!$A$2:$B$1123,2,FALSE)),\"\",VLOOKUP(AB17,Divipolas!$A$2:$B$1123,2,FALSE))","v":""},"",{"$f":"IF(ISNA(VLOOKUP((CONCATENATE(AB17,AD17)),Divipolas!$F$2:$G$1123,2,FALSE)),\"\",VLOOKUP((CONCATENATE(AB17,AD17)),Divipolas!$F$2:$G$1123,2,FALSE))","v":""},"","","","","",{"$f":"IF(ISNA(VLOOKUP(AJ17,Divipolas!$A$2:$B$1123,2,FALSE)),\"\",VLOOKUP(AJ17,Divipolas!$A$2:$B$1123,2,FALSE))","v":""},"",{"$f":"IF(ISNA(VLOOKUP((CONCATENATE(AJ17,AL17)),Divipolas!$F$2:$G$1123,2,FALSE)),\"\",VLOOKUP((CONCATENATE(AJ17,AL17)),Divipolas!$F$2:$G$1123,2,FALSE))","v":""},"","","","","","","","","","","","","","",null,null,null,null,null,null,null,{"$f":"IF(ISNA(VLOOKUP(BH17,'CODIGO PAIS'!$A$2:$B$231,2,FALSE)),\"\",VLOOKUP(BH17,'CODIGO PAIS'!$A$2:$B$231,2,FALSE))","v":""},null,{"$f":"IF(ISNA(VLOOKUP(BJ17,Divipolas!$A$2:$B$1123,2,FALSE)),\"\",VLOOKUP(BJ17,Divipolas!$A$2:$B$1123,2,FALSE))","v":""},null,{"$f":"IF(ISNA(VLOOKUP((CONCATENATE(BJ17,BL17)),Divipolas!$F$2:$G$1123,2,FALSE)),\"\",VLOOKUP((CONCATENATE(BJ17,BL17)),Divipolas!$F$2:$G$1123,2,FALSE))","v":""},null,"","",null,null,null,null,{"$f":"IF(ISNA(VLOOKUP(BT17,Divipolas!$A$2:$B$1123,2,FALSE)),\"\",VLOOKUP(BT17,Divipolas!$A$2:$B$1123,2,FALSE))","v":""},null,{"$f":"IF(ISNA(VLOOKUP((CONCATENATE(BT17,BV17)),Divipolas!$F$2:$G$1123,2,FALSE)),\"\",VLOOKUP((CONCATENATE(BT17,BV17)),Divipolas!$F$2:$G$1123,2,FALSE))","v":""},null,null,null,null,null,null,null,null,null,null,null,null,null,null,null,null,null,null,null,null,null,null,null,"",null,null,null,null,null,null,null,null,null,null,null,null,null,null,null,null,null,null,null,null,null,null,null,null,null,null,null,null,null,null,null,null,null,null,null,null,null,null,null,null,null,null,null,null,null,null,null,null,null,null,null,null,null,null,null,null,null,null,null,null,null,null,null,null,null,null,null,null,null,null,null,null,null,null,null,null,"",null,null,null,null,null,null,null,"VERIFIQUE FECHAS",null,null,null,null,null,null,null,null,null,"VERIFIQUE COLUMNA D"]
["","",null,"",{"$f":"IFERROR(VLOOKUP(D18,'CODIGO REGIONALES'!$J$2:$L$33,3,0),\"\")","v":""},"",{"$f":"IF(ISNA(VLOOKUP(F18,Divipolas!$A$2:$B$1123,2,FALSE)),\"\",VLOOKUP(F18,Divipolas!$A$2:$B$1123,2,FALSE))","v":""},"",{"$f":"IF(ISNA(VLOOKUP((CONCATENATE(F18,H18)),Divipolas!$F$2:$G$1123,2,FALSE)),\"\",VLOOKUP((CONCATENATE(F18,H18)),Divipolas!$F$2:$G$1123,2,FALSE))","v":""},"","","","","","","","",{"$f":"IF(ISNA(VLOOKUP(Q18,Divipolas!$A$2:$B$1123,2,FALSE)),\"\",VLOOKUP(Q18,Divipolas!$A$2:$B$1123,2,FALSE))","v":""},"",{"$f":"IF(ISNA(VLOOKUP((CONCATENATE(Q18,S18)),Divipolas!$F$2:$G$1123,2,FALSE)),\"\",VLOOKUP((CONCATENATE(Q18,S18)),Divipolas!$F$2:$G$1123,2,FALSE))","v":""},"","","","","","",{"$f":"IF(ISNA(VLOOKUP(Z18,'CODIGO PAIS'!$A$2:$B$231,2,FALSE)),\"\",VLOOKUP(Z18,'CODIGO PAIS'!$A$2:$B$231,2,FALSE))","v":""},"",{"$f":"IF(ISNA(VLOOKUP(AB18,Divipolas!$A$2:$B$1123,2,FALSE)),\"\",VLOOKUP(AB18,Divipolas!$A$2:$B$1123,2,FALSE))","v":""},"",{"$f":"IF(ISNA(VLOOKUP((CONCATENATE(AB18,AD18)),Divipolas!$F$2:$G$1123,2,FALSE)),\"\",VLOOKUP((CONCATENATE(AB18,AD18)),Divipolas!$F$2:$G$1123,2,FALSE))","v":""},"","","","","",{"$f":"IF(ISNA(VLOOKUP(AJ18,Divipolas!$A$2:$B$1123,2,FALSE)),\"\",VLOOKUP(AJ18,Divipolas!$A$2:$B$1123,2,FALSE))","v":""},"",{"$f":"IF(ISNA(VLOOKUP((CONCATENATE(AJ18,AL18)),Divipolas!$F$2:$G$1123,2,FALSE)),\"\",VLOOKUP((CONCATENATE(AJ18,AL18)),Divipolas!$F$2:$G$1123,2,FALSE))","v":""},"","","","","","","","","","","","","","",null,null,null,null,null,null,null,{"$f":"IF(ISNA(VLOOKUP(BH18,'CODIGO PAIS'!$A$2:$B$231,2,FALSE)),\"\",VLOOKUP(BH18,'CODIGO PAIS'!$A$2:$B$231,2,FALSE))","v":""},null,{"$f":"IF(ISNA(VLOOKUP(BJ18,Divipolas!$A$2:$B$1123,2,FALSE)),\"\",VLOOKUP(BJ18,Divipolas!$A$2:$B$1123,2,FALSE))","v":""},null,{"$f":"IF(ISNA(VLOOKUP((CONCATENATE(BJ18,BL18)),Divipolas!$F$2:$G$1123,2,FALSE)),\"\",VLOOKUP((CONCATENATE(BJ18,BL18)),Divipolas!$F$2:$G$1123,2,FALSE))","v":""},null,"","",null,null,null,null,{"$f":"IF(ISNA(VLOOKUP(BT18,Divipolas!$A$2:$B$1123,2,FALSE)),\"\",VLOOKUP(BT18,Divipolas!$A$2:$B$1123,2,FALSE))","v":""},null,{"$f":"IF(ISNA(VLOOKUP((CONCATENATE(BT18,BV18)),Divipolas!$F$2:$G$1123,2,FALSE)),\"\",VLOOKUP((CONCATENATE(BT18,BV18)),Divipolas!$F$2:$G$1123,2,FALSE))","v":""},null,null,null,null,null,null,null,null,null,null,null,null,null,null,null,null,null,null,null,null,null,null,null,"",null,null,null,null,null,null,null,null,null,null,null,null,null,null,null,null,null,null,null,null,null,null,null,null,null,null,null,null,null,null,null,null,null,null,null,null,null,null,null,null,null,null,null,null,null,null,null,null,null,null,null,null,null,null,null,null,null,null,null,null,null,null,null,null,null,null,null,null,null,null,null,null,null,null,null,null,"",null,null,null,null,null,null,null,"VERIFIQUE FECHAS",null,null,null,null,null,null,null,null,null,"VERIFIQUE COLUMNA D"]
["","",null,"",{"$f":"IFERROR(VLOOKUP(D19,'CODIGO REGIONALES'!$J$2:$L$33,3,0),\"\")","v":""},"",{"$f":"IF(ISNA(VLOOKUP(F19,Divipolas!$A$2:$B$1123,2,FALSE)),\"\",VLOOKUP(F19,Divipolas!$A$2:$B$1123,2,FALSE))","v":""},"",{"$f":"IF(ISNA(VLOOKUP((CONCATENATE(F19,H19)),Divipolas!$F$2:$G$1123,2,FALSE)),\"\",VLOOKUP((CONCATENATE(F19,H19)),Divipolas!$F$2:$G$1123,2,FALSE))","v":""},"","","","","","","","",{"$f":"IF(ISNA(VLOOKUP(Q19,Divipolas!$A$2:$B$1123,2,FALSE)),\"\",VLOOKUP(Q19,Divipolas!$A$2:$B$1123,2,FALSE))","v":""},"",{"$f":"IF(ISNA(VLOOKUP((CONCATENATE(Q19,S19)),Divipolas!$F$2:$G$1123,2,FALSE)),\"\",VLOOKUP((CONCATENATE(Q19,S19)),Divipolas!$F$2:$G$1123,2,FALSE))","v":""},"","","","","","",{"$f":"IF(ISNA(VLOOKUP(Z19,'CODIGO PAIS'!$A$2:$B$231,2,FALSE)),\"\",VLOOKUP(Z19,'CODIGO PAIS'!$A$2:$B$231,2,FALSE))","v":""},"",{"$f":"IF(ISNA(VLOOKUP(AB19,Divipolas!$A$2:$B$1123,2,FALSE)),\"\",VLOOKUP(AB19,Divipolas!$A$2:$B$1123,2,FALSE))","v":""},"",{"$f":"IF(ISNA(VLOOKUP((CONCATENATE(AB19,AD19)),Divipolas!$F$2:$G$1123,2,FALSE)),\"\",VLOOKUP((CONCATENATE(AB19,AD19)),Divipolas!$F$2:$G$1123,2,FALSE))","v":""},"","","","","",{"$f":"IF(ISNA(VLOOKUP(AJ19,Divipolas!$A$2:$B$1123,2,FALSE)),\"\",VLOOKUP(AJ19,Divipolas!$A$2:$B$1123,2,FALSE))","v":""},"",{"$f":"IF(ISNA(VLOOKUP((CONCATENATE(AJ19,AL19)),Divipolas!$F$2:$G$1123,2,FALSE)),\"\",VLOOKUP((CONCATENATE(AJ19,AL19)),Divipolas!$F$2:$G$1123,2,FALSE))","v":""},"","","","","","","","","","","","","","",null,null,null,null,null,null,null,{"$f":"IF(ISNA(VLOOKUP(BH19,'CODIGO PAIS'!$A$2:$B$231,2,FALSE)),\"\",VLOOKUP(BH19,'CODIGO PAIS'!$A$2:$B$231,2,FALSE))","v":""},null,{"$f":"IF(ISNA(VLOOKUP(BJ19,Divipolas!$A$2:$B$1123,2,FALSE)),\"\",VLOOKUP(BJ19,Divipolas!$A$2:$B$1123,2,FALSE))","v":""},null,{"$f":"IF(ISNA(VLOOKUP((CONCATENATE(BJ19,BL19)),Divipolas!$F$2:$G$1123,2,FALSE)),\"\",VLOOKUP((CONCATENATE(BJ19,BL19)),Divipolas!$F$2:$G$1123,2,FALSE))","v":""},null,"","",null,null,null,null,{"$f":"IF(ISNA(VLOOKUP(BT19,Divipolas!$A$2:$B$1123,2,FALSE)),\"\",VLOOKUP(BT19,Divipolas!$A$2:$B$1123,2,FALSE))","v":""},null,{"$f":"IF(ISNA(VLOOKUP((CONCATENATE(BT19,BV19)),Divipolas!$F$2:$G$1123,2,FALSE)),\"\",VLOOKUP((CONCATENATE(BT19,BV19)),Divipolas!$F$2:$G$1123,2,FALSE))","v":""},null,null,null,null,null,null,null,null,null,null,null,null,null,null,null,null,null,null,null,null,null,null,null,"",null,null,null,null,null,null,null,null,null,null,null,null,null,null,null,null,null,null,null,null,null,null,null,null,null,null,null,null,null,null,null,null,null,null,null,null,null,null,null,null,null,null,null,null,null,null,null,null,null,null,null,null,null,null,null,null,null,null,null,null,null,null,null,null,null,null,null,null,null,null,null,null,null,null,null,null,"",null,null,null,null,null,null,null,"VERIFIQUE FECHAS",null,null,null,null,null,null,null,null,null,"VERIFIQUE COLUMNA D"]
["","",null,"",{"$f":"IFERROR(VLOOKUP(D20,'CODIGO REGIONALES'!$J$2:$L$33,3,0),\"\")","v":""},"",{"$f":"IF(ISNA(VLOOKUP(F20,Divipolas!$A$2:$B$1123,2,FALSE)),\"\",VLOOKUP(F20,Divipolas!$A$2:$B$1123,2,FALSE))","v":""},"",{"$f":"IF(ISNA(VLOOKUP((CONCATENATE(F20,H20)),Divipolas!$F$2:$G$1123,2,FALSE)),\"\",VLOOKUP((CONCATENATE(F20,H20)),Divipolas!$F$2:$G$1123,2,FALSE))","v":""},"","","","","","","","",{"$f":"IF(ISNA(VLOOKUP(Q20,Divipolas!$A$2:$B$1123,2,FALSE)),\"\",VLOOKUP(Q20,Divipolas!$A$2:$B$1123,2,FALSE))","v":""},"",{"$f":"IF(ISNA(VLOOKUP((CONCATENATE(Q20,S20)),Divipolas!$F$2:$G$1123,2,FALSE)),\"\",VLOOKUP((CONCATENATE(Q20,S20)),Divipolas!$F$2:$G$1123,2,FALSE))","v":""},"","","","","","",{"$f":"IF(ISNA(VLOOKUP(Z20,'CODIGO PAIS'!$A$2:$B$231,2,FALSE)),\"\",VLOOKUP(Z20,'CODIGO PAIS'!$A$2:$B$231,2,FALSE))","v":""},"",{"$f":"IF(ISNA(VLOOKUP(AB20,Divipolas!$A$2:$B$1123,2,FALSE)),\"\",VLOOKUP(AB20,Divipolas!$A$2:$B$1123,2,FALSE))","v":""},"",{"$f":"IF(ISNA(VLOOKUP((CONCATENATE(AB20,AD20)),Divipolas!$F$2:$G$1123,2,FALSE)),\"\",VLOOKUP((CONCATENATE(AB20,AD20)),Divipolas!$F$2:$G$1123,2,FALSE))","v":""},"","","","","",{"$f":"IF(ISNA(VLOOKUP(AJ20,Divipolas!$A$2:$B$1123,2,FALSE)),\"\",VLOOKUP(AJ20,Divipolas!$A$2:$B$1123,2,FALSE))","v":""},"",{"$f":"IF(ISNA(VLOOKUP((CONCATENATE(AJ20,AL20)),Divipolas!$F$2:$G$1123,2,FALSE)),\"\",VLOOKUP((CONCATENATE(AJ20,AL20)),Divipolas!$F$2:$G$1123,2,FALSE))","v":""},"","","","","","","","","","","","","","",null,null,null,null,null,null,null,{"$f":"IF(ISNA(VLOOKUP(BH20,'CODIGO PAIS'!$A$2:$B$231,2,FALSE)),\"\",VLOOKUP(BH20,'CODIGO PAIS'!$A$2:$B$231,2,FALSE))","v":""},null,{"$f":"IF(ISNA(VLOOKUP(BJ20,Divipolas!$A$2:$B$1123,2,FALSE)),\"\",VLOOKUP(BJ20,Divipolas!$A$2:$B$1123,2,FALSE))","v":""},null,{"$f":"IF(ISNA(VLOOKUP((CONCATENATE(BJ20,BL20)),Divipolas!$F$2:$G$1123,2,FALSE)),\"\",VLOOKUP((CONCATENATE(BJ20,BL20)),Divipolas!$F$2:$G$1123,2,FALSE))","v":""},null,"","",null,null,null,null,{"$f":"IF(ISNA(VLOOKUP(BT20,Divipolas!$A$2:$B$1123,2,FALSE)),\"\",VLOOKUP(BT20,Divipolas!$A$2:$B$1123,2,FALSE))","v":""},null,{"$f":"IF(ISNA(VLOOKUP((CONCATENATE(BT20,BV20)),Divipolas!$F$2:$G$1123,2,FALSE)),\"\",VLOOKUP((CONCATENATE(BT20,BV20)),Divipolas!$F$2:$G$1123,2,FALSE))","v":""},null,null,null,null,null,null,null,null,null,null,null,null,null,null,null,null,null,null,null,null,null,null,null,"",null,null,null,null,null,null,null,null,null,null,null,null,null,null,null,null,null,null,null,null,null,null,null,null,null,null,null,null,null,null,null,null,null,null,null,null,null,null,null,null,null,null,null,null,null,null,null,null,null,null,null,null,null,null,null,null,null,null,null,null,null,null,null,null,null,null,null,null,null,null,null,null,null,null,null,null,"",null,null,null,null,null,null,null,"VERIFIQUE FECHAS",null,null,null,null,null,null,null,null,null,"VERIFIQUE COLUMNA D"]
["","",null,"",{"$f":"IFERROR(VLOOKUP(D21,'CODIGO REGIONALES'!$J$2:$L$33,3,0),\"\")","v":""},"",{"$f":"IF(ISNA(VLOOKUP(F21,Divipolas!$A$2:$B$1123,2,FALSE)),\"\",VLOOKUP(F21,Divipolas!$A$2:$B$1123,2,FALSE))","v":""},"",{"$f":"IF(ISNA(VLOOKUP((CONCATENATE(F21,H21)),Divipolas!$F$2:$G$1123,2,FALSE)),\"\",VLOOKUP((CONCATENATE(F21,H21)),Divipolas!$F$2:$G$1123,2,FALSE))","v":""},"","","","","","","","",{"$f":"IF(ISNA(VLOOKUP(Q21,Divipolas!$A$2:$B$1123,2,FALSE)),\"\",VLOOKUP(Q21,Divipolas!$A$2:$B$1123,2,FALSE))","v":""},"",{"$f":"IF(ISNA(VLOOKUP((CONCATENATE(Q21,S21)),Divipolas!$F$2:$G$1123,2,FALSE)),\"\",VLOOKUP((CONCATENATE(Q21,S21)),Divipolas!$F$2:$G$1123,2,FALSE))","v":""},"","","","","","",{"$f":"IF(ISNA(VLOOKUP(Z21,'CODIGO PAIS'!$A$2:$B$231,2,FALSE)),\"\",VLOOKUP(Z21,'CODIGO PAIS'!$A$2:$B$231,2,FALSE))","v":""},"",{"$f":"IF(ISNA(VLOOKUP(AB21,Divipolas!$A$2:$B$1123,2,FALSE)),\"\",VLOOKUP(AB21,Divipolas!$A$2:$B$1123,2,FALSE))","v":""},"",{"$f":"IF(ISNA(VLOOKUP((CONCATENATE(AB21,AD21)),Divipolas!$F$2:$G$1123,2,FALSE)),\"\",VLOOKUP((CONCATENATE(AB21,AD21)),Divipolas!$F$2:$G$1123,2,FALSE))","v":""},"","","","","",{"$f":"IF(ISNA(VLOOKUP(AJ21,Divipolas!$A$2:$B$1123,2,FALSE)),\"\",VLOOKUP(AJ21,Divipolas!$A$2:$B$1123,2,FALSE))","v":""},"",{"$f":"IF(ISNA(VLOOKUP((CONCATENATE(AJ21,AL21)),Divipolas!$F$2:$G$1123,2,FALSE)),\"\",VLOOKUP((CONCATENATE(AJ21,AL21)),Divipolas!$F$2:$G$1123,2,FALSE))","v":""},"","","","","","","","","","","","","","",null,null,null,null,null,null,null,{"$f":"IF(ISNA(VLOOKUP(BH21,'CODIGO PAIS'!$A$2:$B$231,2,FALSE)),\"\",VLOOKUP(BH21,'CODIGO PAIS'!$A$2:$B$231,2,FALSE))","v":""},null,{"$f":"IF(ISNA(VLOOKUP(BJ21,Divipolas!$A$2:$B$1123,2,FALSE)),\"\",VLOOKUP(BJ21,Divipolas!$A$2:$B$1123,2,FALSE))","v":""},null,{"$f":"IF(ISNA(VLOOKUP((CONCATENATE(BJ21,BL21)),Divipolas!$F$2:$G$1123,2,FALSE)),\"\",VLOOKUP((CONCATENATE(BJ21,BL21)),Divipolas!$F$2:$G$1123,2,FALSE))","v":""},null,"","",null,null,null,null,{"$f":"IF(ISNA(VLOOKUP(BT21,Divipolas!$A$2:$B$1123,2,FALSE)),\"\",VLOOKUP(BT21,Divipolas!$A$2:$B$1123,2,FALSE))","v":""},null,{"$f":"IF(ISNA(VLOOKUP((CONCATENATE(BT21,BV21)),Divipolas!$F$2:$G$1123,2,FALSE)),\"\",VLOOKUP((CONCATENATE(BT21,BV21)),Divipolas!$F$2:$G$1123,2,FALSE))","v":""},null,null,null,null,null,null,null,null,null,null,null,null,null,null,null,null,null,null,null,null,null,null,null,"",null,null,null,null,null,null,null,null,null,null,null,null,null,null,null,null,null,null,null,null,null,null,null,null,null,null,null,null,null,null,null,null,null,null,null,null,null,null,null,null,null,null,null,null,null,null,null,null,null,null,null,null,null,null,null,null,null,null,null,null,null,null,null,null,null,null,null,null,null,null,null,null,null,null,null,null,"",null,null,null,null,null,null,null,"VERIFIQUE FECHAS",null,null,null,null,null,null,null,null,null,"VERIFIQUE COLUMNA D"]
["","",null,"",{"$f":"IFERROR(VLOOKUP(D22,'CODIGO REGIONALES'!$J$2:$L$33,3,0),\"\")","v":""},"",{"$f":"IF(ISNA(VLOOKUP(F22,Divipolas!$A$2:$B$1123,2,FALSE)),\"\",VLOOKUP(F22,Divipolas!$A$2:$B$1123,2,FALSE))","v":""},"",{"$f":"IF(ISNA(VLOOKUP((CONCATENATE(F22,H22)),Divipolas!$F$2:$G$1123,2,FALSE)),\"\",VLOOKUP((CONCATENATE(F22,H22)),Divipolas!$F$2:$G$1123,2,FALSE))","v":""},"","","","","","","","",{"$f":"IF(ISNA(VLOOKUP(Q22,Divipolas!$A$2:$B$1123,2,FALSE)),\"\",VLOOKUP(Q22,Divipolas!$A$2:$B$1123,2,FALSE))","v":""},"",{"$f":"IF(ISNA(VLOOKUP((CONCATENATE(Q22,S22)),Divipolas!$F$2:$G$1123,2,FALSE)),\"\",VLOOKUP((CONCATENATE(Q22,S22)),Divipolas!$F$2:$G$1123,2,FALSE))","v":""},"","","","","","",{"$f":"IF(ISNA(VLOOKUP(Z22,'CODIGO PAIS'!$A$2:$B$231,2,FALSE)),\"\",VLOOKUP(Z22,'CODIGO PAIS'!$A$2:$B$231,2,FALSE))","v":""},"",{"$f":"IF(ISNA(VLOOKUP(AB22,Divipolas!$A$2:$B$1123,2,FALSE)),\"\",VLOOKUP(AB22,Divipolas!$A$2:$B$1123,2,FALSE))","v":""},"",{"$f":"IF(ISNA(VLOOKUP((CONCATENATE(AB22,AD22)),Divipolas!$F$2:$G$1123,2,FALSE)),\"\",VLOOKUP((CONCATENATE(AB22,AD22)),Divipolas!$F$2:$G$1123,2,FALSE))","v":""},"","","","","",{"$f":"IF(ISNA(VLOOKUP(AJ22,Divipolas!$A$2:$B$1123,2,FALSE)),\"\",VLOOKUP(AJ22,Divipolas!$A$2:$B$1123,2,FALSE))","v":""},"",{"$f":"IF(ISNA(VLOOKUP((CONCATENATE(AJ22,AL22)),Divipolas!$F$2:$G$1123,2,FALSE)),\"\",VLOOKUP((CONCATENATE(AJ22,AL22)),Divipolas!$F$2:$G$1123,2,FALSE))","v":""},"","","","","","","","","","","","","","",null,null,null,null,null,null,null,{"$f":"IF(ISNA(VLOOKUP(BH22,'CODIGO PAIS'!$A$2:$B$231,2,FALSE)),\"\",VLOOKUP(BH22,'CODIGO PAIS'!$A$2:$B$231,2,FALSE))","v":""},null,{"$f":"IF(ISNA(VLOOKUP(BJ22,Divipolas!$A$2:$B$1123,2,FALSE)),\"\",VLOOKUP(BJ22,Divipolas!$A$2:$B$1123,2,FALSE))","v":""},null,{"$f":"IF(ISNA(VLOOKUP((CONCATENATE(BJ22,BL22)),Divipolas!$F$2:$G$1123,2,FALSE)),\"\",VLOOKUP((CONCATENATE(BJ22,BL22)),Divipolas!$F$2:$G$1123,2,FALSE))","v":""},null,"","",null,null,null,null,{"$f":"IF(ISNA(VLOOKUP(BT22,Divipolas!$A$2:$B$1123,2,FALSE)),\"\",VLOOKUP(BT22,Divipolas!$A$2:$B$1123,2,FALSE))","v":""},null,{"$f":"IF(ISNA(VLOOKUP((CONCATENATE(BT22,BV22)),Divipolas!$F$2:$G$1123,2,FALSE)),\"\",VLOOKUP((CONCATENATE(BT22,BV22)),Divipolas!$F$2:$G$1123,2,FALSE))","v":""},null,null,null,null,null,null,null,null,null,null,null,null,null,null,null,null,null,null,null,null,null,null,null,"",null,null,null,null,null,null,null,null,null,null,null,null,null,null,null,null,null,null,null,null,null,null,null,null,null,null,null,null,null,null,null,null,null,null,null,null,null,null,null,null,null,null,null,null,null,null,null,null,null,null,null,null,null,null,null,null,null,null,null,null,null,null,null,null,null,null,null,null,null,null,null,null,null,null,null,null,"",null,null,null,null,null,null,null,"VERIFIQUE FECHAS",null,null,null,null,null,null,null,null,null,"VERIFIQUE COLUMNA D"]
["","",null,"",{"$f":"IFERROR(VLOOKUP(D23,'CODIGO REGIONALES'!$J$2:$L$33,3,0),\"\")","v":""},"",{"$f":"IF(ISNA(VLOOKUP(F23,Divipolas!$A$2:$B$1123,2,FALSE)),\"\",VLOOKUP(F23,Divipolas!$A$2:$B$1123,2,FALSE))","v":""},"",{"$f":"IF(ISNA(VLOOKUP((CONCATENATE(F23,H23)),Divipolas!$F$2:$G$1123,2,FALSE)),\"\",VLOOKUP((CONCATENATE(F23,H23)),Divipolas!$F$2:$G$1123,2,FALSE))","v":""},"","","","","","","","",{"$f":"IF(ISNA(VLOOKUP(Q23,Divipolas!$A$2:$B$1123,2,FALSE)),\"\",VLOOKUP(Q23,Divipolas!$A$2:$B$1123,2,FALSE))","v":""},"",{"$f":"IF(ISNA(VLOOKUP((CONCATENATE(Q23,S23)),Divipolas!$F$2:$G$1123,2,FALSE)),\"\",VLOOKUP((CONCATENATE(Q23,S23)),Divipolas!$F$2:$G$1123,2,FALSE))","v":""},"","","","","","",{"$f":"IF(ISNA(VLOOKUP(Z23,'CODIGO PAIS'!$A$2:$B$231,2,FALSE)),\"\",VLOOKUP(Z23,'CODIGO PAIS'!$A$2:$B$231,2,FALSE))","v":""},"",{"$f":"IF(ISNA(VLOOKUP(AB23,Divipolas!$A$2:$B$1123,2,FALSE)),\"\",VLOOKUP(AB23,Divipolas!$A$2:$B$1123,2,FALSE))","v":""},"",{"$f":"IF(ISNA(VLOOKUP((CONCATENATE(AB23,AD23)),Divipolas!$F$2:$G$1123,2,FALSE)),\"\",VLOOKUP((CONCATENATE(AB23,AD23)),Divipolas!$F$2:$G$1123,2,FALSE))","v":""},"","","","","",{"$f":"IF(ISNA(VLOOKUP(AJ23,Divipolas!$A$2:$B$1123,2,FALSE)),\"\",VLOOKUP(AJ23,Divipolas!$A$2:$B$1123,2,FALSE))","v":""},"",{"$f":"IF(ISNA(VLOOKUP((CONCATENATE(AJ23,AL23)),Divipolas!$F$2:$G$1123,2,FALSE)),\"\",VLOOKUP((CONCATENATE(AJ23,AL23)),Divipolas!$F$2:$G$1123,2,FALSE))","v":""},"","","","","","","","","","","","","","",null,null,null,null,null,null,null,{"$f":"IF(ISNA(VLOOKUP(BH23,'CODIGO PAIS'!$A$2:$B$231,2,FALSE)),\"\",VLOOKUP(BH23,'CODIGO PAIS'!$A$2:$B$231,2,FALSE))","v":""},null,{"$f":"IF(ISNA(VLOOKUP(BJ23,Divipolas!$A$2:$B$1123,2,FALSE)),\"\",VLOOKUP(BJ23,Divipolas!$A$2:$B$1123,2,FALSE))","v":""},null,{"$f":"IF(ISNA(VLOOKUP((CONCATENATE(BJ23,BL23)),Divipolas!$F$2:$G$1123,2,FALSE)),\"\",VLOOKUP((CONCATENATE(BJ23,BL23)),Divipolas!$F$2:$G$1123,2,FALSE))","v":""},null,"","",null,null,null,null,{"$f":"IF(ISNA(VLOOKUP(BT23,Divipolas!$A$2:$B$1123,2,FALSE)),\"\",VLOOKUP(BT23,Divipolas!$A$2:$B$1123,2,FALSE))","v":""},null,{"$f":"IF(ISNA(VLOOKUP((CONCATENATE(BT23,BV23)),Divipolas!$F$2:$G$1123,2,FALSE)),\"\",VLOOKUP((CONCATENATE(BT23,BV23)),Divipolas!$F$2:$G$1123,2,FALSE))","v":""},null,null,null,null,null,null,null,null,null,null,null,null,null,null,null,null,null,null,null,null,null,null,null,"",null,null,null,null,null,null,null,null,null,null,null,null,null,null,null,null,null,null,null,null,null,null,null,null,null,null,null,null,null,null,null,null,null,null,null,null,null,null,null,null,null,null,null,null,null,null,null,null,null,null,null,null,null,null,null,null,null,null,null,null,null,null,null,null,null,null,null,null,null,null,null,null,null,null,null,null,"",null,null,null,null,null,null,null,"VERIFIQUE FECHAS",null,null,null,null,null,null,null,null,null,"VERIFIQUE COLUMNA D"]
["","",null,"",{"$f":"IFERROR(VLOOKUP(D24,'CODIGO REGIONALES'!$J$2:$L$33,3,0),\"\")","v":""},"",{"$f":"IF(ISNA(VLOOKUP(F24,Divipolas!$A$2:$B$1123,2,FALSE)),\"\",VLOOKUP(F24,Divipolas!$A$2:$B$1123,2,FALSE))","v":""},"",{"$f":"IF(ISNA(VLOOKUP((CONCATENATE(F24,H24)),Divipolas!$F$2:$G$1123,2,FALSE)),\"\",VLOOKUP((CONCATENATE(F24,H24)),Divipolas!$F$2:$G$1123,2,FALSE))","v":""},"",{"$f":"IF(AND($C24<>\"\",K23<>\"\"),K23,\"\")","v":""},"","","","","","",{"$f":"IF(ISNA(VLOOKUP(Q24,Divipolas!$A$2:$B$1123,2,FALSE)),\"\",VLOOKUP(Q24,Divipolas!$A$2:$B$1123,2,FALSE))","v":""},"",{"$f":"IF(ISNA(VLOOKUP((CONCATENATE(Q24,S24)),Divipolas!$F$2:$G$1123,2,FALSE)),\"\",VLOOKUP((CONCATENATE(Q24,S24)),Divipolas!$F$2:$G$1123,2,FALSE))","v":""},"","","","","","",{"$f":"IF(ISNA(VLOOKUP(Z24,'CODIGO PAIS'!$A$2:$B$231,2,FALSE)),\"\",VLOOKUP(Z24,'CODIGO PAIS'!$A$2:$B$231,2,FALSE))","v":""},"",{"$f":"IF(ISNA(VLOOKUP(AB24,Divipolas!$A$2:$B$1123,2,FALSE)),\"\",VLOOKUP(AB24,Divipolas!$A$2:$B$1123,2,FALSE))","v":""},"",{"$f":"IF(ISNA(VLOOKUP((CONCATENATE(AB24,AD24)),Divipolas!$F$2:$G$1123,2,FALSE)),\"\",VLOOKUP((CONCATENATE(AB24,AD24)),Divipolas!$F$2:$G$1123,2,FALSE))","v":""},"","","","","",{"$f":"IF(ISNA(VLOOKUP(AJ24,Divipolas!$A$2:$B$1123,2,FALSE)),\"\",VLOOKUP(AJ24,Divipolas!$A$2:$B$1123,2,FALSE))","v":""},"",{"$f":"IF(ISNA(VLOOKUP((CONCATENATE(AJ24,AL24)),Divipolas!$F$2:$G$1123,2,FALSE)),\"\",VLOOKUP((CONCATENATE(AJ24,AL24)),Divipolas!$F$2:$G$1123,2,FALSE))","v":""},"","","","","","","","","","","","","","",null,null,null,null,null,null,null,{"$f":"IF(ISNA(VLOOKUP(BH24,'CODIGO PAIS'!$A$2:$B$231,2,FALSE)),\"\",VLOOKUP(BH24,'CODIGO PAIS'!$A$2:$B$231,2,FALSE))","v":""},null,{"$f":"IF(ISNA(VLOOKUP(BJ24,Divipolas!$A$2:$B$1123,2,FALSE)),\"\",VLOOKUP(BJ24,Divipolas!$A$2:$B$1123,2,FALSE))","v":""},null,{"$f":"IF(ISNA(VLOOKUP((CONCATENATE(BJ24,BL24)),Divipolas!$F$2:$G$1123,2,FALSE)),\"\",VLOOKUP((CONCATENATE(BJ24,BL24)),Divipolas!$F$2:$G$1123,2,FALSE))","v":""},null,"","",null,null,null,null,{"$f":"IF(ISNA(VLOOKUP(BT24,Divipolas!$A$2:$B$1123,2,FALSE)),\"\",VLOOKUP(BT24,Divipolas!$A$2:$B$1123,2,FALSE))","v":""},null,{"$f":"IF(ISNA(VLOOKUP((CONCATENATE(BT24,BV24)),Divipolas!$F$2:$G$1123,2,FALSE)),\"\",VLOOKUP((CONCATENATE(BT24,BV24)),Divipolas!$F$2:$G$1123,2,FALSE))","v":""},null,null,null,null,null,null,null,null,null,null,null,null,null,null,null,null,null,null,null,null,null,null,null,"",null,null,null,null,null,null,null,null,null,null,null,null,null,null,null,null,null,null,null,null,null,null,null,null,null,null,null,null,null,null,null,null,null,null,null,null,null,null,null,null,null,null,null,null,null,null,null,null,null,null,null,null,null,null,null,null,null,null,null,null,null,null,null,null,null,null,null,null,null,null,null,null,null,null,null,null,"",null,null,null,null,null,null,null,"VERIFIQUE FECHAS",null,null,null,null,null,null,null,null,null,"VERIFIQUE COLUMNA D"]
["","",null,"",{"$f":"IFERROR(VLOOKUP(D25,'CODIGO REGIONALES'!$J$2:$L$33,3,0),\"\")","v":""},"",{"$f":"IF(ISNA(VLOOKUP(F25,Divipolas!$A$2:$B$1123,2,FALSE)),\"\",VLOOKUP(F25,Divipolas!$A$2:$B$1123,2,FALSE))","v":""},"",{"$f":"IF(ISNA(VLOOKUP((CONCATENATE(F25,H25)),Divipolas!$F$2:$G$1123,2,FALSE)),\"\",VLOOKUP((CONCATENATE(F25,H25)),Divipolas!$F$2:$G$1123,2,FALSE))","v":""},"","","","","","","","",{"$f":"IF(ISNA(VLOOKUP(Q25,Divipolas!$A$2:$B$1123,2,FALSE)),\"\",VLOOKUP(Q25,Divipolas!$A$2:$B$1123,2,FALSE))","v":""},"",{"$f":"IF(ISNA(VLOOKUP((CONCATENATE(Q25,S25)),Divipolas!$F$2:$G$1123,2,FALSE)),\"\",VLOOKUP((CONCATENATE(Q25,S25)),Divipolas!$F$2:$G$1123,2,FALSE))","v":""},"","","","","","",{"$f":"IF(ISNA(VLOOKUP(Z25,'CODIGO PAIS'!$A$2:$B$231,2,FALSE)),\"\",VLOOKUP(Z25,'CODIGO PAIS'!$A$2:$B$231,2,FALSE))","v":""},"",{"$f":"IF(ISNA(VLOOKUP(AB25,Divipolas!$A$2:$B$1123,2,FALSE)),\"\",VLOOKUP(AB25,Divipolas!$A$2:$B$1123,2,FALSE))","v":""},"",{"$f":"IF(ISNA(VLOOKUP((CONCATENATE(AB25,AD25)),Divipolas!$F$2:$G$1123,2,FALSE)),\"\",VLOOKUP((CONCATENATE(AB25,AD25)),Divipolas!$F$2:$G$1123,2,FALSE))","v":""},"","","","","",{"$f":"IF(ISNA(VLOOKUP(AJ25,Divipolas!$A$2:$B$1123,2,FALSE)),\"\",VLOOKUP(AJ25,Divipolas!$A$2:$B$1123,2,FALSE))","v":""},"",{"$f":"IF(ISNA(VLOOKUP((CONCATENATE(AJ25,AL25)),Divipolas!$F$2:$G$1123,2,FALSE)),\"\",VLOOKUP((CONCATENATE(AJ25,AL25)),Divipolas!$F$2:$G$1123,2,FALSE))","v":""},"","","","","","","","","","","","","","",null,null,null,null,null,null,null,{"$f":"IF(ISNA(VLOOKUP(BH25,'CODIGO PAIS'!$A$2:$B$231,2,FALSE)),\"\",VLOOKUP(BH25,'CODIGO PAIS'!$A$2:$B$231,2,FALSE))","v":""},null,{"$f":"IF(ISNA(VLOOKUP(BJ25,Divipolas!$A$2:$B$1123,2,FALSE)),\"\",VLOOKUP(BJ25,Divipolas!$A$2:$B$1123,2,FALSE))","v":""},null,{"$f":"IF(ISNA(VLOOKUP((CONCATENATE(BJ25,BL25)),Divipolas!$F$2:$G$1123,2,FALSE)),\"\",VLOOKUP((CONCATENATE(BJ25,BL25)),Divipolas!$F$2:$G$1123,2,FALSE))","v":""},null,"","",null,null,null,null,{"$f":"IF(ISNA(VLOOKUP(BT25,Divipolas!$A$2:$B$1123,2,FALSE)),\"\",VLOOKUP(BT25,Divipolas!$A$2:$B$1123,2,FALSE))","v":""},null,{"$f":"IF(ISNA(VLOOKUP((CONCATENATE(BT25,BV25)),Divipolas!$F$2:$G$1123,2,FALSE)),\"\",VLOOKUP((CONCATENATE(BT25,BV25)),Divipolas!$F$2:$G$1123,2,FALSE))","v":""},null,null,null,null,null,null,null,null,null,null,null,null,null,null,null,null,null,null,null,null,null,null,null,"",null,null,null,null,null,null,null,null,null,null,null,null,null,null,null,null,null,null,null,null,null,null,null,null,null,null,null,null,null,null,null,null,null,null,null,null,null,null,null,null,null,null,null,null,null,null,null,null,null,null,null,null,null,null,null,null,null,null,null,null,null,null,null,null,null,null,null,null,null,null,null,null,null,null,null,null,"",null,null,null,null,null,null,null,"VERIFIQUE FECHAS",null,null,null,null,null,null,null,null,null,"VERIFIQUE COLUMNA D"]
["","",null,"",{"$f":"IFERROR(VLOOKUP(D26,'CODIGO REGIONALES'!$J$2:$L$33,3,0),\"\")","v":""},"",{"$f":"IF(ISNA(VLOOKUP(F26,Divipolas!$A$2:$B$1123,2,FALSE)),\"\",VLOOKUP(F26,Divipolas!$A$2:$B$1123,2,FALSE))","v":""},"",{"$f":"IF(ISNA(VLOOKUP((CONCATENATE(F26,H26)),Divipolas!$F$2:$G$1123,2,FALSE)),\"\",VLOOKUP((CONCATENATE(F26,H26)),Divipolas!$F$2:$G$1123,2,FALSE))","v":""},"","","","","","","","",{"$f":"IF(ISNA(VLOOKUP(Q26,Divipolas!$A$2:$B$1123,2,FALSE)),\"\",VLOOKUP(Q26,Divipolas!$A$2:$B$1123,2,FALSE))","v":""},"",{"$f":"IF(ISNA(VLOOKUP((CONCATENATE(Q26,S26)),Divipolas!$F$2:$G$1123,2,FALSE)),\"\",VLOOKUP((CONCATENATE(Q26,S26)),Divipolas!$F$2:$G$1123,2,FALSE))","v":""},"","","","","","",{"$f":"IF(ISNA(VLOOKUP(Z26,'CODIGO PAIS'!$A$2:$B$231,2,FALSE)),\"\",VLOOKUP(Z26,'CODIGO PAIS'!$A$2:$B$231,2,FALSE))","v":""},"",{"$f":"IF(ISNA(VLOOKUP(AB26,Divipolas!$A$2:$B$1123,2,FALSE)),\"\",VLOOKUP(AB26,Divipolas!$A$2:$B$1123,2,FALSE))","v":""},"",{"$f":"IF(ISNA(VLOOKUP((CONCATENATE(AB26,AD26)),Divipolas!$F$2:$G$1123,2,FALSE)),\"\",VLOOKUP((CONCATENATE(AB26,AD26)),Divipolas!$F$2:$G$1123,2,FALSE))","v":""},"","","","","",{"$f":"IF(ISNA(VLOOKUP(AJ26,Divipolas!$A$2:$B$1123,2,FALSE)),\"\",VLOOKUP(AJ26,Divipolas!$A$2:$B$1123,2,FALSE))","v":""},"",{"$f":"IF(ISNA(VLOOKUP((CONCATENATE(AJ26,AL26)),Divipolas!$F$2:$G$1123,2,FALSE)),\"\",VLOOKUP((CONCATENATE(AJ26,AL26)),Divipolas!$F$2:$G$1123,2,FALSE))","v":""},"","","","","","","","","","","","","","",null,null,null,null,null,null,null,{"$f":"IF(ISNA(VLOOKUP(BH26,'CODIGO PAIS'!$A$2:$B$231,2,FALSE)),\"\",VLOOKUP(BH26,'CODIGO PAIS'!$A$2:$B$231,2,FALSE))","v":""},null,{"$f":"IF(ISNA(VLOOKUP(BJ26,Divipolas!$A$2:$B$1123,2,FALSE)),\"\",VLOOKUP(BJ26,Divipolas!$A$2:$B$1123,2,FALSE))","v":""},null,{"$f":"IF(ISNA(VLOOKUP((CONCATENATE(BJ26,BL26)),Divipolas!$F$2:$G$1123,2,FALSE)),\"\",VLOOKUP((CONCATENATE(BJ26,BL26)),Divipolas!$F$2:$G$1123,2,FALSE))","v":""},null,"","",null,null,null,null,{"$f":"IF(ISNA(VLOOKUP(BT26,Divipolas!$A$2:$B$1123,2,FALSE)),\"\",VLOOKUP(BT26,Divipolas!$A$2:$B$1123,2,FALSE))","v":""},null,{"$f":"IF(ISNA(VLOOKUP((CONCATENATE(BT26,BV26)),Divipolas!$F$2:$G$1123,2,FALSE)),\"\",VLOOKUP((CONCATENATE(BT26,BV26)),Divipolas!$F$2:$G$1123,2,FALSE))","v":""},null,null,null,null,null,null,null,null,null,null,null,null,null,null,null,null,null,null,null,null,null,null,null,"",null,null,null,null,null,null,null,null,null,null,null,null,null,null,null,null,null,null,null,null,null,null,null,null,null,null,null,null,null,null,null,null,null,null,null,null,null,null,null,null,null,null,null,null,null,null,null,null,null,null,null,null,null,null,null,null,null,null,null,null,null,null,null,null,null,null,null,null,null,null,null,null,null,null,null,null,"",null,null,null,null,null,null,null,"VERIFIQUE FECHAS",null,null,null,null,null,null,null,null,null,"VERIFIQUE COLUMNA D"]
["","",null,"",{"$f":"IFERROR(VLOOKUP(D27,'CODIGO REGIONALES'!$J$2:$L$33,3,0),\"\")","v":""},"",{"$f":"IF(ISNA(VLOOKUP(F27,Divipolas!$A$2:$B$1123,2,FALSE)),\"\",VLOOKUP(F27,Divipolas!$A$2:$B$1123,2,FALSE))","v":""},"",{"$f":"IF(ISNA(VLOOKUP((CONCATENATE(F27,H27)),Divipolas!$F$2:$G$1123,2,FALSE)),\"\",VLOOKUP((CONCATENATE(F27,H27)),Divipolas!$F$2:$G$1123,2,FALSE))","v":""},"","","","","","","","",{"$f":"IF(ISNA(VLOOKUP(Q27,Divipolas!$A$2:$B$1123,2,FALSE)),\"\",VLOOKUP(Q27,Divipolas!$A$2:$B$1123,2,FALSE))","v":""},"",{"$f":"IF(ISNA(VLOOKUP((CONCATENATE(Q27,S27)),Divipolas!$F$2:$G$1123,2,FALSE)),\"\",VLOOKUP((CONCATENATE(Q27,S27)),Divipolas!$F$2:$G$1123,2,FALSE))","v":""},"","","","","","",{"$f":"IF(ISNA(VLOOKUP(Z27,'CODIGO PAIS'!$A$2:$B$231,2,FALSE)),\"\",VLOOKUP(Z27,'CODIGO PAIS'!$A$2:$B$231,2,FALSE))","v":""},"",{"$f":"IF(ISNA(VLOOKUP(AB27,Divipolas!$A$2:$B$1123,2,FALSE)),\"\",VLOOKUP(AB27,Divipolas!$A$2:$B$1123,2,FALSE))","v":""},"",{"$f":"IF(ISNA(VLOOKUP((CONCATENATE(AB27,AD27)),Divipolas!$F$2:$G$1123,2,FALSE)),\"\",VLOOKUP((CONCATENATE(AB27,AD27)),Divipolas!$F$2:$G$1123,2,FALSE))","v":""},"","","","","",{"$f":"IF(ISNA(VLOOKUP(AJ27,Divipolas!$A$2:$B$1123,2,FALSE)),\"\",VLOOKUP(AJ27,Divipolas!$A$2:$B$1123,2,FALSE))","v":""},"",{"$f":"IF(ISNA(VLOOKUP((CONCATENATE(AJ27,AL27)),Divipolas!$F$2:$G$1123,2,FALSE)),\"\",VLOOKUP((CONCATENATE(AJ27,AL27)),Divipolas!$F$2:$G$1123,2,FALSE))","v":""},"","","","","","","","","","","","","","",null,null,null,null,null,null,null,{"$f":"IF(ISNA(VLOOKUP(BH27,'CODIGO PAIS'!$A$2:$B$231,2,FALSE)),\"\",VLOOKUP(BH27,'CODIGO PAIS'!$A$2:$B$231,2,FALSE))","v":""},null,{"$f":"IF(ISNA(VLOOKUP(BJ27,Divipolas!$A$2:$B$1123,2,FALSE)),\"\",VLOOKUP(BJ27,Divipolas!$A$2:$B$1123,2,FALSE))","v":""},null,{"$f":"IF(ISNA(VLOOKUP((CONCATENATE(BJ27,BL27)),Divipolas!$F$2:$G$1123,2,FALSE)),\"\",VLOOKUP((CONCATENATE(BJ27,BL27)),Divipolas!$F$2:$G$1123,2,FALSE))","v":""},null,"","",null,null,null,null,{"$f":"IF(ISNA(VLOOKUP(BT27,Divipolas!$A$2:$B$1123,2,FALSE)),\"\",VLOOKUP(BT27,Divipolas!$A$2:$B$1123,2,FALSE))","v":""},null,{"$f":"IF(ISNA(VLOOKUP((CONCATENATE(BT27,BV27)),Divipolas!$F$2:$G$1123,2,FALSE)),\"\",VLOOKUP((CONCATENATE(BT27,BV27)),Divipolas!$F$2:$G$1123,2,FALSE))","v":""},null,null,null,null,null,null,null,null,null,null,null,null,null,null,null,null,null,null,null,null,null,null,null,"",null,null,null,null,null,null,null,null,null,null,null,null,null,null,null,null,null,null,null,null,null,null,null,null,null,null,null,null,null,null,null,null,null,null,null,null,null,null,null,null,null,null,null,null,null,null,null,null,null,null,null,null,null,null,null,null,null,null,null,null,null,null,null,null,null,null,null,null,null,null,null,null,null,null,null,null,"",null,null,null,null,null,null,null,"VERIFIQUE FECHAS",null,null,null,null,null,null,null,null,null,"VERIFIQUE COLUMNA D"]
["","",null,"",{"$f":"IFERROR(VLOOKUP(D28,'CODIGO REGIONALES'!$J$2:$L$33,3,0),\"\")","v":""},"",{"$f":"IF(ISNA(VLOOKUP(F28,Divipolas!$A$2:$B$1123,2,FALSE)),\"\",VLOOKUP(F28,Divipolas!$A$2:$B$1123,2,FALSE))","v":""},"",{"$f":"IF(ISNA(VLOOKUP((CONCATENATE(F28,H28)),Divipolas!$F$2:$G$1123,2,FALSE)),\"\",VLOOKUP((CONCATENATE(F28,H28)),Divipolas!$F$2:$G$1123,2,FALSE))","v":""},"","","","","","","","",{"$f":"IF(ISNA(VLOOKUP(Q28,Divipolas!$A$2:$B$1123,2,FALSE)),\"\",VLOOKUP(Q28,Divipolas!$A$2:$B$1123,2,FALSE))","v":""},"",{"$f":"IF(ISNA(VLOOKUP((CONCATENATE(Q28,S28)),Divipolas!$F$2:$G$1123,2,FALSE)),\"\",VLOOKUP((CONCATENATE(Q28,S28)),Divipolas!$F$2:$G$1123,2,FALSE))","v":""},"","","","","","",{"$f":"IF(ISNA(VLOOKUP(Z28,'CODIGO PAIS'!$A$2:$B$231,2,FALSE)),\"\",VLOOKUP(Z28,'CODIGO PAIS'!$A$2:$B$231,2,FALSE))","v":""},"",{"$f":"IF(ISNA(VLOOKUP(AB28,Divipolas!$A$2:$B$1123,2,FALSE)),\"\",VLOOKUP(AB28,Divipolas!$A$2:$B$1123,2,FALSE))","v":""},"",{"$f":"IF(ISNA(VLOOKUP((CONCATENATE(AB28,AD28)),Divipolas!$F$2:$G$1123,2,FALSE)),\"\",VLOOKUP((CONCATENATE(AB28,AD28)),Divipolas!$F$2:$G$1123,2,FALSE))","v":""},"","","","","",{"$f":"IF(ISNA(VLOOKUP(AJ28,Divipolas!$A$2:$B$1123,2,FALSE)),\"\",VLOOKUP(AJ28,Divipolas!$A$2:$B$1123,2,FALSE))","v":""},"",{"$f":"IF(ISNA(VLOOKUP((CONCATENATE(AJ28,AL28)),Divipolas!$F$2:$G$1123,2,FALSE)),\"\",VLOOKUP((CONCATENATE(AJ28,AL28)),Divipolas!$F$2:$G$1123,2,FALSE))","v":""},"","","","","","","","","","","","","","",null,null,null,null,null,null,null,{"$f":"IF(ISNA(VLOOKUP(BH28,'CODIGO PAIS'!$A$2:$B$231,2,FALSE)),\"\",VLOOKUP(BH28,'CODIGO PAIS'!$A$2:$B$231,2,FALSE))","v":""},null,{"$f":"IF(ISNA(VLOOKUP(BJ28,Divipolas!$A$2:$B$1123,2,FALSE)),\"\",VLOOKUP(BJ28,Divipolas!$A$2:$B$1123,2,FALSE))","v":""},null,{"$f":"IF(ISNA(VLOOKUP((CONCATENATE(BJ28,BL28)),Divipolas!$F$2:$G$1123,2,FALSE)),\"\",VLOOKUP((CONCATENATE(BJ28,BL28)),Divipolas!$F$2:$G$1123,2,FALSE))","v":""},null,"","",null,null,null,null,{"$f":"IF(ISNA(VLOOKUP(BT28,Divipolas!$A$2:$B$1123,2,FALSE)),\"\",VLOOKUP(BT28,Divipolas!$A$2:$B$1123,2,FALSE))","v":""},null,{"$f":"IF(ISNA(VLOOKUP((CONCATENATE(BT28,BV28)),Divipolas!$F$2:$G$1123,2,FALSE)),\"\",VLOOKUP((CONCATENATE(BT28,BV28)),Divipolas!$F$2:$G$1123,2,FALSE))","v":""},null,null,null,null,null,null,null,null,null,null,null,null,null,null,null,null,null,null,null,null,null,null,null,"",null,null,null,null,null,null,null,null,null,null,null,null,null,null,null,null,null,null,null,null,null,null,null,null,null,null,null,null,null,null,null,null,null,null,null,null,null,null,null,null,null,null,null,null,null,null,null,null,null,null,null,null,null,null,null,null,null,null,null,null,null,null,null,null,null,null,null,null,null,null,null,null,null,null,null,null,"",null,null,null,null,null,null,null,"VERIFIQUE FECHAS",null,null,null,null,null,null,null,null,null,"VERIFIQUE COLUMNA D"]
["","",null,"",{"$f":"IFERROR(VLOOKUP(D29,'CODIGO REGIONALES'!$J$2:$L$33,3,0),\"\")","v":""},"",{"$f":"IF(ISNA(VLOOKUP(F29,Divipolas!$A$2:$B$1123,2,FALSE)),\"\",VLOOKUP(F29,Divipolas!$A$2:$B$1123,2,FALSE))","v":""},"",{"$f":"IF(ISNA(VLOOKUP((CONCATENATE(F29,H29)),Divipolas!$F$2:$G$1123,2,FALSE)),\"\",VLOOKUP((CONCATENATE(F29,H29)),Divipolas!$F$2:$G$1123,2,FALSE))","v":""},"","","","","","","","",{"$f":"IF(ISNA(VLOOKUP(Q29,Divipolas!$A$2:$B$1123,2,FALSE)),\"\",VLOOKUP(Q29,Divipolas!$A$2:$B$1123,2,FALSE))","v":""},"",{"$f":"IF(ISNA(VLOOKUP((CONCATENATE(Q29,S29)),Divipolas!$F$2:$G$1123,2,FALSE)),\"\",VLOOKUP((CONCATENATE(Q29,S29)),Divipolas!$F$2:$G$1123,2,FALSE))","v":""},"","","","","","",{"$f":"IF(ISNA(VLOOKUP(Z29,'CODIGO PAIS'!$A$2:$B$231,2,FALSE)),\"\",VLOOKUP(Z29,'CODIGO PAIS'!$A$2:$B$231,2,FALSE))","v":""},"",{"$f":"IF(ISNA(VLOOKUP(AB29,Divipolas!$A$2:$B$1123,2,FALSE)),\"\",VLOOKUP(AB29,Divipolas!$A$2:$B$1123,2,FALSE))","v":""},"",{"$f":"IF(ISNA(VLOOKUP((CONCATENATE(AB29,AD29)),Divipolas!$F$2:$G$1123,2,FALSE)),\"\",VLOOKUP((CONCATENATE(AB29,AD29)),Divipolas!$F$2:$G$1123,2,FALSE))","v":""},"","","","","",{"$f":"IF(ISNA(VLOOKUP(AJ29,Divipolas!$A$2:$B$1123,2,FALSE)),\"\",VLOOKUP(AJ29,Divipolas!$A$2:$B$1123,2,FALSE))","v":""},"",{"$f":"IF(ISNA(VLOOKUP((CONCATENATE(AJ29,AL29)),Divipolas!$F$2:$G$1123,2,FALSE)),\"\",VLOOKUP((CONCATENATE(AJ29,AL29)),Divipolas!$F$2:$G$1123,2,FALSE))","v":""},"","","","","","","","","","","","","","",null,null,null,null,null,null,null,{"$f":"IF(ISNA(VLOOKUP(BH29,'CODIGO PAIS'!$A$2:$B$231,2,FALSE)),\"\",VLOOKUP(BH29,'CODIGO PAIS'!$A$2:$B$231,2,FALSE))","v":""},null,{"$f":"IF(ISNA(VLOOKUP(BJ29,Divipolas!$A$2:$B$1123,2,FALSE)),\"\",VLOOKUP(BJ29,Divipolas!$A$2:$B$1123,2,FALSE))","v":""},null,{"$f":"IF(ISNA(VLOOKUP((CONCATENATE(BJ29,BL29)),Divipolas!$F$2:$G$1123,2,FALSE)),\"\",VLOOKUP((CONCATENATE(BJ29,BL29)),Divipolas!$F$2:$G$1123,2,FALSE))","v":""},null,"","",null,null,null,null,{"$f":"IF(ISNA(VLOOKUP(BT29,Divipolas!$A$2:$B$1123,2,FALSE)),\"\",VLOOKUP(BT29,Divipolas!$A$2:$B$1123,2,FALSE))","v":""},null,{"$f":"IF(ISNA(VLOOKUP((CONCATENATE(BT29,BV29)),Divipolas!$F$2:$G$1123,2,FALSE)),\"\",VLOOKUP((CONCATENATE(BT29,BV29)),Divipolas!$F$2:$G$1123,2,FALSE))","v":""},null,null,null,null,null,null,null,null,null,null,null,null,null,null,null,null,null,null,null,null,null,null,null,"",null,null,null,null,null,null,null,null,null,null,null,null,null,null,null,null,null,null,null,null,null,null,null,null,null,null,null,null,null,null,null,null,null,null,null,null,null,null,null,null,null,null,null,null,null,null,null,null,null,null,null,null,null,null,null,null,null,null,null,null,null,null,null,null,null,null,null,null,null,null,null,null,null,null,null,null,"",null,null,null,null,null,null,null,"VERIFIQUE FECHAS",null,null,null,null,null,null,null,null,null,"VERIFIQUE COLUMNA D"]
["","",null,"",{"$f":"IFERROR(VLOOKUP(D30,'CODIGO REGIONALES'!$J$2:$L$33,3,0),\"\")","v":""},"",{"$f":"IF(ISNA(VLOOKUP(F30,Divipolas!$A$2:$B$1123,2,FALSE)),\"\",VLOOKUP(F30,Divipolas!$A$2:$B$1123,2,FALSE))","v":""},"",{"$f":"IF(ISNA(VLOOKUP((CONCATENATE(F30,H30)),Divipolas!$F$2:$G$1123,2,FALSE)),\"\",VLOOKUP((CONCATENATE(F30,H30)),Divipolas!$F$2:$G$1123,2,FALSE))","v":""},"","","","","","","","",{"$f":"IF(ISNA(VLOOKUP(Q30,Divipolas!$A$2:$B$1123,2,FALSE)),\"\",VLOOKUP(Q30,Divipolas!$A$2:$B$1123,2,FALSE))","v":""},"",{"$f":"IF(ISNA(VLOOKUP((CONCATENATE(Q30,S30)),Divipolas!$F$2:$G$1123,2,FALSE)),\"\",VLOOKUP((CONCATENATE(Q30,S30)),Divipolas!$F$2:$G$1123,2,FALSE))","v":""},"","","","","","",{"$f":"IF(ISNA(VLOOKUP(Z30,'CODIGO PAIS'!$A$2:$B$231,2,FALSE)),\"\",VLOOKUP(Z30,'CODIGO PAIS'!$A$2:$B$231,2,FALSE))","v":""},"",{"$f":"IF(ISNA(VLOOKUP(AB30,Divipolas!$A$2:$B$1123,2,FALSE)),\"\",VLOOKUP(AB30,Divipolas!$A$2:$B$1123,2,FALSE))","v":""},"",{"$f":"IF(ISNA(VLOOKUP((CONCATENATE(AB30,AD30)),Divipolas!$F$2:$G$1123,2,FALSE)),\"\",VLOOKUP((CONCATENATE(AB30,AD30)),Divipolas!$F$2:$G$1123,2,FALSE))","v":""},"","","","","",{"$f":"IF(ISNA(VLOOKUP(AJ30,Divipolas!$A$2:$B$1123,2,FALSE)),\"\",VLOOKUP(AJ30,Divipolas!$A$2:$B$1123,2,FALSE))","v":""},"",{"$f":"IF(ISNA(VLOOKUP((CONCATENATE(AJ30,AL30)),Divipolas!$F$2:$G$1123,2,FALSE)),\"\",VLOOKUP((CONCATENATE(AJ30,AL30)),Divipolas!$F$2:$G$1123,2,FALSE))","v":""},"","","","","","","","","","","","","","",null,null,null,null,null,null,null,{"$f":"IF(ISNA(VLOOKUP(BH30,'CODIGO PAIS'!$A$2:$B$231,2,FALSE)),\"\",VLOOKUP(BH30,'CODIGO PAIS'!$A$2:$B$231,2,FALSE))","v":""},null,{"$f":"IF(ISNA(VLOOKUP(BJ30,Divipolas!$A$2:$B$1123,2,FALSE)),\"\",VLOOKUP(BJ30,Divipolas!$A$2:$B$1123,2,FALSE))","v":""},null,{"$f":"IF(ISNA(VLOOKUP((CONCATENATE(BJ30,BL30)),Divipolas!$F$2:$G$1123,2,FALSE)),\"\",VLOOKUP((CONCATENATE(BJ30,BL30)),Divipolas!$F$2:$G$1123,2,FALSE))","v":""},null,"","",null,null,null,null,{"$f":"IF(ISNA(VLOOKUP(BT30,Divipolas!$A$2:$B$1123,2,FALSE)),\"\",VLOOKUP(BT30,Divipolas!$A$2:$B$1123,2,FALSE))","v":""},null,{"$f":"IF(ISNA(VLOOKUP((CONCATENATE(BT30,BV30)),Divipolas!$F$2:$G$1123,2,FALSE)),\"\",VLOOKUP((CONCATENATE(BT30,BV30)),Divipolas!$F$2:$G$1123,2,FALSE))","v":""},null,null,null,null,null,null,null,null,null,null,null,null,null,null,null,null,null,null,null,null,null,null,null,"",null,null,null,null,null,null,null,null,null,null,null,null,null,null,null,null,null,null,null,null,null,null,null,null,null,null,null,null,null,null,null,null,null,null,null,null,null,null,null,null,null,null,null,null,null,null,null,null,null,null,null,null,null,null,null,null,null,null,null,null,null,null,null,null,null,null,null,null,null,null,null,null,null,null,null,null,"",null,null,null,null,null,null,null,"VERIFIQUE FECHAS",null,null,null,null,null,null,null,null,null,"VERIFIQUE COLUMNA D"]
["","",null,"",{"$f":"IFERROR(VLOOKUP(D31,'CODIGO REGIONALES'!$J$2:$L$33,3,0),\"\")","v":""},"",{"$f":"IF(ISNA(VLOOKUP(F31,Divipolas!$A$2:$B$1123,2,FALSE)),\"\",VLOOKUP(F31,Divipolas!$A$2:$B$1123,2,FALSE))","v":""},"",{"$f":"IF(ISNA(VLOOKUP((CONCATENATE(F31,H31)),Divipolas!$F$2:$G$1123,2,FALSE)),\"\",VLOOKUP((CONCATENATE(F31,H31)),Divipolas!$F$2:$G$1123,2,FALSE))","v":""},"","","","","","","","",{"$f":"IF(ISNA(VLOOKUP(Q31,Divipolas!$A$2:$B$1123,2,FALSE)),\"\",VLOOKUP(Q31,Divipolas!$A$2:$B$1123,2,FALSE))","v":""},"",{"$f":"IF(ISNA(VLOOKUP((CONCATENATE(Q31,S31)),Divipolas!$F$2:$G$1123,2,FALSE)),\"\",VLOOKUP((CONCATENATE(Q31,S31)),Divipolas!$F$2:$G$1123,2,FALSE))","v":""},"","","","","","",{"$f":"IF(ISNA(VLOOKUP(Z31,'CODIGO PAIS'!$A$2:$B$231,2,FALSE)),\"\",VLOOKUP(Z31,'CODIGO PAIS'!$A$2:$B$231,2,FALSE))","v":""},"",{"$f":"IF(ISNA(VLOOKUP(AB31,Divipolas!$A$2:$B$1123,2,FALSE)),\"\",VLOOKUP(AB31,Divipolas!$A$2:$B$1123,2,FALSE))","v":""},"",{"$f":"IF(ISNA(VLOOKUP((CONCATENATE(AB31,AD31)),Divipolas!$F$2:$G$1123,2,FALSE)),\"\",VLOOKUP((CONCATENATE(AB31,AD31)),Divipolas!$F$2:$G$1123,2,FALSE))","v":""},"","","","","",{"$f":"IF(ISNA(VLOOKUP(AJ31,Divipolas!$A$2:$B$1123,2,FALSE)),\"\",VLOOKUP(AJ31,Divipolas!$A$2:$B$1123,2,FALSE))","v":""},"",{"$f":"IF(ISNA(VLOOKUP((CONCATENATE(AJ31,AL31)),Divipolas!$F$2:$G$1123,2,FALSE)),\"\",VLOOKUP((CONCATENATE(AJ31,AL31)),Divipolas!$F$2:$G$1123,2,FALSE))","v":""},"","","","","","","","","","","","","","",null,null,null,null,null,null,null,{"$f":"IF(ISNA(VLOOKUP(BH31,'CODIGO PAIS'!$A$2:$B$231,2,FALSE)),\"\",VLOOKUP(BH31,'CODIGO PAIS'!$A$2:$B$231,2,FALSE))","v":""},null,{"$f":"IF(ISNA(VLOOKUP(BJ31,Divipolas!$A$2:$B$1123,2,FALSE)),\"\",VLOOKUP(BJ31,Divipolas!$A$2:$B$1123,2,FALSE))","v":""},null,{"$f":"IF(ISNA(VLOOKUP((CONCATENATE(BJ31,BL31)),Divipolas!$F$2:$G$1123,2,FALSE)),\"\",VLOOKUP((CONCATENATE(BJ31,BL31)),Divipolas!$F$2:$G$1123,2,FALSE))","v":""},null,"","",null,null,null,null,{"$f":"IF(ISNA(VLOOKUP(BT31,Divipolas!$A$2:$B$1123,2,FALSE)),\"\",VLOOKUP(BT31,Divipolas!$A$2:$B$1123,2,FALSE))","v":""},null,{"$f":"IF(ISNA(VLOOKUP((CONCATENATE(BT31,BV31)),Divipolas!$F$2:$G$1123,2,FALSE)),\"\",VLOOKUP((CONCATENATE(BT31,BV31)),Divipolas!$F$2:$G$1123,2,FALSE))","v":""},null,null,null,null,null,null,null,null,null,null,null,null,null,null,null,null,null,null,null,null,null,null,null,"",null,null,null,null,null,null,null,null,null,null,null,null,null,null,null,null,null,null,null,null,null,null,null,null,null,null,null,null,null,null,null,null,null,null,null,null,null,null,null,null,null,null,null,null,null,null,null,null,null,null,null,null,null,null,null,null,null,null,null,null,null,null,null,null,null,null,null,null,null,null,null,null,null,null,null,null,"",null,null,null,null,null,null,null,"VERIFIQUE FECHAS",null,null,null,null,null,null,null,null,null,"VERIFIQUE COLUMNA D"]
["","",null,"",{"$f":"IFERROR(VLOOKUP(D32,'CODIGO REGIONALES'!$J$2:$L$33,3,0),\"\")","v":""},"",{"$f":"IF(ISNA(VLOOKUP(F32,Divipolas!$A$2:$B$1123,2,FALSE)),\"\",VLOOKUP(F32,Divipolas!$A$2:$B$1123,2,FALSE))","v":""},"",{"$f":"IF(ISNA(VLOOKUP((CONCATENATE(F32,H32)),Divipolas!$F$2:$G$1123,2,FALSE)),\"\",VLOOKUP((CONCATENATE(F32,H32)),Divipolas!$F$2:$G$1123,2,FALSE))","v":""},"","","","","","","","",{"$f":"IF(ISNA(VLOOKUP(Q32,Divipolas!$A$2:$B$1123,2,FALSE)),\"\",VLOOKUP(Q32,Divipolas!$A$2:$B$1123,2,FALSE))","v":""},"",{"$f":"IF(ISNA(VLOOKUP((CONCATENATE(Q32,S32)),Divipolas!$F$2:$G$1123,2,FALSE)),\"\",VLOOKUP((CONCATENATE(Q32,S32)),Divipolas!$F$2:$G$1123,2,FALSE))","v":""},"","","","","","",{"$f":"IF(ISNA(VLOOKUP(Z32,'CODIGO PAIS'!$A$2:$B$231,2,FALSE)),\"\",VLOOKUP(Z32,'CODIGO PAIS'!$A$2:$B$231,2,FALSE))","v":""},"",{"$f":"IF(ISNA(VLOOKUP(AB32,Divipolas!$A$2:$B$1123,2,FALSE)),\"\",VLOOKUP(AB32,Divipolas!$A$2:$B$1123,2,FALSE))","v":""},"",{"$f":"IF(ISNA(VLOOKUP((CONCATENATE(AB32,AD32)),Divipolas!$F$2:$G$1123,2,FALSE)),\"\",VLOOKUP((CONCATENATE(AB32,AD32)),Divipolas!$F$2:$G$1123,2,FALSE))","v":""},"","","","","",{"$f":"IF(ISNA(VLOOKUP(AJ32,Divipolas!$A$2:$B$1123,2,FALSE)),\"\",VLOOKUP(AJ32,Divipolas!$A$2:$B$1123,2,FALSE))","v":""},"",{"$f":"IF(ISNA(VLOOKUP((CONCATENATE(AJ32,AL32)),Divipolas!$F$2:$G$1123,2,FALSE)),\"\",VLOOKUP((CONCATENATE(AJ32,AL32)),Divipolas!$F$2:$G$1123,2,FALSE))","v":""},"","","","","","","","","","","","","","",null,null,null,null,null,null,null,{"$f":"IF(ISNA(VLOOKUP(BH32,'CODIGO PAIS'!$A$2:$B$231,2,FALSE)),\"\",VLOOKUP(BH32,'CODIGO PAIS'!$A$2:$B$231,2,FALSE))","v":""},null,{"$f":"IF(ISNA(VLOOKUP(BJ32,Divipolas!$A$2:$B$1123,2,FALSE)),\"\",VLOOKUP(BJ32,Divipolas!$A$2:$B$1123,2,FALSE))","v":""},null,{"$f":"IF(ISNA(VLOOKUP((CONCATENATE(BJ32,BL32)),Divipolas!$F$2:$G$1123,2,FALSE)),\"\",VLOOKUP((CONCATENATE(BJ32,BL32)),Divipolas!$F$2:$G$1123,2,FALSE))","v":""},null,"","",null,null,null,null,{"$f":"IF(ISNA(VLOOKUP(BT32,Divipolas!$A$2:$B$1123,2,FALSE)),\"\",VLOOKUP(BT32,Divipolas!$A$2:$B$1123,2,FALSE))","v":""},null,{"$f":"IF(ISNA(VLOOKUP((CONCATENATE(BT32,BV32)),Divipolas!$F$2:$G$1123,2,FALSE)),\"\",VLOOKUP((CONCATENATE(BT32,BV32)),Divipolas!$F$2:$G$1123,2,FALSE))","v":""},null,null,null,null,null,null,null,null,null,null,null,null,null,null,null,null,null,null,null,null,null,null,null,"",null,null,null,null,null,null,null,null,null,null,null,null,null,null,null,null,null,null,null,null,null,null,null,null,null,null,null,null,null,null,null,null,null,null,null,null,null,null,null,null,null,null,null,null,null,null,null,null,null,null,null,null,null,null,null,null,null,null,null,null,null,null,null,null,null,null,null,null,null,null,null,null,null,null,null,null,"",null,null,null,null,null,null,null,"VERIFIQUE FECHAS",null,null,null,null,null,null,null,null,null,"VERIFIQUE COLUMNA D"]
["","",null,"",{"$f":"IFERROR(VLOOKUP(D33,'CODIGO REGIONALES'!$J$2:$L$33,3,0),\"\")","v":""},"",{"$f":"IF(ISNA(VLOOKUP(F33,Divipolas!$A$2:$B$1123,2,FALSE)),\"\",VLOOKUP(F33,Divipolas!$A$2:$B$1123,2,FALSE))","v":""},"",{"$f":"IF(ISNA(VLOOKUP((CONCATENATE(F33,H33)),Divipolas!$F$2:$G$1123,2,FALSE)),\"\",VLOOKUP((CONCATENATE(F33,H33)),Divipolas!$F$2:$G$1123,2,FALSE))","v":""},"","","","","","","","",{"$f":"IF(ISNA(VLOOKUP(Q33,Divipolas!$A$2:$B$1123,2,FALSE)),\"\",VLOOKUP(Q33,Divipolas!$A$2:$B$1123,2,FALSE))","v":""},"",{"$f":"IF(ISNA(VLOOKUP((CONCATENATE(Q33,S33)),Divipolas!$F$2:$G$1123,2,FALSE)),\"\",VLOOKUP((CONCATENATE(Q33,S33)),Divipolas!$F$2:$G$1123,2,FALSE))","v":""},"","","","","","",{"$f":"IF(ISNA(VLOOKUP(Z33,'CODIGO PAIS'!$A$2:$B$231,2,FALSE)),\"\",VLOOKUP(Z33,'CODIGO PAIS'!$A$2:$B$231,2,FALSE))","v":""},"",{"$f":"IF(ISNA(VLOOKUP(AB33,Divipolas!$A$2:$B$1123,2,FALSE)),\"\",VLOOKUP(AB33,Divipolas!$A$2:$B$1123,2,FALSE))","v":""},"",{"$f":"IF(ISNA(VLOOKUP((CONCATENATE(AB33,AD33)),Divipolas!$F$2:$G$1123,2,FALSE)),\"\",VLOOKUP((CONCATENATE(AB33,AD33)),Divipolas!$F$2:$G$1123,2,FALSE))","v":""},"","","","","",{"$f":"IF(ISNA(VLOOKUP(AJ33,Divipolas!$A$2:$B$1123,2,FALSE)),\"\",VLOOKUP(AJ33,Divipolas!$A$2:$B$1123,2,FALSE))","v":""},"",{"$f":"IF(ISNA(VLOOKUP((CONCATENATE(AJ33,AL33)),Divipolas!$F$2:$G$1123,2,FALSE)),\"\",VLOOKUP((CONCATENATE(AJ33,AL33)),Divipolas!$F$2:$G$1123,2,FALSE))","v":""},"","","","","","","","","","","","","","",null,null,null,null,null,null,null,{"$f":"IF(ISNA(VLOOKUP(BH33,'CODIGO PAIS'!$A$2:$B$231,2,FALSE)),\"\",VLOOKUP(BH33,'CODIGO PAIS'!$A$2:$B$231,2,FALSE))","v":""},null,{"$f":"IF(ISNA(VLOOKUP(BJ33,Divipolas!$A$2:$B$1123,2,FALSE)),\"\",VLOOKUP(BJ33,Divipolas!$A$2:$B$1123,2,FALSE))","v":""},null,{"$f":"IF(ISNA(VLOOKUP((CONCATENATE(BJ33,BL33)),Divipolas!$F$2:$G$1123,2,FALSE)),\"\",VLOOKUP((CONCATENATE(BJ33,BL33)),Divipolas!$F$2:$G$1123,2,FALSE))","v":""},null,"","",null,null,null,null,{"$f":"IF(ISNA(VLOOKUP(BT33,Divipolas!$A$2:$B$1123,2,FALSE)),\"\",VLOOKUP(BT33,Divipolas!$A$2:$B$1123,2,FALSE))","v":""},null,{"$f":"IF(ISNA(VLOOKUP((CONCATENATE(BT33,BV33)),Divipolas!$F$2:$G$1123,2,FALSE)),\"\",VLOOKUP((CONCATENATE(BT33,BV33)),Divipolas!$F$2:$G$1123,2,FALSE))","v":""},null,null,null,null,null,null,null,null,null,null,null,null,null,null,null,null,null,null,null,null,null,null,null,"",null,null,null,null,null,null,null,null,null,null,null,null,null,null,null,null,null,null,null,null,null,null,null,null,null,null,null,null,null,null,null,null,null,null,null,null,null,null,null,null,null,null,null,null,null,null,null,null,null,null,null,null,null,null,null,null,null,null,null,null,null,null,null,null,null,null,null,null,null,null,null,null,null,null,null,null,"",null,null,null,null,null,null,null,"VERIFIQUE FECHAS",null,null,null,null,null,null,null,null,null,"VERIFIQUE COLUMNA D"]
["","",null,"",{"$f":"IFERROR(VLOOKUP(D34,'CODIGO REGIONALES'!$J$2:$L$33,3,0),\"\")","v":""},"",{"$f":"IF(ISNA(VLOOKUP(F34,Divipolas!$A$2:$B$1123,2,FALSE)),\"\",VLOOKUP(F34,Divipolas!$A$2:$B$1123,2,FALSE))","v":""},"",{"$f":"IF(ISNA(VLOOKUP((CONCATENATE(F34,H34)),Divipolas!$F$2:$G$1123,2,FALSE)),\"\",VLOOKUP((CONCATENATE(F34,H34)),Divipolas!$F$2:$G$1123,2,FALSE))","v":""},"","","","","","","","",{"$f":"IF(ISNA(VLOOKUP(Q34,Divipolas!$A$2:$B$1123,2,FALSE)),\"\",VLOOKUP(Q34,Divipolas!$A$2:$B$1123,2,FALSE))","v":""},"",{"$f":"IF(ISNA(VLOOKUP((CONCATENATE(Q34,S34)),Divipolas!$F$2:$G$1123,2,FALSE)),\"\",VLOOKUP((CONCATENATE(Q34,S34)),Divipolas!$F$2:$G$1123,2,FALSE))","v":""},"","","","","","",{"$f":"IF(ISNA(VLOOKUP(Z34,'CODIGO PAIS'!$A$2:$B$231,2,FALSE)),\"\",VLOOKUP(Z34,'CODIGO PAIS'!$A$2:$B$231,2,FALSE))","v":""},"",{"$f":"IF(ISNA(VLOOKUP(AB34,Divipolas!$A$2:$B$1123,2,FALSE)),\"\",VLOOKUP(AB34,Divipolas!$A$2:$B$1123,2,FALSE))","v":""},"",{"$f":"IF(ISNA(VLOOKUP((CONCATENATE(AB34,AD34)),Divipolas!$F$2:$G$1123,2,FALSE)),\"\",VLOOKUP((CONCATENATE(AB34,AD34)),Divipolas!$F$2:$G$1123,2,FALSE))","v":""},"","","","","",{"$f":"IF(ISNA(VLOOKUP(AJ34,Divipolas!$A$2:$B$1123,2,FALSE)),\"\",VLOOKUP(AJ34,Divipolas!$A$2:$B$1123,2,FALSE))","v":""},"",{"$f":"IF(ISNA(VLOOKUP((CONCATENATE(AJ34,AL34)),Divipolas!$F$2:$G$1123,2,FALSE)),\"\",VLOOKUP((CONCATENATE(AJ34,AL34)),Divipolas!$F$2:$G$1123,2,FALSE))","v":""},"","","","","","","","","","","","","","",null,null,null,null,null,null,null,{"$f":"IF(ISNA(VLOOKUP(BH34,'CODIGO PAIS'!$A$2:$B$231,2,FALSE)),\"\",VLOOKUP(BH34,'CODIGO PAIS'!$A$2:$B$231,2,FALSE))","v":""},null,{"$f":"IF(ISNA(VLOOKUP(BJ34,Divipolas!$A$2:$B$1123,2,FALSE)),\"\",VLOOKUP(BJ34,Divipolas!$A$2:$B$1123,2,FALSE))","v":""},null,{"$f":"IF(ISNA(VLOOKUP((CONCATENATE(BJ34,BL34)),Divipolas!$F$2:$G$1123,2,FALSE)),\"\",VLOOKUP((CONCATENATE(BJ34,BL34)),Divipolas!$F$2:$G$1123,2,FALSE))","v":""},null,"","",null,null,null,null,{"$f":"IF(ISNA(VLOOKUP(BT34,Divipolas!$A$2:$B$1123,2,FALSE)),\"\",VLOOKUP(BT34,Divipolas!$A$2:$B$1123,2,FALSE))","v":""},null,{"$f":"IF(ISNA(VLOOKUP((CONCATENATE(BT34,BV34)),Divipolas!$F$2:$G$1123,2,FALSE)),\"\",VLOOKUP((CONCATENATE(BT34,BV34)),Divipolas!$F$2:$G$1123,2,FALSE))","v":""},null,null,null,null,null,null,null,null,null,null,null,null,null,null,null,null,null,null,null,null,null,null,null,"",null,null,null,null,null,null,null,null,null,null,null,null,null,null,null,null,null,null,null,null,null,null,null,null,null,null,null,null,null,null,null,null,null,null,null,null,null,null,null,null,null,null,null,null,null,null,null,null,null,null,null,null,null,null,null,null,null,null,null,null,null,null,null,null,null,null,null,null,null,null,null,null,null,null,null,null,"",null,null,null,null,null,null,null,"VERIFIQUE FECHAS",null,null,null,null,null,null,null,null,null,"VERIFIQUE COLUMNA D"]
["","",null,"",{"$f":"IFERROR(VLOOKUP(D35,'CODIGO REGIONALES'!$J$2:$L$33,3,0),\"\")","v":""},"",{"$f":"IF(ISNA(VLOOKUP(F35,Divipolas!$A$2:$B$1123,2,FALSE)),\"\",VLOOKUP(F35,Divipolas!$A$2:$B$1123,2,FALSE))","v":""},"",{"$f":"IF(ISNA(VLOOKUP((CONCATENATE(F35,H35)),Divipolas!$F$2:$G$1123,2,FALSE)),\"\",VLOOKUP((CONCATENATE(F35,H35)),Divipolas!$F$2:$G$1123,2,FALSE))","v":""},"","","","","","","","",{"$f":"IF(ISNA(VLOOKUP(Q35,Divipolas!$A$2:$B$1123,2,FALSE)),\"\",VLOOKUP(Q35,Divipolas!$A$2:$B$1123,2,FALSE))","v":""},"",{"$f":"IF(ISNA(VLOOKUP((CONCATENATE(Q35,S35)),Divipolas!$F$2:$G$1123,2,FALSE)),\"\",VLOOKUP((CONCATENATE(Q35,S35)),Divipolas!$F$2:$G$1123,2,FALSE))","v":""},"","","","","","",{"$f":"IF(ISNA(VLOOKUP(Z35,'CODIGO PAIS'!$A$2:$B$231,2,FALSE)),\"\",VLOOKUP(Z35,'CODIGO PAIS'!$A$2:$B$231,2,FALSE))","v":""},"",{"$f":"IF(ISNA(VLOOKUP(AB35,Divipolas!$A$2:$B$1123,2,FALSE)),\"\",VLOOKUP(AB35,Divipolas!$A$2:$B$1123,2,FALSE))","v":""},"",{"$f":"IF(ISNA(VLOOKUP((CONCATENATE(AB35,AD35)),Divipolas!$F$2:$G$1123,2,FALSE)),\"\",VLOOKUP((CONCATENATE(AB35,AD35)),Divipolas!$F$2:$G$1123,2,FALSE))","v":""},"","","","","",{"$f":"IF(ISNA(VLOOKUP(AJ35,Divipolas!$A$2:$B$1123,2,FALSE)),\"\",VLOOKUP(AJ35,Divipolas!$A$2:$B$1123,2,FALSE))","v":""},"",{"$f":"IF(ISNA(VLOOKUP((CONCATENATE(AJ35,AL35)),Divipolas!$F$2:$G$1123,2,FALSE)),\"\",VLOOKUP((CONCATENATE(AJ35,AL35)),Divipolas!$F$2:$G$1123,2,FALSE))","v":""},"","","","","","","","","","","","","","",null,null,null,null,null,null,null,{"$f":"IF(ISNA(VLOOKUP(BH35,'CODIGO PAIS'!$A$2:$B$231,2,FALSE)),\"\",VLOOKUP(BH35,'CODIGO PAIS'!$A$2:$B$231,2,FALSE))","v":""},null,{"$f":"IF(ISNA(VLOOKUP(BJ35,Divipolas!$A$2:$B$1123,2,FALSE)),\"\",VLOOKUP(BJ35,Divipolas!$A$2:$B$1123,2,FALSE))","v":""},null,{"$f":"IF(ISNA(VLOOKUP((CONCATENATE(BJ35,BL35)),Divipolas!$F$2:$G$1123,2,FALSE)),\"\",VLOOKUP((CONCATENATE(BJ35,BL35)),Divipolas!$F$2:$G$1123,2,FALSE))","v":""},null,"","",null,null,null,null,{"$f":"IF(ISNA(VLOOKUP(BT35,Divipolas!$A$2:$B$1123,2,FALSE)),\"\",VLOOKUP(BT35,Divipolas!$A$2:$B$1123,2,FALSE))","v":""},null,{"$f":"IF(ISNA(VLOOKUP((CONCATENATE(BT35,BV35)),Divipolas!$F$2:$G$1123,2,FALSE)),\"\",VLOOKUP((CONCATENATE(BT35,BV35)),Divipolas!$F$2:$G$1123,2,FALSE))","v":""},null,null,null,null,null,null,null,null,null,null,null,null,null,null,null,null,null,null,null,null,null,null,null,"",null,null,null,null,null,null,null,null,null,null,null,null,null,null,null,null,null,null,null,null,null,null,null,null,null,null,null,null,null,null,null,null,null,null,null,null,null,null,null,null,null,null,null,null,null,null,null,null,null,null,null,null,null,null,null,null,null,null,null,null,null,null,null,null,null,null,null,null,null,null,null,null,null,null,null,null,"",null,null,null,null,null,null,null,"VERIFIQUE FECHAS",null,null,null,null,null,null,null,null,null,"VERIFIQUE COLUMNA D"]
["","",null,"",{"$f":"IFERROR(VLOOKUP(D36,'CODIGO REGIONALES'!$J$2:$L$33,3,0),\"\")","v":""},"",{"$f":"IF(ISNA(VLOOKUP(F36,Divipolas!$A$2:$B$1123,2,FALSE)),\"\",VLOOKUP(F36,Divipolas!$A$2:$B$1123,2,FALSE))","v":""},"",{"$f":"IF(ISNA(VLOOKUP((CONCATENATE(F36,H36)),Divipolas!$F$2:$G$1123,2,FALSE)),\"\",VLOOKUP((CONCATENATE(F36,H36)),Divipolas!$F$2:$G$1123,2,FALSE))","v":""},"","","","","","","","",{"$f":"IF(ISNA(VLOOKUP(Q36,Divipolas!$A$2:$B$1123,2,FALSE)),\"\",VLOOKUP(Q36,Divipolas!$A$2:$B$1123,2,FALSE))","v":""},"",{"$f":"IF(ISNA(VLOOKUP((CONCATENATE(Q36,S36)),Divipolas!$F$2:$G$1123,2,FALSE)),\"\",VLOOKUP((CONCATENATE(Q36,S36)),Divipolas!$F$2:$G$1123,2,FALSE))","v":""},"","","","","","",{"$f":"IF(ISNA(VLOOKUP(Z36,'CODIGO PAIS'!$A$2:$B$231,2,FALSE)),\"\",VLOOKUP(Z36,'CODIGO PAIS'!$A$2:$B$231,2,FALSE))","v":""},"",{"$f":"IF(ISNA(VLOOKUP(AB36,Divipolas!$A$2:$B$1123,2,FALSE)),\"\",VLOOKUP(AB36,Divipolas!$A$2:$B$1123,2,FALSE))","v":""},"",{"$f":"IF(ISNA(VLOOKUP((CONCATENATE(AB36,AD36)),Divipolas!$F$2:$G$1123,2,FALSE)),\"\",VLOOKUP((CONCATENATE(AB36,AD36)),Divipolas!$F$2:$G$1123,2,FALSE))","v":""},"","","","","",{"$f":"IF(ISNA(VLOOKUP(AJ36,Divipolas!$A$2:$B$1123,2,FALSE)),\"\",VLOOKUP(AJ36,Divipolas!$A$2:$B$1123,2,FALSE))","v":""},"",{"$f":"IF(ISNA(VLOOKUP((CONCATENATE(AJ36,AL36)),Divipolas!$F$2:$G$1123,2,FALSE)),\"\",VLOOKUP((CONCATENATE(AJ36,AL36)),Divipolas!$F$2:$G$1123,2,FALSE))","v":""},"","","","","","","","","","","","","","",null,null,null,null,null,null,null,{"$f":"IF(ISNA(VLOOKUP(BH36,'CODIGO PAIS'!$A$2:$B$231,2,FALSE)),\"\",VLOOKUP(BH36,'CODIGO PAIS'!$A$2:$B$231,2,FALSE))","v":""},null,{"$f":"IF(ISNA(VLOOKUP(BJ36,Divipolas!$A$2:$B$1123,2,FALSE)),\"\",VLOOKUP(BJ36,Divipolas!$A$2:$B$1123,2,FALSE))","v":""},null,{"$f":"IF(ISNA(VLOOKUP((CONCATENATE(BJ36,BL36)),Divipolas!$F$2:$G$1123,2,FALSE)),\"\",VLOOKUP((CONCATENATE(BJ36,BL36)),Divipolas!$F$2:$G$1123,2,FALSE))","v":""},null,"","",null,null,null,null,{"$f":"IF(ISNA(VLOOKUP(BT36,Divipolas!$A$2:$B$1123,2,FALSE)),\"\",VLOOKUP(BT36,Divipolas!$A$2:$B$1123,2,FALSE))","v":""},null,{"$f":"IF(ISNA(VLOOKUP((CONCATENATE(BT36,BV36)),Divipolas!$F$2:$G$1123,2,FALSE)),\"\",VLOOKUP((CONCATENATE(BT36,BV36)),Divipolas!$F$2:$G$1123,2,FALSE))","v":""},null,null,null,null,null,null,null,null,null,null,null,null,null,null,null,null,null,null,null,null,null,null,null,"",null,null,null,null,null,null,null,null,null,null,null,null,null,null,null,null,null,null,null,null,null,null,null,null,null,null,null,null,null,null,null,null,null,null,null,null,null,null,null,null,null,null,null,null,null,null,null,null,null,null,null,null,null,null,null,null,null,null,null,null,null,null,null,null,null,null,null,null,null,null,null,null,null,null,null,null,"",null,null,null,null,null,null,null,"VERIFIQUE FECHAS",null,null,null,null,null,null,null,null,null,"VERIFIQUE COLUMNA D"]
["","",null,"",{"$f":"IFERROR(VLOOKUP(D37,'CODIGO REGIONALES'!$J$2:$L$33,3,0),\"\")","v":""},"",{"$f":"IF(ISNA(VLOOKUP(F37,Divipolas!$A$2:$B$1123,2,FALSE)),\"\",VLOOKUP(F37,Divipolas!$A$2:$B$1123,2,FALSE))","v":""},"",{"$f":"IF(ISNA(VLOOKUP((CONCATENATE(F37,H37)),Divipolas!$F$2:$G$1123,2,FALSE)),\"\",VLOOKUP((CONCATENATE(F37,H37)),Divipolas!$F$2:$G$1123,2,FALSE))","v":""},"","","","","","","","",{"$f":"IF(ISNA(VLOOKUP(Q37,Divipolas!$A$2:$B$1123,2,FALSE)),\"\",VLOOKUP(Q37,Divipolas!$A$2:$B$1123,2,FALSE))","v":""},"",{"$f":"IF(ISNA(VLOOKUP((CONCATENATE(Q37,S37)),Divipolas!$F$2:$G$1123,2,FALSE)),\"\",VLOOKUP((CONCATENATE(Q37,S37)),Divipolas!$F$2:$G$1123,2,FALSE))","v":""},"","","","","","",{"$f":"IF(ISNA(VLOOKUP(Z37,'CODIGO PAIS'!$A$2:$B$231,2,FALSE)),\"\",VLOOKUP(Z37,'CODIGO PAIS'!$A$2:$B$231,2,FALSE))","v":""},"",{"$f":"IF(ISNA(VLOOKUP(AB37,Divipolas!$A$2:$B$1123,2,FALSE)),\"\",VLOOKUP(AB37,Divipolas!$A$2:$B$1123,2,FALSE))","v":""},"",{"$f":"IF(ISNA(VLOOKUP((CONCATENATE(AB37,AD37)),Divipolas!$F$2:$G$1123,2,FALSE)),\"\",VLOOKUP((CONCATENATE(AB37,AD37)),Divipolas!$F$2:$G$1123,2,FALSE))","v":""},"","","","","",{"$f":"IF(ISNA(VLOOKUP(AJ37,Divipolas!$A$2:$B$1123,2,FALSE)),\"\",VLOOKUP(AJ37,Divipolas!$A$2:$B$1123,2,FALSE))","v":""},"",{"$f":"IF(ISNA(VLOOKUP((CONCATENATE(AJ37,AL37)),Divipolas!$F$2:$G$1123,2,FALSE)),\"\",VLOOKUP((CONCATENATE(AJ37,AL37)),Divipolas!$F$2:$G$1123,2,FALSE))","v":""},"","","","","","","","","","","","","","",null,null,null,null,null,null,null,{"$f":"IF(ISNA(VLOOKUP(BH37,'CODIGO PAIS'!$A$2:$B$231,2,FALSE)),\"\",VLOOKUP(BH37,'CODIGO PAIS'!$A$2:$B$231,2,FALSE))","v":""},null,{"$f":"IF(ISNA(VLOOKUP(BJ37,Divipolas!$A$2:$B$1123,2,FALSE)),\"\",VLOOKUP(BJ37,Divipolas!$A$2:$B$1123,2,FALSE))","v":""},null,{"$f":"IF(ISNA(VLOOKUP((CONCATENATE(BJ37,BL37)),Divipolas!$F$2:$G$1123,2,FALSE)),\"\",VLOOKUP((CONCATENATE(BJ37,BL37)),Divipolas!$F$2:$G$1123,2,FALSE))","v":""},null,"","",null,null,null,null,{"$f":"IF(ISNA(VLOOKUP(BT37,Divipolas!$A$2:$B$1123,2,FALSE)),\"\",VLOOKUP(BT37,Divipolas!$A$2:$B$1123,2,FALSE))","v":""},null,{"$f":"IF(ISNA(VLOOKUP((CONCATENATE(BT37,BV37)),Divipolas!$F$2:$G$1123,2,FALSE)),\"\",VLOOKUP((CONCATENATE(BT37,BV37)),Divipolas!$F$2:$G$1123,2,FALSE))","v":""},null,null,null,null,null,null,null,null,null,null,null,null,null,null,null,null,null,null,null,null,null,null,null,"",null,null,null,null,null,null,null,null,null,null,null,null,null,null,null,null,null,null,null,null,null,null,null,null,null,null,null,null,null,null,null,null,null,null,null,null,null,null,null,null,null,null,null,null,null,null,null,null,null,null,null,null,null,null,null,null,null,null,null,null,null,null,null,null,null,null,null,null,null,null,null,null,null,null,null,null,"",null,null,null,null,null,null,null,"VERIFIQUE FECHAS",null,null,null,null,null,null,null,null,null,"VERIFIQUE COLUMNA D"]
["","",null,"",{"$f":"IFERROR(VLOOKUP(D38,'CODIGO REGIONALES'!$J$2:$L$33,3,0),\"\")","v":""},"",{"$f":"IF(ISNA(VLOOKUP(F38,Divipolas!$A$2:$B$1123,2,FALSE)),\"\",VLOOKUP(F38,Divipolas!$A$2:$B$1123,2,FALSE))","v":""},"",{"$f":"IF(ISNA(VLOOKUP((CONCATENATE(F38,H38)),Divipolas!$F$2:$G$1123,2,FALSE)),\"\",VLOOKUP((CONCATENATE(F38,H38)),Divipolas!$F$2:$G$1123,2,FALSE))","v":""},"","","","","","","","",{"$f":"IF(ISNA(VLOOKUP(Q38,Divipolas!$A$2:$B$1123,2,FALSE)),\"\",VLOOKUP(Q38,Divipolas!$A$2:$B$1123,2,FALSE))","v":""},"",{"$f":"IF(ISNA(VLOOKUP((CONCATENATE(Q38,S38)),Divipolas!$F$2:$G$1123,2,FALSE)),\"\",VLOOKUP((CONCATENATE(Q38,S38)),Divipolas!$F$2:$G$1123,2,FALSE))","v":""},"","","","","","",{"$f":"IF(ISNA(VLOOKUP(Z38,'CODIGO PAIS'!$A$2:$B$231,2,FALSE)),\"\",VLOOKUP(Z38,'CODIGO PAIS'!$A$2:$B$231,2,FALSE))","v":""},"",{"$f":"IF(ISNA(VLOOKUP(AB38,Divipolas!$A$2:$B$1123,2,FALSE)),\"\",VLOOKUP(AB38,Divipolas!$A$2:$B$1123,2,FALSE))","v":""},"",{"$f":"IF(ISNA(VLOOKUP((CONCATENATE(AB38,AD38)),Divipolas!$F$2:$G$1123,2,FALSE)),\"\",VLOOKUP((CONCATENATE(AB38,AD38)),Divipolas!$F$2:$G$1123,2,FALSE))","v":""},"","","","","",{"$f":"IF(ISNA(VLOOKUP(AJ38,Divipolas!$A$2:$B$1123,2,FALSE)),\"\",VLOOKUP(AJ38,Divipolas!$A$2:$B$1123,2,FALSE))","v":""},"",{"$f":"IF(ISNA(VLOOKUP((CONCATENATE(AJ38,AL38)),Divipolas!$F$2:$G$1123,2,FALSE)),\"\",VLOOKUP((CONCATENATE(AJ38,AL38)),Divipolas!$F$2:$G$1123,2,FALSE))","v":""},"","","","","","","","","","","","","","",null,null,null,null,null,null,null,{"$f":"IF(ISNA(VLOOKUP(BH38,'CODIGO PAIS'!$A$2:$B$231,2,FALSE)),\"\",VLOOKUP(BH38,'CODIGO PAIS'!$A$2:$B$231,2,FALSE))","v":""},null,{"$f":"IF(ISNA(VLOOKUP(BJ38,Divipolas!$A$2:$B$1123,2,FALSE)),\"\",VLOOKUP(BJ38,Divipolas!$A$2:$B$1123,2,FALSE))","v":""},null,{"$f":"IF(ISNA(VLOOKUP((CONCATENATE(BJ38,BL38)),Divipolas!$F$2:$G$1123,2,FALSE)),\"\",VLOOKUP((CONCATENATE(BJ38,BL38)),Divipolas!$F$2:$G$1123,2,FALSE))","v":""},null,"","",null,null,null,null,{"$f":"IF(ISNA(VLOOKUP(BT38,Divipolas!$A$2:$B$1123,2,FALSE)),\"\",VLOOKUP(BT38,Divipolas!$A$2:$B$1123,2,FALSE))","v":""},null,{"$f":"IF(ISNA(VLOOKUP((CONCATENATE(BT38,BV38)),Divipolas!$F$2:$G$1123,2,FALSE)),\"\",VLOOKUP((CONCATENATE(BT38,BV38)),Divipolas!$F$2:$G$1123,2,FALSE))","v":""},null,null,null,null,null,null,null,null,null,null,null,null,null,null,null,null,null,null,null,null,null,null,null,"",null,null,null,null,null,null,null,null,null,null,null,null,null,null,null,null,null,null,null,null,null,null,null,null,null,null,null,null,null,null,null,null,null,null,null,null,null,null,null,null,null,null,null,null,null,null,null,null,null,null,null,null,null,null,null,null,null,null,null,null,null,null,null,null,null,null,null,null,null,null,null,null,null,null,null,null,"",null,null,null,null,null,null,null,"VERIFIQUE FECHAS",null,null,null,null,null,null,null,null,null,"VERIFIQUE COLUMNA D"]
["","",null,"",{"$f":"IFERROR(VLOOKUP(D39,'CODIGO REGIONALES'!$J$2:$L$33,3,0),\"\")","v":""},"",{"$f":"IF(ISNA(VLOOKUP(F39,Divipolas!$A$2:$B$1123,2,FALSE)),\"\",VLOOKUP(F39,Divipolas!$A$2:$B$1123,2,FALSE))","v":""},"",{"$f":"IF(ISNA(VLOOKUP((CONCATENATE(F39,H39)),Divipolas!$F$2:$G$1123,2,FALSE)),\"\",VLOOKUP((CONCATENATE(F39,H39)),Divipolas!$F$2:$G$1123,2,FALSE))","v":""},"","","","","","","","",{"$f":"IF(ISNA(VLOOKUP(Q39,Divipolas!$A$2:$B$1123,2,FALSE)),\"\",VLOOKUP(Q39,Divipolas!$A$2:$B$1123,2,FALSE))","v":""},"",{"$f":"IF(ISNA(VLOOKUP((CONCATENATE(Q39,S39)),Divipolas!$F$2:$G$1123,2,FALSE)),\"\",VLOOKUP((CONCATENATE(Q39,S39)),Divipolas!$F$2:$G$1123,2,FALSE))","v":""},"","","","","","",{"$f":"IF(ISNA(VLOOKUP(Z39,'CODIGO PAIS'!$A$2:$B$231,2,FALSE)),\"\",VLOOKUP(Z39,'CODIGO PAIS'!$A$2:$B$231,2,FALSE))","v":""},"",{"$f":"IF(ISNA(VLOOKUP(AB39,Divipolas!$A$2:$B$1123,2,FALSE)),\"\",VLOOKUP(AB39,Divipolas!$A$2:$B$1123,2,FALSE))","v":""},"",{"$f":"IF(ISNA(VLOOKUP((CONCATENATE(AB39,AD39)),Divipolas!$F$2:$G$1123,2,FALSE)),\"\",VLOOKUP((CONCATENATE(AB39,AD39)),Divipolas!$F$2:$G$1123,2,FALSE))","v":""},"","","","","",{"$f":"IF(ISNA(VLOOKUP(AJ39,Divipolas!$A$2:$B$1123,2,FALSE)),\"\",VLOOKUP(AJ39,Divipolas!$A$2:$B$1123,2,FALSE))","v":""},"",{"$f":"IF(ISNA(VLOOKUP((CONCATENATE(AJ39,AL39)),Divipolas!$F$2:$G$1123,2,FALSE)),\"\",VLOOKUP((CONCATENATE(AJ39,AL39)),Divipolas!$F$2:$G$1123,2,FALSE))","v":""},"","","","","","","","","","","","","","",null,null,null,null,null,null,null,{"$f":"IF(ISNA(VLOOKUP(BH39,'CODIGO PAIS'!$A$2:$B$231,2,FALSE)),\"\",VLOOKUP(BH39,'CODIGO PAIS'!$A$2:$B$231,2,FALSE))","v":""},null,{"$f":"IF(ISNA(VLOOKUP(BJ39,Divipolas!$A$2:$B$1123,2,FALSE)),\"\",VLOOKUP(BJ39,Divipolas!$A$2:$B$1123,2,FALSE))","v":""},null,{"$f":"IF(ISNA(VLOOKUP((CONCATENATE(BJ39,BL39)),Divipolas!$F$2:$G$1123,2,FALSE)),\"\",VLOOKUP((CONCATENATE(BJ39,BL39)),Divipolas!$F$2:$G$1123,2,FALSE))","v":""},null,"","",null,null,null,null,{"$f":"IF(ISNA(VLOOKUP(BT39,Divipolas!$A$2:$B$1123,2,FALSE)),\"\",VLOOKUP(BT39,Divipolas!$A$2:$B$1123,2,FALSE))","v":""},null,{"$f":"IF(ISNA(VLOOKUP((CONCATENATE(BT39,BV39)),Divipolas!$F$2:$G$1123,2,FALSE)),\"\",VLOOKUP((CONCATENATE(BT39,BV39)),Divipolas!$F$2:$G$1123,2,FALSE))","v":""},null,null,null,null,null,null,null,null,null,null,null,null,null,null,null,null,null,null,null,null,null,null,null,"",null,null,null,null,null,null,null,null,null,null,null,null,null,null,null,null,null,null,null,null,null,null,null,null,null,null,null,null,null,null,null,null,null,null,null,null,null,null,null,null,null,null,null,null,null,null,null,null,null,null,null,null,null,null,null,null,null,null,null,null,null,null,null,null,null,null,null,null,null,null,null,null,null,null,null,null,"",null,null,null,null,null,null,null,"VERIFIQUE FECHAS",null,null,null,null,null,null,null,null,null,"VERIFIQUE COLUMNA D"]
["","",null,"",{"$f":"IFERROR(VLOOKUP(D40,'CODIGO REGIONALES'!$J$2:$L$33,3,0),\"\")","v":""},"",{"$f":"IF(ISNA(VLOOKUP(F40,Divipolas!$A$2:$B$1123,2,FALSE)),\"\",VLOOKUP(F40,Divipolas!$A$2:$B$1123,2,FALSE))","v":""},"",{"$f":"IF(ISNA(VLOOKUP((CONCATENATE(F40,H40)),Divipolas!$F$2:$G$1123,2,FALSE)),\"\",VLOOKUP((CONCATENATE(F40,H40)),Divipolas!$F$2:$G$1123,2,FALSE))","v":""},"",{"$f":"IF(AND($C40<>\"\",K39<>\"\"),K39,\"\")","v":""},"","","","","","",{"$f":"IF(ISNA(VLOOKUP(Q40,Divipolas!$A$2:$B$1123,2,FALSE)),\"\",VLOOKUP(Q40,Divipolas!$A$2:$B$1123,2,FALSE))","v":""},"",{"$f":"IF(ISNA(VLOOKUP((CONCATENATE(Q40,S40)),Divipolas!$F$2:$G$1123,2,FALSE)),\"\",VLOOKUP((CONCATENATE(Q40,S40)),Divipolas!$F$2:$G$1123,2,FALSE))","v":""},"","","","","","",{"$f":"IF(ISNA(VLOOKUP(Z40,'CODIGO PAIS'!$A$2:$B$231,2,FALSE)),\"\",VLOOKUP(Z40,'CODIGO PAIS'!$A$2:$B$231,2,FALSE))","v":""},"",{"$f":"IF(ISNA(VLOOKUP(AB40,Divipolas!$A$2:$B$1123,2,FALSE)),\"\",VLOOKUP(AB40,Divipolas!$A$2:$B$1123,2,FALSE))","v":""},"",{"$f":"IF(ISNA(VLOOKUP((CONCATENATE(AB40,AD40)),Divipolas!$F$2:$G$1123,2,FALSE)),\"\",VLOOKUP((CONCATENATE(AB40,AD40)),Divipolas!$F$2:$G$1123,2,FALSE))","v":""},"","","","","",{"$f":"IF(ISNA(VLOOKUP(AJ40,Divipolas!$A$2:$B$1123,2,FALSE)),\"\",VLOOKUP(AJ40,Divipolas!$A$2:$B$1123,2,FALSE))","v":""},"",{"$f":"IF(ISNA(VLOOKUP((CONCATENATE(AJ40,AL40)),Divipolas!$F$2:$G$1123,2,FALSE)),\"\",VLOOKUP((CONCATENATE(AJ40,AL40)),Divipolas!$F$2:$G$1123,2,FALSE))","v":""},"","","","","","","","","","","","","","",null,null,null,null,null,null,null,{"$f":"IF(ISNA(VLOOKUP(BH40,'CODIGO PAIS'!$A$2:$B$231,2,FALSE)),\"\",VLOOKUP(BH40,'CODIGO PAIS'!$A$2:$B$231,2,FALSE))","v":""},null,{"$f":"IF(ISNA(VLOOKUP(BJ40,Divipolas!$A$2:$B$1123,2,FALSE)),\"\",VLOOKUP(BJ40,Divipolas!$A$2:$B$1123,2,FALSE))","v":""},null,{"$f":"IF(ISNA(VLOOKUP((CONCATENATE(BJ40,BL40)),Divipolas!$F$2:$G$1123,2,FALSE)),\"\",VLOOKUP((CONCATENATE(BJ40,BL40)),Divipolas!$F$2:$G$1123,2,FALSE))","v":""},null,"","",null,null,null,null,{"$f":"IF(ISNA(VLOOKUP(BT40,Divipolas!$A$2:$B$1123,2,FALSE)),\"\",VLOOKUP(BT40,Divipolas!$A$2:$B$1123,2,FALSE))","v":""},null,{"$f":"IF(ISNA(VLOOKUP((CONCATENATE(BT40,BV40)),Divipolas!$F$2:$G$1123,2,FALSE)),\"\",VLOOKUP((CONCATENATE(BT40,BV40)),Divipolas!$F$2:$G$1123,2,FALSE))","v":""},null,null,null,null,null,null,null,null,null,null,null,null,null,null,null,null,null,null,null,null,null,null,null,"",null,null,null,null,null,null,null,null,null,null,null,null,null,null,null,null,null,null,null,null,null,null,null,null,null,null,null,null,null,null,null,null,null,null,null,null,null,null,null,null,null,null,null,null,null,null,null,null,null,null,null,null,null,null,null,null,null,null,null,null,null,null,null,null,null,null,null,null,null,null,null,null,null,null,null,null,"",null,null,null,null,null,null,null,"VERIFIQUE FECHAS",null,null,null,null,null,null,null,null,null,"VERIFIQUE COLUMNA D"]
["","",null,"",{"$f":"IFERROR(VLOOKUP(D41,'CODIGO REGIONALES'!$J$2:$L$33,3,0),\"\")","v":""},"",{"$f":"IF(ISNA(VLOOKUP(F41,Divipolas!$A$2:$B$1123,2,FALSE)),\"\",VLOOKUP(F41,Divipolas!$A$2:$B$1123,2,FALSE))","v":""},"",{"$f":"IF(ISNA(VLOOKUP((CONCATENATE(F41,H41)),Divipolas!$F$2:$G$1123,2,FALSE)),\"\",VLOOKUP((CONCATENATE(F41,H41)),Divipolas!$F$2:$G$1123,2,FALSE))","v":""},"","","","","","","","",{"$f":"IF(ISNA(VLOOKUP(Q41,Divipolas!$A$2:$B$1123,2,FALSE)),\"\",VLOOKUP(Q41,Divipolas!$A$2:$B$1123,2,FALSE))","v":""},"",{"$f":"IF(ISNA(VLOOKUP((CONCATENATE(Q41,S41)),Divipolas!$F$2:$G$1123,2,FALSE)),\"\",VLOOKUP((CONCATENATE(Q41,S41)),Divipolas!$F$2:$G$1123,2,FALSE))","v":""},"","","","","","",{"$f":"IF(ISNA(VLOOKUP(Z41,'CODIGO PAIS'!$A$2:$B$231,2,FALSE)),\"\",VLOOKUP(Z41,'CODIGO PAIS'!$A$2:$B$231,2,FALSE))","v":""},"",{"$f":"IF(ISNA(VLOOKUP(AB41,Divipolas!$A$2:$B$1123,2,FALSE)),\"\",VLOOKUP(AB41,Divipolas!$A$2:$B$1123,2,FALSE))","v":""},"",{"$f":"IF(ISNA(VLOOKUP((CONCATENATE(AB41,AD41)),Divipolas!$F$2:$G$1123,2,FALSE)),\"\",VLOOKUP((CONCATENATE(AB41,AD41)),Divipolas!$F$2:$G$1123,2,FALSE))","v":""},"","","","","",{"$f":"IF(ISNA(VLOOKUP(AJ41,Divipolas!$A$2:$B$1123,2,FALSE)),\"\",VLOOKUP(AJ41,Divipolas!$A$2:$B$1123,2,FALSE))","v":""},"",{"$f":"IF(ISNA(VLOOKUP((CONCATENATE(AJ41,AL41)),Divipolas!$F$2:$G$1123,2,FALSE)),\"\",VLOOKUP((CONCATENATE(AJ41,AL41)),Divipolas!$F$2:$G$1123,2,FALSE))","v":""},"","","","","","","","","","","","","","",null,null,null,null,null,null,null,{"$f":"IF(ISNA(VLOOKUP(BH41,'CODIGO PAIS'!$A$2:$B$231,2,FALSE)),\"\",VLOOKUP(BH41,'CODIGO PAIS'!$A$2:$B$231,2,FALSE))","v":""},null,{"$f":"IF(ISNA(VLOOKUP(BJ41,Divipolas!$A$2:$B$1123,2,FALSE)),\"\",VLOOKUP(BJ41,Divipolas!$A$2:$B$1123,2,FALSE))","v":""},null,{"$f":"IF(ISNA(VLOOKUP((CONCATENATE(BJ41,BL41)),Divipolas!$F$2:$G$1123,2,FALSE)),\"\",VLOOKUP((CONCATENATE(BJ41,BL41)),Divipolas!$F$2:$G$1123,2,FALSE))","v":""},null,"","",null,null,null,null,{"$f":"IF(ISNA(VLOOKUP(BT41,Divipolas!$A$2:$B$1123,2,FALSE)),\"\",VLOOKUP(BT41,Divipolas!$A$2:$B$1123,2,FALSE))","v":""},null,{"$f":"IF(ISNA(VLOOKUP((CONCATENATE(BT41,BV41)),Divipolas!$F$2:$G$1123,2,FALSE)),\"\",VLOOKUP((CONCATENATE(BT41,BV41)),Divipolas!$F$2:$G$1123,2,FALSE))","v":""},null,null,null,null,null,null,null,null,null,null,null,null,null,null,null,null,null,null,null,null,null,null,null,"",null,null,null,null,null,null,null,null,null,null,null,null,null,null,null,null,null,null,null,null,null,null,null,null,null,null,null,null,null,null,null,null,null,null,null,null,null,null,null,null,null,null,null,null,null,null,null,null,null,null,null,null,null,null,null,null,null,null,null,null,null,null,null,null,null,null,null,null,null,null,null,null,null,null,null,null,"",null,null,null,null,null,null,null,"VERIFIQUE FECHAS",null,null,null,null,null,null,null,null,null,"VERIFIQUE COLUMNA D"]
["","",null,"",{"$f":"IFERROR(VLOOKUP(D42,'CODIGO REGIONALES'!$J$2:$L$33,3,0),\"\")","v":""},"",{"$f":"IF(ISNA(VLOOKUP(F42,Divipolas!$A$2:$B$1123,2,FALSE)),\"\",VLOOKUP(F42,Divipolas!$A$2:$B$1123,2,FALSE))","v":""},"",{"$f":"IF(ISNA(VLOOKUP((CONCATENATE(F42,H42)),Divipolas!$F$2:$G$1123,2,FALSE)),\"\",VLOOKUP((CONCATENATE(F42,H42)),Divipolas!$F$2:$G$1123,2,FALSE))","v":""},"","","","","","","","",{"$f":"IF(ISNA(VLOOKUP(Q42,Divipolas!$A$2:$B$1123,2,FALSE)),\"\",VLOOKUP(Q42,Divipolas!$A$2:$B$1123,2,FALSE))","v":""},"",{"$f":"IF(ISNA(VLOOKUP((CONCATENATE(Q42,S42)),Divipolas!$F$2:$G$1123,2,FALSE)),\"\",VLOOKUP((CONCATENATE(Q42,S42)),Divipolas!$F$2:$G$1123,2,FALSE))","v":""},"","","","","","",{"$f":"IF(ISNA(VLOOKUP(Z42,'CODIGO PAIS'!$A$2:$B$231,2,FALSE)),\"\",VLOOKUP(Z42,'CODIGO PAIS'!$A$2:$B$231,2,FALSE))","v":""},"",{"$f":"IF(ISNA(VLOOKUP(AB42,Divipolas!$A$2:$B$1123,2,FALSE)),\"\",VLOOKUP(AB42,Divipolas!$A$2:$B$1123,2,FALSE))","v":""},"",{"$f":"IF(ISNA(VLOOKUP((CONCATENATE(AB42,AD42)),Divipolas!$F$2:$G$1123,2,FALSE)),\"\",VLOOKUP((CONCATENATE(AB42,AD42)),Divipolas!$F$2:$G$1123,2,FALSE))","v":""},"","","","","",{"$f":"IF(ISNA(VLOOKUP(AJ42,Divipolas!$A$2:$B$1123,2,FALSE)),\"\",VLOOKUP(AJ42,Divipolas!$A$2:$B$1123,2,FALSE))","v":""},"",{"$f":"IF(ISNA(VLOOKUP((CONCATENATE(AJ42,AL42)),Divipolas!$F$2:$G$1123,2,FALSE)),\"\",VLOOKUP((CONCATENATE(AJ42,AL42)),Divipolas!$F$2:$G$1123,2,FALSE))","v":""},"","","","","","","","","","","","","","",null,null,null,null,null,null,null,{"$f":"IF(ISNA(VLOOKUP(BH42,'CODIGO PAIS'!$A$2:$B$231,2,FALSE)),\"\",VLOOKUP(BH42,'CODIGO PAIS'!$A$2:$B$231,2,FALSE))","v":""},null,{"$f":"IF(ISNA(VLOOKUP(BJ42,Divipolas!$A$2:$B$1123,2,FALSE)),\"\",VLOOKUP(BJ42,Divipolas!$A$2:$B$1123,2,FALSE))","v":""},null,{"$f":"IF(ISNA(VLOOKUP((CONCATENATE(BJ42,BL42)),Divipolas!$F$2:$G$1123,2,FALSE)),\"\",VLOOKUP((CONCATENATE(BJ42,BL42)),Divipolas!$F$2:$G$1123,2,FALSE))","v":""},null,"","",null,null,null,null,{"$f":"IF(ISNA(VLOOKUP(BT42,Divipolas!$A$2:$B$1123,2,FALSE)),\"\",VLOOKUP(BT42,Divipolas!$A$2:$B$1123,2,FALSE))","v":""},null,{"$f":"IF(ISNA(VLOOKUP((CONCATENATE(BT42,BV42)),Divipolas!$F$2:$G$1123,2,FALSE)),\"\",VLOOKUP((CONCATENATE(BT42,BV42)),Divipolas!$F$2:$G$1123,2,FALSE))","v":""},null,null,null,null,null,null,null,null,null,null,null,null,null,null,null,null,null,null,null,null,null,null,null,"",null,null,null,null,null,null,null,null,null,null,null,null,null,null,null,null,null,null,null,null,null,null,null,null,null,null,null,null,null,null,null,null,null,null,null,null,null,null,null,null,null,null,null,null,null,null,null,null,null,null,null,null,null,null,null,null,null,null,null,null,null,null,null,null,null,null,null,null,null,null,null,null,null,null,null,null,"",null,null,null,null,null,null,null,"VERIFIQUE FECHAS",null,null,null,null,null,null,null,null,null,"VERIFIQUE COLUMNA D"]
["","",null,"",{"$f":"IFERROR(VLOOKUP(D43,'CODIGO REGIONALES'!$J$2:$L$33,3,0),\"\")","v":""},"",{"$f":"IF(ISNA(VLOOKUP(F43,Divipolas!$A$2:$B$1123,2,FALSE)),\"\",VLOOKUP(F43,Divipolas!$A$2:$B$1123,2,FALSE))","v":""},"",{"$f":"IF(ISNA(VLOOKUP((CONCATENATE(F43,H43)),Divipolas!$F$2:$G$1123,2,FALSE)),\"\",VLOOKUP((CONCATENATE(F43,H43)),Divipolas!$F$2:$G$1123,2,FALSE))","v":""},"","","","","","","","",{"$f":"IF(ISNA(VLOOKUP(Q43,Divipolas!$A$2:$B$1123,2,FALSE)),\"\",VLOOKUP(Q43,Divipolas!$A$2:$B$1123,2,FALSE))","v":""},"",{"$f":"IF(ISNA(VLOOKUP((CONCATENATE(Q43,S43)),Divipolas!$F$2:$G$1123,2,FALSE)),\"\",VLOOKUP((CONCATENATE(Q43,S43)),Divipolas!$F$2:$G$1123,2,FALSE))","v":""},"","","","","","",{"$f":"IF(ISNA(VLOOKUP(Z43,'CODIGO PAIS'!$A$2:$B$231,2,FALSE)),\"\",VLOOKUP(Z43,'CODIGO PAIS'!$A$2:$B$231,2,FALSE))","v":""},"",{"$f":"IF(ISNA(VLOOKUP(AB43,Divipolas!$A$2:$B$1123,2,FALSE)),\"\",VLOOKUP(AB43,Divipolas!$A$2:$B$1123,2,FALSE))","v":""},"",{"$f":"IF(ISNA(VLOOKUP((CONCATENATE(AB43,AD43)),Divipolas!$F$2:$G$1123,2,FALSE)),\"\",VLOOKUP((CONCATENATE(AB43,AD43)),Divipolas!$F$2:$G$1123,2,FALSE))","v":""},"","","","","",{"$f":"IF(ISNA(VLOOKUP(AJ43,Divipolas!$A$2:$B$1123,2,FALSE)),\"\",VLOOKUP(AJ43,Divipolas!$A$2:$B$1123,2,FALSE))","v":""},"",{"$f":"IF(ISNA(VLOOKUP((CONCATENATE(AJ43,AL43)),Divipolas!$F$2:$G$1123,2,FALSE)),\"\",VLOOKUP((CONCATENATE(AJ43,AL43)),Divipolas!$F$2:$G$1123,2,FALSE))","v":""},"","","","","","","","","","","","","","",null,null,null,null,null,null,null,{"$f":"IF(ISNA(VLOOKUP(BH43,'CODIGO PAIS'!$A$2:$B$231,2,FALSE)),\"\",VLOOKUP(BH43,'CODIGO PAIS'!$A$2:$B$231,2,FALSE))","v":""},null,{"$f":"IF(ISNA(VLOOKUP(BJ43,Divipolas!$A$2:$B$1123,2,FALSE)),\"\",VLOOKUP(BJ43,Divipolas!$A$2:$B$1123,2,FALSE))","v":""},null,{"$f":"IF(ISNA(VLOOKUP((CONCATENATE(BJ43,BL43)),Divipolas!$F$2:$G$1123,2,FALSE)),\"\",VLOOKUP((CONCATENATE(BJ43,BL43)),Divipolas!$F$2:$G$1123,2,FALSE))","v":""},null,"","",null,null,null,null,{"$f":"IF(ISNA(VLOOKUP(BT43,Divipolas!$A$2:$B$1123,2,FALSE)),\"\",VLOOKUP(BT43,Divipolas!$A$2:$B$1123,2,FALSE))","v":""},null,{"$f":"IF(ISNA(VLOOKUP((CONCATENATE(BT43,BV43)),Divipolas!$F$2:$G$1123,2,FALSE)),\"\",VLOOKUP((CONCATENATE(BT43,BV43)),Divipolas!$F$2:$G$1123,2,FALSE))","v":""},null,null,null,null,null,null,null,null,null,null,null,null,null,null,null,null,null,null,null,null,null,null,null,"",null,null,null,null,null,null,null,null,null,null,null,null,null,null,null,null,null,null,null,null,null,null,null,null,null,null,null,null,null,null,null,null,null,null,null,null,null,null,null,null,null,null,null,null,null,null,null,null,null,null,null,null,null,null,null,null,null,null,null,null,null,null,null,null,null,null,null,null,null,null,null,null,null,null,null,null,"",null,null,null,null,null,null,null,"VERIFIQUE FECHAS",null,null,null,null,null,null,null,null,null,"VERIFIQUE COLUMNA D"]
["","",null,"",{"$f":"IFERROR(VLOOKUP(D44,'CODIGO REGIONALES'!$J$2:$L$33,3,0),\"\")","v":""},"",{"$f":"IF(ISNA(VLOOKUP(F44,Divipolas!$A$2:$B$1123,2,FALSE)),\"\",VLOOKUP(F44,Divipolas!$A$2:$B$1123,2,FALSE))","v":""},"",{"$f":"IF(ISNA(VLOOKUP((CONCATENATE(F44,H44)),Divipolas!$F$2:$G$1123,2,FALSE)),\"\",VLOOKUP((CONCATENATE(F44,H44)),Divipolas!$F$2:$G$1123,2,FALSE))","v":""},"","","","","","","","",{"$f":"IF(ISNA(VLOOKUP(Q44,Divipolas!$A$2:$B$1123,2,FALSE)),\"\",VLOOKUP(Q44,Divipolas!$A$2:$B$1123,2,FALSE))","v":""},"",{"$f":"IF(ISNA(VLOOKUP((CONCATENATE(Q44,S44)),Divipolas!$F$2:$G$1123,2,FALSE)),\"\",VLOOKUP((CONCATENATE(Q44,S44)),Divipolas!$F$2:$G$1123,2,FALSE))","v":""},"","","","","","",{"$f":"IF(ISNA(VLOOKUP(Z44,'CODIGO PAIS'!$A$2:$B$231,2,FALSE)),\"\",VLOOKUP(Z44,'CODIGO PAIS'!$A$2:$B$231,2,FALSE))","v":""},"",{"$f":"IF(ISNA(VLOOKUP(AB44,Divipolas!$A$2:$B$1123,2,FALSE)),\"\",VLOOKUP(AB44,Divipolas!$A$2:$B$1123,2,FALSE))","v":""},"",{"$f":"IF(ISNA(VLOOKUP((CONCATENATE(AB44,AD44)),Divipolas!$F$2:$G$1123,2,FALSE)),\"\",VLOOKUP((CONCATENATE(AB44,AD44)),Divipolas!$F$2:$G$1123,2,FALSE))","v":""},"","","","","",{"$f":"IF(ISNA(VLOOKUP(AJ44,Divipolas!$A$2:$B$1123,2,FALSE)),\"\",VLOOKUP(AJ44,Divipolas!$A$2:$B$1123,2,FALSE))","v":""},"",{"$f":"IF(ISNA(VLOOKUP((CONCATENATE(AJ44,AL44)),Divipolas!$F$2:$G$1123,2,FALSE)),\"\",VLOOKUP((CONCATENATE(AJ44,AL44)),Divipolas!$F$2:$G$1123,2,FALSE))","v":""},"","","","","","","","","","","","","","",null,null,null,null,null,null,null,{"$f":"IF(ISNA(VLOOKUP(BH44,'CODIGO PAIS'!$A$2:$B$231,2,FALSE)),\"\",VLOOKUP(BH44,'CODIGO PAIS'!$A$2:$B$231,2,FALSE))","v":""},null,{"$f":"IF(ISNA(VLOOKUP(BJ44,Divipolas!$A$2:$B$1123,2,FALSE)),\"\",VLOOKUP(BJ44,Divipolas!$A$2:$B$1123,2,FALSE))","v":""},null,{"$f":"IF(ISNA(VLOOKUP((CONCATENATE(BJ44,BL44)),Divipolas!$F$2:$G$1123,2,FALSE)),\"\",VLOOKUP((CONCATENATE(BJ44,BL44)),Divipolas!$F$2:$G$1123,2,FALSE))","v":""},null,"","",null,null,null,null,{"$f":"IF(ISNA(VLOOKUP(BT44,Divipolas!$A$2:$B$1123,2,FALSE)),\"\",VLOOKUP(BT44,Divipolas!$A$2:$B$1123,2,FALSE))","v":""},null,{"$f":"IF(ISNA(VLOOKUP((CONCATENATE(BT44,BV44)),Divipolas!$F$2:$G$1123,2,FALSE)),\"\",VLOOKUP((CONCATENATE(BT44,BV44)),Divipolas!$F$2:$G$1123,2,FALSE))","v":""},null,null,null,null,null,null,null,null,null,null,null,null,null,null,null,null,null,null,null,null,null,null,null,"",null,null,null,null,null,null,null,null,null,null,null,null,null,null,null,null,null,null,null,null,null,null,null,null,null,null,null,null,null,null,null,null,null,null,null,null,null,null,null,null,null,null,null,null,null,null,null,null,null,null,null,null,null,null,null,null,null,null,null,null,null,null,null,null,null,null,null,null,null,null,null,null,null,null,null,null,"",null,null,null,null,null,null,null,"VERIFIQUE FECHAS",null,null,null,null,null,null,null,null,null,"VERIFIQUE COLUMNA D"]
["","",null,"",{"$f":"IFERROR(VLOOKUP(D45,'CODIGO REGIONALES'!$J$2:$L$33,3,0),\"\")","v":""},"",{"$f":"IF(ISNA(VLOOKUP(F45,Divipolas!$A$2:$B$1123,2,FALSE)),\"\",VLOOKUP(F45,Divipolas!$A$2:$B$1123,2,FALSE))","v":""},"",{"$f":"IF(ISNA(VLOOKUP((CONCATENATE(F45,H45)),Divipolas!$F$2:$G$1123,2,FALSE)),\"\",VLOOKUP((CONCATENATE(F45,H45)),Divipolas!$F$2:$G$1123,2,FALSE))","v":""},"","","","","","","","",{"$f":"IF(ISNA(VLOOKUP(Q45,Divipolas!$A$2:$B$1123,2,FALSE)),\"\",VLOOKUP(Q45,Divipolas!$A$2:$B$1123,2,FALSE))","v":""},"",{"$f":"IF(ISNA(VLOOKUP((CONCATENATE(Q45,S45)),Divipolas!$F$2:$G$1123,2,FALSE)),\"\",VLOOKUP((CONCATENATE(Q45,S45)),Divipolas!$F$2:$G$1123,2,FALSE))","v":""},"","","","","","",{"$f":"IF(ISNA(VLOOKUP(Z45,'CODIGO PAIS'!$A$2:$B$231,2,FALSE)),\"\",VLOOKUP(Z45,'CODIGO PAIS'!$A$2:$B$231,2,FALSE))","v":""},"",{"$f":"IF(ISNA(VLOOKUP(AB45,Divipolas!$A$2:$B$1123,2,FALSE)),\"\",VLOOKUP(AB45,Divipolas!$A$2:$B$1123,2,FALSE))","v":""},"",{"$f":"IF(ISNA(VLOOKUP((CONCATENATE(AB45,AD45)),Divipolas!$F$2:$G$1123,2,FALSE)),\"\",VLOOKUP((CONCATENATE(AB45,AD45)),Divipolas!$F$2:$G$1123,2,FALSE))","v":""},"","","","","",{"$f":"IF(ISNA(VLOOKUP(AJ45,Divipolas!$A$2:$B$1123,2,FALSE)),\"\",VLOOKUP(AJ45,Divipolas!$A$2:$B$1123,2,FALSE))","v":""},"",{"$f":"IF(ISNA(VLOOKUP((CONCATENATE(AJ45,AL45)),Divipolas!$F$2:$G$1123,2,FALSE)),\"\",VLOOKUP((CONCATENATE(AJ45,AL45)),Divipolas!$F$2:$G$1123,2,FALSE))","v":""},"","","","","","","","","","","","","","",null,null,null,null,null,null,null,{"$f":"IF(ISNA(VLOOKUP(BH45,'CODIGO PAIS'!$A$2:$B$231,2,FALSE)),\"\",VLOOKUP(BH45,'CODIGO PAIS'!$A$2:$B$231,2,FALSE))","v":""},null,{"$f":"IF(ISNA(VLOOKUP(BJ45,Divipolas!$A$2:$B$1123,2,FALSE)),\"\",VLOOKUP(BJ45,Divipolas!$A$2:$B$1123,2,FALSE))","v":""},null,{"$f":"IF(ISNA(VLOOKUP((CONCATENATE(BJ45,BL45)),Divipolas!$F$2:$G$1123,2,FALSE)),\"\",VLOOKUP((CONCATENATE(BJ45,BL45)),Divipolas!$F$2:$G$1123,2,FALSE))","v":""},null,"","",null,null,null,null,{"$f":"IF(ISNA(VLOOKUP(BT45,Divipolas!$A$2:$B$1123,2,FALSE)),\"\",VLOOKUP(BT45,Divipolas!$A$2:$B$1123,2,FALSE))","v":""},null,{"$f":"IF(ISNA(VLOOKUP((CONCATENATE(BT45,BV45)),Divipolas!$F$2:$G$1123,2,FALSE)),\"\",VLOOKUP((CONCATENATE(BT45,BV45)),Divipolas!$F$2:$G$1123,2,FALSE))","v":""},null,null,null,null,null,null,null,null,null,null,null,null,null,null,null,null,null,null,null,null,null,null,null,"",null,null,null,null,null,null,null,null,null,null,null,null,null,null,null,null,null,null,null,null,null,null,null,null,null,null,null,null,null,null,null,null,null,null,null,null,null,null,null,null,null,null,null,null,null,null,null,null,null,null,null,null,null,null,null,null,null,null,null,null,null,null,null,null,null,null,null,null,null,null,null,null,null,null,null,null,"",null,null,null,null,null,null,null,"VERIFIQUE FECHAS",null,null,null,null,null,null,null,null,null,"VERIFIQUE COLUMNA D"]
["","",null,"",{"$f":"IFERROR(VLOOKUP(D46,'CODIGO REGIONALES'!$J$2:$L$33,3,0),\"\")","v":""},"",{"$f":"IF(ISNA(VLOOKUP(F46,Divipolas!$A$2:$B$1123,2,FALSE)),\"\",VLOOKUP(F46,Divipolas!$A$2:$B$1123,2,FALSE))","v":""},"",{"$f":"IF(ISNA(VLOOKUP((CONCATENATE(F46,H46)),Divipolas!$F$2:$G$1123,2,FALSE)),\"\",VLOOKUP((CONCATENATE(F46,H46)),Divipolas!$F$2:$G$1123,2,FALSE))","v":""},"","","","","","","","",{"$f":"IF(ISNA(VLOOKUP(Q46,Divipolas!$A$2:$B$1123,2,FALSE)),\"\",VLOOKUP(Q46,Divipolas!$A$2:$B$1123,2,FALSE))","v":""},"",{"$f":"IF(ISNA(VLOOKUP((CONCATENATE(Q46,S46)),Divipolas!$F$2:$G$1123,2,FALSE)),\"\",VLOOKUP((CONCATENATE(Q46,S46)),Divipolas!$F$2:$G$1123,2,FALSE))","v":""},"","","","","","",{"$f":"IF(ISNA(VLOOKUP(Z46,'CODIGO PAIS'!$A$2:$B$231,2,FALSE)),\"\",VLOOKUP(Z46,'CODIGO PAIS'!$A$2:$B$231,2,FALSE))","v":""},"",{"$f":"IF(ISNA(VLOOKUP(AB46,Divipolas!$A$2:$B$1123,2,FALSE)),\"\",VLOOKUP(AB46,Divipolas!$A$2:$B$1123,2,FALSE))","v":""},"",{"$f":"IF(ISNA(VLOOKUP((CONCATENATE(AB46,AD46)),Divipolas!$F$2:$G$1123,2,FALSE)),\"\",VLOOKUP((CONCATENATE(AB46,AD46)),Divipolas!$F$2:$G$1123,2,FALSE))","v":""},"","","","","",{"$f":"IF(ISNA(VLOOKUP(AJ46,Divipolas!$A$2:$B$1123,2,FALSE)),\"\",VLOOKUP(AJ46,Divipolas!$A$2:$B$1123,2,FALSE))","v":""},"",{"$f":"IF(ISNA(VLOOKUP((CONCATENATE(AJ46,AL46)),Divipolas!$F$2:$G$1123,2,FALSE)),\"\",VLOOKUP((CONCATENATE(AJ46,AL46)),Divipolas!$F$2:$G$1123,2,FALSE))","v":""},"","","","","","","","","","","","","","",null,null,null,null,null,null,null,{"$f":"IF(ISNA(VLOOKUP(BH46,'CODIGO PAIS'!$A$2:$B$231,2,FALSE)),\"\",VLOOKUP(BH46,'CODIGO PAIS'!$A$2:$B$231,2,FALSE))","v":""},null,{"$f":"IF(ISNA(VLOOKUP(BJ46,Divipolas!$A$2:$B$1123,2,FALSE)),\"\",VLOOKUP(BJ46,Divipolas!$A$2:$B$1123,2,FALSE))","v":""},null,{"$f":"IF(ISNA(VLOOKUP((CONCATENATE(BJ46,BL46)),Divipolas!$F$2:$G$1123,2,FALSE)),\"\",VLOOKUP((CONCATENATE(BJ46,BL46)),Divipolas!$F$2:$G$1123,2,FALSE))","v":""},null,"","",null,null,null,null,{"$f":"IF(ISNA(VLOOKUP(BT46,Divipolas!$A$2:$B$1123,2,FALSE)),\"\",VLOOKUP(BT46,Divipolas!$A$2:$B$1123,2,FALSE))","v":""},null,{"$f":"IF(ISNA(VLOOKUP((CONCATENATE(BT46,BV46)),Divipolas!$F$2:$G$1123,2,FALSE)),\"\",VLOOKUP((CONCATENATE(BT46,BV46)),Divipolas!$F$2:$G$1123,2,FALSE))","v":""},null,null,null,null,null,null,null,null,null,null,null,null,null,null,null,null,null,null,null,null,null,null,null,"",null,null,null,null,null,null,null,null,null,null,null,null,null,null,null,null,null,null,null,null,null,null,null,null,null,null,null,null,null,null,null,null,null,null,null,null,null,null,null,null,null,null,null,null,null,null,null,null,null,null,null,null,null,null,null,null,null,null,null,null,null,null,null,null,null,null,null,null,null,null,null,null,null,null,null,null,"",null,null,null,null,null,null,null,"VERIFIQUE FECHAS",null,null,null,null,null,null,null,null,null,"VERIFIQUE COLUMNA D"]
["","",null,"",{"$f":"IFERROR(VLOOKUP(D47,'CODIGO REGIONALES'!$J$2:$L$33,3,0),\"\")","v":""},"",{"$f":"IF(ISNA(VLOOKUP(F47,Divipolas!$A$2:$B$1123,2,FALSE)),\"\",VLOOKUP(F47,Divipolas!$A$2:$B$1123,2,FALSE))","v":""},"",{"$f":"IF(ISNA(VLOOKUP((CONCATENATE(F47,H47)),Divipolas!$F$2:$G$1123,2,FALSE)),\"\",VLOOKUP((CONCATENATE(F47,H47)),Divipolas!$F$2:$G$1123,2,FALSE))","v":""},"","","","","","","","",{"$f":"IF(ISNA(VLOOKUP(Q47,Divipolas!$A$2:$B$1123,2,FALSE)),\"\",VLOOKUP(Q47,Divipolas!$A$2:$B$1123,2,FALSE))","v":""},"",{"$f":"IF(ISNA(VLOOKUP((CONCATENATE(Q47,S47)),Divipolas!$F$2:$G$1123,2,FALSE)),\"\",VLOOKUP((CONCATENATE(Q47,S47)),Divipolas!$F$2:$G$1123,2,FALSE))","v":""},"","","","","","",{"$f":"IF(ISNA(VLOOKUP(Z47,'CODIGO PAIS'!$A$2:$B$231,2,FALSE)),\"\",VLOOKUP(Z47,'CODIGO PAIS'!$A$2:$B$231,2,FALSE))","v":""},"",{"$f":"IF(ISNA(VLOOKUP(AB47,Divipolas!$A$2:$B$1123,2,FALSE)),\"\",VLOOKUP(AB47,Divipolas!$A$2:$B$1123,2,FALSE))","v":""},"",{"$f":"IF(ISNA(VLOOKUP((CONCATENATE(AB47,AD47)),Divipolas!$F$2:$G$1123,2,FALSE)),\"\",VLOOKUP((CONCATENATE(AB47,AD47)),Divipolas!$F$2:$G$1123,2,FALSE))","v":""},"","","","","",{"$f":"IF(ISNA(VLOOKUP(AJ47,Divipolas!$A$2:$B$1123,2,FALSE)),\"\",VLOOKUP(AJ47,Divipolas!$A$2:$B$1123,2,FALSE))","v":""},"",{"$f":"IF(ISNA(VLOOKUP((CONCATENATE(AJ47,AL47)),Divipolas!$F$2:$G$1123,2,FALSE)),\"\",VLOOKUP((CONCATENATE(AJ47,AL47)),Divipolas!$F$2:$G$1123,2,FALSE))","v":""},"","","","","","","","","","","","","","",null,null,null,null,null,null,null,{"$f":"IF(ISNA(VLOOKUP(BH47,'CODIGO PAIS'!$A$2:$B$231,2,FALSE)),\"\",VLOOKUP(BH47,'CODIGO PAIS'!$A$2:$B$231,2,FALSE))","v":""},null,{"$f":"IF(ISNA(VLOOKUP(BJ47,Divipolas!$A$2:$B$1123,2,FALSE)),\"\",VLOOKUP(BJ47,Divipolas!$A$2:$B$1123,2,FALSE))","v":""},null,{"$f":"IF(ISNA(VLOOKUP((CONCATENATE(BJ47,BL47)),Divipolas!$F$2:$G$1123,2,FALSE)),\"\",VLOOKUP((CONCATENATE(BJ47,BL47)),Divipolas!$F$2:$G$1123,2,FALSE))","v":""},null,"","",null,null,null,null,{"$f":"IF(ISNA(VLOOKUP(BT47,Divipolas!$A$2:$B$1123,2,FALSE)),\"\",VLOOKUP(BT47,Divipolas!$A$2:$B$1123,2,FALSE))","v":""},null,{"$f":"IF(ISNA(VLOOKUP((CONCATENATE(BT47,BV47)),Divipolas!$F$2:$G$1123,2,FALSE)),\"\",VLOOKUP((CONCATENATE(BT47,BV47)),Divipolas!$F$2:$G$1123,2,FALSE))","v":""},null,null,null,null,null,null,null,null,null,null,null,null,null,null,null,null,null,null,null,null,null,null,null,"",null,null,null,null,null,null,null,null,null,null,null,null,null,null,null,null,null,null,null,null,null,null,null,null,null,null,null,null,null,null,null,null,null,null,null,null,null,null,null,null,null,null,null,null,null,null,null,null,null,null,null,null,null,null,null,null,null,null,null,null,null,null,null,null,null,null,null,null,null,null,null,null,null,null,null,null,"",null,null,null,null,null,null,null,"VERIFIQUE FECHAS",null,null,null,null,null,null,null,null,null,"VERIFIQUE COLUMNA D"]
["","",null,"",{"$f":"IFERROR(VLOOKUP(D48,'CODIGO REGIONALES'!$J$2:$L$33,3,0),\"\")","v":""},"",{"$f":"IF(ISNA(VLOOKUP(F48,Divipolas!$A$2:$B$1123,2,FALSE)),\"\",VLOOKUP(F48,Divipolas!$A$2:$B$1123,2,FALSE))","v":""},"",{"$f":"IF(ISNA(VLOOKUP((CONCATENATE(F48,H48)),Divipolas!$F$2:$G$1123,2,FALSE)),\"\",VLOOKUP((CONCATENATE(F48,H48)),Divipolas!$F$2:$G$1123,2,FALSE))","v":""},"","","","","","","","",{"$f":"IF(ISNA(VLOOKUP(Q48,Divipolas!$A$2:$B$1123,2,FALSE)),\"\",VLOOKUP(Q48,Divipolas!$A$2:$B$1123,2,FALSE))","v":""},"",{"$f":"IF(ISNA(VLOOKUP((CONCATENATE(Q48,S48)),Divipolas!$F$2:$G$1123,2,FALSE)),\"\",VLOOKUP((CONCATENATE(Q48,S48)),Divipolas!$F$2:$G$1123,2,FALSE))","v":""},"","","","","","",{"$f":"IF(ISNA(VLOOKUP(Z48,'CODIGO PAIS'!$A$2:$B$231,2,FALSE)),\"\",VLOOKUP(Z48,'CODIGO PAIS'!$A$2:$B$231,2,FALSE))","v":""},"",{"$f":"IF(ISNA(VLOOKUP(AB48,Divipolas!$A$2:$B$1123,2,FALSE)),\"\",VLOOKUP(AB48,Divipolas!$A$2:$B$1123,2,FALSE))","v":""},"",{"$f":"IF(ISNA(VLOOKUP((CONCATENATE(AB48,AD48)),Divipolas!$F$2:$G$1123,2,FALSE)),\"\",VLOOKUP((CONCATENATE(AB48,AD48)),Divipolas!$F$2:$G$1123,2,FALSE))","v":""},"","","","","",{"$f":"IF(ISNA(VLOOKUP(AJ48,Divipolas!$A$2:$B$1123,2,FALSE)),\"\",VLOOKUP(AJ48,Divipolas!$A$2:$B$1123,2,FALSE))","v":""},"",{"$f":"IF(ISNA(VLOOKUP((CONCATENATE(AJ48,AL48)),Divipolas!$F$2:$G$1123,2,FALSE)),\"\",VLOOKUP((CONCATENATE(AJ48,AL48)),Divipolas!$F$2:$G$1123,2,FALSE))","v":""},"","","","","","","","","","","","","","",null,null,null,null,null,null,null,{"$f":"IF(ISNA(VLOOKUP(BH48,'CODIGO PAIS'!$A$2:$B$231,2,FALSE)),\"\",VLOOKUP(BH48,'CODIGO PAIS'!$A$2:$B$231,2,FALSE))","v":""},null,{"$f":"IF(ISNA(VLOOKUP(BJ48,Divipolas!$A$2:$B$1123,2,FALSE)),\"\",VLOOKUP(BJ48,Divipolas!$A$2:$B$1123,2,FALSE))","v":""},null,{"$f":"IF(ISNA(VLOOKUP((CONCATENATE(BJ48,BL48)),Divipolas!$F$2:$G$1123,2,FALSE)),\"\",VLOOKUP((CONCATENATE(BJ48,BL48)),Divipolas!$F$2:$G$1123,2,FALSE))","v":""},null,"","",null,null,null,null,{"$f":"IF(ISNA(VLOOKUP(BT48,Divipolas!$A$2:$B$1123,2,FALSE)),\"\",VLOOKUP(BT48,Divipolas!$A$2:$B$1123,2,FALSE))","v":""},null,{"$f":"IF(ISNA(VLOOKUP((CONCATENATE(BT48,BV48)),Divipolas!$F$2:$G$1123,2,FALSE)),\"\",VLOOKUP((CONCATENATE(BT48,BV48)),Divipolas!$F$2:$G$1123,2,FALSE))","v":""},null,null,null,null,null,null,null,null,null,null,null,null,null,null,null,null,null,null,null,null,null,null,null,"",null,null,null,null,null,null,null,null,null,null,null,null,null,null,null,null,null,null,null,null,null,null,null,null,null,null,null,null,null,null,null,null,null,null,null,null,null,null,null,null,null,null,null,null,null,null,null,null,null,null,null,null,null,null,null,null,null,null,null,null,null,null,null,null,null,null,null,null,null,null,null,null,null,null,null,null,"",null,null,null,null,null,null,null,"VERIFIQUE FECHAS",null,null,null,null,null,null,null,null,null,"VERIFIQUE COLUMNA D"]
["","",null,"",{"$f":"IFERROR(VLOOKUP(D49,'CODIGO REGIONALES'!$J$2:$L$33,3,0),\"\")","v":""},"",{"$f":"IF(ISNA(VLOOKUP(F49,Divipolas!$A$2:$B$1123,2,FALSE)),\"\",VLOOKUP(F49,Divipolas!$A$2:$B$1123,2,FALSE))","v":""},"",{"$f":"IF(ISNA(VLOOKUP((CONCATENATE(F49,H49)),Divipolas!$F$2:$G$1123,2,FALSE)),\"\",VLOOKUP((CONCATENATE(F49,H49)),Divipolas!$F$2:$G$1123,2,FALSE))","v":""},"","","","","","","","",{"$f":"IF(ISNA(VLOOKUP(Q49,Divipolas!$A$2:$B$1123,2,FALSE)),\"\",VLOOKUP(Q49,Divipolas!$A$2:$B$1123,2,FALSE))","v":""},"",{"$f":"IF(ISNA(VLOOKUP((CONCATENATE(Q49,S49)),Divipolas!$F$2:$G$1123,2,FALSE)),\"\",VLOOKUP((CONCATENATE(Q49,S49)),Divipolas!$F$2:$G$1123,2,FALSE))","v":""},"","","","","","",{"$f":"IF(ISNA(VLOOKUP(Z49,'CODIGO PAIS'!$A$2:$B$231,2,FALSE)),\"\",VLOOKUP(Z49,'CODIGO PAIS'!$A$2:$B$231,2,FALSE))","v":""},"",{"$f":"IF(ISNA(VLOOKUP(AB49,Divipolas!$A$2:$B$1123,2,FALSE)),\"\",VLOOKUP(AB49,Divipolas!$A$2:$B$1123,2,FALSE))","v":""},"",{"$f":"IF(ISNA(VLOOKUP((CONCATENATE(AB49,AD49)),Divipolas!$F$2:$G$1123,2,FALSE)),\"\",VLOOKUP((CONCATENATE(AB49,AD49)),Divipolas!$F$2:$G$1123,2,FALSE))","v":""},"","","","","",{"$f":"IF(ISNA(VLOOKUP(AJ49,Divipolas!$A$2:$B$1123,2,FALSE)),\"\",VLOOKUP(AJ49,Divipolas!$A$2:$B$1123,2,FALSE))","v":""},"",{"$f":"IF(ISNA(VLOOKUP((CONCATENATE(AJ49,AL49)),Divipolas!$F$2:$G$1123,2,FALSE)),\"\",VLOOKUP((CONCATENATE(AJ49,AL49)),Divipolas!$F$2:$G$1123,2,FALSE))","v":""},"","","","","","","","","","","","","","",null,null,null,null,null,null,null,{"$f":"IF(ISNA(VLOOKUP(BH49,'CODIGO PAIS'!$A$2:$B$231,2,FALSE)),\"\",VLOOKUP(BH49,'CODIGO PAIS'!$A$2:$B$231,2,FALSE))","v":""},null,{"$f":"IF(ISNA(VLOOKUP(BJ49,Divipolas!$A$2:$B$1123,2,FALSE)),\"\",VLOOKUP(BJ49,Divipolas!$A$2:$B$1123,2,FALSE))","v":""},null,{"$f":"IF(ISNA(VLOOKUP((CONCATENATE(BJ49,BL49)),Divipolas!$F$2:$G$1123,2,FALSE)),\"\",VLOOKUP((CONCATENATE(BJ49,BL49)),Divipolas!$F$2:$G$1123,2,FALSE))","v":""},null,"","",null,null,null,null,{"$f":"IF(ISNA(VLOOKUP(BT49,Divipolas!$A$2:$B$1123,2,FALSE)),\"\",VLOOKUP(BT49,Divipolas!$A$2:$B$1123,2,FALSE))","v":""},null,{"$f":"IF(ISNA(VLOOKUP((CONCATENATE(BT49,BV49)),Divipolas!$F$2:$G$1123,2,FALSE)),\"\",VLOOKUP((CONCATENATE(BT49,BV49)),Divipolas!$F$2:$G$1123,2,FALSE))","v":""},null,null,null,null,null,null,null,null,null,null,null,null,null,null,null,null,null,null,null,null,null,null,null,"",null,null,null,null,null,null,null,null,null,null,null,null,null,null,null,null,null,null,null,null,null,null,null,null,null,null,null,null,null,null,null,null,null,null,null,null,null,null,null,null,null,null,null,null,null,null,null,null,null,null,null,null,null,null,null,null,null,null,null,null,null,null,null,null,null,null,null,null,null,null,null,null,null,null,null,null,"",null,null,null,null,null,null,null,"VERIFIQUE FECHAS",null,null,null,null,null,null,null,null,null,"VERIFIQUE COLUMNA D"]
["","",null,"",{"$f":"IFERROR(VLOOKUP(D50,'CODIGO REGIONALES'!$J$2:$L$33,3,0),\"\")","v":""},"",{"$f":"IF(ISNA(VLOOKUP(F50,Divipolas!$A$2:$B$1123,2,FALSE)),\"\",VLOOKUP(F50,Divipolas!$A$2:$B$1123,2,FALSE))","v":""},"",{"$f":"IF(ISNA(VLOOKUP((CONCATENATE(F50,H50)),Divipolas!$F$2:$G$1123,2,FALSE)),\"\",VLOOKUP((CONCATENATE(F50,H50)),Divipolas!$F$2:$G$1123,2,FALSE))","v":""},"","","","","","","","",{"$f":"IF(ISNA(VLOOKUP(Q50,Divipolas!$A$2:$B$1123,2,FALSE)),\"\",VLOOKUP(Q50,Divipolas!$A$2:$B$1123,2,FALSE))","v":""},"",{"$f":"IF(ISNA(VLOOKUP((CONCATENATE(Q50,S50)),Divipolas!$F$2:$G$1123,2,FALSE)),\"\",VLOOKUP((CONCATENATE(Q50,S50)),Divipolas!$F$2:$G$1123,2,FALSE))","v":""},"","","","","","",{"$f":"IF(ISNA(VLOOKUP(Z50,'CODIGO PAIS'!$A$2:$B$231,2,FALSE)),\"\",VLOOKUP(Z50,'CODIGO PAIS'!$A$2:$B$231,2,FALSE))","v":""},"",{"$f":"IF(ISNA(VLOOKUP(AB50,Divipolas!$A$2:$B$1123,2,FALSE)),\"\",VLOOKUP(AB50,Divipolas!$A$2:$B$1123,2,FALSE))","v":""},"",{"$f":"IF(ISNA(VLOOKUP((CONCATENATE(AB50,AD50)),Divipolas!$F$2:$G$1123,2,FALSE)),\"\",VLOOKUP((CONCATENATE(AB50,AD50)),Divipolas!$F$2:$G$1123,2,FALSE))","v":""},"","","","","",{"$f":"IF(ISNA(VLOOKUP(AJ50,Divipolas!$A$2:$B$1123,2,FALSE)),\"\",VLOOKUP(AJ50,Divipolas!$A$2:$B$1123,2,FALSE))","v":""},"",{"$f":"IF(ISNA(VLOOKUP((CONCATENATE(AJ50,AL50)),Divipolas!$F$2:$G$1123,2,FALSE)),\"\",VLOOKUP((CONCATENATE(AJ50,AL50)),Divipolas!$F$2:$G$1123,2,FALSE))","v":""},"","","","","","","","","","","","","","",null,null,null,null,null,null,null,{"$f":"IF(ISNA(VLOOKUP(BH50,'CODIGO PAIS'!$A$2:$B$231,2,FALSE)),\"\",VLOOKUP(BH50,'CODIGO PAIS'!$A$2:$B$231,2,FALSE))","v":""},null,{"$f":"IF(ISNA(VLOOKUP(BJ50,Divipolas!$A$2:$B$1123,2,FALSE)),\"\",VLOOKUP(BJ50,Divipolas!$A$2:$B$1123,2,FALSE))","v":""},null,{"$f":"IF(ISNA(VLOOKUP((CONCATENATE(BJ50,BL50)),Divipolas!$F$2:$G$1123,2,FALSE)),\"\",VLOOKUP((CONCATENATE(BJ50,BL50)),Divipolas!$F$2:$G$1123,2,FALSE))","v":""},null,"","",null,null,null,null,{"$f":"IF(ISNA(VLOOKUP(BT50,Divipolas!$A$2:$B$1123,2,FALSE)),\"\",VLOOKUP(BT50,Divipolas!$A$2:$B$1123,2,FALSE))","v":""},null,{"$f":"IF(ISNA(VLOOKUP((CONCATENATE(BT50,BV50)),Divipolas!$F$2:$G$1123,2,FALSE)),\"\",VLOOKUP((CONCATENATE(BT50,BV50)),Divipolas!$F$2:$G$1123,2,FALSE))","v":""},null,null,null,null,null,null,null,null,null,null,null,null,null,null,null,null,null,null,null,null,null,null,null,"",null,null,null,null,null,null,null,null,null,null,null,null,null,null,null,null,null,null,null,null,null,null,null,null,null,null,null,null,null,null,null,null,null,null,null,null,null,null,null,null,null,null,null,null,null,null,null,null,null,null,null,null,null,null,null,null,null,null,null,null,null,null,null,null,null,null,null,null,null,null,null,null,null,null,null,null,"",null,null,null,null,null,null,null,"VERIFIQUE FECHAS",null,null,null,null,null,null,null,null,null,"VERIFIQUE COLUMNA D"]
["","",null,"",{"$f":"IFERROR(VLOOKUP(D51,'CODIGO REGIONALES'!$J$2:$L$33,3,0),\"\")","v":""},"",{"$f":"IF(ISNA(VLOOKUP(F51,Divipolas!$A$2:$B$1123,2,FALSE)),\"\",VLOOKUP(F51,Divipolas!$A$2:$B$1123,2,FALSE))","v":""},"",{"$f":"IF(ISNA(VLOOKUP((CONCATENATE(F51,H51)),Divipolas!$F$2:$G$1123,2,FALSE)),\"\",VLOOKUP((CONCATENATE(F51,H51)),Divipolas!$F$2:$G$1123,2,FALSE))","v":""},"","","","","","","","",{"$f":"IF(ISNA(VLOOKUP(Q51,Divipolas!$A$2:$B$1123,2,FALSE)),\"\",VLOOKUP(Q51,Divipolas!$A$2:$B$1123,2,FALSE))","v":""},"",{"$f":"IF(ISNA(VLOOKUP((CONCATENATE(Q51,S51)),Divipolas!$F$2:$G$1123,2,FALSE)),\"\",VLOOKUP((CONCATENATE(Q51,S51)),Divipolas!$F$2:$G$1123,2,FALSE))","v":""},"","","","","","",{"$f":"IF(ISNA(VLOOKUP(Z51,'CODIGO PAIS'!$A$2:$B$231,2,FALSE)),\"\",VLOOKUP(Z51,'CODIGO PAIS'!$A$2:$B$231,2,FALSE))","v":""},"",{"$f":"IF(ISNA(VLOOKUP(AB51,Divipolas!$A$2:$B$1123,2,FALSE)),\"\",VLOOKUP(AB51,Divipolas!$A$2:$B$1123,2,FALSE))","v":""},"",{"$f":"IF(ISNA(VLOOKUP((CONCATENATE(AB51,AD51)),Divipolas!$F$2:$G$1123,2,FALSE)),\"\",VLOOKUP((CONCATENATE(AB51,AD51)),Divipolas!$F$2:$G$1123,2,FALSE))","v":""},"","","","","",{"$f":"IF(ISNA(VLOOKUP(AJ51,Divipolas!$A$2:$B$1123,2,FALSE)),\"\",VLOOKUP(AJ51,Divipolas!$A$2:$B$1123,2,FALSE))","v":""},"",{"$f":"IF(ISNA(VLOOKUP((CONCATENATE(AJ51,AL51)),Divipolas!$F$2:$G$1123,2,FALSE)),\"\",VLOOKUP((CONCATENATE(AJ51,AL51)),Divipolas!$F$2:$G$1123,2,FALSE))","v":""},"","","","","","","","","","","","","","",null,null,null,null,null,null,null,{"$f":"IF(ISNA(VLOOKUP(BH51,'CODIGO PAIS'!$A$2:$B$231,2,FALSE)),\"\",VLOOKUP(BH51,'CODIGO PAIS'!$A$2:$B$231,2,FALSE))","v":""},null,{"$f":"IF(ISNA(VLOOKUP(BJ51,Divipolas!$A$2:$B$1123,2,FALSE)),\"\",VLOOKUP(BJ51,Divipolas!$A$2:$B$1123,2,FALSE))","v":""},null,{"$f":"IF(ISNA(VLOOKUP((CONCATENATE(BJ51,BL51)),Divipolas!$F$2:$G$1123,2,FALSE)),\"\",VLOOKUP((CONCATENATE(BJ51,BL51)),Divipolas!$F$2:$G$1123,2,FALSE))","v":""},null,"","",null,null,null,null,{"$f":"IF(ISNA(VLOOKUP(BT51,Divipolas!$A$2:$B$1123,2,FALSE)),\"\",VLOOKUP(BT51,Divipolas!$A$2:$B$1123,2,FALSE))","v":""},null,{"$f":"IF(ISNA(VLOOKUP((CONCATENATE(BT51,BV51)),Divipolas!$F$2:$G$1123,2,FALSE)),\"\",VLOOKUP((CONCATENATE(BT51,BV51)),Divipolas!$F$2:$G$1123,2,FALSE))","v":""},null,null,null,null,null,null,null,null,null,null,null,null,null,null,null,null,null,null,null,null,null,null,null,"",null,null,null,null,null,null,null,null,null,null,null,null,null,null,null,null,null,null,null,null,null,null,null,null,null,null,null,null,null,null,null,null,null,null,null,null,null,null,null,null,null,null,null,null,null,null,null,null,null,null,null,null,null,null,null,null,null,null,null,null,null,null,null,null,null,null,null,null,null,null,null,null,null,null,null,null,"",null,null,null,null,null,null,null,"VERIFIQUE FECHAS",null,null,null,null,null,null,null,null,null,"VERIFIQUE COLUMNA D"]
["","",null,"",{"$f":"IFERROR(VLOOKUP(D52,'CODIGO REGIONALES'!$J$2:$L$33,3,0),\"\")","v":""},"",{"$f":"IF(ISNA(VLOOKUP(F52,Divipolas!$A$2:$B$1123,2,FALSE)),\"\",VLOOKUP(F52,Divipolas!$A$2:$B$1123,2,FALSE))","v":""},"",{"$f":"IF(ISNA(VLOOKUP((CONCATENATE(F52,H52)),Divipolas!$F$2:$G$1123,2,FALSE)),\"\",VLOOKUP((CONCATENATE(F52,H52)),Divipolas!$F$2:$G$1123,2,FALSE))","v":""},"","","","","","","","",{"$f":"IF(ISNA(VLOOKUP(Q52,Divipolas!$A$2:$B$1123,2,FALSE)),\"\",VLOOKUP(Q52,Divipolas!$A$2:$B$1123,2,FALSE))","v":""},"",{"$f":"IF(ISNA(VLOOKUP((CONCATENATE(Q52,S52)),Divipolas!$F$2:$G$1123,2,FALSE)),\"\",VLOOKUP((CONCATENATE(Q52,S52)),Divipolas!$F$2:$G$1123,2,FALSE))","v":""},"","","","","","",{"$f":"IF(ISNA(VLOOKUP(Z52,'CODIGO PAIS'!$A$2:$B$231,2,FALSE)),\"\",VLOOKUP(Z52,'CODIGO PAIS'!$A$2:$B$231,2,FALSE))","v":""},"",{"$f":"IF(ISNA(VLOOKUP(AB52,Divipolas!$A$2:$B$1123,2,FALSE)),\"\",VLOOKUP(AB52,Divipolas!$A$2:$B$1123,2,FALSE))","v":""},"",{"$f":"IF(ISNA(VLOOKUP((CONCATENATE(AB52,AD52)),Divipolas!$F$2:$G$1123,2,FALSE)),\"\",VLOOKUP((CONCATENATE(AB52,AD52)),Divipolas!$F$2:$G$1123,2,FALSE))","v":""},"","","","","",{"$f":"IF(ISNA(VLOOKUP(AJ52,Divipolas!$A$2:$B$1123,2,FALSE)),\"\",VLOOKUP(AJ52,Divipolas!$A$2:$B$1123,2,FALSE))","v":""},"",{"$f":"IF(ISNA(VLOOKUP((CONCATENATE(AJ52,AL52)),Divipolas!$F$2:$G$1123,2,FALSE)),\"\",VLOOKUP((CONCATENATE(AJ52,AL52)),Divipolas!$F$2:$G$1123,2,FALSE))","v":""},"","","","","","","","","","","","","","",null,null,null,null,null,null,null,{"$f":"IF(ISNA(VLOOKUP(BH52,'CODIGO PAIS'!$A$2:$B$231,2,FALSE)),\"\",VLOOKUP(BH52,'CODIGO PAIS'!$A$2:$B$231,2,FALSE))","v":""},null,{"$f":"IF(ISNA(VLOOKUP(BJ52,Divipolas!$A$2:$B$1123,2,FALSE)),\"\",VLOOKUP(BJ52,Divipolas!$A$2:$B$1123,2,FALSE))","v":""},null,{"$f":"IF(ISNA(VLOOKUP((CONCATENATE(BJ52,BL52)),Divipolas!$F$2:$G$1123,2,FALSE)),\"\",VLOOKUP((CONCATENATE(BJ52,BL52)),Divipolas!$F$2:$G$1123,2,FALSE))","v":""},null,"","",null,null,null,null,{"$f":"IF(ISNA(VLOOKUP(BT52,Divipolas!$A$2:$B$1123,2,FALSE)),\"\",VLOOKUP(BT52,Divipolas!$A$2:$B$1123,2,FALSE))","v":""},null,{"$f":"IF(ISNA(VLOOKUP((CONCATENATE(BT52,BV52)),Divipolas!$F$2:$G$1123,2,FALSE)),\"\",VLOOKUP((CONCATENATE(BT52,BV52)),Divipolas!$F$2:$G$1123,2,FALSE))","v":""},null,null,null,null,null,null,null,null,null,null,null,null,null,null,null,null,null,null,null,null,null,null,null,"",null,null,null,null,null,null,null,null,null,null,null,null,null,null,null,null,null,null,null,null,null,null,null,null,null,null,null,null,null,null,null,null,null,null,null,null,null,null,null,null,null,null,null,null,null,null,null,null,null,null,null,null,null,null,null,null,null,null,null,null,null,null,null,null,null,null,null,null,null,null,null,null,null,null,null,null,"",null,null,null,null,null,null,null,"VERIFIQUE FECHAS",null,null,null,null,null,null,null,null,null,"VERIFIQUE COLUMNA D"]
["","",null,"",{"$f":"IFERROR(VLOOKUP(D53,'CODIGO REGIONALES'!$J$2:$L$33,3,0),\"\")","v":""},"",{"$f":"IF(ISNA(VLOOKUP(F53,Divipolas!$A$2:$B$1123,2,FALSE)),\"\",VLOOKUP(F53,Divipolas!$A$2:$B$1123,2,FALSE))","v":""},"",{"$f":"IF(ISNA(VLOOKUP((CONCATENATE(F53,H53)),Divipolas!$F$2:$G$1123,2,FALSE)),\"\",VLOOKUP((CONCATENATE(F53,H53)),Divipolas!$F$2:$G$1123,2,FALSE))","v":""},"","","","","","","","",{"$f":"IF(ISNA(VLOOKUP(Q53,Divipolas!$A$2:$B$1123,2,FALSE)),\"\",VLOOKUP(Q53,Divipolas!$A$2:$B$1123,2,FALSE))","v":""},"",{"$f":"IF(ISNA(VLOOKUP((CONCATENATE(Q53,S53)),Divipolas!$F$2:$G$1123,2,FALSE)),\"\",VLOOKUP((CONCATENATE(Q53,S53)),Divipolas!$F$2:$G$1123,2,FALSE))","v":""},"","","","","","",{"$f":"IF(ISNA(VLOOKUP(Z53,'CODIGO PAIS'!$A$2:$B$231,2,FALSE)),\"\",VLOOKUP(Z53,'CODIGO PAIS'!$A$2:$B$231,2,FALSE))","v":""},"",{"$f":"IF(ISNA(VLOOKUP(AB53,Divipolas!$A$2:$B$1123,2,FALSE)),\"\",VLOOKUP(AB53,Divipolas!$A$2:$B$1123,2,FALSE))","v":""},"",{"$f":"IF(ISNA(VLOOKUP((CONCATENATE(AB53,AD53)),Divipolas!$F$2:$G$1123,2,FALSE)),\"\",VLOOKUP((CONCATENATE(AB53,AD53)),Divipolas!$F$2:$G$1123,2,FALSE))","v":""},"","","","","",{"$f":"IF(ISNA(VLOOKUP(AJ53,Divipolas!$A$2:$B$1123,2,FALSE)),\"\",VLOOKUP(AJ53,Divipolas!$A$2:$B$1123,2,FALSE))","v":""},"",{"$f":"IF(ISNA(VLOOKUP((CONCATENATE(AJ53,AL53)),Divipolas!$F$2:$G$1123,2,FALSE)),\"\",VLOOKUP((CONCATENATE(AJ53,AL53)),Divipolas!$F$2:$G$1123,2,FALSE))","v":""},"","","","","","","","","","","","","","",null,null,null,null,null,null,null,{"$f":"IF(ISNA(VLOOKUP(BH53,'CODIGO PAIS'!$A$2:$B$231,2,FALSE)),\"\",VLOOKUP(BH53,'CODIGO PAIS'!$A$2:$B$231,2,FALSE))","v":""},null,{"$f":"IF(ISNA(VLOOKUP(BJ53,Divipolas!$A$2:$B$1123,2,FALSE)),\"\",VLOOKUP(BJ53,Divipolas!$A$2:$B$1123,2,FALSE))","v":""},null,{"$f":"IF(ISNA(VLOOKUP((CONCATENATE(BJ53,BL53)),Divipolas!$F$2:$G$1123,2,FALSE)),\"\",VLOOKUP((CONCATENATE(BJ53,BL53)),Divipolas!$F$2:$G$1123,2,FALSE))","v":""},null,"","",null,null,null,null,{"$f":"IF(ISNA(VLOOKUP(BT53,Divipolas!$A$2:$B$1123,2,FALSE)),\"\",VLOOKUP(BT53,Divipolas!$A$2:$B$1123,2,FALSE))","v":""},null,{"$f":"IF(ISNA(VLOOKUP((CONCATENATE(BT53,BV53)),Divipolas!$F$2:$G$1123,2,FALSE)),\"\",VLOOKUP((CONCATENATE(BT53,BV53)),Divipolas!$F$2:$G$1123,2,FALSE))","v":""},null,null,null,null,null,null,null,null,null,null,null,null,null,null,null,null,null,null,null,null,null,null,null,"",null,null,null,null,null,null,null,null,null,null,null,null,null,null,null,null,null,null,null,null,null,null,null,null,null,null,null,null,null,null,null,null,null,null,null,null,null,null,null,null,null,null,null,null,null,null,null,null,null,null,null,null,null,null,null,null,null,null,null,null,null,null,null,null,null,null,null,null,null,null,null,null,null,null,null,null,"",null,null,null,null,null,null,null,"VERIFIQUE FECHAS",null,null,null,null,null,null,null,null,null,"VERIFIQUE COLUMNA D"]
["","",null,"",{"$f":"IFERROR(VLOOKUP(D54,'CODIGO REGIONALES'!$J$2:$L$33,3,0),\"\")","v":""},"",{"$f":"IF(ISNA(VLOOKUP(F54,Divipolas!$A$2:$B$1123,2,FALSE)),\"\",VLOOKUP(F54,Divipolas!$A$2:$B$1123,2,FALSE))","v":""},"",{"$f":"IF(ISNA(VLOOKUP((CONCATENATE(F54,H54)),Divipolas!$F$2:$G$1123,2,FALSE)),\"\",VLOOKUP((CONCATENATE(F54,H54)),Divipolas!$F$2:$G$1123,2,FALSE))","v":""},"","","","","","","","",{"$f":"IF(ISNA(VLOOKUP(Q54,Divipolas!$A$2:$B$1123,2,FALSE)),\"\",VLOOKUP(Q54,Divipolas!$A$2:$B$1123,2,FALSE))","v":""},"",{"$f":"IF(ISNA(VLOOKUP((CONCATENATE(Q54,S54)),Divipolas!$F$2:$G$1123,2,FALSE)),\"\",VLOOKUP((CONCATENATE(Q54,S54)),Divipolas!$F$2:$G$1123,2,FALSE))","v":""},"","","","","","",{"$f":"IF(ISNA(VLOOKUP(Z54,'CODIGO PAIS'!$A$2:$B$231,2,FALSE)),\"\",VLOOKUP(Z54,'CODIGO PAIS'!$A$2:$B$231,2,FALSE))","v":""},"",{"$f":"IF(ISNA(VLOOKUP(AB54,Divipolas!$A$2:$B$1123,2,FALSE)),\"\",VLOOKUP(AB54,Divipolas!$A$2:$B$1123,2,FALSE))","v":""},"",{"$f":"IF(ISNA(VLOOKUP((CONCATENATE(AB54,AD54)),Divipolas!$F$2:$G$1123,2,FALSE)),\"\",VLOOKUP((CONCATENATE(AB54,AD54)),Divipolas!$F$2:$G$1123,2,FALSE))","v":""},"","","","","",{"$f":"IF(ISNA(VLOOKUP(AJ54,Divipolas!$A$2:$B$1123,2,FALSE)),\"\",VLOOKUP(AJ54,Divipolas!$A$2:$B$1123,2,FALSE))","v":""},"",{"$f":"IF(ISNA(VLOOKUP((CONCATENATE(AJ54,AL54)),Divipolas!$F$2:$G$1123,2,FALSE)),\"\",VLOOKUP((CONCATENATE(AJ54,AL54)),Divipolas!$F$2:$G$1123,2,FALSE))","v":""},"","","","","","","","","","","","","","",null,null,null,null,null,null,null,{"$f":"IF(ISNA(VLOOKUP(BH54,'CODIGO PAIS'!$A$2:$B$231,2,FALSE)),\"\",VLOOKUP(BH54,'CODIGO PAIS'!$A$2:$B$231,2,FALSE))","v":""},null,{"$f":"IF(ISNA(VLOOKUP(BJ54,Divipolas!$A$2:$B$1123,2,FALSE)),\"\",VLOOKUP(BJ54,Divipolas!$A$2:$B$1123,2,FALSE))","v":""},null,{"$f":"IF(ISNA(VLOOKUP((CONCATENATE(BJ54,BL54)),Divipolas!$F$2:$G$1123,2,FALSE)),\"\",VLOOKUP((CONCATENATE(BJ54,BL54)),Divipolas!$F$2:$G$1123,2,FALSE))","v":""},null,"","",null,null,null,null,{"$f":"IF(ISNA(VLOOKUP(BT54,Divipolas!$A$2:$B$1123,2,FALSE)),\"\",VLOOKUP(BT54,Divipolas!$A$2:$B$1123,2,FALSE))","v":""},null,{"$f":"IF(ISNA(VLOOKUP((CONCATENATE(BT54,BV54)),Divipolas!$F$2:$G$1123,2,FALSE)),\"\",VLOOKUP((CONCATENATE(BT54,BV54)),Divipolas!$F$2:$G$1123,2,FALSE))","v":""},null,null,null,null,null,null,null,null,null,null,null,null,null,null,null,null,null,null,null,null,null,null,null,"",null,null,null,null,null,null,null,null,null,null,null,null,null,null,null,null,null,null,null,null,null,null,null,null,null,null,null,null,null,null,null,null,null,null,null,null,null,null,null,null,null,null,null,null,null,null,null,null,null,null,null,null,null,null,null,null,null,null,null,null,null,null,null,null,null,null,null,null,null,null,null,null,null,null,null,null,"",null,null,null,null,null,null,null,"VERIFIQUE FECHAS",null,null,null,null,null,null,null,null,null,"VERIFIQUE COLUMNA D"]
["","",null,"",{"$f":"IFERROR(VLOOKUP(D55,'CODIGO REGIONALES'!$J$2:$L$33,3,0),\"\")","v":""},"",{"$f":"IF(ISNA(VLOOKUP(F55,Divipolas!$A$2:$B$1123,2,FALSE)),\"\",VLOOKUP(F55,Divipolas!$A$2:$B$1123,2,FALSE))","v":""},"",{"$f":"IF(ISNA(VLOOKUP((CONCATENATE(F55,H55)),Divipolas!$F$2:$G$1123,2,FALSE)),\"\",VLOOKUP((CONCATENATE(F55,H55)),Divipolas!$F$2:$G$1123,2,FALSE))","v":""},"","","","","","","","",{"$f":"IF(ISNA(VLOOKUP(Q55,Divipolas!$A$2:$B$1123,2,FALSE)),\"\",VLOOKUP(Q55,Divipolas!$A$2:$B$1123,2,FALSE))","v":""},"",{"$f":"IF(ISNA(VLOOKUP((CONCATENATE(Q55,S55)),Divipolas!$F$2:$G$1123,2,FALSE)),\"\",VLOOKUP((CONCATENATE(Q55,S55)),Divipolas!$F$2:$G$1123,2,FALSE))","v":""},"","","","","","",{"$f":"IF(ISNA(VLOOKUP(Z55,'CODIGO PAIS'!$A$2:$B$231,2,FALSE)),\"\",VLOOKUP(Z55,'CODIGO PAIS'!$A$2:$B$231,2,FALSE))","v":""},"",{"$f":"IF(ISNA(VLOOKUP(AB55,Divipolas!$A$2:$B$1123,2,FALSE)),\"\",VLOOKUP(AB55,Divipolas!$A$2:$B$1123,2,FALSE))","v":""},"",{"$f":"IF(ISNA(VLOOKUP((CONCATENATE(AB55,AD55)),Divipolas!$F$2:$G$1123,2,FALSE)),\"\",VLOOKUP((CONCATENATE(AB55,AD55)),Divipolas!$F$2:$G$1123,2,FALSE))","v":""},"","","","","",{"$f":"IF(ISNA(VLOOKUP(AJ55,Divipolas!$A$2:$B$1123,2,FALSE)),\"\",VLOOKUP(AJ55,Divipolas!$A$2:$B$1123,2,FALSE))","v":""},"",{"$f":"IF(ISNA(VLOOKUP((CONCATENATE(AJ55,AL55)),Divipolas!$F$2:$G$1123,2,FALSE)),\"\",VLOOKUP((CONCATENATE(AJ55,AL55)),Divipolas!$F$2:$G$1123,2,FALSE))","v":""},"","","","","","","","","","","","","","",null,null,null,null,null,null,null,{"$f":"IF(ISNA(VLOOKUP(BH55,'CODIGO PAIS'!$A$2:$B$231,2,FALSE)),\"\",VLOOKUP(BH55,'CODIGO PAIS'!$A$2:$B$231,2,FALSE))","v":""},null,{"$f":"IF(ISNA(VLOOKUP(BJ55,Divipolas!$A$2:$B$1123,2,FALSE)),\"\",VLOOKUP(BJ55,Divipolas!$A$2:$B$1123,2,FALSE))","v":""},null,{"$f":"IF(ISNA(VLOOKUP((CONCATENATE(BJ55,BL55)),Divipolas!$F$2:$G$1123,2,FALSE)),\"\",VLOOKUP((CONCATENATE(BJ55,BL55)),Divipolas!$F$2:$G$1123,2,FALSE))","v":""},null,"","",null,null,null,null,{"$f":"IF(ISNA(VLOOKUP(BT55,Divipolas!$A$2:$B$1123,2,FALSE)),\"\",VLOOKUP(BT55,Divipolas!$A$2:$B$1123,2,FALSE))","v":""},null,{"$f":"IF(ISNA(VLOOKUP((CONCATENATE(BT55,BV55)),Divipolas!$F$2:$G$1123,2,FALSE)),\"\",VLOOKUP((CONCATENATE(BT55,BV55)),Divipolas!$F$2:$G$1123,2,FALSE))","v":""},null,null,null,null,null,null,null,null,null,null,null,null,null,null,null,null,null,null,null,null,null,null,null,"",null,null,null,null,null,null,null,null,null,null,null,null,null,null,null,null,null,null,null,null,null,null,null,null,null,null,null,null,null,null,null,null,null,null,null,null,null,null,null,null,null,null,null,null,null,null,null,null,null,null,null,null,null,null,null,null,null,null,null,null,null,null,null,null,null,null,null,null,null,null,null,null,null,null,null,null,"",null,null,null,null,null,null,null,"VERIFIQUE FECHAS",null,null,null,null,null,null,null,null,null,"VERIFIQUE COLUMNA D"]
["","",null,"",{"$f":"IFERROR(VLOOKUP(D56,'CODIGO REGIONALES'!$J$2:$L$33,3,0),\"\")","v":""},"",{"$f":"IF(ISNA(VLOOKUP(F56,Divipolas!$A$2:$B$1123,2,FALSE)),\"\",VLOOKUP(F56,Divipolas!$A$2:$B$1123,2,FALSE))","v":""},"",{"$f":"IF(ISNA(VLOOKUP((CONCATENATE(F56,H56)),Divipolas!$F$2:$G$1123,2,FALSE)),\"\",VLOOKUP((CONCATENATE(F56,H56)),Divipolas!$F$2:$G$1123,2,FALSE))","v":""},"",{"$f":"IF(AND($C56<>\"\",K55<>\"\"),K55,\"\")","v":""},"","","","","","",{"$f":"IF(ISNA(VLOOKUP(Q56,Divipolas!$A$2:$B$1123,2,FALSE)),\"\",VLOOKUP(Q56,Divipolas!$A$2:$B$1123,2,FALSE))","v":""},"",{"$f":"IF(ISNA(VLOOKUP((CONCATENATE(Q56,S56)),Divipolas!$F$2:$G$1123,2,FALSE)),\"\",VLOOKUP((CONCATENATE(Q56,S56)),Divipolas!$F$2:$G$1123,2,FALSE))","v":""},"","","","","","",{"$f":"IF(ISNA(VLOOKUP(Z56,'CODIGO PAIS'!$A$2:$B$231,2,FALSE)),\"\",VLOOKUP(Z56,'CODIGO PAIS'!$A$2:$B$231,2,FALSE))","v":""},"",{"$f":"IF(ISNA(VLOOKUP(AB56,Divipolas!$A$2:$B$1123,2,FALSE)),\"\",VLOOKUP(AB56,Divipolas!$A$2:$B$1123,2,FALSE))","v":""},"",{"$f":"IF(ISNA(VLOOKUP((CONCATENATE(AB56,AD56)),Divipolas!$F$2:$G$1123,2,FALSE)),\"\",VLOOKUP((CONCATENATE(AB56,AD56)),Divipolas!$F$2:$G$1123,2,FALSE))","v":""},"","","","","",{"$f":"IF(ISNA(VLOOKUP(AJ56,Divipolas!$A$2:$B$1123,2,FALSE)),\"\",VLOOKUP(AJ56,Divipolas!$A$2:$B$1123,2,FALSE))","v":""},"",{"$f":"IF(ISNA(VLOOKUP((CONCATENATE(AJ56,AL56)),Divipolas!$F$2:$G$1123,2,FALSE)),\"\",VLOOKUP((CONCATENATE(AJ56,AL56)),Divipolas!$F$2:$G$1123,2,FALSE))","v":""},"","","","","","","","","","","","","","",null,null,null,null,null,null,null,{"$f":"IF(ISNA(VLOOKUP(BH56,'CODIGO PAIS'!$A$2:$B$231,2,FALSE)),\"\",VLOOKUP(BH56,'CODIGO PAIS'!$A$2:$B$231,2,FALSE))","v":""},null,{"$f":"IF(ISNA(VLOOKUP(BJ56,Divipolas!$A$2:$B$1123,2,FALSE)),\"\",VLOOKUP(BJ56,Divipolas!$A$2:$B$1123,2,FALSE))","v":""},null,{"$f":"IF(ISNA(VLOOKUP((CONCATENATE(BJ56,BL56)),Divipolas!$F$2:$G$1123,2,FALSE)),\"\",VLOOKUP((CONCATENATE(BJ56,BL56)),Divipolas!$F$2:$G$1123,2,FALSE))","v":""},null,"","",null,null,null,null,{"$f":"IF(ISNA(VLOOKUP(BT56,Divipolas!$A$2:$B$1123,2,FALSE)),\"\",VLOOKUP(BT56,Divipolas!$A$2:$B$1123,2,FALSE))","v":""},null,{"$f":"IF(ISNA(VLOOKUP((CONCATENATE(BT56,BV56)),Divipolas!$F$2:$G$1123,2,FALSE)),\"\",VLOOKUP((CONCATENATE(BT56,BV56)),Divipolas!$F$2:$G$1123,2,FALSE))","v":""},null,null,null,null,null,null,null,null,null,null,null,null,null,null,null,null,null,null,null,null,null,null,null,"",null,null,null,null,null,null,null,null,null,null,null,null,null,null,null,null,null,null,null,null,null,null,null,null,null,null,null,null,null,null,null,null,null,null,null,null,null,null,null,null,null,null,null,null,null,null,null,null,null,null,null,null,null,null,null,null,null,null,null,null,null,null,null,null,null,null,null,null,null,null,null,null,null,null,null,null,"",null,null,null,null,null,null,null,"VERIFIQUE FECHAS",null,null,null,null,null,null,null,null,null,"VERIFIQUE COLUMNA D"]
["","",null,"",{"$f":"IFERROR(VLOOKUP(D57,'CODIGO REGIONALES'!$J$2:$L$33,3,0),\"\")","v":""},"",{"$f":"IF(ISNA(VLOOKUP(F57,Divipolas!$A$2:$B$1123,2,FALSE)),\"\",VLOOKUP(F57,Divipolas!$A$2:$B$1123,2,FALSE))","v":""},"",{"$f":"IF(ISNA(VLOOKUP((CONCATENATE(F57,H57)),Divipolas!$F$2:$G$1123,2,FALSE)),\"\",VLOOKUP((CONCATENATE(F57,H57)),Divipolas!$F$2:$G$1123,2,FALSE))","v":""},"","","","","","","","",{"$f":"IF(ISNA(VLOOKUP(Q57,Divipolas!$A$2:$B$1123,2,FALSE)),\"\",VLOOKUP(Q57,Divipolas!$A$2:$B$1123,2,FALSE))","v":""},"",{"$f":"IF(ISNA(VLOOKUP((CONCATENATE(Q57,S57)),Divipolas!$F$2:$G$1123,2,FALSE)),\"\",VLOOKUP((CONCATENATE(Q57,S57)),Divipolas!$F$2:$G$1123,2,FALSE))","v":""},"","","","","","",{"$f":"IF(ISNA(VLOOKUP(Z57,'CODIGO PAIS'!$A$2:$B$231,2,FALSE)),\"\",VLOOKUP(Z57,'CODIGO PAIS'!$A$2:$B$231,2,FALSE))","v":""},"",{"$f":"IF(ISNA(VLOOKUP(AB57,Divipolas!$A$2:$B$1123,2,FALSE)),\"\",VLOOKUP(AB57,Divipolas!$A$2:$B$1123,2,FALSE))","v":""},"",{"$f":"IF(ISNA(VLOOKUP((CONCATENATE(AB57,AD57)),Divipolas!$F$2:$G$1123,2,FALSE)),\"\",VLOOKUP((CONCATENATE(AB57,AD57)),Divipolas!$F$2:$G$1123,2,FALSE))","v":""},"","","","","",{"$f":"IF(ISNA(VLOOKUP(AJ57,Divipolas!$A$2:$B$1123,2,FALSE)),\"\",VLOOKUP(AJ57,Divipolas!$A$2:$B$1123,2,FALSE))","v":""},"",{"$f":"IF(ISNA(VLOOKUP((CONCATENATE(AJ57,AL57)),Divipolas!$F$2:$G$1123,2,FALSE)),\"\",VLOOKUP((CONCATENATE(AJ57,AL57)),Divipolas!$F$2:$G$1123,2,FALSE))","v":""},"","","","","","","","","","","","","","",null,null,null,null,null,null,null,{"$f":"IF(ISNA(VLOOKUP(BH57,'CODIGO PAIS'!$A$2:$B$231,2,FALSE)),\"\",VLOOKUP(BH57,'CODIGO PAIS'!$A$2:$B$231,2,FALSE))","v":""},null,{"$f":"IF(ISNA(VLOOKUP(BJ57,Divipolas!$A$2:$B$1123,2,FALSE)),\"\",VLOOKUP(BJ57,Divipolas!$A$2:$B$1123,2,FALSE))","v":""},null,{"$f":"IF(ISNA(VLOOKUP((CONCATENATE(BJ57,BL57)),Divipolas!$F$2:$G$1123,2,FALSE)),\"\",VLOOKUP((CONCATENATE(BJ57,BL57)),Divipolas!$F$2:$G$1123,2,FALSE))","v":""},null,"","",null,null,null,null,{"$f":"IF(ISNA(VLOOKUP(BT57,Divipolas!$A$2:$B$1123,2,FALSE)),\"\",VLOOKUP(BT57,Divipolas!$A$2:$B$1123,2,FALSE))","v":""},null,{"$f":"IF(ISNA(VLOOKUP((CONCATENATE(BT57,BV57)),Divipolas!$F$2:$G$1123,2,FALSE)),\"\",VLOOKUP((CONCATENATE(BT57,BV57)),Divipolas!$F$2:$G$1123,2,FALSE))","v":""},null,null,null,null,null,null,null,null,null,null,null,null,null,null,null,null,null,null,null,null,null,null,null,"",null,null,null,null,null,null,null,null,null,null,null,null,null,null,null,null,null,null,null,null,null,null,null,null,null,null,null,null,null,null,null,null,null,null,null,null,null,null,null,null,null,null,null,null,null,null,null,null,null,null,null,null,null,null,null,null,null,null,null,null,null,null,null,null,null,null,null,null,null,null,null,null,null,null,null,null,"",null,null,null,null,null,null,null,"VERIFIQUE FECHAS",null,null,null,null,null,null,null,null,null,"VERIFIQUE COLUMNA D"]
["","",null,"",{"$f":"IFERROR(VLOOKUP(D58,'CODIGO REGIONALES'!$J$2:$L$33,3,0),\"\")","v":""},"",{"$f":"IF(ISNA(VLOOKUP(F58,Divipolas!$A$2:$B$1123,2,FALSE)),\"\",VLOOKUP(F58,Divipolas!$A$2:$B$1123,2,FALSE))","v":""},"",{"$f":"IF(ISNA(VLOOKUP((CONCATENATE(F58,H58)),Divipolas!$F$2:$G$1123,2,FALSE)),\"\",VLOOKUP((CONCATENATE(F58,H58)),Divipolas!$F$2:$G$1123,2,FALSE))","v":""},"","","","","","","","",{"$f":"IF(ISNA(VLOOKUP(Q58,Divipolas!$A$2:$B$1123,2,FALSE)),\"\",VLOOKUP(Q58,Divipolas!$A$2:$B$1123,2,FALSE))","v":""},"",{"$f":"IF(ISNA(VLOOKUP((CONCATENATE(Q58,S58)),Divipolas!$F$2:$G$1123,2,FALSE)),\"\",VLOOKUP((CONCATENATE(Q58,S58)),Divipolas!$F$2:$G$1123,2,FALSE))","v":""},"","","","","","",{"$f":"IF(ISNA(VLOOKUP(Z58,'CODIGO PAIS'!$A$2:$B$231,2,FALSE)),\"\",VLOOKUP(Z58,'CODIGO PAIS'!$A$2:$B$231,2,FALSE))","v":""},"",{"$f":"IF(ISNA(VLOOKUP(AB58,Divipolas!$A$2:$B$1123,2,FALSE)),\"\",VLOOKUP(AB58,Divipolas!$A$2:$B$1123,2,FALSE))","v":""},"",{"$f":"IF(ISNA(VLOOKUP((CONCATENATE(AB58,AD58)),Divipolas!$F$2:$G$1123,2,FALSE)),\"\",VLOOKUP((CONCATENATE(AB58,AD58)),Divipolas!$F$2:$G$1123,2,FALSE))","v":""},"","","","","",{"$f":"IF(ISNA(VLOOKUP(AJ58,Divipolas!$A$2:$B$1123,2,FALSE)),\"\",VLOOKUP(AJ58,Divipolas!$A$2:$B$1123,2,FALSE))","v":""},"",{"$f":"IF(ISNA(VLOOKUP((CONCATENATE(AJ58,AL58)),Divipolas!$F$2:$G$1123,2,FALSE)),\"\",VLOOKUP((CONCATENATE(AJ58,AL58)),Divipolas!$F$2:$G$1123,2,FALSE))","v":""},"","","","","","","","","","","","","","",null,null,null,null,null,null,null,{"$f":"IF(ISNA(VLOOKUP(BH58,'CODIGO PAIS'!$A$2:$B$231,2,FALSE)),\"\",VLOOKUP(BH58,'CODIGO PAIS'!$A$2:$B$231,2,FALSE))","v":""},null,{"$f":"IF(ISNA(VLOOKUP(BJ58,Divipolas!$A$2:$B$1123,2,FALSE)),\"\",VLOOKUP(BJ58,Divipolas!$A$2:$B$1123,2,FALSE))","v":""},null,{"$f":"IF(ISNA(VLOOKUP((CONCATENATE(BJ58,BL58)),Divipolas!$F$2:$G$1123,2,FALSE)),\"\",VLOOKUP((CONCATENATE(BJ58,BL58)),Divipolas!$F$2:$G$1123,2,FALSE))","v":""},null,"","",null,null,null,null,{"$f":"IF(ISNA(VLOOKUP(BT58,Divipolas!$A$2:$B$1123,2,FALSE)),\"\",VLOOKUP(BT58,Divipolas!$A$2:$B$1123,2,FALSE))","v":""},null,{"$f":"IF(ISNA(VLOOKUP((CONCATENATE(BT58,BV58)),Divipolas!$F$2:$G$1123,2,FALSE)),\"\",VLOOKUP((CONCATENATE(BT58,BV58)),Divipolas!$F$2:$G$1123,2,FALSE))","v":""},null,null,null,null,null,null,null,null,null,null,null,null,null,null,null,null,null,null,null,null,null,null,null,"",null,null,null,null,null,null,null,null,null,null,null,null,null,null,null,null,null,null,null,null,null,null,null,null,null,null,null,null,null,null,null,null,null,null,null,null,null,null,null,null,null,null,null,null,null,null,null,null,null,null,null,null,null,null,null,null,null,null,null,null,null,null,null,null,null,null,null,null,null,null,null,null,null,null,null,null,"",null,null,null,null,null,null,null,"VERIFIQUE FECHAS",null,null,null,null,null,null,null,null,null,"VERIFIQUE COLUMNA D"]
["","",null,"",{"$f":"IFERROR(VLOOKUP(D59,'CODIGO REGIONALES'!$J$2:$L$33,3,0),\"\")","v":""},"",{"$f":"IF(ISNA(VLOOKUP(F59,Divipolas!$A$2:$B$1123,2,FALSE)),\"\",VLOOKUP(F59,Divipolas!$A$2:$B$1123,2,FALSE))","v":""},"",{"$f":"IF(ISNA(VLOOKUP((CONCATENATE(F59,H59)),Divipolas!$F$2:$G$1123,2,FALSE)),\"\",VLOOKUP((CONCATENATE(F59,H59)),Divipolas!$F$2:$G$1123,2,FALSE))","v":""},"","","","","","","","",{"$f":"IF(ISNA(VLOOKUP(Q59,Divipolas!$A$2:$B$1123,2,FALSE)),\"\",VLOOKUP(Q59,Divipolas!$A$2:$B$1123,2,FALSE))","v":""},"",{"$f":"IF(ISNA(VLOOKUP((CONCATENATE(Q59,S59)),Divipolas!$F$2:$G$1123,2,FALSE)),\"\",VLOOKUP((CONCATENATE(Q59,S59)),Divipolas!$F$2:$G$1123,2,FALSE))","v":""},"","","","","","",{"$f":"IF(ISNA(VLOOKUP(Z59,'CODIGO PAIS'!$A$2:$B$231,2,FALSE)),\"\",VLOOKUP(Z59,'CODIGO PAIS'!$A$2:$B$231,2,FALSE))","v":""},"",{"$f":"IF(ISNA(VLOOKUP(AB59,Divipolas!$A$2:$B$1123,2,FALSE)),\"\",VLOOKUP(AB59,Divipolas!$A$2:$B$1123,2,FALSE))","v":""},"",{"$f":"IF(ISNA(VLOOKUP((CONCATENATE(AB59,AD59)),Divipolas!$F$2:$G$1123,2,FALSE)),\"\",VLOOKUP((CONCATENATE(AB59,AD59)),Divipolas!$F$2:$G$1123,2,FALSE))","v":""},"","","","","",{"$f":"IF(ISNA(VLOOKUP(AJ59,Divipolas!$A$2:$B$1123,2,FALSE)),\"\",VLOOKUP(AJ59,Divipolas!$A$2:$B$1123,2,FALSE))","v":""},"",{"$f":"IF(ISNA(VLOOKUP((CONCATENATE(AJ59,AL59)),Divipolas!$F$2:$G$1123,2,FALSE)),\"\",VLOOKUP((CONCATENATE(AJ59,AL59)),Divipolas!$F$2:$G$1123,2,FALSE))","v":""},"","","","","","","","","","","","","","",null,null,null,null,null,null,null,{"$f":"IF(ISNA(VLOOKUP(BH59,'CODIGO PAIS'!$A$2:$B$231,2,FALSE)),\"\",VLOOKUP(BH59,'CODIGO PAIS'!$A$2:$B$231,2,FALSE))","v":""},null,{"$f":"IF(ISNA(VLOOKUP(BJ59,Divipolas!$A$2:$B$1123,2,FALSE)),\"\",VLOOKUP(BJ59,Divipolas!$A$2:$B$1123,2,FALSE))","v":""},null,{"$f":"IF(ISNA(VLOOKUP((CONCATENATE(BJ59,BL59)),Divipolas!$F$2:$G$1123,2,FALSE)),\"\",VLOOKUP((CONCATENATE(BJ59,BL59)),Divipolas!$F$2:$G$1123,2,FALSE))","v":""},null,"","",null,null,null,null,{"$f":"IF(ISNA(VLOOKUP(BT59,Divipolas!$A$2:$B$1123,2,FALSE)),\"\",VLOOKUP(BT59,Divipolas!$A$2:$B$1123,2,FALSE))","v":""},null,{"$f":"IF(ISNA(VLOOKUP((CONCATENATE(BT59,BV59)),Divipolas!$F$2:$G$1123,2,FALSE)),\"\",VLOOKUP((CONCATENATE(BT59,BV59)),Divipolas!$F$2:$G$1123,2,FALSE))","v":""},null,null,null,null,null,null,null,null,null,null,null,null,null,null,null,null,null,null,null,null,null,null,null,"",null,null,null,null,null,null,null,null,null,null,null,null,null,null,null,null,null,null,null,null,null,null,null,null,null,null,null,null,null,null,null,null,null,null,null,null,null,null,null,null,null,null,null,null,null,null,null,null,null,null,null,null,null,null,null,null,null,null,null,null,null,null,null,null,null,null,null,null,null,null,null,null,null,null,null,null,"",null,null,null,null,null,null,null,"VERIFIQUE FECHAS",null,null,null,null,null,null,null,null,null,"VERIFIQUE COLUMNA D"]
["","",null,"",{"$f":"IFERROR(VLOOKUP(D60,'CODIGO REGIONALES'!$J$2:$L$33,3,0),\"\")","v":""},"",{"$f":"IF(ISNA(VLOOKUP(F60,Divipolas!$A$2:$B$1123,2,FALSE)),\"\",VLOOKUP(F60,Divipolas!$A$2:$B$1123,2,FALSE))","v":""},"",{"$f":"IF(ISNA(VLOOKUP((CONCATENATE(F60,H60)),Divipolas!$F$2:$G$1123,2,FALSE)),\"\",VLOOKUP((CONCATENATE(F60,H60)),Divipolas!$F$2:$G$1123,2,FALSE))","v":""},"","","","","","","","",{"$f":"IF(ISNA(VLOOKUP(Q60,Divipolas!$A$2:$B$1123,2,FALSE)),\"\",VLOOKUP(Q60,Divipolas!$A$2:$B$1123,2,FALSE))","v":""},"",{"$f":"IF(ISNA(VLOOKUP((CONCATENATE(Q60,S60)),Divipolas!$F$2:$G$1123,2,FALSE)),\"\",VLOOKUP((CONCATENATE(Q60,S60)),Divipolas!$F$2:$G$1123,2,FALSE))","v":""},"","","","","","",{"$f":"IF(ISNA(VLOOKUP(Z60,'CODIGO PAIS'!$A$2:$B$231,2,FALSE)),\"\",VLOOKUP(Z60,'CODIGO PAIS'!$A$2:$B$231,2,FALSE))","v":""},"",{"$f":"IF(ISNA(VLOOKUP(AB60,Divipolas!$A$2:$B$1123,2,FALSE)),\"\",VLOOKUP(AB60,Divipolas!$A$2:$B$1123,2,FALSE))","v":""},"",{"$f":"IF(ISNA(VLOOKUP((CONCATENATE(AB60,AD60)),Divipolas!$F$2:$G$1123,2,FALSE)),\"\",VLOOKUP((CONCATENATE(AB60,AD60)),Divipolas!$F$2:$G$1123,2,FALSE))","v":""},"","","","","",{"$f":"IF(ISNA(VLOOKUP(AJ60,Divipolas!$A$2:$B$1123,2,FALSE)),\"\",VLOOKUP(AJ60,Divipolas!$A$2:$B$1123,2,FALSE))","v":""},"",{"$f":"IF(ISNA(VLOOKUP((CONCATENATE(AJ60,AL60)),Divipolas!$F$2:$G$1123,2,FALSE)),\"\",VLOOKUP((CONCATENATE(AJ60,AL60)),Divipolas!$F$2:$G$1123,2,FALSE))","v":""},"","","","","","","","","","","","","","",null,null,null,null,null,null,null,{"$f":"IF(ISNA(VLOOKUP(BH60,'CODIGO PAIS'!$A$2:$B$231,2,FALSE)),\"\",VLOOKUP(BH60,'CODIGO PAIS'!$A$2:$B$231,2,FALSE))","v":""},null,{"$f":"IF(ISNA(VLOOKUP(BJ60,Divipolas!$A$2:$B$1123,2,FALSE)),\"\",VLOOKUP(BJ60,Divipolas!$A$2:$B$1123,2,FALSE))","v":""},null,{"$f":"IF(ISNA(VLOOKUP((CONCATENATE(BJ60,BL60)),Divipolas!$F$2:$G$1123,2,FALSE)),\"\",VLOOKUP((CONCATENATE(BJ60,BL60)),Divipolas!$F$2:$G$1123,2,FALSE))","v":""},null,"","",null,null,null,null,{"$f":"IF(ISNA(VLOOKUP(BT60,Divipolas!$A$2:$B$1123,2,FALSE)),\"\",VLOOKUP(BT60,Divipolas!$A$2:$B$1123,2,FALSE))","v":""},null,{"$f":"IF(ISNA(VLOOKUP((CONCATENATE(BT60,BV60)),Divipolas!$F$2:$G$1123,2,FALSE)),\"\",VLOOKUP((CONCATENATE(BT60,BV60)),Divipolas!$F$2:$G$1123,2,FALSE))","v":""},null,null,null,null,null,null,null,null,null,null,null,null,null,null,null,null,null,null,null,null,null,null,null,"",null,null,null,null,null,null,null,null,null,null,null,null,null,null,null,null,null,null,null,null,null,null,null,null,null,null,null,null,null,null,null,null,null,null,null,null,null,null,null,null,null,null,null,null,null,null,null,null,null,null,null,null,null,null,null,null,null,null,null,null,null,null,null,null,null,null,null,null,null,null,null,null,null,null,null,null,"",null,null,null,null,null,null,null,"VERIFIQUE FECHAS",null,null,null,null,null,null,null,null,null,"VERIFIQUE COLUMNA D"]
["","",null,"",{"$f":"IFERROR(VLOOKUP(D61,'CODIGO REGIONALES'!$J$2:$L$33,3,0),\"\")","v":""},"",{"$f":"IF(ISNA(VLOOKUP(F61,Divipolas!$A$2:$B$1123,2,FALSE)),\"\",VLOOKUP(F61,Divipolas!$A$2:$B$1123,2,FALSE))","v":""},"",{"$f":"IF(ISNA(VLOOKUP((CONCATENATE(F61,H61)),Divipolas!$F$2:$G$1123,2,FALSE)),\"\",VLOOKUP((CONCATENATE(F61,H61)),Divipolas!$F$2:$G$1123,2,FALSE))","v":""},"","","","","","","","",{"$f":"IF(ISNA(VLOOKUP(Q61,Divipolas!$A$2:$B$1123,2,FALSE)),\"\",VLOOKUP(Q61,Divipolas!$A$2:$B$1123,2,FALSE))","v":""},"",{"$f":"IF(ISNA(VLOOKUP((CONCATENATE(Q61,S61)),Divipolas!$F$2:$G$1123,2,FALSE)),\"\",VLOOKUP((CONCATENATE(Q61,S61)),Divipolas!$F$2:$G$1123,2,FALSE))","v":""},"","","","","","",{"$f":"IF(ISNA(VLOOKUP(Z61,'CODIGO PAIS'!$A$2:$B$231,2,FALSE)),\"\",VLOOKUP(Z61,'CODIGO PAIS'!$A$2:$B$231,2,FALSE))","v":""},"",{"$f":"IF(ISNA(VLOOKUP(AB61,Divipolas!$A$2:$B$1123,2,FALSE)),\"\",VLOOKUP(AB61,Divipolas!$A$2:$B$1123,2,FALSE))","v":""},"",{"$f":"IF(ISNA(VLOOKUP((CONCATENATE(AB61,AD61)),Divipolas!$F$2:$G$1123,2,FALSE)),\"\",VLOOKUP((CONCATENATE(AB61,AD61)),Divipolas!$F$2:$G$1123,2,FALSE))","v":""},"","","","","",{"$f":"IF(ISNA(VLOOKUP(AJ61,Divipolas!$A$2:$B$1123,2,FALSE)),\"\",VLOOKUP(AJ61,Divipolas!$A$2:$B$1123,2,FALSE))","v":""},"",{"$f":"IF(ISNA(VLOOKUP((CONCATENATE(AJ61,AL61)),Divipolas!$F$2:$G$1123,2,FALSE)),\"\",VLOOKUP((CONCATENATE(AJ61,AL61)),Divipolas!$F$2:$G$1123,2,FALSE))","v":""},"","","","","","","","","","","","","","",null,null,null,null,null,null,null,{"$f":"IF(ISNA(VLOOKUP(BH61,'CODIGO PAIS'!$A$2:$B$231,2,FALSE)),\"\",VLOOKUP(BH61,'CODIGO PAIS'!$A$2:$B$231,2,FALSE))","v":""},null,{"$f":"IF(ISNA(VLOOKUP(BJ61,Divipolas!$A$2:$B$1123,2,FALSE)),\"\",VLOOKUP(BJ61,Divipolas!$A$2:$B$1123,2,FALSE))","v":""},null,{"$f":"IF(ISNA(VLOOKUP((CONCATENATE(BJ61,BL61)),Divipolas!$F$2:$G$1123,2,FALSE)),\"\",VLOOKUP((CONCATENATE(BJ61,BL61)),Divipolas!$F$2:$G$1123,2,FALSE))","v":""},null,"","",null,null,null,null,{"$f":"IF(ISNA(VLOOKUP(BT61,Divipolas!$A$2:$B$1123,2,FALSE)),\"\",VLOOKUP(BT61,Divipolas!$A$2:$B$1123,2,FALSE))","v":""},null,{"$f":"IF(ISNA(VLOOKUP((CONCATENATE(BT61,BV61)),Divipolas!$F$2:$G$1123,2,FALSE)),\"\",VLOOKUP((CONCATENATE(BT61,BV61)),Divipolas!$F$2:$G$1123,2,FALSE))","v":""},null,null,null,null,null,null,null,null,null,null,null,null,null,null,null,null,null,null,null,null,null,null,null,"",null,null,null,null,null,null,null,null,null,null,null,null,null,null,null,null,null,null,null,null,null,null,null,null,null,null,null,null,null,null,null,null,null,null,null,null,null,null,null,null,null,null,null,null,null,null,null,null,null,null,null,null,null,null,null,null,null,null,null,null,null,null,null,null,null,null,null,null,null,null,null,null,null,null,null,null,"",null,null,null,null,null,null,null,"VERIFIQUE FECHAS",null,null,null,null,null,null,null,null,null,"VERIFIQUE COLUMNA D"]
["","",null,"",{"$f":"IFERROR(VLOOKUP(D62,'CODIGO REGIONALES'!$J$2:$L$33,3,0),\"\")","v":""},"",{"$f":"IF(ISNA(VLOOKUP(F62,Divipolas!$A$2:$B$1123,2,FALSE)),\"\",VLOOKUP(F62,Divipolas!$A$2:$B$1123,2,FALSE))","v":""},"",{"$f":"IF(ISNA(VLOOKUP((CONCATENATE(F62,H62)),Divipolas!$F$2:$G$1123,2,FALSE)),\"\",VLOOKUP((CONCATENATE(F62,H62)),Divipolas!$F$2:$G$1123,2,FALSE))","v":""},"","","","","","","","",{"$f":"IF(ISNA(VLOOKUP(Q62,Divipolas!$A$2:$B$1123,2,FALSE)),\"\",VLOOKUP(Q62,Divipolas!$A$2:$B$1123,2,FALSE))","v":""},"",{"$f":"IF(ISNA(VLOOKUP((CONCATENATE(Q62,S62)),Divipolas!$F$2:$G$1123,2,FALSE)),\"\",VLOOKUP((CONCATENATE(Q62,S62)),Divipolas!$F$2:$G$1123,2,FALSE))","v":""},"","","","","","",{"$f":"IF(ISNA(VLOOKUP(Z62,'CODIGO PAIS'!$A$2:$B$231,2,FALSE)),\"\",VLOOKUP(Z62,'CODIGO PAIS'!$A$2:$B$231,2,FALSE))","v":""},"",{"$f":"IF(ISNA(VLOOKUP(AB62,Divipolas!$A$2:$B$1123,2,FALSE)),\"\",VLOOKUP(AB62,Divipolas!$A$2:$B$1123,2,FALSE))","v":""},"",{"$f":"IF(ISNA(VLOOKUP((CONCATENATE(AB62,AD62)),Divipolas!$F$2:$G$1123,2,FALSE)),\"\",VLOOKUP((CONCATENATE(AB62,AD62)),Divipolas!$F$2:$G$1123,2,FALSE))","v":""},"","","","","",{"$f":"IF(ISNA(VLOOKUP(AJ62,Divipolas!$A$2:$B$1123,2,FALSE)),\"\",VLOOKUP(AJ62,Divipolas!$A$2:$B$1123,2,FALSE))","v":""},"",{"$f":"IF(ISNA(VLOOKUP((CONCATENATE(AJ62,AL62)),Divipolas!$F$2:$G$1123,2,FALSE)),\"\",VLOOKUP((CONCATENATE(AJ62,AL62)),Divipolas!$F$2:$G$1123,2,FALSE))","v":""},"","","","","","","","","","","","","","",null,null,null,null,null,null,null,{"$f":"IF(ISNA(VLOOKUP(BH62,'CODIGO PAIS'!$A$2:$B$231,2,FALSE)),\"\",VLOOKUP(BH62,'CODIGO PAIS'!$A$2:$B$231,2,FALSE))","v":""},null,{"$f":"IF(ISNA(VLOOKUP(BJ62,Divipolas!$A$2:$B$1123,2,FALSE)),\"\",VLOOKUP(BJ62,Divipolas!$A$2:$B$1123,2,FALSE))","v":""},null,{"$f":"IF(ISNA(VLOOKUP((CONCATENATE(BJ62,BL62)),Divipolas!$F$2:$G$1123,2,FALSE)),\"\",VLOOKUP((CONCATENATE(BJ62,BL62)),Divipolas!$F$2:$G$1123,2,FALSE))","v":""},null,"","",null,null,null,null,{"$f":"IF(ISNA(VLOOKUP(BT62,Divipolas!$A$2:$B$1123,2,FALSE)),\"\",VLOOKUP(BT62,Divipolas!$A$2:$B$1123,2,FALSE))","v":""},null,{"$f":"IF(ISNA(VLOOKUP((CONCATENATE(BT62,BV62)),Divipolas!$F$2:$G$1123,2,FALSE)),\"\",VLOOKUP((CONCATENATE(BT62,BV62)),Divipolas!$F$2:$G$1123,2,FALSE))","v":""},null,null,null,null,null,null,null,null,null,null,null,null,null,null,null,null,null,null,null,null,null,null,null,"",null,null,null,null,null,null,null,null,null,null,null,null,null,null,null,null,null,null,null,null,null,null,null,null,null,null,null,null,null,null,null,null,null,null,null,null,null,null,null,null,null,null,null,null,null,null,null,null,null,null,null,null,null,null,null,null,null,null,null,null,null,null,null,null,null,null,null,null,null,null,null,null,null,null,null,null,"",null,null,null,null,null,null,null,"VERIFIQUE FECHAS",null,null,null,null,null,null,null,null,null,"VERIFIQUE COLUMNA D"]
["","",null,"",{"$f":"IFERROR(VLOOKUP(D63,'CODIGO REGIONALES'!$J$2:$L$33,3,0),\"\")","v":""},"",{"$f":"IF(ISNA(VLOOKUP(F63,Divipolas!$A$2:$B$1123,2,FALSE)),\"\",VLOOKUP(F63,Divipolas!$A$2:$B$1123,2,FALSE))","v":""},"",{"$f":"IF(ISNA(VLOOKUP((CONCATENATE(F63,H63)),Divipolas!$F$2:$G$1123,2,FALSE)),\"\",VLOOKUP((CONCATENATE(F63,H63)),Divipolas!$F$2:$G$1123,2,FALSE))","v":""},"","","","","","","","",{"$f":"IF(ISNA(VLOOKUP(Q63,Divipolas!$A$2:$B$1123,2,FALSE)),\"\",VLOOKUP(Q63,Divipolas!$A$2:$B$1123,2,FALSE))","v":""},"",{"$f":"IF(ISNA(VLOOKUP((CONCATENATE(Q63,S63)),Divipolas!$F$2:$G$1123,2,FALSE)),\"\",VLOOKUP((CONCATENATE(Q63,S63)),Divipolas!$F$2:$G$1123,2,FALSE))","v":""},"","","","","","",{"$f":"IF(ISNA(VLOOKUP(Z63,'CODIGO PAIS'!$A$2:$B$231,2,FALSE)),\"\",VLOOKUP(Z63,'CODIGO PAIS'!$A$2:$B$231,2,FALSE))","v":""},"",{"$f":"IF(ISNA(VLOOKUP(AB63,Divipolas!$A$2:$B$1123,2,FALSE)),\"\",VLOOKUP(AB63,Divipolas!$A$2:$B$1123,2,FALSE))","v":""},"",{"$f":"IF(ISNA(VLOOKUP((CONCATENATE(AB63,AD63)),Divipolas!$F$2:$G$1123,2,FALSE)),\"\",VLOOKUP((CONCATENATE(AB63,AD63)),Divipolas!$F$2:$G$1123,2,FALSE))","v":""},"","","","","",{"$f":"IF(ISNA(VLOOKUP(AJ63,Divipolas!$A$2:$B$1123,2,FALSE)),\"\",VLOOKUP(AJ63,Divipolas!$A$2:$B$1123,2,FALSE))","v":""},"",{"$f":"IF(ISNA(VLOOKUP((CONCATENATE(AJ63,AL63)),Divipolas!$F$2:$G$1123,2,FALSE)),\"\",VLOOKUP((CONCATENATE(AJ63,AL63)),Divipolas!$F$2:$G$1123,2,FALSE))","v":""},"","","","","","","","","","","","","","",null,null,null,null,null,null,null,{"$f":"IF(ISNA(VLOOKUP(BH63,'CODIGO PAIS'!$A$2:$B$231,2,FALSE)),\"\",VLOOKUP(BH63,'CODIGO PAIS'!$A$2:$B$231,2,FALSE))","v":""},null,{"$f":"IF(ISNA(VLOOKUP(BJ63,Divipolas!$A$2:$B$1123,2,FALSE)),\"\",VLOOKUP(BJ63,Divipolas!$A$2:$B$1123,2,FALSE))","v":""},null,{"$f":"IF(ISNA(VLOOKUP((CONCATENATE(BJ63,BL63)),Divipolas!$F$2:$G$1123,2,FALSE)),\"\",VLOOKUP((CONCATENATE(BJ63,BL63)),Divipolas!$F$2:$G$1123,2,FALSE))","v":""},null,"","",null,null,null,null,{"$f":"IF(ISNA(VLOOKUP(BT63,Divipolas!$A$2:$B$1123,2,FALSE)),\"\",VLOOKUP(BT63,Divipolas!$A$2:$B$1123,2,FALSE))","v":""},null,{"$f":"IF(ISNA(VLOOKUP((CONCATENATE(BT63,BV63)),Divipolas!$F$2:$G$1123,2,FALSE)),\"\",VLOOKUP((CONCATENATE(BT63,BV63)),Divipolas!$F$2:$G$1123,2,FALSE))","v":""},null,null,null,null,null,null,null,null,null,null,null,null,null,null,null,null,null,null,null,null,null,null,null,"",null,null,null,null,null,null,null,null,null,null,null,null,null,null,null,null,null,null,null,null,null,null,null,null,null,null,null,null,null,null,null,null,null,null,null,null,null,null,null,null,null,null,null,null,null,null,null,null,null,null,null,null,null,null,null,null,null,null,null,null,null,null,null,null,null,null,null,null,null,null,null,null,null,null,null,null,"",null,null,null,null,null,null,null,"VERIFIQUE FECHAS",null,null,null,null,null,null,null,null,null,"VERIFIQUE COLUMNA D"]
["","",null,"",{"$f":"IFERROR(VLOOKUP(D64,'CODIGO REGIONALES'!$J$2:$L$33,3,0),\"\")","v":""},"",{"$f":"IF(ISNA(VLOOKUP(F64,Divipolas!$A$2:$B$1123,2,FALSE)),\"\",VLOOKUP(F64,Divipolas!$A$2:$B$1123,2,FALSE))","v":""},"",{"$f":"IF(ISNA(VLOOKUP((CONCATENATE(F64,H64)),Divipolas!$F$2:$G$1123,2,FALSE)),\"\",VLOOKUP((CONCATENATE(F64,H64)),Divipolas!$F$2:$G$1123,2,FALSE))","v":""},"","","","","","","","",{"$f":"IF(ISNA(VLOOKUP(Q64,Divipolas!$A$2:$B$1123,2,FALSE)),\"\",VLOOKUP(Q64,Divipolas!$A$2:$B$1123,2,FALSE))","v":""},"",{"$f":"IF(ISNA(VLOOKUP((CONCATENATE(Q64,S64)),Divipolas!$F$2:$G$1123,2,FALSE)),\"\",VLOOKUP((CONCATENATE(Q64,S64)),Divipolas!$F$2:$G$1123,2,FALSE))","v":""},"","","","","","",{"$f":"IF(ISNA(VLOOKUP(Z64,'CODIGO PAIS'!$A$2:$B$231,2,FALSE)),\"\",VLOOKUP(Z64,'CODIGO PAIS'!$A$2:$B$231,2,FALSE))","v":""},"",{"$f":"IF(ISNA(VLOOKUP(AB64,Divipolas!$A$2:$B$1123,2,FALSE)),\"\",VLOOKUP(AB64,Divipolas!$A$2:$B$1123,2,FALSE))","v":""},"",{"$f":"IF(ISNA(VLOOKUP((CONCATENATE(AB64,AD64)),Divipolas!$F$2:$G$1123,2,FALSE)),\"\",VLOOKUP((CONCATENATE(AB64,AD64)),Divipolas!$F$2:$G$1123,2,FALSE))","v":""},"","","","","",{"$f":"IF(ISNA(VLOOKUP(AJ64,Divipolas!$A$2:$B$1123,2,FALSE)),\"\",VLOOKUP(AJ64,Divipolas!$A$2:$B$1123,2,FALSE))","v":""},"",{"$f":"IF(ISNA(VLOOKUP((CONCATENATE(AJ64,AL64)),Divipolas!$F$2:$G$1123,2,FALSE)),\"\",VLOOKUP((CONCATENATE(AJ64,AL64)),Divipolas!$F$2:$G$1123,2,FALSE))","v":""},"","","","","","","","","","","","","","",null,null,null,null,null,null,null,{"$f":"IF(ISNA(VLOOKUP(BH64,'CODIGO PAIS'!$A$2:$B$231,2,FALSE)),\"\",VLOOKUP(BH64,'CODIGO PAIS'!$A$2:$B$231,2,FALSE))","v":""},null,{"$f":"IF(ISNA(VLOOKUP(BJ64,Divipolas!$A$2:$B$1123,2,FALSE)),\"\",VLOOKUP(BJ64,Divipolas!$A$2:$B$1123,2,FALSE))","v":""},null,{"$f":"IF(ISNA(VLOOKUP((CONCATENATE(BJ64,BL64)),Divipolas!$F$2:$G$1123,2,FALSE)),\"\",VLOOKUP((CONCATENATE(BJ64,BL64)),Divipolas!$F$2:$G$1123,2,FALSE))","v":""},null,"","",null,null,null,null,{"$f":"IF(ISNA(VLOOKUP(BT64,Divipolas!$A$2:$B$1123,2,FALSE)),\"\",VLOOKUP(BT64,Divipolas!$A$2:$B$1123,2,FALSE))","v":""},null,{"$f":"IF(ISNA(VLOOKUP((CONCATENATE(BT64,BV64)),Divipolas!$F$2:$G$1123,2,FALSE)),\"\",VLOOKUP((CONCATENATE(BT64,BV64)),Divipolas!$F$2:$G$1123,2,FALSE))","v":""},null,null,null,null,null,null,null,null,null,null,null,null,null,null,null,null,null,null,null,null,null,null,null,"",null,null,null,null,null,null,null,null,null,null,null,null,null,null,null,null,null,null,null,null,null,null,null,null,null,null,null,null,null,null,null,null,null,null,null,null,null,null,null,null,null,null,null,null,null,null,null,null,null,null,null,null,null,null,null,null,null,null,null,null,null,null,null,null,null,null,null,null,null,null,null,null,null,null,null,null,"",null,null,null,null,null,null,null,"VERIFIQUE FECHAS",null,null,null,null,null,null,null,null,null,"VERIFIQUE COLUMNA D"]
["","",null,"",{"$f":"IFERROR(VLOOKUP(D65,'CODIGO REGIONALES'!$J$2:$L$33,3,0),\"\")","v":""},"",{"$f":"IF(ISNA(VLOOKUP(F65,Divipolas!$A$2:$B$1123,2,FALSE)),\"\",VLOOKUP(F65,Divipolas!$A$2:$B$1123,2,FALSE))","v":""},"",{"$f":"IF(ISNA(VLOOKUP((CONCATENATE(F65,H65)),Divipolas!$F$2:$G$1123,2,FALSE)),\"\",VLOOKUP((CONCATENATE(F65,H65)),Divipolas!$F$2:$G$1123,2,FALSE))","v":""},"","","","","","","","",{"$f":"IF(ISNA(VLOOKUP(Q65,Divipolas!$A$2:$B$1123,2,FALSE)),\"\",VLOOKUP(Q65,Divipolas!$A$2:$B$1123,2,FALSE))","v":""},"",{"$f":"IF(ISNA(VLOOKUP((CONCATENATE(Q65,S65)),Divipolas!$F$2:$G$1123,2,FALSE)),\"\",VLOOKUP((CONCATENATE(Q65,S65)),Divipolas!$F$2:$G$1123,2,FALSE))","v":""},"","","","","","",{"$f":"IF(ISNA(VLOOKUP(Z65,'CODIGO PAIS'!$A$2:$B$231,2,FALSE)),\"\",VLOOKUP(Z65,'CODIGO PAIS'!$A$2:$B$231,2,FALSE))","v":""},"",{"$f":"IF(ISNA(VLOOKUP(AB65,Divipolas!$A$2:$B$1123,2,FALSE)),\"\",VLOOKUP(AB65,Divipolas!$A$2:$B$1123,2,FALSE))","v":""},"",{"$f":"IF(ISNA(VLOOKUP((CONCATENATE(AB65,AD65)),Divipolas!$F$2:$G$1123,2,FALSE)),\"\",VLOOKUP((CONCATENATE(AB65,AD65)),Divipolas!$F$2:$G$1123,2,FALSE))","v":""},"","","","","",{"$f":"IF(ISNA(VLOOKUP(AJ65,Divipolas!$A$2:$B$1123,2,FALSE)),\"\",VLOOKUP(AJ65,Divipolas!$A$2:$B$1123,2,FALSE))","v":""},"",{"$f":"IF(ISNA(VLOOKUP((CONCATENATE(AJ65,AL65)),Divipolas!$F$2:$G$1123,2,FALSE)),\"\",VLOOKUP((CONCATENATE(AJ65,AL65)),Divipolas!$F$2:$G$1123,2,FALSE))","v":""},"","","","","","","","","","","","","","",null,null,null,null,null,null,null,{"$f":"IF(ISNA(VLOOKUP(BH65,'CODIGO PAIS'!$A$2:$B$231,2,FALSE)),\"\",VLOOKUP(BH65,'CODIGO PAIS'!$A$2:$B$231,2,FALSE))","v":""},null,{"$f":"IF(ISNA(VLOOKUP(BJ65,Divipolas!$A$2:$B$1123,2,FALSE)),\"\",VLOOKUP(BJ65,Divipolas!$A$2:$B$1123,2,FALSE))","v":""},null,{"$f":"IF(ISNA(VLOOKUP((CONCATENATE(BJ65,BL65)),Divipolas!$F$2:$G$1123,2,FALSE)),\"\",VLOOKUP((CONCATENATE(BJ65,BL65)),Divipolas!$F$2:$G$1123,2,FALSE))","v":""},null,"","",null,null,null,null,{"$f":"IF(ISNA(VLOOKUP(BT65,Divipolas!$A$2:$B$1123,2,FALSE)),\"\",VLOOKUP(BT65,Divipolas!$A$2:$B$1123,2,FALSE))","v":""},null,{"$f":"IF(ISNA(VLOOKUP((CONCATENATE(BT65,BV65)),Divipolas!$F$2:$G$1123,2,FALSE)),\"\",VLOOKUP((CONCATENATE(BT65,BV65)),Divipolas!$F$2:$G$1123,2,FALSE))","v":""},null,null,null,null,null,null,null,null,null,null,null,null,null,null,null,null,null,null,null,null,null,null,null,"",null,null,null,null,null,null,null,null,null,null,null,null,null,null,null,null,null,null,null,null,null,null,null,null,null,null,null,null,null,null,null,null,null,null,null,null,null,null,null,null,null,null,null,null,null,null,null,null,null,null,null,null,null,null,null,null,null,null,null,null,null,null,null,null,null,null,null,null,null,null,null,null,null,null,null,null,"",null,null,null,null,null,null,null,"VERIFIQUE FECHAS",null,null,null,null,null,null,null,null,null,"VERIFIQUE COLUMNA D"]
["","",null,"",{"$f":"IFERROR(VLOOKUP(D66,'CODIGO REGIONALES'!$J$2:$L$33,3,0),\"\")","v":""},"",{"$f":"IF(ISNA(VLOOKUP(F66,Divipolas!$A$2:$B$1123,2,FALSE)),\"\",VLOOKUP(F66,Divipolas!$A$2:$B$1123,2,FALSE))","v":""},"",{"$f":"IF(ISNA(VLOOKUP((CONCATENATE(F66,H66)),Divipolas!$F$2:$G$1123,2,FALSE)),\"\",VLOOKUP((CONCATENATE(F66,H66)),Divipolas!$F$2:$G$1123,2,FALSE))","v":""},"","","","","","","","",{"$f":"IF(ISNA(VLOOKUP(Q66,Divipolas!$A$2:$B$1123,2,FALSE)),\"\",VLOOKUP(Q66,Divipolas!$A$2:$B$1123,2,FALSE))","v":""},"",{"$f":"IF(ISNA(VLOOKUP((CONCATENATE(Q66,S66)),Divipolas!$F$2:$G$1123,2,FALSE)),\"\",VLOOKUP((CONCATENATE(Q66,S66)),Divipolas!$F$2:$G$1123,2,FALSE))","v":""},"","","","","","",{"$f":"IF(ISNA(VLOOKUP(Z66,'CODIGO PAIS'!$A$2:$B$231,2,FALSE)),\"\",VLOOKUP(Z66,'CODIGO PAIS'!$A$2:$B$231,2,FALSE))","v":""},"",{"$f":"IF(ISNA(VLOOKUP(AB66,Divipolas!$A$2:$B$1123,2,FALSE)),\"\",VLOOKUP(AB66,Divipolas!$A$2:$B$1123,2,FALSE))","v":""},"",{"$f":"IF(ISNA(VLOOKUP((CONCATENATE(AB66,AD66)),Divipolas!$F$2:$G$1123,2,FALSE)),\"\",VLOOKUP((CONCATENATE(AB66,AD66)),Divipolas!$F$2:$G$1123,2,FALSE))","v":""},"","","","","",{"$f":"IF(ISNA(VLOOKUP(AJ66,Divipolas!$A$2:$B$1123,2,FALSE)),\"\",VLOOKUP(AJ66,Divipolas!$A$2:$B$1123,2,FALSE))","v":""},"",{"$f":"IF(ISNA(VLOOKUP((CONCATENATE(AJ66,AL66)),Divipolas!$F$2:$G$1123,2,FALSE)),\"\",VLOOKUP((CONCATENATE(AJ66,AL66)),Divipolas!$F$2:$G$1123,2,FALSE))","v":""},"","","","","","","","","","","","","","",null,null,null,null,null,null,null,{"$f":"IF(ISNA(VLOOKUP(BH66,'CODIGO PAIS'!$A$2:$B$231,2,FALSE)),\"\",VLOOKUP(BH66,'CODIGO PAIS'!$A$2:$B$231,2,FALSE))","v":""},null,{"$f":"IF(ISNA(VLOOKUP(BJ66,Divipolas!$A$2:$B$1123,2,FALSE)),\"\",VLOOKUP(BJ66,Divipolas!$A$2:$B$1123,2,FALSE))","v":""},null,{"$f":"IF(ISNA(VLOOKUP((CONCATENATE(BJ66,BL66)),Divipolas!$F$2:$G$1123,2,FALSE)),\"\",VLOOKUP((CONCATENATE(BJ66,BL66)),Divipolas!$F$2:$G$1123,2,FALSE))","v":""},null,"","",null,null,null,null,{"$f":"IF(ISNA(VLOOKUP(BT66,Divipolas!$A$2:$B$1123,2,FALSE)),\"\",VLOOKUP(BT66,Divipolas!$A$2:$B$1123,2,FALSE))","v":""},null,{"$f":"IF(ISNA(VLOOKUP((CONCATENATE(BT66,BV66)),Divipolas!$F$2:$G$1123,2,FALSE)),\"\",VLOOKUP((CONCATENATE(BT66,BV66)),Divipolas!$F$2:$G$1123,2,FALSE))","v":""},null,null,null,null,null,null,null,null,null,null,null,null,null,null,null,null,null,null,null,null,null,null,null,"",null,null,null,null,null,null,null,null,null,null,null,null,null,null,null,null,null,null,null,null,null,null,null,null,null,null,null,null,null,null,null,null,null,null,null,null,null,null,null,null,null,null,null,null,null,null,null,null,null,null,null,null,null,null,null,null,null,null,null,null,null,null,null,null,null,null,null,null,null,null,null,null,null,null,null,null,"",null,null,null,null,null,null,null,"VERIFIQUE FECHAS",null,null,null,null,null,null,null,null,null,"VERIFIQUE COLUMNA D"]
["","",null,"",{"$f":"IFERROR(VLOOKUP(D67,'CODIGO REGIONALES'!$J$2:$L$33,3,0),\"\")","v":""},"",{"$f":"IF(ISNA(VLOOKUP(F67,Divipolas!$A$2:$B$1123,2,FALSE)),\"\",VLOOKUP(F67,Divipolas!$A$2:$B$1123,2,FALSE))","v":""},"",{"$f":"IF(ISNA(VLOOKUP((CONCATENATE(F67,H67)),Divipolas!$F$2:$G$1123,2,FALSE)),\"\",VLOOKUP((CONCATENATE(F67,H67)),Divipolas!$F$2:$G$1123,2,FALSE))","v":""},"","","","","","","","",{"$f":"IF(ISNA(VLOOKUP(Q67,Divipolas!$A$2:$B$1123,2,FALSE)),\"\",VLOOKUP(Q67,Divipolas!$A$2:$B$1123,2,FALSE))","v":""},"",{"$f":"IF(ISNA(VLOOKUP((CONCATENATE(Q67,S67)),Divipolas!$F$2:$G$1123,2,FALSE)),\"\",VLOOKUP((CONCATENATE(Q67,S67)),Divipolas!$F$2:$G$1123,2,FALSE))","v":""},"","","","","","",{"$f":"IF(ISNA(VLOOKUP(Z67,'CODIGO PAIS'!$A$2:$B$231,2,FALSE)),\"\",VLOOKUP(Z67,'CODIGO PAIS'!$A$2:$B$231,2,FALSE))","v":""},"",{"$f":"IF(ISNA(VLOOKUP(AB67,Divipolas!$A$2:$B$1123,2,FALSE)),\"\",VLOOKUP(AB67,Divipolas!$A$2:$B$1123,2,FALSE))","v":""},"",{"$f":"IF(ISNA(VLOOKUP((CONCATENATE(AB67,AD67)),Divipolas!$F$2:$G$1123,2,FALSE)),\"\",VLOOKUP((CONCATENATE(AB67,AD67)),Divipolas!$F$2:$G$1123,2,FALSE))","v":""},"","","","","",{"$f":"IF(ISNA(VLOOKUP(AJ67,Divipolas!$A$2:$B$1123,2,FALSE)),\"\",VLOOKUP(AJ67,Divipolas!$A$2:$B$1123,2,FALSE))","v":""},"",{"$f":"IF(ISNA(VLOOKUP((CONCATENATE(AJ67,AL67)),Divipolas!$F$2:$G$1123,2,FALSE)),\"\",VLOOKUP((CONCATENATE(AJ67,AL67)),Divipolas!$F$2:$G$1123,2,FALSE))","v":""},"","","","","","","","","","","","","","",null,null,null,null,null,null,null,{"$f":"IF(ISNA(VLOOKUP(BH67,'CODIGO PAIS'!$A$2:$B$231,2,FALSE)),\"\",VLOOKUP(BH67,'CODIGO PAIS'!$A$2:$B$231,2,FALSE))","v":""},null,{"$f":"IF(ISNA(VLOOKUP(BJ67,Divipolas!$A$2:$B$1123,2,FALSE)),\"\",VLOOKUP(BJ67,Divipolas!$A$2:$B$1123,2,FALSE))","v":""},null,{"$f":"IF(ISNA(VLOOKUP((CONCATENATE(BJ67,BL67)),Divipolas!$F$2:$G$1123,2,FALSE)),\"\",VLOOKUP((CONCATENATE(BJ67,BL67)),Divipolas!$F$2:$G$1123,2,FALSE))","v":""},null,"","",null,null,null,null,{"$f":"IF(ISNA(VLOOKUP(BT67,Divipolas!$A$2:$B$1123,2,FALSE)),\"\",VLOOKUP(BT67,Divipolas!$A$2:$B$1123,2,FALSE))","v":""},null,{"$f":"IF(ISNA(VLOOKUP((CONCATENATE(BT67,BV67)),Divipolas!$F$2:$G$1123,2,FALSE)),\"\",VLOOKUP((CONCATENATE(BT67,BV67)),Divipolas!$F$2:$G$1123,2,FALSE))","v":""},null,null,null,null,null,null,null,null,null,null,null,null,null,null,null,null,null,null,null,null,null,null,null,"",null,null,null,null,null,null,null,null,null,null,null,null,null,null,null,null,null,null,null,null,null,null,null,null,null,null,null,null,null,null,null,null,null,null,null,null,null,null,null,null,null,null,null,null,null,null,null,null,null,null,null,null,null,null,null,null,null,null,null,null,null,null,null,null,null,null,null,null,null,null,null,null,null,null,null,null,"",null,null,null,null,null,null,null,"VERIFIQUE FECHAS",null,null,null,null,null,null,null,null,null,"VERIFIQUE COLUMNA D"]
["","",null,"",{"$f":"IFERROR(VLOOKUP(D68,'CODIGO REGIONALES'!$J$2:$L$33,3,0),\"\")","v":""},"",{"$f":"IF(ISNA(VLOOKUP(F68,Divipolas!$A$2:$B$1123,2,FALSE)),\"\",VLOOKUP(F68,Divipolas!$A$2:$B$1123,2,FALSE))","v":""},"",{"$f":"IF(ISNA(VLOOKUP((CONCATENATE(F68,H68)),Divipolas!$F$2:$G$1123,2,FALSE)),\"\",VLOOKUP((CONCATENATE(F68,H68)),Divipolas!$F$2:$G$1123,2,FALSE))","v":""},"","","","","","","","",{"$f":"IF(ISNA(VLOOKUP(Q68,Divipolas!$A$2:$B$1123,2,FALSE)),\"\",VLOOKUP(Q68,Divipolas!$A$2:$B$1123,2,FALSE))","v":""},"",{"$f":"IF(ISNA(VLOOKUP((CONCATENATE(Q68,S68)),Divipolas!$F$2:$G$1123,2,FALSE)),\"\",VLOOKUP((CONCATENATE(Q68,S68)),Divipolas!$F$2:$G$1123,2,FALSE))","v":""},"","","","","","",{"$f":"IF(ISNA(VLOOKUP(Z68,'CODIGO PAIS'!$A$2:$B$231,2,FALSE)),\"\",VLOOKUP(Z68,'CODIGO PAIS'!$A$2:$B$231,2,FALSE))","v":""},"",{"$f":"IF(ISNA(VLOOKUP(AB68,Divipolas!$A$2:$B$1123,2,FALSE)),\"\",VLOOKUP(AB68,Divipolas!$A$2:$B$1123,2,FALSE))","v":""},"",{"$f":"IF(ISNA(VLOOKUP((CONCATENATE(AB68,AD68)),Divipolas!$F$2:$G$1123,2,FALSE)),\"\",VLOOKUP((CONCATENATE(AB68,AD68)),Divipolas!$F$2:$G$1123,2,FALSE))","v":""},"","","","","",{"$f":"IF(ISNA(VLOOKUP(AJ68,Divipolas!$A$2:$B$1123,2,FALSE)),\"\",VLOOKUP(AJ68,Divipolas!$A$2:$B$1123,2,FALSE))","v":""},"",{"$f":"IF(ISNA(VLOOKUP((CONCATENATE(AJ68,AL68)),Divipolas!$F$2:$G$1123,2,FALSE)),\"\",VLOOKUP((CONCATENATE(AJ68,AL68)),Divipolas!$F$2:$G$1123,2,FALSE))","v":""},"","","","","","","","","","","","","","",null,null,null,null,null,null,null,{"$f":"IF(ISNA(VLOOKUP(BH68,'CODIGO PAIS'!$A$2:$B$231,2,FALSE)),\"\",VLOOKUP(BH68,'CODIGO PAIS'!$A$2:$B$231,2,FALSE))","v":""},null,{"$f":"IF(ISNA(VLOOKUP(BJ68,Divipolas!$A$2:$B$1123,2,FALSE)),\"\",VLOOKUP(BJ68,Divipolas!$A$2:$B$1123,2,FALSE))","v":""},null,{"$f":"IF(ISNA(VLOOKUP((CONCATENATE(BJ68,BL68)),Divipolas!$F$2:$G$1123,2,FALSE)),\"\",VLOOKUP((CONCATENATE(BJ68,BL68)),Divipolas!$F$2:$G$1123,2,FALSE))","v":""},null,"","",null,null,null,null,{"$f":"IF(ISNA(VLOOKUP(BT68,Divipolas!$A$2:$B$1123,2,FALSE)),\"\",VLOOKUP(BT68,Divipolas!$A$2:$B$1123,2,FALSE))","v":""},null,{"$f":"IF(ISNA(VLOOKUP((CONCATENATE(BT68,BV68)),Divipolas!$F$2:$G$1123,2,FALSE)),\"\",VLOOKUP((CONCATENATE(BT68,BV68)),Divipolas!$F$2:$G$1123,2,FALSE))","v":""},null,null,null,null,null,null,null,null,null,null,null,null,null,null,null,null,null,null,null,null,null,null,null,"",null,null,null,null,null,null,null,null,null,null,null,null,null,null,null,null,null,null,null,null,null,null,null,null,null,null,null,null,null,null,null,null,null,null,null,null,null,null,null,null,null,null,null,null,null,null,null,null,null,null,null,null,null,null,null,null,null,null,null,null,null,null,null,null,null,null,null,null,null,null,null,null,null,null,null,null,"",null,null,null,null,null,null,null,"VERIFIQUE FECHAS",null,null,null,null,null,null,null,null,null,"VERIFIQUE COLUMNA D"]
["","",null,"",{"$f":"IFERROR(VLOOKUP(D69,'CODIGO REGIONALES'!$J$2:$L$33,3,0),\"\")","v":""},"",{"$f":"IF(ISNA(VLOOKUP(F69,Divipolas!$A$2:$B$1123,2,FALSE)),\"\",VLOOKUP(F69,Divipolas!$A$2:$B$1123,2,FALSE))","v":""},"",{"$f":"IF(ISNA(VLOOKUP((CONCATENATE(F69,H69)),Divipolas!$F$2:$G$1123,2,FALSE)),\"\",VLOOKUP((CONCATENATE(F69,H69)),Divipolas!$F$2:$G$1123,2,FALSE))","v":""},"","","","","","","","",{"$f":"IF(ISNA(VLOOKUP(Q69,Divipolas!$A$2:$B$1123,2,FALSE)),\"\",VLOOKUP(Q69,Divipolas!$A$2:$B$1123,2,FALSE))","v":""},"",{"$f":"IF(ISNA(VLOOKUP((CONCATENATE(Q69,S69)),Divipolas!$F$2:$G$1123,2,FALSE)),\"\",VLOOKUP((CONCATENATE(Q69,S69)),Divipolas!$F$2:$G$1123,2,FALSE))","v":""},"","","","","","",{"$f":"IF(ISNA(VLOOKUP(Z69,'CODIGO PAIS'!$A$2:$B$231,2,FALSE)),\"\",VLOOKUP(Z69,'CODIGO PAIS'!$A$2:$B$231,2,FALSE))","v":""},"",{"$f":"IF(ISNA(VLOOKUP(AB69,Divipolas!$A$2:$B$1123,2,FALSE)),\"\",VLOOKUP(AB69,Divipolas!$A$2:$B$1123,2,FALSE))","v":""},"",{"$f":"IF(ISNA(VLOOKUP((CONCATENATE(AB69,AD69)),Divipolas!$F$2:$G$1123,2,FALSE)),\"\",VLOOKUP((CONCATENATE(AB69,AD69)),Divipolas!$F$2:$G$1123,2,FALSE))","v":""},"","","","","",{"$f":"IF(ISNA(VLOOKUP(AJ69,Divipolas!$A$2:$B$1123,2,FALSE)),\"\",VLOOKUP(AJ69,Divipolas!$A$2:$B$1123,2,FALSE))","v":""},"",{"$f":"IF(ISNA(VLOOKUP((CONCATENATE(AJ69,AL69)),Divipolas!$F$2:$G$1123,2,FALSE)),\"\",VLOOKUP((CONCATENATE(AJ69,AL69)),Divipolas!$F$2:$G$1123,2,FALSE))","v":""},"","","","","","","","","","","","","","",null,null,null,null,null,null,null,{"$f":"IF(ISNA(VLOOKUP(BH69,'CODIGO PAIS'!$A$2:$B$231,2,FALSE)),\"\",VLOOKUP(BH69,'CODIGO PAIS'!$A$2:$B$231,2,FALSE))","v":""},null,{"$f":"IF(ISNA(VLOOKUP(BJ69,Divipolas!$A$2:$B$1123,2,FALSE)),\"\",VLOOKUP(BJ69,Divipolas!$A$2:$B$1123,2,FALSE))","v":""},null,{"$f":"IF(ISNA(VLOOKUP((CONCATENATE(BJ69,BL69)),Divipolas!$F$2:$G$1123,2,FALSE)),\"\",VLOOKUP((CONCATENATE(BJ69,BL69)),Divipolas!$F$2:$G$1123,2,FALSE))","v":""},null,"","",null,null,null,null,{"$f":"IF(ISNA(VLOOKUP(BT69,Divipolas!$A$2:$B$1123,2,FALSE)),\"\",VLOOKUP(BT69,Divipolas!$A$2:$B$1123,2,FALSE))","v":""},null,{"$f":"IF(ISNA(VLOOKUP((CONCATENATE(BT69,BV69)),Divipolas!$F$2:$G$1123,2,FALSE)),\"\",VLOOKUP((CONCATENATE(BT69,BV69)),Divipolas!$F$2:$G$1123,2,FALSE))","v":""},null,null,null,null,null,null,null,null,null,null,null,null,null,null,null,null,null,null,null,null,null,null,null,"",null,null,null,null,null,null,null,null,null,null,null,null,null,null,null,null,null,null,null,null,null,null,null,null,null,null,null,null,null,null,null,null,null,null,null,null,null,null,null,null,null,null,null,null,null,null,null,null,null,null,null,null,null,null,null,null,null,null,null,null,null,null,null,null,null,null,null,null,null,null,null,null,null,null,null,null,"",null,null,null,null,null,null,null,"VERIFIQUE FECHAS",null,null,null,null,null,null,null,null,null,"VERIFIQUE COLUMNA D"]
["","",null,"",{"$f":"IFERROR(VLOOKUP(D70,'CODIGO REGIONALES'!$J$2:$L$33,3,0),\"\")","v":""},"",{"$f":"IF(ISNA(VLOOKUP(F70,Divipolas!$A$2:$B$1123,2,FALSE)),\"\",VLOOKUP(F70,Divipolas!$A$2:$B$1123,2,FALSE))","v":""},"",{"$f":"IF(ISNA(VLOOKUP((CONCATENATE(F70,H70)),Divipolas!$F$2:$G$1123,2,FALSE)),\"\",VLOOKUP((CONCATENATE(F70,H70)),Divipolas!$F$2:$G$1123,2,FALSE))","v":""},"","","","","","","","",{"$f":"IF(ISNA(VLOOKUP(Q70,Divipolas!$A$2:$B$1123,2,FALSE)),\"\",VLOOKUP(Q70,Divipolas!$A$2:$B$1123,2,FALSE))","v":""},"",{"$f":"IF(ISNA(VLOOKUP((CONCATENATE(Q70,S70)),Divipolas!$F$2:$G$1123,2,FALSE)),\"\",VLOOKUP((CONCATENATE(Q70,S70)),Divipolas!$F$2:$G$1123,2,FALSE))","v":""},"","","","","","",{"$f":"IF(ISNA(VLOOKUP(Z70,'CODIGO PAIS'!$A$2:$B$231,2,FALSE)),\"\",VLOOKUP(Z70,'CODIGO PAIS'!$A$2:$B$231,2,FALSE))","v":""},"",{"$f":"IF(ISNA(VLOOKUP(AB70,Divipolas!$A$2:$B$1123,2,FALSE)),\"\",VLOOKUP(AB70,Divipolas!$A$2:$B$1123,2,FALSE))","v":""},"",{"$f":"IF(ISNA(VLOOKUP((CONCATENATE(AB70,AD70)),Divipolas!$F$2:$G$1123,2,FALSE)),\"\",VLOOKUP((CONCATENATE(AB70,AD70)),Divipolas!$F$2:$G$1123,2,FALSE))","v":""},"","","","","",{"$f":"IF(ISNA(VLOOKUP(AJ70,Divipolas!$A$2:$B$1123,2,FALSE)),\"\",VLOOKUP(AJ70,Divipolas!$A$2:$B$1123,2,FALSE))","v":""},"",{"$f":"IF(ISNA(VLOOKUP((CONCATENATE(AJ70,AL70)),Divipolas!$F$2:$G$1123,2,FALSE)),\"\",VLOOKUP((CONCATENATE(AJ70,AL70)),Divipolas!$F$2:$G$1123,2,FALSE))","v":""},"","","","","","","","","","","","","","",null,null,null,null,null,null,null,{"$f":"IF(ISNA(VLOOKUP(BH70,'CODIGO PAIS'!$A$2:$B$231,2,FALSE)),\"\",VLOOKUP(BH70,'CODIGO PAIS'!$A$2:$B$231,2,FALSE))","v":""},null,{"$f":"IF(ISNA(VLOOKUP(BJ70,Divipolas!$A$2:$B$1123,2,FALSE)),\"\",VLOOKUP(BJ70,Divipolas!$A$2:$B$1123,2,FALSE))","v":""},null,{"$f":"IF(ISNA(VLOOKUP((CONCATENATE(BJ70,BL70)),Divipolas!$F$2:$G$1123,2,FALSE)),\"\",VLOOKUP((CONCATENATE(BJ70,BL70)),Divipolas!$F$2:$G$1123,2,FALSE))","v":""},null,"","",null,null,null,null,{"$f":"IF(ISNA(VLOOKUP(BT70,Divipolas!$A$2:$B$1123,2,FALSE)),\"\",VLOOKUP(BT70,Divipolas!$A$2:$B$1123,2,FALSE))","v":""},null,{"$f":"IF(ISNA(VLOOKUP((CONCATENATE(BT70,BV70)),Divipolas!$F$2:$G$1123,2,FALSE)),\"\",VLOOKUP((CONCATENATE(BT70,BV70)),Divipolas!$F$2:$G$1123,2,FALSE))","v":""},null,null,null,null,null,null,null,null,null,null,null,null,null,null,null,null,null,null,null,null,null,null,null,"",null,null,null,null,null,null,null,null,null,null,null,null,null,null,null,null,null,null,null,null,null,null,null,null,null,null,null,null,null,null,null,null,null,null,null,null,null,null,null,null,null,null,null,null,null,null,null,null,null,null,null,null,null,null,null,null,null,null,null,null,null,null,null,null,null,null,null,null,null,null,null,null,null,null,null,null,{"$f":"IF(C70<>\"\",(IF(AND((DATEDIF(BN70,C70,\"m\"))>=0,(DATEDIF(BN70,C70,\"m\"))<=59),INDI2,IF(CS70=\"SI\",INDI3,IF(AND((DATEDIF(BN70,C70,\"m\"))>59,(DATEDIF(BN70,C70,\"m\"))<=215),INDI4,\"\")))),\"\")","v":""},null,null,null,null,null,null,null,"VERIFIQUE FECHAS",null,null,null,null,null,null,null,null,null,"VERIFIQUE COLUMNA D"]
["","",null,"",{"$f":"IFERROR(VLOOKUP(D71,'CODIGO REGIONALES'!$J$2:$L$33,3,0),\"\")","v":""},"",{"$f":"IF(ISNA(VLOOKUP(F71,Divipolas!$A$2:$B$1123,2,FALSE)),\"\",VLOOKUP(F71,Divipolas!$A$2:$B$1123,2,FALSE))","v":""},"",{"$f":"IF(ISNA(VLOOKUP((CONCATENATE(F71,H71)),Divipolas!$F$2:$G$1123,2,FALSE)),\"\",VLOOKUP((CONCATENATE(F71,H71)),Divipolas!$F$2:$G$1123,2,FALSE))","v":""},"","","","","","","","",{"$f":"IF(ISNA(VLOOKUP(Q71,Divipolas!$A$2:$B$1123,2,FALSE)),\"\",VLOOKUP(Q71,Divipolas!$A$2:$B$1123,2,FALSE))","v":""},"",{"$f":"IF(ISNA(VLOOKUP((CONCATENATE(Q71,S71)),Divipolas!$F$2:$G$1123,2,FALSE)),\"\",VLOOKUP((CONCATENATE(Q71,S71)),Divipolas!$F$2:$G$1123,2,FALSE))","v":""},"","","","","","",{"$f":"IF(ISNA(VLOOKUP(Z71,'CODIGO PAIS'!$A$2:$B$231,2,FALSE)),\"\",VLOOKUP(Z71,'CODIGO PAIS'!$A$2:$B$231,2,FALSE))","v":""},"",{"$f":"IF(ISNA(VLOOKUP(AB71,Divipolas!$A$2:$B$1123,2,FALSE)),\"\",VLOOKUP(AB71,Divipolas!$A$2:$B$1123,2,FALSE))","v":""},"",{"$f":"IF(ISNA(VLOOKUP((CONCATENATE(AB71,AD71)),Divipolas!$F$2:$G$1123,2,FALSE)),\"\",VLOOKUP((CONCATENATE(AB71,AD71)),Divipolas!$F$2:$G$1123,2,FALSE))","v":""},"","","","","",{"$f":"IF(ISNA(VLOOKUP(AJ71,Divipolas!$A$2:$B$1123,2,FALSE)),\"\",VLOOKUP(AJ71,Divipolas!$A$2:$B$1123,2,FALSE))","v":""},"",{"$f":"IF(ISNA(VLOOKUP((CONCATENATE(AJ71,AL71)),Divipolas!$F$2:$G$1123,2,FALSE)),\"\",VLOOKUP((CONCATENATE(AJ71,AL71)),Divipolas!$F$2:$G$1123,2,FALSE))","v":""},"","","","","","","","","","","","","","",null,null,null,null,null,null,null,{"$f":"IF(ISNA(VLOOKUP(BH71,'CODIGO PAIS'!$A$2:$B$231,2,FALSE)),\"\",VLOOKUP(BH71,'CODIGO PAIS'!$A$2:$B$231,2,FALSE))","v":""},null,{"$f":"IF(ISNA(VLOOKUP(BJ71,Divipolas!$A$2:$B$1123,2,FALSE)),\"\",VLOOKUP(BJ71,Divipolas!$A$2:$B$1123,2,FALSE))","v":""},null,{"$f":"IF(ISNA(VLOOKUP((CONCATENATE(BJ71,BL71)),Divipolas!$F$2:$G$1123,2,FALSE)),\"\",VLOOKUP((CONCATENATE(BJ71,BL71)),Divipolas!$F$2:$G$1123,2,FALSE))","v":""},null,"","",null,null,null,null,{"$f":"IF(ISNA(VLOOKUP(BT71,Divipolas!$A$2:$B$1123,2,FALSE)),\"\",VLOOKUP(BT71,Divipolas!$A$2:$B$1123,2,FALSE))","v":""},null,{"$f":"IF(ISNA(VLOOKUP((CONCATENATE(BT71,BV71)),Divipolas!$F$2:$G$1123,2,FALSE)),\"\",VLOOKUP((CONCATENATE(BT71,BV71)),Divipolas!$F$2:$G$1123,2,FALSE))","v":""},null,null,null,null,null,null,null,null,null,null,null,null,null,null,null,null,null,null,null,null,null,null,null,"",null,null,null,null,null,null,null,null,null,null,null,null,null,null,null,null,null,null,null,null,null,null,null,null,null,null,null,null,null,null,null,null,null,null,null,null,null,null,null,null,null,null,null,null,null,null,null,null,null,null,null,null,null,null,null,null,null,null,null,null,null,null,null,null,null,null,null,null,null,null,null,null,null,null,null,null,"",null,null,null,null,null,null,null,{"$f":"IF(C71=\"\",\"VERIFIQUE FECHAS\",IF(BN71=\"\",\"VERIFIQUE FECHAS\",IF(AF71=\"\",\"VERIFIQUE FECHAS\",IF(C71>=BN71,\"OK\",\"VERIFIQUE FECHAS\"))))","v":"VERIFIQUE FECHAS"},null,null,null,null,null,null,null,null,null,{"$f":"IF(D71=\"\",\"VERIFIQUE COLUMNA D\",IF(F71=\"\",\"VERIFIQUE COLUMNA F\",IF(H71=\"\",\"VERIFIQUE COLUMNA H\",IF(J71=\"\",\"VERIFIQUE COLUMNA J\",IF(K71=\"\",\"VERIFIQUE COLUMNA K\",IF(N71=\"\",\"VERIFIQUE COLUMNA N\",IF(U71=\"\",\"VERIFIQUE COLUMNA U\",IF(W71=\"\",\"VERIFIQUE COLUMNA W\",IF(Y71=\"\",\"VERIFIQUE COLUMNA Y\",IF(AF71=\"\",\"VERIFIQUE COLUMNA AF\",IF(AG71=\"\",\"VERIFIQUE COLUMNA AG\",IF(BB71=\"\",\"VERIFIQUE COLUMNA BB\",IF(BC71=\"\",\"VERIFIQUE COLUMNA BC\",IF(BE71=\"\",\"VERIFIQUE COLUMNA BE\",IF(BG71=\"\",\"VERIFIQUE COLUMNA BG\",IF(BN71=\"\",\"VERIFIQUE COLUMNA BN\",IF(BQ71=\"\",\"VERIFIQUE COLUMNA BQ\",IF(BZ71=\"\",\"VERIFIQUE COLUMNA BZ\",IF(EJ71=\"\",\"VERIFIQUE COLUMNA EJ\",IF(EK71=\"\",\"VERIFIQUE COLUMNA EK\",IF(FY71=\"\",\"VERIFIQUE COLUMNA FY\",IF(GC71=\"\",\"VERIFIQUE COLUMNA GC\",IF(GE71=\"\",\"VERIFIQUE COLUMNA GE\",\"Campos o.k.\")))))))))))))))))))))))","v":"VERIFIQUE COLUMNA D"}]
["","",null,"",{"$f":"IFERROR(VLOOKUP(D72,'CODIGO REGIONALES'!$J$2:$L$33,3,0),\"\")","v":""},"",{"$f":"IF(ISNA(VLOOKUP(F72,Divipolas!$A$2:$B$1123,2,FALSE)),\"\",VLOOKUP(F72,Divipolas!$A$2:$B$1123,2,FALSE))","v":""},"",{"$f":"IF(ISNA(VLOOKUP((CONCATENATE(F72,H72)),Divipolas!$F$2:$G$1123,2,FALSE)),\"\",VLOOKUP((CONCATENATE(F72,H72)),Divipolas!$F$2:$G$1123,2,FALSE))","v":""},"",{"$f":"IF(AND($C72<>\"\",K71<>\"\"),K71,\"\")","v":""},"","","","","","",{"$f":"IF(ISNA(VLOOKUP(Q72,Divipolas!$A$2:$B$1123,2,FALSE)),\"\",VLOOKUP(Q72,Divipolas!$A$2:$B$1123,2,FALSE))","v":""},"",{"$f":"IF(ISNA(VLOOKUP((CONCATENATE(Q72,S72)),Divipolas!$F$2:$G$1123,2,FALSE)),\"\",VLOOKUP((CONCATENATE(Q72,S72)),Divipolas!$F$2:$G$1123,2,FALSE))","v":""},"","","","","","",{"$f":"IF(ISNA(VLOOKUP(Z72,'CODIGO PAIS'!$A$2:$B$231,2,FALSE)),\"\",VLOOKUP(Z72,'CODIGO PAIS'!$A$2:$B$231,2,FALSE))","v":""},"",{"$f":"IF(ISNA(VLOOKUP(AB72,Divipolas!$A$2:$B$1123,2,FALSE)),\"\",VLOOKUP(AB72,Divipolas!$A$2:$B$1123,2,FALSE))","v":""},"",{"$f":"IF(ISNA(VLOOKUP((CONCATENATE(AB72,AD72)),Divipolas!$F$2:$G$1123,2,FALSE)),\"\",VLOOKUP((CONCATENATE(AB72,AD72)),Divipolas!$F$2:$G$1123,2,FALSE))","v":""},"","","","","",{"$f":"IF(ISNA(VLOOKUP(AJ72,Divipolas!$A$2:$B$1123,2,FALSE)),\"\",VLOOKUP(AJ72,Divipolas!$A$2:$B$1123,2,FALSE))","v":""},"",{"$f":"IF(ISNA(VLOOKUP((CONCATENATE(AJ72,AL72)),Divipolas!$F$2:$G$1123,2,FALSE)),\"\",VLOOKUP((CONCATENATE(AJ72,AL72)),Divipolas!$F$2:$G$1123,2,FALSE))","v":""},"","","","","","","","","","","","","","",null,null,null,null,null,null,null,{"$f":"IF(ISNA(VLOOKUP(BH72,'CODIGO PAIS'!$A$2:$B$231,2,FALSE)),\"\",VLOOKUP(BH72,'CODIGO PAIS'!$A$2:$B$231,2,FALSE))","v":""},null,{"$f":"IF(ISNA(VLOOKUP(BJ72,Divipolas!$A$2:$B$1123,2,FALSE)),\"\",VLOOKUP(BJ72,Divipolas!$A$2:$B$1123,2,FALSE))","v":""},null,{"$f":"IF(ISNA(VLOOKUP((CONCATENATE(BJ72,BL72)),Divipolas!$F$2:$G$1123,2,FALSE)),\"\",VLOOKUP((CONCATENATE(BJ72,BL72)),Divipolas!$F$2:$G$1123,2,FALSE))","v":""},null,"","",null,null,null,null,{"$f":"IF(ISNA(VLOOKUP(BT72,Divipolas!$A$2:$B$1123,2,FALSE)),\"\",VLOOKUP(BT72,Divipolas!$A$2:$B$1123,2,FALSE))","v":""},null,{"$f":"IF(ISNA(VLOOKUP((CONCATENATE(BT72,BV72)),Divipolas!$F$2:$G$1123,2,FALSE)),\"\",VLOOKUP((CONCATENATE(BT72,BV72)),Divipolas!$F$2:$G$1123,2,FALSE))","v":""},null,null,null,null,null,null,null,null,null,null,null,null,null,null,null,null,null,null,null,null,null,null,null,"",null,null,null,null,null,null,null,null,null,null,null,null,null,null,null,null,null,null,null,null,null,null,null,null,null,null,null,null,null,null,null,null,null,null,null,null,null,null,null,null,null,null,null,null,null,null,null,null,null,null,null,null,null,null,null,null,null,null,null,null,null,null,null,null,null,null,null,null,null,null,null,null,null,null,null,null,"",null,null,null,null,null,null,null,"VERIFIQUE FECHAS",null,null,null,null,null,null,null,null,null,"VERIFIQUE COLUMNA D"]
["","",null,"",{"$f":"IFERROR(VLOOKUP(D73,'CODIGO REGIONALES'!$J$2:$L$33,3,0),\"\")","v":""},"",{"$f":"IF(ISNA(VLOOKUP(F73,Divipolas!$A$2:$B$1123,2,FALSE)),\"\",VLOOKUP(F73,Divipolas!$A$2:$B$1123,2,FALSE))","v":""},"",{"$f":"IF(ISNA(VLOOKUP((CONCATENATE(F73,H73)),Divipolas!$F$2:$G$1123,2,FALSE)),\"\",VLOOKUP((CONCATENATE(F73,H73)),Divipolas!$F$2:$G$1123,2,FALSE))","v":""},"","","","","","","","",{"$f":"IF(ISNA(VLOOKUP(Q73,Divipolas!$A$2:$B$1123,2,FALSE)),\"\",VLOOKUP(Q73,Divipolas!$A$2:$B$1123,2,FALSE))","v":""},"",{"$f":"IF(ISNA(VLOOKUP((CONCATENATE(Q73,S73)),Divipolas!$F$2:$G$1123,2,FALSE)),\"\",VLOOKUP((CONCATENATE(Q73,S73)),Divipolas!$F$2:$G$1123,2,FALSE))","v":""},"","","","","","",{"$f":"IF(ISNA(VLOOKUP(Z73,'CODIGO PAIS'!$A$2:$B$231,2,FALSE)),\"\",VLOOKUP(Z73,'CODIGO PAIS'!$A$2:$B$231,2,FALSE))","v":""},"",{"$f":"IF(ISNA(VLOOKUP(AB73,Divipolas!$A$2:$B$1123,2,FALSE)),\"\",VLOOKUP(AB73,Divipolas!$A$2:$B$1123,2,FALSE))","v":""},"",{"$f":"IF(ISNA(VLOOKUP((CONCATENATE(AB73,AD73)),Divipolas!$F$2:$G$1123,2,FALSE)),\"\",VLOOKUP((CONCATENATE(AB73,AD73)),Divipolas!$F$2:$G$1123,2,FALSE))","v":""},"","","","","",{"$f":"IF(ISNA(VLOOKUP(AJ73,Divipolas!$A$2:$B$1123,2,FALSE)),\"\",VLOOKUP(AJ73,Divipolas!$A$2:$B$1123,2,FALSE))","v":""},"",{"$f":"IF(ISNA(VLOOKUP((CONCATENATE(AJ73,AL73)),Divipolas!$F$2:$G$1123,2,FALSE)),\"\",VLOOKUP((CONCATENATE(AJ73,AL73)),Divipolas!$F$2:$G$1123,2,FALSE))","v":""},"","","","","","","","","","","","","","",null,null,null,null,null,null,null,{"$f":"IF(ISNA(VLOOKUP(BH73,'CODIGO PAIS'!$A$2:$B$231,2,FALSE)),\"\",VLOOKUP(BH73,'CODIGO PAIS'!$A$2:$B$231,2,FALSE))","v":""},null,{"$f":"IF(ISNA(VLOOKUP(BJ73,Divipolas!$A$2:$B$1123,2,FALSE)),\"\",VLOOKUP(BJ73,Divipolas!$A$2:$B$1123,2,FALSE))","v":""},null,{"$f":"IF(ISNA(VLOOKUP((CONCATENATE(BJ73,BL73)),Divipolas!$F$2:$G$1123,2,FALSE)),\"\",VLOOKUP((CONCATENATE(BJ73,BL73)),Divipolas!$F$2:$G$1123,2,FALSE))","v":""},null,"","",null,null,null,null,{"$f":"IF(ISNA(VLOOKUP(BT73,Divipolas!$A$2:$B$1123,2,FALSE)),\"\",VLOOKUP(BT73,Divipolas!$A$2:$B$1123,2,FALSE))","v":""},null,{"$f":"IF(ISNA(VLOOKUP((CONCATENATE(BT73,BV73)),Divipolas!$F$2:$G$1123,2,FALSE)),\"\",VLOOKUP((CONCATENATE(BT73,BV73)),Divipolas!$F$2:$G$1123,2,FALSE))","v":""},null,null,null,null,null,null,null,null,null,null,null,null,null,null,null,null,null,null,null,null,null,null,null,"",null,null,null,null,null,null,null,null,null,null,null,null,null,null,null,null,null,null,null,null,null,null,null,null,null,null,null,null,null,null,null,null,null,null,null,null,null,null,null,null,null,null,null,null,null,null,null,null,null,null,null,null,null,null,null,null,null,null,null,null,null,null,null,null,null,null,null,null,null,null,null,null,null,null,null,null,"",null,null,null,null,null,null,null,"VERIFIQUE FECHAS",null,null,null,null,null,null,null,null,null,"VERIFIQUE COLUMNA D"]
["",{"$f":"IF(AND($B$6<>\"\",C74<>\"\"),$B$6,\"\")","v":""},null,"",{"$f":"IFERROR(VLOOKUP(D74,'CODIGO REGIONALES'!$J$2:$L$33,3,0),\"\")","v":""},"",{"$f":"IF(ISNA(VLOOKUP(F74,Divipolas!$A$2:$B$1123,2,FALSE)),\"\",VLOOKUP(F74,Divipolas!$A$2:$B$1123,2,FALSE))","v":""},"",{"$f":"IF(ISNA(VLOOKUP((CONCATENATE(F74,H74)),Divipolas!$F$2:$G$1123,2,FALSE)),\"\",VLOOKUP((CONCATENATE(F74,H74)),Divipolas!$F$2:$G$1123,2,FALSE))","v":""},"","","","","","","","",{"$f":"IF(ISNA(VLOOKUP(Q74,Divipolas!$A$2:$B$1123,2,FALSE)),\"\",VLOOKUP(Q74,Divipolas!$A$2:$B$1123,2,FALSE))","v":""},"",{"$f":"IF(ISNA(VLOOKUP((CONCATENATE(Q74,S74)),Divipolas!$F$2:$G$1123,2,FALSE)),\"\",VLOOKUP((CONCATENATE(Q74,S74)),Divipolas!$F$2:$G$1123,2,FALSE))","v":""},"","","","","","",{"$f":"IF(ISNA(VLOOKUP(Z74,'CODIGO PAIS'!$A$2:$B$231,2,FALSE)),\"\",VLOOKUP(Z74,'CODIGO PAIS'!$A$2:$B$231,2,FALSE))","v":""},"",{"$f":"IF(ISNA(VLOOKUP(AB74,Divipolas!$A$2:$B$1123,2,FALSE)),\"\",VLOOKUP(AB74,Divipolas!$A$2:$B$1123,2,FALSE))","v":""},"",{"$f":"IF(ISNA(VLOOKUP((CONCATENATE(AB74,AD74)),Divipolas!$F$2:$G$1123,2,FALSE)),\"\",VLOOKUP((CONCATENATE(AB74,AD74)),Divipolas!$F$2:$G$1123,2,FALSE))","v":""},"","","","","",{"$f":"IF(ISNA(VLOOKUP(AJ74,Divipolas!$A$2:$B$1123,2,FALSE)),\"\",VLOOKUP(AJ74,Divipolas!$A$2:$B$1123,2,FALSE))","v":""},"",{"$f":"IF(ISNA(VLOOKUP((CONCATENATE(AJ74,AL74)),Divipolas!$F$2:$G$1123,2,FALSE)),\"\",VLOOKUP((CONCATENATE(AJ74,AL74)),Divipolas!$F$2:$G$1123,2,FALSE))","v":""},"","","","","","","","","","","","","","",null,null,null,null,null,null,null,{"$f":"IF(ISNA(VLOOKUP(BH74,'CODIGO PAIS'!$A$2:$B$231,2,FALSE)),\"\",VLOOKUP(BH74,'CODIGO PAIS'!$A$2:$B$231,2,FALSE))","v":""},null,{"$f":"IF(ISNA(VLOOKUP(BJ74,Divipolas!$A$2:$B$1123,2,FALSE)),\"\",VLOOKUP(BJ74,Divipolas!$A$2:$B$1123,2,FALSE))","v":""},null,{"$f":"IF(ISNA(VLOOKUP((CONCATENATE(BJ74,BL74)),Divipolas!$F$2:$G$1123,2,FALSE)),\"\",VLOOKUP((CONCATENATE(BJ74,BL74)),Divipolas!$F$2:$G$1123,2,FALSE))","v":""},null,"","",null,null,null,null,{"$f":"IF(ISNA(VLOOKUP(BT74,Divipolas!$A$2:$B$1123,2,FALSE)),\"\",VLOOKUP(BT74,Divipolas!$A$2:$B$1123,2,FALSE))","v":""},null,{"$f":"IF(ISNA(VLOOKUP((CONCATENATE(BT74,BV74)),Divipolas!$F$2:$G$1123,2,FALSE)),\"\",VLOOKUP((CONCATENATE(BT74,BV74)),Divipolas!$F$2:$G$1123,2,FALSE))","v":""},null,null,null,null,null,null,null,null,null,null,null,null,null,null,null,null,null,null,null,null,null,null,null,"",null,null,null,null,null,null,null,null,null,null,null,null,null,null,null,null,null,null,null,null,null,null,null,null,null,null,null,null,null,null,null,null,null,null,null,null,null,null,null,null,null,null,null,null,null,null,null,null,null,null,null,null,null,null,null,null,null,null,null,null,null,null,null,null,null,null,null,null,null,null,null,null,null,null,null,null,"",null,null,null,null,null,null,null,"VERIFIQUE FECHAS",null,null,null,null,null,null,null,null,null,"VERIFIQUE COLUMNA D"]
[{"$f":"IF(C75<>\"\",A74+1,\"\")","v":""},"",null,{"$f":"IF(AND(C75<>\"\",D74<>\"\"),D74,\"\")","v":""},{"$f":"IFERROR(VLOOKUP(D75,'CODIGO REGIONALES'!$J$2:$L$33,3,0),\"\")","v":""},{"$f":"IF(AND(C75<>\"\",F74<>\"\"),F74,\"\")","v":""},{"$f":"IF(ISNA(VLOOKUP(F75,Divipolas!$A$2:$B$1123,2,FALSE)),\"\",VLOOKUP(F75,Divipolas!$A$2:$B$1123,2,FALSE))","v":""},{"$f":"IF(AND(C75<>\"\",H74<>\"\"),H74,\"\")","v":""},{"$f":"IF(ISNA(VLOOKUP((CONCATENATE(F75,H75)),Divipolas!$F$2:$G$1123,2,FALSE)),\"\",VLOOKUP((CONCATENATE(F75,H75)),Divipolas!$F$2:$G$1123,2,FALSE))","v":""},{"$f":"IF(AND(C75<>\"\",J74<>\"\"),J74,\"\")","v":""},"","","","","","","",{"$f":"IF(ISNA(VLOOKUP(Q75,Divipolas!$A$2:$B$1123,2,FALSE)),\"\",VLOOKUP(Q75,Divipolas!$A$2:$B$1123,2,FALSE))","v":""},{"$f":"IF(AND($C75<>\"\",S74<>\"\"),S74,\"\")","v":""},{"$f":"IF(ISNA(VLOOKUP((CONCATENATE(Q75,S75)),Divipolas!$F$2:$G$1123,2,FALSE)),\"\",VLOOKUP((CONCATENATE(Q75,S75)),Divipolas!$F$2:$G$1123,2,FALSE))","v":""},{"$f":"IF(AND(BC75<>\"\",U74<>\"\"),U74,\"\")","v":""},{"$f":"IF(AND(BC75<>\"\",V74<>\"\"),V74,\"\")","v":""},{"$f":"IF(AND(BC75<>\"\",W74<>\"\"),W74,\"\")","v":""},{"$f":"IF(AND(BC75<>\"\",X74<>\"\"),X74,\"\")","v":""},{"$f":"IF(AND(BC75<>\"\",Y74<>\"\"),Y74,\"\")","v":""},{"$f":"IF(AND(BC75<>\"\",Z74<>\"\"),Z74,\"\")","v":""},{"$f":"IF(ISNA(VLOOKUP(Z75,'CODIGO PAIS'!$A$2:$B$231,2,FALSE)),\"\",VLOOKUP(Z75,'CODIGO PAIS'!$A$2:$B$231,2,FALSE))","v":""},{"$f":"IF(AND(BC75<>\"\",AB74<>\"\"),AB74,\"\")","v":""},{"$f":"IF(ISNA(VLOOKUP(AB75,Divipolas!$A$2:$B$1123,2,FALSE)),\"\",VLOOKUP(AB75,Divipolas!$A$2:$B$1123,2,FALSE))","v":""},{"$f":"IF(AND(BC75<>\"\",AD74<>\"\"),AD74,\"\")","v":""},{"$f":"IF(ISNA(VLOOKUP((CONCATENATE(AB75,AD75)),Divipolas!$F$2:$G$1123,2,FALSE)),\"\",VLOOKUP((CONCATENATE(AB75,AD75)),Divipolas!$F$2:$G$1123,2,FALSE))","v":""},{"$f":"IF(AND(BC75<>\"\",AF74<>\"\"),AF74,\"\")","v":""},{"$f":"IF(AND(BC75<>\"\",AG74<>\"\"),AG74,\"\")","v":""},{"$f":"IF(AND(BC75<>\"\",AH74<>\"\"),AH74,\"\")","v":""},{"$f":"IF(AND(BC75<>\"\",AI74<>\"\"),AI74,\"\")","v":""},{"$f":"IF(AND(BC75<>\"\",AJ74<>\"\"),AJ74,\"\")","v":""},{"$f":"IF(ISNA(VLOOKUP(AJ75,Divipolas!$A$2:$B$1123,2,FALSE)),\"\",VLOOKUP(AJ75,Divipolas!$A$2:$B$1123,2,FALSE))","v":""},{"$f":"IF(AND(BC75<>\"\",AL74<>\"\"),AL74,\"\")","v":""},{"$f":"IF(ISNA(VLOOKUP((CONCATENATE(AJ75,AL75)),Divipolas!$F$2:$G$1123,2,FALSE)),\"\",VLOOKUP((CONCATENATE(AJ75,AL75)),Divipolas!$F$2:$G$1123,2,FALSE))","v":""},{"$f":"IF(AND(BC75<>\"\",AN74<>\"\"),AN74,\"\")","v":""},{"$f":"IF(AND(BC75<>\"\",AO74<>\"\"),AO74,\"\")","v":""},{"$f":"IF(AND(BC75<>\"\",AP74<>\"\"),AP74,\"\")","v":""},{"$f":"IF(AND(BC75<>\"\",AQ74<>\"\"),AQ74,\"\")","v":""},{"$f":"IF(AND(BC75<>\"\",AR74<>\"\"),AR74,\"\")","v":""},{"$f":"IF(AND(BC75<>\"\",AS74<>\"\"),AS74,\"\")","v":""},{"$f":"IF(AND(BC75<>\"\",AT74<>\"\"),AT74,\"\")","v":""},{"$f":"IF(AND($BC75<>\"\",AU74<>\"\"),AU74,\"\")","v":""},{"$f":"IF(AND(BC75<>\"\",AV74<>\"\"),AV74,\"\")","v":""},{"$f":"IF(AND(BC75<>\"\",AW74<>\"\"),AW74,\"\")","v":""},{"$f":"IF(AND(BC75<>\"\",AX74<>\"\"),AX74,\"\")","v":""},{"$f":"IF(AND(BC75<>\"\",AY74<>\"\"),AY74,\"\")","v":""},{"$f":"IF(AND(BC75<>\"\",AZ74<>\"\"),AZ74,\"\")","v":""},{"$f":"IF(AND(BC75<>\"\",BA74<>\"\"),BA74,\"\")","v":""},null,null,null,null,null,null,null,{"$f":"IF(ISNA(VLOOKUP(BH75,'CODIGO PAIS'!$A$2:$B$231,2,FALSE)),\"\",VLOOKUP(BH75,'CODIGO PAIS'!$A$2:$B$231,2,FALSE))","v":""},null,{"$f":"IF(ISNA(VLOOKUP(BJ75,Divipolas!$A$2:$B$1123,2,FALSE)),\"\",VLOOKUP(BJ75,Divipolas!$A$2:$B$1123,2,FALSE))","v":""},null,{"$f":"IF(ISNA(VLOOKUP((CONCATENATE(BJ75,BL75)),Divipolas!$F$2:$G$1123,2,FALSE)),\"\",VLOOKUP((CONCATENATE(BJ75,BL75)),Divipolas!$F$2:$G$1123,2,FALSE))","v":""},null,{"$f":"IF(OR(C75=\"\",BN75=\"\"),\"\",DATEDIF(BN75,C75,\"y\"))","v":""},{"$f":"IF(OR(C75=\"\",BN75=\"\"),\"\",DATEDIF(BN75,C75,\"ym\"))","v":""},null,null,null,null,{"$f":"IF(ISNA(VLOOKUP(BT75,Divipolas!$A$2:$B$1123,2,FALSE)),\"\",VLOOKUP(BT75,Divipolas!$A$2:$B$1123,2,FALSE))","v":""},null,{"$f":"IF(ISNA(VLOOKUP((CONCATENATE(BT75,BV75)),Divipolas!$F$2:$G$1123,2,FALSE)),\"\",VLOOKUP((CONCATENATE(BT75,BV75)),Divipolas!$F$2:$G$1123,2,FALSE))","v":""},null,null,null,null,null,null,null,null,null,null,null,null,null,null,null,null,null,null,null,null,null,null,null,{"$f":"IF(OR(BG75=\"\",BO75=\"\"),\"\",IF(AND(BG75=\"F\",BO75>=52),\"SI\",IF(AND(BG75=\"M\",BO75>=57),\"SI\",\"NO\")))","v":""},null,null,null,null,null,null,null,null,null,null,null,null,null,null,null,null,null,null,null,null,null,null,null,null,null,null,null,null,null,null,null,null,null,null,null,null,null,null,null,null,null,null,null,null,null,null,null,null,null,null,null,null,null,null,null,null,null,null,null,null,null,null,null,null,null,null,null,null,null,null,null,null,null,null,null,null,"",null,null,null,null,null,null,null,"VERIFIQUE FECHAS",null,null,null,null,null,null,null,null,null,"VERIFIQUE COLUMNA D"]
["","",null,"",{"$f":"IFERROR(VLOOKUP(D76,'CODIGO REGIONALES'!$J$2:$L$33,3,0),\"\")","v":""},"",{"$f":"IF(ISNA(VLOOKUP(F76,Divipolas!$A$2:$B$1123,2,FALSE)),\"\",VLOOKUP(F76,Divipolas!$A$2:$B$1123,2,FALSE))","v":""},"",{"$f":"IF(ISNA(VLOOKUP((CONCATENATE(F76,H76)),Divipolas!$F$2:$G$1123,2,FALSE)),\"\",VLOOKUP((CONCATENATE(F76,H76)),Divipolas!$F$2:$G$1123,2,FALSE))","v":""},"","","","","","","","",{"$f":"IF(ISNA(VLOOKUP(Q76,Divipolas!$A$2:$B$1123,2,FALSE)),\"\",VLOOKUP(Q76,Divipolas!$A$2:$B$1123,2,FALSE))","v":""},"",{"$f":"IF(ISNA(VLOOKUP((CONCATENATE(Q76,S76)),Divipolas!$F$2:$G$1123,2,FALSE)),\"\",VLOOKUP((CONCATENATE(Q76,S76)),Divipolas!$F$2:$G$1123,2,FALSE))","v":""},"","","","","","",{"$f":"IF(ISNA(VLOOKUP(Z76,'CODIGO PAIS'!$A$2:$B$231,2,FALSE)),\"\",VLOOKUP(Z76,'CODIGO PAIS'!$A$2:$B$231,2,FALSE))","v":""},"",{"$f":"IF(ISNA(VLOOKUP(AB76,Divipolas!$A$2:$B$1123,2,FALSE)),\"\",VLOOKUP(AB76,Divipolas!$A$2:$B$1123,2,FALSE))","v":""},"",{"$f":"IF(ISNA(VLOOKUP((CONCATENATE(AB76,AD76)),Divipolas!$F$2:$G$1123,2,FALSE)),\"\",VLOOKUP((CONCATENATE(AB76,AD76)),Divipolas!$F$2:$G$1123,2,FALSE))","v":""},"","","","","",{"$f":"IF(ISNA(VLOOKUP(AJ76,Divipolas!$A$2:$B$1123,2,FALSE)),\"\",VLOOKUP(AJ76,Divipolas!$A$2:$B$1123,2,FALSE))","v":""},"",{"$f":"IF(ISNA(VLOOKUP((CONCATENATE(AJ76,AL76)),Divipolas!$F$2:$G$1123,2,FALSE)),\"\",VLOOKUP((CONCATENATE(AJ76,AL76)),Divipolas!$F$2:$G$1123,2,FALSE))","v":""},"","","","","","","","","","","","","","",null,null,null,null,null,null,null,{"$f":"IF(ISNA(VLOOKUP(BH76,'CODIGO PAIS'!$A$2:$B$231,2,FALSE)),\"\",VLOOKUP(BH76,'CODIGO PAIS'!$A$2:$B$231,2,FALSE))","v":""},null,{"$f":"IF(ISNA(VLOOKUP(BJ76,Divipolas!$A$2:$B$1123,2,FALSE)),\"\",VLOOKUP(BJ76,Divipolas!$A$2:$B$1123,2,FALSE))","v":""},null,{"$f":"IF(ISNA(VLOOKUP((CONCATENATE(BJ76,BL76)),Divipolas!$F$2:$G$1123,2,FALSE)),\"\",VLOOKUP((CONCATENATE(BJ76,BL76)),Divipolas!$F$2:$G$1123,2,FALSE))","v":""},null,"","",null,null,null,null,{"$f":"IF(ISNA(VLOOKUP(BT76,Divipolas!$A$2:$B$1123,2,FALSE)),\"\",VLOOKUP(BT76,Divipolas!$A$2:$B$1123,2,FALSE))","v":""},null,{"$f":"IF(ISNA(VLOOKUP((CONCATENATE(BT76,BV76)),Divipolas!$F$2:$G$1123,2,FALSE)),\"\",VLOOKUP((CONCATENATE(BT76,BV76)),Divipolas!$F$2:$G$1123,2,FALSE))","v":""},null,null,null,null,null,null,null,null,null,null,null,null,null,null,null,null,null,null,null,null,null,null,null,"",null,null,null,null,null,null,null,null,null,null,null,null,null,null,null,null,null,null,null,null,null,null,null,null,null,null,null,null,null,null,null,null,null,null,null,null,null,null,null,null,null,null,null,null,null,null,null,null,null,null,null,null,null,null,null,null,null,null,null,null,null,null,null,null,null,null,null,null,null,null,null,null,null,null,null,null,"",null,null,null,null,null,null,null,"VERIFIQUE FECHAS",null,null,null,null,null,null,null,null,null,"VERIFIQUE COLUMNA D"]
["","",null,"",{"$f":"IFERROR(VLOOKUP(D77,'CODIGO REGIONALES'!$J$2:$L$33,3,0),\"\")","v":""},"",{"$f":"IF(ISNA(VLOOKUP(F77,Divipolas!$A$2:$B$1123,2,FALSE)),\"\",VLOOKUP(F77,Divipolas!$A$2:$B$1123,2,FALSE))","v":""},"",{"$f":"IF(ISNA(VLOOKUP((CONCATENATE(F77,H77)),Divipolas!$F$2:$G$1123,2,FALSE)),\"\",VLOOKUP((CONCATENATE(F77,H77)),Divipolas!$F$2:$G$1123,2,FALSE))","v":""},"","","","","","","","",{"$f":"IF(ISNA(VLOOKUP(Q77,Divipolas!$A$2:$B$1123,2,FALSE)),\"\",VLOOKUP(Q77,Divipolas!$A$2:$B$1123,2,FALSE))","v":""},"",{"$f":"IF(ISNA(VLOOKUP((CONCATENATE(Q77,S77)),Divipolas!$F$2:$G$1123,2,FALSE)),\"\",VLOOKUP((CONCATENATE(Q77,S77)),Divipolas!$F$2:$G$1123,2,FALSE))","v":""},"","","","","","",{"$f":"IF(ISNA(VLOOKUP(Z77,'CODIGO PAIS'!$A$2:$B$231,2,FALSE)),\"\",VLOOKUP(Z77,'CODIGO PAIS'!$A$2:$B$231,2,FALSE))","v":""},"",{"$f":"IF(ISNA(VLOOKUP(AB77,Divipolas!$A$2:$B$1123,2,FALSE)),\"\",VLOOKUP(AB77,Divipolas!$A$2:$B$1123,2,FALSE))","v":""},"",{"$f":"IF(ISNA(VLOOKUP((CONCATENATE(AB77,AD77)),Divipolas!$F$2:$G$1123,2,FALSE)),\"\",VLOOKUP((CONCATENATE(AB77,AD77)),Divipolas!$F$2:$G$1123,2,FALSE))","v":""},"","","","","",{"$f":"IF(ISNA(VLOOKUP(AJ77,Divipolas!$A$2:$B$1123,2,FALSE)),\"\",VLOOKUP(AJ77,Divipolas!$A$2:$B$1123,2,FALSE))","v":""},"",{"$f":"IF(ISNA(VLOOKUP((CONCATENATE(AJ77,AL77)),Divipolas!$F$2:$G$1123,2,FALSE)),\"\",VLOOKUP((CONCATENATE(AJ77,AL77)),Divipolas!$F$2:$G$1123,2,FALSE))","v":""},"","","","","","","","","","","","","","",null,null,null,null,null,null,null,{"$f":"IF(ISNA(VLOOKUP(BH77,'CODIGO PAIS'!$A$2:$B$231,2,FALSE)),\"\",VLOOKUP(BH77,'CODIGO PAIS'!$A$2:$B$231,2,FALSE))","v":""},null,{"$f":"IF(ISNA(VLOOKUP(BJ77,Divipolas!$A$2:$B$1123,2,FALSE)),\"\",VLOOKUP(BJ77,Divipolas!$A$2:$B$1123,2,FALSE))","v":""},null,{"$f":"IF(ISNA(VLOOKUP((CONCATENATE(BJ77,BL77)),Divipolas!$F$2:$G$1123,2,FALSE)),\"\",VLOOKUP((CONCATENATE(BJ77,BL77)),Divipolas!$F$2:$G$1123,2,FALSE))","v":""},null,"","",null,null,null,null,{"$f":"IF(ISNA(VLOOKUP(BT77,Divipolas!$A$2:$B$1123,2,FALSE)),\"\",VLOOKUP(BT77,Divipolas!$A$2:$B$1123,2,FALSE))","v":""},null,{"$f":"IF(ISNA(VLOOKUP((CONCATENATE(BT77,BV77)),Divipolas!$F$2:$G$1123,2,FALSE)),\"\",VLOOKUP((CONCATENATE(BT77,BV77)),Divipolas!$F$2:$G$1123,2,FALSE))","v":""},null,null,null,null,null,null,null,null,null,null,null,null,null,null,null,null,null,null,null,null,null,null,null,"",null,null,null,null,null,null,null,null,null,null,null,null,null,null,null,null,null,null,null,null,null,null,null,null,null,null,null,null,null,null,null,null,null,null,null,null,null,null,null,null,null,null,null,null,null,null,null,null,null,null,null,null,null,null,null,null,null,null,null,null,null,null,null,null,null,null,null,null,null,null,null,null,null,null,null,null,"",null,null,null,null,null,null,null,"VERIFIQUE FECHAS",null,null,null,null,null,null,null,null,null,"VERIFIQUE COLUMNA D"]
["","",null,"",{"$f":"IFERROR(VLOOKUP(D78,'CODIGO REGIONALES'!$J$2:$L$33,3,0),\"\")","v":""},"",{"$f":"IF(ISNA(VLOOKUP(F78,Divipolas!$A$2:$B$1123,2,FALSE)),\"\",VLOOKUP(F78,Divipolas!$A$2:$B$1123,2,FALSE))","v":""},"",{"$f":"IF(ISNA(VLOOKUP((CONCATENATE(F78,H78)),Divipolas!$F$2:$G$1123,2,FALSE)),\"\",VLOOKUP((CONCATENATE(F78,H78)),Divipolas!$F$2:$G$1123,2,FALSE))","v":""},"","","","","","","","",{"$f":"IF(ISNA(VLOOKUP(Q78,Divipolas!$A$2:$B$1123,2,FALSE)),\"\",VLOOKUP(Q78,Divipolas!$A$2:$B$1123,2,FALSE))","v":""},"",{"$f":"IF(ISNA(VLOOKUP((CONCATENATE(Q78,S78)),Divipolas!$F$2:$G$1123,2,FALSE)),\"\",VLOOKUP((CONCATENATE(Q78,S78)),Divipolas!$F$2:$G$1123,2,FALSE))","v":""},"","","","","","",{"$f":"IF(ISNA(VLOOKUP(Z78,'CODIGO PAIS'!$A$2:$B$231,2,FALSE)),\"\",VLOOKUP(Z78,'CODIGO PAIS'!$A$2:$B$231,2,FALSE))","v":""},"",{"$f":"IF(ISNA(VLOOKUP(AB78,Divipolas!$A$2:$B$1123,2,FALSE)),\"\",VLOOKUP(AB78,Divipolas!$A$2:$B$1123,2,FALSE))","v":""},"",{"$f":"IF(ISNA(VLOOKUP((CONCATENATE(AB78,AD78)),Divipolas!$F$2:$G$1123,2,FALSE)),\"\",VLOOKUP((CONCATENATE(AB78,AD78)),Divipolas!$F$2:$G$1123,2,FALSE))","v":""},"","","","","",{"$f":"IF(ISNA(VLOOKUP(AJ78,Divipolas!$A$2:$B$1123,2,FALSE)),\"\",VLOOKUP(AJ78,Divipolas!$A$2:$B$1123,2,FALSE))","v":""},"",{"$f":"IF(ISNA(VLOOKUP((CONCATENATE(AJ78,AL78)),Divipolas!$F$2:$G$1123,2,FALSE)),\"\",VLOOKUP((CONCATENATE(AJ78,AL78)),Divipolas!$F$2:$G$1123,2,FALSE))","v":""},"","","","","","","","","","","","","","",null,null,null,null,null,null,null,{"$f":"IF(ISNA(VLOOKUP(BH78,'CODIGO PAIS'!$A$2:$B$231,2,FALSE)),\"\",VLOOKUP(BH78,'CODIGO PAIS'!$A$2:$B$231,2,FALSE))","v":""},null,{"$f":"IF(ISNA(VLOOKUP(BJ78,Divipolas!$A$2:$B$1123,2,FALSE)),\"\",VLOOKUP(BJ78,Divipolas!$A$2:$B$1123,2,FALSE))","v":""},null,{"$f":"IF(ISNA(VLOOKUP((CONCATENATE(BJ78,BL78)),Divipolas!$F$2:$G$1123,2,FALSE)),\"\",VLOOKUP((CONCATENATE(BJ78,BL78)),Divipolas!$F$2:$G$1123,2,FALSE))","v":""},null,"","",null,null,null,null,{"$f":"IF(ISNA(VLOOKUP(BT78,Divipolas!$A$2:$B$1123,2,FALSE)),\"\",VLOOKUP(BT78,Divipolas!$A$2:$B$1123,2,FALSE))","v":""},null,{"$f":"IF(ISNA(VLOOKUP((CONCATENATE(BT78,BV78)),Divipolas!$F$2:$G$1123,2,FALSE)),\"\",VLOOKUP((CONCATENATE(BT78,BV78)),Divipolas!$F$2:$G$1123,2,FALSE))","v":""},null,null,null,null,null,null,null,null,null,null,null,null,null,null,null,null,null,null,null,null,null,null,null,"",null,null,null,null,null,null,null,null,null,null,null,null,null,null,null,null,null,null,null,null,null,null,null,null,null,null,null,null,null,null,null,null,null,null,null,null,null,null,null,null,null,null,null,null,null,null,null,null,null,null,null,null,null,null,null,null,null,null,null,null,null,null,null,null,null,null,null,null,null,null,null,null,null,null,null,null,"",null,null,null,null,null,null,null,"VERIFIQUE FECHAS",null,null,null,null,null,null,null,null,null,"VERIFIQUE COLUMNA D"]
["","",null,"",{"$f":"IFERROR(VLOOKUP(D79,'CODIGO REGIONALES'!$J$2:$L$33,3,0),\"\")","v":""},"",{"$f":"IF(ISNA(VLOOKUP(F79,Divipolas!$A$2:$B$1123,2,FALSE)),\"\",VLOOKUP(F79,Divipolas!$A$2:$B$1123,2,FALSE))","v":""},"",{"$f":"IF(ISNA(VLOOKUP((CONCATENATE(F79,H79)),Divipolas!$F$2:$G$1123,2,FALSE)),\"\",VLOOKUP((CONCATENATE(F79,H79)),Divipolas!$F$2:$G$1123,2,FALSE))","v":""},"","","","","","","","",{"$f":"IF(ISNA(VLOOKUP(Q79,Divipolas!$A$2:$B$1123,2,FALSE)),\"\",VLOOKUP(Q79,Divipolas!$A$2:$B$1123,2,FALSE))","v":""},"",{"$f":"IF(ISNA(VLOOKUP((CONCATENATE(Q79,S79)),Divipolas!$F$2:$G$1123,2,FALSE)),\"\",VLOOKUP((CONCATENATE(Q79,S79)),Divipolas!$F$2:$G$1123,2,FALSE))","v":""},"","","","","","",{"$f":"IF(ISNA(VLOOKUP(Z79,'CODIGO PAIS'!$A$2:$B$231,2,FALSE)),\"\",VLOOKUP(Z79,'CODIGO PAIS'!$A$2:$B$231,2,FALSE))","v":""},"",{"$f":"IF(ISNA(VLOOKUP(AB79,Divipolas!$A$2:$B$1123,2,FALSE)),\"\",VLOOKUP(AB79,Divipolas!$A$2:$B$1123,2,FALSE))","v":""},"",{"$f":"IF(ISNA(VLOOKUP((CONCATENATE(AB79,AD79)),Divipolas!$F$2:$G$1123,2,FALSE)),\"\",VLOOKUP((CONCATENATE(AB79,AD79)),Divipolas!$F$2:$G$1123,2,FALSE))","v":""},"","","","","",{"$f":"IF(ISNA(VLOOKUP(AJ79,Divipolas!$A$2:$B$1123,2,FALSE)),\"\",VLOOKUP(AJ79,Divipolas!$A$2:$B$1123,2,FALSE))","v":""},"",{"$f":"IF(ISNA(VLOOKUP((CONCATENATE(AJ79,AL79)),Divipolas!$F$2:$G$1123,2,FALSE)),\"\",VLOOKUP((CONCATENATE(AJ79,AL79)),Divipolas!$F$2:$G$1123,2,FALSE))","v":""},"","","","","","","","","","","","","","",null,null,null,null,null,null,null,{"$f":"IF(ISNA(VLOOKUP(BH79,'CODIGO PAIS'!$A$2:$B$231,2,FALSE)),\"\",VLOOKUP(BH79,'CODIGO PAIS'!$A$2:$B$231,2,FALSE))","v":""},null,{"$f":"IF(ISNA(VLOOKUP(BJ79,Divipolas!$A$2:$B$1123,2,FALSE)),\"\",VLOOKUP(BJ79,Divipolas!$A$2:$B$1123,2,FALSE))","v":""},null,{"$f":"IF(ISNA(VLOOKUP((CONCATENATE(BJ79,BL79)),Divipolas!$F$2:$G$1123,2,FALSE)),\"\",VLOOKUP((CONCATENATE(BJ79,BL79)),Divipolas!$F$2:$G$1123,2,FALSE))","v":""},null,"","",null,null,null,null,{"$f":"IF(ISNA(VLOOKUP(BT79,Divipolas!$A$2:$B$1123,2,FALSE)),\"\",VLOOKUP(BT79,Divipolas!$A$2:$B$1123,2,FALSE))","v":""},null,{"$f":"IF(ISNA(VLOOKUP((CONCATENATE(BT79,BV79)),Divipolas!$F$2:$G$1123,2,FALSE)),\"\",VLOOKUP((CONCATENATE(BT79,BV79)),Divipolas!$F$2:$G$1123,2,FALSE))","v":""},null,null,null,null,null,null,null,null,null,null,null,null,null,null,null,null,null,null,null,null,null,null,null,"",null,null,null,null,null,null,null,null,null,null,null,null,null,null,null,null,null,null,null,null,null,null,null,null,null,null,null,null,null,null,null,null,null,null,null,null,null,null,null,null,null,null,null,null,null,null,null,null,null,null,null,null,null,null,null,null,null,null,null,null,null,null,null,null,null,null,null,null,null,null,null,null,null,null,null,null,"",null,null,null,null,null,null,null,"VERIFIQUE FECHAS",null,null,null,null,null,null,null,null,null,"VERIFIQUE COLUMNA D"]
["","",null,"",{"$f":"IFERROR(VLOOKUP(D80,'CODIGO REGIONALES'!$J$2:$L$33,3,0),\"\")","v":""},"",{"$f":"IF(ISNA(VLOOKUP(F80,Divipolas!$A$2:$B$1123,2,FALSE)),\"\",VLOOKUP(F80,Divipolas!$A$2:$B$1123,2,FALSE))","v":""},"",{"$f":"IF(ISNA(VLOOKUP((CONCATENATE(F80,H80)),Divipolas!$F$2:$G$1123,2,FALSE)),\"\",VLOOKUP((CONCATENATE(F80,H80)),Divipolas!$F$2:$G$1123,2,FALSE))","v":""},"","","","","","","","",{"$f":"IF(ISNA(VLOOKUP(Q80,Divipolas!$A$2:$B$1123,2,FALSE)),\"\",VLOOKUP(Q80,Divipolas!$A$2:$B$1123,2,FALSE))","v":""},"",{"$f":"IF(ISNA(VLOOKUP((CONCATENATE(Q80,S80)),Divipolas!$F$2:$G$1123,2,FALSE)),\"\",VLOOKUP((CONCATENATE(Q80,S80)),Divipolas!$F$2:$G$1123,2,FALSE))","v":""},"","","","","","",{"$f":"IF(ISNA(VLOOKUP(Z80,'CODIGO PAIS'!$A$2:$B$231,2,FALSE)),\"\",VLOOKUP(Z80,'CODIGO PAIS'!$A$2:$B$231,2,FALSE))","v":""},"",{"$f":"IF(ISNA(VLOOKUP(AB80,Divipolas!$A$2:$B$1123,2,FALSE)),\"\",VLOOKUP(AB80,Divipolas!$A$2:$B$1123,2,FALSE))","v":""},"",{"$f":"IF(ISNA(VLOOKUP((CONCATENATE(AB80,AD80)),Divipolas!$F$2:$G$1123,2,FALSE)),\"\",VLOOKUP((CONCATENATE(AB80,AD80)),Divipolas!$F$2:$G$1123,2,FALSE))","v":""},"","","","","",{"$f":"IF(ISNA(VLOOKUP(AJ80,Divipolas!$A$2:$B$1123,2,FALSE)),\"\",VLOOKUP(AJ80,Divipolas!$A$2:$B$1123,2,FALSE))","v":""},"",{"$f":"IF(ISNA(VLOOKUP((CONCATENATE(AJ80,AL80)),Divipolas!$F$2:$G$1123,2,FALSE)),\"\",VLOOKUP((CONCATENATE(AJ80,AL80)),Divipolas!$F$2:$G$1123,2,FALSE))","v":""},"","","","","","","","","","","","","","",null,null,null,null,null,null,null,{"$f":"IF(ISNA(VLOOKUP(BH80,'CODIGO PAIS'!$A$2:$B$231,2,FALSE)),\"\",VLOOKUP(BH80,'CODIGO PAIS'!$A$2:$B$231,2,FALSE))","v":""},null,{"$f":"IF(ISNA(VLOOKUP(BJ80,Divipolas!$A$2:$B$1123,2,FALSE)),\"\",VLOOKUP(BJ80,Divipolas!$A$2:$B$1123,2,FALSE))","v":""},null,{"$f":"IF(ISNA(VLOOKUP((CONCATENATE(BJ80,BL80)),Divipolas!$F$2:$G$1123,2,FALSE)),\"\",VLOOKUP((CONCATENATE(BJ80,BL80)),Divipolas!$F$2:$G$1123,2,FALSE))","v":""},null,"","",null,null,null,null,{"$f":"IF(ISNA(VLOOKUP(BT80,Divipolas!$A$2:$B$1123,2,FALSE)),\"\",VLOOKUP(BT80,Divipolas!$A$2:$B$1123,2,FALSE))","v":""},null,{"$f":"IF(ISNA(VLOOKUP((CONCATENATE(BT80,BV80)),Divipolas!$F$2:$G$1123,2,FALSE)),\"\",VLOOKUP((CONCATENATE(BT80,BV80)),Divipolas!$F$2:$G$1123,2,FALSE))","v":""},null,null,null,null,null,null,null,null,null,null,null,null,null,null,null,null,null,null,null,null,null,null,null,"",null,null,null,null,null,null,null,null,null,null,null,null,null,null,null,null,null,null,null,null,null,null,null,null,null,null,null,null,null,null,null,null,null,null,null,null,null,null,null,null,null,null,null,null,null,null,null,null,null,null,null,null,null,null,null,null,null,null,null,null,null,null,null,null,null,null,null,null,null,null,null,null,null,null,null,null,"",null,null,null,null,null,null,null,"VERIFIQUE FECHAS",null,null,null,null,null,null,null,null,null,"VERIFIQUE COLUMNA D"]
["","",null,"",{"$f":"IFERROR(VLOOKUP(D81,'CODIGO REGIONALES'!$J$2:$L$33,3,0),\"\")","v":""},"",{"$f":"IF(ISNA(VLOOKUP(F81,Divipolas!$A$2:$B$1123,2,FALSE)),\"\",VLOOKUP(F81,Divipolas!$A$2:$B$1123,2,FALSE))","v":""},"",{"$f":"IF(ISNA(VLOOKUP((CONCATENATE(F81,H81)),Divipolas!$F$2:$G$1123,2,FALSE)),\"\",VLOOKUP((CONCATENATE(F81,H81)),Divipolas!$F$2:$G$1123,2,FALSE))","v":""},"","","","","","","","",{"$f":"IF(ISNA(VLOOKUP(Q81,Divipolas!$A$2:$B$1123,2,FALSE)),\"\",VLOOKUP(Q81,Divipolas!$A$2:$B$1123,2,FALSE))","v":""},"",{"$f":"IF(ISNA(VLOOKUP((CONCATENATE(Q81,S81)),Divipolas!$F$2:$G$1123,2,FALSE)),\"\",VLOOKUP((CONCATENATE(Q81,S81)),Divipolas!$F$2:$G$1123,2,FALSE))","v":""},"","","","","","",{"$f":"IF(ISNA(VLOOKUP(Z81,'CODIGO PAIS'!$A$2:$B$231,2,FALSE)),\"\",VLOOKUP(Z81,'CODIGO PAIS'!$A$2:$B$231,2,FALSE))","v":""},"",{"$f":"IF(ISNA(VLOOKUP(AB81,Divipolas!$A$2:$B$1123,2,FALSE)),\"\",VLOOKUP(AB81,Divipolas!$A$2:$B$1123,2,FALSE))","v":""},"",{"$f":"IF(ISNA(VLOOKUP((CONCATENATE(AB81,AD81)),Divipolas!$F$2:$G$1123,2,FALSE)),\"\",VLOOKUP((CONCATENATE(AB81,AD81)),Divipolas!$F$2:$G$1123,2,FALSE))","v":""},"","","","","",{"$f":"IF(ISNA(VLOOKUP(AJ81,Divipolas!$A$2:$B$1123,2,FALSE)),\"\",VLOOKUP(AJ81,Divipolas!$A$2:$B$1123,2,FALSE))","v":""},"",{"$f":"IF(ISNA(VLOOKUP((CONCATENATE(AJ81,AL81)),Divipolas!$F$2:$G$1123,2,FALSE)),\"\",VLOOKUP((CONCATENATE(AJ81,AL81)),Divipolas!$F$2:$G$1123,2,FALSE))","v":""},"","","","","","","","","","","","","","",null,null,null,null,null,null,null,{"$f":"IF(ISNA(VLOOKUP(BH81,'CODIGO PAIS'!$A$2:$B$231,2,FALSE)),\"\",VLOOKUP(BH81,'CODIGO PAIS'!$A$2:$B$231,2,FALSE))","v":""},null,{"$f":"IF(ISNA(VLOOKUP(BJ81,Divipolas!$A$2:$B$1123,2,FALSE)),\"\",VLOOKUP(BJ81,Divipolas!$A$2:$B$1123,2,FALSE))","v":""},null,{"$f":"IF(ISNA(VLOOKUP((CONCATENATE(BJ81,BL81)),Divipolas!$F$2:$G$1123,2,FALSE)),\"\",VLOOKUP((CONCATENATE(BJ81,BL81)),Divipolas!$F$2:$G$1123,2,FALSE))","v":""},null,"","",null,null,null,null,{"$f":"IF(ISNA(VLOOKUP(BT81,Divipolas!$A$2:$B$1123,2,FALSE)),\"\",VLOOKUP(BT81,Divipolas!$A$2:$B$1123,2,FALSE))","v":""},null,{"$f":"IF(ISNA(VLOOKUP((CONCATENATE(BT81,BV81)),Divipolas!$F$2:$G$1123,2,FALSE)),\"\",VLOOKUP((CONCATENATE(BT81,BV81)),Divipolas!$F$2:$G$1123,2,FALSE))","v":""},null,null,null,null,null,null,null,null,null,null,null,null,null,null,null,null,null,null,null,null,null,null,null,"",null,null,null,null,null,null,null,null,null,null,null,null,null,null,null,null,null,null,null,null,null,null,null,null,null,null,null,null,null,null,null,null,null,null,null,null,null,null,null,null,null,null,null,null,null,null,null,null,null,null,null,null,null,null,null,null,null,null,null,null,null,null,null,null,null,null,null,null,null,null,null,null,null,null,null,null,"",null,null,null,null,null,null,null,"VERIFIQUE FECHAS",null,null,null,null,null,null,null,null,null,"VERIFIQUE COLUMNA D"]
["","",null,"",{"$f":"IFERROR(VLOOKUP(D82,'CODIGO REGIONALES'!$J$2:$L$33,3,0),\"\")","v":""},"",{"$f":"IF(ISNA(VLOOKUP(F82,Divipolas!$A$2:$B$1123,2,FALSE)),\"\",VLOOKUP(F82,Divipolas!$A$2:$B$1123,2,FALSE))","v":""},"",{"$f":"IF(ISNA(VLOOKUP((CONCATENATE(F82,H82)),Divipolas!$F$2:$G$1123,2,FALSE)),\"\",VLOOKUP((CONCATENATE(F82,H82)),Divipolas!$F$2:$G$1123,2,FALSE))","v":""},"","","","","","","","",{"$f":"IF(ISNA(VLOOKUP(Q82,Divipolas!$A$2:$B$1123,2,FALSE)),\"\",VLOOKUP(Q82,Divipolas!$A$2:$B$1123,2,FALSE))","v":""},"",{"$f":"IF(ISNA(VLOOKUP((CONCATENATE(Q82,S82)),Divipolas!$F$2:$G$1123,2,FALSE)),\"\",VLOOKUP((CONCATENATE(Q82,S82)),Divipolas!$F$2:$G$1123,2,FALSE))","v":""},"","","","","","",{"$f":"IF(ISNA(VLOOKUP(Z82,'CODIGO PAIS'!$A$2:$B$231,2,FALSE)),\"\",VLOOKUP(Z82,'CODIGO PAIS'!$A$2:$B$231,2,FALSE))","v":""},"",{"$f":"IF(ISNA(VLOOKUP(AB82,Divipolas!$A$2:$B$1123,2,FALSE)),\"\",VLOOKUP(AB82,Divipolas!$A$2:$B$1123,2,FALSE))","v":""},"",{"$f":"IF(ISNA(VLOOKUP((CONCATENATE(AB82,AD82)),Divipolas!$F$2:$G$1123,2,FALSE)),\"\",VLOOKUP((CONCATENATE(AB82,AD82)),Divipolas!$F$2:$G$1123,2,FALSE))","v":""},"","","","","",{"$f":"IF(ISNA(VLOOKUP(AJ82,Divipolas!$A$2:$B$1123,2,FALSE)),\"\",VLOOKUP(AJ82,Divipolas!$A$2:$B$1123,2,FALSE))","v":""},"",{"$f":"IF(ISNA(VLOOKUP((CONCATENATE(AJ82,AL82)),Divipolas!$F$2:$G$1123,2,FALSE)),\"\",VLOOKUP((CONCATENATE(AJ82,AL82)),Divipolas!$F$2:$G$1123,2,FALSE))","v":""},"","","","","","","","","","","","","","",null,null,null,null,null,null,null,{"$f":"IF(ISNA(VLOOKUP(BH82,'CODIGO PAIS'!$A$2:$B$231,2,FALSE)),\"\",VLOOKUP(BH82,'CODIGO PAIS'!$A$2:$B$231,2,FALSE))","v":""},null,{"$f":"IF(ISNA(VLOOKUP(BJ82,Divipolas!$A$2:$B$1123,2,FALSE)),\"\",VLOOKUP(BJ82,Divipolas!$A$2:$B$1123,2,FALSE))","v":""},null,{"$f":"IF(ISNA(VLOOKUP((CONCATENATE(BJ82,BL82)),Divipolas!$F$2:$G$1123,2,FALSE)),\"\",VLOOKUP((CONCATENATE(BJ82,BL82)),Divipolas!$F$2:$G$1123,2,FALSE))","v":""},null,"","",null,null,null,null,{"$f":"IF(ISNA(VLOOKUP(BT82,Divipolas!$A$2:$B$1123,2,FALSE)),\"\",VLOOKUP(BT82,Divipolas!$A$2:$B$1123,2,FALSE))","v":""},null,{"$f":"IF(ISNA(VLOOKUP((CONCATENATE(BT82,BV82)),Divipolas!$F$2:$G$1123,2,FALSE)),\"\",VLOOKUP((CONCATENATE(BT82,BV82)),Divipolas!$F$2:$G$1123,2,FALSE))","v":""},null,null,null,null,null,null,null,null,null,null,null,null,null,null,null,null,null,null,null,null,null,null,null,"",null,null,null,null,null,null,null,null,null,null,null,null,null,null,null,null,null,null,null,null,null,null,null,null,null,null,null,null,null,null,null,null,null,null,null,null,null,null,null,null,null,null,null,null,null,null,null,null,null,null,null,null,null,null,null,null,null,null,null,null,null,null,null,null,null,null,null,null,null,null,null,null,null,null,null,null,"",null,null,null,null,null,null,null,"VERIFIQUE FECHAS",null,null,null,null,null,null,null,null,null,"VERIFIQUE COLUMNA D"]
["","",null,"",{"$f":"IFERROR(VLOOKUP(D83,'CODIGO REGIONALES'!$J$2:$L$33,3,0),\"\")","v":""},"",{"$f":"IF(ISNA(VLOOKUP(F83,Divipolas!$A$2:$B$1123,2,FALSE)),\"\",VLOOKUP(F83,Divipolas!$A$2:$B$1123,2,FALSE))","v":""},"",{"$f":"IF(ISNA(VLOOKUP((CONCATENATE(F83,H83)),Divipolas!$F$2:$G$1123,2,FALSE)),\"\",VLOOKUP((CONCATENATE(F83,H83)),Divipolas!$F$2:$G$1123,2,FALSE))","v":""},"","","","","","","","",{"$f":"IF(ISNA(VLOOKUP(Q83,Divipolas!$A$2:$B$1123,2,FALSE)),\"\",VLOOKUP(Q83,Divipolas!$A$2:$B$1123,2,FALSE))","v":""},"",{"$f":"IF(ISNA(VLOOKUP((CONCATENATE(Q83,S83)),Divipolas!$F$2:$G$1123,2,FALSE)),\"\",VLOOKUP((CONCATENATE(Q83,S83)),Divipolas!$F$2:$G$1123,2,FALSE))","v":""},"","","","","","",{"$f":"IF(ISNA(VLOOKUP(Z83,'CODIGO PAIS'!$A$2:$B$231,2,FALSE)),\"\",VLOOKUP(Z83,'CODIGO PAIS'!$A$2:$B$231,2,FALSE))","v":""},"",{"$f":"IF(ISNA(VLOOKUP(AB83,Divipolas!$A$2:$B$1123,2,FALSE)),\"\",VLOOKUP(AB83,Divipolas!$A$2:$B$1123,2,FALSE))","v":""},"",{"$f":"IF(ISNA(VLOOKUP((CONCATENATE(AB83,AD83)),Divipolas!$F$2:$G$1123,2,FALSE)),\"\",VLOOKUP((CONCATENATE(AB83,AD83)),Divipolas!$F$2:$G$1123,2,FALSE))","v":""},"","","","","",{"$f":"IF(ISNA(VLOOKUP(AJ83,Divipolas!$A$2:$B$1123,2,FALSE)),\"\",VLOOKUP(AJ83,Divipolas!$A$2:$B$1123,2,FALSE))","v":""},"",{"$f":"IF(ISNA(VLOOKUP((CONCATENATE(AJ83,AL83)),Divipolas!$F$2:$G$1123,2,FALSE)),\"\",VLOOKUP((CONCATENATE(AJ83,AL83)),Divipolas!$F$2:$G$1123,2,FALSE))","v":""},"","","","","","","","","","","","","","",null,null,null,null,null,null,null,{"$f":"IF(ISNA(VLOOKUP(BH83,'CODIGO PAIS'!$A$2:$B$231,2,FALSE)),\"\",VLOOKUP(BH83,'CODIGO PAIS'!$A$2:$B$231,2,FALSE))","v":""},null,{"$f":"IF(ISNA(VLOOKUP(BJ83,Divipolas!$A$2:$B$1123,2,FALSE)),\"\",VLOOKUP(BJ83,Divipolas!$A$2:$B$1123,2,FALSE))","v":""},null,{"$f":"IF(ISNA(VLOOKUP((CONCATENATE(BJ83,BL83)),Divipolas!$F$2:$G$1123,2,FALSE)),\"\",VLOOKUP((CONCATENATE(BJ83,BL83)),Divipolas!$F$2:$G$1123,2,FALSE))","v":""},null,"","",null,null,null,null,{"$f":"IF(ISNA(VLOOKUP(BT83,Divipolas!$A$2:$B$1123,2,FALSE)),\"\",VLOOKUP(BT83,Divipolas!$A$2:$B$1123,2,FALSE))","v":""},null,{"$f":"IF(ISNA(VLOOKUP((CONCATENATE(BT83,BV83)),Divipolas!$F$2:$G$1123,2,FALSE)),\"\",VLOOKUP((CONCATENATE(BT83,BV83)),Divipolas!$F$2:$G$1123,2,FALSE))","v":""},null,null,null,null,null,null,null,null,null,null,null,null,null,null,null,null,null,null,null,null,null,null,null,"",null,null,null,null,null,null,null,null,null,null,null,null,null,null,null,null,null,null,null,null,null,null,null,null,null,null,null,null,null,null,null,null,null,null,null,null,null,null,null,null,null,null,null,null,null,null,null,null,null,null,null,null,null,null,null,null,null,null,null,null,null,null,null,null,null,null,null,null,null,null,null,null,null,null,null,null,"",null,null,null,null,null,null,null,"VERIFIQUE FECHAS",null,null,null,null,null,null,null,null,null,"VERIFIQUE COLUMNA D"]
["","",null,"",{"$f":"IFERROR(VLOOKUP(D84,'CODIGO REGIONALES'!$J$2:$L$33,3,0),\"\")","v":""},"",{"$f":"IF(ISNA(VLOOKUP(F84,Divipolas!$A$2:$B$1123,2,FALSE)),\"\",VLOOKUP(F84,Divipolas!$A$2:$B$1123,2,FALSE))","v":""},"",{"$f":"IF(ISNA(VLOOKUP((CONCATENATE(F84,H84)),Divipolas!$F$2:$G$1123,2,FALSE)),\"\",VLOOKUP((CONCATENATE(F84,H84)),Divipolas!$F$2:$G$1123,2,FALSE))","v":""},"","","","","","","","",{"$f":"IF(ISNA(VLOOKUP(Q84,Divipolas!$A$2:$B$1123,2,FALSE)),\"\",VLOOKUP(Q84,Divipolas!$A$2:$B$1123,2,FALSE))","v":""},"",{"$f":"IF(ISNA(VLOOKUP((CONCATENATE(Q84,S84)),Divipolas!$F$2:$G$1123,2,FALSE)),\"\",VLOOKUP((CONCATENATE(Q84,S84)),Divipolas!$F$2:$G$1123,2,FALSE))","v":""},"","","","","","",{"$f":"IF(ISNA(VLOOKUP(Z84,'CODIGO PAIS'!$A$2:$B$231,2,FALSE)),\"\",VLOOKUP(Z84,'CODIGO PAIS'!$A$2:$B$231,2,FALSE))","v":""},"",{"$f":"IF(ISNA(VLOOKUP(AB84,Divipolas!$A$2:$B$1123,2,FALSE)),\"\",VLOOKUP(AB84,Divipolas!$A$2:$B$1123,2,FALSE))","v":""},"",{"$f":"IF(ISNA(VLOOKUP((CONCATENATE(AB84,AD84)),Divipolas!$F$2:$G$1123,2,FALSE)),\"\",VLOOKUP((CONCATENATE(AB84,AD84)),Divipolas!$F$2:$G$1123,2,FALSE))","v":""},"","","","","",{"$f":"IF(ISNA(VLOOKUP(AJ84,Divipolas!$A$2:$B$1123,2,FALSE)),\"\",VLOOKUP(AJ84,Divipolas!$A$2:$B$1123,2,FALSE))","v":""},"",{"$f":"IF(ISNA(VLOOKUP((CONCATENATE(AJ84,AL84)),Divipolas!$F$2:$G$1123,2,FALSE)),\"\",VLOOKUP((CONCATENATE(AJ84,AL84)),Divipolas!$F$2:$G$1123,2,FALSE))","v":""},"","","","","","","","","","","","","","",null,null,null,null,null,null,null,{"$f":"IF(ISNA(VLOOKUP(BH84,'CODIGO PAIS'!$A$2:$B$231,2,FALSE)),\"\",VLOOKUP(BH84,'CODIGO PAIS'!$A$2:$B$231,2,FALSE))","v":""},null,{"$f":"IF(ISNA(VLOOKUP(BJ84,Divipolas!$A$2:$B$1123,2,FALSE)),\"\",VLOOKUP(BJ84,Divipolas!$A$2:$B$1123,2,FALSE))","v":""},null,{"$f":"IF(ISNA(VLOOKUP((CONCATENATE(BJ84,BL84)),Divipolas!$F$2:$G$1123,2,FALSE)),\"\",VLOOKUP((CONCATENATE(BJ84,BL84)),Divipolas!$F$2:$G$1123,2,FALSE))","v":""},null,"","",null,null,null,null,{"$f":"IF(ISNA(VLOOKUP(BT84,Divipolas!$A$2:$B$1123,2,FALSE)),\"\",VLOOKUP(BT84,Divipolas!$A$2:$B$1123,2,FALSE))","v":""},null,{"$f":"IF(ISNA(VLOOKUP((CONCATENATE(BT84,BV84)),Divipolas!$F$2:$G$1123,2,FALSE)),\"\",VLOOKUP((CONCATENATE(BT84,BV84)),Divipolas!$F$2:$G$1123,2,FALSE))","v":""},null,null,null,null,null,null,null,null,null,null,null,null,null,null,null,null,null,null,null,null,null,null,null,"",null,null,null,null,null,null,null,null,null,null,null,null,null,null,null,null,null,null,null,null,null,null,null,null,null,null,null,null,null,null,null,null,null,null,null,null,null,null,null,null,null,null,null,null,null,null,null,null,null,null,null,null,null,null,null,null,null,null,null,null,null,null,null,null,null,null,null,null,null,null,null,null,null,null,null,null,"",null,null,null,null,null,null,null,"VERIFIQUE FECHAS",null,null,null,null,null,null,null,null,null,"VERIFIQUE COLUMNA D"]
["","",null,"",{"$f":"IFERROR(VLOOKUP(D85,'CODIGO REGIONALES'!$J$2:$L$33,3,0),\"\")","v":""},"",{"$f":"IF(ISNA(VLOOKUP(F85,Divipolas!$A$2:$B$1123,2,FALSE)),\"\",VLOOKUP(F85,Divipolas!$A$2:$B$1123,2,FALSE))","v":""},"",{"$f":"IF(ISNA(VLOOKUP((CONCATENATE(F85,H85)),Divipolas!$F$2:$G$1123,2,FALSE)),\"\",VLOOKUP((CONCATENATE(F85,H85)),Divipolas!$F$2:$G$1123,2,FALSE))","v":""},"","","","","","","","",{"$f":"IF(ISNA(VLOOKUP(Q85,Divipolas!$A$2:$B$1123,2,FALSE)),\"\",VLOOKUP(Q85,Divipolas!$A$2:$B$1123,2,FALSE))","v":""},"",{"$f":"IF(ISNA(VLOOKUP((CONCATENATE(Q85,S85)),Divipolas!$F$2:$G$1123,2,FALSE)),\"\",VLOOKUP((CONCATENATE(Q85,S85)),Divipolas!$F$2:$G$1123,2,FALSE))","v":""},"","","","","","",{"$f":"IF(ISNA(VLOOKUP(Z85,'CODIGO PAIS'!$A$2:$B$231,2,FALSE)),\"\",VLOOKUP(Z85,'CODIGO PAIS'!$A$2:$B$231,2,FALSE))","v":""},"",{"$f":"IF(ISNA(VLOOKUP(AB85,Divipolas!$A$2:$B$1123,2,FALSE)),\"\",VLOOKUP(AB85,Divipolas!$A$2:$B$1123,2,FALSE))","v":""},"",{"$f":"IF(ISNA(VLOOKUP((CONCATENATE(AB85,AD85)),Divipolas!$F$2:$G$1123,2,FALSE)),\"\",VLOOKUP((CONCATENATE(AB85,AD85)),Divipolas!$F$2:$G$1123,2,FALSE))","v":""},"","","","","",{"$f":"IF(ISNA(VLOOKUP(AJ85,Divipolas!$A$2:$B$1123,2,FALSE)),\"\",VLOOKUP(AJ85,Divipolas!$A$2:$B$1123,2,FALSE))","v":""},"",{"$f":"IF(ISNA(VLOOKUP((CONCATENATE(AJ85,AL85)),Divipolas!$F$2:$G$1123,2,FALSE)),\"\",VLOOKUP((CONCATENATE(AJ85,AL85)),Divipolas!$F$2:$G$1123,2,FALSE))","v":""},"","","","","","","","","","","","","","",null,null,null,null,null,null,null,{"$f":"IF(ISNA(VLOOKUP(BH85,'CODIGO PAIS'!$A$2:$B$231,2,FALSE)),\"\",VLOOKUP(BH85,'CODIGO PAIS'!$A$2:$B$231,2,FALSE))","v":""},null,{"$f":"IF(ISNA(VLOOKUP(BJ85,Divipolas!$A$2:$B$1123,2,FALSE)),\"\",VLOOKUP(BJ85,Divipolas!$A$2:$B$1123,2,FALSE))","v":""},null,{"$f":"IF(ISNA(VLOOKUP((CONCATENATE(BJ85,BL85)),Divipolas!$F$2:$G$1123,2,FALSE)),\"\",VLOOKUP((CONCATENATE(BJ85,BL85)),Divipolas!$F$2:$G$1123,2,FALSE))","v":""},null,"","",null,null,null,null,{"$f":"IF(ISNA(VLOOKUP(BT85,Divipolas!$A$2:$B$1123,2,FALSE)),\"\",VLOOKUP(BT85,Divipolas!$A$2:$B$1123,2,FALSE))","v":""},null,{"$f":"IF(ISNA(VLOOKUP((CONCATENATE(BT85,BV85)),Divipolas!$F$2:$G$1123,2,FALSE)),\"\",VLOOKUP((CONCATENATE(BT85,BV85)),Divipolas!$F$2:$G$1123,2,FALSE))","v":""},null,null,null,null,null,null,null,null,null,null,null,null,null,null,null,null,null,null,null,null,null,null,null,"",null,null,null,null,null,null,null,null,null,null,null,null,null,null,null,null,null,null,null,null,null,null,null,null,null,null,null,null,null,null,null,null,null,null,null,null,null,null,null,null,null,null,null,null,null,null,null,null,null,null,null,null,null,null,null,null,null,null,null,null,null,null,null,null,null,null,null,null,null,null,null,null,null,null,null,null,"",null,null,null,null,null,null,null,"VERIFIQUE FECHAS",null,null,null,null,null,null,null,null,null,"VERIFIQUE COLUMNA D"]
["","",null,"",{"$f":"IFERROR(VLOOKUP(D86,'CODIGO REGIONALES'!$J$2:$L$33,3,0),\"\")","v":""},"",{"$f":"IF(ISNA(VLOOKUP(F86,Divipolas!$A$2:$B$1123,2,FALSE)),\"\",VLOOKUP(F86,Divipolas!$A$2:$B$1123,2,FALSE))","v":""},"",{"$f":"IF(ISNA(VLOOKUP((CONCATENATE(F86,H86)),Divipolas!$F$2:$G$1123,2,FALSE)),\"\",VLOOKUP((CONCATENATE(F86,H86)),Divipolas!$F$2:$G$1123,2,FALSE))","v":""},"","","","","","","","",{"$f":"IF(ISNA(VLOOKUP(Q86,Divipolas!$A$2:$B$1123,2,FALSE)),\"\",VLOOKUP(Q86,Divipolas!$A$2:$B$1123,2,FALSE))","v":""},"",{"$f":"IF(ISNA(VLOOKUP((CONCATENATE(Q86,S86)),Divipolas!$F$2:$G$1123,2,FALSE)),\"\",VLOOKUP((CONCATENATE(Q86,S86)),Divipolas!$F$2:$G$1123,2,FALSE))","v":""},"","","","","","",{"$f":"IF(ISNA(VLOOKUP(Z86,'CODIGO PAIS'!$A$2:$B$231,2,FALSE)),\"\",VLOOKUP(Z86,'CODIGO PAIS'!$A$2:$B$231,2,FALSE))","v":""},"",{"$f":"IF(ISNA(VLOOKUP(AB86,Divipolas!$A$2:$B$1123,2,FALSE)),\"\",VLOOKUP(AB86,Divipolas!$A$2:$B$1123,2,FALSE))","v":""},"",{"$f":"IF(ISNA(VLOOKUP((CONCATENATE(AB86,AD86)),Divipolas!$F$2:$G$1123,2,FALSE)),\"\",VLOOKUP((CONCATENATE(AB86,AD86)),Divipolas!$F$2:$G$1123,2,FALSE))","v":""},"","","","","",{"$f":"IF(ISNA(VLOOKUP(AJ86,Divipolas!$A$2:$B$1123,2,FALSE)),\"\",VLOOKUP(AJ86,Divipolas!$A$2:$B$1123,2,FALSE))","v":""},"",{"$f":"IF(ISNA(VLOOKUP((CONCATENATE(AJ86,AL86)),Divipolas!$F$2:$G$1123,2,FALSE)),\"\",VLOOKUP((CONCATENATE(AJ86,AL86)),Divipolas!$F$2:$G$1123,2,FALSE))","v":""},"","","","","","","","","","","","","","",null,null,null,null,null,null,null,{"$f":"IF(ISNA(VLOOKUP(BH86,'CODIGO PAIS'!$A$2:$B$231,2,FALSE)),\"\",VLOOKUP(BH86,'CODIGO PAIS'!$A$2:$B$231,2,FALSE))","v":""},null,{"$f":"IF(ISNA(VLOOKUP(BJ86,Divipolas!$A$2:$B$1123,2,FALSE)),\"\",VLOOKUP(BJ86,Divipolas!$A$2:$B$1123,2,FALSE))","v":""},null,{"$f":"IF(ISNA(VLOOKUP((CONCATENATE(BJ86,BL86)),Divipolas!$F$2:$G$1123,2,FALSE)),\"\",VLOOKUP((CONCATENATE(BJ86,BL86)),Divipolas!$F$2:$G$1123,2,FALSE))","v":""},null,"","",null,null,null,null,{"$f":"IF(ISNA(VLOOKUP(BT86,Divipolas!$A$2:$B$1123,2,FALSE)),\"\",VLOOKUP(BT86,Divipolas!$A$2:$B$1123,2,FALSE))","v":""},null,{"$f":"IF(ISNA(VLOOKUP((CONCATENATE(BT86,BV86)),Divipolas!$F$2:$G$1123,2,FALSE)),\"\",VLOOKUP((CONCATENATE(BT86,BV86)),Divipolas!$F$2:$G$1123,2,FALSE))","v":""},null,null,null,null,null,null,null,null,null,null,null,null,null,null,null,null,null,null,null,null,null,null,null,"",null,null,null,null,null,null,null,null,null,null,null,null,null,null,null,null,null,null,null,null,null,null,null,null,null,null,null,null,null,null,null,null,null,null,null,null,null,null,null,null,null,null,null,null,null,null,null,null,null,null,null,null,null,null,null,null,null,null,null,null,null,null,null,null,null,null,null,null,null,null,null,null,null,null,null,null,"",null,null,null,null,null,null,null,"VERIFIQUE FECHAS",null,null,null,null,null,null,null,null,null,"VERIFIQUE COLUMNA D"]
["","",null,"",{"$f":"IFERROR(VLOOKUP(D87,'CODIGO REGIONALES'!$J$2:$L$33,3,0),\"\")","v":""},"",{"$f":"IF(ISNA(VLOOKUP(F87,Divipolas!$A$2:$B$1123,2,FALSE)),\"\",VLOOKUP(F87,Divipolas!$A$2:$B$1123,2,FALSE))","v":""},"",{"$f":"IF(ISNA(VLOOKUP((CONCATENATE(F87,H87)),Divipolas!$F$2:$G$1123,2,FALSE)),\"\",VLOOKUP((CONCATENATE(F87,H87)),Divipolas!$F$2:$G$1123,2,FALSE))","v":""},"","","","","","","","",{"$f":"IF(ISNA(VLOOKUP(Q87,Divipolas!$A$2:$B$1123,2,FALSE)),\"\",VLOOKUP(Q87,Divipolas!$A$2:$B$1123,2,FALSE))","v":""},"",{"$f":"IF(ISNA(VLOOKUP((CONCATENATE(Q87,S87)),Divipolas!$F$2:$G$1123,2,FALSE)),\"\",VLOOKUP((CONCATENATE(Q87,S87)),Divipolas!$F$2:$G$1123,2,FALSE))","v":""},"","","","","","",{"$f":"IF(ISNA(VLOOKUP(Z87,'CODIGO PAIS'!$A$2:$B$231,2,FALSE)),\"\",VLOOKUP(Z87,'CODIGO PAIS'!$A$2:$B$231,2,FALSE))","v":""},"",{"$f":"IF(ISNA(VLOOKUP(AB87,Divipolas!$A$2:$B$1123,2,FALSE)),\"\",VLOOKUP(AB87,Divipolas!$A$2:$B$1123,2,FALSE))","v":""},"",{"$f":"IF(ISNA(VLOOKUP((CONCATENATE(AB87,AD87)),Divipolas!$F$2:$G$1123,2,FALSE)),\"\",VLOOKUP((CONCATENATE(AB87,AD87)),Divipolas!$F$2:$G$1123,2,FALSE))","v":""},"","","","","",{"$f":"IF(ISNA(VLOOKUP(AJ87,Divipolas!$A$2:$B$1123,2,FALSE)),\"\",VLOOKUP(AJ87,Divipolas!$A$2:$B$1123,2,FALSE))","v":""},"",{"$f":"IF(ISNA(VLOOKUP((CONCATENATE(AJ87,AL87)),Divipolas!$F$2:$G$1123,2,FALSE)),\"\",VLOOKUP((CONCATENATE(AJ87,AL87)),Divipolas!$F$2:$G$1123,2,FALSE))","v":""},"","","","","","","","","","","","","","",null,null,null,null,null,null,null,{"$f":"IF(ISNA(VLOOKUP(BH87,'CODIGO PAIS'!$A$2:$B$231,2,FALSE)),\"\",VLOOKUP(BH87,'CODIGO PAIS'!$A$2:$B$231,2,FALSE))","v":""},null,{"$f":"IF(ISNA(VLOOKUP(BJ87,Divipolas!$A$2:$B$1123,2,FALSE)),\"\",VLOOKUP(BJ87,Divipolas!$A$2:$B$1123,2,FALSE))","v":""},null,{"$f":"IF(ISNA(VLOOKUP((CONCATENATE(BJ87,BL87)),Divipolas!$F$2:$G$1123,2,FALSE)),\"\",VLOOKUP((CONCATENATE(BJ87,BL87)),Divipolas!$F$2:$G$1123,2,FALSE))","v":""},null,"","",null,null,null,null,{"$f":"IF(ISNA(VLOOKUP(BT87,Divipolas!$A$2:$B$1123,2,FALSE)),\"\",VLOOKUP(BT87,Divipolas!$A$2:$B$1123,2,FALSE))","v":""},null,{"$f":"IF(ISNA(VLOOKUP((CONCATENATE(BT87,BV87)),Divipolas!$F$2:$G$1123,2,FALSE)),\"\",VLOOKUP((CONCATENATE(BT87,BV87)),Divipolas!$F$2:$G$1123,2,FALSE))","v":""},null,null,null,null,null,null,null,null,null,null,null,null,null,null,null,null,null,null,null,null,null,null,null,"",null,null,null,null,null,null,null,null,null,null,null,null,null,null,null,null,null,null,null,null,null,null,null,null,null,null,null,null,null,null,null,null,null,null,null,null,null,null,null,null,null,null,null,null,null,null,null,null,null,null,null,null,null,null,null,null,null,null,null,null,null,null,null,null,null,null,null,null,null,null,null,null,null,null,null,null,"",null,null,null,null,null,null,null,"VERIFIQUE FECHAS",null,null,null,null,null,null,null,null,null,"VERIFIQUE COLUMNA D"]
["","",null,"",{"$f":"IFERROR(VLOOKUP(D88,'CODIGO REGIONALES'!$J$2:$L$33,3,0),\"\")","v":""},"",{"$f":"IF(ISNA(VLOOKUP(F88,Divipolas!$A$2:$B$1123,2,FALSE)),\"\",VLOOKUP(F88,Divipolas!$A$2:$B$1123,2,FALSE))","v":""},"",{"$f":"IF(ISNA(VLOOKUP((CONCATENATE(F88,H88)),Divipolas!$F$2:$G$1123,2,FALSE)),\"\",VLOOKUP((CONCATENATE(F88,H88)),Divipolas!$F$2:$G$1123,2,FALSE))","v":""},"",{"$f":"IF(AND($C88<>\"\",K87<>\"\"),K87,\"\")","v":""},"","","","","","",{"$f":"IF(ISNA(VLOOKUP(Q88,Divipolas!$A$2:$B$1123,2,FALSE)),\"\",VLOOKUP(Q88,Divipolas!$A$2:$B$1123,2,FALSE))","v":""},"",{"$f":"IF(ISNA(VLOOKUP((CONCATENATE(Q88,S88)),Divipolas!$F$2:$G$1123,2,FALSE)),\"\",VLOOKUP((CONCATENATE(Q88,S88)),Divipolas!$F$2:$G$1123,2,FALSE))","v":""},"","","","","","",{"$f":"IF(ISNA(VLOOKUP(Z88,'CODIGO PAIS'!$A$2:$B$231,2,FALSE)),\"\",VLOOKUP(Z88,'CODIGO PAIS'!$A$2:$B$231,2,FALSE))","v":""},"",{"$f":"IF(ISNA(VLOOKUP(AB88,Divipolas!$A$2:$B$1123,2,FALSE)),\"\",VLOOKUP(AB88,Divipolas!$A$2:$B$1123,2,FALSE))","v":""},"",{"$f":"IF(ISNA(VLOOKUP((CONCATENATE(AB88,AD88)),Divipolas!$F$2:$G$1123,2,FALSE)),\"\",VLOOKUP((CONCATENATE(AB88,AD88)),Divipolas!$F$2:$G$1123,2,FALSE))","v":""},"","","","","",{"$f":"IF(ISNA(VLOOKUP(AJ88,Divipolas!$A$2:$B$1123,2,FALSE)),\"\",VLOOKUP(AJ88,Divipolas!$A$2:$B$1123,2,FALSE))","v":""},"",{"$f":"IF(ISNA(VLOOKUP((CONCATENATE(AJ88,AL88)),Divipolas!$F$2:$G$1123,2,FALSE)),\"\",VLOOKUP((CONCATENATE(AJ88,AL88)),Divipolas!$F$2:$G$1123,2,FALSE))","v":""},"","","","","","","","","","","","","","",null,null,null,null,null,null,null,{"$f":"IF(ISNA(VLOOKUP(BH88,'CODIGO PAIS'!$A$2:$B$231,2,FALSE)),\"\",VLOOKUP(BH88,'CODIGO PAIS'!$A$2:$B$231,2,FALSE))","v":""},null,{"$f":"IF(ISNA(VLOOKUP(BJ88,Divipolas!$A$2:$B$1123,2,FALSE)),\"\",VLOOKUP(BJ88,Divipolas!$A$2:$B$1123,2,FALSE))","v":""},null,{"$f":"IF(ISNA(VLOOKUP((CONCATENATE(BJ88,BL88)),Divipolas!$F$2:$G$1123,2,FALSE)),\"\",VLOOKUP((CONCATENATE(BJ88,BL88)),Divipolas!$F$2:$G$1123,2,FALSE))","v":""},null,"","",null,null,null,null,{"$f":"IF(ISNA(VLOOKUP(BT88,Divipolas!$A$2:$B$1123,2,FALSE)),\"\",VLOOKUP(BT88,Divipolas!$A$2:$B$1123,2,FALSE))","v":""},null,{"$f":"IF(ISNA(VLOOKUP((CONCATENATE(BT88,BV88)),Divipolas!$F$2:$G$1123,2,FALSE)),\"\",VLOOKUP((CONCATENATE(BT88,BV88)),Divipolas!$F$2:$G$1123,2,FALSE))","v":""},null,null,null,null,null,null,null,null,null,null,null,null,null,null,null,null,null,null,null,null,null,null,null,"",null,null,null,null,null,null,null,null,null,null,null,null,null,null,null,null,null,null,null,null,null,null,null,null,null,null,null,null,null,null,null,null,null,null,null,null,null,null,null,null,null,null,null,null,null,null,null,null,null,null,null,null,null,null,null,null,null,null,null,null,null,null,null,null,null,null,null,null,null,null,null,null,null,null,null,null,"",null,null,null,null,null,null,null,"VERIFIQUE FECHAS",null,null,null,null,null,null,null,null,null,"VERIFIQUE COLUMNA D"]
["","",null,"",{"$f":"IFERROR(VLOOKUP(D89,'CODIGO REGIONALES'!$J$2:$L$33,3,0),\"\")","v":""},"",{"$f":"IF(ISNA(VLOOKUP(F89,Divipolas!$A$2:$B$1123,2,FALSE)),\"\",VLOOKUP(F89,Divipolas!$A$2:$B$1123,2,FALSE))","v":""},"",{"$f":"IF(ISNA(VLOOKUP((CONCATENATE(F89,H89)),Divipolas!$F$2:$G$1123,2,FALSE)),\"\",VLOOKUP((CONCATENATE(F89,H89)),Divipolas!$F$2:$G$1123,2,FALSE))","v":""},"","","","","","","","",{"$f":"IF(ISNA(VLOOKUP(Q89,Divipolas!$A$2:$B$1123,2,FALSE)),\"\",VLOOKUP(Q89,Divipolas!$A$2:$B$1123,2,FALSE))","v":""},"",{"$f":"IF(ISNA(VLOOKUP((CONCATENATE(Q89,S89)),Divipolas!$F$2:$G$1123,2,FALSE)),\"\",VLOOKUP((CONCATENATE(Q89,S89)),Divipolas!$F$2:$G$1123,2,FALSE))","v":""},"","","","","","",{"$f":"IF(ISNA(VLOOKUP(Z89,'CODIGO PAIS'!$A$2:$B$231,2,FALSE)),\"\",VLOOKUP(Z89,'CODIGO PAIS'!$A$2:$B$231,2,FALSE))","v":""},"",{"$f":"IF(ISNA(VLOOKUP(AB89,Divipolas!$A$2:$B$1123,2,FALSE)),\"\",VLOOKUP(AB89,Divipolas!$A$2:$B$1123,2,FALSE))","v":""},"",{"$f":"IF(ISNA(VLOOKUP((CONCATENATE(AB89,AD89)),Divipolas!$F$2:$G$1123,2,FALSE)),\"\",VLOOKUP((CONCATENATE(AB89,AD89)),Divipolas!$F$2:$G$1123,2,FALSE))","v":""},"","","","","",{"$f":"IF(ISNA(VLOOKUP(AJ89,Divipolas!$A$2:$B$1123,2,FALSE)),\"\",VLOOKUP(AJ89,Divipolas!$A$2:$B$1123,2,FALSE))","v":""},"",{"$f":"IF(ISNA(VLOOKUP((CONCATENATE(AJ89,AL89)),Divipolas!$F$2:$G$1123,2,FALSE)),\"\",VLOOKUP((CONCATENATE(AJ89,AL89)),Divipolas!$F$2:$G$1123,2,FALSE))","v":""},"","","","","","","","","","","","","","",null,null,null,null,null,null,null,{"$f":"IF(ISNA(VLOOKUP(BH89,'CODIGO PAIS'!$A$2:$B$231,2,FALSE)),\"\",VLOOKUP(BH89,'CODIGO PAIS'!$A$2:$B$231,2,FALSE))","v":""},null,{"$f":"IF(ISNA(VLOOKUP(BJ89,Divipolas!$A$2:$B$1123,2,FALSE)),\"\",VLOOKUP(BJ89,Divipolas!$A$2:$B$1123,2,FALSE))","v":""},null,{"$f":"IF(ISNA(VLOOKUP((CONCATENATE(BJ89,BL89)),Divipolas!$F$2:$G$1123,2,FALSE)),\"\",VLOOKUP((CONCATENATE(BJ89,BL89)),Divipolas!$F$2:$G$1123,2,FALSE))","v":""},null,"","",null,null,null,null,{"$f":"IF(ISNA(VLOOKUP(BT89,Divipolas!$A$2:$B$1123,2,FALSE)),\"\",VLOOKUP(BT89,Divipolas!$A$2:$B$1123,2,FALSE))","v":""},null,{"$f":"IF(ISNA(VLOOKUP((CONCATENATE(BT89,BV89)),Divipolas!$F$2:$G$1123,2,FALSE)),\"\",VLOOKUP((CONCATENATE(BT89,BV89)),Divipolas!$F$2:$G$1123,2,FALSE))","v":""},null,null,null,null,null,null,null,null,null,null,null,null,null,null,null,null,null,null,null,null,null,null,null,"",null,null,null,null,null,null,null,null,null,null,null,null,null,null,null,null,null,null,null,null,null,null,null,null,null,null,null,null,null,null,null,null,null,null,null,null,null,null,null,null,null,null,null,null,null,null,null,null,null,null,null,null,null,null,null,null,null,null,null,null,null,null,null,null,null,null,null,null,null,null,null,null,null,null,null,null,"",null,null,null,null,null,null,null,"VERIFIQUE FECHAS",null,null,null,null,null,null,null,null,null,"VERIFIQUE COLUMNA D"]
["","",null,"",{"$f":"IFERROR(VLOOKUP(D90,'CODIGO REGIONALES'!$J$2:$L$33,3,0),\"\")","v":""},"",{"$f":"IF(ISNA(VLOOKUP(F90,Divipolas!$A$2:$B$1123,2,FALSE)),\"\",VLOOKUP(F90,Divipolas!$A$2:$B$1123,2,FALSE))","v":""},"",{"$f":"IF(ISNA(VLOOKUP((CONCATENATE(F90,H90)),Divipolas!$F$2:$G$1123,2,FALSE)),\"\",VLOOKUP((CONCATENATE(F90,H90)),Divipolas!$F$2:$G$1123,2,FALSE))","v":""},"","","","","","","","",{"$f":"IF(ISNA(VLOOKUP(Q90,Divipolas!$A$2:$B$1123,2,FALSE)),\"\",VLOOKUP(Q90,Divipolas!$A$2:$B$1123,2,FALSE))","v":""},"",{"$f":"IF(ISNA(VLOOKUP((CONCATENATE(Q90,S90)),Divipolas!$F$2:$G$1123,2,FALSE)),\"\",VLOOKUP((CONCATENATE(Q90,S90)),Divipolas!$F$2:$G$1123,2,FALSE))","v":""},"","","","","","",{"$f":"IF(ISNA(VLOOKUP(Z90,'CODIGO PAIS'!$A$2:$B$231,2,FALSE)),\"\",VLOOKUP(Z90,'CODIGO PAIS'!$A$2:$B$231,2,FALSE))","v":""},"",{"$f":"IF(ISNA(VLOOKUP(AB90,Divipolas!$A$2:$B$1123,2,FALSE)),\"\",VLOOKUP(AB90,Divipolas!$A$2:$B$1123,2,FALSE))","v":""},"",{"$f":"IF(ISNA(VLOOKUP((CONCATENATE(AB90,AD90)),Divipolas!$F$2:$G$1123,2,FALSE)),\"\",VLOOKUP((CONCATENATE(AB90,AD90)),Divipolas!$F$2:$G$1123,2,FALSE))","v":""},"","","","","",{"$f":"IF(ISNA(VLOOKUP(AJ90,Divipolas!$A$2:$B$1123,2,FALSE)),\"\",VLOOKUP(AJ90,Divipolas!$A$2:$B$1123,2,FALSE))","v":""},"",{"$f":"IF(ISNA(VLOOKUP((CONCATENATE(AJ90,AL90)),Divipolas!$F$2:$G$1123,2,FALSE)),\"\",VLOOKUP((CONCATENATE(AJ90,AL90)),Divipolas!$F$2:$G$1123,2,FALSE))","v":""},"","","","","","","","","","","","","","",null,null,null,null,null,null,null,{"$f":"IF(ISNA(VLOOKUP(BH90,'CODIGO PAIS'!$A$2:$B$231,2,FALSE)),\"\",VLOOKUP(BH90,'CODIGO PAIS'!$A$2:$B$231,2,FALSE))","v":""},null,{"$f":"IF(ISNA(VLOOKUP(BJ90,Divipolas!$A$2:$B$1123,2,FALSE)),\"\",VLOOKUP(BJ90,Divipolas!$A$2:$B$1123,2,FALSE))","v":""},null,{"$f":"IF(ISNA(VLOOKUP((CONCATENATE(BJ90,BL90)),Divipolas!$F$2:$G$1123,2,FALSE)),\"\",VLOOKUP((CONCATENATE(BJ90,BL90)),Divipolas!$F$2:$G$1123,2,FALSE))","v":""},null,"","",null,null,null,null,{"$f":"IF(ISNA(VLOOKUP(BT90,Divipolas!$A$2:$B$1123,2,FALSE)),\"\",VLOOKUP(BT90,Divipolas!$A$2:$B$1123,2,FALSE))","v":""},null,{"$f":"IF(ISNA(VLOOKUP((CONCATENATE(BT90,BV90)),Divipolas!$F$2:$G$1123,2,FALSE)),\"\",VLOOKUP((CONCATENATE(BT90,BV90)),Divipolas!$F$2:$G$1123,2,FALSE))","v":""},null,null,null,null,null,null,null,null,null,null,null,null,null,null,null,null,null,null,null,null,null,null,null,"",null,null,null,null,null,null,null,null,null,null,null,null,null,null,null,null,null,null,null,null,null,null,null,null,null,null,null,null,null,null,null,null,null,null,null,null,null,null,null,null,null,null,null,null,null,null,null,null,null,null,null,null,null,null,null,null,null,null,null,null,null,null,null,null,null,null,null,null,null,null,null,null,null,null,null,null,"",null,null,null,null,null,null,null,"VERIFIQUE FECHAS",null,null,null,null,null,null,null,null,null,"VERIFIQUE COLUMNA D"]
["","",null,"",{"$f":"IFERROR(VLOOKUP(D91,'CODIGO REGIONALES'!$J$2:$L$33,3,0),\"\")","v":""},"",{"$f":"IF(ISNA(VLOOKUP(F91,Divipolas!$A$2:$B$1123,2,FALSE)),\"\",VLOOKUP(F91,Divipolas!$A$2:$B$1123,2,FALSE))","v":""},"",{"$f":"IF(ISNA(VLOOKUP((CONCATENATE(F91,H91)),Divipolas!$F$2:$G$1123,2,FALSE)),\"\",VLOOKUP((CONCATENATE(F91,H91)),Divipolas!$F$2:$G$1123,2,FALSE))","v":""},"","","","","","","","",{"$f":"IF(ISNA(VLOOKUP(Q91,Divipolas!$A$2:$B$1123,2,FALSE)),\"\",VLOOKUP(Q91,Divipolas!$A$2:$B$1123,2,FALSE))","v":""},"",{"$f":"IF(ISNA(VLOOKUP((CONCATENATE(Q91,S91)),Divipolas!$F$2:$G$1123,2,FALSE)),\"\",VLOOKUP((CONCATENATE(Q91,S91)),Divipolas!$F$2:$G$1123,2,FALSE))","v":""},"","","","","","",{"$f":"IF(ISNA(VLOOKUP(Z91,'CODIGO PAIS'!$A$2:$B$231,2,FALSE)),\"\",VLOOKUP(Z91,'CODIGO PAIS'!$A$2:$B$231,2,FALSE))","v":""},"",{"$f":"IF(ISNA(VLOOKUP(AB91,Divipolas!$A$2:$B$1123,2,FALSE)),\"\",VLOOKUP(AB91,Divipolas!$A$2:$B$1123,2,FALSE))","v":""},"",{"$f":"IF(ISNA(VLOOKUP((CONCATENATE(AB91,AD91)),Divipolas!$F$2:$G$1123,2,FALSE)),\"\",VLOOKUP((CONCATENATE(AB91,AD91)),Divipolas!$F$2:$G$1123,2,FALSE))","v":""},"","","","","",{"$f":"IF(ISNA(VLOOKUP(AJ91,Divipolas!$A$2:$B$1123,2,FALSE)),\"\",VLOOKUP(AJ91,Divipolas!$A$2:$B$1123,2,FALSE))","v":""},"",{"$f":"IF(ISNA(VLOOKUP((CONCATENATE(AJ91,AL91)),Divipolas!$F$2:$G$1123,2,FALSE)),\"\",VLOOKUP((CONCATENATE(AJ91,AL91)),Divipolas!$F$2:$G$1123,2,FALSE))","v":""},"","","","","","","","","","","","","","",null,null,null,null,null,null,null,{"$f":"IF(ISNA(VLOOKUP(BH91,'CODIGO PAIS'!$A$2:$B$231,2,FALSE)),\"\",VLOOKUP(BH91,'CODIGO PAIS'!$A$2:$B$231,2,FALSE))","v":""},null,{"$f":"IF(ISNA(VLOOKUP(BJ91,Divipolas!$A$2:$B$1123,2,FALSE)),\"\",VLOOKUP(BJ91,Divipolas!$A$2:$B$1123,2,FALSE))","v":""},null,{"$f":"IF(ISNA(VLOOKUP((CONCATENATE(BJ91,BL91)),Divipolas!$F$2:$G$1123,2,FALSE)),\"\",VLOOKUP((CONCATENATE(BJ91,BL91)),Divipolas!$F$2:$G$1123,2,FALSE))","v":""},null,"","",null,null,null,null,{"$f":"IF(ISNA(VLOOKUP(BT91,Divipolas!$A$2:$B$1123,2,FALSE)),\"\",VLOOKUP(BT91,Divipolas!$A$2:$B$1123,2,FALSE))","v":""},null,{"$f":"IF(ISNA(VLOOKUP((CONCATENATE(BT91,BV91)),Divipolas!$F$2:$G$1123,2,FALSE)),\"\",VLOOKUP((CONCATENATE(BT91,BV91)),Divipolas!$F$2:$G$1123,2,FALSE))","v":""},null,null,null,null,null,null,null,null,null,null,null,null,null,null,null,null,null,null,null,null,null,null,null,"",null,null,null,null,null,null,null,null,null,null,null,null,null,null,null,null,null,null,null,null,null,null,null,null,null,null,null,null,null,null,null,null,null,null,null,null,null,null,null,null,null,null,null,null,null,null,null,null,null,null,null,null,null,null,null,null,null,null,null,null,null,null,null,null,null,null,null,null,null,null,null,null,null,null,null,null,"",null,null,null,null,null,null,null,"VERIFIQUE FECHAS",null,null,null,null,null,null,null,null,null,"VERIFIQUE COLUMNA D"]
["","",null,"",{"$f":"IFERROR(VLOOKUP(D92,'CODIGO REGIONALES'!$J$2:$L$33,3,0),\"\")","v":""},"",{"$f":"IF(ISNA(VLOOKUP(F92,Divipolas!$A$2:$B$1123,2,FALSE)),\"\",VLOOKUP(F92,Divipolas!$A$2:$B$1123,2,FALSE))","v":""},"",{"$f":"IF(ISNA(VLOOKUP((CONCATENATE(F92,H92)),Divipolas!$F$2:$G$1123,2,FALSE)),\"\",VLOOKUP((CONCATENATE(F92,H92)),Divipolas!$F$2:$G$1123,2,FALSE))","v":""},"","","","","","","","",{"$f":"IF(ISNA(VLOOKUP(Q92,Divipolas!$A$2:$B$1123,2,FALSE)),\"\",VLOOKUP(Q92,Divipolas!$A$2:$B$1123,2,FALSE))","v":""},"",{"$f":"IF(ISNA(VLOOKUP((CONCATENATE(Q92,S92)),Divipolas!$F$2:$G$1123,2,FALSE)),\"\",VLOOKUP((CONCATENATE(Q92,S92)),Divipolas!$F$2:$G$1123,2,FALSE))","v":""},"","","","","","",{"$f":"IF(ISNA(VLOOKUP(Z92,'CODIGO PAIS'!$A$2:$B$231,2,FALSE)),\"\",VLOOKUP(Z92,'CODIGO PAIS'!$A$2:$B$231,2,FALSE))","v":""},"",{"$f":"IF(ISNA(VLOOKUP(AB92,Divipolas!$A$2:$B$1123,2,FALSE)),\"\",VLOOKUP(AB92,Divipolas!$A$2:$B$1123,2,FALSE))","v":""},"",{"$f":"IF(ISNA(VLOOKUP((CONCATENATE(AB92,AD92)),Divipolas!$F$2:$G$1123,2,FALSE)),\"\",VLOOKUP((CONCATENATE(AB92,AD92)),Divipolas!$F$2:$G$1123,2,FALSE))","v":""},"","","","","",{"$f":"IF(ISNA(VLOOKUP(AJ92,Divipolas!$A$2:$B$1123,2,FALSE)),\"\",VLOOKUP(AJ92,Divipolas!$A$2:$B$1123,2,FALSE))","v":""},"",{"$f":"IF(ISNA(VLOOKUP((CONCATENATE(AJ92,AL92)),Divipolas!$F$2:$G$1123,2,FALSE)),\"\",VLOOKUP((CONCATENATE(AJ92,AL92)),Divipolas!$F$2:$G$1123,2,FALSE))","v":""},"","","","","","","","","","","","","","",null,null,null,null,null,null,null,{"$f":"IF(ISNA(VLOOKUP(BH92,'CODIGO PAIS'!$A$2:$B$231,2,FALSE)),\"\",VLOOKUP(BH92,'CODIGO PAIS'!$A$2:$B$231,2,FALSE))","v":""},null,{"$f":"IF(ISNA(VLOOKUP(BJ92,Divipolas!$A$2:$B$1123,2,FALSE)),\"\",VLOOKUP(BJ92,Divipolas!$A$2:$B$1123,2,FALSE))","v":""},null,{"$f":"IF(ISNA(VLOOKUP((CONCATENATE(BJ92,BL92)),Divipolas!$F$2:$G$1123,2,FALSE)),\"\",VLOOKUP((CONCATENATE(BJ92,BL92)),Divipolas!$F$2:$G$1123,2,FALSE))","v":""},null,"","",null,null,null,null,{"$f":"IF(ISNA(VLOOKUP(BT92,Divipolas!$A$2:$B$1123,2,FALSE)),\"\",VLOOKUP(BT92,Divipolas!$A$2:$B$1123,2,FALSE))","v":""},null,{"$f":"IF(ISNA(VLOOKUP((CONCATENATE(BT92,BV92)),Divipolas!$F$2:$G$1123,2,FALSE)),\"\",VLOOKUP((CONCATENATE(BT92,BV92)),Divipolas!$F$2:$G$1123,2,FALSE))","v":""},null,null,null,null,null,null,null,null,null,null,null,null,null,null,null,null,null,null,null,null,null,null,null,"",null,null,null,null,null,null,null,null,null,null,null,null,null,null,null,null,null,null,null,null,null,null,null,null,null,null,null,null,null,null,null,null,null,null,null,null,null,null,null,null,null,null,null,null,null,null,null,null,null,null,null,null,null,null,null,null,null,null,null,null,null,null,null,null,null,null,null,null,null,null,null,null,null,null,null,null,"",null,null,null,null,null,null,null,"VERIFIQUE FECHAS",null,null,null,null,null,null,null,null,null,"VERIFIQUE COLUMNA D"]
["","",null,"",{"$f":"IFERROR(VLOOKUP(D93,'CODIGO REGIONALES'!$J$2:$L$33,3,0),\"\")","v":""},"",{"$f":"IF(ISNA(VLOOKUP(F93,Divipolas!$A$2:$B$1123,2,FALSE)),\"\",VLOOKUP(F93,Divipolas!$A$2:$B$1123,2,FALSE))","v":""},"",{"$f":"IF(ISNA(VLOOKUP((CONCATENATE(F93,H93)),Divipolas!$F$2:$G$1123,2,FALSE)),\"\",VLOOKUP((CONCATENATE(F93,H93)),Divipolas!$F$2:$G$1123,2,FALSE))","v":""},"","","","","","","","",{"$f":"IF(ISNA(VLOOKUP(Q93,Divipolas!$A$2:$B$1123,2,FALSE)),\"\",VLOOKUP(Q93,Divipolas!$A$2:$B$1123,2,FALSE))","v":""},"",{"$f":"IF(ISNA(VLOOKUP((CONCATENATE(Q93,S93)),Divipolas!$F$2:$G$1123,2,FALSE)),\"\",VLOOKUP((CONCATENATE(Q93,S93)),Divipolas!$F$2:$G$1123,2,FALSE))","v":""},"","","","","","",{"$f":"IF(ISNA(VLOOKUP(Z93,'CODIGO PAIS'!$A$2:$B$231,2,FALSE)),\"\",VLOOKUP(Z93,'CODIGO PAIS'!$A$2:$B$231,2,FALSE))","v":""},"",{"$f":"IF(ISNA(VLOOKUP(AB93,Divipolas!$A$2:$B$1123,2,FALSE)),\"\",VLOOKUP(AB93,Divipolas!$A$2:$B$1123,2,FALSE))","v":""},"",{"$f":"IF(ISNA(VLOOKUP((CONCATENATE(AB93,AD93)),Divipolas!$F$2:$G$1123,2,FALSE)),\"\",VLOOKUP((CONCATENATE(AB93,AD93)),Divipolas!$F$2:$G$1123,2,FALSE))","v":""},"","","","","",{"$f":"IF(ISNA(VLOOKUP(AJ93,Divipolas!$A$2:$B$1123,2,FALSE)),\"\",VLOOKUP(AJ93,Divipolas!$A$2:$B$1123,2,FALSE))","v":""},"",{"$f":"IF(ISNA(VLOOKUP((CONCATENATE(AJ93,AL93)),Divipolas!$F$2:$G$1123,2,FALSE)),\"\",VLOOKUP((CONCATENATE(AJ93,AL93)),Divipolas!$F$2:$G$1123,2,FALSE))","v":""},"","","","","","","","","","","","","","",null,null,null,null,null,null,null,{"$f":"IF(ISNA(VLOOKUP(BH93,'CODIGO PAIS'!$A$2:$B$231,2,FALSE)),\"\",VLOOKUP(BH93,'CODIGO PAIS'!$A$2:$B$231,2,FALSE))","v":""},null,{"$f":"IF(ISNA(VLOOKUP(BJ93,Divipolas!$A$2:$B$1123,2,FALSE)),\"\",VLOOKUP(BJ93,Divipolas!$A$2:$B$1123,2,FALSE))","v":""},null,{"$f":"IF(ISNA(VLOOKUP((CONCATENATE(BJ93,BL93)),Divipolas!$F$2:$G$1123,2,FALSE)),\"\",VLOOKUP((CONCATENATE(BJ93,BL93)),Divipolas!$F$2:$G$1123,2,FALSE))","v":""},null,"","",null,null,null,null,{"$f":"IF(ISNA(VLOOKUP(BT93,Divipolas!$A$2:$B$1123,2,FALSE)),\"\",VLOOKUP(BT93,Divipolas!$A$2:$B$1123,2,FALSE))","v":""},null,{"$f":"IF(ISNA(VLOOKUP((CONCATENATE(BT93,BV93)),Divipolas!$F$2:$G$1123,2,FALSE)),\"\",VLOOKUP((CONCATENATE(BT93,BV93)),Divipolas!$F$2:$G$1123,2,FALSE))","v":""},null,null,null,null,null,null,null,null,null,null,null,null,null,null,null,null,null,null,null,null,null,null,null,"",null,null,null,null,null,null,null,null,null,null,null,null,null,null,null,null,null,null,null,null,null,null,null,null,null,null,null,null,null,null,null,null,null,null,null,null,null,null,null,null,null,null,null,null,null,null,null,null,null,null,null,null,null,null,null,null,null,null,null,null,null,null,null,null,null,null,null,null,null,null,null,null,null,null,null,null,"",null,null,null,null,null,null,null,"VERIFIQUE FECHAS",null,null,null,null,null,null,null,null,null,"VERIFIQUE COLUMNA D"]
["","",null,"",{"$f":"IFERROR(VLOOKUP(D94,'CODIGO REGIONALES'!$J$2:$L$33,3,0),\"\")","v":""},"",{"$f":"IF(ISNA(VLOOKUP(F94,Divipolas!$A$2:$B$1123,2,FALSE)),\"\",VLOOKUP(F94,Divipolas!$A$2:$B$1123,2,FALSE))","v":""},"",{"$f":"IF(ISNA(VLOOKUP((CONCATENATE(F94,H94)),Divipolas!$F$2:$G$1123,2,FALSE)),\"\",VLOOKUP((CONCATENATE(F94,H94)),Divipolas!$F$2:$G$1123,2,FALSE))","v":""},"","","","","","","","",{"$f":"IF(ISNA(VLOOKUP(Q94,Divipolas!$A$2:$B$1123,2,FALSE)),\"\",VLOOKUP(Q94,Divipolas!$A$2:$B$1123,2,FALSE))","v":""},"",{"$f":"IF(ISNA(VLOOKUP((CONCATENATE(Q94,S94)),Divipolas!$F$2:$G$1123,2,FALSE)),\"\",VLOOKUP((CONCATENATE(Q94,S94)),Divipolas!$F$2:$G$1123,2,FALSE))","v":""},"","","","","","",{"$f":"IF(ISNA(VLOOKUP(Z94,'CODIGO PAIS'!$A$2:$B$231,2,FALSE)),\"\",VLOOKUP(Z94,'CODIGO PAIS'!$A$2:$B$231,2,FALSE))","v":""},"",{"$f":"IF(ISNA(VLOOKUP(AB94,Divipolas!$A$2:$B$1123,2,FALSE)),\"\",VLOOKUP(AB94,Divipolas!$A$2:$B$1123,2,FALSE))","v":""},"",{"$f":"IF(ISNA(VLOOKUP((CONCATENATE(AB94,AD94)),Divipolas!$F$2:$G$1123,2,FALSE)),\"\",VLOOKUP((CONCATENATE(AB94,AD94)),Divipolas!$F$2:$G$1123,2,FALSE))","v":""},"","","","","",{"$f":"IF(ISNA(VLOOKUP(AJ94,Divipolas!$A$2:$B$1123,2,FALSE)),\"\",VLOOKUP(AJ94,Divipolas!$A$2:$B$1123,2,FALSE))","v":""},"",{"$f":"IF(ISNA(VLOOKUP((CONCATENATE(AJ94,AL94)),Divipolas!$F$2:$G$1123,2,FALSE)),\"\",VLOOKUP((CONCATENATE(AJ94,AL94)),Divipolas!$F$2:$G$1123,2,FALSE))","v":""},"","","","","","","","","","","","","","",null,null,null,null,null,null,null,{"$f":"IF(ISNA(VLOOKUP(BH94,'CODIGO PAIS'!$A$2:$B$231,2,FALSE)),\"\",VLOOKUP(BH94,'CODIGO PAIS'!$A$2:$B$231,2,FALSE))","v":""},null,{"$f":"IF(ISNA(VLOOKUP(BJ94,Divipolas!$A$2:$B$1123,2,FALSE)),\"\",VLOOKUP(BJ94,Divipolas!$A$2:$B$1123,2,FALSE))","v":""},null,{"$f":"IF(ISNA(VLOOKUP((CONCATENATE(BJ94,BL94)),Divipolas!$F$2:$G$1123,2,FALSE)),\"\",VLOOKUP((CONCATENATE(BJ94,BL94)),Divipolas!$F$2:$G$1123,2,FALSE))","v":""},null,"","",null,null,null,null,{"$f":"IF(ISNA(VLOOKUP(BT94,Divipolas!$A$2:$B$1123,2,FALSE)),\"\",VLOOKUP(BT94,Divipolas!$A$2:$B$1123,2,FALSE))","v":""},null,{"$f":"IF(ISNA(VLOOKUP((CONCATENATE(BT94,BV94)),Divipolas!$F$2:$G$1123,2,FALSE)),\"\",VLOOKUP((CONCATENATE(BT94,BV94)),Divipolas!$F$2:$G$1123,2,FALSE))","v":""},null,null,null,null,null,null,null,null,null,null,null,null,null,null,null,null,null,null,null,null,null,null,null,"",null,null,null,null,null,null,null,null,null,null,null,null,null,null,null,null,null,null,null,null,null,null,null,null,null,null,null,null,null,null,null,null,null,null,null,null,null,null,null,null,null,null,null,null,null,null,null,null,null,null,null,null,null,null,null,null,null,null,null,null,null,null,null,null,null,null,null,null,null,null,null,null,null,null,null,null,"",null,null,null,null,null,null,null,"VERIFIQUE FECHAS",null,null,null,null,null,null,null,null,null,"VERIFIQUE COLUMNA D"]
["","",null,"",{"$f":"IFERROR(VLOOKUP(D95,'CODIGO REGIONALES'!$J$2:$L$33,3,0),\"\")","v":""},"",{"$f":"IF(ISNA(VLOOKUP(F95,Divipolas!$A$2:$B$1123,2,FALSE)),\"\",VLOOKUP(F95,Divipolas!$A$2:$B$1123,2,FALSE))","v":""},"",{"$f":"IF(ISNA(VLOOKUP((CONCATENATE(F95,H95)),Divipolas!$F$2:$G$1123,2,FALSE)),\"\",VLOOKUP((CONCATENATE(F95,H95)),Divipolas!$F$2:$G$1123,2,FALSE))","v":""},"","","","","","","","",{"$f":"IF(ISNA(VLOOKUP(Q95,Divipolas!$A$2:$B$1123,2,FALSE)),\"\",VLOOKUP(Q95,Divipolas!$A$2:$B$1123,2,FALSE))","v":""},"",{"$f":"IF(ISNA(VLOOKUP((CONCATENATE(Q95,S95)),Divipolas!$F$2:$G$1123,2,FALSE)),\"\",VLOOKUP((CONCATENATE(Q95,S95)),Divipolas!$F$2:$G$1123,2,FALSE))","v":""},"","","","","","",{"$f":"IF(ISNA(VLOOKUP(Z95,'CODIGO PAIS'!$A$2:$B$231,2,FALSE)),\"\",VLOOKUP(Z95,'CODIGO PAIS'!$A$2:$B$231,2,FALSE))","v":""},"",{"$f":"IF(ISNA(VLOOKUP(AB95,Divipolas!$A$2:$B$1123,2,FALSE)),\"\",VLOOKUP(AB95,Divipolas!$A$2:$B$1123,2,FALSE))","v":""},"",{"$f":"IF(ISNA(VLOOKUP((CONCATENATE(AB95,AD95)),Divipolas!$F$2:$G$1123,2,FALSE)),\"\",VLOOKUP((CONCATENATE(AB95,AD95)),Divipolas!$F$2:$G$1123,2,FALSE))","v":""},"","","","","",{"$f":"IF(ISNA(VLOOKUP(AJ95,Divipolas!$A$2:$B$1123,2,FALSE)),\"\",VLOOKUP(AJ95,Divipolas!$A$2:$B$1123,2,FALSE))","v":""},"",{"$f":"IF(ISNA(VLOOKUP((CONCATENATE(AJ95,AL95)),Divipolas!$F$2:$G$1123,2,FALSE)),\"\",VLOOKUP((CONCATENATE(AJ95,AL95)),Divipolas!$F$2:$G$1123,2,FALSE))","v":""},"","","","","","","","","","","","","","",null,null,null,null,null,null,null,{"$f":"IF(ISNA(VLOOKUP(BH95,'CODIGO PAIS'!$A$2:$B$231,2,FALSE)),\"\",VLOOKUP(BH95,'CODIGO PAIS'!$A$2:$B$231,2,FALSE))","v":""},null,{"$f":"IF(ISNA(VLOOKUP(BJ95,Divipolas!$A$2:$B$1123,2,FALSE)),\"\",VLOOKUP(BJ95,Divipolas!$A$2:$B$1123,2,FALSE))","v":""},null,{"$f":"IF(ISNA(VLOOKUP((CONCATENATE(BJ95,BL95)),Divipolas!$F$2:$G$1123,2,FALSE)),\"\",VLOOKUP((CONCATENATE(BJ95,BL95)),Divipolas!$F$2:$G$1123,2,FALSE))","v":""},null,"","",null,null,null,null,{"$f":"IF(ISNA(VLOOKUP(BT95,Divipolas!$A$2:$B$1123,2,FALSE)),\"\",VLOOKUP(BT95,Divipolas!$A$2:$B$1123,2,FALSE))","v":""},null,{"$f":"IF(ISNA(VLOOKUP((CONCATENATE(BT95,BV95)),Divipolas!$F$2:$G$1123,2,FALSE)),\"\",VLOOKUP((CONCATENATE(BT95,BV95)),Divipolas!$F$2:$G$1123,2,FALSE))","v":""},null,null,null,null,null,null,null,null,null,null,null,null,null,null,null,null,null,null,null,null,null,null,null,"",null,null,null,null,null,null,null,null,null,null,null,null,null,null,null,null,null,null,null,null,null,null,null,null,null,null,null,null,null,null,null,null,null,null,null,null,null,null,null,null,null,null,null,null,null,null,null,null,null,null,null,null,null,null,null,null,null,null,null,null,null,null,null,null,null,null,null,null,null,null,null,null,null,null,null,null,"",null,null,null,null,null,null,null,"VERIFIQUE FECHAS",null,null,null,null,null,null,null,null,null,"VERIFIQUE COLUMNA D"]
["","",null,"",{"$f":"IFERROR(VLOOKUP(D96,'CODIGO REGIONALES'!$J$2:$L$33,3,0),\"\")","v":""},"",{"$f":"IF(ISNA(VLOOKUP(F96,Divipolas!$A$2:$B$1123,2,FALSE)),\"\",VLOOKUP(F96,Divipolas!$A$2:$B$1123,2,FALSE))","v":""},"",{"$f":"IF(ISNA(VLOOKUP((CONCATENATE(F96,H96)),Divipolas!$F$2:$G$1123,2,FALSE)),\"\",VLOOKUP((CONCATENATE(F96,H96)),Divipolas!$F$2:$G$1123,2,FALSE))","v":""},"","","","","","","","",{"$f":"IF(ISNA(VLOOKUP(Q96,Divipolas!$A$2:$B$1123,2,FALSE)),\"\",VLOOKUP(Q96,Divipolas!$A$2:$B$1123,2,FALSE))","v":""},"",{"$f":"IF(ISNA(VLOOKUP((CONCATENATE(Q96,S96)),Divipolas!$F$2:$G$1123,2,FALSE)),\"\",VLOOKUP((CONCATENATE(Q96,S96)),Divipolas!$F$2:$G$1123,2,FALSE))","v":""},"","","","","","",{"$f":"IF(ISNA(VLOOKUP(Z96,'CODIGO PAIS'!$A$2:$B$231,2,FALSE)),\"\",VLOOKUP(Z96,'CODIGO PAIS'!$A$2:$B$231,2,FALSE))","v":""},"",{"$f":"IF(ISNA(VLOOKUP(AB96,Divipolas!$A$2:$B$1123,2,FALSE)),\"\",VLOOKUP(AB96,Divipolas!$A$2:$B$1123,2,FALSE))","v":""},"",{"$f":"IF(ISNA(VLOOKUP((CONCATENATE(AB96,AD96)),Divipolas!$F$2:$G$1123,2,FALSE)),\"\",VLOOKUP((CONCATENATE(AB96,AD96)),Divipolas!$F$2:$G$1123,2,FALSE))","v":""},"","","","","",{"$f":"IF(ISNA(VLOOKUP(AJ96,Divipolas!$A$2:$B$1123,2,FALSE)),\"\",VLOOKUP(AJ96,Divipolas!$A$2:$B$1123,2,FALSE))","v":""},"",{"$f":"IF(ISNA(VLOOKUP((CONCATENATE(AJ96,AL96)),Divipolas!$F$2:$G$1123,2,FALSE)),\"\",VLOOKUP((CONCATENATE(AJ96,AL96)),Divipolas!$F$2:$G$1123,2,FALSE))","v":""},"","","","","","","","","","","","","","",null,null,null,null,null,null,null,{"$f":"IF(ISNA(VLOOKUP(BH96,'CODIGO PAIS'!$A$2:$B$231,2,FALSE)),\"\",VLOOKUP(BH96,'CODIGO PAIS'!$A$2:$B$231,2,FALSE))","v":""},null,{"$f":"IF(ISNA(VLOOKUP(BJ96,Divipolas!$A$2:$B$1123,2,FALSE)),\"\",VLOOKUP(BJ96,Divipolas!$A$2:$B$1123,2,FALSE))","v":""},null,{"$f":"IF(ISNA(VLOOKUP((CONCATENATE(BJ96,BL96)),Divipolas!$F$2:$G$1123,2,FALSE)),\"\",VLOOKUP((CONCATENATE(BJ96,BL96)),Divipolas!$F$2:$G$1123,2,FALSE))","v":""},null,"","",null,null,null,null,{"$f":"IF(ISNA(VLOOKUP(BT96,Divipolas!$A$2:$B$1123,2,FALSE)),\"\",VLOOKUP(BT96,Divipolas!$A$2:$B$1123,2,FALSE))","v":""},null,{"$f":"IF(ISNA(VLOOKUP((CONCATENATE(BT96,BV96)),Divipolas!$F$2:$G$1123,2,FALSE)),\"\",VLOOKUP((CONCATENATE(BT96,BV96)),Divipolas!$F$2:$G$1123,2,FALSE))","v":""},null,null,null,null,null,null,null,null,null,null,null,null,null,null,null,null,null,null,null,null,null,null,null,"",null,null,null,null,null,null,null,null,null,null,null,null,null,null,null,null,null,null,null,null,null,null,null,null,null,null,null,null,null,null,null,null,null,null,null,null,null,null,null,null,null,null,null,null,null,null,null,null,null,null,null,null,null,null,null,null,null,null,null,null,null,null,null,null,null,null,null,null,null,null,null,null,null,null,null,null,"",null,null,null,null,null,null,null,"VERIFIQUE FECHAS",null,null,null,null,null,null,null,null,null,"VERIFIQUE COLUMNA D"]
["","",null,"",{"$f":"IFERROR(VLOOKUP(D97,'CODIGO REGIONALES'!$J$2:$L$33,3,0),\"\")","v":""},"",{"$f":"IF(ISNA(VLOOKUP(F97,Divipolas!$A$2:$B$1123,2,FALSE)),\"\",VLOOKUP(F97,Divipolas!$A$2:$B$1123,2,FALSE))","v":""},"",{"$f":"IF(ISNA(VLOOKUP((CONCATENATE(F97,H97)),Divipolas!$F$2:$G$1123,2,FALSE)),\"\",VLOOKUP((CONCATENATE(F97,H97)),Divipolas!$F$2:$G$1123,2,FALSE))","v":""},"","","","","","","","",{"$f":"IF(ISNA(VLOOKUP(Q97,Divipolas!$A$2:$B$1123,2,FALSE)),\"\",VLOOKUP(Q97,Divipolas!$A$2:$B$1123,2,FALSE))","v":""},"",{"$f":"IF(ISNA(VLOOKUP((CONCATENATE(Q97,S97)),Divipolas!$F$2:$G$1123,2,FALSE)),\"\",VLOOKUP((CONCATENATE(Q97,S97)),Divipolas!$F$2:$G$1123,2,FALSE))","v":""},"","","","","","",{"$f":"IF(ISNA(VLOOKUP(Z97,'CODIGO PAIS'!$A$2:$B$231,2,FALSE)),\"\",VLOOKUP(Z97,'CODIGO PAIS'!$A$2:$B$231,2,FALSE))","v":""},"",{"$f":"IF(ISNA(VLOOKUP(AB97,Divipolas!$A$2:$B$1123,2,FALSE)),\"\",VLOOKUP(AB97,Divipolas!$A$2:$B$1123,2,FALSE))","v":""},"",{"$f":"IF(ISNA(VLOOKUP((CONCATENATE(AB97,AD97)),Divipolas!$F$2:$G$1123,2,FALSE)),\"\",VLOOKUP((CONCATENATE(AB97,AD97)),Divipolas!$F$2:$G$1123,2,FALSE))","v":""},"","","","","",{"$f":"IF(ISNA(VLOOKUP(AJ97,Divipolas!$A$2:$B$1123,2,FALSE)),\"\",VLOOKUP(AJ97,Divipolas!$A$2:$B$1123,2,FALSE))","v":""},"",{"$f":"IF(ISNA(VLOOKUP((CONCATENATE(AJ97,AL97)),Divipolas!$F$2:$G$1123,2,FALSE)),\"\",VLOOKUP((CONCATENATE(AJ97,AL97)),Divipolas!$F$2:$G$1123,2,FALSE))","v":""},"","","","","","","","","","","","","","",null,null,null,null,null,null,null,{"$f":"IF(ISNA(VLOOKUP(BH97,'CODIGO PAIS'!$A$2:$B$231,2,FALSE)),\"\",VLOOKUP(BH97,'CODIGO PAIS'!$A$2:$B$231,2,FALSE))","v":""},null,{"$f":"IF(ISNA(VLOOKUP(BJ97,Divipolas!$A$2:$B$1123,2,FALSE)),\"\",VLOOKUP(BJ97,Divipolas!$A$2:$B$1123,2,FALSE))","v":""},null,{"$f":"IF(ISNA(VLOOKUP((CONCATENATE(BJ97,BL97)),Divipolas!$F$2:$G$1123,2,FALSE)),\"\",VLOOKUP((CONCATENATE(BJ97,BL97)),Divipolas!$F$2:$G$1123,2,FALSE))","v":""},null,"","",null,null,null,null,{"$f":"IF(ISNA(VLOOKUP(BT97,Divipolas!$A$2:$B$1123,2,FALSE)),\"\",VLOOKUP(BT97,Divipolas!$A$2:$B$1123,2,FALSE))","v":""},null,{"$f":"IF(ISNA(VLOOKUP((CONCATENATE(BT97,BV97)),Divipolas!$F$2:$G$1123,2,FALSE)),\"\",VLOOKUP((CONCATENATE(BT97,BV97)),Divipolas!$F$2:$G$1123,2,FALSE))","v":""},null,null,null,null,null,null,null,null,null,null,null,null,null,null,null,null,null,null,null,null,null,null,null,"",null,null,null,null,null,null,null,null,null,null,null,null,null,null,null,null,null,null,null,null,null,null,null,null,null,null,null,null,null,null,null,null,null,null,null,null,null,null,null,null,null,null,null,null,null,null,null,null,null,null,null,null,null,null,null,null,null,null,null,null,null,null,null,null,null,null,null,null,null,null,null,null,null,null,null,null,"",null,null,null,null,null,null,null,"VERIFIQUE FECHAS",null,null,null,null,null,null,null,null,null,"VERIFIQUE COLUMNA D"]
["","",null,"",{"$f":"IFERROR(VLOOKUP(D98,'CODIGO REGIONALES'!$J$2:$L$33,3,0),\"\")","v":""},"",{"$f":"IF(ISNA(VLOOKUP(F98,Divipolas!$A$2:$B$1123,2,FALSE)),\"\",VLOOKUP(F98,Divipolas!$A$2:$B$1123,2,FALSE))","v":""},"",{"$f":"IF(ISNA(VLOOKUP((CONCATENATE(F98,H98)),Divipolas!$F$2:$G$1123,2,FALSE)),\"\",VLOOKUP((CONCATENATE(F98,H98)),Divipolas!$F$2:$G$1123,2,FALSE))","v":""},"","","","","","","","",{"$f":"IF(ISNA(VLOOKUP(Q98,Divipolas!$A$2:$B$1123,2,FALSE)),\"\",VLOOKUP(Q98,Divipolas!$A$2:$B$1123,2,FALSE))","v":""},"",{"$f":"IF(ISNA(VLOOKUP((CONCATENATE(Q98,S98)),Divipolas!$F$2:$G$1123,2,FALSE)),\"\",VLOOKUP((CONCATENATE(Q98,S98)),Divipolas!$F$2:$G$1123,2,FALSE))","v":""},"","","","","","",{"$f":"IF(ISNA(VLOOKUP(Z98,'CODIGO PAIS'!$A$2:$B$231,2,FALSE)),\"\",VLOOKUP(Z98,'CODIGO PAIS'!$A$2:$B$231,2,FALSE))","v":""},"",{"$f":"IF(ISNA(VLOOKUP(AB98,Divipolas!$A$2:$B$1123,2,FALSE)),\"\",VLOOKUP(AB98,Divipolas!$A$2:$B$1123,2,FALSE))","v":""},"",{"$f":"IF(ISNA(VLOOKUP((CONCATENATE(AB98,AD98)),Divipolas!$F$2:$G$1123,2,FALSE)),\"\",VLOOKUP((CONCATENATE(AB98,AD98)),Divipolas!$F$2:$G$1123,2,FALSE))","v":""},"","","","","",{"$f":"IF(ISNA(VLOOKUP(AJ98,Divipolas!$A$2:$B$1123,2,FALSE)),\"\",VLOOKUP(AJ98,Divipolas!$A$2:$B$1123,2,FALSE))","v":""},"",{"$f":"IF(ISNA(VLOOKUP((CONCATENATE(AJ98,AL98)),Divipolas!$F$2:$G$1123,2,FALSE)),\"\",VLOOKUP((CONCATENATE(AJ98,AL98)),Divipolas!$F$2:$G$1123,2,FALSE))","v":""},"","","","","","","","","","","","","","",null,null,null,null,null,null,null,{"$f":"IF(ISNA(VLOOKUP(BH98,'CODIGO PAIS'!$A$2:$B$231,2,FALSE)),\"\",VLOOKUP(BH98,'CODIGO PAIS'!$A$2:$B$231,2,FALSE))","v":""},null,{"$f":"IF(ISNA(VLOOKUP(BJ98,Divipolas!$A$2:$B$1123,2,FALSE)),\"\",VLOOKUP(BJ98,Divipolas!$A$2:$B$1123,2,FALSE))","v":""},null,{"$f":"IF(ISNA(VLOOKUP((CONCATENATE(BJ98,BL98)),Divipolas!$F$2:$G$1123,2,FALSE)),\"\",VLOOKUP((CONCATENATE(BJ98,BL98)),Divipolas!$F$2:$G$1123,2,FALSE))","v":""},null,"","",null,null,null,null,{"$f":"IF(ISNA(VLOOKUP(BT98,Divipolas!$A$2:$B$1123,2,FALSE)),\"\",VLOOKUP(BT98,Divipolas!$A$2:$B$1123,2,FALSE))","v":""},null,{"$f":"IF(ISNA(VLOOKUP((CONCATENATE(BT98,BV98)),Divipolas!$F$2:$G$1123,2,FALSE)),\"\",VLOOKUP((CONCATENATE(BT98,BV98)),Divipolas!$F$2:$G$1123,2,FALSE))","v":""},null,null,null,null,null,null,null,null,null,null,null,null,null,null,null,null,null,null,null,null,null,null,null,"",null,null,null,null,null,null,null,null,null,null,null,null,null,null,null,null,null,null,null,null,null,null,null,null,null,null,null,null,null,null,null,null,null,null,null,null,null,null,null,null,null,null,null,null,null,null,null,null,null,null,null,null,null,null,null,null,null,null,null,null,null,null,null,null,null,null,null,null,null,null,null,null,null,null,null,null,"",null,null,null,null,null,null,null,"VERIFIQUE FECHAS",null,null,null,null,null,null,null,null,null,"VERIFIQUE COLUMNA D"]
["","",null,"",{"$f":"IFERROR(VLOOKUP(D99,'CODIGO REGIONALES'!$J$2:$L$33,3,0),\"\")","v":""},"",{"$f":"IF(ISNA(VLOOKUP(F99,Divipolas!$A$2:$B$1123,2,FALSE)),\"\",VLOOKUP(F99,Divipolas!$A$2:$B$1123,2,FALSE))","v":""},"",{"$f":"IF(ISNA(VLOOKUP((CONCATENATE(F99,H99)),Divipolas!$F$2:$G$1123,2,FALSE)),\"\",VLOOKUP((CONCATENATE(F99,H99)),Divipolas!$F$2:$G$1123,2,FALSE))","v":""},"","","","","","","","",{"$f":"IF(ISNA(VLOOKUP(Q99,Divipolas!$A$2:$B$1123,2,FALSE)),\"\",VLOOKUP(Q99,Divipolas!$A$2:$B$1123,2,FALSE))","v":""},"",{"$f":"IF(ISNA(VLOOKUP((CONCATENATE(Q99,S99)),Divipolas!$F$2:$G$1123,2,FALSE)),\"\",VLOOKUP((CONCATENATE(Q99,S99)),Divipolas!$F$2:$G$1123,2,FALSE))","v":""},"","","","","","",{"$f":"IF(ISNA(VLOOKUP(Z99,'CODIGO PAIS'!$A$2:$B$231,2,FALSE)),\"\",VLOOKUP(Z99,'CODIGO PAIS'!$A$2:$B$231,2,FALSE))","v":""},"",{"$f":"IF(ISNA(VLOOKUP(AB99,Divipolas!$A$2:$B$1123,2,FALSE)),\"\",VLOOKUP(AB99,Divipolas!$A$2:$B$1123,2,FALSE))","v":""},"",{"$f":"IF(ISNA(VLOOKUP((CONCATENATE(AB99,AD99)),Divipolas!$F$2:$G$1123,2,FALSE)),\"\",VLOOKUP((CONCATENATE(AB99,AD99)),Divipolas!$F$2:$G$1123,2,FALSE))","v":""},"","","","","",{"$f":"IF(ISNA(VLOOKUP(AJ99,Divipolas!$A$2:$B$1123,2,FALSE)),\"\",VLOOKUP(AJ99,Divipolas!$A$2:$B$1123,2,FALSE))","v":""},"",{"$f":"IF(ISNA(VLOOKUP((CONCATENATE(AJ99,AL99)),Divipolas!$F$2:$G$1123,2,FALSE)),\"\",VLOOKUP((CONCATENATE(AJ99,AL99)),Divipolas!$F$2:$G$1123,2,FALSE))","v":""},"","","","","","","","","","","","","","",null,null,null,null,null,null,null,{"$f":"IF(ISNA(VLOOKUP(BH99,'CODIGO PAIS'!$A$2:$B$231,2,FALSE)),\"\",VLOOKUP(BH99,'CODIGO PAIS'!$A$2:$B$231,2,FALSE))","v":""},null,{"$f":"IF(ISNA(VLOOKUP(BJ99,Divipolas!$A$2:$B$1123,2,FALSE)),\"\",VLOOKUP(BJ99,Divipolas!$A$2:$B$1123,2,FALSE))","v":""},null,{"$f":"IF(ISNA(VLOOKUP((CONCATENATE(BJ99,BL99)),Divipolas!$F$2:$G$1123,2,FALSE)),\"\",VLOOKUP((CONCATENATE(BJ99,BL99)),Divipolas!$F$2:$G$1123,2,FALSE))","v":""},null,"","",null,null,null,null,{"$f":"IF(ISNA(VLOOKUP(BT99,Divipolas!$A$2:$B$1123,2,FALSE)),\"\",VLOOKUP(BT99,Divipolas!$A$2:$B$1123,2,FALSE))","v":""},null,{"$f":"IF(ISNA(VLOOKUP((CONCATENATE(BT99,BV99)),Divipolas!$F$2:$G$1123,2,FALSE)),\"\",VLOOKUP((CONCATENATE(BT99,BV99)),Divipolas!$F$2:$G$1123,2,FALSE))","v":""},null,null,null,null,null,null,null,null,null,null,null,null,null,null,null,null,null,null,null,null,null,null,null,"",null,null,null,null,null,null,null,null,null,null,null,null,null,null,null,null,null,null,null,null,null,null,null,null,null,null,null,null,null,null,null,null,null,null,null,null,null,null,null,null,null,null,null,null,null,null,null,null,null,null,null,null,null,null,null,null,null,null,null,null,null,null,null,null,null,null,null,null,null,null,null,null,null,null,null,null,"",null,null,null,null,null,null,null,"VERIFIQUE FECHAS",null,null,null,null,null,null,null,null,null,"VERIFIQUE COLUMNA D"]
["","",null,"",{"$f":"IFERROR(VLOOKUP(D100,'CODIGO REGIONALES'!$J$2:$L$33,3,0),\"\")","v":""},"",{"$f":"IF(ISNA(VLOOKUP(F100,Divipolas!$A$2:$B$1123,2,FALSE)),\"\",VLOOKUP(F100,Divipolas!$A$2:$B$1123,2,FALSE))","v":""},"",{"$f":"IF(ISNA(VLOOKUP((CONCATENATE(F100,H100)),Divipolas!$F$2:$G$1123,2,FALSE)),\"\",VLOOKUP((CONCATENATE(F100,H100)),Divipolas!$F$2:$G$1123,2,FALSE))","v":""},"","","","","","","","",{"$f":"IF(ISNA(VLOOKUP(Q100,Divipolas!$A$2:$B$1123,2,FALSE)),\"\",VLOOKUP(Q100,Divipolas!$A$2:$B$1123,2,FALSE))","v":""},"",{"$f":"IF(ISNA(VLOOKUP((CONCATENATE(Q100,S100)),Divipolas!$F$2:$G$1123,2,FALSE)),\"\",VLOOKUP((CONCATENATE(Q100,S100)),Divipolas!$F$2:$G$1123,2,FALSE))","v":""},"","","","","","",{"$f":"IF(ISNA(VLOOKUP(Z100,'CODIGO PAIS'!$A$2:$B$231,2,FALSE)),\"\",VLOOKUP(Z100,'CODIGO PAIS'!$A$2:$B$231,2,FALSE))","v":""},"",{"$f":"IF(ISNA(VLOOKUP(AB100,Divipolas!$A$2:$B$1123,2,FALSE)),\"\",VLOOKUP(AB100,Divipolas!$A$2:$B$1123,2,FALSE))","v":""},"",{"$f":"IF(ISNA(VLOOKUP((CONCATENATE(AB100,AD100)),Divipolas!$F$2:$G$1123,2,FALSE)),\"\",VLOOKUP((CONCATENATE(AB100,AD100)),Divipolas!$F$2:$G$1123,2,FALSE))","v":""},"","","","","",{"$f":"IF(ISNA(VLOOKUP(AJ100,Divipolas!$A$2:$B$1123,2,FALSE)),\"\",VLOOKUP(AJ100,Divipolas!$A$2:$B$1123,2,FALSE))","v":""},"",{"$f":"IF(ISNA(VLOOKUP((CONCATENATE(AJ100,AL100)),Divipolas!$F$2:$G$1123,2,FALSE)),\"\",VLOOKUP((CONCATENATE(AJ100,AL100)),Divipolas!$F$2:$G$1123,2,FALSE))","v":""},"","","","","","","","","","","","","","",null,null,null,null,null,null,null,{"$f":"IF(ISNA(VLOOKUP(BH100,'CODIGO PAIS'!$A$2:$B$231,2,FALSE)),\"\",VLOOKUP(BH100,'CODIGO PAIS'!$A$2:$B$231,2,FALSE))","v":""},null,{"$f":"IF(ISNA(VLOOKUP(BJ100,Divipolas!$A$2:$B$1123,2,FALSE)),\"\",VLOOKUP(BJ100,Divipolas!$A$2:$B$1123,2,FALSE))","v":""},null,{"$f":"IF(ISNA(VLOOKUP((CONCATENATE(BJ100,BL100)),Divipolas!$F$2:$G$1123,2,FALSE)),\"\",VLOOKUP((CONCATENATE(BJ100,BL100)),Divipolas!$F$2:$G$1123,2,FALSE))","v":""},null,"","",null,null,null,null,{"$f":"IF(ISNA(VLOOKUP(BT100,Divipolas!$A$2:$B$1123,2,FALSE)),\"\",VLOOKUP(BT100,Divipolas!$A$2:$B$1123,2,FALSE))","v":""},null,{"$f":"IF(ISNA(VLOOKUP((CONCATENATE(BT100,BV100)),Divipolas!$F$2:$G$1123,2,FALSE)),\"\",VLOOKUP((CONCATENATE(BT100,BV100)),Divipolas!$F$2:$G$1123,2,FALSE))","v":""},null,null,null,null,null,null,null,null,null,null,null,null,null,null,null,null,null,null,null,null,null,null,null,"",null,null,null,null,null,null,null,null,null,null,null,null,null,null,null,null,null,null,null,null,null,null,null,null,null,null,null,null,null,null,null,null,null,null,null,null,null,null,null,null,null,null,null,null,null,null,null,null,null,null,null,null,null,null,null,null,null,null,null,null,null,null,null,null,null,null,null,null,null,null,null,null,null,null,null,null,"",null,null,null,null,null,null,null,"VERIFIQUE FECHAS",null,null,null,null,null,null,null,null,null,"VERIFIQUE COLUMNA D"]
["","",null,"",{"$f":"IFERROR(VLOOKUP(D101,'CODIGO REGIONALES'!$J$2:$L$33,3,0),\"\")","v":""},"",{"$f":"IF(ISNA(VLOOKUP(F101,Divipolas!$A$2:$B$1123,2,FALSE)),\"\",VLOOKUP(F101,Divipolas!$A$2:$B$1123,2,FALSE))","v":""},"",{"$f":"IF(ISNA(VLOOKUP((CONCATENATE(F101,H101)),Divipolas!$F$2:$G$1123,2,FALSE)),\"\",VLOOKUP((CONCATENATE(F101,H101)),Divipolas!$F$2:$G$1123,2,FALSE))","v":""},"","","","","","","","",{"$f":"IF(ISNA(VLOOKUP(Q101,Divipolas!$A$2:$B$1123,2,FALSE)),\"\",VLOOKUP(Q101,Divipolas!$A$2:$B$1123,2,FALSE))","v":""},"",{"$f":"IF(ISNA(VLOOKUP((CONCATENATE(Q101,S101)),Divipolas!$F$2:$G$1123,2,FALSE)),\"\",VLOOKUP((CONCATENATE(Q101,S101)),Divipolas!$F$2:$G$1123,2,FALSE))","v":""},"","","","","","",{"$f":"IF(ISNA(VLOOKUP(Z101,'CODIGO PAIS'!$A$2:$B$231,2,FALSE)),\"\",VLOOKUP(Z101,'CODIGO PAIS'!$A$2:$B$231,2,FALSE))","v":""},"",{"$f":"IF(ISNA(VLOOKUP(AB101,Divipolas!$A$2:$B$1123,2,FALSE)),\"\",VLOOKUP(AB101,Divipolas!$A$2:$B$1123,2,FALSE))","v":""},"",{"$f":"IF(ISNA(VLOOKUP((CONCATENATE(AB101,AD101)),Divipolas!$F$2:$G$1123,2,FALSE)),\"\",VLOOKUP((CONCATENATE(AB101,AD101)),Divipolas!$F$2:$G$1123,2,FALSE))","v":""},"","","","","",{"$f":"IF(ISNA(VLOOKUP(AJ101,Divipolas!$A$2:$B$1123,2,FALSE)),\"\",VLOOKUP(AJ101,Divipolas!$A$2:$B$1123,2,FALSE))","v":""},"",{"$f":"IF(ISNA(VLOOKUP((CONCATENATE(AJ101,AL101)),Divipolas!$F$2:$G$1123,2,FALSE)),\"\",VLOOKUP((CONCATENATE(AJ101,AL101)),Divipolas!$F$2:$G$1123,2,FALSE))","v":""},"","","","","","","","","","","","","","",null,null,null,null,null,null,null,{"$f":"IF(ISNA(VLOOKUP(BH101,'CODIGO PAIS'!$A$2:$B$231,2,FALSE)),\"\",VLOOKUP(BH101,'CODIGO PAIS'!$A$2:$B$231,2,FALSE))","v":""},null,{"$f":"IF(ISNA(VLOOKUP(BJ101,Divipolas!$A$2:$B$1123,2,FALSE)),\"\",VLOOKUP(BJ101,Divipolas!$A$2:$B$1123,2,FALSE))","v":""},null,{"$f":"IF(ISNA(VLOOKUP((CONCATENATE(BJ101,BL101)),Divipolas!$F$2:$G$1123,2,FALSE)),\"\",VLOOKUP((CONCATENATE(BJ101,BL101)),Divipolas!$F$2:$G$1123,2,FALSE))","v":""},null,"","",null,null,null,null,{"$f":"IF(ISNA(VLOOKUP(BT101,Divipolas!$A$2:$B$1123,2,FALSE)),\"\",VLOOKUP(BT101,Divipolas!$A$2:$B$1123,2,FALSE))","v":""},null,{"$f":"IF(ISNA(VLOOKUP((CONCATENATE(BT101,BV101)),Divipolas!$F$2:$G$1123,2,FALSE)),\"\",VLOOKUP((CONCATENATE(BT101,BV101)),Divipolas!$F$2:$G$1123,2,FALSE))","v":""},null,null,null,null,null,null,null,null,null,null,null,null,null,null,null,null,null,null,null,null,null,null,null,"",null,null,null,null,null,null,null,null,null,null,null,null,null,null,null,null,null,null,null,null,null,null,null,null,null,null,null,null,null,null,null,null,null,null,null,null,null,null,null,null,null,null,null,null,null,null,null,null,null,null,null,null,null,null,null,null,null,null,null,null,null,null,null,null,null,null,null,null,null,null,null,null,null,null,null,null,"",null,null,null,null,null,null,null,"VERIFIQUE FECHAS",null,null,null,null,null,null,null,null,null,"VERIFIQUE COLUMNA D"]
["","",null,"",{"$f":"IFERROR(VLOOKUP(D102,'CODIGO REGIONALES'!$J$2:$L$33,3,0),\"\")","v":""},"",{"$f":"IF(ISNA(VLOOKUP(F102,Divipolas!$A$2:$B$1123,2,FALSE)),\"\",VLOOKUP(F102,Divipolas!$A$2:$B$1123,2,FALSE))","v":""},"",{"$f":"IF(ISNA(VLOOKUP((CONCATENATE(F102,H102)),Divipolas!$F$2:$G$1123,2,FALSE)),\"\",VLOOKUP((CONCATENATE(F102,H102)),Divipolas!$F$2:$G$1123,2,FALSE))","v":""},"","","","","","","","",{"$f":"IF(ISNA(VLOOKUP(Q102,Divipolas!$A$2:$B$1123,2,FALSE)),\"\",VLOOKUP(Q102,Divipolas!$A$2:$B$1123,2,FALSE))","v":""},"",{"$f":"IF(ISNA(VLOOKUP((CONCATENATE(Q102,S102)),Divipolas!$F$2:$G$1123,2,FALSE)),\"\",VLOOKUP((CONCATENATE(Q102,S102)),Divipolas!$F$2:$G$1123,2,FALSE))","v":""},"","","","","","",{"$f":"IF(ISNA(VLOOKUP(Z102,'CODIGO PAIS'!$A$2:$B$231,2,FALSE)),\"\",VLOOKUP(Z102,'CODIGO PAIS'!$A$2:$B$231,2,FALSE))","v":""},"",{"$f":"IF(ISNA(VLOOKUP(AB102,Divipolas!$A$2:$B$1123,2,FALSE)),\"\",VLOOKUP(AB102,Divipolas!$A$2:$B$1123,2,FALSE))","v":""},"",{"$f":"IF(ISNA(VLOOKUP((CONCATENATE(AB102,AD102)),Divipolas!$F$2:$G$1123,2,FALSE)),\"\",VLOOKUP((CONCATENATE(AB102,AD102)),Divipolas!$F$2:$G$1123,2,FALSE))","v":""},"","","","","",{"$f":"IF(ISNA(VLOOKUP(AJ102,Divipolas!$A$2:$B$1123,2,FALSE)),\"\",VLOOKUP(AJ102,Divipolas!$A$2:$B$1123,2,FALSE))","v":""},"",{"$f":"IF(ISNA(VLOOKUP((CONCATENATE(AJ102,AL102)),Divipolas!$F$2:$G$1123,2,FALSE)),\"\",VLOOKUP((CONCATENATE(AJ102,AL102)),Divipolas!$F$2:$G$1123,2,FALSE))","v":""},"","","","","","","","","","","","","","",null,null,null,null,null,null,null,{"$f":"IF(ISNA(VLOOKUP(BH102,'CODIGO PAIS'!$A$2:$B$231,2,FALSE)),\"\",VLOOKUP(BH102,'CODIGO PAIS'!$A$2:$B$231,2,FALSE))","v":""},null,{"$f":"IF(ISNA(VLOOKUP(BJ102,Divipolas!$A$2:$B$1123,2,FALSE)),\"\",VLOOKUP(BJ102,Divipolas!$A$2:$B$1123,2,FALSE))","v":""},null,{"$f":"IF(ISNA(VLOOKUP((CONCATENATE(BJ102,BL102)),Divipolas!$F$2:$G$1123,2,FALSE)),\"\",VLOOKUP((CONCATENATE(BJ102,BL102)),Divipolas!$F$2:$G$1123,2,FALSE))","v":""},null,"","",null,null,null,null,{"$f":"IF(ISNA(VLOOKUP(BT102,Divipolas!$A$2:$B$1123,2,FALSE)),\"\",VLOOKUP(BT102,Divipolas!$A$2:$B$1123,2,FALSE))","v":""},null,{"$f":"IF(ISNA(VLOOKUP((CONCATENATE(BT102,BV102)),Divipolas!$F$2:$G$1123,2,FALSE)),\"\",VLOOKUP((CONCATENATE(BT102,BV102)),Divipolas!$F$2:$G$1123,2,FALSE))","v":""},null,null,null,null,null,null,null,null,null,null,null,null,null,null,null,null,null,null,null,null,null,null,null,"",null,null,null,null,null,null,null,null,null,null,null,null,null,null,null,null,null,null,null,null,null,null,null,null,null,null,null,null,null,null,null,null,null,null,null,null,null,null,null,null,null,null,null,null,null,null,null,null,null,null,null,null,null,null,null,null,null,null,null,null,null,null,null,null,null,null,null,null,null,null,null,null,null,null,null,null,"",null,null,null,null,null,null,null,"VERIFIQUE FECHAS",null,null,null,null,null,null,null,null,null,"VERIFIQUE COLUMNA D"]
["","",null,"",{"$f":"IFERROR(VLOOKUP(D103,'CODIGO REGIONALES'!$J$2:$L$33,3,0),\"\")","v":""},"",{"$f":"IF(ISNA(VLOOKUP(F103,Divipolas!$A$2:$B$1123,2,FALSE)),\"\",VLOOKUP(F103,Divipolas!$A$2:$B$1123,2,FALSE))","v":""},"",{"$f":"IF(ISNA(VLOOKUP((CONCATENATE(F103,H103)),Divipolas!$F$2:$G$1123,2,FALSE)),\"\",VLOOKUP((CONCATENATE(F103,H103)),Divipolas!$F$2:$G$1123,2,FALSE))","v":""},"","","","","","","","",{"$f":"IF(ISNA(VLOOKUP(Q103,Divipolas!$A$2:$B$1123,2,FALSE)),\"\",VLOOKUP(Q103,Divipolas!$A$2:$B$1123,2,FALSE))","v":""},"",{"$f":"IF(ISNA(VLOOKUP((CONCATENATE(Q103,S103)),Divipolas!$F$2:$G$1123,2,FALSE)),\"\",VLOOKUP((CONCATENATE(Q103,S103)),Divipolas!$F$2:$G$1123,2,FALSE))","v":""},"","","","","","",{"$f":"IF(ISNA(VLOOKUP(Z103,'CODIGO PAIS'!$A$2:$B$231,2,FALSE)),\"\",VLOOKUP(Z103,'CODIGO PAIS'!$A$2:$B$231,2,FALSE))","v":""},"",{"$f":"IF(ISNA(VLOOKUP(AB103,Divipolas!$A$2:$B$1123,2,FALSE)),\"\",VLOOKUP(AB103,Divipolas!$A$2:$B$1123,2,FALSE))","v":""},"",{"$f":"IF(ISNA(VLOOKUP((CONCATENATE(AB103,AD103)),Divipolas!$F$2:$G$1123,2,FALSE)),\"\",VLOOKUP((CONCATENATE(AB103,AD103)),Divipolas!$F$2:$G$1123,2,FALSE))","v":""},"","","","","",{"$f":"IF(ISNA(VLOOKUP(AJ103,Divipolas!$A$2:$B$1123,2,FALSE)),\"\",VLOOKUP(AJ103,Divipolas!$A$2:$B$1123,2,FALSE))","v":""},"",{"$f":"IF(ISNA(VLOOKUP((CONCATENATE(AJ103,AL103)),Divipolas!$F$2:$G$1123,2,FALSE)),\"\",VLOOKUP((CONCATENATE(AJ103,AL103)),Divipolas!$F$2:$G$1123,2,FALSE))","v":""},"","","","","","","","","","","","","","",null,null,null,null,null,null,null,{"$f":"IF(ISNA(VLOOKUP(BH103,'CODIGO PAIS'!$A$2:$B$231,2,FALSE)),\"\",VLOOKUP(BH103,'CODIGO PAIS'!$A$2:$B$231,2,FALSE))","v":""},null,{"$f":"IF(ISNA(VLOOKUP(BJ103,Divipolas!$A$2:$B$1123,2,FALSE)),\"\",VLOOKUP(BJ103,Divipolas!$A$2:$B$1123,2,FALSE))","v":""},null,{"$f":"IF(ISNA(VLOOKUP((CONCATENATE(BJ103,BL103)),Divipolas!$F$2:$G$1123,2,FALSE)),\"\",VLOOKUP((CONCATENATE(BJ103,BL103)),Divipolas!$F$2:$G$1123,2,FALSE))","v":""},null,"","",null,null,null,null,{"$f":"IF(ISNA(VLOOKUP(BT103,Divipolas!$A$2:$B$1123,2,FALSE)),\"\",VLOOKUP(BT103,Divipolas!$A$2:$B$1123,2,FALSE))","v":""},null,{"$f":"IF(ISNA(VLOOKUP((CONCATENATE(BT103,BV103)),Divipolas!$F$2:$G$1123,2,FALSE)),\"\",VLOOKUP((CONCATENATE(BT103,BV103)),Divipolas!$F$2:$G$1123,2,FALSE))","v":""},null,null,null,null,null,null,null,null,null,null,null,null,null,null,null,null,null,null,null,null,null,null,null,"",null,null,null,null,null,null,null,null,null,null,null,null,null,null,null,null,null,null,null,null,null,null,null,null,null,null,null,null,null,null,null,null,null,null,null,null,null,null,null,null,null,null,null,null,null,null,null,null,null,null,null,null,null,null,null,null,null,null,null,null,null,null,null,null,null,null,null,null,null,null,null,null,null,null,null,null,"",null,null,null,null,null,null,null,"VERIFIQUE FECHAS",null,null,null,null,null,null,null,null,null,"VERIFIQUE COLUMNA D"]
["","",null,"",{"$f":"IFERROR(VLOOKUP(D104,'CODIGO REGIONALES'!$J$2:$L$33,3,0),\"\")","v":""},"",{"$f":"IF(ISNA(VLOOKUP(F104,Divipolas!$A$2:$B$1123,2,FALSE)),\"\",VLOOKUP(F104,Divipolas!$A$2:$B$1123,2,FALSE))","v":""},"",{"$f":"IF(ISNA(VLOOKUP((CONCATENATE(F104,H104)),Divipolas!$F$2:$G$1123,2,FALSE)),\"\",VLOOKUP((CONCATENATE(F104,H104)),Divipolas!$F$2:$G$1123,2,FALSE))","v":""},"",{"$f":"IF(AND($C104<>\"\",K103<>\"\"),K103,\"\")","v":""},"","","","","","",{"$f":"IF(ISNA(VLOOKUP(Q104,Divipolas!$A$2:$B$1123,2,FALSE)),\"\",VLOOKUP(Q104,Divipolas!$A$2:$B$1123,2,FALSE))","v":""},"",{"$f":"IF(ISNA(VLOOKUP((CONCATENATE(Q104,S104)),Divipolas!$F$2:$G$1123,2,FALSE)),\"\",VLOOKUP((CONCATENATE(Q104,S104)),Divipolas!$F$2:$G$1123,2,FALSE))","v":""},"","","","","","",{"$f":"IF(ISNA(VLOOKUP(Z104,'CODIGO PAIS'!$A$2:$B$231,2,FALSE)),\"\",VLOOKUP(Z104,'CODIGO PAIS'!$A$2:$B$231,2,FALSE))","v":""},"",{"$f":"IF(ISNA(VLOOKUP(AB104,Divipolas!$A$2:$B$1123,2,FALSE)),\"\",VLOOKUP(AB104,Divipolas!$A$2:$B$1123,2,FALSE))","v":""},"",{"$f":"IF(ISNA(VLOOKUP((CONCATENATE(AB104,AD104)),Divipolas!$F$2:$G$1123,2,FALSE)),\"\",VLOOKUP((CONCATENATE(AB104,AD104)),Divipolas!$F$2:$G$1123,2,FALSE))","v":""},"","","","","",{"$f":"IF(ISNA(VLOOKUP(AJ104,Divipolas!$A$2:$B$1123,2,FALSE)),\"\",VLOOKUP(AJ104,Divipolas!$A$2:$B$1123,2,FALSE))","v":""},"",{"$f":"IF(ISNA(VLOOKUP((CONCATENATE(AJ104,AL104)),Divipolas!$F$2:$G$1123,2,FALSE)),\"\",VLOOKUP((CONCATENATE(AJ104,AL104)),Divipolas!$F$2:$G$1123,2,FALSE))","v":""},"","","","","","","","","","","","","","",null,null,null,null,null,null,null,{"$f":"IF(ISNA(VLOOKUP(BH104,'CODIGO PAIS'!$A$2:$B$231,2,FALSE)),\"\",VLOOKUP(BH104,'CODIGO PAIS'!$A$2:$B$231,2,FALSE))","v":""},null,{"$f":"IF(ISNA(VLOOKUP(BJ104,Divipolas!$A$2:$B$1123,2,FALSE)),\"\",VLOOKUP(BJ104,Divipolas!$A$2:$B$1123,2,FALSE))","v":""},null,{"$f":"IF(ISNA(VLOOKUP((CONCATENATE(BJ104,BL104)),Divipolas!$F$2:$G$1123,2,FALSE)),\"\",VLOOKUP((CONCATENATE(BJ104,BL104)),Divipolas!$F$2:$G$1123,2,FALSE))","v":""},null,"","",null,null,null,null,{"$f":"IF(ISNA(VLOOKUP(BT104,Divipolas!$A$2:$B$1123,2,FALSE)),\"\",VLOOKUP(BT104,Divipolas!$A$2:$B$1123,2,FALSE))","v":""},null,{"$f":"IF(ISNA(VLOOKUP((CONCATENATE(BT104,BV104)),Divipolas!$F$2:$G$1123,2,FALSE)),\"\",VLOOKUP((CONCATENATE(BT104,BV104)),Divipolas!$F$2:$G$1123,2,FALSE))","v":""},null,null,null,null,null,null,null,null,null,null,null,null,null,null,null,null,null,null,null,null,null,null,null,"",null,null,null,null,null,null,null,null,null,null,null,null,null,null,null,null,null,null,null,null,null,null,null,null,null,null,null,null,null,null,null,null,null,null,null,null,null,null,null,null,null,null,null,null,null,null,null,null,null,null,null,null,null,null,null,null,null,null,null,null,null,null,null,null,null,null,null,null,null,null,null,null,null,null,null,null,"",null,null,null,null,null,null,null,"VERIFIQUE FECHAS",null,null,null,null,null,null,null,null,null,"VERIFIQUE COLUMNA D"]
["","",null,"",{"$f":"IFERROR(VLOOKUP(D105,'CODIGO REGIONALES'!$J$2:$L$33,3,0),\"\")","v":""},"",{"$f":"IF(ISNA(VLOOKUP(F105,Divipolas!$A$2:$B$1123,2,FALSE)),\"\",VLOOKUP(F105,Divipolas!$A$2:$B$1123,2,FALSE))","v":""},"",{"$f":"IF(ISNA(VLOOKUP((CONCATENATE(F105,H105)),Divipolas!$F$2:$G$1123,2,FALSE)),\"\",VLOOKUP((CONCATENATE(F105,H105)),Divipolas!$F$2:$G$1123,2,FALSE))","v":""},"","","","","","","","",{"$f":"IF(ISNA(VLOOKUP(Q105,Divipolas!$A$2:$B$1123,2,FALSE)),\"\",VLOOKUP(Q105,Divipolas!$A$2:$B$1123,2,FALSE))","v":""},"",{"$f":"IF(ISNA(VLOOKUP((CONCATENATE(Q105,S105)),Divipolas!$F$2:$G$1123,2,FALSE)),\"\",VLOOKUP((CONCATENATE(Q105,S105)),Divipolas!$F$2:$G$1123,2,FALSE))","v":""},"","","","","","",{"$f":"IF(ISNA(VLOOKUP(Z105,'CODIGO PAIS'!$A$2:$B$231,2,FALSE)),\"\",VLOOKUP(Z105,'CODIGO PAIS'!$A$2:$B$231,2,FALSE))","v":""},"",{"$f":"IF(ISNA(VLOOKUP(AB105,Divipolas!$A$2:$B$1123,2,FALSE)),\"\",VLOOKUP(AB105,Divipolas!$A$2:$B$1123,2,FALSE))","v":""},"",{"$f":"IF(ISNA(VLOOKUP((CONCATENATE(AB105,AD105)),Divipolas!$F$2:$G$1123,2,FALSE)),\"\",VLOOKUP((CONCATENATE(AB105,AD105)),Divipolas!$F$2:$G$1123,2,FALSE))","v":""},"","","","","",{"$f":"IF(ISNA(VLOOKUP(AJ105,Divipolas!$A$2:$B$1123,2,FALSE)),\"\",VLOOKUP(AJ105,Divipolas!$A$2:$B$1123,2,FALSE))","v":""},"",{"$f":"IF(ISNA(VLOOKUP((CONCATENATE(AJ105,AL105)),Divipolas!$F$2:$G$1123,2,FALSE)),\"\",VLOOKUP((CONCATENATE(AJ105,AL105)),Divipolas!$F$2:$G$1123,2,FALSE))","v":""},"","","","","","","","","","","","","","",null,null,null,null,null,null,null,{"$f":"IF(ISNA(VLOOKUP(BH105,'CODIGO PAIS'!$A$2:$B$231,2,FALSE)),\"\",VLOOKUP(BH105,'CODIGO PAIS'!$A$2:$B$231,2,FALSE))","v":""},null,{"$f":"IF(ISNA(VLOOKUP(BJ105,Divipolas!$A$2:$B$1123,2,FALSE)),\"\",VLOOKUP(BJ105,Divipolas!$A$2:$B$1123,2,FALSE))","v":""},null,{"$f":"IF(ISNA(VLOOKUP((CONCATENATE(BJ105,BL105)),Divipolas!$F$2:$G$1123,2,FALSE)),\"\",VLOOKUP((CONCATENATE(BJ105,BL105)),Divipolas!$F$2:$G$1123,2,FALSE))","v":""},null,"","",null,null,null,null,{"$f":"IF(ISNA(VLOOKUP(BT105,Divipolas!$A$2:$B$1123,2,FALSE)),\"\",VLOOKUP(BT105,Divipolas!$A$2:$B$1123,2,FALSE))","v":""},null,{"$f":"IF(ISNA(VLOOKUP((CONCATENATE(BT105,BV105)),Divipolas!$F$2:$G$1123,2,FALSE)),\"\",VLOOKUP((CONCATENATE(BT105,BV105)),Divipolas!$F$2:$G$1123,2,FALSE))","v":""},null,null,null,null,null,null,null,null,null,null,null,null,null,null,null,null,null,null,null,null,null,null,null,"",null,null,null,null,null,null,null,null,null,null,null,null,null,null,null,null,null,null,null,null,null,null,null,null,null,null,null,null,null,null,null,null,null,null,null,null,null,null,null,null,null,null,null,null,null,null,null,null,null,null,null,null,null,null,null,null,null,null,null,null,null,null,null,null,null,null,null,null,null,null,null,null,null,null,null,null,"",null,null,null,null,null,null,null,"VERIFIQUE FECHAS",null,null,null,null,null,null,null,null,null,"VERIFIQUE COLUMNA D"]
["","",null,"",{"$f":"IFERROR(VLOOKUP(D106,'CODIGO REGIONALES'!$J$2:$L$33,3,0),\"\")","v":""},"",{"$f":"IF(ISNA(VLOOKUP(F106,Divipolas!$A$2:$B$1123,2,FALSE)),\"\",VLOOKUP(F106,Divipolas!$A$2:$B$1123,2,FALSE))","v":""},"",{"$f":"IF(ISNA(VLOOKUP((CONCATENATE(F106,H106)),Divipolas!$F$2:$G$1123,2,FALSE)),\"\",VLOOKUP((CONCATENATE(F106,H106)),Divipolas!$F$2:$G$1123,2,FALSE))","v":""},"","","","","","","","",{"$f":"IF(ISNA(VLOOKUP(Q106,Divipolas!$A$2:$B$1123,2,FALSE)),\"\",VLOOKUP(Q106,Divipolas!$A$2:$B$1123,2,FALSE))","v":""},"",{"$f":"IF(ISNA(VLOOKUP((CONCATENATE(Q106,S106)),Divipolas!$F$2:$G$1123,2,FALSE)),\"\",VLOOKUP((CONCATENATE(Q106,S106)),Divipolas!$F$2:$G$1123,2,FALSE))","v":""},"","","","","","",{"$f":"IF(ISNA(VLOOKUP(Z106,'CODIGO PAIS'!$A$2:$B$231,2,FALSE)),\"\",VLOOKUP(Z106,'CODIGO PAIS'!$A$2:$B$231,2,FALSE))","v":""},"",{"$f":"IF(ISNA(VLOOKUP(AB106,Divipolas!$A$2:$B$1123,2,FALSE)),\"\",VLOOKUP(AB106,Divipolas!$A$2:$B$1123,2,FALSE))","v":""},"",{"$f":"IF(ISNA(VLOOKUP((CONCATENATE(AB106,AD106)),Divipolas!$F$2:$G$1123,2,FALSE)),\"\",VLOOKUP((CONCATENATE(AB106,AD106)),Divipolas!$F$2:$G$1123,2,FALSE))","v":""},"","","","","",{"$f":"IF(ISNA(VLOOKUP(AJ106,Divipolas!$A$2:$B$1123,2,FALSE)),\"\",VLOOKUP(AJ106,Divipolas!$A$2:$B$1123,2,FALSE))","v":""},"",{"$f":"IF(ISNA(VLOOKUP((CONCATENATE(AJ106,AL106)),Divipolas!$F$2:$G$1123,2,FALSE)),\"\",VLOOKUP((CONCATENATE(AJ106,AL106)),Divipolas!$F$2:$G$1123,2,FALSE))","v":""},"","","","","","","","","","","","","","",null,null,null,null,null,null,null,{"$f":"IF(ISNA(VLOOKUP(BH106,'CODIGO PAIS'!$A$2:$B$231,2,FALSE)),\"\",VLOOKUP(BH106,'CODIGO PAIS'!$A$2:$B$231,2,FALSE))","v":""},null,{"$f":"IF(ISNA(VLOOKUP(BJ106,Divipolas!$A$2:$B$1123,2,FALSE)),\"\",VLOOKUP(BJ106,Divipolas!$A$2:$B$1123,2,FALSE))","v":""},null,{"$f":"IF(ISNA(VLOOKUP((CONCATENATE(BJ106,BL106)),Divipolas!$F$2:$G$1123,2,FALSE)),\"\",VLOOKUP((CONCATENATE(BJ106,BL106)),Divipolas!$F$2:$G$1123,2,FALSE))","v":""},null,"","",null,null,null,null,{"$f":"IF(ISNA(VLOOKUP(BT106,Divipolas!$A$2:$B$1123,2,FALSE)),\"\",VLOOKUP(BT106,Divipolas!$A$2:$B$1123,2,FALSE))","v":""},null,{"$f":"IF(ISNA(VLOOKUP((CONCATENATE(BT106,BV106)),Divipolas!$F$2:$G$1123,2,FALSE)),\"\",VLOOKUP((CONCATENATE(BT106,BV106)),Divipolas!$F$2:$G$1123,2,FALSE))","v":""},null,null,null,null,null,null,null,null,null,null,null,null,null,null,null,null,null,null,null,null,null,null,null,"",null,null,null,null,null,null,null,null,null,null,null,null,null,null,null,null,null,null,null,null,null,null,null,null,null,null,null,null,null,null,null,null,null,null,null,null,null,null,null,null,null,null,null,null,null,null,null,null,null,null,null,null,null,null,null,null,null,null,null,null,null,null,null,null,null,null,null,null,null,null,null,null,null,null,null,null,"",null,null,null,null,null,null,null,"VERIFIQUE FECHAS",null,null,null,null,null,null,null,null,null,"VERIFIQUE COLUMNA D"]
["","",null,"",{"$f":"IFERROR(VLOOKUP(D107,'CODIGO REGIONALES'!$J$2:$L$33,3,0),\"\")","v":""},"",{"$f":"IF(ISNA(VLOOKUP(F107,Divipolas!$A$2:$B$1123,2,FALSE)),\"\",VLOOKUP(F107,Divipolas!$A$2:$B$1123,2,FALSE))","v":""},"",{"$f":"IF(ISNA(VLOOKUP((CONCATENATE(F107,H107)),Divipolas!$F$2:$G$1123,2,FALSE)),\"\",VLOOKUP((CONCATENATE(F107,H107)),Divipolas!$F$2:$G$1123,2,FALSE))","v":""},"","","","","","","","",{"$f":"IF(ISNA(VLOOKUP(Q107,Divipolas!$A$2:$B$1123,2,FALSE)),\"\",VLOOKUP(Q107,Divipolas!$A$2:$B$1123,2,FALSE))","v":""},"",{"$f":"IF(ISNA(VLOOKUP((CONCATENATE(Q107,S107)),Divipolas!$F$2:$G$1123,2,FALSE)),\"\",VLOOKUP((CONCATENATE(Q107,S107)),Divipolas!$F$2:$G$1123,2,FALSE))","v":""},"","","","","","",{"$f":"IF(ISNA(VLOOKUP(Z107,'CODIGO PAIS'!$A$2:$B$231,2,FALSE)),\"\",VLOOKUP(Z107,'CODIGO PAIS'!$A$2:$B$231,2,FALSE))","v":""},"",{"$f":"IF(ISNA(VLOOKUP(AB107,Divipolas!$A$2:$B$1123,2,FALSE)),\"\",VLOOKUP(AB107,Divipolas!$A$2:$B$1123,2,FALSE))","v":""},"",{"$f":"IF(ISNA(VLOOKUP((CONCATENATE(AB107,AD107)),Divipolas!$F$2:$G$1123,2,FALSE)),\"\",VLOOKUP((CONCATENATE(AB107,AD107)),Divipolas!$F$2:$G$1123,2,FALSE))","v":""},"","","","","",{"$f":"IF(ISNA(VLOOKUP(AJ107,Divipolas!$A$2:$B$1123,2,FALSE)),\"\",VLOOKUP(AJ107,Divipolas!$A$2:$B$1123,2,FALSE))","v":""},"",{"$f":"IF(ISNA(VLOOKUP((CONCATENATE(AJ107,AL107)),Divipolas!$F$2:$G$1123,2,FALSE)),\"\",VLOOKUP((CONCATENATE(AJ107,AL107)),Divipolas!$F$2:$G$1123,2,FALSE))","v":""},"","","","","","","","","","","","","","",null,null,null,null,null,null,null,{"$f":"IF(ISNA(VLOOKUP(BH107,'CODIGO PAIS'!$A$2:$B$231,2,FALSE)),\"\",VLOOKUP(BH107,'CODIGO PAIS'!$A$2:$B$231,2,FALSE))","v":""},null,{"$f":"IF(ISNA(VLOOKUP(BJ107,Divipolas!$A$2:$B$1123,2,FALSE)),\"\",VLOOKUP(BJ107,Divipolas!$A$2:$B$1123,2,FALSE))","v":""},null,{"$f":"IF(ISNA(VLOOKUP((CONCATENATE(BJ107,BL107)),Divipolas!$F$2:$G$1123,2,FALSE)),\"\",VLOOKUP((CONCATENATE(BJ107,BL107)),Divipolas!$F$2:$G$1123,2,FALSE))","v":""},null,"","",null,null,null,null,{"$f":"IF(ISNA(VLOOKUP(BT107,Divipolas!$A$2:$B$1123,2,FALSE)),\"\",VLOOKUP(BT107,Divipolas!$A$2:$B$1123,2,FALSE))","v":""},null,{"$f":"IF(ISNA(VLOOKUP((CONCATENATE(BT107,BV107)),Divipolas!$F$2:$G$1123,2,FALSE)),\"\",VLOOKUP((CONCATENATE(BT107,BV107)),Divipolas!$F$2:$G$1123,2,FALSE))","v":""},null,null,null,null,null,null,null,null,null,null,null,null,null,null,null,null,null,null,null,null,null,null,null,"",null,null,null,null,null,null,null,null,null,null,null,null,null,null,null,null,null,null,null,null,null,null,null,null,null,null,null,null,null,null,null,null,null,null,null,null,null,null,null,null,null,null,null,null,null,null,null,null,null,null,null,null,null,null,null,null,null,null,null,null,null,null,null,null,null,null,null,null,null,null,null,null,null,null,null,null,"",null,null,null,null,null,null,null,"VERIFIQUE FECHAS",null,null,null,null,null,null,null,null,null,"VERIFIQUE COLUMNA D"]
["","",null,"",{"$f":"IFERROR(VLOOKUP(D108,'CODIGO REGIONALES'!$J$2:$L$33,3,0),\"\")","v":""},"",{"$f":"IF(ISNA(VLOOKUP(F108,Divipolas!$A$2:$B$1123,2,FALSE)),\"\",VLOOKUP(F108,Divipolas!$A$2:$B$1123,2,FALSE))","v":""},"",{"$f":"IF(ISNA(VLOOKUP((CONCATENATE(F108,H108)),Divipolas!$F$2:$G$1123,2,FALSE)),\"\",VLOOKUP((CONCATENATE(F108,H108)),Divipolas!$F$2:$G$1123,2,FALSE))","v":""},"","","","","","","","",{"$f":"IF(ISNA(VLOOKUP(Q108,Divipolas!$A$2:$B$1123,2,FALSE)),\"\",VLOOKUP(Q108,Divipolas!$A$2:$B$1123,2,FALSE))","v":""},"",{"$f":"IF(ISNA(VLOOKUP((CONCATENATE(Q108,S108)),Divipolas!$F$2:$G$1123,2,FALSE)),\"\",VLOOKUP((CONCATENATE(Q108,S108)),Divipolas!$F$2:$G$1123,2,FALSE))","v":""},"","","","","","",{"$f":"IF(ISNA(VLOOKUP(Z108,'CODIGO PAIS'!$A$2:$B$231,2,FALSE)),\"\",VLOOKUP(Z108,'CODIGO PAIS'!$A$2:$B$231,2,FALSE))","v":""},"",{"$f":"IF(ISNA(VLOOKUP(AB108,Divipolas!$A$2:$B$1123,2,FALSE)),\"\",VLOOKUP(AB108,Divipolas!$A$2:$B$1123,2,FALSE))","v":""},"",{"$f":"IF(ISNA(VLOOKUP((CONCATENATE(AB108,AD108)),Divipolas!$F$2:$G$1123,2,FALSE)),\"\",VLOOKUP((CONCATENATE(AB108,AD108)),Divipolas!$F$2:$G$1123,2,FALSE))","v":""},"","","","","",{"$f":"IF(ISNA(VLOOKUP(AJ108,Divipolas!$A$2:$B$1123,2,FALSE)),\"\",VLOOKUP(AJ108,Divipolas!$A$2:$B$1123,2,FALSE))","v":""},"",{"$f":"IF(ISNA(VLOOKUP((CONCATENATE(AJ108,AL108)),Divipolas!$F$2:$G$1123,2,FALSE)),\"\",VLOOKUP((CONCATENATE(AJ108,AL108)),Divipolas!$F$2:$G$1123,2,FALSE))","v":""},"","","","","","","","","","","","","","",null,null,null,null,null,null,null,{"$f":"IF(ISNA(VLOOKUP(BH108,'CODIGO PAIS'!$A$2:$B$231,2,FALSE)),\"\",VLOOKUP(BH108,'CODIGO PAIS'!$A$2:$B$231,2,FALSE))","v":""},null,{"$f":"IF(ISNA(VLOOKUP(BJ108,Divipolas!$A$2:$B$1123,2,FALSE)),\"\",VLOOKUP(BJ108,Divipolas!$A$2:$B$1123,2,FALSE))","v":""},null,{"$f":"IF(ISNA(VLOOKUP((CONCATENATE(BJ108,BL108)),Divipolas!$F$2:$G$1123,2,FALSE)),\"\",VLOOKUP((CONCATENATE(BJ108,BL108)),Divipolas!$F$2:$G$1123,2,FALSE))","v":""},null,"","",null,null,null,null,{"$f":"IF(ISNA(VLOOKUP(BT108,Divipolas!$A$2:$B$1123,2,FALSE)),\"\",VLOOKUP(BT108,Divipolas!$A$2:$B$1123,2,FALSE))","v":""},null,{"$f":"IF(ISNA(VLOOKUP((CONCATENATE(BT108,BV108)),Divipolas!$F$2:$G$1123,2,FALSE)),\"\",VLOOKUP((CONCATENATE(BT108,BV108)),Divipolas!$F$2:$G$1123,2,FALSE))","v":""},null,null,null,null,null,null,null,null,null,null,null,null,null,null,null,null,null,null,null,null,null,null,null,"",null,null,null,null,null,null,null,null,null,null,null,null,null,null,null,null,null,null,null,null,null,null,null,null,null,null,null,null,null,null,null,null,null,null,null,null,null,null,null,null,null,null,null,null,null,null,null,null,null,null,null,null,null,null,null,null,null,null,null,null,null,null,null,null,null,null,null,null,null,null,null,null,null,null,null,null,"",null,null,null,null,null,null,null,"VERIFIQUE FECHAS",null,null,null,null,null,null,null,null,null,"VERIFIQUE COLUMNA D"]
["","",null,"",{"$f":"IFERROR(VLOOKUP(D109,'CODIGO REGIONALES'!$J$2:$L$33,3,0),\"\")","v":""},"",{"$f":"IF(ISNA(VLOOKUP(F109,Divipolas!$A$2:$B$1123,2,FALSE)),\"\",VLOOKUP(F109,Divipolas!$A$2:$B$1123,2,FALSE))","v":""},"",{"$f":"IF(ISNA(VLOOKUP((CONCATENATE(F109,H109)),Divipolas!$F$2:$G$1123,2,FALSE)),\"\",VLOOKUP((CONCATENATE(F109,H109)),Divipolas!$F$2:$G$1123,2,FALSE))","v":""},"","","","","","","","",{"$f":"IF(ISNA(VLOOKUP(Q109,Divipolas!$A$2:$B$1123,2,FALSE)),\"\",VLOOKUP(Q109,Divipolas!$A$2:$B$1123,2,FALSE))","v":""},"",{"$f":"IF(ISNA(VLOOKUP((CONCATENATE(Q109,S109)),Divipolas!$F$2:$G$1123,2,FALSE)),\"\",VLOOKUP((CONCATENATE(Q109,S109)),Divipolas!$F$2:$G$1123,2,FALSE))","v":""},"","","","","","",{"$f":"IF(ISNA(VLOOKUP(Z109,'CODIGO PAIS'!$A$2:$B$231,2,FALSE)),\"\",VLOOKUP(Z109,'CODIGO PAIS'!$A$2:$B$231,2,FALSE))","v":""},"",{"$f":"IF(ISNA(VLOOKUP(AB109,Divipolas!$A$2:$B$1123,2,FALSE)),\"\",VLOOKUP(AB109,Divipolas!$A$2:$B$1123,2,FALSE))","v":""},"",{"$f":"IF(ISNA(VLOOKUP((CONCATENATE(AB109,AD109)),Divipolas!$F$2:$G$1123,2,FALSE)),\"\",VLOOKUP((CONCATENATE(AB109,AD109)),Divipolas!$F$2:$G$1123,2,FALSE))","v":""},"","","","","",{"$f":"IF(ISNA(VLOOKUP(AJ109,Divipolas!$A$2:$B$1123,2,FALSE)),\"\",VLOOKUP(AJ109,Divipolas!$A$2:$B$1123,2,FALSE))","v":""},"",{"$f":"IF(ISNA(VLOOKUP((CONCATENATE(AJ109,AL109)),Divipolas!$F$2:$G$1123,2,FALSE)),\"\",VLOOKUP((CONCATENATE(AJ109,AL109)),Divipolas!$F$2:$G$1123,2,FALSE))","v":""},"","","","","","","","","","","","","","",null,null,null,null,null,null,null,{"$f":"IF(ISNA(VLOOKUP(BH109,'CODIGO PAIS'!$A$2:$B$231,2,FALSE)),\"\",VLOOKUP(BH109,'CODIGO PAIS'!$A$2:$B$231,2,FALSE))","v":""},null,{"$f":"IF(ISNA(VLOOKUP(BJ109,Divipolas!$A$2:$B$1123,2,FALSE)),\"\",VLOOKUP(BJ109,Divipolas!$A$2:$B$1123,2,FALSE))","v":""},null,{"$f":"IF(ISNA(VLOOKUP((CONCATENATE(BJ109,BL109)),Divipolas!$F$2:$G$1123,2,FALSE)),\"\",VLOOKUP((CONCATENATE(BJ109,BL109)),Divipolas!$F$2:$G$1123,2,FALSE))","v":""},null,"","",null,null,null,null,{"$f":"IF(ISNA(VLOOKUP(BT109,Divipolas!$A$2:$B$1123,2,FALSE)),\"\",VLOOKUP(BT109,Divipolas!$A$2:$B$1123,2,FALSE))","v":""},null,{"$f":"IF(ISNA(VLOOKUP((CONCATENATE(BT109,BV109)),Divipolas!$F$2:$G$1123,2,FALSE)),\"\",VLOOKUP((CONCATENATE(BT109,BV109)),Divipolas!$F$2:$G$1123,2,FALSE))","v":""},null,null,null,null,null,null,null,null,null,null,null,null,null,null,null,null,null,null,null,null,null,null,null,"",null,null,null,null,null,null,null,null,null,null,null,null,null,null,null,null,null,null,null,null,null,null,null,null,null,null,null,null,null,null,null,null,null,null,null,null,null,null,null,null,null,null,null,null,null,null,null,null,null,null,null,null,null,null,null,null,null,null,null,null,null,null,null,null,null,null,null,null,null,null,null,null,null,null,null,null,"",null,null,null,null,null,null,null,"VERIFIQUE FECHAS",null,null,null,null,null,null,null,null,null,"VERIFIQUE COLUMNA D"]
["","",null,"",{"$f":"IFERROR(VLOOKUP(D110,'CODIGO REGIONALES'!$J$2:$L$33,3,0),\"\")","v":""},"",{"$f":"IF(ISNA(VLOOKUP(F110,Divipolas!$A$2:$B$1123,2,FALSE)),\"\",VLOOKUP(F110,Divipolas!$A$2:$B$1123,2,FALSE))","v":""},"",{"$f":"IF(ISNA(VLOOKUP((CONCATENATE(F110,H110)),Divipolas!$F$2:$G$1123,2,FALSE)),\"\",VLOOKUP((CONCATENATE(F110,H110)),Divipolas!$F$2:$G$1123,2,FALSE))","v":""},"","","","","","","","",{"$f":"IF(ISNA(VLOOKUP(Q110,Divipolas!$A$2:$B$1123,2,FALSE)),\"\",VLOOKUP(Q110,Divipolas!$A$2:$B$1123,2,FALSE))","v":""},"",{"$f":"IF(ISNA(VLOOKUP((CONCATENATE(Q110,S110)),Divipolas!$F$2:$G$1123,2,FALSE)),\"\",VLOOKUP((CONCATENATE(Q110,S110)),Divipolas!$F$2:$G$1123,2,FALSE))","v":""},"","","","","","",{"$f":"IF(ISNA(VLOOKUP(Z110,'CODIGO PAIS'!$A$2:$B$231,2,FALSE)),\"\",VLOOKUP(Z110,'CODIGO PAIS'!$A$2:$B$231,2,FALSE))","v":""},"",{"$f":"IF(ISNA(VLOOKUP(AB110,Divipolas!$A$2:$B$1123,2,FALSE)),\"\",VLOOKUP(AB110,Divipolas!$A$2:$B$1123,2,FALSE))","v":""},"",{"$f":"IF(ISNA(VLOOKUP((CONCATENATE(AB110,AD110)),Divipolas!$F$2:$G$1123,2,FALSE)),\"\",VLOOKUP((CONCATENATE(AB110,AD110)),Divipolas!$F$2:$G$1123,2,FALSE))","v":""},"","","","","",{"$f":"IF(ISNA(VLOOKUP(AJ110,Divipolas!$A$2:$B$1123,2,FALSE)),\"\",VLOOKUP(AJ110,Divipolas!$A$2:$B$1123,2,FALSE))","v":""},"",{"$f":"IF(ISNA(VLOOKUP((CONCATENATE(AJ110,AL110)),Divipolas!$F$2:$G$1123,2,FALSE)),\"\",VLOOKUP((CONCATENATE(AJ110,AL110)),Divipolas!$F$2:$G$1123,2,FALSE))","v":""},"","","","","","","","","","","","","","",null,null,null,null,null,null,null,{"$f":"IF(ISNA(VLOOKUP(BH110,'CODIGO PAIS'!$A$2:$B$231,2,FALSE)),\"\",VLOOKUP(BH110,'CODIGO PAIS'!$A$2:$B$231,2,FALSE))","v":""},null,{"$f":"IF(ISNA(VLOOKUP(BJ110,Divipolas!$A$2:$B$1123,2,FALSE)),\"\",VLOOKUP(BJ110,Divipolas!$A$2:$B$1123,2,FALSE))","v":""},null,{"$f":"IF(ISNA(VLOOKUP((CONCATENATE(BJ110,BL110)),Divipolas!$F$2:$G$1123,2,FALSE)),\"\",VLOOKUP((CONCATENATE(BJ110,BL110)),Divipolas!$F$2:$G$1123,2,FALSE))","v":""},null,"","",null,null,null,null,{"$f":"IF(ISNA(VLOOKUP(BT110,Divipolas!$A$2:$B$1123,2,FALSE)),\"\",VLOOKUP(BT110,Divipolas!$A$2:$B$1123,2,FALSE))","v":""},null,{"$f":"IF(ISNA(VLOOKUP((CONCATENATE(BT110,BV110)),Divipolas!$F$2:$G$1123,2,FALSE)),\"\",VLOOKUP((CONCATENATE(BT110,BV110)),Divipolas!$F$2:$G$1123,2,FALSE))","v":""},null,null,null,null,null,null,null,null,null,null,null,null,null,null,null,null,null,null,null,null,null,null,null,"",null,null,null,null,null,null,null,null,null,null,null,null,null,null,null,null,null,null,null,null,null,null,null,null,null,null,null,null,null,null,null,null,null,null,null,null,null,null,null,null,null,null,null,null,null,null,null,null,null,null,null,null,null,null,null,null,null,null,null,null,null,null,null,null,null,null,null,null,null,null,null,null,null,null,null,null,"",null,null,null,null,null,null,null,"VERIFIQUE FECHAS",null,null,null,null,null,null,null,null,null,"VERIFIQUE COLUMNA D"]
["","",null,"",{"$f":"IFERROR(VLOOKUP(D111,'CODIGO REGIONALES'!$J$2:$L$33,3,0),\"\")","v":""},"",{"$f":"IF(ISNA(VLOOKUP(F111,Divipolas!$A$2:$B$1123,2,FALSE)),\"\",VLOOKUP(F111,Divipolas!$A$2:$B$1123,2,FALSE))","v":""},"",{"$f":"IF(ISNA(VLOOKUP((CONCATENATE(F111,H111)),Divipolas!$F$2:$G$1123,2,FALSE)),\"\",VLOOKUP((CONCATENATE(F111,H111)),Divipolas!$F$2:$G$1123,2,FALSE))","v":""},"","","","","","","","",{"$f":"IF(ISNA(VLOOKUP(Q111,Divipolas!$A$2:$B$1123,2,FALSE)),\"\",VLOOKUP(Q111,Divipolas!$A$2:$B$1123,2,FALSE))","v":""},"",{"$f":"IF(ISNA(VLOOKUP((CONCATENATE(Q111,S111)),Divipolas!$F$2:$G$1123,2,FALSE)),\"\",VLOOKUP((CONCATENATE(Q111,S111)),Divipolas!$F$2:$G$1123,2,FALSE))","v":""},"","","","","","",{"$f":"IF(ISNA(VLOOKUP(Z111,'CODIGO PAIS'!$A$2:$B$231,2,FALSE)),\"\",VLOOKUP(Z111,'CODIGO PAIS'!$A$2:$B$231,2,FALSE))","v":""},"",{"$f":"IF(ISNA(VLOOKUP(AB111,Divipolas!$A$2:$B$1123,2,FALSE)),\"\",VLOOKUP(AB111,Divipolas!$A$2:$B$1123,2,FALSE))","v":""},"",{"$f":"IF(ISNA(VLOOKUP((CONCATENATE(AB111,AD111)),Divipolas!$F$2:$G$1123,2,FALSE)),\"\",VLOOKUP((CONCATENATE(AB111,AD111)),Divipolas!$F$2:$G$1123,2,FALSE))","v":""},"","","","","",{"$f":"IF(ISNA(VLOOKUP(AJ111,Divipolas!$A$2:$B$1123,2,FALSE)),\"\",VLOOKUP(AJ111,Divipolas!$A$2:$B$1123,2,FALSE))","v":""},"",{"$f":"IF(ISNA(VLOOKUP((CONCATENATE(AJ111,AL111)),Divipolas!$F$2:$G$1123,2,FALSE)),\"\",VLOOKUP((CONCATENATE(AJ111,AL111)),Divipolas!$F$2:$G$1123,2,FALSE))","v":""},"","","","","","","","","","","","","","",null,null,null,null,null,null,null,{"$f":"IF(ISNA(VLOOKUP(BH111,'CODIGO PAIS'!$A$2:$B$231,2,FALSE)),\"\",VLOOKUP(BH111,'CODIGO PAIS'!$A$2:$B$231,2,FALSE))","v":""},null,{"$f":"IF(ISNA(VLOOKUP(BJ111,Divipolas!$A$2:$B$1123,2,FALSE)),\"\",VLOOKUP(BJ111,Divipolas!$A$2:$B$1123,2,FALSE))","v":""},null,{"$f":"IF(ISNA(VLOOKUP((CONCATENATE(BJ111,BL111)),Divipolas!$F$2:$G$1123,2,FALSE)),\"\",VLOOKUP((CONCATENATE(BJ111,BL111)),Divipolas!$F$2:$G$1123,2,FALSE))","v":""},null,"","",null,null,null,null,{"$f":"IF(ISNA(VLOOKUP(BT111,Divipolas!$A$2:$B$1123,2,FALSE)),\"\",VLOOKUP(BT111,Divipolas!$A$2:$B$1123,2,FALSE))","v":""},null,{"$f":"IF(ISNA(VLOOKUP((CONCATENATE(BT111,BV111)),Divipolas!$F$2:$G$1123,2,FALSE)),\"\",VLOOKUP((CONCATENATE(BT111,BV111)),Divipolas!$F$2:$G$1123,2,FALSE))","v":""},null,null,null,null,null,null,null,null,null,null,null,null,null,null,null,null,null,null,null,null,null,null,null,"",null,null,null,null,null,null,null,null,null,null,null,null,null,null,null,null,null,null,null,null,null,null,null,null,null,null,null,null,null,null,null,null,null,null,null,null,null,null,null,null,null,null,null,null,null,null,null,null,null,null,null,null,null,null,null,null,null,null,null,null,null,null,null,null,null,null,null,null,null,null,null,null,null,null,null,null,"",null,null,null,null,null,null,null,"VERIFIQUE FECHAS",null,null,null,null,null,null,null,null,null,"VERIFIQUE COLUMNA D"]
["","",null,"",{"$f":"IFERROR(VLOOKUP(D112,'CODIGO REGIONALES'!$J$2:$L$33,3,0),\"\")","v":""},"",{"$f":"IF(ISNA(VLOOKUP(F112,Divipolas!$A$2:$B$1123,2,FALSE)),\"\",VLOOKUP(F112,Divipolas!$A$2:$B$1123,2,FALSE))","v":""},"",{"$f":"IF(ISNA(VLOOKUP((CONCATENATE(F112,H112)),Divipolas!$F$2:$G$1123,2,FALSE)),\"\",VLOOKUP((CONCATENATE(F112,H112)),Divipolas!$F$2:$G$1123,2,FALSE))","v":""},"","","","","","","","",{"$f":"IF(ISNA(VLOOKUP(Q112,Divipolas!$A$2:$B$1123,2,FALSE)),\"\",VLOOKUP(Q112,Divipolas!$A$2:$B$1123,2,FALSE))","v":""},"",{"$f":"IF(ISNA(VLOOKUP((CONCATENATE(Q112,S112)),Divipolas!$F$2:$G$1123,2,FALSE)),\"\",VLOOKUP((CONCATENATE(Q112,S112)),Divipolas!$F$2:$G$1123,2,FALSE))","v":""},"","","","","","",{"$f":"IF(ISNA(VLOOKUP(Z112,'CODIGO PAIS'!$A$2:$B$231,2,FALSE)),\"\",VLOOKUP(Z112,'CODIGO PAIS'!$A$2:$B$231,2,FALSE))","v":""},"",{"$f":"IF(ISNA(VLOOKUP(AB112,Divipolas!$A$2:$B$1123,2,FALSE)),\"\",VLOOKUP(AB112,Divipolas!$A$2:$B$1123,2,FALSE))","v":""},"",{"$f":"IF(ISNA(VLOOKUP((CONCATENATE(AB112,AD112)),Divipolas!$F$2:$G$1123,2,FALSE)),\"\",VLOOKUP((CONCATENATE(AB112,AD112)),Divipolas!$F$2:$G$1123,2,FALSE))","v":""},"","","","","",{"$f":"IF(ISNA(VLOOKUP(AJ112,Divipolas!$A$2:$B$1123,2,FALSE)),\"\",VLOOKUP(AJ112,Divipolas!$A$2:$B$1123,2,FALSE))","v":""},"",{"$f":"IF(ISNA(VLOOKUP((CONCATENATE(AJ112,AL112)),Divipolas!$F$2:$G$1123,2,FALSE)),\"\",VLOOKUP((CONCATENATE(AJ112,AL112)),Divipolas!$F$2:$G$1123,2,FALSE))","v":""},"","","","","","","","","","","","","","",null,null,null,null,null,null,null,{"$f":"IF(ISNA(VLOOKUP(BH112,'CODIGO PAIS'!$A$2:$B$231,2,FALSE)),\"\",VLOOKUP(BH112,'CODIGO PAIS'!$A$2:$B$231,2,FALSE))","v":""},null,{"$f":"IF(ISNA(VLOOKUP(BJ112,Divipolas!$A$2:$B$1123,2,FALSE)),\"\",VLOOKUP(BJ112,Divipolas!$A$2:$B$1123,2,FALSE))","v":""},null,{"$f":"IF(ISNA(VLOOKUP((CONCATENATE(BJ112,BL112)),Divipolas!$F$2:$G$1123,2,FALSE)),\"\",VLOOKUP((CONCATENATE(BJ112,BL112)),Divipolas!$F$2:$G$1123,2,FALSE))","v":""},null,"","",null,null,null,null,{"$f":"IF(ISNA(VLOOKUP(BT112,Divipolas!$A$2:$B$1123,2,FALSE)),\"\",VLOOKUP(BT112,Divipolas!$A$2:$B$1123,2,FALSE))","v":""},null,{"$f":"IF(ISNA(VLOOKUP((CONCATENATE(BT112,BV112)),Divipolas!$F$2:$G$1123,2,FALSE)),\"\",VLOOKUP((CONCATENATE(BT112,BV112)),Divipolas!$F$2:$G$1123,2,FALSE))","v":""},null,null,null,null,null,null,null,null,null,null,null,null,null,null,null,null,null,null,null,null,null,null,null,"",null,null,null,null,null,null,null,null,null,null,null,null,null,null,null,null,null,null,null,null,null,null,null,null,null,null,null,null,null,null,null,null,null,null,null,null,null,null,null,null,null,null,null,null,null,null,null,null,null,null,null,null,null,null,null,null,null,null,null,null,null,null,null,null,null,null,null,null,null,null,null,null,null,null,null,null,"",null,null,null,null,null,null,null,"VERIFIQUE FECHAS",null,null,null,null,null,null,null,null,null,"VERIFIQUE COLUMNA D"]
["","",null,"",{"$f":"IFERROR(VLOOKUP(D113,'CODIGO REGIONALES'!$J$2:$L$33,3,0),\"\")","v":""},"",{"$f":"IF(ISNA(VLOOKUP(F113,Divipolas!$A$2:$B$1123,2,FALSE)),\"\",VLOOKUP(F113,Divipolas!$A$2:$B$1123,2,FALSE))","v":""},"",{"$f":"IF(ISNA(VLOOKUP((CONCATENATE(F113,H113)),Divipolas!$F$2:$G$1123,2,FALSE)),\"\",VLOOKUP((CONCATENATE(F113,H113)),Divipolas!$F$2:$G$1123,2,FALSE))","v":""},"","","","","","","","",{"$f":"IF(ISNA(VLOOKUP(Q113,Divipolas!$A$2:$B$1123,2,FALSE)),\"\",VLOOKUP(Q113,Divipolas!$A$2:$B$1123,2,FALSE))","v":""},"",{"$f":"IF(ISNA(VLOOKUP((CONCATENATE(Q113,S113)),Divipolas!$F$2:$G$1123,2,FALSE)),\"\",VLOOKUP((CONCATENATE(Q113,S113)),Divipolas!$F$2:$G$1123,2,FALSE))","v":""},"","","","","","",{"$f":"IF(ISNA(VLOOKUP(Z113,'CODIGO PAIS'!$A$2:$B$231,2,FALSE)),\"\",VLOOKUP(Z113,'CODIGO PAIS'!$A$2:$B$231,2,FALSE))","v":""},"",{"$f":"IF(ISNA(VLOOKUP(AB113,Divipolas!$A$2:$B$1123,2,FALSE)),\"\",VLOOKUP(AB113,Divipolas!$A$2:$B$1123,2,FALSE))","v":""},"",{"$f":"IF(ISNA(VLOOKUP((CONCATENATE(AB113,AD113)),Divipolas!$F$2:$G$1123,2,FALSE)),\"\",VLOOKUP((CONCATENATE(AB113,AD113)),Divipolas!$F$2:$G$1123,2,FALSE))","v":""},"","","","","",{"$f":"IF(ISNA(VLOOKUP(AJ113,Divipolas!$A$2:$B$1123,2,FALSE)),\"\",VLOOKUP(AJ113,Divipolas!$A$2:$B$1123,2,FALSE))","v":""},"",{"$f":"IF(ISNA(VLOOKUP((CONCATENATE(AJ113,AL113)),Divipolas!$F$2:$G$1123,2,FALSE)),\"\",VLOOKUP((CONCATENATE(AJ113,AL113)),Divipolas!$F$2:$G$1123,2,FALSE))","v":""},"","","","","","","","","","","","","","",null,null,null,null,null,null,null,{"$f":"IF(ISNA(VLOOKUP(BH113,'CODIGO PAIS'!$A$2:$B$231,2,FALSE)),\"\",VLOOKUP(BH113,'CODIGO PAIS'!$A$2:$B$231,2,FALSE))","v":""},null,{"$f":"IF(ISNA(VLOOKUP(BJ113,Divipolas!$A$2:$B$1123,2,FALSE)),\"\",VLOOKUP(BJ113,Divipolas!$A$2:$B$1123,2,FALSE))","v":""},null,{"$f":"IF(ISNA(VLOOKUP((CONCATENATE(BJ113,BL113)),Divipolas!$F$2:$G$1123,2,FALSE)),\"\",VLOOKUP((CONCATENATE(BJ113,BL113)),Divipolas!$F$2:$G$1123,2,FALSE))","v":""},null,"","",null,null,null,null,{"$f":"IF(ISNA(VLOOKUP(BT113,Divipolas!$A$2:$B$1123,2,FALSE)),\"\",VLOOKUP(BT113,Divipolas!$A$2:$B$1123,2,FALSE))","v":""},null,{"$f":"IF(ISNA(VLOOKUP((CONCATENATE(BT113,BV113)),Divipolas!$F$2:$G$1123,2,FALSE)),\"\",VLOOKUP((CONCATENATE(BT113,BV113)),Divipolas!$F$2:$G$1123,2,FALSE))","v":""},null,null,null,null,null,null,null,null,null,null,null,null,null,null,null,null,null,null,null,null,null,null,null,"",null,null,null,null,null,null,null,null,null,null,null,null,null,null,null,null,null,null,null,null,null,null,null,null,null,null,null,null,null,null,null,null,null,null,null,null,null,null,null,null,null,null,null,null,null,null,null,null,null,null,null,null,null,null,null,null,null,null,null,null,null,null,null,null,null,null,null,null,null,null,null,null,null,null,null,null,"",null,null,null,null,null,null,null,"VERIFIQUE FECHAS",null,null,null,null,null,null,null,null,null,"VERIFIQUE COLUMNA D"]
["","",null,"",{"$f":"IFERROR(VLOOKUP(D114,'CODIGO REGIONALES'!$J$2:$L$33,3,0),\"\")","v":""},"",{"$f":"IF(ISNA(VLOOKUP(F114,Divipolas!$A$2:$B$1123,2,FALSE)),\"\",VLOOKUP(F114,Divipolas!$A$2:$B$1123,2,FALSE))","v":""},"",{"$f":"IF(ISNA(VLOOKUP((CONCATENATE(F114,H114)),Divipolas!$F$2:$G$1123,2,FALSE)),\"\",VLOOKUP((CONCATENATE(F114,H114)),Divipolas!$F$2:$G$1123,2,FALSE))","v":""},"","","","","","","","",{"$f":"IF(ISNA(VLOOKUP(Q114,Divipolas!$A$2:$B$1123,2,FALSE)),\"\",VLOOKUP(Q114,Divipolas!$A$2:$B$1123,2,FALSE))","v":""},"",{"$f":"IF(ISNA(VLOOKUP((CONCATENATE(Q114,S114)),Divipolas!$F$2:$G$1123,2,FALSE)),\"\",VLOOKUP((CONCATENATE(Q114,S114)),Divipolas!$F$2:$G$1123,2,FALSE))","v":""},"","","","","","",{"$f":"IF(ISNA(VLOOKUP(Z114,'CODIGO PAIS'!$A$2:$B$231,2,FALSE)),\"\",VLOOKUP(Z114,'CODIGO PAIS'!$A$2:$B$231,2,FALSE))","v":""},"",{"$f":"IF(ISNA(VLOOKUP(AB114,Divipolas!$A$2:$B$1123,2,FALSE)),\"\",VLOOKUP(AB114,Divipolas!$A$2:$B$1123,2,FALSE))","v":""},"",{"$f":"IF(ISNA(VLOOKUP((CONCATENATE(AB114,AD114)),Divipolas!$F$2:$G$1123,2,FALSE)),\"\",VLOOKUP((CONCATENATE(AB114,AD114)),Divipolas!$F$2:$G$1123,2,FALSE))","v":""},"","","","","",{"$f":"IF(ISNA(VLOOKUP(AJ114,Divipolas!$A$2:$B$1123,2,FALSE)),\"\",VLOOKUP(AJ114,Divipolas!$A$2:$B$1123,2,FALSE))","v":""},"",{"$f":"IF(ISNA(VLOOKUP((CONCATENATE(AJ114,AL114)),Divipolas!$F$2:$G$1123,2,FALSE)),\"\",VLOOKUP((CONCATENATE(AJ114,AL114)),Divipolas!$F$2:$G$1123,2,FALSE))","v":""},"","","","","","","","","","","","","","",null,null,null,null,null,null,null,{"$f":"IF(ISNA(VLOOKUP(BH114,'CODIGO PAIS'!$A$2:$B$231,2,FALSE)),\"\",VLOOKUP(BH114,'CODIGO PAIS'!$A$2:$B$231,2,FALSE))","v":""},null,{"$f":"IF(ISNA(VLOOKUP(BJ114,Divipolas!$A$2:$B$1123,2,FALSE)),\"\",VLOOKUP(BJ114,Divipolas!$A$2:$B$1123,2,FALSE))","v":""},null,{"$f":"IF(ISNA(VLOOKUP((CONCATENATE(BJ114,BL114)),Divipolas!$F$2:$G$1123,2,FALSE)),\"\",VLOOKUP((CONCATENATE(BJ114,BL114)),Divipolas!$F$2:$G$1123,2,FALSE))","v":""},null,"","",null,null,null,null,{"$f":"IF(ISNA(VLOOKUP(BT114,Divipolas!$A$2:$B$1123,2,FALSE)),\"\",VLOOKUP(BT114,Divipolas!$A$2:$B$1123,2,FALSE))","v":""},null,{"$f":"IF(ISNA(VLOOKUP((CONCATENATE(BT114,BV114)),Divipolas!$F$2:$G$1123,2,FALSE)),\"\",VLOOKUP((CONCATENATE(BT114,BV114)),Divipolas!$F$2:$G$1123,2,FALSE))","v":""},null,null,null,null,null,null,null,null,null,null,null,null,null,null,null,null,null,null,null,null,null,null,null,"",null,null,null,null,null,null,null,null,null,null,null,null,null,null,null,null,null,null,null,null,null,null,null,null,null,null,null,null,null,null,null,null,null,null,null,null,null,null,null,null,null,null,null,null,null,null,null,null,null,null,null,null,null,null,null,null,null,null,null,null,null,null,null,null,null,null,null,null,null,null,null,null,null,null,null,null,"",null,null,null,null,null,null,null,"VERIFIQUE FECHAS",null,null,null,null,null,null,null,null,null,"VERIFIQUE COLUMNA D"]
["","",null,"",{"$f":"IFERROR(VLOOKUP(D115,'CODIGO REGIONALES'!$J$2:$L$33,3,0),\"\")","v":""},"",{"$f":"IF(ISNA(VLOOKUP(F115,Divipolas!$A$2:$B$1123,2,FALSE)),\"\",VLOOKUP(F115,Divipolas!$A$2:$B$1123,2,FALSE))","v":""},"",{"$f":"IF(ISNA(VLOOKUP((CONCATENATE(F115,H115)),Divipolas!$F$2:$G$1123,2,FALSE)),\"\",VLOOKUP((CONCATENATE(F115,H115)),Divipolas!$F$2:$G$1123,2,FALSE))","v":""},"","","","","","","","",{"$f":"IF(ISNA(VLOOKUP(Q115,Divipolas!$A$2:$B$1123,2,FALSE)),\"\",VLOOKUP(Q115,Divipolas!$A$2:$B$1123,2,FALSE))","v":""},"",{"$f":"IF(ISNA(VLOOKUP((CONCATENATE(Q115,S115)),Divipolas!$F$2:$G$1123,2,FALSE)),\"\",VLOOKUP((CONCATENATE(Q115,S115)),Divipolas!$F$2:$G$1123,2,FALSE))","v":""},"","","","","","",{"$f":"IF(ISNA(VLOOKUP(Z115,'CODIGO PAIS'!$A$2:$B$231,2,FALSE)),\"\",VLOOKUP(Z115,'CODIGO PAIS'!$A$2:$B$231,2,FALSE))","v":""},"",{"$f":"IF(ISNA(VLOOKUP(AB115,Divipolas!$A$2:$B$1123,2,FALSE)),\"\",VLOOKUP(AB115,Divipolas!$A$2:$B$1123,2,FALSE))","v":""},"",{"$f":"IF(ISNA(VLOOKUP((CONCATENATE(AB115,AD115)),Divipolas!$F$2:$G$1123,2,FALSE)),\"\",VLOOKUP((CONCATENATE(AB115,AD115)),Divipolas!$F$2:$G$1123,2,FALSE))","v":""},"","","","","",{"$f":"IF(ISNA(VLOOKUP(AJ115,Divipolas!$A$2:$B$1123,2,FALSE)),\"\",VLOOKUP(AJ115,Divipolas!$A$2:$B$1123,2,FALSE))","v":""},"",{"$f":"IF(ISNA(VLOOKUP((CONCATENATE(AJ115,AL115)),Divipolas!$F$2:$G$1123,2,FALSE)),\"\",VLOOKUP((CONCATENATE(AJ115,AL115)),Divipolas!$F$2:$G$1123,2,FALSE))","v":""},"","","","","","","","","","","","","","",null,null,null,null,null,null,null,{"$f":"IF(ISNA(VLOOKUP(BH115,'CODIGO PAIS'!$A$2:$B$231,2,FALSE)),\"\",VLOOKUP(BH115,'CODIGO PAIS'!$A$2:$B$231,2,FALSE))","v":""},null,{"$f":"IF(ISNA(VLOOKUP(BJ115,Divipolas!$A$2:$B$1123,2,FALSE)),\"\",VLOOKUP(BJ115,Divipolas!$A$2:$B$1123,2,FALSE))","v":""},null,{"$f":"IF(ISNA(VLOOKUP((CONCATENATE(BJ115,BL115)),Divipolas!$F$2:$G$1123,2,FALSE)),\"\",VLOOKUP((CONCATENATE(BJ115,BL115)),Divipolas!$F$2:$G$1123,2,FALSE))","v":""},null,"","",null,null,null,null,{"$f":"IF(ISNA(VLOOKUP(BT115,Divipolas!$A$2:$B$1123,2,FALSE)),\"\",VLOOKUP(BT115,Divipolas!$A$2:$B$1123,2,FALSE))","v":""},null,{"$f":"IF(ISNA(VLOOKUP((CONCATENATE(BT115,BV115)),Divipolas!$F$2:$G$1123,2,FALSE)),\"\",VLOOKUP((CONCATENATE(BT115,BV115)),Divipolas!$F$2:$G$1123,2,FALSE))","v":""},null,null,null,null,null,null,null,null,null,null,null,null,null,null,null,null,null,null,null,null,null,null,null,"",null,null,null,null,null,null,null,null,null,null,null,null,null,null,null,null,null,null,null,null,null,null,null,null,null,null,null,null,null,null,null,null,null,null,null,null,null,null,null,null,null,null,null,null,null,null,null,null,null,null,null,null,null,null,null,null,null,null,null,null,null,null,null,null,null,null,null,null,null,null,null,null,null,null,null,null,"",null,null,null,null,null,null,null,"VERIFIQUE FECHAS",null,null,null,null,null,null,null,null,null,"VERIFIQUE COLUMNA D"]
["","",null,"",{"$f":"IFERROR(VLOOKUP(D116,'CODIGO REGIONALES'!$J$2:$L$33,3,0),\"\")","v":""},"",{"$f":"IF(ISNA(VLOOKUP(F116,Divipolas!$A$2:$B$1123,2,FALSE)),\"\",VLOOKUP(F116,Divipolas!$A$2:$B$1123,2,FALSE))","v":""},"",{"$f":"IF(ISNA(VLOOKUP((CONCATENATE(F116,H116)),Divipolas!$F$2:$G$1123,2,FALSE)),\"\",VLOOKUP((CONCATENATE(F116,H116)),Divipolas!$F$2:$G$1123,2,FALSE))","v":""},"","","","","","","","",{"$f":"IF(ISNA(VLOOKUP(Q116,Divipolas!$A$2:$B$1123,2,FALSE)),\"\",VLOOKUP(Q116,Divipolas!$A$2:$B$1123,2,FALSE))","v":""},"",{"$f":"IF(ISNA(VLOOKUP((CONCATENATE(Q116,S116)),Divipolas!$F$2:$G$1123,2,FALSE)),\"\",VLOOKUP((CONCATENATE(Q116,S116)),Divipolas!$F$2:$G$1123,2,FALSE))","v":""},"","","","","","",{"$f":"IF(ISNA(VLOOKUP(Z116,'CODIGO PAIS'!$A$2:$B$231,2,FALSE)),\"\",VLOOKUP(Z116,'CODIGO PAIS'!$A$2:$B$231,2,FALSE))","v":""},"",{"$f":"IF(ISNA(VLOOKUP(AB116,Divipolas!$A$2:$B$1123,2,FALSE)),\"\",VLOOKUP(AB116,Divipolas!$A$2:$B$1123,2,FALSE))","v":""},"",{"$f":"IF(ISNA(VLOOKUP((CONCATENATE(AB116,AD116)),Divipolas!$F$2:$G$1123,2,FALSE)),\"\",VLOOKUP((CONCATENATE(AB116,AD116)),Divipolas!$F$2:$G$1123,2,FALSE))","v":""},"","","","","",{"$f":"IF(ISNA(VLOOKUP(AJ116,Divipolas!$A$2:$B$1123,2,FALSE)),\"\",VLOOKUP(AJ116,Divipolas!$A$2:$B$1123,2,FALSE))","v":""},"",{"$f":"IF(ISNA(VLOOKUP((CONCATENATE(AJ116,AL116)),Divipolas!$F$2:$G$1123,2,FALSE)),\"\",VLOOKUP((CONCATENATE(AJ116,AL116)),Divipolas!$F$2:$G$1123,2,FALSE))","v":""},"","","","","","","","","","","","","","",null,null,null,null,null,null,null,{"$f":"IF(ISNA(VLOOKUP(BH116,'CODIGO PAIS'!$A$2:$B$231,2,FALSE)),\"\",VLOOKUP(BH116,'CODIGO PAIS'!$A$2:$B$231,2,FALSE))","v":""},null,{"$f":"IF(ISNA(VLOOKUP(BJ116,Divipolas!$A$2:$B$1123,2,FALSE)),\"\",VLOOKUP(BJ116,Divipolas!$A$2:$B$1123,2,FALSE))","v":""},null,{"$f":"IF(ISNA(VLOOKUP((CONCATENATE(BJ116,BL116)),Divipolas!$F$2:$G$1123,2,FALSE)),\"\",VLOOKUP((CONCATENATE(BJ116,BL116)),Divipolas!$F$2:$G$1123,2,FALSE))","v":""},null,"","",null,null,null,null,{"$f":"IF(ISNA(VLOOKUP(BT116,Divipolas!$A$2:$B$1123,2,FALSE)),\"\",VLOOKUP(BT116,Divipolas!$A$2:$B$1123,2,FALSE))","v":""},null,{"$f":"IF(ISNA(VLOOKUP((CONCATENATE(BT116,BV116)),Divipolas!$F$2:$G$1123,2,FALSE)),\"\",VLOOKUP((CONCATENATE(BT116,BV116)),Divipolas!$F$2:$G$1123,2,FALSE))","v":""},null,null,null,null,null,null,null,null,null,null,null,null,null,null,null,null,null,null,null,null,null,null,null,"",null,null,null,null,null,null,null,null,null,null,null,null,null,null,null,null,null,null,null,null,null,null,null,null,null,null,null,null,null,null,null,null,null,null,null,null,null,null,null,null,null,null,null,null,null,null,null,null,null,null,null,null,null,null,null,null,null,null,null,null,null,null,null,null,null,null,null,null,null,null,null,null,null,null,null,null,"",null,null,null,null,null,null,null,"VERIFIQUE FECHAS",null,null,null,null,null,null,null,null,null,"VERIFIQUE COLUMNA D"]
["","",null,"",{"$f":"IFERROR(VLOOKUP(D117,'CODIGO REGIONALES'!$J$2:$L$33,3,0),\"\")","v":""},"",{"$f":"IF(ISNA(VLOOKUP(F117,Divipolas!$A$2:$B$1123,2,FALSE)),\"\",VLOOKUP(F117,Divipolas!$A$2:$B$1123,2,FALSE))","v":""},"",{"$f":"IF(ISNA(VLOOKUP((CONCATENATE(F117,H117)),Divipolas!$F$2:$G$1123,2,FALSE)),\"\",VLOOKUP((CONCATENATE(F117,H117)),Divipolas!$F$2:$G$1123,2,FALSE))","v":""},"","","","","","","","",{"$f":"IF(ISNA(VLOOKUP(Q117,Divipolas!$A$2:$B$1123,2,FALSE)),\"\",VLOOKUP(Q117,Divipolas!$A$2:$B$1123,2,FALSE))","v":""},"",{"$f":"IF(ISNA(VLOOKUP((CONCATENATE(Q117,S117)),Divipolas!$F$2:$G$1123,2,FALSE)),\"\",VLOOKUP((CONCATENATE(Q117,S117)),Divipolas!$F$2:$G$1123,2,FALSE))","v":""},"","","","","","",{"$f":"IF(ISNA(VLOOKUP(Z117,'CODIGO PAIS'!$A$2:$B$231,2,FALSE)),\"\",VLOOKUP(Z117,'CODIGO PAIS'!$A$2:$B$231,2,FALSE))","v":""},"",{"$f":"IF(ISNA(VLOOKUP(AB117,Divipolas!$A$2:$B$1123,2,FALSE)),\"\",VLOOKUP(AB117,Divipolas!$A$2:$B$1123,2,FALSE))","v":""},"",{"$f":"IF(ISNA(VLOOKUP((CONCATENATE(AB117,AD117)),Divipolas!$F$2:$G$1123,2,FALSE)),\"\",VLOOKUP((CONCATENATE(AB117,AD117)),Divipolas!$F$2:$G$1123,2,FALSE))","v":""},"","","","","",{"$f":"IF(ISNA(VLOOKUP(AJ117,Divipolas!$A$2:$B$1123,2,FALSE)),\"\",VLOOKUP(AJ117,Divipolas!$A$2:$B$1123,2,FALSE))","v":""},"",{"$f":"IF(ISNA(VLOOKUP((CONCATENATE(AJ117,AL117)),Divipolas!$F$2:$G$1123,2,FALSE)),\"\",VLOOKUP((CONCATENATE(AJ117,AL117)),Divipolas!$F$2:$G$1123,2,FALSE))","v":""},"","","","","","","","","","","","","","",null,null,null,null,null,null,null,{"$f":"IF(ISNA(VLOOKUP(BH117,'CODIGO PAIS'!$A$2:$B$231,2,FALSE)),\"\",VLOOKUP(BH117,'CODIGO PAIS'!$A$2:$B$231,2,FALSE))","v":""},null,{"$f":"IF(ISNA(VLOOKUP(BJ117,Divipolas!$A$2:$B$1123,2,FALSE)),\"\",VLOOKUP(BJ117,Divipolas!$A$2:$B$1123,2,FALSE))","v":""},null,{"$f":"IF(ISNA(VLOOKUP((CONCATENATE(BJ117,BL117)),Divipolas!$F$2:$G$1123,2,FALSE)),\"\",VLOOKUP((CONCATENATE(BJ117,BL117)),Divipolas!$F$2:$G$1123,2,FALSE))","v":""},null,"","",null,null,null,null,{"$f":"IF(ISNA(VLOOKUP(BT117,Divipolas!$A$2:$B$1123,2,FALSE)),\"\",VLOOKUP(BT117,Divipolas!$A$2:$B$1123,2,FALSE))","v":""},null,{"$f":"IF(ISNA(VLOOKUP((CONCATENATE(BT117,BV117)),Divipolas!$F$2:$G$1123,2,FALSE)),\"\",VLOOKUP((CONCATENATE(BT117,BV117)),Divipolas!$F$2:$G$1123,2,FALSE))","v":""},null,null,null,null,null,null,null,null,null,null,null,null,null,null,null,null,null,null,null,null,null,null,null,"",null,null,null,null,null,null,null,null,null,null,null,null,null,null,null,null,null,null,null,null,null,null,null,null,null,null,null,null,null,null,null,null,null,null,null,null,null,null,null,null,null,null,null,null,null,null,null,null,null,null,null,null,null,null,null,null,null,null,null,null,null,null,null,null,null,null,null,null,null,null,null,null,null,null,null,null,"",null,null,null,null,null,null,null,"VERIFIQUE FECHAS",null,null,null,null,null,null,null,null,null,"VERIFIQUE COLUMNA D"]
["","",null,"",{"$f":"IFERROR(VLOOKUP(D118,'CODIGO REGIONALES'!$J$2:$L$33,3,0),\"\")","v":""},"",{"$f":"IF(ISNA(VLOOKUP(F118,Divipolas!$A$2:$B$1123,2,FALSE)),\"\",VLOOKUP(F118,Divipolas!$A$2:$B$1123,2,FALSE))","v":""},"",{"$f":"IF(ISNA(VLOOKUP((CONCATENATE(F118,H118)),Divipolas!$F$2:$G$1123,2,FALSE)),\"\",VLOOKUP((CONCATENATE(F118,H118)),Divipolas!$F$2:$G$1123,2,FALSE))","v":""},"","","","","","","","",{"$f":"IF(ISNA(VLOOKUP(Q118,Divipolas!$A$2:$B$1123,2,FALSE)),\"\",VLOOKUP(Q118,Divipolas!$A$2:$B$1123,2,FALSE))","v":""},"",{"$f":"IF(ISNA(VLOOKUP((CONCATENATE(Q118,S118)),Divipolas!$F$2:$G$1123,2,FALSE)),\"\",VLOOKUP((CONCATENATE(Q118,S118)),Divipolas!$F$2:$G$1123,2,FALSE))","v":""},"","","","","","",{"$f":"IF(ISNA(VLOOKUP(Z118,'CODIGO PAIS'!$A$2:$B$231,2,FALSE)),\"\",VLOOKUP(Z118,'CODIGO PAIS'!$A$2:$B$231,2,FALSE))","v":""},"",{"$f":"IF(ISNA(VLOOKUP(AB118,Divipolas!$A$2:$B$1123,2,FALSE)),\"\",VLOOKUP(AB118,Divipolas!$A$2:$B$1123,2,FALSE))","v":""},"",{"$f":"IF(ISNA(VLOOKUP((CONCATENATE(AB118,AD118)),Divipolas!$F$2:$G$1123,2,FALSE)),\"\",VLOOKUP((CONCATENATE(AB118,AD118)),Divipolas!$F$2:$G$1123,2,FALSE))","v":""},"","","","","",{"$f":"IF(ISNA(VLOOKUP(AJ118,Divipolas!$A$2:$B$1123,2,FALSE)),\"\",VLOOKUP(AJ118,Divipolas!$A$2:$B$1123,2,FALSE))","v":""},"",{"$f":"IF(ISNA(VLOOKUP((CONCATENATE(AJ118,AL118)),Divipolas!$F$2:$G$1123,2,FALSE)),\"\",VLOOKUP((CONCATENATE(AJ118,AL118)),Divipolas!$F$2:$G$1123,2,FALSE))","v":""},"","","","","","","","","","","","","","",null,null,null,null,null,null,null,{"$f":"IF(ISNA(VLOOKUP(BH118,'CODIGO PAIS'!$A$2:$B$231,2,FALSE)),\"\",VLOOKUP(BH118,'CODIGO PAIS'!$A$2:$B$231,2,FALSE))","v":""},null,{"$f":"IF(ISNA(VLOOKUP(BJ118,Divipolas!$A$2:$B$1123,2,FALSE)),\"\",VLOOKUP(BJ118,Divipolas!$A$2:$B$1123,2,FALSE))","v":""},null,{"$f":"IF(ISNA(VLOOKUP((CONCATENATE(BJ118,BL118)),Divipolas!$F$2:$G$1123,2,FALSE)),\"\",VLOOKUP((CONCATENATE(BJ118,BL118)),Divipolas!$F$2:$G$1123,2,FALSE))","v":""},null,"","",null,null,null,null,{"$f":"IF(ISNA(VLOOKUP(BT118,Divipolas!$A$2:$B$1123,2,FALSE)),\"\",VLOOKUP(BT118,Divipolas!$A$2:$B$1123,2,FALSE))","v":""},null,{"$f":"IF(ISNA(VLOOKUP((CONCATENATE(BT118,BV118)),Divipolas!$F$2:$G$1123,2,FALSE)),\"\",VLOOKUP((CONCATENATE(BT118,BV118)),Divipolas!$F$2:$G$1123,2,FALSE))","v":""},null,null,null,null,null,null,null,null,null,null,null,null,null,null,null,null,null,null,null,null,null,null,null,"",null,null,null,null,null,null,null,null,null,null,null,null,null,null,null,null,null,null,null,null,null,null,null,null,null,null,null,null,null,null,null,null,null,null,null,null,null,null,null,null,null,null,null,null,null,null,null,null,null,null,null,null,null,null,null,null,null,null,null,null,null,null,null,null,null,null,null,null,null,null,null,null,null,null,null,null,"",null,null,null,null,null,null,null,"VERIFIQUE FECHAS",null,null,null,null,null,null,null,null,null,"VERIFIQUE COLUMNA D"]
["","",null,"",{"$f":"IFERROR(VLOOKUP(D119,'CODIGO REGIONALES'!$J$2:$L$33,3,0),\"\")","v":""},"",{"$f":"IF(ISNA(VLOOKUP(F119,Divipolas!$A$2:$B$1123,2,FALSE)),\"\",VLOOKUP(F119,Divipolas!$A$2:$B$1123,2,FALSE))","v":""},"",{"$f":"IF(ISNA(VLOOKUP((CONCATENATE(F119,H119)),Divipolas!$F$2:$G$1123,2,FALSE)),\"\",VLOOKUP((CONCATENATE(F119,H119)),Divipolas!$F$2:$G$1123,2,FALSE))","v":""},"","","","","","","","",{"$f":"IF(ISNA(VLOOKUP(Q119,Divipolas!$A$2:$B$1123,2,FALSE)),\"\",VLOOKUP(Q119,Divipolas!$A$2:$B$1123,2,FALSE))","v":""},"",{"$f":"IF(ISNA(VLOOKUP((CONCATENATE(Q119,S119)),Divipolas!$F$2:$G$1123,2,FALSE)),\"\",VLOOKUP((CONCATENATE(Q119,S119)),Divipolas!$F$2:$G$1123,2,FALSE))","v":""},"","","","","","",{"$f":"IF(ISNA(VLOOKUP(Z119,'CODIGO PAIS'!$A$2:$B$231,2,FALSE)),\"\",VLOOKUP(Z119,'CODIGO PAIS'!$A$2:$B$231,2,FALSE))","v":""},"",{"$f":"IF(ISNA(VLOOKUP(AB119,Divipolas!$A$2:$B$1123,2,FALSE)),\"\",VLOOKUP(AB119,Divipolas!$A$2:$B$1123,2,FALSE))","v":""},"",{"$f":"IF(ISNA(VLOOKUP((CONCATENATE(AB119,AD119)),Divipolas!$F$2:$G$1123,2,FALSE)),\"\",VLOOKUP((CONCATENATE(AB119,AD119)),Divipolas!$F$2:$G$1123,2,FALSE))","v":""},"","","","","",{"$f":"IF(ISNA(VLOOKUP(AJ119,Divipolas!$A$2:$B$1123,2,FALSE)),\"\",VLOOKUP(AJ119,Divipolas!$A$2:$B$1123,2,FALSE))","v":""},"",{"$f":"IF(ISNA(VLOOKUP((CONCATENATE(AJ119,AL119)),Divipolas!$F$2:$G$1123,2,FALSE)),\"\",VLOOKUP((CONCATENATE(AJ119,AL119)),Divipolas!$F$2:$G$1123,2,FALSE))","v":""},"","","","","","","","","","","","","","",null,null,null,null,null,null,null,{"$f":"IF(ISNA(VLOOKUP(BH119,'CODIGO PAIS'!$A$2:$B$231,2,FALSE)),\"\",VLOOKUP(BH119,'CODIGO PAIS'!$A$2:$B$231,2,FALSE))","v":""},null,{"$f":"IF(ISNA(VLOOKUP(BJ119,Divipolas!$A$2:$B$1123,2,FALSE)),\"\",VLOOKUP(BJ119,Divipolas!$A$2:$B$1123,2,FALSE))","v":""},null,{"$f":"IF(ISNA(VLOOKUP((CONCATENATE(BJ119,BL119)),Divipolas!$F$2:$G$1123,2,FALSE)),\"\",VLOOKUP((CONCATENATE(BJ119,BL119)),Divipolas!$F$2:$G$1123,2,FALSE))","v":""},null,"","",null,null,null,null,{"$f":"IF(ISNA(VLOOKUP(BT119,Divipolas!$A$2:$B$1123,2,FALSE)),\"\",VLOOKUP(BT119,Divipolas!$A$2:$B$1123,2,FALSE))","v":""},null,{"$f":"IF(ISNA(VLOOKUP((CONCATENATE(BT119,BV119)),Divipolas!$F$2:$G$1123,2,FALSE)),\"\",VLOOKUP((CONCATENATE(BT119,BV119)),Divipolas!$F$2:$G$1123,2,FALSE))","v":""},null,null,null,null,null,null,null,null,null,null,null,null,null,null,null,null,null,null,null,null,null,null,null,"",null,null,null,null,null,null,null,null,null,null,null,null,null,null,null,null,null,null,null,null,null,null,null,null,null,null,null,null,null,null,null,null,null,null,null,null,null,null,null,null,null,null,null,null,null,null,null,null,null,null,null,null,null,null,null,null,null,null,null,null,null,null,null,null,null,null,null,null,null,null,null,null,null,null,null,null,"",null,null,null,null,null,null,null,"VERIFIQUE FECHAS",null,null,null,null,null,null,null,null,null,"VERIFIQUE COLUMNA D"]
["","",null,"",{"$f":"IFERROR(VLOOKUP(D120,'CODIGO REGIONALES'!$J$2:$L$33,3,0),\"\")","v":""},"",{"$f":"IF(ISNA(VLOOKUP(F120,Divipolas!$A$2:$B$1123,2,FALSE)),\"\",VLOOKUP(F120,Divipolas!$A$2:$B$1123,2,FALSE))","v":""},"",{"$f":"IF(ISNA(VLOOKUP((CONCATENATE(F120,H120)),Divipolas!$F$2:$G$1123,2,FALSE)),\"\",VLOOKUP((CONCATENATE(F120,H120)),Divipolas!$F$2:$G$1123,2,FALSE))","v":""},"",{"$f":"IF(AND($C120<>\"\",K119<>\"\"),K119,\"\")","v":""},"","","","","","",{"$f":"IF(ISNA(VLOOKUP(Q120,Divipolas!$A$2:$B$1123,2,FALSE)),\"\",VLOOKUP(Q120,Divipolas!$A$2:$B$1123,2,FALSE))","v":""},"",{"$f":"IF(ISNA(VLOOKUP((CONCATENATE(Q120,S120)),Divipolas!$F$2:$G$1123,2,FALSE)),\"\",VLOOKUP((CONCATENATE(Q120,S120)),Divipolas!$F$2:$G$1123,2,FALSE))","v":""},"","","","","","",{"$f":"IF(ISNA(VLOOKUP(Z120,'CODIGO PAIS'!$A$2:$B$231,2,FALSE)),\"\",VLOOKUP(Z120,'CODIGO PAIS'!$A$2:$B$231,2,FALSE))","v":""},"",{"$f":"IF(ISNA(VLOOKUP(AB120,Divipolas!$A$2:$B$1123,2,FALSE)),\"\",VLOOKUP(AB120,Divipolas!$A$2:$B$1123,2,FALSE))","v":""},"",{"$f":"IF(ISNA(VLOOKUP((CONCATENATE(AB120,AD120)),Divipolas!$F$2:$G$1123,2,FALSE)),\"\",VLOOKUP((CONCATENATE(AB120,AD120)),Divipolas!$F$2:$G$1123,2,FALSE))","v":""},"","","","","",{"$f":"IF(ISNA(VLOOKUP(AJ120,Divipolas!$A$2:$B$1123,2,FALSE)),\"\",VLOOKUP(AJ120,Divipolas!$A$2:$B$1123,2,FALSE))","v":""},"",{"$f":"IF(ISNA(VLOOKUP((CONCATENATE(AJ120,AL120)),Divipolas!$F$2:$G$1123,2,FALSE)),\"\",VLOOKUP((CONCATENATE(AJ120,AL120)),Divipolas!$F$2:$G$1123,2,FALSE))","v":""},"","","","","","","","","","","","","","",null,null,null,null,null,null,null,{"$f":"IF(ISNA(VLOOKUP(BH120,'CODIGO PAIS'!$A$2:$B$231,2,FALSE)),\"\",VLOOKUP(BH120,'CODIGO PAIS'!$A$2:$B$231,2,FALSE))","v":""},null,{"$f":"IF(ISNA(VLOOKUP(BJ120,Divipolas!$A$2:$B$1123,2,FALSE)),\"\",VLOOKUP(BJ120,Divipolas!$A$2:$B$1123,2,FALSE))","v":""},null,{"$f":"IF(ISNA(VLOOKUP((CONCATENATE(BJ120,BL120)),Divipolas!$F$2:$G$1123,2,FALSE)),\"\",VLOOKUP((CONCATENATE(BJ120,BL120)),Divipolas!$F$2:$G$1123,2,FALSE))","v":""},null,"","",null,null,null,null,{"$f":"IF(ISNA(VLOOKUP(BT120,Divipolas!$A$2:$B$1123,2,FALSE)),\"\",VLOOKUP(BT120,Divipolas!$A$2:$B$1123,2,FALSE))","v":""},null,{"$f":"IF(ISNA(VLOOKUP((CONCATENATE(BT120,BV120)),Divipolas!$F$2:$G$1123,2,FALSE)),\"\",VLOOKUP((CONCATENATE(BT120,BV120)),Divipolas!$F$2:$G$1123,2,FALSE))","v":""},null,null,null,null,null,null,null,null,null,null,null,null,null,null,null,null,null,null,null,null,null,null,null,"",null,null,null,null,null,null,null,null,null,null,null,null,null,null,null,null,null,null,null,null,null,null,null,null,null,null,null,null,null,null,null,null,null,null,null,null,null,null,null,null,null,null,null,null,null,null,null,null,null,null,null,null,null,null,null,null,null,null,null,null,null,null,null,null,null,null,null,null,null,null,null,null,null,null,null,null,"",null,null,null,null,null,null,null,"VERIFIQUE FECHAS",null,null,null,null,null,null,null,null,null,"VERIFIQUE COLUMNA D"]
["","",null,"",{"$f":"IFERROR(VLOOKUP(D121,'CODIGO REGIONALES'!$J$2:$L$33,3,0),\"\")","v":""},"",{"$f":"IF(ISNA(VLOOKUP(F121,Divipolas!$A$2:$B$1123,2,FALSE)),\"\",VLOOKUP(F121,Divipolas!$A$2:$B$1123,2,FALSE))","v":""},"",{"$f":"IF(ISNA(VLOOKUP((CONCATENATE(F121,H121)),Divipolas!$F$2:$G$1123,2,FALSE)),\"\",VLOOKUP((CONCATENATE(F121,H121)),Divipolas!$F$2:$G$1123,2,FALSE))","v":""},"","","","","","","","",{"$f":"IF(ISNA(VLOOKUP(Q121,Divipolas!$A$2:$B$1123,2,FALSE)),\"\",VLOOKUP(Q121,Divipolas!$A$2:$B$1123,2,FALSE))","v":""},"",{"$f":"IF(ISNA(VLOOKUP((CONCATENATE(Q121,S121)),Divipolas!$F$2:$G$1123,2,FALSE)),\"\",VLOOKUP((CONCATENATE(Q121,S121)),Divipolas!$F$2:$G$1123,2,FALSE))","v":""},"","","","","","",{"$f":"IF(ISNA(VLOOKUP(Z121,'CODIGO PAIS'!$A$2:$B$231,2,FALSE)),\"\",VLOOKUP(Z121,'CODIGO PAIS'!$A$2:$B$231,2,FALSE))","v":""},"",{"$f":"IF(ISNA(VLOOKUP(AB121,Divipolas!$A$2:$B$1123,2,FALSE)),\"\",VLOOKUP(AB121,Divipolas!$A$2:$B$1123,2,FALSE))","v":""},"",{"$f":"IF(ISNA(VLOOKUP((CONCATENATE(AB121,AD121)),Divipolas!$F$2:$G$1123,2,FALSE)),\"\",VLOOKUP((CONCATENATE(AB121,AD121)),Divipolas!$F$2:$G$1123,2,FALSE))","v":""},"","","","","",{"$f":"IF(ISNA(VLOOKUP(AJ121,Divipolas!$A$2:$B$1123,2,FALSE)),\"\",VLOOKUP(AJ121,Divipolas!$A$2:$B$1123,2,FALSE))","v":""},"",{"$f":"IF(ISNA(VLOOKUP((CONCATENATE(AJ121,AL121)),Divipolas!$F$2:$G$1123,2,FALSE)),\"\",VLOOKUP((CONCATENATE(AJ121,AL121)),Divipolas!$F$2:$G$1123,2,FALSE))","v":""},"","","","","","","","","","","","","","",null,null,null,null,null,null,null,{"$f":"IF(ISNA(VLOOKUP(BH121,'CODIGO PAIS'!$A$2:$B$231,2,FALSE)),\"\",VLOOKUP(BH121,'CODIGO PAIS'!$A$2:$B$231,2,FALSE))","v":""},null,{"$f":"IF(ISNA(VLOOKUP(BJ121,Divipolas!$A$2:$B$1123,2,FALSE)),\"\",VLOOKUP(BJ121,Divipolas!$A$2:$B$1123,2,FALSE))","v":""},null,{"$f":"IF(ISNA(VLOOKUP((CONCATENATE(BJ121,BL121)),Divipolas!$F$2:$G$1123,2,FALSE)),\"\",VLOOKUP((CONCATENATE(BJ121,BL121)),Divipolas!$F$2:$G$1123,2,FALSE))","v":""},null,"","",null,null,null,null,{"$f":"IF(ISNA(VLOOKUP(BT121,Divipolas!$A$2:$B$1123,2,FALSE)),\"\",VLOOKUP(BT121,Divipolas!$A$2:$B$1123,2,FALSE))","v":""},null,{"$f":"IF(ISNA(VLOOKUP((CONCATENATE(BT121,BV121)),Divipolas!$F$2:$G$1123,2,FALSE)),\"\",VLOOKUP((CONCATENATE(BT121,BV121)),Divipolas!$F$2:$G$1123,2,FALSE))","v":""},null,null,null,null,null,null,null,null,null,null,null,null,null,null,null,null,null,null,null,null,null,null,null,"",null,null,null,null,null,null,null,null,null,null,null,null,null,null,null,null,null,null,null,null,null,null,null,null,null,null,null,null,null,null,null,null,null,null,null,null,null,null,null,null,null,null,null,null,null,null,null,null,null,null,null,null,null,null,null,null,null,null,null,null,null,null,null,null,null,null,null,null,null,null,null,null,null,null,null,null,"",null,null,null,null,null,null,null,"VERIFIQUE FECHAS",null,null,null,null,null,null,null,null,null,"VERIFIQUE COLUMNA D"]
["","",null,"",{"$f":"IFERROR(VLOOKUP(D122,'CODIGO REGIONALES'!$J$2:$L$33,3,0),\"\")","v":""},"",{"$f":"IF(ISNA(VLOOKUP(F122,Divipolas!$A$2:$B$1123,2,FALSE)),\"\",VLOOKUP(F122,Divipolas!$A$2:$B$1123,2,FALSE))","v":""},"",{"$f":"IF(ISNA(VLOOKUP((CONCATENATE(F122,H122)),Divipolas!$F$2:$G$1123,2,FALSE)),\"\",VLOOKUP((CONCATENATE(F122,H122)),Divipolas!$F$2:$G$1123,2,FALSE))","v":""},"","","","","","","","",{"$f":"IF(ISNA(VLOOKUP(Q122,Divipolas!$A$2:$B$1123,2,FALSE)),\"\",VLOOKUP(Q122,Divipolas!$A$2:$B$1123,2,FALSE))","v":""},"",{"$f":"IF(ISNA(VLOOKUP((CONCATENATE(Q122,S122)),Divipolas!$F$2:$G$1123,2,FALSE)),\"\",VLOOKUP((CONCATENATE(Q122,S122)),Divipolas!$F$2:$G$1123,2,FALSE))","v":""},"","","","","","",{"$f":"IF(ISNA(VLOOKUP(Z122,'CODIGO PAIS'!$A$2:$B$231,2,FALSE)),\"\",VLOOKUP(Z122,'CODIGO PAIS'!$A$2:$B$231,2,FALSE))","v":""},"",{"$f":"IF(ISNA(VLOOKUP(AB122,Divipolas!$A$2:$B$1123,2,FALSE)),\"\",VLOOKUP(AB122,Divipolas!$A$2:$B$1123,2,FALSE))","v":""},"",{"$f":"IF(ISNA(VLOOKUP((CONCATENATE(AB122,AD122)),Divipolas!$F$2:$G$1123,2,FALSE)),\"\",VLOOKUP((CONCATENATE(AB122,AD122)),Divipolas!$F$2:$G$1123,2,FALSE))","v":""},"","","","","",{"$f":"IF(ISNA(VLOOKUP(AJ122,Divipolas!$A$2:$B$1123,2,FALSE)),\"\",VLOOKUP(AJ122,Divipolas!$A$2:$B$1123,2,FALSE))","v":""},"",{"$f":"IF(ISNA(VLOOKUP((CONCATENATE(AJ122,AL122)),Divipolas!$F$2:$G$1123,2,FALSE)),\"\",VLOOKUP((CONCATENATE(AJ122,AL122)),Divipolas!$F$2:$G$1123,2,FALSE))","v":""},"","","","","","","","","","","","","","",null,null,null,null,null,null,null,{"$f":"IF(ISNA(VLOOKUP(BH122,'CODIGO PAIS'!$A$2:$B$231,2,FALSE)),\"\",VLOOKUP(BH122,'CODIGO PAIS'!$A$2:$B$231,2,FALSE))","v":""},null,{"$f":"IF(ISNA(VLOOKUP(BJ122,Divipolas!$A$2:$B$1123,2,FALSE)),\"\",VLOOKUP(BJ122,Divipolas!$A$2:$B$1123,2,FALSE))","v":""},null,{"$f":"IF(ISNA(VLOOKUP((CONCATENATE(BJ122,BL122)),Divipolas!$F$2:$G$1123,2,FALSE)),\"\",VLOOKUP((CONCATENATE(BJ122,BL122)),Divipolas!$F$2:$G$1123,2,FALSE))","v":""},null,"","",null,null,null,null,{"$f":"IF(ISNA(VLOOKUP(BT122,Divipolas!$A$2:$B$1123,2,FALSE)),\"\",VLOOKUP(BT122,Divipolas!$A$2:$B$1123,2,FALSE))","v":""},null,{"$f":"IF(ISNA(VLOOKUP((CONCATENATE(BT122,BV122)),Divipolas!$F$2:$G$1123,2,FALSE)),\"\",VLOOKUP((CONCATENATE(BT122,BV122)),Divipolas!$F$2:$G$1123,2,FALSE))","v":""},null,null,null,null,null,null,null,null,null,null,null,null,null,null,null,null,null,null,null,null,null,null,null,"",null,null,null,null,null,null,null,null,null,null,null,null,null,null,null,null,null,null,null,null,null,null,null,null,null,null,null,null,null,null,null,null,null,null,null,null,null,null,null,null,null,null,null,null,null,null,null,null,null,null,null,null,null,null,null,null,null,null,null,null,null,null,null,null,null,null,null,null,null,null,null,null,null,null,null,null,"",null,null,null,null,null,null,null,"VERIFIQUE FECHAS",null,null,null,null,null,null,null,null,null,"VERIFIQUE COLUMNA D"]
["","",null,"",{"$f":"IFERROR(VLOOKUP(D123,'CODIGO REGIONALES'!$J$2:$L$33,3,0),\"\")","v":""},"",{"$f":"IF(ISNA(VLOOKUP(F123,Divipolas!$A$2:$B$1123,2,FALSE)),\"\",VLOOKUP(F123,Divipolas!$A$2:$B$1123,2,FALSE))","v":""},"",{"$f":"IF(ISNA(VLOOKUP((CONCATENATE(F123,H123)),Divipolas!$F$2:$G$1123,2,FALSE)),\"\",VLOOKUP((CONCATENATE(F123,H123)),Divipolas!$F$2:$G$1123,2,FALSE))","v":""},"","","","","","","","",{"$f":"IF(ISNA(VLOOKUP(Q123,Divipolas!$A$2:$B$1123,2,FALSE)),\"\",VLOOKUP(Q123,Divipolas!$A$2:$B$1123,2,FALSE))","v":""},"",{"$f":"IF(ISNA(VLOOKUP((CONCATENATE(Q123,S123)),Divipolas!$F$2:$G$1123,2,FALSE)),\"\",VLOOKUP((CONCATENATE(Q123,S123)),Divipolas!$F$2:$G$1123,2,FALSE))","v":""},"","","","","","",{"$f":"IF(ISNA(VLOOKUP(Z123,'CODIGO PAIS'!$A$2:$B$231,2,FALSE)),\"\",VLOOKUP(Z123,'CODIGO PAIS'!$A$2:$B$231,2,FALSE))","v":""},"",{"$f":"IF(ISNA(VLOOKUP(AB123,Divipolas!$A$2:$B$1123,2,FALSE)),\"\",VLOOKUP(AB123,Divipolas!$A$2:$B$1123,2,FALSE))","v":""},"",{"$f":"IF(ISNA(VLOOKUP((CONCATENATE(AB123,AD123)),Divipolas!$F$2:$G$1123,2,FALSE)),\"\",VLOOKUP((CONCATENATE(AB123,AD123)),Divipolas!$F$2:$G$1123,2,FALSE))","v":""},"","","","","",{"$f":"IF(ISNA(VLOOKUP(AJ123,Divipolas!$A$2:$B$1123,2,FALSE)),\"\",VLOOKUP(AJ123,Divipolas!$A$2:$B$1123,2,FALSE))","v":""},"",{"$f":"IF(ISNA(VLOOKUP((CONCATENATE(AJ123,AL123)),Divipolas!$F$2:$G$1123,2,FALSE)),\"\",VLOOKUP((CONCATENATE(AJ123,AL123)),Divipolas!$F$2:$G$1123,2,FALSE))","v":""},"","","","","","","","","","","","","","",null,null,null,null,null,null,null,{"$f":"IF(ISNA(VLOOKUP(BH123,'CODIGO PAIS'!$A$2:$B$231,2,FALSE)),\"\",VLOOKUP(BH123,'CODIGO PAIS'!$A$2:$B$231,2,FALSE))","v":""},null,{"$f":"IF(ISNA(VLOOKUP(BJ123,Divipolas!$A$2:$B$1123,2,FALSE)),\"\",VLOOKUP(BJ123,Divipolas!$A$2:$B$1123,2,FALSE))","v":""},null,{"$f":"IF(ISNA(VLOOKUP((CONCATENATE(BJ123,BL123)),Divipolas!$F$2:$G$1123,2,FALSE)),\"\",VLOOKUP((CONCATENATE(BJ123,BL123)),Divipolas!$F$2:$G$1123,2,FALSE))","v":""},null,"","",null,null,null,null,{"$f":"IF(ISNA(VLOOKUP(BT123,Divipolas!$A$2:$B$1123,2,FALSE)),\"\",VLOOKUP(BT123,Divipolas!$A$2:$B$1123,2,FALSE))","v":""},null,{"$f":"IF(ISNA(VLOOKUP((CONCATENATE(BT123,BV123)),Divipolas!$F$2:$G$1123,2,FALSE)),\"\",VLOOKUP((CONCATENATE(BT123,BV123)),Divipolas!$F$2:$G$1123,2,FALSE))","v":""},null,null,null,null,null,null,null,null,null,null,null,null,null,null,null,null,null,null,null,null,null,null,null,"",null,null,null,null,null,null,null,null,null,null,null,null,null,null,null,null,null,null,null,null,null,null,null,null,null,null,null,null,null,null,null,null,null,null,null,null,null,null,null,null,null,null,null,null,null,null,null,null,null,null,null,null,null,null,null,null,null,null,null,null,null,null,null,null,null,null,null,null,null,null,null,null,null,null,null,null,"",null,null,null,null,null,null,null,"VERIFIQUE FECHAS",null,null,null,null,null,null,null,null,null,"VERIFIQUE COLUMNA D"]
["","",null,"",{"$f":"IFERROR(VLOOKUP(D124,'CODIGO REGIONALES'!$J$2:$L$33,3,0),\"\")","v":""},"",{"$f":"IF(ISNA(VLOOKUP(F124,Divipolas!$A$2:$B$1123,2,FALSE)),\"\",VLOOKUP(F124,Divipolas!$A$2:$B$1123,2,FALSE))","v":""},"",{"$f":"IF(ISNA(VLOOKUP((CONCATENATE(F124,H124)),Divipolas!$F$2:$G$1123,2,FALSE)),\"\",VLOOKUP((CONCATENATE(F124,H124)),Divipolas!$F$2:$G$1123,2,FALSE))","v":""},"","","","","","","","",{"$f":"IF(ISNA(VLOOKUP(Q124,Divipolas!$A$2:$B$1123,2,FALSE)),\"\",VLOOKUP(Q124,Divipolas!$A$2:$B$1123,2,FALSE))","v":""},"",{"$f":"IF(ISNA(VLOOKUP((CONCATENATE(Q124,S124)),Divipolas!$F$2:$G$1123,2,FALSE)),\"\",VLOOKUP((CONCATENATE(Q124,S124)),Divipolas!$F$2:$G$1123,2,FALSE))","v":""},"","","","","","",{"$f":"IF(ISNA(VLOOKUP(Z124,'CODIGO PAIS'!$A$2:$B$231,2,FALSE)),\"\",VLOOKUP(Z124,'CODIGO PAIS'!$A$2:$B$231,2,FALSE))","v":""},"",{"$f":"IF(ISNA(VLOOKUP(AB124,Divipolas!$A$2:$B$1123,2,FALSE)),\"\",VLOOKUP(AB124,Divipolas!$A$2:$B$1123,2,FALSE))","v":""},"",{"$f":"IF(ISNA(VLOOKUP((CONCATENATE(AB124,AD124)),Divipolas!$F$2:$G$1123,2,FALSE)),\"\",VLOOKUP((CONCATENATE(AB124,AD124)),Divipolas!$F$2:$G$1123,2,FALSE))","v":""},"","","","","",{"$f":"IF(ISNA(VLOOKUP(AJ124,Divipolas!$A$2:$B$1123,2,FALSE)),\"\",VLOOKUP(AJ124,Divipolas!$A$2:$B$1123,2,FALSE))","v":""},"",{"$f":"IF(ISNA(VLOOKUP((CONCATENATE(AJ124,AL124)),Divipolas!$F$2:$G$1123,2,FALSE)),\"\",VLOOKUP((CONCATENATE(AJ124,AL124)),Divipolas!$F$2:$G$1123,2,FALSE))","v":""},"","","","","","","","","","","","","","",null,null,null,null,null,null,null,{"$f":"IF(ISNA(VLOOKUP(BH124,'CODIGO PAIS'!$A$2:$B$231,2,FALSE)),\"\",VLOOKUP(BH124,'CODIGO PAIS'!$A$2:$B$231,2,FALSE))","v":""},null,{"$f":"IF(ISNA(VLOOKUP(BJ124,Divipolas!$A$2:$B$1123,2,FALSE)),\"\",VLOOKUP(BJ124,Divipolas!$A$2:$B$1123,2,FALSE))","v":""},null,{"$f":"IF(ISNA(VLOOKUP((CONCATENATE(BJ124,BL124)),Divipolas!$F$2:$G$1123,2,FALSE)),\"\",VLOOKUP((CONCATENATE(BJ124,BL124)),Divipolas!$F$2:$G$1123,2,FALSE))","v":""},null,"","",null,null,null,null,{"$f":"IF(ISNA(VLOOKUP(BT124,Divipolas!$A$2:$B$1123,2,FALSE)),\"\",VLOOKUP(BT124,Divipolas!$A$2:$B$1123,2,FALSE))","v":""},null,{"$f":"IF(ISNA(VLOOKUP((CONCATENATE(BT124,BV124)),Divipolas!$F$2:$G$1123,2,FALSE)),\"\",VLOOKUP((CONCATENATE(BT124,BV124)),Divipolas!$F$2:$G$1123,2,FALSE))","v":""},null,null,null,null,null,null,null,null,null,null,null,null,null,null,null,null,null,null,null,null,null,null,null,"",null,null,null,null,null,null,null,null,null,null,null,null,null,null,null,null,null,null,null,null,null,null,null,null,null,null,null,null,null,null,null,null,null,null,null,null,null,null,null,null,null,null,null,null,null,null,null,null,null,null,null,null,null,null,null,null,null,null,null,null,null,null,null,null,null,null,null,null,null,null,null,null,null,null,null,null,"",null,null,null,null,null,null,null,"VERIFIQUE FECHAS",null,null,null,null,null,null,null,null,null,"VERIFIQUE COLUMNA D"]
["","",null,"",{"$f":"IFERROR(VLOOKUP(D125,'CODIGO REGIONALES'!$J$2:$L$33,3,0),\"\")","v":""},"",{"$f":"IF(ISNA(VLOOKUP(F125,Divipolas!$A$2:$B$1123,2,FALSE)),\"\",VLOOKUP(F125,Divipolas!$A$2:$B$1123,2,FALSE))","v":""},"",{"$f":"IF(ISNA(VLOOKUP((CONCATENATE(F125,H125)),Divipolas!$F$2:$G$1123,2,FALSE)),\"\",VLOOKUP((CONCATENATE(F125,H125)),Divipolas!$F$2:$G$1123,2,FALSE))","v":""},"","","","","","","","",{"$f":"IF(ISNA(VLOOKUP(Q125,Divipolas!$A$2:$B$1123,2,FALSE)),\"\",VLOOKUP(Q125,Divipolas!$A$2:$B$1123,2,FALSE))","v":""},"",{"$f":"IF(ISNA(VLOOKUP((CONCATENATE(Q125,S125)),Divipolas!$F$2:$G$1123,2,FALSE)),\"\",VLOOKUP((CONCATENATE(Q125,S125)),Divipolas!$F$2:$G$1123,2,FALSE))","v":""},"","","","","","",{"$f":"IF(ISNA(VLOOKUP(Z125,'CODIGO PAIS'!$A$2:$B$231,2,FALSE)),\"\",VLOOKUP(Z125,'CODIGO PAIS'!$A$2:$B$231,2,FALSE))","v":""},"",{"$f":"IF(ISNA(VLOOKUP(AB125,Divipolas!$A$2:$B$1123,2,FALSE)),\"\",VLOOKUP(AB125,Divipolas!$A$2:$B$1123,2,FALSE))","v":""},"",{"$f":"IF(ISNA(VLOOKUP((CONCATENATE(AB125,AD125)),Divipolas!$F$2:$G$1123,2,FALSE)),\"\",VLOOKUP((CONCATENATE(AB125,AD125)),Divipolas!$F$2:$G$1123,2,FALSE))","v":""},"","","","","",{"$f":"IF(ISNA(VLOOKUP(AJ125,Divipolas!$A$2:$B$1123,2,FALSE)),\"\",VLOOKUP(AJ125,Divipolas!$A$2:$B$1123,2,FALSE))","v":""},"",{"$f":"IF(ISNA(VLOOKUP((CONCATENATE(AJ125,AL125)),Divipolas!$F$2:$G$1123,2,FALSE)),\"\",VLOOKUP((CONCATENATE(AJ125,AL125)),Divipolas!$F$2:$G$1123,2,FALSE))","v":""},"","","","","","","","","","","","","","",null,null,null,null,null,null,null,{"$f":"IF(ISNA(VLOOKUP(BH125,'CODIGO PAIS'!$A$2:$B$231,2,FALSE)),\"\",VLOOKUP(BH125,'CODIGO PAIS'!$A$2:$B$231,2,FALSE))","v":""},null,{"$f":"IF(ISNA(VLOOKUP(BJ125,Divipolas!$A$2:$B$1123,2,FALSE)),\"\",VLOOKUP(BJ125,Divipolas!$A$2:$B$1123,2,FALSE))","v":""},null,{"$f":"IF(ISNA(VLOOKUP((CONCATENATE(BJ125,BL125)),Divipolas!$F$2:$G$1123,2,FALSE)),\"\",VLOOKUP((CONCATENATE(BJ125,BL125)),Divipolas!$F$2:$G$1123,2,FALSE))","v":""},null,"","",null,null,null,null,{"$f":"IF(ISNA(VLOOKUP(BT125,Divipolas!$A$2:$B$1123,2,FALSE)),\"\",VLOOKUP(BT125,Divipolas!$A$2:$B$1123,2,FALSE))","v":""},null,{"$f":"IF(ISNA(VLOOKUP((CONCATENATE(BT125,BV125)),Divipolas!$F$2:$G$1123,2,FALSE)),\"\",VLOOKUP((CONCATENATE(BT125,BV125)),Divipolas!$F$2:$G$1123,2,FALSE))","v":""},null,null,null,null,null,null,null,null,null,null,null,null,null,null,null,null,null,null,null,null,null,null,null,"",null,null,null,null,null,null,null,null,null,null,null,null,null,null,null,null,null,null,null,null,null,null,null,null,null,null,null,null,null,null,null,null,null,null,null,null,null,null,null,null,null,null,null,null,null,null,null,null,null,null,null,null,null,null,null,null,null,null,null,null,null,null,null,null,null,null,null,null,null,null,null,null,null,null,null,null,"",null,null,null,null,null,null,null,"VERIFIQUE FECHAS",null,null,null,null,null,null,null,null,null,"VERIFIQUE COLUMNA D"]
["","",null,"",{"$f":"IFERROR(VLOOKUP(D126,'CODIGO REGIONALES'!$J$2:$L$33,3,0),\"\")","v":""},"",{"$f":"IF(ISNA(VLOOKUP(F126,Divipolas!$A$2:$B$1123,2,FALSE)),\"\",VLOOKUP(F126,Divipolas!$A$2:$B$1123,2,FALSE))","v":""},"",{"$f":"IF(ISNA(VLOOKUP((CONCATENATE(F126,H126)),Divipolas!$F$2:$G$1123,2,FALSE)),\"\",VLOOKUP((CONCATENATE(F126,H126)),Divipolas!$F$2:$G$1123,2,FALSE))","v":""},"","","","","","","","",{"$f":"IF(ISNA(VLOOKUP(Q126,Divipolas!$A$2:$B$1123,2,FALSE)),\"\",VLOOKUP(Q126,Divipolas!$A$2:$B$1123,2,FALSE))","v":""},"",{"$f":"IF(ISNA(VLOOKUP((CONCATENATE(Q126,S126)),Divipolas!$F$2:$G$1123,2,FALSE)),\"\",VLOOKUP((CONCATENATE(Q126,S126)),Divipolas!$F$2:$G$1123,2,FALSE))","v":""},"","","","","","",{"$f":"IF(ISNA(VLOOKUP(Z126,'CODIGO PAIS'!$A$2:$B$231,2,FALSE)),\"\",VLOOKUP(Z126,'CODIGO PAIS'!$A$2:$B$231,2,FALSE))","v":""},"",{"$f":"IF(ISNA(VLOOKUP(AB126,Divipolas!$A$2:$B$1123,2,FALSE)),\"\",VLOOKUP(AB126,Divipolas!$A$2:$B$1123,2,FALSE))","v":""},"",{"$f":"IF(ISNA(VLOOKUP((CONCATENATE(AB126,AD126)),Divipolas!$F$2:$G$1123,2,FALSE)),\"\",VLOOKUP((CONCATENATE(AB126,AD126)),Divipolas!$F$2:$G$1123,2,FALSE))","v":""},"","","","","",{"$f":"IF(ISNA(VLOOKUP(AJ126,Divipolas!$A$2:$B$1123,2,FALSE)),\"\",VLOOKUP(AJ126,Divipolas!$A$2:$B$1123,2,FALSE))","v":""},"",{"$f":"IF(ISNA(VLOOKUP((CONCATENATE(AJ126,AL126)),Divipolas!$F$2:$G$1123,2,FALSE)),\"\",VLOOKUP((CONCATENATE(AJ126,AL126)),Divipolas!$F$2:$G$1123,2,FALSE))","v":""},"","","","","","","","","","","","","","",null,null,null,null,null,null,null,{"$f":"IF(ISNA(VLOOKUP(BH126,'CODIGO PAIS'!$A$2:$B$231,2,FALSE)),\"\",VLOOKUP(BH126,'CODIGO PAIS'!$A$2:$B$231,2,FALSE))","v":""},null,{"$f":"IF(ISNA(VLOOKUP(BJ126,Divipolas!$A$2:$B$1123,2,FALSE)),\"\",VLOOKUP(BJ126,Divipolas!$A$2:$B$1123,2,FALSE))","v":""},null,{"$f":"IF(ISNA(VLOOKUP((CONCATENATE(BJ126,BL126)),Divipolas!$F$2:$G$1123,2,FALSE)),\"\",VLOOKUP((CONCATENATE(BJ126,BL126)),Divipolas!$F$2:$G$1123,2,FALSE))","v":""},null,"","",null,null,null,null,{"$f":"IF(ISNA(VLOOKUP(BT126,Divipolas!$A$2:$B$1123,2,FALSE)),\"\",VLOOKUP(BT126,Divipolas!$A$2:$B$1123,2,FALSE))","v":""},null,{"$f":"IF(ISNA(VLOOKUP((CONCATENATE(BT126,BV126)),Divipolas!$F$2:$G$1123,2,FALSE)),\"\",VLOOKUP((CONCATENATE(BT126,BV126)),Divipolas!$F$2:$G$1123,2,FALSE))","v":""},null,null,null,null,null,null,null,null,null,null,null,null,null,null,null,null,null,null,null,null,null,null,null,"",null,null,null,null,null,null,null,null,null,null,null,null,null,null,null,null,null,null,null,null,null,null,null,null,null,null,null,null,null,null,null,null,null,null,null,null,null,null,null,null,null,null,null,null,null,null,null,null,null,null,null,null,null,null,null,null,null,null,null,null,null,null,null,null,null,null,null,null,null,null,null,null,null,null,null,null,"",null,null,null,null,null,null,null,"VERIFIQUE FECHAS",null,null,null,null,null,null,null,null,null,"VERIFIQUE COLUMNA D"]
["","",null,"",{"$f":"IFERROR(VLOOKUP(D127,'CODIGO REGIONALES'!$J$2:$L$33,3,0),\"\")","v":""},"",{"$f":"IF(ISNA(VLOOKUP(F127,Divipolas!$A$2:$B$1123,2,FALSE)),\"\",VLOOKUP(F127,Divipolas!$A$2:$B$1123,2,FALSE))","v":""},"",{"$f":"IF(ISNA(VLOOKUP((CONCATENATE(F127,H127)),Divipolas!$F$2:$G$1123,2,FALSE)),\"\",VLOOKUP((CONCATENATE(F127,H127)),Divipolas!$F$2:$G$1123,2,FALSE))","v":""},"","","","","","","","",{"$f":"IF(ISNA(VLOOKUP(Q127,Divipolas!$A$2:$B$1123,2,FALSE)),\"\",VLOOKUP(Q127,Divipolas!$A$2:$B$1123,2,FALSE))","v":""},"",{"$f":"IF(ISNA(VLOOKUP((CONCATENATE(Q127,S127)),Divipolas!$F$2:$G$1123,2,FALSE)),\"\",VLOOKUP((CONCATENATE(Q127,S127)),Divipolas!$F$2:$G$1123,2,FALSE))","v":""},"","","","","","",{"$f":"IF(ISNA(VLOOKUP(Z127,'CODIGO PAIS'!$A$2:$B$231,2,FALSE)),\"\",VLOOKUP(Z127,'CODIGO PAIS'!$A$2:$B$231,2,FALSE))","v":""},"",{"$f":"IF(ISNA(VLOOKUP(AB127,Divipolas!$A$2:$B$1123,2,FALSE)),\"\",VLOOKUP(AB127,Divipolas!$A$2:$B$1123,2,FALSE))","v":""},"",{"$f":"IF(ISNA(VLOOKUP((CONCATENATE(AB127,AD127)),Divipolas!$F$2:$G$1123,2,FALSE)),\"\",VLOOKUP((CONCATENATE(AB127,AD127)),Divipolas!$F$2:$G$1123,2,FALSE))","v":""},"","","","","",{"$f":"IF(ISNA(VLOOKUP(AJ127,Divipolas!$A$2:$B$1123,2,FALSE)),\"\",VLOOKUP(AJ127,Divipolas!$A$2:$B$1123,2,FALSE))","v":""},"",{"$f":"IF(ISNA(VLOOKUP((CONCATENATE(AJ127,AL127)),Divipolas!$F$2:$G$1123,2,FALSE)),\"\",VLOOKUP((CONCATENATE(AJ127,AL127)),Divipolas!$F$2:$G$1123,2,FALSE))","v":""},"","","","","","","","","","","","","","",null,null,null,null,null,null,null,{"$f":"IF(ISNA(VLOOKUP(BH127,'CODIGO PAIS'!$A$2:$B$231,2,FALSE)),\"\",VLOOKUP(BH127,'CODIGO PAIS'!$A$2:$B$231,2,FALSE))","v":""},null,{"$f":"IF(ISNA(VLOOKUP(BJ127,Divipolas!$A$2:$B$1123,2,FALSE)),\"\",VLOOKUP(BJ127,Divipolas!$A$2:$B$1123,2,FALSE))","v":""},null,{"$f":"IF(ISNA(VLOOKUP((CONCATENATE(BJ127,BL127)),Divipolas!$F$2:$G$1123,2,FALSE)),\"\",VLOOKUP((CONCATENATE(BJ127,BL127)),Divipolas!$F$2:$G$1123,2,FALSE))","v":""},null,"","",null,null,null,null,{"$f":"IF(ISNA(VLOOKUP(BT127,Divipolas!$A$2:$B$1123,2,FALSE)),\"\",VLOOKUP(BT127,Divipolas!$A$2:$B$1123,2,FALSE))","v":""},null,{"$f":"IF(ISNA(VLOOKUP((CONCATENATE(BT127,BV127)),Divipolas!$F$2:$G$1123,2,FALSE)),\"\",VLOOKUP((CONCATENATE(BT127,BV127)),Divipolas!$F$2:$G$1123,2,FALSE))","v":""},null,null,null,null,null,null,null,null,null,null,null,null,null,null,null,null,null,null,null,null,null,null,null,"",null,null,null,null,null,null,null,null,null,null,null,null,null,null,null,null,null,null,null,null,null,null,null,null,null,null,null,null,null,null,null,null,null,null,null,null,null,null,null,null,null,null,null,null,null,null,null,null,null,null,null,null,null,null,null,null,null,null,null,null,null,null,null,null,null,null,null,null,null,null,null,null,null,null,null,null,"",null,null,null,null,null,null,null,"VERIFIQUE FECHAS",null,null,null,null,null,null,null,null,null,"VERIFIQUE COLUMNA D"]
["","",null,"",{"$f":"IFERROR(VLOOKUP(D128,'CODIGO REGIONALES'!$J$2:$L$33,3,0),\"\")","v":""},"",{"$f":"IF(ISNA(VLOOKUP(F128,Divipolas!$A$2:$B$1123,2,FALSE)),\"\",VLOOKUP(F128,Divipolas!$A$2:$B$1123,2,FALSE))","v":""},"",{"$f":"IF(ISNA(VLOOKUP((CONCATENATE(F128,H128)),Divipolas!$F$2:$G$1123,2,FALSE)),\"\",VLOOKUP((CONCATENATE(F128,H128)),Divipolas!$F$2:$G$1123,2,FALSE))","v":""},"","","","","","","","",{"$f":"IF(ISNA(VLOOKUP(Q128,Divipolas!$A$2:$B$1123,2,FALSE)),\"\",VLOOKUP(Q128,Divipolas!$A$2:$B$1123,2,FALSE))","v":""},"",{"$f":"IF(ISNA(VLOOKUP((CONCATENATE(Q128,S128)),Divipolas!$F$2:$G$1123,2,FALSE)),\"\",VLOOKUP((CONCATENATE(Q128,S128)),Divipolas!$F$2:$G$1123,2,FALSE))","v":""},"","","","","","",{"$f":"IF(ISNA(VLOOKUP(Z128,'CODIGO PAIS'!$A$2:$B$231,2,FALSE)),\"\",VLOOKUP(Z128,'CODIGO PAIS'!$A$2:$B$231,2,FALSE))","v":""},"",{"$f":"IF(ISNA(VLOOKUP(AB128,Divipolas!$A$2:$B$1123,2,FALSE)),\"\",VLOOKUP(AB128,Divipolas!$A$2:$B$1123,2,FALSE))","v":""},"",{"$f":"IF(ISNA(VLOOKUP((CONCATENATE(AB128,AD128)),Divipolas!$F$2:$G$1123,2,FALSE)),\"\",VLOOKUP((CONCATENATE(AB128,AD128)),Divipolas!$F$2:$G$1123,2,FALSE))","v":""},"","","","","",{"$f":"IF(ISNA(VLOOKUP(AJ128,Divipolas!$A$2:$B$1123,2,FALSE)),\"\",VLOOKUP(AJ128,Divipolas!$A$2:$B$1123,2,FALSE))","v":""},"",{"$f":"IF(ISNA(VLOOKUP((CONCATENATE(AJ128,AL128)),Divipolas!$F$2:$G$1123,2,FALSE)),\"\",VLOOKUP((CONCATENATE(AJ128,AL128)),Divipolas!$F$2:$G$1123,2,FALSE))","v":""},"","","","","","","","","","","","","","",null,null,null,null,null,null,null,{"$f":"IF(ISNA(VLOOKUP(BH128,'CODIGO PAIS'!$A$2:$B$231,2,FALSE)),\"\",VLOOKUP(BH128,'CODIGO PAIS'!$A$2:$B$231,2,FALSE))","v":""},null,{"$f":"IF(ISNA(VLOOKUP(BJ128,Divipolas!$A$2:$B$1123,2,FALSE)),\"\",VLOOKUP(BJ128,Divipolas!$A$2:$B$1123,2,FALSE))","v":""},null,{"$f":"IF(ISNA(VLOOKUP((CONCATENATE(BJ128,BL128)),Divipolas!$F$2:$G$1123,2,FALSE)),\"\",VLOOKUP((CONCATENATE(BJ128,BL128)),Divipolas!$F$2:$G$1123,2,FALSE))","v":""},null,"","",null,null,null,null,{"$f":"IF(ISNA(VLOOKUP(BT128,Divipolas!$A$2:$B$1123,2,FALSE)),\"\",VLOOKUP(BT128,Divipolas!$A$2:$B$1123,2,FALSE))","v":""},null,{"$f":"IF(ISNA(VLOOKUP((CONCATENATE(BT128,BV128)),Divipolas!$F$2:$G$1123,2,FALSE)),\"\",VLOOKUP((CONCATENATE(BT128,BV128)),Divipolas!$F$2:$G$1123,2,FALSE))","v":""},null,null,null,null,null,null,null,null,null,null,null,null,null,null,null,null,null,null,null,null,null,null,null,"",null,null,null,null,null,null,null,null,null,null,null,null,null,null,null,null,null,null,null,null,null,null,null,null,null,null,null,null,null,null,null,null,null,null,null,null,null,null,null,null,null,null,null,null,null,null,null,null,null,null,null,null,null,null,null,null,null,null,null,null,null,null,null,null,null,null,null,null,null,null,null,null,null,null,null,null,"",null,null,null,null,null,null,null,"VERIFIQUE FECHAS",null,null,null,null,null,null,null,null,null,"VERIFIQUE COLUMNA D"]
["","",null,"",{"$f":"IFERROR(VLOOKUP(D129,'CODIGO REGIONALES'!$J$2:$L$33,3,0),\"\")","v":""},"",{"$f":"IF(ISNA(VLOOKUP(F129,Divipolas!$A$2:$B$1123,2,FALSE)),\"\",VLOOKUP(F129,Divipolas!$A$2:$B$1123,2,FALSE))","v":""},"",{"$f":"IF(ISNA(VLOOKUP((CONCATENATE(F129,H129)),Divipolas!$F$2:$G$1123,2,FALSE)),\"\",VLOOKUP((CONCATENATE(F129,H129)),Divipolas!$F$2:$G$1123,2,FALSE))","v":""},"","","","","","","","",{"$f":"IF(ISNA(VLOOKUP(Q129,Divipolas!$A$2:$B$1123,2,FALSE)),\"\",VLOOKUP(Q129,Divipolas!$A$2:$B$1123,2,FALSE))","v":""},"",{"$f":"IF(ISNA(VLOOKUP((CONCATENATE(Q129,S129)),Divipolas!$F$2:$G$1123,2,FALSE)),\"\",VLOOKUP((CONCATENATE(Q129,S129)),Divipolas!$F$2:$G$1123,2,FALSE))","v":""},"","","","","","",{"$f":"IF(ISNA(VLOOKUP(Z129,'CODIGO PAIS'!$A$2:$B$231,2,FALSE)),\"\",VLOOKUP(Z129,'CODIGO PAIS'!$A$2:$B$231,2,FALSE))","v":""},"",{"$f":"IF(ISNA(VLOOKUP(AB129,Divipolas!$A$2:$B$1123,2,FALSE)),\"\",VLOOKUP(AB129,Divipolas!$A$2:$B$1123,2,FALSE))","v":""},"",{"$f":"IF(ISNA(VLOOKUP((CONCATENATE(AB129,AD129)),Divipolas!$F$2:$G$1123,2,FALSE)),\"\",VLOOKUP((CONCATENATE(AB129,AD129)),Divipolas!$F$2:$G$1123,2,FALSE))","v":""},"","","","","",{"$f":"IF(ISNA(VLOOKUP(AJ129,Divipolas!$A$2:$B$1123,2,FALSE)),\"\",VLOOKUP(AJ129,Divipolas!$A$2:$B$1123,2,FALSE))","v":""},"",{"$f":"IF(ISNA(VLOOKUP((CONCATENATE(AJ129,AL129)),Divipolas!$F$2:$G$1123,2,FALSE)),\"\",VLOOKUP((CONCATENATE(AJ129,AL129)),Divipolas!$F$2:$G$1123,2,FALSE))","v":""},"","","","","","","","","","","","","","",null,null,null,null,null,null,null,{"$f":"IF(ISNA(VLOOKUP(BH129,'CODIGO PAIS'!$A$2:$B$231,2,FALSE)),\"\",VLOOKUP(BH129,'CODIGO PAIS'!$A$2:$B$231,2,FALSE))","v":""},null,{"$f":"IF(ISNA(VLOOKUP(BJ129,Divipolas!$A$2:$B$1123,2,FALSE)),\"\",VLOOKUP(BJ129,Divipolas!$A$2:$B$1123,2,FALSE))","v":""},null,{"$f":"IF(ISNA(VLOOKUP((CONCATENATE(BJ129,BL129)),Divipolas!$F$2:$G$1123,2,FALSE)),\"\",VLOOKUP((CONCATENATE(BJ129,BL129)),Divipolas!$F$2:$G$1123,2,FALSE))","v":""},null,"","",null,null,null,null,{"$f":"IF(ISNA(VLOOKUP(BT129,Divipolas!$A$2:$B$1123,2,FALSE)),\"\",VLOOKUP(BT129,Divipolas!$A$2:$B$1123,2,FALSE))","v":""},null,{"$f":"IF(ISNA(VLOOKUP((CONCATENATE(BT129,BV129)),Divipolas!$F$2:$G$1123,2,FALSE)),\"\",VLOOKUP((CONCATENATE(BT129,BV129)),Divipolas!$F$2:$G$1123,2,FALSE))","v":""},null,null,null,null,null,null,null,null,null,null,null,null,null,null,null,null,null,null,null,null,null,null,null,"",null,null,null,null,null,null,null,null,null,null,null,null,null,null,null,null,null,null,null,null,null,null,null,null,null,null,null,null,null,null,null,null,null,null,null,null,null,null,null,null,null,null,null,null,null,null,null,null,null,null,null,null,null,null,null,null,null,null,null,null,null,null,null,null,null,null,null,null,null,null,null,null,null,null,null,null,"",null,null,null,null,null,null,null,"VERIFIQUE FECHAS",null,null,null,null,null,null,null,null,null,"VERIFIQUE COLUMNA D"]
["","",null,"",{"$f":"IFERROR(VLOOKUP(D130,'CODIGO REGIONALES'!$J$2:$L$33,3,0),\"\")","v":""},"",{"$f":"IF(ISNA(VLOOKUP(F130,Divipolas!$A$2:$B$1123,2,FALSE)),\"\",VLOOKUP(F130,Divipolas!$A$2:$B$1123,2,FALSE))","v":""},"",{"$f":"IF(ISNA(VLOOKUP((CONCATENATE(F130,H130)),Divipolas!$F$2:$G$1123,2,FALSE)),\"\",VLOOKUP((CONCATENATE(F130,H130)),Divipolas!$F$2:$G$1123,2,FALSE))","v":""},"","","","","","","","",{"$f":"IF(ISNA(VLOOKUP(Q130,Divipolas!$A$2:$B$1123,2,FALSE)),\"\",VLOOKUP(Q130,Divipolas!$A$2:$B$1123,2,FALSE))","v":""},"",{"$f":"IF(ISNA(VLOOKUP((CONCATENATE(Q130,S130)),Divipolas!$F$2:$G$1123,2,FALSE)),\"\",VLOOKUP((CONCATENATE(Q130,S130)),Divipolas!$F$2:$G$1123,2,FALSE))","v":""},"","","","","","",{"$f":"IF(ISNA(VLOOKUP(Z130,'CODIGO PAIS'!$A$2:$B$231,2,FALSE)),\"\",VLOOKUP(Z130,'CODIGO PAIS'!$A$2:$B$231,2,FALSE))","v":""},"",{"$f":"IF(ISNA(VLOOKUP(AB130,Divipolas!$A$2:$B$1123,2,FALSE)),\"\",VLOOKUP(AB130,Divipolas!$A$2:$B$1123,2,FALSE))","v":""},"",{"$f":"IF(ISNA(VLOOKUP((CONCATENATE(AB130,AD130)),Divipolas!$F$2:$G$1123,2,FALSE)),\"\",VLOOKUP((CONCATENATE(AB130,AD130)),Divipolas!$F$2:$G$1123,2,FALSE))","v":""},"","","","","",{"$f":"IF(ISNA(VLOOKUP(AJ130,Divipolas!$A$2:$B$1123,2,FALSE)),\"\",VLOOKUP(AJ130,Divipolas!$A$2:$B$1123,2,FALSE))","v":""},"",{"$f":"IF(ISNA(VLOOKUP((CONCATENATE(AJ130,AL130)),Divipolas!$F$2:$G$1123,2,FALSE)),\"\",VLOOKUP((CONCATENATE(AJ130,AL130)),Divipolas!$F$2:$G$1123,2,FALSE))","v":""},"","","","","","","","","","","","","","",null,null,null,null,null,null,null,{"$f":"IF(ISNA(VLOOKUP(BH130,'CODIGO PAIS'!$A$2:$B$231,2,FALSE)),\"\",VLOOKUP(BH130,'CODIGO PAIS'!$A$2:$B$231,2,FALSE))","v":""},null,{"$f":"IF(ISNA(VLOOKUP(BJ130,Divipolas!$A$2:$B$1123,2,FALSE)),\"\",VLOOKUP(BJ130,Divipolas!$A$2:$B$1123,2,FALSE))","v":""},null,{"$f":"IF(ISNA(VLOOKUP((CONCATENATE(BJ130,BL130)),Divipolas!$F$2:$G$1123,2,FALSE)),\"\",VLOOKUP((CONCATENATE(BJ130,BL130)),Divipolas!$F$2:$G$1123,2,FALSE))","v":""},null,"","",null,null,null,null,{"$f":"IF(ISNA(VLOOKUP(BT130,Divipolas!$A$2:$B$1123,2,FALSE)),\"\",VLOOKUP(BT130,Divipolas!$A$2:$B$1123,2,FALSE))","v":""},null,{"$f":"IF(ISNA(VLOOKUP((CONCATENATE(BT130,BV130)),Divipolas!$F$2:$G$1123,2,FALSE)),\"\",VLOOKUP((CONCATENATE(BT130,BV130)),Divipolas!$F$2:$G$1123,2,FALSE))","v":""},null,null,null,null,null,null,null,null,null,null,null,null,null,null,null,null,null,null,null,null,null,null,null,"",null,null,null,null,null,null,null,null,null,null,null,null,null,null,null,null,null,null,null,null,null,null,null,null,null,null,null,null,null,null,null,null,null,null,null,null,null,null,null,null,null,null,null,null,null,null,null,null,null,null,null,null,null,null,null,null,null,null,null,null,null,null,null,null,null,null,null,null,null,null,null,null,null,null,null,null,"",null,null,null,null,null,null,null,"VERIFIQUE FECHAS",null,null,null,null,null,null,null,null,null,"VERIFIQUE COLUMNA D"]
["","",null,"",{"$f":"IFERROR(VLOOKUP(D131,'CODIGO REGIONALES'!$J$2:$L$33,3,0),\"\")","v":""},"",{"$f":"IF(ISNA(VLOOKUP(F131,Divipolas!$A$2:$B$1123,2,FALSE)),\"\",VLOOKUP(F131,Divipolas!$A$2:$B$1123,2,FALSE))","v":""},"",{"$f":"IF(ISNA(VLOOKUP((CONCATENATE(F131,H131)),Divipolas!$F$2:$G$1123,2,FALSE)),\"\",VLOOKUP((CONCATENATE(F131,H131)),Divipolas!$F$2:$G$1123,2,FALSE))","v":""},"","","","","","","","",{"$f":"IF(ISNA(VLOOKUP(Q131,Divipolas!$A$2:$B$1123,2,FALSE)),\"\",VLOOKUP(Q131,Divipolas!$A$2:$B$1123,2,FALSE))","v":""},"",{"$f":"IF(ISNA(VLOOKUP((CONCATENATE(Q131,S131)),Divipolas!$F$2:$G$1123,2,FALSE)),\"\",VLOOKUP((CONCATENATE(Q131,S131)),Divipolas!$F$2:$G$1123,2,FALSE))","v":""},"","","","","","",{"$f":"IF(ISNA(VLOOKUP(Z131,'CODIGO PAIS'!$A$2:$B$231,2,FALSE)),\"\",VLOOKUP(Z131,'CODIGO PAIS'!$A$2:$B$231,2,FALSE))","v":""},"",{"$f":"IF(ISNA(VLOOKUP(AB131,Divipolas!$A$2:$B$1123,2,FALSE)),\"\",VLOOKUP(AB131,Divipolas!$A$2:$B$1123,2,FALSE))","v":""},"",{"$f":"IF(ISNA(VLOOKUP((CONCATENATE(AB131,AD131)),Divipolas!$F$2:$G$1123,2,FALSE)),\"\",VLOOKUP((CONCATENATE(AB131,AD131)),Divipolas!$F$2:$G$1123,2,FALSE))","v":""},"","","","","",{"$f":"IF(ISNA(VLOOKUP(AJ131,Divipolas!$A$2:$B$1123,2,FALSE)),\"\",VLOOKUP(AJ131,Divipolas!$A$2:$B$1123,2,FALSE))","v":""},"",{"$f":"IF(ISNA(VLOOKUP((CONCATENATE(AJ131,AL131)),Divipolas!$F$2:$G$1123,2,FALSE)),\"\",VLOOKUP((CONCATENATE(AJ131,AL131)),Divipolas!$F$2:$G$1123,2,FALSE))","v":""},"","","","","","","","","","","","","","",null,null,null,null,null,null,null,{"$f":"IF(ISNA(VLOOKUP(BH131,'CODIGO PAIS'!$A$2:$B$231,2,FALSE)),\"\",VLOOKUP(BH131,'CODIGO PAIS'!$A$2:$B$231,2,FALSE))","v":""},null,{"$f":"IF(ISNA(VLOOKUP(BJ131,Divipolas!$A$2:$B$1123,2,FALSE)),\"\",VLOOKUP(BJ131,Divipolas!$A$2:$B$1123,2,FALSE))","v":""},null,{"$f":"IF(ISNA(VLOOKUP((CONCATENATE(BJ131,BL131)),Divipolas!$F$2:$G$1123,2,FALSE)),\"\",VLOOKUP((CONCATENATE(BJ131,BL131)),Divipolas!$F$2:$G$1123,2,FALSE))","v":""},null,"","",null,null,null,null,{"$f":"IF(ISNA(VLOOKUP(BT131,Divipolas!$A$2:$B$1123,2,FALSE)),\"\",VLOOKUP(BT131,Divipolas!$A$2:$B$1123,2,FALSE))","v":""},null,{"$f":"IF(ISNA(VLOOKUP((CONCATENATE(BT131,BV131)),Divipolas!$F$2:$G$1123,2,FALSE)),\"\",VLOOKUP((CONCATENATE(BT131,BV131)),Divipolas!$F$2:$G$1123,2,FALSE))","v":""},null,null,null,null,null,null,null,null,null,null,null,null,null,null,null,null,null,null,null,null,null,null,null,"",null,null,null,null,null,null,null,null,null,null,null,null,null,null,null,null,null,null,null,null,null,null,null,null,null,null,null,null,null,null,null,null,null,null,null,null,null,null,null,null,null,null,null,null,null,null,null,null,null,null,null,null,null,null,null,null,null,null,null,null,null,null,null,null,null,null,null,null,null,null,null,null,null,null,null,null,"",null,null,null,null,null,null,null,"VERIFIQUE FECHAS",null,null,null,null,null,null,null,null,null,"VERIFIQUE COLUMNA D"]
["","",null,"",{"$f":"IFERROR(VLOOKUP(D132,'CODIGO REGIONALES'!$J$2:$L$33,3,0),\"\")","v":""},"",{"$f":"IF(ISNA(VLOOKUP(F132,Divipolas!$A$2:$B$1123,2,FALSE)),\"\",VLOOKUP(F132,Divipolas!$A$2:$B$1123,2,FALSE))","v":""},"",{"$f":"IF(ISNA(VLOOKUP((CONCATENATE(F132,H132)),Divipolas!$F$2:$G$1123,2,FALSE)),\"\",VLOOKUP((CONCATENATE(F132,H132)),Divipolas!$F$2:$G$1123,2,FALSE))","v":""},"","","","","","","","",{"$f":"IF(ISNA(VLOOKUP(Q132,Divipolas!$A$2:$B$1123,2,FALSE)),\"\",VLOOKUP(Q132,Divipolas!$A$2:$B$1123,2,FALSE))","v":""},"",{"$f":"IF(ISNA(VLOOKUP((CONCATENATE(Q132,S132)),Divipolas!$F$2:$G$1123,2,FALSE)),\"\",VLOOKUP((CONCATENATE(Q132,S132)),Divipolas!$F$2:$G$1123,2,FALSE))","v":""},"","","","","","",{"$f":"IF(ISNA(VLOOKUP(Z132,'CODIGO PAIS'!$A$2:$B$231,2,FALSE)),\"\",VLOOKUP(Z132,'CODIGO PAIS'!$A$2:$B$231,2,FALSE))","v":""},"",{"$f":"IF(ISNA(VLOOKUP(AB132,Divipolas!$A$2:$B$1123,2,FALSE)),\"\",VLOOKUP(AB132,Divipolas!$A$2:$B$1123,2,FALSE))","v":""},"",{"$f":"IF(ISNA(VLOOKUP((CONCATENATE(AB132,AD132)),Divipolas!$F$2:$G$1123,2,FALSE)),\"\",VLOOKUP((CONCATENATE(AB132,AD132)),Divipolas!$F$2:$G$1123,2,FALSE))","v":""},"","","","","",{"$f":"IF(ISNA(VLOOKUP(AJ132,Divipolas!$A$2:$B$1123,2,FALSE)),\"\",VLOOKUP(AJ132,Divipolas!$A$2:$B$1123,2,FALSE))","v":""},"",{"$f":"IF(ISNA(VLOOKUP((CONCATENATE(AJ132,AL132)),Divipolas!$F$2:$G$1123,2,FALSE)),\"\",VLOOKUP((CONCATENATE(AJ132,AL132)),Divipolas!$F$2:$G$1123,2,FALSE))","v":""},"","","","","","","","","","","","","","",null,null,null,null,null,null,null,{"$f":"IF(ISNA(VLOOKUP(BH132,'CODIGO PAIS'!$A$2:$B$231,2,FALSE)),\"\",VLOOKUP(BH132,'CODIGO PAIS'!$A$2:$B$231,2,FALSE))","v":""},null,{"$f":"IF(ISNA(VLOOKUP(BJ132,Divipolas!$A$2:$B$1123,2,FALSE)),\"\",VLOOKUP(BJ132,Divipolas!$A$2:$B$1123,2,FALSE))","v":""},null,{"$f":"IF(ISNA(VLOOKUP((CONCATENATE(BJ132,BL132)),Divipolas!$F$2:$G$1123,2,FALSE)),\"\",VLOOKUP((CONCATENATE(BJ132,BL132)),Divipolas!$F$2:$G$1123,2,FALSE))","v":""},null,"","",null,null,null,null,{"$f":"IF(ISNA(VLOOKUP(BT132,Divipolas!$A$2:$B$1123,2,FALSE)),\"\",VLOOKUP(BT132,Divipolas!$A$2:$B$1123,2,FALSE))","v":""},null,{"$f":"IF(ISNA(VLOOKUP((CONCATENATE(BT132,BV132)),Divipolas!$F$2:$G$1123,2,FALSE)),\"\",VLOOKUP((CONCATENATE(BT132,BV132)),Divipolas!$F$2:$G$1123,2,FALSE))","v":""},null,null,null,null,null,null,null,null,null,null,null,null,null,null,null,null,null,null,null,null,null,null,null,"",null,null,null,null,null,null,null,null,null,null,null,null,null,null,null,null,null,null,null,null,null,null,null,null,null,null,null,null,null,null,null,null,null,null,null,null,null,null,null,null,null,null,null,null,null,null,null,null,null,null,null,null,null,null,null,null,null,null,null,null,null,null,null,null,null,null,null,null,null,null,null,null,null,null,null,null,"",null,null,null,null,null,null,null,"VERIFIQUE FECHAS",null,null,null,null,null,null,null,null,null,"VERIFIQUE COLUMNA D"]
["","",null,"",{"$f":"IFERROR(VLOOKUP(D133,'CODIGO REGIONALES'!$J$2:$L$33,3,0),\"\")","v":""},"",{"$f":"IF(ISNA(VLOOKUP(F133,Divipolas!$A$2:$B$1123,2,FALSE)),\"\",VLOOKUP(F133,Divipolas!$A$2:$B$1123,2,FALSE))","v":""},"",{"$f":"IF(ISNA(VLOOKUP((CONCATENATE(F133,H133)),Divipolas!$F$2:$G$1123,2,FALSE)),\"\",VLOOKUP((CONCATENATE(F133,H133)),Divipolas!$F$2:$G$1123,2,FALSE))","v":""},"","","","","","","","",{"$f":"IF(ISNA(VLOOKUP(Q133,Divipolas!$A$2:$B$1123,2,FALSE)),\"\",VLOOKUP(Q133,Divipolas!$A$2:$B$1123,2,FALSE))","v":""},"",{"$f":"IF(ISNA(VLOOKUP((CONCATENATE(Q133,S133)),Divipolas!$F$2:$G$1123,2,FALSE)),\"\",VLOOKUP((CONCATENATE(Q133,S133)),Divipolas!$F$2:$G$1123,2,FALSE))","v":""},"","","","","","",{"$f":"IF(ISNA(VLOOKUP(Z133,'CODIGO PAIS'!$A$2:$B$231,2,FALSE)),\"\",VLOOKUP(Z133,'CODIGO PAIS'!$A$2:$B$231,2,FALSE))","v":""},"",{"$f":"IF(ISNA(VLOOKUP(AB133,Divipolas!$A$2:$B$1123,2,FALSE)),\"\",VLOOKUP(AB133,Divipolas!$A$2:$B$1123,2,FALSE))","v":""},"",{"$f":"IF(ISNA(VLOOKUP((CONCATENATE(AB133,AD133)),Divipolas!$F$2:$G$1123,2,FALSE)),\"\",VLOOKUP((CONCATENATE(AB133,AD133)),Divipolas!$F$2:$G$1123,2,FALSE))","v":""},"","","","","",{"$f":"IF(ISNA(VLOOKUP(AJ133,Divipolas!$A$2:$B$1123,2,FALSE)),\"\",VLOOKUP(AJ133,Divipolas!$A$2:$B$1123,2,FALSE))","v":""},"",{"$f":"IF(ISNA(VLOOKUP((CONCATENATE(AJ133,AL133)),Divipolas!$F$2:$G$1123,2,FALSE)),\"\",VLOOKUP((CONCATENATE(AJ133,AL133)),Divipolas!$F$2:$G$1123,2,FALSE))","v":""},"","","","","","","","","","","","","","",null,null,null,null,null,null,null,{"$f":"IF(ISNA(VLOOKUP(BH133,'CODIGO PAIS'!$A$2:$B$231,2,FALSE)),\"\",VLOOKUP(BH133,'CODIGO PAIS'!$A$2:$B$231,2,FALSE))","v":""},null,{"$f":"IF(ISNA(VLOOKUP(BJ133,Divipolas!$A$2:$B$1123,2,FALSE)),\"\",VLOOKUP(BJ133,Divipolas!$A$2:$B$1123,2,FALSE))","v":""},null,{"$f":"IF(ISNA(VLOOKUP((CONCATENATE(BJ133,BL133)),Divipolas!$F$2:$G$1123,2,FALSE)),\"\",VLOOKUP((CONCATENATE(BJ133,BL133)),Divipolas!$F$2:$G$1123,2,FALSE))","v":""},null,"","",null,null,null,null,{"$f":"IF(ISNA(VLOOKUP(BT133,Divipolas!$A$2:$B$1123,2,FALSE)),\"\",VLOOKUP(BT133,Divipolas!$A$2:$B$1123,2,FALSE))","v":""},null,{"$f":"IF(ISNA(VLOOKUP((CONCATENATE(BT133,BV133)),Divipolas!$F$2:$G$1123,2,FALSE)),\"\",VLOOKUP((CONCATENATE(BT133,BV133)),Divipolas!$F$2:$G$1123,2,FALSE))","v":""},null,null,null,null,null,null,null,null,null,null,null,null,null,null,null,null,null,null,null,null,null,null,null,"",null,null,null,null,null,null,null,null,null,null,null,null,null,null,null,null,null,null,null,null,null,null,null,null,null,null,null,null,null,null,null,null,null,null,null,null,null,null,null,null,null,null,null,null,null,null,null,null,null,null,null,null,null,null,null,null,null,null,null,null,null,null,null,null,null,null,null,null,null,null,null,null,null,null,null,null,"",null,null,null,null,null,null,null,"VERIFIQUE FECHAS",null,null,null,null,null,null,null,null,null,"VERIFIQUE COLUMNA D"]
["","",null,"",{"$f":"IFERROR(VLOOKUP(D134,'CODIGO REGIONALES'!$J$2:$L$33,3,0),\"\")","v":""},"",{"$f":"IF(ISNA(VLOOKUP(F134,Divipolas!$A$2:$B$1123,2,FALSE)),\"\",VLOOKUP(F134,Divipolas!$A$2:$B$1123,2,FALSE))","v":""},"",{"$f":"IF(ISNA(VLOOKUP((CONCATENATE(F134,H134)),Divipolas!$F$2:$G$1123,2,FALSE)),\"\",VLOOKUP((CONCATENATE(F134,H134)),Divipolas!$F$2:$G$1123,2,FALSE))","v":""},"","","","","","","","",{"$f":"IF(ISNA(VLOOKUP(Q134,Divipolas!$A$2:$B$1123,2,FALSE)),\"\",VLOOKUP(Q134,Divipolas!$A$2:$B$1123,2,FALSE))","v":""},"",{"$f":"IF(ISNA(VLOOKUP((CONCATENATE(Q134,S134)),Divipolas!$F$2:$G$1123,2,FALSE)),\"\",VLOOKUP((CONCATENATE(Q134,S134)),Divipolas!$F$2:$G$1123,2,FALSE))","v":""},"","","","","","",{"$f":"IF(ISNA(VLOOKUP(Z134,'CODIGO PAIS'!$A$2:$B$231,2,FALSE)),\"\",VLOOKUP(Z134,'CODIGO PAIS'!$A$2:$B$231,2,FALSE))","v":""},"",{"$f":"IF(ISNA(VLOOKUP(AB134,Divipolas!$A$2:$B$1123,2,FALSE)),\"\",VLOOKUP(AB134,Divipolas!$A$2:$B$1123,2,FALSE))","v":""},"",{"$f":"IF(ISNA(VLOOKUP((CONCATENATE(AB134,AD134)),Divipolas!$F$2:$G$1123,2,FALSE)),\"\",VLOOKUP((CONCATENATE(AB134,AD134)),Divipolas!$F$2:$G$1123,2,FALSE))","v":""},"","","","","",{"$f":"IF(ISNA(VLOOKUP(AJ134,Divipolas!$A$2:$B$1123,2,FALSE)),\"\",VLOOKUP(AJ134,Divipolas!$A$2:$B$1123,2,FALSE))","v":""},"",{"$f":"IF(ISNA(VLOOKUP((CONCATENATE(AJ134,AL134)),Divipolas!$F$2:$G$1123,2,FALSE)),\"\",VLOOKUP((CONCATENATE(AJ134,AL134)),Divipolas!$F$2:$G$1123,2,FALSE))","v":""},"","","","","","","","","","","","","","",null,null,null,null,null,null,null,{"$f":"IF(ISNA(VLOOKUP(BH134,'CODIGO PAIS'!$A$2:$B$231,2,FALSE)),\"\",VLOOKUP(BH134,'CODIGO PAIS'!$A$2:$B$231,2,FALSE))","v":""},null,{"$f":"IF(ISNA(VLOOKUP(BJ134,Divipolas!$A$2:$B$1123,2,FALSE)),\"\",VLOOKUP(BJ134,Divipolas!$A$2:$B$1123,2,FALSE))","v":""},null,{"$f":"IF(ISNA(VLOOKUP((CONCATENATE(BJ134,BL134)),Divipolas!$F$2:$G$1123,2,FALSE)),\"\",VLOOKUP((CONCATENATE(BJ134,BL134)),Divipolas!$F$2:$G$1123,2,FALSE))","v":""},null,"","",null,null,null,null,{"$f":"IF(ISNA(VLOOKUP(BT134,Divipolas!$A$2:$B$1123,2,FALSE)),\"\",VLOOKUP(BT134,Divipolas!$A$2:$B$1123,2,FALSE))","v":""},null,{"$f":"IF(ISNA(VLOOKUP((CONCATENATE(BT134,BV134)),Divipolas!$F$2:$G$1123,2,FALSE)),\"\",VLOOKUP((CONCATENATE(BT134,BV134)),Divipolas!$F$2:$G$1123,2,FALSE))","v":""},null,null,null,null,null,null,null,null,null,null,null,null,null,null,null,null,null,null,null,null,null,null,null,"",null,null,null,null,null,null,null,null,null,null,null,null,null,null,null,null,null,null,null,null,null,null,null,null,null,null,null,null,null,null,null,null,null,null,null,null,null,null,null,null,null,null,null,null,null,null,null,null,null,null,null,null,null,null,null,null,null,null,null,null,null,null,null,null,null,null,null,null,null,null,null,null,null,null,null,null,{"$f":"IF(C134<>\"\",(IF(AND((DATEDIF(BN134,C134,\"m\"))>=0,(DATEDIF(BN134,C134,\"m\"))<=59),INDI2,IF(CS134=\"SI\",INDI3,IF(AND((DATEDIF(BN134,C134,\"m\"))>59,(DATEDIF(BN134,C134,\"m\"))<=215),INDI4,\"\")))),\"\")","v":""},null,null,null,null,null,null,null,"VERIFIQUE FECHAS",null,null,null,null,null,null,null,null,null,"VERIFIQUE COLUMNA D"]
["","",null,"",{"$f":"IFERROR(VLOOKUP(D135,'CODIGO REGIONALES'!$J$2:$L$33,3,0),\"\")","v":""},"",{"$f":"IF(ISNA(VLOOKUP(F135,Divipolas!$A$2:$B$1123,2,FALSE)),\"\",VLOOKUP(F135,Divipolas!$A$2:$B$1123,2,FALSE))","v":""},"",{"$f":"IF(ISNA(VLOOKUP((CONCATENATE(F135,H135)),Divipolas!$F$2:$G$1123,2,FALSE)),\"\",VLOOKUP((CONCATENATE(F135,H135)),Divipolas!$F$2:$G$1123,2,FALSE))","v":""},"","","","","","","","",{"$f":"IF(ISNA(VLOOKUP(Q135,Divipolas!$A$2:$B$1123,2,FALSE)),\"\",VLOOKUP(Q135,Divipolas!$A$2:$B$1123,2,FALSE))","v":""},"",{"$f":"IF(ISNA(VLOOKUP((CONCATENATE(Q135,S135)),Divipolas!$F$2:$G$1123,2,FALSE)),\"\",VLOOKUP((CONCATENATE(Q135,S135)),Divipolas!$F$2:$G$1123,2,FALSE))","v":""},"","","","","","",{"$f":"IF(ISNA(VLOOKUP(Z135,'CODIGO PAIS'!$A$2:$B$231,2,FALSE)),\"\",VLOOKUP(Z135,'CODIGO PAIS'!$A$2:$B$231,2,FALSE))","v":""},"",{"$f":"IF(ISNA(VLOOKUP(AB135,Divipolas!$A$2:$B$1123,2,FALSE)),\"\",VLOOKUP(AB135,Divipolas!$A$2:$B$1123,2,FALSE))","v":""},"",{"$f":"IF(ISNA(VLOOKUP((CONCATENATE(AB135,AD135)),Divipolas!$F$2:$G$1123,2,FALSE)),\"\",VLOOKUP((CONCATENATE(AB135,AD135)),Divipolas!$F$2:$G$1123,2,FALSE))","v":""},"","","","","",{"$f":"IF(ISNA(VLOOKUP(AJ135,Divipolas!$A$2:$B$1123,2,FALSE)),\"\",VLOOKUP(AJ135,Divipolas!$A$2:$B$1123,2,FALSE))","v":""},"",{"$f":"IF(ISNA(VLOOKUP((CONCATENATE(AJ135,AL135)),Divipolas!$F$2:$G$1123,2,FALSE)),\"\",VLOOKUP((CONCATENATE(AJ135,AL135)),Divipolas!$F$2:$G$1123,2,FALSE))","v":""},"","","","","","","","","","","","","","",null,null,null,null,null,null,null,{"$f":"IF(ISNA(VLOOKUP(BH135,'CODIGO PAIS'!$A$2:$B$231,2,FALSE)),\"\",VLOOKUP(BH135,'CODIGO PAIS'!$A$2:$B$231,2,FALSE))","v":""},null,{"$f":"IF(ISNA(VLOOKUP(BJ135,Divipolas!$A$2:$B$1123,2,FALSE)),\"\",VLOOKUP(BJ135,Divipolas!$A$2:$B$1123,2,FALSE))","v":""},null,{"$f":"IF(ISNA(VLOOKUP((CONCATENATE(BJ135,BL135)),Divipolas!$F$2:$G$1123,2,FALSE)),\"\",VLOOKUP((CONCATENATE(BJ135,BL135)),Divipolas!$F$2:$G$1123,2,FALSE))","v":""},null,"","",null,null,null,null,{"$f":"IF(ISNA(VLOOKUP(BT135,Divipolas!$A$2:$B$1123,2,FALSE)),\"\",VLOOKUP(BT135,Divipolas!$A$2:$B$1123,2,FALSE))","v":""},null,{"$f":"IF(ISNA(VLOOKUP((CONCATENATE(BT135,BV135)),Divipolas!$F$2:$G$1123,2,FALSE)),\"\",VLOOKUP((CONCATENATE(BT135,BV135)),Divipolas!$F$2:$G$1123,2,FALSE))","v":""},null,null,null,null,null,null,null,null,null,null,null,null,null,null,null,null,null,null,null,null,null,null,null,"",null,null,null,null,null,null,null,null,null,null,null,null,null,null,null,null,null,null,null,null,null,null,null,null,null,null,null,null,null,null,null,null,null,null,null,null,null,null,null,null,null,null,null,null,null,null,null,null,null,null,null,null,null,null,null,null,null,null,null,null,null,null,null,null,null,null,null,null,null,null,null,null,null,null,null,null,"",null,null,null,null,null,null,null,{"$f":"IF(C135=\"\",\"VERIFIQUE FECHAS\",IF(BN135=\"\",\"VERIFIQUE FECHAS\",IF(AF135=\"\",\"VERIFIQUE FECHAS\",IF(C135>=BN135,\"OK\",\"VERIFIQUE FECHAS\"))))","v":"VERIFIQUE FECHAS"},null,null,null,null,null,null,null,null,null,{"$f":"IF(D135=\"\",\"VERIFIQUE COLUMNA D\",IF(F135=\"\",\"VERIFIQUE COLUMNA F\",IF(H135=\"\",\"VERIFIQUE COLUMNA H\",IF(J135=\"\",\"VERIFIQUE COLUMNA J\",IF(K135=\"\",\"VERIFIQUE COLUMNA K\",IF(N135=\"\",\"VERIFIQUE COLUMNA N\",IF(U135=\"\",\"VERIFIQUE COLUMNA U\",IF(W135=\"\",\"VERIFIQUE COLUMNA W\",IF(Y135=\"\",\"VERIFIQUE COLUMNA Y\",IF(AF135=\"\",\"VERIFIQUE COLUMNA AF\",IF(AG135=\"\",\"VERIFIQUE COLUMNA AG\",IF(BB135=\"\",\"VERIFIQUE COLUMNA BB\",IF(BC135=\"\",\"VERIFIQUE COLUMNA BC\",IF(BE135=\"\",\"VERIFIQUE COLUMNA BE\",IF(BG135=\"\",\"VERIFIQUE COLUMNA BG\",IF(BN135=\"\",\"VERIFIQUE COLUMNA BN\",IF(BQ135=\"\",\"VERIFIQUE COLUMNA BQ\",IF(BZ135=\"\",\"VERIFIQUE COLUMNA BZ\",IF(EJ135=\"\",\"VERIFIQUE COLUMNA EJ\",IF(EK135=\"\",\"VERIFIQUE COLUMNA EK\",IF(FY135=\"\",\"VERIFIQUE COLUMNA FY\",IF(GC135=\"\",\"VERIFIQUE COLUMNA GC\",IF(GE135=\"\",\"VERIFIQUE COLUMNA GE\",\"Campos o.k.\")))))))))))))))))))))))","v":"VERIFIQUE COLUMNA D"}]
["","",null,"",{"$f":"IFERROR(VLOOKUP(D136,'CODIGO REGIONALES'!$J$2:$L$33,3,0),\"\")","v":""},"",{"$f":"IF(ISNA(VLOOKUP(F136,Divipolas!$A$2:$B$1123,2,FALSE)),\"\",VLOOKUP(F136,Divipolas!$A$2:$B$1123,2,FALSE))","v":""},"",{"$f":"IF(ISNA(VLOOKUP((CONCATENATE(F136,H136)),Divipolas!$F$2:$G$1123,2,FALSE)),\"\",VLOOKUP((CONCATENATE(F136,H136)),Divipolas!$F$2:$G$1123,2,FALSE))","v":""},"",{"$f":"IF(AND($C136<>\"\",K135<>\"\"),K135,\"\")","v":""},"","","","","","",{"$f":"IF(ISNA(VLOOKUP(Q136,Divipolas!$A$2:$B$1123,2,FALSE)),\"\",VLOOKUP(Q136,Divipolas!$A$2:$B$1123,2,FALSE))","v":""},"",{"$f":"IF(ISNA(VLOOKUP((CONCATENATE(Q136,S136)),Divipolas!$F$2:$G$1123,2,FALSE)),\"\",VLOOKUP((CONCATENATE(Q136,S136)),Divipolas!$F$2:$G$1123,2,FALSE))","v":""},"","","","","","",{"$f":"IF(ISNA(VLOOKUP(Z136,'CODIGO PAIS'!$A$2:$B$231,2,FALSE)),\"\",VLOOKUP(Z136,'CODIGO PAIS'!$A$2:$B$231,2,FALSE))","v":""},"",{"$f":"IF(ISNA(VLOOKUP(AB136,Divipolas!$A$2:$B$1123,2,FALSE)),\"\",VLOOKUP(AB136,Divipolas!$A$2:$B$1123,2,FALSE))","v":""},"",{"$f":"IF(ISNA(VLOOKUP((CONCATENATE(AB136,AD136)),Divipolas!$F$2:$G$1123,2,FALSE)),\"\",VLOOKUP((CONCATENATE(AB136,AD136)),Divipolas!$F$2:$G$1123,2,FALSE))","v":""},"","","","","",{"$f":"IF(ISNA(VLOOKUP(AJ136,Divipolas!$A$2:$B$1123,2,FALSE)),\"\",VLOOKUP(AJ136,Divipolas!$A$2:$B$1123,2,FALSE))","v":""},"",{"$f":"IF(ISNA(VLOOKUP((CONCATENATE(AJ136,AL136)),Divipolas!$F$2:$G$1123,2,FALSE)),\"\",VLOOKUP((CONCATENATE(AJ136,AL136)),Divipolas!$F$2:$G$1123,2,FALSE))","v":""},"","","","","","","","","","","","","","",null,null,null,null,null,null,null,{"$f":"IF(ISNA(VLOOKUP(BH136,'CODIGO PAIS'!$A$2:$B$231,2,FALSE)),\"\",VLOOKUP(BH136,'CODIGO PAIS'!$A$2:$B$231,2,FALSE))","v":""},null,{"$f":"IF(ISNA(VLOOKUP(BJ136,Divipolas!$A$2:$B$1123,2,FALSE)),\"\",VLOOKUP(BJ136,Divipolas!$A$2:$B$1123,2,FALSE))","v":""},null,{"$f":"IF(ISNA(VLOOKUP((CONCATENATE(BJ136,BL136)),Divipolas!$F$2:$G$1123,2,FALSE)),\"\",VLOOKUP((CONCATENATE(BJ136,BL136)),Divipolas!$F$2:$G$1123,2,FALSE))","v":""},null,"","",null,null,null,null,{"$f":"IF(ISNA(VLOOKUP(BT136,Divipolas!$A$2:$B$1123,2,FALSE)),\"\",VLOOKUP(BT136,Divipolas!$A$2:$B$1123,2,FALSE))","v":""},null,{"$f":"IF(ISNA(VLOOKUP((CONCATENATE(BT136,BV136)),Divipolas!$F$2:$G$1123,2,FALSE)),\"\",VLOOKUP((CONCATENATE(BT136,BV136)),Divipolas!$F$2:$G$1123,2,FALSE))","v":""},null,null,null,null,null,null,null,null,null,null,null,null,null,null,null,null,null,null,null,null,null,null,null,"",null,null,null,null,null,null,null,null,null,null,null,null,null,null,null,null,null,null,null,null,null,null,null,null,null,null,null,null,null,null,null,null,null,null,null,null,null,null,null,null,null,null,null,null,null,null,null,null,null,null,null,null,null,null,null,null,null,null,null,null,null,null,null,null,null,null,null,null,null,null,null,null,null,null,null,null,"",null,null,null,null,null,null,null,"VERIFIQUE FECHAS",null,null,null,null,null,null,null,null,null,"VERIFIQUE COLUMNA D"]
["","",null,"",{"$f":"IFERROR(VLOOKUP(D137,'CODIGO REGIONALES'!$J$2:$L$33,3,0),\"\")","v":""},"",{"$f":"IF(ISNA(VLOOKUP(F137,Divipolas!$A$2:$B$1123,2,FALSE)),\"\",VLOOKUP(F137,Divipolas!$A$2:$B$1123,2,FALSE))","v":""},"",{"$f":"IF(ISNA(VLOOKUP((CONCATENATE(F137,H137)),Divipolas!$F$2:$G$1123,2,FALSE)),\"\",VLOOKUP((CONCATENATE(F137,H137)),Divipolas!$F$2:$G$1123,2,FALSE))","v":""},"","","","","","","","",{"$f":"IF(ISNA(VLOOKUP(Q137,Divipolas!$A$2:$B$1123,2,FALSE)),\"\",VLOOKUP(Q137,Divipolas!$A$2:$B$1123,2,FALSE))","v":""},"",{"$f":"IF(ISNA(VLOOKUP((CONCATENATE(Q137,S137)),Divipolas!$F$2:$G$1123,2,FALSE)),\"\",VLOOKUP((CONCATENATE(Q137,S137)),Divipolas!$F$2:$G$1123,2,FALSE))","v":""},"","","","","","",{"$f":"IF(ISNA(VLOOKUP(Z137,'CODIGO PAIS'!$A$2:$B$231,2,FALSE)),\"\",VLOOKUP(Z137,'CODIGO PAIS'!$A$2:$B$231,2,FALSE))","v":""},"",{"$f":"IF(ISNA(VLOOKUP(AB137,Divipolas!$A$2:$B$1123,2,FALSE)),\"\",VLOOKUP(AB137,Divipolas!$A$2:$B$1123,2,FALSE))","v":""},"",{"$f":"IF(ISNA(VLOOKUP((CONCATENATE(AB137,AD137)),Divipolas!$F$2:$G$1123,2,FALSE)),\"\",VLOOKUP((CONCATENATE(AB137,AD137)),Divipolas!$F$2:$G$1123,2,FALSE))","v":""},"","","","","",{"$f":"IF(ISNA(VLOOKUP(AJ137,Divipolas!$A$2:$B$1123,2,FALSE)),\"\",VLOOKUP(AJ137,Divipolas!$A$2:$B$1123,2,FALSE))","v":""},"",{"$f":"IF(ISNA(VLOOKUP((CONCATENATE(AJ137,AL137)),Divipolas!$F$2:$G$1123,2,FALSE)),\"\",VLOOKUP((CONCATENATE(AJ137,AL137)),Divipolas!$F$2:$G$1123,2,FALSE))","v":""},"","","","","","","","","","","","","","",null,null,null,null,null,null,null,{"$f":"IF(ISNA(VLOOKUP(BH137,'CODIGO PAIS'!$A$2:$B$231,2,FALSE)),\"\",VLOOKUP(BH137,'CODIGO PAIS'!$A$2:$B$231,2,FALSE))","v":""},null,{"$f":"IF(ISNA(VLOOKUP(BJ137,Divipolas!$A$2:$B$1123,2,FALSE)),\"\",VLOOKUP(BJ137,Divipolas!$A$2:$B$1123,2,FALSE))","v":""},null,{"$f":"IF(ISNA(VLOOKUP((CONCATENATE(BJ137,BL137)),Divipolas!$F$2:$G$1123,2,FALSE)),\"\",VLOOKUP((CONCATENATE(BJ137,BL137)),Divipolas!$F$2:$G$1123,2,FALSE))","v":""},null,"","",null,null,null,null,{"$f":"IF(ISNA(VLOOKUP(BT137,Divipolas!$A$2:$B$1123,2,FALSE)),\"\",VLOOKUP(BT137,Divipolas!$A$2:$B$1123,2,FALSE))","v":""},null,{"$f":"IF(ISNA(VLOOKUP((CONCATENATE(BT137,BV137)),Divipolas!$F$2:$G$1123,2,FALSE)),\"\",VLOOKUP((CONCATENATE(BT137,BV137)),Divipolas!$F$2:$G$1123,2,FALSE))","v":""},null,null,null,null,null,null,null,null,null,null,null,null,null,null,null,null,null,null,null,null,null,null,null,"",null,null,null,null,null,null,null,null,null,null,null,null,null,null,null,null,null,null,null,null,null,null,null,null,null,null,null,null,null,null,null,null,null,null,null,null,null,null,null,null,null,null,null,null,null,null,null,null,null,null,null,null,null,null,null,null,null,null,null,null,null,null,null,null,null,null,null,null,null,null,null,null,null,null,null,null,"",null,null,null,null,null,null,null,"VERIFIQUE FECHAS",null,null,null,null,null,null,null,null,null,"VERIFIQUE COLUMNA D"]
["",{"$f":"IF(AND($B$6<>\"\",C138<>\"\"),$B$6,\"\")","v":""},null,"",{"$f":"IFERROR(VLOOKUP(D138,'CODIGO REGIONALES'!$J$2:$L$33,3,0),\"\")","v":""},"",{"$f":"IF(ISNA(VLOOKUP(F138,Divipolas!$A$2:$B$1123,2,FALSE)),\"\",VLOOKUP(F138,Divipolas!$A$2:$B$1123,2,FALSE))","v":""},"",{"$f":"IF(ISNA(VLOOKUP((CONCATENATE(F138,H138)),Divipolas!$F$2:$G$1123,2,FALSE)),\"\",VLOOKUP((CONCATENATE(F138,H138)),Divipolas!$F$2:$G$1123,2,FALSE))","v":""},"","","","","","","","",{"$f":"IF(ISNA(VLOOKUP(Q138,Divipolas!$A$2:$B$1123,2,FALSE)),\"\",VLOOKUP(Q138,Divipolas!$A$2:$B$1123,2,FALSE))","v":""},"",{"$f":"IF(ISNA(VLOOKUP((CONCATENATE(Q138,S138)),Divipolas!$F$2:$G$1123,2,FALSE)),\"\",VLOOKUP((CONCATENATE(Q138,S138)),Divipolas!$F$2:$G$1123,2,FALSE))","v":""},"","","","","","",{"$f":"IF(ISNA(VLOOKUP(Z138,'CODIGO PAIS'!$A$2:$B$231,2,FALSE)),\"\",VLOOKUP(Z138,'CODIGO PAIS'!$A$2:$B$231,2,FALSE))","v":""},"",{"$f":"IF(ISNA(VLOOKUP(AB138,Divipolas!$A$2:$B$1123,2,FALSE)),\"\",VLOOKUP(AB138,Divipolas!$A$2:$B$1123,2,FALSE))","v":""},"",{"$f":"IF(ISNA(VLOOKUP((CONCATENATE(AB138,AD138)),Divipolas!$F$2:$G$1123,2,FALSE)),\"\",VLOOKUP((CONCATENATE(AB138,AD138)),Divipolas!$F$2:$G$1123,2,FALSE))","v":""},"","","","","",{"$f":"IF(ISNA(VLOOKUP(AJ138,Divipolas!$A$2:$B$1123,2,FALSE)),\"\",VLOOKUP(AJ138,Divipolas!$A$2:$B$1123,2,FALSE))","v":""},"",{"$f":"IF(ISNA(VLOOKUP((CONCATENATE(AJ138,AL138)),Divipolas!$F$2:$G$1123,2,FALSE)),\"\",VLOOKUP((CONCATENATE(AJ138,AL138)),Divipolas!$F$2:$G$1123,2,FALSE))","v":""},"","","","","","","","","","","","","","",null,null,null,null,null,null,null,{"$f":"IF(ISNA(VLOOKUP(BH138,'CODIGO PAIS'!$A$2:$B$231,2,FALSE)),\"\",VLOOKUP(BH138,'CODIGO PAIS'!$A$2:$B$231,2,FALSE))","v":""},null,{"$f":"IF(ISNA(VLOOKUP(BJ138,Divipolas!$A$2:$B$1123,2,FALSE)),\"\",VLOOKUP(BJ138,Divipolas!$A$2:$B$1123,2,FALSE))","v":""},null,{"$f":"IF(ISNA(VLOOKUP((CONCATENATE(BJ138,BL138)),Divipolas!$F$2:$G$1123,2,FALSE)),\"\",VLOOKUP((CONCATENATE(BJ138,BL138)),Divipolas!$F$2:$G$1123,2,FALSE))","v":""},null,"","",null,null,null,null,{"$f":"IF(ISNA(VLOOKUP(BT138,Divipolas!$A$2:$B$1123,2,FALSE)),\"\",VLOOKUP(BT138,Divipolas!$A$2:$B$1123,2,FALSE))","v":""},null,{"$f":"IF(ISNA(VLOOKUP((CONCATENATE(BT138,BV138)),Divipolas!$F$2:$G$1123,2,FALSE)),\"\",VLOOKUP((CONCATENATE(BT138,BV138)),Divipolas!$F$2:$G$1123,2,FALSE))","v":""},null,null,null,null,null,null,null,null,null,null,null,null,null,null,null,null,null,null,null,null,null,null,null,"",null,null,null,null,null,null,null,null,null,null,null,null,null,null,null,null,null,null,null,null,null,null,null,null,null,null,null,null,null,null,null,null,null,null,null,null,null,null,null,null,null,null,null,null,null,null,null,null,null,null,null,null,null,null,null,null,null,null,null,null,null,null,null,null,null,null,null,null,null,null,null,null,null,null,null,null,"",null,null,null,null,null,null,null,"VERIFIQUE FECHAS",null,null,null,null,null,null,null,null,null,"VERIFIQUE COLUMNA D"]
[{"$f":"IF(C139<>\"\",A138+1,\"\")","v":""},"",null,{"$f":"IF(AND(C139<>\"\",D138<>\"\"),D138,\"\")","v":""},{"$f":"IFERROR(VLOOKUP(D139,'CODIGO REGIONALES'!$J$2:$L$33,3,0),\"\")","v":""},{"$f":"IF(AND(C139<>\"\",F138<>\"\"),F138,\"\")","v":""},{"$f":"IF(ISNA(VLOOKUP(F139,Divipolas!$A$2:$B$1123,2,FALSE)),\"\",VLOOKUP(F139,Divipolas!$A$2:$B$1123,2,FALSE))","v":""},{"$f":"IF(AND(C139<>\"\",H138<>\"\"),H138,\"\")","v":""},{"$f":"IF(ISNA(VLOOKUP((CONCATENATE(F139,H139)),Divipolas!$F$2:$G$1123,2,FALSE)),\"\",VLOOKUP((CONCATENATE(F139,H139)),Divipolas!$F$2:$G$1123,2,FALSE))","v":""},{"$f":"IF(AND(C139<>\"\",J138<>\"\"),J138,\"\")","v":""},"","","","","","","",{"$f":"IF(ISNA(VLOOKUP(Q139,Divipolas!$A$2:$B$1123,2,FALSE)),\"\",VLOOKUP(Q139,Divipolas!$A$2:$B$1123,2,FALSE))","v":""},{"$f":"IF(AND($C139<>\"\",S138<>\"\"),S138,\"\")","v":""},{"$f":"IF(ISNA(VLOOKUP((CONCATENATE(Q139,S139)),Divipolas!$F$2:$G$1123,2,FALSE)),\"\",VLOOKUP((CONCATENATE(Q139,S139)),Divipolas!$F$2:$G$1123,2,FALSE))","v":""},{"$f":"IF(AND(BC139<>\"\",U138<>\"\"),U138,\"\")","v":""},{"$f":"IF(AND(BC139<>\"\",V138<>\"\"),V138,\"\")","v":""},{"$f":"IF(AND(BC139<>\"\",W138<>\"\"),W138,\"\")","v":""},{"$f":"IF(AND(BC139<>\"\",X138<>\"\"),X138,\"\")","v":""},{"$f":"IF(AND(BC139<>\"\",Y138<>\"\"),Y138,\"\")","v":""},{"$f":"IF(AND(BC139<>\"\",Z138<>\"\"),Z138,\"\")","v":""},{"$f":"IF(ISNA(VLOOKUP(Z139,'CODIGO PAIS'!$A$2:$B$231,2,FALSE)),\"\",VLOOKUP(Z139,'CODIGO PAIS'!$A$2:$B$231,2,FALSE))","v":""},{"$f":"IF(AND(BC139<>\"\",AB138<>\"\"),AB138,\"\")","v":""},{"$f":"IF(ISNA(VLOOKUP(AB139,Divipolas!$A$2:$B$1123,2,FALSE)),\"\",VLOOKUP(AB139,Divipolas!$A$2:$B$1123,2,FALSE))","v":""},{"$f":"IF(AND(BC139<>\"\",AD138<>\"\"),AD138,\"\")","v":""},{"$f":"IF(ISNA(VLOOKUP((CONCATENATE(AB139,AD139)),Divipolas!$F$2:$G$1123,2,FALSE)),\"\",VLOOKUP((CONCATENATE(AB139,AD139)),Divipolas!$F$2:$G$1123,2,FALSE))","v":""},{"$f":"IF(AND(BC139<>\"\",AF138<>\"\"),AF138,\"\")","v":""},{"$f":"IF(AND(BC139<>\"\",AG138<>\"\"),AG138,\"\")","v":""},{"$f":"IF(AND(BC139<>\"\",AH138<>\"\"),AH138,\"\")","v":""},{"$f":"IF(AND(BC139<>\"\",AI138<>\"\"),AI138,\"\")","v":""},{"$f":"IF(AND(BC139<>\"\",AJ138<>\"\"),AJ138,\"\")","v":""},{"$f":"IF(ISNA(VLOOKUP(AJ139,Divipolas!$A$2:$B$1123,2,FALSE)),\"\",VLOOKUP(AJ139,Divipolas!$A$2:$B$1123,2,FALSE))","v":""},{"$f":"IF(AND(BC139<>\"\",AL138<>\"\"),AL138,\"\")","v":""},{"$f":"IF(ISNA(VLOOKUP((CONCATENATE(AJ139,AL139)),Divipolas!$F$2:$G$1123,2,FALSE)),\"\",VLOOKUP((CONCATENATE(AJ139,AL139)),Divipolas!$F$2:$G$1123,2,FALSE))","v":""},{"$f":"IF(AND(BC139<>\"\",AN138<>\"\"),AN138,\"\")","v":""},{"$f":"IF(AND(BC139<>\"\",AO138<>\"\"),AO138,\"\")","v":""},{"$f":"IF(AND(BC139<>\"\",AP138<>\"\"),AP138,\"\")","v":""},{"$f":"IF(AND(BC139<>\"\",AQ138<>\"\"),AQ138,\"\")","v":""},{"$f":"IF(AND(BC139<>\"\",AR138<>\"\"),AR138,\"\")","v":""},{"$f":"IF(AND(BC139<>\"\",AS138<>\"\"),AS138,\"\")","v":""},{"$f":"IF(AND(BC139<>\"\",AT138<>\"\"),AT138,\"\")","v":""},{"$f":"IF(AND($BC139<>\"\",AU138<>\"\"),AU138,\"\")","v":""},{"$f":"IF(AND(BC139<>\"\",AV138<>\"\"),AV138,\"\")","v":""},{"$f":"IF(AND(BC139<>\"\",AW138<>\"\"),AW138,\"\")","v":""},{"$f":"IF(AND(BC139<>\"\",AX138<>\"\"),AX138,\"\")","v":""},{"$f":"IF(AND(BC139<>\"\",AY138<>\"\"),AY138,\"\")","v":""},{"$f":"IF(AND(BC139<>\"\",AZ138<>\"\"),AZ138,\"\")","v":""},{"$f":"IF(AND(BC139<>\"\",BA138<>\"\"),BA138,\"\")","v":""},null,null,null,null,null,null,null,{"$f":"IF(ISNA(VLOOKUP(BH139,'CODIGO PAIS'!$A$2:$B$231,2,FALSE)),\"\",VLOOKUP(BH139,'CODIGO PAIS'!$A$2:$B$231,2,FALSE))","v":""},null,{"$f":"IF(ISNA(VLOOKUP(BJ139,Divipolas!$A$2:$B$1123,2,FALSE)),\"\",VLOOKUP(BJ139,Divipolas!$A$2:$B$1123,2,FALSE))","v":""},null,{"$f":"IF(ISNA(VLOOKUP((CONCATENATE(BJ139,BL139)),Divipolas!$F$2:$G$1123,2,FALSE)),\"\",VLOOKUP((CONCATENATE(BJ139,BL139)),Divipolas!$F$2:$G$1123,2,FALSE))","v":""},null,{"$f":"IF(OR(C139=\"\",BN139=\"\"),\"\",DATEDIF(BN139,C139,\"y\"))","v":""},{"$f":"IF(OR(C139=\"\",BN139=\"\"),\"\",DATEDIF(BN139,C139,\"ym\"))","v":""},null,null,null,null,{"$f":"IF(ISNA(VLOOKUP(BT139,Divipolas!$A$2:$B$1123,2,FALSE)),\"\",VLOOKUP(BT139,Divipolas!$A$2:$B$1123,2,FALSE))","v":""},null,{"$f":"IF(ISNA(VLOOKUP((CONCATENATE(BT139,BV139)),Divipolas!$F$2:$G$1123,2,FALSE)),\"\",VLOOKUP((CONCATENATE(BT139,BV139)),Divipolas!$F$2:$G$1123,2,FALSE))","v":""},null,null,null,null,null,null,null,null,null,null,null,null,null,null,null,null,null,null,null,null,null,null,null,{"$f":"IF(OR(BG139=\"\",BO139=\"\"),\"\",IF(AND(BG139=\"F\",BO139>=52),\"SI\",IF(AND(BG139=\"M\",BO139>=57),\"SI\",\"NO\")))","v":""},null,null,null,null,null,null,null,null,null,null,null,null,null,null,null,null,null,null,null,null,null,null,null,null,null,null,null,null,null,null,null,null,null,null,null,null,null,null,null,null,null,null,null,null,null,null,null,null,null,null,null,null,null,null,null,null,null,null,null,null,null,null,null,null,null,null,null,null,null,null,null,null,null,null,null,null,"",null,null,null,null,null,null,null,"VERIFIQUE FECHAS",null,null,null,null,null,null,null,null,null,"VERIFIQUE COLUMNA D"]
["","",null,"",{"$f":"IFERROR(VLOOKUP(D140,'CODIGO REGIONALES'!$J$2:$L$33,3,0),\"\")","v":""},"",{"$f":"IF(ISNA(VLOOKUP(F140,Divipolas!$A$2:$B$1123,2,FALSE)),\"\",VLOOKUP(F140,Divipolas!$A$2:$B$1123,2,FALSE))","v":""},"",{"$f":"IF(ISNA(VLOOKUP((CONCATENATE(F140,H140)),Divipolas!$F$2:$G$1123,2,FALSE)),\"\",VLOOKUP((CONCATENATE(F140,H140)),Divipolas!$F$2:$G$1123,2,FALSE))","v":""},"","","","","","","","",{"$f":"IF(ISNA(VLOOKUP(Q140,Divipolas!$A$2:$B$1123,2,FALSE)),\"\",VLOOKUP(Q140,Divipolas!$A$2:$B$1123,2,FALSE))","v":""},"",{"$f":"IF(ISNA(VLOOKUP((CONCATENATE(Q140,S140)),Divipolas!$F$2:$G$1123,2,FALSE)),\"\",VLOOKUP((CONCATENATE(Q140,S140)),Divipolas!$F$2:$G$1123,2,FALSE))","v":""},"","","","","","",{"$f":"IF(ISNA(VLOOKUP(Z140,'CODIGO PAIS'!$A$2:$B$231,2,FALSE)),\"\",VLOOKUP(Z140,'CODIGO PAIS'!$A$2:$B$231,2,FALSE))","v":""},"",{"$f":"IF(ISNA(VLOOKUP(AB140,Divipolas!$A$2:$B$1123,2,FALSE)),\"\",VLOOKUP(AB140,Divipolas!$A$2:$B$1123,2,FALSE))","v":""},"",{"$f":"IF(ISNA(VLOOKUP((CONCATENATE(AB140,AD140)),Divipolas!$F$2:$G$1123,2,FALSE)),\"\",VLOOKUP((CONCATENATE(AB140,AD140)),Divipolas!$F$2:$G$1123,2,FALSE))","v":""},"","","","","",{"$f":"IF(ISNA(VLOOKUP(AJ140,Divipolas!$A$2:$B$1123,2,FALSE)),\"\",VLOOKUP(AJ140,Divipolas!$A$2:$B$1123,2,FALSE))","v":""},"",{"$f":"IF(ISNA(VLOOKUP((CONCATENATE(AJ140,AL140)),Divipolas!$F$2:$G$1123,2,FALSE)),\"\",VLOOKUP((CONCATENATE(AJ140,AL140)),Divipolas!$F$2:$G$1123,2,FALSE))","v":""},"","","","","","","","","","","","","","",null,null,null,null,null,null,null,{"$f":"IF(ISNA(VLOOKUP(BH140,'CODIGO PAIS'!$A$2:$B$231,2,FALSE)),\"\",VLOOKUP(BH140,'CODIGO PAIS'!$A$2:$B$231,2,FALSE))","v":""},null,{"$f":"IF(ISNA(VLOOKUP(BJ140,Divipolas!$A$2:$B$1123,2,FALSE)),\"\",VLOOKUP(BJ140,Divipolas!$A$2:$B$1123,2,FALSE))","v":""},null,{"$f":"IF(ISNA(VLOOKUP((CONCATENATE(BJ140,BL140)),Divipolas!$F$2:$G$1123,2,FALSE)),\"\",VLOOKUP((CONCATENATE(BJ140,BL140)),Divipolas!$F$2:$G$1123,2,FALSE))","v":""},null,"","",null,null,null,null,{"$f":"IF(ISNA(VLOOKUP(BT140,Divipolas!$A$2:$B$1123,2,FALSE)),\"\",VLOOKUP(BT140,Divipolas!$A$2:$B$1123,2,FALSE))","v":""},null,{"$f":"IF(ISNA(VLOOKUP((CONCATENATE(BT140,BV140)),Divipolas!$F$2:$G$1123,2,FALSE)),\"\",VLOOKUP((CONCATENATE(BT140,BV140)),Divipolas!$F$2:$G$1123,2,FALSE))","v":""},null,null,null,null,null,null,null,null,null,null,null,null,null,null,null,null,null,null,null,null,null,null,null,"",null,null,null,null,null,null,null,null,null,null,null,null,null,null,null,null,null,null,null,null,null,null,null,null,null,null,null,null,null,null,null,null,null,null,null,null,null,null,null,null,null,null,null,null,null,null,null,null,null,null,null,null,null,null,null,null,null,null,null,null,null,null,null,null,null,null,null,null,null,null,null,null,null,null,null,null,"",null,null,null,null,null,null,null,"VERIFIQUE FECHAS",null,null,null,null,null,null,null,null,null,"VERIFIQUE COLUMNA D"]
["","",null,"",{"$f":"IFERROR(VLOOKUP(D141,'CODIGO REGIONALES'!$J$2:$L$33,3,0),\"\")","v":""},"",{"$f":"IF(ISNA(VLOOKUP(F141,Divipolas!$A$2:$B$1123,2,FALSE)),\"\",VLOOKUP(F141,Divipolas!$A$2:$B$1123,2,FALSE))","v":""},"",{"$f":"IF(ISNA(VLOOKUP((CONCATENATE(F141,H141)),Divipolas!$F$2:$G$1123,2,FALSE)),\"\",VLOOKUP((CONCATENATE(F141,H141)),Divipolas!$F$2:$G$1123,2,FALSE))","v":""},"","","","","","","","",{"$f":"IF(ISNA(VLOOKUP(Q141,Divipolas!$A$2:$B$1123,2,FALSE)),\"\",VLOOKUP(Q141,Divipolas!$A$2:$B$1123,2,FALSE))","v":""},"",{"$f":"IF(ISNA(VLOOKUP((CONCATENATE(Q141,S141)),Divipolas!$F$2:$G$1123,2,FALSE)),\"\",VLOOKUP((CONCATENATE(Q141,S141)),Divipolas!$F$2:$G$1123,2,FALSE))","v":""},"","","","","","",{"$f":"IF(ISNA(VLOOKUP(Z141,'CODIGO PAIS'!$A$2:$B$231,2,FALSE)),\"\",VLOOKUP(Z141,'CODIGO PAIS'!$A$2:$B$231,2,FALSE))","v":""},"",{"$f":"IF(ISNA(VLOOKUP(AB141,Divipolas!$A$2:$B$1123,2,FALSE)),\"\",VLOOKUP(AB141,Divipolas!$A$2:$B$1123,2,FALSE))","v":""},"",{"$f":"IF(ISNA(VLOOKUP((CONCATENATE(AB141,AD141)),Divipolas!$F$2:$G$1123,2,FALSE)),\"\",VLOOKUP((CONCATENATE(AB141,AD141)),Divipolas!$F$2:$G$1123,2,FALSE))","v":""},"","","","","",{"$f":"IF(ISNA(VLOOKUP(AJ141,Divipolas!$A$2:$B$1123,2,FALSE)),\"\",VLOOKUP(AJ141,Divipolas!$A$2:$B$1123,2,FALSE))","v":""},"",{"$f":"IF(ISNA(VLOOKUP((CONCATENATE(AJ141,AL141)),Divipolas!$F$2:$G$1123,2,FALSE)),\"\",VLOOKUP((CONCATENATE(AJ141,AL141)),Divipolas!$F$2:$G$1123,2,FALSE))","v":""},"","","","","","","","","","","","","","",null,null,null,null,null,null,null,{"$f":"IF(ISNA(VLOOKUP(BH141,'CODIGO PAIS'!$A$2:$B$231,2,FALSE)),\"\",VLOOKUP(BH141,'CODIGO PAIS'!$A$2:$B$231,2,FALSE))","v":""},null,{"$f":"IF(ISNA(VLOOKUP(BJ141,Divipolas!$A$2:$B$1123,2,FALSE)),\"\",VLOOKUP(BJ141,Divipolas!$A$2:$B$1123,2,FALSE))","v":""},null,{"$f":"IF(ISNA(VLOOKUP((CONCATENATE(BJ141,BL141)),Divipolas!$F$2:$G$1123,2,FALSE)),\"\",VLOOKUP((CONCATENATE(BJ141,BL141)),Divipolas!$F$2:$G$1123,2,FALSE))","v":""},null,"","",null,null,null,null,{"$f":"IF(ISNA(VLOOKUP(BT141,Divipolas!$A$2:$B$1123,2,FALSE)),\"\",VLOOKUP(BT141,Divipolas!$A$2:$B$1123,2,FALSE))","v":""},null,{"$f":"IF(ISNA(VLOOKUP((CONCATENATE(BT141,BV141)),Divipolas!$F$2:$G$1123,2,FALSE)),\"\",VLOOKUP((CONCATENATE(BT141,BV141)),Divipolas!$F$2:$G$1123,2,FALSE))","v":""},null,null,null,null,null,null,null,null,null,null,null,null,null,null,null,null,null,null,null,null,null,null,null,"",null,null,null,null,null,null,null,null,null,null,null,null,null,null,null,null,null,null,null,null,null,null,null,null,null,null,null,null,null,null,null,null,null,null,null,null,null,null,null,null,null,null,null,null,null,null,null,null,null,null,null,null,null,null,null,null,null,null,null,null,null,null,null,null,null,null,null,null,null,null,null,null,null,null,null,null,"",null,null,null,null,null,null,null,"VERIFIQUE FECHAS",null,null,null,null,null,null,null,null,null,"VERIFIQUE COLUMNA D"]
["","",null,"",{"$f":"IFERROR(VLOOKUP(D142,'CODIGO REGIONALES'!$J$2:$L$33,3,0),\"\")","v":""},"",{"$f":"IF(ISNA(VLOOKUP(F142,Divipolas!$A$2:$B$1123,2,FALSE)),\"\",VLOOKUP(F142,Divipolas!$A$2:$B$1123,2,FALSE))","v":""},"",{"$f":"IF(ISNA(VLOOKUP((CONCATENATE(F142,H142)),Divipolas!$F$2:$G$1123,2,FALSE)),\"\",VLOOKUP((CONCATENATE(F142,H142)),Divipolas!$F$2:$G$1123,2,FALSE))","v":""},"","","","","","","","",{"$f":"IF(ISNA(VLOOKUP(Q142,Divipolas!$A$2:$B$1123,2,FALSE)),\"\",VLOOKUP(Q142,Divipolas!$A$2:$B$1123,2,FALSE))","v":""},"",{"$f":"IF(ISNA(VLOOKUP((CONCATENATE(Q142,S142)),Divipolas!$F$2:$G$1123,2,FALSE)),\"\",VLOOKUP((CONCATENATE(Q142,S142)),Divipolas!$F$2:$G$1123,2,FALSE))","v":""},"","","","","","",{"$f":"IF(ISNA(VLOOKUP(Z142,'CODIGO PAIS'!$A$2:$B$231,2,FALSE)),\"\",VLOOKUP(Z142,'CODIGO PAIS'!$A$2:$B$231,2,FALSE))","v":""},"",{"$f":"IF(ISNA(VLOOKUP(AB142,Divipolas!$A$2:$B$1123,2,FALSE)),\"\",VLOOKUP(AB142,Divipolas!$A$2:$B$1123,2,FALSE))","v":""},"",{"$f":"IF(ISNA(VLOOKUP((CONCATENATE(AB142,AD142)),Divipolas!$F$2:$G$1123,2,FALSE)),\"\",VLOOKUP((CONCATENATE(AB142,AD142)),Divipolas!$F$2:$G$1123,2,FALSE))","v":""},"","","","","",{"$f":"IF(ISNA(VLOOKUP(AJ142,Divipolas!$A$2:$B$1123,2,FALSE)),\"\",VLOOKUP(AJ142,Divipolas!$A$2:$B$1123,2,FALSE))","v":""},"",{"$f":"IF(ISNA(VLOOKUP((CONCATENATE(AJ142,AL142)),Divipolas!$F$2:$G$1123,2,FALSE)),\"\",VLOOKUP((CONCATENATE(AJ142,AL142)),Divipolas!$F$2:$G$1123,2,FALSE))","v":""},"","","","","","","","","","","","","","",null,null,null,null,null,null,null,{"$f":"IF(ISNA(VLOOKUP(BH142,'CODIGO PAIS'!$A$2:$B$231,2,FALSE)),\"\",VLOOKUP(BH142,'CODIGO PAIS'!$A$2:$B$231,2,FALSE))","v":""},null,{"$f":"IF(ISNA(VLOOKUP(BJ142,Divipolas!$A$2:$B$1123,2,FALSE)),\"\",VLOOKUP(BJ142,Divipolas!$A$2:$B$1123,2,FALSE))","v":""},null,{"$f":"IF(ISNA(VLOOKUP((CONCATENATE(BJ142,BL142)),Divipolas!$F$2:$G$1123,2,FALSE)),\"\",VLOOKUP((CONCATENATE(BJ142,BL142)),Divipolas!$F$2:$G$1123,2,FALSE))","v":""},null,"","",null,null,null,null,{"$f":"IF(ISNA(VLOOKUP(BT142,Divipolas!$A$2:$B$1123,2,FALSE)),\"\",VLOOKUP(BT142,Divipolas!$A$2:$B$1123,2,FALSE))","v":""},null,{"$f":"IF(ISNA(VLOOKUP((CONCATENATE(BT142,BV142)),Divipolas!$F$2:$G$1123,2,FALSE)),\"\",VLOOKUP((CONCATENATE(BT142,BV142)),Divipolas!$F$2:$G$1123,2,FALSE))","v":""},null,null,null,null,null,null,null,null,null,null,null,null,null,null,null,null,null,null,null,null,null,null,null,"",null,null,null,null,null,null,null,null,null,null,null,null,null,null,null,null,null,null,null,null,null,null,null,null,null,null,null,null,null,null,null,null,null,null,null,null,null,null,null,null,null,null,null,null,null,null,null,null,null,null,null,null,null,null,null,null,null,null,null,null,null,null,null,null,null,null,null,null,null,null,null,null,null,null,null,null,"",null,null,null,null,null,null,null,"VERIFIQUE FECHAS",null,null,null,null,null,null,null,null,null,"VERIFIQUE COLUMNA D"]
["","",null,"",{"$f":"IFERROR(VLOOKUP(D143,'CODIGO REGIONALES'!$J$2:$L$33,3,0),\"\")","v":""},"",{"$f":"IF(ISNA(VLOOKUP(F143,Divipolas!$A$2:$B$1123,2,FALSE)),\"\",VLOOKUP(F143,Divipolas!$A$2:$B$1123,2,FALSE))","v":""},"",{"$f":"IF(ISNA(VLOOKUP((CONCATENATE(F143,H143)),Divipolas!$F$2:$G$1123,2,FALSE)),\"\",VLOOKUP((CONCATENATE(F143,H143)),Divipolas!$F$2:$G$1123,2,FALSE))","v":""},"","","","","","","","",{"$f":"IF(ISNA(VLOOKUP(Q143,Divipolas!$A$2:$B$1123,2,FALSE)),\"\",VLOOKUP(Q143,Divipolas!$A$2:$B$1123,2,FALSE))","v":""},"",{"$f":"IF(ISNA(VLOOKUP((CONCATENATE(Q143,S143)),Divipolas!$F$2:$G$1123,2,FALSE)),\"\",VLOOKUP((CONCATENATE(Q143,S143)),Divipolas!$F$2:$G$1123,2,FALSE))","v":""},"","","","","","",{"$f":"IF(ISNA(VLOOKUP(Z143,'CODIGO PAIS'!$A$2:$B$231,2,FALSE)),\"\",VLOOKUP(Z143,'CODIGO PAIS'!$A$2:$B$231,2,FALSE))","v":""},"",{"$f":"IF(ISNA(VLOOKUP(AB143,Divipolas!$A$2:$B$1123,2,FALSE)),\"\",VLOOKUP(AB143,Divipolas!$A$2:$B$1123,2,FALSE))","v":""},"",{"$f":"IF(ISNA(VLOOKUP((CONCATENATE(AB143,AD143)),Divipolas!$F$2:$G$1123,2,FALSE)),\"\",VLOOKUP((CONCATENATE(AB143,AD143)),Divipolas!$F$2:$G$1123,2,FALSE))","v":""},"","","","","",{"$f":"IF(ISNA(VLOOKUP(AJ143,Divipolas!$A$2:$B$1123,2,FALSE)),\"\",VLOOKUP(AJ143,Divipolas!$A$2:$B$1123,2,FALSE))","v":""},"",{"$f":"IF(ISNA(VLOOKUP((CONCATENATE(AJ143,AL143)),Divipolas!$F$2:$G$1123,2,FALSE)),\"\",VLOOKUP((CONCATENATE(AJ143,AL143)),Divipolas!$F$2:$G$1123,2,FALSE))","v":""},"","","","","","","","","","","","","","",null,null,null,null,null,null,null,{"$f":"IF(ISNA(VLOOKUP(BH143,'CODIGO PAIS'!$A$2:$B$231,2,FALSE)),\"\",VLOOKUP(BH143,'CODIGO PAIS'!$A$2:$B$231,2,FALSE))","v":""},null,{"$f":"IF(ISNA(VLOOKUP(BJ143,Divipolas!$A$2:$B$1123,2,FALSE)),\"\",VLOOKUP(BJ143,Divipolas!$A$2:$B$1123,2,FALSE))","v":""},null,{"$f":"IF(ISNA(VLOOKUP((CONCATENATE(BJ143,BL143)),Divipolas!$F$2:$G$1123,2,FALSE)),\"\",VLOOKUP((CONCATENATE(BJ143,BL143)),Divipolas!$F$2:$G$1123,2,FALSE))","v":""},null,"","",null,null,null,null,{"$f":"IF(ISNA(VLOOKUP(BT143,Divipolas!$A$2:$B$1123,2,FALSE)),\"\",VLOOKUP(BT143,Divipolas!$A$2:$B$1123,2,FALSE))","v":""},null,{"$f":"IF(ISNA(VLOOKUP((CONCATENATE(BT143,BV143)),Divipolas!$F$2:$G$1123,2,FALSE)),\"\",VLOOKUP((CONCATENATE(BT143,BV143)),Divipolas!$F$2:$G$1123,2,FALSE))","v":""},null,null,null,null,null,null,null,null,null,null,null,null,null,null,null,null,null,null,null,null,null,null,null,"",null,null,null,null,null,null,null,null,null,null,null,null,null,null,null,null,null,null,null,null,null,null,null,null,null,null,null,null,null,null,null,null,null,null,null,null,null,null,null,null,null,null,null,null,null,null,null,null,null,null,null,null,null,null,null,null,null,null,null,null,null,null,null,null,null,null,null,null,null,null,null,null,null,null,null,null,"",null,null,null,null,null,null,null,"VERIFIQUE FECHAS",null,null,null,null,null,null,null,null,null,"VERIFIQUE COLUMNA D"]
["","",null,"",{"$f":"IFERROR(VLOOKUP(D144,'CODIGO REGIONALES'!$J$2:$L$33,3,0),\"\")","v":""},"",{"$f":"IF(ISNA(VLOOKUP(F144,Divipolas!$A$2:$B$1123,2,FALSE)),\"\",VLOOKUP(F144,Divipolas!$A$2:$B$1123,2,FALSE))","v":""},"",{"$f":"IF(ISNA(VLOOKUP((CONCATENATE(F144,H144)),Divipolas!$F$2:$G$1123,2,FALSE)),\"\",VLOOKUP((CONCATENATE(F144,H144)),Divipolas!$F$2:$G$1123,2,FALSE))","v":""},"","","","","","","","",{"$f":"IF(ISNA(VLOOKUP(Q144,Divipolas!$A$2:$B$1123,2,FALSE)),\"\",VLOOKUP(Q144,Divipolas!$A$2:$B$1123,2,FALSE))","v":""},"",{"$f":"IF(ISNA(VLOOKUP((CONCATENATE(Q144,S144)),Divipolas!$F$2:$G$1123,2,FALSE)),\"\",VLOOKUP((CONCATENATE(Q144,S144)),Divipolas!$F$2:$G$1123,2,FALSE))","v":""},"","","","","","",{"$f":"IF(ISNA(VLOOKUP(Z144,'CODIGO PAIS'!$A$2:$B$231,2,FALSE)),\"\",VLOOKUP(Z144,'CODIGO PAIS'!$A$2:$B$231,2,FALSE))","v":""},"",{"$f":"IF(ISNA(VLOOKUP(AB144,Divipolas!$A$2:$B$1123,2,FALSE)),\"\",VLOOKUP(AB144,Divipolas!$A$2:$B$1123,2,FALSE))","v":""},"",{"$f":"IF(ISNA(VLOOKUP((CONCATENATE(AB144,AD144)),Divipolas!$F$2:$G$1123,2,FALSE)),\"\",VLOOKUP((CONCATENATE(AB144,AD144)),Divipolas!$F$2:$G$1123,2,FALSE))","v":""},"","","","","",{"$f":"IF(ISNA(VLOOKUP(AJ144,Divipolas!$A$2:$B$1123,2,FALSE)),\"\",VLOOKUP(AJ144,Divipolas!$A$2:$B$1123,2,FALSE))","v":""},"",{"$f":"IF(ISNA(VLOOKUP((CONCATENATE(AJ144,AL144)),Divipolas!$F$2:$G$1123,2,FALSE)),\"\",VLOOKUP((CONCATENATE(AJ144,AL144)),Divipolas!$F$2:$G$1123,2,FALSE))","v":""},"","","","","","","","","","","","","","",null,null,null,null,null,null,null,{"$f":"IF(ISNA(VLOOKUP(BH144,'CODIGO PAIS'!$A$2:$B$231,2,FALSE)),\"\",VLOOKUP(BH144,'CODIGO PAIS'!$A$2:$B$231,2,FALSE))","v":""},null,{"$f":"IF(ISNA(VLOOKUP(BJ144,Divipolas!$A$2:$B$1123,2,FALSE)),\"\",VLOOKUP(BJ144,Divipolas!$A$2:$B$1123,2,FALSE))","v":""},null,{"$f":"IF(ISNA(VLOOKUP((CONCATENATE(BJ144,BL144)),Divipolas!$F$2:$G$1123,2,FALSE)),\"\",VLOOKUP((CONCATENATE(BJ144,BL144)),Divipolas!$F$2:$G$1123,2,FALSE))","v":""},null,"","",null,null,null,null,{"$f":"IF(ISNA(VLOOKUP(BT144,Divipolas!$A$2:$B$1123,2,FALSE)),\"\",VLOOKUP(BT144,Divipolas!$A$2:$B$1123,2,FALSE))","v":""},null,{"$f":"IF(ISNA(VLOOKUP((CONCATENATE(BT144,BV144)),Divipolas!$F$2:$G$1123,2,FALSE)),\"\",VLOOKUP((CONCATENATE(BT144,BV144)),Divipolas!$F$2:$G$1123,2,FALSE))","v":""},null,null,null,null,null,null,null,null,null,null,null,null,null,null,null,null,null,null,null,null,null,null,null,"",null,null,null,null,null,null,null,null,null,null,null,null,null,null,null,null,null,null,null,null,null,null,null,null,null,null,null,null,null,null,null,null,null,null,null,null,null,null,null,null,null,null,null,null,null,null,null,null,null,null,null,null,null,null,null,null,null,null,null,null,null,null,null,null,null,null,null,null,null,null,null,null,null,null,null,null,"",null,null,null,null,null,null,null,"VERIFIQUE FECHAS",null,null,null,null,null,null,null,null,null,"VERIFIQUE COLUMNA D"]
["","",null,"",{"$f":"IFERROR(VLOOKUP(D145,'CODIGO REGIONALES'!$J$2:$L$33,3,0),\"\")","v":""},"",{"$f":"IF(ISNA(VLOOKUP(F145,Divipolas!$A$2:$B$1123,2,FALSE)),\"\",VLOOKUP(F145,Divipolas!$A$2:$B$1123,2,FALSE))","v":""},"",{"$f":"IF(ISNA(VLOOKUP((CONCATENATE(F145,H145)),Divipolas!$F$2:$G$1123,2,FALSE)),\"\",VLOOKUP((CONCATENATE(F145,H145)),Divipolas!$F$2:$G$1123,2,FALSE))","v":""},"","","","","","","","",{"$f":"IF(ISNA(VLOOKUP(Q145,Divipolas!$A$2:$B$1123,2,FALSE)),\"\",VLOOKUP(Q145,Divipolas!$A$2:$B$1123,2,FALSE))","v":""},"",{"$f":"IF(ISNA(VLOOKUP((CONCATENATE(Q145,S145)),Divipolas!$F$2:$G$1123,2,FALSE)),\"\",VLOOKUP((CONCATENATE(Q145,S145)),Divipolas!$F$2:$G$1123,2,FALSE))","v":""},"","","","","","",{"$f":"IF(ISNA(VLOOKUP(Z145,'CODIGO PAIS'!$A$2:$B$231,2,FALSE)),\"\",VLOOKUP(Z145,'CODIGO PAIS'!$A$2:$B$231,2,FALSE))","v":""},"",{"$f":"IF(ISNA(VLOOKUP(AB145,Divipolas!$A$2:$B$1123,2,FALSE)),\"\",VLOOKUP(AB145,Divipolas!$A$2:$B$1123,2,FALSE))","v":""},"",{"$f":"IF(ISNA(VLOOKUP((CONCATENATE(AB145,AD145)),Divipolas!$F$2:$G$1123,2,FALSE)),\"\",VLOOKUP((CONCATENATE(AB145,AD145)),Divipolas!$F$2:$G$1123,2,FALSE))","v":""},"","","","","",{"$f":"IF(ISNA(VLOOKUP(AJ145,Divipolas!$A$2:$B$1123,2,FALSE)),\"\",VLOOKUP(AJ145,Divipolas!$A$2:$B$1123,2,FALSE))","v":""},"",{"$f":"IF(ISNA(VLOOKUP((CONCATENATE(AJ145,AL145)),Divipolas!$F$2:$G$1123,2,FALSE)),\"\",VLOOKUP((CONCATENATE(AJ145,AL145)),Divipolas!$F$2:$G$1123,2,FALSE))","v":""},"","","","","","","","","","","","","","",null,null,null,null,null,null,null,{"$f":"IF(ISNA(VLOOKUP(BH145,'CODIGO PAIS'!$A$2:$B$231,2,FALSE)),\"\",VLOOKUP(BH145,'CODIGO PAIS'!$A$2:$B$231,2,FALSE))","v":""},null,{"$f":"IF(ISNA(VLOOKUP(BJ145,Divipolas!$A$2:$B$1123,2,FALSE)),\"\",VLOOKUP(BJ145,Divipolas!$A$2:$B$1123,2,FALSE))","v":""},null,{"$f":"IF(ISNA(VLOOKUP((CONCATENATE(BJ145,BL145)),Divipolas!$F$2:$G$1123,2,FALSE)),\"\",VLOOKUP((CONCATENATE(BJ145,BL145)),Divipolas!$F$2:$G$1123,2,FALSE))","v":""},null,"","",null,null,null,null,{"$f":"IF(ISNA(VLOOKUP(BT145,Divipolas!$A$2:$B$1123,2,FALSE)),\"\",VLOOKUP(BT145,Divipolas!$A$2:$B$1123,2,FALSE))","v":""},null,{"$f":"IF(ISNA(VLOOKUP((CONCATENATE(BT145,BV145)),Divipolas!$F$2:$G$1123,2,FALSE)),\"\",VLOOKUP((CONCATENATE(BT145,BV145)),Divipolas!$F$2:$G$1123,2,FALSE))","v":""},null,null,null,null,null,null,null,null,null,null,null,null,null,null,null,null,null,null,null,null,null,null,null,"",null,null,null,null,null,null,null,null,null,null,null,null,null,null,null,null,null,null,null,null,null,null,null,null,null,null,null,null,null,null,null,null,null,null,null,null,null,null,null,null,null,null,null,null,null,null,null,null,null,null,null,null,null,null,null,null,null,null,null,null,null,null,null,null,null,null,null,null,null,null,null,null,null,null,null,null,"",null,null,null,null,null,null,null,"VERIFIQUE FECHAS",null,null,null,null,null,null,null,null,null,"VERIFIQUE COLUMNA D"]
["","",null,"",{"$f":"IFERROR(VLOOKUP(D146,'CODIGO REGIONALES'!$J$2:$L$33,3,0),\"\")","v":""},"",{"$f":"IF(ISNA(VLOOKUP(F146,Divipolas!$A$2:$B$1123,2,FALSE)),\"\",VLOOKUP(F146,Divipolas!$A$2:$B$1123,2,FALSE))","v":""},"",{"$f":"IF(ISNA(VLOOKUP((CONCATENATE(F146,H146)),Divipolas!$F$2:$G$1123,2,FALSE)),\"\",VLOOKUP((CONCATENATE(F146,H146)),Divipolas!$F$2:$G$1123,2,FALSE))","v":""},"","","","","","","","",{"$f":"IF(ISNA(VLOOKUP(Q146,Divipolas!$A$2:$B$1123,2,FALSE)),\"\",VLOOKUP(Q146,Divipolas!$A$2:$B$1123,2,FALSE))","v":""},"",{"$f":"IF(ISNA(VLOOKUP((CONCATENATE(Q146,S146)),Divipolas!$F$2:$G$1123,2,FALSE)),\"\",VLOOKUP((CONCATENATE(Q146,S146)),Divipolas!$F$2:$G$1123,2,FALSE))","v":""},"","","","","","",{"$f":"IF(ISNA(VLOOKUP(Z146,'CODIGO PAIS'!$A$2:$B$231,2,FALSE)),\"\",VLOOKUP(Z146,'CODIGO PAIS'!$A$2:$B$231,2,FALSE))","v":""},"",{"$f":"IF(ISNA(VLOOKUP(AB146,Divipolas!$A$2:$B$1123,2,FALSE)),\"\",VLOOKUP(AB146,Divipolas!$A$2:$B$1123,2,FALSE))","v":""},"",{"$f":"IF(ISNA(VLOOKUP((CONCATENATE(AB146,AD146)),Divipolas!$F$2:$G$1123,2,FALSE)),\"\",VLOOKUP((CONCATENATE(AB146,AD146)),Divipolas!$F$2:$G$1123,2,FALSE))","v":""},"","","","","",{"$f":"IF(ISNA(VLOOKUP(AJ146,Divipolas!$A$2:$B$1123,2,FALSE)),\"\",VLOOKUP(AJ146,Divipolas!$A$2:$B$1123,2,FALSE))","v":""},"",{"$f":"IF(ISNA(VLOOKUP((CONCATENATE(AJ146,AL146)),Divipolas!$F$2:$G$1123,2,FALSE)),\"\",VLOOKUP((CONCATENATE(AJ146,AL146)),Divipolas!$F$2:$G$1123,2,FALSE))","v":""},"","","","","","","","","","","","","","",null,null,null,null,null,null,null,{"$f":"IF(ISNA(VLOOKUP(BH146,'CODIGO PAIS'!$A$2:$B$231,2,FALSE)),\"\",VLOOKUP(BH146,'CODIGO PAIS'!$A$2:$B$231,2,FALSE))","v":""},null,{"$f":"IF(ISNA(VLOOKUP(BJ146,Divipolas!$A$2:$B$1123,2,FALSE)),\"\",VLOOKUP(BJ146,Divipolas!$A$2:$B$1123,2,FALSE))","v":""},null,{"$f":"IF(ISNA(VLOOKUP((CONCATENATE(BJ146,BL146)),Divipolas!$F$2:$G$1123,2,FALSE)),\"\",VLOOKUP((CONCATENATE(BJ146,BL146)),Divipolas!$F$2:$G$1123,2,FALSE))","v":""},null,"","",null,null,null,null,{"$f":"IF(ISNA(VLOOKUP(BT146,Divipolas!$A$2:$B$1123,2,FALSE)),\"\",VLOOKUP(BT146,Divipolas!$A$2:$B$1123,2,FALSE))","v":""},null,{"$f":"IF(ISNA(VLOOKUP((CONCATENATE(BT146,BV146)),Divipolas!$F$2:$G$1123,2,FALSE)),\"\",VLOOKUP((CONCATENATE(BT146,BV146)),Divipolas!$F$2:$G$1123,2,FALSE))","v":""},null,null,null,null,null,null,null,null,null,null,null,null,null,null,null,null,null,null,null,null,null,null,null,"",null,null,null,null,null,null,null,null,null,null,null,null,null,null,null,null,null,null,null,null,null,null,null,null,null,null,null,null,null,null,null,null,null,null,null,null,null,null,null,null,null,null,null,null,null,null,null,null,null,null,null,null,null,null,null,null,null,null,null,null,null,null,null,null,null,null,null,null,null,null,null,null,null,null,null,null,"",null,null,null,null,null,null,null,"VERIFIQUE FECHAS",null,null,null,null,null,null,null,null,null,"VERIFIQUE COLUMNA D"]
["","",null,"",{"$f":"IFERROR(VLOOKUP(D147,'CODIGO REGIONALES'!$J$2:$L$33,3,0),\"\")","v":""},"",{"$f":"IF(ISNA(VLOOKUP(F147,Divipolas!$A$2:$B$1123,2,FALSE)),\"\",VLOOKUP(F147,Divipolas!$A$2:$B$1123,2,FALSE))","v":""},"",{"$f":"IF(ISNA(VLOOKUP((CONCATENATE(F147,H147)),Divipolas!$F$2:$G$1123,2,FALSE)),\"\",VLOOKUP((CONCATENATE(F147,H147)),Divipolas!$F$2:$G$1123,2,FALSE))","v":""},"","","","","","","","",{"$f":"IF(ISNA(VLOOKUP(Q147,Divipolas!$A$2:$B$1123,2,FALSE)),\"\",VLOOKUP(Q147,Divipolas!$A$2:$B$1123,2,FALSE))","v":""},"",{"$f":"IF(ISNA(VLOOKUP((CONCATENATE(Q147,S147)),Divipolas!$F$2:$G$1123,2,FALSE)),\"\",VLOOKUP((CONCATENATE(Q147,S147)),Divipolas!$F$2:$G$1123,2,FALSE))","v":""},"","","","","","",{"$f":"IF(ISNA(VLOOKUP(Z147,'CODIGO PAIS'!$A$2:$B$231,2,FALSE)),\"\",VLOOKUP(Z147,'CODIGO PAIS'!$A$2:$B$231,2,FALSE))","v":""},"",{"$f":"IF(ISNA(VLOOKUP(AB147,Divipolas!$A$2:$B$1123,2,FALSE)),\"\",VLOOKUP(AB147,Divipolas!$A$2:$B$1123,2,FALSE))","v":""},"",{"$f":"IF(ISNA(VLOOKUP((CONCATENATE(AB147,AD147)),Divipolas!$F$2:$G$1123,2,FALSE)),\"\",VLOOKUP((CONCATENATE(AB147,AD147)),Divipolas!$F$2:$G$1123,2,FALSE))","v":""},"","","","","",{"$f":"IF(ISNA(VLOOKUP(AJ147,Divipolas!$A$2:$B$1123,2,FALSE)),\"\",VLOOKUP(AJ147,Divipolas!$A$2:$B$1123,2,FALSE))","v":""},"",{"$f":"IF(ISNA(VLOOKUP((CONCATENATE(AJ147,AL147)),Divipolas!$F$2:$G$1123,2,FALSE)),\"\",VLOOKUP((CONCATENATE(AJ147,AL147)),Divipolas!$F$2:$G$1123,2,FALSE))","v":""},"","","","","","","","","","","","","","",null,null,null,null,null,null,null,{"$f":"IF(ISNA(VLOOKUP(BH147,'CODIGO PAIS'!$A$2:$B$231,2,FALSE)),\"\",VLOOKUP(BH147,'CODIGO PAIS'!$A$2:$B$231,2,FALSE))","v":""},null,{"$f":"IF(ISNA(VLOOKUP(BJ147,Divipolas!$A$2:$B$1123,2,FALSE)),\"\",VLOOKUP(BJ147,Divipolas!$A$2:$B$1123,2,FALSE))","v":""},null,{"$f":"IF(ISNA(VLOOKUP((CONCATENATE(BJ147,BL147)),Divipolas!$F$2:$G$1123,2,FALSE)),\"\",VLOOKUP((CONCATENATE(BJ147,BL147)),Divipolas!$F$2:$G$1123,2,FALSE))","v":""},null,"","",null,null,null,null,{"$f":"IF(ISNA(VLOOKUP(BT147,Divipolas!$A$2:$B$1123,2,FALSE)),\"\",VLOOKUP(BT147,Divipolas!$A$2:$B$1123,2,FALSE))","v":""},null,{"$f":"IF(ISNA(VLOOKUP((CONCATENATE(BT147,BV147)),Divipolas!$F$2:$G$1123,2,FALSE)),\"\",VLOOKUP((CONCATENATE(BT147,BV147)),Divipolas!$F$2:$G$1123,2,FALSE))","v":""},null,null,null,null,null,null,null,null,null,null,null,null,null,null,null,null,null,null,null,null,null,null,null,"",null,null,null,null,null,null,null,null,null,null,null,null,null,null,null,null,null,null,null,null,null,null,null,null,null,null,null,null,null,null,null,null,null,null,null,null,null,null,null,null,null,null,null,null,null,null,null,null,null,null,null,null,null,null,null,null,null,null,null,null,null,null,null,null,null,null,null,null,null,null,null,null,null,null,null,null,"",null,null,null,null,null,null,null,"VERIFIQUE FECHAS",null,null,null,null,null,null,null,null,null,"VERIFIQUE COLUMNA D"]
["","",null,"",{"$f":"IFERROR(VLOOKUP(D148,'CODIGO REGIONALES'!$J$2:$L$33,3,0),\"\")","v":""},"",{"$f":"IF(ISNA(VLOOKUP(F148,Divipolas!$A$2:$B$1123,2,FALSE)),\"\",VLOOKUP(F148,Divipolas!$A$2:$B$1123,2,FALSE))","v":""},"",{"$f":"IF(ISNA(VLOOKUP((CONCATENATE(F148,H148)),Divipolas!$F$2:$G$1123,2,FALSE)),\"\",VLOOKUP((CONCATENATE(F148,H148)),Divipolas!$F$2:$G$1123,2,FALSE))","v":""},"","","","","","","","",{"$f":"IF(ISNA(VLOOKUP(Q148,Divipolas!$A$2:$B$1123,2,FALSE)),\"\",VLOOKUP(Q148,Divipolas!$A$2:$B$1123,2,FALSE))","v":""},"",{"$f":"IF(ISNA(VLOOKUP((CONCATENATE(Q148,S148)),Divipolas!$F$2:$G$1123,2,FALSE)),\"\",VLOOKUP((CONCATENATE(Q148,S148)),Divipolas!$F$2:$G$1123,2,FALSE))","v":""},"","","","","","",{"$f":"IF(ISNA(VLOOKUP(Z148,'CODIGO PAIS'!$A$2:$B$231,2,FALSE)),\"\",VLOOKUP(Z148,'CODIGO PAIS'!$A$2:$B$231,2,FALSE))","v":""},"",{"$f":"IF(ISNA(VLOOKUP(AB148,Divipolas!$A$2:$B$1123,2,FALSE)),\"\",VLOOKUP(AB148,Divipolas!$A$2:$B$1123,2,FALSE))","v":""},"",{"$f":"IF(ISNA(VLOOKUP((CONCATENATE(AB148,AD148)),Divipolas!$F$2:$G$1123,2,FALSE)),\"\",VLOOKUP((CONCATENATE(AB148,AD148)),Divipolas!$F$2:$G$1123,2,FALSE))","v":""},"","","","","",{"$f":"IF(ISNA(VLOOKUP(AJ148,Divipolas!$A$2:$B$1123,2,FALSE)),\"\",VLOOKUP(AJ148,Divipolas!$A$2:$B$1123,2,FALSE))","v":""},"",{"$f":"IF(ISNA(VLOOKUP((CONCATENATE(AJ148,AL148)),Divipolas!$F$2:$G$1123,2,FALSE)),\"\",VLOOKUP((CONCATENATE(AJ148,AL148)),Divipolas!$F$2:$G$1123,2,FALSE))","v":""},"","","","","","","","","","","","","","",null,null,null,null,null,null,null,{"$f":"IF(ISNA(VLOOKUP(BH148,'CODIGO PAIS'!$A$2:$B$231,2,FALSE)),\"\",VLOOKUP(BH148,'CODIGO PAIS'!$A$2:$B$231,2,FALSE))","v":""},null,{"$f":"IF(ISNA(VLOOKUP(BJ148,Divipolas!$A$2:$B$1123,2,FALSE)),\"\",VLOOKUP(BJ148,Divipolas!$A$2:$B$1123,2,FALSE))","v":""},null,{"$f":"IF(ISNA(VLOOKUP((CONCATENATE(BJ148,BL148)),Divipolas!$F$2:$G$1123,2,FALSE)),\"\",VLOOKUP((CONCATENATE(BJ148,BL148)),Divipolas!$F$2:$G$1123,2,FALSE))","v":""},null,"","",null,null,null,null,{"$f":"IF(ISNA(VLOOKUP(BT148,Divipolas!$A$2:$B$1123,2,FALSE)),\"\",VLOOKUP(BT148,Divipolas!$A$2:$B$1123,2,FALSE))","v":""},null,{"$f":"IF(ISNA(VLOOKUP((CONCATENATE(BT148,BV148)),Divipolas!$F$2:$G$1123,2,FALSE)),\"\",VLOOKUP((CONCATENATE(BT148,BV148)),Divipolas!$F$2:$G$1123,2,FALSE))","v":""},null,null,null,null,null,null,null,null,null,null,null,null,null,null,null,null,null,null,null,null,null,null,null,"",null,null,null,null,null,null,null,null,null,null,null,null,null,null,null,null,null,null,null,null,null,null,null,null,null,null,null,null,null,null,null,null,null,null,null,null,null,null,null,null,null,null,null,null,null,null,null,null,null,null,null,null,null,null,null,null,null,null,null,null,null,null,null,null,null,null,null,null,null,null,null,null,null,null,null,null,"",null,null,null,null,null,null,null,"VERIFIQUE FECHAS",null,null,null,null,null,null,null,null,null,"VERIFIQUE COLUMNA D"]
["","",null,"",{"$f":"IFERROR(VLOOKUP(D149,'CODIGO REGIONALES'!$J$2:$L$33,3,0),\"\")","v":""},"",{"$f":"IF(ISNA(VLOOKUP(F149,Divipolas!$A$2:$B$1123,2,FALSE)),\"\",VLOOKUP(F149,Divipolas!$A$2:$B$1123,2,FALSE))","v":""},"",{"$f":"IF(ISNA(VLOOKUP((CONCATENATE(F149,H149)),Divipolas!$F$2:$G$1123,2,FALSE)),\"\",VLOOKUP((CONCATENATE(F149,H149)),Divipolas!$F$2:$G$1123,2,FALSE))","v":""},"","","","","","","","",{"$f":"IF(ISNA(VLOOKUP(Q149,Divipolas!$A$2:$B$1123,2,FALSE)),\"\",VLOOKUP(Q149,Divipolas!$A$2:$B$1123,2,FALSE))","v":""},"",{"$f":"IF(ISNA(VLOOKUP((CONCATENATE(Q149,S149)),Divipolas!$F$2:$G$1123,2,FALSE)),\"\",VLOOKUP((CONCATENATE(Q149,S149)),Divipolas!$F$2:$G$1123,2,FALSE))","v":""},"","","","","","",{"$f":"IF(ISNA(VLOOKUP(Z149,'CODIGO PAIS'!$A$2:$B$231,2,FALSE)),\"\",VLOOKUP(Z149,'CODIGO PAIS'!$A$2:$B$231,2,FALSE))","v":""},"",{"$f":"IF(ISNA(VLOOKUP(AB149,Divipolas!$A$2:$B$1123,2,FALSE)),\"\",VLOOKUP(AB149,Divipolas!$A$2:$B$1123,2,FALSE))","v":""},"",{"$f":"IF(ISNA(VLOOKUP((CONCATENATE(AB149,AD149)),Divipolas!$F$2:$G$1123,2,FALSE)),\"\",VLOOKUP((CONCATENATE(AB149,AD149)),Divipolas!$F$2:$G$1123,2,FALSE))","v":""},"","","","","",{"$f":"IF(ISNA(VLOOKUP(AJ149,Divipolas!$A$2:$B$1123,2,FALSE)),\"\",VLOOKUP(AJ149,Divipolas!$A$2:$B$1123,2,FALSE))","v":""},"",{"$f":"IF(ISNA(VLOOKUP((CONCATENATE(AJ149,AL149)),Divipolas!$F$2:$G$1123,2,FALSE)),\"\",VLOOKUP((CONCATENATE(AJ149,AL149)),Divipolas!$F$2:$G$1123,2,FALSE))","v":""},"","","","","","","","","","","","","","",null,null,null,null,null,null,null,{"$f":"IF(ISNA(VLOOKUP(BH149,'CODIGO PAIS'!$A$2:$B$231,2,FALSE)),\"\",VLOOKUP(BH149,'CODIGO PAIS'!$A$2:$B$231,2,FALSE))","v":""},null,{"$f":"IF(ISNA(VLOOKUP(BJ149,Divipolas!$A$2:$B$1123,2,FALSE)),\"\",VLOOKUP(BJ149,Divipolas!$A$2:$B$1123,2,FALSE))","v":""},null,{"$f":"IF(ISNA(VLOOKUP((CONCATENATE(BJ149,BL149)),Divipolas!$F$2:$G$1123,2,FALSE)),\"\",VLOOKUP((CONCATENATE(BJ149,BL149)),Divipolas!$F$2:$G$1123,2,FALSE))","v":""},null,"","",null,null,null,null,{"$f":"IF(ISNA(VLOOKUP(BT149,Divipolas!$A$2:$B$1123,2,FALSE)),\"\",VLOOKUP(BT149,Divipolas!$A$2:$B$1123,2,FALSE))","v":""},null,{"$f":"IF(ISNA(VLOOKUP((CONCATENATE(BT149,BV149)),Divipolas!$F$2:$G$1123,2,FALSE)),\"\",VLOOKUP((CONCATENATE(BT149,BV149)),Divipolas!$F$2:$G$1123,2,FALSE))","v":""},null,null,null,null,null,null,null,null,null,null,null,null,null,null,null,null,null,null,null,null,null,null,null,"",null,null,null,null,null,null,null,null,null,null,null,null,null,null,null,null,null,null,null,null,null,null,null,null,null,null,null,null,null,null,null,null,null,null,null,null,null,null,null,null,null,null,null,null,null,null,null,null,null,null,null,null,null,null,null,null,null,null,null,null,null,null,null,null,null,null,null,null,null,null,null,null,null,null,null,null,"",null,null,null,null,null,null,null,"VERIFIQUE FECHAS",null,null,null,null,null,null,null,null,null,"VERIFIQUE COLUMNA D"]
["","",null,"",{"$f":"IFERROR(VLOOKUP(D150,'CODIGO REGIONALES'!$J$2:$L$33,3,0),\"\")","v":""},"",{"$f":"IF(ISNA(VLOOKUP(F150,Divipolas!$A$2:$B$1123,2,FALSE)),\"\",VLOOKUP(F150,Divipolas!$A$2:$B$1123,2,FALSE))","v":""},"",{"$f":"IF(ISNA(VLOOKUP((CONCATENATE(F150,H150)),Divipolas!$F$2:$G$1123,2,FALSE)),\"\",VLOOKUP((CONCATENATE(F150,H150)),Divipolas!$F$2:$G$1123,2,FALSE))","v":""},"","","","","","","","",{"$f":"IF(ISNA(VLOOKUP(Q150,Divipolas!$A$2:$B$1123,2,FALSE)),\"\",VLOOKUP(Q150,Divipolas!$A$2:$B$1123,2,FALSE))","v":""},"",{"$f":"IF(ISNA(VLOOKUP((CONCATENATE(Q150,S150)),Divipolas!$F$2:$G$1123,2,FALSE)),\"\",VLOOKUP((CONCATENATE(Q150,S150)),Divipolas!$F$2:$G$1123,2,FALSE))","v":""},"","","","","","",{"$f":"IF(ISNA(VLOOKUP(Z150,'CODIGO PAIS'!$A$2:$B$231,2,FALSE)),\"\",VLOOKUP(Z150,'CODIGO PAIS'!$A$2:$B$231,2,FALSE))","v":""},"",{"$f":"IF(ISNA(VLOOKUP(AB150,Divipolas!$A$2:$B$1123,2,FALSE)),\"\",VLOOKUP(AB150,Divipolas!$A$2:$B$1123,2,FALSE))","v":""},"",{"$f":"IF(ISNA(VLOOKUP((CONCATENATE(AB150,AD150)),Divipolas!$F$2:$G$1123,2,FALSE)),\"\",VLOOKUP((CONCATENATE(AB150,AD150)),Divipolas!$F$2:$G$1123,2,FALSE))","v":""},"","","","","",{"$f":"IF(ISNA(VLOOKUP(AJ150,Divipolas!$A$2:$B$1123,2,FALSE)),\"\",VLOOKUP(AJ150,Divipolas!$A$2:$B$1123,2,FALSE))","v":""},"",{"$f":"IF(ISNA(VLOOKUP((CONCATENATE(AJ150,AL150)),Divipolas!$F$2:$G$1123,2,FALSE)),\"\",VLOOKUP((CONCATENATE(AJ150,AL150)),Divipolas!$F$2:$G$1123,2,FALSE))","v":""},"","","","","","","","","","","","","","",null,null,null,null,null,null,null,{"$f":"IF(ISNA(VLOOKUP(BH150,'CODIGO PAIS'!$A$2:$B$231,2,FALSE)),\"\",VLOOKUP(BH150,'CODIGO PAIS'!$A$2:$B$231,2,FALSE))","v":""},null,{"$f":"IF(ISNA(VLOOKUP(BJ150,Divipolas!$A$2:$B$1123,2,FALSE)),\"\",VLOOKUP(BJ150,Divipolas!$A$2:$B$1123,2,FALSE))","v":""},null,{"$f":"IF(ISNA(VLOOKUP((CONCATENATE(BJ150,BL150)),Divipolas!$F$2:$G$1123,2,FALSE)),\"\",VLOOKUP((CONCATENATE(BJ150,BL150)),Divipolas!$F$2:$G$1123,2,FALSE))","v":""},null,"","",null,null,null,null,{"$f":"IF(ISNA(VLOOKUP(BT150,Divipolas!$A$2:$B$1123,2,FALSE)),\"\",VLOOKUP(BT150,Divipolas!$A$2:$B$1123,2,FALSE))","v":""},null,{"$f":"IF(ISNA(VLOOKUP((CONCATENATE(BT150,BV150)),Divipolas!$F$2:$G$1123,2,FALSE)),\"\",VLOOKUP((CONCATENATE(BT150,BV150)),Divipolas!$F$2:$G$1123,2,FALSE))","v":""},null,null,null,null,null,null,null,null,null,null,null,null,null,null,null,null,null,null,null,null,null,null,null,"",null,null,null,null,null,null,null,null,null,null,null,null,null,null,null,null,null,null,null,null,null,null,null,null,null,null,null,null,null,null,null,null,null,null,null,null,null,null,null,null,null,null,null,null,null,null,null,null,null,null,null,null,null,null,null,null,null,null,null,null,null,null,null,null,null,null,null,null,null,null,null,null,null,null,null,null,"",null,null,null,null,null,null,null,"VERIFIQUE FECHAS",null,null,null,null,null,null,null,null,null,"VERIFIQUE COLUMNA D"]
["","",null,"",{"$f":"IFERROR(VLOOKUP(D151,'CODIGO REGIONALES'!$J$2:$L$33,3,0),\"\")","v":""},"",{"$f":"IF(ISNA(VLOOKUP(F151,Divipolas!$A$2:$B$1123,2,FALSE)),\"\",VLOOKUP(F151,Divipolas!$A$2:$B$1123,2,FALSE))","v":""},"",{"$f":"IF(ISNA(VLOOKUP((CONCATENATE(F151,H151)),Divipolas!$F$2:$G$1123,2,FALSE)),\"\",VLOOKUP((CONCATENATE(F151,H151)),Divipolas!$F$2:$G$1123,2,FALSE))","v":""},"","","","","","","","",{"$f":"IF(ISNA(VLOOKUP(Q151,Divipolas!$A$2:$B$1123,2,FALSE)),\"\",VLOOKUP(Q151,Divipolas!$A$2:$B$1123,2,FALSE))","v":""},"",{"$f":"IF(ISNA(VLOOKUP((CONCATENATE(Q151,S151)),Divipolas!$F$2:$G$1123,2,FALSE)),\"\",VLOOKUP((CONCATENATE(Q151,S151)),Divipolas!$F$2:$G$1123,2,FALSE))","v":""},"","","","","","",{"$f":"IF(ISNA(VLOOKUP(Z151,'CODIGO PAIS'!$A$2:$B$231,2,FALSE)),\"\",VLOOKUP(Z151,'CODIGO PAIS'!$A$2:$B$231,2,FALSE))","v":""},"",{"$f":"IF(ISNA(VLOOKUP(AB151,Divipolas!$A$2:$B$1123,2,FALSE)),\"\",VLOOKUP(AB151,Divipolas!$A$2:$B$1123,2,FALSE))","v":""},"",{"$f":"IF(ISNA(VLOOKUP((CONCATENATE(AB151,AD151)),Divipolas!$F$2:$G$1123,2,FALSE)),\"\",VLOOKUP((CONCATENATE(AB151,AD151)),Divipolas!$F$2:$G$1123,2,FALSE))","v":""},"","","","","",{"$f":"IF(ISNA(VLOOKUP(AJ151,Divipolas!$A$2:$B$1123,2,FALSE)),\"\",VLOOKUP(AJ151,Divipolas!$A$2:$B$1123,2,FALSE))","v":""},"",{"$f":"IF(ISNA(VLOOKUP((CONCATENATE(AJ151,AL151)),Divipolas!$F$2:$G$1123,2,FALSE)),\"\",VLOOKUP((CONCATENATE(AJ151,AL151)),Divipolas!$F$2:$G$1123,2,FALSE))","v":""},"","","","","","","","","","","","","","",null,null,null,null,null,null,null,{"$f":"IF(ISNA(VLOOKUP(BH151,'CODIGO PAIS'!$A$2:$B$231,2,FALSE)),\"\",VLOOKUP(BH151,'CODIGO PAIS'!$A$2:$B$231,2,FALSE))","v":""},null,{"$f":"IF(ISNA(VLOOKUP(BJ151,Divipolas!$A$2:$B$1123,2,FALSE)),\"\",VLOOKUP(BJ151,Divipolas!$A$2:$B$1123,2,FALSE))","v":""},null,{"$f":"IF(ISNA(VLOOKUP((CONCATENATE(BJ151,BL151)),Divipolas!$F$2:$G$1123,2,FALSE)),\"\",VLOOKUP((CONCATENATE(BJ151,BL151)),Divipolas!$F$2:$G$1123,2,FALSE))","v":""},null,"","",null,null,null,null,{"$f":"IF(ISNA(VLOOKUP(BT151,Divipolas!$A$2:$B$1123,2,FALSE)),\"\",VLOOKUP(BT151,Divipolas!$A$2:$B$1123,2,FALSE))","v":""},null,{"$f":"IF(ISNA(VLOOKUP((CONCATENATE(BT151,BV151)),Divipolas!$F$2:$G$1123,2,FALSE)),\"\",VLOOKUP((CONCATENATE(BT151,BV151)),Divipolas!$F$2:$G$1123,2,FALSE))","v":""},null,null,null,null,null,null,null,null,null,null,null,null,null,null,null,null,null,null,null,null,null,null,null,"",null,null,null,null,null,null,null,null,null,null,null,null,null,null,null,null,null,null,null,null,null,null,null,null,null,null,null,null,null,null,null,null,null,null,null,null,null,null,null,null,null,null,null,null,null,null,null,null,null,null,null,null,null,null,null,null,null,null,null,null,null,null,null,null,null,null,null,null,null,null,null,null,null,null,null,null,"",null,null,null,null,null,null,null,"VERIFIQUE FECHAS",null,null,null,null,null,null,null,null,null,"VERIFIQUE COLUMNA D"]
["","",null,"",{"$f":"IFERROR(VLOOKUP(D152,'CODIGO REGIONALES'!$J$2:$L$33,3,0),\"\")","v":""},"",{"$f":"IF(ISNA(VLOOKUP(F152,Divipolas!$A$2:$B$1123,2,FALSE)),\"\",VLOOKUP(F152,Divipolas!$A$2:$B$1123,2,FALSE))","v":""},"",{"$f":"IF(ISNA(VLOOKUP((CONCATENATE(F152,H152)),Divipolas!$F$2:$G$1123,2,FALSE)),\"\",VLOOKUP((CONCATENATE(F152,H152)),Divipolas!$F$2:$G$1123,2,FALSE))","v":""},"",{"$f":"IF(AND($C152<>\"\",K151<>\"\"),K151,\"\")","v":""},"","","","","","",{"$f":"IF(ISNA(VLOOKUP(Q152,Divipolas!$A$2:$B$1123,2,FALSE)),\"\",VLOOKUP(Q152,Divipolas!$A$2:$B$1123,2,FALSE))","v":""},"",{"$f":"IF(ISNA(VLOOKUP((CONCATENATE(Q152,S152)),Divipolas!$F$2:$G$1123,2,FALSE)),\"\",VLOOKUP((CONCATENATE(Q152,S152)),Divipolas!$F$2:$G$1123,2,FALSE))","v":""},"","","","","","",{"$f":"IF(ISNA(VLOOKUP(Z152,'CODIGO PAIS'!$A$2:$B$231,2,FALSE)),\"\",VLOOKUP(Z152,'CODIGO PAIS'!$A$2:$B$231,2,FALSE))","v":""},"",{"$f":"IF(ISNA(VLOOKUP(AB152,Divipolas!$A$2:$B$1123,2,FALSE)),\"\",VLOOKUP(AB152,Divipolas!$A$2:$B$1123,2,FALSE))","v":""},"",{"$f":"IF(ISNA(VLOOKUP((CONCATENATE(AB152,AD152)),Divipolas!$F$2:$G$1123,2,FALSE)),\"\",VLOOKUP((CONCATENATE(AB152,AD152)),Divipolas!$F$2:$G$1123,2,FALSE))","v":""},"","","","","",{"$f":"IF(ISNA(VLOOKUP(AJ152,Divipolas!$A$2:$B$1123,2,FALSE)),\"\",VLOOKUP(AJ152,Divipolas!$A$2:$B$1123,2,FALSE))","v":""},"",{"$f":"IF(ISNA(VLOOKUP((CONCATENATE(AJ152,AL152)),Divipolas!$F$2:$G$1123,2,FALSE)),\"\",VLOOKUP((CONCATENATE(AJ152,AL152)),Divipolas!$F$2:$G$1123,2,FALSE))","v":""},"","","","","","","","","","","","","","",null,null,null,null,null,null,null,{"$f":"IF(ISNA(VLOOKUP(BH152,'CODIGO PAIS'!$A$2:$B$231,2,FALSE)),\"\",VLOOKUP(BH152,'CODIGO PAIS'!$A$2:$B$231,2,FALSE))","v":""},null,{"$f":"IF(ISNA(VLOOKUP(BJ152,Divipolas!$A$2:$B$1123,2,FALSE)),\"\",VLOOKUP(BJ152,Divipolas!$A$2:$B$1123,2,FALSE))","v":""},null,{"$f":"IF(ISNA(VLOOKUP((CONCATENATE(BJ152,BL152)),Divipolas!$F$2:$G$1123,2,FALSE)),\"\",VLOOKUP((CONCATENATE(BJ152,BL152)),Divipolas!$F$2:$G$1123,2,FALSE))","v":""},null,"","",null,null,null,null,{"$f":"IF(ISNA(VLOOKUP(BT152,Divipolas!$A$2:$B$1123,2,FALSE)),\"\",VLOOKUP(BT152,Divipolas!$A$2:$B$1123,2,FALSE))","v":""},null,{"$f":"IF(ISNA(VLOOKUP((CONCATENATE(BT152,BV152)),Divipolas!$F$2:$G$1123,2,FALSE)),\"\",VLOOKUP((CONCATENATE(BT152,BV152)),Divipolas!$F$2:$G$1123,2,FALSE))","v":""},null,null,null,null,null,null,null,null,null,null,null,null,null,null,null,null,null,null,null,null,null,null,null,"",null,null,null,null,null,null,null,null,null,null,null,null,null,null,null,null,null,null,null,null,null,null,null,null,null,null,null,null,null,null,null,null,null,null,null,null,null,null,null,null,null,null,null,null,null,null,null,null,null,null,null,null,null,null,null,null,null,null,null,null,null,null,null,null,null,null,null,null,null,null,null,null,null,null,null,null,"",null,null,null,null,null,null,null,"VERIFIQUE FECHAS",null,null,null,null,null,null,null,null,null,"VERIFIQUE COLUMNA D"]
["","",null,"",{"$f":"IFERROR(VLOOKUP(D153,'CODIGO REGIONALES'!$J$2:$L$33,3,0),\"\")","v":""},"",{"$f":"IF(ISNA(VLOOKUP(F153,Divipolas!$A$2:$B$1123,2,FALSE)),\"\",VLOOKUP(F153,Divipolas!$A$2:$B$1123,2,FALSE))","v":""},"",{"$f":"IF(ISNA(VLOOKUP((CONCATENATE(F153,H153)),Divipolas!$F$2:$G$1123,2,FALSE)),\"\",VLOOKUP((CONCATENATE(F153,H153)),Divipolas!$F$2:$G$1123,2,FALSE))","v":""},"","","","","","","","",{"$f":"IF(ISNA(VLOOKUP(Q153,Divipolas!$A$2:$B$1123,2,FALSE)),\"\",VLOOKUP(Q153,Divipolas!$A$2:$B$1123,2,FALSE))","v":""},"",{"$f":"IF(ISNA(VLOOKUP((CONCATENATE(Q153,S153)),Divipolas!$F$2:$G$1123,2,FALSE)),\"\",VLOOKUP((CONCATENATE(Q153,S153)),Divipolas!$F$2:$G$1123,2,FALSE))","v":""},"","","","","","",{"$f":"IF(ISNA(VLOOKUP(Z153,'CODIGO PAIS'!$A$2:$B$231,2,FALSE)),\"\",VLOOKUP(Z153,'CODIGO PAIS'!$A$2:$B$231,2,FALSE))","v":""},"",{"$f":"IF(ISNA(VLOOKUP(AB153,Divipolas!$A$2:$B$1123,2,FALSE)),\"\",VLOOKUP(AB153,Divipolas!$A$2:$B$1123,2,FALSE))","v":""},"",{"$f":"IF(ISNA(VLOOKUP((CONCATENATE(AB153,AD153)),Divipolas!$F$2:$G$1123,2,FALSE)),\"\",VLOOKUP((CONCATENATE(AB153,AD153)),Divipolas!$F$2:$G$1123,2,FALSE))","v":""},"","","","","",{"$f":"IF(ISNA(VLOOKUP(AJ153,Divipolas!$A$2:$B$1123,2,FALSE)),\"\",VLOOKUP(AJ153,Divipolas!$A$2:$B$1123,2,FALSE))","v":""},"",{"$f":"IF(ISNA(VLOOKUP((CONCATENATE(AJ153,AL153)),Divipolas!$F$2:$G$1123,2,FALSE)),\"\",VLOOKUP((CONCATENATE(AJ153,AL153)),Divipolas!$F$2:$G$1123,2,FALSE))","v":""},"","","","","","","","","","","","","","",null,null,null,null,null,null,null,{"$f":"IF(ISNA(VLOOKUP(BH153,'CODIGO PAIS'!$A$2:$B$231,2,FALSE)),\"\",VLOOKUP(BH153,'CODIGO PAIS'!$A$2:$B$231,2,FALSE))","v":""},null,{"$f":"IF(ISNA(VLOOKUP(BJ153,Divipolas!$A$2:$B$1123,2,FALSE)),\"\",VLOOKUP(BJ153,Divipolas!$A$2:$B$1123,2,FALSE))","v":""},null,{"$f":"IF(ISNA(VLOOKUP((CONCATENATE(BJ153,BL153)),Divipolas!$F$2:$G$1123,2,FALSE)),\"\",VLOOKUP((CONCATENATE(BJ153,BL153)),Divipolas!$F$2:$G$1123,2,FALSE))","v":""},null,"","",null,null,null,null,{"$f":"IF(ISNA(VLOOKUP(BT153,Divipolas!$A$2:$B$1123,2,FALSE)),\"\",VLOOKUP(BT153,Divipolas!$A$2:$B$1123,2,FALSE))","v":""},null,{"$f":"IF(ISNA(VLOOKUP((CONCATENATE(BT153,BV153)),Divipolas!$F$2:$G$1123,2,FALSE)),\"\",VLOOKUP((CONCATENATE(BT153,BV153)),Divipolas!$F$2:$G$1123,2,FALSE))","v":""},null,null,null,null,null,null,null,null,null,null,null,null,null,null,null,null,null,null,null,null,null,null,null,"",null,null,null,null,null,null,null,null,null,null,null,null,null,null,null,null,null,null,null,null,null,null,null,null,null,null,null,null,null,null,null,null,null,null,null,null,null,null,null,null,null,null,null,null,null,null,null,null,null,null,null,null,null,null,null,null,null,null,null,null,null,null,null,null,null,null,null,null,null,null,null,null,null,null,null,null,"",null,null,null,null,null,null,null,"VERIFIQUE FECHAS",null,null,null,null,null,null,null,null,null,"VERIFIQUE COLUMNA D"]
["","",null,"",{"$f":"IFERROR(VLOOKUP(D154,'CODIGO REGIONALES'!$J$2:$L$33,3,0),\"\")","v":""},"",{"$f":"IF(ISNA(VLOOKUP(F154,Divipolas!$A$2:$B$1123,2,FALSE)),\"\",VLOOKUP(F154,Divipolas!$A$2:$B$1123,2,FALSE))","v":""},"",{"$f":"IF(ISNA(VLOOKUP((CONCATENATE(F154,H154)),Divipolas!$F$2:$G$1123,2,FALSE)),\"\",VLOOKUP((CONCATENATE(F154,H154)),Divipolas!$F$2:$G$1123,2,FALSE))","v":""},"","","","","","","","",{"$f":"IF(ISNA(VLOOKUP(Q154,Divipolas!$A$2:$B$1123,2,FALSE)),\"\",VLOOKUP(Q154,Divipolas!$A$2:$B$1123,2,FALSE))","v":""},"",{"$f":"IF(ISNA(VLOOKUP((CONCATENATE(Q154,S154)),Divipolas!$F$2:$G$1123,2,FALSE)),\"\",VLOOKUP((CONCATENATE(Q154,S154)),Divipolas!$F$2:$G$1123,2,FALSE))","v":""},"","","","","","",{"$f":"IF(ISNA(VLOOKUP(Z154,'CODIGO PAIS'!$A$2:$B$231,2,FALSE)),\"\",VLOOKUP(Z154,'CODIGO PAIS'!$A$2:$B$231,2,FALSE))","v":""},"",{"$f":"IF(ISNA(VLOOKUP(AB154,Divipolas!$A$2:$B$1123,2,FALSE)),\"\",VLOOKUP(AB154,Divipolas!$A$2:$B$1123,2,FALSE))","v":""},"",{"$f":"IF(ISNA(VLOOKUP((CONCATENATE(AB154,AD154)),Divipolas!$F$2:$G$1123,2,FALSE)),\"\",VLOOKUP((CONCATENATE(AB154,AD154)),Divipolas!$F$2:$G$1123,2,FALSE))","v":""},"","","","","",{"$f":"IF(ISNA(VLOOKUP(AJ154,Divipolas!$A$2:$B$1123,2,FALSE)),\"\",VLOOKUP(AJ154,Divipolas!$A$2:$B$1123,2,FALSE))","v":""},"",{"$f":"IF(ISNA(VLOOKUP((CONCATENATE(AJ154,AL154)),Divipolas!$F$2:$G$1123,2,FALSE)),\"\",VLOOKUP((CONCATENATE(AJ154,AL154)),Divipolas!$F$2:$G$1123,2,FALSE))","v":""},"","","","","","","","","","","","","","",null,null,null,null,null,null,null,{"$f":"IF(ISNA(VLOOKUP(BH154,'CODIGO PAIS'!$A$2:$B$231,2,FALSE)),\"\",VLOOKUP(BH154,'CODIGO PAIS'!$A$2:$B$231,2,FALSE))","v":""},null,{"$f":"IF(ISNA(VLOOKUP(BJ154,Divipolas!$A$2:$B$1123,2,FALSE)),\"\",VLOOKUP(BJ154,Divipolas!$A$2:$B$1123,2,FALSE))","v":""},null,{"$f":"IF(ISNA(VLOOKUP((CONCATENATE(BJ154,BL154)),Divipolas!$F$2:$G$1123,2,FALSE)),\"\",VLOOKUP((CONCATENATE(BJ154,BL154)),Divipolas!$F$2:$G$1123,2,FALSE))","v":""},null,"","",null,null,null,null,{"$f":"IF(ISNA(VLOOKUP(BT154,Divipolas!$A$2:$B$1123,2,FALSE)),\"\",VLOOKUP(BT154,Divipolas!$A$2:$B$1123,2,FALSE))","v":""},null,{"$f":"IF(ISNA(VLOOKUP((CONCATENATE(BT154,BV154)),Divipolas!$F$2:$G$1123,2,FALSE)),\"\",VLOOKUP((CONCATENATE(BT154,BV154)),Divipolas!$F$2:$G$1123,2,FALSE))","v":""},null,null,null,null,null,null,null,null,null,null,null,null,null,null,null,null,null,null,null,null,null,null,null,"",null,null,null,null,null,null,null,null,null,null,null,null,null,null,null,null,null,null,null,null,null,null,null,null,null,null,null,null,null,null,null,null,null,null,null,null,null,null,null,null,null,null,null,null,null,null,null,null,null,null,null,null,null,null,null,null,null,null,null,null,null,null,null,null,null,null,null,null,null,null,null,null,null,null,null,null,"",null,null,null,null,null,null,null,"VERIFIQUE FECHAS",null,null,null,null,null,null,null,null,null,"VERIFIQUE COLUMNA D"]
["","",null,"",{"$f":"IFERROR(VLOOKUP(D155,'CODIGO REGIONALES'!$J$2:$L$33,3,0),\"\")","v":""},"",{"$f":"IF(ISNA(VLOOKUP(F155,Divipolas!$A$2:$B$1123,2,FALSE)),\"\",VLOOKUP(F155,Divipolas!$A$2:$B$1123,2,FALSE))","v":""},"",{"$f":"IF(ISNA(VLOOKUP((CONCATENATE(F155,H155)),Divipolas!$F$2:$G$1123,2,FALSE)),\"\",VLOOKUP((CONCATENATE(F155,H155)),Divipolas!$F$2:$G$1123,2,FALSE))","v":""},"","","","","","","","",{"$f":"IF(ISNA(VLOOKUP(Q155,Divipolas!$A$2:$B$1123,2,FALSE)),\"\",VLOOKUP(Q155,Divipolas!$A$2:$B$1123,2,FALSE))","v":""},"",{"$f":"IF(ISNA(VLOOKUP((CONCATENATE(Q155,S155)),Divipolas!$F$2:$G$1123,2,FALSE)),\"\",VLOOKUP((CONCATENATE(Q155,S155)),Divipolas!$F$2:$G$1123,2,FALSE))","v":""},"","","","","","",{"$f":"IF(ISNA(VLOOKUP(Z155,'CODIGO PAIS'!$A$2:$B$231,2,FALSE)),\"\",VLOOKUP(Z155,'CODIGO PAIS'!$A$2:$B$231,2,FALSE))","v":""},"",{"$f":"IF(ISNA(VLOOKUP(AB155,Divipolas!$A$2:$B$1123,2,FALSE)),\"\",VLOOKUP(AB155,Divipolas!$A$2:$B$1123,2,FALSE))","v":""},"",{"$f":"IF(ISNA(VLOOKUP((CONCATENATE(AB155,AD155)),Divipolas!$F$2:$G$1123,2,FALSE)),\"\",VLOOKUP((CONCATENATE(AB155,AD155)),Divipolas!$F$2:$G$1123,2,FALSE))","v":""},"","","","","",{"$f":"IF(ISNA(VLOOKUP(AJ155,Divipolas!$A$2:$B$1123,2,FALSE)),\"\",VLOOKUP(AJ155,Divipolas!$A$2:$B$1123,2,FALSE))","v":""},"",{"$f":"IF(ISNA(VLOOKUP((CONCATENATE(AJ155,AL155)),Divipolas!$F$2:$G$1123,2,FALSE)),\"\",VLOOKUP((CONCATENATE(AJ155,AL155)),Divipolas!$F$2:$G$1123,2,FALSE))","v":""},"","","","","","","","","","","","","","",null,null,null,null,null,null,null,{"$f":"IF(ISNA(VLOOKUP(BH155,'CODIGO PAIS'!$A$2:$B$231,2,FALSE)),\"\",VLOOKUP(BH155,'CODIGO PAIS'!$A$2:$B$231,2,FALSE))","v":""},null,{"$f":"IF(ISNA(VLOOKUP(BJ155,Divipolas!$A$2:$B$1123,2,FALSE)),\"\",VLOOKUP(BJ155,Divipolas!$A$2:$B$1123,2,FALSE))","v":""},null,{"$f":"IF(ISNA(VLOOKUP((CONCATENATE(BJ155,BL155)),Divipolas!$F$2:$G$1123,2,FALSE)),\"\",VLOOKUP((CONCATENATE(BJ155,BL155)),Divipolas!$F$2:$G$1123,2,FALSE))","v":""},null,"","",null,null,null,null,{"$f":"IF(ISNA(VLOOKUP(BT155,Divipolas!$A$2:$B$1123,2,FALSE)),\"\",VLOOKUP(BT155,Divipolas!$A$2:$B$1123,2,FALSE))","v":""},null,{"$f":"IF(ISNA(VLOOKUP((CONCATENATE(BT155,BV155)),Divipolas!$F$2:$G$1123,2,FALSE)),\"\",VLOOKUP((CONCATENATE(BT155,BV155)),Divipolas!$F$2:$G$1123,2,FALSE))","v":""},null,null,null,null,null,null,null,null,null,null,null,null,null,null,null,null,null,null,null,null,null,null,null,"",null,null,null,null,null,null,null,null,null,null,null,null,null,null,null,null,null,null,null,null,null,null,null,null,null,null,null,null,null,null,null,null,null,null,null,null,null,null,null,null,null,null,null,null,null,null,null,null,null,null,null,null,null,null,null,null,null,null,null,null,null,null,null,null,null,null,null,null,null,null,null,null,null,null,null,null,"",null,null,null,null,null,null,null,"VERIFIQUE FECHAS",null,null,null,null,null,null,null,null,null,"VERIFIQUE COLUMNA D"]
["","",null,"",{"$f":"IFERROR(VLOOKUP(D156,'CODIGO REGIONALES'!$J$2:$L$33,3,0),\"\")","v":""},"",{"$f":"IF(ISNA(VLOOKUP(F156,Divipolas!$A$2:$B$1123,2,FALSE)),\"\",VLOOKUP(F156,Divipolas!$A$2:$B$1123,2,FALSE))","v":""},"",{"$f":"IF(ISNA(VLOOKUP((CONCATENATE(F156,H156)),Divipolas!$F$2:$G$1123,2,FALSE)),\"\",VLOOKUP((CONCATENATE(F156,H156)),Divipolas!$F$2:$G$1123,2,FALSE))","v":""},"","","","","","","","",{"$f":"IF(ISNA(VLOOKUP(Q156,Divipolas!$A$2:$B$1123,2,FALSE)),\"\",VLOOKUP(Q156,Divipolas!$A$2:$B$1123,2,FALSE))","v":""},"",{"$f":"IF(ISNA(VLOOKUP((CONCATENATE(Q156,S156)),Divipolas!$F$2:$G$1123,2,FALSE)),\"\",VLOOKUP((CONCATENATE(Q156,S156)),Divipolas!$F$2:$G$1123,2,FALSE))","v":""},"","","","","","",{"$f":"IF(ISNA(VLOOKUP(Z156,'CODIGO PAIS'!$A$2:$B$231,2,FALSE)),\"\",VLOOKUP(Z156,'CODIGO PAIS'!$A$2:$B$231,2,FALSE))","v":""},"",{"$f":"IF(ISNA(VLOOKUP(AB156,Divipolas!$A$2:$B$1123,2,FALSE)),\"\",VLOOKUP(AB156,Divipolas!$A$2:$B$1123,2,FALSE))","v":""},"",{"$f":"IF(ISNA(VLOOKUP((CONCATENATE(AB156,AD156)),Divipolas!$F$2:$G$1123,2,FALSE)),\"\",VLOOKUP((CONCATENATE(AB156,AD156)),Divipolas!$F$2:$G$1123,2,FALSE))","v":""},"","","","","",{"$f":"IF(ISNA(VLOOKUP(AJ156,Divipolas!$A$2:$B$1123,2,FALSE)),\"\",VLOOKUP(AJ156,Divipolas!$A$2:$B$1123,2,FALSE))","v":""},"",{"$f":"IF(ISNA(VLOOKUP((CONCATENATE(AJ156,AL156)),Divipolas!$F$2:$G$1123,2,FALSE)),\"\",VLOOKUP((CONCATENATE(AJ156,AL156)),Divipolas!$F$2:$G$1123,2,FALSE))","v":""},"","","","","","","","","","","","","","",null,null,null,null,null,null,null,{"$f":"IF(ISNA(VLOOKUP(BH156,'CODIGO PAIS'!$A$2:$B$231,2,FALSE)),\"\",VLOOKUP(BH156,'CODIGO PAIS'!$A$2:$B$231,2,FALSE))","v":""},null,{"$f":"IF(ISNA(VLOOKUP(BJ156,Divipolas!$A$2:$B$1123,2,FALSE)),\"\",VLOOKUP(BJ156,Divipolas!$A$2:$B$1123,2,FALSE))","v":""},null,{"$f":"IF(ISNA(VLOOKUP((CONCATENATE(BJ156,BL156)),Divipolas!$F$2:$G$1123,2,FALSE)),\"\",VLOOKUP((CONCATENATE(BJ156,BL156)),Divipolas!$F$2:$G$1123,2,FALSE))","v":""},null,"","",null,null,null,null,{"$f":"IF(ISNA(VLOOKUP(BT156,Divipolas!$A$2:$B$1123,2,FALSE)),\"\",VLOOKUP(BT156,Divipolas!$A$2:$B$1123,2,FALSE))","v":""},null,{"$f":"IF(ISNA(VLOOKUP((CONCATENATE(BT156,BV156)),Divipolas!$F$2:$G$1123,2,FALSE)),\"\",VLOOKUP((CONCATENATE(BT156,BV156)),Divipolas!$F$2:$G$1123,2,FALSE))","v":""},null,null,null,null,null,null,null,null,null,null,null,null,null,null,null,null,null,null,null,null,null,null,null,"",null,null,null,null,null,null,null,null,null,null,null,null,null,null,null,null,null,null,null,null,null,null,null,null,null,null,null,null,null,null,null,null,null,null,null,null,null,null,null,null,null,null,null,null,null,null,null,null,null,null,null,null,null,null,null,null,null,null,null,null,null,null,null,null,null,null,null,null,null,null,null,null,null,null,null,null,"",null,null,null,null,null,null,null,"VERIFIQUE FECHAS",null,null,null,null,null,null,null,null,null,"VERIFIQUE COLUMNA D"]
["","",null,"",{"$f":"IFERROR(VLOOKUP(D157,'CODIGO REGIONALES'!$J$2:$L$33,3,0),\"\")","v":""},"",{"$f":"IF(ISNA(VLOOKUP(F157,Divipolas!$A$2:$B$1123,2,FALSE)),\"\",VLOOKUP(F157,Divipolas!$A$2:$B$1123,2,FALSE))","v":""},"",{"$f":"IF(ISNA(VLOOKUP((CONCATENATE(F157,H157)),Divipolas!$F$2:$G$1123,2,FALSE)),\"\",VLOOKUP((CONCATENATE(F157,H157)),Divipolas!$F$2:$G$1123,2,FALSE))","v":""},"","","","","","","","",{"$f":"IF(ISNA(VLOOKUP(Q157,Divipolas!$A$2:$B$1123,2,FALSE)),\"\",VLOOKUP(Q157,Divipolas!$A$2:$B$1123,2,FALSE))","v":""},"",{"$f":"IF(ISNA(VLOOKUP((CONCATENATE(Q157,S157)),Divipolas!$F$2:$G$1123,2,FALSE)),\"\",VLOOKUP((CONCATENATE(Q157,S157)),Divipolas!$F$2:$G$1123,2,FALSE))","v":""},"","","","","","",{"$f":"IF(ISNA(VLOOKUP(Z157,'CODIGO PAIS'!$A$2:$B$231,2,FALSE)),\"\",VLOOKUP(Z157,'CODIGO PAIS'!$A$2:$B$231,2,FALSE))","v":""},"",{"$f":"IF(ISNA(VLOOKUP(AB157,Divipolas!$A$2:$B$1123,2,FALSE)),\"\",VLOOKUP(AB157,Divipolas!$A$2:$B$1123,2,FALSE))","v":""},"",{"$f":"IF(ISNA(VLOOKUP((CONCATENATE(AB157,AD157)),Divipolas!$F$2:$G$1123,2,FALSE)),\"\",VLOOKUP((CONCATENATE(AB157,AD157)),Divipolas!$F$2:$G$1123,2,FALSE))","v":""},"","","","","",{"$f":"IF(ISNA(VLOOKUP(AJ157,Divipolas!$A$2:$B$1123,2,FALSE)),\"\",VLOOKUP(AJ157,Divipolas!$A$2:$B$1123,2,FALSE))","v":""},"",{"$f":"IF(ISNA(VLOOKUP((CONCATENATE(AJ157,AL157)),Divipolas!$F$2:$G$1123,2,FALSE)),\"\",VLOOKUP((CONCATENATE(AJ157,AL157)),Divipolas!$F$2:$G$1123,2,FALSE))","v":""},"","","","","","","","","","","","","","",null,null,null,null,null,null,null,{"$f":"IF(ISNA(VLOOKUP(BH157,'CODIGO PAIS'!$A$2:$B$231,2,FALSE)),\"\",VLOOKUP(BH157,'CODIGO PAIS'!$A$2:$B$231,2,FALSE))","v":""},null,{"$f":"IF(ISNA(VLOOKUP(BJ157,Divipolas!$A$2:$B$1123,2,FALSE)),\"\",VLOOKUP(BJ157,Divipolas!$A$2:$B$1123,2,FALSE))","v":""},null,{"$f":"IF(ISNA(VLOOKUP((CONCATENATE(BJ157,BL157)),Divipolas!$F$2:$G$1123,2,FALSE)),\"\",VLOOKUP((CONCATENATE(BJ157,BL157)),Divipolas!$F$2:$G$1123,2,FALSE))","v":""},null,"","",null,null,null,null,{"$f":"IF(ISNA(VLOOKUP(BT157,Divipolas!$A$2:$B$1123,2,FALSE)),\"\",VLOOKUP(BT157,Divipolas!$A$2:$B$1123,2,FALSE))","v":""},null,{"$f":"IF(ISNA(VLOOKUP((CONCATENATE(BT157,BV157)),Divipolas!$F$2:$G$1123,2,FALSE)),\"\",VLOOKUP((CONCATENATE(BT157,BV157)),Divipolas!$F$2:$G$1123,2,FALSE))","v":""},null,null,null,null,null,null,null,null,null,null,null,null,null,null,null,null,null,null,null,null,null,null,null,"",null,null,null,null,null,null,null,null,null,null,null,null,null,null,null,null,null,null,null,null,null,null,null,null,null,null,null,null,null,null,null,null,null,null,null,null,null,null,null,null,null,null,null,null,null,null,null,null,null,null,null,null,null,null,null,null,null,null,null,null,null,null,null,null,null,null,null,null,null,null,null,null,null,null,null,null,"",null,null,null,null,null,null,null,"VERIFIQUE FECHAS",null,null,null,null,null,null,null,null,null,"VERIFIQUE COLUMNA D"]
["","",null,"",{"$f":"IFERROR(VLOOKUP(D158,'CODIGO REGIONALES'!$J$2:$L$33,3,0),\"\")","v":""},"",{"$f":"IF(ISNA(VLOOKUP(F158,Divipolas!$A$2:$B$1123,2,FALSE)),\"\",VLOOKUP(F158,Divipolas!$A$2:$B$1123,2,FALSE))","v":""},"",{"$f":"IF(ISNA(VLOOKUP((CONCATENATE(F158,H158)),Divipolas!$F$2:$G$1123,2,FALSE)),\"\",VLOOKUP((CONCATENATE(F158,H158)),Divipolas!$F$2:$G$1123,2,FALSE))","v":""},"","","","","","","","",{"$f":"IF(ISNA(VLOOKUP(Q158,Divipolas!$A$2:$B$1123,2,FALSE)),\"\",VLOOKUP(Q158,Divipolas!$A$2:$B$1123,2,FALSE))","v":""},"",{"$f":"IF(ISNA(VLOOKUP((CONCATENATE(Q158,S158)),Divipolas!$F$2:$G$1123,2,FALSE)),\"\",VLOOKUP((CONCATENATE(Q158,S158)),Divipolas!$F$2:$G$1123,2,FALSE))","v":""},"","","","","","",{"$f":"IF(ISNA(VLOOKUP(Z158,'CODIGO PAIS'!$A$2:$B$231,2,FALSE)),\"\",VLOOKUP(Z158,'CODIGO PAIS'!$A$2:$B$231,2,FALSE))","v":""},"",{"$f":"IF(ISNA(VLOOKUP(AB158,Divipolas!$A$2:$B$1123,2,FALSE)),\"\",VLOOKUP(AB158,Divipolas!$A$2:$B$1123,2,FALSE))","v":""},"",{"$f":"IF(ISNA(VLOOKUP((CONCATENATE(AB158,AD158)),Divipolas!$F$2:$G$1123,2,FALSE)),\"\",VLOOKUP((CONCATENATE(AB158,AD158)),Divipolas!$F$2:$G$1123,2,FALSE))","v":""},"","","","","",{"$f":"IF(ISNA(VLOOKUP(AJ158,Divipolas!$A$2:$B$1123,2,FALSE)),\"\",VLOOKUP(AJ158,Divipolas!$A$2:$B$1123,2,FALSE))","v":""},"",{"$f":"IF(ISNA(VLOOKUP((CONCATENATE(AJ158,AL158)),Divipolas!$F$2:$G$1123,2,FALSE)),\"\",VLOOKUP((CONCATENATE(AJ158,AL158)),Divipolas!$F$2:$G$1123,2,FALSE))","v":""},"","","","","","","","","","","","","","",null,null,null,null,null,null,null,{"$f":"IF(ISNA(VLOOKUP(BH158,'CODIGO PAIS'!$A$2:$B$231,2,FALSE)),\"\",VLOOKUP(BH158,'CODIGO PAIS'!$A$2:$B$231,2,FALSE))","v":""},null,{"$f":"IF(ISNA(VLOOKUP(BJ158,Divipolas!$A$2:$B$1123,2,FALSE)),\"\",VLOOKUP(BJ158,Divipolas!$A$2:$B$1123,2,FALSE))","v":""},null,{"$f":"IF(ISNA(VLOOKUP((CONCATENATE(BJ158,BL158)),Divipolas!$F$2:$G$1123,2,FALSE)),\"\",VLOOKUP((CONCATENATE(BJ158,BL158)),Divipolas!$F$2:$G$1123,2,FALSE))","v":""},null,"","",null,null,null,null,{"$f":"IF(ISNA(VLOOKUP(BT158,Divipolas!$A$2:$B$1123,2,FALSE)),\"\",VLOOKUP(BT158,Divipolas!$A$2:$B$1123,2,FALSE))","v":""},null,{"$f":"IF(ISNA(VLOOKUP((CONCATENATE(BT158,BV158)),Divipolas!$F$2:$G$1123,2,FALSE)),\"\",VLOOKUP((CONCATENATE(BT158,BV158)),Divipolas!$F$2:$G$1123,2,FALSE))","v":""},null,null,null,null,null,null,null,null,null,null,null,null,null,null,null,null,null,null,null,null,null,null,null,"",null,null,null,null,null,null,null,null,null,null,null,null,null,null,null,null,null,null,null,null,null,null,null,null,null,null,null,null,null,null,null,null,null,null,null,null,null,null,null,null,null,null,null,null,null,null,null,null,null,null,null,null,null,null,null,null,null,null,null,null,null,null,null,null,null,null,null,null,null,null,null,null,null,null,null,null,"",null,null,null,null,null,null,null,"VERIFIQUE FECHAS",null,null,null,null,null,null,null,null,null,"VERIFIQUE COLUMNA D"]
["","",null,"",{"$f":"IFERROR(VLOOKUP(D159,'CODIGO REGIONALES'!$J$2:$L$33,3,0),\"\")","v":""},"",{"$f":"IF(ISNA(VLOOKUP(F159,Divipolas!$A$2:$B$1123,2,FALSE)),\"\",VLOOKUP(F159,Divipolas!$A$2:$B$1123,2,FALSE))","v":""},"",{"$f":"IF(ISNA(VLOOKUP((CONCATENATE(F159,H159)),Divipolas!$F$2:$G$1123,2,FALSE)),\"\",VLOOKUP((CONCATENATE(F159,H159)),Divipolas!$F$2:$G$1123,2,FALSE))","v":""},"","","","","","","","",{"$f":"IF(ISNA(VLOOKUP(Q159,Divipolas!$A$2:$B$1123,2,FALSE)),\"\",VLOOKUP(Q159,Divipolas!$A$2:$B$1123,2,FALSE))","v":""},"",{"$f":"IF(ISNA(VLOOKUP((CONCATENATE(Q159,S159)),Divipolas!$F$2:$G$1123,2,FALSE)),\"\",VLOOKUP((CONCATENATE(Q159,S159)),Divipolas!$F$2:$G$1123,2,FALSE))","v":""},"","","","","","",{"$f":"IF(ISNA(VLOOKUP(Z159,'CODIGO PAIS'!$A$2:$B$231,2,FALSE)),\"\",VLOOKUP(Z159,'CODIGO PAIS'!$A$2:$B$231,2,FALSE))","v":""},"",{"$f":"IF(ISNA(VLOOKUP(AB159,Divipolas!$A$2:$B$1123,2,FALSE)),\"\",VLOOKUP(AB159,Divipolas!$A$2:$B$1123,2,FALSE))","v":""},"",{"$f":"IF(ISNA(VLOOKUP((CONCATENATE(AB159,AD159)),Divipolas!$F$2:$G$1123,2,FALSE)),\"\",VLOOKUP((CONCATENATE(AB159,AD159)),Divipolas!$F$2:$G$1123,2,FALSE))","v":""},"","","","","",{"$f":"IF(ISNA(VLOOKUP(AJ159,Divipolas!$A$2:$B$1123,2,FALSE)),\"\",VLOOKUP(AJ159,Divipolas!$A$2:$B$1123,2,FALSE))","v":""},"",{"$f":"IF(ISNA(VLOOKUP((CONCATENATE(AJ159,AL159)),Divipolas!$F$2:$G$1123,2,FALSE)),\"\",VLOOKUP((CONCATENATE(AJ159,AL159)),Divipolas!$F$2:$G$1123,2,FALSE))","v":""},"","","","","","","","","","","","","","",null,null,null,null,null,null,null,{"$f":"IF(ISNA(VLOOKUP(BH159,'CODIGO PAIS'!$A$2:$B$231,2,FALSE)),\"\",VLOOKUP(BH159,'CODIGO PAIS'!$A$2:$B$231,2,FALSE))","v":""},null,{"$f":"IF(ISNA(VLOOKUP(BJ159,Divipolas!$A$2:$B$1123,2,FALSE)),\"\",VLOOKUP(BJ159,Divipolas!$A$2:$B$1123,2,FALSE))","v":""},null,{"$f":"IF(ISNA(VLOOKUP((CONCATENATE(BJ159,BL159)),Divipolas!$F$2:$G$1123,2,FALSE)),\"\",VLOOKUP((CONCATENATE(BJ159,BL159)),Divipolas!$F$2:$G$1123,2,FALSE))","v":""},null,"","",null,null,null,null,{"$f":"IF(ISNA(VLOOKUP(BT159,Divipolas!$A$2:$B$1123,2,FALSE)),\"\",VLOOKUP(BT159,Divipolas!$A$2:$B$1123,2,FALSE))","v":""},null,{"$f":"IF(ISNA(VLOOKUP((CONCATENATE(BT159,BV159)),Divipolas!$F$2:$G$1123,2,FALSE)),\"\",VLOOKUP((CONCATENATE(BT159,BV159)),Divipolas!$F$2:$G$1123,2,FALSE))","v":""},null,null,null,null,null,null,null,null,null,null,null,null,null,null,null,null,null,null,null,null,null,null,null,"",null,null,null,null,null,null,null,null,null,null,null,null,null,null,null,null,null,null,null,null,null,null,null,null,null,null,null,null,null,null,null,null,null,null,null,null,null,null,null,null,null,null,null,null,null,null,null,null,null,null,null,null,null,null,null,null,null,null,null,null,null,null,null,null,null,null,null,null,null,null,null,null,null,null,null,null,"",null,null,null,null,null,null,null,"VERIFIQUE FECHAS",null,null,null,null,null,null,null,null,null,"VERIFIQUE COLUMNA D"]
["","",null,"",{"$f":"IFERROR(VLOOKUP(D160,'CODIGO REGIONALES'!$J$2:$L$33,3,0),\"\")","v":""},"",{"$f":"IF(ISNA(VLOOKUP(F160,Divipolas!$A$2:$B$1123,2,FALSE)),\"\",VLOOKUP(F160,Divipolas!$A$2:$B$1123,2,FALSE))","v":""},"",{"$f":"IF(ISNA(VLOOKUP((CONCATENATE(F160,H160)),Divipolas!$F$2:$G$1123,2,FALSE)),\"\",VLOOKUP((CONCATENATE(F160,H160)),Divipolas!$F$2:$G$1123,2,FALSE))","v":""},"","","","","","","","",{"$f":"IF(ISNA(VLOOKUP(Q160,Divipolas!$A$2:$B$1123,2,FALSE)),\"\",VLOOKUP(Q160,Divipolas!$A$2:$B$1123,2,FALSE))","v":""},"",{"$f":"IF(ISNA(VLOOKUP((CONCATENATE(Q160,S160)),Divipolas!$F$2:$G$1123,2,FALSE)),\"\",VLOOKUP((CONCATENATE(Q160,S160)),Divipolas!$F$2:$G$1123,2,FALSE))","v":""},"","","","","","",{"$f":"IF(ISNA(VLOOKUP(Z160,'CODIGO PAIS'!$A$2:$B$231,2,FALSE)),\"\",VLOOKUP(Z160,'CODIGO PAIS'!$A$2:$B$231,2,FALSE))","v":""},"",{"$f":"IF(ISNA(VLOOKUP(AB160,Divipolas!$A$2:$B$1123,2,FALSE)),\"\",VLOOKUP(AB160,Divipolas!$A$2:$B$1123,2,FALSE))","v":""},"",{"$f":"IF(ISNA(VLOOKUP((CONCATENATE(AB160,AD160)),Divipolas!$F$2:$G$1123,2,FALSE)),\"\",VLOOKUP((CONCATENATE(AB160,AD160)),Divipolas!$F$2:$G$1123,2,FALSE))","v":""},"","","","","",{"$f":"IF(ISNA(VLOOKUP(AJ160,Divipolas!$A$2:$B$1123,2,FALSE)),\"\",VLOOKUP(AJ160,Divipolas!$A$2:$B$1123,2,FALSE))","v":""},"",{"$f":"IF(ISNA(VLOOKUP((CONCATENATE(AJ160,AL160)),Divipolas!$F$2:$G$1123,2,FALSE)),\"\",VLOOKUP((CONCATENATE(AJ160,AL160)),Divipolas!$F$2:$G$1123,2,FALSE))","v":""},"","","","","","","","","","","","","","",null,null,null,null,null,null,null,{"$f":"IF(ISNA(VLOOKUP(BH160,'CODIGO PAIS'!$A$2:$B$231,2,FALSE)),\"\",VLOOKUP(BH160,'CODIGO PAIS'!$A$2:$B$231,2,FALSE))","v":""},null,{"$f":"IF(ISNA(VLOOKUP(BJ160,Divipolas!$A$2:$B$1123,2,FALSE)),\"\",VLOOKUP(BJ160,Divipolas!$A$2:$B$1123,2,FALSE))","v":""},null,{"$f":"IF(ISNA(VLOOKUP((CONCATENATE(BJ160,BL160)),Divipolas!$F$2:$G$1123,2,FALSE)),\"\",VLOOKUP((CONCATENATE(BJ160,BL160)),Divipolas!$F$2:$G$1123,2,FALSE))","v":""},null,"","",null,null,null,null,{"$f":"IF(ISNA(VLOOKUP(BT160,Divipolas!$A$2:$B$1123,2,FALSE)),\"\",VLOOKUP(BT160,Divipolas!$A$2:$B$1123,2,FALSE))","v":""},null,{"$f":"IF(ISNA(VLOOKUP((CONCATENATE(BT160,BV160)),Divipolas!$F$2:$G$1123,2,FALSE)),\"\",VLOOKUP((CONCATENATE(BT160,BV160)),Divipolas!$F$2:$G$1123,2,FALSE))","v":""},null,null,null,null,null,null,null,null,null,null,null,null,null,null,null,null,null,null,null,null,null,null,null,"",null,null,null,null,null,null,null,null,null,null,null,null,null,null,null,null,null,null,null,null,null,null,null,null,null,null,null,null,null,null,null,null,null,null,null,null,null,null,null,null,null,null,null,null,null,null,null,null,null,null,null,null,null,null,null,null,null,null,null,null,null,null,null,null,null,null,null,null,null,null,null,null,null,null,null,null,"",null,null,null,null,null,null,null,"VERIFIQUE FECHAS",null,null,null,null,null,null,null,null,null,"VERIFIQUE COLUMNA D"]
["","",null,"",{"$f":"IFERROR(VLOOKUP(D161,'CODIGO REGIONALES'!$J$2:$L$33,3,0),\"\")","v":""},"",{"$f":"IF(ISNA(VLOOKUP(F161,Divipolas!$A$2:$B$1123,2,FALSE)),\"\",VLOOKUP(F161,Divipolas!$A$2:$B$1123,2,FALSE))","v":""},"",{"$f":"IF(ISNA(VLOOKUP((CONCATENATE(F161,H161)),Divipolas!$F$2:$G$1123,2,FALSE)),\"\",VLOOKUP((CONCATENATE(F161,H161)),Divipolas!$F$2:$G$1123,2,FALSE))","v":""},"","","","","","","","",{"$f":"IF(ISNA(VLOOKUP(Q161,Divipolas!$A$2:$B$1123,2,FALSE)),\"\",VLOOKUP(Q161,Divipolas!$A$2:$B$1123,2,FALSE))","v":""},"",{"$f":"IF(ISNA(VLOOKUP((CONCATENATE(Q161,S161)),Divipolas!$F$2:$G$1123,2,FALSE)),\"\",VLOOKUP((CONCATENATE(Q161,S161)),Divipolas!$F$2:$G$1123,2,FALSE))","v":""},"","","","","","",{"$f":"IF(ISNA(VLOOKUP(Z161,'CODIGO PAIS'!$A$2:$B$231,2,FALSE)),\"\",VLOOKUP(Z161,'CODIGO PAIS'!$A$2:$B$231,2,FALSE))","v":""},"",{"$f":"IF(ISNA(VLOOKUP(AB161,Divipolas!$A$2:$B$1123,2,FALSE)),\"\",VLOOKUP(AB161,Divipolas!$A$2:$B$1123,2,FALSE))","v":""},"",{"$f":"IF(ISNA(VLOOKUP((CONCATENATE(AB161,AD161)),Divipolas!$F$2:$G$1123,2,FALSE)),\"\",VLOOKUP((CONCATENATE(AB161,AD161)),Divipolas!$F$2:$G$1123,2,FALSE))","v":""},"","","","","",{"$f":"IF(ISNA(VLOOKUP(AJ161,Divipolas!$A$2:$B$1123,2,FALSE)),\"\",VLOOKUP(AJ161,Divipolas!$A$2:$B$1123,2,FALSE))","v":""},"",{"$f":"IF(ISNA(VLOOKUP((CONCATENATE(AJ161,AL161)),Divipolas!$F$2:$G$1123,2,FALSE)),\"\",VLOOKUP((CONCATENATE(AJ161,AL161)),Divipolas!$F$2:$G$1123,2,FALSE))","v":""},"","","","","","","","","","","","","","",null,null,null,null,null,null,null,{"$f":"IF(ISNA(VLOOKUP(BH161,'CODIGO PAIS'!$A$2:$B$231,2,FALSE)),\"\",VLOOKUP(BH161,'CODIGO PAIS'!$A$2:$B$231,2,FALSE))","v":""},null,{"$f":"IF(ISNA(VLOOKUP(BJ161,Divipolas!$A$2:$B$1123,2,FALSE)),\"\",VLOOKUP(BJ161,Divipolas!$A$2:$B$1123,2,FALSE))","v":""},null,{"$f":"IF(ISNA(VLOOKUP((CONCATENATE(BJ161,BL161)),Divipolas!$F$2:$G$1123,2,FALSE)),\"\",VLOOKUP((CONCATENATE(BJ161,BL161)),Divipolas!$F$2:$G$1123,2,FALSE))","v":""},null,"","",null,null,null,null,{"$f":"IF(ISNA(VLOOKUP(BT161,Divipolas!$A$2:$B$1123,2,FALSE)),\"\",VLOOKUP(BT161,Divipolas!$A$2:$B$1123,2,FALSE))","v":""},null,{"$f":"IF(ISNA(VLOOKUP((CONCATENATE(BT161,BV161)),Divipolas!$F$2:$G$1123,2,FALSE)),\"\",VLOOKUP((CONCATENATE(BT161,BV161)),Divipolas!$F$2:$G$1123,2,FALSE))","v":""},null,null,null,null,null,null,null,null,null,null,null,null,null,null,null,null,null,null,null,null,null,null,null,"",null,null,null,null,null,null,null,null,null,null,null,null,null,null,null,null,null,null,null,null,null,null,null,null,null,null,null,null,null,null,null,null,null,null,null,null,null,null,null,null,null,null,null,null,null,null,null,null,null,null,null,null,null,null,null,null,null,null,null,null,null,null,null,null,null,null,null,null,null,null,null,null,null,null,null,null,"",null,null,null,null,null,null,null,"VERIFIQUE FECHAS",null,null,null,null,null,null,null,null,null,"VERIFIQUE COLUMNA D"]
["","",null,"",{"$f":"IFERROR(VLOOKUP(D162,'CODIGO REGIONALES'!$J$2:$L$33,3,0),\"\")","v":""},"",{"$f":"IF(ISNA(VLOOKUP(F162,Divipolas!$A$2:$B$1123,2,FALSE)),\"\",VLOOKUP(F162,Divipolas!$A$2:$B$1123,2,FALSE))","v":""},"",{"$f":"IF(ISNA(VLOOKUP((CONCATENATE(F162,H162)),Divipolas!$F$2:$G$1123,2,FALSE)),\"\",VLOOKUP((CONCATENATE(F162,H162)),Divipolas!$F$2:$G$1123,2,FALSE))","v":""},"","","","","","","","",{"$f":"IF(ISNA(VLOOKUP(Q162,Divipolas!$A$2:$B$1123,2,FALSE)),\"\",VLOOKUP(Q162,Divipolas!$A$2:$B$1123,2,FALSE))","v":""},"",{"$f":"IF(ISNA(VLOOKUP((CONCATENATE(Q162,S162)),Divipolas!$F$2:$G$1123,2,FALSE)),\"\",VLOOKUP((CONCATENATE(Q162,S162)),Divipolas!$F$2:$G$1123,2,FALSE))","v":""},"","","","","","",{"$f":"IF(ISNA(VLOOKUP(Z162,'CODIGO PAIS'!$A$2:$B$231,2,FALSE)),\"\",VLOOKUP(Z162,'CODIGO PAIS'!$A$2:$B$231,2,FALSE))","v":""},"",{"$f":"IF(ISNA(VLOOKUP(AB162,Divipolas!$A$2:$B$1123,2,FALSE)),\"\",VLOOKUP(AB162,Divipolas!$A$2:$B$1123,2,FALSE))","v":""},"",{"$f":"IF(ISNA(VLOOKUP((CONCATENATE(AB162,AD162)),Divipolas!$F$2:$G$1123,2,FALSE)),\"\",VLOOKUP((CONCATENATE(AB162,AD162)),Divipolas!$F$2:$G$1123,2,FALSE))","v":""},"","","","","",{"$f":"IF(ISNA(VLOOKUP(AJ162,Divipolas!$A$2:$B$1123,2,FALSE)),\"\",VLOOKUP(AJ162,Divipolas!$A$2:$B$1123,2,FALSE))","v":""},"",{"$f":"IF(ISNA(VLOOKUP((CONCATENATE(AJ162,AL162)),Divipolas!$F$2:$G$1123,2,FALSE)),\"\",VLOOKUP((CONCATENATE(AJ162,AL162)),Divipolas!$F$2:$G$1123,2,FALSE))","v":""},"","","","","","","","","","","","","","",null,null,null,null,null,null,null,{"$f":"IF(ISNA(VLOOKUP(BH162,'CODIGO PAIS'!$A$2:$B$231,2,FALSE)),\"\",VLOOKUP(BH162,'CODIGO PAIS'!$A$2:$B$231,2,FALSE))","v":""},null,{"$f":"IF(ISNA(VLOOKUP(BJ162,Divipolas!$A$2:$B$1123,2,FALSE)),\"\",VLOOKUP(BJ162,Divipolas!$A$2:$B$1123,2,FALSE))","v":""},null,{"$f":"IF(ISNA(VLOOKUP((CONCATENATE(BJ162,BL162)),Divipolas!$F$2:$G$1123,2,FALSE)),\"\",VLOOKUP((CONCATENATE(BJ162,BL162)),Divipolas!$F$2:$G$1123,2,FALSE))","v":""},null,"","",null,null,null,null,{"$f":"IF(ISNA(VLOOKUP(BT162,Divipolas!$A$2:$B$1123,2,FALSE)),\"\",VLOOKUP(BT162,Divipolas!$A$2:$B$1123,2,FALSE))","v":""},null,{"$f":"IF(ISNA(VLOOKUP((CONCATENATE(BT162,BV162)),Divipolas!$F$2:$G$1123,2,FALSE)),\"\",VLOOKUP((CONCATENATE(BT162,BV162)),Divipolas!$F$2:$G$1123,2,FALSE))","v":""},null,null,null,null,null,null,null,null,null,null,null,null,null,null,null,null,null,null,null,null,null,null,null,"",null,null,null,null,null,null,null,null,null,null,null,null,null,null,null,null,null,null,null,null,null,null,null,null,null,null,null,null,null,null,null,null,null,null,null,null,null,null,null,null,null,null,null,null,null,null,null,null,null,null,null,null,null,null,null,null,null,null,null,null,null,null,null,null,null,null,null,null,null,null,null,null,null,null,null,null,"",null,null,null,null,null,null,null,"VERIFIQUE FECHAS",null,null,null,null,null,null,null,null,null,"VERIFIQUE COLUMNA D"]
["","",null,"",{"$f":"IFERROR(VLOOKUP(D163,'CODIGO REGIONALES'!$J$2:$L$33,3,0),\"\")","v":""},"",{"$f":"IF(ISNA(VLOOKUP(F163,Divipolas!$A$2:$B$1123,2,FALSE)),\"\",VLOOKUP(F163,Divipolas!$A$2:$B$1123,2,FALSE))","v":""},"",{"$f":"IF(ISNA(VLOOKUP((CONCATENATE(F163,H163)),Divipolas!$F$2:$G$1123,2,FALSE)),\"\",VLOOKUP((CONCATENATE(F163,H163)),Divipolas!$F$2:$G$1123,2,FALSE))","v":""},"","","","","","","","",{"$f":"IF(ISNA(VLOOKUP(Q163,Divipolas!$A$2:$B$1123,2,FALSE)),\"\",VLOOKUP(Q163,Divipolas!$A$2:$B$1123,2,FALSE))","v":""},"",{"$f":"IF(ISNA(VLOOKUP((CONCATENATE(Q163,S163)),Divipolas!$F$2:$G$1123,2,FALSE)),\"\",VLOOKUP((CONCATENATE(Q163,S163)),Divipolas!$F$2:$G$1123,2,FALSE))","v":""},"","","","","","",{"$f":"IF(ISNA(VLOOKUP(Z163,'CODIGO PAIS'!$A$2:$B$231,2,FALSE)),\"\",VLOOKUP(Z163,'CODIGO PAIS'!$A$2:$B$231,2,FALSE))","v":""},"",{"$f":"IF(ISNA(VLOOKUP(AB163,Divipolas!$A$2:$B$1123,2,FALSE)),\"\",VLOOKUP(AB163,Divipolas!$A$2:$B$1123,2,FALSE))","v":""},"",{"$f":"IF(ISNA(VLOOKUP((CONCATENATE(AB163,AD163)),Divipolas!$F$2:$G$1123,2,FALSE)),\"\",VLOOKUP((CONCATENATE(AB163,AD163)),Divipolas!$F$2:$G$1123,2,FALSE))","v":""},"","","","","",{"$f":"IF(ISNA(VLOOKUP(AJ163,Divipolas!$A$2:$B$1123,2,FALSE)),\"\",VLOOKUP(AJ163,Divipolas!$A$2:$B$1123,2,FALSE))","v":""},"",{"$f":"IF(ISNA(VLOOKUP((CONCATENATE(AJ163,AL163)),Divipolas!$F$2:$G$1123,2,FALSE)),\"\",VLOOKUP((CONCATENATE(AJ163,AL163)),Divipolas!$F$2:$G$1123,2,FALSE))","v":""},"","","","","","","","","","","","","","",null,null,null,null,null,null,null,{"$f":"IF(ISNA(VLOOKUP(BH163,'CODIGO PAIS'!$A$2:$B$231,2,FALSE)),\"\",VLOOKUP(BH163,'CODIGO PAIS'!$A$2:$B$231,2,FALSE))","v":""},null,{"$f":"IF(ISNA(VLOOKUP(BJ163,Divipolas!$A$2:$B$1123,2,FALSE)),\"\",VLOOKUP(BJ163,Divipolas!$A$2:$B$1123,2,FALSE))","v":""},null,{"$f":"IF(ISNA(VLOOKUP((CONCATENATE(BJ163,BL163)),Divipolas!$F$2:$G$1123,2,FALSE)),\"\",VLOOKUP((CONCATENATE(BJ163,BL163)),Divipolas!$F$2:$G$1123,2,FALSE))","v":""},null,"","",null,null,null,null,{"$f":"IF(ISNA(VLOOKUP(BT163,Divipolas!$A$2:$B$1123,2,FALSE)),\"\",VLOOKUP(BT163,Divipolas!$A$2:$B$1123,2,FALSE))","v":""},null,{"$f":"IF(ISNA(VLOOKUP((CONCATENATE(BT163,BV163)),Divipolas!$F$2:$G$1123,2,FALSE)),\"\",VLOOKUP((CONCATENATE(BT163,BV163)),Divipolas!$F$2:$G$1123,2,FALSE))","v":""},null,null,null,null,null,null,null,null,null,null,null,null,null,null,null,null,null,null,null,null,null,null,null,"",null,null,null,null,null,null,null,null,null,null,null,null,null,null,null,null,null,null,null,null,null,null,null,null,null,null,null,null,null,null,null,null,null,null,null,null,null,null,null,null,null,null,null,null,null,null,null,null,null,null,null,null,null,null,null,null,null,null,null,null,null,null,null,null,null,null,null,null,null,null,null,null,null,null,null,null,"",null,null,null,null,null,null,null,"VERIFIQUE FECHAS",null,null,null,null,null,null,null,null,null,"VERIFIQUE COLUMNA D"]
["","",null,"",{"$f":"IFERROR(VLOOKUP(D164,'CODIGO REGIONALES'!$J$2:$L$33,3,0),\"\")","v":""},"",{"$f":"IF(ISNA(VLOOKUP(F164,Divipolas!$A$2:$B$1123,2,FALSE)),\"\",VLOOKUP(F164,Divipolas!$A$2:$B$1123,2,FALSE))","v":""},"",{"$f":"IF(ISNA(VLOOKUP((CONCATENATE(F164,H164)),Divipolas!$F$2:$G$1123,2,FALSE)),\"\",VLOOKUP((CONCATENATE(F164,H164)),Divipolas!$F$2:$G$1123,2,FALSE))","v":""},"","","","","","","","",{"$f":"IF(ISNA(VLOOKUP(Q164,Divipolas!$A$2:$B$1123,2,FALSE)),\"\",VLOOKUP(Q164,Divipolas!$A$2:$B$1123,2,FALSE))","v":""},"",{"$f":"IF(ISNA(VLOOKUP((CONCATENATE(Q164,S164)),Divipolas!$F$2:$G$1123,2,FALSE)),\"\",VLOOKUP((CONCATENATE(Q164,S164)),Divipolas!$F$2:$G$1123,2,FALSE))","v":""},"","","","","","",{"$f":"IF(ISNA(VLOOKUP(Z164,'CODIGO PAIS'!$A$2:$B$231,2,FALSE)),\"\",VLOOKUP(Z164,'CODIGO PAIS'!$A$2:$B$231,2,FALSE))","v":""},"",{"$f":"IF(ISNA(VLOOKUP(AB164,Divipolas!$A$2:$B$1123,2,FALSE)),\"\",VLOOKUP(AB164,Divipolas!$A$2:$B$1123,2,FALSE))","v":""},"",{"$f":"IF(ISNA(VLOOKUP((CONCATENATE(AB164,AD164)),Divipolas!$F$2:$G$1123,2,FALSE)),\"\",VLOOKUP((CONCATENATE(AB164,AD164)),Divipolas!$F$2:$G$1123,2,FALSE))","v":""},"","","","","",{"$f":"IF(ISNA(VLOOKUP(AJ164,Divipolas!$A$2:$B$1123,2,FALSE)),\"\",VLOOKUP(AJ164,Divipolas!$A$2:$B$1123,2,FALSE))","v":""},"",{"$f":"IF(ISNA(VLOOKUP((CONCATENATE(AJ164,AL164)),Divipolas!$F$2:$G$1123,2,FALSE)),\"\",VLOOKUP((CONCATENATE(AJ164,AL164)),Divipolas!$F$2:$G$1123,2,FALSE))","v":""},"","","","","","","","","","","","","","",null,null,null,null,null,null,null,{"$f":"IF(ISNA(VLOOKUP(BH164,'CODIGO PAIS'!$A$2:$B$231,2,FALSE)),\"\",VLOOKUP(BH164,'CODIGO PAIS'!$A$2:$B$231,2,FALSE))","v":""},null,{"$f":"IF(ISNA(VLOOKUP(BJ164,Divipolas!$A$2:$B$1123,2,FALSE)),\"\",VLOOKUP(BJ164,Divipolas!$A$2:$B$1123,2,FALSE))","v":""},null,{"$f":"IF(ISNA(VLOOKUP((CONCATENATE(BJ164,BL164)),Divipolas!$F$2:$G$1123,2,FALSE)),\"\",VLOOKUP((CONCATENATE(BJ164,BL164)),Divipolas!$F$2:$G$1123,2,FALSE))","v":""},null,"","",null,null,null,null,{"$f":"IF(ISNA(VLOOKUP(BT164,Divipolas!$A$2:$B$1123,2,FALSE)),\"\",VLOOKUP(BT164,Divipolas!$A$2:$B$1123,2,FALSE))","v":""},null,{"$f":"IF(ISNA(VLOOKUP((CONCATENATE(BT164,BV164)),Divipolas!$F$2:$G$1123,2,FALSE)),\"\",VLOOKUP((CONCATENATE(BT164,BV164)),Divipolas!$F$2:$G$1123,2,FALSE))","v":""},null,null,null,null,null,null,null,null,null,null,null,null,null,null,null,null,null,null,null,null,null,null,null,"",null,null,null,null,null,null,null,null,null,null,null,null,null,null,null,null,null,null,null,null,null,null,null,null,null,null,null,null,null,null,null,null,null,null,null,null,null,null,null,null,null,null,null,null,null,null,null,null,null,null,null,null,null,null,null,null,null,null,null,null,null,null,null,null,null,null,null,null,null,null,null,null,null,null,null,null,"",null,null,null,null,null,null,null,"VERIFIQUE FECHAS",null,null,null,null,null,null,null,null,null,"VERIFIQUE COLUMNA D"]
["","",null,"",{"$f":"IFERROR(VLOOKUP(D165,'CODIGO REGIONALES'!$J$2:$L$33,3,0),\"\")","v":""},"",{"$f":"IF(ISNA(VLOOKUP(F165,Divipolas!$A$2:$B$1123,2,FALSE)),\"\",VLOOKUP(F165,Divipolas!$A$2:$B$1123,2,FALSE))","v":""},"",{"$f":"IF(ISNA(VLOOKUP((CONCATENATE(F165,H165)),Divipolas!$F$2:$G$1123,2,FALSE)),\"\",VLOOKUP((CONCATENATE(F165,H165)),Divipolas!$F$2:$G$1123,2,FALSE))","v":""},"","","","","","","","",{"$f":"IF(ISNA(VLOOKUP(Q165,Divipolas!$A$2:$B$1123,2,FALSE)),\"\",VLOOKUP(Q165,Divipolas!$A$2:$B$1123,2,FALSE))","v":""},"",{"$f":"IF(ISNA(VLOOKUP((CONCATENATE(Q165,S165)),Divipolas!$F$2:$G$1123,2,FALSE)),\"\",VLOOKUP((CONCATENATE(Q165,S165)),Divipolas!$F$2:$G$1123,2,FALSE))","v":""},"","","","","","",{"$f":"IF(ISNA(VLOOKUP(Z165,'CODIGO PAIS'!$A$2:$B$231,2,FALSE)),\"\",VLOOKUP(Z165,'CODIGO PAIS'!$A$2:$B$231,2,FALSE))","v":""},"",{"$f":"IF(ISNA(VLOOKUP(AB165,Divipolas!$A$2:$B$1123,2,FALSE)),\"\",VLOOKUP(AB165,Divipolas!$A$2:$B$1123,2,FALSE))","v":""},"",{"$f":"IF(ISNA(VLOOKUP((CONCATENATE(AB165,AD165)),Divipolas!$F$2:$G$1123,2,FALSE)),\"\",VLOOKUP((CONCATENATE(AB165,AD165)),Divipolas!$F$2:$G$1123,2,FALSE))","v":""},"","","","","",{"$f":"IF(ISNA(VLOOKUP(AJ165,Divipolas!$A$2:$B$1123,2,FALSE)),\"\",VLOOKUP(AJ165,Divipolas!$A$2:$B$1123,2,FALSE))","v":""},"",{"$f":"IF(ISNA(VLOOKUP((CONCATENATE(AJ165,AL165)),Divipolas!$F$2:$G$1123,2,FALSE)),\"\",VLOOKUP((CONCATENATE(AJ165,AL165)),Divipolas!$F$2:$G$1123,2,FALSE))","v":""},"","","","","","","","","","","","","","",null,null,null,null,null,null,null,{"$f":"IF(ISNA(VLOOKUP(BH165,'CODIGO PAIS'!$A$2:$B$231,2,FALSE)),\"\",VLOOKUP(BH165,'CODIGO PAIS'!$A$2:$B$231,2,FALSE))","v":""},null,{"$f":"IF(ISNA(VLOOKUP(BJ165,Divipolas!$A$2:$B$1123,2,FALSE)),\"\",VLOOKUP(BJ165,Divipolas!$A$2:$B$1123,2,FALSE))","v":""},null,{"$f":"IF(ISNA(VLOOKUP((CONCATENATE(BJ165,BL165)),Divipolas!$F$2:$G$1123,2,FALSE)),\"\",VLOOKUP((CONCATENATE(BJ165,BL165)),Divipolas!$F$2:$G$1123,2,FALSE))","v":""},null,"","",null,null,null,null,{"$f":"IF(ISNA(VLOOKUP(BT165,Divipolas!$A$2:$B$1123,2,FALSE)),\"\",VLOOKUP(BT165,Divipolas!$A$2:$B$1123,2,FALSE))","v":""},null,{"$f":"IF(ISNA(VLOOKUP((CONCATENATE(BT165,BV165)),Divipolas!$F$2:$G$1123,2,FALSE)),\"\",VLOOKUP((CONCATENATE(BT165,BV165)),Divipolas!$F$2:$G$1123,2,FALSE))","v":""},null,null,null,null,null,null,null,null,null,null,null,null,null,null,null,null,null,null,null,null,null,null,null,"",null,null,null,null,null,null,null,null,null,null,null,null,null,null,null,null,null,null,null,null,null,null,null,null,null,null,null,null,null,null,null,null,null,null,null,null,null,null,null,null,null,null,null,null,null,null,null,null,null,null,null,null,null,null,null,null,null,null,null,null,null,null,null,null,null,null,null,null,null,null,null,null,null,null,null,null,"",null,null,null,null,null,null,null,"VERIFIQUE FECHAS",null,null,null,null,null,null,null,null,null,"VERIFIQUE COLUMNA D"]
["","",null,"",{"$f":"IFERROR(VLOOKUP(D166,'CODIGO REGIONALES'!$J$2:$L$33,3,0),\"\")","v":""},"",{"$f":"IF(ISNA(VLOOKUP(F166,Divipolas!$A$2:$B$1123,2,FALSE)),\"\",VLOOKUP(F166,Divipolas!$A$2:$B$1123,2,FALSE))","v":""},"",{"$f":"IF(ISNA(VLOOKUP((CONCATENATE(F166,H166)),Divipolas!$F$2:$G$1123,2,FALSE)),\"\",VLOOKUP((CONCATENATE(F166,H166)),Divipolas!$F$2:$G$1123,2,FALSE))","v":""},"","","","","","","","",{"$f":"IF(ISNA(VLOOKUP(Q166,Divipolas!$A$2:$B$1123,2,FALSE)),\"\",VLOOKUP(Q166,Divipolas!$A$2:$B$1123,2,FALSE))","v":""},"",{"$f":"IF(ISNA(VLOOKUP((CONCATENATE(Q166,S166)),Divipolas!$F$2:$G$1123,2,FALSE)),\"\",VLOOKUP((CONCATENATE(Q166,S166)),Divipolas!$F$2:$G$1123,2,FALSE))","v":""},"","","","","","",{"$f":"IF(ISNA(VLOOKUP(Z166,'CODIGO PAIS'!$A$2:$B$231,2,FALSE)),\"\",VLOOKUP(Z166,'CODIGO PAIS'!$A$2:$B$231,2,FALSE))","v":""},"",{"$f":"IF(ISNA(VLOOKUP(AB166,Divipolas!$A$2:$B$1123,2,FALSE)),\"\",VLOOKUP(AB166,Divipolas!$A$2:$B$1123,2,FALSE))","v":""},"",{"$f":"IF(ISNA(VLOOKUP((CONCATENATE(AB166,AD166)),Divipolas!$F$2:$G$1123,2,FALSE)),\"\",VLOOKUP((CONCATENATE(AB166,AD166)),Divipolas!$F$2:$G$1123,2,FALSE))","v":""},"","","","","",{"$f":"IF(ISNA(VLOOKUP(AJ166,Divipolas!$A$2:$B$1123,2,FALSE)),\"\",VLOOKUP(AJ166,Divipolas!$A$2:$B$1123,2,FALSE))","v":""},"",{"$f":"IF(ISNA(VLOOKUP((CONCATENATE(AJ166,AL166)),Divipolas!$F$2:$G$1123,2,FALSE)),\"\",VLOOKUP((CONCATENATE(AJ166,AL166)),Divipolas!$F$2:$G$1123,2,FALSE))","v":""},"","","","","","","","","","","","","","",null,null,null,null,null,null,null,{"$f":"IF(ISNA(VLOOKUP(BH166,'CODIGO PAIS'!$A$2:$B$231,2,FALSE)),\"\",VLOOKUP(BH166,'CODIGO PAIS'!$A$2:$B$231,2,FALSE))","v":""},null,{"$f":"IF(ISNA(VLOOKUP(BJ166,Divipolas!$A$2:$B$1123,2,FALSE)),\"\",VLOOKUP(BJ166,Divipolas!$A$2:$B$1123,2,FALSE))","v":""},null,{"$f":"IF(ISNA(VLOOKUP((CONCATENATE(BJ166,BL166)),Divipolas!$F$2:$G$1123,2,FALSE)),\"\",VLOOKUP((CONCATENATE(BJ166,BL166)),Divipolas!$F$2:$G$1123,2,FALSE))","v":""},null,"","",null,null,null,null,{"$f":"IF(ISNA(VLOOKUP(BT166,Divipolas!$A$2:$B$1123,2,FALSE)),\"\",VLOOKUP(BT166,Divipolas!$A$2:$B$1123,2,FALSE))","v":""},null,{"$f":"IF(ISNA(VLOOKUP((CONCATENATE(BT166,BV166)),Divipolas!$F$2:$G$1123,2,FALSE)),\"\",VLOOKUP((CONCATENATE(BT166,BV166)),Divipolas!$F$2:$G$1123,2,FALSE))","v":""},null,null,null,null,null,null,null,null,null,null,null,null,null,null,null,null,null,null,null,null,null,null,null,"",null,null,null,null,null,null,null,null,null,null,null,null,null,null,null,null,null,null,null,null,null,null,null,null,null,null,null,null,null,null,null,null,null,null,null,null,null,null,null,null,null,null,null,null,null,null,null,null,null,null,null,null,null,null,null,null,null,null,null,null,null,null,null,null,null,null,null,null,null,null,null,null,null,null,null,null,"",null,null,null,null,null,null,null,"VERIFIQUE FECHAS",null,null,null,null,null,null,null,null,null,"VERIFIQUE COLUMNA D"]
["","",null,"",{"$f":"IFERROR(VLOOKUP(D167,'CODIGO REGIONALES'!$J$2:$L$33,3,0),\"\")","v":""},"",{"$f":"IF(ISNA(VLOOKUP(F167,Divipolas!$A$2:$B$1123,2,FALSE)),\"\",VLOOKUP(F167,Divipolas!$A$2:$B$1123,2,FALSE))","v":""},"",{"$f":"IF(ISNA(VLOOKUP((CONCATENATE(F167,H167)),Divipolas!$F$2:$G$1123,2,FALSE)),\"\",VLOOKUP((CONCATENATE(F167,H167)),Divipolas!$F$2:$G$1123,2,FALSE))","v":""},"","","","","","","","",{"$f":"IF(ISNA(VLOOKUP(Q167,Divipolas!$A$2:$B$1123,2,FALSE)),\"\",VLOOKUP(Q167,Divipolas!$A$2:$B$1123,2,FALSE))","v":""},"",{"$f":"IF(ISNA(VLOOKUP((CONCATENATE(Q167,S167)),Divipolas!$F$2:$G$1123,2,FALSE)),\"\",VLOOKUP((CONCATENATE(Q167,S167)),Divipolas!$F$2:$G$1123,2,FALSE))","v":""},"","","","","","",{"$f":"IF(ISNA(VLOOKUP(Z167,'CODIGO PAIS'!$A$2:$B$231,2,FALSE)),\"\",VLOOKUP(Z167,'CODIGO PAIS'!$A$2:$B$231,2,FALSE))","v":""},"",{"$f":"IF(ISNA(VLOOKUP(AB167,Divipolas!$A$2:$B$1123,2,FALSE)),\"\",VLOOKUP(AB167,Divipolas!$A$2:$B$1123,2,FALSE))","v":""},"",{"$f":"IF(ISNA(VLOOKUP((CONCATENATE(AB167,AD167)),Divipolas!$F$2:$G$1123,2,FALSE)),\"\",VLOOKUP((CONCATENATE(AB167,AD167)),Divipolas!$F$2:$G$1123,2,FALSE))","v":""},"","","","","",{"$f":"IF(ISNA(VLOOKUP(AJ167,Divipolas!$A$2:$B$1123,2,FALSE)),\"\",VLOOKUP(AJ167,Divipolas!$A$2:$B$1123,2,FALSE))","v":""},"",{"$f":"IF(ISNA(VLOOKUP((CONCATENATE(AJ167,AL167)),Divipolas!$F$2:$G$1123,2,FALSE)),\"\",VLOOKUP((CONCATENATE(AJ167,AL167)),Divipolas!$F$2:$G$1123,2,FALSE))","v":""},"","","","","","","","","","","","","","",null,null,null,null,null,null,null,{"$f":"IF(ISNA(VLOOKUP(BH167,'CODIGO PAIS'!$A$2:$B$231,2,FALSE)),\"\",VLOOKUP(BH167,'CODIGO PAIS'!$A$2:$B$231,2,FALSE))","v":""},null,{"$f":"IF(ISNA(VLOOKUP(BJ167,Divipolas!$A$2:$B$1123,2,FALSE)),\"\",VLOOKUP(BJ167,Divipolas!$A$2:$B$1123,2,FALSE))","v":""},null,{"$f":"IF(ISNA(VLOOKUP((CONCATENATE(BJ167,BL167)),Divipolas!$F$2:$G$1123,2,FALSE)),\"\",VLOOKUP((CONCATENATE(BJ167,BL167)),Divipolas!$F$2:$G$1123,2,FALSE))","v":""},null,"","",null,null,null,null,{"$f":"IF(ISNA(VLOOKUP(BT167,Divipolas!$A$2:$B$1123,2,FALSE)),\"\",VLOOKUP(BT167,Divipolas!$A$2:$B$1123,2,FALSE))","v":""},null,{"$f":"IF(ISNA(VLOOKUP((CONCATENATE(BT167,BV167)),Divipolas!$F$2:$G$1123,2,FALSE)),\"\",VLOOKUP((CONCATENATE(BT167,BV167)),Divipolas!$F$2:$G$1123,2,FALSE))","v":""},null,null,null,null,null,null,null,null,null,null,null,null,null,null,null,null,null,null,null,null,null,null,null,"",null,null,null,null,null,null,null,null,null,null,null,null,null,null,null,null,null,null,null,null,null,null,null,null,null,null,null,null,null,null,null,null,null,null,null,null,null,null,null,null,null,null,null,null,null,null,null,null,null,null,null,null,null,null,null,null,null,null,null,null,null,null,null,null,null,null,null,null,null,null,null,null,null,null,null,null,"",null,null,null,null,null,null,null,"VERIFIQUE FECHAS",null,null,null,null,null,null,null,null,null,"VERIFIQUE COLUMNA D"]
["","",null,"",{"$f":"IFERROR(VLOOKUP(D168,'CODIGO REGIONALES'!$J$2:$L$33,3,0),\"\")","v":""},"",{"$f":"IF(ISNA(VLOOKUP(F168,Divipolas!$A$2:$B$1123,2,FALSE)),\"\",VLOOKUP(F168,Divipolas!$A$2:$B$1123,2,FALSE))","v":""},"",{"$f":"IF(ISNA(VLOOKUP((CONCATENATE(F168,H168)),Divipolas!$F$2:$G$1123,2,FALSE)),\"\",VLOOKUP((CONCATENATE(F168,H168)),Divipolas!$F$2:$G$1123,2,FALSE))","v":""},"",{"$f":"IF(AND($C168<>\"\",K167<>\"\"),K167,\"\")","v":""},"","","","","","",{"$f":"IF(ISNA(VLOOKUP(Q168,Divipolas!$A$2:$B$1123,2,FALSE)),\"\",VLOOKUP(Q168,Divipolas!$A$2:$B$1123,2,FALSE))","v":""},"",{"$f":"IF(ISNA(VLOOKUP((CONCATENATE(Q168,S168)),Divipolas!$F$2:$G$1123,2,FALSE)),\"\",VLOOKUP((CONCATENATE(Q168,S168)),Divipolas!$F$2:$G$1123,2,FALSE))","v":""},"","","","","","",{"$f":"IF(ISNA(VLOOKUP(Z168,'CODIGO PAIS'!$A$2:$B$231,2,FALSE)),\"\",VLOOKUP(Z168,'CODIGO PAIS'!$A$2:$B$231,2,FALSE))","v":""},"",{"$f":"IF(ISNA(VLOOKUP(AB168,Divipolas!$A$2:$B$1123,2,FALSE)),\"\",VLOOKUP(AB168,Divipolas!$A$2:$B$1123,2,FALSE))","v":""},"",{"$f":"IF(ISNA(VLOOKUP((CONCATENATE(AB168,AD168)),Divipolas!$F$2:$G$1123,2,FALSE)),\"\",VLOOKUP((CONCATENATE(AB168,AD168)),Divipolas!$F$2:$G$1123,2,FALSE))","v":""},"","","","","",{"$f":"IF(ISNA(VLOOKUP(AJ168,Divipolas!$A$2:$B$1123,2,FALSE)),\"\",VLOOKUP(AJ168,Divipolas!$A$2:$B$1123,2,FALSE))","v":""},"",{"$f":"IF(ISNA(VLOOKUP((CONCATENATE(AJ168,AL168)),Divipolas!$F$2:$G$1123,2,FALSE)),\"\",VLOOKUP((CONCATENATE(AJ168,AL168)),Divipolas!$F$2:$G$1123,2,FALSE))","v":""},"","","","","","","","","","","","","","",null,null,null,null,null,null,null,{"$f":"IF(ISNA(VLOOKUP(BH168,'CODIGO PAIS'!$A$2:$B$231,2,FALSE)),\"\",VLOOKUP(BH168,'CODIGO PAIS'!$A$2:$B$231,2,FALSE))","v":""},null,{"$f":"IF(ISNA(VLOOKUP(BJ168,Divipolas!$A$2:$B$1123,2,FALSE)),\"\",VLOOKUP(BJ168,Divipolas!$A$2:$B$1123,2,FALSE))","v":""},null,{"$f":"IF(ISNA(VLOOKUP((CONCATENATE(BJ168,BL168)),Divipolas!$F$2:$G$1123,2,FALSE)),\"\",VLOOKUP((CONCATENATE(BJ168,BL168)),Divipolas!$F$2:$G$1123,2,FALSE))","v":""},null,"","",null,null,null,null,{"$f":"IF(ISNA(VLOOKUP(BT168,Divipolas!$A$2:$B$1123,2,FALSE)),\"\",VLOOKUP(BT168,Divipolas!$A$2:$B$1123,2,FALSE))","v":""},null,{"$f":"IF(ISNA(VLOOKUP((CONCATENATE(BT168,BV168)),Divipolas!$F$2:$G$1123,2,FALSE)),\"\",VLOOKUP((CONCATENATE(BT168,BV168)),Divipolas!$F$2:$G$1123,2,FALSE))","v":""},null,null,null,null,null,null,null,null,null,null,null,null,null,null,null,null,null,null,null,null,null,null,null,"",null,null,null,null,null,null,null,null,null,null,null,null,null,null,null,null,null,null,null,null,null,null,null,null,null,null,null,null,null,null,null,null,null,null,null,null,null,null,null,null,null,null,null,null,null,null,null,null,null,null,null,null,null,null,null,null,null,null,null,null,null,null,null,null,null,null,null,null,null,null,null,null,null,null,null,null,"",null,null,null,null,null,null,null,"VERIFIQUE FECHAS",null,null,null,null,null,null,null,null,null,"VERIFIQUE COLUMNA D"]
["","",null,"",{"$f":"IFERROR(VLOOKUP(D169,'CODIGO REGIONALES'!$J$2:$L$33,3,0),\"\")","v":""},"",{"$f":"IF(ISNA(VLOOKUP(F169,Divipolas!$A$2:$B$1123,2,FALSE)),\"\",VLOOKUP(F169,Divipolas!$A$2:$B$1123,2,FALSE))","v":""},"",{"$f":"IF(ISNA(VLOOKUP((CONCATENATE(F169,H169)),Divipolas!$F$2:$G$1123,2,FALSE)),\"\",VLOOKUP((CONCATENATE(F169,H169)),Divipolas!$F$2:$G$1123,2,FALSE))","v":""},"","","","","","","","",{"$f":"IF(ISNA(VLOOKUP(Q169,Divipolas!$A$2:$B$1123,2,FALSE)),\"\",VLOOKUP(Q169,Divipolas!$A$2:$B$1123,2,FALSE))","v":""},"",{"$f":"IF(ISNA(VLOOKUP((CONCATENATE(Q169,S169)),Divipolas!$F$2:$G$1123,2,FALSE)),\"\",VLOOKUP((CONCATENATE(Q169,S169)),Divipolas!$F$2:$G$1123,2,FALSE))","v":""},"","","","","","",{"$f":"IF(ISNA(VLOOKUP(Z169,'CODIGO PAIS'!$A$2:$B$231,2,FALSE)),\"\",VLOOKUP(Z169,'CODIGO PAIS'!$A$2:$B$231,2,FALSE))","v":""},"",{"$f":"IF(ISNA(VLOOKUP(AB169,Divipolas!$A$2:$B$1123,2,FALSE)),\"\",VLOOKUP(AB169,Divipolas!$A$2:$B$1123,2,FALSE))","v":""},"",{"$f":"IF(ISNA(VLOOKUP((CONCATENATE(AB169,AD169)),Divipolas!$F$2:$G$1123,2,FALSE)),\"\",VLOOKUP((CONCATENATE(AB169,AD169)),Divipolas!$F$2:$G$1123,2,FALSE))","v":""},"","","","","",{"$f":"IF(ISNA(VLOOKUP(AJ169,Divipolas!$A$2:$B$1123,2,FALSE)),\"\",VLOOKUP(AJ169,Divipolas!$A$2:$B$1123,2,FALSE))","v":""},"",{"$f":"IF(ISNA(VLOOKUP((CONCATENATE(AJ169,AL169)),Divipolas!$F$2:$G$1123,2,FALSE)),\"\",VLOOKUP((CONCATENATE(AJ169,AL169)),Divipolas!$F$2:$G$1123,2,FALSE))","v":""},"","","","","","","","","","","","","","",null,null,null,null,null,null,null,{"$f":"IF(ISNA(VLOOKUP(BH169,'CODIGO PAIS'!$A$2:$B$231,2,FALSE)),\"\",VLOOKUP(BH169,'CODIGO PAIS'!$A$2:$B$231,2,FALSE))","v":""},null,{"$f":"IF(ISNA(VLOOKUP(BJ169,Divipolas!$A$2:$B$1123,2,FALSE)),\"\",VLOOKUP(BJ169,Divipolas!$A$2:$B$1123,2,FALSE))","v":""},null,{"$f":"IF(ISNA(VLOOKUP((CONCATENATE(BJ169,BL169)),Divipolas!$F$2:$G$1123,2,FALSE)),\"\",VLOOKUP((CONCATENATE(BJ169,BL169)),Divipolas!$F$2:$G$1123,2,FALSE))","v":""},null,"","",null,null,null,null,{"$f":"IF(ISNA(VLOOKUP(BT169,Divipolas!$A$2:$B$1123,2,FALSE)),\"\",VLOOKUP(BT169,Divipolas!$A$2:$B$1123,2,FALSE))","v":""},null,{"$f":"IF(ISNA(VLOOKUP((CONCATENATE(BT169,BV169)),Divipolas!$F$2:$G$1123,2,FALSE)),\"\",VLOOKUP((CONCATENATE(BT169,BV169)),Divipolas!$F$2:$G$1123,2,FALSE))","v":""},null,null,null,null,null,null,null,null,null,null,null,null,null,null,null,null,null,null,null,null,null,null,null,"",null,null,null,null,null,null,null,null,null,null,null,null,null,null,null,null,null,null,null,null,null,null,null,null,null,null,null,null,null,null,null,null,null,null,null,null,null,null,null,null,null,null,null,null,null,null,null,null,null,null,null,null,null,null,null,null,null,null,null,null,null,null,null,null,null,null,null,null,null,null,null,null,null,null,null,null,"",null,null,null,null,null,null,null,"VERIFIQUE FECHAS",null,null,null,null,null,null,null,null,null,"VERIFIQUE COLUMNA D"]
["","",null,"",{"$f":"IFERROR(VLOOKUP(D170,'CODIGO REGIONALES'!$J$2:$L$33,3,0),\"\")","v":""},"",{"$f":"IF(ISNA(VLOOKUP(F170,Divipolas!$A$2:$B$1123,2,FALSE)),\"\",VLOOKUP(F170,Divipolas!$A$2:$B$1123,2,FALSE))","v":""},"",{"$f":"IF(ISNA(VLOOKUP((CONCATENATE(F170,H170)),Divipolas!$F$2:$G$1123,2,FALSE)),\"\",VLOOKUP((CONCATENATE(F170,H170)),Divipolas!$F$2:$G$1123,2,FALSE))","v":""},"","","","","","","","",{"$f":"IF(ISNA(VLOOKUP(Q170,Divipolas!$A$2:$B$1123,2,FALSE)),\"\",VLOOKUP(Q170,Divipolas!$A$2:$B$1123,2,FALSE))","v":""},"",{"$f":"IF(ISNA(VLOOKUP((CONCATENATE(Q170,S170)),Divipolas!$F$2:$G$1123,2,FALSE)),\"\",VLOOKUP((CONCATENATE(Q170,S170)),Divipolas!$F$2:$G$1123,2,FALSE))","v":""},"","","","","","",{"$f":"IF(ISNA(VLOOKUP(Z170,'CODIGO PAIS'!$A$2:$B$231,2,FALSE)),\"\",VLOOKUP(Z170,'CODIGO PAIS'!$A$2:$B$231,2,FALSE))","v":""},"",{"$f":"IF(ISNA(VLOOKUP(AB170,Divipolas!$A$2:$B$1123,2,FALSE)),\"\",VLOOKUP(AB170,Divipolas!$A$2:$B$1123,2,FALSE))","v":""},"",{"$f":"IF(ISNA(VLOOKUP((CONCATENATE(AB170,AD170)),Divipolas!$F$2:$G$1123,2,FALSE)),\"\",VLOOKUP((CONCATENATE(AB170,AD170)),Divipolas!$F$2:$G$1123,2,FALSE))","v":""},"","","","","",{"$f":"IF(ISNA(VLOOKUP(AJ170,Divipolas!$A$2:$B$1123,2,FALSE)),\"\",VLOOKUP(AJ170,Divipolas!$A$2:$B$1123,2,FALSE))","v":""},"",{"$f":"IF(ISNA(VLOOKUP((CONCATENATE(AJ170,AL170)),Divipolas!$F$2:$G$1123,2,FALSE)),\"\",VLOOKUP((CONCATENATE(AJ170,AL170)),Divipolas!$F$2:$G$1123,2,FALSE))","v":""},"","","","","","","","","","","","","","",null,null,null,null,null,null,null,{"$f":"IF(ISNA(VLOOKUP(BH170,'CODIGO PAIS'!$A$2:$B$231,2,FALSE)),\"\",VLOOKUP(BH170,'CODIGO PAIS'!$A$2:$B$231,2,FALSE))","v":""},null,{"$f":"IF(ISNA(VLOOKUP(BJ170,Divipolas!$A$2:$B$1123,2,FALSE)),\"\",VLOOKUP(BJ170,Divipolas!$A$2:$B$1123,2,FALSE))","v":""},null,{"$f":"IF(ISNA(VLOOKUP((CONCATENATE(BJ170,BL170)),Divipolas!$F$2:$G$1123,2,FALSE)),\"\",VLOOKUP((CONCATENATE(BJ170,BL170)),Divipolas!$F$2:$G$1123,2,FALSE))","v":""},null,"","",null,null,null,null,{"$f":"IF(ISNA(VLOOKUP(BT170,Divipolas!$A$2:$B$1123,2,FALSE)),\"\",VLOOKUP(BT170,Divipolas!$A$2:$B$1123,2,FALSE))","v":""},null,{"$f":"IF(ISNA(VLOOKUP((CONCATENATE(BT170,BV170)),Divipolas!$F$2:$G$1123,2,FALSE)),\"\",VLOOKUP((CONCATENATE(BT170,BV170)),Divipolas!$F$2:$G$1123,2,FALSE))","v":""},null,null,null,null,null,null,null,null,null,null,null,null,null,null,null,null,null,null,null,null,null,null,null,"",null,null,null,null,null,null,null,null,null,null,null,null,null,null,null,null,null,null,null,null,null,null,null,null,null,null,null,null,null,null,null,null,null,null,null,null,null,null,null,null,null,null,null,null,null,null,null,null,null,null,null,null,null,null,null,null,null,null,null,null,null,null,null,null,null,null,null,null,null,null,null,null,null,null,null,null,"",null,null,null,null,null,null,null,"VERIFIQUE FECHAS",null,null,null,null,null,null,null,null,null,"VERIFIQUE COLUMNA D"]
["","",null,"",{"$f":"IFERROR(VLOOKUP(D171,'CODIGO REGIONALES'!$J$2:$L$33,3,0),\"\")","v":""},"",{"$f":"IF(ISNA(VLOOKUP(F171,Divipolas!$A$2:$B$1123,2,FALSE)),\"\",VLOOKUP(F171,Divipolas!$A$2:$B$1123,2,FALSE))","v":""},"",{"$f":"IF(ISNA(VLOOKUP((CONCATENATE(F171,H171)),Divipolas!$F$2:$G$1123,2,FALSE)),\"\",VLOOKUP((CONCATENATE(F171,H171)),Divipolas!$F$2:$G$1123,2,FALSE))","v":""},"","","","","","","","",{"$f":"IF(ISNA(VLOOKUP(Q171,Divipolas!$A$2:$B$1123,2,FALSE)),\"\",VLOOKUP(Q171,Divipolas!$A$2:$B$1123,2,FALSE))","v":""},"",{"$f":"IF(ISNA(VLOOKUP((CONCATENATE(Q171,S171)),Divipolas!$F$2:$G$1123,2,FALSE)),\"\",VLOOKUP((CONCATENATE(Q171,S171)),Divipolas!$F$2:$G$1123,2,FALSE))","v":""},"","","","","","",{"$f":"IF(ISNA(VLOOKUP(Z171,'CODIGO PAIS'!$A$2:$B$231,2,FALSE)),\"\",VLOOKUP(Z171,'CODIGO PAIS'!$A$2:$B$231,2,FALSE))","v":""},"",{"$f":"IF(ISNA(VLOOKUP(AB171,Divipolas!$A$2:$B$1123,2,FALSE)),\"\",VLOOKUP(AB171,Divipolas!$A$2:$B$1123,2,FALSE))","v":""},"",{"$f":"IF(ISNA(VLOOKUP((CONCATENATE(AB171,AD171)),Divipolas!$F$2:$G$1123,2,FALSE)),\"\",VLOOKUP((CONCATENATE(AB171,AD171)),Divipolas!$F$2:$G$1123,2,FALSE))","v":""},"","","","","",{"$f":"IF(ISNA(VLOOKUP(AJ171,Divipolas!$A$2:$B$1123,2,FALSE)),\"\",VLOOKUP(AJ171,Divipolas!$A$2:$B$1123,2,FALSE))","v":""},"",{"$f":"IF(ISNA(VLOOKUP((CONCATENATE(AJ171,AL171)),Divipolas!$F$2:$G$1123,2,FALSE)),\"\",VLOOKUP((CONCATENATE(AJ171,AL171)),Divipolas!$F$2:$G$1123,2,FALSE))","v":""},"","","","","","","","","","","","","","",null,null,null,null,null,null,null,{"$f":"IF(ISNA(VLOOKUP(BH171,'CODIGO PAIS'!$A$2:$B$231,2,FALSE)),\"\",VLOOKUP(BH171,'CODIGO PAIS'!$A$2:$B$231,2,FALSE))","v":""},null,{"$f":"IF(ISNA(VLOOKUP(BJ171,Divipolas!$A$2:$B$1123,2,FALSE)),\"\",VLOOKUP(BJ171,Divipolas!$A$2:$B$1123,2,FALSE))","v":""},null,{"$f":"IF(ISNA(VLOOKUP((CONCATENATE(BJ171,BL171)),Divipolas!$F$2:$G$1123,2,FALSE)),\"\",VLOOKUP((CONCATENATE(BJ171,BL171)),Divipolas!$F$2:$G$1123,2,FALSE))","v":""},null,"","",null,null,null,null,{"$f":"IF(ISNA(VLOOKUP(BT171,Divipolas!$A$2:$B$1123,2,FALSE)),\"\",VLOOKUP(BT171,Divipolas!$A$2:$B$1123,2,FALSE))","v":""},null,{"$f":"IF(ISNA(VLOOKUP((CONCATENATE(BT171,BV171)),Divipolas!$F$2:$G$1123,2,FALSE)),\"\",VLOOKUP((CONCATENATE(BT171,BV171)),Divipolas!$F$2:$G$1123,2,FALSE))","v":""},null,null,null,null,null,null,null,null,null,null,null,null,null,null,null,null,null,null,null,null,null,null,null,"",null,null,null,null,null,null,null,null,null,null,null,null,null,null,null,null,null,null,null,null,null,null,null,null,null,null,null,null,null,null,null,null,null,null,null,null,null,null,null,null,null,null,null,null,null,null,null,null,null,null,null,null,null,null,null,null,null,null,null,null,null,null,null,null,null,null,null,null,null,null,null,null,null,null,null,null,"",null,null,null,null,null,null,null,"VERIFIQUE FECHAS",null,null,null,null,null,null,null,null,null,"VERIFIQUE COLUMNA D"]
["","",null,"",{"$f":"IFERROR(VLOOKUP(D172,'CODIGO REGIONALES'!$J$2:$L$33,3,0),\"\")","v":""},"",{"$f":"IF(ISNA(VLOOKUP(F172,Divipolas!$A$2:$B$1123,2,FALSE)),\"\",VLOOKUP(F172,Divipolas!$A$2:$B$1123,2,FALSE))","v":""},"",{"$f":"IF(ISNA(VLOOKUP((CONCATENATE(F172,H172)),Divipolas!$F$2:$G$1123,2,FALSE)),\"\",VLOOKUP((CONCATENATE(F172,H172)),Divipolas!$F$2:$G$1123,2,FALSE))","v":""},"","","","","","","","",{"$f":"IF(ISNA(VLOOKUP(Q172,Divipolas!$A$2:$B$1123,2,FALSE)),\"\",VLOOKUP(Q172,Divipolas!$A$2:$B$1123,2,FALSE))","v":""},"",{"$f":"IF(ISNA(VLOOKUP((CONCATENATE(Q172,S172)),Divipolas!$F$2:$G$1123,2,FALSE)),\"\",VLOOKUP((CONCATENATE(Q172,S172)),Divipolas!$F$2:$G$1123,2,FALSE))","v":""},"","","","","","",{"$f":"IF(ISNA(VLOOKUP(Z172,'CODIGO PAIS'!$A$2:$B$231,2,FALSE)),\"\",VLOOKUP(Z172,'CODIGO PAIS'!$A$2:$B$231,2,FALSE))","v":""},"",{"$f":"IF(ISNA(VLOOKUP(AB172,Divipolas!$A$2:$B$1123,2,FALSE)),\"\",VLOOKUP(AB172,Divipolas!$A$2:$B$1123,2,FALSE))","v":""},"",{"$f":"IF(ISNA(VLOOKUP((CONCATENATE(AB172,AD172)),Divipolas!$F$2:$G$1123,2,FALSE)),\"\",VLOOKUP((CONCATENATE(AB172,AD172)),Divipolas!$F$2:$G$1123,2,FALSE))","v":""},"","","","","",{"$f":"IF(ISNA(VLOOKUP(AJ172,Divipolas!$A$2:$B$1123,2,FALSE)),\"\",VLOOKUP(AJ172,Divipolas!$A$2:$B$1123,2,FALSE))","v":""},"",{"$f":"IF(ISNA(VLOOKUP((CONCATENATE(AJ172,AL172)),Divipolas!$F$2:$G$1123,2,FALSE)),\"\",VLOOKUP((CONCATENATE(AJ172,AL172)),Divipolas!$F$2:$G$1123,2,FALSE))","v":""},"","","","","","","","","","","","","","",null,null,null,null,null,null,null,{"$f":"IF(ISNA(VLOOKUP(BH172,'CODIGO PAIS'!$A$2:$B$231,2,FALSE)),\"\",VLOOKUP(BH172,'CODIGO PAIS'!$A$2:$B$231,2,FALSE))","v":""},null,{"$f":"IF(ISNA(VLOOKUP(BJ172,Divipolas!$A$2:$B$1123,2,FALSE)),\"\",VLOOKUP(BJ172,Divipolas!$A$2:$B$1123,2,FALSE))","v":""},null,{"$f":"IF(ISNA(VLOOKUP((CONCATENATE(BJ172,BL172)),Divipolas!$F$2:$G$1123,2,FALSE)),\"\",VLOOKUP((CONCATENATE(BJ172,BL172)),Divipolas!$F$2:$G$1123,2,FALSE))","v":""},null,"","",null,null,null,null,{"$f":"IF(ISNA(VLOOKUP(BT172,Divipolas!$A$2:$B$1123,2,FALSE)),\"\",VLOOKUP(BT172,Divipolas!$A$2:$B$1123,2,FALSE))","v":""},null,{"$f":"IF(ISNA(VLOOKUP((CONCATENATE(BT172,BV172)),Divipolas!$F$2:$G$1123,2,FALSE)),\"\",VLOOKUP((CONCATENATE(BT172,BV172)),Divipolas!$F$2:$G$1123,2,FALSE))","v":""},null,null,null,null,null,null,null,null,null,null,null,null,null,null,null,null,null,null,null,null,null,null,null,"",null,null,null,null,null,null,null,null,null,null,null,null,null,null,null,null,null,null,null,null,null,null,null,null,null,null,null,null,null,null,null,null,null,null,null,null,null,null,null,null,null,null,null,null,null,null,null,null,null,null,null,null,null,null,null,null,null,null,null,null,null,null,null,null,null,null,null,null,null,null,null,null,null,null,null,null,"",null,null,null,null,null,null,null,"VERIFIQUE FECHAS",null,null,null,null,null,null,null,null,null,"VERIFIQUE COLUMNA D"]
["","",null,"",{"$f":"IFERROR(VLOOKUP(D173,'CODIGO REGIONALES'!$J$2:$L$33,3,0),\"\")","v":""},"",{"$f":"IF(ISNA(VLOOKUP(F173,Divipolas!$A$2:$B$1123,2,FALSE)),\"\",VLOOKUP(F173,Divipolas!$A$2:$B$1123,2,FALSE))","v":""},"",{"$f":"IF(ISNA(VLOOKUP((CONCATENATE(F173,H173)),Divipolas!$F$2:$G$1123,2,FALSE)),\"\",VLOOKUP((CONCATENATE(F173,H173)),Divipolas!$F$2:$G$1123,2,FALSE))","v":""},"","","","","","","","",{"$f":"IF(ISNA(VLOOKUP(Q173,Divipolas!$A$2:$B$1123,2,FALSE)),\"\",VLOOKUP(Q173,Divipolas!$A$2:$B$1123,2,FALSE))","v":""},"",{"$f":"IF(ISNA(VLOOKUP((CONCATENATE(Q173,S173)),Divipolas!$F$2:$G$1123,2,FALSE)),\"\",VLOOKUP((CONCATENATE(Q173,S173)),Divipolas!$F$2:$G$1123,2,FALSE))","v":""},"","","","","","",{"$f":"IF(ISNA(VLOOKUP(Z173,'CODIGO PAIS'!$A$2:$B$231,2,FALSE)),\"\",VLOOKUP(Z173,'CODIGO PAIS'!$A$2:$B$231,2,FALSE))","v":""},"",{"$f":"IF(ISNA(VLOOKUP(AB173,Divipolas!$A$2:$B$1123,2,FALSE)),\"\",VLOOKUP(AB173,Divipolas!$A$2:$B$1123,2,FALSE))","v":""},"",{"$f":"IF(ISNA(VLOOKUP((CONCATENATE(AB173,AD173)),Divipolas!$F$2:$G$1123,2,FALSE)),\"\",VLOOKUP((CONCATENATE(AB173,AD173)),Divipolas!$F$2:$G$1123,2,FALSE))","v":""},"","","","","",{"$f":"IF(ISNA(VLOOKUP(AJ173,Divipolas!$A$2:$B$1123,2,FALSE)),\"\",VLOOKUP(AJ173,Divipolas!$A$2:$B$1123,2,FALSE))","v":""},"",{"$f":"IF(ISNA(VLOOKUP((CONCATENATE(AJ173,AL173)),Divipolas!$F$2:$G$1123,2,FALSE)),\"\",VLOOKUP((CONCATENATE(AJ173,AL173)),Divipolas!$F$2:$G$1123,2,FALSE))","v":""},"","","","","","","","","","","","","","",null,null,null,null,null,null,null,{"$f":"IF(ISNA(VLOOKUP(BH173,'CODIGO PAIS'!$A$2:$B$231,2,FALSE)),\"\",VLOOKUP(BH173,'CODIGO PAIS'!$A$2:$B$231,2,FALSE))","v":""},null,{"$f":"IF(ISNA(VLOOKUP(BJ173,Divipolas!$A$2:$B$1123,2,FALSE)),\"\",VLOOKUP(BJ173,Divipolas!$A$2:$B$1123,2,FALSE))","v":""},null,{"$f":"IF(ISNA(VLOOKUP((CONCATENATE(BJ173,BL173)),Divipolas!$F$2:$G$1123,2,FALSE)),\"\",VLOOKUP((CONCATENATE(BJ173,BL173)),Divipolas!$F$2:$G$1123,2,FALSE))","v":""},null,"","",null,null,null,null,{"$f":"IF(ISNA(VLOOKUP(BT173,Divipolas!$A$2:$B$1123,2,FALSE)),\"\",VLOOKUP(BT173,Divipolas!$A$2:$B$1123,2,FALSE))","v":""},null,{"$f":"IF(ISNA(VLOOKUP((CONCATENATE(BT173,BV173)),Divipolas!$F$2:$G$1123,2,FALSE)),\"\",VLOOKUP((CONCATENATE(BT173,BV173)),Divipolas!$F$2:$G$1123,2,FALSE))","v":""},null,null,null,null,null,null,null,null,null,null,null,null,null,null,null,null,null,null,null,null,null,null,null,"",null,null,null,null,null,null,null,null,null,null,null,null,null,null,null,null,null,null,null,null,null,null,null,null,null,null,null,null,null,null,null,null,null,null,null,null,null,null,null,null,null,null,null,null,null,null,null,null,null,null,null,null,null,null,null,null,null,null,null,null,null,null,null,null,null,null,null,null,null,null,null,null,null,null,null,null,"",null,null,null,null,null,null,null,"VERIFIQUE FECHAS",null,null,null,null,null,null,null,null,null,"VERIFIQUE COLUMNA D"]
["","",null,"",{"$f":"IFERROR(VLOOKUP(D174,'CODIGO REGIONALES'!$J$2:$L$33,3,0),\"\")","v":""},"",{"$f":"IF(ISNA(VLOOKUP(F174,Divipolas!$A$2:$B$1123,2,FALSE)),\"\",VLOOKUP(F174,Divipolas!$A$2:$B$1123,2,FALSE))","v":""},"",{"$f":"IF(ISNA(VLOOKUP((CONCATENATE(F174,H174)),Divipolas!$F$2:$G$1123,2,FALSE)),\"\",VLOOKUP((CONCATENATE(F174,H174)),Divipolas!$F$2:$G$1123,2,FALSE))","v":""},"","","","","","","","",{"$f":"IF(ISNA(VLOOKUP(Q174,Divipolas!$A$2:$B$1123,2,FALSE)),\"\",VLOOKUP(Q174,Divipolas!$A$2:$B$1123,2,FALSE))","v":""},"",{"$f":"IF(ISNA(VLOOKUP((CONCATENATE(Q174,S174)),Divipolas!$F$2:$G$1123,2,FALSE)),\"\",VLOOKUP((CONCATENATE(Q174,S174)),Divipolas!$F$2:$G$1123,2,FALSE))","v":""},"","","","","","",{"$f":"IF(ISNA(VLOOKUP(Z174,'CODIGO PAIS'!$A$2:$B$231,2,FALSE)),\"\",VLOOKUP(Z174,'CODIGO PAIS'!$A$2:$B$231,2,FALSE))","v":""},"",{"$f":"IF(ISNA(VLOOKUP(AB174,Divipolas!$A$2:$B$1123,2,FALSE)),\"\",VLOOKUP(AB174,Divipolas!$A$2:$B$1123,2,FALSE))","v":""},"",{"$f":"IF(ISNA(VLOOKUP((CONCATENATE(AB174,AD174)),Divipolas!$F$2:$G$1123,2,FALSE)),\"\",VLOOKUP((CONCATENATE(AB174,AD174)),Divipolas!$F$2:$G$1123,2,FALSE))","v":""},"","","","","",{"$f":"IF(ISNA(VLOOKUP(AJ174,Divipolas!$A$2:$B$1123,2,FALSE)),\"\",VLOOKUP(AJ174,Divipolas!$A$2:$B$1123,2,FALSE))","v":""},"",{"$f":"IF(ISNA(VLOOKUP((CONCATENATE(AJ174,AL174)),Divipolas!$F$2:$G$1123,2,FALSE)),\"\",VLOOKUP((CONCATENATE(AJ174,AL174)),Divipolas!$F$2:$G$1123,2,FALSE))","v":""},"","","","","","","","","","","","","","",null,null,null,null,null,null,null,{"$f":"IF(ISNA(VLOOKUP(BH174,'CODIGO PAIS'!$A$2:$B$231,2,FALSE)),\"\",VLOOKUP(BH174,'CODIGO PAIS'!$A$2:$B$231,2,FALSE))","v":""},null,{"$f":"IF(ISNA(VLOOKUP(BJ174,Divipolas!$A$2:$B$1123,2,FALSE)),\"\",VLOOKUP(BJ174,Divipolas!$A$2:$B$1123,2,FALSE))","v":""},null,{"$f":"IF(ISNA(VLOOKUP((CONCATENATE(BJ174,BL174)),Divipolas!$F$2:$G$1123,2,FALSE)),\"\",VLOOKUP((CONCATENATE(BJ174,BL174)),Divipolas!$F$2:$G$1123,2,FALSE))","v":""},null,"","",null,null,null,null,{"$f":"IF(ISNA(VLOOKUP(BT174,Divipolas!$A$2:$B$1123,2,FALSE)),\"\",VLOOKUP(BT174,Divipolas!$A$2:$B$1123,2,FALSE))","v":""},null,{"$f":"IF(ISNA(VLOOKUP((CONCATENATE(BT174,BV174)),Divipolas!$F$2:$G$1123,2,FALSE)),\"\",VLOOKUP((CONCATENATE(BT174,BV174)),Divipolas!$F$2:$G$1123,2,FALSE))","v":""},null,null,null,null,null,null,null,null,null,null,null,null,null,null,null,null,null,null,null,null,null,null,null,"",null,null,null,null,null,null,null,null,null,null,null,null,null,null,null,null,null,null,null,null,null,null,null,null,null,null,null,null,null,null,null,null,null,null,null,null,null,null,null,null,null,null,null,null,null,null,null,null,null,null,null,null,null,null,null,null,null,null,null,null,null,null,null,null,null,null,null,null,null,null,null,null,null,null,null,null,"",null,null,null,null,null,null,null,"VERIFIQUE FECHAS",null,null,null,null,null,null,null,null,null,"VERIFIQUE COLUMNA D"]
["","",null,"",{"$f":"IFERROR(VLOOKUP(D175,'CODIGO REGIONALES'!$J$2:$L$33,3,0),\"\")","v":""},"",{"$f":"IF(ISNA(VLOOKUP(F175,Divipolas!$A$2:$B$1123,2,FALSE)),\"\",VLOOKUP(F175,Divipolas!$A$2:$B$1123,2,FALSE))","v":""},"",{"$f":"IF(ISNA(VLOOKUP((CONCATENATE(F175,H175)),Divipolas!$F$2:$G$1123,2,FALSE)),\"\",VLOOKUP((CONCATENATE(F175,H175)),Divipolas!$F$2:$G$1123,2,FALSE))","v":""},"","","","","","","","",{"$f":"IF(ISNA(VLOOKUP(Q175,Divipolas!$A$2:$B$1123,2,FALSE)),\"\",VLOOKUP(Q175,Divipolas!$A$2:$B$1123,2,FALSE))","v":""},"",{"$f":"IF(ISNA(VLOOKUP((CONCATENATE(Q175,S175)),Divipolas!$F$2:$G$1123,2,FALSE)),\"\",VLOOKUP((CONCATENATE(Q175,S175)),Divipolas!$F$2:$G$1123,2,FALSE))","v":""},"","","","","","",{"$f":"IF(ISNA(VLOOKUP(Z175,'CODIGO PAIS'!$A$2:$B$231,2,FALSE)),\"\",VLOOKUP(Z175,'CODIGO PAIS'!$A$2:$B$231,2,FALSE))","v":""},"",{"$f":"IF(ISNA(VLOOKUP(AB175,Divipolas!$A$2:$B$1123,2,FALSE)),\"\",VLOOKUP(AB175,Divipolas!$A$2:$B$1123,2,FALSE))","v":""},"",{"$f":"IF(ISNA(VLOOKUP((CONCATENATE(AB175,AD175)),Divipolas!$F$2:$G$1123,2,FALSE)),\"\",VLOOKUP((CONCATENATE(AB175,AD175)),Divipolas!$F$2:$G$1123,2,FALSE))","v":""},"","","","","",{"$f":"IF(ISNA(VLOOKUP(AJ175,Divipolas!$A$2:$B$1123,2,FALSE)),\"\",VLOOKUP(AJ175,Divipolas!$A$2:$B$1123,2,FALSE))","v":""},"",{"$f":"IF(ISNA(VLOOKUP((CONCATENATE(AJ175,AL175)),Divipolas!$F$2:$G$1123,2,FALSE)),\"\",VLOOKUP((CONCATENATE(AJ175,AL175)),Divipolas!$F$2:$G$1123,2,FALSE))","v":""},"","","","","","","","","","","","","","",null,null,null,null,null,null,null,{"$f":"IF(ISNA(VLOOKUP(BH175,'CODIGO PAIS'!$A$2:$B$231,2,FALSE)),\"\",VLOOKUP(BH175,'CODIGO PAIS'!$A$2:$B$231,2,FALSE))","v":""},null,{"$f":"IF(ISNA(VLOOKUP(BJ175,Divipolas!$A$2:$B$1123,2,FALSE)),\"\",VLOOKUP(BJ175,Divipolas!$A$2:$B$1123,2,FALSE))","v":""},null,{"$f":"IF(ISNA(VLOOKUP((CONCATENATE(BJ175,BL175)),Divipolas!$F$2:$G$1123,2,FALSE)),\"\",VLOOKUP((CONCATENATE(BJ175,BL175)),Divipolas!$F$2:$G$1123,2,FALSE))","v":""},null,"","",null,null,null,null,{"$f":"IF(ISNA(VLOOKUP(BT175,Divipolas!$A$2:$B$1123,2,FALSE)),\"\",VLOOKUP(BT175,Divipolas!$A$2:$B$1123,2,FALSE))","v":""},null,{"$f":"IF(ISNA(VLOOKUP((CONCATENATE(BT175,BV175)),Divipolas!$F$2:$G$1123,2,FALSE)),\"\",VLOOKUP((CONCATENATE(BT175,BV175)),Divipolas!$F$2:$G$1123,2,FALSE))","v":""},null,null,null,null,null,null,null,null,null,null,null,null,null,null,null,null,null,null,null,null,null,null,null,"",null,null,null,null,null,null,null,null,null,null,null,null,null,null,null,null,null,null,null,null,null,null,null,null,null,null,null,null,null,null,null,null,null,null,null,null,null,null,null,null,null,null,null,null,null,null,null,null,null,null,null,null,null,null,null,null,null,null,null,null,null,null,null,null,null,null,null,null,null,null,null,null,null,null,null,null,"",null,null,null,null,null,null,null,"VERIFIQUE FECHAS",null,null,null,null,null,null,null,null,null,"VERIFIQUE COLUMNA D"]
["","",null,"",{"$f":"IFERROR(VLOOKUP(D176,'CODIGO REGIONALES'!$J$2:$L$33,3,0),\"\")","v":""},"",{"$f":"IF(ISNA(VLOOKUP(F176,Divipolas!$A$2:$B$1123,2,FALSE)),\"\",VLOOKUP(F176,Divipolas!$A$2:$B$1123,2,FALSE))","v":""},"",{"$f":"IF(ISNA(VLOOKUP((CONCATENATE(F176,H176)),Divipolas!$F$2:$G$1123,2,FALSE)),\"\",VLOOKUP((CONCATENATE(F176,H176)),Divipolas!$F$2:$G$1123,2,FALSE))","v":""},"","","","","","","","",{"$f":"IF(ISNA(VLOOKUP(Q176,Divipolas!$A$2:$B$1123,2,FALSE)),\"\",VLOOKUP(Q176,Divipolas!$A$2:$B$1123,2,FALSE))","v":""},"",{"$f":"IF(ISNA(VLOOKUP((CONCATENATE(Q176,S176)),Divipolas!$F$2:$G$1123,2,FALSE)),\"\",VLOOKUP((CONCATENATE(Q176,S176)),Divipolas!$F$2:$G$1123,2,FALSE))","v":""},"","","","","","",{"$f":"IF(ISNA(VLOOKUP(Z176,'CODIGO PAIS'!$A$2:$B$231,2,FALSE)),\"\",VLOOKUP(Z176,'CODIGO PAIS'!$A$2:$B$231,2,FALSE))","v":""},"",{"$f":"IF(ISNA(VLOOKUP(AB176,Divipolas!$A$2:$B$1123,2,FALSE)),\"\",VLOOKUP(AB176,Divipolas!$A$2:$B$1123,2,FALSE))","v":""},"",{"$f":"IF(ISNA(VLOOKUP((CONCATENATE(AB176,AD176)),Divipolas!$F$2:$G$1123,2,FALSE)),\"\",VLOOKUP((CONCATENATE(AB176,AD176)),Divipolas!$F$2:$G$1123,2,FALSE))","v":""},"","","","","",{"$f":"IF(ISNA(VLOOKUP(AJ176,Divipolas!$A$2:$B$1123,2,FALSE)),\"\",VLOOKUP(AJ176,Divipolas!$A$2:$B$1123,2,FALSE))","v":""},"",{"$f":"IF(ISNA(VLOOKUP((CONCATENATE(AJ176,AL176)),Divipolas!$F$2:$G$1123,2,FALSE)),\"\",VLOOKUP((CONCATENATE(AJ176,AL176)),Divipolas!$F$2:$G$1123,2,FALSE))","v":""},"","","","","","","","","","","","","","",null,null,null,null,null,null,null,{"$f":"IF(ISNA(VLOOKUP(BH176,'CODIGO PAIS'!$A$2:$B$231,2,FALSE)),\"\",VLOOKUP(BH176,'CODIGO PAIS'!$A$2:$B$231,2,FALSE))","v":""},null,{"$f":"IF(ISNA(VLOOKUP(BJ176,Divipolas!$A$2:$B$1123,2,FALSE)),\"\",VLOOKUP(BJ176,Divipolas!$A$2:$B$1123,2,FALSE))","v":""},null,{"$f":"IF(ISNA(VLOOKUP((CONCATENATE(BJ176,BL176)),Divipolas!$F$2:$G$1123,2,FALSE)),\"\",VLOOKUP((CONCATENATE(BJ176,BL176)),Divipolas!$F$2:$G$1123,2,FALSE))","v":""},null,"","",null,null,null,null,{"$f":"IF(ISNA(VLOOKUP(BT176,Divipolas!$A$2:$B$1123,2,FALSE)),\"\",VLOOKUP(BT176,Divipolas!$A$2:$B$1123,2,FALSE))","v":""},null,{"$f":"IF(ISNA(VLOOKUP((CONCATENATE(BT176,BV176)),Divipolas!$F$2:$G$1123,2,FALSE)),\"\",VLOOKUP((CONCATENATE(BT176,BV176)),Divipolas!$F$2:$G$1123,2,FALSE))","v":""},null,null,null,null,null,null,null,null,null,null,null,null,null,null,null,null,null,null,null,null,null,null,null,"",null,null,null,null,null,null,null,null,null,null,null,null,null,null,null,null,null,null,null,null,null,null,null,null,null,null,null,null,null,null,null,null,null,null,null,null,null,null,null,null,null,null,null,null,null,null,null,null,null,null,null,null,null,null,null,null,null,null,null,null,null,null,null,null,null,null,null,null,null,null,null,null,null,null,null,null,"",null,null,null,null,null,null,null,"VERIFIQUE FECHAS",null,null,null,null,null,null,null,null,null,"VERIFIQUE COLUMNA D"]
["","",null,"",{"$f":"IFERROR(VLOOKUP(D177,'CODIGO REGIONALES'!$J$2:$L$33,3,0),\"\")","v":""},"",{"$f":"IF(ISNA(VLOOKUP(F177,Divipolas!$A$2:$B$1123,2,FALSE)),\"\",VLOOKUP(F177,Divipolas!$A$2:$B$1123,2,FALSE))","v":""},"",{"$f":"IF(ISNA(VLOOKUP((CONCATENATE(F177,H177)),Divipolas!$F$2:$G$1123,2,FALSE)),\"\",VLOOKUP((CONCATENATE(F177,H177)),Divipolas!$F$2:$G$1123,2,FALSE))","v":""},"","","","","","","","",{"$f":"IF(ISNA(VLOOKUP(Q177,Divipolas!$A$2:$B$1123,2,FALSE)),\"\",VLOOKUP(Q177,Divipolas!$A$2:$B$1123,2,FALSE))","v":""},"",{"$f":"IF(ISNA(VLOOKUP((CONCATENATE(Q177,S177)),Divipolas!$F$2:$G$1123,2,FALSE)),\"\",VLOOKUP((CONCATENATE(Q177,S177)),Divipolas!$F$2:$G$1123,2,FALSE))","v":""},"","","","","","",{"$f":"IF(ISNA(VLOOKUP(Z177,'CODIGO PAIS'!$A$2:$B$231,2,FALSE)),\"\",VLOOKUP(Z177,'CODIGO PAIS'!$A$2:$B$231,2,FALSE))","v":""},"",{"$f":"IF(ISNA(VLOOKUP(AB177,Divipolas!$A$2:$B$1123,2,FALSE)),\"\",VLOOKUP(AB177,Divipolas!$A$2:$B$1123,2,FALSE))","v":""},"",{"$f":"IF(ISNA(VLOOKUP((CONCATENATE(AB177,AD177)),Divipolas!$F$2:$G$1123,2,FALSE)),\"\",VLOOKUP((CONCATENATE(AB177,AD177)),Divipolas!$F$2:$G$1123,2,FALSE))","v":""},"","","","","",{"$f":"IF(ISNA(VLOOKUP(AJ177,Divipolas!$A$2:$B$1123,2,FALSE)),\"\",VLOOKUP(AJ177,Divipolas!$A$2:$B$1123,2,FALSE))","v":""},"",{"$f":"IF(ISNA(VLOOKUP((CONCATENATE(AJ177,AL177)),Divipolas!$F$2:$G$1123,2,FALSE)),\"\",VLOOKUP((CONCATENATE(AJ177,AL177)),Divipolas!$F$2:$G$1123,2,FALSE))","v":""},"","","","","","","","","","","","","","",null,null,null,null,null,null,null,{"$f":"IF(ISNA(VLOOKUP(BH177,'CODIGO PAIS'!$A$2:$B$231,2,FALSE)),\"\",VLOOKUP(BH177,'CODIGO PAIS'!$A$2:$B$231,2,FALSE))","v":""},null,{"$f":"IF(ISNA(VLOOKUP(BJ177,Divipolas!$A$2:$B$1123,2,FALSE)),\"\",VLOOKUP(BJ177,Divipolas!$A$2:$B$1123,2,FALSE))","v":""},null,{"$f":"IF(ISNA(VLOOKUP((CONCATENATE(BJ177,BL177)),Divipolas!$F$2:$G$1123,2,FALSE)),\"\",VLOOKUP((CONCATENATE(BJ177,BL177)),Divipolas!$F$2:$G$1123,2,FALSE))","v":""},null,"","",null,null,null,null,{"$f":"IF(ISNA(VLOOKUP(BT177,Divipolas!$A$2:$B$1123,2,FALSE)),\"\",VLOOKUP(BT177,Divipolas!$A$2:$B$1123,2,FALSE))","v":""},null,{"$f":"IF(ISNA(VLOOKUP((CONCATENATE(BT177,BV177)),Divipolas!$F$2:$G$1123,2,FALSE)),\"\",VLOOKUP((CONCATENATE(BT177,BV177)),Divipolas!$F$2:$G$1123,2,FALSE))","v":""},null,null,null,null,null,null,null,null,null,null,null,null,null,null,null,null,null,null,null,null,null,null,null,"",null,null,null,null,null,null,null,null,null,null,null,null,null,null,null,null,null,null,null,null,null,null,null,null,null,null,null,null,null,null,null,null,null,null,null,null,null,null,null,null,null,null,null,null,null,null,null,null,null,null,null,null,null,null,null,null,null,null,null,null,null,null,null,null,null,null,null,null,null,null,null,null,null,null,null,null,"",null,null,null,null,null,null,null,"VERIFIQUE FECHAS",null,null,null,null,null,null,null,null,null,"VERIFIQUE COLUMNA D"]
["","",null,"",{"$f":"IFERROR(VLOOKUP(D178,'CODIGO REGIONALES'!$J$2:$L$33,3,0),\"\")","v":""},"",{"$f":"IF(ISNA(VLOOKUP(F178,Divipolas!$A$2:$B$1123,2,FALSE)),\"\",VLOOKUP(F178,Divipolas!$A$2:$B$1123,2,FALSE))","v":""},"",{"$f":"IF(ISNA(VLOOKUP((CONCATENATE(F178,H178)),Divipolas!$F$2:$G$1123,2,FALSE)),\"\",VLOOKUP((CONCATENATE(F178,H178)),Divipolas!$F$2:$G$1123,2,FALSE))","v":""},"","","","","","","","",{"$f":"IF(ISNA(VLOOKUP(Q178,Divipolas!$A$2:$B$1123,2,FALSE)),\"\",VLOOKUP(Q178,Divipolas!$A$2:$B$1123,2,FALSE))","v":""},"",{"$f":"IF(ISNA(VLOOKUP((CONCATENATE(Q178,S178)),Divipolas!$F$2:$G$1123,2,FALSE)),\"\",VLOOKUP((CONCATENATE(Q178,S178)),Divipolas!$F$2:$G$1123,2,FALSE))","v":""},"","","","","","",{"$f":"IF(ISNA(VLOOKUP(Z178,'CODIGO PAIS'!$A$2:$B$231,2,FALSE)),\"\",VLOOKUP(Z178,'CODIGO PAIS'!$A$2:$B$231,2,FALSE))","v":""},"",{"$f":"IF(ISNA(VLOOKUP(AB178,Divipolas!$A$2:$B$1123,2,FALSE)),\"\",VLOOKUP(AB178,Divipolas!$A$2:$B$1123,2,FALSE))","v":""},"",{"$f":"IF(ISNA(VLOOKUP((CONCATENATE(AB178,AD178)),Divipolas!$F$2:$G$1123,2,FALSE)),\"\",VLOOKUP((CONCATENATE(AB178,AD178)),Divipolas!$F$2:$G$1123,2,FALSE))","v":""},"","","","","",{"$f":"IF(ISNA(VLOOKUP(AJ178,Divipolas!$A$2:$B$1123,2,FALSE)),\"\",VLOOKUP(AJ178,Divipolas!$A$2:$B$1123,2,FALSE))","v":""},"",{"$f":"IF(ISNA(VLOOKUP((CONCATENATE(AJ178,AL178)),Divipolas!$F$2:$G$1123,2,FALSE)),\"\",VLOOKUP((CONCATENATE(AJ178,AL178)),Divipolas!$F$2:$G$1123,2,FALSE))","v":""},"","","","","","","","","","","","","","",null,null,null,null,null,null,null,{"$f":"IF(ISNA(VLOOKUP(BH178,'CODIGO PAIS'!$A$2:$B$231,2,FALSE)),\"\",VLOOKUP(BH178,'CODIGO PAIS'!$A$2:$B$231,2,FALSE))","v":""},null,{"$f":"IF(ISNA(VLOOKUP(BJ178,Divipolas!$A$2:$B$1123,2,FALSE)),\"\",VLOOKUP(BJ178,Divipolas!$A$2:$B$1123,2,FALSE))","v":""},null,{"$f":"IF(ISNA(VLOOKUP((CONCATENATE(BJ178,BL178)),Divipolas!$F$2:$G$1123,2,FALSE)),\"\",VLOOKUP((CONCATENATE(BJ178,BL178)),Divipolas!$F$2:$G$1123,2,FALSE))","v":""},null,"","",null,null,null,null,{"$f":"IF(ISNA(VLOOKUP(BT178,Divipolas!$A$2:$B$1123,2,FALSE)),\"\",VLOOKUP(BT178,Divipolas!$A$2:$B$1123,2,FALSE))","v":""},null,{"$f":"IF(ISNA(VLOOKUP((CONCATENATE(BT178,BV178)),Divipolas!$F$2:$G$1123,2,FALSE)),\"\",VLOOKUP((CONCATENATE(BT178,BV178)),Divipolas!$F$2:$G$1123,2,FALSE))","v":""},null,null,null,null,null,null,null,null,null,null,null,null,null,null,null,null,null,null,null,null,null,null,null,"",null,null,null,null,null,null,null,null,null,null,null,null,null,null,null,null,null,null,null,null,null,null,null,null,null,null,null,null,null,null,null,null,null,null,null,null,null,null,null,null,null,null,null,null,null,null,null,null,null,null,null,null,null,null,null,null,null,null,null,null,null,null,null,null,null,null,null,null,null,null,null,null,null,null,null,null,"",null,null,null,null,null,null,null,"VERIFIQUE FECHAS",null,null,null,null,null,null,null,null,null,"VERIFIQUE COLUMNA D"]
["","",null,"",{"$f":"IFERROR(VLOOKUP(D179,'CODIGO REGIONALES'!$J$2:$L$33,3,0),\"\")","v":""},"",{"$f":"IF(ISNA(VLOOKUP(F179,Divipolas!$A$2:$B$1123,2,FALSE)),\"\",VLOOKUP(F179,Divipolas!$A$2:$B$1123,2,FALSE))","v":""},"",{"$f":"IF(ISNA(VLOOKUP((CONCATENATE(F179,H179)),Divipolas!$F$2:$G$1123,2,FALSE)),\"\",VLOOKUP((CONCATENATE(F179,H179)),Divipolas!$F$2:$G$1123,2,FALSE))","v":""},"","","","","","","","",{"$f":"IF(ISNA(VLOOKUP(Q179,Divipolas!$A$2:$B$1123,2,FALSE)),\"\",VLOOKUP(Q179,Divipolas!$A$2:$B$1123,2,FALSE))","v":""},"",{"$f":"IF(ISNA(VLOOKUP((CONCATENATE(Q179,S179)),Divipolas!$F$2:$G$1123,2,FALSE)),\"\",VLOOKUP((CONCATENATE(Q179,S179)),Divipolas!$F$2:$G$1123,2,FALSE))","v":""},"","","","","","",{"$f":"IF(ISNA(VLOOKUP(Z179,'CODIGO PAIS'!$A$2:$B$231,2,FALSE)),\"\",VLOOKUP(Z179,'CODIGO PAIS'!$A$2:$B$231,2,FALSE))","v":""},"",{"$f":"IF(ISNA(VLOOKUP(AB179,Divipolas!$A$2:$B$1123,2,FALSE)),\"\",VLOOKUP(AB179,Divipolas!$A$2:$B$1123,2,FALSE))","v":""},"",{"$f":"IF(ISNA(VLOOKUP((CONCATENATE(AB179,AD179)),Divipolas!$F$2:$G$1123,2,FALSE)),\"\",VLOOKUP((CONCATENATE(AB179,AD179)),Divipolas!$F$2:$G$1123,2,FALSE))","v":""},"","","","","",{"$f":"IF(ISNA(VLOOKUP(AJ179,Divipolas!$A$2:$B$1123,2,FALSE)),\"\",VLOOKUP(AJ179,Divipolas!$A$2:$B$1123,2,FALSE))","v":""},"",{"$f":"IF(ISNA(VLOOKUP((CONCATENATE(AJ179,AL179)),Divipolas!$F$2:$G$1123,2,FALSE)),\"\",VLOOKUP((CONCATENATE(AJ179,AL179)),Divipolas!$F$2:$G$1123,2,FALSE))","v":""},"","","","","","","","","","","","","","",null,null,null,null,null,null,null,{"$f":"IF(ISNA(VLOOKUP(BH179,'CODIGO PAIS'!$A$2:$B$231,2,FALSE)),\"\",VLOOKUP(BH179,'CODIGO PAIS'!$A$2:$B$231,2,FALSE))","v":""},null,{"$f":"IF(ISNA(VLOOKUP(BJ179,Divipolas!$A$2:$B$1123,2,FALSE)),\"\",VLOOKUP(BJ179,Divipolas!$A$2:$B$1123,2,FALSE))","v":""},null,{"$f":"IF(ISNA(VLOOKUP((CONCATENATE(BJ179,BL179)),Divipolas!$F$2:$G$1123,2,FALSE)),\"\",VLOOKUP((CONCATENATE(BJ179,BL179)),Divipolas!$F$2:$G$1123,2,FALSE))","v":""},null,"","",null,null,null,null,{"$f":"IF(ISNA(VLOOKUP(BT179,Divipolas!$A$2:$B$1123,2,FALSE)),\"\",VLOOKUP(BT179,Divipolas!$A$2:$B$1123,2,FALSE))","v":""},null,{"$f":"IF(ISNA(VLOOKUP((CONCATENATE(BT179,BV179)),Divipolas!$F$2:$G$1123,2,FALSE)),\"\",VLOOKUP((CONCATENATE(BT179,BV179)),Divipolas!$F$2:$G$1123,2,FALSE))","v":""},null,null,null,null,null,null,null,null,null,null,null,null,null,null,null,null,null,null,null,null,null,null,null,"",null,null,null,null,null,null,null,null,null,null,null,null,null,null,null,null,null,null,null,null,null,null,null,null,null,null,null,null,null,null,null,null,null,null,null,null,null,null,null,null,null,null,null,null,null,null,null,null,null,null,null,null,null,null,null,null,null,null,null,null,null,null,null,null,null,null,null,null,null,null,null,null,null,null,null,null,"",null,null,null,null,null,null,null,"VERIFIQUE FECHAS",null,null,null,null,null,null,null,null,null,"VERIFIQUE COLUMNA D"]
["","",null,"",{"$f":"IFERROR(VLOOKUP(D180,'CODIGO REGIONALES'!$J$2:$L$33,3,0),\"\")","v":""},"",{"$f":"IF(ISNA(VLOOKUP(F180,Divipolas!$A$2:$B$1123,2,FALSE)),\"\",VLOOKUP(F180,Divipolas!$A$2:$B$1123,2,FALSE))","v":""},"",{"$f":"IF(ISNA(VLOOKUP((CONCATENATE(F180,H180)),Divipolas!$F$2:$G$1123,2,FALSE)),\"\",VLOOKUP((CONCATENATE(F180,H180)),Divipolas!$F$2:$G$1123,2,FALSE))","v":""},"","","","","","","","",{"$f":"IF(ISNA(VLOOKUP(Q180,Divipolas!$A$2:$B$1123,2,FALSE)),\"\",VLOOKUP(Q180,Divipolas!$A$2:$B$1123,2,FALSE))","v":""},"",{"$f":"IF(ISNA(VLOOKUP((CONCATENATE(Q180,S180)),Divipolas!$F$2:$G$1123,2,FALSE)),\"\",VLOOKUP((CONCATENATE(Q180,S180)),Divipolas!$F$2:$G$1123,2,FALSE))","v":""},"","","","","","",{"$f":"IF(ISNA(VLOOKUP(Z180,'CODIGO PAIS'!$A$2:$B$231,2,FALSE)),\"\",VLOOKUP(Z180,'CODIGO PAIS'!$A$2:$B$231,2,FALSE))","v":""},"",{"$f":"IF(ISNA(VLOOKUP(AB180,Divipolas!$A$2:$B$1123,2,FALSE)),\"\",VLOOKUP(AB180,Divipolas!$A$2:$B$1123,2,FALSE))","v":""},"",{"$f":"IF(ISNA(VLOOKUP((CONCATENATE(AB180,AD180)),Divipolas!$F$2:$G$1123,2,FALSE)),\"\",VLOOKUP((CONCATENATE(AB180,AD180)),Divipolas!$F$2:$G$1123,2,FALSE))","v":""},"","","","","",{"$f":"IF(ISNA(VLOOKUP(AJ180,Divipolas!$A$2:$B$1123,2,FALSE)),\"\",VLOOKUP(AJ180,Divipolas!$A$2:$B$1123,2,FALSE))","v":""},"",{"$f":"IF(ISNA(VLOOKUP((CONCATENATE(AJ180,AL180)),Divipolas!$F$2:$G$1123,2,FALSE)),\"\",VLOOKUP((CONCATENATE(AJ180,AL180)),Divipolas!$F$2:$G$1123,2,FALSE))","v":""},"","","","","","","","","","","","","","",null,null,null,null,null,null,null,{"$f":"IF(ISNA(VLOOKUP(BH180,'CODIGO PAIS'!$A$2:$B$231,2,FALSE)),\"\",VLOOKUP(BH180,'CODIGO PAIS'!$A$2:$B$231,2,FALSE))","v":""},null,{"$f":"IF(ISNA(VLOOKUP(BJ180,Divipolas!$A$2:$B$1123,2,FALSE)),\"\",VLOOKUP(BJ180,Divipolas!$A$2:$B$1123,2,FALSE))","v":""},null,{"$f":"IF(ISNA(VLOOKUP((CONCATENATE(BJ180,BL180)),Divipolas!$F$2:$G$1123,2,FALSE)),\"\",VLOOKUP((CONCATENATE(BJ180,BL180)),Divipolas!$F$2:$G$1123,2,FALSE))","v":""},null,"","",null,null,null,null,{"$f":"IF(ISNA(VLOOKUP(BT180,Divipolas!$A$2:$B$1123,2,FALSE)),\"\",VLOOKUP(BT180,Divipolas!$A$2:$B$1123,2,FALSE))","v":""},null,{"$f":"IF(ISNA(VLOOKUP((CONCATENATE(BT180,BV180)),Divipolas!$F$2:$G$1123,2,FALSE)),\"\",VLOOKUP((CONCATENATE(BT180,BV180)),Divipolas!$F$2:$G$1123,2,FALSE))","v":""},null,null,null,null,null,null,null,null,null,null,null,null,null,null,null,null,null,null,null,null,null,null,null,"",null,null,null,null,null,null,null,null,null,null,null,null,null,null,null,null,null,null,null,null,null,null,null,null,null,null,null,null,null,null,null,null,null,null,null,null,null,null,null,null,null,null,null,null,null,null,null,null,null,null,null,null,null,null,null,null,null,null,null,null,null,null,null,null,null,null,null,null,null,null,null,null,null,null,null,null,"",null,null,null,null,null,null,null,"VERIFIQUE FECHAS",null,null,null,null,null,null,null,null,null,"VERIFIQUE COLUMNA D"]
["","",null,"",{"$f":"IFERROR(VLOOKUP(D181,'CODIGO REGIONALES'!$J$2:$L$33,3,0),\"\")","v":""},"",{"$f":"IF(ISNA(VLOOKUP(F181,Divipolas!$A$2:$B$1123,2,FALSE)),\"\",VLOOKUP(F181,Divipolas!$A$2:$B$1123,2,FALSE))","v":""},"",{"$f":"IF(ISNA(VLOOKUP((CONCATENATE(F181,H181)),Divipolas!$F$2:$G$1123,2,FALSE)),\"\",VLOOKUP((CONCATENATE(F181,H181)),Divipolas!$F$2:$G$1123,2,FALSE))","v":""},"","","","","","","","",{"$f":"IF(ISNA(VLOOKUP(Q181,Divipolas!$A$2:$B$1123,2,FALSE)),\"\",VLOOKUP(Q181,Divipolas!$A$2:$B$1123,2,FALSE))","v":""},"",{"$f":"IF(ISNA(VLOOKUP((CONCATENATE(Q181,S181)),Divipolas!$F$2:$G$1123,2,FALSE)),\"\",VLOOKUP((CONCATENATE(Q181,S181)),Divipolas!$F$2:$G$1123,2,FALSE))","v":""},"","","","","","",{"$f":"IF(ISNA(VLOOKUP(Z181,'CODIGO PAIS'!$A$2:$B$231,2,FALSE)),\"\",VLOOKUP(Z181,'CODIGO PAIS'!$A$2:$B$231,2,FALSE))","v":""},"",{"$f":"IF(ISNA(VLOOKUP(AB181,Divipolas!$A$2:$B$1123,2,FALSE)),\"\",VLOOKUP(AB181,Divipolas!$A$2:$B$1123,2,FALSE))","v":""},"",{"$f":"IF(ISNA(VLOOKUP((CONCATENATE(AB181,AD181)),Divipolas!$F$2:$G$1123,2,FALSE)),\"\",VLOOKUP((CONCATENATE(AB181,AD181)),Divipolas!$F$2:$G$1123,2,FALSE))","v":""},"","","","","",{"$f":"IF(ISNA(VLOOKUP(AJ181,Divipolas!$A$2:$B$1123,2,FALSE)),\"\",VLOOKUP(AJ181,Divipolas!$A$2:$B$1123,2,FALSE))","v":""},"",{"$f":"IF(ISNA(VLOOKUP((CONCATENATE(AJ181,AL181)),Divipolas!$F$2:$G$1123,2,FALSE)),\"\",VLOOKUP((CONCATENATE(AJ181,AL181)),Divipolas!$F$2:$G$1123,2,FALSE))","v":""},"","","","","","","","","","","","","","",null,null,null,null,null,null,null,{"$f":"IF(ISNA(VLOOKUP(BH181,'CODIGO PAIS'!$A$2:$B$231,2,FALSE)),\"\",VLOOKUP(BH181,'CODIGO PAIS'!$A$2:$B$231,2,FALSE))","v":""},null,{"$f":"IF(ISNA(VLOOKUP(BJ181,Divipolas!$A$2:$B$1123,2,FALSE)),\"\",VLOOKUP(BJ181,Divipolas!$A$2:$B$1123,2,FALSE))","v":""},null,{"$f":"IF(ISNA(VLOOKUP((CONCATENATE(BJ181,BL181)),Divipolas!$F$2:$G$1123,2,FALSE)),\"\",VLOOKUP((CONCATENATE(BJ181,BL181)),Divipolas!$F$2:$G$1123,2,FALSE))","v":""},null,"","",null,null,null,null,{"$f":"IF(ISNA(VLOOKUP(BT181,Divipolas!$A$2:$B$1123,2,FALSE)),\"\",VLOOKUP(BT181,Divipolas!$A$2:$B$1123,2,FALSE))","v":""},null,{"$f":"IF(ISNA(VLOOKUP((CONCATENATE(BT181,BV181)),Divipolas!$F$2:$G$1123,2,FALSE)),\"\",VLOOKUP((CONCATENATE(BT181,BV181)),Divipolas!$F$2:$G$1123,2,FALSE))","v":""},null,null,null,null,null,null,null,null,null,null,null,null,null,null,null,null,null,null,null,null,null,null,null,"",null,null,null,null,null,null,null,null,null,null,null,null,null,null,null,null,null,null,null,null,null,null,null,null,null,null,null,null,null,null,null,null,null,null,null,null,null,null,null,null,null,null,null,null,null,null,null,null,null,null,null,null,null,null,null,null,null,null,null,null,null,null,null,null,null,null,null,null,null,null,null,null,null,null,null,null,"",null,null,null,null,null,null,null,"VERIFIQUE FECHAS",null,null,null,null,null,null,null,null,null,"VERIFIQUE COLUMNA D"]
["","",null,"",{"$f":"IFERROR(VLOOKUP(D182,'CODIGO REGIONALES'!$J$2:$L$33,3,0),\"\")","v":""},"",{"$f":"IF(ISNA(VLOOKUP(F182,Divipolas!$A$2:$B$1123,2,FALSE)),\"\",VLOOKUP(F182,Divipolas!$A$2:$B$1123,2,FALSE))","v":""},"",{"$f":"IF(ISNA(VLOOKUP((CONCATENATE(F182,H182)),Divipolas!$F$2:$G$1123,2,FALSE)),\"\",VLOOKUP((CONCATENATE(F182,H182)),Divipolas!$F$2:$G$1123,2,FALSE))","v":""},"","","","","","","","",{"$f":"IF(ISNA(VLOOKUP(Q182,Divipolas!$A$2:$B$1123,2,FALSE)),\"\",VLOOKUP(Q182,Divipolas!$A$2:$B$1123,2,FALSE))","v":""},"",{"$f":"IF(ISNA(VLOOKUP((CONCATENATE(Q182,S182)),Divipolas!$F$2:$G$1123,2,FALSE)),\"\",VLOOKUP((CONCATENATE(Q182,S182)),Divipolas!$F$2:$G$1123,2,FALSE))","v":""},"","","","","","",{"$f":"IF(ISNA(VLOOKUP(Z182,'CODIGO PAIS'!$A$2:$B$231,2,FALSE)),\"\",VLOOKUP(Z182,'CODIGO PAIS'!$A$2:$B$231,2,FALSE))","v":""},"",{"$f":"IF(ISNA(VLOOKUP(AB182,Divipolas!$A$2:$B$1123,2,FALSE)),\"\",VLOOKUP(AB182,Divipolas!$A$2:$B$1123,2,FALSE))","v":""},"",{"$f":"IF(ISNA(VLOOKUP((CONCATENATE(AB182,AD182)),Divipolas!$F$2:$G$1123,2,FALSE)),\"\",VLOOKUP((CONCATENATE(AB182,AD182)),Divipolas!$F$2:$G$1123,2,FALSE))","v":""},"","","","","",{"$f":"IF(ISNA(VLOOKUP(AJ182,Divipolas!$A$2:$B$1123,2,FALSE)),\"\",VLOOKUP(AJ182,Divipolas!$A$2:$B$1123,2,FALSE))","v":""},"",{"$f":"IF(ISNA(VLOOKUP((CONCATENATE(AJ182,AL182)),Divipolas!$F$2:$G$1123,2,FALSE)),\"\",VLOOKUP((CONCATENATE(AJ182,AL182)),Divipolas!$F$2:$G$1123,2,FALSE))","v":""},"","","","","","","","","","","","","","",null,null,null,null,null,null,null,{"$f":"IF(ISNA(VLOOKUP(BH182,'CODIGO PAIS'!$A$2:$B$231,2,FALSE)),\"\",VLOOKUP(BH182,'CODIGO PAIS'!$A$2:$B$231,2,FALSE))","v":""},null,{"$f":"IF(ISNA(VLOOKUP(BJ182,Divipolas!$A$2:$B$1123,2,FALSE)),\"\",VLOOKUP(BJ182,Divipolas!$A$2:$B$1123,2,FALSE))","v":""},null,{"$f":"IF(ISNA(VLOOKUP((CONCATENATE(BJ182,BL182)),Divipolas!$F$2:$G$1123,2,FALSE)),\"\",VLOOKUP((CONCATENATE(BJ182,BL182)),Divipolas!$F$2:$G$1123,2,FALSE))","v":""},null,"","",null,null,null,null,{"$f":"IF(ISNA(VLOOKUP(BT182,Divipolas!$A$2:$B$1123,2,FALSE)),\"\",VLOOKUP(BT182,Divipolas!$A$2:$B$1123,2,FALSE))","v":""},null,{"$f":"IF(ISNA(VLOOKUP((CONCATENATE(BT182,BV182)),Divipolas!$F$2:$G$1123,2,FALSE)),\"\",VLOOKUP((CONCATENATE(BT182,BV182)),Divipolas!$F$2:$G$1123,2,FALSE))","v":""},null,null,null,null,null,null,null,null,null,null,null,null,null,null,null,null,null,null,null,null,null,null,null,"",null,null,null,null,null,null,null,null,null,null,null,null,null,null,null,null,null,null,null,null,null,null,null,null,null,null,null,null,null,null,null,null,null,null,null,null,null,null,null,null,null,null,null,null,null,null,null,null,null,null,null,null,null,null,null,null,null,null,null,null,null,null,null,null,null,null,null,null,null,null,null,null,null,null,null,null,"",null,null,null,null,null,null,null,"VERIFIQUE FECHAS",null,null,null,null,null,null,null,null,null,"VERIFIQUE COLUMNA D"]
["","",null,"",{"$f":"IFERROR(VLOOKUP(D183,'CODIGO REGIONALES'!$J$2:$L$33,3,0),\"\")","v":""},"",{"$f":"IF(ISNA(VLOOKUP(F183,Divipolas!$A$2:$B$1123,2,FALSE)),\"\",VLOOKUP(F183,Divipolas!$A$2:$B$1123,2,FALSE))","v":""},"",{"$f":"IF(ISNA(VLOOKUP((CONCATENATE(F183,H183)),Divipolas!$F$2:$G$1123,2,FALSE)),\"\",VLOOKUP((CONCATENATE(F183,H183)),Divipolas!$F$2:$G$1123,2,FALSE))","v":""},"","","","","","","","",{"$f":"IF(ISNA(VLOOKUP(Q183,Divipolas!$A$2:$B$1123,2,FALSE)),\"\",VLOOKUP(Q183,Divipolas!$A$2:$B$1123,2,FALSE))","v":""},"",{"$f":"IF(ISNA(VLOOKUP((CONCATENATE(Q183,S183)),Divipolas!$F$2:$G$1123,2,FALSE)),\"\",VLOOKUP((CONCATENATE(Q183,S183)),Divipolas!$F$2:$G$1123,2,FALSE))","v":""},"","","","","","",{"$f":"IF(ISNA(VLOOKUP(Z183,'CODIGO PAIS'!$A$2:$B$231,2,FALSE)),\"\",VLOOKUP(Z183,'CODIGO PAIS'!$A$2:$B$231,2,FALSE))","v":""},"",{"$f":"IF(ISNA(VLOOKUP(AB183,Divipolas!$A$2:$B$1123,2,FALSE)),\"\",VLOOKUP(AB183,Divipolas!$A$2:$B$1123,2,FALSE))","v":""},"",{"$f":"IF(ISNA(VLOOKUP((CONCATENATE(AB183,AD183)),Divipolas!$F$2:$G$1123,2,FALSE)),\"\",VLOOKUP((CONCATENATE(AB183,AD183)),Divipolas!$F$2:$G$1123,2,FALSE))","v":""},"","","","","",{"$f":"IF(ISNA(VLOOKUP(AJ183,Divipolas!$A$2:$B$1123,2,FALSE)),\"\",VLOOKUP(AJ183,Divipolas!$A$2:$B$1123,2,FALSE))","v":""},"",{"$f":"IF(ISNA(VLOOKUP((CONCATENATE(AJ183,AL183)),Divipolas!$F$2:$G$1123,2,FALSE)),\"\",VLOOKUP((CONCATENATE(AJ183,AL183)),Divipolas!$F$2:$G$1123,2,FALSE))","v":""},"","","","","","","","","","","","","","",null,null,null,null,null,null,null,{"$f":"IF(ISNA(VLOOKUP(BH183,'CODIGO PAIS'!$A$2:$B$231,2,FALSE)),\"\",VLOOKUP(BH183,'CODIGO PAIS'!$A$2:$B$231,2,FALSE))","v":""},null,{"$f":"IF(ISNA(VLOOKUP(BJ183,Divipolas!$A$2:$B$1123,2,FALSE)),\"\",VLOOKUP(BJ183,Divipolas!$A$2:$B$1123,2,FALSE))","v":""},null,{"$f":"IF(ISNA(VLOOKUP((CONCATENATE(BJ183,BL183)),Divipolas!$F$2:$G$1123,2,FALSE)),\"\",VLOOKUP((CONCATENATE(BJ183,BL183)),Divipolas!$F$2:$G$1123,2,FALSE))","v":""},null,"","",null,null,null,null,{"$f":"IF(ISNA(VLOOKUP(BT183,Divipolas!$A$2:$B$1123,2,FALSE)),\"\",VLOOKUP(BT183,Divipolas!$A$2:$B$1123,2,FALSE))","v":""},null,{"$f":"IF(ISNA(VLOOKUP((CONCATENATE(BT183,BV183)),Divipolas!$F$2:$G$1123,2,FALSE)),\"\",VLOOKUP((CONCATENATE(BT183,BV183)),Divipolas!$F$2:$G$1123,2,FALSE))","v":""},null,null,null,null,null,null,null,null,null,null,null,null,null,null,null,null,null,null,null,null,null,null,null,"",null,null,null,null,null,null,null,null,null,null,null,null,null,null,null,null,null,null,null,null,null,null,null,null,null,null,null,null,null,null,null,null,null,null,null,null,null,null,null,null,null,null,null,null,null,null,null,null,null,null,null,null,null,null,null,null,null,null,null,null,null,null,null,null,null,null,null,null,null,null,null,null,null,null,null,null,"",null,null,null,null,null,null,null,"VERIFIQUE FECHAS",null,null,null,null,null,null,null,null,null,"VERIFIQUE COLUMNA D"]
["","",null,"",{"$f":"IFERROR(VLOOKUP(D184,'CODIGO REGIONALES'!$J$2:$L$33,3,0),\"\")","v":""},"",{"$f":"IF(ISNA(VLOOKUP(F184,Divipolas!$A$2:$B$1123,2,FALSE)),\"\",VLOOKUP(F184,Divipolas!$A$2:$B$1123,2,FALSE))","v":""},"",{"$f":"IF(ISNA(VLOOKUP((CONCATENATE(F184,H184)),Divipolas!$F$2:$G$1123,2,FALSE)),\"\",VLOOKUP((CONCATENATE(F184,H184)),Divipolas!$F$2:$G$1123,2,FALSE))","v":""},"",{"$f":"IF(AND($C184<>\"\",K183<>\"\"),K183,\"\")","v":""},"","","","","","",{"$f":"IF(ISNA(VLOOKUP(Q184,Divipolas!$A$2:$B$1123,2,FALSE)),\"\",VLOOKUP(Q184,Divipolas!$A$2:$B$1123,2,FALSE))","v":""},"",{"$f":"IF(ISNA(VLOOKUP((CONCATENATE(Q184,S184)),Divipolas!$F$2:$G$1123,2,FALSE)),\"\",VLOOKUP((CONCATENATE(Q184,S184)),Divipolas!$F$2:$G$1123,2,FALSE))","v":""},"","","","","","",{"$f":"IF(ISNA(VLOOKUP(Z184,'CODIGO PAIS'!$A$2:$B$231,2,FALSE)),\"\",VLOOKUP(Z184,'CODIGO PAIS'!$A$2:$B$231,2,FALSE))","v":""},"",{"$f":"IF(ISNA(VLOOKUP(AB184,Divipolas!$A$2:$B$1123,2,FALSE)),\"\",VLOOKUP(AB184,Divipolas!$A$2:$B$1123,2,FALSE))","v":""},"",{"$f":"IF(ISNA(VLOOKUP((CONCATENATE(AB184,AD184)),Divipolas!$F$2:$G$1123,2,FALSE)),\"\",VLOOKUP((CONCATENATE(AB184,AD184)),Divipolas!$F$2:$G$1123,2,FALSE))","v":""},"","","","","",{"$f":"IF(ISNA(VLOOKUP(AJ184,Divipolas!$A$2:$B$1123,2,FALSE)),\"\",VLOOKUP(AJ184,Divipolas!$A$2:$B$1123,2,FALSE))","v":""},"",{"$f":"IF(ISNA(VLOOKUP((CONCATENATE(AJ184,AL184)),Divipolas!$F$2:$G$1123,2,FALSE)),\"\",VLOOKUP((CONCATENATE(AJ184,AL184)),Divipolas!$F$2:$G$1123,2,FALSE))","v":""},"","","","","","","","","","","","","","",null,null,null,null,null,null,null,{"$f":"IF(ISNA(VLOOKUP(BH184,'CODIGO PAIS'!$A$2:$B$231,2,FALSE)),\"\",VLOOKUP(BH184,'CODIGO PAIS'!$A$2:$B$231,2,FALSE))","v":""},null,{"$f":"IF(ISNA(VLOOKUP(BJ184,Divipolas!$A$2:$B$1123,2,FALSE)),\"\",VLOOKUP(BJ184,Divipolas!$A$2:$B$1123,2,FALSE))","v":""},null,{"$f":"IF(ISNA(VLOOKUP((CONCATENATE(BJ184,BL184)),Divipolas!$F$2:$G$1123,2,FALSE)),\"\",VLOOKUP((CONCATENATE(BJ184,BL184)),Divipolas!$F$2:$G$1123,2,FALSE))","v":""},null,"","",null,null,null,null,{"$f":"IF(ISNA(VLOOKUP(BT184,Divipolas!$A$2:$B$1123,2,FALSE)),\"\",VLOOKUP(BT184,Divipolas!$A$2:$B$1123,2,FALSE))","v":""},null,{"$f":"IF(ISNA(VLOOKUP((CONCATENATE(BT184,BV184)),Divipolas!$F$2:$G$1123,2,FALSE)),\"\",VLOOKUP((CONCATENATE(BT184,BV184)),Divipolas!$F$2:$G$1123,2,FALSE))","v":""},null,null,null,null,null,null,null,null,null,null,null,null,null,null,null,null,null,null,null,null,null,null,null,"",null,null,null,null,null,null,null,null,null,null,null,null,null,null,null,null,null,null,null,null,null,null,null,null,null,null,null,null,null,null,null,null,null,null,null,null,null,null,null,null,null,null,null,null,null,null,null,null,null,null,null,null,null,null,null,null,null,null,null,null,null,null,null,null,null,null,null,null,null,null,null,null,null,null,null,null,"",null,null,null,null,null,null,null,"VERIFIQUE FECHAS",null,null,null,null,null,null,null,null,null,"VERIFIQUE COLUMNA D"]
["","",null,"",{"$f":"IFERROR(VLOOKUP(D185,'CODIGO REGIONALES'!$J$2:$L$33,3,0),\"\")","v":""},"",{"$f":"IF(ISNA(VLOOKUP(F185,Divipolas!$A$2:$B$1123,2,FALSE)),\"\",VLOOKUP(F185,Divipolas!$A$2:$B$1123,2,FALSE))","v":""},"",{"$f":"IF(ISNA(VLOOKUP((CONCATENATE(F185,H185)),Divipolas!$F$2:$G$1123,2,FALSE)),\"\",VLOOKUP((CONCATENATE(F185,H185)),Divipolas!$F$2:$G$1123,2,FALSE))","v":""},"","","","","","","","",{"$f":"IF(ISNA(VLOOKUP(Q185,Divipolas!$A$2:$B$1123,2,FALSE)),\"\",VLOOKUP(Q185,Divipolas!$A$2:$B$1123,2,FALSE))","v":""},"",{"$f":"IF(ISNA(VLOOKUP((CONCATENATE(Q185,S185)),Divipolas!$F$2:$G$1123,2,FALSE)),\"\",VLOOKUP((CONCATENATE(Q185,S185)),Divipolas!$F$2:$G$1123,2,FALSE))","v":""},"","","","","","",{"$f":"IF(ISNA(VLOOKUP(Z185,'CODIGO PAIS'!$A$2:$B$231,2,FALSE)),\"\",VLOOKUP(Z185,'CODIGO PAIS'!$A$2:$B$231,2,FALSE))","v":""},"",{"$f":"IF(ISNA(VLOOKUP(AB185,Divipolas!$A$2:$B$1123,2,FALSE)),\"\",VLOOKUP(AB185,Divipolas!$A$2:$B$1123,2,FALSE))","v":""},"",{"$f":"IF(ISNA(VLOOKUP((CONCATENATE(AB185,AD185)),Divipolas!$F$2:$G$1123,2,FALSE)),\"\",VLOOKUP((CONCATENATE(AB185,AD185)),Divipolas!$F$2:$G$1123,2,FALSE))","v":""},"","","","","",{"$f":"IF(ISNA(VLOOKUP(AJ185,Divipolas!$A$2:$B$1123,2,FALSE)),\"\",VLOOKUP(AJ185,Divipolas!$A$2:$B$1123,2,FALSE))","v":""},"",{"$f":"IF(ISNA(VLOOKUP((CONCATENATE(AJ185,AL185)),Divipolas!$F$2:$G$1123,2,FALSE)),\"\",VLOOKUP((CONCATENATE(AJ185,AL185)),Divipolas!$F$2:$G$1123,2,FALSE))","v":""},"","","","","","","","","","","","","","",null,null,null,null,null,null,null,{"$f":"IF(ISNA(VLOOKUP(BH185,'CODIGO PAIS'!$A$2:$B$231,2,FALSE)),\"\",VLOOKUP(BH185,'CODIGO PAIS'!$A$2:$B$231,2,FALSE))","v":""},null,{"$f":"IF(ISNA(VLOOKUP(BJ185,Divipolas!$A$2:$B$1123,2,FALSE)),\"\",VLOOKUP(BJ185,Divipolas!$A$2:$B$1123,2,FALSE))","v":""},null,{"$f":"IF(ISNA(VLOOKUP((CONCATENATE(BJ185,BL185)),Divipolas!$F$2:$G$1123,2,FALSE)),\"\",VLOOKUP((CONCATENATE(BJ185,BL185)),Divipolas!$F$2:$G$1123,2,FALSE))","v":""},null,"","",null,null,null,null,{"$f":"IF(ISNA(VLOOKUP(BT185,Divipolas!$A$2:$B$1123,2,FALSE)),\"\",VLOOKUP(BT185,Divipolas!$A$2:$B$1123,2,FALSE))","v":""},null,{"$f":"IF(ISNA(VLOOKUP((CONCATENATE(BT185,BV185)),Divipolas!$F$2:$G$1123,2,FALSE)),\"\",VLOOKUP((CONCATENATE(BT185,BV185)),Divipolas!$F$2:$G$1123,2,FALSE))","v":""},null,null,null,null,null,null,null,null,null,null,null,null,null,null,null,null,null,null,null,null,null,null,null,"",null,null,null,null,null,null,null,null,null,null,null,null,null,null,null,null,null,null,null,null,null,null,null,null,null,null,null,null,null,null,null,null,null,null,null,null,null,null,null,null,null,null,null,null,null,null,null,null,null,null,null,null,null,null,null,null,null,null,null,null,null,null,null,null,null,null,null,null,null,null,null,null,null,null,null,null,"",null,null,null,null,null,null,null,"VERIFIQUE FECHAS",null,null,null,null,null,null,null,null,null,"VERIFIQUE COLUMNA D"]
["","",null,"",{"$f":"IFERROR(VLOOKUP(D186,'CODIGO REGIONALES'!$J$2:$L$33,3,0),\"\")","v":""},"",{"$f":"IF(ISNA(VLOOKUP(F186,Divipolas!$A$2:$B$1123,2,FALSE)),\"\",VLOOKUP(F186,Divipolas!$A$2:$B$1123,2,FALSE))","v":""},"",{"$f":"IF(ISNA(VLOOKUP((CONCATENATE(F186,H186)),Divipolas!$F$2:$G$1123,2,FALSE)),\"\",VLOOKUP((CONCATENATE(F186,H186)),Divipolas!$F$2:$G$1123,2,FALSE))","v":""},"","","","","","","","",{"$f":"IF(ISNA(VLOOKUP(Q186,Divipolas!$A$2:$B$1123,2,FALSE)),\"\",VLOOKUP(Q186,Divipolas!$A$2:$B$1123,2,FALSE))","v":""},"",{"$f":"IF(ISNA(VLOOKUP((CONCATENATE(Q186,S186)),Divipolas!$F$2:$G$1123,2,FALSE)),\"\",VLOOKUP((CONCATENATE(Q186,S186)),Divipolas!$F$2:$G$1123,2,FALSE))","v":""},"","","","","","",{"$f":"IF(ISNA(VLOOKUP(Z186,'CODIGO PAIS'!$A$2:$B$231,2,FALSE)),\"\",VLOOKUP(Z186,'CODIGO PAIS'!$A$2:$B$231,2,FALSE))","v":""},"",{"$f":"IF(ISNA(VLOOKUP(AB186,Divipolas!$A$2:$B$1123,2,FALSE)),\"\",VLOOKUP(AB186,Divipolas!$A$2:$B$1123,2,FALSE))","v":""},"",{"$f":"IF(ISNA(VLOOKUP((CONCATENATE(AB186,AD186)),Divipolas!$F$2:$G$1123,2,FALSE)),\"\",VLOOKUP((CONCATENATE(AB186,AD186)),Divipolas!$F$2:$G$1123,2,FALSE))","v":""},"","","","","",{"$f":"IF(ISNA(VLOOKUP(AJ186,Divipolas!$A$2:$B$1123,2,FALSE)),\"\",VLOOKUP(AJ186,Divipolas!$A$2:$B$1123,2,FALSE))","v":""},"",{"$f":"IF(ISNA(VLOOKUP((CONCATENATE(AJ186,AL186)),Divipolas!$F$2:$G$1123,2,FALSE)),\"\",VLOOKUP((CONCATENATE(AJ186,AL186)),Divipolas!$F$2:$G$1123,2,FALSE))","v":""},"","","","","","","","","","","","","","",null,null,null,null,null,null,null,{"$f":"IF(ISNA(VLOOKUP(BH186,'CODIGO PAIS'!$A$2:$B$231,2,FALSE)),\"\",VLOOKUP(BH186,'CODIGO PAIS'!$A$2:$B$231,2,FALSE))","v":""},null,{"$f":"IF(ISNA(VLOOKUP(BJ186,Divipolas!$A$2:$B$1123,2,FALSE)),\"\",VLOOKUP(BJ186,Divipolas!$A$2:$B$1123,2,FALSE))","v":""},null,{"$f":"IF(ISNA(VLOOKUP((CONCATENATE(BJ186,BL186)),Divipolas!$F$2:$G$1123,2,FALSE)),\"\",VLOOKUP((CONCATENATE(BJ186,BL186)),Divipolas!$F$2:$G$1123,2,FALSE))","v":""},null,"","",null,null,null,null,{"$f":"IF(ISNA(VLOOKUP(BT186,Divipolas!$A$2:$B$1123,2,FALSE)),\"\",VLOOKUP(BT186,Divipolas!$A$2:$B$1123,2,FALSE))","v":""},null,{"$f":"IF(ISNA(VLOOKUP((CONCATENATE(BT186,BV186)),Divipolas!$F$2:$G$1123,2,FALSE)),\"\",VLOOKUP((CONCATENATE(BT186,BV186)),Divipolas!$F$2:$G$1123,2,FALSE))","v":""},null,null,null,null,null,null,null,null,null,null,null,null,null,null,null,null,null,null,null,null,null,null,null,"",null,null,null,null,null,null,null,null,null,null,null,null,null,null,null,null,null,null,null,null,null,null,null,null,null,null,null,null,null,null,null,null,null,null,null,null,null,null,null,null,null,null,null,null,null,null,null,null,null,null,null,null,null,null,null,null,null,null,null,null,null,null,null,null,null,null,null,null,null,null,null,null,null,null,null,null,"",null,null,null,null,null,null,null,"VERIFIQUE FECHAS",null,null,null,null,null,null,null,null,null,"VERIFIQUE COLUMNA D"]
["","",null,"",{"$f":"IFERROR(VLOOKUP(D187,'CODIGO REGIONALES'!$J$2:$L$33,3,0),\"\")","v":""},"",{"$f":"IF(ISNA(VLOOKUP(F187,Divipolas!$A$2:$B$1123,2,FALSE)),\"\",VLOOKUP(F187,Divipolas!$A$2:$B$1123,2,FALSE))","v":""},"",{"$f":"IF(ISNA(VLOOKUP((CONCATENATE(F187,H187)),Divipolas!$F$2:$G$1123,2,FALSE)),\"\",VLOOKUP((CONCATENATE(F187,H187)),Divipolas!$F$2:$G$1123,2,FALSE))","v":""},"","","","","","","","",{"$f":"IF(ISNA(VLOOKUP(Q187,Divipolas!$A$2:$B$1123,2,FALSE)),\"\",VLOOKUP(Q187,Divipolas!$A$2:$B$1123,2,FALSE))","v":""},"",{"$f":"IF(ISNA(VLOOKUP((CONCATENATE(Q187,S187)),Divipolas!$F$2:$G$1123,2,FALSE)),\"\",VLOOKUP((CONCATENATE(Q187,S187)),Divipolas!$F$2:$G$1123,2,FALSE))","v":""},"","","","","","",{"$f":"IF(ISNA(VLOOKUP(Z187,'CODIGO PAIS'!$A$2:$B$231,2,FALSE)),\"\",VLOOKUP(Z187,'CODIGO PAIS'!$A$2:$B$231,2,FALSE))","v":""},"",{"$f":"IF(ISNA(VLOOKUP(AB187,Divipolas!$A$2:$B$1123,2,FALSE)),\"\",VLOOKUP(AB187,Divipolas!$A$2:$B$1123,2,FALSE))","v":""},"",{"$f":"IF(ISNA(VLOOKUP((CONCATENATE(AB187,AD187)),Divipolas!$F$2:$G$1123,2,FALSE)),\"\",VLOOKUP((CONCATENATE(AB187,AD187)),Divipolas!$F$2:$G$1123,2,FALSE))","v":""},"","","","","",{"$f":"IF(ISNA(VLOOKUP(AJ187,Divipolas!$A$2:$B$1123,2,FALSE)),\"\",VLOOKUP(AJ187,Divipolas!$A$2:$B$1123,2,FALSE))","v":""},"",{"$f":"IF(ISNA(VLOOKUP((CONCATENATE(AJ187,AL187)),Divipolas!$F$2:$G$1123,2,FALSE)),\"\",VLOOKUP((CONCATENATE(AJ187,AL187)),Divipolas!$F$2:$G$1123,2,FALSE))","v":""},"","","","","","","","","","","","","","",null,null,null,null,null,null,null,{"$f":"IF(ISNA(VLOOKUP(BH187,'CODIGO PAIS'!$A$2:$B$231,2,FALSE)),\"\",VLOOKUP(BH187,'CODIGO PAIS'!$A$2:$B$231,2,FALSE))","v":""},null,{"$f":"IF(ISNA(VLOOKUP(BJ187,Divipolas!$A$2:$B$1123,2,FALSE)),\"\",VLOOKUP(BJ187,Divipolas!$A$2:$B$1123,2,FALSE))","v":""},null,{"$f":"IF(ISNA(VLOOKUP((CONCATENATE(BJ187,BL187)),Divipolas!$F$2:$G$1123,2,FALSE)),\"\",VLOOKUP((CONCATENATE(BJ187,BL187)),Divipolas!$F$2:$G$1123,2,FALSE))","v":""},null,"","",null,null,null,null,{"$f":"IF(ISNA(VLOOKUP(BT187,Divipolas!$A$2:$B$1123,2,FALSE)),\"\",VLOOKUP(BT187,Divipolas!$A$2:$B$1123,2,FALSE))","v":""},null,{"$f":"IF(ISNA(VLOOKUP((CONCATENATE(BT187,BV187)),Divipolas!$F$2:$G$1123,2,FALSE)),\"\",VLOOKUP((CONCATENATE(BT187,BV187)),Divipolas!$F$2:$G$1123,2,FALSE))","v":""},null,null,null,null,null,null,null,null,null,null,null,null,null,null,null,null,null,null,null,null,null,null,null,"",null,null,null,null,null,null,null,null,null,null,null,null,null,null,null,null,null,null,null,null,null,null,null,null,null,null,null,null,null,null,null,null,null,null,null,null,null,null,null,null,null,null,null,null,null,null,null,null,null,null,null,null,null,null,null,null,null,null,null,null,null,null,null,null,null,null,null,null,null,null,null,null,null,null,null,null,"",null,null,null,null,null,null,null,"VERIFIQUE FECHAS",null,null,null,null,null,null,null,null,null,"VERIFIQUE COLUMNA D"]
["","",null,"",{"$f":"IFERROR(VLOOKUP(D188,'CODIGO REGIONALES'!$J$2:$L$33,3,0),\"\")","v":""},"",{"$f":"IF(ISNA(VLOOKUP(F188,Divipolas!$A$2:$B$1123,2,FALSE)),\"\",VLOOKUP(F188,Divipolas!$A$2:$B$1123,2,FALSE))","v":""},"",{"$f":"IF(ISNA(VLOOKUP((CONCATENATE(F188,H188)),Divipolas!$F$2:$G$1123,2,FALSE)),\"\",VLOOKUP((CONCATENATE(F188,H188)),Divipolas!$F$2:$G$1123,2,FALSE))","v":""},"","","","","","","","",{"$f":"IF(ISNA(VLOOKUP(Q188,Divipolas!$A$2:$B$1123,2,FALSE)),\"\",VLOOKUP(Q188,Divipolas!$A$2:$B$1123,2,FALSE))","v":""},"",{"$f":"IF(ISNA(VLOOKUP((CONCATENATE(Q188,S188)),Divipolas!$F$2:$G$1123,2,FALSE)),\"\",VLOOKUP((CONCATENATE(Q188,S188)),Divipolas!$F$2:$G$1123,2,FALSE))","v":""},"","","","","","",{"$f":"IF(ISNA(VLOOKUP(Z188,'CODIGO PAIS'!$A$2:$B$231,2,FALSE)),\"\",VLOOKUP(Z188,'CODIGO PAIS'!$A$2:$B$231,2,FALSE))","v":""},"",{"$f":"IF(ISNA(VLOOKUP(AB188,Divipolas!$A$2:$B$1123,2,FALSE)),\"\",VLOOKUP(AB188,Divipolas!$A$2:$B$1123,2,FALSE))","v":""},"",{"$f":"IF(ISNA(VLOOKUP((CONCATENATE(AB188,AD188)),Divipolas!$F$2:$G$1123,2,FALSE)),\"\",VLOOKUP((CONCATENATE(AB188,AD188)),Divipolas!$F$2:$G$1123,2,FALSE))","v":""},"","","","","",{"$f":"IF(ISNA(VLOOKUP(AJ188,Divipolas!$A$2:$B$1123,2,FALSE)),\"\",VLOOKUP(AJ188,Divipolas!$A$2:$B$1123,2,FALSE))","v":""},"",{"$f":"IF(ISNA(VLOOKUP((CONCATENATE(AJ188,AL188)),Divipolas!$F$2:$G$1123,2,FALSE)),\"\",VLOOKUP((CONCATENATE(AJ188,AL188)),Divipolas!$F$2:$G$1123,2,FALSE))","v":""},"","","","","","","","","","","","","","",null,null,null,null,null,null,null,{"$f":"IF(ISNA(VLOOKUP(BH188,'CODIGO PAIS'!$A$2:$B$231,2,FALSE)),\"\",VLOOKUP(BH188,'CODIGO PAIS'!$A$2:$B$231,2,FALSE))","v":""},null,{"$f":"IF(ISNA(VLOOKUP(BJ188,Divipolas!$A$2:$B$1123,2,FALSE)),\"\",VLOOKUP(BJ188,Divipolas!$A$2:$B$1123,2,FALSE))","v":""},null,{"$f":"IF(ISNA(VLOOKUP((CONCATENATE(BJ188,BL188)),Divipolas!$F$2:$G$1123,2,FALSE)),\"\",VLOOKUP((CONCATENATE(BJ188,BL188)),Divipolas!$F$2:$G$1123,2,FALSE))","v":""},null,"","",null,null,null,null,{"$f":"IF(ISNA(VLOOKUP(BT188,Divipolas!$A$2:$B$1123,2,FALSE)),\"\",VLOOKUP(BT188,Divipolas!$A$2:$B$1123,2,FALSE))","v":""},null,{"$f":"IF(ISNA(VLOOKUP((CONCATENATE(BT188,BV188)),Divipolas!$F$2:$G$1123,2,FALSE)),\"\",VLOOKUP((CONCATENATE(BT188,BV188)),Divipolas!$F$2:$G$1123,2,FALSE))","v":""},null,null,null,null,null,null,null,null,null,null,null,null,null,null,null,null,null,null,null,null,null,null,null,"",null,null,null,null,null,null,null,null,null,null,null,null,null,null,null,null,null,null,null,null,null,null,null,null,null,null,null,null,null,null,null,null,null,null,null,null,null,null,null,null,null,null,null,null,null,null,null,null,null,null,null,null,null,null,null,null,null,null,null,null,null,null,null,null,null,null,null,null,null,null,null,null,null,null,null,null,"",null,null,null,null,null,null,null,"VERIFIQUE FECHAS",null,null,null,null,null,null,null,null,null,"VERIFIQUE COLUMNA D"]
["","",null,"",{"$f":"IFERROR(VLOOKUP(D189,'CODIGO REGIONALES'!$J$2:$L$33,3,0),\"\")","v":""},"",{"$f":"IF(ISNA(VLOOKUP(F189,Divipolas!$A$2:$B$1123,2,FALSE)),\"\",VLOOKUP(F189,Divipolas!$A$2:$B$1123,2,FALSE))","v":""},"",{"$f":"IF(ISNA(VLOOKUP((CONCATENATE(F189,H189)),Divipolas!$F$2:$G$1123,2,FALSE)),\"\",VLOOKUP((CONCATENATE(F189,H189)),Divipolas!$F$2:$G$1123,2,FALSE))","v":""},"","","","","","","","",{"$f":"IF(ISNA(VLOOKUP(Q189,Divipolas!$A$2:$B$1123,2,FALSE)),\"\",VLOOKUP(Q189,Divipolas!$A$2:$B$1123,2,FALSE))","v":""},"",{"$f":"IF(ISNA(VLOOKUP((CONCATENATE(Q189,S189)),Divipolas!$F$2:$G$1123,2,FALSE)),\"\",VLOOKUP((CONCATENATE(Q189,S189)),Divipolas!$F$2:$G$1123,2,FALSE))","v":""},"","","","","","",{"$f":"IF(ISNA(VLOOKUP(Z189,'CODIGO PAIS'!$A$2:$B$231,2,FALSE)),\"\",VLOOKUP(Z189,'CODIGO PAIS'!$A$2:$B$231,2,FALSE))","v":""},"",{"$f":"IF(ISNA(VLOOKUP(AB189,Divipolas!$A$2:$B$1123,2,FALSE)),\"\",VLOOKUP(AB189,Divipolas!$A$2:$B$1123,2,FALSE))","v":""},"",{"$f":"IF(ISNA(VLOOKUP((CONCATENATE(AB189,AD189)),Divipolas!$F$2:$G$1123,2,FALSE)),\"\",VLOOKUP((CONCATENATE(AB189,AD189)),Divipolas!$F$2:$G$1123,2,FALSE))","v":""},"","","","","",{"$f":"IF(ISNA(VLOOKUP(AJ189,Divipolas!$A$2:$B$1123,2,FALSE)),\"\",VLOOKUP(AJ189,Divipolas!$A$2:$B$1123,2,FALSE))","v":""},"",{"$f":"IF(ISNA(VLOOKUP((CONCATENATE(AJ189,AL189)),Divipolas!$F$2:$G$1123,2,FALSE)),\"\",VLOOKUP((CONCATENATE(AJ189,AL189)),Divipolas!$F$2:$G$1123,2,FALSE))","v":""},"","","","","","","","","","","","","","",null,null,null,null,null,null,null,{"$f":"IF(ISNA(VLOOKUP(BH189,'CODIGO PAIS'!$A$2:$B$231,2,FALSE)),\"\",VLOOKUP(BH189,'CODIGO PAIS'!$A$2:$B$231,2,FALSE))","v":""},null,{"$f":"IF(ISNA(VLOOKUP(BJ189,Divipolas!$A$2:$B$1123,2,FALSE)),\"\",VLOOKUP(BJ189,Divipolas!$A$2:$B$1123,2,FALSE))","v":""},null,{"$f":"IF(ISNA(VLOOKUP((CONCATENATE(BJ189,BL189)),Divipolas!$F$2:$G$1123,2,FALSE)),\"\",VLOOKUP((CONCATENATE(BJ189,BL189)),Divipolas!$F$2:$G$1123,2,FALSE))","v":""},null,"","",null,null,null,null,{"$f":"IF(ISNA(VLOOKUP(BT189,Divipolas!$A$2:$B$1123,2,FALSE)),\"\",VLOOKUP(BT189,Divipolas!$A$2:$B$1123,2,FALSE))","v":""},null,{"$f":"IF(ISNA(VLOOKUP((CONCATENATE(BT189,BV189)),Divipolas!$F$2:$G$1123,2,FALSE)),\"\",VLOOKUP((CONCATENATE(BT189,BV189)),Divipolas!$F$2:$G$1123,2,FALSE))","v":""},null,null,null,null,null,null,null,null,null,null,null,null,null,null,null,null,null,null,null,null,null,null,null,"",null,null,null,null,null,null,null,null,null,null,null,null,null,null,null,null,null,null,null,null,null,null,null,null,null,null,null,null,null,null,null,null,null,null,null,null,null,null,null,null,null,null,null,null,null,null,null,null,null,null,null,null,null,null,null,null,null,null,null,null,null,null,null,null,null,null,null,null,null,null,null,null,null,null,null,null,"",null,null,null,null,null,null,null,"VERIFIQUE FECHAS",null,null,null,null,null,null,null,null,null,"VERIFIQUE COLUMNA D"]
["","",null,"",{"$f":"IFERROR(VLOOKUP(D190,'CODIGO REGIONALES'!$J$2:$L$33,3,0),\"\")","v":""},"",{"$f":"IF(ISNA(VLOOKUP(F190,Divipolas!$A$2:$B$1123,2,FALSE)),\"\",VLOOKUP(F190,Divipolas!$A$2:$B$1123,2,FALSE))","v":""},"",{"$f":"IF(ISNA(VLOOKUP((CONCATENATE(F190,H190)),Divipolas!$F$2:$G$1123,2,FALSE)),\"\",VLOOKUP((CONCATENATE(F190,H190)),Divipolas!$F$2:$G$1123,2,FALSE))","v":""},"","","","","","","","",{"$f":"IF(ISNA(VLOOKUP(Q190,Divipolas!$A$2:$B$1123,2,FALSE)),\"\",VLOOKUP(Q190,Divipolas!$A$2:$B$1123,2,FALSE))","v":""},"",{"$f":"IF(ISNA(VLOOKUP((CONCATENATE(Q190,S190)),Divipolas!$F$2:$G$1123,2,FALSE)),\"\",VLOOKUP((CONCATENATE(Q190,S190)),Divipolas!$F$2:$G$1123,2,FALSE))","v":""},"","","","","","",{"$f":"IF(ISNA(VLOOKUP(Z190,'CODIGO PAIS'!$A$2:$B$231,2,FALSE)),\"\",VLOOKUP(Z190,'CODIGO PAIS'!$A$2:$B$231,2,FALSE))","v":""},"",{"$f":"IF(ISNA(VLOOKUP(AB190,Divipolas!$A$2:$B$1123,2,FALSE)),\"\",VLOOKUP(AB190,Divipolas!$A$2:$B$1123,2,FALSE))","v":""},"",{"$f":"IF(ISNA(VLOOKUP((CONCATENATE(AB190,AD190)),Divipolas!$F$2:$G$1123,2,FALSE)),\"\",VLOOKUP((CONCATENATE(AB190,AD190)),Divipolas!$F$2:$G$1123,2,FALSE))","v":""},"","","","","",{"$f":"IF(ISNA(VLOOKUP(AJ190,Divipolas!$A$2:$B$1123,2,FALSE)),\"\",VLOOKUP(AJ190,Divipolas!$A$2:$B$1123,2,FALSE))","v":""},"",{"$f":"IF(ISNA(VLOOKUP((CONCATENATE(AJ190,AL190)),Divipolas!$F$2:$G$1123,2,FALSE)),\"\",VLOOKUP((CONCATENATE(AJ190,AL190)),Divipolas!$F$2:$G$1123,2,FALSE))","v":""},"","","","","","","","","","","","","","",null,null,null,null,null,null,null,{"$f":"IF(ISNA(VLOOKUP(BH190,'CODIGO PAIS'!$A$2:$B$231,2,FALSE)),\"\",VLOOKUP(BH190,'CODIGO PAIS'!$A$2:$B$231,2,FALSE))","v":""},null,{"$f":"IF(ISNA(VLOOKUP(BJ190,Divipolas!$A$2:$B$1123,2,FALSE)),\"\",VLOOKUP(BJ190,Divipolas!$A$2:$B$1123,2,FALSE))","v":""},null,{"$f":"IF(ISNA(VLOOKUP((CONCATENATE(BJ190,BL190)),Divipolas!$F$2:$G$1123,2,FALSE)),\"\",VLOOKUP((CONCATENATE(BJ190,BL190)),Divipolas!$F$2:$G$1123,2,FALSE))","v":""},null,"","",null,null,null,null,{"$f":"IF(ISNA(VLOOKUP(BT190,Divipolas!$A$2:$B$1123,2,FALSE)),\"\",VLOOKUP(BT190,Divipolas!$A$2:$B$1123,2,FALSE))","v":""},null,{"$f":"IF(ISNA(VLOOKUP((CONCATENATE(BT190,BV190)),Divipolas!$F$2:$G$1123,2,FALSE)),\"\",VLOOKUP((CONCATENATE(BT190,BV190)),Divipolas!$F$2:$G$1123,2,FALSE))","v":""},null,null,null,null,null,null,null,null,null,null,null,null,null,null,null,null,null,null,null,null,null,null,null,"",null,null,null,null,null,null,null,null,null,null,null,null,null,null,null,null,null,null,null,null,null,null,null,null,null,null,null,null,null,null,null,null,null,null,null,null,null,null,null,null,null,null,null,null,null,null,null,null,null,null,null,null,null,null,null,null,null,null,null,null,null,null,null,null,null,null,null,null,null,null,null,null,null,null,null,null,"",null,null,null,null,null,null,null,"VERIFIQUE FECHAS",null,null,null,null,null,null,null,null,null,"VERIFIQUE COLUMNA D"]
["","",null,"",{"$f":"IFERROR(VLOOKUP(D191,'CODIGO REGIONALES'!$J$2:$L$33,3,0),\"\")","v":""},"",{"$f":"IF(ISNA(VLOOKUP(F191,Divipolas!$A$2:$B$1123,2,FALSE)),\"\",VLOOKUP(F191,Divipolas!$A$2:$B$1123,2,FALSE))","v":""},"",{"$f":"IF(ISNA(VLOOKUP((CONCATENATE(F191,H191)),Divipolas!$F$2:$G$1123,2,FALSE)),\"\",VLOOKUP((CONCATENATE(F191,H191)),Divipolas!$F$2:$G$1123,2,FALSE))","v":""},"","","","","","","","",{"$f":"IF(ISNA(VLOOKUP(Q191,Divipolas!$A$2:$B$1123,2,FALSE)),\"\",VLOOKUP(Q191,Divipolas!$A$2:$B$1123,2,FALSE))","v":""},"",{"$f":"IF(ISNA(VLOOKUP((CONCATENATE(Q191,S191)),Divipolas!$F$2:$G$1123,2,FALSE)),\"\",VLOOKUP((CONCATENATE(Q191,S191)),Divipolas!$F$2:$G$1123,2,FALSE))","v":""},"","","","","","",{"$f":"IF(ISNA(VLOOKUP(Z191,'CODIGO PAIS'!$A$2:$B$231,2,FALSE)),\"\",VLOOKUP(Z191,'CODIGO PAIS'!$A$2:$B$231,2,FALSE))","v":""},"",{"$f":"IF(ISNA(VLOOKUP(AB191,Divipolas!$A$2:$B$1123,2,FALSE)),\"\",VLOOKUP(AB191,Divipolas!$A$2:$B$1123,2,FALSE))","v":""},"",{"$f":"IF(ISNA(VLOOKUP((CONCATENATE(AB191,AD191)),Divipolas!$F$2:$G$1123,2,FALSE)),\"\",VLOOKUP((CONCATENATE(AB191,AD191)),Divipolas!$F$2:$G$1123,2,FALSE))","v":""},"","","","","",{"$f":"IF(ISNA(VLOOKUP(AJ191,Divipolas!$A$2:$B$1123,2,FALSE)),\"\",VLOOKUP(AJ191,Divipolas!$A$2:$B$1123,2,FALSE))","v":""},"",{"$f":"IF(ISNA(VLOOKUP((CONCATENATE(AJ191,AL191)),Divipolas!$F$2:$G$1123,2,FALSE)),\"\",VLOOKUP((CONCATENATE(AJ191,AL191)),Divipolas!$F$2:$G$1123,2,FALSE))","v":""},"","","","","","","","","","","","","","",null,null,null,null,null,null,null,{"$f":"IF(ISNA(VLOOKUP(BH191,'CODIGO PAIS'!$A$2:$B$231,2,FALSE)),\"\",VLOOKUP(BH191,'CODIGO PAIS'!$A$2:$B$231,2,FALSE))","v":""},null,{"$f":"IF(ISNA(VLOOKUP(BJ191,Divipolas!$A$2:$B$1123,2,FALSE)),\"\",VLOOKUP(BJ191,Divipolas!$A$2:$B$1123,2,FALSE))","v":""},null,{"$f":"IF(ISNA(VLOOKUP((CONCATENATE(BJ191,BL191)),Divipolas!$F$2:$G$1123,2,FALSE)),\"\",VLOOKUP((CONCATENATE(BJ191,BL191)),Divipolas!$F$2:$G$1123,2,FALSE))","v":""},null,"","",null,null,null,null,{"$f":"IF(ISNA(VLOOKUP(BT191,Divipolas!$A$2:$B$1123,2,FALSE)),\"\",VLOOKUP(BT191,Divipolas!$A$2:$B$1123,2,FALSE))","v":""},null,{"$f":"IF(ISNA(VLOOKUP((CONCATENATE(BT191,BV191)),Divipolas!$F$2:$G$1123,2,FALSE)),\"\",VLOOKUP((CONCATENATE(BT191,BV191)),Divipolas!$F$2:$G$1123,2,FALSE))","v":""},null,null,null,null,null,null,null,null,null,null,null,null,null,null,null,null,null,null,null,null,null,null,null,"",null,null,null,null,null,null,null,null,null,null,null,null,null,null,null,null,null,null,null,null,null,null,null,null,null,null,null,null,null,null,null,null,null,null,null,null,null,null,null,null,null,null,null,null,null,null,null,null,null,null,null,null,null,null,null,null,null,null,null,null,null,null,null,null,null,null,null,null,null,null,null,null,null,null,null,null,"",null,null,null,null,null,null,null,"VERIFIQUE FECHAS",null,null,null,null,null,null,null,null,null,"VERIFIQUE COLUMNA D"]
["","",null,"",{"$f":"IFERROR(VLOOKUP(D192,'CODIGO REGIONALES'!$J$2:$L$33,3,0),\"\")","v":""},"",{"$f":"IF(ISNA(VLOOKUP(F192,Divipolas!$A$2:$B$1123,2,FALSE)),\"\",VLOOKUP(F192,Divipolas!$A$2:$B$1123,2,FALSE))","v":""},"",{"$f":"IF(ISNA(VLOOKUP((CONCATENATE(F192,H192)),Divipolas!$F$2:$G$1123,2,FALSE)),\"\",VLOOKUP((CONCATENATE(F192,H192)),Divipolas!$F$2:$G$1123,2,FALSE))","v":""},"","","","","","","","",{"$f":"IF(ISNA(VLOOKUP(Q192,Divipolas!$A$2:$B$1123,2,FALSE)),\"\",VLOOKUP(Q192,Divipolas!$A$2:$B$1123,2,FALSE))","v":""},"",{"$f":"IF(ISNA(VLOOKUP((CONCATENATE(Q192,S192)),Divipolas!$F$2:$G$1123,2,FALSE)),\"\",VLOOKUP((CONCATENATE(Q192,S192)),Divipolas!$F$2:$G$1123,2,FALSE))","v":""},"","","","","","",{"$f":"IF(ISNA(VLOOKUP(Z192,'CODIGO PAIS'!$A$2:$B$231,2,FALSE)),\"\",VLOOKUP(Z192,'CODIGO PAIS'!$A$2:$B$231,2,FALSE))","v":""},"",{"$f":"IF(ISNA(VLOOKUP(AB192,Divipolas!$A$2:$B$1123,2,FALSE)),\"\",VLOOKUP(AB192,Divipolas!$A$2:$B$1123,2,FALSE))","v":""},"",{"$f":"IF(ISNA(VLOOKUP((CONCATENATE(AB192,AD192)),Divipolas!$F$2:$G$1123,2,FALSE)),\"\",VLOOKUP((CONCATENATE(AB192,AD192)),Divipolas!$F$2:$G$1123,2,FALSE))","v":""},"","","","","",{"$f":"IF(ISNA(VLOOKUP(AJ192,Divipolas!$A$2:$B$1123,2,FALSE)),\"\",VLOOKUP(AJ192,Divipolas!$A$2:$B$1123,2,FALSE))","v":""},"",{"$f":"IF(ISNA(VLOOKUP((CONCATENATE(AJ192,AL192)),Divipolas!$F$2:$G$1123,2,FALSE)),\"\",VLOOKUP((CONCATENATE(AJ192,AL192)),Divipolas!$F$2:$G$1123,2,FALSE))","v":""},"","","","","","","","","","","","","","",null,null,null,null,null,null,null,{"$f":"IF(ISNA(VLOOKUP(BH192,'CODIGO PAIS'!$A$2:$B$231,2,FALSE)),\"\",VLOOKUP(BH192,'CODIGO PAIS'!$A$2:$B$231,2,FALSE))","v":""},null,{"$f":"IF(ISNA(VLOOKUP(BJ192,Divipolas!$A$2:$B$1123,2,FALSE)),\"\",VLOOKUP(BJ192,Divipolas!$A$2:$B$1123,2,FALSE))","v":""},null,{"$f":"IF(ISNA(VLOOKUP((CONCATENATE(BJ192,BL192)),Divipolas!$F$2:$G$1123,2,FALSE)),\"\",VLOOKUP((CONCATENATE(BJ192,BL192)),Divipolas!$F$2:$G$1123,2,FALSE))","v":""},null,"","",null,null,null,null,{"$f":"IF(ISNA(VLOOKUP(BT192,Divipolas!$A$2:$B$1123,2,FALSE)),\"\",VLOOKUP(BT192,Divipolas!$A$2:$B$1123,2,FALSE))","v":""},null,{"$f":"IF(ISNA(VLOOKUP((CONCATENATE(BT192,BV192)),Divipolas!$F$2:$G$1123,2,FALSE)),\"\",VLOOKUP((CONCATENATE(BT192,BV192)),Divipolas!$F$2:$G$1123,2,FALSE))","v":""},null,null,null,null,null,null,null,null,null,null,null,null,null,null,null,null,null,null,null,null,null,null,null,"",null,null,null,null,null,null,null,null,null,null,null,null,null,null,null,null,null,null,null,null,null,null,null,null,null,null,null,null,null,null,null,null,null,null,null,null,null,null,null,null,null,null,null,null,null,null,null,null,null,null,null,null,null,null,null,null,null,null,null,null,null,null,null,null,null,null,null,null,null,null,null,null,null,null,null,null,"",null,null,null,null,null,null,null,"VERIFIQUE FECHAS",null,null,null,null,null,null,null,null,null,"VERIFIQUE COLUMNA D"]
["","",null,"",{"$f":"IFERROR(VLOOKUP(D193,'CODIGO REGIONALES'!$J$2:$L$33,3,0),\"\")","v":""},"",{"$f":"IF(ISNA(VLOOKUP(F193,Divipolas!$A$2:$B$1123,2,FALSE)),\"\",VLOOKUP(F193,Divipolas!$A$2:$B$1123,2,FALSE))","v":""},"",{"$f":"IF(ISNA(VLOOKUP((CONCATENATE(F193,H193)),Divipolas!$F$2:$G$1123,2,FALSE)),\"\",VLOOKUP((CONCATENATE(F193,H193)),Divipolas!$F$2:$G$1123,2,FALSE))","v":""},"","","","","","","","",{"$f":"IF(ISNA(VLOOKUP(Q193,Divipolas!$A$2:$B$1123,2,FALSE)),\"\",VLOOKUP(Q193,Divipolas!$A$2:$B$1123,2,FALSE))","v":""},"",{"$f":"IF(ISNA(VLOOKUP((CONCATENATE(Q193,S193)),Divipolas!$F$2:$G$1123,2,FALSE)),\"\",VLOOKUP((CONCATENATE(Q193,S193)),Divipolas!$F$2:$G$1123,2,FALSE))","v":""},"","","","","","",{"$f":"IF(ISNA(VLOOKUP(Z193,'CODIGO PAIS'!$A$2:$B$231,2,FALSE)),\"\",VLOOKUP(Z193,'CODIGO PAIS'!$A$2:$B$231,2,FALSE))","v":""},"",{"$f":"IF(ISNA(VLOOKUP(AB193,Divipolas!$A$2:$B$1123,2,FALSE)),\"\",VLOOKUP(AB193,Divipolas!$A$2:$B$1123,2,FALSE))","v":""},"",{"$f":"IF(ISNA(VLOOKUP((CONCATENATE(AB193,AD193)),Divipolas!$F$2:$G$1123,2,FALSE)),\"\",VLOOKUP((CONCATENATE(AB193,AD193)),Divipolas!$F$2:$G$1123,2,FALSE))","v":""},"","","","","",{"$f":"IF(ISNA(VLOOKUP(AJ193,Divipolas!$A$2:$B$1123,2,FALSE)),\"\",VLOOKUP(AJ193,Divipolas!$A$2:$B$1123,2,FALSE))","v":""},"",{"$f":"IF(ISNA(VLOOKUP((CONCATENATE(AJ193,AL193)),Divipolas!$F$2:$G$1123,2,FALSE)),\"\",VLOOKUP((CONCATENATE(AJ193,AL193)),Divipolas!$F$2:$G$1123,2,FALSE))","v":""},"","","","","","","","","","","","","","",null,null,null,null,null,null,null,{"$f":"IF(ISNA(VLOOKUP(BH193,'CODIGO PAIS'!$A$2:$B$231,2,FALSE)),\"\",VLOOKUP(BH193,'CODIGO PAIS'!$A$2:$B$231,2,FALSE))","v":""},null,{"$f":"IF(ISNA(VLOOKUP(BJ193,Divipolas!$A$2:$B$1123,2,FALSE)),\"\",VLOOKUP(BJ193,Divipolas!$A$2:$B$1123,2,FALSE))","v":""},null,{"$f":"IF(ISNA(VLOOKUP((CONCATENATE(BJ193,BL193)),Divipolas!$F$2:$G$1123,2,FALSE)),\"\",VLOOKUP((CONCATENATE(BJ193,BL193)),Divipolas!$F$2:$G$1123,2,FALSE))","v":""},null,"","",null,null,null,null,{"$f":"IF(ISNA(VLOOKUP(BT193,Divipolas!$A$2:$B$1123,2,FALSE)),\"\",VLOOKUP(BT193,Divipolas!$A$2:$B$1123,2,FALSE))","v":""},null,{"$f":"IF(ISNA(VLOOKUP((CONCATENATE(BT193,BV193)),Divipolas!$F$2:$G$1123,2,FALSE)),\"\",VLOOKUP((CONCATENATE(BT193,BV193)),Divipolas!$F$2:$G$1123,2,FALSE))","v":""},null,null,null,null,null,null,null,null,null,null,null,null,null,null,null,null,null,null,null,null,null,null,null,"",null,null,null,null,null,null,null,null,null,null,null,null,null,null,null,null,null,null,null,null,null,null,null,null,null,null,null,null,null,null,null,null,null,null,null,null,null,null,null,null,null,null,null,null,null,null,null,null,null,null,null,null,null,null,null,null,null,null,null,null,null,null,null,null,null,null,null,null,null,null,null,null,null,null,null,null,"",null,null,null,null,null,null,null,"VERIFIQUE FECHAS",null,null,null,null,null,null,null,null,null,"VERIFIQUE COLUMNA D"]
["","",null,"",{"$f":"IFERROR(VLOOKUP(D194,'CODIGO REGIONALES'!$J$2:$L$33,3,0),\"\")","v":""},"",{"$f":"IF(ISNA(VLOOKUP(F194,Divipolas!$A$2:$B$1123,2,FALSE)),\"\",VLOOKUP(F194,Divipolas!$A$2:$B$1123,2,FALSE))","v":""},"",{"$f":"IF(ISNA(VLOOKUP((CONCATENATE(F194,H194)),Divipolas!$F$2:$G$1123,2,FALSE)),\"\",VLOOKUP((CONCATENATE(F194,H194)),Divipolas!$F$2:$G$1123,2,FALSE))","v":""},"","","","","","","","",{"$f":"IF(ISNA(VLOOKUP(Q194,Divipolas!$A$2:$B$1123,2,FALSE)),\"\",VLOOKUP(Q194,Divipolas!$A$2:$B$1123,2,FALSE))","v":""},"",{"$f":"IF(ISNA(VLOOKUP((CONCATENATE(Q194,S194)),Divipolas!$F$2:$G$1123,2,FALSE)),\"\",VLOOKUP((CONCATENATE(Q194,S194)),Divipolas!$F$2:$G$1123,2,FALSE))","v":""},"","","","","","",{"$f":"IF(ISNA(VLOOKUP(Z194,'CODIGO PAIS'!$A$2:$B$231,2,FALSE)),\"\",VLOOKUP(Z194,'CODIGO PAIS'!$A$2:$B$231,2,FALSE))","v":""},"",{"$f":"IF(ISNA(VLOOKUP(AB194,Divipolas!$A$2:$B$1123,2,FALSE)),\"\",VLOOKUP(AB194,Divipolas!$A$2:$B$1123,2,FALSE))","v":""},"",{"$f":"IF(ISNA(VLOOKUP((CONCATENATE(AB194,AD194)),Divipolas!$F$2:$G$1123,2,FALSE)),\"\",VLOOKUP((CONCATENATE(AB194,AD194)),Divipolas!$F$2:$G$1123,2,FALSE))","v":""},"","","","","",{"$f":"IF(ISNA(VLOOKUP(AJ194,Divipolas!$A$2:$B$1123,2,FALSE)),\"\",VLOOKUP(AJ194,Divipolas!$A$2:$B$1123,2,FALSE))","v":""},"",{"$f":"IF(ISNA(VLOOKUP((CONCATENATE(AJ194,AL194)),Divipolas!$F$2:$G$1123,2,FALSE)),\"\",VLOOKUP((CONCATENATE(AJ194,AL194)),Divipolas!$F$2:$G$1123,2,FALSE))","v":""},"","","","","","","","","","","","","","",null,null,null,null,null,null,null,{"$f":"IF(ISNA(VLOOKUP(BH194,'CODIGO PAIS'!$A$2:$B$231,2,FALSE)),\"\",VLOOKUP(BH194,'CODIGO PAIS'!$A$2:$B$231,2,FALSE))","v":""},null,{"$f":"IF(ISNA(VLOOKUP(BJ194,Divipolas!$A$2:$B$1123,2,FALSE)),\"\",VLOOKUP(BJ194,Divipolas!$A$2:$B$1123,2,FALSE))","v":""},null,{"$f":"IF(ISNA(VLOOKUP((CONCATENATE(BJ194,BL194)),Divipolas!$F$2:$G$1123,2,FALSE)),\"\",VLOOKUP((CONCATENATE(BJ194,BL194)),Divipolas!$F$2:$G$1123,2,FALSE))","v":""},null,"","",null,null,null,null,{"$f":"IF(ISNA(VLOOKUP(BT194,Divipolas!$A$2:$B$1123,2,FALSE)),\"\",VLOOKUP(BT194,Divipolas!$A$2:$B$1123,2,FALSE))","v":""},null,{"$f":"IF(ISNA(VLOOKUP((CONCATENATE(BT194,BV194)),Divipolas!$F$2:$G$1123,2,FALSE)),\"\",VLOOKUP((CONCATENATE(BT194,BV194)),Divipolas!$F$2:$G$1123,2,FALSE))","v":""},null,null,null,null,null,null,null,null,null,null,null,null,null,null,null,null,null,null,null,null,null,null,null,"",null,null,null,null,null,null,null,null,null,null,null,null,null,null,null,null,null,null,null,null,null,null,null,null,null,null,null,null,null,null,null,null,null,null,null,null,null,null,null,null,null,null,null,null,null,null,null,null,null,null,null,null,null,null,null,null,null,null,null,null,null,null,null,null,null,null,null,null,null,null,null,null,null,null,null,null,"",null,null,null,null,null,null,null,"VERIFIQUE FECHAS",null,null,null,null,null,null,null,null,null,"VERIFIQUE COLUMNA D"]
["","",null,"",{"$f":"IFERROR(VLOOKUP(D195,'CODIGO REGIONALES'!$J$2:$L$33,3,0),\"\")","v":""},"",{"$f":"IF(ISNA(VLOOKUP(F195,Divipolas!$A$2:$B$1123,2,FALSE)),\"\",VLOOKUP(F195,Divipolas!$A$2:$B$1123,2,FALSE))","v":""},"",{"$f":"IF(ISNA(VLOOKUP((CONCATENATE(F195,H195)),Divipolas!$F$2:$G$1123,2,FALSE)),\"\",VLOOKUP((CONCATENATE(F195,H195)),Divipolas!$F$2:$G$1123,2,FALSE))","v":""},"","","","","","","","",{"$f":"IF(ISNA(VLOOKUP(Q195,Divipolas!$A$2:$B$1123,2,FALSE)),\"\",VLOOKUP(Q195,Divipolas!$A$2:$B$1123,2,FALSE))","v":""},"",{"$f":"IF(ISNA(VLOOKUP((CONCATENATE(Q195,S195)),Divipolas!$F$2:$G$1123,2,FALSE)),\"\",VLOOKUP((CONCATENATE(Q195,S195)),Divipolas!$F$2:$G$1123,2,FALSE))","v":""},"","","","","","",{"$f":"IF(ISNA(VLOOKUP(Z195,'CODIGO PAIS'!$A$2:$B$231,2,FALSE)),\"\",VLOOKUP(Z195,'CODIGO PAIS'!$A$2:$B$231,2,FALSE))","v":""},"",{"$f":"IF(ISNA(VLOOKUP(AB195,Divipolas!$A$2:$B$1123,2,FALSE)),\"\",VLOOKUP(AB195,Divipolas!$A$2:$B$1123,2,FALSE))","v":""},"",{"$f":"IF(ISNA(VLOOKUP((CONCATENATE(AB195,AD195)),Divipolas!$F$2:$G$1123,2,FALSE)),\"\",VLOOKUP((CONCATENATE(AB195,AD195)),Divipolas!$F$2:$G$1123,2,FALSE))","v":""},"","","","","",{"$f":"IF(ISNA(VLOOKUP(AJ195,Divipolas!$A$2:$B$1123,2,FALSE)),\"\",VLOOKUP(AJ195,Divipolas!$A$2:$B$1123,2,FALSE))","v":""},"",{"$f":"IF(ISNA(VLOOKUP((CONCATENATE(AJ195,AL195)),Divipolas!$F$2:$G$1123,2,FALSE)),\"\",VLOOKUP((CONCATENATE(AJ195,AL195)),Divipolas!$F$2:$G$1123,2,FALSE))","v":""},"","","","","","","","","","","","","","",null,null,null,null,null,null,null,{"$f":"IF(ISNA(VLOOKUP(BH195,'CODIGO PAIS'!$A$2:$B$231,2,FALSE)),\"\",VLOOKUP(BH195,'CODIGO PAIS'!$A$2:$B$231,2,FALSE))","v":""},null,{"$f":"IF(ISNA(VLOOKUP(BJ195,Divipolas!$A$2:$B$1123,2,FALSE)),\"\",VLOOKUP(BJ195,Divipolas!$A$2:$B$1123,2,FALSE))","v":""},null,{"$f":"IF(ISNA(VLOOKUP((CONCATENATE(BJ195,BL195)),Divipolas!$F$2:$G$1123,2,FALSE)),\"\",VLOOKUP((CONCATENATE(BJ195,BL195)),Divipolas!$F$2:$G$1123,2,FALSE))","v":""},null,"","",null,null,null,null,{"$f":"IF(ISNA(VLOOKUP(BT195,Divipolas!$A$2:$B$1123,2,FALSE)),\"\",VLOOKUP(BT195,Divipolas!$A$2:$B$1123,2,FALSE))","v":""},null,{"$f":"IF(ISNA(VLOOKUP((CONCATENATE(BT195,BV195)),Divipolas!$F$2:$G$1123,2,FALSE)),\"\",VLOOKUP((CONCATENATE(BT195,BV195)),Divipolas!$F$2:$G$1123,2,FALSE))","v":""},null,null,null,null,null,null,null,null,null,null,null,null,null,null,null,null,null,null,null,null,null,null,null,"",null,null,null,null,null,null,null,null,null,null,null,null,null,null,null,null,null,null,null,null,null,null,null,null,null,null,null,null,null,null,null,null,null,null,null,null,null,null,null,null,null,null,null,null,null,null,null,null,null,null,null,null,null,null,null,null,null,null,null,null,null,null,null,null,null,null,null,null,null,null,null,null,null,null,null,null,"",null,null,null,null,null,null,null,"VERIFIQUE FECHAS",null,null,null,null,null,null,null,null,null,"VERIFIQUE COLUMNA D"]
["","",null,"",{"$f":"IFERROR(VLOOKUP(D196,'CODIGO REGIONALES'!$J$2:$L$33,3,0),\"\")","v":""},"",{"$f":"IF(ISNA(VLOOKUP(F196,Divipolas!$A$2:$B$1123,2,FALSE)),\"\",VLOOKUP(F196,Divipolas!$A$2:$B$1123,2,FALSE))","v":""},"",{"$f":"IF(ISNA(VLOOKUP((CONCATENATE(F196,H196)),Divipolas!$F$2:$G$1123,2,FALSE)),\"\",VLOOKUP((CONCATENATE(F196,H196)),Divipolas!$F$2:$G$1123,2,FALSE))","v":""},"","","","","","","","",{"$f":"IF(ISNA(VLOOKUP(Q196,Divipolas!$A$2:$B$1123,2,FALSE)),\"\",VLOOKUP(Q196,Divipolas!$A$2:$B$1123,2,FALSE))","v":""},"",{"$f":"IF(ISNA(VLOOKUP((CONCATENATE(Q196,S196)),Divipolas!$F$2:$G$1123,2,FALSE)),\"\",VLOOKUP((CONCATENATE(Q196,S196)),Divipolas!$F$2:$G$1123,2,FALSE))","v":""},"","","","","","",{"$f":"IF(ISNA(VLOOKUP(Z196,'CODIGO PAIS'!$A$2:$B$231,2,FALSE)),\"\",VLOOKUP(Z196,'CODIGO PAIS'!$A$2:$B$231,2,FALSE))","v":""},"",{"$f":"IF(ISNA(VLOOKUP(AB196,Divipolas!$A$2:$B$1123,2,FALSE)),\"\",VLOOKUP(AB196,Divipolas!$A$2:$B$1123,2,FALSE))","v":""},"",{"$f":"IF(ISNA(VLOOKUP((CONCATENATE(AB196,AD196)),Divipolas!$F$2:$G$1123,2,FALSE)),\"\",VLOOKUP((CONCATENATE(AB196,AD196)),Divipolas!$F$2:$G$1123,2,FALSE))","v":""},"","","","","",{"$f":"IF(ISNA(VLOOKUP(AJ196,Divipolas!$A$2:$B$1123,2,FALSE)),\"\",VLOOKUP(AJ196,Divipolas!$A$2:$B$1123,2,FALSE))","v":""},"",{"$f":"IF(ISNA(VLOOKUP((CONCATENATE(AJ196,AL196)),Divipolas!$F$2:$G$1123,2,FALSE)),\"\",VLOOKUP((CONCATENATE(AJ196,AL196)),Divipolas!$F$2:$G$1123,2,FALSE))","v":""},"","","","","","","","","","","","","","",null,null,null,null,null,null,null,{"$f":"IF(ISNA(VLOOKUP(BH196,'CODIGO PAIS'!$A$2:$B$231,2,FALSE)),\"\",VLOOKUP(BH196,'CODIGO PAIS'!$A$2:$B$231,2,FALSE))","v":""},null,{"$f":"IF(ISNA(VLOOKUP(BJ196,Divipolas!$A$2:$B$1123,2,FALSE)),\"\",VLOOKUP(BJ196,Divipolas!$A$2:$B$1123,2,FALSE))","v":""},null,{"$f":"IF(ISNA(VLOOKUP((CONCATENATE(BJ196,BL196)),Divipolas!$F$2:$G$1123,2,FALSE)),\"\",VLOOKUP((CONCATENATE(BJ196,BL196)),Divipolas!$F$2:$G$1123,2,FALSE))","v":""},null,"","",null,null,null,null,{"$f":"IF(ISNA(VLOOKUP(BT196,Divipolas!$A$2:$B$1123,2,FALSE)),\"\",VLOOKUP(BT196,Divipolas!$A$2:$B$1123,2,FALSE))","v":""},null,{"$f":"IF(ISNA(VLOOKUP((CONCATENATE(BT196,BV196)),Divipolas!$F$2:$G$1123,2,FALSE)),\"\",VLOOKUP((CONCATENATE(BT196,BV196)),Divipolas!$F$2:$G$1123,2,FALSE))","v":""},null,null,null,null,null,null,null,null,null,null,null,null,null,null,null,null,null,null,null,null,null,null,null,"",null,null,null,null,null,null,null,null,null,null,null,null,null,null,null,null,null,null,null,null,null,null,null,null,null,null,null,null,null,null,null,null,null,null,null,null,null,null,null,null,null,null,null,null,null,null,null,null,null,null,null,null,null,null,null,null,null,null,null,null,null,null,null,null,null,null,null,null,null,null,null,null,null,null,null,null,"",null,null,null,null,null,null,null,"VERIFIQUE FECHAS",null,null,null,null,null,null,null,null,null,"VERIFIQUE COLUMNA D"]
["","",null,"",{"$f":"IFERROR(VLOOKUP(D197,'CODIGO REGIONALES'!$J$2:$L$33,3,0),\"\")","v":""},"",{"$f":"IF(ISNA(VLOOKUP(F197,Divipolas!$A$2:$B$1123,2,FALSE)),\"\",VLOOKUP(F197,Divipolas!$A$2:$B$1123,2,FALSE))","v":""},"",{"$f":"IF(ISNA(VLOOKUP((CONCATENATE(F197,H197)),Divipolas!$F$2:$G$1123,2,FALSE)),\"\",VLOOKUP((CONCATENATE(F197,H197)),Divipolas!$F$2:$G$1123,2,FALSE))","v":""},"","","","","","","","",{"$f":"IF(ISNA(VLOOKUP(Q197,Divipolas!$A$2:$B$1123,2,FALSE)),\"\",VLOOKUP(Q197,Divipolas!$A$2:$B$1123,2,FALSE))","v":""},"",{"$f":"IF(ISNA(VLOOKUP((CONCATENATE(Q197,S197)),Divipolas!$F$2:$G$1123,2,FALSE)),\"\",VLOOKUP((CONCATENATE(Q197,S197)),Divipolas!$F$2:$G$1123,2,FALSE))","v":""},"","","","","","",{"$f":"IF(ISNA(VLOOKUP(Z197,'CODIGO PAIS'!$A$2:$B$231,2,FALSE)),\"\",VLOOKUP(Z197,'CODIGO PAIS'!$A$2:$B$231,2,FALSE))","v":""},"",{"$f":"IF(ISNA(VLOOKUP(AB197,Divipolas!$A$2:$B$1123,2,FALSE)),\"\",VLOOKUP(AB197,Divipolas!$A$2:$B$1123,2,FALSE))","v":""},"",{"$f":"IF(ISNA(VLOOKUP((CONCATENATE(AB197,AD197)),Divipolas!$F$2:$G$1123,2,FALSE)),\"\",VLOOKUP((CONCATENATE(AB197,AD197)),Divipolas!$F$2:$G$1123,2,FALSE))","v":""},"","","","","",{"$f":"IF(ISNA(VLOOKUP(AJ197,Divipolas!$A$2:$B$1123,2,FALSE)),\"\",VLOOKUP(AJ197,Divipolas!$A$2:$B$1123,2,FALSE))","v":""},"",{"$f":"IF(ISNA(VLOOKUP((CONCATENATE(AJ197,AL197)),Divipolas!$F$2:$G$1123,2,FALSE)),\"\",VLOOKUP((CONCATENATE(AJ197,AL197)),Divipolas!$F$2:$G$1123,2,FALSE))","v":""},"","","","","","","","","","","","","","",null,null,null,null,null,null,null,{"$f":"IF(ISNA(VLOOKUP(BH197,'CODIGO PAIS'!$A$2:$B$231,2,FALSE)),\"\",VLOOKUP(BH197,'CODIGO PAIS'!$A$2:$B$231,2,FALSE))","v":""},null,{"$f":"IF(ISNA(VLOOKUP(BJ197,Divipolas!$A$2:$B$1123,2,FALSE)),\"\",VLOOKUP(BJ197,Divipolas!$A$2:$B$1123,2,FALSE))","v":""},null,{"$f":"IF(ISNA(VLOOKUP((CONCATENATE(BJ197,BL197)),Divipolas!$F$2:$G$1123,2,FALSE)),\"\",VLOOKUP((CONCATENATE(BJ197,BL197)),Divipolas!$F$2:$G$1123,2,FALSE))","v":""},null,"","",null,null,null,null,{"$f":"IF(ISNA(VLOOKUP(BT197,Divipolas!$A$2:$B$1123,2,FALSE)),\"\",VLOOKUP(BT197,Divipolas!$A$2:$B$1123,2,FALSE))","v":""},null,{"$f":"IF(ISNA(VLOOKUP((CONCATENATE(BT197,BV197)),Divipolas!$F$2:$G$1123,2,FALSE)),\"\",VLOOKUP((CONCATENATE(BT197,BV197)),Divipolas!$F$2:$G$1123,2,FALSE))","v":""},null,null,null,null,null,null,null,null,null,null,null,null,null,null,null,null,null,null,null,null,null,null,null,"",null,null,null,null,null,null,null,null,null,null,null,null,null,null,null,null,null,null,null,null,null,null,null,null,null,null,null,null,null,null,null,null,null,null,null,null,null,null,null,null,null,null,null,null,null,null,null,null,null,null,null,null,null,null,null,null,null,null,null,null,null,null,null,null,null,null,null,null,null,null,null,null,null,null,null,null,"",null,null,null,null,null,null,null,"VERIFIQUE FECHAS",null,null,null,null,null,null,null,null,null,"VERIFIQUE COLUMNA D"]
["","",null,"",{"$f":"IFERROR(VLOOKUP(D198,'CODIGO REGIONALES'!$J$2:$L$33,3,0),\"\")","v":""},"",{"$f":"IF(ISNA(VLOOKUP(F198,Divipolas!$A$2:$B$1123,2,FALSE)),\"\",VLOOKUP(F198,Divipolas!$A$2:$B$1123,2,FALSE))","v":""},"",{"$f":"IF(ISNA(VLOOKUP((CONCATENATE(F198,H198)),Divipolas!$F$2:$G$1123,2,FALSE)),\"\",VLOOKUP((CONCATENATE(F198,H198)),Divipolas!$F$2:$G$1123,2,FALSE))","v":""},"","","","","","","","",{"$f":"IF(ISNA(VLOOKUP(Q198,Divipolas!$A$2:$B$1123,2,FALSE)),\"\",VLOOKUP(Q198,Divipolas!$A$2:$B$1123,2,FALSE))","v":""},"",{"$f":"IF(ISNA(VLOOKUP((CONCATENATE(Q198,S198)),Divipolas!$F$2:$G$1123,2,FALSE)),\"\",VLOOKUP((CONCATENATE(Q198,S198)),Divipolas!$F$2:$G$1123,2,FALSE))","v":""},"","","","","","",{"$f":"IF(ISNA(VLOOKUP(Z198,'CODIGO PAIS'!$A$2:$B$231,2,FALSE)),\"\",VLOOKUP(Z198,'CODIGO PAIS'!$A$2:$B$231,2,FALSE))","v":""},"",{"$f":"IF(ISNA(VLOOKUP(AB198,Divipolas!$A$2:$B$1123,2,FALSE)),\"\",VLOOKUP(AB198,Divipolas!$A$2:$B$1123,2,FALSE))","v":""},"",{"$f":"IF(ISNA(VLOOKUP((CONCATENATE(AB198,AD198)),Divipolas!$F$2:$G$1123,2,FALSE)),\"\",VLOOKUP((CONCATENATE(AB198,AD198)),Divipolas!$F$2:$G$1123,2,FALSE))","v":""},"","","","","",{"$f":"IF(ISNA(VLOOKUP(AJ198,Divipolas!$A$2:$B$1123,2,FALSE)),\"\",VLOOKUP(AJ198,Divipolas!$A$2:$B$1123,2,FALSE))","v":""},"",{"$f":"IF(ISNA(VLOOKUP((CONCATENATE(AJ198,AL198)),Divipolas!$F$2:$G$1123,2,FALSE)),\"\",VLOOKUP((CONCATENATE(AJ198,AL198)),Divipolas!$F$2:$G$1123,2,FALSE))","v":""},"","","","","","","","","","","","","","",null,null,null,null,null,null,null,{"$f":"IF(ISNA(VLOOKUP(BH198,'CODIGO PAIS'!$A$2:$B$231,2,FALSE)),\"\",VLOOKUP(BH198,'CODIGO PAIS'!$A$2:$B$231,2,FALSE))","v":""},null,{"$f":"IF(ISNA(VLOOKUP(BJ198,Divipolas!$A$2:$B$1123,2,FALSE)),\"\",VLOOKUP(BJ198,Divipolas!$A$2:$B$1123,2,FALSE))","v":""},null,{"$f":"IF(ISNA(VLOOKUP((CONCATENATE(BJ198,BL198)),Divipolas!$F$2:$G$1123,2,FALSE)),\"\",VLOOKUP((CONCATENATE(BJ198,BL198)),Divipolas!$F$2:$G$1123,2,FALSE))","v":""},null,"","",null,null,null,null,{"$f":"IF(ISNA(VLOOKUP(BT198,Divipolas!$A$2:$B$1123,2,FALSE)),\"\",VLOOKUP(BT198,Divipolas!$A$2:$B$1123,2,FALSE))","v":""},null,{"$f":"IF(ISNA(VLOOKUP((CONCATENATE(BT198,BV198)),Divipolas!$F$2:$G$1123,2,FALSE)),\"\",VLOOKUP((CONCATENATE(BT198,BV198)),Divipolas!$F$2:$G$1123,2,FALSE))","v":""},null,null,null,null,null,null,null,null,null,null,null,null,null,null,null,null,null,null,null,null,null,null,null,"",null,null,null,null,null,null,null,null,null,null,null,null,null,null,null,null,null,null,null,null,null,null,null,null,null,null,null,null,null,null,null,null,null,null,null,null,null,null,null,null,null,null,null,null,null,null,null,null,null,null,null,null,null,null,null,null,null,null,null,null,null,null,null,null,null,null,null,null,null,null,null,null,null,null,null,null,{"$f":"IF(C198<>\"\",(IF(AND((DATEDIF(BN198,C198,\"m\"))>=0,(DATEDIF(BN198,C198,\"m\"))<=59),INDI2,IF(CS198=\"SI\",INDI3,IF(AND((DATEDIF(BN198,C198,\"m\"))>59,(DATEDIF(BN198,C198,\"m\"))<=215),INDI4,\"\")))),\"\")","v":""},null,null,null,null,null,null,null,"VERIFIQUE FECHAS",null,null,null,null,null,null,null,null,null,"VERIFIQUE COLUMNA D"]
["","",null,"",{"$f":"IFERROR(VLOOKUP(D199,'CODIGO REGIONALES'!$J$2:$L$33,3,0),\"\")","v":""},"",{"$f":"IF(ISNA(VLOOKUP(F199,Divipolas!$A$2:$B$1123,2,FALSE)),\"\",VLOOKUP(F199,Divipolas!$A$2:$B$1123,2,FALSE))","v":""},"",{"$f":"IF(ISNA(VLOOKUP((CONCATENATE(F199,H199)),Divipolas!$F$2:$G$1123,2,FALSE)),\"\",VLOOKUP((CONCATENATE(F199,H199)),Divipolas!$F$2:$G$1123,2,FALSE))","v":""},"","","","","","","","",{"$f":"IF(ISNA(VLOOKUP(Q199,Divipolas!$A$2:$B$1123,2,FALSE)),\"\",VLOOKUP(Q199,Divipolas!$A$2:$B$1123,2,FALSE))","v":""},"",{"$f":"IF(ISNA(VLOOKUP((CONCATENATE(Q199,S199)),Divipolas!$F$2:$G$1123,2,FALSE)),\"\",VLOOKUP((CONCATENATE(Q199,S199)),Divipolas!$F$2:$G$1123,2,FALSE))","v":""},"","","","","","",{"$f":"IF(ISNA(VLOOKUP(Z199,'CODIGO PAIS'!$A$2:$B$231,2,FALSE)),\"\",VLOOKUP(Z199,'CODIGO PAIS'!$A$2:$B$231,2,FALSE))","v":""},"",{"$f":"IF(ISNA(VLOOKUP(AB199,Divipolas!$A$2:$B$1123,2,FALSE)),\"\",VLOOKUP(AB199,Divipolas!$A$2:$B$1123,2,FALSE))","v":""},"",{"$f":"IF(ISNA(VLOOKUP((CONCATENATE(AB199,AD199)),Divipolas!$F$2:$G$1123,2,FALSE)),\"\",VLOOKUP((CONCATENATE(AB199,AD199)),Divipolas!$F$2:$G$1123,2,FALSE))","v":""},"","","","","",{"$f":"IF(ISNA(VLOOKUP(AJ199,Divipolas!$A$2:$B$1123,2,FALSE)),\"\",VLOOKUP(AJ199,Divipolas!$A$2:$B$1123,2,FALSE))","v":""},"",{"$f":"IF(ISNA(VLOOKUP((CONCATENATE(AJ199,AL199)),Divipolas!$F$2:$G$1123,2,FALSE)),\"\",VLOOKUP((CONCATENATE(AJ199,AL199)),Divipolas!$F$2:$G$1123,2,FALSE))","v":""},"","","","","","","","","","","","","","",null,null,null,null,null,null,null,{"$f":"IF(ISNA(VLOOKUP(BH199,'CODIGO PAIS'!$A$2:$B$231,2,FALSE)),\"\",VLOOKUP(BH199,'CODIGO PAIS'!$A$2:$B$231,2,FALSE))","v":""},null,{"$f":"IF(ISNA(VLOOKUP(BJ199,Divipolas!$A$2:$B$1123,2,FALSE)),\"\",VLOOKUP(BJ199,Divipolas!$A$2:$B$1123,2,FALSE))","v":""},null,{"$f":"IF(ISNA(VLOOKUP((CONCATENATE(BJ199,BL199)),Divipolas!$F$2:$G$1123,2,FALSE)),\"\",VLOOKUP((CONCATENATE(BJ199,BL199)),Divipolas!$F$2:$G$1123,2,FALSE))","v":""},null,"","",null,null,null,null,{"$f":"IF(ISNA(VLOOKUP(BT199,Divipolas!$A$2:$B$1123,2,FALSE)),\"\",VLOOKUP(BT199,Divipolas!$A$2:$B$1123,2,FALSE))","v":""},null,{"$f":"IF(ISNA(VLOOKUP((CONCATENATE(BT199,BV199)),Divipolas!$F$2:$G$1123,2,FALSE)),\"\",VLOOKUP((CONCATENATE(BT199,BV199)),Divipolas!$F$2:$G$1123,2,FALSE))","v":""},null,null,null,null,null,null,null,null,null,null,null,null,null,null,null,null,null,null,null,null,null,null,null,"",null,null,null,null,null,null,null,null,null,null,null,null,null,null,null,null,null,null,null,null,null,null,null,null,null,null,null,null,null,null,null,null,null,null,null,null,null,null,null,null,null,null,null,null,null,null,null,null,null,null,null,null,null,null,null,null,null,null,null,null,null,null,null,null,null,null,null,null,null,null,null,null,null,null,null,null,"",null,null,null,null,null,null,null,{"$f":"IF(C199=\"\",\"VERIFIQUE FECHAS\",IF(BN199=\"\",\"VERIFIQUE FECHAS\",IF(AF199=\"\",\"VERIFIQUE FECHAS\",IF(C199>=BN199,\"OK\",\"VERIFIQUE FECHAS\"))))","v":"VERIFIQUE FECHAS"},null,null,null,null,null,null,null,null,null,{"$f":"IF(D199=\"\",\"VERIFIQUE COLUMNA D\",IF(F199=\"\",\"VERIFIQUE COLUMNA F\",IF(H199=\"\",\"VERIFIQUE COLUMNA H\",IF(J199=\"\",\"VERIFIQUE COLUMNA J\",IF(K199=\"\",\"VERIFIQUE COLUMNA K\",IF(N199=\"\",\"VERIFIQUE COLUMNA N\",IF(U199=\"\",\"VERIFIQUE COLUMNA U\",IF(W199=\"\",\"VERIFIQUE COLUMNA W\",IF(Y199=\"\",\"VERIFIQUE COLUMNA Y\",IF(AF199=\"\",\"VERIFIQUE COLUMNA AF\",IF(AG199=\"\",\"VERIFIQUE COLUMNA AG\",IF(BB199=\"\",\"VERIFIQUE COLUMNA BB\",IF(BC199=\"\",\"VERIFIQUE COLUMNA BC\",IF(BE199=\"\",\"VERIFIQUE COLUMNA BE\",IF(BG199=\"\",\"VERIFIQUE COLUMNA BG\",IF(BN199=\"\",\"VERIFIQUE COLUMNA BN\",IF(BQ199=\"\",\"VERIFIQUE COLUMNA BQ\",IF(BZ199=\"\",\"VERIFIQUE COLUMNA BZ\",IF(EJ199=\"\",\"VERIFIQUE COLUMNA EJ\",IF(EK199=\"\",\"VERIFIQUE COLUMNA EK\",IF(FY199=\"\",\"VERIFIQUE COLUMNA FY\",IF(GC199=\"\",\"VERIFIQUE COLUMNA GC\",IF(GE199=\"\",\"VERIFIQUE COLUMNA GE\",\"Campos o.k.\")))))))))))))))))))))))","v":"VERIFIQUE COLUMNA D"}]
["","",null,"",{"$f":"IFERROR(VLOOKUP(D200,'CODIGO REGIONALES'!$J$2:$L$33,3,0),\"\")","v":""},"",{"$f":"IF(ISNA(VLOOKUP(F200,Divipolas!$A$2:$B$1123,2,FALSE)),\"\",VLOOKUP(F200,Divipolas!$A$2:$B$1123,2,FALSE))","v":""},"",{"$f":"IF(ISNA(VLOOKUP((CONCATENATE(F200,H200)),Divipolas!$F$2:$G$1123,2,FALSE)),\"\",VLOOKUP((CONCATENATE(F200,H200)),Divipolas!$F$2:$G$1123,2,FALSE))","v":""},"",{"$f":"IF(AND($C200<>\"\",K199<>\"\"),K199,\"\")","v":""},"","","","","","",{"$f":"IF(ISNA(VLOOKUP(Q200,Divipolas!$A$2:$B$1123,2,FALSE)),\"\",VLOOKUP(Q200,Divipolas!$A$2:$B$1123,2,FALSE))","v":""},"",{"$f":"IF(ISNA(VLOOKUP((CONCATENATE(Q200,S200)),Divipolas!$F$2:$G$1123,2,FALSE)),\"\",VLOOKUP((CONCATENATE(Q200,S200)),Divipolas!$F$2:$G$1123,2,FALSE))","v":""},"","","","","","",{"$f":"IF(ISNA(VLOOKUP(Z200,'CODIGO PAIS'!$A$2:$B$231,2,FALSE)),\"\",VLOOKUP(Z200,'CODIGO PAIS'!$A$2:$B$231,2,FALSE))","v":""},"",{"$f":"IF(ISNA(VLOOKUP(AB200,Divipolas!$A$2:$B$1123,2,FALSE)),\"\",VLOOKUP(AB200,Divipolas!$A$2:$B$1123,2,FALSE))","v":""},"",{"$f":"IF(ISNA(VLOOKUP((CONCATENATE(AB200,AD200)),Divipolas!$F$2:$G$1123,2,FALSE)),\"\",VLOOKUP((CONCATENATE(AB200,AD200)),Divipolas!$F$2:$G$1123,2,FALSE))","v":""},"","","","","",{"$f":"IF(ISNA(VLOOKUP(AJ200,Divipolas!$A$2:$B$1123,2,FALSE)),\"\",VLOOKUP(AJ200,Divipolas!$A$2:$B$1123,2,FALSE))","v":""},"",{"$f":"IF(ISNA(VLOOKUP((CONCATENATE(AJ200,AL200)),Divipolas!$F$2:$G$1123,2,FALSE)),\"\",VLOOKUP((CONCATENATE(AJ200,AL200)),Divipolas!$F$2:$G$1123,2,FALSE))","v":""},"","","","","","","","","","","","","","",null,null,null,null,null,null,null,{"$f":"IF(ISNA(VLOOKUP(BH200,'CODIGO PAIS'!$A$2:$B$231,2,FALSE)),\"\",VLOOKUP(BH200,'CODIGO PAIS'!$A$2:$B$231,2,FALSE))","v":""},null,{"$f":"IF(ISNA(VLOOKUP(BJ200,Divipolas!$A$2:$B$1123,2,FALSE)),\"\",VLOOKUP(BJ200,Divipolas!$A$2:$B$1123,2,FALSE))","v":""},null,{"$f":"IF(ISNA(VLOOKUP((CONCATENATE(BJ200,BL200)),Divipolas!$F$2:$G$1123,2,FALSE)),\"\",VLOOKUP((CONCATENATE(BJ200,BL200)),Divipolas!$F$2:$G$1123,2,FALSE))","v":""},null,"","",null,null,null,null,{"$f":"IF(ISNA(VLOOKUP(BT200,Divipolas!$A$2:$B$1123,2,FALSE)),\"\",VLOOKUP(BT200,Divipolas!$A$2:$B$1123,2,FALSE))","v":""},null,{"$f":"IF(ISNA(VLOOKUP((CONCATENATE(BT200,BV200)),Divipolas!$F$2:$G$1123,2,FALSE)),\"\",VLOOKUP((CONCATENATE(BT200,BV200)),Divipolas!$F$2:$G$1123,2,FALSE))","v":""},null,null,null,null,null,null,null,null,null,null,null,null,null,null,null,null,null,null,null,null,null,null,null,"",null,null,null,null,null,null,null,null,null,null,null,null,null,null,null,null,null,null,null,null,null,null,null,null,null,null,null,null,null,null,null,null,null,null,null,null,null,null,null,null,null,null,null,null,null,null,null,null,null,null,null,null,null,null,null,null,null,null,null,null,null,null,null,null,null,null,null,null,null,null,null,null,null,null,null,null,"",null,null,null,null,null,null,null,"VERIFIQUE FECHAS",null,null,null,null,null,null,null,null,null,"VERIFIQUE COLUMNA D"]
["","",null,"",{"$f":"IFERROR(VLOOKUP(D201,'CODIGO REGIONALES'!$J$2:$L$33,3,0),\"\")","v":""},"",{"$f":"IF(ISNA(VLOOKUP(F201,Divipolas!$A$2:$B$1123,2,FALSE)),\"\",VLOOKUP(F201,Divipolas!$A$2:$B$1123,2,FALSE))","v":""},"",{"$f":"IF(ISNA(VLOOKUP((CONCATENATE(F201,H201)),Divipolas!$F$2:$G$1123,2,FALSE)),\"\",VLOOKUP((CONCATENATE(F201,H201)),Divipolas!$F$2:$G$1123,2,FALSE))","v":""},"","","","","","","","",{"$f":"IF(ISNA(VLOOKUP(Q201,Divipolas!$A$2:$B$1123,2,FALSE)),\"\",VLOOKUP(Q201,Divipolas!$A$2:$B$1123,2,FALSE))","v":""},"",{"$f":"IF(ISNA(VLOOKUP((CONCATENATE(Q201,S201)),Divipolas!$F$2:$G$1123,2,FALSE)),\"\",VLOOKUP((CONCATENATE(Q201,S201)),Divipolas!$F$2:$G$1123,2,FALSE))","v":""},"","","","","","",{"$f":"IF(ISNA(VLOOKUP(Z201,'CODIGO PAIS'!$A$2:$B$231,2,FALSE)),\"\",VLOOKUP(Z201,'CODIGO PAIS'!$A$2:$B$231,2,FALSE))","v":""},"",{"$f":"IF(ISNA(VLOOKUP(AB201,Divipolas!$A$2:$B$1123,2,FALSE)),\"\",VLOOKUP(AB201,Divipolas!$A$2:$B$1123,2,FALSE))","v":""},"",{"$f":"IF(ISNA(VLOOKUP((CONCATENATE(AB201,AD201)),Divipolas!$F$2:$G$1123,2,FALSE)),\"\",VLOOKUP((CONCATENATE(AB201,AD201)),Divipolas!$F$2:$G$1123,2,FALSE))","v":""},"","","","","",{"$f":"IF(ISNA(VLOOKUP(AJ201,Divipolas!$A$2:$B$1123,2,FALSE)),\"\",VLOOKUP(AJ201,Divipolas!$A$2:$B$1123,2,FALSE))","v":""},"",{"$f":"IF(ISNA(VLOOKUP((CONCATENATE(AJ201,AL201)),Divipolas!$F$2:$G$1123,2,FALSE)),\"\",VLOOKUP((CONCATENATE(AJ201,AL201)),Divipolas!$F$2:$G$1123,2,FALSE))","v":""},"","","","","","","","","","","","","","",null,null,null,null,null,null,null,{"$f":"IF(ISNA(VLOOKUP(BH201,'CODIGO PAIS'!$A$2:$B$231,2,FALSE)),\"\",VLOOKUP(BH201,'CODIGO PAIS'!$A$2:$B$231,2,FALSE))","v":""},null,{"$f":"IF(ISNA(VLOOKUP(BJ201,Divipolas!$A$2:$B$1123,2,FALSE)),\"\",VLOOKUP(BJ201,Divipolas!$A$2:$B$1123,2,FALSE))","v":""},null,{"$f":"IF(ISNA(VLOOKUP((CONCATENATE(BJ201,BL201)),Divipolas!$F$2:$G$1123,2,FALSE)),\"\",VLOOKUP((CONCATENATE(BJ201,BL201)),Divipolas!$F$2:$G$1123,2,FALSE))","v":""},null,"","",null,null,null,null,{"$f":"IF(ISNA(VLOOKUP(BT201,Divipolas!$A$2:$B$1123,2,FALSE)),\"\",VLOOKUP(BT201,Divipolas!$A$2:$B$1123,2,FALSE))","v":""},null,{"$f":"IF(ISNA(VLOOKUP((CONCATENATE(BT201,BV201)),Divipolas!$F$2:$G$1123,2,FALSE)),\"\",VLOOKUP((CONCATENATE(BT201,BV201)),Divipolas!$F$2:$G$1123,2,FALSE))","v":""},null,null,null,null,null,null,null,null,null,null,null,null,null,null,null,null,null,null,null,null,null,null,null,"",null,null,null,null,null,null,null,null,null,null,null,null,null,null,null,null,null,null,null,null,null,null,null,null,null,null,null,null,null,null,null,null,null,null,null,null,null,null,null,null,null,null,null,null,null,null,null,null,null,null,null,null,null,null,null,null,null,null,null,null,null,null,null,null,null,null,null,null,null,null,null,null,null,null,null,null,"",null,null,null,null,null,null,null,"VERIFIQUE FECHAS",null,null,null,null,null,null,null,null,null,"VERIFIQUE COLUMNA D"]
["",{"$f":"IF(AND($B$6<>\"\",C202<>\"\"),$B$6,\"\")","v":""},null,"",{"$f":"IFERROR(VLOOKUP(D202,'CODIGO REGIONALES'!$J$2:$L$33,3,0),\"\")","v":""},"",{"$f":"IF(ISNA(VLOOKUP(F202,Divipolas!$A$2:$B$1123,2,FALSE)),\"\",VLOOKUP(F202,Divipolas!$A$2:$B$1123,2,FALSE))","v":""},"",{"$f":"IF(ISNA(VLOOKUP((CONCATENATE(F202,H202)),Divipolas!$F$2:$G$1123,2,FALSE)),\"\",VLOOKUP((CONCATENATE(F202,H202)),Divipolas!$F$2:$G$1123,2,FALSE))","v":""},"","","","","","","","",{"$f":"IF(ISNA(VLOOKUP(Q202,Divipolas!$A$2:$B$1123,2,FALSE)),\"\",VLOOKUP(Q202,Divipolas!$A$2:$B$1123,2,FALSE))","v":""},"",{"$f":"IF(ISNA(VLOOKUP((CONCATENATE(Q202,S202)),Divipolas!$F$2:$G$1123,2,FALSE)),\"\",VLOOKUP((CONCATENATE(Q202,S202)),Divipolas!$F$2:$G$1123,2,FALSE))","v":""},"","","","","","",{"$f":"IF(ISNA(VLOOKUP(Z202,'CODIGO PAIS'!$A$2:$B$231,2,FALSE)),\"\",VLOOKUP(Z202,'CODIGO PAIS'!$A$2:$B$231,2,FALSE))","v":""},"",{"$f":"IF(ISNA(VLOOKUP(AB202,Divipolas!$A$2:$B$1123,2,FALSE)),\"\",VLOOKUP(AB202,Divipolas!$A$2:$B$1123,2,FALSE))","v":""},"",{"$f":"IF(ISNA(VLOOKUP((CONCATENATE(AB202,AD202)),Divipolas!$F$2:$G$1123,2,FALSE)),\"\",VLOOKUP((CONCATENATE(AB202,AD202)),Divipolas!$F$2:$G$1123,2,FALSE))","v":""},"","","","","",{"$f":"IF(ISNA(VLOOKUP(AJ202,Divipolas!$A$2:$B$1123,2,FALSE)),\"\",VLOOKUP(AJ202,Divipolas!$A$2:$B$1123,2,FALSE))","v":""},"",{"$f":"IF(ISNA(VLOOKUP((CONCATENATE(AJ202,AL202)),Divipolas!$F$2:$G$1123,2,FALSE)),\"\",VLOOKUP((CONCATENATE(AJ202,AL202)),Divipolas!$F$2:$G$1123,2,FALSE))","v":""},"","","","","","","","","","","","","","",null,null,null,null,null,null,null,{"$f":"IF(ISNA(VLOOKUP(BH202,'CODIGO PAIS'!$A$2:$B$231,2,FALSE)),\"\",VLOOKUP(BH202,'CODIGO PAIS'!$A$2:$B$231,2,FALSE))","v":""},null,{"$f":"IF(ISNA(VLOOKUP(BJ202,Divipolas!$A$2:$B$1123,2,FALSE)),\"\",VLOOKUP(BJ202,Divipolas!$A$2:$B$1123,2,FALSE))","v":""},null,{"$f":"IF(ISNA(VLOOKUP((CONCATENATE(BJ202,BL202)),Divipolas!$F$2:$G$1123,2,FALSE)),\"\",VLOOKUP((CONCATENATE(BJ202,BL202)),Divipolas!$F$2:$G$1123,2,FALSE))","v":""},null,"","",null,null,null,null,{"$f":"IF(ISNA(VLOOKUP(BT202,Divipolas!$A$2:$B$1123,2,FALSE)),\"\",VLOOKUP(BT202,Divipolas!$A$2:$B$1123,2,FALSE))","v":""},null,{"$f":"IF(ISNA(VLOOKUP((CONCATENATE(BT202,BV202)),Divipolas!$F$2:$G$1123,2,FALSE)),\"\",VLOOKUP((CONCATENATE(BT202,BV202)),Divipolas!$F$2:$G$1123,2,FALSE))","v":""},null,null,null,null,null,null,null,null,null,null,null,null,null,null,null,null,null,null,null,null,null,null,null,"",null,null,null,null,null,null,null,null,null,null,null,null,null,null,null,null,null,null,null,null,null,null,null,null,null,null,null,null,null,null,null,null,null,null,null,null,null,null,null,null,null,null,null,null,null,null,null,null,null,null,null,null,null,null,null,null,null,null,null,null,null,null,null,null,null,null,null,null,null,null,null,null,null,null,null,null,"",null,null,null,null,null,null,null,"VERIFIQUE FECHAS",null,null,null,null,null,null,null,null,null,"VERIFIQUE COLUMNA D"]
[{"$f":"IF(C203<>\"\",A202+1,\"\")","v":""},"",null,{"$f":"IF(AND(C203<>\"\",D202<>\"\"),D202,\"\")","v":""},{"$f":"IFERROR(VLOOKUP(D203,'CODIGO REGIONALES'!$J$2:$L$33,3,0),\"\")","v":""},{"$f":"IF(AND(C203<>\"\",F202<>\"\"),F202,\"\")","v":""},{"$f":"IF(ISNA(VLOOKUP(F203,Divipolas!$A$2:$B$1123,2,FALSE)),\"\",VLOOKUP(F203,Divipolas!$A$2:$B$1123,2,FALSE))","v":""},{"$f":"IF(AND(C203<>\"\",H202<>\"\"),H202,\"\")","v":""},{"$f":"IF(ISNA(VLOOKUP((CONCATENATE(F203,H203)),Divipolas!$F$2:$G$1123,2,FALSE)),\"\",VLOOKUP((CONCATENATE(F203,H203)),Divipolas!$F$2:$G$1123,2,FALSE))","v":""},{"$f":"IF(AND(C203<>\"\",J202<>\"\"),J202,\"\")","v":""},"","","","","","","",{"$f":"IF(ISNA(VLOOKUP(Q203,Divipolas!$A$2:$B$1123,2,FALSE)),\"\",VLOOKUP(Q203,Divipolas!$A$2:$B$1123,2,FALSE))","v":""},{"$f":"IF(AND($C203<>\"\",S202<>\"\"),S202,\"\")","v":""},{"$f":"IF(ISNA(VLOOKUP((CONCATENATE(Q203,S203)),Divipolas!$F$2:$G$1123,2,FALSE)),\"\",VLOOKUP((CONCATENATE(Q203,S203)),Divipolas!$F$2:$G$1123,2,FALSE))","v":""},{"$f":"IF(AND(BC203<>\"\",U202<>\"\"),U202,\"\")","v":""},{"$f":"IF(AND(BC203<>\"\",V202<>\"\"),V202,\"\")","v":""},{"$f":"IF(AND(BC203<>\"\",W202<>\"\"),W202,\"\")","v":""},{"$f":"IF(AND(BC203<>\"\",X202<>\"\"),X202,\"\")","v":""},{"$f":"IF(AND(BC203<>\"\",Y202<>\"\"),Y202,\"\")","v":""},{"$f":"IF(AND(BC203<>\"\",Z202<>\"\"),Z202,\"\")","v":""},{"$f":"IF(ISNA(VLOOKUP(Z203,'CODIGO PAIS'!$A$2:$B$231,2,FALSE)),\"\",VLOOKUP(Z203,'CODIGO PAIS'!$A$2:$B$231,2,FALSE))","v":""},{"$f":"IF(AND(BC203<>\"\",AB202<>\"\"),AB202,\"\")","v":""},{"$f":"IF(ISNA(VLOOKUP(AB203,Divipolas!$A$2:$B$1123,2,FALSE)),\"\",VLOOKUP(AB203,Divipolas!$A$2:$B$1123,2,FALSE))","v":""},{"$f":"IF(AND(BC203<>\"\",AD202<>\"\"),AD202,\"\")","v":""},{"$f":"IF(ISNA(VLOOKUP((CONCATENATE(AB203,AD203)),Divipolas!$F$2:$G$1123,2,FALSE)),\"\",VLOOKUP((CONCATENATE(AB203,AD203)),Divipolas!$F$2:$G$1123,2,FALSE))","v":""},{"$f":"IF(AND(BC203<>\"\",AF202<>\"\"),AF202,\"\")","v":""},{"$f":"IF(AND(BC203<>\"\",AG202<>\"\"),AG202,\"\")","v":""},{"$f":"IF(AND(BC203<>\"\",AH202<>\"\"),AH202,\"\")","v":""},{"$f":"IF(AND(BC203<>\"\",AI202<>\"\"),AI202,\"\")","v":""},{"$f":"IF(AND(BC203<>\"\",AJ202<>\"\"),AJ202,\"\")","v":""},{"$f":"IF(ISNA(VLOOKUP(AJ203,Divipolas!$A$2:$B$1123,2,FALSE)),\"\",VLOOKUP(AJ203,Divipolas!$A$2:$B$1123,2,FALSE))","v":""},{"$f":"IF(AND(BC203<>\"\",AL202<>\"\"),AL202,\"\")","v":""},{"$f":"IF(ISNA(VLOOKUP((CONCATENATE(AJ203,AL203)),Divipolas!$F$2:$G$1123,2,FALSE)),\"\",VLOOKUP((CONCATENATE(AJ203,AL203)),Divipolas!$F$2:$G$1123,2,FALSE))","v":""},{"$f":"IF(AND(BC203<>\"\",AN202<>\"\"),AN202,\"\")","v":""},{"$f":"IF(AND(BC203<>\"\",AO202<>\"\"),AO202,\"\")","v":""},{"$f":"IF(AND(BC203<>\"\",AP202<>\"\"),AP202,\"\")","v":""},{"$f":"IF(AND(BC203<>\"\",AQ202<>\"\"),AQ202,\"\")","v":""},{"$f":"IF(AND(BC203<>\"\",AR202<>\"\"),AR202,\"\")","v":""},{"$f":"IF(AND(BC203<>\"\",AS202<>\"\"),AS202,\"\")","v":""},{"$f":"IF(AND(BC203<>\"\",AT202<>\"\"),AT202,\"\")","v":""},{"$f":"IF(AND($BC203<>\"\",AU202<>\"\"),AU202,\"\")","v":""},{"$f":"IF(AND(BC203<>\"\",AV202<>\"\"),AV202,\"\")","v":""},{"$f":"IF(AND(BC203<>\"\",AW202<>\"\"),AW202,\"\")","v":""},{"$f":"IF(AND(BC203<>\"\",AX202<>\"\"),AX202,\"\")","v":""},{"$f":"IF(AND(BC203<>\"\",AY202<>\"\"),AY202,\"\")","v":""},{"$f":"IF(AND(BC203<>\"\",AZ202<>\"\"),AZ202,\"\")","v":""},{"$f":"IF(AND(BC203<>\"\",BA202<>\"\"),BA202,\"\")","v":""},null,null,null,null,null,null,null,{"$f":"IF(ISNA(VLOOKUP(BH203,'CODIGO PAIS'!$A$2:$B$231,2,FALSE)),\"\",VLOOKUP(BH203,'CODIGO PAIS'!$A$2:$B$231,2,FALSE))","v":""},null,{"$f":"IF(ISNA(VLOOKUP(BJ203,Divipolas!$A$2:$B$1123,2,FALSE)),\"\",VLOOKUP(BJ203,Divipolas!$A$2:$B$1123,2,FALSE))","v":""},null,{"$f":"IF(ISNA(VLOOKUP((CONCATENATE(BJ203,BL203)),Divipolas!$F$2:$G$1123,2,FALSE)),\"\",VLOOKUP((CONCATENATE(BJ203,BL203)),Divipolas!$F$2:$G$1123,2,FALSE))","v":""},null,{"$f":"IF(OR(C203=\"\",BN203=\"\"),\"\",DATEDIF(BN203,C203,\"y\"))","v":""},{"$f":"IF(OR(C203=\"\",BN203=\"\"),\"\",DATEDIF(BN203,C203,\"ym\"))","v":""},null,null,null,null,{"$f":"IF(ISNA(VLOOKUP(BT203,Divipolas!$A$2:$B$1123,2,FALSE)),\"\",VLOOKUP(BT203,Divipolas!$A$2:$B$1123,2,FALSE))","v":""},null,{"$f":"IF(ISNA(VLOOKUP((CONCATENATE(BT203,BV203)),Divipolas!$F$2:$G$1123,2,FALSE)),\"\",VLOOKUP((CONCATENATE(BT203,BV203)),Divipolas!$F$2:$G$1123,2,FALSE))","v":""},null,null,null,null,null,null,null,null,null,null,null,null,null,null,null,null,null,null,null,null,null,null,null,{"$f":"IF(OR(BG203=\"\",BO203=\"\"),\"\",IF(AND(BG203=\"F\",BO203>=52),\"SI\",IF(AND(BG203=\"M\",BO203>=57),\"SI\",\"NO\")))","v":""},null,null,null,null,null,null,null,null,null,null,null,null,null,null,null,null,null,null,null,null,null,null,null,null,null,null,null,null,null,null,null,null,null,null,null,null,null,null,null,null,null,null,null,null,null,null,null,null,null,null,null,null,null,null,null,null,null,null,null,null,null,null,null,null,null,null,null,null,null,null,null,null,null,null,null,null,"",null,null,null,null,null,null,null,"VERIFIQUE FECHAS",null,null,null,null,null,null,null,null,null,"VERIFIQUE COLUMNA D"]
["","",null,"",{"$f":"IFERROR(VLOOKUP(D204,'CODIGO REGIONALES'!$J$2:$L$33,3,0),\"\")","v":""},"",{"$f":"IF(ISNA(VLOOKUP(F204,Divipolas!$A$2:$B$1123,2,FALSE)),\"\",VLOOKUP(F204,Divipolas!$A$2:$B$1123,2,FALSE))","v":""},"",{"$f":"IF(ISNA(VLOOKUP((CONCATENATE(F204,H204)),Divipolas!$F$2:$G$1123,2,FALSE)),\"\",VLOOKUP((CONCATENATE(F204,H204)),Divipolas!$F$2:$G$1123,2,FALSE))","v":""},"","","","","","","","",{"$f":"IF(ISNA(VLOOKUP(Q204,Divipolas!$A$2:$B$1123,2,FALSE)),\"\",VLOOKUP(Q204,Divipolas!$A$2:$B$1123,2,FALSE))","v":""},"",{"$f":"IF(ISNA(VLOOKUP((CONCATENATE(Q204,S204)),Divipolas!$F$2:$G$1123,2,FALSE)),\"\",VLOOKUP((CONCATENATE(Q204,S204)),Divipolas!$F$2:$G$1123,2,FALSE))","v":""},"","","","","","",{"$f":"IF(ISNA(VLOOKUP(Z204,'CODIGO PAIS'!$A$2:$B$231,2,FALSE)),\"\",VLOOKUP(Z204,'CODIGO PAIS'!$A$2:$B$231,2,FALSE))","v":""},"",{"$f":"IF(ISNA(VLOOKUP(AB204,Divipolas!$A$2:$B$1123,2,FALSE)),\"\",VLOOKUP(AB204,Divipolas!$A$2:$B$1123,2,FALSE))","v":""},"",{"$f":"IF(ISNA(VLOOKUP((CONCATENATE(AB204,AD204)),Divipolas!$F$2:$G$1123,2,FALSE)),\"\",VLOOKUP((CONCATENATE(AB204,AD204)),Divipolas!$F$2:$G$1123,2,FALSE))","v":""},"","","","","",{"$f":"IF(ISNA(VLOOKUP(AJ204,Divipolas!$A$2:$B$1123,2,FALSE)),\"\",VLOOKUP(AJ204,Divipolas!$A$2:$B$1123,2,FALSE))","v":""},"",{"$f":"IF(ISNA(VLOOKUP((CONCATENATE(AJ204,AL204)),Divipolas!$F$2:$G$1123,2,FALSE)),\"\",VLOOKUP((CONCATENATE(AJ204,AL204)),Divipolas!$F$2:$G$1123,2,FALSE))","v":""},"","","","","","","","","","","","","","",null,null,null,null,null,null,null,{"$f":"IF(ISNA(VLOOKUP(BH204,'CODIGO PAIS'!$A$2:$B$231,2,FALSE)),\"\",VLOOKUP(BH204,'CODIGO PAIS'!$A$2:$B$231,2,FALSE))","v":""},null,{"$f":"IF(ISNA(VLOOKUP(BJ204,Divipolas!$A$2:$B$1123,2,FALSE)),\"\",VLOOKUP(BJ204,Divipolas!$A$2:$B$1123,2,FALSE))","v":""},null,{"$f":"IF(ISNA(VLOOKUP((CONCATENATE(BJ204,BL204)),Divipolas!$F$2:$G$1123,2,FALSE)),\"\",VLOOKUP((CONCATENATE(BJ204,BL204)),Divipolas!$F$2:$G$1123,2,FALSE))","v":""},null,"","",null,null,null,null,{"$f":"IF(ISNA(VLOOKUP(BT204,Divipolas!$A$2:$B$1123,2,FALSE)),\"\",VLOOKUP(BT204,Divipolas!$A$2:$B$1123,2,FALSE))","v":""},null,{"$f":"IF(ISNA(VLOOKUP((CONCATENATE(BT204,BV204)),Divipolas!$F$2:$G$1123,2,FALSE)),\"\",VLOOKUP((CONCATENATE(BT204,BV204)),Divipolas!$F$2:$G$1123,2,FALSE))","v":""},null,null,null,null,null,null,null,null,null,null,null,null,null,null,null,null,null,null,null,null,null,null,null,"",null,null,null,null,null,null,null,null,null,null,null,null,null,null,null,null,null,null,null,null,null,null,null,null,null,null,null,null,null,null,null,null,null,null,null,null,null,null,null,null,null,null,null,null,null,null,null,null,null,null,null,null,null,null,null,null,null,null,null,null,null,null,null,null,null,null,null,null,null,null,null,null,null,null,null,null,"",null,null,null,null,null,null,null,"VERIFIQUE FECHAS",null,null,null,null,null,null,null,null,null,"VERIFIQUE COLUMNA D"]
["","",null,"",{"$f":"IFERROR(VLOOKUP(D205,'CODIGO REGIONALES'!$J$2:$L$33,3,0),\"\")","v":""},"",{"$f":"IF(ISNA(VLOOKUP(F205,Divipolas!$A$2:$B$1123,2,FALSE)),\"\",VLOOKUP(F205,Divipolas!$A$2:$B$1123,2,FALSE))","v":""},"",{"$f":"IF(ISNA(VLOOKUP((CONCATENATE(F205,H205)),Divipolas!$F$2:$G$1123,2,FALSE)),\"\",VLOOKUP((CONCATENATE(F205,H205)),Divipolas!$F$2:$G$1123,2,FALSE))","v":""},"","","","","","","","",{"$f":"IF(ISNA(VLOOKUP(Q205,Divipolas!$A$2:$B$1123,2,FALSE)),\"\",VLOOKUP(Q205,Divipolas!$A$2:$B$1123,2,FALSE))","v":""},"",{"$f":"IF(ISNA(VLOOKUP((CONCATENATE(Q205,S205)),Divipolas!$F$2:$G$1123,2,FALSE)),\"\",VLOOKUP((CONCATENATE(Q205,S205)),Divipolas!$F$2:$G$1123,2,FALSE))","v":""},"","","","","","",{"$f":"IF(ISNA(VLOOKUP(Z205,'CODIGO PAIS'!$A$2:$B$231,2,FALSE)),\"\",VLOOKUP(Z205,'CODIGO PAIS'!$A$2:$B$231,2,FALSE))","v":""},"",{"$f":"IF(ISNA(VLOOKUP(AB205,Divipolas!$A$2:$B$1123,2,FALSE)),\"\",VLOOKUP(AB205,Divipolas!$A$2:$B$1123,2,FALSE))","v":""},"",{"$f":"IF(ISNA(VLOOKUP((CONCATENATE(AB205,AD205)),Divipolas!$F$2:$G$1123,2,FALSE)),\"\",VLOOKUP((CONCATENATE(AB205,AD205)),Divipolas!$F$2:$G$1123,2,FALSE))","v":""},"","","","","",{"$f":"IF(ISNA(VLOOKUP(AJ205,Divipolas!$A$2:$B$1123,2,FALSE)),\"\",VLOOKUP(AJ205,Divipolas!$A$2:$B$1123,2,FALSE))","v":""},"",{"$f":"IF(ISNA(VLOOKUP((CONCATENATE(AJ205,AL205)),Divipolas!$F$2:$G$1123,2,FALSE)),\"\",VLOOKUP((CONCATENATE(AJ205,AL205)),Divipolas!$F$2:$G$1123,2,FALSE))","v":""},"","","","","","","","","","","","","","",null,null,null,null,null,null,null,{"$f":"IF(ISNA(VLOOKUP(BH205,'CODIGO PAIS'!$A$2:$B$231,2,FALSE)),\"\",VLOOKUP(BH205,'CODIGO PAIS'!$A$2:$B$231,2,FALSE))","v":""},null,{"$f":"IF(ISNA(VLOOKUP(BJ205,Divipolas!$A$2:$B$1123,2,FALSE)),\"\",VLOOKUP(BJ205,Divipolas!$A$2:$B$1123,2,FALSE))","v":""},null,{"$f":"IF(ISNA(VLOOKUP((CONCATENATE(BJ205,BL205)),Divipolas!$F$2:$G$1123,2,FALSE)),\"\",VLOOKUP((CONCATENATE(BJ205,BL205)),Divipolas!$F$2:$G$1123,2,FALSE))","v":""},null,"","",null,null,null,null,{"$f":"IF(ISNA(VLOOKUP(BT205,Divipolas!$A$2:$B$1123,2,FALSE)),\"\",VLOOKUP(BT205,Divipolas!$A$2:$B$1123,2,FALSE))","v":""},null,{"$f":"IF(ISNA(VLOOKUP((CONCATENATE(BT205,BV205)),Divipolas!$F$2:$G$1123,2,FALSE)),\"\",VLOOKUP((CONCATENATE(BT205,BV205)),Divipolas!$F$2:$G$1123,2,FALSE))","v":""},null,null,null,null,null,null,null,null,null,null,null,null,null,null,null,null,null,null,null,null,null,null,null,"",null,null,null,null,null,null,null,null,null,null,null,null,null,null,null,null,null,null,null,null,null,null,null,null,null,null,null,null,null,null,null,null,null,null,null,null,null,null,null,null,null,null,null,null,null,null,null,null,null,null,null,null,null,null,null,null,null,null,null,null,null,null,null,null,null,null,null,null,null,null,null,null,null,null,null,null,"",null,null,null,null,null,null,null,"VERIFIQUE FECHAS",null,null,null,null,null,null,null,null,null,"VERIFIQUE COLUMNA D"]
["","",null,"",{"$f":"IFERROR(VLOOKUP(D206,'CODIGO REGIONALES'!$J$2:$L$33,3,0),\"\")","v":""},"",{"$f":"IF(ISNA(VLOOKUP(F206,Divipolas!$A$2:$B$1123,2,FALSE)),\"\",VLOOKUP(F206,Divipolas!$A$2:$B$1123,2,FALSE))","v":""},"",{"$f":"IF(ISNA(VLOOKUP((CONCATENATE(F206,H206)),Divipolas!$F$2:$G$1123,2,FALSE)),\"\",VLOOKUP((CONCATENATE(F206,H206)),Divipolas!$F$2:$G$1123,2,FALSE))","v":""},"","","","","","","","",{"$f":"IF(ISNA(VLOOKUP(Q206,Divipolas!$A$2:$B$1123,2,FALSE)),\"\",VLOOKUP(Q206,Divipolas!$A$2:$B$1123,2,FALSE))","v":""},"",{"$f":"IF(ISNA(VLOOKUP((CONCATENATE(Q206,S206)),Divipolas!$F$2:$G$1123,2,FALSE)),\"\",VLOOKUP((CONCATENATE(Q206,S206)),Divipolas!$F$2:$G$1123,2,FALSE))","v":""},"","","","","","",{"$f":"IF(ISNA(VLOOKUP(Z206,'CODIGO PAIS'!$A$2:$B$231,2,FALSE)),\"\",VLOOKUP(Z206,'CODIGO PAIS'!$A$2:$B$231,2,FALSE))","v":""},"",{"$f":"IF(ISNA(VLOOKUP(AB206,Divipolas!$A$2:$B$1123,2,FALSE)),\"\",VLOOKUP(AB206,Divipolas!$A$2:$B$1123,2,FALSE))","v":""},"",{"$f":"IF(ISNA(VLOOKUP((CONCATENATE(AB206,AD206)),Divipolas!$F$2:$G$1123,2,FALSE)),\"\",VLOOKUP((CONCATENATE(AB206,AD206)),Divipolas!$F$2:$G$1123,2,FALSE))","v":""},"","","","","",{"$f":"IF(ISNA(VLOOKUP(AJ206,Divipolas!$A$2:$B$1123,2,FALSE)),\"\",VLOOKUP(AJ206,Divipolas!$A$2:$B$1123,2,FALSE))","v":""},"",{"$f":"IF(ISNA(VLOOKUP((CONCATENATE(AJ206,AL206)),Divipolas!$F$2:$G$1123,2,FALSE)),\"\",VLOOKUP((CONCATENATE(AJ206,AL206)),Divipolas!$F$2:$G$1123,2,FALSE))","v":""},"","","","","","","","","","","","","","",null,null,null,null,null,null,null,{"$f":"IF(ISNA(VLOOKUP(BH206,'CODIGO PAIS'!$A$2:$B$231,2,FALSE)),\"\",VLOOKUP(BH206,'CODIGO PAIS'!$A$2:$B$231,2,FALSE))","v":""},null,{"$f":"IF(ISNA(VLOOKUP(BJ206,Divipolas!$A$2:$B$1123,2,FALSE)),\"\",VLOOKUP(BJ206,Divipolas!$A$2:$B$1123,2,FALSE))","v":""},null,{"$f":"IF(ISNA(VLOOKUP((CONCATENATE(BJ206,BL206)),Divipolas!$F$2:$G$1123,2,FALSE)),\"\",VLOOKUP((CONCATENATE(BJ206,BL206)),Divipolas!$F$2:$G$1123,2,FALSE))","v":""},null,"","",null,null,null,null,{"$f":"IF(ISNA(VLOOKUP(BT206,Divipolas!$A$2:$B$1123,2,FALSE)),\"\",VLOOKUP(BT206,Divipolas!$A$2:$B$1123,2,FALSE))","v":""},null,{"$f":"IF(ISNA(VLOOKUP((CONCATENATE(BT206,BV206)),Divipolas!$F$2:$G$1123,2,FALSE)),\"\",VLOOKUP((CONCATENATE(BT206,BV206)),Divipolas!$F$2:$G$1123,2,FALSE))","v":""},null,null,null,null,null,null,null,null,null,null,null,null,null,null,null,null,null,null,null,null,null,null,null,"",null,null,null,null,null,null,null,null,null,null,null,null,null,null,null,null,null,null,null,null,null,null,null,null,null,null,null,null,null,null,null,null,null,null,null,null,null,null,null,null,null,null,null,null,null,null,null,null,null,null,null,null,null,null,null,null,null,null,null,null,null,null,null,null,null,null,null,null,null,null,null,null,null,null,null,null,"",null,null,null,null,null,null,null,"VERIFIQUE FECHAS",null,null,null,null,null,null,null,null,null,"VERIFIQUE COLUMNA D"]
["","",null,"",{"$f":"IFERROR(VLOOKUP(D207,'CODIGO REGIONALES'!$J$2:$L$33,3,0),\"\")","v":""},"",{"$f":"IF(ISNA(VLOOKUP(F207,Divipolas!$A$2:$B$1123,2,FALSE)),\"\",VLOOKUP(F207,Divipolas!$A$2:$B$1123,2,FALSE))","v":""},"",{"$f":"IF(ISNA(VLOOKUP((CONCATENATE(F207,H207)),Divipolas!$F$2:$G$1123,2,FALSE)),\"\",VLOOKUP((CONCATENATE(F207,H207)),Divipolas!$F$2:$G$1123,2,FALSE))","v":""},"","","","","","","","",{"$f":"IF(ISNA(VLOOKUP(Q207,Divipolas!$A$2:$B$1123,2,FALSE)),\"\",VLOOKUP(Q207,Divipolas!$A$2:$B$1123,2,FALSE))","v":""},"",{"$f":"IF(ISNA(VLOOKUP((CONCATENATE(Q207,S207)),Divipolas!$F$2:$G$1123,2,FALSE)),\"\",VLOOKUP((CONCATENATE(Q207,S207)),Divipolas!$F$2:$G$1123,2,FALSE))","v":""},"","","","","","",{"$f":"IF(ISNA(VLOOKUP(Z207,'CODIGO PAIS'!$A$2:$B$231,2,FALSE)),\"\",VLOOKUP(Z207,'CODIGO PAIS'!$A$2:$B$231,2,FALSE))","v":""},"",{"$f":"IF(ISNA(VLOOKUP(AB207,Divipolas!$A$2:$B$1123,2,FALSE)),\"\",VLOOKUP(AB207,Divipolas!$A$2:$B$1123,2,FALSE))","v":""},"",{"$f":"IF(ISNA(VLOOKUP((CONCATENATE(AB207,AD207)),Divipolas!$F$2:$G$1123,2,FALSE)),\"\",VLOOKUP((CONCATENATE(AB207,AD207)),Divipolas!$F$2:$G$1123,2,FALSE))","v":""},"","","","","",{"$f":"IF(ISNA(VLOOKUP(AJ207,Divipolas!$A$2:$B$1123,2,FALSE)),\"\",VLOOKUP(AJ207,Divipolas!$A$2:$B$1123,2,FALSE))","v":""},"",{"$f":"IF(ISNA(VLOOKUP((CONCATENATE(AJ207,AL207)),Divipolas!$F$2:$G$1123,2,FALSE)),\"\",VLOOKUP((CONCATENATE(AJ207,AL207)),Divipolas!$F$2:$G$1123,2,FALSE))","v":""},"","","","","","","","","","","","","","",null,null,null,null,null,null,null,{"$f":"IF(ISNA(VLOOKUP(BH207,'CODIGO PAIS'!$A$2:$B$231,2,FALSE)),\"\",VLOOKUP(BH207,'CODIGO PAIS'!$A$2:$B$231,2,FALSE))","v":""},null,{"$f":"IF(ISNA(VLOOKUP(BJ207,Divipolas!$A$2:$B$1123,2,FALSE)),\"\",VLOOKUP(BJ207,Divipolas!$A$2:$B$1123,2,FALSE))","v":""},null,{"$f":"IF(ISNA(VLOOKUP((CONCATENATE(BJ207,BL207)),Divipolas!$F$2:$G$1123,2,FALSE)),\"\",VLOOKUP((CONCATENATE(BJ207,BL207)),Divipolas!$F$2:$G$1123,2,FALSE))","v":""},null,"","",null,null,null,null,{"$f":"IF(ISNA(VLOOKUP(BT207,Divipolas!$A$2:$B$1123,2,FALSE)),\"\",VLOOKUP(BT207,Divipolas!$A$2:$B$1123,2,FALSE))","v":""},null,{"$f":"IF(ISNA(VLOOKUP((CONCATENATE(BT207,BV207)),Divipolas!$F$2:$G$1123,2,FALSE)),\"\",VLOOKUP((CONCATENATE(BT207,BV207)),Divipolas!$F$2:$G$1123,2,FALSE))","v":""},null,null,null,null,null,null,null,null,null,null,null,null,null,null,null,null,null,null,null,null,null,null,null,"",null,null,null,null,null,null,null,null,null,null,null,null,null,null,null,null,null,null,null,null,null,null,null,null,null,null,null,null,null,null,null,null,null,null,null,null,null,null,null,null,null,null,null,null,null,null,null,null,null,null,null,null,null,null,null,null,null,null,null,null,null,null,null,null,null,null,null,null,null,null,null,null,null,null,null,null,"",null,null,null,null,null,null,null,"VERIFIQUE FECHAS",null,null,null,null,null,null,null,null,null,"VERIFIQUE COLUMNA D"]
["","",null,"",{"$f":"IFERROR(VLOOKUP(D208,'CODIGO REGIONALES'!$J$2:$L$33,3,0),\"\")","v":""},"",{"$f":"IF(ISNA(VLOOKUP(F208,Divipolas!$A$2:$B$1123,2,FALSE)),\"\",VLOOKUP(F208,Divipolas!$A$2:$B$1123,2,FALSE))","v":""},"",{"$f":"IF(ISNA(VLOOKUP((CONCATENATE(F208,H208)),Divipolas!$F$2:$G$1123,2,FALSE)),\"\",VLOOKUP((CONCATENATE(F208,H208)),Divipolas!$F$2:$G$1123,2,FALSE))","v":""},"","","","","","","","",{"$f":"IF(ISNA(VLOOKUP(Q208,Divipolas!$A$2:$B$1123,2,FALSE)),\"\",VLOOKUP(Q208,Divipolas!$A$2:$B$1123,2,FALSE))","v":""},"",{"$f":"IF(ISNA(VLOOKUP((CONCATENATE(Q208,S208)),Divipolas!$F$2:$G$1123,2,FALSE)),\"\",VLOOKUP((CONCATENATE(Q208,S208)),Divipolas!$F$2:$G$1123,2,FALSE))","v":""},"","","","","","",{"$f":"IF(ISNA(VLOOKUP(Z208,'CODIGO PAIS'!$A$2:$B$231,2,FALSE)),\"\",VLOOKUP(Z208,'CODIGO PAIS'!$A$2:$B$231,2,FALSE))","v":""},"",{"$f":"IF(ISNA(VLOOKUP(AB208,Divipolas!$A$2:$B$1123,2,FALSE)),\"\",VLOOKUP(AB208,Divipolas!$A$2:$B$1123,2,FALSE))","v":""},"",{"$f":"IF(ISNA(VLOOKUP((CONCATENATE(AB208,AD208)),Divipolas!$F$2:$G$1123,2,FALSE)),\"\",VLOOKUP((CONCATENATE(AB208,AD208)),Divipolas!$F$2:$G$1123,2,FALSE))","v":""},"","","","","",{"$f":"IF(ISNA(VLOOKUP(AJ208,Divipolas!$A$2:$B$1123,2,FALSE)),\"\",VLOOKUP(AJ208,Divipolas!$A$2:$B$1123,2,FALSE))","v":""},"",{"$f":"IF(ISNA(VLOOKUP((CONCATENATE(AJ208,AL208)),Divipolas!$F$2:$G$1123,2,FALSE)),\"\",VLOOKUP((CONCATENATE(AJ208,AL208)),Divipolas!$F$2:$G$1123,2,FALSE))","v":""},"","","","","","","","","","","","","","",null,null,null,null,null,null,null,{"$f":"IF(ISNA(VLOOKUP(BH208,'CODIGO PAIS'!$A$2:$B$231,2,FALSE)),\"\",VLOOKUP(BH208,'CODIGO PAIS'!$A$2:$B$231,2,FALSE))","v":""},null,{"$f":"IF(ISNA(VLOOKUP(BJ208,Divipolas!$A$2:$B$1123,2,FALSE)),\"\",VLOOKUP(BJ208,Divipolas!$A$2:$B$1123,2,FALSE))","v":""},null,{"$f":"IF(ISNA(VLOOKUP((CONCATENATE(BJ208,BL208)),Divipolas!$F$2:$G$1123,2,FALSE)),\"\",VLOOKUP((CONCATENATE(BJ208,BL208)),Divipolas!$F$2:$G$1123,2,FALSE))","v":""},null,"","",null,null,null,null,{"$f":"IF(ISNA(VLOOKUP(BT208,Divipolas!$A$2:$B$1123,2,FALSE)),\"\",VLOOKUP(BT208,Divipolas!$A$2:$B$1123,2,FALSE))","v":""},null,{"$f":"IF(ISNA(VLOOKUP((CONCATENATE(BT208,BV208)),Divipolas!$F$2:$G$1123,2,FALSE)),\"\",VLOOKUP((CONCATENATE(BT208,BV208)),Divipolas!$F$2:$G$1123,2,FALSE))","v":""},null,null,null,null,null,null,null,null,null,null,null,null,null,null,null,null,null,null,null,null,null,null,null,"",null,null,null,null,null,null,null,null,null,null,null,null,null,null,null,null,null,null,null,null,null,null,null,null,null,null,null,null,null,null,null,null,null,null,null,null,null,null,null,null,null,null,null,null,null,null,null,null,null,null,null,null,null,null,null,null,null,null,null,null,null,null,null,null,null,null,null,null,null,null,null,null,null,null,null,null,"",null,null,null,null,null,null,null,"VERIFIQUE FECHAS",null,null,null,null,null,null,null,null,null,"VERIFIQUE COLUMNA D"]
["","",null,"",{"$f":"IFERROR(VLOOKUP(D209,'CODIGO REGIONALES'!$J$2:$L$33,3,0),\"\")","v":""},"",{"$f":"IF(ISNA(VLOOKUP(F209,Divipolas!$A$2:$B$1123,2,FALSE)),\"\",VLOOKUP(F209,Divipolas!$A$2:$B$1123,2,FALSE))","v":""},"",{"$f":"IF(ISNA(VLOOKUP((CONCATENATE(F209,H209)),Divipolas!$F$2:$G$1123,2,FALSE)),\"\",VLOOKUP((CONCATENATE(F209,H209)),Divipolas!$F$2:$G$1123,2,FALSE))","v":""},"","","","","","","","",{"$f":"IF(ISNA(VLOOKUP(Q209,Divipolas!$A$2:$B$1123,2,FALSE)),\"\",VLOOKUP(Q209,Divipolas!$A$2:$B$1123,2,FALSE))","v":""},"",{"$f":"IF(ISNA(VLOOKUP((CONCATENATE(Q209,S209)),Divipolas!$F$2:$G$1123,2,FALSE)),\"\",VLOOKUP((CONCATENATE(Q209,S209)),Divipolas!$F$2:$G$1123,2,FALSE))","v":""},"","","","","","",{"$f":"IF(ISNA(VLOOKUP(Z209,'CODIGO PAIS'!$A$2:$B$231,2,FALSE)),\"\",VLOOKUP(Z209,'CODIGO PAIS'!$A$2:$B$231,2,FALSE))","v":""},"",{"$f":"IF(ISNA(VLOOKUP(AB209,Divipolas!$A$2:$B$1123,2,FALSE)),\"\",VLOOKUP(AB209,Divipolas!$A$2:$B$1123,2,FALSE))","v":""},"",{"$f":"IF(ISNA(VLOOKUP((CONCATENATE(AB209,AD209)),Divipolas!$F$2:$G$1123,2,FALSE)),\"\",VLOOKUP((CONCATENATE(AB209,AD209)),Divipolas!$F$2:$G$1123,2,FALSE))","v":""},"","","","","",{"$f":"IF(ISNA(VLOOKUP(AJ209,Divipolas!$A$2:$B$1123,2,FALSE)),\"\",VLOOKUP(AJ209,Divipolas!$A$2:$B$1123,2,FALSE))","v":""},"",{"$f":"IF(ISNA(VLOOKUP((CONCATENATE(AJ209,AL209)),Divipolas!$F$2:$G$1123,2,FALSE)),\"\",VLOOKUP((CONCATENATE(AJ209,AL209)),Divipolas!$F$2:$G$1123,2,FALSE))","v":""},"","","","","","","","","","","","","","",null,null,null,null,null,null,null,{"$f":"IF(ISNA(VLOOKUP(BH209,'CODIGO PAIS'!$A$2:$B$231,2,FALSE)),\"\",VLOOKUP(BH209,'CODIGO PAIS'!$A$2:$B$231,2,FALSE))","v":""},null,{"$f":"IF(ISNA(VLOOKUP(BJ209,Divipolas!$A$2:$B$1123,2,FALSE)),\"\",VLOOKUP(BJ209,Divipolas!$A$2:$B$1123,2,FALSE))","v":""},null,{"$f":"IF(ISNA(VLOOKUP((CONCATENATE(BJ209,BL209)),Divipolas!$F$2:$G$1123,2,FALSE)),\"\",VLOOKUP((CONCATENATE(BJ209,BL209)),Divipolas!$F$2:$G$1123,2,FALSE))","v":""},null,"","",null,null,null,null,{"$f":"IF(ISNA(VLOOKUP(BT209,Divipolas!$A$2:$B$1123,2,FALSE)),\"\",VLOOKUP(BT209,Divipolas!$A$2:$B$1123,2,FALSE))","v":""},null,{"$f":"IF(ISNA(VLOOKUP((CONCATENATE(BT209,BV209)),Divipolas!$F$2:$G$1123,2,FALSE)),\"\",VLOOKUP((CONCATENATE(BT209,BV209)),Divipolas!$F$2:$G$1123,2,FALSE))","v":""},null,null,null,null,null,null,null,null,null,null,null,null,null,null,null,null,null,null,null,null,null,null,null,"",null,null,null,null,null,null,null,null,null,null,null,null,null,null,null,null,null,null,null,null,null,null,null,null,null,null,null,null,null,null,null,null,null,null,null,null,null,null,null,null,null,null,null,null,null,null,null,null,null,null,null,null,null,null,null,null,null,null,null,null,null,null,null,null,null,null,null,null,null,null,null,null,null,null,null,null,"",null,null,null,null,null,null,null,"VERIFIQUE FECHAS",null,null,null,null,null,null,null,null,null,"VERIFIQUE COLUMNA D"]
["","",null,"",{"$f":"IFERROR(VLOOKUP(D210,'CODIGO REGIONALES'!$J$2:$L$33,3,0),\"\")","v":""},"",{"$f":"IF(ISNA(VLOOKUP(F210,Divipolas!$A$2:$B$1123,2,FALSE)),\"\",VLOOKUP(F210,Divipolas!$A$2:$B$1123,2,FALSE))","v":""},"",{"$f":"IF(ISNA(VLOOKUP((CONCATENATE(F210,H210)),Divipolas!$F$2:$G$1123,2,FALSE)),\"\",VLOOKUP((CONCATENATE(F210,H210)),Divipolas!$F$2:$G$1123,2,FALSE))","v":""},"","","","","","","","",{"$f":"IF(ISNA(VLOOKUP(Q210,Divipolas!$A$2:$B$1123,2,FALSE)),\"\",VLOOKUP(Q210,Divipolas!$A$2:$B$1123,2,FALSE))","v":""},"",{"$f":"IF(ISNA(VLOOKUP((CONCATENATE(Q210,S210)),Divipolas!$F$2:$G$1123,2,FALSE)),\"\",VLOOKUP((CONCATENATE(Q210,S210)),Divipolas!$F$2:$G$1123,2,FALSE))","v":""},"","","","","","",{"$f":"IF(ISNA(VLOOKUP(Z210,'CODIGO PAIS'!$A$2:$B$231,2,FALSE)),\"\",VLOOKUP(Z210,'CODIGO PAIS'!$A$2:$B$231,2,FALSE))","v":""},"",{"$f":"IF(ISNA(VLOOKUP(AB210,Divipolas!$A$2:$B$1123,2,FALSE)),\"\",VLOOKUP(AB210,Divipolas!$A$2:$B$1123,2,FALSE))","v":""},"",{"$f":"IF(ISNA(VLOOKUP((CONCATENATE(AB210,AD210)),Divipolas!$F$2:$G$1123,2,FALSE)),\"\",VLOOKUP((CONCATENATE(AB210,AD210)),Divipolas!$F$2:$G$1123,2,FALSE))","v":""},"","","","","",{"$f":"IF(ISNA(VLOOKUP(AJ210,Divipolas!$A$2:$B$1123,2,FALSE)),\"\",VLOOKUP(AJ210,Divipolas!$A$2:$B$1123,2,FALSE))","v":""},"",{"$f":"IF(ISNA(VLOOKUP((CONCATENATE(AJ210,AL210)),Divipolas!$F$2:$G$1123,2,FALSE)),\"\",VLOOKUP((CONCATENATE(AJ210,AL210)),Divipolas!$F$2:$G$1123,2,FALSE))","v":""},"","","","","","","","","","","","","","",null,null,null,null,null,null,null,{"$f":"IF(ISNA(VLOOKUP(BH210,'CODIGO PAIS'!$A$2:$B$231,2,FALSE)),\"\",VLOOKUP(BH210,'CODIGO PAIS'!$A$2:$B$231,2,FALSE))","v":""},null,{"$f":"IF(ISNA(VLOOKUP(BJ210,Divipolas!$A$2:$B$1123,2,FALSE)),\"\",VLOOKUP(BJ210,Divipolas!$A$2:$B$1123,2,FALSE))","v":""},null,{"$f":"IF(ISNA(VLOOKUP((CONCATENATE(BJ210,BL210)),Divipolas!$F$2:$G$1123,2,FALSE)),\"\",VLOOKUP((CONCATENATE(BJ210,BL210)),Divipolas!$F$2:$G$1123,2,FALSE))","v":""},null,"","",null,null,null,null,{"$f":"IF(ISNA(VLOOKUP(BT210,Divipolas!$A$2:$B$1123,2,FALSE)),\"\",VLOOKUP(BT210,Divipolas!$A$2:$B$1123,2,FALSE))","v":""},null,{"$f":"IF(ISNA(VLOOKUP((CONCATENATE(BT210,BV210)),Divipolas!$F$2:$G$1123,2,FALSE)),\"\",VLOOKUP((CONCATENATE(BT210,BV210)),Divipolas!$F$2:$G$1123,2,FALSE))","v":""},null,null,null,null,null,null,null,null,null,null,null,null,null,null,null,null,null,null,null,null,null,null,null,"",null,null,null,null,null,null,null,null,null,null,null,null,null,null,null,null,null,null,null,null,null,null,null,null,null,null,null,null,null,null,null,null,null,null,null,null,null,null,null,null,null,null,null,null,null,null,null,null,null,null,null,null,null,null,null,null,null,null,null,null,null,null,null,null,null,null,null,null,null,null,null,null,null,null,null,null,"",null,null,null,null,null,null,null,"VERIFIQUE FECHAS",null,null,null,null,null,null,null,null,null,"VERIFIQUE COLUMNA D"]
["","",null,"",{"$f":"IFERROR(VLOOKUP(D211,'CODIGO REGIONALES'!$J$2:$L$33,3,0),\"\")","v":""},"",{"$f":"IF(ISNA(VLOOKUP(F211,Divipolas!$A$2:$B$1123,2,FALSE)),\"\",VLOOKUP(F211,Divipolas!$A$2:$B$1123,2,FALSE))","v":""},"",{"$f":"IF(ISNA(VLOOKUP((CONCATENATE(F211,H211)),Divipolas!$F$2:$G$1123,2,FALSE)),\"\",VLOOKUP((CONCATENATE(F211,H211)),Divipolas!$F$2:$G$1123,2,FALSE))","v":""},"","","","","","","","",{"$f":"IF(ISNA(VLOOKUP(Q211,Divipolas!$A$2:$B$1123,2,FALSE)),\"\",VLOOKUP(Q211,Divipolas!$A$2:$B$1123,2,FALSE))","v":""},"",{"$f":"IF(ISNA(VLOOKUP((CONCATENATE(Q211,S211)),Divipolas!$F$2:$G$1123,2,FALSE)),\"\",VLOOKUP((CONCATENATE(Q211,S211)),Divipolas!$F$2:$G$1123,2,FALSE))","v":""},"","","","","","",{"$f":"IF(ISNA(VLOOKUP(Z211,'CODIGO PAIS'!$A$2:$B$231,2,FALSE)),\"\",VLOOKUP(Z211,'CODIGO PAIS'!$A$2:$B$231,2,FALSE))","v":""},"",{"$f":"IF(ISNA(VLOOKUP(AB211,Divipolas!$A$2:$B$1123,2,FALSE)),\"\",VLOOKUP(AB211,Divipolas!$A$2:$B$1123,2,FALSE))","v":""},"",{"$f":"IF(ISNA(VLOOKUP((CONCATENATE(AB211,AD211)),Divipolas!$F$2:$G$1123,2,FALSE)),\"\",VLOOKUP((CONCATENATE(AB211,AD211)),Divipolas!$F$2:$G$1123,2,FALSE))","v":""},"","","","","",{"$f":"IF(ISNA(VLOOKUP(AJ211,Divipolas!$A$2:$B$1123,2,FALSE)),\"\",VLOOKUP(AJ211,Divipolas!$A$2:$B$1123,2,FALSE))","v":""},"",{"$f":"IF(ISNA(VLOOKUP((CONCATENATE(AJ211,AL211)),Divipolas!$F$2:$G$1123,2,FALSE)),\"\",VLOOKUP((CONCATENATE(AJ211,AL211)),Divipolas!$F$2:$G$1123,2,FALSE))","v":""},"","","","","","","","","","","","","","",null,null,null,null,null,null,null,{"$f":"IF(ISNA(VLOOKUP(BH211,'CODIGO PAIS'!$A$2:$B$231,2,FALSE)),\"\",VLOOKUP(BH211,'CODIGO PAIS'!$A$2:$B$231,2,FALSE))","v":""},null,{"$f":"IF(ISNA(VLOOKUP(BJ211,Divipolas!$A$2:$B$1123,2,FALSE)),\"\",VLOOKUP(BJ211,Divipolas!$A$2:$B$1123,2,FALSE))","v":""},null,{"$f":"IF(ISNA(VLOOKUP((CONCATENATE(BJ211,BL211)),Divipolas!$F$2:$G$1123,2,FALSE)),\"\",VLOOKUP((CONCATENATE(BJ211,BL211)),Divipolas!$F$2:$G$1123,2,FALSE))","v":""},null,"","",null,null,null,null,{"$f":"IF(ISNA(VLOOKUP(BT211,Divipolas!$A$2:$B$1123,2,FALSE)),\"\",VLOOKUP(BT211,Divipolas!$A$2:$B$1123,2,FALSE))","v":""},null,{"$f":"IF(ISNA(VLOOKUP((CONCATENATE(BT211,BV211)),Divipolas!$F$2:$G$1123,2,FALSE)),\"\",VLOOKUP((CONCATENATE(BT211,BV211)),Divipolas!$F$2:$G$1123,2,FALSE))","v":""},null,null,null,null,null,null,null,null,null,null,null,null,null,null,null,null,null,null,null,null,null,null,null,"",null,null,null,null,null,null,null,null,null,null,null,null,null,null,null,null,null,null,null,null,null,null,null,null,null,null,null,null,null,null,null,null,null,null,null,null,null,null,null,null,null,null,null,null,null,null,null,null,null,null,null,null,null,null,null,null,null,null,null,null,null,null,null,null,null,null,null,null,null,null,null,null,null,null,null,null,"",null,null,null,null,null,null,null,"VERIFIQUE FECHAS",null,null,null,null,null,null,null,null,null,"VERIFIQUE COLUMNA D"]
["","",null,"",{"$f":"IFERROR(VLOOKUP(D212,'CODIGO REGIONALES'!$J$2:$L$33,3,0),\"\")","v":""},"",{"$f":"IF(ISNA(VLOOKUP(F212,Divipolas!$A$2:$B$1123,2,FALSE)),\"\",VLOOKUP(F212,Divipolas!$A$2:$B$1123,2,FALSE))","v":""},"",{"$f":"IF(ISNA(VLOOKUP((CONCATENATE(F212,H212)),Divipolas!$F$2:$G$1123,2,FALSE)),\"\",VLOOKUP((CONCATENATE(F212,H212)),Divipolas!$F$2:$G$1123,2,FALSE))","v":""},"","","","","","","","",{"$f":"IF(ISNA(VLOOKUP(Q212,Divipolas!$A$2:$B$1123,2,FALSE)),\"\",VLOOKUP(Q212,Divipolas!$A$2:$B$1123,2,FALSE))","v":""},"",{"$f":"IF(ISNA(VLOOKUP((CONCATENATE(Q212,S212)),Divipolas!$F$2:$G$1123,2,FALSE)),\"\",VLOOKUP((CONCATENATE(Q212,S212)),Divipolas!$F$2:$G$1123,2,FALSE))","v":""},"","","","","","",{"$f":"IF(ISNA(VLOOKUP(Z212,'CODIGO PAIS'!$A$2:$B$231,2,FALSE)),\"\",VLOOKUP(Z212,'CODIGO PAIS'!$A$2:$B$231,2,FALSE))","v":""},"",{"$f":"IF(ISNA(VLOOKUP(AB212,Divipolas!$A$2:$B$1123,2,FALSE)),\"\",VLOOKUP(AB212,Divipolas!$A$2:$B$1123,2,FALSE))","v":""},"",{"$f":"IF(ISNA(VLOOKUP((CONCATENATE(AB212,AD212)),Divipolas!$F$2:$G$1123,2,FALSE)),\"\",VLOOKUP((CONCATENATE(AB212,AD212)),Divipolas!$F$2:$G$1123,2,FALSE))","v":""},"","","","","",{"$f":"IF(ISNA(VLOOKUP(AJ212,Divipolas!$A$2:$B$1123,2,FALSE)),\"\",VLOOKUP(AJ212,Divipolas!$A$2:$B$1123,2,FALSE))","v":""},"",{"$f":"IF(ISNA(VLOOKUP((CONCATENATE(AJ212,AL212)),Divipolas!$F$2:$G$1123,2,FALSE)),\"\",VLOOKUP((CONCATENATE(AJ212,AL212)),Divipolas!$F$2:$G$1123,2,FALSE))","v":""},"","","","","","","","","","","","","","",null,null,null,null,null,null,null,{"$f":"IF(ISNA(VLOOKUP(BH212,'CODIGO PAIS'!$A$2:$B$231,2,FALSE)),\"\",VLOOKUP(BH212,'CODIGO PAIS'!$A$2:$B$231,2,FALSE))","v":""},null,{"$f":"IF(ISNA(VLOOKUP(BJ212,Divipolas!$A$2:$B$1123,2,FALSE)),\"\",VLOOKUP(BJ212,Divipolas!$A$2:$B$1123,2,FALSE))","v":""},null,{"$f":"IF(ISNA(VLOOKUP((CONCATENATE(BJ212,BL212)),Divipolas!$F$2:$G$1123,2,FALSE)),\"\",VLOOKUP((CONCATENATE(BJ212,BL212)),Divipolas!$F$2:$G$1123,2,FALSE))","v":""},null,"","",null,null,null,null,{"$f":"IF(ISNA(VLOOKUP(BT212,Divipolas!$A$2:$B$1123,2,FALSE)),\"\",VLOOKUP(BT212,Divipolas!$A$2:$B$1123,2,FALSE))","v":""},null,{"$f":"IF(ISNA(VLOOKUP((CONCATENATE(BT212,BV212)),Divipolas!$F$2:$G$1123,2,FALSE)),\"\",VLOOKUP((CONCATENATE(BT212,BV212)),Divipolas!$F$2:$G$1123,2,FALSE))","v":""},null,null,null,null,null,null,null,null,null,null,null,null,null,null,null,null,null,null,null,null,null,null,null,"",null,null,null,null,null,null,null,null,null,null,null,null,null,null,null,null,null,null,null,null,null,null,null,null,null,null,null,null,null,null,null,null,null,null,null,null,null,null,null,null,null,null,null,null,null,null,null,null,null,null,null,null,null,null,null,null,null,null,null,null,null,null,null,null,null,null,null,null,null,null,null,null,null,null,null,null,"",null,null,null,null,null,null,null,"VERIFIQUE FECHAS",null,null,null,null,null,null,null,null,null,"VERIFIQUE COLUMNA D"]
["","",null,"",{"$f":"IFERROR(VLOOKUP(D213,'CODIGO REGIONALES'!$J$2:$L$33,3,0),\"\")","v":""},"",{"$f":"IF(ISNA(VLOOKUP(F213,Divipolas!$A$2:$B$1123,2,FALSE)),\"\",VLOOKUP(F213,Divipolas!$A$2:$B$1123,2,FALSE))","v":""},"",{"$f":"IF(ISNA(VLOOKUP((CONCATENATE(F213,H213)),Divipolas!$F$2:$G$1123,2,FALSE)),\"\",VLOOKUP((CONCATENATE(F213,H213)),Divipolas!$F$2:$G$1123,2,FALSE))","v":""},"","","","","","","","",{"$f":"IF(ISNA(VLOOKUP(Q213,Divipolas!$A$2:$B$1123,2,FALSE)),\"\",VLOOKUP(Q213,Divipolas!$A$2:$B$1123,2,FALSE))","v":""},"",{"$f":"IF(ISNA(VLOOKUP((CONCATENATE(Q213,S213)),Divipolas!$F$2:$G$1123,2,FALSE)),\"\",VLOOKUP((CONCATENATE(Q213,S213)),Divipolas!$F$2:$G$1123,2,FALSE))","v":""},"","","","","","",{"$f":"IF(ISNA(VLOOKUP(Z213,'CODIGO PAIS'!$A$2:$B$231,2,FALSE)),\"\",VLOOKUP(Z213,'CODIGO PAIS'!$A$2:$B$231,2,FALSE))","v":""},"",{"$f":"IF(ISNA(VLOOKUP(AB213,Divipolas!$A$2:$B$1123,2,FALSE)),\"\",VLOOKUP(AB213,Divipolas!$A$2:$B$1123,2,FALSE))","v":""},"",{"$f":"IF(ISNA(VLOOKUP((CONCATENATE(AB213,AD213)),Divipolas!$F$2:$G$1123,2,FALSE)),\"\",VLOOKUP((CONCATENATE(AB213,AD213)),Divipolas!$F$2:$G$1123,2,FALSE))","v":""},"","","","","",{"$f":"IF(ISNA(VLOOKUP(AJ213,Divipolas!$A$2:$B$1123,2,FALSE)),\"\",VLOOKUP(AJ213,Divipolas!$A$2:$B$1123,2,FALSE))","v":""},"",{"$f":"IF(ISNA(VLOOKUP((CONCATENATE(AJ213,AL213)),Divipolas!$F$2:$G$1123,2,FALSE)),\"\",VLOOKUP((CONCATENATE(AJ213,AL213)),Divipolas!$F$2:$G$1123,2,FALSE))","v":""},"","","","","","","","","","","","","","",null,null,null,null,null,null,null,{"$f":"IF(ISNA(VLOOKUP(BH213,'CODIGO PAIS'!$A$2:$B$231,2,FALSE)),\"\",VLOOKUP(BH213,'CODIGO PAIS'!$A$2:$B$231,2,FALSE))","v":""},null,{"$f":"IF(ISNA(VLOOKUP(BJ213,Divipolas!$A$2:$B$1123,2,FALSE)),\"\",VLOOKUP(BJ213,Divipolas!$A$2:$B$1123,2,FALSE))","v":""},null,{"$f":"IF(ISNA(VLOOKUP((CONCATENATE(BJ213,BL213)),Divipolas!$F$2:$G$1123,2,FALSE)),\"\",VLOOKUP((CONCATENATE(BJ213,BL213)),Divipolas!$F$2:$G$1123,2,FALSE))","v":""},null,"","",null,null,null,null,{"$f":"IF(ISNA(VLOOKUP(BT213,Divipolas!$A$2:$B$1123,2,FALSE)),\"\",VLOOKUP(BT213,Divipolas!$A$2:$B$1123,2,FALSE))","v":""},null,{"$f":"IF(ISNA(VLOOKUP((CONCATENATE(BT213,BV213)),Divipolas!$F$2:$G$1123,2,FALSE)),\"\",VLOOKUP((CONCATENATE(BT213,BV213)),Divipolas!$F$2:$G$1123,2,FALSE))","v":""},null,null,null,null,null,null,null,null,null,null,null,null,null,null,null,null,null,null,null,null,null,null,null,"",null,null,null,null,null,null,null,null,null,null,null,null,null,null,null,null,null,null,null,null,null,null,null,null,null,null,null,null,null,null,null,null,null,null,null,null,null,null,null,null,null,null,null,null,null,null,null,null,null,null,null,null,null,null,null,null,null,null,null,null,null,null,null,null,null,null,null,null,null,null,null,null,null,null,null,null,"",null,null,null,null,null,null,null,"VERIFIQUE FECHAS",null,null,null,null,null,null,null,null,null,"VERIFIQUE COLUMNA D"]
["","",null,"",{"$f":"IFERROR(VLOOKUP(D214,'CODIGO REGIONALES'!$J$2:$L$33,3,0),\"\")","v":""},"",{"$f":"IF(ISNA(VLOOKUP(F214,Divipolas!$A$2:$B$1123,2,FALSE)),\"\",VLOOKUP(F214,Divipolas!$A$2:$B$1123,2,FALSE))","v":""},"",{"$f":"IF(ISNA(VLOOKUP((CONCATENATE(F214,H214)),Divipolas!$F$2:$G$1123,2,FALSE)),\"\",VLOOKUP((CONCATENATE(F214,H214)),Divipolas!$F$2:$G$1123,2,FALSE))","v":""},"","","","","","","","",{"$f":"IF(ISNA(VLOOKUP(Q214,Divipolas!$A$2:$B$1123,2,FALSE)),\"\",VLOOKUP(Q214,Divipolas!$A$2:$B$1123,2,FALSE))","v":""},"",{"$f":"IF(ISNA(VLOOKUP((CONCATENATE(Q214,S214)),Divipolas!$F$2:$G$1123,2,FALSE)),\"\",VLOOKUP((CONCATENATE(Q214,S214)),Divipolas!$F$2:$G$1123,2,FALSE))","v":""},"","","","","","",{"$f":"IF(ISNA(VLOOKUP(Z214,'CODIGO PAIS'!$A$2:$B$231,2,FALSE)),\"\",VLOOKUP(Z214,'CODIGO PAIS'!$A$2:$B$231,2,FALSE))","v":""},"",{"$f":"IF(ISNA(VLOOKUP(AB214,Divipolas!$A$2:$B$1123,2,FALSE)),\"\",VLOOKUP(AB214,Divipolas!$A$2:$B$1123,2,FALSE))","v":""},"",{"$f":"IF(ISNA(VLOOKUP((CONCATENATE(AB214,AD214)),Divipolas!$F$2:$G$1123,2,FALSE)),\"\",VLOOKUP((CONCATENATE(AB214,AD214)),Divipolas!$F$2:$G$1123,2,FALSE))","v":""},"","","","","",{"$f":"IF(ISNA(VLOOKUP(AJ214,Divipolas!$A$2:$B$1123,2,FALSE)),\"\",VLOOKUP(AJ214,Divipolas!$A$2:$B$1123,2,FALSE))","v":""},"",{"$f":"IF(ISNA(VLOOKUP((CONCATENATE(AJ214,AL214)),Divipolas!$F$2:$G$1123,2,FALSE)),\"\",VLOOKUP((CONCATENATE(AJ214,AL214)),Divipolas!$F$2:$G$1123,2,FALSE))","v":""},"","","","","","","","","","","","","","",null,null,null,null,null,null,null,{"$f":"IF(ISNA(VLOOKUP(BH214,'CODIGO PAIS'!$A$2:$B$231,2,FALSE)),\"\",VLOOKUP(BH214,'CODIGO PAIS'!$A$2:$B$231,2,FALSE))","v":""},null,{"$f":"IF(ISNA(VLOOKUP(BJ214,Divipolas!$A$2:$B$1123,2,FALSE)),\"\",VLOOKUP(BJ214,Divipolas!$A$2:$B$1123,2,FALSE))","v":""},null,{"$f":"IF(ISNA(VLOOKUP((CONCATENATE(BJ214,BL214)),Divipolas!$F$2:$G$1123,2,FALSE)),\"\",VLOOKUP((CONCATENATE(BJ214,BL214)),Divipolas!$F$2:$G$1123,2,FALSE))","v":""},null,"","",null,null,null,null,{"$f":"IF(ISNA(VLOOKUP(BT214,Divipolas!$A$2:$B$1123,2,FALSE)),\"\",VLOOKUP(BT214,Divipolas!$A$2:$B$1123,2,FALSE))","v":""},null,{"$f":"IF(ISNA(VLOOKUP((CONCATENATE(BT214,BV214)),Divipolas!$F$2:$G$1123,2,FALSE)),\"\",VLOOKUP((CONCATENATE(BT214,BV214)),Divipolas!$F$2:$G$1123,2,FALSE))","v":""},null,null,null,null,null,null,null,null,null,null,null,null,null,null,null,null,null,null,null,null,null,null,null,"",null,null,null,null,null,null,null,null,null,null,null,null,null,null,null,null,null,null,null,null,null,null,null,null,null,null,null,null,null,null,null,null,null,null,null,null,null,null,null,null,null,null,null,null,null,null,null,null,null,null,null,null,null,null,null,null,null,null,null,null,null,null,null,null,null,null,null,null,null,null,null,null,null,null,null,null,"",null,null,null,null,null,null,null,"VERIFIQUE FECHAS",null,null,null,null,null,null,null,null,null,"VERIFIQUE COLUMNA D"]
["","",null,"",{"$f":"IFERROR(VLOOKUP(D215,'CODIGO REGIONALES'!$J$2:$L$33,3,0),\"\")","v":""},"",{"$f":"IF(ISNA(VLOOKUP(F215,Divipolas!$A$2:$B$1123,2,FALSE)),\"\",VLOOKUP(F215,Divipolas!$A$2:$B$1123,2,FALSE))","v":""},"",{"$f":"IF(ISNA(VLOOKUP((CONCATENATE(F215,H215)),Divipolas!$F$2:$G$1123,2,FALSE)),\"\",VLOOKUP((CONCATENATE(F215,H215)),Divipolas!$F$2:$G$1123,2,FALSE))","v":""},"","","","","","","","",{"$f":"IF(ISNA(VLOOKUP(Q215,Divipolas!$A$2:$B$1123,2,FALSE)),\"\",VLOOKUP(Q215,Divipolas!$A$2:$B$1123,2,FALSE))","v":""},"",{"$f":"IF(ISNA(VLOOKUP((CONCATENATE(Q215,S215)),Divipolas!$F$2:$G$1123,2,FALSE)),\"\",VLOOKUP((CONCATENATE(Q215,S215)),Divipolas!$F$2:$G$1123,2,FALSE))","v":""},"","","","","","",{"$f":"IF(ISNA(VLOOKUP(Z215,'CODIGO PAIS'!$A$2:$B$231,2,FALSE)),\"\",VLOOKUP(Z215,'CODIGO PAIS'!$A$2:$B$231,2,FALSE))","v":""},"",{"$f":"IF(ISNA(VLOOKUP(AB215,Divipolas!$A$2:$B$1123,2,FALSE)),\"\",VLOOKUP(AB215,Divipolas!$A$2:$B$1123,2,FALSE))","v":""},"",{"$f":"IF(ISNA(VLOOKUP((CONCATENATE(AB215,AD215)),Divipolas!$F$2:$G$1123,2,FALSE)),\"\",VLOOKUP((CONCATENATE(AB215,AD215)),Divipolas!$F$2:$G$1123,2,FALSE))","v":""},"","","","","",{"$f":"IF(ISNA(VLOOKUP(AJ215,Divipolas!$A$2:$B$1123,2,FALSE)),\"\",VLOOKUP(AJ215,Divipolas!$A$2:$B$1123,2,FALSE))","v":""},"",{"$f":"IF(ISNA(VLOOKUP((CONCATENATE(AJ215,AL215)),Divipolas!$F$2:$G$1123,2,FALSE)),\"\",VLOOKUP((CONCATENATE(AJ215,AL215)),Divipolas!$F$2:$G$1123,2,FALSE))","v":""},"","","","","","","","","","","","","","",null,null,null,null,null,null,null,{"$f":"IF(ISNA(VLOOKUP(BH215,'CODIGO PAIS'!$A$2:$B$231,2,FALSE)),\"\",VLOOKUP(BH215,'CODIGO PAIS'!$A$2:$B$231,2,FALSE))","v":""},null,{"$f":"IF(ISNA(VLOOKUP(BJ215,Divipolas!$A$2:$B$1123,2,FALSE)),\"\",VLOOKUP(BJ215,Divipolas!$A$2:$B$1123,2,FALSE))","v":""},null,{"$f":"IF(ISNA(VLOOKUP((CONCATENATE(BJ215,BL215)),Divipolas!$F$2:$G$1123,2,FALSE)),\"\",VLOOKUP((CONCATENATE(BJ215,BL215)),Divipolas!$F$2:$G$1123,2,FALSE))","v":""},null,"","",null,null,null,null,{"$f":"IF(ISNA(VLOOKUP(BT215,Divipolas!$A$2:$B$1123,2,FALSE)),\"\",VLOOKUP(BT215,Divipolas!$A$2:$B$1123,2,FALSE))","v":""},null,{"$f":"IF(ISNA(VLOOKUP((CONCATENATE(BT215,BV215)),Divipolas!$F$2:$G$1123,2,FALSE)),\"\",VLOOKUP((CONCATENATE(BT215,BV215)),Divipolas!$F$2:$G$1123,2,FALSE))","v":""},null,null,null,null,null,null,null,null,null,null,null,null,null,null,null,null,null,null,null,null,null,null,null,"",null,null,null,null,null,null,null,null,null,null,null,null,null,null,null,null,null,null,null,null,null,null,null,null,null,null,null,null,null,null,null,null,null,null,null,null,null,null,null,null,null,null,null,null,null,null,null,null,null,null,null,null,null,null,null,null,null,null,null,null,null,null,null,null,null,null,null,null,null,null,null,null,null,null,null,null,"",null,null,null,null,null,null,null,"VERIFIQUE FECHAS",null,null,null,null,null,null,null,null,null,"VERIFIQUE COLUMNA D"]
["","",null,"",{"$f":"IFERROR(VLOOKUP(D216,'CODIGO REGIONALES'!$J$2:$L$33,3,0),\"\")","v":""},"",{"$f":"IF(ISNA(VLOOKUP(F216,Divipolas!$A$2:$B$1123,2,FALSE)),\"\",VLOOKUP(F216,Divipolas!$A$2:$B$1123,2,FALSE))","v":""},"",{"$f":"IF(ISNA(VLOOKUP((CONCATENATE(F216,H216)),Divipolas!$F$2:$G$1123,2,FALSE)),\"\",VLOOKUP((CONCATENATE(F216,H216)),Divipolas!$F$2:$G$1123,2,FALSE))","v":""},"",{"$f":"IF(AND($C216<>\"\",K215<>\"\"),K215,\"\")","v":""},"","","","","","",{"$f":"IF(ISNA(VLOOKUP(Q216,Divipolas!$A$2:$B$1123,2,FALSE)),\"\",VLOOKUP(Q216,Divipolas!$A$2:$B$1123,2,FALSE))","v":""},"",{"$f":"IF(ISNA(VLOOKUP((CONCATENATE(Q216,S216)),Divipolas!$F$2:$G$1123,2,FALSE)),\"\",VLOOKUP((CONCATENATE(Q216,S216)),Divipolas!$F$2:$G$1123,2,FALSE))","v":""},"","","","","","",{"$f":"IF(ISNA(VLOOKUP(Z216,'CODIGO PAIS'!$A$2:$B$231,2,FALSE)),\"\",VLOOKUP(Z216,'CODIGO PAIS'!$A$2:$B$231,2,FALSE))","v":""},"",{"$f":"IF(ISNA(VLOOKUP(AB216,Divipolas!$A$2:$B$1123,2,FALSE)),\"\",VLOOKUP(AB216,Divipolas!$A$2:$B$1123,2,FALSE))","v":""},"",{"$f":"IF(ISNA(VLOOKUP((CONCATENATE(AB216,AD216)),Divipolas!$F$2:$G$1123,2,FALSE)),\"\",VLOOKUP((CONCATENATE(AB216,AD216)),Divipolas!$F$2:$G$1123,2,FALSE))","v":""},"","","","","",{"$f":"IF(ISNA(VLOOKUP(AJ216,Divipolas!$A$2:$B$1123,2,FALSE)),\"\",VLOOKUP(AJ216,Divipolas!$A$2:$B$1123,2,FALSE))","v":""},"",{"$f":"IF(ISNA(VLOOKUP((CONCATENATE(AJ216,AL216)),Divipolas!$F$2:$G$1123,2,FALSE)),\"\",VLOOKUP((CONCATENATE(AJ216,AL216)),Divipolas!$F$2:$G$1123,2,FALSE))","v":""},"","","","","","","","","","","","","","",null,null,null,null,null,null,null,{"$f":"IF(ISNA(VLOOKUP(BH216,'CODIGO PAIS'!$A$2:$B$231,2,FALSE)),\"\",VLOOKUP(BH216,'CODIGO PAIS'!$A$2:$B$231,2,FALSE))","v":""},null,{"$f":"IF(ISNA(VLOOKUP(BJ216,Divipolas!$A$2:$B$1123,2,FALSE)),\"\",VLOOKUP(BJ216,Divipolas!$A$2:$B$1123,2,FALSE))","v":""},null,{"$f":"IF(ISNA(VLOOKUP((CONCATENATE(BJ216,BL216)),Divipolas!$F$2:$G$1123,2,FALSE)),\"\",VLOOKUP((CONCATENATE(BJ216,BL216)),Divipolas!$F$2:$G$1123,2,FALSE))","v":""},null,"","",null,null,null,null,{"$f":"IF(ISNA(VLOOKUP(BT216,Divipolas!$A$2:$B$1123,2,FALSE)),\"\",VLOOKUP(BT216,Divipolas!$A$2:$B$1123,2,FALSE))","v":""},null,{"$f":"IF(ISNA(VLOOKUP((CONCATENATE(BT216,BV216)),Divipolas!$F$2:$G$1123,2,FALSE)),\"\",VLOOKUP((CONCATENATE(BT216,BV216)),Divipolas!$F$2:$G$1123,2,FALSE))","v":""},null,null,null,null,null,null,null,null,null,null,null,null,null,null,null,null,null,null,null,null,null,null,null,"",null,null,null,null,null,null,null,null,null,null,null,null,null,null,null,null,null,null,null,null,null,null,null,null,null,null,null,null,null,null,null,null,null,null,null,null,null,null,null,null,null,null,null,null,null,null,null,null,null,null,null,null,null,null,null,null,null,null,null,null,null,null,null,null,null,null,null,null,null,null,null,null,null,null,null,null,"",null,null,null,null,null,null,null,"VERIFIQUE FECHAS",null,null,null,null,null,null,null,null,null,"VERIFIQUE COLUMNA D"]
["","",null,"",{"$f":"IFERROR(VLOOKUP(D217,'CODIGO REGIONALES'!$J$2:$L$33,3,0),\"\")","v":""},"",{"$f":"IF(ISNA(VLOOKUP(F217,Divipolas!$A$2:$B$1123,2,FALSE)),\"\",VLOOKUP(F217,Divipolas!$A$2:$B$1123,2,FALSE))","v":""},"",{"$f":"IF(ISNA(VLOOKUP((CONCATENATE(F217,H217)),Divipolas!$F$2:$G$1123,2,FALSE)),\"\",VLOOKUP((CONCATENATE(F217,H217)),Divipolas!$F$2:$G$1123,2,FALSE))","v":""},"","","","","","","","",{"$f":"IF(ISNA(VLOOKUP(Q217,Divipolas!$A$2:$B$1123,2,FALSE)),\"\",VLOOKUP(Q217,Divipolas!$A$2:$B$1123,2,FALSE))","v":""},"",{"$f":"IF(ISNA(VLOOKUP((CONCATENATE(Q217,S217)),Divipolas!$F$2:$G$1123,2,FALSE)),\"\",VLOOKUP((CONCATENATE(Q217,S217)),Divipolas!$F$2:$G$1123,2,FALSE))","v":""},"","","","","","",{"$f":"IF(ISNA(VLOOKUP(Z217,'CODIGO PAIS'!$A$2:$B$231,2,FALSE)),\"\",VLOOKUP(Z217,'CODIGO PAIS'!$A$2:$B$231,2,FALSE))","v":""},"",{"$f":"IF(ISNA(VLOOKUP(AB217,Divipolas!$A$2:$B$1123,2,FALSE)),\"\",VLOOKUP(AB217,Divipolas!$A$2:$B$1123,2,FALSE))","v":""},"",{"$f":"IF(ISNA(VLOOKUP((CONCATENATE(AB217,AD217)),Divipolas!$F$2:$G$1123,2,FALSE)),\"\",VLOOKUP((CONCATENATE(AB217,AD217)),Divipolas!$F$2:$G$1123,2,FALSE))","v":""},"","","","","",{"$f":"IF(ISNA(VLOOKUP(AJ217,Divipolas!$A$2:$B$1123,2,FALSE)),\"\",VLOOKUP(AJ217,Divipolas!$A$2:$B$1123,2,FALSE))","v":""},"",{"$f":"IF(ISNA(VLOOKUP((CONCATENATE(AJ217,AL217)),Divipolas!$F$2:$G$1123,2,FALSE)),\"\",VLOOKUP((CONCATENATE(AJ217,AL217)),Divipolas!$F$2:$G$1123,2,FALSE))","v":""},"","","","","","","","","","","","","","",null,null,null,null,null,null,null,{"$f":"IF(ISNA(VLOOKUP(BH217,'CODIGO PAIS'!$A$2:$B$231,2,FALSE)),\"\",VLOOKUP(BH217,'CODIGO PAIS'!$A$2:$B$231,2,FALSE))","v":""},null,{"$f":"IF(ISNA(VLOOKUP(BJ217,Divipolas!$A$2:$B$1123,2,FALSE)),\"\",VLOOKUP(BJ217,Divipolas!$A$2:$B$1123,2,FALSE))","v":""},null,{"$f":"IF(ISNA(VLOOKUP((CONCATENATE(BJ217,BL217)),Divipolas!$F$2:$G$1123,2,FALSE)),\"\",VLOOKUP((CONCATENATE(BJ217,BL217)),Divipolas!$F$2:$G$1123,2,FALSE))","v":""},null,"","",null,null,null,null,{"$f":"IF(ISNA(VLOOKUP(BT217,Divipolas!$A$2:$B$1123,2,FALSE)),\"\",VLOOKUP(BT217,Divipolas!$A$2:$B$1123,2,FALSE))","v":""},null,{"$f":"IF(ISNA(VLOOKUP((CONCATENATE(BT217,BV217)),Divipolas!$F$2:$G$1123,2,FALSE)),\"\",VLOOKUP((CONCATENATE(BT217,BV217)),Divipolas!$F$2:$G$1123,2,FALSE))","v":""},null,null,null,null,null,null,null,null,null,null,null,null,null,null,null,null,null,null,null,null,null,null,null,"",null,null,null,null,null,null,null,null,null,null,null,null,null,null,null,null,null,null,null,null,null,null,null,null,null,null,null,null,null,null,null,null,null,null,null,null,null,null,null,null,null,null,null,null,null,null,null,null,null,null,null,null,null,null,null,null,null,null,null,null,null,null,null,null,null,null,null,null,null,null,null,null,null,null,null,null,"",null,null,null,null,null,null,null,"VERIFIQUE FECHAS",null,null,null,null,null,null,null,null,null,"VERIFIQUE COLUMNA D"]
["","",null,"",{"$f":"IFERROR(VLOOKUP(D218,'CODIGO REGIONALES'!$J$2:$L$33,3,0),\"\")","v":""},"",{"$f":"IF(ISNA(VLOOKUP(F218,Divipolas!$A$2:$B$1123,2,FALSE)),\"\",VLOOKUP(F218,Divipolas!$A$2:$B$1123,2,FALSE))","v":""},"",{"$f":"IF(ISNA(VLOOKUP((CONCATENATE(F218,H218)),Divipolas!$F$2:$G$1123,2,FALSE)),\"\",VLOOKUP((CONCATENATE(F218,H218)),Divipolas!$F$2:$G$1123,2,FALSE))","v":""},"","","","","","","","",{"$f":"IF(ISNA(VLOOKUP(Q218,Divipolas!$A$2:$B$1123,2,FALSE)),\"\",VLOOKUP(Q218,Divipolas!$A$2:$B$1123,2,FALSE))","v":""},"",{"$f":"IF(ISNA(VLOOKUP((CONCATENATE(Q218,S218)),Divipolas!$F$2:$G$1123,2,FALSE)),\"\",VLOOKUP((CONCATENATE(Q218,S218)),Divipolas!$F$2:$G$1123,2,FALSE))","v":""},"","","","","","",{"$f":"IF(ISNA(VLOOKUP(Z218,'CODIGO PAIS'!$A$2:$B$231,2,FALSE)),\"\",VLOOKUP(Z218,'CODIGO PAIS'!$A$2:$B$231,2,FALSE))","v":""},"",{"$f":"IF(ISNA(VLOOKUP(AB218,Divipolas!$A$2:$B$1123,2,FALSE)),\"\",VLOOKUP(AB218,Divipolas!$A$2:$B$1123,2,FALSE))","v":""},"",{"$f":"IF(ISNA(VLOOKUP((CONCATENATE(AB218,AD218)),Divipolas!$F$2:$G$1123,2,FALSE)),\"\",VLOOKUP((CONCATENATE(AB218,AD218)),Divipolas!$F$2:$G$1123,2,FALSE))","v":""},"","","","","",{"$f":"IF(ISNA(VLOOKUP(AJ218,Divipolas!$A$2:$B$1123,2,FALSE)),\"\",VLOOKUP(AJ218,Divipolas!$A$2:$B$1123,2,FALSE))","v":""},"",{"$f":"IF(ISNA(VLOOKUP((CONCATENATE(AJ218,AL218)),Divipolas!$F$2:$G$1123,2,FALSE)),\"\",VLOOKUP((CONCATENATE(AJ218,AL218)),Divipolas!$F$2:$G$1123,2,FALSE))","v":""},"","","","","","","","","","","","","","",null,null,null,null,null,null,null,{"$f":"IF(ISNA(VLOOKUP(BH218,'CODIGO PAIS'!$A$2:$B$231,2,FALSE)),\"\",VLOOKUP(BH218,'CODIGO PAIS'!$A$2:$B$231,2,FALSE))","v":""},null,{"$f":"IF(ISNA(VLOOKUP(BJ218,Divipolas!$A$2:$B$1123,2,FALSE)),\"\",VLOOKUP(BJ218,Divipolas!$A$2:$B$1123,2,FALSE))","v":""},null,{"$f":"IF(ISNA(VLOOKUP((CONCATENATE(BJ218,BL218)),Divipolas!$F$2:$G$1123,2,FALSE)),\"\",VLOOKUP((CONCATENATE(BJ218,BL218)),Divipolas!$F$2:$G$1123,2,FALSE))","v":""},null,"","",null,null,null,null,{"$f":"IF(ISNA(VLOOKUP(BT218,Divipolas!$A$2:$B$1123,2,FALSE)),\"\",VLOOKUP(BT218,Divipolas!$A$2:$B$1123,2,FALSE))","v":""},null,{"$f":"IF(ISNA(VLOOKUP((CONCATENATE(BT218,BV218)),Divipolas!$F$2:$G$1123,2,FALSE)),\"\",VLOOKUP((CONCATENATE(BT218,BV218)),Divipolas!$F$2:$G$1123,2,FALSE))","v":""},null,null,null,null,null,null,null,null,null,null,null,null,null,null,null,null,null,null,null,null,null,null,null,"",null,null,null,null,null,null,null,null,null,null,null,null,null,null,null,null,null,null,null,null,null,null,null,null,null,null,null,null,null,null,null,null,null,null,null,null,null,null,null,null,null,null,null,null,null,null,null,null,null,null,null,null,null,null,null,null,null,null,null,null,null,null,null,null,null,null,null,null,null,null,null,null,null,null,null,null,"",null,null,null,null,null,null,null,"VERIFIQUE FECHAS",null,null,null,null,null,null,null,null,null,"VERIFIQUE COLUMNA D"]
["","",null,"",{"$f":"IFERROR(VLOOKUP(D219,'CODIGO REGIONALES'!$J$2:$L$33,3,0),\"\")","v":""},"",{"$f":"IF(ISNA(VLOOKUP(F219,Divipolas!$A$2:$B$1123,2,FALSE)),\"\",VLOOKUP(F219,Divipolas!$A$2:$B$1123,2,FALSE))","v":""},"",{"$f":"IF(ISNA(VLOOKUP((CONCATENATE(F219,H219)),Divipolas!$F$2:$G$1123,2,FALSE)),\"\",VLOOKUP((CONCATENATE(F219,H219)),Divipolas!$F$2:$G$1123,2,FALSE))","v":""},"","","","","","","","",{"$f":"IF(ISNA(VLOOKUP(Q219,Divipolas!$A$2:$B$1123,2,FALSE)),\"\",VLOOKUP(Q219,Divipolas!$A$2:$B$1123,2,FALSE))","v":""},"",{"$f":"IF(ISNA(VLOOKUP((CONCATENATE(Q219,S219)),Divipolas!$F$2:$G$1123,2,FALSE)),\"\",VLOOKUP((CONCATENATE(Q219,S219)),Divipolas!$F$2:$G$1123,2,FALSE))","v":""},"","","","","","",{"$f":"IF(ISNA(VLOOKUP(Z219,'CODIGO PAIS'!$A$2:$B$231,2,FALSE)),\"\",VLOOKUP(Z219,'CODIGO PAIS'!$A$2:$B$231,2,FALSE))","v":""},"",{"$f":"IF(ISNA(VLOOKUP(AB219,Divipolas!$A$2:$B$1123,2,FALSE)),\"\",VLOOKUP(AB219,Divipolas!$A$2:$B$1123,2,FALSE))","v":""},"",{"$f":"IF(ISNA(VLOOKUP((CONCATENATE(AB219,AD219)),Divipolas!$F$2:$G$1123,2,FALSE)),\"\",VLOOKUP((CONCATENATE(AB219,AD219)),Divipolas!$F$2:$G$1123,2,FALSE))","v":""},"","","","","",{"$f":"IF(ISNA(VLOOKUP(AJ219,Divipolas!$A$2:$B$1123,2,FALSE)),\"\",VLOOKUP(AJ219,Divipolas!$A$2:$B$1123,2,FALSE))","v":""},"",{"$f":"IF(ISNA(VLOOKUP((CONCATENATE(AJ219,AL219)),Divipolas!$F$2:$G$1123,2,FALSE)),\"\",VLOOKUP((CONCATENATE(AJ219,AL219)),Divipolas!$F$2:$G$1123,2,FALSE))","v":""},"","","","","","","","","","","","","","",null,null,null,null,null,null,null,{"$f":"IF(ISNA(VLOOKUP(BH219,'CODIGO PAIS'!$A$2:$B$231,2,FALSE)),\"\",VLOOKUP(BH219,'CODIGO PAIS'!$A$2:$B$231,2,FALSE))","v":""},null,{"$f":"IF(ISNA(VLOOKUP(BJ219,Divipolas!$A$2:$B$1123,2,FALSE)),\"\",VLOOKUP(BJ219,Divipolas!$A$2:$B$1123,2,FALSE))","v":""},null,{"$f":"IF(ISNA(VLOOKUP((CONCATENATE(BJ219,BL219)),Divipolas!$F$2:$G$1123,2,FALSE)),\"\",VLOOKUP((CONCATENATE(BJ219,BL219)),Divipolas!$F$2:$G$1123,2,FALSE))","v":""},null,"","",null,null,null,null,{"$f":"IF(ISNA(VLOOKUP(BT219,Divipolas!$A$2:$B$1123,2,FALSE)),\"\",VLOOKUP(BT219,Divipolas!$A$2:$B$1123,2,FALSE))","v":""},null,{"$f":"IF(ISNA(VLOOKUP((CONCATENATE(BT219,BV219)),Divipolas!$F$2:$G$1123,2,FALSE)),\"\",VLOOKUP((CONCATENATE(BT219,BV219)),Divipolas!$F$2:$G$1123,2,FALSE))","v":""},null,null,null,null,null,null,null,null,null,null,null,null,null,null,null,null,null,null,null,null,null,null,null,"",null,null,null,null,null,null,null,null,null,null,null,null,null,null,null,null,null,null,null,null,null,null,null,null,null,null,null,null,null,null,null,null,null,null,null,null,null,null,null,null,null,null,null,null,null,null,null,null,null,null,null,null,null,null,null,null,null,null,null,null,null,null,null,null,null,null,null,null,null,null,null,null,null,null,null,null,"",null,null,null,null,null,null,null,"VERIFIQUE FECHAS",null,null,null,null,null,null,null,null,null,"VERIFIQUE COLUMNA D"]
["","",null,"",{"$f":"IFERROR(VLOOKUP(D220,'CODIGO REGIONALES'!$J$2:$L$33,3,0),\"\")","v":""},"",{"$f":"IF(ISNA(VLOOKUP(F220,Divipolas!$A$2:$B$1123,2,FALSE)),\"\",VLOOKUP(F220,Divipolas!$A$2:$B$1123,2,FALSE))","v":""},"",{"$f":"IF(ISNA(VLOOKUP((CONCATENATE(F220,H220)),Divipolas!$F$2:$G$1123,2,FALSE)),\"\",VLOOKUP((CONCATENATE(F220,H220)),Divipolas!$F$2:$G$1123,2,FALSE))","v":""},"","","","","","","","",{"$f":"IF(ISNA(VLOOKUP(Q220,Divipolas!$A$2:$B$1123,2,FALSE)),\"\",VLOOKUP(Q220,Divipolas!$A$2:$B$1123,2,FALSE))","v":""},"",{"$f":"IF(ISNA(VLOOKUP((CONCATENATE(Q220,S220)),Divipolas!$F$2:$G$1123,2,FALSE)),\"\",VLOOKUP((CONCATENATE(Q220,S220)),Divipolas!$F$2:$G$1123,2,FALSE))","v":""},"","","","","","",{"$f":"IF(ISNA(VLOOKUP(Z220,'CODIGO PAIS'!$A$2:$B$231,2,FALSE)),\"\",VLOOKUP(Z220,'CODIGO PAIS'!$A$2:$B$231,2,FALSE))","v":""},"",{"$f":"IF(ISNA(VLOOKUP(AB220,Divipolas!$A$2:$B$1123,2,FALSE)),\"\",VLOOKUP(AB220,Divipolas!$A$2:$B$1123,2,FALSE))","v":""},"",{"$f":"IF(ISNA(VLOOKUP((CONCATENATE(AB220,AD220)),Divipolas!$F$2:$G$1123,2,FALSE)),\"\",VLOOKUP((CONCATENATE(AB220,AD220)),Divipolas!$F$2:$G$1123,2,FALSE))","v":""},"","","","","",{"$f":"IF(ISNA(VLOOKUP(AJ220,Divipolas!$A$2:$B$1123,2,FALSE)),\"\",VLOOKUP(AJ220,Divipolas!$A$2:$B$1123,2,FALSE))","v":""},"",{"$f":"IF(ISNA(VLOOKUP((CONCATENATE(AJ220,AL220)),Divipolas!$F$2:$G$1123,2,FALSE)),\"\",VLOOKUP((CONCATENATE(AJ220,AL220)),Divipolas!$F$2:$G$1123,2,FALSE))","v":""},"","","","","","","","","","","","","","",null,null,null,null,null,null,null,{"$f":"IF(ISNA(VLOOKUP(BH220,'CODIGO PAIS'!$A$2:$B$231,2,FALSE)),\"\",VLOOKUP(BH220,'CODIGO PAIS'!$A$2:$B$231,2,FALSE))","v":""},null,{"$f":"IF(ISNA(VLOOKUP(BJ220,Divipolas!$A$2:$B$1123,2,FALSE)),\"\",VLOOKUP(BJ220,Divipolas!$A$2:$B$1123,2,FALSE))","v":""},null,{"$f":"IF(ISNA(VLOOKUP((CONCATENATE(BJ220,BL220)),Divipolas!$F$2:$G$1123,2,FALSE)),\"\",VLOOKUP((CONCATENATE(BJ220,BL220)),Divipolas!$F$2:$G$1123,2,FALSE))","v":""},null,"","",null,null,null,null,{"$f":"IF(ISNA(VLOOKUP(BT220,Divipolas!$A$2:$B$1123,2,FALSE)),\"\",VLOOKUP(BT220,Divipolas!$A$2:$B$1123,2,FALSE))","v":""},null,{"$f":"IF(ISNA(VLOOKUP((CONCATENATE(BT220,BV220)),Divipolas!$F$2:$G$1123,2,FALSE)),\"\",VLOOKUP((CONCATENATE(BT220,BV220)),Divipolas!$F$2:$G$1123,2,FALSE))","v":""},null,null,null,null,null,null,null,null,null,null,null,null,null,null,null,null,null,null,null,null,null,null,null,"",null,null,null,null,null,null,null,null,null,null,null,null,null,null,null,null,null,null,null,null,null,null,null,null,null,null,null,null,null,null,null,null,null,null,null,null,null,null,null,null,null,null,null,null,null,null,null,null,null,null,null,null,null,null,null,null,null,null,null,null,null,null,null,null,null,null,null,null,null,null,null,null,null,null,null,null,"",null,null,null,null,null,null,null,"VERIFIQUE FECHAS",null,null,null,null,null,null,null,null,null,"VERIFIQUE COLUMNA D"]
["","",null,"",{"$f":"IFERROR(VLOOKUP(D221,'CODIGO REGIONALES'!$J$2:$L$33,3,0),\"\")","v":""},"",{"$f":"IF(ISNA(VLOOKUP(F221,Divipolas!$A$2:$B$1123,2,FALSE)),\"\",VLOOKUP(F221,Divipolas!$A$2:$B$1123,2,FALSE))","v":""},"",{"$f":"IF(ISNA(VLOOKUP((CONCATENATE(F221,H221)),Divipolas!$F$2:$G$1123,2,FALSE)),\"\",VLOOKUP((CONCATENATE(F221,H221)),Divipolas!$F$2:$G$1123,2,FALSE))","v":""},"","","","","","","","",{"$f":"IF(ISNA(VLOOKUP(Q221,Divipolas!$A$2:$B$1123,2,FALSE)),\"\",VLOOKUP(Q221,Divipolas!$A$2:$B$1123,2,FALSE))","v":""},"",{"$f":"IF(ISNA(VLOOKUP((CONCATENATE(Q221,S221)),Divipolas!$F$2:$G$1123,2,FALSE)),\"\",VLOOKUP((CONCATENATE(Q221,S221)),Divipolas!$F$2:$G$1123,2,FALSE))","v":""},"","","","","","",{"$f":"IF(ISNA(VLOOKUP(Z221,'CODIGO PAIS'!$A$2:$B$231,2,FALSE)),\"\",VLOOKUP(Z221,'CODIGO PAIS'!$A$2:$B$231,2,FALSE))","v":""},"",{"$f":"IF(ISNA(VLOOKUP(AB221,Divipolas!$A$2:$B$1123,2,FALSE)),\"\",VLOOKUP(AB221,Divipolas!$A$2:$B$1123,2,FALSE))","v":""},"",{"$f":"IF(ISNA(VLOOKUP((CONCATENATE(AB221,AD221)),Divipolas!$F$2:$G$1123,2,FALSE)),\"\",VLOOKUP((CONCATENATE(AB221,AD221)),Divipolas!$F$2:$G$1123,2,FALSE))","v":""},"","","","","",{"$f":"IF(ISNA(VLOOKUP(AJ221,Divipolas!$A$2:$B$1123,2,FALSE)),\"\",VLOOKUP(AJ221,Divipolas!$A$2:$B$1123,2,FALSE))","v":""},"",{"$f":"IF(ISNA(VLOOKUP((CONCATENATE(AJ221,AL221)),Divipolas!$F$2:$G$1123,2,FALSE)),\"\",VLOOKUP((CONCATENATE(AJ221,AL221)),Divipolas!$F$2:$G$1123,2,FALSE))","v":""},"","","","","","","","","","","","","","",null,null,null,null,null,null,null,{"$f":"IF(ISNA(VLOOKUP(BH221,'CODIGO PAIS'!$A$2:$B$231,2,FALSE)),\"\",VLOOKUP(BH221,'CODIGO PAIS'!$A$2:$B$231,2,FALSE))","v":""},null,{"$f":"IF(ISNA(VLOOKUP(BJ221,Divipolas!$A$2:$B$1123,2,FALSE)),\"\",VLOOKUP(BJ221,Divipolas!$A$2:$B$1123,2,FALSE))","v":""},null,{"$f":"IF(ISNA(VLOOKUP((CONCATENATE(BJ221,BL221)),Divipolas!$F$2:$G$1123,2,FALSE)),\"\",VLOOKUP((CONCATENATE(BJ221,BL221)),Divipolas!$F$2:$G$1123,2,FALSE))","v":""},null,"","",null,null,null,null,{"$f":"IF(ISNA(VLOOKUP(BT221,Divipolas!$A$2:$B$1123,2,FALSE)),\"\",VLOOKUP(BT221,Divipolas!$A$2:$B$1123,2,FALSE))","v":""},null,{"$f":"IF(ISNA(VLOOKUP((CONCATENATE(BT221,BV221)),Divipolas!$F$2:$G$1123,2,FALSE)),\"\",VLOOKUP((CONCATENATE(BT221,BV221)),Divipolas!$F$2:$G$1123,2,FALSE))","v":""},null,null,null,null,null,null,null,null,null,null,null,null,null,null,null,null,null,null,null,null,null,null,null,"",null,null,null,null,null,null,null,null,null,null,null,null,null,null,null,null,null,null,null,null,null,null,null,null,null,null,null,null,null,null,null,null,null,null,null,null,null,null,null,null,null,null,null,null,null,null,null,null,null,null,null,null,null,null,null,null,null,null,null,null,null,null,null,null,null,null,null,null,null,null,null,null,null,null,null,null,"",null,null,null,null,null,null,null,"VERIFIQUE FECHAS",null,null,null,null,null,null,null,null,null,"VERIFIQUE COLUMNA D"]
["","",null,"",{"$f":"IFERROR(VLOOKUP(D222,'CODIGO REGIONALES'!$J$2:$L$33,3,0),\"\")","v":""},"",{"$f":"IF(ISNA(VLOOKUP(F222,Divipolas!$A$2:$B$1123,2,FALSE)),\"\",VLOOKUP(F222,Divipolas!$A$2:$B$1123,2,FALSE))","v":""},"",{"$f":"IF(ISNA(VLOOKUP((CONCATENATE(F222,H222)),Divipolas!$F$2:$G$1123,2,FALSE)),\"\",VLOOKUP((CONCATENATE(F222,H222)),Divipolas!$F$2:$G$1123,2,FALSE))","v":""},"","","","","","","","",{"$f":"IF(ISNA(VLOOKUP(Q222,Divipolas!$A$2:$B$1123,2,FALSE)),\"\",VLOOKUP(Q222,Divipolas!$A$2:$B$1123,2,FALSE))","v":""},"",{"$f":"IF(ISNA(VLOOKUP((CONCATENATE(Q222,S222)),Divipolas!$F$2:$G$1123,2,FALSE)),\"\",VLOOKUP((CONCATENATE(Q222,S222)),Divipolas!$F$2:$G$1123,2,FALSE))","v":""},"","","","","","",{"$f":"IF(ISNA(VLOOKUP(Z222,'CODIGO PAIS'!$A$2:$B$231,2,FALSE)),\"\",VLOOKUP(Z222,'CODIGO PAIS'!$A$2:$B$231,2,FALSE))","v":""},"",{"$f":"IF(ISNA(VLOOKUP(AB222,Divipolas!$A$2:$B$1123,2,FALSE)),\"\",VLOOKUP(AB222,Divipolas!$A$2:$B$1123,2,FALSE))","v":""},"",{"$f":"IF(ISNA(VLOOKUP((CONCATENATE(AB222,AD222)),Divipolas!$F$2:$G$1123,2,FALSE)),\"\",VLOOKUP((CONCATENATE(AB222,AD222)),Divipolas!$F$2:$G$1123,2,FALSE))","v":""},"","","","","",{"$f":"IF(ISNA(VLOOKUP(AJ222,Divipolas!$A$2:$B$1123,2,FALSE)),\"\",VLOOKUP(AJ222,Divipolas!$A$2:$B$1123,2,FALSE))","v":""},"",{"$f":"IF(ISNA(VLOOKUP((CONCATENATE(AJ222,AL222)),Divipolas!$F$2:$G$1123,2,FALSE)),\"\",VLOOKUP((CONCATENATE(AJ222,AL222)),Divipolas!$F$2:$G$1123,2,FALSE))","v":""},"","","","","","","","","","","","","","",null,null,null,null,null,null,null,{"$f":"IF(ISNA(VLOOKUP(BH222,'CODIGO PAIS'!$A$2:$B$231,2,FALSE)),\"\",VLOOKUP(BH222,'CODIGO PAIS'!$A$2:$B$231,2,FALSE))","v":""},null,{"$f":"IF(ISNA(VLOOKUP(BJ222,Divipolas!$A$2:$B$1123,2,FALSE)),\"\",VLOOKUP(BJ222,Divipolas!$A$2:$B$1123,2,FALSE))","v":""},null,{"$f":"IF(ISNA(VLOOKUP((CONCATENATE(BJ222,BL222)),Divipolas!$F$2:$G$1123,2,FALSE)),\"\",VLOOKUP((CONCATENATE(BJ222,BL222)),Divipolas!$F$2:$G$1123,2,FALSE))","v":""},null,"","",null,null,null,null,{"$f":"IF(ISNA(VLOOKUP(BT222,Divipolas!$A$2:$B$1123,2,FALSE)),\"\",VLOOKUP(BT222,Divipolas!$A$2:$B$1123,2,FALSE))","v":""},null,{"$f":"IF(ISNA(VLOOKUP((CONCATENATE(BT222,BV222)),Divipolas!$F$2:$G$1123,2,FALSE)),\"\",VLOOKUP((CONCATENATE(BT222,BV222)),Divipolas!$F$2:$G$1123,2,FALSE))","v":""},null,null,null,null,null,null,null,null,null,null,null,null,null,null,null,null,null,null,null,null,null,null,null,"",null,null,null,null,null,null,null,null,null,null,null,null,null,null,null,null,null,null,null,null,null,null,null,null,null,null,null,null,null,null,null,null,null,null,null,null,null,null,null,null,null,null,null,null,null,null,null,null,null,null,null,null,null,null,null,null,null,null,null,null,null,null,null,null,null,null,null,null,null,null,null,null,null,null,null,null,"",null,null,null,null,null,null,null,"VERIFIQUE FECHAS",null,null,null,null,null,null,null,null,null,"VERIFIQUE COLUMNA D"]
["","",null,"",{"$f":"IFERROR(VLOOKUP(D223,'CODIGO REGIONALES'!$J$2:$L$33,3,0),\"\")","v":""},"",{"$f":"IF(ISNA(VLOOKUP(F223,Divipolas!$A$2:$B$1123,2,FALSE)),\"\",VLOOKUP(F223,Divipolas!$A$2:$B$1123,2,FALSE))","v":""},"",{"$f":"IF(ISNA(VLOOKUP((CONCATENATE(F223,H223)),Divipolas!$F$2:$G$1123,2,FALSE)),\"\",VLOOKUP((CONCATENATE(F223,H223)),Divipolas!$F$2:$G$1123,2,FALSE))","v":""},"","","","","","","","",{"$f":"IF(ISNA(VLOOKUP(Q223,Divipolas!$A$2:$B$1123,2,FALSE)),\"\",VLOOKUP(Q223,Divipolas!$A$2:$B$1123,2,FALSE))","v":""},"",{"$f":"IF(ISNA(VLOOKUP((CONCATENATE(Q223,S223)),Divipolas!$F$2:$G$1123,2,FALSE)),\"\",VLOOKUP((CONCATENATE(Q223,S223)),Divipolas!$F$2:$G$1123,2,FALSE))","v":""},"","","","","","",{"$f":"IF(ISNA(VLOOKUP(Z223,'CODIGO PAIS'!$A$2:$B$231,2,FALSE)),\"\",VLOOKUP(Z223,'CODIGO PAIS'!$A$2:$B$231,2,FALSE))","v":""},"",{"$f":"IF(ISNA(VLOOKUP(AB223,Divipolas!$A$2:$B$1123,2,FALSE)),\"\",VLOOKUP(AB223,Divipolas!$A$2:$B$1123,2,FALSE))","v":""},"",{"$f":"IF(ISNA(VLOOKUP((CONCATENATE(AB223,AD223)),Divipolas!$F$2:$G$1123,2,FALSE)),\"\",VLOOKUP((CONCATENATE(AB223,AD223)),Divipolas!$F$2:$G$1123,2,FALSE))","v":""},"","","","","",{"$f":"IF(ISNA(VLOOKUP(AJ223,Divipolas!$A$2:$B$1123,2,FALSE)),\"\",VLOOKUP(AJ223,Divipolas!$A$2:$B$1123,2,FALSE))","v":""},"",{"$f":"IF(ISNA(VLOOKUP((CONCATENATE(AJ223,AL223)),Divipolas!$F$2:$G$1123,2,FALSE)),\"\",VLOOKUP((CONCATENATE(AJ223,AL223)),Divipolas!$F$2:$G$1123,2,FALSE))","v":""},"","","","","","","","","","","","","","",null,null,null,null,null,null,null,{"$f":"IF(ISNA(VLOOKUP(BH223,'CODIGO PAIS'!$A$2:$B$231,2,FALSE)),\"\",VLOOKUP(BH223,'CODIGO PAIS'!$A$2:$B$231,2,FALSE))","v":""},null,{"$f":"IF(ISNA(VLOOKUP(BJ223,Divipolas!$A$2:$B$1123,2,FALSE)),\"\",VLOOKUP(BJ223,Divipolas!$A$2:$B$1123,2,FALSE))","v":""},null,{"$f":"IF(ISNA(VLOOKUP((CONCATENATE(BJ223,BL223)),Divipolas!$F$2:$G$1123,2,FALSE)),\"\",VLOOKUP((CONCATENATE(BJ223,BL223)),Divipolas!$F$2:$G$1123,2,FALSE))","v":""},null,"","",null,null,null,null,{"$f":"IF(ISNA(VLOOKUP(BT223,Divipolas!$A$2:$B$1123,2,FALSE)),\"\",VLOOKUP(BT223,Divipolas!$A$2:$B$1123,2,FALSE))","v":""},null,{"$f":"IF(ISNA(VLOOKUP((CONCATENATE(BT223,BV223)),Divipolas!$F$2:$G$1123,2,FALSE)),\"\",VLOOKUP((CONCATENATE(BT223,BV223)),Divipolas!$F$2:$G$1123,2,FALSE))","v":""},null,null,null,null,null,null,null,null,null,null,null,null,null,null,null,null,null,null,null,null,null,null,null,"",null,null,null,null,null,null,null,null,null,null,null,null,null,null,null,null,null,null,null,null,null,null,null,null,null,null,null,null,null,null,null,null,null,null,null,null,null,null,null,null,null,null,null,null,null,null,null,null,null,null,null,null,null,null,null,null,null,null,null,null,null,null,null,null,null,null,null,null,null,null,null,null,null,null,null,null,"",null,null,null,null,null,null,null,"VERIFIQUE FECHAS",null,null,null,null,null,null,null,null,null,"VERIFIQUE COLUMNA D"]
["","",null,"",{"$f":"IFERROR(VLOOKUP(D224,'CODIGO REGIONALES'!$J$2:$L$33,3,0),\"\")","v":""},"",{"$f":"IF(ISNA(VLOOKUP(F224,Divipolas!$A$2:$B$1123,2,FALSE)),\"\",VLOOKUP(F224,Divipolas!$A$2:$B$1123,2,FALSE))","v":""},"",{"$f":"IF(ISNA(VLOOKUP((CONCATENATE(F224,H224)),Divipolas!$F$2:$G$1123,2,FALSE)),\"\",VLOOKUP((CONCATENATE(F224,H224)),Divipolas!$F$2:$G$1123,2,FALSE))","v":""},"","","","","","","","",{"$f":"IF(ISNA(VLOOKUP(Q224,Divipolas!$A$2:$B$1123,2,FALSE)),\"\",VLOOKUP(Q224,Divipolas!$A$2:$B$1123,2,FALSE))","v":""},"",{"$f":"IF(ISNA(VLOOKUP((CONCATENATE(Q224,S224)),Divipolas!$F$2:$G$1123,2,FALSE)),\"\",VLOOKUP((CONCATENATE(Q224,S224)),Divipolas!$F$2:$G$1123,2,FALSE))","v":""},"","","","","","",{"$f":"IF(ISNA(VLOOKUP(Z224,'CODIGO PAIS'!$A$2:$B$231,2,FALSE)),\"\",VLOOKUP(Z224,'CODIGO PAIS'!$A$2:$B$231,2,FALSE))","v":""},"",{"$f":"IF(ISNA(VLOOKUP(AB224,Divipolas!$A$2:$B$1123,2,FALSE)),\"\",VLOOKUP(AB224,Divipolas!$A$2:$B$1123,2,FALSE))","v":""},"",{"$f":"IF(ISNA(VLOOKUP((CONCATENATE(AB224,AD224)),Divipolas!$F$2:$G$1123,2,FALSE)),\"\",VLOOKUP((CONCATENATE(AB224,AD224)),Divipolas!$F$2:$G$1123,2,FALSE))","v":""},"","","","","",{"$f":"IF(ISNA(VLOOKUP(AJ224,Divipolas!$A$2:$B$1123,2,FALSE)),\"\",VLOOKUP(AJ224,Divipolas!$A$2:$B$1123,2,FALSE))","v":""},"",{"$f":"IF(ISNA(VLOOKUP((CONCATENATE(AJ224,AL224)),Divipolas!$F$2:$G$1123,2,FALSE)),\"\",VLOOKUP((CONCATENATE(AJ224,AL224)),Divipolas!$F$2:$G$1123,2,FALSE))","v":""},"","","","","","","","","","","","","","",null,null,null,null,null,null,null,{"$f":"IF(ISNA(VLOOKUP(BH224,'CODIGO PAIS'!$A$2:$B$231,2,FALSE)),\"\",VLOOKUP(BH224,'CODIGO PAIS'!$A$2:$B$231,2,FALSE))","v":""},null,{"$f":"IF(ISNA(VLOOKUP(BJ224,Divipolas!$A$2:$B$1123,2,FALSE)),\"\",VLOOKUP(BJ224,Divipolas!$A$2:$B$1123,2,FALSE))","v":""},null,{"$f":"IF(ISNA(VLOOKUP((CONCATENATE(BJ224,BL224)),Divipolas!$F$2:$G$1123,2,FALSE)),\"\",VLOOKUP((CONCATENATE(BJ224,BL224)),Divipolas!$F$2:$G$1123,2,FALSE))","v":""},null,"","",null,null,null,null,{"$f":"IF(ISNA(VLOOKUP(BT224,Divipolas!$A$2:$B$1123,2,FALSE)),\"\",VLOOKUP(BT224,Divipolas!$A$2:$B$1123,2,FALSE))","v":""},null,{"$f":"IF(ISNA(VLOOKUP((CONCATENATE(BT224,BV224)),Divipolas!$F$2:$G$1123,2,FALSE)),\"\",VLOOKUP((CONCATENATE(BT224,BV224)),Divipolas!$F$2:$G$1123,2,FALSE))","v":""},null,null,null,null,null,null,null,null,null,null,null,null,null,null,null,null,null,null,null,null,null,null,null,"",null,null,null,null,null,null,null,null,null,null,null,null,null,null,null,null,null,null,null,null,null,null,null,null,null,null,null,null,null,null,null,null,null,null,null,null,null,null,null,null,null,null,null,null,null,null,null,null,null,null,null,null,null,null,null,null,null,null,null,null,null,null,null,null,null,null,null,null,null,null,null,null,null,null,null,null,"",null,null,null,null,null,null,null,"VERIFIQUE FECHAS",null,null,null,null,null,null,null,null,null,"VERIFIQUE COLUMNA D"]
["","",null,"",{"$f":"IFERROR(VLOOKUP(D225,'CODIGO REGIONALES'!$J$2:$L$33,3,0),\"\")","v":""},"",{"$f":"IF(ISNA(VLOOKUP(F225,Divipolas!$A$2:$B$1123,2,FALSE)),\"\",VLOOKUP(F225,Divipolas!$A$2:$B$1123,2,FALSE))","v":""},"",{"$f":"IF(ISNA(VLOOKUP((CONCATENATE(F225,H225)),Divipolas!$F$2:$G$1123,2,FALSE)),\"\",VLOOKUP((CONCATENATE(F225,H225)),Divipolas!$F$2:$G$1123,2,FALSE))","v":""},"","","","","","","","",{"$f":"IF(ISNA(VLOOKUP(Q225,Divipolas!$A$2:$B$1123,2,FALSE)),\"\",VLOOKUP(Q225,Divipolas!$A$2:$B$1123,2,FALSE))","v":""},"",{"$f":"IF(ISNA(VLOOKUP((CONCATENATE(Q225,S225)),Divipolas!$F$2:$G$1123,2,FALSE)),\"\",VLOOKUP((CONCATENATE(Q225,S225)),Divipolas!$F$2:$G$1123,2,FALSE))","v":""},"","","","","","",{"$f":"IF(ISNA(VLOOKUP(Z225,'CODIGO PAIS'!$A$2:$B$231,2,FALSE)),\"\",VLOOKUP(Z225,'CODIGO PAIS'!$A$2:$B$231,2,FALSE))","v":""},"",{"$f":"IF(ISNA(VLOOKUP(AB225,Divipolas!$A$2:$B$1123,2,FALSE)),\"\",VLOOKUP(AB225,Divipolas!$A$2:$B$1123,2,FALSE))","v":""},"",{"$f":"IF(ISNA(VLOOKUP((CONCATENATE(AB225,AD225)),Divipolas!$F$2:$G$1123,2,FALSE)),\"\",VLOOKUP((CONCATENATE(AB225,AD225)),Divipolas!$F$2:$G$1123,2,FALSE))","v":""},"","","","","",{"$f":"IF(ISNA(VLOOKUP(AJ225,Divipolas!$A$2:$B$1123,2,FALSE)),\"\",VLOOKUP(AJ225,Divipolas!$A$2:$B$1123,2,FALSE))","v":""},"",{"$f":"IF(ISNA(VLOOKUP((CONCATENATE(AJ225,AL225)),Divipolas!$F$2:$G$1123,2,FALSE)),\"\",VLOOKUP((CONCATENATE(AJ225,AL225)),Divipolas!$F$2:$G$1123,2,FALSE))","v":""},"","","","","","","","","","","","","","",null,null,null,null,null,null,null,{"$f":"IF(ISNA(VLOOKUP(BH225,'CODIGO PAIS'!$A$2:$B$231,2,FALSE)),\"\",VLOOKUP(BH225,'CODIGO PAIS'!$A$2:$B$231,2,FALSE))","v":""},null,{"$f":"IF(ISNA(VLOOKUP(BJ225,Divipolas!$A$2:$B$1123,2,FALSE)),\"\",VLOOKUP(BJ225,Divipolas!$A$2:$B$1123,2,FALSE))","v":""},null,{"$f":"IF(ISNA(VLOOKUP((CONCATENATE(BJ225,BL225)),Divipolas!$F$2:$G$1123,2,FALSE)),\"\",VLOOKUP((CONCATENATE(BJ225,BL225)),Divipolas!$F$2:$G$1123,2,FALSE))","v":""},null,"","",null,null,null,null,{"$f":"IF(ISNA(VLOOKUP(BT225,Divipolas!$A$2:$B$1123,2,FALSE)),\"\",VLOOKUP(BT225,Divipolas!$A$2:$B$1123,2,FALSE))","v":""},null,{"$f":"IF(ISNA(VLOOKUP((CONCATENATE(BT225,BV225)),Divipolas!$F$2:$G$1123,2,FALSE)),\"\",VLOOKUP((CONCATENATE(BT225,BV225)),Divipolas!$F$2:$G$1123,2,FALSE))","v":""},null,null,null,null,null,null,null,null,null,null,null,null,null,null,null,null,null,null,null,null,null,null,null,"",null,null,null,null,null,null,null,null,null,null,null,null,null,null,null,null,null,null,null,null,null,null,null,null,null,null,null,null,null,null,null,null,null,null,null,null,null,null,null,null,null,null,null,null,null,null,null,null,null,null,null,null,null,null,null,null,null,null,null,null,null,null,null,null,null,null,null,null,null,null,null,null,null,null,null,null,"",null,null,null,null,null,null,null,"VERIFIQUE FECHAS",null,null,null,null,null,null,null,null,null,"VERIFIQUE COLUMNA D"]
["","",null,"",{"$f":"IFERROR(VLOOKUP(D226,'CODIGO REGIONALES'!$J$2:$L$33,3,0),\"\")","v":""},"",{"$f":"IF(ISNA(VLOOKUP(F226,Divipolas!$A$2:$B$1123,2,FALSE)),\"\",VLOOKUP(F226,Divipolas!$A$2:$B$1123,2,FALSE))","v":""},"",{"$f":"IF(ISNA(VLOOKUP((CONCATENATE(F226,H226)),Divipolas!$F$2:$G$1123,2,FALSE)),\"\",VLOOKUP((CONCATENATE(F226,H226)),Divipolas!$F$2:$G$1123,2,FALSE))","v":""},"","","","","","","","",{"$f":"IF(ISNA(VLOOKUP(Q226,Divipolas!$A$2:$B$1123,2,FALSE)),\"\",VLOOKUP(Q226,Divipolas!$A$2:$B$1123,2,FALSE))","v":""},"",{"$f":"IF(ISNA(VLOOKUP((CONCATENATE(Q226,S226)),Divipolas!$F$2:$G$1123,2,FALSE)),\"\",VLOOKUP((CONCATENATE(Q226,S226)),Divipolas!$F$2:$G$1123,2,FALSE))","v":""},"","","","","","",{"$f":"IF(ISNA(VLOOKUP(Z226,'CODIGO PAIS'!$A$2:$B$231,2,FALSE)),\"\",VLOOKUP(Z226,'CODIGO PAIS'!$A$2:$B$231,2,FALSE))","v":""},"",{"$f":"IF(ISNA(VLOOKUP(AB226,Divipolas!$A$2:$B$1123,2,FALSE)),\"\",VLOOKUP(AB226,Divipolas!$A$2:$B$1123,2,FALSE))","v":""},"",{"$f":"IF(ISNA(VLOOKUP((CONCATENATE(AB226,AD226)),Divipolas!$F$2:$G$1123,2,FALSE)),\"\",VLOOKUP((CONCATENATE(AB226,AD226)),Divipolas!$F$2:$G$1123,2,FALSE))","v":""},"","","","","",{"$f":"IF(ISNA(VLOOKUP(AJ226,Divipolas!$A$2:$B$1123,2,FALSE)),\"\",VLOOKUP(AJ226,Divipolas!$A$2:$B$1123,2,FALSE))","v":""},"",{"$f":"IF(ISNA(VLOOKUP((CONCATENATE(AJ226,AL226)),Divipolas!$F$2:$G$1123,2,FALSE)),\"\",VLOOKUP((CONCATENATE(AJ226,AL226)),Divipolas!$F$2:$G$1123,2,FALSE))","v":""},"","","","","","","","","","","","","","",null,null,null,null,null,null,null,{"$f":"IF(ISNA(VLOOKUP(BH226,'CODIGO PAIS'!$A$2:$B$231,2,FALSE)),\"\",VLOOKUP(BH226,'CODIGO PAIS'!$A$2:$B$231,2,FALSE))","v":""},null,{"$f":"IF(ISNA(VLOOKUP(BJ226,Divipolas!$A$2:$B$1123,2,FALSE)),\"\",VLOOKUP(BJ226,Divipolas!$A$2:$B$1123,2,FALSE))","v":""},null,{"$f":"IF(ISNA(VLOOKUP((CONCATENATE(BJ226,BL226)),Divipolas!$F$2:$G$1123,2,FALSE)),\"\",VLOOKUP((CONCATENATE(BJ226,BL226)),Divipolas!$F$2:$G$1123,2,FALSE))","v":""},null,"","",null,null,null,null,{"$f":"IF(ISNA(VLOOKUP(BT226,Divipolas!$A$2:$B$1123,2,FALSE)),\"\",VLOOKUP(BT226,Divipolas!$A$2:$B$1123,2,FALSE))","v":""},null,{"$f":"IF(ISNA(VLOOKUP((CONCATENATE(BT226,BV226)),Divipolas!$F$2:$G$1123,2,FALSE)),\"\",VLOOKUP((CONCATENATE(BT226,BV226)),Divipolas!$F$2:$G$1123,2,FALSE))","v":""},null,null,null,null,null,null,null,null,null,null,null,null,null,null,null,null,null,null,null,null,null,null,null,"",null,null,null,null,null,null,null,null,null,null,null,null,null,null,null,null,null,null,null,null,null,null,null,null,null,null,null,null,null,null,null,null,null,null,null,null,null,null,null,null,null,null,null,null,null,null,null,null,null,null,null,null,null,null,null,null,null,null,null,null,null,null,null,null,null,null,null,null,null,null,null,null,null,null,null,null,"",null,null,null,null,null,null,null,"VERIFIQUE FECHAS",null,null,null,null,null,null,null,null,null,"VERIFIQUE COLUMNA D"]
["","",null,"",{"$f":"IFERROR(VLOOKUP(D227,'CODIGO REGIONALES'!$J$2:$L$33,3,0),\"\")","v":""},"",{"$f":"IF(ISNA(VLOOKUP(F227,Divipolas!$A$2:$B$1123,2,FALSE)),\"\",VLOOKUP(F227,Divipolas!$A$2:$B$1123,2,FALSE))","v":""},"",{"$f":"IF(ISNA(VLOOKUP((CONCATENATE(F227,H227)),Divipolas!$F$2:$G$1123,2,FALSE)),\"\",VLOOKUP((CONCATENATE(F227,H227)),Divipolas!$F$2:$G$1123,2,FALSE))","v":""},"","","","","","","","",{"$f":"IF(ISNA(VLOOKUP(Q227,Divipolas!$A$2:$B$1123,2,FALSE)),\"\",VLOOKUP(Q227,Divipolas!$A$2:$B$1123,2,FALSE))","v":""},"",{"$f":"IF(ISNA(VLOOKUP((CONCATENATE(Q227,S227)),Divipolas!$F$2:$G$1123,2,FALSE)),\"\",VLOOKUP((CONCATENATE(Q227,S227)),Divipolas!$F$2:$G$1123,2,FALSE))","v":""},"","","","","","",{"$f":"IF(ISNA(VLOOKUP(Z227,'CODIGO PAIS'!$A$2:$B$231,2,FALSE)),\"\",VLOOKUP(Z227,'CODIGO PAIS'!$A$2:$B$231,2,FALSE))","v":""},"",{"$f":"IF(ISNA(VLOOKUP(AB227,Divipolas!$A$2:$B$1123,2,FALSE)),\"\",VLOOKUP(AB227,Divipolas!$A$2:$B$1123,2,FALSE))","v":""},"",{"$f":"IF(ISNA(VLOOKUP((CONCATENATE(AB227,AD227)),Divipolas!$F$2:$G$1123,2,FALSE)),\"\",VLOOKUP((CONCATENATE(AB227,AD227)),Divipolas!$F$2:$G$1123,2,FALSE))","v":""},"","","","","",{"$f":"IF(ISNA(VLOOKUP(AJ227,Divipolas!$A$2:$B$1123,2,FALSE)),\"\",VLOOKUP(AJ227,Divipolas!$A$2:$B$1123,2,FALSE))","v":""},"",{"$f":"IF(ISNA(VLOOKUP((CONCATENATE(AJ227,AL227)),Divipolas!$F$2:$G$1123,2,FALSE)),\"\",VLOOKUP((CONCATENATE(AJ227,AL227)),Divipolas!$F$2:$G$1123,2,FALSE))","v":""},"","","","","","","","","","","","","","",null,null,null,null,null,null,null,{"$f":"IF(ISNA(VLOOKUP(BH227,'CODIGO PAIS'!$A$2:$B$231,2,FALSE)),\"\",VLOOKUP(BH227,'CODIGO PAIS'!$A$2:$B$231,2,FALSE))","v":""},null,{"$f":"IF(ISNA(VLOOKUP(BJ227,Divipolas!$A$2:$B$1123,2,FALSE)),\"\",VLOOKUP(BJ227,Divipolas!$A$2:$B$1123,2,FALSE))","v":""},null,{"$f":"IF(ISNA(VLOOKUP((CONCATENATE(BJ227,BL227)),Divipolas!$F$2:$G$1123,2,FALSE)),\"\",VLOOKUP((CONCATENATE(BJ227,BL227)),Divipolas!$F$2:$G$1123,2,FALSE))","v":""},null,"","",null,null,null,null,{"$f":"IF(ISNA(VLOOKUP(BT227,Divipolas!$A$2:$B$1123,2,FALSE)),\"\",VLOOKUP(BT227,Divipolas!$A$2:$B$1123,2,FALSE))","v":""},null,{"$f":"IF(ISNA(VLOOKUP((CONCATENATE(BT227,BV227)),Divipolas!$F$2:$G$1123,2,FALSE)),\"\",VLOOKUP((CONCATENATE(BT227,BV227)),Divipolas!$F$2:$G$1123,2,FALSE))","v":""},null,null,null,null,null,null,null,null,null,null,null,null,null,null,null,null,null,null,null,null,null,null,null,"",null,null,null,null,null,null,null,null,null,null,null,null,null,null,null,null,null,null,null,null,null,null,null,null,null,null,null,null,null,null,null,null,null,null,null,null,null,null,null,null,null,null,null,null,null,null,null,null,null,null,null,null,null,null,null,null,null,null,null,null,null,null,null,null,null,null,null,null,null,null,null,null,null,null,null,null,"",null,null,null,null,null,null,null,"VERIFIQUE FECHAS",null,null,null,null,null,null,null,null,null,"VERIFIQUE COLUMNA D"]
["","",null,"",{"$f":"IFERROR(VLOOKUP(D228,'CODIGO REGIONALES'!$J$2:$L$33,3,0),\"\")","v":""},"",{"$f":"IF(ISNA(VLOOKUP(F228,Divipolas!$A$2:$B$1123,2,FALSE)),\"\",VLOOKUP(F228,Divipolas!$A$2:$B$1123,2,FALSE))","v":""},"",{"$f":"IF(ISNA(VLOOKUP((CONCATENATE(F228,H228)),Divipolas!$F$2:$G$1123,2,FALSE)),\"\",VLOOKUP((CONCATENATE(F228,H228)),Divipolas!$F$2:$G$1123,2,FALSE))","v":""},"","","","","","","","",{"$f":"IF(ISNA(VLOOKUP(Q228,Divipolas!$A$2:$B$1123,2,FALSE)),\"\",VLOOKUP(Q228,Divipolas!$A$2:$B$1123,2,FALSE))","v":""},"",{"$f":"IF(ISNA(VLOOKUP((CONCATENATE(Q228,S228)),Divipolas!$F$2:$G$1123,2,FALSE)),\"\",VLOOKUP((CONCATENATE(Q228,S228)),Divipolas!$F$2:$G$1123,2,FALSE))","v":""},"","","","","","",{"$f":"IF(ISNA(VLOOKUP(Z228,'CODIGO PAIS'!$A$2:$B$231,2,FALSE)),\"\",VLOOKUP(Z228,'CODIGO PAIS'!$A$2:$B$231,2,FALSE))","v":""},"",{"$f":"IF(ISNA(VLOOKUP(AB228,Divipolas!$A$2:$B$1123,2,FALSE)),\"\",VLOOKUP(AB228,Divipolas!$A$2:$B$1123,2,FALSE))","v":""},"",{"$f":"IF(ISNA(VLOOKUP((CONCATENATE(AB228,AD228)),Divipolas!$F$2:$G$1123,2,FALSE)),\"\",VLOOKUP((CONCATENATE(AB228,AD228)),Divipolas!$F$2:$G$1123,2,FALSE))","v":""},"","","","","",{"$f":"IF(ISNA(VLOOKUP(AJ228,Divipolas!$A$2:$B$1123,2,FALSE)),\"\",VLOOKUP(AJ228,Divipolas!$A$2:$B$1123,2,FALSE))","v":""},"",{"$f":"IF(ISNA(VLOOKUP((CONCATENATE(AJ228,AL228)),Divipolas!$F$2:$G$1123,2,FALSE)),\"\",VLOOKUP((CONCATENATE(AJ228,AL228)),Divipolas!$F$2:$G$1123,2,FALSE))","v":""},"","","","","","","","","","","","","","",null,null,null,null,null,null,null,{"$f":"IF(ISNA(VLOOKUP(BH228,'CODIGO PAIS'!$A$2:$B$231,2,FALSE)),\"\",VLOOKUP(BH228,'CODIGO PAIS'!$A$2:$B$231,2,FALSE))","v":""},null,{"$f":"IF(ISNA(VLOOKUP(BJ228,Divipolas!$A$2:$B$1123,2,FALSE)),\"\",VLOOKUP(BJ228,Divipolas!$A$2:$B$1123,2,FALSE))","v":""},null,{"$f":"IF(ISNA(VLOOKUP((CONCATENATE(BJ228,BL228)),Divipolas!$F$2:$G$1123,2,FALSE)),\"\",VLOOKUP((CONCATENATE(BJ228,BL228)),Divipolas!$F$2:$G$1123,2,FALSE))","v":""},null,"","",null,null,null,null,{"$f":"IF(ISNA(VLOOKUP(BT228,Divipolas!$A$2:$B$1123,2,FALSE)),\"\",VLOOKUP(BT228,Divipolas!$A$2:$B$1123,2,FALSE))","v":""},null,{"$f":"IF(ISNA(VLOOKUP((CONCATENATE(BT228,BV228)),Divipolas!$F$2:$G$1123,2,FALSE)),\"\",VLOOKUP((CONCATENATE(BT228,BV228)),Divipolas!$F$2:$G$1123,2,FALSE))","v":""},null,null,null,null,null,null,null,null,null,null,null,null,null,null,null,null,null,null,null,null,null,null,null,"",null,null,null,null,null,null,null,null,null,null,null,null,null,null,null,null,null,null,null,null,null,null,null,null,null,null,null,null,null,null,null,null,null,null,null,null,null,null,null,null,null,null,null,null,null,null,null,null,null,null,null,null,null,null,null,null,null,null,null,null,null,null,null,null,null,null,null,null,null,null,null,null,null,null,null,null,"",null,null,null,null,null,null,null,"VERIFIQUE FECHAS",null,null,null,null,null,null,null,null,null,"VERIFIQUE COLUMNA D"]
["","",null,"",{"$f":"IFERROR(VLOOKUP(D229,'CODIGO REGIONALES'!$J$2:$L$33,3,0),\"\")","v":""},"",{"$f":"IF(ISNA(VLOOKUP(F229,Divipolas!$A$2:$B$1123,2,FALSE)),\"\",VLOOKUP(F229,Divipolas!$A$2:$B$1123,2,FALSE))","v":""},"",{"$f":"IF(ISNA(VLOOKUP((CONCATENATE(F229,H229)),Divipolas!$F$2:$G$1123,2,FALSE)),\"\",VLOOKUP((CONCATENATE(F229,H229)),Divipolas!$F$2:$G$1123,2,FALSE))","v":""},"","","","","","","","",{"$f":"IF(ISNA(VLOOKUP(Q229,Divipolas!$A$2:$B$1123,2,FALSE)),\"\",VLOOKUP(Q229,Divipolas!$A$2:$B$1123,2,FALSE))","v":""},"",{"$f":"IF(ISNA(VLOOKUP((CONCATENATE(Q229,S229)),Divipolas!$F$2:$G$1123,2,FALSE)),\"\",VLOOKUP((CONCATENATE(Q229,S229)),Divipolas!$F$2:$G$1123,2,FALSE))","v":""},"","","","","","",{"$f":"IF(ISNA(VLOOKUP(Z229,'CODIGO PAIS'!$A$2:$B$231,2,FALSE)),\"\",VLOOKUP(Z229,'CODIGO PAIS'!$A$2:$B$231,2,FALSE))","v":""},"",{"$f":"IF(ISNA(VLOOKUP(AB229,Divipolas!$A$2:$B$1123,2,FALSE)),\"\",VLOOKUP(AB229,Divipolas!$A$2:$B$1123,2,FALSE))","v":""},"",{"$f":"IF(ISNA(VLOOKUP((CONCATENATE(AB229,AD229)),Divipolas!$F$2:$G$1123,2,FALSE)),\"\",VLOOKUP((CONCATENATE(AB229,AD229)),Divipolas!$F$2:$G$1123,2,FALSE))","v":""},"","","","","",{"$f":"IF(ISNA(VLOOKUP(AJ229,Divipolas!$A$2:$B$1123,2,FALSE)),\"\",VLOOKUP(AJ229,Divipolas!$A$2:$B$1123,2,FALSE))","v":""},"",{"$f":"IF(ISNA(VLOOKUP((CONCATENATE(AJ229,AL229)),Divipolas!$F$2:$G$1123,2,FALSE)),\"\",VLOOKUP((CONCATENATE(AJ229,AL229)),Divipolas!$F$2:$G$1123,2,FALSE))","v":""},"","","","","","","","","","","","","","",null,null,null,null,null,null,null,{"$f":"IF(ISNA(VLOOKUP(BH229,'CODIGO PAIS'!$A$2:$B$231,2,FALSE)),\"\",VLOOKUP(BH229,'CODIGO PAIS'!$A$2:$B$231,2,FALSE))","v":""},null,{"$f":"IF(ISNA(VLOOKUP(BJ229,Divipolas!$A$2:$B$1123,2,FALSE)),\"\",VLOOKUP(BJ229,Divipolas!$A$2:$B$1123,2,FALSE))","v":""},null,{"$f":"IF(ISNA(VLOOKUP((CONCATENATE(BJ229,BL229)),Divipolas!$F$2:$G$1123,2,FALSE)),\"\",VLOOKUP((CONCATENATE(BJ229,BL229)),Divipolas!$F$2:$G$1123,2,FALSE))","v":""},null,"","",null,null,null,null,{"$f":"IF(ISNA(VLOOKUP(BT229,Divipolas!$A$2:$B$1123,2,FALSE)),\"\",VLOOKUP(BT229,Divipolas!$A$2:$B$1123,2,FALSE))","v":""},null,{"$f":"IF(ISNA(VLOOKUP((CONCATENATE(BT229,BV229)),Divipolas!$F$2:$G$1123,2,FALSE)),\"\",VLOOKUP((CONCATENATE(BT229,BV229)),Divipolas!$F$2:$G$1123,2,FALSE))","v":""},null,null,null,null,null,null,null,null,null,null,null,null,null,null,null,null,null,null,null,null,null,null,null,"",null,null,null,null,null,null,null,null,null,null,null,null,null,null,null,null,null,null,null,null,null,null,null,null,null,null,null,null,null,null,null,null,null,null,null,null,null,null,null,null,null,null,null,null,null,null,null,null,null,null,null,null,null,null,null,null,null,null,null,null,null,null,null,null,null,null,null,null,null,null,null,null,null,null,null,null,"",null,null,null,null,null,null,null,"VERIFIQUE FECHAS",null,null,null,null,null,null,null,null,null,"VERIFIQUE COLUMNA D"]
["","",null,"",{"$f":"IFERROR(VLOOKUP(D230,'CODIGO REGIONALES'!$J$2:$L$33,3,0),\"\")","v":""},"",{"$f":"IF(ISNA(VLOOKUP(F230,Divipolas!$A$2:$B$1123,2,FALSE)),\"\",VLOOKUP(F230,Divipolas!$A$2:$B$1123,2,FALSE))","v":""},"",{"$f":"IF(ISNA(VLOOKUP((CONCATENATE(F230,H230)),Divipolas!$F$2:$G$1123,2,FALSE)),\"\",VLOOKUP((CONCATENATE(F230,H230)),Divipolas!$F$2:$G$1123,2,FALSE))","v":""},"","","","","","","","",{"$f":"IF(ISNA(VLOOKUP(Q230,Divipolas!$A$2:$B$1123,2,FALSE)),\"\",VLOOKUP(Q230,Divipolas!$A$2:$B$1123,2,FALSE))","v":""},"",{"$f":"IF(ISNA(VLOOKUP((CONCATENATE(Q230,S230)),Divipolas!$F$2:$G$1123,2,FALSE)),\"\",VLOOKUP((CONCATENATE(Q230,S230)),Divipolas!$F$2:$G$1123,2,FALSE))","v":""},"","","","","","",{"$f":"IF(ISNA(VLOOKUP(Z230,'CODIGO PAIS'!$A$2:$B$231,2,FALSE)),\"\",VLOOKUP(Z230,'CODIGO PAIS'!$A$2:$B$231,2,FALSE))","v":""},"",{"$f":"IF(ISNA(VLOOKUP(AB230,Divipolas!$A$2:$B$1123,2,FALSE)),\"\",VLOOKUP(AB230,Divipolas!$A$2:$B$1123,2,FALSE))","v":""},"",{"$f":"IF(ISNA(VLOOKUP((CONCATENATE(AB230,AD230)),Divipolas!$F$2:$G$1123,2,FALSE)),\"\",VLOOKUP((CONCATENATE(AB230,AD230)),Divipolas!$F$2:$G$1123,2,FALSE))","v":""},"","","","","",{"$f":"IF(ISNA(VLOOKUP(AJ230,Divipolas!$A$2:$B$1123,2,FALSE)),\"\",VLOOKUP(AJ230,Divipolas!$A$2:$B$1123,2,FALSE))","v":""},"",{"$f":"IF(ISNA(VLOOKUP((CONCATENATE(AJ230,AL230)),Divipolas!$F$2:$G$1123,2,FALSE)),\"\",VLOOKUP((CONCATENATE(AJ230,AL230)),Divipolas!$F$2:$G$1123,2,FALSE))","v":""},"","","","","","","","","","","","","","",null,null,null,null,null,null,null,{"$f":"IF(ISNA(VLOOKUP(BH230,'CODIGO PAIS'!$A$2:$B$231,2,FALSE)),\"\",VLOOKUP(BH230,'CODIGO PAIS'!$A$2:$B$231,2,FALSE))","v":""},null,{"$f":"IF(ISNA(VLOOKUP(BJ230,Divipolas!$A$2:$B$1123,2,FALSE)),\"\",VLOOKUP(BJ230,Divipolas!$A$2:$B$1123,2,FALSE))","v":""},null,{"$f":"IF(ISNA(VLOOKUP((CONCATENATE(BJ230,BL230)),Divipolas!$F$2:$G$1123,2,FALSE)),\"\",VLOOKUP((CONCATENATE(BJ230,BL230)),Divipolas!$F$2:$G$1123,2,FALSE))","v":""},null,"","",null,null,null,null,{"$f":"IF(ISNA(VLOOKUP(BT230,Divipolas!$A$2:$B$1123,2,FALSE)),\"\",VLOOKUP(BT230,Divipolas!$A$2:$B$1123,2,FALSE))","v":""},null,{"$f":"IF(ISNA(VLOOKUP((CONCATENATE(BT230,BV230)),Divipolas!$F$2:$G$1123,2,FALSE)),\"\",VLOOKUP((CONCATENATE(BT230,BV230)),Divipolas!$F$2:$G$1123,2,FALSE))","v":""},null,null,null,null,null,null,null,null,null,null,null,null,null,null,null,null,null,null,null,null,null,null,null,"",null,null,null,null,null,null,null,null,null,null,null,null,null,null,null,null,null,null,null,null,null,null,null,null,null,null,null,null,null,null,null,null,null,null,null,null,null,null,null,null,null,null,null,null,null,null,null,null,null,null,null,null,null,null,null,null,null,null,null,null,null,null,null,null,null,null,null,null,null,null,null,null,null,null,null,null,"",null,null,null,null,null,null,null,"VERIFIQUE FECHAS",null,null,null,null,null,null,null,null,null,"VERIFIQUE COLUMNA D"]
["","",null,"",{"$f":"IFERROR(VLOOKUP(D231,'CODIGO REGIONALES'!$J$2:$L$33,3,0),\"\")","v":""},"",{"$f":"IF(ISNA(VLOOKUP(F231,Divipolas!$A$2:$B$1123,2,FALSE)),\"\",VLOOKUP(F231,Divipolas!$A$2:$B$1123,2,FALSE))","v":""},"",{"$f":"IF(ISNA(VLOOKUP((CONCATENATE(F231,H231)),Divipolas!$F$2:$G$1123,2,FALSE)),\"\",VLOOKUP((CONCATENATE(F231,H231)),Divipolas!$F$2:$G$1123,2,FALSE))","v":""},"","","","","","","","",{"$f":"IF(ISNA(VLOOKUP(Q231,Divipolas!$A$2:$B$1123,2,FALSE)),\"\",VLOOKUP(Q231,Divipolas!$A$2:$B$1123,2,FALSE))","v":""},"",{"$f":"IF(ISNA(VLOOKUP((CONCATENATE(Q231,S231)),Divipolas!$F$2:$G$1123,2,FALSE)),\"\",VLOOKUP((CONCATENATE(Q231,S231)),Divipolas!$F$2:$G$1123,2,FALSE))","v":""},"","","","","","",{"$f":"IF(ISNA(VLOOKUP(Z231,'CODIGO PAIS'!$A$2:$B$231,2,FALSE)),\"\",VLOOKUP(Z231,'CODIGO PAIS'!$A$2:$B$231,2,FALSE))","v":""},"",{"$f":"IF(ISNA(VLOOKUP(AB231,Divipolas!$A$2:$B$1123,2,FALSE)),\"\",VLOOKUP(AB231,Divipolas!$A$2:$B$1123,2,FALSE))","v":""},"",{"$f":"IF(ISNA(VLOOKUP((CONCATENATE(AB231,AD231)),Divipolas!$F$2:$G$1123,2,FALSE)),\"\",VLOOKUP((CONCATENATE(AB231,AD231)),Divipolas!$F$2:$G$1123,2,FALSE))","v":""},"","","","","",{"$f":"IF(ISNA(VLOOKUP(AJ231,Divipolas!$A$2:$B$1123,2,FALSE)),\"\",VLOOKUP(AJ231,Divipolas!$A$2:$B$1123,2,FALSE))","v":""},"",{"$f":"IF(ISNA(VLOOKUP((CONCATENATE(AJ231,AL231)),Divipolas!$F$2:$G$1123,2,FALSE)),\"\",VLOOKUP((CONCATENATE(AJ231,AL231)),Divipolas!$F$2:$G$1123,2,FALSE))","v":""},"","","","","","","","","","","","","","",null,null,null,null,null,null,null,{"$f":"IF(ISNA(VLOOKUP(BH231,'CODIGO PAIS'!$A$2:$B$231,2,FALSE)),\"\",VLOOKUP(BH231,'CODIGO PAIS'!$A$2:$B$231,2,FALSE))","v":""},null,{"$f":"IF(ISNA(VLOOKUP(BJ231,Divipolas!$A$2:$B$1123,2,FALSE)),\"\",VLOOKUP(BJ231,Divipolas!$A$2:$B$1123,2,FALSE))","v":""},null,{"$f":"IF(ISNA(VLOOKUP((CONCATENATE(BJ231,BL231)),Divipolas!$F$2:$G$1123,2,FALSE)),\"\",VLOOKUP((CONCATENATE(BJ231,BL231)),Divipolas!$F$2:$G$1123,2,FALSE))","v":""},null,"","",null,null,null,null,{"$f":"IF(ISNA(VLOOKUP(BT231,Divipolas!$A$2:$B$1123,2,FALSE)),\"\",VLOOKUP(BT231,Divipolas!$A$2:$B$1123,2,FALSE))","v":""},null,{"$f":"IF(ISNA(VLOOKUP((CONCATENATE(BT231,BV231)),Divipolas!$F$2:$G$1123,2,FALSE)),\"\",VLOOKUP((CONCATENATE(BT231,BV231)),Divipolas!$F$2:$G$1123,2,FALSE))","v":""},null,null,null,null,null,null,null,null,null,null,null,null,null,null,null,null,null,null,null,null,null,null,null,"",null,null,null,null,null,null,null,null,null,null,null,null,null,null,null,null,null,null,null,null,null,null,null,null,null,null,null,null,null,null,null,null,null,null,null,null,null,null,null,null,null,null,null,null,null,null,null,null,null,null,null,null,null,null,null,null,null,null,null,null,null,null,null,null,null,null,null,null,null,null,null,null,null,null,null,null,"",null,null,null,null,null,null,null,"VERIFIQUE FECHAS",null,null,null,null,null,null,null,null,null,"VERIFIQUE COLUMNA D"]
["","",null,"",{"$f":"IFERROR(VLOOKUP(D232,'CODIGO REGIONALES'!$J$2:$L$33,3,0),\"\")","v":""},"",{"$f":"IF(ISNA(VLOOKUP(F232,Divipolas!$A$2:$B$1123,2,FALSE)),\"\",VLOOKUP(F232,Divipolas!$A$2:$B$1123,2,FALSE))","v":""},"",{"$f":"IF(ISNA(VLOOKUP((CONCATENATE(F232,H232)),Divipolas!$F$2:$G$1123,2,FALSE)),\"\",VLOOKUP((CONCATENATE(F232,H232)),Divipolas!$F$2:$G$1123,2,FALSE))","v":""},"",{"$f":"IF(AND($C232<>\"\",K231<>\"\"),K231,\"\")","v":""},"","","","","","",{"$f":"IF(ISNA(VLOOKUP(Q232,Divipolas!$A$2:$B$1123,2,FALSE)),\"\",VLOOKUP(Q232,Divipolas!$A$2:$B$1123,2,FALSE))","v":""},"",{"$f":"IF(ISNA(VLOOKUP((CONCATENATE(Q232,S232)),Divipolas!$F$2:$G$1123,2,FALSE)),\"\",VLOOKUP((CONCATENATE(Q232,S232)),Divipolas!$F$2:$G$1123,2,FALSE))","v":""},"","","","","","",{"$f":"IF(ISNA(VLOOKUP(Z232,'CODIGO PAIS'!$A$2:$B$231,2,FALSE)),\"\",VLOOKUP(Z232,'CODIGO PAIS'!$A$2:$B$231,2,FALSE))","v":""},"",{"$f":"IF(ISNA(VLOOKUP(AB232,Divipolas!$A$2:$B$1123,2,FALSE)),\"\",VLOOKUP(AB232,Divipolas!$A$2:$B$1123,2,FALSE))","v":""},"",{"$f":"IF(ISNA(VLOOKUP((CONCATENATE(AB232,AD232)),Divipolas!$F$2:$G$1123,2,FALSE)),\"\",VLOOKUP((CONCATENATE(AB232,AD232)),Divipolas!$F$2:$G$1123,2,FALSE))","v":""},"","","","","",{"$f":"IF(ISNA(VLOOKUP(AJ232,Divipolas!$A$2:$B$1123,2,FALSE)),\"\",VLOOKUP(AJ232,Divipolas!$A$2:$B$1123,2,FALSE))","v":""},"",{"$f":"IF(ISNA(VLOOKUP((CONCATENATE(AJ232,AL232)),Divipolas!$F$2:$G$1123,2,FALSE)),\"\",VLOOKUP((CONCATENATE(AJ232,AL232)),Divipolas!$F$2:$G$1123,2,FALSE))","v":""},"","","","","","","","","","","","","","",null,null,null,null,null,null,null,{"$f":"IF(ISNA(VLOOKUP(BH232,'CODIGO PAIS'!$A$2:$B$231,2,FALSE)),\"\",VLOOKUP(BH232,'CODIGO PAIS'!$A$2:$B$231,2,FALSE))","v":""},null,{"$f":"IF(ISNA(VLOOKUP(BJ232,Divipolas!$A$2:$B$1123,2,FALSE)),\"\",VLOOKUP(BJ232,Divipolas!$A$2:$B$1123,2,FALSE))","v":""},null,{"$f":"IF(ISNA(VLOOKUP((CONCATENATE(BJ232,BL232)),Divipolas!$F$2:$G$1123,2,FALSE)),\"\",VLOOKUP((CONCATENATE(BJ232,BL232)),Divipolas!$F$2:$G$1123,2,FALSE))","v":""},null,"","",null,null,null,null,{"$f":"IF(ISNA(VLOOKUP(BT232,Divipolas!$A$2:$B$1123,2,FALSE)),\"\",VLOOKUP(BT232,Divipolas!$A$2:$B$1123,2,FALSE))","v":""},null,{"$f":"IF(ISNA(VLOOKUP((CONCATENATE(BT232,BV232)),Divipolas!$F$2:$G$1123,2,FALSE)),\"\",VLOOKUP((CONCATENATE(BT232,BV232)),Divipolas!$F$2:$G$1123,2,FALSE))","v":""},null,null,null,null,null,null,null,null,null,null,null,null,null,null,null,null,null,null,null,null,null,null,null,"",null,null,null,null,null,null,null,null,null,null,null,null,null,null,null,null,null,null,null,null,null,null,null,null,null,null,null,null,null,null,null,null,null,null,null,null,null,null,null,null,null,null,null,null,null,null,null,null,null,null,null,null,null,null,null,null,null,null,null,null,null,null,null,null,null,null,null,null,null,null,null,null,null,null,null,null,"",null,null,null,null,null,null,null,"VERIFIQUE FECHAS",null,null,null,null,null,null,null,null,null,"VERIFIQUE COLUMNA D"]
["","",null,"",{"$f":"IFERROR(VLOOKUP(D233,'CODIGO REGIONALES'!$J$2:$L$33,3,0),\"\")","v":""},"",{"$f":"IF(ISNA(VLOOKUP(F233,Divipolas!$A$2:$B$1123,2,FALSE)),\"\",VLOOKUP(F233,Divipolas!$A$2:$B$1123,2,FALSE))","v":""},"",{"$f":"IF(ISNA(VLOOKUP((CONCATENATE(F233,H233)),Divipolas!$F$2:$G$1123,2,FALSE)),\"\",VLOOKUP((CONCATENATE(F233,H233)),Divipolas!$F$2:$G$1123,2,FALSE))","v":""},"","","","","","","","",{"$f":"IF(ISNA(VLOOKUP(Q233,Divipolas!$A$2:$B$1123,2,FALSE)),\"\",VLOOKUP(Q233,Divipolas!$A$2:$B$1123,2,FALSE))","v":""},"",{"$f":"IF(ISNA(VLOOKUP((CONCATENATE(Q233,S233)),Divipolas!$F$2:$G$1123,2,FALSE)),\"\",VLOOKUP((CONCATENATE(Q233,S233)),Divipolas!$F$2:$G$1123,2,FALSE))","v":""},"","","","","","",{"$f":"IF(ISNA(VLOOKUP(Z233,'CODIGO PAIS'!$A$2:$B$231,2,FALSE)),\"\",VLOOKUP(Z233,'CODIGO PAIS'!$A$2:$B$231,2,FALSE))","v":""},"",{"$f":"IF(ISNA(VLOOKUP(AB233,Divipolas!$A$2:$B$1123,2,FALSE)),\"\",VLOOKUP(AB233,Divipolas!$A$2:$B$1123,2,FALSE))","v":""},"",{"$f":"IF(ISNA(VLOOKUP((CONCATENATE(AB233,AD233)),Divipolas!$F$2:$G$1123,2,FALSE)),\"\",VLOOKUP((CONCATENATE(AB233,AD233)),Divipolas!$F$2:$G$1123,2,FALSE))","v":""},"","","","","",{"$f":"IF(ISNA(VLOOKUP(AJ233,Divipolas!$A$2:$B$1123,2,FALSE)),\"\",VLOOKUP(AJ233,Divipolas!$A$2:$B$1123,2,FALSE))","v":""},"",{"$f":"IF(ISNA(VLOOKUP((CONCATENATE(AJ233,AL233)),Divipolas!$F$2:$G$1123,2,FALSE)),\"\",VLOOKUP((CONCATENATE(AJ233,AL233)),Divipolas!$F$2:$G$1123,2,FALSE))","v":""},"","","","","","","","","","","","","","",null,null,null,null,null,null,null,{"$f":"IF(ISNA(VLOOKUP(BH233,'CODIGO PAIS'!$A$2:$B$231,2,FALSE)),\"\",VLOOKUP(BH233,'CODIGO PAIS'!$A$2:$B$231,2,FALSE))","v":""},null,{"$f":"IF(ISNA(VLOOKUP(BJ233,Divipolas!$A$2:$B$1123,2,FALSE)),\"\",VLOOKUP(BJ233,Divipolas!$A$2:$B$1123,2,FALSE))","v":""},null,{"$f":"IF(ISNA(VLOOKUP((CONCATENATE(BJ233,BL233)),Divipolas!$F$2:$G$1123,2,FALSE)),\"\",VLOOKUP((CONCATENATE(BJ233,BL233)),Divipolas!$F$2:$G$1123,2,FALSE))","v":""},null,"","",null,null,null,null,{"$f":"IF(ISNA(VLOOKUP(BT233,Divipolas!$A$2:$B$1123,2,FALSE)),\"\",VLOOKUP(BT233,Divipolas!$A$2:$B$1123,2,FALSE))","v":""},null,{"$f":"IF(ISNA(VLOOKUP((CONCATENATE(BT233,BV233)),Divipolas!$F$2:$G$1123,2,FALSE)),\"\",VLOOKUP((CONCATENATE(BT233,BV233)),Divipolas!$F$2:$G$1123,2,FALSE))","v":""},null,null,null,null,null,null,null,null,null,null,null,null,null,null,null,null,null,null,null,null,null,null,null,"",null,null,null,null,null,null,null,null,null,null,null,null,null,null,null,null,null,null,null,null,null,null,null,null,null,null,null,null,null,null,null,null,null,null,null,null,null,null,null,null,null,null,null,null,null,null,null,null,null,null,null,null,null,null,null,null,null,null,null,null,null,null,null,null,null,null,null,null,null,null,null,null,null,null,null,null,"",null,null,null,null,null,null,null,"VERIFIQUE FECHAS",null,null,null,null,null,null,null,null,null,"VERIFIQUE COLUMNA D"]
["","",null,"",{"$f":"IFERROR(VLOOKUP(D234,'CODIGO REGIONALES'!$J$2:$L$33,3,0),\"\")","v":""},"",{"$f":"IF(ISNA(VLOOKUP(F234,Divipolas!$A$2:$B$1123,2,FALSE)),\"\",VLOOKUP(F234,Divipolas!$A$2:$B$1123,2,FALSE))","v":""},"",{"$f":"IF(ISNA(VLOOKUP((CONCATENATE(F234,H234)),Divipolas!$F$2:$G$1123,2,FALSE)),\"\",VLOOKUP((CONCATENATE(F234,H234)),Divipolas!$F$2:$G$1123,2,FALSE))","v":""},"","","","","","","","",{"$f":"IF(ISNA(VLOOKUP(Q234,Divipolas!$A$2:$B$1123,2,FALSE)),\"\",VLOOKUP(Q234,Divipolas!$A$2:$B$1123,2,FALSE))","v":""},"",{"$f":"IF(ISNA(VLOOKUP((CONCATENATE(Q234,S234)),Divipolas!$F$2:$G$1123,2,FALSE)),\"\",VLOOKUP((CONCATENATE(Q234,S234)),Divipolas!$F$2:$G$1123,2,FALSE))","v":""},"","","","","","",{"$f":"IF(ISNA(VLOOKUP(Z234,'CODIGO PAIS'!$A$2:$B$231,2,FALSE)),\"\",VLOOKUP(Z234,'CODIGO PAIS'!$A$2:$B$231,2,FALSE))","v":""},"",{"$f":"IF(ISNA(VLOOKUP(AB234,Divipolas!$A$2:$B$1123,2,FALSE)),\"\",VLOOKUP(AB234,Divipolas!$A$2:$B$1123,2,FALSE))","v":""},"",{"$f":"IF(ISNA(VLOOKUP((CONCATENATE(AB234,AD234)),Divipolas!$F$2:$G$1123,2,FALSE)),\"\",VLOOKUP((CONCATENATE(AB234,AD234)),Divipolas!$F$2:$G$1123,2,FALSE))","v":""},"","","","","",{"$f":"IF(ISNA(VLOOKUP(AJ234,Divipolas!$A$2:$B$1123,2,FALSE)),\"\",VLOOKUP(AJ234,Divipolas!$A$2:$B$1123,2,FALSE))","v":""},"",{"$f":"IF(ISNA(VLOOKUP((CONCATENATE(AJ234,AL234)),Divipolas!$F$2:$G$1123,2,FALSE)),\"\",VLOOKUP((CONCATENATE(AJ234,AL234)),Divipolas!$F$2:$G$1123,2,FALSE))","v":""},"","","","","","","","","","","","","","",null,null,null,null,null,null,null,{"$f":"IF(ISNA(VLOOKUP(BH234,'CODIGO PAIS'!$A$2:$B$231,2,FALSE)),\"\",VLOOKUP(BH234,'CODIGO PAIS'!$A$2:$B$231,2,FALSE))","v":""},null,{"$f":"IF(ISNA(VLOOKUP(BJ234,Divipolas!$A$2:$B$1123,2,FALSE)),\"\",VLOOKUP(BJ234,Divipolas!$A$2:$B$1123,2,FALSE))","v":""},null,{"$f":"IF(ISNA(VLOOKUP((CONCATENATE(BJ234,BL234)),Divipolas!$F$2:$G$1123,2,FALSE)),\"\",VLOOKUP((CONCATENATE(BJ234,BL234)),Divipolas!$F$2:$G$1123,2,FALSE))","v":""},null,"","",null,null,null,null,{"$f":"IF(ISNA(VLOOKUP(BT234,Divipolas!$A$2:$B$1123,2,FALSE)),\"\",VLOOKUP(BT234,Divipolas!$A$2:$B$1123,2,FALSE))","v":""},null,{"$f":"IF(ISNA(VLOOKUP((CONCATENATE(BT234,BV234)),Divipolas!$F$2:$G$1123,2,FALSE)),\"\",VLOOKUP((CONCATENATE(BT234,BV234)),Divipolas!$F$2:$G$1123,2,FALSE))","v":""},null,null,null,null,null,null,null,null,null,null,null,null,null,null,null,null,null,null,null,null,null,null,null,"",null,null,null,null,null,null,null,null,null,null,null,null,null,null,null,null,null,null,null,null,null,null,null,null,null,null,null,null,null,null,null,null,null,null,null,null,null,null,null,null,null,null,null,null,null,null,null,null,null,null,null,null,null,null,null,null,null,null,null,null,null,null,null,null,null,null,null,null,null,null,null,null,null,null,null,null,"",null,null,null,null,null,null,null,"VERIFIQUE FECHAS",null,null,null,null,null,null,null,null,null,"VERIFIQUE COLUMNA D"]
["","",null,"",{"$f":"IFERROR(VLOOKUP(D235,'CODIGO REGIONALES'!$J$2:$L$33,3,0),\"\")","v":""},"",{"$f":"IF(ISNA(VLOOKUP(F235,Divipolas!$A$2:$B$1123,2,FALSE)),\"\",VLOOKUP(F235,Divipolas!$A$2:$B$1123,2,FALSE))","v":""},"",{"$f":"IF(ISNA(VLOOKUP((CONCATENATE(F235,H235)),Divipolas!$F$2:$G$1123,2,FALSE)),\"\",VLOOKUP((CONCATENATE(F235,H235)),Divipolas!$F$2:$G$1123,2,FALSE))","v":""},"","","","","","","","",{"$f":"IF(ISNA(VLOOKUP(Q235,Divipolas!$A$2:$B$1123,2,FALSE)),\"\",VLOOKUP(Q235,Divipolas!$A$2:$B$1123,2,FALSE))","v":""},"",{"$f":"IF(ISNA(VLOOKUP((CONCATENATE(Q235,S235)),Divipolas!$F$2:$G$1123,2,FALSE)),\"\",VLOOKUP((CONCATENATE(Q235,S235)),Divipolas!$F$2:$G$1123,2,FALSE))","v":""},"","","","","","",{"$f":"IF(ISNA(VLOOKUP(Z235,'CODIGO PAIS'!$A$2:$B$231,2,FALSE)),\"\",VLOOKUP(Z235,'CODIGO PAIS'!$A$2:$B$231,2,FALSE))","v":""},"",{"$f":"IF(ISNA(VLOOKUP(AB235,Divipolas!$A$2:$B$1123,2,FALSE)),\"\",VLOOKUP(AB235,Divipolas!$A$2:$B$1123,2,FALSE))","v":""},"",{"$f":"IF(ISNA(VLOOKUP((CONCATENATE(AB235,AD235)),Divipolas!$F$2:$G$1123,2,FALSE)),\"\",VLOOKUP((CONCATENATE(AB235,AD235)),Divipolas!$F$2:$G$1123,2,FALSE))","v":""},"","","","","",{"$f":"IF(ISNA(VLOOKUP(AJ235,Divipolas!$A$2:$B$1123,2,FALSE)),\"\",VLOOKUP(AJ235,Divipolas!$A$2:$B$1123,2,FALSE))","v":""},"",{"$f":"IF(ISNA(VLOOKUP((CONCATENATE(AJ235,AL235)),Divipolas!$F$2:$G$1123,2,FALSE)),\"\",VLOOKUP((CONCATENATE(AJ235,AL235)),Divipolas!$F$2:$G$1123,2,FALSE))","v":""},"","","","","","","","","","","","","","",null,null,null,null,null,null,null,{"$f":"IF(ISNA(VLOOKUP(BH235,'CODIGO PAIS'!$A$2:$B$231,2,FALSE)),\"\",VLOOKUP(BH235,'CODIGO PAIS'!$A$2:$B$231,2,FALSE))","v":""},null,{"$f":"IF(ISNA(VLOOKUP(BJ235,Divipolas!$A$2:$B$1123,2,FALSE)),\"\",VLOOKUP(BJ235,Divipolas!$A$2:$B$1123,2,FALSE))","v":""},null,{"$f":"IF(ISNA(VLOOKUP((CONCATENATE(BJ235,BL235)),Divipolas!$F$2:$G$1123,2,FALSE)),\"\",VLOOKUP((CONCATENATE(BJ235,BL235)),Divipolas!$F$2:$G$1123,2,FALSE))","v":""},null,"","",null,null,null,null,{"$f":"IF(ISNA(VLOOKUP(BT235,Divipolas!$A$2:$B$1123,2,FALSE)),\"\",VLOOKUP(BT235,Divipolas!$A$2:$B$1123,2,FALSE))","v":""},null,{"$f":"IF(ISNA(VLOOKUP((CONCATENATE(BT235,BV235)),Divipolas!$F$2:$G$1123,2,FALSE)),\"\",VLOOKUP((CONCATENATE(BT235,BV235)),Divipolas!$F$2:$G$1123,2,FALSE))","v":""},null,null,null,null,null,null,null,null,null,null,null,null,null,null,null,null,null,null,null,null,null,null,null,"",null,null,null,null,null,null,null,null,null,null,null,null,null,null,null,null,null,null,null,null,null,null,null,null,null,null,null,null,null,null,null,null,null,null,null,null,null,null,null,null,null,null,null,null,null,null,null,null,null,null,null,null,null,null,null,null,null,null,null,null,null,null,null,null,null,null,null,null,null,null,null,null,null,null,null,null,"",null,null,null,null,null,null,null,"VERIFIQUE FECHAS",null,null,null,null,null,null,null,null,null,"VERIFIQUE COLUMNA D"]
["","",null,"",{"$f":"IFERROR(VLOOKUP(D236,'CODIGO REGIONALES'!$J$2:$L$33,3,0),\"\")","v":""},"",{"$f":"IF(ISNA(VLOOKUP(F236,Divipolas!$A$2:$B$1123,2,FALSE)),\"\",VLOOKUP(F236,Divipolas!$A$2:$B$1123,2,FALSE))","v":""},"",{"$f":"IF(ISNA(VLOOKUP((CONCATENATE(F236,H236)),Divipolas!$F$2:$G$1123,2,FALSE)),\"\",VLOOKUP((CONCATENATE(F236,H236)),Divipolas!$F$2:$G$1123,2,FALSE))","v":""},"","","","","","","","",{"$f":"IF(ISNA(VLOOKUP(Q236,Divipolas!$A$2:$B$1123,2,FALSE)),\"\",VLOOKUP(Q236,Divipolas!$A$2:$B$1123,2,FALSE))","v":""},"",{"$f":"IF(ISNA(VLOOKUP((CONCATENATE(Q236,S236)),Divipolas!$F$2:$G$1123,2,FALSE)),\"\",VLOOKUP((CONCATENATE(Q236,S236)),Divipolas!$F$2:$G$1123,2,FALSE))","v":""},"","","","","","",{"$f":"IF(ISNA(VLOOKUP(Z236,'CODIGO PAIS'!$A$2:$B$231,2,FALSE)),\"\",VLOOKUP(Z236,'CODIGO PAIS'!$A$2:$B$231,2,FALSE))","v":""},"",{"$f":"IF(ISNA(VLOOKUP(AB236,Divipolas!$A$2:$B$1123,2,FALSE)),\"\",VLOOKUP(AB236,Divipolas!$A$2:$B$1123,2,FALSE))","v":""},"",{"$f":"IF(ISNA(VLOOKUP((CONCATENATE(AB236,AD236)),Divipolas!$F$2:$G$1123,2,FALSE)),\"\",VLOOKUP((CONCATENATE(AB236,AD236)),Divipolas!$F$2:$G$1123,2,FALSE))","v":""},"","","","","",{"$f":"IF(ISNA(VLOOKUP(AJ236,Divipolas!$A$2:$B$1123,2,FALSE)),\"\",VLOOKUP(AJ236,Divipolas!$A$2:$B$1123,2,FALSE))","v":""},"",{"$f":"IF(ISNA(VLOOKUP((CONCATENATE(AJ236,AL236)),Divipolas!$F$2:$G$1123,2,FALSE)),\"\",VLOOKUP((CONCATENATE(AJ236,AL236)),Divipolas!$F$2:$G$1123,2,FALSE))","v":""},"","","","","","","","","","","","","","",null,null,null,null,null,null,null,{"$f":"IF(ISNA(VLOOKUP(BH236,'CODIGO PAIS'!$A$2:$B$231,2,FALSE)),\"\",VLOOKUP(BH236,'CODIGO PAIS'!$A$2:$B$231,2,FALSE))","v":""},null,{"$f":"IF(ISNA(VLOOKUP(BJ236,Divipolas!$A$2:$B$1123,2,FALSE)),\"\",VLOOKUP(BJ236,Divipolas!$A$2:$B$1123,2,FALSE))","v":""},null,{"$f":"IF(ISNA(VLOOKUP((CONCATENATE(BJ236,BL236)),Divipolas!$F$2:$G$1123,2,FALSE)),\"\",VLOOKUP((CONCATENATE(BJ236,BL236)),Divipolas!$F$2:$G$1123,2,FALSE))","v":""},null,"","",null,null,null,null,{"$f":"IF(ISNA(VLOOKUP(BT236,Divipolas!$A$2:$B$1123,2,FALSE)),\"\",VLOOKUP(BT236,Divipolas!$A$2:$B$1123,2,FALSE))","v":""},null,{"$f":"IF(ISNA(VLOOKUP((CONCATENATE(BT236,BV236)),Divipolas!$F$2:$G$1123,2,FALSE)),\"\",VLOOKUP((CONCATENATE(BT236,BV236)),Divipolas!$F$2:$G$1123,2,FALSE))","v":""},null,null,null,null,null,null,null,null,null,null,null,null,null,null,null,null,null,null,null,null,null,null,null,"",null,null,null,null,null,null,null,null,null,null,null,null,null,null,null,null,null,null,null,null,null,null,null,null,null,null,null,null,null,null,null,null,null,null,null,null,null,null,null,null,null,null,null,null,null,null,null,null,null,null,null,null,null,null,null,null,null,null,null,null,null,null,null,null,null,null,null,null,null,null,null,null,null,null,null,null,"",null,null,null,null,null,null,null,"VERIFIQUE FECHAS",null,null,null,null,null,null,null,null,null,"VERIFIQUE COLUMNA D"]
["","",null,"",{"$f":"IFERROR(VLOOKUP(D237,'CODIGO REGIONALES'!$J$2:$L$33,3,0),\"\")","v":""},"",{"$f":"IF(ISNA(VLOOKUP(F237,Divipolas!$A$2:$B$1123,2,FALSE)),\"\",VLOOKUP(F237,Divipolas!$A$2:$B$1123,2,FALSE))","v":""},"",{"$f":"IF(ISNA(VLOOKUP((CONCATENATE(F237,H237)),Divipolas!$F$2:$G$1123,2,FALSE)),\"\",VLOOKUP((CONCATENATE(F237,H237)),Divipolas!$F$2:$G$1123,2,FALSE))","v":""},"","","","","","","","",{"$f":"IF(ISNA(VLOOKUP(Q237,Divipolas!$A$2:$B$1123,2,FALSE)),\"\",VLOOKUP(Q237,Divipolas!$A$2:$B$1123,2,FALSE))","v":""},"",{"$f":"IF(ISNA(VLOOKUP((CONCATENATE(Q237,S237)),Divipolas!$F$2:$G$1123,2,FALSE)),\"\",VLOOKUP((CONCATENATE(Q237,S237)),Divipolas!$F$2:$G$1123,2,FALSE))","v":""},"","","","","","",{"$f":"IF(ISNA(VLOOKUP(Z237,'CODIGO PAIS'!$A$2:$B$231,2,FALSE)),\"\",VLOOKUP(Z237,'CODIGO PAIS'!$A$2:$B$231,2,FALSE))","v":""},"",{"$f":"IF(ISNA(VLOOKUP(AB237,Divipolas!$A$2:$B$1123,2,FALSE)),\"\",VLOOKUP(AB237,Divipolas!$A$2:$B$1123,2,FALSE))","v":""},"",{"$f":"IF(ISNA(VLOOKUP((CONCATENATE(AB237,AD237)),Divipolas!$F$2:$G$1123,2,FALSE)),\"\",VLOOKUP((CONCATENATE(AB237,AD237)),Divipolas!$F$2:$G$1123,2,FALSE))","v":""},"","","","","",{"$f":"IF(ISNA(VLOOKUP(AJ237,Divipolas!$A$2:$B$1123,2,FALSE)),\"\",VLOOKUP(AJ237,Divipolas!$A$2:$B$1123,2,FALSE))","v":""},"",{"$f":"IF(ISNA(VLOOKUP((CONCATENATE(AJ237,AL237)),Divipolas!$F$2:$G$1123,2,FALSE)),\"\",VLOOKUP((CONCATENATE(AJ237,AL237)),Divipolas!$F$2:$G$1123,2,FALSE))","v":""},"","","","","","","","","","","","","","",null,null,null,null,null,null,null,{"$f":"IF(ISNA(VLOOKUP(BH237,'CODIGO PAIS'!$A$2:$B$231,2,FALSE)),\"\",VLOOKUP(BH237,'CODIGO PAIS'!$A$2:$B$231,2,FALSE))","v":""},null,{"$f":"IF(ISNA(VLOOKUP(BJ237,Divipolas!$A$2:$B$1123,2,FALSE)),\"\",VLOOKUP(BJ237,Divipolas!$A$2:$B$1123,2,FALSE))","v":""},null,{"$f":"IF(ISNA(VLOOKUP((CONCATENATE(BJ237,BL237)),Divipolas!$F$2:$G$1123,2,FALSE)),\"\",VLOOKUP((CONCATENATE(BJ237,BL237)),Divipolas!$F$2:$G$1123,2,FALSE))","v":""},null,"","",null,null,null,null,{"$f":"IF(ISNA(VLOOKUP(BT237,Divipolas!$A$2:$B$1123,2,FALSE)),\"\",VLOOKUP(BT237,Divipolas!$A$2:$B$1123,2,FALSE))","v":""},null,{"$f":"IF(ISNA(VLOOKUP((CONCATENATE(BT237,BV237)),Divipolas!$F$2:$G$1123,2,FALSE)),\"\",VLOOKUP((CONCATENATE(BT237,BV237)),Divipolas!$F$2:$G$1123,2,FALSE))","v":""},null,null,null,null,null,null,null,null,null,null,null,null,null,null,null,null,null,null,null,null,null,null,null,"",null,null,null,null,null,null,null,null,null,null,null,null,null,null,null,null,null,null,null,null,null,null,null,null,null,null,null,null,null,null,null,null,null,null,null,null,null,null,null,null,null,null,null,null,null,null,null,null,null,null,null,null,null,null,null,null,null,null,null,null,null,null,null,null,null,null,null,null,null,null,null,null,null,null,null,null,"",null,null,null,null,null,null,null,"VERIFIQUE FECHAS",null,null,null,null,null,null,null,null,null,"VERIFIQUE COLUMNA D"]
["","",null,"",{"$f":"IFERROR(VLOOKUP(D238,'CODIGO REGIONALES'!$J$2:$L$33,3,0),\"\")","v":""},"",{"$f":"IF(ISNA(VLOOKUP(F238,Divipolas!$A$2:$B$1123,2,FALSE)),\"\",VLOOKUP(F238,Divipolas!$A$2:$B$1123,2,FALSE))","v":""},"",{"$f":"IF(ISNA(VLOOKUP((CONCATENATE(F238,H238)),Divipolas!$F$2:$G$1123,2,FALSE)),\"\",VLOOKUP((CONCATENATE(F238,H238)),Divipolas!$F$2:$G$1123,2,FALSE))","v":""},"","","","","","","","",{"$f":"IF(ISNA(VLOOKUP(Q238,Divipolas!$A$2:$B$1123,2,FALSE)),\"\",VLOOKUP(Q238,Divipolas!$A$2:$B$1123,2,FALSE))","v":""},"",{"$f":"IF(ISNA(VLOOKUP((CONCATENATE(Q238,S238)),Divipolas!$F$2:$G$1123,2,FALSE)),\"\",VLOOKUP((CONCATENATE(Q238,S238)),Divipolas!$F$2:$G$1123,2,FALSE))","v":""},"","","","","","",{"$f":"IF(ISNA(VLOOKUP(Z238,'CODIGO PAIS'!$A$2:$B$231,2,FALSE)),\"\",VLOOKUP(Z238,'CODIGO PAIS'!$A$2:$B$231,2,FALSE))","v":""},"",{"$f":"IF(ISNA(VLOOKUP(AB238,Divipolas!$A$2:$B$1123,2,FALSE)),\"\",VLOOKUP(AB238,Divipolas!$A$2:$B$1123,2,FALSE))","v":""},"",{"$f":"IF(ISNA(VLOOKUP((CONCATENATE(AB238,AD238)),Divipolas!$F$2:$G$1123,2,FALSE)),\"\",VLOOKUP((CONCATENATE(AB238,AD238)),Divipolas!$F$2:$G$1123,2,FALSE))","v":""},"","","","","",{"$f":"IF(ISNA(VLOOKUP(AJ238,Divipolas!$A$2:$B$1123,2,FALSE)),\"\",VLOOKUP(AJ238,Divipolas!$A$2:$B$1123,2,FALSE))","v":""},"",{"$f":"IF(ISNA(VLOOKUP((CONCATENATE(AJ238,AL238)),Divipolas!$F$2:$G$1123,2,FALSE)),\"\",VLOOKUP((CONCATENATE(AJ238,AL238)),Divipolas!$F$2:$G$1123,2,FALSE))","v":""},"","","","","","","","","","","","","","",null,null,null,null,null,null,null,{"$f":"IF(ISNA(VLOOKUP(BH238,'CODIGO PAIS'!$A$2:$B$231,2,FALSE)),\"\",VLOOKUP(BH238,'CODIGO PAIS'!$A$2:$B$231,2,FALSE))","v":""},null,{"$f":"IF(ISNA(VLOOKUP(BJ238,Divipolas!$A$2:$B$1123,2,FALSE)),\"\",VLOOKUP(BJ238,Divipolas!$A$2:$B$1123,2,FALSE))","v":""},null,{"$f":"IF(ISNA(VLOOKUP((CONCATENATE(BJ238,BL238)),Divipolas!$F$2:$G$1123,2,FALSE)),\"\",VLOOKUP((CONCATENATE(BJ238,BL238)),Divipolas!$F$2:$G$1123,2,FALSE))","v":""},null,"","",null,null,null,null,{"$f":"IF(ISNA(VLOOKUP(BT238,Divipolas!$A$2:$B$1123,2,FALSE)),\"\",VLOOKUP(BT238,Divipolas!$A$2:$B$1123,2,FALSE))","v":""},null,{"$f":"IF(ISNA(VLOOKUP((CONCATENATE(BT238,BV238)),Divipolas!$F$2:$G$1123,2,FALSE)),\"\",VLOOKUP((CONCATENATE(BT238,BV238)),Divipolas!$F$2:$G$1123,2,FALSE))","v":""},null,null,null,null,null,null,null,null,null,null,null,null,null,null,null,null,null,null,null,null,null,null,null,"",null,null,null,null,null,null,null,null,null,null,null,null,null,null,null,null,null,null,null,null,null,null,null,null,null,null,null,null,null,null,null,null,null,null,null,null,null,null,null,null,null,null,null,null,null,null,null,null,null,null,null,null,null,null,null,null,null,null,null,null,null,null,null,null,null,null,null,null,null,null,null,null,null,null,null,null,"",null,null,null,null,null,null,null,"VERIFIQUE FECHAS",null,null,null,null,null,null,null,null,null,"VERIFIQUE COLUMNA D"]
["","",null,"",{"$f":"IFERROR(VLOOKUP(D239,'CODIGO REGIONALES'!$J$2:$L$33,3,0),\"\")","v":""},"",{"$f":"IF(ISNA(VLOOKUP(F239,Divipolas!$A$2:$B$1123,2,FALSE)),\"\",VLOOKUP(F239,Divipolas!$A$2:$B$1123,2,FALSE))","v":""},"",{"$f":"IF(ISNA(VLOOKUP((CONCATENATE(F239,H239)),Divipolas!$F$2:$G$1123,2,FALSE)),\"\",VLOOKUP((CONCATENATE(F239,H239)),Divipolas!$F$2:$G$1123,2,FALSE))","v":""},"","","","","","","","",{"$f":"IF(ISNA(VLOOKUP(Q239,Divipolas!$A$2:$B$1123,2,FALSE)),\"\",VLOOKUP(Q239,Divipolas!$A$2:$B$1123,2,FALSE))","v":""},"",{"$f":"IF(ISNA(VLOOKUP((CONCATENATE(Q239,S239)),Divipolas!$F$2:$G$1123,2,FALSE)),\"\",VLOOKUP((CONCATENATE(Q239,S239)),Divipolas!$F$2:$G$1123,2,FALSE))","v":""},"","","","","","",{"$f":"IF(ISNA(VLOOKUP(Z239,'CODIGO PAIS'!$A$2:$B$231,2,FALSE)),\"\",VLOOKUP(Z239,'CODIGO PAIS'!$A$2:$B$231,2,FALSE))","v":""},"",{"$f":"IF(ISNA(VLOOKUP(AB239,Divipolas!$A$2:$B$1123,2,FALSE)),\"\",VLOOKUP(AB239,Divipolas!$A$2:$B$1123,2,FALSE))","v":""},"",{"$f":"IF(ISNA(VLOOKUP((CONCATENATE(AB239,AD239)),Divipolas!$F$2:$G$1123,2,FALSE)),\"\",VLOOKUP((CONCATENATE(AB239,AD239)),Divipolas!$F$2:$G$1123,2,FALSE))","v":""},"","","","","",{"$f":"IF(ISNA(VLOOKUP(AJ239,Divipolas!$A$2:$B$1123,2,FALSE)),\"\",VLOOKUP(AJ239,Divipolas!$A$2:$B$1123,2,FALSE))","v":""},"",{"$f":"IF(ISNA(VLOOKUP((CONCATENATE(AJ239,AL239)),Divipolas!$F$2:$G$1123,2,FALSE)),\"\",VLOOKUP((CONCATENATE(AJ239,AL239)),Divipolas!$F$2:$G$1123,2,FALSE))","v":""},"","","","","","","","","","","","","","",null,null,null,null,null,null,null,{"$f":"IF(ISNA(VLOOKUP(BH239,'CODIGO PAIS'!$A$2:$B$231,2,FALSE)),\"\",VLOOKUP(BH239,'CODIGO PAIS'!$A$2:$B$231,2,FALSE))","v":""},null,{"$f":"IF(ISNA(VLOOKUP(BJ239,Divipolas!$A$2:$B$1123,2,FALSE)),\"\",VLOOKUP(BJ239,Divipolas!$A$2:$B$1123,2,FALSE))","v":""},null,{"$f":"IF(ISNA(VLOOKUP((CONCATENATE(BJ239,BL239)),Divipolas!$F$2:$G$1123,2,FALSE)),\"\",VLOOKUP((CONCATENATE(BJ239,BL239)),Divipolas!$F$2:$G$1123,2,FALSE))","v":""},null,"","",null,null,null,null,{"$f":"IF(ISNA(VLOOKUP(BT239,Divipolas!$A$2:$B$1123,2,FALSE)),\"\",VLOOKUP(BT239,Divipolas!$A$2:$B$1123,2,FALSE))","v":""},null,{"$f":"IF(ISNA(VLOOKUP((CONCATENATE(BT239,BV239)),Divipolas!$F$2:$G$1123,2,FALSE)),\"\",VLOOKUP((CONCATENATE(BT239,BV239)),Divipolas!$F$2:$G$1123,2,FALSE))","v":""},null,null,null,null,null,null,null,null,null,null,null,null,null,null,null,null,null,null,null,null,null,null,null,"",null,null,null,null,null,null,null,null,null,null,null,null,null,null,null,null,null,null,null,null,null,null,null,null,null,null,null,null,null,null,null,null,null,null,null,null,null,null,null,null,null,null,null,null,null,null,null,null,null,null,null,null,null,null,null,null,null,null,null,null,null,null,null,null,null,null,null,null,null,null,null,null,null,null,null,null,"",null,null,null,null,null,null,null,"VERIFIQUE FECHAS",null,null,null,null,null,null,null,null,null,"VERIFIQUE COLUMNA D"]
["","",null,"",{"$f":"IFERROR(VLOOKUP(D240,'CODIGO REGIONALES'!$J$2:$L$33,3,0),\"\")","v":""},"",{"$f":"IF(ISNA(VLOOKUP(F240,Divipolas!$A$2:$B$1123,2,FALSE)),\"\",VLOOKUP(F240,Divipolas!$A$2:$B$1123,2,FALSE))","v":""},"",{"$f":"IF(ISNA(VLOOKUP((CONCATENATE(F240,H240)),Divipolas!$F$2:$G$1123,2,FALSE)),\"\",VLOOKUP((CONCATENATE(F240,H240)),Divipolas!$F$2:$G$1123,2,FALSE))","v":""},"","","","","","","","",{"$f":"IF(ISNA(VLOOKUP(Q240,Divipolas!$A$2:$B$1123,2,FALSE)),\"\",VLOOKUP(Q240,Divipolas!$A$2:$B$1123,2,FALSE))","v":""},"",{"$f":"IF(ISNA(VLOOKUP((CONCATENATE(Q240,S240)),Divipolas!$F$2:$G$1123,2,FALSE)),\"\",VLOOKUP((CONCATENATE(Q240,S240)),Divipolas!$F$2:$G$1123,2,FALSE))","v":""},"","","","","","",{"$f":"IF(ISNA(VLOOKUP(Z240,'CODIGO PAIS'!$A$2:$B$231,2,FALSE)),\"\",VLOOKUP(Z240,'CODIGO PAIS'!$A$2:$B$231,2,FALSE))","v":""},"",{"$f":"IF(ISNA(VLOOKUP(AB240,Divipolas!$A$2:$B$1123,2,FALSE)),\"\",VLOOKUP(AB240,Divipolas!$A$2:$B$1123,2,FALSE))","v":""},"",{"$f":"IF(ISNA(VLOOKUP((CONCATENATE(AB240,AD240)),Divipolas!$F$2:$G$1123,2,FALSE)),\"\",VLOOKUP((CONCATENATE(AB240,AD240)),Divipolas!$F$2:$G$1123,2,FALSE))","v":""},"","","","","",{"$f":"IF(ISNA(VLOOKUP(AJ240,Divipolas!$A$2:$B$1123,2,FALSE)),\"\",VLOOKUP(AJ240,Divipolas!$A$2:$B$1123,2,FALSE))","v":""},"",{"$f":"IF(ISNA(VLOOKUP((CONCATENATE(AJ240,AL240)),Divipolas!$F$2:$G$1123,2,FALSE)),\"\",VLOOKUP((CONCATENATE(AJ240,AL240)),Divipolas!$F$2:$G$1123,2,FALSE))","v":""},"","","","","","","","","","","","","","",null,null,null,null,null,null,null,{"$f":"IF(ISNA(VLOOKUP(BH240,'CODIGO PAIS'!$A$2:$B$231,2,FALSE)),\"\",VLOOKUP(BH240,'CODIGO PAIS'!$A$2:$B$231,2,FALSE))","v":""},null,{"$f":"IF(ISNA(VLOOKUP(BJ240,Divipolas!$A$2:$B$1123,2,FALSE)),\"\",VLOOKUP(BJ240,Divipolas!$A$2:$B$1123,2,FALSE))","v":""},null,{"$f":"IF(ISNA(VLOOKUP((CONCATENATE(BJ240,BL240)),Divipolas!$F$2:$G$1123,2,FALSE)),\"\",VLOOKUP((CONCATENATE(BJ240,BL240)),Divipolas!$F$2:$G$1123,2,FALSE))","v":""},null,"","",null,null,null,null,{"$f":"IF(ISNA(VLOOKUP(BT240,Divipolas!$A$2:$B$1123,2,FALSE)),\"\",VLOOKUP(BT240,Divipolas!$A$2:$B$1123,2,FALSE))","v":""},null,{"$f":"IF(ISNA(VLOOKUP((CONCATENATE(BT240,BV240)),Divipolas!$F$2:$G$1123,2,FALSE)),\"\",VLOOKUP((CONCATENATE(BT240,BV240)),Divipolas!$F$2:$G$1123,2,FALSE))","v":""},null,null,null,null,null,null,null,null,null,null,null,null,null,null,null,null,null,null,null,null,null,null,null,"",null,null,null,null,null,null,null,null,null,null,null,null,null,null,null,null,null,null,null,null,null,null,null,null,null,null,null,null,null,null,null,null,null,null,null,null,null,null,null,null,null,null,null,null,null,null,null,null,null,null,null,null,null,null,null,null,null,null,null,null,null,null,null,null,null,null,null,null,null,null,null,null,null,null,null,null,"",null,null,null,null,null,null,null,"VERIFIQUE FECHAS",null,null,null,null,null,null,null,null,null,"VERIFIQUE COLUMNA D"]
["","",null,"",{"$f":"IFERROR(VLOOKUP(D241,'CODIGO REGIONALES'!$J$2:$L$33,3,0),\"\")","v":""},"",{"$f":"IF(ISNA(VLOOKUP(F241,Divipolas!$A$2:$B$1123,2,FALSE)),\"\",VLOOKUP(F241,Divipolas!$A$2:$B$1123,2,FALSE))","v":""},"",{"$f":"IF(ISNA(VLOOKUP((CONCATENATE(F241,H241)),Divipolas!$F$2:$G$1123,2,FALSE)),\"\",VLOOKUP((CONCATENATE(F241,H241)),Divipolas!$F$2:$G$1123,2,FALSE))","v":""},"","","","","","","","",{"$f":"IF(ISNA(VLOOKUP(Q241,Divipolas!$A$2:$B$1123,2,FALSE)),\"\",VLOOKUP(Q241,Divipolas!$A$2:$B$1123,2,FALSE))","v":""},"",{"$f":"IF(ISNA(VLOOKUP((CONCATENATE(Q241,S241)),Divipolas!$F$2:$G$1123,2,FALSE)),\"\",VLOOKUP((CONCATENATE(Q241,S241)),Divipolas!$F$2:$G$1123,2,FALSE))","v":""},"","","","","","",{"$f":"IF(ISNA(VLOOKUP(Z241,'CODIGO PAIS'!$A$2:$B$231,2,FALSE)),\"\",VLOOKUP(Z241,'CODIGO PAIS'!$A$2:$B$231,2,FALSE))","v":""},"",{"$f":"IF(ISNA(VLOOKUP(AB241,Divipolas!$A$2:$B$1123,2,FALSE)),\"\",VLOOKUP(AB241,Divipolas!$A$2:$B$1123,2,FALSE))","v":""},"",{"$f":"IF(ISNA(VLOOKUP((CONCATENATE(AB241,AD241)),Divipolas!$F$2:$G$1123,2,FALSE)),\"\",VLOOKUP((CONCATENATE(AB241,AD241)),Divipolas!$F$2:$G$1123,2,FALSE))","v":""},"","","","","",{"$f":"IF(ISNA(VLOOKUP(AJ241,Divipolas!$A$2:$B$1123,2,FALSE)),\"\",VLOOKUP(AJ241,Divipolas!$A$2:$B$1123,2,FALSE))","v":""},"",{"$f":"IF(ISNA(VLOOKUP((CONCATENATE(AJ241,AL241)),Divipolas!$F$2:$G$1123,2,FALSE)),\"\",VLOOKUP((CONCATENATE(AJ241,AL241)),Divipolas!$F$2:$G$1123,2,FALSE))","v":""},"","","","","","","","","","","","","","",null,null,null,null,null,null,null,{"$f":"IF(ISNA(VLOOKUP(BH241,'CODIGO PAIS'!$A$2:$B$231,2,FALSE)),\"\",VLOOKUP(BH241,'CODIGO PAIS'!$A$2:$B$231,2,FALSE))","v":""},null,{"$f":"IF(ISNA(VLOOKUP(BJ241,Divipolas!$A$2:$B$1123,2,FALSE)),\"\",VLOOKUP(BJ241,Divipolas!$A$2:$B$1123,2,FALSE))","v":""},null,{"$f":"IF(ISNA(VLOOKUP((CONCATENATE(BJ241,BL241)),Divipolas!$F$2:$G$1123,2,FALSE)),\"\",VLOOKUP((CONCATENATE(BJ241,BL241)),Divipolas!$F$2:$G$1123,2,FALSE))","v":""},null,"","",null,null,null,null,{"$f":"IF(ISNA(VLOOKUP(BT241,Divipolas!$A$2:$B$1123,2,FALSE)),\"\",VLOOKUP(BT241,Divipolas!$A$2:$B$1123,2,FALSE))","v":""},null,{"$f":"IF(ISNA(VLOOKUP((CONCATENATE(BT241,BV241)),Divipolas!$F$2:$G$1123,2,FALSE)),\"\",VLOOKUP((CONCATENATE(BT241,BV241)),Divipolas!$F$2:$G$1123,2,FALSE))","v":""},null,null,null,null,null,null,null,null,null,null,null,null,null,null,null,null,null,null,null,null,null,null,null,"",null,null,null,null,null,null,null,null,null,null,null,null,null,null,null,null,null,null,null,null,null,null,null,null,null,null,null,null,null,null,null,null,null,null,null,null,null,null,null,null,null,null,null,null,null,null,null,null,null,null,null,null,null,null,null,null,null,null,null,null,null,null,null,null,null,null,null,null,null,null,null,null,null,null,null,null,"",null,null,null,null,null,null,null,"VERIFIQUE FECHAS",null,null,null,null,null,null,null,null,null,"VERIFIQUE COLUMNA D"]
["","",null,"",{"$f":"IFERROR(VLOOKUP(D242,'CODIGO REGIONALES'!$J$2:$L$33,3,0),\"\")","v":""},"",{"$f":"IF(ISNA(VLOOKUP(F242,Divipolas!$A$2:$B$1123,2,FALSE)),\"\",VLOOKUP(F242,Divipolas!$A$2:$B$1123,2,FALSE))","v":""},"",{"$f":"IF(ISNA(VLOOKUP((CONCATENATE(F242,H242)),Divipolas!$F$2:$G$1123,2,FALSE)),\"\",VLOOKUP((CONCATENATE(F242,H242)),Divipolas!$F$2:$G$1123,2,FALSE))","v":""},"","","","","","","","",{"$f":"IF(ISNA(VLOOKUP(Q242,Divipolas!$A$2:$B$1123,2,FALSE)),\"\",VLOOKUP(Q242,Divipolas!$A$2:$B$1123,2,FALSE))","v":""},"",{"$f":"IF(ISNA(VLOOKUP((CONCATENATE(Q242,S242)),Divipolas!$F$2:$G$1123,2,FALSE)),\"\",VLOOKUP((CONCATENATE(Q242,S242)),Divipolas!$F$2:$G$1123,2,FALSE))","v":""},"","","","","","",{"$f":"IF(ISNA(VLOOKUP(Z242,'CODIGO PAIS'!$A$2:$B$231,2,FALSE)),\"\",VLOOKUP(Z242,'CODIGO PAIS'!$A$2:$B$231,2,FALSE))","v":""},"",{"$f":"IF(ISNA(VLOOKUP(AB242,Divipolas!$A$2:$B$1123,2,FALSE)),\"\",VLOOKUP(AB242,Divipolas!$A$2:$B$1123,2,FALSE))","v":""},"",{"$f":"IF(ISNA(VLOOKUP((CONCATENATE(AB242,AD242)),Divipolas!$F$2:$G$1123,2,FALSE)),\"\",VLOOKUP((CONCATENATE(AB242,AD242)),Divipolas!$F$2:$G$1123,2,FALSE))","v":""},"","","","","",{"$f":"IF(ISNA(VLOOKUP(AJ242,Divipolas!$A$2:$B$1123,2,FALSE)),\"\",VLOOKUP(AJ242,Divipolas!$A$2:$B$1123,2,FALSE))","v":""},"",{"$f":"IF(ISNA(VLOOKUP((CONCATENATE(AJ242,AL242)),Divipolas!$F$2:$G$1123,2,FALSE)),\"\",VLOOKUP((CONCATENATE(AJ242,AL242)),Divipolas!$F$2:$G$1123,2,FALSE))","v":""},"","","","","","","","","","","","","","",null,null,null,null,null,null,null,{"$f":"IF(ISNA(VLOOKUP(BH242,'CODIGO PAIS'!$A$2:$B$231,2,FALSE)),\"\",VLOOKUP(BH242,'CODIGO PAIS'!$A$2:$B$231,2,FALSE))","v":""},null,{"$f":"IF(ISNA(VLOOKUP(BJ242,Divipolas!$A$2:$B$1123,2,FALSE)),\"\",VLOOKUP(BJ242,Divipolas!$A$2:$B$1123,2,FALSE))","v":""},null,{"$f":"IF(ISNA(VLOOKUP((CONCATENATE(BJ242,BL242)),Divipolas!$F$2:$G$1123,2,FALSE)),\"\",VLOOKUP((CONCATENATE(BJ242,BL242)),Divipolas!$F$2:$G$1123,2,FALSE))","v":""},null,"","",null,null,null,null,{"$f":"IF(ISNA(VLOOKUP(BT242,Divipolas!$A$2:$B$1123,2,FALSE)),\"\",VLOOKUP(BT242,Divipolas!$A$2:$B$1123,2,FALSE))","v":""},null,{"$f":"IF(ISNA(VLOOKUP((CONCATENATE(BT242,BV242)),Divipolas!$F$2:$G$1123,2,FALSE)),\"\",VLOOKUP((CONCATENATE(BT242,BV242)),Divipolas!$F$2:$G$1123,2,FALSE))","v":""},null,null,null,null,null,null,null,null,null,null,null,null,null,null,null,null,null,null,null,null,null,null,null,"",null,null,null,null,null,null,null,null,null,null,null,null,null,null,null,null,null,null,null,null,null,null,null,null,null,null,null,null,null,null,null,null,null,null,null,null,null,null,null,null,null,null,null,null,null,null,null,null,null,null,null,null,null,null,null,null,null,null,null,null,null,null,null,null,null,null,null,null,null,null,null,null,null,null,null,null,"",null,null,null,null,null,null,null,"VERIFIQUE FECHAS",null,null,null,null,null,null,null,null,null,"VERIFIQUE COLUMNA D"]
["","",null,"",{"$f":"IFERROR(VLOOKUP(D243,'CODIGO REGIONALES'!$J$2:$L$33,3,0),\"\")","v":""},"",{"$f":"IF(ISNA(VLOOKUP(F243,Divipolas!$A$2:$B$1123,2,FALSE)),\"\",VLOOKUP(F243,Divipolas!$A$2:$B$1123,2,FALSE))","v":""},"",{"$f":"IF(ISNA(VLOOKUP((CONCATENATE(F243,H243)),Divipolas!$F$2:$G$1123,2,FALSE)),\"\",VLOOKUP((CONCATENATE(F243,H243)),Divipolas!$F$2:$G$1123,2,FALSE))","v":""},"","","","","","","","",{"$f":"IF(ISNA(VLOOKUP(Q243,Divipolas!$A$2:$B$1123,2,FALSE)),\"\",VLOOKUP(Q243,Divipolas!$A$2:$B$1123,2,FALSE))","v":""},"",{"$f":"IF(ISNA(VLOOKUP((CONCATENATE(Q243,S243)),Divipolas!$F$2:$G$1123,2,FALSE)),\"\",VLOOKUP((CONCATENATE(Q243,S243)),Divipolas!$F$2:$G$1123,2,FALSE))","v":""},"","","","","","",{"$f":"IF(ISNA(VLOOKUP(Z243,'CODIGO PAIS'!$A$2:$B$231,2,FALSE)),\"\",VLOOKUP(Z243,'CODIGO PAIS'!$A$2:$B$231,2,FALSE))","v":""},"",{"$f":"IF(ISNA(VLOOKUP(AB243,Divipolas!$A$2:$B$1123,2,FALSE)),\"\",VLOOKUP(AB243,Divipolas!$A$2:$B$1123,2,FALSE))","v":""},"",{"$f":"IF(ISNA(VLOOKUP((CONCATENATE(AB243,AD243)),Divipolas!$F$2:$G$1123,2,FALSE)),\"\",VLOOKUP((CONCATENATE(AB243,AD243)),Divipolas!$F$2:$G$1123,2,FALSE))","v":""},"","","","","",{"$f":"IF(ISNA(VLOOKUP(AJ243,Divipolas!$A$2:$B$1123,2,FALSE)),\"\",VLOOKUP(AJ243,Divipolas!$A$2:$B$1123,2,FALSE))","v":""},"",{"$f":"IF(ISNA(VLOOKUP((CONCATENATE(AJ243,AL243)),Divipolas!$F$2:$G$1123,2,FALSE)),\"\",VLOOKUP((CONCATENATE(AJ243,AL243)),Divipolas!$F$2:$G$1123,2,FALSE))","v":""},"","","","","","","","","","","","","","",null,null,null,null,null,null,null,{"$f":"IF(ISNA(VLOOKUP(BH243,'CODIGO PAIS'!$A$2:$B$231,2,FALSE)),\"\",VLOOKUP(BH243,'CODIGO PAIS'!$A$2:$B$231,2,FALSE))","v":""},null,{"$f":"IF(ISNA(VLOOKUP(BJ243,Divipolas!$A$2:$B$1123,2,FALSE)),\"\",VLOOKUP(BJ243,Divipolas!$A$2:$B$1123,2,FALSE))","v":""},null,{"$f":"IF(ISNA(VLOOKUP((CONCATENATE(BJ243,BL243)),Divipolas!$F$2:$G$1123,2,FALSE)),\"\",VLOOKUP((CONCATENATE(BJ243,BL243)),Divipolas!$F$2:$G$1123,2,FALSE))","v":""},null,"","",null,null,null,null,{"$f":"IF(ISNA(VLOOKUP(BT243,Divipolas!$A$2:$B$1123,2,FALSE)),\"\",VLOOKUP(BT243,Divipolas!$A$2:$B$1123,2,FALSE))","v":""},null,{"$f":"IF(ISNA(VLOOKUP((CONCATENATE(BT243,BV243)),Divipolas!$F$2:$G$1123,2,FALSE)),\"\",VLOOKUP((CONCATENATE(BT243,BV243)),Divipolas!$F$2:$G$1123,2,FALSE))","v":""},null,null,null,null,null,null,null,null,null,null,null,null,null,null,null,null,null,null,null,null,null,null,null,"",null,null,null,null,null,null,null,null,null,null,null,null,null,null,null,null,null,null,null,null,null,null,null,null,null,null,null,null,null,null,null,null,null,null,null,null,null,null,null,null,null,null,null,null,null,null,null,null,null,null,null,null,null,null,null,null,null,null,null,null,null,null,null,null,null,null,null,null,null,null,null,null,null,null,null,null,"",null,null,null,null,null,null,null,"VERIFIQUE FECHAS",null,null,null,null,null,null,null,null,null,"VERIFIQUE COLUMNA D"]
["","",null,"",{"$f":"IFERROR(VLOOKUP(D244,'CODIGO REGIONALES'!$J$2:$L$33,3,0),\"\")","v":""},"",{"$f":"IF(ISNA(VLOOKUP(F244,Divipolas!$A$2:$B$1123,2,FALSE)),\"\",VLOOKUP(F244,Divipolas!$A$2:$B$1123,2,FALSE))","v":""},"",{"$f":"IF(ISNA(VLOOKUP((CONCATENATE(F244,H244)),Divipolas!$F$2:$G$1123,2,FALSE)),\"\",VLOOKUP((CONCATENATE(F244,H244)),Divipolas!$F$2:$G$1123,2,FALSE))","v":""},"","","","","","","","",{"$f":"IF(ISNA(VLOOKUP(Q244,Divipolas!$A$2:$B$1123,2,FALSE)),\"\",VLOOKUP(Q244,Divipolas!$A$2:$B$1123,2,FALSE))","v":""},"",{"$f":"IF(ISNA(VLOOKUP((CONCATENATE(Q244,S244)),Divipolas!$F$2:$G$1123,2,FALSE)),\"\",VLOOKUP((CONCATENATE(Q244,S244)),Divipolas!$F$2:$G$1123,2,FALSE))","v":""},"","","","","","",{"$f":"IF(ISNA(VLOOKUP(Z244,'CODIGO PAIS'!$A$2:$B$231,2,FALSE)),\"\",VLOOKUP(Z244,'CODIGO PAIS'!$A$2:$B$231,2,FALSE))","v":""},"",{"$f":"IF(ISNA(VLOOKUP(AB244,Divipolas!$A$2:$B$1123,2,FALSE)),\"\",VLOOKUP(AB244,Divipolas!$A$2:$B$1123,2,FALSE))","v":""},"",{"$f":"IF(ISNA(VLOOKUP((CONCATENATE(AB244,AD244)),Divipolas!$F$2:$G$1123,2,FALSE)),\"\",VLOOKUP((CONCATENATE(AB244,AD244)),Divipolas!$F$2:$G$1123,2,FALSE))","v":""},"","","","","",{"$f":"IF(ISNA(VLOOKUP(AJ244,Divipolas!$A$2:$B$1123,2,FALSE)),\"\",VLOOKUP(AJ244,Divipolas!$A$2:$B$1123,2,FALSE))","v":""},"",{"$f":"IF(ISNA(VLOOKUP((CONCATENATE(AJ244,AL244)),Divipolas!$F$2:$G$1123,2,FALSE)),\"\",VLOOKUP((CONCATENATE(AJ244,AL244)),Divipolas!$F$2:$G$1123,2,FALSE))","v":""},"","","","","","","","","","","","","","",null,null,null,null,null,null,null,{"$f":"IF(ISNA(VLOOKUP(BH244,'CODIGO PAIS'!$A$2:$B$231,2,FALSE)),\"\",VLOOKUP(BH244,'CODIGO PAIS'!$A$2:$B$231,2,FALSE))","v":""},null,{"$f":"IF(ISNA(VLOOKUP(BJ244,Divipolas!$A$2:$B$1123,2,FALSE)),\"\",VLOOKUP(BJ244,Divipolas!$A$2:$B$1123,2,FALSE))","v":""},null,{"$f":"IF(ISNA(VLOOKUP((CONCATENATE(BJ244,BL244)),Divipolas!$F$2:$G$1123,2,FALSE)),\"\",VLOOKUP((CONCATENATE(BJ244,BL244)),Divipolas!$F$2:$G$1123,2,FALSE))","v":""},null,"","",null,null,null,null,{"$f":"IF(ISNA(VLOOKUP(BT244,Divipolas!$A$2:$B$1123,2,FALSE)),\"\",VLOOKUP(BT244,Divipolas!$A$2:$B$1123,2,FALSE))","v":""},null,{"$f":"IF(ISNA(VLOOKUP((CONCATENATE(BT244,BV244)),Divipolas!$F$2:$G$1123,2,FALSE)),\"\",VLOOKUP((CONCATENATE(BT244,BV244)),Divipolas!$F$2:$G$1123,2,FALSE))","v":""},null,null,null,null,null,null,null,null,null,null,null,null,null,null,null,null,null,null,null,null,null,null,null,"",null,null,null,null,null,null,null,null,null,null,null,null,null,null,null,null,null,null,null,null,null,null,null,null,null,null,null,null,null,null,null,null,null,null,null,null,null,null,null,null,null,null,null,null,null,null,null,null,null,null,null,null,null,null,null,null,null,null,null,null,null,null,null,null,null,null,null,null,null,null,null,null,null,null,null,null,"",null,null,null,null,null,null,null,"VERIFIQUE FECHAS",null,null,null,null,null,null,null,null,null,"VERIFIQUE COLUMNA D"]
["","",null,"",{"$f":"IFERROR(VLOOKUP(D245,'CODIGO REGIONALES'!$J$2:$L$33,3,0),\"\")","v":""},"",{"$f":"IF(ISNA(VLOOKUP(F245,Divipolas!$A$2:$B$1123,2,FALSE)),\"\",VLOOKUP(F245,Divipolas!$A$2:$B$1123,2,FALSE))","v":""},"",{"$f":"IF(ISNA(VLOOKUP((CONCATENATE(F245,H245)),Divipolas!$F$2:$G$1123,2,FALSE)),\"\",VLOOKUP((CONCATENATE(F245,H245)),Divipolas!$F$2:$G$1123,2,FALSE))","v":""},"","","","","","","","",{"$f":"IF(ISNA(VLOOKUP(Q245,Divipolas!$A$2:$B$1123,2,FALSE)),\"\",VLOOKUP(Q245,Divipolas!$A$2:$B$1123,2,FALSE))","v":""},"",{"$f":"IF(ISNA(VLOOKUP((CONCATENATE(Q245,S245)),Divipolas!$F$2:$G$1123,2,FALSE)),\"\",VLOOKUP((CONCATENATE(Q245,S245)),Divipolas!$F$2:$G$1123,2,FALSE))","v":""},"","","","","","",{"$f":"IF(ISNA(VLOOKUP(Z245,'CODIGO PAIS'!$A$2:$B$231,2,FALSE)),\"\",VLOOKUP(Z245,'CODIGO PAIS'!$A$2:$B$231,2,FALSE))","v":""},"",{"$f":"IF(ISNA(VLOOKUP(AB245,Divipolas!$A$2:$B$1123,2,FALSE)),\"\",VLOOKUP(AB245,Divipolas!$A$2:$B$1123,2,FALSE))","v":""},"",{"$f":"IF(ISNA(VLOOKUP((CONCATENATE(AB245,AD245)),Divipolas!$F$2:$G$1123,2,FALSE)),\"\",VLOOKUP((CONCATENATE(AB245,AD245)),Divipolas!$F$2:$G$1123,2,FALSE))","v":""},"","","","","",{"$f":"IF(ISNA(VLOOKUP(AJ245,Divipolas!$A$2:$B$1123,2,FALSE)),\"\",VLOOKUP(AJ245,Divipolas!$A$2:$B$1123,2,FALSE))","v":""},"",{"$f":"IF(ISNA(VLOOKUP((CONCATENATE(AJ245,AL245)),Divipolas!$F$2:$G$1123,2,FALSE)),\"\",VLOOKUP((CONCATENATE(AJ245,AL245)),Divipolas!$F$2:$G$1123,2,FALSE))","v":""},"","","","","","","","","","","","","","",null,null,null,null,null,null,null,{"$f":"IF(ISNA(VLOOKUP(BH245,'CODIGO PAIS'!$A$2:$B$231,2,FALSE)),\"\",VLOOKUP(BH245,'CODIGO PAIS'!$A$2:$B$231,2,FALSE))","v":""},null,{"$f":"IF(ISNA(VLOOKUP(BJ245,Divipolas!$A$2:$B$1123,2,FALSE)),\"\",VLOOKUP(BJ245,Divipolas!$A$2:$B$1123,2,FALSE))","v":""},null,{"$f":"IF(ISNA(VLOOKUP((CONCATENATE(BJ245,BL245)),Divipolas!$F$2:$G$1123,2,FALSE)),\"\",VLOOKUP((CONCATENATE(BJ245,BL245)),Divipolas!$F$2:$G$1123,2,FALSE))","v":""},null,"","",null,null,null,null,{"$f":"IF(ISNA(VLOOKUP(BT245,Divipolas!$A$2:$B$1123,2,FALSE)),\"\",VLOOKUP(BT245,Divipolas!$A$2:$B$1123,2,FALSE))","v":""},null,{"$f":"IF(ISNA(VLOOKUP((CONCATENATE(BT245,BV245)),Divipolas!$F$2:$G$1123,2,FALSE)),\"\",VLOOKUP((CONCATENATE(BT245,BV245)),Divipolas!$F$2:$G$1123,2,FALSE))","v":""},null,null,null,null,null,null,null,null,null,null,null,null,null,null,null,null,null,null,null,null,null,null,null,"",null,null,null,null,null,null,null,null,null,null,null,null,null,null,null,null,null,null,null,null,null,null,null,null,null,null,null,null,null,null,null,null,null,null,null,null,null,null,null,null,null,null,null,null,null,null,null,null,null,null,null,null,null,null,null,null,null,null,null,null,null,null,null,null,null,null,null,null,null,null,null,null,null,null,null,null,"",null,null,null,null,null,null,null,"VERIFIQUE FECHAS",null,null,null,null,null,null,null,null,null,"VERIFIQUE COLUMNA D"]
["","",null,"",{"$f":"IFERROR(VLOOKUP(D246,'CODIGO REGIONALES'!$J$2:$L$33,3,0),\"\")","v":""},"",{"$f":"IF(ISNA(VLOOKUP(F246,Divipolas!$A$2:$B$1123,2,FALSE)),\"\",VLOOKUP(F246,Divipolas!$A$2:$B$1123,2,FALSE))","v":""},"",{"$f":"IF(ISNA(VLOOKUP((CONCATENATE(F246,H246)),Divipolas!$F$2:$G$1123,2,FALSE)),\"\",VLOOKUP((CONCATENATE(F246,H246)),Divipolas!$F$2:$G$1123,2,FALSE))","v":""},"","","","","","","","",{"$f":"IF(ISNA(VLOOKUP(Q246,Divipolas!$A$2:$B$1123,2,FALSE)),\"\",VLOOKUP(Q246,Divipolas!$A$2:$B$1123,2,FALSE))","v":""},"",{"$f":"IF(ISNA(VLOOKUP((CONCATENATE(Q246,S246)),Divipolas!$F$2:$G$1123,2,FALSE)),\"\",VLOOKUP((CONCATENATE(Q246,S246)),Divipolas!$F$2:$G$1123,2,FALSE))","v":""},"","","","","","",{"$f":"IF(ISNA(VLOOKUP(Z246,'CODIGO PAIS'!$A$2:$B$231,2,FALSE)),\"\",VLOOKUP(Z246,'CODIGO PAIS'!$A$2:$B$231,2,FALSE))","v":""},"",{"$f":"IF(ISNA(VLOOKUP(AB246,Divipolas!$A$2:$B$1123,2,FALSE)),\"\",VLOOKUP(AB246,Divipolas!$A$2:$B$1123,2,FALSE))","v":""},"",{"$f":"IF(ISNA(VLOOKUP((CONCATENATE(AB246,AD246)),Divipolas!$F$2:$G$1123,2,FALSE)),\"\",VLOOKUP((CONCATENATE(AB246,AD246)),Divipolas!$F$2:$G$1123,2,FALSE))","v":""},"","","","","",{"$f":"IF(ISNA(VLOOKUP(AJ246,Divipolas!$A$2:$B$1123,2,FALSE)),\"\",VLOOKUP(AJ246,Divipolas!$A$2:$B$1123,2,FALSE))","v":""},"",{"$f":"IF(ISNA(VLOOKUP((CONCATENATE(AJ246,AL246)),Divipolas!$F$2:$G$1123,2,FALSE)),\"\",VLOOKUP((CONCATENATE(AJ246,AL246)),Divipolas!$F$2:$G$1123,2,FALSE))","v":""},"","","","","","","","","","","","","","",null,null,null,null,null,null,null,{"$f":"IF(ISNA(VLOOKUP(BH246,'CODIGO PAIS'!$A$2:$B$231,2,FALSE)),\"\",VLOOKUP(BH246,'CODIGO PAIS'!$A$2:$B$231,2,FALSE))","v":""},null,{"$f":"IF(ISNA(VLOOKUP(BJ246,Divipolas!$A$2:$B$1123,2,FALSE)),\"\",VLOOKUP(BJ246,Divipolas!$A$2:$B$1123,2,FALSE))","v":""},null,{"$f":"IF(ISNA(VLOOKUP((CONCATENATE(BJ246,BL246)),Divipolas!$F$2:$G$1123,2,FALSE)),\"\",VLOOKUP((CONCATENATE(BJ246,BL246)),Divipolas!$F$2:$G$1123,2,FALSE))","v":""},null,"","",null,null,null,null,{"$f":"IF(ISNA(VLOOKUP(BT246,Divipolas!$A$2:$B$1123,2,FALSE)),\"\",VLOOKUP(BT246,Divipolas!$A$2:$B$1123,2,FALSE))","v":""},null,{"$f":"IF(ISNA(VLOOKUP((CONCATENATE(BT246,BV246)),Divipolas!$F$2:$G$1123,2,FALSE)),\"\",VLOOKUP((CONCATENATE(BT246,BV246)),Divipolas!$F$2:$G$1123,2,FALSE))","v":""},null,null,null,null,null,null,null,null,null,null,null,null,null,null,null,null,null,null,null,null,null,null,null,"",null,null,null,null,null,null,null,null,null,null,null,null,null,null,null,null,null,null,null,null,null,null,null,null,null,null,null,null,null,null,null,null,null,null,null,null,null,null,null,null,null,null,null,null,null,null,null,null,null,null,null,null,null,null,null,null,null,null,null,null,null,null,null,null,null,null,null,null,null,null,null,null,null,null,null,null,"",null,null,null,null,null,null,null,"VERIFIQUE FECHAS",null,null,null,null,null,null,null,null,null,"VERIFIQUE COLUMNA D"]
["","",null,"",{"$f":"IFERROR(VLOOKUP(D247,'CODIGO REGIONALES'!$J$2:$L$33,3,0),\"\")","v":""},"",{"$f":"IF(ISNA(VLOOKUP(F247,Divipolas!$A$2:$B$1123,2,FALSE)),\"\",VLOOKUP(F247,Divipolas!$A$2:$B$1123,2,FALSE))","v":""},"",{"$f":"IF(ISNA(VLOOKUP((CONCATENATE(F247,H247)),Divipolas!$F$2:$G$1123,2,FALSE)),\"\",VLOOKUP((CONCATENATE(F247,H247)),Divipolas!$F$2:$G$1123,2,FALSE))","v":""},"","","","","","","","",{"$f":"IF(ISNA(VLOOKUP(Q247,Divipolas!$A$2:$B$1123,2,FALSE)),\"\",VLOOKUP(Q247,Divipolas!$A$2:$B$1123,2,FALSE))","v":""},"",{"$f":"IF(ISNA(VLOOKUP((CONCATENATE(Q247,S247)),Divipolas!$F$2:$G$1123,2,FALSE)),\"\",VLOOKUP((CONCATENATE(Q247,S247)),Divipolas!$F$2:$G$1123,2,FALSE))","v":""},"","","","","","",{"$f":"IF(ISNA(VLOOKUP(Z247,'CODIGO PAIS'!$A$2:$B$231,2,FALSE)),\"\",VLOOKUP(Z247,'CODIGO PAIS'!$A$2:$B$231,2,FALSE))","v":""},"",{"$f":"IF(ISNA(VLOOKUP(AB247,Divipolas!$A$2:$B$1123,2,FALSE)),\"\",VLOOKUP(AB247,Divipolas!$A$2:$B$1123,2,FALSE))","v":""},"",{"$f":"IF(ISNA(VLOOKUP((CONCATENATE(AB247,AD247)),Divipolas!$F$2:$G$1123,2,FALSE)),\"\",VLOOKUP((CONCATENATE(AB247,AD247)),Divipolas!$F$2:$G$1123,2,FALSE))","v":""},"","","","","",{"$f":"IF(ISNA(VLOOKUP(AJ247,Divipolas!$A$2:$B$1123,2,FALSE)),\"\",VLOOKUP(AJ247,Divipolas!$A$2:$B$1123,2,FALSE))","v":""},"",{"$f":"IF(ISNA(VLOOKUP((CONCATENATE(AJ247,AL247)),Divipolas!$F$2:$G$1123,2,FALSE)),\"\",VLOOKUP((CONCATENATE(AJ247,AL247)),Divipolas!$F$2:$G$1123,2,FALSE))","v":""},"","","","","","","","","","","","","","",null,null,null,null,null,null,null,{"$f":"IF(ISNA(VLOOKUP(BH247,'CODIGO PAIS'!$A$2:$B$231,2,FALSE)),\"\",VLOOKUP(BH247,'CODIGO PAIS'!$A$2:$B$231,2,FALSE))","v":""},null,{"$f":"IF(ISNA(VLOOKUP(BJ247,Divipolas!$A$2:$B$1123,2,FALSE)),\"\",VLOOKUP(BJ247,Divipolas!$A$2:$B$1123,2,FALSE))","v":""},null,{"$f":"IF(ISNA(VLOOKUP((CONCATENATE(BJ247,BL247)),Divipolas!$F$2:$G$1123,2,FALSE)),\"\",VLOOKUP((CONCATENATE(BJ247,BL247)),Divipolas!$F$2:$G$1123,2,FALSE))","v":""},null,"","",null,null,null,null,{"$f":"IF(ISNA(VLOOKUP(BT247,Divipolas!$A$2:$B$1123,2,FALSE)),\"\",VLOOKUP(BT247,Divipolas!$A$2:$B$1123,2,FALSE))","v":""},null,{"$f":"IF(ISNA(VLOOKUP((CONCATENATE(BT247,BV247)),Divipolas!$F$2:$G$1123,2,FALSE)),\"\",VLOOKUP((CONCATENATE(BT247,BV247)),Divipolas!$F$2:$G$1123,2,FALSE))","v":""},null,null,null,null,null,null,null,null,null,null,null,null,null,null,null,null,null,null,null,null,null,null,null,"",null,null,null,null,null,null,null,null,null,null,null,null,null,null,null,null,null,null,null,null,null,null,null,null,null,null,null,null,null,null,null,null,null,null,null,null,null,null,null,null,null,null,null,null,null,null,null,null,null,null,null,null,null,null,null,null,null,null,null,null,null,null,null,null,null,null,null,null,null,null,null,null,null,null,null,null,"",null,null,null,null,null,null,null,"VERIFIQUE FECHAS",null,null,null,null,null,null,null,null,null,"VERIFIQUE COLUMNA D"]
["","",null,"",{"$f":"IFERROR(VLOOKUP(D248,'CODIGO REGIONALES'!$J$2:$L$33,3,0),\"\")","v":""},"",{"$f":"IF(ISNA(VLOOKUP(F248,Divipolas!$A$2:$B$1123,2,FALSE)),\"\",VLOOKUP(F248,Divipolas!$A$2:$B$1123,2,FALSE))","v":""},"",{"$f":"IF(ISNA(VLOOKUP((CONCATENATE(F248,H248)),Divipolas!$F$2:$G$1123,2,FALSE)),\"\",VLOOKUP((CONCATENATE(F248,H248)),Divipolas!$F$2:$G$1123,2,FALSE))","v":""},"",{"$f":"IF(AND($C248<>\"\",K247<>\"\"),K247,\"\")","v":""},"","","","","","",{"$f":"IF(ISNA(VLOOKUP(Q248,Divipolas!$A$2:$B$1123,2,FALSE)),\"\",VLOOKUP(Q248,Divipolas!$A$2:$B$1123,2,FALSE))","v":""},"",{"$f":"IF(ISNA(VLOOKUP((CONCATENATE(Q248,S248)),Divipolas!$F$2:$G$1123,2,FALSE)),\"\",VLOOKUP((CONCATENATE(Q248,S248)),Divipolas!$F$2:$G$1123,2,FALSE))","v":""},"","","","","","",{"$f":"IF(ISNA(VLOOKUP(Z248,'CODIGO PAIS'!$A$2:$B$231,2,FALSE)),\"\",VLOOKUP(Z248,'CODIGO PAIS'!$A$2:$B$231,2,FALSE))","v":""},"",{"$f":"IF(ISNA(VLOOKUP(AB248,Divipolas!$A$2:$B$1123,2,FALSE)),\"\",VLOOKUP(AB248,Divipolas!$A$2:$B$1123,2,FALSE))","v":""},"",{"$f":"IF(ISNA(VLOOKUP((CONCATENATE(AB248,AD248)),Divipolas!$F$2:$G$1123,2,FALSE)),\"\",VLOOKUP((CONCATENATE(AB248,AD248)),Divipolas!$F$2:$G$1123,2,FALSE))","v":""},"","","","","",{"$f":"IF(ISNA(VLOOKUP(AJ248,Divipolas!$A$2:$B$1123,2,FALSE)),\"\",VLOOKUP(AJ248,Divipolas!$A$2:$B$1123,2,FALSE))","v":""},"",{"$f":"IF(ISNA(VLOOKUP((CONCATENATE(AJ248,AL248)),Divipolas!$F$2:$G$1123,2,FALSE)),\"\",VLOOKUP((CONCATENATE(AJ248,AL248)),Divipolas!$F$2:$G$1123,2,FALSE))","v":""},"","","","","","","","","","","","","","",null,null,null,null,null,null,null,{"$f":"IF(ISNA(VLOOKUP(BH248,'CODIGO PAIS'!$A$2:$B$231,2,FALSE)),\"\",VLOOKUP(BH248,'CODIGO PAIS'!$A$2:$B$231,2,FALSE))","v":""},null,{"$f":"IF(ISNA(VLOOKUP(BJ248,Divipolas!$A$2:$B$1123,2,FALSE)),\"\",VLOOKUP(BJ248,Divipolas!$A$2:$B$1123,2,FALSE))","v":""},null,{"$f":"IF(ISNA(VLOOKUP((CONCATENATE(BJ248,BL248)),Divipolas!$F$2:$G$1123,2,FALSE)),\"\",VLOOKUP((CONCATENATE(BJ248,BL248)),Divipolas!$F$2:$G$1123,2,FALSE))","v":""},null,"","",null,null,null,null,{"$f":"IF(ISNA(VLOOKUP(BT248,Divipolas!$A$2:$B$1123,2,FALSE)),\"\",VLOOKUP(BT248,Divipolas!$A$2:$B$1123,2,FALSE))","v":""},null,{"$f":"IF(ISNA(VLOOKUP((CONCATENATE(BT248,BV248)),Divipolas!$F$2:$G$1123,2,FALSE)),\"\",VLOOKUP((CONCATENATE(BT248,BV248)),Divipolas!$F$2:$G$1123,2,FALSE))","v":""},null,null,null,null,null,null,null,null,null,null,null,null,null,null,null,null,null,null,null,null,null,null,null,"",null,null,null,null,null,null,null,null,null,null,null,null,null,null,null,null,null,null,null,null,null,null,null,null,null,null,null,null,null,null,null,null,null,null,null,null,null,null,null,null,null,null,null,null,null,null,null,null,null,null,null,null,null,null,null,null,null,null,null,null,null,null,null,null,null,null,null,null,null,null,null,null,null,null,null,null,"",null,null,null,null,null,null,null,"VERIFIQUE FECHAS",null,null,null,null,null,null,null,null,null,"VERIFIQUE COLUMNA D"]
["","",null,"",{"$f":"IFERROR(VLOOKUP(D249,'CODIGO REGIONALES'!$J$2:$L$33,3,0),\"\")","v":""},"",{"$f":"IF(ISNA(VLOOKUP(F249,Divipolas!$A$2:$B$1123,2,FALSE)),\"\",VLOOKUP(F249,Divipolas!$A$2:$B$1123,2,FALSE))","v":""},"",{"$f":"IF(ISNA(VLOOKUP((CONCATENATE(F249,H249)),Divipolas!$F$2:$G$1123,2,FALSE)),\"\",VLOOKUP((CONCATENATE(F249,H249)),Divipolas!$F$2:$G$1123,2,FALSE))","v":""},"","","","","","","","",{"$f":"IF(ISNA(VLOOKUP(Q249,Divipolas!$A$2:$B$1123,2,FALSE)),\"\",VLOOKUP(Q249,Divipolas!$A$2:$B$1123,2,FALSE))","v":""},"",{"$f":"IF(ISNA(VLOOKUP((CONCATENATE(Q249,S249)),Divipolas!$F$2:$G$1123,2,FALSE)),\"\",VLOOKUP((CONCATENATE(Q249,S249)),Divipolas!$F$2:$G$1123,2,FALSE))","v":""},"","","","","","",{"$f":"IF(ISNA(VLOOKUP(Z249,'CODIGO PAIS'!$A$2:$B$231,2,FALSE)),\"\",VLOOKUP(Z249,'CODIGO PAIS'!$A$2:$B$231,2,FALSE))","v":""},"",{"$f":"IF(ISNA(VLOOKUP(AB249,Divipolas!$A$2:$B$1123,2,FALSE)),\"\",VLOOKUP(AB249,Divipolas!$A$2:$B$1123,2,FALSE))","v":""},"",{"$f":"IF(ISNA(VLOOKUP((CONCATENATE(AB249,AD249)),Divipolas!$F$2:$G$1123,2,FALSE)),\"\",VLOOKUP((CONCATENATE(AB249,AD249)),Divipolas!$F$2:$G$1123,2,FALSE))","v":""},"","","","","",{"$f":"IF(ISNA(VLOOKUP(AJ249,Divipolas!$A$2:$B$1123,2,FALSE)),\"\",VLOOKUP(AJ249,Divipolas!$A$2:$B$1123,2,FALSE))","v":""},"",{"$f":"IF(ISNA(VLOOKUP((CONCATENATE(AJ249,AL249)),Divipolas!$F$2:$G$1123,2,FALSE)),\"\",VLOOKUP((CONCATENATE(AJ249,AL249)),Divipolas!$F$2:$G$1123,2,FALSE))","v":""},"","","","","","","","","","","","","","",null,null,null,null,null,null,null,{"$f":"IF(ISNA(VLOOKUP(BH249,'CODIGO PAIS'!$A$2:$B$231,2,FALSE)),\"\",VLOOKUP(BH249,'CODIGO PAIS'!$A$2:$B$231,2,FALSE))","v":""},null,{"$f":"IF(ISNA(VLOOKUP(BJ249,Divipolas!$A$2:$B$1123,2,FALSE)),\"\",VLOOKUP(BJ249,Divipolas!$A$2:$B$1123,2,FALSE))","v":""},null,{"$f":"IF(ISNA(VLOOKUP((CONCATENATE(BJ249,BL249)),Divipolas!$F$2:$G$1123,2,FALSE)),\"\",VLOOKUP((CONCATENATE(BJ249,BL249)),Divipolas!$F$2:$G$1123,2,FALSE))","v":""},null,"","",null,null,null,null,{"$f":"IF(ISNA(VLOOKUP(BT249,Divipolas!$A$2:$B$1123,2,FALSE)),\"\",VLOOKUP(BT249,Divipolas!$A$2:$B$1123,2,FALSE))","v":""},null,{"$f":"IF(ISNA(VLOOKUP((CONCATENATE(BT249,BV249)),Divipolas!$F$2:$G$1123,2,FALSE)),\"\",VLOOKUP((CONCATENATE(BT249,BV249)),Divipolas!$F$2:$G$1123,2,FALSE))","v":""},null,null,null,null,null,null,null,null,null,null,null,null,null,null,null,null,null,null,null,null,null,null,null,"",null,null,null,null,null,null,null,null,null,null,null,null,null,null,null,null,null,null,null,null,null,null,null,null,null,null,null,null,null,null,null,null,null,null,null,null,null,null,null,null,null,null,null,null,null,null,null,null,null,null,null,null,null,null,null,null,null,null,null,null,null,null,null,null,null,null,null,null,null,null,null,null,null,null,null,null,"",null,null,null,null,null,null,null,"VERIFIQUE FECHAS",null,null,null,null,null,null,null,null,null,"VERIFIQUE COLUMNA D"]
["","",null,"",{"$f":"IFERROR(VLOOKUP(D250,'CODIGO REGIONALES'!$J$2:$L$33,3,0),\"\")","v":""},"",{"$f":"IF(ISNA(VLOOKUP(F250,Divipolas!$A$2:$B$1123,2,FALSE)),\"\",VLOOKUP(F250,Divipolas!$A$2:$B$1123,2,FALSE))","v":""},"",{"$f":"IF(ISNA(VLOOKUP((CONCATENATE(F250,H250)),Divipolas!$F$2:$G$1123,2,FALSE)),\"\",VLOOKUP((CONCATENATE(F250,H250)),Divipolas!$F$2:$G$1123,2,FALSE))","v":""},"","","","","","","","",{"$f":"IF(ISNA(VLOOKUP(Q250,Divipolas!$A$2:$B$1123,2,FALSE)),\"\",VLOOKUP(Q250,Divipolas!$A$2:$B$1123,2,FALSE))","v":""},"",{"$f":"IF(ISNA(VLOOKUP((CONCATENATE(Q250,S250)),Divipolas!$F$2:$G$1123,2,FALSE)),\"\",VLOOKUP((CONCATENATE(Q250,S250)),Divipolas!$F$2:$G$1123,2,FALSE))","v":""},"","","","","","",{"$f":"IF(ISNA(VLOOKUP(Z250,'CODIGO PAIS'!$A$2:$B$231,2,FALSE)),\"\",VLOOKUP(Z250,'CODIGO PAIS'!$A$2:$B$231,2,FALSE))","v":""},"",{"$f":"IF(ISNA(VLOOKUP(AB250,Divipolas!$A$2:$B$1123,2,FALSE)),\"\",VLOOKUP(AB250,Divipolas!$A$2:$B$1123,2,FALSE))","v":""},"",{"$f":"IF(ISNA(VLOOKUP((CONCATENATE(AB250,AD250)),Divipolas!$F$2:$G$1123,2,FALSE)),\"\",VLOOKUP((CONCATENATE(AB250,AD250)),Divipolas!$F$2:$G$1123,2,FALSE))","v":""},"","","","","",{"$f":"IF(ISNA(VLOOKUP(AJ250,Divipolas!$A$2:$B$1123,2,FALSE)),\"\",VLOOKUP(AJ250,Divipolas!$A$2:$B$1123,2,FALSE))","v":""},"",{"$f":"IF(ISNA(VLOOKUP((CONCATENATE(AJ250,AL250)),Divipolas!$F$2:$G$1123,2,FALSE)),\"\",VLOOKUP((CONCATENATE(AJ250,AL250)),Divipolas!$F$2:$G$1123,2,FALSE))","v":""},"","","","","","","","","","","","","","",null,null,null,null,null,null,null,{"$f":"IF(ISNA(VLOOKUP(BH250,'CODIGO PAIS'!$A$2:$B$231,2,FALSE)),\"\",VLOOKUP(BH250,'CODIGO PAIS'!$A$2:$B$231,2,FALSE))","v":""},null,{"$f":"IF(ISNA(VLOOKUP(BJ250,Divipolas!$A$2:$B$1123,2,FALSE)),\"\",VLOOKUP(BJ250,Divipolas!$A$2:$B$1123,2,FALSE))","v":""},null,{"$f":"IF(ISNA(VLOOKUP((CONCATENATE(BJ250,BL250)),Divipolas!$F$2:$G$1123,2,FALSE)),\"\",VLOOKUP((CONCATENATE(BJ250,BL250)),Divipolas!$F$2:$G$1123,2,FALSE))","v":""},null,"","",null,null,null,null,{"$f":"IF(ISNA(VLOOKUP(BT250,Divipolas!$A$2:$B$1123,2,FALSE)),\"\",VLOOKUP(BT250,Divipolas!$A$2:$B$1123,2,FALSE))","v":""},null,{"$f":"IF(ISNA(VLOOKUP((CONCATENATE(BT250,BV250)),Divipolas!$F$2:$G$1123,2,FALSE)),\"\",VLOOKUP((CONCATENATE(BT250,BV250)),Divipolas!$F$2:$G$1123,2,FALSE))","v":""},null,null,null,null,null,null,null,null,null,null,null,null,null,null,null,null,null,null,null,null,null,null,null,"",null,null,null,null,null,null,null,null,null,null,null,null,null,null,null,null,null,null,null,null,null,null,null,null,null,null,null,null,null,null,null,null,null,null,null,null,null,null,null,null,null,null,null,null,null,null,null,null,null,null,null,null,null,null,null,null,null,null,null,null,null,null,null,null,null,null,null,null,null,null,null,null,null,null,null,null,"",null,null,null,null,null,null,null,"VERIFIQUE FECHAS",null,null,null,null,null,null,null,null,null,"VERIFIQUE COLUMNA D"]
["","",null,"",{"$f":"IFERROR(VLOOKUP(D252,'CODIGO REGIONALES'!$J$2:$L$33,3,0),\"\")","v":""},"",{"$f":"IF(ISNA(VLOOKUP(F252,Divipolas!$A$2:$B$1123,2,FALSE)),\"\",VLOOKUP(F252,Divipolas!$A$2:$B$1123,2,FALSE))","v":""},"",{"$f":"IF(ISNA(VLOOKUP((CONCATENATE(F252,H252)),Divipolas!$F$2:$G$1123,2,FALSE)),\"\",VLOOKUP((CONCATENATE(F252,H252)),Divipolas!$F$2:$G$1123,2,FALSE))","v":""},"","","","","","","","",{"$f":"IF(ISNA(VLOOKUP(Q252,Divipolas!$A$2:$B$1123,2,FALSE)),\"\",VLOOKUP(Q252,Divipolas!$A$2:$B$1123,2,FALSE))","v":""},"",{"$f":"IF(ISNA(VLOOKUP((CONCATENATE(Q252,S252)),Divipolas!$F$2:$G$1123,2,FALSE)),\"\",VLOOKUP((CONCATENATE(Q252,S252)),Divipolas!$F$2:$G$1123,2,FALSE))","v":""},"","","","","","",{"$f":"IF(ISNA(VLOOKUP(Z252,'CODIGO PAIS'!$A$2:$B$231,2,FALSE)),\"\",VLOOKUP(Z252,'CODIGO PAIS'!$A$2:$B$231,2,FALSE))","v":""},"",{"$f":"IF(ISNA(VLOOKUP(AB252,Divipolas!$A$2:$B$1123,2,FALSE)),\"\",VLOOKUP(AB252,Divipolas!$A$2:$B$1123,2,FALSE))","v":""},"",{"$f":"IF(ISNA(VLOOKUP((CONCATENATE(AB252,AD252)),Divipolas!$F$2:$G$1123,2,FALSE)),\"\",VLOOKUP((CONCATENATE(AB252,AD252)),Divipolas!$F$2:$G$1123,2,FALSE))","v":""},"","","","","",{"$f":"IF(ISNA(VLOOKUP(AJ252,Divipolas!$A$2:$B$1123,2,FALSE)),\"\",VLOOKUP(AJ252,Divipolas!$A$2:$B$1123,2,FALSE))","v":""},"",{"$f":"IF(ISNA(VLOOKUP((CONCATENATE(AJ252,AL252)),Divipolas!$F$2:$G$1123,2,FALSE)),\"\",VLOOKUP((CONCATENATE(AJ252,AL252)),Divipolas!$F$2:$G$1123,2,FALSE))","v":""},"","","","","","","","","","","","","","",null,null,null,null,null,null,null,{"$f":"IF(ISNA(VLOOKUP(BH252,'CODIGO PAIS'!$A$2:$B$231,2,FALSE)),\"\",VLOOKUP(BH252,'CODIGO PAIS'!$A$2:$B$231,2,FALSE))","v":""},null,{"$f":"IF(ISNA(VLOOKUP(BJ252,Divipolas!$A$2:$B$1123,2,FALSE)),\"\",VLOOKUP(BJ252,Divipolas!$A$2:$B$1123,2,FALSE))","v":""},null,{"$f":"IF(ISNA(VLOOKUP((CONCATENATE(BJ252,BL252)),Divipolas!$F$2:$G$1123,2,FALSE)),\"\",VLOOKUP((CONCATENATE(BJ252,BL252)),Divipolas!$F$2:$G$1123,2,FALSE))","v":""},null,"","",null,null,null,null,{"$f":"IF(ISNA(VLOOKUP(BT252,Divipolas!$A$2:$B$1123,2,FALSE)),\"\",VLOOKUP(BT252,Divipolas!$A$2:$B$1123,2,FALSE))","v":""},null,{"$f":"IF(ISNA(VLOOKUP((CONCATENATE(BT252,BV252)),Divipolas!$F$2:$G$1123,2,FALSE)),\"\",VLOOKUP((CONCATENATE(BT252,BV252)),Divipolas!$F$2:$G$1123,2,FALSE))","v":""},null,null,null,null,null,null,null,null,null,null,null,null,null,null,null,null,null,null,null,null,null,null,null,"",null,null,null,null,null,null,null,null,null,null,null,null,null,null,null,null,null,null,null,null,null,null,null,null,null,null,null,null,null,null,null,null,null,null,null,null,null,null,null,null,null,null,null,null,null,null,null,null,null,null,null,null,null,null,null,null,null,null,null,null,null,null,null,null,null,null,null,null,null,null,null,null,null,null,null,null,"",null,null,null,null,null,null,null,"VERIFIQUE FECHAS",null,null,null,null,null,null,null,null,null,"VERIFIQUE COLUMNA D"]
["","",null,"",{"$f":"IFERROR(VLOOKUP(D256,'CODIGO REGIONALES'!$J$2:$L$33,3,0),\"\")","v":""},"",{"$f":"IF(ISNA(VLOOKUP(F256,Divipolas!$A$2:$B$1123,2,FALSE)),\"\",VLOOKUP(F256,Divipolas!$A$2:$B$1123,2,FALSE))","v":""},"",{"$f":"IF(ISNA(VLOOKUP((CONCATENATE(F256,H256)),Divipolas!$F$2:$G$1123,2,FALSE)),\"\",VLOOKUP((CONCATENATE(F256,H256)),Divipolas!$F$2:$G$1123,2,FALSE))","v":""},"","","","","","","","",{"$f":"IF(ISNA(VLOOKUP(Q256,Divipolas!$A$2:$B$1123,2,FALSE)),\"\",VLOOKUP(Q256,Divipolas!$A$2:$B$1123,2,FALSE))","v":""},"",{"$f":"IF(ISNA(VLOOKUP((CONCATENATE(Q256,S256)),Divipolas!$F$2:$G$1123,2,FALSE)),\"\",VLOOKUP((CONCATENATE(Q256,S256)),Divipolas!$F$2:$G$1123,2,FALSE))","v":""},"","","","","","",{"$f":"IF(ISNA(VLOOKUP(Z256,'CODIGO PAIS'!$A$2:$B$231,2,FALSE)),\"\",VLOOKUP(Z256,'CODIGO PAIS'!$A$2:$B$231,2,FALSE))","v":""},"",{"$f":"IF(ISNA(VLOOKUP(AB256,Divipolas!$A$2:$B$1123,2,FALSE)),\"\",VLOOKUP(AB256,Divipolas!$A$2:$B$1123,2,FALSE))","v":""},"",{"$f":"IF(ISNA(VLOOKUP((CONCATENATE(AB256,AD256)),Divipolas!$F$2:$G$1123,2,FALSE)),\"\",VLOOKUP((CONCATENATE(AB256,AD256)),Divipolas!$F$2:$G$1123,2,FALSE))","v":""},"","","","","",{"$f":"IF(ISNA(VLOOKUP(AJ256,Divipolas!$A$2:$B$1123,2,FALSE)),\"\",VLOOKUP(AJ256,Divipolas!$A$2:$B$1123,2,FALSE))","v":""},"",{"$f":"IF(ISNA(VLOOKUP((CONCATENATE(AJ256,AL256)),Divipolas!$F$2:$G$1123,2,FALSE)),\"\",VLOOKUP((CONCATENATE(AJ256,AL256)),Divipolas!$F$2:$G$1123,2,FALSE))","v":""},"","","","","","","","","","","","","","",null,null,null,null,null,null,null,{"$f":"IF(ISNA(VLOOKUP(BH256,'CODIGO PAIS'!$A$2:$B$231,2,FALSE)),\"\",VLOOKUP(BH256,'CODIGO PAIS'!$A$2:$B$231,2,FALSE))","v":""},null,{"$f":"IF(ISNA(VLOOKUP(BJ256,Divipolas!$A$2:$B$1123,2,FALSE)),\"\",VLOOKUP(BJ256,Divipolas!$A$2:$B$1123,2,FALSE))","v":""},null,{"$f":"IF(ISNA(VLOOKUP((CONCATENATE(BJ256,BL256)),Divipolas!$F$2:$G$1123,2,FALSE)),\"\",VLOOKUP((CONCATENATE(BJ256,BL256)),Divipolas!$F$2:$G$1123,2,FALSE))","v":""},null,"","",null,null,null,null,{"$f":"IF(ISNA(VLOOKUP(BT256,Divipolas!$A$2:$B$1123,2,FALSE)),\"\",VLOOKUP(BT256,Divipolas!$A$2:$B$1123,2,FALSE))","v":""},null,{"$f":"IF(ISNA(VLOOKUP((CONCATENATE(BT256,BV256)),Divipolas!$F$2:$G$1123,2,FALSE)),\"\",VLOOKUP((CONCATENATE(BT256,BV256)),Divipolas!$F$2:$G$1123,2,FALSE))","v":""},null,null,null,null,null,null,null,null,null,null,null,null,null,null,null,null,null,null,null,null,null,null,null,"",null,null,null,null,null,null,null,null,null,null,null,null,null,null,null,null,null,null,null,null,null,null,null,null,null,null,null,null,null,null,null,null,null,null,null,null,null,null,null,null,null,null,null,null,null,null,null,null,null,null,null,null,null,null,null,null,null,null,null,null,null,null,null,null,null,null,null,null,null,null,null,null,null,null,null,null,"",null,null,null,null,null,null,null,"VERIFIQUE FECHAS",null,null,null,null,null,null,null,null,null,"VERIFIQUE COLUMNA D"]
["","",null,"",{"$f":"IFERROR(VLOOKUP(D261,'CODIGO REGIONALES'!$J$2:$L$33,3,0),\"\")","v":""},"",{"$f":"IF(ISNA(VLOOKUP(F261,Divipolas!$A$2:$B$1123,2,FALSE)),\"\",VLOOKUP(F261,Divipolas!$A$2:$B$1123,2,FALSE))","v":""},"",{"$f":"IF(ISNA(VLOOKUP((CONCATENATE(F261,H261)),Divipolas!$F$2:$G$1123,2,FALSE)),\"\",VLOOKUP((CONCATENATE(F261,H261)),Divipolas!$F$2:$G$1123,2,FALSE))","v":""},"","","","","","","","",{"$f":"IF(ISNA(VLOOKUP(Q261,Divipolas!$A$2:$B$1123,2,FALSE)),\"\",VLOOKUP(Q261,Divipolas!$A$2:$B$1123,2,FALSE))","v":""},"",{"$f":"IF(ISNA(VLOOKUP((CONCATENATE(Q261,S261)),Divipolas!$F$2:$G$1123,2,FALSE)),\"\",VLOOKUP((CONCATENATE(Q261,S261)),Divipolas!$F$2:$G$1123,2,FALSE))","v":""},"","","","","","",{"$f":"IF(ISNA(VLOOKUP(Z261,'CODIGO PAIS'!$A$2:$B$231,2,FALSE)),\"\",VLOOKUP(Z261,'CODIGO PAIS'!$A$2:$B$231,2,FALSE))","v":""},"",{"$f":"IF(ISNA(VLOOKUP(AB261,Divipolas!$A$2:$B$1123,2,FALSE)),\"\",VLOOKUP(AB261,Divipolas!$A$2:$B$1123,2,FALSE))","v":""},"",{"$f":"IF(ISNA(VLOOKUP((CONCATENATE(AB261,AD261)),Divipolas!$F$2:$G$1123,2,FALSE)),\"\",VLOOKUP((CONCATENATE(AB261,AD261)),Divipolas!$F$2:$G$1123,2,FALSE))","v":""},"","","","","",{"$f":"IF(ISNA(VLOOKUP(AJ261,Divipolas!$A$2:$B$1123,2,FALSE)),\"\",VLOOKUP(AJ261,Divipolas!$A$2:$B$1123,2,FALSE))","v":""},"",{"$f":"IF(ISNA(VLOOKUP((CONCATENATE(AJ261,AL261)),Divipolas!$F$2:$G$1123,2,FALSE)),\"\",VLOOKUP((CONCATENATE(AJ261,AL261)),Divipolas!$F$2:$G$1123,2,FALSE))","v":""},"","","","","","","","","","","","","","",null,null,null,null,null,null,null,{"$f":"IF(ISNA(VLOOKUP(BH261,'CODIGO PAIS'!$A$2:$B$231,2,FALSE)),\"\",VLOOKUP(BH261,'CODIGO PAIS'!$A$2:$B$231,2,FALSE))","v":""},null,{"$f":"IF(ISNA(VLOOKUP(BJ261,Divipolas!$A$2:$B$1123,2,FALSE)),\"\",VLOOKUP(BJ261,Divipolas!$A$2:$B$1123,2,FALSE))","v":""},null,{"$f":"IF(ISNA(VLOOKUP((CONCATENATE(BJ261,BL261)),Divipolas!$F$2:$G$1123,2,FALSE)),\"\",VLOOKUP((CONCATENATE(BJ261,BL261)),Divipolas!$F$2:$G$1123,2,FALSE))","v":""},null,"","",null,null,null,null,{"$f":"IF(ISNA(VLOOKUP(BT261,Divipolas!$A$2:$B$1123,2,FALSE)),\"\",VLOOKUP(BT261,Divipolas!$A$2:$B$1123,2,FALSE))","v":""},null,{"$f":"IF(ISNA(VLOOKUP((CONCATENATE(BT261,BV261)),Divipolas!$F$2:$G$1123,2,FALSE)),\"\",VLOOKUP((CONCATENATE(BT261,BV261)),Divipolas!$F$2:$G$1123,2,FALSE))","v":""},null,null,null,null,null,null,null,null,null,null,null,null,null,null,null,null,null,null,null,null,null,null,null,"",null,null,null,null,null,null,null,null,null,null,null,null,null,null,null,null,null,null,null,null,null,null,null,null,null,null,null,null,null,null,null,null,null,null,null,null,null,null,null,null,null,null,null,null,null,null,null,null,null,null,null,null,null,null,null,null,null,null,null,null,null,null,null,null,null,null,null,null,null,null,null,null,null,null,null,null,"",null,null,null,null,null,null,null,"VERIFIQUE FECHAS",null,null,null,null,null,null,null,null,null,"VERIFIQUE COLUMNA D"]
[{"$f":"IF(C267<>\"\",A266+1,\"\")","v":""},"",null,{"$f":"IF(AND(C267<>\"\",D266<>\"\"),D266,\"\")","v":""},{"$f":"IFERROR(VLOOKUP(D267,'CODIGO REGIONALES'!$J$2:$L$33,3,0),\"\")","v":""},{"$f":"IF(AND(C267<>\"\",F266<>\"\"),F266,\"\")","v":""},{"$f":"IF(ISNA(VLOOKUP(F267,Divipolas!$A$2:$B$1123,2,FALSE)),\"\",VLOOKUP(F267,Divipolas!$A$2:$B$1123,2,FALSE))","v":""},{"$f":"IF(AND(C267<>\"\",H266<>\"\"),H266,\"\")","v":""},{"$f":"IF(ISNA(VLOOKUP((CONCATENATE(F267,H267)),Divipolas!$F$2:$G$1123,2,FALSE)),\"\",VLOOKUP((CONCATENATE(F267,H267)),Divipolas!$F$2:$G$1123,2,FALSE))","v":""},{"$f":"IF(AND(C267<>\"\",J266<>\"\"),J266,\"\")","v":""},"","","","","","","",{"$f":"IF(ISNA(VLOOKUP(Q267,Divipolas!$A$2:$B$1123,2,FALSE)),\"\",VLOOKUP(Q267,Divipolas!$A$2:$B$1123,2,FALSE))","v":""},{"$f":"IF(AND($C267<>\"\",S266<>\"\"),S266,\"\")","v":""},{"$f":"IF(ISNA(VLOOKUP((CONCATENATE(Q267,S267)),Divipolas!$F$2:$G$1123,2,FALSE)),\"\",VLOOKUP((CONCATENATE(Q267,S267)),Divipolas!$F$2:$G$1123,2,FALSE))","v":""},{"$f":"IF(AND(BC267<>\"\",U266<>\"\"),U266,\"\")","v":""},{"$f":"IF(AND(BC267<>\"\",V266<>\"\"),V266,\"\")","v":""},{"$f":"IF(AND(BC267<>\"\",W266<>\"\"),W266,\"\")","v":""},{"$f":"IF(AND(BC267<>\"\",X266<>\"\"),X266,\"\")","v":""},{"$f":"IF(AND(BC267<>\"\",Y266<>\"\"),Y266,\"\")","v":""},{"$f":"IF(AND(BC267<>\"\",Z266<>\"\"),Z266,\"\")","v":""},{"$f":"IF(ISNA(VLOOKUP(Z267,'CODIGO PAIS'!$A$2:$B$231,2,FALSE)),\"\",VLOOKUP(Z267,'CODIGO PAIS'!$A$2:$B$231,2,FALSE))","v":""},{"$f":"IF(AND(BC267<>\"\",AB266<>\"\"),AB266,\"\")","v":""},{"$f":"IF(ISNA(VLOOKUP(AB267,Divipolas!$A$2:$B$1123,2,FALSE)),\"\",VLOOKUP(AB267,Divipolas!$A$2:$B$1123,2,FALSE))","v":""},{"$f":"IF(AND(BC267<>\"\",AD266<>\"\"),AD266,\"\")","v":""},{"$f":"IF(ISNA(VLOOKUP((CONCATENATE(AB267,AD267)),Divipolas!$F$2:$G$1123,2,FALSE)),\"\",VLOOKUP((CONCATENATE(AB267,AD267)),Divipolas!$F$2:$G$1123,2,FALSE))","v":""},{"$f":"IF(AND(BC267<>\"\",AF266<>\"\"),AF266,\"\")","v":""},{"$f":"IF(AND(BC267<>\"\",AG266<>\"\"),AG266,\"\")","v":""},{"$f":"IF(AND(BC267<>\"\",AH266<>\"\"),AH266,\"\")","v":""},{"$f":"IF(AND(BC267<>\"\",AI266<>\"\"),AI266,\"\")","v":""},{"$f":"IF(AND(BC267<>\"\",AJ266<>\"\"),AJ266,\"\")","v":""},{"$f":"IF(ISNA(VLOOKUP(AJ267,Divipolas!$A$2:$B$1123,2,FALSE)),\"\",VLOOKUP(AJ267,Divipolas!$A$2:$B$1123,2,FALSE))","v":""},{"$f":"IF(AND(BC267<>\"\",AL266<>\"\"),AL266,\"\")","v":""},{"$f":"IF(ISNA(VLOOKUP((CONCATENATE(AJ267,AL267)),Divipolas!$F$2:$G$1123,2,FALSE)),\"\",VLOOKUP((CONCATENATE(AJ267,AL267)),Divipolas!$F$2:$G$1123,2,FALSE))","v":""},{"$f":"IF(AND(BC267<>\"\",AN266<>\"\"),AN266,\"\")","v":""},{"$f":"IF(AND(BC267<>\"\",AO266<>\"\"),AO266,\"\")","v":""},{"$f":"IF(AND(BC267<>\"\",AP266<>\"\"),AP266,\"\")","v":""},{"$f":"IF(AND(BC267<>\"\",AQ266<>\"\"),AQ266,\"\")","v":""},{"$f":"IF(AND(BC267<>\"\",AR266<>\"\"),AR266,\"\")","v":""},{"$f":"IF(AND(BC267<>\"\",AS266<>\"\"),AS266,\"\")","v":""},{"$f":"IF(AND(BC267<>\"\",AT266<>\"\"),AT266,\"\")","v":""},{"$f":"IF(AND($BC267<>\"\",AU266<>\"\"),AU266,\"\")","v":""},{"$f":"IF(AND(BC267<>\"\",AV266<>\"\"),AV266,\"\")","v":""},{"$f":"IF(AND(BC267<>\"\",AW266<>\"\"),AW266,\"\")","v":""},{"$f":"IF(AND(BC267<>\"\",AX266<>\"\"),AX266,\"\")","v":""},{"$f":"IF(AND(BC267<>\"\",AY266<>\"\"),AY266,\"\")","v":""},{"$f":"IF(AND(BC267<>\"\",AZ266<>\"\"),AZ266,\"\")","v":""},{"$f":"IF(AND(BC267<>\"\",BA266<>\"\"),BA266,\"\")","v":""},null,null,null,null,null,null,null,{"$f":"IF(ISNA(VLOOKUP(BH267,'CODIGO PAIS'!$A$2:$B$231,2,FALSE)),\"\",VLOOKUP(BH267,'CODIGO PAIS'!$A$2:$B$231,2,FALSE))","v":""},null,{"$f":"IF(ISNA(VLOOKUP(BJ267,Divipolas!$A$2:$B$1123,2,FALSE)),\"\",VLOOKUP(BJ267,Divipolas!$A$2:$B$1123,2,FALSE))","v":""},null,{"$f":"IF(ISNA(VLOOKUP((CONCATENATE(BJ267,BL267)),Divipolas!$F$2:$G$1123,2,FALSE)),\"\",VLOOKUP((CONCATENATE(BJ267,BL267)),Divipolas!$F$2:$G$1123,2,FALSE))","v":""},null,{"$f":"IF(OR(C267=\"\",BN267=\"\"),\"\",DATEDIF(BN267,C267,\"y\"))","v":""},{"$f":"IF(OR(C267=\"\",BN267=\"\"),\"\",DATEDIF(BN267,C267,\"ym\"))","v":""},null,null,null,null,{"$f":"IF(ISNA(VLOOKUP(BT267,Divipolas!$A$2:$B$1123,2,FALSE)),\"\",VLOOKUP(BT267,Divipolas!$A$2:$B$1123,2,FALSE))","v":""},null,{"$f":"IF(ISNA(VLOOKUP((CONCATENATE(BT267,BV267)),Divipolas!$F$2:$G$1123,2,FALSE)),\"\",VLOOKUP((CONCATENATE(BT267,BV267)),Divipolas!$F$2:$G$1123,2,FALSE))","v":""},null,null,null,null,null,null,null,null,null,null,null,null,null,null,null,null,null,null,null,null,null,null,null,{"$f":"IF(OR(BG267=\"\",BO267=\"\"),\"\",IF(AND(BG267=\"F\",BO267>=52),\"SI\",IF(AND(BG267=\"M\",BO267>=57),\"SI\",\"NO\")))","v":""},null,null,null,null,null,null,null,null,null,null,null,null,null,null,null,null,null,null,null,null,null,null,null,null,null,null,null,null,null,null,null,null,null,null,null,null,null,null,null,null,null,null,null,null,null,null,null,null,null,null,null,null,null,null,null,null,null,null,null,null,null,null,null,null,null,null,null,null,null,null,null,null,null,null,null,null,"",null,null,null,null,null,null,null,"VERIFIQUE FECHAS",null,null,null,null,null,null,null,null,null,"VERIFIQUE COLUMNA D"]
["","",null,"",{"$f":"IFERROR(VLOOKUP(D271,'CODIGO REGIONALES'!$J$2:$L$33,3,0),\"\")","v":""},"",{"$f":"IF(ISNA(VLOOKUP(F271,Divipolas!$A$2:$B$1123,2,FALSE)),\"\",VLOOKUP(F271,Divipolas!$A$2:$B$1123,2,FALSE))","v":""},"",{"$f":"IF(ISNA(VLOOKUP((CONCATENATE(F271,H271)),Divipolas!$F$2:$G$1123,2,FALSE)),\"\",VLOOKUP((CONCATENATE(F271,H271)),Divipolas!$F$2:$G$1123,2,FALSE))","v":""},"","","","","","","","",{"$f":"IF(ISNA(VLOOKUP(Q271,Divipolas!$A$2:$B$1123,2,FALSE)),\"\",VLOOKUP(Q271,Divipolas!$A$2:$B$1123,2,FALSE))","v":""},"",{"$f":"IF(ISNA(VLOOKUP((CONCATENATE(Q271,S271)),Divipolas!$F$2:$G$1123,2,FALSE)),\"\",VLOOKUP((CONCATENATE(Q271,S271)),Divipolas!$F$2:$G$1123,2,FALSE))","v":""},"","","","","","",{"$f":"IF(ISNA(VLOOKUP(Z271,'CODIGO PAIS'!$A$2:$B$231,2,FALSE)),\"\",VLOOKUP(Z271,'CODIGO PAIS'!$A$2:$B$231,2,FALSE))","v":""},"",{"$f":"IF(ISNA(VLOOKUP(AB271,Divipolas!$A$2:$B$1123,2,FALSE)),\"\",VLOOKUP(AB271,Divipolas!$A$2:$B$1123,2,FALSE))","v":""},"",{"$f":"IF(ISNA(VLOOKUP((CONCATENATE(AB271,AD271)),Divipolas!$F$2:$G$1123,2,FALSE)),\"\",VLOOKUP((CONCATENATE(AB271,AD271)),Divipolas!$F$2:$G$1123,2,FALSE))","v":""},"","","","","",{"$f":"IF(ISNA(VLOOKUP(AJ271,Divipolas!$A$2:$B$1123,2,FALSE)),\"\",VLOOKUP(AJ271,Divipolas!$A$2:$B$1123,2,FALSE))","v":""},"",{"$f":"IF(ISNA(VLOOKUP((CONCATENATE(AJ271,AL271)),Divipolas!$F$2:$G$1123,2,FALSE)),\"\",VLOOKUP((CONCATENATE(AJ271,AL271)),Divipolas!$F$2:$G$1123,2,FALSE))","v":""},"","","","","","","","","","","","","","",null,null,null,null,null,null,null,{"$f":"IF(ISNA(VLOOKUP(BH271,'CODIGO PAIS'!$A$2:$B$231,2,FALSE)),\"\",VLOOKUP(BH271,'CODIGO PAIS'!$A$2:$B$231,2,FALSE))","v":""},null,{"$f":"IF(ISNA(VLOOKUP(BJ271,Divipolas!$A$2:$B$1123,2,FALSE)),\"\",VLOOKUP(BJ271,Divipolas!$A$2:$B$1123,2,FALSE))","v":""},null,{"$f":"IF(ISNA(VLOOKUP((CONCATENATE(BJ271,BL271)),Divipolas!$F$2:$G$1123,2,FALSE)),\"\",VLOOKUP((CONCATENATE(BJ271,BL271)),Divipolas!$F$2:$G$1123,2,FALSE))","v":""},null,"","",null,null,null,null,{"$f":"IF(ISNA(VLOOKUP(BT271,Divipolas!$A$2:$B$1123,2,FALSE)),\"\",VLOOKUP(BT271,Divipolas!$A$2:$B$1123,2,FALSE))","v":""},null,{"$f":"IF(ISNA(VLOOKUP((CONCATENATE(BT271,BV271)),Divipolas!$F$2:$G$1123,2,FALSE)),\"\",VLOOKUP((CONCATENATE(BT271,BV271)),Divipolas!$F$2:$G$1123,2,FALSE))","v":""},null,null,null,null,null,null,null,null,null,null,null,null,null,null,null,null,null,null,null,null,null,null,null,"",null,null,null,null,null,null,null,null,null,null,null,null,null,null,null,null,null,null,null,null,null,null,null,null,null,null,null,null,null,null,null,null,null,null,null,null,null,null,null,null,null,null,null,null,null,null,null,null,null,null,null,null,null,null,null,null,null,null,null,null,null,null,null,null,null,null,null,null,null,null,null,null,null,null,null,null,"",null,null,null,null,null,null,null,"VERIFIQUE FECHAS",null,null,null,null,null,null,null,null,null,"VERIFIQUE COLUMNA D"]
["","",null,"",{"$f":"IFERROR(VLOOKUP(D276,'CODIGO REGIONALES'!$J$2:$L$33,3,0),\"\")","v":""},"",{"$f":"IF(ISNA(VLOOKUP(F276,Divipolas!$A$2:$B$1123,2,FALSE)),\"\",VLOOKUP(F276,Divipolas!$A$2:$B$1123,2,FALSE))","v":""},"",{"$f":"IF(ISNA(VLOOKUP((CONCATENATE(F276,H276)),Divipolas!$F$2:$G$1123,2,FALSE)),\"\",VLOOKUP((CONCATENATE(F276,H276)),Divipolas!$F$2:$G$1123,2,FALSE))","v":""},"","","","","","","","",{"$f":"IF(ISNA(VLOOKUP(Q276,Divipolas!$A$2:$B$1123,2,FALSE)),\"\",VLOOKUP(Q276,Divipolas!$A$2:$B$1123,2,FALSE))","v":""},"",{"$f":"IF(ISNA(VLOOKUP((CONCATENATE(Q276,S276)),Divipolas!$F$2:$G$1123,2,FALSE)),\"\",VLOOKUP((CONCATENATE(Q276,S276)),Divipolas!$F$2:$G$1123,2,FALSE))","v":""},"","","","","","",{"$f":"IF(ISNA(VLOOKUP(Z276,'CODIGO PAIS'!$A$2:$B$231,2,FALSE)),\"\",VLOOKUP(Z276,'CODIGO PAIS'!$A$2:$B$231,2,FALSE))","v":""},"",{"$f":"IF(ISNA(VLOOKUP(AB276,Divipolas!$A$2:$B$1123,2,FALSE)),\"\",VLOOKUP(AB276,Divipolas!$A$2:$B$1123,2,FALSE))","v":""},"",{"$f":"IF(ISNA(VLOOKUP((CONCATENATE(AB276,AD276)),Divipolas!$F$2:$G$1123,2,FALSE)),\"\",VLOOKUP((CONCATENATE(AB276,AD276)),Divipolas!$F$2:$G$1123,2,FALSE))","v":""},"","","","","",{"$f":"IF(ISNA(VLOOKUP(AJ276,Divipolas!$A$2:$B$1123,2,FALSE)),\"\",VLOOKUP(AJ276,Divipolas!$A$2:$B$1123,2,FALSE))","v":""},"",{"$f":"IF(ISNA(VLOOKUP((CONCATENATE(AJ276,AL276)),Divipolas!$F$2:$G$1123,2,FALSE)),\"\",VLOOKUP((CONCATENATE(AJ276,AL276)),Divipolas!$F$2:$G$1123,2,FALSE))","v":""},"","","","","","","","","","","","","","",null,null,null,null,null,null,null,{"$f":"IF(ISNA(VLOOKUP(BH276,'CODIGO PAIS'!$A$2:$B$231,2,FALSE)),\"\",VLOOKUP(BH276,'CODIGO PAIS'!$A$2:$B$231,2,FALSE))","v":""},null,{"$f":"IF(ISNA(VLOOKUP(BJ276,Divipolas!$A$2:$B$1123,2,FALSE)),\"\",VLOOKUP(BJ276,Divipolas!$A$2:$B$1123,2,FALSE))","v":""},null,{"$f":"IF(ISNA(VLOOKUP((CONCATENATE(BJ276,BL276)),Divipolas!$F$2:$G$1123,2,FALSE)),\"\",VLOOKUP((CONCATENATE(BJ276,BL276)),Divipolas!$F$2:$G$1123,2,FALSE))","v":""},null,"","",null,null,null,null,{"$f":"IF(ISNA(VLOOKUP(BT276,Divipolas!$A$2:$B$1123,2,FALSE)),\"\",VLOOKUP(BT276,Divipolas!$A$2:$B$1123,2,FALSE))","v":""},null,{"$f":"IF(ISNA(VLOOKUP((CONCATENATE(BT276,BV276)),Divipolas!$F$2:$G$1123,2,FALSE)),\"\",VLOOKUP((CONCATENATE(BT276,BV276)),Divipolas!$F$2:$G$1123,2,FALSE))","v":""},null,null,null,null,null,null,null,null,null,null,null,null,null,null,null,null,null,null,null,null,null,null,null,"",null,null,null,null,null,null,null,null,null,null,null,null,null,null,null,null,null,null,null,null,null,null,null,null,null,null,null,null,null,null,null,null,null,null,null,null,null,null,null,null,null,null,null,null,null,null,null,null,null,null,null,null,null,null,null,null,null,null,null,null,null,null,null,null,null,null,null,null,null,null,null,null,null,null,null,null,"",null,null,null,null,null,null,null,"VERIFIQUE FECHAS",null,null,null,null,null,null,null,null,null,"VERIFIQUE COLUMNA D"]
["","",null,"",{"$f":"IFERROR(VLOOKUP(D282,'CODIGO REGIONALES'!$J$2:$L$33,3,0),\"\")","v":""},"",{"$f":"IF(ISNA(VLOOKUP(F282,Divipolas!$A$2:$B$1123,2,FALSE)),\"\",VLOOKUP(F282,Divipolas!$A$2:$B$1123,2,FALSE))","v":""},"",{"$f":"IF(ISNA(VLOOKUP((CONCATENATE(F282,H282)),Divipolas!$F$2:$G$1123,2,FALSE)),\"\",VLOOKUP((CONCATENATE(F282,H282)),Divipolas!$F$2:$G$1123,2,FALSE))","v":""},"","","","","","","","",{"$f":"IF(ISNA(VLOOKUP(Q282,Divipolas!$A$2:$B$1123,2,FALSE)),\"\",VLOOKUP(Q282,Divipolas!$A$2:$B$1123,2,FALSE))","v":""},"",{"$f":"IF(ISNA(VLOOKUP((CONCATENATE(Q282,S282)),Divipolas!$F$2:$G$1123,2,FALSE)),\"\",VLOOKUP((CONCATENATE(Q282,S282)),Divipolas!$F$2:$G$1123,2,FALSE))","v":""},"","","","","","",{"$f":"IF(ISNA(VLOOKUP(Z282,'CODIGO PAIS'!$A$2:$B$231,2,FALSE)),\"\",VLOOKUP(Z282,'CODIGO PAIS'!$A$2:$B$231,2,FALSE))","v":""},"",{"$f":"IF(ISNA(VLOOKUP(AB282,Divipolas!$A$2:$B$1123,2,FALSE)),\"\",VLOOKUP(AB282,Divipolas!$A$2:$B$1123,2,FALSE))","v":""},"",{"$f":"IF(ISNA(VLOOKUP((CONCATENATE(AB282,AD282)),Divipolas!$F$2:$G$1123,2,FALSE)),\"\",VLOOKUP((CONCATENATE(AB282,AD282)),Divipolas!$F$2:$G$1123,2,FALSE))","v":""},"","","","","",{"$f":"IF(ISNA(VLOOKUP(AJ282,Divipolas!$A$2:$B$1123,2,FALSE)),\"\",VLOOKUP(AJ282,Divipolas!$A$2:$B$1123,2,FALSE))","v":""},"",{"$f":"IF(ISNA(VLOOKUP((CONCATENATE(AJ282,AL282)),Divipolas!$F$2:$G$1123,2,FALSE)),\"\",VLOOKUP((CONCATENATE(AJ282,AL282)),Divipolas!$F$2:$G$1123,2,FALSE))","v":""},"","","","","","","","","","","","","","",null,null,null,null,null,null,null,{"$f":"IF(ISNA(VLOOKUP(BH282,'CODIGO PAIS'!$A$2:$B$231,2,FALSE)),\"\",VLOOKUP(BH282,'CODIGO PAIS'!$A$2:$B$231,2,FALSE))","v":""},null,{"$f":"IF(ISNA(VLOOKUP(BJ282,Divipolas!$A$2:$B$1123,2,FALSE)),\"\",VLOOKUP(BJ282,Divipolas!$A$2:$B$1123,2,FALSE))","v":""},null,{"$f":"IF(ISNA(VLOOKUP((CONCATENATE(BJ282,BL282)),Divipolas!$F$2:$G$1123,2,FALSE)),\"\",VLOOKUP((CONCATENATE(BJ282,BL282)),Divipolas!$F$2:$G$1123,2,FALSE))","v":""},null,"","",null,null,null,null,{"$f":"IF(ISNA(VLOOKUP(BT282,Divipolas!$A$2:$B$1123,2,FALSE)),\"\",VLOOKUP(BT282,Divipolas!$A$2:$B$1123,2,FALSE))","v":""},null,{"$f":"IF(ISNA(VLOOKUP((CONCATENATE(BT282,BV282)),Divipolas!$F$2:$G$1123,2,FALSE)),\"\",VLOOKUP((CONCATENATE(BT282,BV282)),Divipolas!$F$2:$G$1123,2,FALSE))","v":""},null,null,null,null,null,null,null,null,null,null,null,null,null,null,null,null,null,null,null,null,null,null,null,"",null,null,null,null,null,null,null,null,null,null,null,null,null,null,null,null,null,null,null,null,null,null,null,null,null,null,null,null,null,null,null,null,null,null,null,null,null,null,null,null,null,null,null,null,null,null,null,null,null,null,null,null,null,null,null,null,null,null,null,null,null,null,null,null,null,null,null,null,null,null,null,null,null,null,null,null,"",null,null,null,null,null,null,null,"VERIFIQUE FECHAS",null,null,null,null,null,null,null,null,null,"VERIFIQUE COLUMNA D"]
["","",null,"",{"$f":"IFERROR(VLOOKUP(D287,'CODIGO REGIONALES'!$J$2:$L$33,3,0),\"\")","v":""},"",{"$f":"IF(ISNA(VLOOKUP(F287,Divipolas!$A$2:$B$1123,2,FALSE)),\"\",VLOOKUP(F287,Divipolas!$A$2:$B$1123,2,FALSE))","v":""},"",{"$f":"IF(ISNA(VLOOKUP((CONCATENATE(F287,H287)),Divipolas!$F$2:$G$1123,2,FALSE)),\"\",VLOOKUP((CONCATENATE(F287,H287)),Divipolas!$F$2:$G$1123,2,FALSE))","v":""},"","","","","","","","",{"$f":"IF(ISNA(VLOOKUP(Q287,Divipolas!$A$2:$B$1123,2,FALSE)),\"\",VLOOKUP(Q287,Divipolas!$A$2:$B$1123,2,FALSE))","v":""},"",{"$f":"IF(ISNA(VLOOKUP((CONCATENATE(Q287,S287)),Divipolas!$F$2:$G$1123,2,FALSE)),\"\",VLOOKUP((CONCATENATE(Q287,S287)),Divipolas!$F$2:$G$1123,2,FALSE))","v":""},"","","","","","",{"$f":"IF(ISNA(VLOOKUP(Z287,'CODIGO PAIS'!$A$2:$B$231,2,FALSE)),\"\",VLOOKUP(Z287,'CODIGO PAIS'!$A$2:$B$231,2,FALSE))","v":""},"",{"$f":"IF(ISNA(VLOOKUP(AB287,Divipolas!$A$2:$B$1123,2,FALSE)),\"\",VLOOKUP(AB287,Divipolas!$A$2:$B$1123,2,FALSE))","v":""},"",{"$f":"IF(ISNA(VLOOKUP((CONCATENATE(AB287,AD287)),Divipolas!$F$2:$G$1123,2,FALSE)),\"\",VLOOKUP((CONCATENATE(AB287,AD287)),Divipolas!$F$2:$G$1123,2,FALSE))","v":""},"","","","","",{"$f":"IF(ISNA(VLOOKUP(AJ287,Divipolas!$A$2:$B$1123,2,FALSE)),\"\",VLOOKUP(AJ287,Divipolas!$A$2:$B$1123,2,FALSE))","v":""},"",{"$f":"IF(ISNA(VLOOKUP((CONCATENATE(AJ287,AL287)),Divipolas!$F$2:$G$1123,2,FALSE)),\"\",VLOOKUP((CONCATENATE(AJ287,AL287)),Divipolas!$F$2:$G$1123,2,FALSE))","v":""},"","","","","","","","","","","","","","",null,null,null,null,null,null,null,{"$f":"IF(ISNA(VLOOKUP(BH287,'CODIGO PAIS'!$A$2:$B$231,2,FALSE)),\"\",VLOOKUP(BH287,'CODIGO PAIS'!$A$2:$B$231,2,FALSE))","v":""},null,{"$f":"IF(ISNA(VLOOKUP(BJ287,Divipolas!$A$2:$B$1123,2,FALSE)),\"\",VLOOKUP(BJ287,Divipolas!$A$2:$B$1123,2,FALSE))","v":""},null,{"$f":"IF(ISNA(VLOOKUP((CONCATENATE(BJ287,BL287)),Divipolas!$F$2:$G$1123,2,FALSE)),\"\",VLOOKUP((CONCATENATE(BJ287,BL287)),Divipolas!$F$2:$G$1123,2,FALSE))","v":""},null,"","",null,null,null,null,{"$f":"IF(ISNA(VLOOKUP(BT287,Divipolas!$A$2:$B$1123,2,FALSE)),\"\",VLOOKUP(BT287,Divipolas!$A$2:$B$1123,2,FALSE))","v":""},null,{"$f":"IF(ISNA(VLOOKUP((CONCATENATE(BT287,BV287)),Divipolas!$F$2:$G$1123,2,FALSE)),\"\",VLOOKUP((CONCATENATE(BT287,BV287)),Divipolas!$F$2:$G$1123,2,FALSE))","v":""},null,null,null,null,null,null,null,null,null,null,null,null,null,null,null,null,null,null,null,null,null,null,null,"",null,null,null,null,null,null,null,null,null,null,null,null,null,null,null,null,null,null,null,null,null,null,null,null,null,null,null,null,null,null,null,null,null,null,null,null,null,null,null,null,null,null,null,null,null,null,null,null,null,null,null,null,null,null,null,null,null,null,null,null,null,null,null,null,null,null,null,null,null,null,null,null,null,null,null,null,"",null,null,null,null,null,null,null,"VERIFIQUE FECHAS",null,null,null,null,null,null,null,null,null,"VERIFIQUE COLUMNA D"]
["","",null,"",{"$f":"IFERROR(VLOOKUP(D293,'CODIGO REGIONALES'!$J$2:$L$33,3,0),\"\")","v":""},"",{"$f":"IF(ISNA(VLOOKUP(F293,Divipolas!$A$2:$B$1123,2,FALSE)),\"\",VLOOKUP(F293,Divipolas!$A$2:$B$1123,2,FALSE))","v":""},"",{"$f":"IF(ISNA(VLOOKUP((CONCATENATE(F293,H293)),Divipolas!$F$2:$G$1123,2,FALSE)),\"\",VLOOKUP((CONCATENATE(F293,H293)),Divipolas!$F$2:$G$1123,2,FALSE))","v":""},"","","","","","","","",{"$f":"IF(ISNA(VLOOKUP(Q293,Divipolas!$A$2:$B$1123,2,FALSE)),\"\",VLOOKUP(Q293,Divipolas!$A$2:$B$1123,2,FALSE))","v":""},"",{"$f":"IF(ISNA(VLOOKUP((CONCATENATE(Q293,S293)),Divipolas!$F$2:$G$1123,2,FALSE)),\"\",VLOOKUP((CONCATENATE(Q293,S293)),Divipolas!$F$2:$G$1123,2,FALSE))","v":""},"","","","","","",{"$f":"IF(ISNA(VLOOKUP(Z293,'CODIGO PAIS'!$A$2:$B$231,2,FALSE)),\"\",VLOOKUP(Z293,'CODIGO PAIS'!$A$2:$B$231,2,FALSE))","v":""},"",{"$f":"IF(ISNA(VLOOKUP(AB293,Divipolas!$A$2:$B$1123,2,FALSE)),\"\",VLOOKUP(AB293,Divipolas!$A$2:$B$1123,2,FALSE))","v":""},"",{"$f":"IF(ISNA(VLOOKUP((CONCATENATE(AB293,AD293)),Divipolas!$F$2:$G$1123,2,FALSE)),\"\",VLOOKUP((CONCATENATE(AB293,AD293)),Divipolas!$F$2:$G$1123,2,FALSE))","v":""},"","","","","",{"$f":"IF(ISNA(VLOOKUP(AJ293,Divipolas!$A$2:$B$1123,2,FALSE)),\"\",VLOOKUP(AJ293,Divipolas!$A$2:$B$1123,2,FALSE))","v":""},"",{"$f":"IF(ISNA(VLOOKUP((CONCATENATE(AJ293,AL293)),Divipolas!$F$2:$G$1123,2,FALSE)),\"\",VLOOKUP((CONCATENATE(AJ293,AL293)),Divipolas!$F$2:$G$1123,2,FALSE))","v":""},"","","","","","","","","","","","","","",null,null,null,null,null,null,null,{"$f":"IF(ISNA(VLOOKUP(BH293,'CODIGO PAIS'!$A$2:$B$231,2,FALSE)),\"\",VLOOKUP(BH293,'CODIGO PAIS'!$A$2:$B$231,2,FALSE))","v":""},null,{"$f":"IF(ISNA(VLOOKUP(BJ293,Divipolas!$A$2:$B$1123,2,FALSE)),\"\",VLOOKUP(BJ293,Divipolas!$A$2:$B$1123,2,FALSE))","v":""},null,{"$f":"IF(ISNA(VLOOKUP((CONCATENATE(BJ293,BL293)),Divipolas!$F$2:$G$1123,2,FALSE)),\"\",VLOOKUP((CONCATENATE(BJ293,BL293)),Divipolas!$F$2:$G$1123,2,FALSE))","v":""},null,"","",null,null,null,null,{"$f":"IF(ISNA(VLOOKUP(BT293,Divipolas!$A$2:$B$1123,2,FALSE)),\"\",VLOOKUP(BT293,Divipolas!$A$2:$B$1123,2,FALSE))","v":""},null,{"$f":"IF(ISNA(VLOOKUP((CONCATENATE(BT293,BV293)),Divipolas!$F$2:$G$1123,2,FALSE)),\"\",VLOOKUP((CONCATENATE(BT293,BV293)),Divipolas!$F$2:$G$1123,2,FALSE))","v":""},null,null,null,null,null,null,null,null,null,null,null,null,null,null,null,null,null,null,null,null,null,null,null,"",null,null,null,null,null,null,null,null,null,null,null,null,null,null,null,null,null,null,null,null,null,null,null,null,null,null,null,null,null,null,null,null,null,null,null,null,null,null,null,null,null,null,null,null,null,null,null,null,null,null,null,null,null,null,null,null,null,null,null,null,null,null,null,null,null,null,null,null,null,null,null,null,null,null,null,null,"",null,null,null,null,null,null,null,"VERIFIQUE FECHAS",null,null,null,null,null,null,null,null,null,"VERIFIQUE COLUMNA D"]
["","",null,"",{"$f":"IFERROR(VLOOKUP(D296,'CODIGO REGIONALES'!$J$2:$L$33,3,0),\"\")","v":""},"",{"$f":"IF(ISNA(VLOOKUP(F296,Divipolas!$A$2:$B$1123,2,FALSE)),\"\",VLOOKUP(F296,Divipolas!$A$2:$B$1123,2,FALSE))","v":""},"",{"$f":"IF(ISNA(VLOOKUP((CONCATENATE(F296,H296)),Divipolas!$F$2:$G$1123,2,FALSE)),\"\",VLOOKUP((CONCATENATE(F296,H296)),Divipolas!$F$2:$G$1123,2,FALSE))","v":""},"",{"$f":"IF(AND($C296<>\"\",K295<>\"\"),K295,\"\")","v":""},"","","","","","",{"$f":"IF(ISNA(VLOOKUP(Q296,Divipolas!$A$2:$B$1123,2,FALSE)),\"\",VLOOKUP(Q296,Divipolas!$A$2:$B$1123,2,FALSE))","v":""},"",{"$f":"IF(ISNA(VLOOKUP((CONCATENATE(Q296,S296)),Divipolas!$F$2:$G$1123,2,FALSE)),\"\",VLOOKUP((CONCATENATE(Q296,S296)),Divipolas!$F$2:$G$1123,2,FALSE))","v":""},"","","","","","",{"$f":"IF(ISNA(VLOOKUP(Z296,'CODIGO PAIS'!$A$2:$B$231,2,FALSE)),\"\",VLOOKUP(Z296,'CODIGO PAIS'!$A$2:$B$231,2,FALSE))","v":""},"",{"$f":"IF(ISNA(VLOOKUP(AB296,Divipolas!$A$2:$B$1123,2,FALSE)),\"\",VLOOKUP(AB296,Divipolas!$A$2:$B$1123,2,FALSE))","v":""},"",{"$f":"IF(ISNA(VLOOKUP((CONCATENATE(AB296,AD296)),Divipolas!$F$2:$G$1123,2,FALSE)),\"\",VLOOKUP((CONCATENATE(AB296,AD296)),Divipolas!$F$2:$G$1123,2,FALSE))","v":""},"","","","","",{"$f":"IF(ISNA(VLOOKUP(AJ296,Divipolas!$A$2:$B$1123,2,FALSE)),\"\",VLOOKUP(AJ296,Divipolas!$A$2:$B$1123,2,FALSE))","v":""},"",{"$f":"IF(ISNA(VLOOKUP((CONCATENATE(AJ296,AL296)),Divipolas!$F$2:$G$1123,2,FALSE)),\"\",VLOOKUP((CONCATENATE(AJ296,AL296)),Divipolas!$F$2:$G$1123,2,FALSE))","v":""},"","","","","","","","","","","","","","",null,null,null,null,null,null,null,{"$f":"IF(ISNA(VLOOKUP(BH296,'CODIGO PAIS'!$A$2:$B$231,2,FALSE)),\"\",VLOOKUP(BH296,'CODIGO PAIS'!$A$2:$B$231,2,FALSE))","v":""},null,{"$f":"IF(ISNA(VLOOKUP(BJ296,Divipolas!$A$2:$B$1123,2,FALSE)),\"\",VLOOKUP(BJ296,Divipolas!$A$2:$B$1123,2,FALSE))","v":""},null,{"$f":"IF(ISNA(VLOOKUP((CONCATENATE(BJ296,BL296)),Divipolas!$F$2:$G$1123,2,FALSE)),\"\",VLOOKUP((CONCATENATE(BJ296,BL296)),Divipolas!$F$2:$G$1123,2,FALSE))","v":""},null,"","",null,null,null,null,{"$f":"IF(ISNA(VLOOKUP(BT296,Divipolas!$A$2:$B$1123,2,FALSE)),\"\",VLOOKUP(BT296,Divipolas!$A$2:$B$1123,2,FALSE))","v":""},null,{"$f":"IF(ISNA(VLOOKUP((CONCATENATE(BT296,BV296)),Divipolas!$F$2:$G$1123,2,FALSE)),\"\",VLOOKUP((CONCATENATE(BT296,BV296)),Divipolas!$F$2:$G$1123,2,FALSE))","v":""},null,null,null,null,null,null,null,null,null,null,null,null,null,null,null,null,null,null,null,null,null,null,null,"",null,null,null,null,null,null,null,null,null,null,null,null,null,null,null,null,null,null,null,null,null,null,null,null,null,null,null,null,null,null,null,null,null,null,null,null,null,null,null,null,null,null,null,null,null,null,null,null,null,null,null,null,null,null,null,null,null,null,null,null,null,null,null,null,null,null,null,null,null,null,null,null,null,null,null,null,"",null,null,null,null,null,null,null,"VERIFIQUE FECHAS",null,null,null,null,null,null,null,null,null,"VERIFIQUE COLUMNA D"]
["","",null,"",{"$f":"IFERROR(VLOOKUP(D302,'CODIGO REGIONALES'!$J$2:$L$33,3,0),\"\")","v":""},"",{"$f":"IF(ISNA(VLOOKUP(F302,Divipolas!$A$2:$B$1123,2,FALSE)),\"\",VLOOKUP(F302,Divipolas!$A$2:$B$1123,2,FALSE))","v":""},"",{"$f":"IF(ISNA(VLOOKUP((CONCATENATE(F302,H302)),Divipolas!$F$2:$G$1123,2,FALSE)),\"\",VLOOKUP((CONCATENATE(F302,H302)),Divipolas!$F$2:$G$1123,2,FALSE))","v":""},"","","","","","","","",{"$f":"IF(ISNA(VLOOKUP(Q302,Divipolas!$A$2:$B$1123,2,FALSE)),\"\",VLOOKUP(Q302,Divipolas!$A$2:$B$1123,2,FALSE))","v":""},"",{"$f":"IF(ISNA(VLOOKUP((CONCATENATE(Q302,S302)),Divipolas!$F$2:$G$1123,2,FALSE)),\"\",VLOOKUP((CONCATENATE(Q302,S302)),Divipolas!$F$2:$G$1123,2,FALSE))","v":""},"","","","","","",{"$f":"IF(ISNA(VLOOKUP(Z302,'CODIGO PAIS'!$A$2:$B$231,2,FALSE)),\"\",VLOOKUP(Z302,'CODIGO PAIS'!$A$2:$B$231,2,FALSE))","v":""},"",{"$f":"IF(ISNA(VLOOKUP(AB302,Divipolas!$A$2:$B$1123,2,FALSE)),\"\",VLOOKUP(AB302,Divipolas!$A$2:$B$1123,2,FALSE))","v":""},"",{"$f":"IF(ISNA(VLOOKUP((CONCATENATE(AB302,AD302)),Divipolas!$F$2:$G$1123,2,FALSE)),\"\",VLOOKUP((CONCATENATE(AB302,AD302)),Divipolas!$F$2:$G$1123,2,FALSE))","v":""},"","","","","",{"$f":"IF(ISNA(VLOOKUP(AJ302,Divipolas!$A$2:$B$1123,2,FALSE)),\"\",VLOOKUP(AJ302,Divipolas!$A$2:$B$1123,2,FALSE))","v":""},"",{"$f":"IF(ISNA(VLOOKUP((CONCATENATE(AJ302,AL302)),Divipolas!$F$2:$G$1123,2,FALSE)),\"\",VLOOKUP((CONCATENATE(AJ302,AL302)),Divipolas!$F$2:$G$1123,2,FALSE))","v":""},"","","","","","","","","","","","","","",null,null,null,null,null,null,null,{"$f":"IF(ISNA(VLOOKUP(BH302,'CODIGO PAIS'!$A$2:$B$231,2,FALSE)),\"\",VLOOKUP(BH302,'CODIGO PAIS'!$A$2:$B$231,2,FALSE))","v":""},null,{"$f":"IF(ISNA(VLOOKUP(BJ302,Divipolas!$A$2:$B$1123,2,FALSE)),\"\",VLOOKUP(BJ302,Divipolas!$A$2:$B$1123,2,FALSE))","v":""},null,{"$f":"IF(ISNA(VLOOKUP((CONCATENATE(BJ302,BL302)),Divipolas!$F$2:$G$1123,2,FALSE)),\"\",VLOOKUP((CONCATENATE(BJ302,BL302)),Divipolas!$F$2:$G$1123,2,FALSE))","v":""},null,"","",null,null,null,null,{"$f":"IF(ISNA(VLOOKUP(BT302,Divipolas!$A$2:$B$1123,2,FALSE)),\"\",VLOOKUP(BT302,Divipolas!$A$2:$B$1123,2,FALSE))","v":""},null,{"$f":"IF(ISNA(VLOOKUP((CONCATENATE(BT302,BV302)),Divipolas!$F$2:$G$1123,2,FALSE)),\"\",VLOOKUP((CONCATENATE(BT302,BV302)),Divipolas!$F$2:$G$1123,2,FALSE))","v":""},null,null,null,null,null,null,null,null,null,null,null,null,null,null,null,null,null,null,null,null,null,null,null,"",null,null,null,null,null,null,null,null,null,null,null,null,null,null,null,null,null,null,null,null,null,null,null,null,null,null,null,null,null,null,null,null,null,null,null,null,null,null,null,null,null,null,null,null,null,null,null,null,null,null,null,null,null,null,null,null,null,null,null,null,null,null,null,null,null,null,null,null,null,null,null,null,null,null,null,null,"",null,null,null,null,null,null,null,"VERIFIQUE FECHAS",null,null,null,null,null,null,null,null,null,"VERIFIQUE COLUMNA D"]
["","",null,"",{"$f":"IFERROR(VLOOKUP(D303,'CODIGO REGIONALES'!$J$2:$L$33,3,0),\"\")","v":""},"",{"$f":"IF(ISNA(VLOOKUP(F303,Divipolas!$A$2:$B$1123,2,FALSE)),\"\",VLOOKUP(F303,Divipolas!$A$2:$B$1123,2,FALSE))","v":""},"",{"$f":"IF(ISNA(VLOOKUP((CONCATENATE(F303,H303)),Divipolas!$F$2:$G$1123,2,FALSE)),\"\",VLOOKUP((CONCATENATE(F303,H303)),Divipolas!$F$2:$G$1123,2,FALSE))","v":""},"","","","","","","","",{"$f":"IF(ISNA(VLOOKUP(Q303,Divipolas!$A$2:$B$1123,2,FALSE)),\"\",VLOOKUP(Q303,Divipolas!$A$2:$B$1123,2,FALSE))","v":""},"",{"$f":"IF(ISNA(VLOOKUP((CONCATENATE(Q303,S303)),Divipolas!$F$2:$G$1123,2,FALSE)),\"\",VLOOKUP((CONCATENATE(Q303,S303)),Divipolas!$F$2:$G$1123,2,FALSE))","v":""},"","","","","","",{"$f":"IF(ISNA(VLOOKUP(Z303,'CODIGO PAIS'!$A$2:$B$231,2,FALSE)),\"\",VLOOKUP(Z303,'CODIGO PAIS'!$A$2:$B$231,2,FALSE))","v":""},"",{"$f":"IF(ISNA(VLOOKUP(AB303,Divipolas!$A$2:$B$1123,2,FALSE)),\"\",VLOOKUP(AB303,Divipolas!$A$2:$B$1123,2,FALSE))","v":""},"",{"$f":"IF(ISNA(VLOOKUP((CONCATENATE(AB303,AD303)),Divipolas!$F$2:$G$1123,2,FALSE)),\"\",VLOOKUP((CONCATENATE(AB303,AD303)),Divipolas!$F$2:$G$1123,2,FALSE))","v":""},"","","","","",{"$f":"IF(ISNA(VLOOKUP(AJ303,Divipolas!$A$2:$B$1123,2,FALSE)),\"\",VLOOKUP(AJ303,Divipolas!$A$2:$B$1123,2,FALSE))","v":""},"",{"$f":"IF(ISNA(VLOOKUP((CONCATENATE(AJ303,AL303)),Divipolas!$F$2:$G$1123,2,FALSE)),\"\",VLOOKUP((CONCATENATE(AJ303,AL303)),Divipolas!$F$2:$G$1123,2,FALSE))","v":""},"","","","","","","","","","","","","","",null,null,null,null,null,null,null,{"$f":"IF(ISNA(VLOOKUP(BH303,'CODIGO PAIS'!$A$2:$B$231,2,FALSE)),\"\",VLOOKUP(BH303,'CODIGO PAIS'!$A$2:$B$231,2,FALSE))","v":""},null,{"$f":"IF(ISNA(VLOOKUP(BJ303,Divipolas!$A$2:$B$1123,2,FALSE)),\"\",VLOOKUP(BJ303,Divipolas!$A$2:$B$1123,2,FALSE))","v":""},null,{"$f":"IF(ISNA(VLOOKUP((CONCATENATE(BJ303,BL303)),Divipolas!$F$2:$G$1123,2,FALSE)),\"\",VLOOKUP((CONCATENATE(BJ303,BL303)),Divipolas!$F$2:$G$1123,2,FALSE))","v":""},null,"","",null,null,null,null,{"$f":"IF(ISNA(VLOOKUP(BT303,Divipolas!$A$2:$B$1123,2,FALSE)),\"\",VLOOKUP(BT303,Divipolas!$A$2:$B$1123,2,FALSE))","v":""},null,{"$f":"IF(ISNA(VLOOKUP((CONCATENATE(BT303,BV303)),Divipolas!$F$2:$G$1123,2,FALSE)),\"\",VLOOKUP((CONCATENATE(BT303,BV303)),Divipolas!$F$2:$G$1123,2,FALSE))","v":""},null,null,null,null,null,null,null,null,null,null,null,null,null,null,null,null,null,null,null,null,null,null,null,"",null,null,null,null,null,null,null,null,null,null,null,null,null,null,null,null,null,null,null,null,null,null,null,null,null,null,null,null,null,null,null,null,null,null,null,null,null,null,null,null,null,null,null,null,null,null,null,null,null,null,null,null,null,null,null,null,null,null,null,null,null,null,null,null,null,null,null,null,null,null,null,null,null,null,null,null,"",null,null,null,null,null,null,null,"VERIFIQUE FECHAS",null,null,null,null,null,null,null,null,null,"VERIFIQUE COLUMNA D"]
["","",null,"",{"$f":"IFERROR(VLOOKUP(D308,'CODIGO REGIONALES'!$J$2:$L$33,3,0),\"\")","v":""},"",{"$f":"IF(ISNA(VLOOKUP(F308,Divipolas!$A$2:$B$1123,2,FALSE)),\"\",VLOOKUP(F308,Divipolas!$A$2:$B$1123,2,FALSE))","v":""},"",{"$f":"IF(ISNA(VLOOKUP((CONCATENATE(F308,H308)),Divipolas!$F$2:$G$1123,2,FALSE)),\"\",VLOOKUP((CONCATENATE(F308,H308)),Divipolas!$F$2:$G$1123,2,FALSE))","v":""},"","","","","","","","",{"$f":"IF(ISNA(VLOOKUP(Q308,Divipolas!$A$2:$B$1123,2,FALSE)),\"\",VLOOKUP(Q308,Divipolas!$A$2:$B$1123,2,FALSE))","v":""},"",{"$f":"IF(ISNA(VLOOKUP((CONCATENATE(Q308,S308)),Divipolas!$F$2:$G$1123,2,FALSE)),\"\",VLOOKUP((CONCATENATE(Q308,S308)),Divipolas!$F$2:$G$1123,2,FALSE))","v":""},"","","","","","",{"$f":"IF(ISNA(VLOOKUP(Z308,'CODIGO PAIS'!$A$2:$B$231,2,FALSE)),\"\",VLOOKUP(Z308,'CODIGO PAIS'!$A$2:$B$231,2,FALSE))","v":""},"",{"$f":"IF(ISNA(VLOOKUP(AB308,Divipolas!$A$2:$B$1123,2,FALSE)),\"\",VLOOKUP(AB308,Divipolas!$A$2:$B$1123,2,FALSE))","v":""},"",{"$f":"IF(ISNA(VLOOKUP((CONCATENATE(AB308,AD308)),Divipolas!$F$2:$G$1123,2,FALSE)),\"\",VLOOKUP((CONCATENATE(AB308,AD308)),Divipolas!$F$2:$G$1123,2,FALSE))","v":""},"","","","","",{"$f":"IF(ISNA(VLOOKUP(AJ308,Divipolas!$A$2:$B$1123,2,FALSE)),\"\",VLOOKUP(AJ308,Divipolas!$A$2:$B$1123,2,FALSE))","v":""},"",{"$f":"IF(ISNA(VLOOKUP((CONCATENATE(AJ308,AL308)),Divipolas!$F$2:$G$1123,2,FALSE)),\"\",VLOOKUP((CONCATENATE(AJ308,AL308)),Divipolas!$F$2:$G$1123,2,FALSE))","v":""},"","","","","","","","","","","","","","",null,null,null,null,null,null,null,{"$f":"IF(ISNA(VLOOKUP(BH308,'CODIGO PAIS'!$A$2:$B$231,2,FALSE)),\"\",VLOOKUP(BH308,'CODIGO PAIS'!$A$2:$B$231,2,FALSE))","v":""},null,{"$f":"IF(ISNA(VLOOKUP(BJ308,Divipolas!$A$2:$B$1123,2,FALSE)),\"\",VLOOKUP(BJ308,Divipolas!$A$2:$B$1123,2,FALSE))","v":""},null,{"$f":"IF(ISNA(VLOOKUP((CONCATENATE(BJ308,BL308)),Divipolas!$F$2:$G$1123,2,FALSE)),\"\",VLOOKUP((CONCATENATE(BJ308,BL308)),Divipolas!$F$2:$G$1123,2,FALSE))","v":""},null,"","",null,null,null,null,{"$f":"IF(ISNA(VLOOKUP(BT308,Divipolas!$A$2:$B$1123,2,FALSE)),\"\",VLOOKUP(BT308,Divipolas!$A$2:$B$1123,2,FALSE))","v":""},null,{"$f":"IF(ISNA(VLOOKUP((CONCATENATE(BT308,BV308)),Divipolas!$F$2:$G$1123,2,FALSE)),\"\",VLOOKUP((CONCATENATE(BT308,BV308)),Divipolas!$F$2:$G$1123,2,FALSE))","v":""},null,null,null,null,null,null,null,null,null,null,null,null,null,null,null,null,null,null,null,null,null,null,null,"",null,null,null,null,null,null,null,null,null,null,null,null,null,null,null,null,null,null,null,null,null,null,null,null,null,null,null,null,null,null,null,null,null,null,null,null,null,null,null,null,null,null,null,null,null,null,null,null,null,null,null,null,null,null,null,null,null,null,null,null,null,null,null,null,null,null,null,null,null,null,null,null,null,null,null,null,"",null,null,null,null,null,null,null,"VERIFIQUE FECHAS",null,null,null,null,null,null,null,null,null,"VERIFIQUE COLUMNA D"]
["","",null,"",{"$f":"IFERROR(VLOOKUP(D313,'CODIGO REGIONALES'!$J$2:$L$33,3,0),\"\")","v":""},"",{"$f":"IF(ISNA(VLOOKUP(F313,Divipolas!$A$2:$B$1123,2,FALSE)),\"\",VLOOKUP(F313,Divipolas!$A$2:$B$1123,2,FALSE))","v":""},"",{"$f":"IF(ISNA(VLOOKUP((CONCATENATE(F313,H313)),Divipolas!$F$2:$G$1123,2,FALSE)),\"\",VLOOKUP((CONCATENATE(F313,H313)),Divipolas!$F$2:$G$1123,2,FALSE))","v":""},"","","","","","","","",{"$f":"IF(ISNA(VLOOKUP(Q313,Divipolas!$A$2:$B$1123,2,FALSE)),\"\",VLOOKUP(Q313,Divipolas!$A$2:$B$1123,2,FALSE))","v":""},"",{"$f":"IF(ISNA(VLOOKUP((CONCATENATE(Q313,S313)),Divipolas!$F$2:$G$1123,2,FALSE)),\"\",VLOOKUP((CONCATENATE(Q313,S313)),Divipolas!$F$2:$G$1123,2,FALSE))","v":""},"","","","","","",{"$f":"IF(ISNA(VLOOKUP(Z313,'CODIGO PAIS'!$A$2:$B$231,2,FALSE)),\"\",VLOOKUP(Z313,'CODIGO PAIS'!$A$2:$B$231,2,FALSE))","v":""},"",{"$f":"IF(ISNA(VLOOKUP(AB313,Divipolas!$A$2:$B$1123,2,FALSE)),\"\",VLOOKUP(AB313,Divipolas!$A$2:$B$1123,2,FALSE))","v":""},"",{"$f":"IF(ISNA(VLOOKUP((CONCATENATE(AB313,AD313)),Divipolas!$F$2:$G$1123,2,FALSE)),\"\",VLOOKUP((CONCATENATE(AB313,AD313)),Divipolas!$F$2:$G$1123,2,FALSE))","v":""},"","","","","",{"$f":"IF(ISNA(VLOOKUP(AJ313,Divipolas!$A$2:$B$1123,2,FALSE)),\"\",VLOOKUP(AJ313,Divipolas!$A$2:$B$1123,2,FALSE))","v":""},"",{"$f":"IF(ISNA(VLOOKUP((CONCATENATE(AJ313,AL313)),Divipolas!$F$2:$G$1123,2,FALSE)),\"\",VLOOKUP((CONCATENATE(AJ313,AL313)),Divipolas!$F$2:$G$1123,2,FALSE))","v":""},"","","","","","","","","","","","","","",null,null,null,null,null,null,null,{"$f":"IF(ISNA(VLOOKUP(BH313,'CODIGO PAIS'!$A$2:$B$231,2,FALSE)),\"\",VLOOKUP(BH313,'CODIGO PAIS'!$A$2:$B$231,2,FALSE))","v":""},null,{"$f":"IF(ISNA(VLOOKUP(BJ313,Divipolas!$A$2:$B$1123,2,FALSE)),\"\",VLOOKUP(BJ313,Divipolas!$A$2:$B$1123,2,FALSE))","v":""},null,{"$f":"IF(ISNA(VLOOKUP((CONCATENATE(BJ313,BL313)),Divipolas!$F$2:$G$1123,2,FALSE)),\"\",VLOOKUP((CONCATENATE(BJ313,BL313)),Divipolas!$F$2:$G$1123,2,FALSE))","v":""},null,"","",null,null,null,null,{"$f":"IF(ISNA(VLOOKUP(BT313,Divipolas!$A$2:$B$1123,2,FALSE)),\"\",VLOOKUP(BT313,Divipolas!$A$2:$B$1123,2,FALSE))","v":""},null,{"$f":"IF(ISNA(VLOOKUP((CONCATENATE(BT313,BV313)),Divipolas!$F$2:$G$1123,2,FALSE)),\"\",VLOOKUP((CONCATENATE(BT313,BV313)),Divipolas!$F$2:$G$1123,2,FALSE))","v":""},null,null,null,null,null,null,null,null,null,null,null,null,null,null,null,null,null,null,null,null,null,null,null,"",null,null,null,null,null,null,null,null,null,null,null,null,null,null,null,null,null,null,null,null,null,null,null,null,null,null,null,null,null,null,null,null,null,null,null,null,null,null,null,null,null,null,null,null,null,null,null,null,null,null,null,null,null,null,null,null,null,null,null,null,null,null,null,null,null,null,null,null,null,null,null,null,null,null,null,null,"",null,null,null,null,null,null,null,"VERIFIQUE FECHAS",null,null,null,null,null,null,null,null,null,"VERIFIQUE COLUMNA D"]
["","",null,"",{"$f":"IFERROR(VLOOKUP(D321,'CODIGO REGIONALES'!$J$2:$L$33,3,0),\"\")","v":""},"",{"$f":"IF(ISNA(VLOOKUP(F321,Divipolas!$A$2:$B$1123,2,FALSE)),\"\",VLOOKUP(F321,Divipolas!$A$2:$B$1123,2,FALSE))","v":""},"",{"$f":"IF(ISNA(VLOOKUP((CONCATENATE(F321,H321)),Divipolas!$F$2:$G$1123,2,FALSE)),\"\",VLOOKUP((CONCATENATE(F321,H321)),Divipolas!$F$2:$G$1123,2,FALSE))","v":""},"","","","","","","","",{"$f":"IF(ISNA(VLOOKUP(Q321,Divipolas!$A$2:$B$1123,2,FALSE)),\"\",VLOOKUP(Q321,Divipolas!$A$2:$B$1123,2,FALSE))","v":""},"",{"$f":"IF(ISNA(VLOOKUP((CONCATENATE(Q321,S321)),Divipolas!$F$2:$G$1123,2,FALSE)),\"\",VLOOKUP((CONCATENATE(Q321,S321)),Divipolas!$F$2:$G$1123,2,FALSE))","v":""},"","","","","","",{"$f":"IF(ISNA(VLOOKUP(Z321,'CODIGO PAIS'!$A$2:$B$231,2,FALSE)),\"\",VLOOKUP(Z321,'CODIGO PAIS'!$A$2:$B$231,2,FALSE))","v":""},"",{"$f":"IF(ISNA(VLOOKUP(AB321,Divipolas!$A$2:$B$1123,2,FALSE)),\"\",VLOOKUP(AB321,Divipolas!$A$2:$B$1123,2,FALSE))","v":""},"",{"$f":"IF(ISNA(VLOOKUP((CONCATENATE(AB321,AD321)),Divipolas!$F$2:$G$1123,2,FALSE)),\"\",VLOOKUP((CONCATENATE(AB321,AD321)),Divipolas!$F$2:$G$1123,2,FALSE))","v":""},"","","","","",{"$f":"IF(ISNA(VLOOKUP(AJ321,Divipolas!$A$2:$B$1123,2,FALSE)),\"\",VLOOKUP(AJ321,Divipolas!$A$2:$B$1123,2,FALSE))","v":""},"",{"$f":"IF(ISNA(VLOOKUP((CONCATENATE(AJ321,AL321)),Divipolas!$F$2:$G$1123,2,FALSE)),\"\",VLOOKUP((CONCATENATE(AJ321,AL321)),Divipolas!$F$2:$G$1123,2,FALSE))","v":""},"","","","","","","","","","","","","","",null,null,null,null,null,null,null,{"$f":"IF(ISNA(VLOOKUP(BH321,'CODIGO PAIS'!$A$2:$B$231,2,FALSE)),\"\",VLOOKUP(BH321,'CODIGO PAIS'!$A$2:$B$231,2,FALSE))","v":""},null,{"$f":"IF(ISNA(VLOOKUP(BJ321,Divipolas!$A$2:$B$1123,2,FALSE)),\"\",VLOOKUP(BJ321,Divipolas!$A$2:$B$1123,2,FALSE))","v":""},null,{"$f":"IF(ISNA(VLOOKUP((CONCATENATE(BJ321,BL321)),Divipolas!$F$2:$G$1123,2,FALSE)),\"\",VLOOKUP((CONCATENATE(BJ321,BL321)),Divipolas!$F$2:$G$1123,2,FALSE))","v":""},null,"","",null,null,null,null,{"$f":"IF(ISNA(VLOOKUP(BT321,Divipolas!$A$2:$B$1123,2,FALSE)),\"\",VLOOKUP(BT321,Divipolas!$A$2:$B$1123,2,FALSE))","v":""},null,{"$f":"IF(ISNA(VLOOKUP((CONCATENATE(BT321,BV321)),Divipolas!$F$2:$G$1123,2,FALSE)),\"\",VLOOKUP((CONCATENATE(BT321,BV321)),Divipolas!$F$2:$G$1123,2,FALSE))","v":""},null,null,null,null,null,null,null,null,null,null,null,null,null,null,null,null,null,null,null,null,null,null,null,"",null,null,null,null,null,null,null,null,null,null,null,null,null,null,null,null,null,null,null,null,null,null,null,null,null,null,null,null,null,null,null,null,null,null,null,null,null,null,null,null,null,null,null,null,null,null,null,null,null,null,null,null,null,null,null,null,null,null,null,null,null,null,null,null,null,null,null,null,null,null,null,null,null,null,null,null,"",null,null,null,null,null,null,null,"VERIFIQUE FECHAS",null,null,null,null,null,null,null,null,null,"VERIFIQUE COLUMNA D"]
["","",null,"",{"$f":"IFERROR(VLOOKUP(D323,'CODIGO REGIONALES'!$J$2:$L$33,3,0),\"\")","v":""},"",{"$f":"IF(ISNA(VLOOKUP(F323,Divipolas!$A$2:$B$1123,2,FALSE)),\"\",VLOOKUP(F323,Divipolas!$A$2:$B$1123,2,FALSE))","v":""},"",{"$f":"IF(ISNA(VLOOKUP((CONCATENATE(F323,H323)),Divipolas!$F$2:$G$1123,2,FALSE)),\"\",VLOOKUP((CONCATENATE(F323,H323)),Divipolas!$F$2:$G$1123,2,FALSE))","v":""},"","","","","","","","",{"$f":"IF(ISNA(VLOOKUP(Q323,Divipolas!$A$2:$B$1123,2,FALSE)),\"\",VLOOKUP(Q323,Divipolas!$A$2:$B$1123,2,FALSE))","v":""},"",{"$f":"IF(ISNA(VLOOKUP((CONCATENATE(Q323,S323)),Divipolas!$F$2:$G$1123,2,FALSE)),\"\",VLOOKUP((CONCATENATE(Q323,S323)),Divipolas!$F$2:$G$1123,2,FALSE))","v":""},"","","","","","",{"$f":"IF(ISNA(VLOOKUP(Z323,'CODIGO PAIS'!$A$2:$B$231,2,FALSE)),\"\",VLOOKUP(Z323,'CODIGO PAIS'!$A$2:$B$231,2,FALSE))","v":""},"",{"$f":"IF(ISNA(VLOOKUP(AB323,Divipolas!$A$2:$B$1123,2,FALSE)),\"\",VLOOKUP(AB323,Divipolas!$A$2:$B$1123,2,FALSE))","v":""},"",{"$f":"IF(ISNA(VLOOKUP((CONCATENATE(AB323,AD323)),Divipolas!$F$2:$G$1123,2,FALSE)),\"\",VLOOKUP((CONCATENATE(AB323,AD323)),Divipolas!$F$2:$G$1123,2,FALSE))","v":""},"","","","","",{"$f":"IF(ISNA(VLOOKUP(AJ323,Divipolas!$A$2:$B$1123,2,FALSE)),\"\",VLOOKUP(AJ323,Divipolas!$A$2:$B$1123,2,FALSE))","v":""},"",{"$f":"IF(ISNA(VLOOKUP((CONCATENATE(AJ323,AL323)),Divipolas!$F$2:$G$1123,2,FALSE)),\"\",VLOOKUP((CONCATENATE(AJ323,AL323)),Divipolas!$F$2:$G$1123,2,FALSE))","v":""},"","","","","","","","","","","","","","",null,null,null,null,null,null,null,{"$f":"IF(ISNA(VLOOKUP(BH323,'CODIGO PAIS'!$A$2:$B$231,2,FALSE)),\"\",VLOOKUP(BH323,'CODIGO PAIS'!$A$2:$B$231,2,FALSE))","v":""},null,{"$f":"IF(ISNA(VLOOKUP(BJ323,Divipolas!$A$2:$B$1123,2,FALSE)),\"\",VLOOKUP(BJ323,Divipolas!$A$2:$B$1123,2,FALSE))","v":""},null,{"$f":"IF(ISNA(VLOOKUP((CONCATENATE(BJ323,BL323)),Divipolas!$F$2:$G$1123,2,FALSE)),\"\",VLOOKUP((CONCATENATE(BJ323,BL323)),Divipolas!$F$2:$G$1123,2,FALSE))","v":""},null,"","",null,null,null,null,{"$f":"IF(ISNA(VLOOKUP(BT323,Divipolas!$A$2:$B$1123,2,FALSE)),\"\",VLOOKUP(BT323,Divipolas!$A$2:$B$1123,2,FALSE))","v":""},null,{"$f":"IF(ISNA(VLOOKUP((CONCATENATE(BT323,BV323)),Divipolas!$F$2:$G$1123,2,FALSE)),\"\",VLOOKUP((CONCATENATE(BT323,BV323)),Divipolas!$F$2:$G$1123,2,FALSE))","v":""},null,null,null,null,null,null,null,null,null,null,null,null,null,null,null,null,null,null,null,null,null,null,null,"",null,null,null,null,null,null,null,null,null,null,null,null,null,null,null,null,null,null,null,null,null,null,null,null,null,null,null,null,null,null,null,null,null,null,null,null,null,null,null,null,null,null,null,null,null,null,null,null,null,null,null,null,null,null,null,null,null,null,null,null,null,null,null,null,null,null,null,null,null,null,null,null,null,null,null,null,"",null,null,null,null,null,null,null,"VERIFIQUE FECHAS",null,null,null,null,null,null,null,null,null,"VERIFIQUE COLUMNA D"]
["","",null,"",{"$f":"IFERROR(VLOOKUP(D329,'CODIGO REGIONALES'!$J$2:$L$33,3,0),\"\")","v":""},"",{"$f":"IF(ISNA(VLOOKUP(F329,Divipolas!$A$2:$B$1123,2,FALSE)),\"\",VLOOKUP(F329,Divipolas!$A$2:$B$1123,2,FALSE))","v":""},"",{"$f":"IF(ISNA(VLOOKUP((CONCATENATE(F329,H329)),Divipolas!$F$2:$G$1123,2,FALSE)),\"\",VLOOKUP((CONCATENATE(F329,H329)),Divipolas!$F$2:$G$1123,2,FALSE))","v":""},"","","","","","","","",{"$f":"IF(ISNA(VLOOKUP(Q329,Divipolas!$A$2:$B$1123,2,FALSE)),\"\",VLOOKUP(Q329,Divipolas!$A$2:$B$1123,2,FALSE))","v":""},"",{"$f":"IF(ISNA(VLOOKUP((CONCATENATE(Q329,S329)),Divipolas!$F$2:$G$1123,2,FALSE)),\"\",VLOOKUP((CONCATENATE(Q329,S329)),Divipolas!$F$2:$G$1123,2,FALSE))","v":""},"","","","","","",{"$f":"IF(ISNA(VLOOKUP(Z329,'CODIGO PAIS'!$A$2:$B$231,2,FALSE)),\"\",VLOOKUP(Z329,'CODIGO PAIS'!$A$2:$B$231,2,FALSE))","v":""},"",{"$f":"IF(ISNA(VLOOKUP(AB329,Divipolas!$A$2:$B$1123,2,FALSE)),\"\",VLOOKUP(AB329,Divipolas!$A$2:$B$1123,2,FALSE))","v":""},"",{"$f":"IF(ISNA(VLOOKUP((CONCATENATE(AB329,AD329)),Divipolas!$F$2:$G$1123,2,FALSE)),\"\",VLOOKUP((CONCATENATE(AB329,AD329)),Divipolas!$F$2:$G$1123,2,FALSE))","v":""},"","","","","",{"$f":"IF(ISNA(VLOOKUP(AJ329,Divipolas!$A$2:$B$1123,2,FALSE)),\"\",VLOOKUP(AJ329,Divipolas!$A$2:$B$1123,2,FALSE))","v":""},"",{"$f":"IF(ISNA(VLOOKUP((CONCATENATE(AJ329,AL329)),Divipolas!$F$2:$G$1123,2,FALSE)),\"\",VLOOKUP((CONCATENATE(AJ329,AL329)),Divipolas!$F$2:$G$1123,2,FALSE))","v":""},"","","","","","","","","","","","","","",null,null,null,null,null,null,null,{"$f":"IF(ISNA(VLOOKUP(BH329,'CODIGO PAIS'!$A$2:$B$231,2,FALSE)),\"\",VLOOKUP(BH329,'CODIGO PAIS'!$A$2:$B$231,2,FALSE))","v":""},null,{"$f":"IF(ISNA(VLOOKUP(BJ329,Divipolas!$A$2:$B$1123,2,FALSE)),\"\",VLOOKUP(BJ329,Divipolas!$A$2:$B$1123,2,FALSE))","v":""},null,{"$f":"IF(ISNA(VLOOKUP((CONCATENATE(BJ329,BL329)),Divipolas!$F$2:$G$1123,2,FALSE)),\"\",VLOOKUP((CONCATENATE(BJ329,BL329)),Divipolas!$F$2:$G$1123,2,FALSE))","v":""},null,"","",null,null,null,null,{"$f":"IF(ISNA(VLOOKUP(BT329,Divipolas!$A$2:$B$1123,2,FALSE)),\"\",VLOOKUP(BT329,Divipolas!$A$2:$B$1123,2,FALSE))","v":""},null,{"$f":"IF(ISNA(VLOOKUP((CONCATENATE(BT329,BV329)),Divipolas!$F$2:$G$1123,2,FALSE)),\"\",VLOOKUP((CONCATENATE(BT329,BV329)),Divipolas!$F$2:$G$1123,2,FALSE))","v":""},null,null,null,null,null,null,null,null,null,null,null,null,null,null,null,null,null,null,null,null,null,null,null,"",null,null,null,null,null,null,null,null,null,null,null,null,null,null,null,null,null,null,null,null,null,null,null,null,null,null,null,null,null,null,null,null,null,null,null,null,null,null,null,null,null,null,null,null,null,null,null,null,null,null,null,null,null,null,null,null,null,null,null,null,null,null,null,null,null,null,null,null,null,null,null,null,null,null,null,null,"",null,null,null,null,null,null,null,"VERIFIQUE FECHAS",null,null,null,null,null,null,null,null,null,"VERIFIQUE COLUMNA D"]
["","",null,"",{"$f":"IFERROR(VLOOKUP(D334,'CODIGO REGIONALES'!$J$2:$L$33,3,0),\"\")","v":""},"",{"$f":"IF(ISNA(VLOOKUP(F334,Divipolas!$A$2:$B$1123,2,FALSE)),\"\",VLOOKUP(F334,Divipolas!$A$2:$B$1123,2,FALSE))","v":""},"",{"$f":"IF(ISNA(VLOOKUP((CONCATENATE(F334,H334)),Divipolas!$F$2:$G$1123,2,FALSE)),\"\",VLOOKUP((CONCATENATE(F334,H334)),Divipolas!$F$2:$G$1123,2,FALSE))","v":""},"","","","","","","","",{"$f":"IF(ISNA(VLOOKUP(Q334,Divipolas!$A$2:$B$1123,2,FALSE)),\"\",VLOOKUP(Q334,Divipolas!$A$2:$B$1123,2,FALSE))","v":""},"",{"$f":"IF(ISNA(VLOOKUP((CONCATENATE(Q334,S334)),Divipolas!$F$2:$G$1123,2,FALSE)),\"\",VLOOKUP((CONCATENATE(Q334,S334)),Divipolas!$F$2:$G$1123,2,FALSE))","v":""},"","","","","","",{"$f":"IF(ISNA(VLOOKUP(Z334,'CODIGO PAIS'!$A$2:$B$231,2,FALSE)),\"\",VLOOKUP(Z334,'CODIGO PAIS'!$A$2:$B$231,2,FALSE))","v":""},"",{"$f":"IF(ISNA(VLOOKUP(AB334,Divipolas!$A$2:$B$1123,2,FALSE)),\"\",VLOOKUP(AB334,Divipolas!$A$2:$B$1123,2,FALSE))","v":""},"",{"$f":"IF(ISNA(VLOOKUP((CONCATENATE(AB334,AD334)),Divipolas!$F$2:$G$1123,2,FALSE)),\"\",VLOOKUP((CONCATENATE(AB334,AD334)),Divipolas!$F$2:$G$1123,2,FALSE))","v":""},"","","","","",{"$f":"IF(ISNA(VLOOKUP(AJ334,Divipolas!$A$2:$B$1123,2,FALSE)),\"\",VLOOKUP(AJ334,Divipolas!$A$2:$B$1123,2,FALSE))","v":""},"",{"$f":"IF(ISNA(VLOOKUP((CONCATENATE(AJ334,AL334)),Divipolas!$F$2:$G$1123,2,FALSE)),\"\",VLOOKUP((CONCATENATE(AJ334,AL334)),Divipolas!$F$2:$G$1123,2,FALSE))","v":""},"","","","","","","","","","","","","","",null,null,null,null,null,null,null,{"$f":"IF(ISNA(VLOOKUP(BH334,'CODIGO PAIS'!$A$2:$B$231,2,FALSE)),\"\",VLOOKUP(BH334,'CODIGO PAIS'!$A$2:$B$231,2,FALSE))","v":""},null,{"$f":"IF(ISNA(VLOOKUP(BJ334,Divipolas!$A$2:$B$1123,2,FALSE)),\"\",VLOOKUP(BJ334,Divipolas!$A$2:$B$1123,2,FALSE))","v":""},null,{"$f":"IF(ISNA(VLOOKUP((CONCATENATE(BJ334,BL334)),Divipolas!$F$2:$G$1123,2,FALSE)),\"\",VLOOKUP((CONCATENATE(BJ334,BL334)),Divipolas!$F$2:$G$1123,2,FALSE))","v":""},null,"","",null,null,null,null,{"$f":"IF(ISNA(VLOOKUP(BT334,Divipolas!$A$2:$B$1123,2,FALSE)),\"\",VLOOKUP(BT334,Divipolas!$A$2:$B$1123,2,FALSE))","v":""},null,{"$f":"IF(ISNA(VLOOKUP((CONCATENATE(BT334,BV334)),Divipolas!$F$2:$G$1123,2,FALSE)),\"\",VLOOKUP((CONCATENATE(BT334,BV334)),Divipolas!$F$2:$G$1123,2,FALSE))","v":""},null,null,null,null,null,null,null,null,null,null,null,null,null,null,null,null,null,null,null,null,null,null,null,"",null,null,null,null,null,null,null,null,null,null,null,null,null,null,null,null,null,null,null,null,null,null,null,null,null,null,null,null,null,null,null,null,null,null,null,null,null,null,null,null,null,null,null,null,null,null,null,null,null,null,null,null,null,null,null,null,null,null,null,null,null,null,null,null,null,null,null,null,null,null,null,null,null,null,null,null,"",null,null,null,null,null,null,null,"VERIFIQUE FECHAS",null,null,null,null,null,null,null,null,null,"VERIFIQUE COLUMNA D"]
["","",null,"",{"$f":"IFERROR(VLOOKUP(D340,'CODIGO REGIONALES'!$J$2:$L$33,3,0),\"\")","v":""},"",{"$f":"IF(ISNA(VLOOKUP(F340,Divipolas!$A$2:$B$1123,2,FALSE)),\"\",VLOOKUP(F340,Divipolas!$A$2:$B$1123,2,FALSE))","v":""},"",{"$f":"IF(ISNA(VLOOKUP((CONCATENATE(F340,H340)),Divipolas!$F$2:$G$1123,2,FALSE)),\"\",VLOOKUP((CONCATENATE(F340,H340)),Divipolas!$F$2:$G$1123,2,FALSE))","v":""},"","","","","","","","",{"$f":"IF(ISNA(VLOOKUP(Q340,Divipolas!$A$2:$B$1123,2,FALSE)),\"\",VLOOKUP(Q340,Divipolas!$A$2:$B$1123,2,FALSE))","v":""},"",{"$f":"IF(ISNA(VLOOKUP((CONCATENATE(Q340,S340)),Divipolas!$F$2:$G$1123,2,FALSE)),\"\",VLOOKUP((CONCATENATE(Q340,S340)),Divipolas!$F$2:$G$1123,2,FALSE))","v":""},"","","","","","",{"$f":"IF(ISNA(VLOOKUP(Z340,'CODIGO PAIS'!$A$2:$B$231,2,FALSE)),\"\",VLOOKUP(Z340,'CODIGO PAIS'!$A$2:$B$231,2,FALSE))","v":""},"",{"$f":"IF(ISNA(VLOOKUP(AB340,Divipolas!$A$2:$B$1123,2,FALSE)),\"\",VLOOKUP(AB340,Divipolas!$A$2:$B$1123,2,FALSE))","v":""},"",{"$f":"IF(ISNA(VLOOKUP((CONCATENATE(AB340,AD340)),Divipolas!$F$2:$G$1123,2,FALSE)),\"\",VLOOKUP((CONCATENATE(AB340,AD340)),Divipolas!$F$2:$G$1123,2,FALSE))","v":""},"","","","","",{"$f":"IF(ISNA(VLOOKUP(AJ340,Divipolas!$A$2:$B$1123,2,FALSE)),\"\",VLOOKUP(AJ340,Divipolas!$A$2:$B$1123,2,FALSE))","v":""},"",{"$f":"IF(ISNA(VLOOKUP((CONCATENATE(AJ340,AL340)),Divipolas!$F$2:$G$1123,2,FALSE)),\"\",VLOOKUP((CONCATENATE(AJ340,AL340)),Divipolas!$F$2:$G$1123,2,FALSE))","v":""},"","","","","","","","","","","","","","",null,null,null,null,null,null,null,{"$f":"IF(ISNA(VLOOKUP(BH340,'CODIGO PAIS'!$A$2:$B$231,2,FALSE)),\"\",VLOOKUP(BH340,'CODIGO PAIS'!$A$2:$B$231,2,FALSE))","v":""},null,{"$f":"IF(ISNA(VLOOKUP(BJ340,Divipolas!$A$2:$B$1123,2,FALSE)),\"\",VLOOKUP(BJ340,Divipolas!$A$2:$B$1123,2,FALSE))","v":""},null,{"$f":"IF(ISNA(VLOOKUP((CONCATENATE(BJ340,BL340)),Divipolas!$F$2:$G$1123,2,FALSE)),\"\",VLOOKUP((CONCATENATE(BJ340,BL340)),Divipolas!$F$2:$G$1123,2,FALSE))","v":""},null,"","",null,null,null,null,{"$f":"IF(ISNA(VLOOKUP(BT340,Divipolas!$A$2:$B$1123,2,FALSE)),\"\",VLOOKUP(BT340,Divipolas!$A$2:$B$1123,2,FALSE))","v":""},null,{"$f":"IF(ISNA(VLOOKUP((CONCATENATE(BT340,BV340)),Divipolas!$F$2:$G$1123,2,FALSE)),\"\",VLOOKUP((CONCATENATE(BT340,BV340)),Divipolas!$F$2:$G$1123,2,FALSE))","v":""},null,null,null,null,null,null,null,null,null,null,null,null,null,null,null,null,null,null,null,null,null,null,null,"",null,null,null,null,null,null,null,null,null,null,null,null,null,null,null,null,null,null,null,null,null,null,null,null,null,null,null,null,null,null,null,null,null,null,null,null,null,null,null,null,null,null,null,null,null,null,null,null,null,null,null,null,null,null,null,null,null,null,null,null,null,null,null,null,null,null,null,null,null,null,null,null,null,null,null,null,"",null,null,null,null,null,null,null,"VERIFIQUE FECHAS",null,null,null,null,null,null,null,null,null,"VERIFIQUE COLUMNA D"]
["","",null,"",{"$f":"IFERROR(VLOOKUP(D344,'CODIGO REGIONALES'!$J$2:$L$33,3,0),\"\")","v":""},"",{"$f":"IF(ISNA(VLOOKUP(F344,Divipolas!$A$2:$B$1123,2,FALSE)),\"\",VLOOKUP(F344,Divipolas!$A$2:$B$1123,2,FALSE))","v":""},"",{"$f":"IF(ISNA(VLOOKUP((CONCATENATE(F344,H344)),Divipolas!$F$2:$G$1123,2,FALSE)),\"\",VLOOKUP((CONCATENATE(F344,H344)),Divipolas!$F$2:$G$1123,2,FALSE))","v":""},"",{"$f":"IF(AND($C344<>\"\",K343<>\"\"),K343,\"\")","v":""},"","","","","","",{"$f":"IF(ISNA(VLOOKUP(Q344,Divipolas!$A$2:$B$1123,2,FALSE)),\"\",VLOOKUP(Q344,Divipolas!$A$2:$B$1123,2,FALSE))","v":""},"",{"$f":"IF(ISNA(VLOOKUP((CONCATENATE(Q344,S344)),Divipolas!$F$2:$G$1123,2,FALSE)),\"\",VLOOKUP((CONCATENATE(Q344,S344)),Divipolas!$F$2:$G$1123,2,FALSE))","v":""},"","","","","","",{"$f":"IF(ISNA(VLOOKUP(Z344,'CODIGO PAIS'!$A$2:$B$231,2,FALSE)),\"\",VLOOKUP(Z344,'CODIGO PAIS'!$A$2:$B$231,2,FALSE))","v":""},"",{"$f":"IF(ISNA(VLOOKUP(AB344,Divipolas!$A$2:$B$1123,2,FALSE)),\"\",VLOOKUP(AB344,Divipolas!$A$2:$B$1123,2,FALSE))","v":""},"",{"$f":"IF(ISNA(VLOOKUP((CONCATENATE(AB344,AD344)),Divipolas!$F$2:$G$1123,2,FALSE)),\"\",VLOOKUP((CONCATENATE(AB344,AD344)),Divipolas!$F$2:$G$1123,2,FALSE))","v":""},"","","","","",{"$f":"IF(ISNA(VLOOKUP(AJ344,Divipolas!$A$2:$B$1123,2,FALSE)),\"\",VLOOKUP(AJ344,Divipolas!$A$2:$B$1123,2,FALSE))","v":""},"",{"$f":"IF(ISNA(VLOOKUP((CONCATENATE(AJ344,AL344)),Divipolas!$F$2:$G$1123,2,FALSE)),\"\",VLOOKUP((CONCATENATE(AJ344,AL344)),Divipolas!$F$2:$G$1123,2,FALSE))","v":""},"","","","","","","","","","","","","","",null,null,null,null,null,null,null,{"$f":"IF(ISNA(VLOOKUP(BH344,'CODIGO PAIS'!$A$2:$B$231,2,FALSE)),\"\",VLOOKUP(BH344,'CODIGO PAIS'!$A$2:$B$231,2,FALSE))","v":""},null,{"$f":"IF(ISNA(VLOOKUP(BJ344,Divipolas!$A$2:$B$1123,2,FALSE)),\"\",VLOOKUP(BJ344,Divipolas!$A$2:$B$1123,2,FALSE))","v":""},null,{"$f":"IF(ISNA(VLOOKUP((CONCATENATE(BJ344,BL344)),Divipolas!$F$2:$G$1123,2,FALSE)),\"\",VLOOKUP((CONCATENATE(BJ344,BL344)),Divipolas!$F$2:$G$1123,2,FALSE))","v":""},null,"","",null,null,null,null,{"$f":"IF(ISNA(VLOOKUP(BT344,Divipolas!$A$2:$B$1123,2,FALSE)),\"\",VLOOKUP(BT344,Divipolas!$A$2:$B$1123,2,FALSE))","v":""},null,{"$f":"IF(ISNA(VLOOKUP((CONCATENATE(BT344,BV344)),Divipolas!$F$2:$G$1123,2,FALSE)),\"\",VLOOKUP((CONCATENATE(BT344,BV344)),Divipolas!$F$2:$G$1123,2,FALSE))","v":""},null,null,null,null,null,null,null,null,null,null,null,null,null,null,null,null,null,null,null,null,null,null,null,"",null,null,null,null,null,null,null,null,null,null,null,null,null,null,null,null,null,null,null,null,null,null,null,null,null,null,null,null,null,null,null,null,null,null,null,null,null,null,null,null,null,null,null,null,null,null,null,null,null,null,null,null,null,null,null,null,null,null,null,null,null,null,null,null,null,null,null,null,null,null,null,null,null,null,null,null,"",null,null,null,null,null,null,null,"VERIFIQUE FECHAS",null,null,null,null,null,null,null,null,null,"VERIFIQUE COLUMNA D"]
["","",null,"",{"$f":"IFERROR(VLOOKUP(D349,'CODIGO REGIONALES'!$J$2:$L$33,3,0),\"\")","v":""},"",{"$f":"IF(ISNA(VLOOKUP(F349,Divipolas!$A$2:$B$1123,2,FALSE)),\"\",VLOOKUP(F349,Divipolas!$A$2:$B$1123,2,FALSE))","v":""},"",{"$f":"IF(ISNA(VLOOKUP((CONCATENATE(F349,H349)),Divipolas!$F$2:$G$1123,2,FALSE)),\"\",VLOOKUP((CONCATENATE(F349,H349)),Divipolas!$F$2:$G$1123,2,FALSE))","v":""},"","","","","","","","",{"$f":"IF(ISNA(VLOOKUP(Q349,Divipolas!$A$2:$B$1123,2,FALSE)),\"\",VLOOKUP(Q349,Divipolas!$A$2:$B$1123,2,FALSE))","v":""},"",{"$f":"IF(ISNA(VLOOKUP((CONCATENATE(Q349,S349)),Divipolas!$F$2:$G$1123,2,FALSE)),\"\",VLOOKUP((CONCATENATE(Q349,S349)),Divipolas!$F$2:$G$1123,2,FALSE))","v":""},"","","","","","",{"$f":"IF(ISNA(VLOOKUP(Z349,'CODIGO PAIS'!$A$2:$B$231,2,FALSE)),\"\",VLOOKUP(Z349,'CODIGO PAIS'!$A$2:$B$231,2,FALSE))","v":""},"",{"$f":"IF(ISNA(VLOOKUP(AB349,Divipolas!$A$2:$B$1123,2,FALSE)),\"\",VLOOKUP(AB349,Divipolas!$A$2:$B$1123,2,FALSE))","v":""},"",{"$f":"IF(ISNA(VLOOKUP((CONCATENATE(AB349,AD349)),Divipolas!$F$2:$G$1123,2,FALSE)),\"\",VLOOKUP((CONCATENATE(AB349,AD349)),Divipolas!$F$2:$G$1123,2,FALSE))","v":""},"","","","","",{"$f":"IF(ISNA(VLOOKUP(AJ349,Divipolas!$A$2:$B$1123,2,FALSE)),\"\",VLOOKUP(AJ349,Divipolas!$A$2:$B$1123,2,FALSE))","v":""},"",{"$f":"IF(ISNA(VLOOKUP((CONCATENATE(AJ349,AL349)),Divipolas!$F$2:$G$1123,2,FALSE)),\"\",VLOOKUP((CONCATENATE(AJ349,AL349)),Divipolas!$F$2:$G$1123,2,FALSE))","v":""},"","","","","","","","","","","","","","",null,null,null,null,null,null,null,{"$f":"IF(ISNA(VLOOKUP(BH349,'CODIGO PAIS'!$A$2:$B$231,2,FALSE)),\"\",VLOOKUP(BH349,'CODIGO PAIS'!$A$2:$B$231,2,FALSE))","v":""},null,{"$f":"IF(ISNA(VLOOKUP(BJ349,Divipolas!$A$2:$B$1123,2,FALSE)),\"\",VLOOKUP(BJ349,Divipolas!$A$2:$B$1123,2,FALSE))","v":""},null,{"$f":"IF(ISNA(VLOOKUP((CONCATENATE(BJ349,BL349)),Divipolas!$F$2:$G$1123,2,FALSE)),\"\",VLOOKUP((CONCATENATE(BJ349,BL349)),Divipolas!$F$2:$G$1123,2,FALSE))","v":""},null,"","",null,null,null,null,{"$f":"IF(ISNA(VLOOKUP(BT349,Divipolas!$A$2:$B$1123,2,FALSE)),\"\",VLOOKUP(BT349,Divipolas!$A$2:$B$1123,2,FALSE))","v":""},null,{"$f":"IF(ISNA(VLOOKUP((CONCATENATE(BT349,BV349)),Divipolas!$F$2:$G$1123,2,FALSE)),\"\",VLOOKUP((CONCATENATE(BT349,BV349)),Divipolas!$F$2:$G$1123,2,FALSE))","v":""},null,null,null,null,null,null,null,null,null,null,null,null,null,null,null,null,null,null,null,null,null,null,null,"",null,null,null,null,null,null,null,null,null,null,null,null,null,null,null,null,null,null,null,null,null,null,null,null,null,null,null,null,null,null,null,null,null,null,null,null,null,null,null,null,null,null,null,null,null,null,null,null,null,null,null,null,null,null,null,null,null,null,null,null,null,null,null,null,null,null,null,null,null,null,null,null,null,null,null,null,"",null,null,null,null,null,null,null,"VERIFIQUE FECHAS",null,null,null,null,null,null,null,null,null,"VERIFIQUE COLUMNA D"]
["","",null,"",{"$f":"IFERROR(VLOOKUP(D355,'CODIGO REGIONALES'!$J$2:$L$33,3,0),\"\")","v":""},"",{"$f":"IF(ISNA(VLOOKUP(F355,Divipolas!$A$2:$B$1123,2,FALSE)),\"\",VLOOKUP(F355,Divipolas!$A$2:$B$1123,2,FALSE))","v":""},"",{"$f":"IF(ISNA(VLOOKUP((CONCATENATE(F355,H355)),Divipolas!$F$2:$G$1123,2,FALSE)),\"\",VLOOKUP((CONCATENATE(F355,H355)),Divipolas!$F$2:$G$1123,2,FALSE))","v":""},"","","","","","","","",{"$f":"IF(ISNA(VLOOKUP(Q355,Divipolas!$A$2:$B$1123,2,FALSE)),\"\",VLOOKUP(Q355,Divipolas!$A$2:$B$1123,2,FALSE))","v":""},"",{"$f":"IF(ISNA(VLOOKUP((CONCATENATE(Q355,S355)),Divipolas!$F$2:$G$1123,2,FALSE)),\"\",VLOOKUP((CONCATENATE(Q355,S355)),Divipolas!$F$2:$G$1123,2,FALSE))","v":""},"","","","","","",{"$f":"IF(ISNA(VLOOKUP(Z355,'CODIGO PAIS'!$A$2:$B$231,2,FALSE)),\"\",VLOOKUP(Z355,'CODIGO PAIS'!$A$2:$B$231,2,FALSE))","v":""},"",{"$f":"IF(ISNA(VLOOKUP(AB355,Divipolas!$A$2:$B$1123,2,FALSE)),\"\",VLOOKUP(AB355,Divipolas!$A$2:$B$1123,2,FALSE))","v":""},"",{"$f":"IF(ISNA(VLOOKUP((CONCATENATE(AB355,AD355)),Divipolas!$F$2:$G$1123,2,FALSE)),\"\",VLOOKUP((CONCATENATE(AB355,AD355)),Divipolas!$F$2:$G$1123,2,FALSE))","v":""},"","","","","",{"$f":"IF(ISNA(VLOOKUP(AJ355,Divipolas!$A$2:$B$1123,2,FALSE)),\"\",VLOOKUP(AJ355,Divipolas!$A$2:$B$1123,2,FALSE))","v":""},"",{"$f":"IF(ISNA(VLOOKUP((CONCATENATE(AJ355,AL355)),Divipolas!$F$2:$G$1123,2,FALSE)),\"\",VLOOKUP((CONCATENATE(AJ355,AL355)),Divipolas!$F$2:$G$1123,2,FALSE))","v":""},"","","","","","","","","","","","","","",null,null,null,null,null,null,null,{"$f":"IF(ISNA(VLOOKUP(BH355,'CODIGO PAIS'!$A$2:$B$231,2,FALSE)),\"\",VLOOKUP(BH355,'CODIGO PAIS'!$A$2:$B$231,2,FALSE))","v":""},null,{"$f":"IF(ISNA(VLOOKUP(BJ355,Divipolas!$A$2:$B$1123,2,FALSE)),\"\",VLOOKUP(BJ355,Divipolas!$A$2:$B$1123,2,FALSE))","v":""},null,{"$f":"IF(ISNA(VLOOKUP((CONCATENATE(BJ355,BL355)),Divipolas!$F$2:$G$1123,2,FALSE)),\"\",VLOOKUP((CONCATENATE(BJ355,BL355)),Divipolas!$F$2:$G$1123,2,FALSE))","v":""},null,"","",null,null,null,null,{"$f":"IF(ISNA(VLOOKUP(BT355,Divipolas!$A$2:$B$1123,2,FALSE)),\"\",VLOOKUP(BT355,Divipolas!$A$2:$B$1123,2,FALSE))","v":""},null,{"$f":"IF(ISNA(VLOOKUP((CONCATENATE(BT355,BV355)),Divipolas!$F$2:$G$1123,2,FALSE)),\"\",VLOOKUP((CONCATENATE(BT355,BV355)),Divipolas!$F$2:$G$1123,2,FALSE))","v":""},null,null,null,null,null,null,null,null,null,null,null,null,null,null,null,null,null,null,null,null,null,null,null,"",null,null,null,null,null,null,null,null,null,null,null,null,null,null,null,null,null,null,null,null,null,null,null,null,null,null,null,null,null,null,null,null,null,null,null,null,null,null,null,null,null,null,null,null,null,null,null,null,null,null,null,null,null,null,null,null,null,null,null,null,null,null,null,null,null,null,null,null,null,null,null,null,null,null,null,null,"",null,null,null,null,null,null,null,"VERIFIQUE FECHAS",null,null,null,null,null,null,null,null,null,"VERIFIQUE COLUMNA D"]
["","",null,"",{"$f":"IFERROR(VLOOKUP(D360,'CODIGO REGIONALES'!$J$2:$L$33,3,0),\"\")","v":""},"",{"$f":"IF(ISNA(VLOOKUP(F360,Divipolas!$A$2:$B$1123,2,FALSE)),\"\",VLOOKUP(F360,Divipolas!$A$2:$B$1123,2,FALSE))","v":""},"",{"$f":"IF(ISNA(VLOOKUP((CONCATENATE(F360,H360)),Divipolas!$F$2:$G$1123,2,FALSE)),\"\",VLOOKUP((CONCATENATE(F360,H360)),Divipolas!$F$2:$G$1123,2,FALSE))","v":""},"",{"$f":"IF(AND($C360<>\"\",K359<>\"\"),K359,\"\")","v":""},"","","","","","",{"$f":"IF(ISNA(VLOOKUP(Q360,Divipolas!$A$2:$B$1123,2,FALSE)),\"\",VLOOKUP(Q360,Divipolas!$A$2:$B$1123,2,FALSE))","v":""},"",{"$f":"IF(ISNA(VLOOKUP((CONCATENATE(Q360,S360)),Divipolas!$F$2:$G$1123,2,FALSE)),\"\",VLOOKUP((CONCATENATE(Q360,S360)),Divipolas!$F$2:$G$1123,2,FALSE))","v":""},"","","","","","",{"$f":"IF(ISNA(VLOOKUP(Z360,'CODIGO PAIS'!$A$2:$B$231,2,FALSE)),\"\",VLOOKUP(Z360,'CODIGO PAIS'!$A$2:$B$231,2,FALSE))","v":""},"",{"$f":"IF(ISNA(VLOOKUP(AB360,Divipolas!$A$2:$B$1123,2,FALSE)),\"\",VLOOKUP(AB360,Divipolas!$A$2:$B$1123,2,FALSE))","v":""},"",{"$f":"IF(ISNA(VLOOKUP((CONCATENATE(AB360,AD360)),Divipolas!$F$2:$G$1123,2,FALSE)),\"\",VLOOKUP((CONCATENATE(AB360,AD360)),Divipolas!$F$2:$G$1123,2,FALSE))","v":""},"","","","","",{"$f":"IF(ISNA(VLOOKUP(AJ360,Divipolas!$A$2:$B$1123,2,FALSE)),\"\",VLOOKUP(AJ360,Divipolas!$A$2:$B$1123,2,FALSE))","v":""},"",{"$f":"IF(ISNA(VLOOKUP((CONCATENATE(AJ360,AL360)),Divipolas!$F$2:$G$1123,2,FALSE)),\"\",VLOOKUP((CONCATENATE(AJ360,AL360)),Divipolas!$F$2:$G$1123,2,FALSE))","v":""},"","","","","","","","","","","","","","",null,null,null,null,null,null,null,{"$f":"IF(ISNA(VLOOKUP(BH360,'CODIGO PAIS'!$A$2:$B$231,2,FALSE)),\"\",VLOOKUP(BH360,'CODIGO PAIS'!$A$2:$B$231,2,FALSE))","v":""},null,{"$f":"IF(ISNA(VLOOKUP(BJ360,Divipolas!$A$2:$B$1123,2,FALSE)),\"\",VLOOKUP(BJ360,Divipolas!$A$2:$B$1123,2,FALSE))","v":""},null,{"$f":"IF(ISNA(VLOOKUP((CONCATENATE(BJ360,BL360)),Divipolas!$F$2:$G$1123,2,FALSE)),\"\",VLOOKUP((CONCATENATE(BJ360,BL360)),Divipolas!$F$2:$G$1123,2,FALSE))","v":""},null,"","",null,null,null,null,{"$f":"IF(ISNA(VLOOKUP(BT360,Divipolas!$A$2:$B$1123,2,FALSE)),\"\",VLOOKUP(BT360,Divipolas!$A$2:$B$1123,2,FALSE))","v":""},null,{"$f":"IF(ISNA(VLOOKUP((CONCATENATE(BT360,BV360)),Divipolas!$F$2:$G$1123,2,FALSE)),\"\",VLOOKUP((CONCATENATE(BT360,BV360)),Divipolas!$F$2:$G$1123,2,FALSE))","v":""},null,null,null,null,null,null,null,null,null,null,null,null,null,null,null,null,null,null,null,null,null,null,null,"",null,null,null,null,null,null,null,null,null,null,null,null,null,null,null,null,null,null,null,null,null,null,null,null,null,null,null,null,null,null,null,null,null,null,null,null,null,null,null,null,null,null,null,null,null,null,null,null,null,null,null,null,null,null,null,null,null,null,null,null,null,null,null,null,null,null,null,null,null,null,null,null,null,null,null,null,"",null,null,null,null,null,null,null,"VERIFIQUE FECHAS",null,null,null,null,null,null,null,null,null,"VERIFIQUE COLUMNA D"]
["","",null,"",{"$f":"IFERROR(VLOOKUP(D361,'CODIGO REGIONALES'!$J$2:$L$33,3,0),\"\")","v":""},"",{"$f":"IF(ISNA(VLOOKUP(F361,Divipolas!$A$2:$B$1123,2,FALSE)),\"\",VLOOKUP(F361,Divipolas!$A$2:$B$1123,2,FALSE))","v":""},"",{"$f":"IF(ISNA(VLOOKUP((CONCATENATE(F361,H361)),Divipolas!$F$2:$G$1123,2,FALSE)),\"\",VLOOKUP((CONCATENATE(F361,H361)),Divipolas!$F$2:$G$1123,2,FALSE))","v":""},"","","","","","","","",{"$f":"IF(ISNA(VLOOKUP(Q361,Divipolas!$A$2:$B$1123,2,FALSE)),\"\",VLOOKUP(Q361,Divipolas!$A$2:$B$1123,2,FALSE))","v":""},"",{"$f":"IF(ISNA(VLOOKUP((CONCATENATE(Q361,S361)),Divipolas!$F$2:$G$1123,2,FALSE)),\"\",VLOOKUP((CONCATENATE(Q361,S361)),Divipolas!$F$2:$G$1123,2,FALSE))","v":""},"","","","","","",{"$f":"IF(ISNA(VLOOKUP(Z361,'CODIGO PAIS'!$A$2:$B$231,2,FALSE)),\"\",VLOOKUP(Z361,'CODIGO PAIS'!$A$2:$B$231,2,FALSE))","v":""},"",{"$f":"IF(ISNA(VLOOKUP(AB361,Divipolas!$A$2:$B$1123,2,FALSE)),\"\",VLOOKUP(AB361,Divipolas!$A$2:$B$1123,2,FALSE))","v":""},"",{"$f":"IF(ISNA(VLOOKUP((CONCATENATE(AB361,AD361)),Divipolas!$F$2:$G$1123,2,FALSE)),\"\",VLOOKUP((CONCATENATE(AB361,AD361)),Divipolas!$F$2:$G$1123,2,FALSE))","v":""},"","","","","",{"$f":"IF(ISNA(VLOOKUP(AJ361,Divipolas!$A$2:$B$1123,2,FALSE)),\"\",VLOOKUP(AJ361,Divipolas!$A$2:$B$1123,2,FALSE))","v":""},"",{"$f":"IF(ISNA(VLOOKUP((CONCATENATE(AJ361,AL361)),Divipolas!$F$2:$G$1123,2,FALSE)),\"\",VLOOKUP((CONCATENATE(AJ361,AL361)),Divipolas!$F$2:$G$1123,2,FALSE))","v":""},"","","","","","","","","","","","","","",null,null,null,null,null,null,null,{"$f":"IF(ISNA(VLOOKUP(BH361,'CODIGO PAIS'!$A$2:$B$231,2,FALSE)),\"\",VLOOKUP(BH361,'CODIGO PAIS'!$A$2:$B$231,2,FALSE))","v":""},null,{"$f":"IF(ISNA(VLOOKUP(BJ361,Divipolas!$A$2:$B$1123,2,FALSE)),\"\",VLOOKUP(BJ361,Divipolas!$A$2:$B$1123,2,FALSE))","v":""},null,{"$f":"IF(ISNA(VLOOKUP((CONCATENATE(BJ361,BL361)),Divipolas!$F$2:$G$1123,2,FALSE)),\"\",VLOOKUP((CONCATENATE(BJ361,BL361)),Divipolas!$F$2:$G$1123,2,FALSE))","v":""},null,"","",null,null,null,null,{"$f":"IF(ISNA(VLOOKUP(BT361,Divipolas!$A$2:$B$1123,2,FALSE)),\"\",VLOOKUP(BT361,Divipolas!$A$2:$B$1123,2,FALSE))","v":""},null,{"$f":"IF(ISNA(VLOOKUP((CONCATENATE(BT361,BV361)),Divipolas!$F$2:$G$1123,2,FALSE)),\"\",VLOOKUP((CONCATENATE(BT361,BV361)),Divipolas!$F$2:$G$1123,2,FALSE))","v":""},null,null,null,null,null,null,null,null,null,null,null,null,null,null,null,null,null,null,null,null,null,null,null,"",null,null,null,null,null,null,null,null,null,null,null,null,null,null,null,null,null,null,null,null,null,null,null,null,null,null,null,null,null,null,null,null,null,null,null,null,null,null,null,null,null,null,null,null,null,null,null,null,null,null,null,null,null,null,null,null,null,null,null,null,null,null,null,null,null,null,null,null,null,null,null,null,null,null,null,null,"",null,null,null,null,null,null,null,"VERIFIQUE FECHAS",null,null,null,null,null,null,null,null,null,"VERIFIQUE COLUMNA D"]
["","",null,"",{"$f":"IFERROR(VLOOKUP(D365,'CODIGO REGIONALES'!$J$2:$L$33,3,0),\"\")","v":""},"",{"$f":"IF(ISNA(VLOOKUP(F365,Divipolas!$A$2:$B$1123,2,FALSE)),\"\",VLOOKUP(F365,Divipolas!$A$2:$B$1123,2,FALSE))","v":""},"",{"$f":"IF(ISNA(VLOOKUP((CONCATENATE(F365,H365)),Divipolas!$F$2:$G$1123,2,FALSE)),\"\",VLOOKUP((CONCATENATE(F365,H365)),Divipolas!$F$2:$G$1123,2,FALSE))","v":""},"","","","","","","","",{"$f":"IF(ISNA(VLOOKUP(Q365,Divipolas!$A$2:$B$1123,2,FALSE)),\"\",VLOOKUP(Q365,Divipolas!$A$2:$B$1123,2,FALSE))","v":""},"",{"$f":"IF(ISNA(VLOOKUP((CONCATENATE(Q365,S365)),Divipolas!$F$2:$G$1123,2,FALSE)),\"\",VLOOKUP((CONCATENATE(Q365,S365)),Divipolas!$F$2:$G$1123,2,FALSE))","v":""},"","","","","","",{"$f":"IF(ISNA(VLOOKUP(Z365,'CODIGO PAIS'!$A$2:$B$231,2,FALSE)),\"\",VLOOKUP(Z365,'CODIGO PAIS'!$A$2:$B$231,2,FALSE))","v":""},"",{"$f":"IF(ISNA(VLOOKUP(AB365,Divipolas!$A$2:$B$1123,2,FALSE)),\"\",VLOOKUP(AB365,Divipolas!$A$2:$B$1123,2,FALSE))","v":""},"",{"$f":"IF(ISNA(VLOOKUP((CONCATENATE(AB365,AD365)),Divipolas!$F$2:$G$1123,2,FALSE)),\"\",VLOOKUP((CONCATENATE(AB365,AD365)),Divipolas!$F$2:$G$1123,2,FALSE))","v":""},"","","","","",{"$f":"IF(ISNA(VLOOKUP(AJ365,Divipolas!$A$2:$B$1123,2,FALSE)),\"\",VLOOKUP(AJ365,Divipolas!$A$2:$B$1123,2,FALSE))","v":""},"",{"$f":"IF(ISNA(VLOOKUP((CONCATENATE(AJ365,AL365)),Divipolas!$F$2:$G$1123,2,FALSE)),\"\",VLOOKUP((CONCATENATE(AJ365,AL365)),Divipolas!$F$2:$G$1123,2,FALSE))","v":""},"","","","","","","","","","","","","","",null,null,null,null,null,null,null,{"$f":"IF(ISNA(VLOOKUP(BH365,'CODIGO PAIS'!$A$2:$B$231,2,FALSE)),\"\",VLOOKUP(BH365,'CODIGO PAIS'!$A$2:$B$231,2,FALSE))","v":""},null,{"$f":"IF(ISNA(VLOOKUP(BJ365,Divipolas!$A$2:$B$1123,2,FALSE)),\"\",VLOOKUP(BJ365,Divipolas!$A$2:$B$1123,2,FALSE))","v":""},null,{"$f":"IF(ISNA(VLOOKUP((CONCATENATE(BJ365,BL365)),Divipolas!$F$2:$G$1123,2,FALSE)),\"\",VLOOKUP((CONCATENATE(BJ365,BL365)),Divipolas!$F$2:$G$1123,2,FALSE))","v":""},null,"","",null,null,null,null,{"$f":"IF(ISNA(VLOOKUP(BT365,Divipolas!$A$2:$B$1123,2,FALSE)),\"\",VLOOKUP(BT365,Divipolas!$A$2:$B$1123,2,FALSE))","v":""},null,{"$f":"IF(ISNA(VLOOKUP((CONCATENATE(BT365,BV365)),Divipolas!$F$2:$G$1123,2,FALSE)),\"\",VLOOKUP((CONCATENATE(BT365,BV365)),Divipolas!$F$2:$G$1123,2,FALSE))","v":""},null,null,null,null,null,null,null,null,null,null,null,null,null,null,null,null,null,null,null,null,null,null,null,"",null,null,null,null,null,null,null,null,null,null,null,null,null,null,null,null,null,null,null,null,null,null,null,null,null,null,null,null,null,null,null,null,null,null,null,null,null,null,null,null,null,null,null,null,null,null,null,null,null,null,null,null,null,null,null,null,null,null,null,null,null,null,null,null,null,null,null,null,null,null,null,null,null,null,null,null,"",null,null,null,null,null,null,null,"VERIFIQUE FECHAS",null,null,null,null,null,null,null,null,null,"VERIFIQUE COLUMNA D"]
["","",null,"",{"$f":"IFERROR(VLOOKUP(D370,'CODIGO REGIONALES'!$J$2:$L$33,3,0),\"\")","v":""},"",{"$f":"IF(ISNA(VLOOKUP(F370,Divipolas!$A$2:$B$1123,2,FALSE)),\"\",VLOOKUP(F370,Divipolas!$A$2:$B$1123,2,FALSE))","v":""},"",{"$f":"IF(ISNA(VLOOKUP((CONCATENATE(F370,H370)),Divipolas!$F$2:$G$1123,2,FALSE)),\"\",VLOOKUP((CONCATENATE(F370,H370)),Divipolas!$F$2:$G$1123,2,FALSE))","v":""},"","","","","","","","",{"$f":"IF(ISNA(VLOOKUP(Q370,Divipolas!$A$2:$B$1123,2,FALSE)),\"\",VLOOKUP(Q370,Divipolas!$A$2:$B$1123,2,FALSE))","v":""},"",{"$f":"IF(ISNA(VLOOKUP((CONCATENATE(Q370,S370)),Divipolas!$F$2:$G$1123,2,FALSE)),\"\",VLOOKUP((CONCATENATE(Q370,S370)),Divipolas!$F$2:$G$1123,2,FALSE))","v":""},"","","","","","",{"$f":"IF(ISNA(VLOOKUP(Z370,'CODIGO PAIS'!$A$2:$B$231,2,FALSE)),\"\",VLOOKUP(Z370,'CODIGO PAIS'!$A$2:$B$231,2,FALSE))","v":""},"",{"$f":"IF(ISNA(VLOOKUP(AB370,Divipolas!$A$2:$B$1123,2,FALSE)),\"\",VLOOKUP(AB370,Divipolas!$A$2:$B$1123,2,FALSE))","v":""},"",{"$f":"IF(ISNA(VLOOKUP((CONCATENATE(AB370,AD370)),Divipolas!$F$2:$G$1123,2,FALSE)),\"\",VLOOKUP((CONCATENATE(AB370,AD370)),Divipolas!$F$2:$G$1123,2,FALSE))","v":""},"","","","","",{"$f":"IF(ISNA(VLOOKUP(AJ370,Divipolas!$A$2:$B$1123,2,FALSE)),\"\",VLOOKUP(AJ370,Divipolas!$A$2:$B$1123,2,FALSE))","v":""},"",{"$f":"IF(ISNA(VLOOKUP((CONCATENATE(AJ370,AL370)),Divipolas!$F$2:$G$1123,2,FALSE)),\"\",VLOOKUP((CONCATENATE(AJ370,AL370)),Divipolas!$F$2:$G$1123,2,FALSE))","v":""},"","","","","","","","","","","","","","",null,null,null,null,null,null,null,{"$f":"IF(ISNA(VLOOKUP(BH370,'CODIGO PAIS'!$A$2:$B$231,2,FALSE)),\"\",VLOOKUP(BH370,'CODIGO PAIS'!$A$2:$B$231,2,FALSE))","v":""},null,{"$f":"IF(ISNA(VLOOKUP(BJ370,Divipolas!$A$2:$B$1123,2,FALSE)),\"\",VLOOKUP(BJ370,Divipolas!$A$2:$B$1123,2,FALSE))","v":""},null,{"$f":"IF(ISNA(VLOOKUP((CONCATENATE(BJ370,BL370)),Divipolas!$F$2:$G$1123,2,FALSE)),\"\",VLOOKUP((CONCATENATE(BJ370,BL370)),Divipolas!$F$2:$G$1123,2,FALSE))","v":""},null,"","",null,null,null,null,{"$f":"IF(ISNA(VLOOKUP(BT370,Divipolas!$A$2:$B$1123,2,FALSE)),\"\",VLOOKUP(BT370,Divipolas!$A$2:$B$1123,2,FALSE))","v":""},null,{"$f":"IF(ISNA(VLOOKUP((CONCATENATE(BT370,BV370)),Divipolas!$F$2:$G$1123,2,FALSE)),\"\",VLOOKUP((CONCATENATE(BT370,BV370)),Divipolas!$F$2:$G$1123,2,FALSE))","v":""},null,null,null,null,null,null,null,null,null,null,null,null,null,null,null,null,null,null,null,null,null,null,null,"",null,null,null,null,null,null,null,null,null,null,null,null,null,null,null,null,null,null,null,null,null,null,null,null,null,null,null,null,null,null,null,null,null,null,null,null,null,null,null,null,null,null,null,null,null,null,null,null,null,null,null,null,null,null,null,null,null,null,null,null,null,null,null,null,null,null,null,null,null,null,null,null,null,null,null,null,"",null,null,null,null,null,null,null,"VERIFIQUE FECHAS",null,null,null,null,null,null,null,null,null,"VERIFIQUE COLUMNA D"]
["","",null,"",{"$f":"IFERROR(VLOOKUP(D375,'CODIGO REGIONALES'!$J$2:$L$33,3,0),\"\")","v":""},"",{"$f":"IF(ISNA(VLOOKUP(F375,Divipolas!$A$2:$B$1123,2,FALSE)),\"\",VLOOKUP(F375,Divipolas!$A$2:$B$1123,2,FALSE))","v":""},"",{"$f":"IF(ISNA(VLOOKUP((CONCATENATE(F375,H375)),Divipolas!$F$2:$G$1123,2,FALSE)),\"\",VLOOKUP((CONCATENATE(F375,H375)),Divipolas!$F$2:$G$1123,2,FALSE))","v":""},"","","","","","","","",{"$f":"IF(ISNA(VLOOKUP(Q375,Divipolas!$A$2:$B$1123,2,FALSE)),\"\",VLOOKUP(Q375,Divipolas!$A$2:$B$1123,2,FALSE))","v":""},"",{"$f":"IF(ISNA(VLOOKUP((CONCATENATE(Q375,S375)),Divipolas!$F$2:$G$1123,2,FALSE)),\"\",VLOOKUP((CONCATENATE(Q375,S375)),Divipolas!$F$2:$G$1123,2,FALSE))","v":""},"","","","","","",{"$f":"IF(ISNA(VLOOKUP(Z375,'CODIGO PAIS'!$A$2:$B$231,2,FALSE)),\"\",VLOOKUP(Z375,'CODIGO PAIS'!$A$2:$B$231,2,FALSE))","v":""},"",{"$f":"IF(ISNA(VLOOKUP(AB375,Divipolas!$A$2:$B$1123,2,FALSE)),\"\",VLOOKUP(AB375,Divipolas!$A$2:$B$1123,2,FALSE))","v":""},"",{"$f":"IF(ISNA(VLOOKUP((CONCATENATE(AB375,AD375)),Divipolas!$F$2:$G$1123,2,FALSE)),\"\",VLOOKUP((CONCATENATE(AB375,AD375)),Divipolas!$F$2:$G$1123,2,FALSE))","v":""},"","","","","",{"$f":"IF(ISNA(VLOOKUP(AJ375,Divipolas!$A$2:$B$1123,2,FALSE)),\"\",VLOOKUP(AJ375,Divipolas!$A$2:$B$1123,2,FALSE))","v":""},"",{"$f":"IF(ISNA(VLOOKUP((CONCATENATE(AJ375,AL375)),Divipolas!$F$2:$G$1123,2,FALSE)),\"\",VLOOKUP((CONCATENATE(AJ375,AL375)),Divipolas!$F$2:$G$1123,2,FALSE))","v":""},"","","","","","","","","","","","","","",null,null,null,null,null,null,null,{"$f":"IF(ISNA(VLOOKUP(BH375,'CODIGO PAIS'!$A$2:$B$231,2,FALSE)),\"\",VLOOKUP(BH375,'CODIGO PAIS'!$A$2:$B$231,2,FALSE))","v":""},null,{"$f":"IF(ISNA(VLOOKUP(BJ375,Divipolas!$A$2:$B$1123,2,FALSE)),\"\",VLOOKUP(BJ375,Divipolas!$A$2:$B$1123,2,FALSE))","v":""},null,{"$f":"IF(ISNA(VLOOKUP((CONCATENATE(BJ375,BL375)),Divipolas!$F$2:$G$1123,2,FALSE)),\"\",VLOOKUP((CONCATENATE(BJ375,BL375)),Divipolas!$F$2:$G$1123,2,FALSE))","v":""},null,"","",null,null,null,null,{"$f":"IF(ISNA(VLOOKUP(BT375,Divipolas!$A$2:$B$1123,2,FALSE)),\"\",VLOOKUP(BT375,Divipolas!$A$2:$B$1123,2,FALSE))","v":""},null,{"$f":"IF(ISNA(VLOOKUP((CONCATENATE(BT375,BV375)),Divipolas!$F$2:$G$1123,2,FALSE)),\"\",VLOOKUP((CONCATENATE(BT375,BV375)),Divipolas!$F$2:$G$1123,2,FALSE))","v":""},null,null,null,null,null,null,null,null,null,null,null,null,null,null,null,null,null,null,null,null,null,null,null,"",null,null,null,null,null,null,null,null,null,null,null,null,null,null,null,null,null,null,null,null,null,null,null,null,null,null,null,null,null,null,null,null,null,null,null,null,null,null,null,null,null,null,null,null,null,null,null,null,null,null,null,null,null,null,null,null,null,null,null,null,null,null,null,null,null,null,null,null,null,null,null,null,null,null,null,null,"",null,null,null,null,null,null,null,"VERIFIQUE FECHAS",null,null,null,null,null,null,null,null,null,"VERIFIQUE COLUMNA D"]
["","",null,"",{"$f":"IFERROR(VLOOKUP(D381,'CODIGO REGIONALES'!$J$2:$L$33,3,0),\"\")","v":""},"",{"$f":"IF(ISNA(VLOOKUP(F381,Divipolas!$A$2:$B$1123,2,FALSE)),\"\",VLOOKUP(F381,Divipolas!$A$2:$B$1123,2,FALSE))","v":""},"",{"$f":"IF(ISNA(VLOOKUP((CONCATENATE(F381,H381)),Divipolas!$F$2:$G$1123,2,FALSE)),\"\",VLOOKUP((CONCATENATE(F381,H381)),Divipolas!$F$2:$G$1123,2,FALSE))","v":""},"","","","","","","","",{"$f":"IF(ISNA(VLOOKUP(Q381,Divipolas!$A$2:$B$1123,2,FALSE)),\"\",VLOOKUP(Q381,Divipolas!$A$2:$B$1123,2,FALSE))","v":""},"",{"$f":"IF(ISNA(VLOOKUP((CONCATENATE(Q381,S381)),Divipolas!$F$2:$G$1123,2,FALSE)),\"\",VLOOKUP((CONCATENATE(Q381,S381)),Divipolas!$F$2:$G$1123,2,FALSE))","v":""},"","","","","","",{"$f":"IF(ISNA(VLOOKUP(Z381,'CODIGO PAIS'!$A$2:$B$231,2,FALSE)),\"\",VLOOKUP(Z381,'CODIGO PAIS'!$A$2:$B$231,2,FALSE))","v":""},"",{"$f":"IF(ISNA(VLOOKUP(AB381,Divipolas!$A$2:$B$1123,2,FALSE)),\"\",VLOOKUP(AB381,Divipolas!$A$2:$B$1123,2,FALSE))","v":""},"",{"$f":"IF(ISNA(VLOOKUP((CONCATENATE(AB381,AD381)),Divipolas!$F$2:$G$1123,2,FALSE)),\"\",VLOOKUP((CONCATENATE(AB381,AD381)),Divipolas!$F$2:$G$1123,2,FALSE))","v":""},"","","","","",{"$f":"IF(ISNA(VLOOKUP(AJ381,Divipolas!$A$2:$B$1123,2,FALSE)),\"\",VLOOKUP(AJ381,Divipolas!$A$2:$B$1123,2,FALSE))","v":""},"",{"$f":"IF(ISNA(VLOOKUP((CONCATENATE(AJ381,AL381)),Divipolas!$F$2:$G$1123,2,FALSE)),\"\",VLOOKUP((CONCATENATE(AJ381,AL381)),Divipolas!$F$2:$G$1123,2,FALSE))","v":""},"","","","","","","","","","","","","","",null,null,null,null,null,null,null,{"$f":"IF(ISNA(VLOOKUP(BH381,'CODIGO PAIS'!$A$2:$B$231,2,FALSE)),\"\",VLOOKUP(BH381,'CODIGO PAIS'!$A$2:$B$231,2,FALSE))","v":""},null,{"$f":"IF(ISNA(VLOOKUP(BJ381,Divipolas!$A$2:$B$1123,2,FALSE)),\"\",VLOOKUP(BJ381,Divipolas!$A$2:$B$1123,2,FALSE))","v":""},null,{"$f":"IF(ISNA(VLOOKUP((CONCATENATE(BJ381,BL381)),Divipolas!$F$2:$G$1123,2,FALSE)),\"\",VLOOKUP((CONCATENATE(BJ381,BL381)),Divipolas!$F$2:$G$1123,2,FALSE))","v":""},null,"","",null,null,null,null,{"$f":"IF(ISNA(VLOOKUP(BT381,Divipolas!$A$2:$B$1123,2,FALSE)),\"\",VLOOKUP(BT381,Divipolas!$A$2:$B$1123,2,FALSE))","v":""},null,{"$f":"IF(ISNA(VLOOKUP((CONCATENATE(BT381,BV381)),Divipolas!$F$2:$G$1123,2,FALSE)),\"\",VLOOKUP((CONCATENATE(BT381,BV381)),Divipolas!$F$2:$G$1123,2,FALSE))","v":""},null,null,null,null,null,null,null,null,null,null,null,null,null,null,null,null,null,null,null,null,null,null,null,"",null,null,null,null,null,null,null,null,null,null,null,null,null,null,null,null,null,null,null,null,null,null,null,null,null,null,null,null,null,null,null,null,null,null,null,null,null,null,null,null,null,null,null,null,null,null,null,null,null,null,null,null,null,null,null,null,null,null,null,null,null,null,null,null,null,null,null,null,null,null,null,null,null,null,null,null,"",null,null,null,null,null,null,null,"VERIFIQUE FECHAS",null,null,null,null,null,null,null,null,null,"VERIFIQUE COLUMNA D"]
["","",null,"",{"$f":"IFERROR(VLOOKUP(D386,'CODIGO REGIONALES'!$J$2:$L$33,3,0),\"\")","v":""},"",{"$f":"IF(ISNA(VLOOKUP(F386,Divipolas!$A$2:$B$1123,2,FALSE)),\"\",VLOOKUP(F386,Divipolas!$A$2:$B$1123,2,FALSE))","v":""},"",{"$f":"IF(ISNA(VLOOKUP((CONCATENATE(F386,H386)),Divipolas!$F$2:$G$1123,2,FALSE)),\"\",VLOOKUP((CONCATENATE(F386,H386)),Divipolas!$F$2:$G$1123,2,FALSE))","v":""},"","","","","","","","",{"$f":"IF(ISNA(VLOOKUP(Q386,Divipolas!$A$2:$B$1123,2,FALSE)),\"\",VLOOKUP(Q386,Divipolas!$A$2:$B$1123,2,FALSE))","v":""},"",{"$f":"IF(ISNA(VLOOKUP((CONCATENATE(Q386,S386)),Divipolas!$F$2:$G$1123,2,FALSE)),\"\",VLOOKUP((CONCATENATE(Q386,S386)),Divipolas!$F$2:$G$1123,2,FALSE))","v":""},"","","","","","",{"$f":"IF(ISNA(VLOOKUP(Z386,'CODIGO PAIS'!$A$2:$B$231,2,FALSE)),\"\",VLOOKUP(Z386,'CODIGO PAIS'!$A$2:$B$231,2,FALSE))","v":""},"",{"$f":"IF(ISNA(VLOOKUP(AB386,Divipolas!$A$2:$B$1123,2,FALSE)),\"\",VLOOKUP(AB386,Divipolas!$A$2:$B$1123,2,FALSE))","v":""},"",{"$f":"IF(ISNA(VLOOKUP((CONCATENATE(AB386,AD386)),Divipolas!$F$2:$G$1123,2,FALSE)),\"\",VLOOKUP((CONCATENATE(AB386,AD386)),Divipolas!$F$2:$G$1123,2,FALSE))","v":""},"","","","","",{"$f":"IF(ISNA(VLOOKUP(AJ386,Divipolas!$A$2:$B$1123,2,FALSE)),\"\",VLOOKUP(AJ386,Divipolas!$A$2:$B$1123,2,FALSE))","v":""},"",{"$f":"IF(ISNA(VLOOKUP((CONCATENATE(AJ386,AL386)),Divipolas!$F$2:$G$1123,2,FALSE)),\"\",VLOOKUP((CONCATENATE(AJ386,AL386)),Divipolas!$F$2:$G$1123,2,FALSE))","v":""},"","","","","","","","","","","","","","",null,null,null,null,null,null,null,{"$f":"IF(ISNA(VLOOKUP(BH386,'CODIGO PAIS'!$A$2:$B$231,2,FALSE)),\"\",VLOOKUP(BH386,'CODIGO PAIS'!$A$2:$B$231,2,FALSE))","v":""},null,{"$f":"IF(ISNA(VLOOKUP(BJ386,Divipolas!$A$2:$B$1123,2,FALSE)),\"\",VLOOKUP(BJ386,Divipolas!$A$2:$B$1123,2,FALSE))","v":""},null,{"$f":"IF(ISNA(VLOOKUP((CONCATENATE(BJ386,BL386)),Divipolas!$F$2:$G$1123,2,FALSE)),\"\",VLOOKUP((CONCATENATE(BJ386,BL386)),Divipolas!$F$2:$G$1123,2,FALSE))","v":""},null,"","",null,null,null,null,{"$f":"IF(ISNA(VLOOKUP(BT386,Divipolas!$A$2:$B$1123,2,FALSE)),\"\",VLOOKUP(BT386,Divipolas!$A$2:$B$1123,2,FALSE))","v":""},null,{"$f":"IF(ISNA(VLOOKUP((CONCATENATE(BT386,BV386)),Divipolas!$F$2:$G$1123,2,FALSE)),\"\",VLOOKUP((CONCATENATE(BT386,BV386)),Divipolas!$F$2:$G$1123,2,FALSE))","v":""},null,null,null,null,null,null,null,null,null,null,null,null,null,null,null,null,null,null,null,null,null,null,null,"",null,null,null,null,null,null,null,null,null,null,null,null,null,null,null,null,null,null,null,null,null,null,null,null,null,null,null,null,null,null,null,null,null,null,null,null,null,null,null,null,null,null,null,null,null,null,null,null,null,null,null,null,null,null,null,null,null,null,null,null,null,null,null,null,null,null,null,null,null,null,null,null,null,null,null,null,"",null,null,null,null,null,null,null,"VERIFIQUE FECHAS",null,null,null,null,null,null,null,null,null,"VERIFIQUE COLUMNA D"]
["","",null,"",{"$f":"IFERROR(VLOOKUP(D391,'CODIGO REGIONALES'!$J$2:$L$33,3,0),\"\")","v":""},"",{"$f":"IF(ISNA(VLOOKUP(F391,Divipolas!$A$2:$B$1123,2,FALSE)),\"\",VLOOKUP(F391,Divipolas!$A$2:$B$1123,2,FALSE))","v":""},"",{"$f":"IF(ISNA(VLOOKUP((CONCATENATE(F391,H391)),Divipolas!$F$2:$G$1123,2,FALSE)),\"\",VLOOKUP((CONCATENATE(F391,H391)),Divipolas!$F$2:$G$1123,2,FALSE))","v":""},"","","","","","","","",{"$f":"IF(ISNA(VLOOKUP(Q391,Divipolas!$A$2:$B$1123,2,FALSE)),\"\",VLOOKUP(Q391,Divipolas!$A$2:$B$1123,2,FALSE))","v":""},"",{"$f":"IF(ISNA(VLOOKUP((CONCATENATE(Q391,S391)),Divipolas!$F$2:$G$1123,2,FALSE)),\"\",VLOOKUP((CONCATENATE(Q391,S391)),Divipolas!$F$2:$G$1123,2,FALSE))","v":""},"","","","","","",{"$f":"IF(ISNA(VLOOKUP(Z391,'CODIGO PAIS'!$A$2:$B$231,2,FALSE)),\"\",VLOOKUP(Z391,'CODIGO PAIS'!$A$2:$B$231,2,FALSE))","v":""},"",{"$f":"IF(ISNA(VLOOKUP(AB391,Divipolas!$A$2:$B$1123,2,FALSE)),\"\",VLOOKUP(AB391,Divipolas!$A$2:$B$1123,2,FALSE))","v":""},"",{"$f":"IF(ISNA(VLOOKUP((CONCATENATE(AB391,AD391)),Divipolas!$F$2:$G$1123,2,FALSE)),\"\",VLOOKUP((CONCATENATE(AB391,AD391)),Divipolas!$F$2:$G$1123,2,FALSE))","v":""},"","","","","",{"$f":"IF(ISNA(VLOOKUP(AJ391,Divipolas!$A$2:$B$1123,2,FALSE)),\"\",VLOOKUP(AJ391,Divipolas!$A$2:$B$1123,2,FALSE))","v":""},"",{"$f":"IF(ISNA(VLOOKUP((CONCATENATE(AJ391,AL391)),Divipolas!$F$2:$G$1123,2,FALSE)),\"\",VLOOKUP((CONCATENATE(AJ391,AL391)),Divipolas!$F$2:$G$1123,2,FALSE))","v":""},"","","","","","","","","","","","","","",null,null,null,null,null,null,null,{"$f":"IF(ISNA(VLOOKUP(BH391,'CODIGO PAIS'!$A$2:$B$231,2,FALSE)),\"\",VLOOKUP(BH391,'CODIGO PAIS'!$A$2:$B$231,2,FALSE))","v":""},null,{"$f":"IF(ISNA(VLOOKUP(BJ391,Divipolas!$A$2:$B$1123,2,FALSE)),\"\",VLOOKUP(BJ391,Divipolas!$A$2:$B$1123,2,FALSE))","v":""},null,{"$f":"IF(ISNA(VLOOKUP((CONCATENATE(BJ391,BL391)),Divipolas!$F$2:$G$1123,2,FALSE)),\"\",VLOOKUP((CONCATENATE(BJ391,BL391)),Divipolas!$F$2:$G$1123,2,FALSE))","v":""},null,"","",null,null,null,null,{"$f":"IF(ISNA(VLOOKUP(BT391,Divipolas!$A$2:$B$1123,2,FALSE)),\"\",VLOOKUP(BT391,Divipolas!$A$2:$B$1123,2,FALSE))","v":""},null,{"$f":"IF(ISNA(VLOOKUP((CONCATENATE(BT391,BV391)),Divipolas!$F$2:$G$1123,2,FALSE)),\"\",VLOOKUP((CONCATENATE(BT391,BV391)),Divipolas!$F$2:$G$1123,2,FALSE))","v":""},null,null,null,null,null,null,null,null,null,null,null,null,null,null,null,null,null,null,null,null,null,null,null,"",null,null,null,null,null,null,null,null,null,null,null,null,null,null,null,null,null,null,null,null,null,null,null,null,null,null,null,null,null,null,null,null,null,null,null,null,null,null,null,null,null,null,null,null,null,null,null,null,null,null,null,null,null,null,null,null,null,null,null,null,null,null,null,null,null,null,null,null,null,null,null,null,null,null,null,null,"",null,null,null,null,null,null,null,{"$f":"IF(C391=\"\",\"VERIFIQUE FECHAS\",IF(BN391=\"\",\"VERIFIQUE FECHAS\",IF(AF391=\"\",\"VERIFIQUE FECHAS\",IF(C391>=BN391,\"OK\",\"VERIFIQUE FECHAS\"))))","v":"VERIFIQUE FECHAS"},null,null,null,null,null,null,null,null,null,{"$f":"IF(D391=\"\",\"VERIFIQUE COLUMNA D\",IF(F391=\"\",\"VERIFIQUE COLUMNA F\",IF(H391=\"\",\"VERIFIQUE COLUMNA H\",IF(J391=\"\",\"VERIFIQUE COLUMNA J\",IF(K391=\"\",\"VERIFIQUE COLUMNA K\",IF(N391=\"\",\"VERIFIQUE COLUMNA N\",IF(U391=\"\",\"VERIFIQUE COLUMNA U\",IF(W391=\"\",\"VERIFIQUE COLUMNA W\",IF(Y391=\"\",\"VERIFIQUE COLUMNA Y\",IF(AF391=\"\",\"VERIFIQUE COLUMNA AF\",IF(AG391=\"\",\"VERIFIQUE COLUMNA AG\",IF(BB391=\"\",\"VERIFIQUE COLUMNA BB\",IF(BC391=\"\",\"VERIFIQUE COLUMNA BC\",IF(BE391=\"\",\"VERIFIQUE COLUMNA BE\",IF(BG391=\"\",\"VERIFIQUE COLUMNA BG\",IF(BN391=\"\",\"VERIFIQUE COLUMNA BN\",IF(BQ391=\"\",\"VERIFIQUE COLUMNA BQ\",IF(BZ391=\"\",\"VERIFIQUE COLUMNA BZ\",IF(EJ391=\"\",\"VERIFIQUE COLUMNA EJ\",IF(EK391=\"\",\"VERIFIQUE COLUMNA EK\",IF(FY391=\"\",\"VERIFIQUE COLUMNA FY\",IF(GC391=\"\",\"VERIFIQUE COLUMNA GC\",IF(GE391=\"\",\"VERIFIQUE COLUMNA GE\",\"Campos o.k.\")))))))))))))))))))))))","v":"VERIFIQUE COLUMNA D"}]
["","",null,"",{"$f":"IFERROR(VLOOKUP(D396,'CODIGO REGIONALES'!$J$2:$L$33,3,0),\"\")","v":""},"",{"$f":"IF(ISNA(VLOOKUP(F396,Divipolas!$A$2:$B$1123,2,FALSE)),\"\",VLOOKUP(F396,Divipolas!$A$2:$B$1123,2,FALSE))","v":""},"",{"$f":"IF(ISNA(VLOOKUP((CONCATENATE(F396,H396)),Divipolas!$F$2:$G$1123,2,FALSE)),\"\",VLOOKUP((CONCATENATE(F396,H396)),Divipolas!$F$2:$G$1123,2,FALSE))","v":""},"","","","","","","","",{"$f":"IF(ISNA(VLOOKUP(Q396,Divipolas!$A$2:$B$1123,2,FALSE)),\"\",VLOOKUP(Q396,Divipolas!$A$2:$B$1123,2,FALSE))","v":""},"",{"$f":"IF(ISNA(VLOOKUP((CONCATENATE(Q396,S396)),Divipolas!$F$2:$G$1123,2,FALSE)),\"\",VLOOKUP((CONCATENATE(Q396,S396)),Divipolas!$F$2:$G$1123,2,FALSE))","v":""},"","","","","","",{"$f":"IF(ISNA(VLOOKUP(Z396,'CODIGO PAIS'!$A$2:$B$231,2,FALSE)),\"\",VLOOKUP(Z396,'CODIGO PAIS'!$A$2:$B$231,2,FALSE))","v":""},"",{"$f":"IF(ISNA(VLOOKUP(AB396,Divipolas!$A$2:$B$1123,2,FALSE)),\"\",VLOOKUP(AB396,Divipolas!$A$2:$B$1123,2,FALSE))","v":""},"",{"$f":"IF(ISNA(VLOOKUP((CONCATENATE(AB396,AD396)),Divipolas!$F$2:$G$1123,2,FALSE)),\"\",VLOOKUP((CONCATENATE(AB396,AD396)),Divipolas!$F$2:$G$1123,2,FALSE))","v":""},"","","","","",{"$f":"IF(ISNA(VLOOKUP(AJ396,Divipolas!$A$2:$B$1123,2,FALSE)),\"\",VLOOKUP(AJ396,Divipolas!$A$2:$B$1123,2,FALSE))","v":""},"",{"$f":"IF(ISNA(VLOOKUP((CONCATENATE(AJ396,AL396)),Divipolas!$F$2:$G$1123,2,FALSE)),\"\",VLOOKUP((CONCATENATE(AJ396,AL396)),Divipolas!$F$2:$G$1123,2,FALSE))","v":""},"","","","","","","","","","","","","","",null,null,null,null,null,null,null,{"$f":"IF(ISNA(VLOOKUP(BH396,'CODIGO PAIS'!$A$2:$B$231,2,FALSE)),\"\",VLOOKUP(BH396,'CODIGO PAIS'!$A$2:$B$231,2,FALSE))","v":""},null,{"$f":"IF(ISNA(VLOOKUP(BJ396,Divipolas!$A$2:$B$1123,2,FALSE)),\"\",VLOOKUP(BJ396,Divipolas!$A$2:$B$1123,2,FALSE))","v":""},null,{"$f":"IF(ISNA(VLOOKUP((CONCATENATE(BJ396,BL396)),Divipolas!$F$2:$G$1123,2,FALSE)),\"\",VLOOKUP((CONCATENATE(BJ396,BL396)),Divipolas!$F$2:$G$1123,2,FALSE))","v":""},null,"","",null,null,null,null,{"$f":"IF(ISNA(VLOOKUP(BT396,Divipolas!$A$2:$B$1123,2,FALSE)),\"\",VLOOKUP(BT396,Divipolas!$A$2:$B$1123,2,FALSE))","v":""},null,{"$f":"IF(ISNA(VLOOKUP((CONCATENATE(BT396,BV396)),Divipolas!$F$2:$G$1123,2,FALSE)),\"\",VLOOKUP((CONCATENATE(BT396,BV396)),Divipolas!$F$2:$G$1123,2,FALSE))","v":""},null,null,null,null,null,null,null,null,null,null,null,null,null,null,null,null,null,null,null,null,null,null,null,"",null,null,null,null,null,null,null,null,null,null,null,null,null,null,null,null,null,null,null,null,null,null,null,null,null,null,null,null,null,null,null,null,null,null,null,null,null,null,null,null,null,null,null,null,null,null,null,null,null,null,null,null,null,null,null,null,null,null,null,null,null,null,null,null,null,null,null,null,null,null,null,null,null,null,null,null,"",null,null,null,null,null,null,null,"VERIFIQUE FECHAS",null,null,null,null,null,null,null,null,null,"VERIFIQUE COLUMNA D"]
["","",null,"",{"$f":"IFERROR(VLOOKUP(D401,'CODIGO REGIONALES'!$J$2:$L$33,3,0),\"\")","v":""},"",{"$f":"IF(ISNA(VLOOKUP(F401,Divipolas!$A$2:$B$1123,2,FALSE)),\"\",VLOOKUP(F401,Divipolas!$A$2:$B$1123,2,FALSE))","v":""},"",{"$f":"IF(ISNA(VLOOKUP((CONCATENATE(F401,H401)),Divipolas!$F$2:$G$1123,2,FALSE)),\"\",VLOOKUP((CONCATENATE(F401,H401)),Divipolas!$F$2:$G$1123,2,FALSE))","v":""},"","","","","","","","",{"$f":"IF(ISNA(VLOOKUP(Q401,Divipolas!$A$2:$B$1123,2,FALSE)),\"\",VLOOKUP(Q401,Divipolas!$A$2:$B$1123,2,FALSE))","v":""},"",{"$f":"IF(ISNA(VLOOKUP((CONCATENATE(Q401,S401)),Divipolas!$F$2:$G$1123,2,FALSE)),\"\",VLOOKUP((CONCATENATE(Q401,S401)),Divipolas!$F$2:$G$1123,2,FALSE))","v":""},"","","","","","",{"$f":"IF(ISNA(VLOOKUP(Z401,'CODIGO PAIS'!$A$2:$B$231,2,FALSE)),\"\",VLOOKUP(Z401,'CODIGO PAIS'!$A$2:$B$231,2,FALSE))","v":""},"",{"$f":"IF(ISNA(VLOOKUP(AB401,Divipolas!$A$2:$B$1123,2,FALSE)),\"\",VLOOKUP(AB401,Divipolas!$A$2:$B$1123,2,FALSE))","v":""},"",{"$f":"IF(ISNA(VLOOKUP((CONCATENATE(AB401,AD401)),Divipolas!$F$2:$G$1123,2,FALSE)),\"\",VLOOKUP((CONCATENATE(AB401,AD401)),Divipolas!$F$2:$G$1123,2,FALSE))","v":""},"","","","","",{"$f":"IF(ISNA(VLOOKUP(AJ401,Divipolas!$A$2:$B$1123,2,FALSE)),\"\",VLOOKUP(AJ401,Divipolas!$A$2:$B$1123,2,FALSE))","v":""},"",{"$f":"IF(ISNA(VLOOKUP((CONCATENATE(AJ401,AL401)),Divipolas!$F$2:$G$1123,2,FALSE)),\"\",VLOOKUP((CONCATENATE(AJ401,AL401)),Divipolas!$F$2:$G$1123,2,FALSE))","v":""},"","","","","","","","","","","","","","",null,null,null,null,null,null,null,{"$f":"IF(ISNA(VLOOKUP(BH401,'CODIGO PAIS'!$A$2:$B$231,2,FALSE)),\"\",VLOOKUP(BH401,'CODIGO PAIS'!$A$2:$B$231,2,FALSE))","v":""},null,{"$f":"IF(ISNA(VLOOKUP(BJ401,Divipolas!$A$2:$B$1123,2,FALSE)),\"\",VLOOKUP(BJ401,Divipolas!$A$2:$B$1123,2,FALSE))","v":""},null,{"$f":"IF(ISNA(VLOOKUP((CONCATENATE(BJ401,BL401)),Divipolas!$F$2:$G$1123,2,FALSE)),\"\",VLOOKUP((CONCATENATE(BJ401,BL401)),Divipolas!$F$2:$G$1123,2,FALSE))","v":""},null,"","",null,null,null,null,{"$f":"IF(ISNA(VLOOKUP(BT401,Divipolas!$A$2:$B$1123,2,FALSE)),\"\",VLOOKUP(BT401,Divipolas!$A$2:$B$1123,2,FALSE))","v":""},null,{"$f":"IF(ISNA(VLOOKUP((CONCATENATE(BT401,BV401)),Divipolas!$F$2:$G$1123,2,FALSE)),\"\",VLOOKUP((CONCATENATE(BT401,BV401)),Divipolas!$F$2:$G$1123,2,FALSE))","v":""},null,null,null,null,null,null,null,null,null,null,null,null,null,null,null,null,null,null,null,null,null,null,null,"",null,null,null,null,null,null,null,null,null,null,null,null,null,null,null,null,null,null,null,null,null,null,null,null,null,null,null,null,null,null,null,null,null,null,null,null,null,null,null,null,null,null,null,null,null,null,null,null,null,null,null,null,null,null,null,null,null,null,null,null,null,null,null,null,null,null,null,null,null,null,null,null,null,null,null,null,"",null,null,null,null,null,null,null,"VERIFIQUE FECHAS",null,null,null,null,null,null,null,null,null,"VERIFIQUE COLUMNA D"]
["","",null,"",{"$f":"IFERROR(VLOOKUP(D407,'CODIGO REGIONALES'!$J$2:$L$33,3,0),\"\")","v":""},"",{"$f":"IF(ISNA(VLOOKUP(F407,Divipolas!$A$2:$B$1123,2,FALSE)),\"\",VLOOKUP(F407,Divipolas!$A$2:$B$1123,2,FALSE))","v":""},"",{"$f":"IF(ISNA(VLOOKUP((CONCATENATE(F407,H407)),Divipolas!$F$2:$G$1123,2,FALSE)),\"\",VLOOKUP((CONCATENATE(F407,H407)),Divipolas!$F$2:$G$1123,2,FALSE))","v":""},"","","","","","","","",{"$f":"IF(ISNA(VLOOKUP(Q407,Divipolas!$A$2:$B$1123,2,FALSE)),\"\",VLOOKUP(Q407,Divipolas!$A$2:$B$1123,2,FALSE))","v":""},"",{"$f":"IF(ISNA(VLOOKUP((CONCATENATE(Q407,S407)),Divipolas!$F$2:$G$1123,2,FALSE)),\"\",VLOOKUP((CONCATENATE(Q407,S407)),Divipolas!$F$2:$G$1123,2,FALSE))","v":""},"","","","","","",{"$f":"IF(ISNA(VLOOKUP(Z407,'CODIGO PAIS'!$A$2:$B$231,2,FALSE)),\"\",VLOOKUP(Z407,'CODIGO PAIS'!$A$2:$B$231,2,FALSE))","v":""},"",{"$f":"IF(ISNA(VLOOKUP(AB407,Divipolas!$A$2:$B$1123,2,FALSE)),\"\",VLOOKUP(AB407,Divipolas!$A$2:$B$1123,2,FALSE))","v":""},"",{"$f":"IF(ISNA(VLOOKUP((CONCATENATE(AB407,AD407)),Divipolas!$F$2:$G$1123,2,FALSE)),\"\",VLOOKUP((CONCATENATE(AB407,AD407)),Divipolas!$F$2:$G$1123,2,FALSE))","v":""},"","","","","",{"$f":"IF(ISNA(VLOOKUP(AJ407,Divipolas!$A$2:$B$1123,2,FALSE)),\"\",VLOOKUP(AJ407,Divipolas!$A$2:$B$1123,2,FALSE))","v":""},"",{"$f":"IF(ISNA(VLOOKUP((CONCATENATE(AJ407,AL407)),Divipolas!$F$2:$G$1123,2,FALSE)),\"\",VLOOKUP((CONCATENATE(AJ407,AL407)),Divipolas!$F$2:$G$1123,2,FALSE))","v":""},"","","","","","","","","","","","","","",null,null,null,null,null,null,null,{"$f":"IF(ISNA(VLOOKUP(BH407,'CODIGO PAIS'!$A$2:$B$231,2,FALSE)),\"\",VLOOKUP(BH407,'CODIGO PAIS'!$A$2:$B$231,2,FALSE))","v":""},null,{"$f":"IF(ISNA(VLOOKUP(BJ407,Divipolas!$A$2:$B$1123,2,FALSE)),\"\",VLOOKUP(BJ407,Divipolas!$A$2:$B$1123,2,FALSE))","v":""},null,{"$f":"IF(ISNA(VLOOKUP((CONCATENATE(BJ407,BL407)),Divipolas!$F$2:$G$1123,2,FALSE)),\"\",VLOOKUP((CONCATENATE(BJ407,BL407)),Divipolas!$F$2:$G$1123,2,FALSE))","v":""},null,"","",null,null,null,null,{"$f":"IF(ISNA(VLOOKUP(BT407,Divipolas!$A$2:$B$1123,2,FALSE)),\"\",VLOOKUP(BT407,Divipolas!$A$2:$B$1123,2,FALSE))","v":""},null,{"$f":"IF(ISNA(VLOOKUP((CONCATENATE(BT407,BV407)),Divipolas!$F$2:$G$1123,2,FALSE)),\"\",VLOOKUP((CONCATENATE(BT407,BV407)),Divipolas!$F$2:$G$1123,2,FALSE))","v":""},null,null,null,null,null,null,null,null,null,null,null,null,null,null,null,null,null,null,null,null,null,null,null,"",null,null,null,null,null,null,null,null,null,null,null,null,null,null,null,null,null,null,null,null,null,null,null,null,null,null,null,null,null,null,null,null,null,null,null,null,null,null,null,null,null,null,null,null,null,null,null,null,null,null,null,null,null,null,null,null,null,null,null,null,null,null,null,null,null,null,null,null,null,null,null,null,null,null,null,null,"",null,null,null,null,null,null,null,"VERIFIQUE FECHAS",null,null,null,null,null,null,null,null,null,"VERIFIQUE COLUMNA D"]
["","",null,"",{"$f":"IFERROR(VLOOKUP(D411,'CODIGO REGIONALES'!$J$2:$L$33,3,0),\"\")","v":""},"",{"$f":"IF(ISNA(VLOOKUP(F411,Divipolas!$A$2:$B$1123,2,FALSE)),\"\",VLOOKUP(F411,Divipolas!$A$2:$B$1123,2,FALSE))","v":""},"",{"$f":"IF(ISNA(VLOOKUP((CONCATENATE(F411,H411)),Divipolas!$F$2:$G$1123,2,FALSE)),\"\",VLOOKUP((CONCATENATE(F411,H411)),Divipolas!$F$2:$G$1123,2,FALSE))","v":""},"","","","","","","","",{"$f":"IF(ISNA(VLOOKUP(Q411,Divipolas!$A$2:$B$1123,2,FALSE)),\"\",VLOOKUP(Q411,Divipolas!$A$2:$B$1123,2,FALSE))","v":""},"",{"$f":"IF(ISNA(VLOOKUP((CONCATENATE(Q411,S411)),Divipolas!$F$2:$G$1123,2,FALSE)),\"\",VLOOKUP((CONCATENATE(Q411,S411)),Divipolas!$F$2:$G$1123,2,FALSE))","v":""},"","","","","","",{"$f":"IF(ISNA(VLOOKUP(Z411,'CODIGO PAIS'!$A$2:$B$231,2,FALSE)),\"\",VLOOKUP(Z411,'CODIGO PAIS'!$A$2:$B$231,2,FALSE))","v":""},"",{"$f":"IF(ISNA(VLOOKUP(AB411,Divipolas!$A$2:$B$1123,2,FALSE)),\"\",VLOOKUP(AB411,Divipolas!$A$2:$B$1123,2,FALSE))","v":""},"",{"$f":"IF(ISNA(VLOOKUP((CONCATENATE(AB411,AD411)),Divipolas!$F$2:$G$1123,2,FALSE)),\"\",VLOOKUP((CONCATENATE(AB411,AD411)),Divipolas!$F$2:$G$1123,2,FALSE))","v":""},"","","","","",{"$f":"IF(ISNA(VLOOKUP(AJ411,Divipolas!$A$2:$B$1123,2,FALSE)),\"\",VLOOKUP(AJ411,Divipolas!$A$2:$B$1123,2,FALSE))","v":""},"",{"$f":"IF(ISNA(VLOOKUP((CONCATENATE(AJ411,AL411)),Divipolas!$F$2:$G$1123,2,FALSE)),\"\",VLOOKUP((CONCATENATE(AJ411,AL411)),Divipolas!$F$2:$G$1123,2,FALSE))","v":""},"","","","","","","","","","","","","","",null,null,null,null,null,null,null,{"$f":"IF(ISNA(VLOOKUP(BH411,'CODIGO PAIS'!$A$2:$B$231,2,FALSE)),\"\",VLOOKUP(BH411,'CODIGO PAIS'!$A$2:$B$231,2,FALSE))","v":""},null,{"$f":"IF(ISNA(VLOOKUP(BJ411,Divipolas!$A$2:$B$1123,2,FALSE)),\"\",VLOOKUP(BJ411,Divipolas!$A$2:$B$1123,2,FALSE))","v":""},null,{"$f":"IF(ISNA(VLOOKUP((CONCATENATE(BJ411,BL411)),Divipolas!$F$2:$G$1123,2,FALSE)),\"\",VLOOKUP((CONCATENATE(BJ411,BL411)),Divipolas!$F$2:$G$1123,2,FALSE))","v":""},null,"","",null,null,null,null,{"$f":"IF(ISNA(VLOOKUP(BT411,Divipolas!$A$2:$B$1123,2,FALSE)),\"\",VLOOKUP(BT411,Divipolas!$A$2:$B$1123,2,FALSE))","v":""},null,{"$f":"IF(ISNA(VLOOKUP((CONCATENATE(BT411,BV411)),Divipolas!$F$2:$G$1123,2,FALSE)),\"\",VLOOKUP((CONCATENATE(BT411,BV411)),Divipolas!$F$2:$G$1123,2,FALSE))","v":""},null,null,null,null,null,null,null,null,null,null,null,null,null,null,null,null,null,null,null,null,null,null,null,"",null,null,null,null,null,null,null,null,null,null,null,null,null,null,null,null,null,null,null,null,null,null,null,null,null,null,null,null,null,null,null,null,null,null,null,null,null,null,null,null,null,null,null,null,null,null,null,null,null,null,null,null,null,null,null,null,null,null,null,null,null,null,null,null,null,null,null,null,null,null,null,null,null,null,null,null,"",null,null,null,null,null,null,null,"VERIFIQUE FECHAS",null,null,null,null,null,null,null,null,null,"VERIFIQUE COLUMNA D"]
["","",null,"",{"$f":"IFERROR(VLOOKUP(D416,'CODIGO REGIONALES'!$J$2:$L$33,3,0),\"\")","v":""},"",{"$f":"IF(ISNA(VLOOKUP(F416,Divipolas!$A$2:$B$1123,2,FALSE)),\"\",VLOOKUP(F416,Divipolas!$A$2:$B$1123,2,FALSE))","v":""},"",{"$f":"IF(ISNA(VLOOKUP((CONCATENATE(F416,H416)),Divipolas!$F$2:$G$1123,2,FALSE)),\"\",VLOOKUP((CONCATENATE(F416,H416)),Divipolas!$F$2:$G$1123,2,FALSE))","v":""},"","","","","","","","",{"$f":"IF(ISNA(VLOOKUP(Q416,Divipolas!$A$2:$B$1123,2,FALSE)),\"\",VLOOKUP(Q416,Divipolas!$A$2:$B$1123,2,FALSE))","v":""},"",{"$f":"IF(ISNA(VLOOKUP((CONCATENATE(Q416,S416)),Divipolas!$F$2:$G$1123,2,FALSE)),\"\",VLOOKUP((CONCATENATE(Q416,S416)),Divipolas!$F$2:$G$1123,2,FALSE))","v":""},"","","","","","",{"$f":"IF(ISNA(VLOOKUP(Z416,'CODIGO PAIS'!$A$2:$B$231,2,FALSE)),\"\",VLOOKUP(Z416,'CODIGO PAIS'!$A$2:$B$231,2,FALSE))","v":""},"",{"$f":"IF(ISNA(VLOOKUP(AB416,Divipolas!$A$2:$B$1123,2,FALSE)),\"\",VLOOKUP(AB416,Divipolas!$A$2:$B$1123,2,FALSE))","v":""},"",{"$f":"IF(ISNA(VLOOKUP((CONCATENATE(AB416,AD416)),Divipolas!$F$2:$G$1123,2,FALSE)),\"\",VLOOKUP((CONCATENATE(AB416,AD416)),Divipolas!$F$2:$G$1123,2,FALSE))","v":""},"","","","","",{"$f":"IF(ISNA(VLOOKUP(AJ416,Divipolas!$A$2:$B$1123,2,FALSE)),\"\",VLOOKUP(AJ416,Divipolas!$A$2:$B$1123,2,FALSE))","v":""},"",{"$f":"IF(ISNA(VLOOKUP((CONCATENATE(AJ416,AL416)),Divipolas!$F$2:$G$1123,2,FALSE)),\"\",VLOOKUP((CONCATENATE(AJ416,AL416)),Divipolas!$F$2:$G$1123,2,FALSE))","v":""},"","","","","","","","","","","","","","",null,null,null,null,null,null,null,{"$f":"IF(ISNA(VLOOKUP(BH416,'CODIGO PAIS'!$A$2:$B$231,2,FALSE)),\"\",VLOOKUP(BH416,'CODIGO PAIS'!$A$2:$B$231,2,FALSE))","v":""},null,{"$f":"IF(ISNA(VLOOKUP(BJ416,Divipolas!$A$2:$B$1123,2,FALSE)),\"\",VLOOKUP(BJ416,Divipolas!$A$2:$B$1123,2,FALSE))","v":""},null,{"$f":"IF(ISNA(VLOOKUP((CONCATENATE(BJ416,BL416)),Divipolas!$F$2:$G$1123,2,FALSE)),\"\",VLOOKUP((CONCATENATE(BJ416,BL416)),Divipolas!$F$2:$G$1123,2,FALSE))","v":""},null,"","",null,null,null,null,{"$f":"IF(ISNA(VLOOKUP(BT416,Divipolas!$A$2:$B$1123,2,FALSE)),\"\",VLOOKUP(BT416,Divipolas!$A$2:$B$1123,2,FALSE))","v":""},null,{"$f":"IF(ISNA(VLOOKUP((CONCATENATE(BT416,BV416)),Divipolas!$F$2:$G$1123,2,FALSE)),\"\",VLOOKUP((CONCATENATE(BT416,BV416)),Divipolas!$F$2:$G$1123,2,FALSE))","v":""},null,null,null,null,null,null,null,null,null,null,null,null,null,null,null,null,null,null,null,null,null,null,null,"",null,null,null,null,null,null,null,null,null,null,null,null,null,null,null,null,null,null,null,null,null,null,null,null,null,null,null,null,null,null,null,null,null,null,null,null,null,null,null,null,null,null,null,null,null,null,null,null,null,null,null,null,null,null,null,null,null,null,null,null,null,null,null,null,null,null,null,null,null,null,null,null,null,null,null,null,"",null,null,null,null,null,null,null,"VERIFIQUE FECHAS",null,null,null,null,null,null,null,null,null,"VERIFIQUE COLUMNA D"]
["","",null,"",{"$f":"IFERROR(VLOOKUP(D422,'CODIGO REGIONALES'!$J$2:$L$33,3,0),\"\")","v":""},"",{"$f":"IF(ISNA(VLOOKUP(F422,Divipolas!$A$2:$B$1123,2,FALSE)),\"\",VLOOKUP(F422,Divipolas!$A$2:$B$1123,2,FALSE))","v":""},"",{"$f":"IF(ISNA(VLOOKUP((CONCATENATE(F422,H422)),Divipolas!$F$2:$G$1123,2,FALSE)),\"\",VLOOKUP((CONCATENATE(F422,H422)),Divipolas!$F$2:$G$1123,2,FALSE))","v":""},"","","","","","","","",{"$f":"IF(ISNA(VLOOKUP(Q422,Divipolas!$A$2:$B$1123,2,FALSE)),\"\",VLOOKUP(Q422,Divipolas!$A$2:$B$1123,2,FALSE))","v":""},"",{"$f":"IF(ISNA(VLOOKUP((CONCATENATE(Q422,S422)),Divipolas!$F$2:$G$1123,2,FALSE)),\"\",VLOOKUP((CONCATENATE(Q422,S422)),Divipolas!$F$2:$G$1123,2,FALSE))","v":""},"","","","","","",{"$f":"IF(ISNA(VLOOKUP(Z422,'CODIGO PAIS'!$A$2:$B$231,2,FALSE)),\"\",VLOOKUP(Z422,'CODIGO PAIS'!$A$2:$B$231,2,FALSE))","v":""},"",{"$f":"IF(ISNA(VLOOKUP(AB422,Divipolas!$A$2:$B$1123,2,FALSE)),\"\",VLOOKUP(AB422,Divipolas!$A$2:$B$1123,2,FALSE))","v":""},"",{"$f":"IF(ISNA(VLOOKUP((CONCATENATE(AB422,AD422)),Divipolas!$F$2:$G$1123,2,FALSE)),\"\",VLOOKUP((CONCATENATE(AB422,AD422)),Divipolas!$F$2:$G$1123,2,FALSE))","v":""},"","","","","",{"$f":"IF(ISNA(VLOOKUP(AJ422,Divipolas!$A$2:$B$1123,2,FALSE)),\"\",VLOOKUP(AJ422,Divipolas!$A$2:$B$1123,2,FALSE))","v":""},"",{"$f":"IF(ISNA(VLOOKUP((CONCATENATE(AJ422,AL422)),Divipolas!$F$2:$G$1123,2,FALSE)),\"\",VLOOKUP((CONCATENATE(AJ422,AL422)),Divipolas!$F$2:$G$1123,2,FALSE))","v":""},"","","","","","","","","","","","","","",null,null,null,null,null,null,null,{"$f":"IF(ISNA(VLOOKUP(BH422,'CODIGO PAIS'!$A$2:$B$231,2,FALSE)),\"\",VLOOKUP(BH422,'CODIGO PAIS'!$A$2:$B$231,2,FALSE))","v":""},null,{"$f":"IF(ISNA(VLOOKUP(BJ422,Divipolas!$A$2:$B$1123,2,FALSE)),\"\",VLOOKUP(BJ422,Divipolas!$A$2:$B$1123,2,FALSE))","v":""},null,{"$f":"IF(ISNA(VLOOKUP((CONCATENATE(BJ422,BL422)),Divipolas!$F$2:$G$1123,2,FALSE)),\"\",VLOOKUP((CONCATENATE(BJ422,BL422)),Divipolas!$F$2:$G$1123,2,FALSE))","v":""},null,"","",null,null,null,null,{"$f":"IF(ISNA(VLOOKUP(BT422,Divipolas!$A$2:$B$1123,2,FALSE)),\"\",VLOOKUP(BT422,Divipolas!$A$2:$B$1123,2,FALSE))","v":""},null,{"$f":"IF(ISNA(VLOOKUP((CONCATENATE(BT422,BV422)),Divipolas!$F$2:$G$1123,2,FALSE)),\"\",VLOOKUP((CONCATENATE(BT422,BV422)),Divipolas!$F$2:$G$1123,2,FALSE))","v":""},null,null,null,null,null,null,null,null,null,null,null,null,null,null,null,null,null,null,null,null,null,null,null,"",null,null,null,null,null,null,null,null,null,null,null,null,null,null,null,null,null,null,null,null,null,null,null,null,null,null,null,null,null,null,null,null,null,null,null,null,null,null,null,null,null,null,null,null,null,null,null,null,null,null,null,null,null,null,null,null,null,null,null,null,null,null,null,null,null,null,null,null,null,null,null,null,null,null,null,null,"",null,null,null,null,null,null,null,"VERIFIQUE FECHAS",null,null,null,null,null,null,null,null,null,"VERIFIQUE COLUMNA D"]
["","",null,"",{"$f":"IFERROR(VLOOKUP(D427,'CODIGO REGIONALES'!$J$2:$L$33,3,0),\"\")","v":""},"",{"$f":"IF(ISNA(VLOOKUP(F427,Divipolas!$A$2:$B$1123,2,FALSE)),\"\",VLOOKUP(F427,Divipolas!$A$2:$B$1123,2,FALSE))","v":""},"",{"$f":"IF(ISNA(VLOOKUP((CONCATENATE(F427,H427)),Divipolas!$F$2:$G$1123,2,FALSE)),\"\",VLOOKUP((CONCATENATE(F427,H427)),Divipolas!$F$2:$G$1123,2,FALSE))","v":""},"","","","","","","","",{"$f":"IF(ISNA(VLOOKUP(Q427,Divipolas!$A$2:$B$1123,2,FALSE)),\"\",VLOOKUP(Q427,Divipolas!$A$2:$B$1123,2,FALSE))","v":""},"",{"$f":"IF(ISNA(VLOOKUP((CONCATENATE(Q427,S427)),Divipolas!$F$2:$G$1123,2,FALSE)),\"\",VLOOKUP((CONCATENATE(Q427,S427)),Divipolas!$F$2:$G$1123,2,FALSE))","v":""},"","","","","","",{"$f":"IF(ISNA(VLOOKUP(Z427,'CODIGO PAIS'!$A$2:$B$231,2,FALSE)),\"\",VLOOKUP(Z427,'CODIGO PAIS'!$A$2:$B$231,2,FALSE))","v":""},"",{"$f":"IF(ISNA(VLOOKUP(AB427,Divipolas!$A$2:$B$1123,2,FALSE)),\"\",VLOOKUP(AB427,Divipolas!$A$2:$B$1123,2,FALSE))","v":""},"",{"$f":"IF(ISNA(VLOOKUP((CONCATENATE(AB427,AD427)),Divipolas!$F$2:$G$1123,2,FALSE)),\"\",VLOOKUP((CONCATENATE(AB427,AD427)),Divipolas!$F$2:$G$1123,2,FALSE))","v":""},"","","","","",{"$f":"IF(ISNA(VLOOKUP(AJ427,Divipolas!$A$2:$B$1123,2,FALSE)),\"\",VLOOKUP(AJ427,Divipolas!$A$2:$B$1123,2,FALSE))","v":""},"",{"$f":"IF(ISNA(VLOOKUP((CONCATENATE(AJ427,AL427)),Divipolas!$F$2:$G$1123,2,FALSE)),\"\",VLOOKUP((CONCATENATE(AJ427,AL427)),Divipolas!$F$2:$G$1123,2,FALSE))","v":""},"","","","","","","","","","","","","","",null,null,null,null,null,null,null,{"$f":"IF(ISNA(VLOOKUP(BH427,'CODIGO PAIS'!$A$2:$B$231,2,FALSE)),\"\",VLOOKUP(BH427,'CODIGO PAIS'!$A$2:$B$231,2,FALSE))","v":""},null,{"$f":"IF(ISNA(VLOOKUP(BJ427,Divipolas!$A$2:$B$1123,2,FALSE)),\"\",VLOOKUP(BJ427,Divipolas!$A$2:$B$1123,2,FALSE))","v":""},null,{"$f":"IF(ISNA(VLOOKUP((CONCATENATE(BJ427,BL427)),Divipolas!$F$2:$G$1123,2,FALSE)),\"\",VLOOKUP((CONCATENATE(BJ427,BL427)),Divipolas!$F$2:$G$1123,2,FALSE))","v":""},null,"","",null,null,null,null,{"$f":"IF(ISNA(VLOOKUP(BT427,Divipolas!$A$2:$B$1123,2,FALSE)),\"\",VLOOKUP(BT427,Divipolas!$A$2:$B$1123,2,FALSE))","v":""},null,{"$f":"IF(ISNA(VLOOKUP((CONCATENATE(BT427,BV427)),Divipolas!$F$2:$G$1123,2,FALSE)),\"\",VLOOKUP((CONCATENATE(BT427,BV427)),Divipolas!$F$2:$G$1123,2,FALSE))","v":""},null,null,null,null,null,null,null,null,null,null,null,null,null,null,null,null,null,null,null,null,null,null,null,"",null,null,null,null,null,null,null,null,null,null,null,null,null,null,null,null,null,null,null,null,null,null,null,null,null,null,null,null,null,null,null,null,null,null,null,null,null,null,null,null,null,null,null,null,null,null,null,null,null,null,null,null,null,null,null,null,null,null,null,null,null,null,null,null,null,null,null,null,null,null,null,null,null,null,null,null,"",null,null,null,null,null,null,null,"VERIFIQUE FECHAS",null,null,null,null,null,null,null,null,null,"VERIFIQUE COLUMNA D"]
["","",null,"",{"$f":"IFERROR(VLOOKUP(D430,'CODIGO REGIONALES'!$J$2:$L$33,3,0),\"\")","v":""},"",{"$f":"IF(ISNA(VLOOKUP(F430,Divipolas!$A$2:$B$1123,2,FALSE)),\"\",VLOOKUP(F430,Divipolas!$A$2:$B$1123,2,FALSE))","v":""},"",{"$f":"IF(ISNA(VLOOKUP((CONCATENATE(F430,H430)),Divipolas!$F$2:$G$1123,2,FALSE)),\"\",VLOOKUP((CONCATENATE(F430,H430)),Divipolas!$F$2:$G$1123,2,FALSE))","v":""},"","","","","","","","",{"$f":"IF(ISNA(VLOOKUP(Q430,Divipolas!$A$2:$B$1123,2,FALSE)),\"\",VLOOKUP(Q430,Divipolas!$A$2:$B$1123,2,FALSE))","v":""},"",{"$f":"IF(ISNA(VLOOKUP((CONCATENATE(Q430,S430)),Divipolas!$F$2:$G$1123,2,FALSE)),\"\",VLOOKUP((CONCATENATE(Q430,S430)),Divipolas!$F$2:$G$1123,2,FALSE))","v":""},"","","","","","",{"$f":"IF(ISNA(VLOOKUP(Z430,'CODIGO PAIS'!$A$2:$B$231,2,FALSE)),\"\",VLOOKUP(Z430,'CODIGO PAIS'!$A$2:$B$231,2,FALSE))","v":""},"",{"$f":"IF(ISNA(VLOOKUP(AB430,Divipolas!$A$2:$B$1123,2,FALSE)),\"\",VLOOKUP(AB430,Divipolas!$A$2:$B$1123,2,FALSE))","v":""},"",{"$f":"IF(ISNA(VLOOKUP((CONCATENATE(AB430,AD430)),Divipolas!$F$2:$G$1123,2,FALSE)),\"\",VLOOKUP((CONCATENATE(AB430,AD430)),Divipolas!$F$2:$G$1123,2,FALSE))","v":""},"","","","","",{"$f":"IF(ISNA(VLOOKUP(AJ430,Divipolas!$A$2:$B$1123,2,FALSE)),\"\",VLOOKUP(AJ430,Divipolas!$A$2:$B$1123,2,FALSE))","v":""},"",{"$f":"IF(ISNA(VLOOKUP((CONCATENATE(AJ430,AL430)),Divipolas!$F$2:$G$1123,2,FALSE)),\"\",VLOOKUP((CONCATENATE(AJ430,AL430)),Divipolas!$F$2:$G$1123,2,FALSE))","v":""},"","","","","","","","","","","","","","",null,null,null,null,null,null,null,{"$f":"IF(ISNA(VLOOKUP(BH430,'CODIGO PAIS'!$A$2:$B$231,2,FALSE)),\"\",VLOOKUP(BH430,'CODIGO PAIS'!$A$2:$B$231,2,FALSE))","v":""},null,{"$f":"IF(ISNA(VLOOKUP(BJ430,Divipolas!$A$2:$B$1123,2,FALSE)),\"\",VLOOKUP(BJ430,Divipolas!$A$2:$B$1123,2,FALSE))","v":""},null,{"$f":"IF(ISNA(VLOOKUP((CONCATENATE(BJ430,BL430)),Divipolas!$F$2:$G$1123,2,FALSE)),\"\",VLOOKUP((CONCATENATE(BJ430,BL430)),Divipolas!$F$2:$G$1123,2,FALSE))","v":""},null,"","",null,null,null,null,{"$f":"IF(ISNA(VLOOKUP(BT430,Divipolas!$A$2:$B$1123,2,FALSE)),\"\",VLOOKUP(BT430,Divipolas!$A$2:$B$1123,2,FALSE))","v":""},null,{"$f":"IF(ISNA(VLOOKUP((CONCATENATE(BT430,BV430)),Divipolas!$F$2:$G$1123,2,FALSE)),\"\",VLOOKUP((CONCATENATE(BT430,BV430)),Divipolas!$F$2:$G$1123,2,FALSE))","v":""},null,null,null,null,null,null,null,null,null,null,null,null,null,null,null,null,null,null,null,null,null,null,null,"",null,null,null,null,null,null,null,null,null,null,null,null,null,null,null,null,null,null,null,null,null,null,null,null,null,null,null,null,null,null,null,null,null,null,null,null,null,null,null,null,null,null,null,null,null,null,null,null,null,null,null,null,null,null,null,null,null,null,null,null,null,null,null,null,null,null,null,null,null,null,null,null,null,null,null,null,"",null,null,null,null,null,null,null,"VERIFIQUE FECHAS",null,null,null,null,null,null,null,null,null,"VERIFIQUE COLUMNA D"]
["","",null,"",{"$f":"IFERROR(VLOOKUP(D432,'CODIGO REGIONALES'!$J$2:$L$33,3,0),\"\")","v":""},"",{"$f":"IF(ISNA(VLOOKUP(F432,Divipolas!$A$2:$B$1123,2,FALSE)),\"\",VLOOKUP(F432,Divipolas!$A$2:$B$1123,2,FALSE))","v":""},"",{"$f":"IF(ISNA(VLOOKUP((CONCATENATE(F432,H432)),Divipolas!$F$2:$G$1123,2,FALSE)),\"\",VLOOKUP((CONCATENATE(F432,H432)),Divipolas!$F$2:$G$1123,2,FALSE))","v":""},"","","","","","","","",{"$f":"IF(ISNA(VLOOKUP(Q432,Divipolas!$A$2:$B$1123,2,FALSE)),\"\",VLOOKUP(Q432,Divipolas!$A$2:$B$1123,2,FALSE))","v":""},"",{"$f":"IF(ISNA(VLOOKUP((CONCATENATE(Q432,S432)),Divipolas!$F$2:$G$1123,2,FALSE)),\"\",VLOOKUP((CONCATENATE(Q432,S432)),Divipolas!$F$2:$G$1123,2,FALSE))","v":""},"","","","","","",{"$f":"IF(ISNA(VLOOKUP(Z432,'CODIGO PAIS'!$A$2:$B$231,2,FALSE)),\"\",VLOOKUP(Z432,'CODIGO PAIS'!$A$2:$B$231,2,FALSE))","v":""},"",{"$f":"IF(ISNA(VLOOKUP(AB432,Divipolas!$A$2:$B$1123,2,FALSE)),\"\",VLOOKUP(AB432,Divipolas!$A$2:$B$1123,2,FALSE))","v":""},"",{"$f":"IF(ISNA(VLOOKUP((CONCATENATE(AB432,AD432)),Divipolas!$F$2:$G$1123,2,FALSE)),\"\",VLOOKUP((CONCATENATE(AB432,AD432)),Divipolas!$F$2:$G$1123,2,FALSE))","v":""},"","","","","",{"$f":"IF(ISNA(VLOOKUP(AJ432,Divipolas!$A$2:$B$1123,2,FALSE)),\"\",VLOOKUP(AJ432,Divipolas!$A$2:$B$1123,2,FALSE))","v":""},"",{"$f":"IF(ISNA(VLOOKUP((CONCATENATE(AJ432,AL432)),Divipolas!$F$2:$G$1123,2,FALSE)),\"\",VLOOKUP((CONCATENATE(AJ432,AL432)),Divipolas!$F$2:$G$1123,2,FALSE))","v":""},"","","","","","","","","","","","","","",null,null,null,null,null,null,null,{"$f":"IF(ISNA(VLOOKUP(BH432,'CODIGO PAIS'!$A$2:$B$231,2,FALSE)),\"\",VLOOKUP(BH432,'CODIGO PAIS'!$A$2:$B$231,2,FALSE))","v":""},null,{"$f":"IF(ISNA(VLOOKUP(BJ432,Divipolas!$A$2:$B$1123,2,FALSE)),\"\",VLOOKUP(BJ432,Divipolas!$A$2:$B$1123,2,FALSE))","v":""},null,{"$f":"IF(ISNA(VLOOKUP((CONCATENATE(BJ432,BL432)),Divipolas!$F$2:$G$1123,2,FALSE)),\"\",VLOOKUP((CONCATENATE(BJ432,BL432)),Divipolas!$F$2:$G$1123,2,FALSE))","v":""},null,"","",null,null,null,null,{"$f":"IF(ISNA(VLOOKUP(BT432,Divipolas!$A$2:$B$1123,2,FALSE)),\"\",VLOOKUP(BT432,Divipolas!$A$2:$B$1123,2,FALSE))","v":""},null,{"$f":"IF(ISNA(VLOOKUP((CONCATENATE(BT432,BV432)),Divipolas!$F$2:$G$1123,2,FALSE)),\"\",VLOOKUP((CONCATENATE(BT432,BV432)),Divipolas!$F$2:$G$1123,2,FALSE))","v":""},null,null,null,null,null,null,null,null,null,null,null,null,null,null,null,null,null,null,null,null,null,null,null,"",null,null,null,null,null,null,null,null,null,null,null,null,null,null,null,null,null,null,null,null,null,null,null,null,null,null,null,null,null,null,null,null,null,null,null,null,null,null,null,null,null,null,null,null,null,null,null,null,null,null,null,null,null,null,null,null,null,null,null,null,null,null,null,null,null,null,null,null,null,null,null,null,null,null,null,null,"",null,null,null,null,null,null,null,"VERIFIQUE FECHAS",null,null,null,null,null,null,null,null,null,"VERIFIQUE COLUMNA D"]
["","",null,"",{"$f":"IFERROR(VLOOKUP(D437,'CODIGO REGIONALES'!$J$2:$L$33,3,0),\"\")","v":""},"",{"$f":"IF(ISNA(VLOOKUP(F437,Divipolas!$A$2:$B$1123,2,FALSE)),\"\",VLOOKUP(F437,Divipolas!$A$2:$B$1123,2,FALSE))","v":""},"",{"$f":"IF(ISNA(VLOOKUP((CONCATENATE(F437,H437)),Divipolas!$F$2:$G$1123,2,FALSE)),\"\",VLOOKUP((CONCATENATE(F437,H437)),Divipolas!$F$2:$G$1123,2,FALSE))","v":""},"","","","","","","","",{"$f":"IF(ISNA(VLOOKUP(Q437,Divipolas!$A$2:$B$1123,2,FALSE)),\"\",VLOOKUP(Q437,Divipolas!$A$2:$B$1123,2,FALSE))","v":""},"",{"$f":"IF(ISNA(VLOOKUP((CONCATENATE(Q437,S437)),Divipolas!$F$2:$G$1123,2,FALSE)),\"\",VLOOKUP((CONCATENATE(Q437,S437)),Divipolas!$F$2:$G$1123,2,FALSE))","v":""},"","","","","","",{"$f":"IF(ISNA(VLOOKUP(Z437,'CODIGO PAIS'!$A$2:$B$231,2,FALSE)),\"\",VLOOKUP(Z437,'CODIGO PAIS'!$A$2:$B$231,2,FALSE))","v":""},"",{"$f":"IF(ISNA(VLOOKUP(AB437,Divipolas!$A$2:$B$1123,2,FALSE)),\"\",VLOOKUP(AB437,Divipolas!$A$2:$B$1123,2,FALSE))","v":""},"",{"$f":"IF(ISNA(VLOOKUP((CONCATENATE(AB437,AD437)),Divipolas!$F$2:$G$1123,2,FALSE)),\"\",VLOOKUP((CONCATENATE(AB437,AD437)),Divipolas!$F$2:$G$1123,2,FALSE))","v":""},"","","","","",{"$f":"IF(ISNA(VLOOKUP(AJ437,Divipolas!$A$2:$B$1123,2,FALSE)),\"\",VLOOKUP(AJ437,Divipolas!$A$2:$B$1123,2,FALSE))","v":""},"",{"$f":"IF(ISNA(VLOOKUP((CONCATENATE(AJ437,AL437)),Divipolas!$F$2:$G$1123,2,FALSE)),\"\",VLOOKUP((CONCATENATE(AJ437,AL437)),Divipolas!$F$2:$G$1123,2,FALSE))","v":""},"","","","","","","","","","","","","","",null,null,null,null,null,null,null,{"$f":"IF(ISNA(VLOOKUP(BH437,'CODIGO PAIS'!$A$2:$B$231,2,FALSE)),\"\",VLOOKUP(BH437,'CODIGO PAIS'!$A$2:$B$231,2,FALSE))","v":""},null,{"$f":"IF(ISNA(VLOOKUP(BJ437,Divipolas!$A$2:$B$1123,2,FALSE)),\"\",VLOOKUP(BJ437,Divipolas!$A$2:$B$1123,2,FALSE))","v":""},null,{"$f":"IF(ISNA(VLOOKUP((CONCATENATE(BJ437,BL437)),Divipolas!$F$2:$G$1123,2,FALSE)),\"\",VLOOKUP((CONCATENATE(BJ437,BL437)),Divipolas!$F$2:$G$1123,2,FALSE))","v":""},null,"","",null,null,null,null,{"$f":"IF(ISNA(VLOOKUP(BT437,Divipolas!$A$2:$B$1123,2,FALSE)),\"\",VLOOKUP(BT437,Divipolas!$A$2:$B$1123,2,FALSE))","v":""},null,{"$f":"IF(ISNA(VLOOKUP((CONCATENATE(BT437,BV437)),Divipolas!$F$2:$G$1123,2,FALSE)),\"\",VLOOKUP((CONCATENATE(BT437,BV437)),Divipolas!$F$2:$G$1123,2,FALSE))","v":""},null,null,null,null,null,null,null,null,null,null,null,null,null,null,null,null,null,null,null,null,null,null,null,"",null,null,null,null,null,null,null,null,null,null,null,null,null,null,null,null,null,null,null,null,null,null,null,null,null,null,null,null,null,null,null,null,null,null,null,null,null,null,null,null,null,null,null,null,null,null,null,null,null,null,null,null,null,null,null,null,null,null,null,null,null,null,null,null,null,null,null,null,null,null,null,null,null,null,null,null,"",null,null,null,null,null,null,null,"VERIFIQUE FECHAS",null,null,null,null,null,null,null,null,null,"VERIFIQUE COLUMNA D"]
["","",null,"",{"$f":"IFERROR(VLOOKUP(D443,'CODIGO REGIONALES'!$J$2:$L$33,3,0),\"\")","v":""},"",{"$f":"IF(ISNA(VLOOKUP(F443,Divipolas!$A$2:$B$1123,2,FALSE)),\"\",VLOOKUP(F443,Divipolas!$A$2:$B$1123,2,FALSE))","v":""},"",{"$f":"IF(ISNA(VLOOKUP((CONCATENATE(F443,H443)),Divipolas!$F$2:$G$1123,2,FALSE)),\"\",VLOOKUP((CONCATENATE(F443,H443)),Divipolas!$F$2:$G$1123,2,FALSE))","v":""},"","","","","","","","",{"$f":"IF(ISNA(VLOOKUP(Q443,Divipolas!$A$2:$B$1123,2,FALSE)),\"\",VLOOKUP(Q443,Divipolas!$A$2:$B$1123,2,FALSE))","v":""},"",{"$f":"IF(ISNA(VLOOKUP((CONCATENATE(Q443,S443)),Divipolas!$F$2:$G$1123,2,FALSE)),\"\",VLOOKUP((CONCATENATE(Q443,S443)),Divipolas!$F$2:$G$1123,2,FALSE))","v":""},"","","","","","",{"$f":"IF(ISNA(VLOOKUP(Z443,'CODIGO PAIS'!$A$2:$B$231,2,FALSE)),\"\",VLOOKUP(Z443,'CODIGO PAIS'!$A$2:$B$231,2,FALSE))","v":""},"",{"$f":"IF(ISNA(VLOOKUP(AB443,Divipolas!$A$2:$B$1123,2,FALSE)),\"\",VLOOKUP(AB443,Divipolas!$A$2:$B$1123,2,FALSE))","v":""},"",{"$f":"IF(ISNA(VLOOKUP((CONCATENATE(AB443,AD443)),Divipolas!$F$2:$G$1123,2,FALSE)),\"\",VLOOKUP((CONCATENATE(AB443,AD443)),Divipolas!$F$2:$G$1123,2,FALSE))","v":""},"","","","","",{"$f":"IF(ISNA(VLOOKUP(AJ443,Divipolas!$A$2:$B$1123,2,FALSE)),\"\",VLOOKUP(AJ443,Divipolas!$A$2:$B$1123,2,FALSE))","v":""},"",{"$f":"IF(ISNA(VLOOKUP((CONCATENATE(AJ443,AL443)),Divipolas!$F$2:$G$1123,2,FALSE)),\"\",VLOOKUP((CONCATENATE(AJ443,AL443)),Divipolas!$F$2:$G$1123,2,FALSE))","v":""},"","","","","","","","","","","","","","",null,null,null,null,null,null,null,{"$f":"IF(ISNA(VLOOKUP(BH443,'CODIGO PAIS'!$A$2:$B$231,2,FALSE)),\"\",VLOOKUP(BH443,'CODIGO PAIS'!$A$2:$B$231,2,FALSE))","v":""},null,{"$f":"IF(ISNA(VLOOKUP(BJ443,Divipolas!$A$2:$B$1123,2,FALSE)),\"\",VLOOKUP(BJ443,Divipolas!$A$2:$B$1123,2,FALSE))","v":""},null,{"$f":"IF(ISNA(VLOOKUP((CONCATENATE(BJ443,BL443)),Divipolas!$F$2:$G$1123,2,FALSE)),\"\",VLOOKUP((CONCATENATE(BJ443,BL443)),Divipolas!$F$2:$G$1123,2,FALSE))","v":""},null,"","",null,null,null,null,{"$f":"IF(ISNA(VLOOKUP(BT443,Divipolas!$A$2:$B$1123,2,FALSE)),\"\",VLOOKUP(BT443,Divipolas!$A$2:$B$1123,2,FALSE))","v":""},null,{"$f":"IF(ISNA(VLOOKUP((CONCATENATE(BT443,BV443)),Divipolas!$F$2:$G$1123,2,FALSE)),\"\",VLOOKUP((CONCATENATE(BT443,BV443)),Divipolas!$F$2:$G$1123,2,FALSE))","v":""},null,null,null,null,null,null,null,null,null,null,null,null,null,null,null,null,null,null,null,null,null,null,null,"",null,null,null,null,null,null,null,null,null,null,null,null,null,null,null,null,null,null,null,null,null,null,null,null,null,null,null,null,null,null,null,null,null,null,null,null,null,null,null,null,null,null,null,null,null,null,null,null,null,null,null,null,null,null,null,null,null,null,null,null,null,null,null,null,null,null,null,null,null,null,null,null,null,null,null,null,"",null,null,null,null,null,null,null,"VERIFIQUE FECHAS",null,null,null,null,null,null,null,null,null,"VERIFIQUE COLUMNA D"]
["","",null,"",{"$f":"IFERROR(VLOOKUP(D448,'CODIGO REGIONALES'!$J$2:$L$33,3,0),\"\")","v":""},"",{"$f":"IF(ISNA(VLOOKUP(F448,Divipolas!$A$2:$B$1123,2,FALSE)),\"\",VLOOKUP(F448,Divipolas!$A$2:$B$1123,2,FALSE))","v":""},"",{"$f":"IF(ISNA(VLOOKUP((CONCATENATE(F448,H448)),Divipolas!$F$2:$G$1123,2,FALSE)),\"\",VLOOKUP((CONCATENATE(F448,H448)),Divipolas!$F$2:$G$1123,2,FALSE))","v":""},"","","","","","","","",{"$f":"IF(ISNA(VLOOKUP(Q448,Divipolas!$A$2:$B$1123,2,FALSE)),\"\",VLOOKUP(Q448,Divipolas!$A$2:$B$1123,2,FALSE))","v":""},"",{"$f":"IF(ISNA(VLOOKUP((CONCATENATE(Q448,S448)),Divipolas!$F$2:$G$1123,2,FALSE)),\"\",VLOOKUP((CONCATENATE(Q448,S448)),Divipolas!$F$2:$G$1123,2,FALSE))","v":""},"","","","","","",{"$f":"IF(ISNA(VLOOKUP(Z448,'CODIGO PAIS'!$A$2:$B$231,2,FALSE)),\"\",VLOOKUP(Z448,'CODIGO PAIS'!$A$2:$B$231,2,FALSE))","v":""},"",{"$f":"IF(ISNA(VLOOKUP(AB448,Divipolas!$A$2:$B$1123,2,FALSE)),\"\",VLOOKUP(AB448,Divipolas!$A$2:$B$1123,2,FALSE))","v":""},"",{"$f":"IF(ISNA(VLOOKUP((CONCATENATE(AB448,AD448)),Divipolas!$F$2:$G$1123,2,FALSE)),\"\",VLOOKUP((CONCATENATE(AB448,AD448)),Divipolas!$F$2:$G$1123,2,FALSE))","v":""},"","","","","",{"$f":"IF(ISNA(VLOOKUP(AJ448,Divipolas!$A$2:$B$1123,2,FALSE)),\"\",VLOOKUP(AJ448,Divipolas!$A$2:$B$1123,2,FALSE))","v":""},"",{"$f":"IF(ISNA(VLOOKUP((CONCATENATE(AJ448,AL448)),Divipolas!$F$2:$G$1123,2,FALSE)),\"\",VLOOKUP((CONCATENATE(AJ448,AL448)),Divipolas!$F$2:$G$1123,2,FALSE))","v":""},"","","","","","","","","","","","","","",null,null,null,null,null,null,null,{"$f":"IF(ISNA(VLOOKUP(BH448,'CODIGO PAIS'!$A$2:$B$231,2,FALSE)),\"\",VLOOKUP(BH448,'CODIGO PAIS'!$A$2:$B$231,2,FALSE))","v":""},null,{"$f":"IF(ISNA(VLOOKUP(BJ448,Divipolas!$A$2:$B$1123,2,FALSE)),\"\",VLOOKUP(BJ448,Divipolas!$A$2:$B$1123,2,FALSE))","v":""},null,{"$f":"IF(ISNA(VLOOKUP((CONCATENATE(BJ448,BL448)),Divipolas!$F$2:$G$1123,2,FALSE)),\"\",VLOOKUP((CONCATENATE(BJ448,BL448)),Divipolas!$F$2:$G$1123,2,FALSE))","v":""},null,"","",null,null,null,null,{"$f":"IF(ISNA(VLOOKUP(BT448,Divipolas!$A$2:$B$1123,2,FALSE)),\"\",VLOOKUP(BT448,Divipolas!$A$2:$B$1123,2,FALSE))","v":""},null,{"$f":"IF(ISNA(VLOOKUP((CONCATENATE(BT448,BV448)),Divipolas!$F$2:$G$1123,2,FALSE)),\"\",VLOOKUP((CONCATENATE(BT448,BV448)),Divipolas!$F$2:$G$1123,2,FALSE))","v":""},null,null,null,null,null,null,null,null,null,null,null,null,null,null,null,null,null,null,null,null,null,null,null,"",null,null,null,null,null,null,null,null,null,null,null,null,null,null,null,null,null,null,null,null,null,null,null,null,null,null,null,null,null,null,null,null,null,null,null,null,null,null,null,null,null,null,null,null,null,null,null,null,null,null,null,null,null,null,null,null,null,null,null,null,null,null,null,null,null,null,null,null,null,null,null,null,null,null,null,null,"",null,null,null,null,null,null,null,"VERIFIQUE FECHAS",null,null,null,null,null,null,null,null,null,"VERIFIQUE COLUMNA D"]
["","",null,"",{"$f":"IFERROR(VLOOKUP(D455,'CODIGO REGIONALES'!$J$2:$L$33,3,0),\"\")","v":""},"",{"$f":"IF(ISNA(VLOOKUP(F455,Divipolas!$A$2:$B$1123,2,FALSE)),\"\",VLOOKUP(F455,Divipolas!$A$2:$B$1123,2,FALSE))","v":""},"",{"$f":"IF(ISNA(VLOOKUP((CONCATENATE(F455,H455)),Divipolas!$F$2:$G$1123,2,FALSE)),\"\",VLOOKUP((CONCATENATE(F455,H455)),Divipolas!$F$2:$G$1123,2,FALSE))","v":""},"","","","","","","","",{"$f":"IF(ISNA(VLOOKUP(Q455,Divipolas!$A$2:$B$1123,2,FALSE)),\"\",VLOOKUP(Q455,Divipolas!$A$2:$B$1123,2,FALSE))","v":""},"",{"$f":"IF(ISNA(VLOOKUP((CONCATENATE(Q455,S455)),Divipolas!$F$2:$G$1123,2,FALSE)),\"\",VLOOKUP((CONCATENATE(Q455,S455)),Divipolas!$F$2:$G$1123,2,FALSE))","v":""},"","","","","","",{"$f":"IF(ISNA(VLOOKUP(Z455,'CODIGO PAIS'!$A$2:$B$231,2,FALSE)),\"\",VLOOKUP(Z455,'CODIGO PAIS'!$A$2:$B$231,2,FALSE))","v":""},"",{"$f":"IF(ISNA(VLOOKUP(AB455,Divipolas!$A$2:$B$1123,2,FALSE)),\"\",VLOOKUP(AB455,Divipolas!$A$2:$B$1123,2,FALSE))","v":""},"",{"$f":"IF(ISNA(VLOOKUP((CONCATENATE(AB455,AD455)),Divipolas!$F$2:$G$1123,2,FALSE)),\"\",VLOOKUP((CONCATENATE(AB455,AD455)),Divipolas!$F$2:$G$1123,2,FALSE))","v":""},"","","","","",{"$f":"IF(ISNA(VLOOKUP(AJ455,Divipolas!$A$2:$B$1123,2,FALSE)),\"\",VLOOKUP(AJ455,Divipolas!$A$2:$B$1123,2,FALSE))","v":""},"",{"$f":"IF(ISNA(VLOOKUP((CONCATENATE(AJ455,AL455)),Divipolas!$F$2:$G$1123,2,FALSE)),\"\",VLOOKUP((CONCATENATE(AJ455,AL455)),Divipolas!$F$2:$G$1123,2,FALSE))","v":""},"","","","","","","","","","","","","","",null,null,null,null,null,null,null,{"$f":"IF(ISNA(VLOOKUP(BH455,'CODIGO PAIS'!$A$2:$B$231,2,FALSE)),\"\",VLOOKUP(BH455,'CODIGO PAIS'!$A$2:$B$231,2,FALSE))","v":""},null,{"$f":"IF(ISNA(VLOOKUP(BJ455,Divipolas!$A$2:$B$1123,2,FALSE)),\"\",VLOOKUP(BJ455,Divipolas!$A$2:$B$1123,2,FALSE))","v":""},null,{"$f":"IF(ISNA(VLOOKUP((CONCATENATE(BJ455,BL455)),Divipolas!$F$2:$G$1123,2,FALSE)),\"\",VLOOKUP((CONCATENATE(BJ455,BL455)),Divipolas!$F$2:$G$1123,2,FALSE))","v":""},null,"","",null,null,null,null,{"$f":"IF(ISNA(VLOOKUP(BT455,Divipolas!$A$2:$B$1123,2,FALSE)),\"\",VLOOKUP(BT455,Divipolas!$A$2:$B$1123,2,FALSE))","v":""},null,{"$f":"IF(ISNA(VLOOKUP((CONCATENATE(BT455,BV455)),Divipolas!$F$2:$G$1123,2,FALSE)),\"\",VLOOKUP((CONCATENATE(BT455,BV455)),Divipolas!$F$2:$G$1123,2,FALSE))","v":""},null,null,null,null,null,null,null,null,null,null,null,null,null,null,null,null,null,null,null,null,null,null,null,"",null,null,null,null,null,null,null,null,null,null,null,null,null,null,null,null,null,null,null,null,null,null,null,null,null,null,null,null,null,null,null,null,null,null,null,null,null,null,null,null,null,null,null,null,null,null,null,null,null,null,null,null,null,null,null,null,null,null,null,null,null,null,null,null,null,null,null,null,null,null,null,null,null,null,null,null,"",null,null,null,null,null,null,null,{"$f":"IF(C455=\"\",\"VERIFIQUE FECHAS\",IF(BN455=\"\",\"VERIFIQUE FECHAS\",IF(AF455=\"\",\"VERIFIQUE FECHAS\",IF(C455>=BN455,\"OK\",\"VERIFIQUE FECHAS\"))))","v":"VERIFIQUE FECHAS"},null,null,null,null,null,null,null,null,null,{"$f":"IF(D455=\"\",\"VERIFIQUE COLUMNA D\",IF(F455=\"\",\"VERIFIQUE COLUMNA F\",IF(H455=\"\",\"VERIFIQUE COLUMNA H\",IF(J455=\"\",\"VERIFIQUE COLUMNA J\",IF(K455=\"\",\"VERIFIQUE COLUMNA K\",IF(N455=\"\",\"VERIFIQUE COLUMNA N\",IF(U455=\"\",\"VERIFIQUE COLUMNA U\",IF(W455=\"\",\"VERIFIQUE COLUMNA W\",IF(Y455=\"\",\"VERIFIQUE COLUMNA Y\",IF(AF455=\"\",\"VERIFIQUE COLUMNA AF\",IF(AG455=\"\",\"VERIFIQUE COLUMNA AG\",IF(BB455=\"\",\"VERIFIQUE COLUMNA BB\",IF(BC455=\"\",\"VERIFIQUE COLUMNA BC\",IF(BE455=\"\",\"VERIFIQUE COLUMNA BE\",IF(BG455=\"\",\"VERIFIQUE COLUMNA BG\",IF(BN455=\"\",\"VERIFIQUE COLUMNA BN\",IF(BQ455=\"\",\"VERIFIQUE COLUMNA BQ\",IF(BZ455=\"\",\"VERIFIQUE COLUMNA BZ\",IF(EJ455=\"\",\"VERIFIQUE COLUMNA EJ\",IF(EK455=\"\",\"VERIFIQUE COLUMNA EK\",IF(FY455=\"\",\"VERIFIQUE COLUMNA FY\",IF(GC455=\"\",\"VERIFIQUE COLUMNA GC\",IF(GE455=\"\",\"VERIFIQUE COLUMNA GE\",\"Campos o.k.\")))))))))))))))))))))))","v":"VERIFIQUE COLUMNA D"}]
["",{"$f":"IF(AND($B$6<>\"\",C458<>\"\"),$B$6,\"\")","v":""},null,"",{"$f":"IFERROR(VLOOKUP(D458,'CODIGO REGIONALES'!$J$2:$L$33,3,0),\"\")","v":""},"",{"$f":"IF(ISNA(VLOOKUP(F458,Divipolas!$A$2:$B$1123,2,FALSE)),\"\",VLOOKUP(F458,Divipolas!$A$2:$B$1123,2,FALSE))","v":""},"",{"$f":"IF(ISNA(VLOOKUP((CONCATENATE(F458,H458)),Divipolas!$F$2:$G$1123,2,FALSE)),\"\",VLOOKUP((CONCATENATE(F458,H458)),Divipolas!$F$2:$G$1123,2,FALSE))","v":""},"","","","","","","","",{"$f":"IF(ISNA(VLOOKUP(Q458,Divipolas!$A$2:$B$1123,2,FALSE)),\"\",VLOOKUP(Q458,Divipolas!$A$2:$B$1123,2,FALSE))","v":""},"",{"$f":"IF(ISNA(VLOOKUP((CONCATENATE(Q458,S458)),Divipolas!$F$2:$G$1123,2,FALSE)),\"\",VLOOKUP((CONCATENATE(Q458,S458)),Divipolas!$F$2:$G$1123,2,FALSE))","v":""},"","","","","","",{"$f":"IF(ISNA(VLOOKUP(Z458,'CODIGO PAIS'!$A$2:$B$231,2,FALSE)),\"\",VLOOKUP(Z458,'CODIGO PAIS'!$A$2:$B$231,2,FALSE))","v":""},"",{"$f":"IF(ISNA(VLOOKUP(AB458,Divipolas!$A$2:$B$1123,2,FALSE)),\"\",VLOOKUP(AB458,Divipolas!$A$2:$B$1123,2,FALSE))","v":""},"",{"$f":"IF(ISNA(VLOOKUP((CONCATENATE(AB458,AD458)),Divipolas!$F$2:$G$1123,2,FALSE)),\"\",VLOOKUP((CONCATENATE(AB458,AD458)),Divipolas!$F$2:$G$1123,2,FALSE))","v":""},"","","","","",{"$f":"IF(ISNA(VLOOKUP(AJ458,Divipolas!$A$2:$B$1123,2,FALSE)),\"\",VLOOKUP(AJ458,Divipolas!$A$2:$B$1123,2,FALSE))","v":""},"",{"$f":"IF(ISNA(VLOOKUP((CONCATENATE(AJ458,AL458)),Divipolas!$F$2:$G$1123,2,FALSE)),\"\",VLOOKUP((CONCATENATE(AJ458,AL458)),Divipolas!$F$2:$G$1123,2,FALSE))","v":""},"","","","","","","","","","","","","","",null,null,null,null,null,null,null,{"$f":"IF(ISNA(VLOOKUP(BH458,'CODIGO PAIS'!$A$2:$B$231,2,FALSE)),\"\",VLOOKUP(BH458,'CODIGO PAIS'!$A$2:$B$231,2,FALSE))","v":""},null,{"$f":"IF(ISNA(VLOOKUP(BJ458,Divipolas!$A$2:$B$1123,2,FALSE)),\"\",VLOOKUP(BJ458,Divipolas!$A$2:$B$1123,2,FALSE))","v":""},null,{"$f":"IF(ISNA(VLOOKUP((CONCATENATE(BJ458,BL458)),Divipolas!$F$2:$G$1123,2,FALSE)),\"\",VLOOKUP((CONCATENATE(BJ458,BL458)),Divipolas!$F$2:$G$1123,2,FALSE))","v":""},null,"","",null,null,null,null,{"$f":"IF(ISNA(VLOOKUP(BT458,Divipolas!$A$2:$B$1123,2,FALSE)),\"\",VLOOKUP(BT458,Divipolas!$A$2:$B$1123,2,FALSE))","v":""},null,{"$f":"IF(ISNA(VLOOKUP((CONCATENATE(BT458,BV458)),Divipolas!$F$2:$G$1123,2,FALSE)),\"\",VLOOKUP((CONCATENATE(BT458,BV458)),Divipolas!$F$2:$G$1123,2,FALSE))","v":""},null,null,null,null,null,null,null,null,null,null,null,null,null,null,null,null,null,null,null,null,null,null,null,"",null,null,null,null,null,null,null,null,null,null,null,null,null,null,null,null,null,null,null,null,null,null,null,null,null,null,null,null,null,null,null,null,null,null,null,null,null,null,null,null,null,null,null,null,null,null,null,null,null,null,null,null,null,null,null,null,null,null,null,null,null,null,null,null,null,null,null,null,null,null,null,null,null,null,null,null,"",null,null,null,null,null,null,null,"VERIFIQUE FECHAS",null,null,null,null,null,null,null,null,null,"VERIFIQUE COLUMNA D"]
["","",null,"",{"$f":"IFERROR(VLOOKUP(D463,'CODIGO REGIONALES'!$J$2:$L$33,3,0),\"\")","v":""},"",{"$f":"IF(ISNA(VLOOKUP(F463,Divipolas!$A$2:$B$1123,2,FALSE)),\"\",VLOOKUP(F463,Divipolas!$A$2:$B$1123,2,FALSE))","v":""},"",{"$f":"IF(ISNA(VLOOKUP((CONCATENATE(F463,H463)),Divipolas!$F$2:$G$1123,2,FALSE)),\"\",VLOOKUP((CONCATENATE(F463,H463)),Divipolas!$F$2:$G$1123,2,FALSE))","v":""},"","","","","","","","",{"$f":"IF(ISNA(VLOOKUP(Q463,Divipolas!$A$2:$B$1123,2,FALSE)),\"\",VLOOKUP(Q463,Divipolas!$A$2:$B$1123,2,FALSE))","v":""},"",{"$f":"IF(ISNA(VLOOKUP((CONCATENATE(Q463,S463)),Divipolas!$F$2:$G$1123,2,FALSE)),\"\",VLOOKUP((CONCATENATE(Q463,S463)),Divipolas!$F$2:$G$1123,2,FALSE))","v":""},"","","","","","",{"$f":"IF(ISNA(VLOOKUP(Z463,'CODIGO PAIS'!$A$2:$B$231,2,FALSE)),\"\",VLOOKUP(Z463,'CODIGO PAIS'!$A$2:$B$231,2,FALSE))","v":""},"",{"$f":"IF(ISNA(VLOOKUP(AB463,Divipolas!$A$2:$B$1123,2,FALSE)),\"\",VLOOKUP(AB463,Divipolas!$A$2:$B$1123,2,FALSE))","v":""},"",{"$f":"IF(ISNA(VLOOKUP((CONCATENATE(AB463,AD463)),Divipolas!$F$2:$G$1123,2,FALSE)),\"\",VLOOKUP((CONCATENATE(AB463,AD463)),Divipolas!$F$2:$G$1123,2,FALSE))","v":""},"","","","","",{"$f":"IF(ISNA(VLOOKUP(AJ463,Divipolas!$A$2:$B$1123,2,FALSE)),\"\",VLOOKUP(AJ463,Divipolas!$A$2:$B$1123,2,FALSE))","v":""},"",{"$f":"IF(ISNA(VLOOKUP((CONCATENATE(AJ463,AL463)),Divipolas!$F$2:$G$1123,2,FALSE)),\"\",VLOOKUP((CONCATENATE(AJ463,AL463)),Divipolas!$F$2:$G$1123,2,FALSE))","v":""},"","","","","","","","","","","","","","",null,null,null,null,null,null,null,{"$f":"IF(ISNA(VLOOKUP(BH463,'CODIGO PAIS'!$A$2:$B$231,2,FALSE)),\"\",VLOOKUP(BH463,'CODIGO PAIS'!$A$2:$B$231,2,FALSE))","v":""},null,{"$f":"IF(ISNA(VLOOKUP(BJ463,Divipolas!$A$2:$B$1123,2,FALSE)),\"\",VLOOKUP(BJ463,Divipolas!$A$2:$B$1123,2,FALSE))","v":""},null,{"$f":"IF(ISNA(VLOOKUP((CONCATENATE(BJ463,BL463)),Divipolas!$F$2:$G$1123,2,FALSE)),\"\",VLOOKUP((CONCATENATE(BJ463,BL463)),Divipolas!$F$2:$G$1123,2,FALSE))","v":""},null,"","",null,null,null,null,{"$f":"IF(ISNA(VLOOKUP(BT463,Divipolas!$A$2:$B$1123,2,FALSE)),\"\",VLOOKUP(BT463,Divipolas!$A$2:$B$1123,2,FALSE))","v":""},null,{"$f":"IF(ISNA(VLOOKUP((CONCATENATE(BT463,BV463)),Divipolas!$F$2:$G$1123,2,FALSE)),\"\",VLOOKUP((CONCATENATE(BT463,BV463)),Divipolas!$F$2:$G$1123,2,FALSE))","v":""},null,null,null,null,null,null,null,null,null,null,null,null,null,null,null,null,null,null,null,null,null,null,null,"",null,null,null,null,null,null,null,null,null,null,null,null,null,null,null,null,null,null,null,null,null,null,null,null,null,null,null,null,null,null,null,null,null,null,null,null,null,null,null,null,null,null,null,null,null,null,null,null,null,null,null,null,null,null,null,null,null,null,null,null,null,null,null,null,null,null,null,null,null,null,null,null,null,null,null,null,"",null,null,null,null,null,null,null,"VERIFIQUE FECHAS",null,null,null,null,null,null,null,null,null,"VERIFIQUE COLUMNA D"]
["","",null,"",{"$f":"IFERROR(VLOOKUP(D469,'CODIGO REGIONALES'!$J$2:$L$33,3,0),\"\")","v":""},"",{"$f":"IF(ISNA(VLOOKUP(F469,Divipolas!$A$2:$B$1123,2,FALSE)),\"\",VLOOKUP(F469,Divipolas!$A$2:$B$1123,2,FALSE))","v":""},"",{"$f":"IF(ISNA(VLOOKUP((CONCATENATE(F469,H469)),Divipolas!$F$2:$G$1123,2,FALSE)),\"\",VLOOKUP((CONCATENATE(F469,H469)),Divipolas!$F$2:$G$1123,2,FALSE))","v":""},"","","","","","","","",{"$f":"IF(ISNA(VLOOKUP(Q469,Divipolas!$A$2:$B$1123,2,FALSE)),\"\",VLOOKUP(Q469,Divipolas!$A$2:$B$1123,2,FALSE))","v":""},"",{"$f":"IF(ISNA(VLOOKUP((CONCATENATE(Q469,S469)),Divipolas!$F$2:$G$1123,2,FALSE)),\"\",VLOOKUP((CONCATENATE(Q469,S469)),Divipolas!$F$2:$G$1123,2,FALSE))","v":""},"","","","","","",{"$f":"IF(ISNA(VLOOKUP(Z469,'CODIGO PAIS'!$A$2:$B$231,2,FALSE)),\"\",VLOOKUP(Z469,'CODIGO PAIS'!$A$2:$B$231,2,FALSE))","v":""},"",{"$f":"IF(ISNA(VLOOKUP(AB469,Divipolas!$A$2:$B$1123,2,FALSE)),\"\",VLOOKUP(AB469,Divipolas!$A$2:$B$1123,2,FALSE))","v":""},"",{"$f":"IF(ISNA(VLOOKUP((CONCATENATE(AB469,AD469)),Divipolas!$F$2:$G$1123,2,FALSE)),\"\",VLOOKUP((CONCATENATE(AB469,AD469)),Divipolas!$F$2:$G$1123,2,FALSE))","v":""},"","","","","",{"$f":"IF(ISNA(VLOOKUP(AJ469,Divipolas!$A$2:$B$1123,2,FALSE)),\"\",VLOOKUP(AJ469,Divipolas!$A$2:$B$1123,2,FALSE))","v":""},"",{"$f":"IF(ISNA(VLOOKUP((CONCATENATE(AJ469,AL469)),Divipolas!$F$2:$G$1123,2,FALSE)),\"\",VLOOKUP((CONCATENATE(AJ469,AL469)),Divipolas!$F$2:$G$1123,2,FALSE))","v":""},"","","","","","","","","","","","","","",null,null,null,null,null,null,null,{"$f":"IF(ISNA(VLOOKUP(BH469,'CODIGO PAIS'!$A$2:$B$231,2,FALSE)),\"\",VLOOKUP(BH469,'CODIGO PAIS'!$A$2:$B$231,2,FALSE))","v":""},null,{"$f":"IF(ISNA(VLOOKUP(BJ469,Divipolas!$A$2:$B$1123,2,FALSE)),\"\",VLOOKUP(BJ469,Divipolas!$A$2:$B$1123,2,FALSE))","v":""},null,{"$f":"IF(ISNA(VLOOKUP((CONCATENATE(BJ469,BL469)),Divipolas!$F$2:$G$1123,2,FALSE)),\"\",VLOOKUP((CONCATENATE(BJ469,BL469)),Divipolas!$F$2:$G$1123,2,FALSE))","v":""},null,"","",null,null,null,null,{"$f":"IF(ISNA(VLOOKUP(BT469,Divipolas!$A$2:$B$1123,2,FALSE)),\"\",VLOOKUP(BT469,Divipolas!$A$2:$B$1123,2,FALSE))","v":""},null,{"$f":"IF(ISNA(VLOOKUP((CONCATENATE(BT469,BV469)),Divipolas!$F$2:$G$1123,2,FALSE)),\"\",VLOOKUP((CONCATENATE(BT469,BV469)),Divipolas!$F$2:$G$1123,2,FALSE))","v":""},null,null,null,null,null,null,null,null,null,null,null,null,null,null,null,null,null,null,null,null,null,null,null,"",null,null,null,null,null,null,null,null,null,null,null,null,null,null,null,null,null,null,null,null,null,null,null,null,null,null,null,null,null,null,null,null,null,null,null,null,null,null,null,null,null,null,null,null,null,null,null,null,null,null,null,null,null,null,null,null,null,null,null,null,null,null,null,null,null,null,null,null,null,null,null,null,null,null,null,null,"",null,null,null,null,null,null,null,"VERIFIQUE FECHAS",null,null,null,null,null,null,null,null,null,"VERIFIQUE COLUMNA D"]
["","",null,"",{"$f":"IFERROR(VLOOKUP(D474,'CODIGO REGIONALES'!$J$2:$L$33,3,0),\"\")","v":""},"",{"$f":"IF(ISNA(VLOOKUP(F474,Divipolas!$A$2:$B$1123,2,FALSE)),\"\",VLOOKUP(F474,Divipolas!$A$2:$B$1123,2,FALSE))","v":""},"",{"$f":"IF(ISNA(VLOOKUP((CONCATENATE(F474,H474)),Divipolas!$F$2:$G$1123,2,FALSE)),\"\",VLOOKUP((CONCATENATE(F474,H474)),Divipolas!$F$2:$G$1123,2,FALSE))","v":""},"","","","","","","","",{"$f":"IF(ISNA(VLOOKUP(Q474,Divipolas!$A$2:$B$1123,2,FALSE)),\"\",VLOOKUP(Q474,Divipolas!$A$2:$B$1123,2,FALSE))","v":""},"",{"$f":"IF(ISNA(VLOOKUP((CONCATENATE(Q474,S474)),Divipolas!$F$2:$G$1123,2,FALSE)),\"\",VLOOKUP((CONCATENATE(Q474,S474)),Divipolas!$F$2:$G$1123,2,FALSE))","v":""},"","","","","","",{"$f":"IF(ISNA(VLOOKUP(Z474,'CODIGO PAIS'!$A$2:$B$231,2,FALSE)),\"\",VLOOKUP(Z474,'CODIGO PAIS'!$A$2:$B$231,2,FALSE))","v":""},"",{"$f":"IF(ISNA(VLOOKUP(AB474,Divipolas!$A$2:$B$1123,2,FALSE)),\"\",VLOOKUP(AB474,Divipolas!$A$2:$B$1123,2,FALSE))","v":""},"",{"$f":"IF(ISNA(VLOOKUP((CONCATENATE(AB474,AD474)),Divipolas!$F$2:$G$1123,2,FALSE)),\"\",VLOOKUP((CONCATENATE(AB474,AD474)),Divipolas!$F$2:$G$1123,2,FALSE))","v":""},"","","","","",{"$f":"IF(ISNA(VLOOKUP(AJ474,Divipolas!$A$2:$B$1123,2,FALSE)),\"\",VLOOKUP(AJ474,Divipolas!$A$2:$B$1123,2,FALSE))","v":""},"",{"$f":"IF(ISNA(VLOOKUP((CONCATENATE(AJ474,AL474)),Divipolas!$F$2:$G$1123,2,FALSE)),\"\",VLOOKUP((CONCATENATE(AJ474,AL474)),Divipolas!$F$2:$G$1123,2,FALSE))","v":""},"","","","","","","","","","","","","","",null,null,null,null,null,null,null,{"$f":"IF(ISNA(VLOOKUP(BH474,'CODIGO PAIS'!$A$2:$B$231,2,FALSE)),\"\",VLOOKUP(BH474,'CODIGO PAIS'!$A$2:$B$231,2,FALSE))","v":""},null,{"$f":"IF(ISNA(VLOOKUP(BJ474,Divipolas!$A$2:$B$1123,2,FALSE)),\"\",VLOOKUP(BJ474,Divipolas!$A$2:$B$1123,2,FALSE))","v":""},null,{"$f":"IF(ISNA(VLOOKUP((CONCATENATE(BJ474,BL474)),Divipolas!$F$2:$G$1123,2,FALSE)),\"\",VLOOKUP((CONCATENATE(BJ474,BL474)),Divipolas!$F$2:$G$1123,2,FALSE))","v":""},null,"","",null,null,null,null,{"$f":"IF(ISNA(VLOOKUP(BT474,Divipolas!$A$2:$B$1123,2,FALSE)),\"\",VLOOKUP(BT474,Divipolas!$A$2:$B$1123,2,FALSE))","v":""},null,{"$f":"IF(ISNA(VLOOKUP((CONCATENATE(BT474,BV474)),Divipolas!$F$2:$G$1123,2,FALSE)),\"\",VLOOKUP((CONCATENATE(BT474,BV474)),Divipolas!$F$2:$G$1123,2,FALSE))","v":""},null,null,null,null,null,null,null,null,null,null,null,null,null,null,null,null,null,null,null,null,null,null,null,"",null,null,null,null,null,null,null,null,null,null,null,null,null,null,null,null,null,null,null,null,null,null,null,null,null,null,null,null,null,null,null,null,null,null,null,null,null,null,null,null,null,null,null,null,null,null,null,null,null,null,null,null,null,null,null,null,null,null,null,null,null,null,null,null,null,null,null,null,null,null,null,null,null,null,null,null,"",null,null,null,null,null,null,null,"VERIFIQUE FECHAS",null,null,null,null,null,null,null,null,null,"VERIFIQUE COLUMNA D"]
["","",null,"",{"$f":"IFERROR(VLOOKUP(D476,'CODIGO REGIONALES'!$J$2:$L$33,3,0),\"\")","v":""},"",{"$f":"IF(ISNA(VLOOKUP(F476,Divipolas!$A$2:$B$1123,2,FALSE)),\"\",VLOOKUP(F476,Divipolas!$A$2:$B$1123,2,FALSE))","v":""},"",{"$f":"IF(ISNA(VLOOKUP((CONCATENATE(F476,H476)),Divipolas!$F$2:$G$1123,2,FALSE)),\"\",VLOOKUP((CONCATENATE(F476,H476)),Divipolas!$F$2:$G$1123,2,FALSE))","v":""},"","","","","","","","",{"$f":"IF(ISNA(VLOOKUP(Q476,Divipolas!$A$2:$B$1123,2,FALSE)),\"\",VLOOKUP(Q476,Divipolas!$A$2:$B$1123,2,FALSE))","v":""},"",{"$f":"IF(ISNA(VLOOKUP((CONCATENATE(Q476,S476)),Divipolas!$F$2:$G$1123,2,FALSE)),\"\",VLOOKUP((CONCATENATE(Q476,S476)),Divipolas!$F$2:$G$1123,2,FALSE))","v":""},"","","","","","",{"$f":"IF(ISNA(VLOOKUP(Z476,'CODIGO PAIS'!$A$2:$B$231,2,FALSE)),\"\",VLOOKUP(Z476,'CODIGO PAIS'!$A$2:$B$231,2,FALSE))","v":""},"",{"$f":"IF(ISNA(VLOOKUP(AB476,Divipolas!$A$2:$B$1123,2,FALSE)),\"\",VLOOKUP(AB476,Divipolas!$A$2:$B$1123,2,FALSE))","v":""},"",{"$f":"IF(ISNA(VLOOKUP((CONCATENATE(AB476,AD476)),Divipolas!$F$2:$G$1123,2,FALSE)),\"\",VLOOKUP((CONCATENATE(AB476,AD476)),Divipolas!$F$2:$G$1123,2,FALSE))","v":""},"","","","","",{"$f":"IF(ISNA(VLOOKUP(AJ476,Divipolas!$A$2:$B$1123,2,FALSE)),\"\",VLOOKUP(AJ476,Divipolas!$A$2:$B$1123,2,FALSE))","v":""},"",{"$f":"IF(ISNA(VLOOKUP((CONCATENATE(AJ476,AL476)),Divipolas!$F$2:$G$1123,2,FALSE)),\"\",VLOOKUP((CONCATENATE(AJ476,AL476)),Divipolas!$F$2:$G$1123,2,FALSE))","v":""},"","","","","","","","","","","","","","",null,null,null,null,null,null,null,{"$f":"IF(ISNA(VLOOKUP(BH476,'CODIGO PAIS'!$A$2:$B$231,2,FALSE)),\"\",VLOOKUP(BH476,'CODIGO PAIS'!$A$2:$B$231,2,FALSE))","v":""},null,{"$f":"IF(ISNA(VLOOKUP(BJ476,Divipolas!$A$2:$B$1123,2,FALSE)),\"\",VLOOKUP(BJ476,Divipolas!$A$2:$B$1123,2,FALSE))","v":""},null,{"$f":"IF(ISNA(VLOOKUP((CONCATENATE(BJ476,BL476)),Divipolas!$F$2:$G$1123,2,FALSE)),\"\",VLOOKUP((CONCATENATE(BJ476,BL476)),Divipolas!$F$2:$G$1123,2,FALSE))","v":""},null,"","",null,null,null,null,{"$f":"IF(ISNA(VLOOKUP(BT476,Divipolas!$A$2:$B$1123,2,FALSE)),\"\",VLOOKUP(BT476,Divipolas!$A$2:$B$1123,2,FALSE))","v":""},null,{"$f":"IF(ISNA(VLOOKUP((CONCATENATE(BT476,BV476)),Divipolas!$F$2:$G$1123,2,FALSE)),\"\",VLOOKUP((CONCATENATE(BT476,BV476)),Divipolas!$F$2:$G$1123,2,FALSE))","v":""},null,null,null,null,null,null,null,null,null,null,null,null,null,null,null,null,null,null,null,null,null,null,null,"",null,null,null,null,null,null,null,null,null,null,null,null,null,null,null,null,null,null,null,null,null,null,null,null,null,null,null,null,null,null,null,null,null,null,null,null,null,null,null,null,null,null,null,null,null,null,null,null,null,null,null,null,null,null,null,null,null,null,null,null,null,null,null,null,null,null,null,null,null,null,null,null,null,null,null,null,"",null,null,null,null,null,null,null,"VERIFIQUE FECHAS",null,null,null,null,null,null,null,null,null,"VERIFIQUE COLUMNA D"]
["","",null,"",{"$f":"IFERROR(VLOOKUP(D484,'CODIGO REGIONALES'!$J$2:$L$33,3,0),\"\")","v":""},"",{"$f":"IF(ISNA(VLOOKUP(F484,Divipolas!$A$2:$B$1123,2,FALSE)),\"\",VLOOKUP(F484,Divipolas!$A$2:$B$1123,2,FALSE))","v":""},"",{"$f":"IF(ISNA(VLOOKUP((CONCATENATE(F484,H484)),Divipolas!$F$2:$G$1123,2,FALSE)),\"\",VLOOKUP((CONCATENATE(F484,H484)),Divipolas!$F$2:$G$1123,2,FALSE))","v":""},"","","","","","","","",{"$f":"IF(ISNA(VLOOKUP(Q484,Divipolas!$A$2:$B$1123,2,FALSE)),\"\",VLOOKUP(Q484,Divipolas!$A$2:$B$1123,2,FALSE))","v":""},"",{"$f":"IF(ISNA(VLOOKUP((CONCATENATE(Q484,S484)),Divipolas!$F$2:$G$1123,2,FALSE)),\"\",VLOOKUP((CONCATENATE(Q484,S484)),Divipolas!$F$2:$G$1123,2,FALSE))","v":""},"","","","","","",{"$f":"IF(ISNA(VLOOKUP(Z484,'CODIGO PAIS'!$A$2:$B$231,2,FALSE)),\"\",VLOOKUP(Z484,'CODIGO PAIS'!$A$2:$B$231,2,FALSE))","v":""},"",{"$f":"IF(ISNA(VLOOKUP(AB484,Divipolas!$A$2:$B$1123,2,FALSE)),\"\",VLOOKUP(AB484,Divipolas!$A$2:$B$1123,2,FALSE))","v":""},"",{"$f":"IF(ISNA(VLOOKUP((CONCATENATE(AB484,AD484)),Divipolas!$F$2:$G$1123,2,FALSE)),\"\",VLOOKUP((CONCATENATE(AB484,AD484)),Divipolas!$F$2:$G$1123,2,FALSE))","v":""},"","","","","",{"$f":"IF(ISNA(VLOOKUP(AJ484,Divipolas!$A$2:$B$1123,2,FALSE)),\"\",VLOOKUP(AJ484,Divipolas!$A$2:$B$1123,2,FALSE))","v":""},"",{"$f":"IF(ISNA(VLOOKUP((CONCATENATE(AJ484,AL484)),Divipolas!$F$2:$G$1123,2,FALSE)),\"\",VLOOKUP((CONCATENATE(AJ484,AL484)),Divipolas!$F$2:$G$1123,2,FALSE))","v":""},"","","","","","","","","","","","","","",null,null,null,null,null,null,null,{"$f":"IF(ISNA(VLOOKUP(BH484,'CODIGO PAIS'!$A$2:$B$231,2,FALSE)),\"\",VLOOKUP(BH484,'CODIGO PAIS'!$A$2:$B$231,2,FALSE))","v":""},null,{"$f":"IF(ISNA(VLOOKUP(BJ484,Divipolas!$A$2:$B$1123,2,FALSE)),\"\",VLOOKUP(BJ484,Divipolas!$A$2:$B$1123,2,FALSE))","v":""},null,{"$f":"IF(ISNA(VLOOKUP((CONCATENATE(BJ484,BL484)),Divipolas!$F$2:$G$1123,2,FALSE)),\"\",VLOOKUP((CONCATENATE(BJ484,BL484)),Divipolas!$F$2:$G$1123,2,FALSE))","v":""},null,"","",null,null,null,null,{"$f":"IF(ISNA(VLOOKUP(BT484,Divipolas!$A$2:$B$1123,2,FALSE)),\"\",VLOOKUP(BT484,Divipolas!$A$2:$B$1123,2,FALSE))","v":""},null,{"$f":"IF(ISNA(VLOOKUP((CONCATENATE(BT484,BV484)),Divipolas!$F$2:$G$1123,2,FALSE)),\"\",VLOOKUP((CONCATENATE(BT484,BV484)),Divipolas!$F$2:$G$1123,2,FALSE))","v":""},null,null,null,null,null,null,null,null,null,null,null,null,null,null,null,null,null,null,null,null,null,null,null,"",null,null,null,null,null,null,null,null,null,null,null,null,null,null,null,null,null,null,null,null,null,null,null,null,null,null,null,null,null,null,null,null,null,null,null,null,null,null,null,null,null,null,null,null,null,null,null,null,null,null,null,null,null,null,null,null,null,null,null,null,null,null,null,null,null,null,null,null,null,null,null,null,null,null,null,null,"",null,null,null,null,null,null,null,"VERIFIQUE FECHAS",null,null,null,null,null,null,null,null,null,"VERIFIQUE COLUMNA D"]
["","",null,"",{"$f":"IFERROR(VLOOKUP(D489,'CODIGO REGIONALES'!$J$2:$L$33,3,0),\"\")","v":""},"",{"$f":"IF(ISNA(VLOOKUP(F489,Divipolas!$A$2:$B$1123,2,FALSE)),\"\",VLOOKUP(F489,Divipolas!$A$2:$B$1123,2,FALSE))","v":""},"",{"$f":"IF(ISNA(VLOOKUP((CONCATENATE(F489,H489)),Divipolas!$F$2:$G$1123,2,FALSE)),\"\",VLOOKUP((CONCATENATE(F489,H489)),Divipolas!$F$2:$G$1123,2,FALSE))","v":""},"","","","","","","","",{"$f":"IF(ISNA(VLOOKUP(Q489,Divipolas!$A$2:$B$1123,2,FALSE)),\"\",VLOOKUP(Q489,Divipolas!$A$2:$B$1123,2,FALSE))","v":""},"",{"$f":"IF(ISNA(VLOOKUP((CONCATENATE(Q489,S489)),Divipolas!$F$2:$G$1123,2,FALSE)),\"\",VLOOKUP((CONCATENATE(Q489,S489)),Divipolas!$F$2:$G$1123,2,FALSE))","v":""},"","","","","","",{"$f":"IF(ISNA(VLOOKUP(Z489,'CODIGO PAIS'!$A$2:$B$231,2,FALSE)),\"\",VLOOKUP(Z489,'CODIGO PAIS'!$A$2:$B$231,2,FALSE))","v":""},"",{"$f":"IF(ISNA(VLOOKUP(AB489,Divipolas!$A$2:$B$1123,2,FALSE)),\"\",VLOOKUP(AB489,Divipolas!$A$2:$B$1123,2,FALSE))","v":""},"",{"$f":"IF(ISNA(VLOOKUP((CONCATENATE(AB489,AD489)),Divipolas!$F$2:$G$1123,2,FALSE)),\"\",VLOOKUP((CONCATENATE(AB489,AD489)),Divipolas!$F$2:$G$1123,2,FALSE))","v":""},"","","","","",{"$f":"IF(ISNA(VLOOKUP(AJ489,Divipolas!$A$2:$B$1123,2,FALSE)),\"\",VLOOKUP(AJ489,Divipolas!$A$2:$B$1123,2,FALSE))","v":""},"",{"$f":"IF(ISNA(VLOOKUP((CONCATENATE(AJ489,AL489)),Divipolas!$F$2:$G$1123,2,FALSE)),\"\",VLOOKUP((CONCATENATE(AJ489,AL489)),Divipolas!$F$2:$G$1123,2,FALSE))","v":""},"","","","","","","","","","","","","","",null,null,null,null,null,null,null,{"$f":"IF(ISNA(VLOOKUP(BH489,'CODIGO PAIS'!$A$2:$B$231,2,FALSE)),\"\",VLOOKUP(BH489,'CODIGO PAIS'!$A$2:$B$231,2,FALSE))","v":""},null,{"$f":"IF(ISNA(VLOOKUP(BJ489,Divipolas!$A$2:$B$1123,2,FALSE)),\"\",VLOOKUP(BJ489,Divipolas!$A$2:$B$1123,2,FALSE))","v":""},null,{"$f":"IF(ISNA(VLOOKUP((CONCATENATE(BJ489,BL489)),Divipolas!$F$2:$G$1123,2,FALSE)),\"\",VLOOKUP((CONCATENATE(BJ489,BL489)),Divipolas!$F$2:$G$1123,2,FALSE))","v":""},null,"","",null,null,null,null,{"$f":"IF(ISNA(VLOOKUP(BT489,Divipolas!$A$2:$B$1123,2,FALSE)),\"\",VLOOKUP(BT489,Divipolas!$A$2:$B$1123,2,FALSE))","v":""},null,{"$f":"IF(ISNA(VLOOKUP((CONCATENATE(BT489,BV489)),Divipolas!$F$2:$G$1123,2,FALSE)),\"\",VLOOKUP((CONCATENATE(BT489,BV489)),Divipolas!$F$2:$G$1123,2,FALSE))","v":""},null,null,null,null,null,null,null,null,null,null,null,null,null,null,null,null,null,null,null,null,null,null,null,"",null,null,null,null,null,null,null,null,null,null,null,null,null,null,null,null,null,null,null,null,null,null,null,null,null,null,null,null,null,null,null,null,null,null,null,null,null,null,null,null,null,null,null,null,null,null,null,null,null,null,null,null,null,null,null,null,null,null,null,null,null,null,null,null,null,null,null,null,null,null,null,null,null,null,null,null,"",null,null,null,null,null,null,null,"VERIFIQUE FECHAS",null,null,null,null,null,null,null,null,null,"VERIFIQUE COLUMNA D"]
["","",null,"",{"$f":"IFERROR(VLOOKUP(D490,'CODIGO REGIONALES'!$J$2:$L$33,3,0),\"\")","v":""},"",{"$f":"IF(ISNA(VLOOKUP(F490,Divipolas!$A$2:$B$1123,2,FALSE)),\"\",VLOOKUP(F490,Divipolas!$A$2:$B$1123,2,FALSE))","v":""},"",{"$f":"IF(ISNA(VLOOKUP((CONCATENATE(F490,H490)),Divipolas!$F$2:$G$1123,2,FALSE)),\"\",VLOOKUP((CONCATENATE(F490,H490)),Divipolas!$F$2:$G$1123,2,FALSE))","v":""},"","","","","","","","",{"$f":"IF(ISNA(VLOOKUP(Q490,Divipolas!$A$2:$B$1123,2,FALSE)),\"\",VLOOKUP(Q490,Divipolas!$A$2:$B$1123,2,FALSE))","v":""},"",{"$f":"IF(ISNA(VLOOKUP((CONCATENATE(Q490,S490)),Divipolas!$F$2:$G$1123,2,FALSE)),\"\",VLOOKUP((CONCATENATE(Q490,S490)),Divipolas!$F$2:$G$1123,2,FALSE))","v":""},"","","","","","",{"$f":"IF(ISNA(VLOOKUP(Z490,'CODIGO PAIS'!$A$2:$B$231,2,FALSE)),\"\",VLOOKUP(Z490,'CODIGO PAIS'!$A$2:$B$231,2,FALSE))","v":""},"",{"$f":"IF(ISNA(VLOOKUP(AB490,Divipolas!$A$2:$B$1123,2,FALSE)),\"\",VLOOKUP(AB490,Divipolas!$A$2:$B$1123,2,FALSE))","v":""},"",{"$f":"IF(ISNA(VLOOKUP((CONCATENATE(AB490,AD490)),Divipolas!$F$2:$G$1123,2,FALSE)),\"\",VLOOKUP((CONCATENATE(AB490,AD490)),Divipolas!$F$2:$G$1123,2,FALSE))","v":""},"","","","","",{"$f":"IF(ISNA(VLOOKUP(AJ490,Divipolas!$A$2:$B$1123,2,FALSE)),\"\",VLOOKUP(AJ490,Divipolas!$A$2:$B$1123,2,FALSE))","v":""},"",{"$f":"IF(ISNA(VLOOKUP((CONCATENATE(AJ490,AL490)),Divipolas!$F$2:$G$1123,2,FALSE)),\"\",VLOOKUP((CONCATENATE(AJ490,AL490)),Divipolas!$F$2:$G$1123,2,FALSE))","v":""},"","","","","","","","","","","","","","",null,null,null,null,null,null,null,{"$f":"IF(ISNA(VLOOKUP(BH490,'CODIGO PAIS'!$A$2:$B$231,2,FALSE)),\"\",VLOOKUP(BH490,'CODIGO PAIS'!$A$2:$B$231,2,FALSE))","v":""},null,{"$f":"IF(ISNA(VLOOKUP(BJ490,Divipolas!$A$2:$B$1123,2,FALSE)),\"\",VLOOKUP(BJ490,Divipolas!$A$2:$B$1123,2,FALSE))","v":""},null,{"$f":"IF(ISNA(VLOOKUP((CONCATENATE(BJ490,BL490)),Divipolas!$F$2:$G$1123,2,FALSE)),\"\",VLOOKUP((CONCATENATE(BJ490,BL490)),Divipolas!$F$2:$G$1123,2,FALSE))","v":""},null,"","",null,null,null,null,{"$f":"IF(ISNA(VLOOKUP(BT490,Divipolas!$A$2:$B$1123,2,FALSE)),\"\",VLOOKUP(BT490,Divipolas!$A$2:$B$1123,2,FALSE))","v":""},null,{"$f":"IF(ISNA(VLOOKUP((CONCATENATE(BT490,BV490)),Divipolas!$F$2:$G$1123,2,FALSE)),\"\",VLOOKUP((CONCATENATE(BT490,BV490)),Divipolas!$F$2:$G$1123,2,FALSE))","v":""},null,null,null,null,null,null,null,null,null,null,null,null,null,null,null,null,null,null,null,null,null,null,null,"",null,null,null,null,null,null,null,null,null,null,null,null,null,null,null,null,null,null,null,null,null,null,null,null,null,null,null,null,null,null,null,null,null,null,null,null,null,null,null,null,null,null,null,null,null,null,null,null,null,null,null,null,null,null,null,null,null,null,null,null,null,null,null,null,null,null,null,null,null,null,null,null,null,null,null,null,"",null,null,null,null,null,null,null,"VERIFIQUE FECHAS",null,null,null,null,null,null,null,null,null,"VERIFIQUE COLUMNA D"]
["","",null,"",{"$f":"IFERROR(VLOOKUP(D495,'CODIGO REGIONALES'!$J$2:$L$33,3,0),\"\")","v":""},"",{"$f":"IF(ISNA(VLOOKUP(F495,Divipolas!$A$2:$B$1123,2,FALSE)),\"\",VLOOKUP(F495,Divipolas!$A$2:$B$1123,2,FALSE))","v":""},"",{"$f":"IF(ISNA(VLOOKUP((CONCATENATE(F495,H495)),Divipolas!$F$2:$G$1123,2,FALSE)),\"\",VLOOKUP((CONCATENATE(F495,H495)),Divipolas!$F$2:$G$1123,2,FALSE))","v":""},"","","","","","","","",{"$f":"IF(ISNA(VLOOKUP(Q495,Divipolas!$A$2:$B$1123,2,FALSE)),\"\",VLOOKUP(Q495,Divipolas!$A$2:$B$1123,2,FALSE))","v":""},"",{"$f":"IF(ISNA(VLOOKUP((CONCATENATE(Q495,S495)),Divipolas!$F$2:$G$1123,2,FALSE)),\"\",VLOOKUP((CONCATENATE(Q495,S495)),Divipolas!$F$2:$G$1123,2,FALSE))","v":""},"","","","","","",{"$f":"IF(ISNA(VLOOKUP(Z495,'CODIGO PAIS'!$A$2:$B$231,2,FALSE)),\"\",VLOOKUP(Z495,'CODIGO PAIS'!$A$2:$B$231,2,FALSE))","v":""},"",{"$f":"IF(ISNA(VLOOKUP(AB495,Divipolas!$A$2:$B$1123,2,FALSE)),\"\",VLOOKUP(AB495,Divipolas!$A$2:$B$1123,2,FALSE))","v":""},"",{"$f":"IF(ISNA(VLOOKUP((CONCATENATE(AB495,AD495)),Divipolas!$F$2:$G$1123,2,FALSE)),\"\",VLOOKUP((CONCATENATE(AB495,AD495)),Divipolas!$F$2:$G$1123,2,FALSE))","v":""},"","","","","",{"$f":"IF(ISNA(VLOOKUP(AJ495,Divipolas!$A$2:$B$1123,2,FALSE)),\"\",VLOOKUP(AJ495,Divipolas!$A$2:$B$1123,2,FALSE))","v":""},"",{"$f":"IF(ISNA(VLOOKUP((CONCATENATE(AJ495,AL495)),Divipolas!$F$2:$G$1123,2,FALSE)),\"\",VLOOKUP((CONCATENATE(AJ495,AL495)),Divipolas!$F$2:$G$1123,2,FALSE))","v":""},"","","","","","","","","","","","","","",null,null,null,null,null,null,null,{"$f":"IF(ISNA(VLOOKUP(BH495,'CODIGO PAIS'!$A$2:$B$231,2,FALSE)),\"\",VLOOKUP(BH495,'CODIGO PAIS'!$A$2:$B$231,2,FALSE))","v":""},null,{"$f":"IF(ISNA(VLOOKUP(BJ495,Divipolas!$A$2:$B$1123,2,FALSE)),\"\",VLOOKUP(BJ495,Divipolas!$A$2:$B$1123,2,FALSE))","v":""},null,{"$f":"IF(ISNA(VLOOKUP((CONCATENATE(BJ495,BL495)),Divipolas!$F$2:$G$1123,2,FALSE)),\"\",VLOOKUP((CONCATENATE(BJ495,BL495)),Divipolas!$F$2:$G$1123,2,FALSE))","v":""},null,"","",null,null,null,null,{"$f":"IF(ISNA(VLOOKUP(BT495,Divipolas!$A$2:$B$1123,2,FALSE)),\"\",VLOOKUP(BT495,Divipolas!$A$2:$B$1123,2,FALSE))","v":""},null,{"$f":"IF(ISNA(VLOOKUP((CONCATENATE(BT495,BV495)),Divipolas!$F$2:$G$1123,2,FALSE)),\"\",VLOOKUP((CONCATENATE(BT495,BV495)),Divipolas!$F$2:$G$1123,2,FALSE))","v":""},null,null,null,null,null,null,null,null,null,null,null,null,null,null,null,null,null,null,null,null,null,null,null,"",null,null,null,null,null,null,null,null,null,null,null,null,null,null,null,null,null,null,null,null,null,null,null,null,null,null,null,null,null,null,null,null,null,null,null,null,null,null,null,null,null,null,null,null,null,null,null,null,null,null,null,null,null,null,null,null,null,null,null,null,null,null,null,null,null,null,null,null,null,null,null,null,null,null,null,null,"",null,null,null,null,null,null,null,"VERIFIQUE FECHAS",null,null,null,null,null,null,null,null,null,"VERIFIQUE COLUMNA D"]
["","",null,"",{"$f":"IFERROR(VLOOKUP(D499,'CODIGO REGIONALES'!$J$2:$L$33,3,0),\"\")","v":""},"",{"$f":"IF(ISNA(VLOOKUP(F499,Divipolas!$A$2:$B$1123,2,FALSE)),\"\",VLOOKUP(F499,Divipolas!$A$2:$B$1123,2,FALSE))","v":""},"",{"$f":"IF(ISNA(VLOOKUP((CONCATENATE(F499,H499)),Divipolas!$F$2:$G$1123,2,FALSE)),\"\",VLOOKUP((CONCATENATE(F499,H499)),Divipolas!$F$2:$G$1123,2,FALSE))","v":""},"","","","","","","","",{"$f":"IF(ISNA(VLOOKUP(Q499,Divipolas!$A$2:$B$1123,2,FALSE)),\"\",VLOOKUP(Q499,Divipolas!$A$2:$B$1123,2,FALSE))","v":""},"",{"$f":"IF(ISNA(VLOOKUP((CONCATENATE(Q499,S499)),Divipolas!$F$2:$G$1123,2,FALSE)),\"\",VLOOKUP((CONCATENATE(Q499,S499)),Divipolas!$F$2:$G$1123,2,FALSE))","v":""},"","","","","","",{"$f":"IF(ISNA(VLOOKUP(Z499,'CODIGO PAIS'!$A$2:$B$231,2,FALSE)),\"\",VLOOKUP(Z499,'CODIGO PAIS'!$A$2:$B$231,2,FALSE))","v":""},"",{"$f":"IF(ISNA(VLOOKUP(AB499,Divipolas!$A$2:$B$1123,2,FALSE)),\"\",VLOOKUP(AB499,Divipolas!$A$2:$B$1123,2,FALSE))","v":""},"",{"$f":"IF(ISNA(VLOOKUP((CONCATENATE(AB499,AD499)),Divipolas!$F$2:$G$1123,2,FALSE)),\"\",VLOOKUP((CONCATENATE(AB499,AD499)),Divipolas!$F$2:$G$1123,2,FALSE))","v":""},"","","","","",{"$f":"IF(ISNA(VLOOKUP(AJ499,Divipolas!$A$2:$B$1123,2,FALSE)),\"\",VLOOKUP(AJ499,Divipolas!$A$2:$B$1123,2,FALSE))","v":""},"",{"$f":"IF(ISNA(VLOOKUP((CONCATENATE(AJ499,AL499)),Divipolas!$F$2:$G$1123,2,FALSE)),\"\",VLOOKUP((CONCATENATE(AJ499,AL499)),Divipolas!$F$2:$G$1123,2,FALSE))","v":""},"","","","","","","","","","","","","","",null,null,null,null,null,null,null,{"$f":"IF(ISNA(VLOOKUP(BH499,'CODIGO PAIS'!$A$2:$B$231,2,FALSE)),\"\",VLOOKUP(BH499,'CODIGO PAIS'!$A$2:$B$231,2,FALSE))","v":""},null,{"$f":"IF(ISNA(VLOOKUP(BJ499,Divipolas!$A$2:$B$1123,2,FALSE)),\"\",VLOOKUP(BJ499,Divipolas!$A$2:$B$1123,2,FALSE))","v":""},null,{"$f":"IF(ISNA(VLOOKUP((CONCATENATE(BJ499,BL499)),Divipolas!$F$2:$G$1123,2,FALSE)),\"\",VLOOKUP((CONCATENATE(BJ499,BL499)),Divipolas!$F$2:$G$1123,2,FALSE))","v":""},null,"","",null,null,null,null,{"$f":"IF(ISNA(VLOOKUP(BT499,Divipolas!$A$2:$B$1123,2,FALSE)),\"\",VLOOKUP(BT499,Divipolas!$A$2:$B$1123,2,FALSE))","v":""},null,{"$f":"IF(ISNA(VLOOKUP((CONCATENATE(BT499,BV499)),Divipolas!$F$2:$G$1123,2,FALSE)),\"\",VLOOKUP((CONCATENATE(BT499,BV499)),Divipolas!$F$2:$G$1123,2,FALSE))","v":""},null,null,null,null,null,null,null,null,null,null,null,null,null,null,null,null,null,null,null,null,null,null,null,"",null,null,null,null,null,null,null,null,null,null,null,null,null,null,null,null,null,null,null,null,null,null,null,null,null,null,null,null,null,null,null,null,null,null,null,null,null,null,null,null,null,null,null,null,null,null,null,null,null,null,null,null,null,null,null,null,null,null,null,null,null,null,null,null,null,null,null,null,null,null,null,null,null,null,null,null,"",null,null,null,null,null,null,null,"VERIFIQUE FECHAS",null,null,null,null,null,null,null,null,null,"VERIFIQUE COLUMNA D"]
["","",null,"",{"$f":"IFERROR(VLOOKUP(D505,'CODIGO REGIONALES'!$J$2:$L$33,3,0),\"\")","v":""},"",{"$f":"IF(ISNA(VLOOKUP(F505,Divipolas!$A$2:$B$1123,2,FALSE)),\"\",VLOOKUP(F505,Divipolas!$A$2:$B$1123,2,FALSE))","v":""},"",{"$f":"IF(ISNA(VLOOKUP((CONCATENATE(F505,H505)),Divipolas!$F$2:$G$1123,2,FALSE)),\"\",VLOOKUP((CONCATENATE(F505,H505)),Divipolas!$F$2:$G$1123,2,FALSE))","v":""},"","","","","","","","",{"$f":"IF(ISNA(VLOOKUP(Q505,Divipolas!$A$2:$B$1123,2,FALSE)),\"\",VLOOKUP(Q505,Divipolas!$A$2:$B$1123,2,FALSE))","v":""},"",{"$f":"IF(ISNA(VLOOKUP((CONCATENATE(Q505,S505)),Divipolas!$F$2:$G$1123,2,FALSE)),\"\",VLOOKUP((CONCATENATE(Q505,S505)),Divipolas!$F$2:$G$1123,2,FALSE))","v":""},"","","","","","",{"$f":"IF(ISNA(VLOOKUP(Z505,'CODIGO PAIS'!$A$2:$B$231,2,FALSE)),\"\",VLOOKUP(Z505,'CODIGO PAIS'!$A$2:$B$231,2,FALSE))","v":""},"",{"$f":"IF(ISNA(VLOOKUP(AB505,Divipolas!$A$2:$B$1123,2,FALSE)),\"\",VLOOKUP(AB505,Divipolas!$A$2:$B$1123,2,FALSE))","v":""},"",{"$f":"IF(ISNA(VLOOKUP((CONCATENATE(AB505,AD505)),Divipolas!$F$2:$G$1123,2,FALSE)),\"\",VLOOKUP((CONCATENATE(AB505,AD505)),Divipolas!$F$2:$G$1123,2,FALSE))","v":""},"","","","","",{"$f":"IF(ISNA(VLOOKUP(AJ505,Divipolas!$A$2:$B$1123,2,FALSE)),\"\",VLOOKUP(AJ505,Divipolas!$A$2:$B$1123,2,FALSE))","v":""},"",{"$f":"IF(ISNA(VLOOKUP((CONCATENATE(AJ505,AL505)),Divipolas!$F$2:$G$1123,2,FALSE)),\"\",VLOOKUP((CONCATENATE(AJ505,AL505)),Divipolas!$F$2:$G$1123,2,FALSE))","v":""},"","","","","","","","","","","","","","",null,null,null,null,null,null,null,{"$f":"IF(ISNA(VLOOKUP(BH505,'CODIGO PAIS'!$A$2:$B$231,2,FALSE)),\"\",VLOOKUP(BH505,'CODIGO PAIS'!$A$2:$B$231,2,FALSE))","v":""},null,{"$f":"IF(ISNA(VLOOKUP(BJ505,Divipolas!$A$2:$B$1123,2,FALSE)),\"\",VLOOKUP(BJ505,Divipolas!$A$2:$B$1123,2,FALSE))","v":""},null,{"$f":"IF(ISNA(VLOOKUP((CONCATENATE(BJ505,BL505)),Divipolas!$F$2:$G$1123,2,FALSE)),\"\",VLOOKUP((CONCATENATE(BJ505,BL505)),Divipolas!$F$2:$G$1123,2,FALSE))","v":""},null,"","",null,null,null,null,{"$f":"IF(ISNA(VLOOKUP(BT505,Divipolas!$A$2:$B$1123,2,FALSE)),\"\",VLOOKUP(BT505,Divipolas!$A$2:$B$1123,2,FALSE))","v":""},null,{"$f":"IF(ISNA(VLOOKUP((CONCATENATE(BT505,BV505)),Divipolas!$F$2:$G$1123,2,FALSE)),\"\",VLOOKUP((CONCATENATE(BT505,BV505)),Divipolas!$F$2:$G$1123,2,FALSE))","v":""},null,null,null,null,null,null,null,null,null,null,null,null,null,null,null,null,null,null,null,null,null,null,null,"",null,null,null,null,null,null,null,null,null,null,null,null,null,null,null,null,null,null,null,null,null,null,null,null,null,null,null,null,null,null,null,null,null,null,null,null,null,null,null,null,null,null,null,null,null,null,null,null,null,null,null,null,null,null,null,null,null,null,null,null,null,null,null,null,null,null,null,null,null,null,null,null,null,null,null,null,"",null,null,null,null,null,null,null,"VERIFIQUE FECHAS",null,null,null,null,null,null,null,null,null,"VERIFIQUE COLUMNA D"]
["","",null,"",{"$f":"IFERROR(VLOOKUP(D510,'CODIGO REGIONALES'!$J$2:$L$33,3,0),\"\")","v":""},"",{"$f":"IF(ISNA(VLOOKUP(F510,Divipolas!$A$2:$B$1123,2,FALSE)),\"\",VLOOKUP(F510,Divipolas!$A$2:$B$1123,2,FALSE))","v":""},"",{"$f":"IF(ISNA(VLOOKUP((CONCATENATE(F510,H510)),Divipolas!$F$2:$G$1123,2,FALSE)),\"\",VLOOKUP((CONCATENATE(F510,H510)),Divipolas!$F$2:$G$1123,2,FALSE))","v":""},"","","","","","","","",{"$f":"IF(ISNA(VLOOKUP(Q510,Divipolas!$A$2:$B$1123,2,FALSE)),\"\",VLOOKUP(Q510,Divipolas!$A$2:$B$1123,2,FALSE))","v":""},"",{"$f":"IF(ISNA(VLOOKUP((CONCATENATE(Q510,S510)),Divipolas!$F$2:$G$1123,2,FALSE)),\"\",VLOOKUP((CONCATENATE(Q510,S510)),Divipolas!$F$2:$G$1123,2,FALSE))","v":""},"","","","","","",{"$f":"IF(ISNA(VLOOKUP(Z510,'CODIGO PAIS'!$A$2:$B$231,2,FALSE)),\"\",VLOOKUP(Z510,'CODIGO PAIS'!$A$2:$B$231,2,FALSE))","v":""},"",{"$f":"IF(ISNA(VLOOKUP(AB510,Divipolas!$A$2:$B$1123,2,FALSE)),\"\",VLOOKUP(AB510,Divipolas!$A$2:$B$1123,2,FALSE))","v":""},"",{"$f":"IF(ISNA(VLOOKUP((CONCATENATE(AB510,AD510)),Divipolas!$F$2:$G$1123,2,FALSE)),\"\",VLOOKUP((CONCATENATE(AB510,AD510)),Divipolas!$F$2:$G$1123,2,FALSE))","v":""},"","","","","",{"$f":"IF(ISNA(VLOOKUP(AJ510,Divipolas!$A$2:$B$1123,2,FALSE)),\"\",VLOOKUP(AJ510,Divipolas!$A$2:$B$1123,2,FALSE))","v":""},"",{"$f":"IF(ISNA(VLOOKUP((CONCATENATE(AJ510,AL510)),Divipolas!$F$2:$G$1123,2,FALSE)),\"\",VLOOKUP((CONCATENATE(AJ510,AL510)),Divipolas!$F$2:$G$1123,2,FALSE))","v":""},"","","","","","","","","","","","","","",null,null,null,null,null,null,null,{"$f":"IF(ISNA(VLOOKUP(BH510,'CODIGO PAIS'!$A$2:$B$231,2,FALSE)),\"\",VLOOKUP(BH510,'CODIGO PAIS'!$A$2:$B$231,2,FALSE))","v":""},null,{"$f":"IF(ISNA(VLOOKUP(BJ510,Divipolas!$A$2:$B$1123,2,FALSE)),\"\",VLOOKUP(BJ510,Divipolas!$A$2:$B$1123,2,FALSE))","v":""},null,{"$f":"IF(ISNA(VLOOKUP((CONCATENATE(BJ510,BL510)),Divipolas!$F$2:$G$1123,2,FALSE)),\"\",VLOOKUP((CONCATENATE(BJ510,BL510)),Divipolas!$F$2:$G$1123,2,FALSE))","v":""},null,"","",null,null,null,null,{"$f":"IF(ISNA(VLOOKUP(BT510,Divipolas!$A$2:$B$1123,2,FALSE)),\"\",VLOOKUP(BT510,Divipolas!$A$2:$B$1123,2,FALSE))","v":""},null,{"$f":"IF(ISNA(VLOOKUP((CONCATENATE(BT510,BV510)),Divipolas!$F$2:$G$1123,2,FALSE)),\"\",VLOOKUP((CONCATENATE(BT510,BV510)),Divipolas!$F$2:$G$1123,2,FALSE))","v":""},null,null,null,null,null,null,null,null,null,null,null,null,null,null,null,null,null,null,null,null,null,null,null,"",null,null,null,null,null,null,null,null,null,null,null,null,null,null,null,null,null,null,null,null,null,null,null,null,null,null,null,null,null,null,null,null,null,null,null,null,null,null,null,null,null,null,null,null,null,null,null,null,null,null,null,null,null,null,null,null,null,null,null,null,null,null,null,null,null,null,null,null,null,null,null,null,null,null,null,null,"",null,null,null,null,null,null,null,"VERIFIQUE FECHAS",null,null,null,null,null,null,null,null,null,"VERIFIQUE COLUMNA D"]
["","",null,"",{"$f":"IFERROR(VLOOKUP(D516,'CODIGO REGIONALES'!$J$2:$L$33,3,0),\"\")","v":""},"",{"$f":"IF(ISNA(VLOOKUP(F516,Divipolas!$A$2:$B$1123,2,FALSE)),\"\",VLOOKUP(F516,Divipolas!$A$2:$B$1123,2,FALSE))","v":""},"",{"$f":"IF(ISNA(VLOOKUP((CONCATENATE(F516,H516)),Divipolas!$F$2:$G$1123,2,FALSE)),\"\",VLOOKUP((CONCATENATE(F516,H516)),Divipolas!$F$2:$G$1123,2,FALSE))","v":""},"","","","","","","","",{"$f":"IF(ISNA(VLOOKUP(Q516,Divipolas!$A$2:$B$1123,2,FALSE)),\"\",VLOOKUP(Q516,Divipolas!$A$2:$B$1123,2,FALSE))","v":""},"",{"$f":"IF(ISNA(VLOOKUP((CONCATENATE(Q516,S516)),Divipolas!$F$2:$G$1123,2,FALSE)),\"\",VLOOKUP((CONCATENATE(Q516,S516)),Divipolas!$F$2:$G$1123,2,FALSE))","v":""},"","","","","","",{"$f":"IF(ISNA(VLOOKUP(Z516,'CODIGO PAIS'!$A$2:$B$231,2,FALSE)),\"\",VLOOKUP(Z516,'CODIGO PAIS'!$A$2:$B$231,2,FALSE))","v":""},"",{"$f":"IF(ISNA(VLOOKUP(AB516,Divipolas!$A$2:$B$1123,2,FALSE)),\"\",VLOOKUP(AB516,Divipolas!$A$2:$B$1123,2,FALSE))","v":""},"",{"$f":"IF(ISNA(VLOOKUP((CONCATENATE(AB516,AD516)),Divipolas!$F$2:$G$1123,2,FALSE)),\"\",VLOOKUP((CONCATENATE(AB516,AD516)),Divipolas!$F$2:$G$1123,2,FALSE))","v":""},"","","","","",{"$f":"IF(ISNA(VLOOKUP(AJ516,Divipolas!$A$2:$B$1123,2,FALSE)),\"\",VLOOKUP(AJ516,Divipolas!$A$2:$B$1123,2,FALSE))","v":""},"",{"$f":"IF(ISNA(VLOOKUP((CONCATENATE(AJ516,AL516)),Divipolas!$F$2:$G$1123,2,FALSE)),\"\",VLOOKUP((CONCATENATE(AJ516,AL516)),Divipolas!$F$2:$G$1123,2,FALSE))","v":""},"","","","","","","","","","","","","","",null,null,null,null,null,null,null,{"$f":"IF(ISNA(VLOOKUP(BH516,'CODIGO PAIS'!$A$2:$B$231,2,FALSE)),\"\",VLOOKUP(BH516,'CODIGO PAIS'!$A$2:$B$231,2,FALSE))","v":""},null,{"$f":"IF(ISNA(VLOOKUP(BJ516,Divipolas!$A$2:$B$1123,2,FALSE)),\"\",VLOOKUP(BJ516,Divipolas!$A$2:$B$1123,2,FALSE))","v":""},null,{"$f":"IF(ISNA(VLOOKUP((CONCATENATE(BJ516,BL516)),Divipolas!$F$2:$G$1123,2,FALSE)),\"\",VLOOKUP((CONCATENATE(BJ516,BL516)),Divipolas!$F$2:$G$1123,2,FALSE))","v":""},null,"","",null,null,null,null,{"$f":"IF(ISNA(VLOOKUP(BT516,Divipolas!$A$2:$B$1123,2,FALSE)),\"\",VLOOKUP(BT516,Divipolas!$A$2:$B$1123,2,FALSE))","v":""},null,{"$f":"IF(ISNA(VLOOKUP((CONCATENATE(BT516,BV516)),Divipolas!$F$2:$G$1123,2,FALSE)),\"\",VLOOKUP((CONCATENATE(BT516,BV516)),Divipolas!$F$2:$G$1123,2,FALSE))","v":""},null,null,null,null,null,null,null,null,null,null,null,null,null,null,null,null,null,null,null,null,null,null,null,"",null,null,null,null,null,null,null,null,null,null,null,null,null,null,null,null,null,null,null,null,null,null,null,null,null,null,null,null,null,null,null,null,null,null,null,null,null,null,null,null,null,null,null,null,null,null,null,null,null,null,null,null,null,null,null,null,null,null,null,null,null,null,null,null,null,null,null,null,null,null,null,null,null,null,null,null,"",null,null,null,null,null,null,null,"VERIFIQUE FECHAS",null,null,null,null,null,null,null,null,null,"VERIFIQUE COLUMNA D"]
["","",null,"",{"$f":"IFERROR(VLOOKUP(D520,'CODIGO REGIONALES'!$J$2:$L$33,3,0),\"\")","v":""},"",{"$f":"IF(ISNA(VLOOKUP(F520,Divipolas!$A$2:$B$1123,2,FALSE)),\"\",VLOOKUP(F520,Divipolas!$A$2:$B$1123,2,FALSE))","v":""},"",{"$f":"IF(ISNA(VLOOKUP((CONCATENATE(F520,H520)),Divipolas!$F$2:$G$1123,2,FALSE)),\"\",VLOOKUP((CONCATENATE(F520,H520)),Divipolas!$F$2:$G$1123,2,FALSE))","v":""},"",{"$f":"IF(AND($C520<>\"\",K519<>\"\"),K519,\"\")","v":""},"","","","","","",{"$f":"IF(ISNA(VLOOKUP(Q520,Divipolas!$A$2:$B$1123,2,FALSE)),\"\",VLOOKUP(Q520,Divipolas!$A$2:$B$1123,2,FALSE))","v":""},"",{"$f":"IF(ISNA(VLOOKUP((CONCATENATE(Q520,S520)),Divipolas!$F$2:$G$1123,2,FALSE)),\"\",VLOOKUP((CONCATENATE(Q520,S520)),Divipolas!$F$2:$G$1123,2,FALSE))","v":""},"","","","","","",{"$f":"IF(ISNA(VLOOKUP(Z520,'CODIGO PAIS'!$A$2:$B$231,2,FALSE)),\"\",VLOOKUP(Z520,'CODIGO PAIS'!$A$2:$B$231,2,FALSE))","v":""},"",{"$f":"IF(ISNA(VLOOKUP(AB520,Divipolas!$A$2:$B$1123,2,FALSE)),\"\",VLOOKUP(AB520,Divipolas!$A$2:$B$1123,2,FALSE))","v":""},"",{"$f":"IF(ISNA(VLOOKUP((CONCATENATE(AB520,AD520)),Divipolas!$F$2:$G$1123,2,FALSE)),\"\",VLOOKUP((CONCATENATE(AB520,AD520)),Divipolas!$F$2:$G$1123,2,FALSE))","v":""},"","","","","",{"$f":"IF(ISNA(VLOOKUP(AJ520,Divipolas!$A$2:$B$1123,2,FALSE)),\"\",VLOOKUP(AJ520,Divipolas!$A$2:$B$1123,2,FALSE))","v":""},"",{"$f":"IF(ISNA(VLOOKUP((CONCATENATE(AJ520,AL520)),Divipolas!$F$2:$G$1123,2,FALSE)),\"\",VLOOKUP((CONCATENATE(AJ520,AL520)),Divipolas!$F$2:$G$1123,2,FALSE))","v":""},"","","","","","","","","","","","","","",null,null,null,null,null,null,null,{"$f":"IF(ISNA(VLOOKUP(BH520,'CODIGO PAIS'!$A$2:$B$231,2,FALSE)),\"\",VLOOKUP(BH520,'CODIGO PAIS'!$A$2:$B$231,2,FALSE))","v":""},null,{"$f":"IF(ISNA(VLOOKUP(BJ520,Divipolas!$A$2:$B$1123,2,FALSE)),\"\",VLOOKUP(BJ520,Divipolas!$A$2:$B$1123,2,FALSE))","v":""},null,{"$f":"IF(ISNA(VLOOKUP((CONCATENATE(BJ520,BL520)),Divipolas!$F$2:$G$1123,2,FALSE)),\"\",VLOOKUP((CONCATENATE(BJ520,BL520)),Divipolas!$F$2:$G$1123,2,FALSE))","v":""},null,"","",null,null,null,null,{"$f":"IF(ISNA(VLOOKUP(BT520,Divipolas!$A$2:$B$1123,2,FALSE)),\"\",VLOOKUP(BT520,Divipolas!$A$2:$B$1123,2,FALSE))","v":""},null,{"$f":"IF(ISNA(VLOOKUP((CONCATENATE(BT520,BV520)),Divipolas!$F$2:$G$1123,2,FALSE)),\"\",VLOOKUP((CONCATENATE(BT520,BV520)),Divipolas!$F$2:$G$1123,2,FALSE))","v":""},null,null,null,null,null,null,null,null,null,null,null,null,null,null,null,null,null,null,null,null,null,null,null,"",null,null,null,null,null,null,null,null,null,null,null,null,null,null,null,null,null,null,null,null,null,null,null,null,null,null,null,null,null,null,null,null,null,null,null,null,null,null,null,null,null,null,null,null,null,null,null,null,null,null,null,null,null,null,null,null,null,null,null,null,null,null,null,null,null,null,null,null,null,null,null,null,null,null,null,null,"",null,null,null,null,null,null,null,"VERIFIQUE FECHAS",null,null,null,null,null,null,null,null,null,"VERIFIQUE COLUMNA D"]
["","",null,"",{"$f":"IFERROR(VLOOKUP(D525,'CODIGO REGIONALES'!$J$2:$L$33,3,0),\"\")","v":""},"",{"$f":"IF(ISNA(VLOOKUP(F525,Divipolas!$A$2:$B$1123,2,FALSE)),\"\",VLOOKUP(F525,Divipolas!$A$2:$B$1123,2,FALSE))","v":""},"",{"$f":"IF(ISNA(VLOOKUP((CONCATENATE(F525,H525)),Divipolas!$F$2:$G$1123,2,FALSE)),\"\",VLOOKUP((CONCATENATE(F525,H525)),Divipolas!$F$2:$G$1123,2,FALSE))","v":""},"","","","","","","","",{"$f":"IF(ISNA(VLOOKUP(Q525,Divipolas!$A$2:$B$1123,2,FALSE)),\"\",VLOOKUP(Q525,Divipolas!$A$2:$B$1123,2,FALSE))","v":""},"",{"$f":"IF(ISNA(VLOOKUP((CONCATENATE(Q525,S525)),Divipolas!$F$2:$G$1123,2,FALSE)),\"\",VLOOKUP((CONCATENATE(Q525,S525)),Divipolas!$F$2:$G$1123,2,FALSE))","v":""},"","","","","","",{"$f":"IF(ISNA(VLOOKUP(Z525,'CODIGO PAIS'!$A$2:$B$231,2,FALSE)),\"\",VLOOKUP(Z525,'CODIGO PAIS'!$A$2:$B$231,2,FALSE))","v":""},"",{"$f":"IF(ISNA(VLOOKUP(AB525,Divipolas!$A$2:$B$1123,2,FALSE)),\"\",VLOOKUP(AB525,Divipolas!$A$2:$B$1123,2,FALSE))","v":""},"",{"$f":"IF(ISNA(VLOOKUP((CONCATENATE(AB525,AD525)),Divipolas!$F$2:$G$1123,2,FALSE)),\"\",VLOOKUP((CONCATENATE(AB525,AD525)),Divipolas!$F$2:$G$1123,2,FALSE))","v":""},"","","","","",{"$f":"IF(ISNA(VLOOKUP(AJ525,Divipolas!$A$2:$B$1123,2,FALSE)),\"\",VLOOKUP(AJ525,Divipolas!$A$2:$B$1123,2,FALSE))","v":""},"",{"$f":"IF(ISNA(VLOOKUP((CONCATENATE(AJ525,AL525)),Divipolas!$F$2:$G$1123,2,FALSE)),\"\",VLOOKUP((CONCATENATE(AJ525,AL525)),Divipolas!$F$2:$G$1123,2,FALSE))","v":""},"","","","","","","","","","","","","","",null,null,null,null,null,null,null,{"$f":"IF(ISNA(VLOOKUP(BH525,'CODIGO PAIS'!$A$2:$B$231,2,FALSE)),\"\",VLOOKUP(BH525,'CODIGO PAIS'!$A$2:$B$231,2,FALSE))","v":""},null,{"$f":"IF(ISNA(VLOOKUP(BJ525,Divipolas!$A$2:$B$1123,2,FALSE)),\"\",VLOOKUP(BJ525,Divipolas!$A$2:$B$1123,2,FALSE))","v":""},null,{"$f":"IF(ISNA(VLOOKUP((CONCATENATE(BJ525,BL525)),Divipolas!$F$2:$G$1123,2,FALSE)),\"\",VLOOKUP((CONCATENATE(BJ525,BL525)),Divipolas!$F$2:$G$1123,2,FALSE))","v":""},null,"","",null,null,null,null,{"$f":"IF(ISNA(VLOOKUP(BT525,Divipolas!$A$2:$B$1123,2,FALSE)),\"\",VLOOKUP(BT525,Divipolas!$A$2:$B$1123,2,FALSE))","v":""},null,{"$f":"IF(ISNA(VLOOKUP((CONCATENATE(BT525,BV525)),Divipolas!$F$2:$G$1123,2,FALSE)),\"\",VLOOKUP((CONCATENATE(BT525,BV525)),Divipolas!$F$2:$G$1123,2,FALSE))","v":""},null,null,null,null,null,null,null,null,null,null,null,null,null,null,null,null,null,null,null,null,null,null,null,"",null,null,null,null,null,null,null,null,null,null,null,null,null,null,null,null,null,null,null,null,null,null,null,null,null,null,null,null,null,null,null,null,null,null,null,null,null,null,null,null,null,null,null,null,null,null,null,null,null,null,null,null,null,null,null,null,null,null,null,null,null,null,null,null,null,null,null,null,null,null,null,null,null,null,null,null,"",null,null,null,null,null,null,null,"VERIFIQUE FECHAS",null,null,null,null,null,null,null,null,null,"VERIFIQUE COLUMNA D"]
["","",null,"",{"$f":"IFERROR(VLOOKUP(D531,'CODIGO REGIONALES'!$J$2:$L$33,3,0),\"\")","v":""},"",{"$f":"IF(ISNA(VLOOKUP(F531,Divipolas!$A$2:$B$1123,2,FALSE)),\"\",VLOOKUP(F531,Divipolas!$A$2:$B$1123,2,FALSE))","v":""},"",{"$f":"IF(ISNA(VLOOKUP((CONCATENATE(F531,H531)),Divipolas!$F$2:$G$1123,2,FALSE)),\"\",VLOOKUP((CONCATENATE(F531,H531)),Divipolas!$F$2:$G$1123,2,FALSE))","v":""},"","","","","","","","",{"$f":"IF(ISNA(VLOOKUP(Q531,Divipolas!$A$2:$B$1123,2,FALSE)),\"\",VLOOKUP(Q531,Divipolas!$A$2:$B$1123,2,FALSE))","v":""},"",{"$f":"IF(ISNA(VLOOKUP((CONCATENATE(Q531,S531)),Divipolas!$F$2:$G$1123,2,FALSE)),\"\",VLOOKUP((CONCATENATE(Q531,S531)),Divipolas!$F$2:$G$1123,2,FALSE))","v":""},"","","","","","",{"$f":"IF(ISNA(VLOOKUP(Z531,'CODIGO PAIS'!$A$2:$B$231,2,FALSE)),\"\",VLOOKUP(Z531,'CODIGO PAIS'!$A$2:$B$231,2,FALSE))","v":""},"",{"$f":"IF(ISNA(VLOOKUP(AB531,Divipolas!$A$2:$B$1123,2,FALSE)),\"\",VLOOKUP(AB531,Divipolas!$A$2:$B$1123,2,FALSE))","v":""},"",{"$f":"IF(ISNA(VLOOKUP((CONCATENATE(AB531,AD531)),Divipolas!$F$2:$G$1123,2,FALSE)),\"\",VLOOKUP((CONCATENATE(AB531,AD531)),Divipolas!$F$2:$G$1123,2,FALSE))","v":""},"","","","","",{"$f":"IF(ISNA(VLOOKUP(AJ531,Divipolas!$A$2:$B$1123,2,FALSE)),\"\",VLOOKUP(AJ531,Divipolas!$A$2:$B$1123,2,FALSE))","v":""},"",{"$f":"IF(ISNA(VLOOKUP((CONCATENATE(AJ531,AL531)),Divipolas!$F$2:$G$1123,2,FALSE)),\"\",VLOOKUP((CONCATENATE(AJ531,AL531)),Divipolas!$F$2:$G$1123,2,FALSE))","v":""},"","","","","","","","","","","","","","",null,null,null,null,null,null,null,{"$f":"IF(ISNA(VLOOKUP(BH531,'CODIGO PAIS'!$A$2:$B$231,2,FALSE)),\"\",VLOOKUP(BH531,'CODIGO PAIS'!$A$2:$B$231,2,FALSE))","v":""},null,{"$f":"IF(ISNA(VLOOKUP(BJ531,Divipolas!$A$2:$B$1123,2,FALSE)),\"\",VLOOKUP(BJ531,Divipolas!$A$2:$B$1123,2,FALSE))","v":""},null,{"$f":"IF(ISNA(VLOOKUP((CONCATENATE(BJ531,BL531)),Divipolas!$F$2:$G$1123,2,FALSE)),\"\",VLOOKUP((CONCATENATE(BJ531,BL531)),Divipolas!$F$2:$G$1123,2,FALSE))","v":""},null,"","",null,null,null,null,{"$f":"IF(ISNA(VLOOKUP(BT531,Divipolas!$A$2:$B$1123,2,FALSE)),\"\",VLOOKUP(BT531,Divipolas!$A$2:$B$1123,2,FALSE))","v":""},null,{"$f":"IF(ISNA(VLOOKUP((CONCATENATE(BT531,BV531)),Divipolas!$F$2:$G$1123,2,FALSE)),\"\",VLOOKUP((CONCATENATE(BT531,BV531)),Divipolas!$F$2:$G$1123,2,FALSE))","v":""},null,null,null,null,null,null,null,null,null,null,null,null,null,null,null,null,null,null,null,null,null,null,null,"",null,null,null,null,null,null,null,null,null,null,null,null,null,null,null,null,null,null,null,null,null,null,null,null,null,null,null,null,null,null,null,null,null,null,null,null,null,null,null,null,null,null,null,null,null,null,null,null,null,null,null,null,null,null,null,null,null,null,null,null,null,null,null,null,null,null,null,null,null,null,null,null,null,null,null,null,"",null,null,null,null,null,null,null,"VERIFIQUE FECHAS",null,null,null,null,null,null,null,null,null,"VERIFIQUE COLUMNA D"]
["","",null,"",{"$f":"IFERROR(VLOOKUP(D536,'CODIGO REGIONALES'!$J$2:$L$33,3,0),\"\")","v":""},"",{"$f":"IF(ISNA(VLOOKUP(F536,Divipolas!$A$2:$B$1123,2,FALSE)),\"\",VLOOKUP(F536,Divipolas!$A$2:$B$1123,2,FALSE))","v":""},"",{"$f":"IF(ISNA(VLOOKUP((CONCATENATE(F536,H536)),Divipolas!$F$2:$G$1123,2,FALSE)),\"\",VLOOKUP((CONCATENATE(F536,H536)),Divipolas!$F$2:$G$1123,2,FALSE))","v":""},"",{"$f":"IF(AND($C536<>\"\",K535<>\"\"),K535,\"\")","v":""},"","","","","","",{"$f":"IF(ISNA(VLOOKUP(Q536,Divipolas!$A$2:$B$1123,2,FALSE)),\"\",VLOOKUP(Q536,Divipolas!$A$2:$B$1123,2,FALSE))","v":""},"",{"$f":"IF(ISNA(VLOOKUP((CONCATENATE(Q536,S536)),Divipolas!$F$2:$G$1123,2,FALSE)),\"\",VLOOKUP((CONCATENATE(Q536,S536)),Divipolas!$F$2:$G$1123,2,FALSE))","v":""},"","","","","","",{"$f":"IF(ISNA(VLOOKUP(Z536,'CODIGO PAIS'!$A$2:$B$231,2,FALSE)),\"\",VLOOKUP(Z536,'CODIGO PAIS'!$A$2:$B$231,2,FALSE))","v":""},"",{"$f":"IF(ISNA(VLOOKUP(AB536,Divipolas!$A$2:$B$1123,2,FALSE)),\"\",VLOOKUP(AB536,Divipolas!$A$2:$B$1123,2,FALSE))","v":""},"",{"$f":"IF(ISNA(VLOOKUP((CONCATENATE(AB536,AD536)),Divipolas!$F$2:$G$1123,2,FALSE)),\"\",VLOOKUP((CONCATENATE(AB536,AD536)),Divipolas!$F$2:$G$1123,2,FALSE))","v":""},"","","","","",{"$f":"IF(ISNA(VLOOKUP(AJ536,Divipolas!$A$2:$B$1123,2,FALSE)),\"\",VLOOKUP(AJ536,Divipolas!$A$2:$B$1123,2,FALSE))","v":""},"",{"$f":"IF(ISNA(VLOOKUP((CONCATENATE(AJ536,AL536)),Divipolas!$F$2:$G$1123,2,FALSE)),\"\",VLOOKUP((CONCATENATE(AJ536,AL536)),Divipolas!$F$2:$G$1123,2,FALSE))","v":""},"","","","","","","","","","","","","","",null,null,null,null,null,null,null,{"$f":"IF(ISNA(VLOOKUP(BH536,'CODIGO PAIS'!$A$2:$B$231,2,FALSE)),\"\",VLOOKUP(BH536,'CODIGO PAIS'!$A$2:$B$231,2,FALSE))","v":""},null,{"$f":"IF(ISNA(VLOOKUP(BJ536,Divipolas!$A$2:$B$1123,2,FALSE)),\"\",VLOOKUP(BJ536,Divipolas!$A$2:$B$1123,2,FALSE))","v":""},null,{"$f":"IF(ISNA(VLOOKUP((CONCATENATE(BJ536,BL536)),Divipolas!$F$2:$G$1123,2,FALSE)),\"\",VLOOKUP((CONCATENATE(BJ536,BL536)),Divipolas!$F$2:$G$1123,2,FALSE))","v":""},null,"","",null,null,null,null,{"$f":"IF(ISNA(VLOOKUP(BT536,Divipolas!$A$2:$B$1123,2,FALSE)),\"\",VLOOKUP(BT536,Divipolas!$A$2:$B$1123,2,FALSE))","v":""},null,{"$f":"IF(ISNA(VLOOKUP((CONCATENATE(BT536,BV536)),Divipolas!$F$2:$G$1123,2,FALSE)),\"\",VLOOKUP((CONCATENATE(BT536,BV536)),Divipolas!$F$2:$G$1123,2,FALSE))","v":""},null,null,null,null,null,null,null,null,null,null,null,null,null,null,null,null,null,null,null,null,null,null,null,"",null,null,null,null,null,null,null,null,null,null,null,null,null,null,null,null,null,null,null,null,null,null,null,null,null,null,null,null,null,null,null,null,null,null,null,null,null,null,null,null,null,null,null,null,null,null,null,null,null,null,null,null,null,null,null,null,null,null,null,null,null,null,null,null,null,null,null,null,null,null,null,null,null,null,null,null,"",null,null,null,null,null,null,null,"VERIFIQUE FECHAS",null,null,null,null,null,null,null,null,null,"VERIFIQUE COLUMNA D"]
["","",null,"",{"$f":"IFERROR(VLOOKUP(D541,'CODIGO REGIONALES'!$J$2:$L$33,3,0),\"\")","v":""},"",{"$f":"IF(ISNA(VLOOKUP(F541,Divipolas!$A$2:$B$1123,2,FALSE)),\"\",VLOOKUP(F541,Divipolas!$A$2:$B$1123,2,FALSE))","v":""},"",{"$f":"IF(ISNA(VLOOKUP((CONCATENATE(F541,H541)),Divipolas!$F$2:$G$1123,2,FALSE)),\"\",VLOOKUP((CONCATENATE(F541,H541)),Divipolas!$F$2:$G$1123,2,FALSE))","v":""},"","","","","","","","",{"$f":"IF(ISNA(VLOOKUP(Q541,Divipolas!$A$2:$B$1123,2,FALSE)),\"\",VLOOKUP(Q541,Divipolas!$A$2:$B$1123,2,FALSE))","v":""},"",{"$f":"IF(ISNA(VLOOKUP((CONCATENATE(Q541,S541)),Divipolas!$F$2:$G$1123,2,FALSE)),\"\",VLOOKUP((CONCATENATE(Q541,S541)),Divipolas!$F$2:$G$1123,2,FALSE))","v":""},"","","","","","",{"$f":"IF(ISNA(VLOOKUP(Z541,'CODIGO PAIS'!$A$2:$B$231,2,FALSE)),\"\",VLOOKUP(Z541,'CODIGO PAIS'!$A$2:$B$231,2,FALSE))","v":""},"",{"$f":"IF(ISNA(VLOOKUP(AB541,Divipolas!$A$2:$B$1123,2,FALSE)),\"\",VLOOKUP(AB541,Divipolas!$A$2:$B$1123,2,FALSE))","v":""},"",{"$f":"IF(ISNA(VLOOKUP((CONCATENATE(AB541,AD541)),Divipolas!$F$2:$G$1123,2,FALSE)),\"\",VLOOKUP((CONCATENATE(AB541,AD541)),Divipolas!$F$2:$G$1123,2,FALSE))","v":""},"","","","","",{"$f":"IF(ISNA(VLOOKUP(AJ541,Divipolas!$A$2:$B$1123,2,FALSE)),\"\",VLOOKUP(AJ541,Divipolas!$A$2:$B$1123,2,FALSE))","v":""},"",{"$f":"IF(ISNA(VLOOKUP((CONCATENATE(AJ541,AL541)),Divipolas!$F$2:$G$1123,2,FALSE)),\"\",VLOOKUP((CONCATENATE(AJ541,AL541)),Divipolas!$F$2:$G$1123,2,FALSE))","v":""},"","","","","","","","","","","","","","",null,null,null,null,null,null,null,{"$f":"IF(ISNA(VLOOKUP(BH541,'CODIGO PAIS'!$A$2:$B$231,2,FALSE)),\"\",VLOOKUP(BH541,'CODIGO PAIS'!$A$2:$B$231,2,FALSE))","v":""},null,{"$f":"IF(ISNA(VLOOKUP(BJ541,Divipolas!$A$2:$B$1123,2,FALSE)),\"\",VLOOKUP(BJ541,Divipolas!$A$2:$B$1123,2,FALSE))","v":""},null,{"$f":"IF(ISNA(VLOOKUP((CONCATENATE(BJ541,BL541)),Divipolas!$F$2:$G$1123,2,FALSE)),\"\",VLOOKUP((CONCATENATE(BJ541,BL541)),Divipolas!$F$2:$G$1123,2,FALSE))","v":""},null,"","",null,null,null,null,{"$f":"IF(ISNA(VLOOKUP(BT541,Divipolas!$A$2:$B$1123,2,FALSE)),\"\",VLOOKUP(BT541,Divipolas!$A$2:$B$1123,2,FALSE))","v":""},null,{"$f":"IF(ISNA(VLOOKUP((CONCATENATE(BT541,BV541)),Divipolas!$F$2:$G$1123,2,FALSE)),\"\",VLOOKUP((CONCATENATE(BT541,BV541)),Divipolas!$F$2:$G$1123,2,FALSE))","v":""},null,null,null,null,null,null,null,null,null,null,null,null,null,null,null,null,null,null,null,null,null,null,null,"",null,null,null,null,null,null,null,null,null,null,null,null,null,null,null,null,null,null,null,null,null,null,null,null,null,null,null,null,null,null,null,null,null,null,null,null,null,null,null,null,null,null,null,null,null,null,null,null,null,null,null,null,null,null,null,null,null,null,null,null,null,null,null,null,null,null,null,null,null,null,null,null,null,null,null,null,"",null,null,null,null,null,null,null,"VERIFIQUE FECHAS",null,null,null,null,null,null,null,null,null,"VERIFIQUE COLUMNA D"]
["","",null,"",{"$f":"IFERROR(VLOOKUP(D545,'CODIGO REGIONALES'!$J$2:$L$33,3,0),\"\")","v":""},"",{"$f":"IF(ISNA(VLOOKUP(F545,Divipolas!$A$2:$B$1123,2,FALSE)),\"\",VLOOKUP(F545,Divipolas!$A$2:$B$1123,2,FALSE))","v":""},"",{"$f":"IF(ISNA(VLOOKUP((CONCATENATE(F545,H545)),Divipolas!$F$2:$G$1123,2,FALSE)),\"\",VLOOKUP((CONCATENATE(F545,H545)),Divipolas!$F$2:$G$1123,2,FALSE))","v":""},"","","","","","","","",{"$f":"IF(ISNA(VLOOKUP(Q545,Divipolas!$A$2:$B$1123,2,FALSE)),\"\",VLOOKUP(Q545,Divipolas!$A$2:$B$1123,2,FALSE))","v":""},"",{"$f":"IF(ISNA(VLOOKUP((CONCATENATE(Q545,S545)),Divipolas!$F$2:$G$1123,2,FALSE)),\"\",VLOOKUP((CONCATENATE(Q545,S545)),Divipolas!$F$2:$G$1123,2,FALSE))","v":""},"","","","","","",{"$f":"IF(ISNA(VLOOKUP(Z545,'CODIGO PAIS'!$A$2:$B$231,2,FALSE)),\"\",VLOOKUP(Z545,'CODIGO PAIS'!$A$2:$B$231,2,FALSE))","v":""},"",{"$f":"IF(ISNA(VLOOKUP(AB545,Divipolas!$A$2:$B$1123,2,FALSE)),\"\",VLOOKUP(AB545,Divipolas!$A$2:$B$1123,2,FALSE))","v":""},"",{"$f":"IF(ISNA(VLOOKUP((CONCATENATE(AB545,AD545)),Divipolas!$F$2:$G$1123,2,FALSE)),\"\",VLOOKUP((CONCATENATE(AB545,AD545)),Divipolas!$F$2:$G$1123,2,FALSE))","v":""},"","","","","",{"$f":"IF(ISNA(VLOOKUP(AJ545,Divipolas!$A$2:$B$1123,2,FALSE)),\"\",VLOOKUP(AJ545,Divipolas!$A$2:$B$1123,2,FALSE))","v":""},"",{"$f":"IF(ISNA(VLOOKUP((CONCATENATE(AJ545,AL545)),Divipolas!$F$2:$G$1123,2,FALSE)),\"\",VLOOKUP((CONCATENATE(AJ545,AL545)),Divipolas!$F$2:$G$1123,2,FALSE))","v":""},"","","","","","","","","","","","","","",null,null,null,null,null,null,null,{"$f":"IF(ISNA(VLOOKUP(BH545,'CODIGO PAIS'!$A$2:$B$231,2,FALSE)),\"\",VLOOKUP(BH545,'CODIGO PAIS'!$A$2:$B$231,2,FALSE))","v":""},null,{"$f":"IF(ISNA(VLOOKUP(BJ545,Divipolas!$A$2:$B$1123,2,FALSE)),\"\",VLOOKUP(BJ545,Divipolas!$A$2:$B$1123,2,FALSE))","v":""},null,{"$f":"IF(ISNA(VLOOKUP((CONCATENATE(BJ545,BL545)),Divipolas!$F$2:$G$1123,2,FALSE)),\"\",VLOOKUP((CONCATENATE(BJ545,BL545)),Divipolas!$F$2:$G$1123,2,FALSE))","v":""},null,"","",null,null,null,null,{"$f":"IF(ISNA(VLOOKUP(BT545,Divipolas!$A$2:$B$1123,2,FALSE)),\"\",VLOOKUP(BT545,Divipolas!$A$2:$B$1123,2,FALSE))","v":""},null,{"$f":"IF(ISNA(VLOOKUP((CONCATENATE(BT545,BV545)),Divipolas!$F$2:$G$1123,2,FALSE)),\"\",VLOOKUP((CONCATENATE(BT545,BV545)),Divipolas!$F$2:$G$1123,2,FALSE))","v":""},null,null,null,null,null,null,null,null,null,null,null,null,null,null,null,null,null,null,null,null,null,null,null,"",null,null,null,null,null,null,null,null,null,null,null,null,null,null,null,null,null,null,null,null,null,null,null,null,null,null,null,null,null,null,null,null,null,null,null,null,null,null,null,null,null,null,null,null,null,null,null,null,null,null,null,null,null,null,null,null,null,null,null,null,null,null,null,null,null,null,null,null,null,null,null,null,null,null,null,null,"",null,null,null,null,null,null,null,"VERIFIQUE FECHAS",null,null,null,null,null,null,null,null,null,"VERIFIQUE COLUMNA D"]
["","",null,"",{"$f":"IFERROR(VLOOKUP(D551,'CODIGO REGIONALES'!$J$2:$L$33,3,0),\"\")","v":""},"",{"$f":"IF(ISNA(VLOOKUP(F551,Divipolas!$A$2:$B$1123,2,FALSE)),\"\",VLOOKUP(F551,Divipolas!$A$2:$B$1123,2,FALSE))","v":""},"",{"$f":"IF(ISNA(VLOOKUP((CONCATENATE(F551,H551)),Divipolas!$F$2:$G$1123,2,FALSE)),\"\",VLOOKUP((CONCATENATE(F551,H551)),Divipolas!$F$2:$G$1123,2,FALSE))","v":""},"","","","","","","","",{"$f":"IF(ISNA(VLOOKUP(Q551,Divipolas!$A$2:$B$1123,2,FALSE)),\"\",VLOOKUP(Q551,Divipolas!$A$2:$B$1123,2,FALSE))","v":""},"",{"$f":"IF(ISNA(VLOOKUP((CONCATENATE(Q551,S551)),Divipolas!$F$2:$G$1123,2,FALSE)),\"\",VLOOKUP((CONCATENATE(Q551,S551)),Divipolas!$F$2:$G$1123,2,FALSE))","v":""},"","","","","","",{"$f":"IF(ISNA(VLOOKUP(Z551,'CODIGO PAIS'!$A$2:$B$231,2,FALSE)),\"\",VLOOKUP(Z551,'CODIGO PAIS'!$A$2:$B$231,2,FALSE))","v":""},"",{"$f":"IF(ISNA(VLOOKUP(AB551,Divipolas!$A$2:$B$1123,2,FALSE)),\"\",VLOOKUP(AB551,Divipolas!$A$2:$B$1123,2,FALSE))","v":""},"",{"$f":"IF(ISNA(VLOOKUP((CONCATENATE(AB551,AD551)),Divipolas!$F$2:$G$1123,2,FALSE)),\"\",VLOOKUP((CONCATENATE(AB551,AD551)),Divipolas!$F$2:$G$1123,2,FALSE))","v":""},"","","","","",{"$f":"IF(ISNA(VLOOKUP(AJ551,Divipolas!$A$2:$B$1123,2,FALSE)),\"\",VLOOKUP(AJ551,Divipolas!$A$2:$B$1123,2,FALSE))","v":""},"",{"$f":"IF(ISNA(VLOOKUP((CONCATENATE(AJ551,AL551)),Divipolas!$F$2:$G$1123,2,FALSE)),\"\",VLOOKUP((CONCATENATE(AJ551,AL551)),Divipolas!$F$2:$G$1123,2,FALSE))","v":""},"","","","","","","","","","","","","","",null,null,null,null,null,null,null,{"$f":"IF(ISNA(VLOOKUP(BH551,'CODIGO PAIS'!$A$2:$B$231,2,FALSE)),\"\",VLOOKUP(BH551,'CODIGO PAIS'!$A$2:$B$231,2,FALSE))","v":""},null,{"$f":"IF(ISNA(VLOOKUP(BJ551,Divipolas!$A$2:$B$1123,2,FALSE)),\"\",VLOOKUP(BJ551,Divipolas!$A$2:$B$1123,2,FALSE))","v":""},null,{"$f":"IF(ISNA(VLOOKUP((CONCATENATE(BJ551,BL551)),Divipolas!$F$2:$G$1123,2,FALSE)),\"\",VLOOKUP((CONCATENATE(BJ551,BL551)),Divipolas!$F$2:$G$1123,2,FALSE))","v":""},null,"","",null,null,null,null,{"$f":"IF(ISNA(VLOOKUP(BT551,Divipolas!$A$2:$B$1123,2,FALSE)),\"\",VLOOKUP(BT551,Divipolas!$A$2:$B$1123,2,FALSE))","v":""},null,{"$f":"IF(ISNA(VLOOKUP((CONCATENATE(BT551,BV551)),Divipolas!$F$2:$G$1123,2,FALSE)),\"\",VLOOKUP((CONCATENATE(BT551,BV551)),Divipolas!$F$2:$G$1123,2,FALSE))","v":""},null,null,null,null,null,null,null,null,null,null,null,null,null,null,null,null,null,null,null,null,null,null,null,"",null,null,null,null,null,null,null,null,null,null,null,null,null,null,null,null,null,null,null,null,null,null,null,null,null,null,null,null,null,null,null,null,null,null,null,null,null,null,null,null,null,null,null,null,null,null,null,null,null,null,null,null,null,null,null,null,null,null,null,null,null,null,null,null,null,null,null,null,null,null,null,null,null,null,null,null,"",null,null,null,null,null,null,null,"VERIFIQUE FECHAS",null,null,null,null,null,null,null,null,null,"VERIFIQUE COLUMNA D"]
["","",null,"",{"$f":"IFERROR(VLOOKUP(D552,'CODIGO REGIONALES'!$J$2:$L$33,3,0),\"\")","v":""},"",{"$f":"IF(ISNA(VLOOKUP(F552,Divipolas!$A$2:$B$1123,2,FALSE)),\"\",VLOOKUP(F552,Divipolas!$A$2:$B$1123,2,FALSE))","v":""},"",{"$f":"IF(ISNA(VLOOKUP((CONCATENATE(F552,H552)),Divipolas!$F$2:$G$1123,2,FALSE)),\"\",VLOOKUP((CONCATENATE(F552,H552)),Divipolas!$F$2:$G$1123,2,FALSE))","v":""},"",{"$f":"IF(AND($C552<>\"\",K551<>\"\"),K551,\"\")","v":""},"","","","","","",{"$f":"IF(ISNA(VLOOKUP(Q552,Divipolas!$A$2:$B$1123,2,FALSE)),\"\",VLOOKUP(Q552,Divipolas!$A$2:$B$1123,2,FALSE))","v":""},"",{"$f":"IF(ISNA(VLOOKUP((CONCATENATE(Q552,S552)),Divipolas!$F$2:$G$1123,2,FALSE)),\"\",VLOOKUP((CONCATENATE(Q552,S552)),Divipolas!$F$2:$G$1123,2,FALSE))","v":""},"","","","","","",{"$f":"IF(ISNA(VLOOKUP(Z552,'CODIGO PAIS'!$A$2:$B$231,2,FALSE)),\"\",VLOOKUP(Z552,'CODIGO PAIS'!$A$2:$B$231,2,FALSE))","v":""},"",{"$f":"IF(ISNA(VLOOKUP(AB552,Divipolas!$A$2:$B$1123,2,FALSE)),\"\",VLOOKUP(AB552,Divipolas!$A$2:$B$1123,2,FALSE))","v":""},"",{"$f":"IF(ISNA(VLOOKUP((CONCATENATE(AB552,AD552)),Divipolas!$F$2:$G$1123,2,FALSE)),\"\",VLOOKUP((CONCATENATE(AB552,AD552)),Divipolas!$F$2:$G$1123,2,FALSE))","v":""},"","","","","",{"$f":"IF(ISNA(VLOOKUP(AJ552,Divipolas!$A$2:$B$1123,2,FALSE)),\"\",VLOOKUP(AJ552,Divipolas!$A$2:$B$1123,2,FALSE))","v":""},"",{"$f":"IF(ISNA(VLOOKUP((CONCATENATE(AJ552,AL552)),Divipolas!$F$2:$G$1123,2,FALSE)),\"\",VLOOKUP((CONCATENATE(AJ552,AL552)),Divipolas!$F$2:$G$1123,2,FALSE))","v":""},"","","","","","","","","","","","","","",null,null,null,null,null,null,null,{"$f":"IF(ISNA(VLOOKUP(BH552,'CODIGO PAIS'!$A$2:$B$231,2,FALSE)),\"\",VLOOKUP(BH552,'CODIGO PAIS'!$A$2:$B$231,2,FALSE))","v":""},null,{"$f":"IF(ISNA(VLOOKUP(BJ552,Divipolas!$A$2:$B$1123,2,FALSE)),\"\",VLOOKUP(BJ552,Divipolas!$A$2:$B$1123,2,FALSE))","v":""},null,{"$f":"IF(ISNA(VLOOKUP((CONCATENATE(BJ552,BL552)),Divipolas!$F$2:$G$1123,2,FALSE)),\"\",VLOOKUP((CONCATENATE(BJ552,BL552)),Divipolas!$F$2:$G$1123,2,FALSE))","v":""},null,"","",null,null,null,null,{"$f":"IF(ISNA(VLOOKUP(BT552,Divipolas!$A$2:$B$1123,2,FALSE)),\"\",VLOOKUP(BT552,Divipolas!$A$2:$B$1123,2,FALSE))","v":""},null,{"$f":"IF(ISNA(VLOOKUP((CONCATENATE(BT552,BV552)),Divipolas!$F$2:$G$1123,2,FALSE)),\"\",VLOOKUP((CONCATENATE(BT552,BV552)),Divipolas!$F$2:$G$1123,2,FALSE))","v":""},null,null,null,null,null,null,null,null,null,null,null,null,null,null,null,null,null,null,null,null,null,null,null,"",null,null,null,null,null,null,null,null,null,null,null,null,null,null,null,null,null,null,null,null,null,null,null,null,null,null,null,null,null,null,null,null,null,null,null,null,null,null,null,null,null,null,null,null,null,null,null,null,null,null,null,null,null,null,null,null,null,null,null,null,null,null,null,null,null,null,null,null,null,null,null,null,null,null,null,null,"",null,null,null,null,null,null,null,"VERIFIQUE FECHAS",null,null,null,null,null,null,null,null,null,"VERIFIQUE COLUMNA D"]
["","",null,"",{"$f":"IFERROR(VLOOKUP(D557,'CODIGO REGIONALES'!$J$2:$L$33,3,0),\"\")","v":""},"",{"$f":"IF(ISNA(VLOOKUP(F557,Divipolas!$A$2:$B$1123,2,FALSE)),\"\",VLOOKUP(F557,Divipolas!$A$2:$B$1123,2,FALSE))","v":""},"",{"$f":"IF(ISNA(VLOOKUP((CONCATENATE(F557,H557)),Divipolas!$F$2:$G$1123,2,FALSE)),\"\",VLOOKUP((CONCATENATE(F557,H557)),Divipolas!$F$2:$G$1123,2,FALSE))","v":""},"","","","","","","","",{"$f":"IF(ISNA(VLOOKUP(Q557,Divipolas!$A$2:$B$1123,2,FALSE)),\"\",VLOOKUP(Q557,Divipolas!$A$2:$B$1123,2,FALSE))","v":""},"",{"$f":"IF(ISNA(VLOOKUP((CONCATENATE(Q557,S557)),Divipolas!$F$2:$G$1123,2,FALSE)),\"\",VLOOKUP((CONCATENATE(Q557,S557)),Divipolas!$F$2:$G$1123,2,FALSE))","v":""},"","","","","","",{"$f":"IF(ISNA(VLOOKUP(Z557,'CODIGO PAIS'!$A$2:$B$231,2,FALSE)),\"\",VLOOKUP(Z557,'CODIGO PAIS'!$A$2:$B$231,2,FALSE))","v":""},"",{"$f":"IF(ISNA(VLOOKUP(AB557,Divipolas!$A$2:$B$1123,2,FALSE)),\"\",VLOOKUP(AB557,Divipolas!$A$2:$B$1123,2,FALSE))","v":""},"",{"$f":"IF(ISNA(VLOOKUP((CONCATENATE(AB557,AD557)),Divipolas!$F$2:$G$1123,2,FALSE)),\"\",VLOOKUP((CONCATENATE(AB557,AD557)),Divipolas!$F$2:$G$1123,2,FALSE))","v":""},"","","","","",{"$f":"IF(ISNA(VLOOKUP(AJ557,Divipolas!$A$2:$B$1123,2,FALSE)),\"\",VLOOKUP(AJ557,Divipolas!$A$2:$B$1123,2,FALSE))","v":""},"",{"$f":"IF(ISNA(VLOOKUP((CONCATENATE(AJ557,AL557)),Divipolas!$F$2:$G$1123,2,FALSE)),\"\",VLOOKUP((CONCATENATE(AJ557,AL557)),Divipolas!$F$2:$G$1123,2,FALSE))","v":""},"","","","","","","","","","","","","","",null,null,null,null,null,null,null,{"$f":"IF(ISNA(VLOOKUP(BH557,'CODIGO PAIS'!$A$2:$B$231,2,FALSE)),\"\",VLOOKUP(BH557,'CODIGO PAIS'!$A$2:$B$231,2,FALSE))","v":""},null,{"$f":"IF(ISNA(VLOOKUP(BJ557,Divipolas!$A$2:$B$1123,2,FALSE)),\"\",VLOOKUP(BJ557,Divipolas!$A$2:$B$1123,2,FALSE))","v":""},null,{"$f":"IF(ISNA(VLOOKUP((CONCATENATE(BJ557,BL557)),Divipolas!$F$2:$G$1123,2,FALSE)),\"\",VLOOKUP((CONCATENATE(BJ557,BL557)),Divipolas!$F$2:$G$1123,2,FALSE))","v":""},null,"","",null,null,null,null,{"$f":"IF(ISNA(VLOOKUP(BT557,Divipolas!$A$2:$B$1123,2,FALSE)),\"\",VLOOKUP(BT557,Divipolas!$A$2:$B$1123,2,FALSE))","v":""},null,{"$f":"IF(ISNA(VLOOKUP((CONCATENATE(BT557,BV557)),Divipolas!$F$2:$G$1123,2,FALSE)),\"\",VLOOKUP((CONCATENATE(BT557,BV557)),Divipolas!$F$2:$G$1123,2,FALSE))","v":""},null,null,null,null,null,null,null,null,null,null,null,null,null,null,null,null,null,null,null,null,null,null,null,"",null,null,null,null,null,null,null,null,null,null,null,null,null,null,null,null,null,null,null,null,null,null,null,null,null,null,null,null,null,null,null,null,null,null,null,null,null,null,null,null,null,null,null,null,null,null,null,null,null,null,null,null,null,null,null,null,null,null,null,null,null,null,null,null,null,null,null,null,null,null,null,null,null,null,null,null,"",null,null,null,null,null,null,null,"VERIFIQUE FECHAS",null,null,null,null,null,null,null,null,null,"VERIFIQUE COLUMNA D"]
["","",null,"",{"$f":"IFERROR(VLOOKUP(D562,'CODIGO REGIONALES'!$J$2:$L$33,3,0),\"\")","v":""},"",{"$f":"IF(ISNA(VLOOKUP(F562,Divipolas!$A$2:$B$1123,2,FALSE)),\"\",VLOOKUP(F562,Divipolas!$A$2:$B$1123,2,FALSE))","v":""},"",{"$f":"IF(ISNA(VLOOKUP((CONCATENATE(F562,H562)),Divipolas!$F$2:$G$1123,2,FALSE)),\"\",VLOOKUP((CONCATENATE(F562,H562)),Divipolas!$F$2:$G$1123,2,FALSE))","v":""},"","","","","","","","",{"$f":"IF(ISNA(VLOOKUP(Q562,Divipolas!$A$2:$B$1123,2,FALSE)),\"\",VLOOKUP(Q562,Divipolas!$A$2:$B$1123,2,FALSE))","v":""},"",{"$f":"IF(ISNA(VLOOKUP((CONCATENATE(Q562,S562)),Divipolas!$F$2:$G$1123,2,FALSE)),\"\",VLOOKUP((CONCATENATE(Q562,S562)),Divipolas!$F$2:$G$1123,2,FALSE))","v":""},"","","","","","",{"$f":"IF(ISNA(VLOOKUP(Z562,'CODIGO PAIS'!$A$2:$B$231,2,FALSE)),\"\",VLOOKUP(Z562,'CODIGO PAIS'!$A$2:$B$231,2,FALSE))","v":""},"",{"$f":"IF(ISNA(VLOOKUP(AB562,Divipolas!$A$2:$B$1123,2,FALSE)),\"\",VLOOKUP(AB562,Divipolas!$A$2:$B$1123,2,FALSE))","v":""},"",{"$f":"IF(ISNA(VLOOKUP((CONCATENATE(AB562,AD562)),Divipolas!$F$2:$G$1123,2,FALSE)),\"\",VLOOKUP((CONCATENATE(AB562,AD562)),Divipolas!$F$2:$G$1123,2,FALSE))","v":""},"","","","","",{"$f":"IF(ISNA(VLOOKUP(AJ562,Divipolas!$A$2:$B$1123,2,FALSE)),\"\",VLOOKUP(AJ562,Divipolas!$A$2:$B$1123,2,FALSE))","v":""},"",{"$f":"IF(ISNA(VLOOKUP((CONCATENATE(AJ562,AL562)),Divipolas!$F$2:$G$1123,2,FALSE)),\"\",VLOOKUP((CONCATENATE(AJ562,AL562)),Divipolas!$F$2:$G$1123,2,FALSE))","v":""},"","","","","","","","","","","","","","",null,null,null,null,null,null,null,{"$f":"IF(ISNA(VLOOKUP(BH562,'CODIGO PAIS'!$A$2:$B$231,2,FALSE)),\"\",VLOOKUP(BH562,'CODIGO PAIS'!$A$2:$B$231,2,FALSE))","v":""},null,{"$f":"IF(ISNA(VLOOKUP(BJ562,Divipolas!$A$2:$B$1123,2,FALSE)),\"\",VLOOKUP(BJ562,Divipolas!$A$2:$B$1123,2,FALSE))","v":""},null,{"$f":"IF(ISNA(VLOOKUP((CONCATENATE(BJ562,BL562)),Divipolas!$F$2:$G$1123,2,FALSE)),\"\",VLOOKUP((CONCATENATE(BJ562,BL562)),Divipolas!$F$2:$G$1123,2,FALSE))","v":""},null,"","",null,null,null,null,{"$f":"IF(ISNA(VLOOKUP(BT562,Divipolas!$A$2:$B$1123,2,FALSE)),\"\",VLOOKUP(BT562,Divipolas!$A$2:$B$1123,2,FALSE))","v":""},null,{"$f":"IF(ISNA(VLOOKUP((CONCATENATE(BT562,BV562)),Divipolas!$F$2:$G$1123,2,FALSE)),\"\",VLOOKUP((CONCATENATE(BT562,BV562)),Divipolas!$F$2:$G$1123,2,FALSE))","v":""},null,null,null,null,null,null,null,null,null,null,null,null,null,null,null,null,null,null,null,null,null,null,null,"",null,null,null,null,null,null,null,null,null,null,null,null,null,null,null,null,null,null,null,null,null,null,null,null,null,null,null,null,null,null,null,null,null,null,null,null,null,null,null,null,null,null,null,null,null,null,null,null,null,null,null,null,null,null,null,null,null,null,null,null,null,null,null,null,null,null,null,null,null,null,null,null,null,null,null,null,"",null,null,null,null,null,null,null,"VERIFIQUE FECHAS",null,null,null,null,null,null,null,null,null,"VERIFIQUE COLUMNA D"]
["","",null,"",{"$f":"IFERROR(VLOOKUP(D570,'CODIGO REGIONALES'!$J$2:$L$33,3,0),\"\")","v":""},"",{"$f":"IF(ISNA(VLOOKUP(F570,Divipolas!$A$2:$B$1123,2,FALSE)),\"\",VLOOKUP(F570,Divipolas!$A$2:$B$1123,2,FALSE))","v":""},"",{"$f":"IF(ISNA(VLOOKUP((CONCATENATE(F570,H570)),Divipolas!$F$2:$G$1123,2,FALSE)),\"\",VLOOKUP((CONCATENATE(F570,H570)),Divipolas!$F$2:$G$1123,2,FALSE))","v":""},"","","","","","","","",{"$f":"IF(ISNA(VLOOKUP(Q570,Divipolas!$A$2:$B$1123,2,FALSE)),\"\",VLOOKUP(Q570,Divipolas!$A$2:$B$1123,2,FALSE))","v":""},"",{"$f":"IF(ISNA(VLOOKUP((CONCATENATE(Q570,S570)),Divipolas!$F$2:$G$1123,2,FALSE)),\"\",VLOOKUP((CONCATENATE(Q570,S570)),Divipolas!$F$2:$G$1123,2,FALSE))","v":""},"","","","","","",{"$f":"IF(ISNA(VLOOKUP(Z570,'CODIGO PAIS'!$A$2:$B$231,2,FALSE)),\"\",VLOOKUP(Z570,'CODIGO PAIS'!$A$2:$B$231,2,FALSE))","v":""},"",{"$f":"IF(ISNA(VLOOKUP(AB570,Divipolas!$A$2:$B$1123,2,FALSE)),\"\",VLOOKUP(AB570,Divipolas!$A$2:$B$1123,2,FALSE))","v":""},"",{"$f":"IF(ISNA(VLOOKUP((CONCATENATE(AB570,AD570)),Divipolas!$F$2:$G$1123,2,FALSE)),\"\",VLOOKUP((CONCATENATE(AB570,AD570)),Divipolas!$F$2:$G$1123,2,FALSE))","v":""},"","","","","",{"$f":"IF(ISNA(VLOOKUP(AJ570,Divipolas!$A$2:$B$1123,2,FALSE)),\"\",VLOOKUP(AJ570,Divipolas!$A$2:$B$1123,2,FALSE))","v":""},"",{"$f":"IF(ISNA(VLOOKUP((CONCATENATE(AJ570,AL570)),Divipolas!$F$2:$G$1123,2,FALSE)),\"\",VLOOKUP((CONCATENATE(AJ570,AL570)),Divipolas!$F$2:$G$1123,2,FALSE))","v":""},"","","","","","","","","","","","","","",null,null,null,null,null,null,null,{"$f":"IF(ISNA(VLOOKUP(BH570,'CODIGO PAIS'!$A$2:$B$231,2,FALSE)),\"\",VLOOKUP(BH570,'CODIGO PAIS'!$A$2:$B$231,2,FALSE))","v":""},null,{"$f":"IF(ISNA(VLOOKUP(BJ570,Divipolas!$A$2:$B$1123,2,FALSE)),\"\",VLOOKUP(BJ570,Divipolas!$A$2:$B$1123,2,FALSE))","v":""},null,{"$f":"IF(ISNA(VLOOKUP((CONCATENATE(BJ570,BL570)),Divipolas!$F$2:$G$1123,2,FALSE)),\"\",VLOOKUP((CONCATENATE(BJ570,BL570)),Divipolas!$F$2:$G$1123,2,FALSE))","v":""},null,"","",null,null,null,null,{"$f":"IF(ISNA(VLOOKUP(BT570,Divipolas!$A$2:$B$1123,2,FALSE)),\"\",VLOOKUP(BT570,Divipolas!$A$2:$B$1123,2,FALSE))","v":""},null,{"$f":"IF(ISNA(VLOOKUP((CONCATENATE(BT570,BV570)),Divipolas!$F$2:$G$1123,2,FALSE)),\"\",VLOOKUP((CONCATENATE(BT570,BV570)),Divipolas!$F$2:$G$1123,2,FALSE))","v":""},null,null,null,null,null,null,null,null,null,null,null,null,null,null,null,null,null,null,null,null,null,null,null,"",null,null,null,null,null,null,null,null,null,null,null,null,null,null,null,null,null,null,null,null,null,null,null,null,null,null,null,null,null,null,null,null,null,null,null,null,null,null,null,null,null,null,null,null,null,null,null,null,null,null,null,null,null,null,null,null,null,null,null,null,null,null,null,null,null,null,null,null,null,null,null,null,null,null,null,null,"",null,null,null,null,null,null,null,"VERIFIQUE FECHAS",null,null,null,null,null,null,null,null,null,"VERIFIQUE COLUMNA D"]
["","",null,"",{"$f":"IFERROR(VLOOKUP(D572,'CODIGO REGIONALES'!$J$2:$L$33,3,0),\"\")","v":""},"",{"$f":"IF(ISNA(VLOOKUP(F572,Divipolas!$A$2:$B$1123,2,FALSE)),\"\",VLOOKUP(F572,Divipolas!$A$2:$B$1123,2,FALSE))","v":""},"",{"$f":"IF(ISNA(VLOOKUP((CONCATENATE(F572,H572)),Divipolas!$F$2:$G$1123,2,FALSE)),\"\",VLOOKUP((CONCATENATE(F572,H572)),Divipolas!$F$2:$G$1123,2,FALSE))","v":""},"","","","","","","","",{"$f":"IF(ISNA(VLOOKUP(Q572,Divipolas!$A$2:$B$1123,2,FALSE)),\"\",VLOOKUP(Q572,Divipolas!$A$2:$B$1123,2,FALSE))","v":""},"",{"$f":"IF(ISNA(VLOOKUP((CONCATENATE(Q572,S572)),Divipolas!$F$2:$G$1123,2,FALSE)),\"\",VLOOKUP((CONCATENATE(Q572,S572)),Divipolas!$F$2:$G$1123,2,FALSE))","v":""},"","","","","","",{"$f":"IF(ISNA(VLOOKUP(Z572,'CODIGO PAIS'!$A$2:$B$231,2,FALSE)),\"\",VLOOKUP(Z572,'CODIGO PAIS'!$A$2:$B$231,2,FALSE))","v":""},"",{"$f":"IF(ISNA(VLOOKUP(AB572,Divipolas!$A$2:$B$1123,2,FALSE)),\"\",VLOOKUP(AB572,Divipolas!$A$2:$B$1123,2,FALSE))","v":""},"",{"$f":"IF(ISNA(VLOOKUP((CONCATENATE(AB572,AD572)),Divipolas!$F$2:$G$1123,2,FALSE)),\"\",VLOOKUP((CONCATENATE(AB572,AD572)),Divipolas!$F$2:$G$1123,2,FALSE))","v":""},"","","","","",{"$f":"IF(ISNA(VLOOKUP(AJ572,Divipolas!$A$2:$B$1123,2,FALSE)),\"\",VLOOKUP(AJ572,Divipolas!$A$2:$B$1123,2,FALSE))","v":""},"",{"$f":"IF(ISNA(VLOOKUP((CONCATENATE(AJ572,AL572)),Divipolas!$F$2:$G$1123,2,FALSE)),\"\",VLOOKUP((CONCATENATE(AJ572,AL572)),Divipolas!$F$2:$G$1123,2,FALSE))","v":""},"","","","","","","","","","","","","","",null,null,null,null,null,null,null,{"$f":"IF(ISNA(VLOOKUP(BH572,'CODIGO PAIS'!$A$2:$B$231,2,FALSE)),\"\",VLOOKUP(BH572,'CODIGO PAIS'!$A$2:$B$231,2,FALSE))","v":""},null,{"$f":"IF(ISNA(VLOOKUP(BJ572,Divipolas!$A$2:$B$1123,2,FALSE)),\"\",VLOOKUP(BJ572,Divipolas!$A$2:$B$1123,2,FALSE))","v":""},null,{"$f":"IF(ISNA(VLOOKUP((CONCATENATE(BJ572,BL572)),Divipolas!$F$2:$G$1123,2,FALSE)),\"\",VLOOKUP((CONCATENATE(BJ572,BL572)),Divipolas!$F$2:$G$1123,2,FALSE))","v":""},null,"","",null,null,null,null,{"$f":"IF(ISNA(VLOOKUP(BT572,Divipolas!$A$2:$B$1123,2,FALSE)),\"\",VLOOKUP(BT572,Divipolas!$A$2:$B$1123,2,FALSE))","v":""},null,{"$f":"IF(ISNA(VLOOKUP((CONCATENATE(BT572,BV572)),Divipolas!$F$2:$G$1123,2,FALSE)),\"\",VLOOKUP((CONCATENATE(BT572,BV572)),Divipolas!$F$2:$G$1123,2,FALSE))","v":""},null,null,null,null,null,null,null,null,null,null,null,null,null,null,null,null,null,null,null,null,null,null,null,"",null,null,null,null,null,null,null,null,null,null,null,null,null,null,null,null,null,null,null,null,null,null,null,null,null,null,null,null,null,null,null,null,null,null,null,null,null,null,null,null,null,null,null,null,null,null,null,null,null,null,null,null,null,null,null,null,null,null,null,null,null,null,null,null,null,null,null,null,null,null,null,null,null,null,null,null,"",null,null,null,null,null,null,null,"VERIFIQUE FECHAS",null,null,null,null,null,null,null,null,null,"VERIFIQUE COLUMNA D"]
["","",null,"",{"$f":"IFERROR(VLOOKUP(D577,'CODIGO REGIONALES'!$J$2:$L$33,3,0),\"\")","v":""},"",{"$f":"IF(ISNA(VLOOKUP(F577,Divipolas!$A$2:$B$1123,2,FALSE)),\"\",VLOOKUP(F577,Divipolas!$A$2:$B$1123,2,FALSE))","v":""},"",{"$f":"IF(ISNA(VLOOKUP((CONCATENATE(F577,H577)),Divipolas!$F$2:$G$1123,2,FALSE)),\"\",VLOOKUP((CONCATENATE(F577,H577)),Divipolas!$F$2:$G$1123,2,FALSE))","v":""},"","","","","","","","",{"$f":"IF(ISNA(VLOOKUP(Q577,Divipolas!$A$2:$B$1123,2,FALSE)),\"\",VLOOKUP(Q577,Divipolas!$A$2:$B$1123,2,FALSE))","v":""},"",{"$f":"IF(ISNA(VLOOKUP((CONCATENATE(Q577,S577)),Divipolas!$F$2:$G$1123,2,FALSE)),\"\",VLOOKUP((CONCATENATE(Q577,S577)),Divipolas!$F$2:$G$1123,2,FALSE))","v":""},"","","","","","",{"$f":"IF(ISNA(VLOOKUP(Z577,'CODIGO PAIS'!$A$2:$B$231,2,FALSE)),\"\",VLOOKUP(Z577,'CODIGO PAIS'!$A$2:$B$231,2,FALSE))","v":""},"",{"$f":"IF(ISNA(VLOOKUP(AB577,Divipolas!$A$2:$B$1123,2,FALSE)),\"\",VLOOKUP(AB577,Divipolas!$A$2:$B$1123,2,FALSE))","v":""},"",{"$f":"IF(ISNA(VLOOKUP((CONCATENATE(AB577,AD577)),Divipolas!$F$2:$G$1123,2,FALSE)),\"\",VLOOKUP((CONCATENATE(AB577,AD577)),Divipolas!$F$2:$G$1123,2,FALSE))","v":""},"","","","","",{"$f":"IF(ISNA(VLOOKUP(AJ577,Divipolas!$A$2:$B$1123,2,FALSE)),\"\",VLOOKUP(AJ577,Divipolas!$A$2:$B$1123,2,FALSE))","v":""},"",{"$f":"IF(ISNA(VLOOKUP((CONCATENATE(AJ577,AL577)),Divipolas!$F$2:$G$1123,2,FALSE)),\"\",VLOOKUP((CONCATENATE(AJ577,AL577)),Divipolas!$F$2:$G$1123,2,FALSE))","v":""},"","","","","","","","","","","","","","",null,null,null,null,null,null,null,{"$f":"IF(ISNA(VLOOKUP(BH577,'CODIGO PAIS'!$A$2:$B$231,2,FALSE)),\"\",VLOOKUP(BH577,'CODIGO PAIS'!$A$2:$B$231,2,FALSE))","v":""},null,{"$f":"IF(ISNA(VLOOKUP(BJ577,Divipolas!$A$2:$B$1123,2,FALSE)),\"\",VLOOKUP(BJ577,Divipolas!$A$2:$B$1123,2,FALSE))","v":""},null,{"$f":"IF(ISNA(VLOOKUP((CONCATENATE(BJ577,BL577)),Divipolas!$F$2:$G$1123,2,FALSE)),\"\",VLOOKUP((CONCATENATE(BJ577,BL577)),Divipolas!$F$2:$G$1123,2,FALSE))","v":""},null,"","",null,null,null,null,{"$f":"IF(ISNA(VLOOKUP(BT577,Divipolas!$A$2:$B$1123,2,FALSE)),\"\",VLOOKUP(BT577,Divipolas!$A$2:$B$1123,2,FALSE))","v":""},null,{"$f":"IF(ISNA(VLOOKUP((CONCATENATE(BT577,BV577)),Divipolas!$F$2:$G$1123,2,FALSE)),\"\",VLOOKUP((CONCATENATE(BT577,BV577)),Divipolas!$F$2:$G$1123,2,FALSE))","v":""},null,null,null,null,null,null,null,null,null,null,null,null,null,null,null,null,null,null,null,null,null,null,null,"",null,null,null,null,null,null,null,null,null,null,null,null,null,null,null,null,null,null,null,null,null,null,null,null,null,null,null,null,null,null,null,null,null,null,null,null,null,null,null,null,null,null,null,null,null,null,null,null,null,null,null,null,null,null,null,null,null,null,null,null,null,null,null,null,null,null,null,null,null,null,null,null,null,null,null,null,"",null,null,null,null,null,null,null,"VERIFIQUE FECHAS",null,null,null,null,null,null,null,null,null,"VERIFIQUE COLUMNA D"]
["","",null,"",{"$f":"IFERROR(VLOOKUP(D583,'CODIGO REGIONALES'!$J$2:$L$33,3,0),\"\")","v":""},"",{"$f":"IF(ISNA(VLOOKUP(F583,Divipolas!$A$2:$B$1123,2,FALSE)),\"\",VLOOKUP(F583,Divipolas!$A$2:$B$1123,2,FALSE))","v":""},"",{"$f":"IF(ISNA(VLOOKUP((CONCATENATE(F583,H583)),Divipolas!$F$2:$G$1123,2,FALSE)),\"\",VLOOKUP((CONCATENATE(F583,H583)),Divipolas!$F$2:$G$1123,2,FALSE))","v":""},"","","","","","","","",{"$f":"IF(ISNA(VLOOKUP(Q583,Divipolas!$A$2:$B$1123,2,FALSE)),\"\",VLOOKUP(Q583,Divipolas!$A$2:$B$1123,2,FALSE))","v":""},"",{"$f":"IF(ISNA(VLOOKUP((CONCATENATE(Q583,S583)),Divipolas!$F$2:$G$1123,2,FALSE)),\"\",VLOOKUP((CONCATENATE(Q583,S583)),Divipolas!$F$2:$G$1123,2,FALSE))","v":""},"","","","","","",{"$f":"IF(ISNA(VLOOKUP(Z583,'CODIGO PAIS'!$A$2:$B$231,2,FALSE)),\"\",VLOOKUP(Z583,'CODIGO PAIS'!$A$2:$B$231,2,FALSE))","v":""},"",{"$f":"IF(ISNA(VLOOKUP(AB583,Divipolas!$A$2:$B$1123,2,FALSE)),\"\",VLOOKUP(AB583,Divipolas!$A$2:$B$1123,2,FALSE))","v":""},"",{"$f":"IF(ISNA(VLOOKUP((CONCATENATE(AB583,AD583)),Divipolas!$F$2:$G$1123,2,FALSE)),\"\",VLOOKUP((CONCATENATE(AB583,AD583)),Divipolas!$F$2:$G$1123,2,FALSE))","v":""},"","","","","",{"$f":"IF(ISNA(VLOOKUP(AJ583,Divipolas!$A$2:$B$1123,2,FALSE)),\"\",VLOOKUP(AJ583,Divipolas!$A$2:$B$1123,2,FALSE))","v":""},"",{"$f":"IF(ISNA(VLOOKUP((CONCATENATE(AJ583,AL583)),Divipolas!$F$2:$G$1123,2,FALSE)),\"\",VLOOKUP((CONCATENATE(AJ583,AL583)),Divipolas!$F$2:$G$1123,2,FALSE))","v":""},"","","","","","","","","","","","","","",null,null,null,null,null,null,null,{"$f":"IF(ISNA(VLOOKUP(BH583,'CODIGO PAIS'!$A$2:$B$231,2,FALSE)),\"\",VLOOKUP(BH583,'CODIGO PAIS'!$A$2:$B$231,2,FALSE))","v":""},null,{"$f":"IF(ISNA(VLOOKUP(BJ583,Divipolas!$A$2:$B$1123,2,FALSE)),\"\",VLOOKUP(BJ583,Divipolas!$A$2:$B$1123,2,FALSE))","v":""},null,{"$f":"IF(ISNA(VLOOKUP((CONCATENATE(BJ583,BL583)),Divipolas!$F$2:$G$1123,2,FALSE)),\"\",VLOOKUP((CONCATENATE(BJ583,BL583)),Divipolas!$F$2:$G$1123,2,FALSE))","v":""},null,"","",null,null,null,null,{"$f":"IF(ISNA(VLOOKUP(BT583,Divipolas!$A$2:$B$1123,2,FALSE)),\"\",VLOOKUP(BT583,Divipolas!$A$2:$B$1123,2,FALSE))","v":""},null,{"$f":"IF(ISNA(VLOOKUP((CONCATENATE(BT583,BV583)),Divipolas!$F$2:$G$1123,2,FALSE)),\"\",VLOOKUP((CONCATENATE(BT583,BV583)),Divipolas!$F$2:$G$1123,2,FALSE))","v":""},null,null,null,null,null,null,null,null,null,null,null,null,null,null,null,null,null,null,null,null,null,null,null,"",null,null,null,null,null,null,null,null,null,null,null,null,null,null,null,null,null,null,null,null,null,null,null,null,null,null,null,null,null,null,null,null,null,null,null,null,null,null,null,null,null,null,null,null,null,null,null,null,null,null,null,null,null,null,null,null,null,null,null,null,null,null,null,null,null,null,null,null,null,null,null,null,null,null,null,null,"",null,null,null,null,null,null,null,{"$f":"IF(C583=\"\",\"VERIFIQUE FECHAS\",IF(BN583=\"\",\"VERIFIQUE FECHAS\",IF(AF583=\"\",\"VERIFIQUE FECHAS\",IF(C583>=BN583,\"OK\",\"VERIFIQUE FECHAS\"))))","v":"VERIFIQUE FECHAS"},null,null,null,null,null,null,null,null,null,{"$f":"IF(D583=\"\",\"VERIFIQUE COLUMNA D\",IF(F583=\"\",\"VERIFIQUE COLUMNA F\",IF(H583=\"\",\"VERIFIQUE COLUMNA H\",IF(J583=\"\",\"VERIFIQUE COLUMNA J\",IF(K583=\"\",\"VERIFIQUE COLUMNA K\",IF(N583=\"\",\"VERIFIQUE COLUMNA N\",IF(U583=\"\",\"VERIFIQUE COLUMNA U\",IF(W583=\"\",\"VERIFIQUE COLUMNA W\",IF(Y583=\"\",\"VERIFIQUE COLUMNA Y\",IF(AF583=\"\",\"VERIFIQUE COLUMNA AF\",IF(AG583=\"\",\"VERIFIQUE COLUMNA AG\",IF(BB583=\"\",\"VERIFIQUE COLUMNA BB\",IF(BC583=\"\",\"VERIFIQUE COLUMNA BC\",IF(BE583=\"\",\"VERIFIQUE COLUMNA BE\",IF(BG583=\"\",\"VERIFIQUE COLUMNA BG\",IF(BN583=\"\",\"VERIFIQUE COLUMNA BN\",IF(BQ583=\"\",\"VERIFIQUE COLUMNA BQ\",IF(BZ583=\"\",\"VERIFIQUE COLUMNA BZ\",IF(EJ583=\"\",\"VERIFIQUE COLUMNA EJ\",IF(EK583=\"\",\"VERIFIQUE COLUMNA EK\",IF(FY583=\"\",\"VERIFIQUE COLUMNA FY\",IF(GC583=\"\",\"VERIFIQUE COLUMNA GC\",IF(GE583=\"\",\"VERIFIQUE COLUMNA GE\",\"Campos o.k.\")))))))))))))))))))))))","v":"VERIFIQUE COLUMNA D"}]
["","",null,"",{"$f":"IFERROR(VLOOKUP(D589,'CODIGO REGIONALES'!$J$2:$L$33,3,0),\"\")","v":""},"",{"$f":"IF(ISNA(VLOOKUP(F589,Divipolas!$A$2:$B$1123,2,FALSE)),\"\",VLOOKUP(F589,Divipolas!$A$2:$B$1123,2,FALSE))","v":""},"",{"$f":"IF(ISNA(VLOOKUP((CONCATENATE(F589,H589)),Divipolas!$F$2:$G$1123,2,FALSE)),\"\",VLOOKUP((CONCATENATE(F589,H589)),Divipolas!$F$2:$G$1123,2,FALSE))","v":""},"","","","","","","","",{"$f":"IF(ISNA(VLOOKUP(Q589,Divipolas!$A$2:$B$1123,2,FALSE)),\"\",VLOOKUP(Q589,Divipolas!$A$2:$B$1123,2,FALSE))","v":""},"",{"$f":"IF(ISNA(VLOOKUP((CONCATENATE(Q589,S589)),Divipolas!$F$2:$G$1123,2,FALSE)),\"\",VLOOKUP((CONCATENATE(Q589,S589)),Divipolas!$F$2:$G$1123,2,FALSE))","v":""},"","","","","","",{"$f":"IF(ISNA(VLOOKUP(Z589,'CODIGO PAIS'!$A$2:$B$231,2,FALSE)),\"\",VLOOKUP(Z589,'CODIGO PAIS'!$A$2:$B$231,2,FALSE))","v":""},"",{"$f":"IF(ISNA(VLOOKUP(AB589,Divipolas!$A$2:$B$1123,2,FALSE)),\"\",VLOOKUP(AB589,Divipolas!$A$2:$B$1123,2,FALSE))","v":""},"",{"$f":"IF(ISNA(VLOOKUP((CONCATENATE(AB589,AD589)),Divipolas!$F$2:$G$1123,2,FALSE)),\"\",VLOOKUP((CONCATENATE(AB589,AD589)),Divipolas!$F$2:$G$1123,2,FALSE))","v":""},"","","","","",{"$f":"IF(ISNA(VLOOKUP(AJ589,Divipolas!$A$2:$B$1123,2,FALSE)),\"\",VLOOKUP(AJ589,Divipolas!$A$2:$B$1123,2,FALSE))","v":""},"",{"$f":"IF(ISNA(VLOOKUP((CONCATENATE(AJ589,AL589)),Divipolas!$F$2:$G$1123,2,FALSE)),\"\",VLOOKUP((CONCATENATE(AJ589,AL589)),Divipolas!$F$2:$G$1123,2,FALSE))","v":""},"","","","","","","","","","","","","","",null,null,null,null,null,null,null,{"$f":"IF(ISNA(VLOOKUP(BH589,'CODIGO PAIS'!$A$2:$B$231,2,FALSE)),\"\",VLOOKUP(BH589,'CODIGO PAIS'!$A$2:$B$231,2,FALSE))","v":""},null,{"$f":"IF(ISNA(VLOOKUP(BJ589,Divipolas!$A$2:$B$1123,2,FALSE)),\"\",VLOOKUP(BJ589,Divipolas!$A$2:$B$1123,2,FALSE))","v":""},null,{"$f":"IF(ISNA(VLOOKUP((CONCATENATE(BJ589,BL589)),Divipolas!$F$2:$G$1123,2,FALSE)),\"\",VLOOKUP((CONCATENATE(BJ589,BL589)),Divipolas!$F$2:$G$1123,2,FALSE))","v":""},null,"","",null,null,null,null,{"$f":"IF(ISNA(VLOOKUP(BT589,Divipolas!$A$2:$B$1123,2,FALSE)),\"\",VLOOKUP(BT589,Divipolas!$A$2:$B$1123,2,FALSE))","v":""},null,{"$f":"IF(ISNA(VLOOKUP((CONCATENATE(BT589,BV589)),Divipolas!$F$2:$G$1123,2,FALSE)),\"\",VLOOKUP((CONCATENATE(BT589,BV589)),Divipolas!$F$2:$G$1123,2,FALSE))","v":""},null,null,null,null,null,null,null,null,null,null,null,null,null,null,null,null,null,null,null,null,null,null,null,"",null,null,null,null,null,null,null,null,null,null,null,null,null,null,null,null,null,null,null,null,null,null,null,null,null,null,null,null,null,null,null,null,null,null,null,null,null,null,null,null,null,null,null,null,null,null,null,null,null,null,null,null,null,null,null,null,null,null,null,null,null,null,null,null,null,null,null,null,null,null,null,null,null,null,null,null,"",null,null,null,null,null,null,null,"VERIFIQUE FECHAS",null,null,null,null,null,null,null,null,null,"VERIFIQUE COLUMNA D"]
["","",null,"",{"$f":"IFERROR(VLOOKUP(D593,'CODIGO REGIONALES'!$J$2:$L$33,3,0),\"\")","v":""},"",{"$f":"IF(ISNA(VLOOKUP(F593,Divipolas!$A$2:$B$1123,2,FALSE)),\"\",VLOOKUP(F593,Divipolas!$A$2:$B$1123,2,FALSE))","v":""},"",{"$f":"IF(ISNA(VLOOKUP((CONCATENATE(F593,H593)),Divipolas!$F$2:$G$1123,2,FALSE)),\"\",VLOOKUP((CONCATENATE(F593,H593)),Divipolas!$F$2:$G$1123,2,FALSE))","v":""},"","","","","","","","",{"$f":"IF(ISNA(VLOOKUP(Q593,Divipolas!$A$2:$B$1123,2,FALSE)),\"\",VLOOKUP(Q593,Divipolas!$A$2:$B$1123,2,FALSE))","v":""},"",{"$f":"IF(ISNA(VLOOKUP((CONCATENATE(Q593,S593)),Divipolas!$F$2:$G$1123,2,FALSE)),\"\",VLOOKUP((CONCATENATE(Q593,S593)),Divipolas!$F$2:$G$1123,2,FALSE))","v":""},"","","","","","",{"$f":"IF(ISNA(VLOOKUP(Z593,'CODIGO PAIS'!$A$2:$B$231,2,FALSE)),\"\",VLOOKUP(Z593,'CODIGO PAIS'!$A$2:$B$231,2,FALSE))","v":""},"",{"$f":"IF(ISNA(VLOOKUP(AB593,Divipolas!$A$2:$B$1123,2,FALSE)),\"\",VLOOKUP(AB593,Divipolas!$A$2:$B$1123,2,FALSE))","v":""},"",{"$f":"IF(ISNA(VLOOKUP((CONCATENATE(AB593,AD593)),Divipolas!$F$2:$G$1123,2,FALSE)),\"\",VLOOKUP((CONCATENATE(AB593,AD593)),Divipolas!$F$2:$G$1123,2,FALSE))","v":""},"","","","","",{"$f":"IF(ISNA(VLOOKUP(AJ593,Divipolas!$A$2:$B$1123,2,FALSE)),\"\",VLOOKUP(AJ593,Divipolas!$A$2:$B$1123,2,FALSE))","v":""},"",{"$f":"IF(ISNA(VLOOKUP((CONCATENATE(AJ593,AL593)),Divipolas!$F$2:$G$1123,2,FALSE)),\"\",VLOOKUP((CONCATENATE(AJ593,AL593)),Divipolas!$F$2:$G$1123,2,FALSE))","v":""},"","","","","","","","","","","","","","",null,null,null,null,null,null,null,{"$f":"IF(ISNA(VLOOKUP(BH593,'CODIGO PAIS'!$A$2:$B$231,2,FALSE)),\"\",VLOOKUP(BH593,'CODIGO PAIS'!$A$2:$B$231,2,FALSE))","v":""},null,{"$f":"IF(ISNA(VLOOKUP(BJ593,Divipolas!$A$2:$B$1123,2,FALSE)),\"\",VLOOKUP(BJ593,Divipolas!$A$2:$B$1123,2,FALSE))","v":""},null,{"$f":"IF(ISNA(VLOOKUP((CONCATENATE(BJ593,BL593)),Divipolas!$F$2:$G$1123,2,FALSE)),\"\",VLOOKUP((CONCATENATE(BJ593,BL593)),Divipolas!$F$2:$G$1123,2,FALSE))","v":""},null,"","",null,null,null,null,{"$f":"IF(ISNA(VLOOKUP(BT593,Divipolas!$A$2:$B$1123,2,FALSE)),\"\",VLOOKUP(BT593,Divipolas!$A$2:$B$1123,2,FALSE))","v":""},null,{"$f":"IF(ISNA(VLOOKUP((CONCATENATE(BT593,BV593)),Divipolas!$F$2:$G$1123,2,FALSE)),\"\",VLOOKUP((CONCATENATE(BT593,BV593)),Divipolas!$F$2:$G$1123,2,FALSE))","v":""},null,null,null,null,null,null,null,null,null,null,null,null,null,null,null,null,null,null,null,null,null,null,null,"",null,null,null,null,null,null,null,null,null,null,null,null,null,null,null,null,null,null,null,null,null,null,null,null,null,null,null,null,null,null,null,null,null,null,null,null,null,null,null,null,null,null,null,null,null,null,null,null,null,null,null,null,null,null,null,null,null,null,null,null,null,null,null,null,null,null,null,null,null,null,null,null,null,null,null,null,"",null,null,null,null,null,null,null,"VERIFIQUE FECHAS",null,null,null,null,null,null,null,null,null,"VERIFIQUE COLUMNA D"]
["","",null,"",{"$f":"IFERROR(VLOOKUP(D598,'CODIGO REGIONALES'!$J$2:$L$33,3,0),\"\")","v":""},"",{"$f":"IF(ISNA(VLOOKUP(F598,Divipolas!$A$2:$B$1123,2,FALSE)),\"\",VLOOKUP(F598,Divipolas!$A$2:$B$1123,2,FALSE))","v":""},"",{"$f":"IF(ISNA(VLOOKUP((CONCATENATE(F598,H598)),Divipolas!$F$2:$G$1123,2,FALSE)),\"\",VLOOKUP((CONCATENATE(F598,H598)),Divipolas!$F$2:$G$1123,2,FALSE))","v":""},"","","","","","","","",{"$f":"IF(ISNA(VLOOKUP(Q598,Divipolas!$A$2:$B$1123,2,FALSE)),\"\",VLOOKUP(Q598,Divipolas!$A$2:$B$1123,2,FALSE))","v":""},"",{"$f":"IF(ISNA(VLOOKUP((CONCATENATE(Q598,S598)),Divipolas!$F$2:$G$1123,2,FALSE)),\"\",VLOOKUP((CONCATENATE(Q598,S598)),Divipolas!$F$2:$G$1123,2,FALSE))","v":""},"","","","","","",{"$f":"IF(ISNA(VLOOKUP(Z598,'CODIGO PAIS'!$A$2:$B$231,2,FALSE)),\"\",VLOOKUP(Z598,'CODIGO PAIS'!$A$2:$B$231,2,FALSE))","v":""},"",{"$f":"IF(ISNA(VLOOKUP(AB598,Divipolas!$A$2:$B$1123,2,FALSE)),\"\",VLOOKUP(AB598,Divipolas!$A$2:$B$1123,2,FALSE))","v":""},"",{"$f":"IF(ISNA(VLOOKUP((CONCATENATE(AB598,AD598)),Divipolas!$F$2:$G$1123,2,FALSE)),\"\",VLOOKUP((CONCATENATE(AB598,AD598)),Divipolas!$F$2:$G$1123,2,FALSE))","v":""},"","","","","",{"$f":"IF(ISNA(VLOOKUP(AJ598,Divipolas!$A$2:$B$1123,2,FALSE)),\"\",VLOOKUP(AJ598,Divipolas!$A$2:$B$1123,2,FALSE))","v":""},"",{"$f":"IF(ISNA(VLOOKUP((CONCATENATE(AJ598,AL598)),Divipolas!$F$2:$G$1123,2,FALSE)),\"\",VLOOKUP((CONCATENATE(AJ598,AL598)),Divipolas!$F$2:$G$1123,2,FALSE))","v":""},"","","","","","","","","","","","","","",null,null,null,null,null,null,null,{"$f":"IF(ISNA(VLOOKUP(BH598,'CODIGO PAIS'!$A$2:$B$231,2,FALSE)),\"\",VLOOKUP(BH598,'CODIGO PAIS'!$A$2:$B$231,2,FALSE))","v":""},null,{"$f":"IF(ISNA(VLOOKUP(BJ598,Divipolas!$A$2:$B$1123,2,FALSE)),\"\",VLOOKUP(BJ598,Divipolas!$A$2:$B$1123,2,FALSE))","v":""},null,{"$f":"IF(ISNA(VLOOKUP((CONCATENATE(BJ598,BL598)),Divipolas!$F$2:$G$1123,2,FALSE)),\"\",VLOOKUP((CONCATENATE(BJ598,BL598)),Divipolas!$F$2:$G$1123,2,FALSE))","v":""},null,"","",null,null,null,null,{"$f":"IF(ISNA(VLOOKUP(BT598,Divipolas!$A$2:$B$1123,2,FALSE)),\"\",VLOOKUP(BT598,Divipolas!$A$2:$B$1123,2,FALSE))","v":""},null,{"$f":"IF(ISNA(VLOOKUP((CONCATENATE(BT598,BV598)),Divipolas!$F$2:$G$1123,2,FALSE)),\"\",VLOOKUP((CONCATENATE(BT598,BV598)),Divipolas!$F$2:$G$1123,2,FALSE))","v":""},null,null,null,null,null,null,null,null,null,null,null,null,null,null,null,null,null,null,null,null,null,null,null,"",null,null,null,null,null,null,null,null,null,null,null,null,null,null,null,null,null,null,null,null,null,null,null,null,null,null,null,null,null,null,null,null,null,null,null,null,null,null,null,null,null,null,null,null,null,null,null,null,null,null,null,null,null,null,null,null,null,null,null,null,null,null,null,null,null,null,null,null,null,null,null,null,null,null,null,null,"",null,null,null,null,null,null,null,"VERIFIQUE FECHAS",null,null,null,null,null,null,null,null,null,"VERIFIQUE COLUMNA D"]
[{"$f":"IF(C603<>\"\",A602+1,\"\")","v":""},{"$f":"IF(AND($B$6<>\"\",C603<>\"\"),$B$6,\"\")","v":""},null,{"$f":"IF(AND(C603<>\"\",D602<>\"\"),D602,\"\")","v":""},{"$f":"IFERROR(VLOOKUP(D603,'CODIGO REGIONALES'!$J$2:$L$33,3,0),\"\")","v":""},{"$f":"IF(AND(C603<>\"\",F602<>\"\"),F602,\"\")","v":""},{"$f":"IF(ISNA(VLOOKUP(F603,Divipolas!$A$2:$B$1123,2,FALSE)),\"\",VLOOKUP(F603,Divipolas!$A$2:$B$1123,2,FALSE))","v":""},{"$f":"IF(AND(C603<>\"\",H602<>\"\"),H602,\"\")","v":""},{"$f":"IF(ISNA(VLOOKUP((CONCATENATE(F603,H603)),Divipolas!$F$2:$G$1123,2,FALSE)),\"\",VLOOKUP((CONCATENATE(F603,H603)),Divipolas!$F$2:$G$1123,2,FALSE))","v":""},{"$f":"IF(AND($C603<>\"\",J602<>\"\"),J602,\"\")","v":""},"","","","",{"$f":"IF(AND(C603<>\"\",O602<>\"\"),O602,\"\")","v":""},{"$f":"IF(AND(C603<>\"\",P602<>\"\"),P602,\"\")","v":""},{"$f":"IF(AND($C603<>\"\",Q602<>\"\"),Q602,\"\")","v":""},{"$f":"IF(ISNA(VLOOKUP(Q603,Divipolas!$A$2:$B$1123,2,FALSE)),\"\",VLOOKUP(Q603,Divipolas!$A$2:$B$1123,2,FALSE))","v":""},{"$f":"IF(AND($C603<>\"\",S602<>\"\"),S602,\"\")","v":""},{"$f":"IF(ISNA(VLOOKUP((CONCATENATE(Q603,S603)),Divipolas!$F$2:$G$1123,2,FALSE)),\"\",VLOOKUP((CONCATENATE(Q603,S603)),Divipolas!$F$2:$G$1123,2,FALSE))","v":""},{"$f":"IF(AND(BC603<>\"\",U602<>\"\"),U602,\"\")","v":""},{"$f":"IF(AND(BC603<>\"\",V602<>\"\"),V602,\"\")","v":""},{"$f":"IF(AND(BC603<>\"\",W602<>\"\"),W602,\"\")","v":""},{"$f":"IF(AND(BC603<>\"\",X602<>\"\"),X602,\"\")","v":""},{"$f":"IF(AND(BC603<>\"\",Y602<>\"\"),Y602,\"\")","v":""},{"$f":"IF(AND(BC603<>\"\",Z602<>\"\"),Z602,\"\")","v":""},{"$f":"IF(ISNA(VLOOKUP(Z603,'CODIGO PAIS'!$A$2:$B$231,2,FALSE)),\"\",VLOOKUP(Z603,'CODIGO PAIS'!$A$2:$B$231,2,FALSE))","v":""},{"$f":"IF(AND(BC603<>\"\",AB602<>\"\"),AB602,\"\")","v":""},{"$f":"IF(ISNA(VLOOKUP(AB603,Divipolas!$A$2:$B$1123,2,FALSE)),\"\",VLOOKUP(AB603,Divipolas!$A$2:$B$1123,2,FALSE))","v":""},{"$f":"IF(AND(BC603<>\"\",AD602<>\"\"),AD602,\"\")","v":""},{"$f":"IF(ISNA(VLOOKUP((CONCATENATE(AB603,AD603)),Divipolas!$F$2:$G$1123,2,FALSE)),\"\",VLOOKUP((CONCATENATE(AB603,AD603)),Divipolas!$F$2:$G$1123,2,FALSE))","v":""},{"$f":"IF(AND(BC603<>\"\",AF602<>\"\"),AF602,\"\")","v":""},{"$f":"IF(AND(BC603<>\"\",AG602<>\"\"),AG602,\"\")","v":""},{"$f":"IF(AND(BC603<>\"\",AH602<>\"\"),AH602,\"\")","v":""},{"$f":"IF(AND(BC603<>\"\",AI602<>\"\"),AI602,\"\")","v":""},{"$f":"IF(AND(BC603<>\"\",AJ602<>\"\"),AJ602,\"\")","v":""},{"$f":"IF(ISNA(VLOOKUP(AJ603,Divipolas!$A$2:$B$1123,2,FALSE)),\"\",VLOOKUP(AJ603,Divipolas!$A$2:$B$1123,2,FALSE))","v":""},{"$f":"IF(AND(BC603<>\"\",AL602<>\"\"),AL602,\"\")","v":""},{"$f":"IF(ISNA(VLOOKUP((CONCATENATE(AJ603,AL603)),Divipolas!$F$2:$G$1123,2,FALSE)),\"\",VLOOKUP((CONCATENATE(AJ603,AL603)),Divipolas!$F$2:$G$1123,2,FALSE))","v":""},"","","","","","","","",{"$f":"IF(AND(BC603<>\"\",AV602<>\"\"),AV602,\"\")","v":""},{"$f":"IF(AND(BC603<>\"\",AW602<>\"\"),AW602,\"\")","v":""},{"$f":"IF(AND(BC603<>\"\",AX602<>\"\"),AX602,\"\")","v":""},{"$f":"IF(AND(BC603<>\"\",AY602<>\"\"),AY602,\"\")","v":""},{"$f":"IF(AND(BC603<>\"\",AZ602<>\"\"),AZ602,\"\")","v":""},{"$f":"IF(AND(BC603<>\"\",BA602<>\"\"),BA602,\"\")","v":""},null,null,null,null,null,null,null,{"$f":"IF(ISNA(VLOOKUP(BH603,'CODIGO PAIS'!$A$2:$B$231,2,FALSE)),\"\",VLOOKUP(BH603,'CODIGO PAIS'!$A$2:$B$231,2,FALSE))","v":""},null,{"$f":"IF(ISNA(VLOOKUP(BJ603,Divipolas!$A$2:$B$1123,2,FALSE)),\"\",VLOOKUP(BJ603,Divipolas!$A$2:$B$1123,2,FALSE))","v":""},null,{"$f":"IF(ISNA(VLOOKUP((CONCATENATE(BJ603,BL603)),Divipolas!$F$2:$G$1123,2,FALSE)),\"\",VLOOKUP((CONCATENATE(BJ603,BL603)),Divipolas!$F$2:$G$1123,2,FALSE))","v":""},null,{"$f":"IF(OR(C603=\"\",BN603=\"\"),\"\",DATEDIF(BN603,C603,\"y\"))","v":""},{"$f":"IF(OR(C603=\"\",BN603=\"\"),\"\",DATEDIF(BN603,C603,\"ym\"))","v":""},null,null,null,null,{"$f":"IF(ISNA(VLOOKUP(BT603,Divipolas!$A$2:$B$1123,2,FALSE)),\"\",VLOOKUP(BT603,Divipolas!$A$2:$B$1123,2,FALSE))","v":""},null,{"$f":"IF(ISNA(VLOOKUP((CONCATENATE(BT603,BV603)),Divipolas!$F$2:$G$1123,2,FALSE)),\"\",VLOOKUP((CONCATENATE(BT603,BV603)),Divipolas!$F$2:$G$1123,2,FALSE))","v":""},null,null,null,null,null,null,null,null,null,null,null,null,null,null,null,null,null,null,null,null,null,null,null,{"$f":"IF(OR(BG603=\"\",BO603=\"\"),\"\",IF(AND(BG603=\"F\",BO603>=52),\"SI\",IF(AND(BG603=\"M\",BO603>=57),\"SI\",\"NO\")))","v":""},null,null,null,null,null,null,null,null,null,null,null,null,null,null,null,null,null,null,null,null,null,null,null,null,null,null,null,null,null,null,null,null,null,null,null,null,null,null,null,null,null,null,null,null,null,null,null,null,null,null,null,null,null,null,null,null,null,null,null,null,null,null,null,null,null,null,null,null,null,null,null,null,null,null,null,null,{"$f":"IF(AND(BO603>=0,BO603<2),INDI1,IF(AND(BO603>1,BO603<6),INDI2,IF(CS603=\"SI\",INDI3,IF(AND(BO603>4,BO603<18),INDI4,\"\"))))","v":""},null,null,null,null,null,null,null,"VERIFIQUE FECHAS",null,null,null,null,null,null,null,null,null,"VERIFIQUE COLUMNA D"]
[]
[]
[]
[]
[]
[]
[]
[]
[]
[]
[]
[]
[]
[]
[]
[]
[]
[]
[]
[]
[]
[]
[]
[]
[]
[]
[]
[]
[]
[]
[]
[]
[]
[]
[]
[]
[]
[]
[]
[]
[]
[]
[]
[]
[]
[]
[]
[]
[]
[]
[]
[]
[]
[]
[]
[]
[]
[]
[]
[]
[]
[]
[]
[]
[]
[]
[]
[]
[]
[]
[]
[]
[]
[]
[]
[]
[]
[]
[]
[]
[]
[]
[]
[]
[]
[]
[]
[]
[]
[]
[]
[]
[]
[]
[]
[]
[]
[]
[]
[]
[]
[]
[]
[]
[]
[]
[]
[]
[]
[]
[]
[]
[]
[]
[]
[]
[]
[]
[]
[]
[]
[]
[]
[]
[]
[]
[]
[]
[]
[]
[]
[]
[]
[]
[]
[]
[]
[]
[]
[]
[]
[]
[]
[]
[]
[]
[]
[]
[]
[]
[]
[]
[]
[]
[]
[]
[]
[]
[]
[]
[]
[]
[]
[]
[]
[]
[]
[]
[]
[]
[]
[]
[]
[]
[]
[]
[]
[]
[]
[]
[]
[]
[]
[]
[]
[]
[]
[]
[]
[]
[]
[]
[]
[]
[]
[]
[]
[]
[]
[]
[]
[]
[]
[]
[]
[]
[]
[]
[]
[]
[]
[]
[]
[]
[]
[]
[]
[]
[]
[]
[]
[]
[]
[]
[]
[]
[]
[]
[]
[]
[]
[]
[]
[]
[]
[]
[]
[{"$f":"IF(C1509<>\"\",A1508+1,\"\")","v":""},{"$f":"IF(AND($B$6<>\"\",C1509<>\"\"),$B$6,\"\")","v":""},null,null,{"$f":"IF(ISNA(VLOOKUP(D1509,'CODIGO REGIONALES'!$A$5:$G$210,7,FALSE)),\"\",VLOOKUP(D1509,'CODIGO REGIONALES'!$A$5:$G$210,7,FALSE))","v":""},null,{"$f":"IF(ISNA(VLOOKUP(F1509,Divipolas!$A$2:$B$1123,2,FALSE)),\"\",VLOOKUP(F1509,Divipolas!$A$2:$B$1123,2,FALSE))","v":""},null,{"$f":"IF(ISNA(VLOOKUP((CONCATENATE(F1509,H1509)),Divipolas!$F$2:$G$1123,2,FALSE)),\"\",VLOOKUP((CONCATENATE(F1509,H1509)),Divipolas!$F$2:$G$1123,2,FALSE))","v":""},null,null,null,null,null,null,null,null,{"$f":"IF(ISNA(VLOOKUP(Q1509,Divipolas!$A$2:$B$1123,2,FALSE)),\"\",VLOOKUP(Q1509,Divipolas!$A$2:$B$1123,2,FALSE))","v":""},null,{"$f":"IF(ISNA(VLOOKUP((CONCATENATE(Q1509,S1509)),Divipolas!$F$2:$G$1123,2,FALSE)),\"\",VLOOKUP((CONCATENATE(Q1509,S1509)),Divipolas!$F$2:$G$1123,2,FALSE))","v":""},null,null,null,null,null,null,{"$f":"IF(ISNA(VLOOKUP(Z1509,'CODIGO PAIS'!$A$2:$B$231,2,FALSE)),\"\",VLOOKUP(Z1509,'CODIGO PAIS'!$A$2:$B$231,2,FALSE))","v":""},null,{"$f":"IF(ISNA(VLOOKUP(AB1509,Divipolas!$A$2:$B$1123,2,FALSE)),\"\",VLOOKUP(AB1509,Divipolas!$A$2:$B$1123,2,FALSE))","v":""},null,{"$f":"IF(ISNA(VLOOKUP((CONCATENATE(AB1509,AD1509)),Divipolas!$F$2:$G$1123,2,FALSE)),\"\",VLOOKUP((CONCATENATE(AB1509,AD1509)),Divipolas!$F$2:$G$1123,2,FALSE))","v":""},null,null,null,null,null,{"$f":"IF(ISNA(VLOOKUP(AJ1509,Divipolas!$A$2:$B$1123,2,FALSE)),\"\",VLOOKUP(AJ1509,Divipolas!$A$2:$B$1123,2,FALSE))","v":""},null,{"$f":"IF(ISNA(VLOOKUP((CONCATENATE(AJ1509,AL1509)),Divipolas!$F$2:$G$1123,2,FALSE)),\"\",VLOOKUP((CONCATENATE(AJ1509,AL1509)),Divipolas!$F$2:$G$1123,2,FALSE))","v":""},null,null,null,null,null,null,null,null,null,null,null,null,null,null,null,null,null,null,null,null,null,{"$f":"IF(ISNA(VLOOKUP(BH1509,'CODIGO PAIS'!$A$2:$B$231,2,FALSE)),\"\",VLOOKUP(BH1509,'CODIGO PAIS'!$A$2:$B$231,2,FALSE))","v":""},null,{"$f":"IF(ISNA(VLOOKUP(BJ1509,Divipolas!$A$2:$B$1123,2,FALSE)),\"\",VLOOKUP(BJ1509,Divipolas!$A$2:$B$1123,2,FALSE))","v":""},null,{"$f":"IF(ISNA(VLOOKUP((CONCATENATE(BJ1509,BL1509)),Divipolas!$F$2:$G$1123,2,FALSE)),\"\",VLOOKUP((CONCATENATE(BJ1509,BL1509)),Divipolas!$F$2:$G$1123,2,FALSE))","v":""},null,{"$f":"IF(OR(C1509=\"\",BN1509=\"\"),\"\",DATEDIF(BN1509,C1509,\"y\"))","v":""},{"$f":"IF(OR(C1509=\"\",BN1509=\"\"),\"\",DATEDIF(BN1509,C1509,\"ym\"))","v":""},null,null,null,null,{"$f":"IF(ISNA(VLOOKUP(BT1509,Divipolas!$A$2:$B$1123,2,FALSE)),\"\",VLOOKUP(BT1509,Divipolas!$A$2:$B$1123,2,FALSE))","v":""},null,{"$f":"IF(ISNA(VLOOKUP((CONCATENATE(BT1509,BV1509)),Divipolas!$F$2:$G$1123,2,FALSE)),\"\",VLOOKUP((CONCATENATE(BT1509,BV1509)),Divipolas!$F$2:$G$1123,2,FALSE))","v":""},null,null,null,null,null,null,null,null,null,null,null,null,null,null,null,null,null,null,null,null,null,null,null,{"$f":"IF(OR(BG1509=\"\",BO1509=\"\"),\"\",IF(AND(BG1509=\"F\",BO1509>=52),\"SI\",IF(AND(BG1509=\"M\",BO1509>=57),\"SI\",\"NO\")))","v":""},null,null,null,null,null,null,null,null,null,null,null,null,null,null,null,null,null,null,null,null,null,null,null,null,null,null,null,null,null,null,null,null,null,null,null,null,null,null,null,null,null,null,null,null,null,null,null,null,null,null,null,null,null,null,null,null,null,null,null,null,null,null,null,null,null,null,null,null,null,null,null,null,null,null,null,null,{"$f":"IF(AND(BO1509>=0,BO1509<2),INDI1,IF(AND(BO1509>1,BO1509<6),INDI2,IF(CS1509=\"SI\",INDI3,IF(AND(BO1509>4,BO1509<18),INDI4,\"\"))))","v":""},null,null,null,null,null,null,null,{"$f":"IF(C1509=\"\",\"VERIFIQUE FECHAS\",IF(BN1509=\"\",\"VERIFIQUE FECHAS\",IF(AF1509=\"\",\"VERIFIQUE FECHAS\",IF(C1509>=BN1509,\"OK\",\"VERIFIQUE FECHAS\"))))","v":"VERIFIQUE FECHAS"}]

{"sheet":"LISTAS","index":1,"n_rows":720,"n_cols":56,"rows_kept":720,"cut":false,"hidden":true,"merged":[]}
["PAIS","REGIONAL","Departamento","Departamento","SGSSS","CantidadDesplazamientos","RURAL","URBANA","SINO","NO","EX","ZONA","SI","GRADOESCOLAR","AÑOCURSADO","CAUSARETIRO","PROGICBF","PARENTESCO","NUMEROAT","TIPO_VIVIENDA","NIVEL DE ESCOLARIDAD","ASISTENCIA","SEXO","ENTREGA","C_NEGRAS","RESGUARDO"," Llave compuesta","NOM_PUEBLO","COdigos de pueblos Censo 2005","TIPORACION","TIPO 1","TIPO2","TIPO3","TIPO4","ETAPAATENCION","TIPODESPLAZAMIENTO","INDICADOR","CEROADOS","CEROACINCO","CINCOADIECIOCHO","MG","SEMGESTACIONALES","COMIDAS","TIPO_DOCS","OTRO_INVERSION","SNA",null,"ACADESAN","CC DE APARTADO BUENAVISTA","NA","AUTORIDAD_COMPETE","CASO","CIERRES","PROGRAMA_ICBF","GRADOS_LONGITUD","GRADOS_LATITUD"]
["COLOMBIA","REGIONAL AMAZONAS","AMAZONAS","AMAZONAS","CONTRIBUTIVO",2,"Corregimiento","Localidad","SI","NO","EXTRANJERO","Urbana","SI",0,2017,"EDAD CUMPLIDA","PREVENCION","ES EL RESPONSABLE DEL GRUPO FAMILIAR","PRIMERA VEZ","PROPIA","Ninguno","COMPRA DE ARTICULOS DE ASEO","F","PRIMERA ENTREGA","Otra","Abejero","001","ACHAGUA (AJAGUA, AXAGUA,  XAGUA)","010","TIPO 1 - Niños y niñas entre los seis (6) meses y once (11) meses de edad","TIPO 1 - Niños y niñas entre los seis (6) meses y once (11) meses de edad","TIPO 2 - Niños y niñas entre un (1) año y cinco (5) años y 11 meses de edad","TIPO 3 - Mujer gestante y madres en periodo de lactancia","TIPO 4 - Población indígena","ATENCION INMEDIATA","INDIVIDUAL","DE 0 - 5 AÑOS (PESO/TALLA)","SOBREPESO","DNT AGUDA SEVERA","DELGADEZ","BAJO PESO PARA LA EDAD GESTACIONAL",1,0,"RC","ARRIENDO","SI",null,"ACAPA","CC DE BOCAS DE TAPARAL","NA","DEFENSOR","ABIERTO","LA FAMILIA HA CUMPLIDO CON LOS OBJETIVOS PROPUESTOS EN EL PLAN","HOGARES COMUNITARIOS DE BIENESTAR",67,0]
["AFGANISTAN","REGIONAL ANTIOQUIA","ANTIOQUIA","ANTIOQUIA","Subsidiado",3,"Vereda","Comuna","NO",null,null,"Rural",null,1,2016,"RETIRO VOLUNTARIO","PROTECCION","PADRE/MADRE","SEGUNDA VEZ","FAMILIAR","Preescolar","COMPRA DE MERCADO(GRANO)","M","SEGUNDA ENTREGA","ALEJANDRO DURAN","Aco Viejo Patio Bonito","002","AMBALÓ","291","TIPO 2 - Niños y niñas entre un (1) año y cinco (5) años y 11 meses de edad",null,null,null,null,"ATENCION HUMANITARIA DE EMERGENCIA","MASIVO","DE 5 - 18 AÑOS (IMC/TALLA)","PESO ADECUADO PARA LA EDAD","DNT AGUDA MODERADA","RIESGO DE DELGADEZ","ADECUADO PESO PARA LA EDAD GESTACIONAL",2,1,"TI","EDUCACIÓN","NO",null,"AGRICULTORES DEL PATIA GRANDE","CC DE CHICAO",null,"COMISARIA DE FAMILIA","CERRADO","LA FAMILIA EXPRESA EL DESEO VOLUNTARIO DE RETIRARSE O DESISTIR DEL PROCESO DE ACOMPAÑAMIENTO","HOGARES COMUNITARIOS DE BIENESTAR FAMILIAR, MUJER E INFANCIA – FAMI",68,1]
["ALBANIA","REGIONAL ARAUCA","ARAUCA","ARAUCA","No Afiliado",4,"Resguardo","No aplica",null,null,null,null,null,2,2015,"CAMBIO DE MUNICIPIO","PROTECCION Y PREVENCION","PADRASTRO/MADRASTRA","TERCERA VEZ","ARRENDADO","Básica primaria (1 a 5)","COMPRA DE ALIMENTOS PERECEDEROS",null,"TERCERA ENTREGA","ALEJANDRO RINCON DEL RIO ÑAMBÌ","Aduche","003","AMORÚA (AMURUA, CHIRIPO)","020","TIPO 3 - Mujer gestante y madres en periodo de lactancia",null,null,null,null,"ATENCION HUMANITARIA DE TRANSICION","INTRAURBANO","MADRES GESTANTES (IMC/EDAD GESTACIONAL)","RIESGO DE DNT GLOBAL","RIESGO DE DNT AGUDA","IMC ADECUADO PARA LA EDAD","SOBREPESO PARA LA EDAD GESTACIONAL",3,2,"PA","ELECTRODOMÉSTICOS","NA",null,"AGUA CLARA","CC DE CLAVELLINO",null,"INSPECTOR DE POLICIA",null,"LA FAMILIA ABANDONA EL PROCESO O INCUMPLE DE FORMA REITERATIVA LOS COMPROMISOS CONJUNTAMENTE ACORDADOS DENTRO DEL PLAN","DESAYUNOS INFANTILES TIPO 2",69,2]
["ALEMANIA","REGIONAL ATLANTICO","ATLANTICO","ARCHIPIELAGO DE SAN ANDRES PROVIDENCIA Y SANTA CATALINA",null,5,null,null,null,null,null,null,null,3,2014,"NO CUMPLE REQUISITOS",null,"HERMANO(A)","CUARTA VEZ","INQUILINATO","Básica secundaria (6 a 9)","PAGO DE SERVICIOS",null,null,"ALTO ANCHICAYÁ","Agua Blanca","004","ANDAKIES","880","TIPO 4 - Población indígena",null,null,null,null,"RETORNO","NO APLICA","INDICADOR2","DNT GLOBAL","RIESGO DE SOBREPESO","SOBREPESO","OBESIDAD PARA LA EDAD GESTACIONAL",4,3,"CC","MEJORAS LOCATIVAS",null,null,"ALEJANDRO RINCON DEL RIO NAMBI","CC DE DOS BOCAS",null,null,null,"POR ACUERDO ENTRE EL PROFESIONAL QUE REALIZA EL ESTUDIO TÉCNICO DEL CASO Y LA FAMILIA, DEJANDO CONSTANCIA DE LOS FACTORES QUE CONLLEVAN A ESTA DECISIÓN","CENTROS DE DESARROLLO INTEGRAL    ",70,3]
["ALGERIA","REGIONAL BOGOTA","BOGOTA","ATLANTICO",null,6,null,null,null,null,null,null,null,4,2013,"FALSEDAD EN DOCUMENTO",null,"CONYUGE/COMPAÑERO(A) ","QUINTA VEZ","USUFRUCTO","Media (10 a 13)","OTRO",null,null,"ALTO RIO DAGUA-PACIFICO CIMARRONES DE CISNEROS","Agua Negra","005","ANDOKE (ANDOQUE,  BUSINCA,  CHA'OJE)","030",null,null,null,null,null,"REUBICACION",null,"DE 0 - 5 AÑOS (PESO/TALLA)",null,"PESO ADECUADO PARA LA TALLA","OBESIDAD",null,5,4,"CE","PAGO DEUDAS",null,null,"ALTO GUAPI","CC DE LA MADRE",null,null,null,"POR REFERENCIA A ENTIDAD COMPETENTE DE ACUERDO AL ESTUDIO Y NECESIDAD PARTICULAR DEL CASO, DEJANDO LA CONSTANCIA DE LOS FACTORES QUE MOTIVARON DICHA REFERENCIA","RECUPERACIÓN NUTRICIONAL",71,4]
["ANDORRA","REGIONAL BOLIVAR","BOLIVAR","BOGOTA",null,7,null,null,null,null,null,null,null,5,2012,"CAMBIO A OTRO PROGRAMA",null,"HIJO(A)","SEXTA VEZ","ALBERGUE","Técnico sin título",null,null,null,"BACHICHI - PIEDRAS","Aguaclara y Bella Luz del Río Amparo","006","ARHUACO ( BINTUCUA, ICA, , IJKA, VINTUCUA)","040",null,null,null,null,null,"NO DESPLAZADO",null,"INDICADOR3",null,"SOBREPESO",null,null,6,5,"SD","PROYECTO PRODUCTIVO",null,null,"ALTO MIRA Y FRONTERA","CC DE LA NUEVA",null,null,null,null,"CENTROS DE RECUPERACIÓN NUTRICIONAL",72,5]
["ANGOLA","REGIONAL BOYACA","BOYACA","BOLIVAR",null,8,null,null,null,null,null,null,null,6,2011,"FALLECIMIENTO",null,"SOBRINO(A)","SEPTIMA VEZ","INVASIÓN","Técnico con título",null,null,null,"BELLAVISTA - ANCHICAYÀ","Aguas Negras","007","AWÁ (AWA KUAIKER,  KUAIKER)",210,null,null,null,null,null,null,null,"MADRES GESTANTES (IMC/EDAD GESTACIONAL)",null,"OBESIDAD",null,null,7,null,"NO INFORMA","ROPA",null,null,"ALTO POTEDO","CC MAYOR DEL MEDIO ATRATO ACIA ",null,null,null,null,"JARDINES SOCIALES",73,6]
["ANGUILLA","REGIONAL CALDAS","CALDAS","BOYACA",null,9,null,null,null,null,null,null,null,7,2010,"OTRA",null,"TIO(A)","OCTAVA VEZ",null,"Tecnológico sin título",null,null,null,"BRISAS DEL ALTO TELEMBÍ","Aico","008","BANIVA ","251","TIPORACION","TIPO 1","TIPO2","TIPO3","TIPO4",null,null,"INDICADOR4",null,null,null,null,8,null,null,"SALUD",null,null,"ALTO RIO DAGUA PACIFICO CIMARRONES DE CISNEROS","CC MAYOR DEL MEDIO ATRATO ACIA ",null,null,null,null,"HOGARES INFANTILES",74,7]
["ANTIGUA Y BARBUDA","REGIONAL CAQUETA","CAQUETA","CALDAS",null,10,null,null,null,null,null,null,null,8,2009,null,null,"HIJASTRO(A)","NOVENA VEZ",null,"Tecnológico con título",null,null,null,"Cabeceras Río San Juan","Albania","009","BARA (MIRA, POSANGA, POSANGA MIRA, UAIMAJA)","060","TIPO 1: NIÑOS Y NIÑAS ENTRE LOS SEIS (6) MESES Y ONCE (11) MESES DE EDAD","TIPO 1: NIÑOS Y NIÑAS ENTRE LOS SEIS (6) MESES Y ONCE (11) MESES DE EDAD","TIPO 2: NIÑOS Y NIÑAS ENTRE UN (1) AÑO Y CINCO (5) AÑOS ONCE (11) MESES","TIPO 3: MUJER GESTANTE Y MADRES EN PERIODO DE LACTANCIA","TIPO 4: POBLACION INDIGENA",null,null,"DE 5 - 18 AÑOS (IMC/TALLA)",null,null,null,null,9,null,null,"ÚTILES ESCOLARES",null,null,"ALTO RIO SEQUIHONDA","CC MAYOR DEL MEDIO ATRATO ACIA ",null,null,null,null,"LACTANTES Y PREESCOLARES",75,8]
["ANTILLAS HOLANDESAS","REGIONAL CASANARE","CASANARE","CAQUETA",null,null,null,null,null,null,null,null,null,9,2008,null,null,"PRIMO(A)","MAS VECES",null,"Universitario sin título",null,null,null,"CAUCANA","Almidón La Ceiba","010","BARASANO ( HANERA OKA, HANERA YAE, VARASANA, VARASANO)","070","TIPO 2: NIÑOS Y NIÑAS ENTRE UN (1) AÑO Y CINCO (5) AÑOS ONCE (11) MESES",null,null,null,null,null,null,null,"YA NO",null,null,null,10,null,null,null,null,null,"APARTADO BUENAVISTA","CC MAYOR DEL MEDIO ATRATO ACIA ",null,null,null,null,"PROGRAMA MATERNO INFANTIL",76,9]
["ARABIA SAUDITA","REGIONAL CAUCA","CAUCA","CASANARE",null,null,null,null,null,null,null,null,null,10,2007,null,null,"YERNO/NUERA",null,null,"Universitario con título",null,null,null,"CAUNAPÍ","Almorzadero,San Isidro y la Nueva Unión","011","BARI (BARIRA, CUNAUSAYA, DOBOCUBI, MOTILON)","080","TIPO 3: MUJER GESTANTE Y MADRES EN PERIODO DE LACTANCIA",null,null,null,null,null,null,null,null,null,null,null,11,null,null,null,null,null,"BAHIA MALAGA -LA PLATA","CC MAYOR DEL MEDIO ATRATO ACIA ",null,null,null,null,"OPERACIÓN PROLONGADA DE SOCORRO Y RECUPERACIÓN  OPSR",77,10]
["ARGENTINA","REGIONAL CESAR","CESAR","CAUCA",null,null,null,null,null,null,null,null,null,11,2006,null,null,"ABUELO(A)",null,null,"Posgrado sin título",null,null,null,"CHAPARROSA","Alpamanga","012","BETOYE (JIRARE, JIRARRE, VETOYE)","090","TIPO 4: POBLACION INDIGENA",null,null,null,null,null,null,null,null,null,null,null,12,null,null,null,null,null,"BAJO MIRA Y FRONTERA","CC MAYOR DEL MEDIO ATRATO ACIA ",null,null,null,null,"GENERACIONES CON BIENESTAR",78,11]
["ARMENIA","REGIONAL CHOCO","CHOCO","CESAR",null,null,null,null,null,null,null,null,null,12,2005,null,null,"PADRINO/MADRINA",null,null,"Posgrado con título",null,null,null,"Chilona El Salto","Alta y Media Guajira","013","BORA (MEAMUYNA, VORA)",100,null,null,null,null,null,null,null,null,null,null,null,null,13,null,null,null,null,null,"BAJO POTEDO","COSEJO COMUNITARIO DE SAN FRANCISCO DE CUGUCHO",null,null,null,null,"ALIMENTACIÓN ESCOLAR ( DESAYUNOS O ALMUERZOS)",79,12]
["ARUBA","REGIONAL CORDOBA","CORDOBA","CHOCO",null,null,null,null,null,null,null,null,null,13,2004,null,null,"PARIENTE",null,null,null,null,null,null,"Chucheros","Altamira","014","CAÑAMOMO LOMAPRIETA (KUMBA)","330",null,null,null,null,null,null,null,null,null,"=SI(FT4=\"DE 0 - 5 AÑOS (PESO/TALLA)\";CEROACINCO;SI(FT4=\"DE 5 - 18 AÑOS (IMC/TALLA)\";CINCO;SI(FT4=\"MADRES GESTANTES (IMC/EDAD GESTACIONAL)\";MG;\"\")))",null,null,14,null,null,null,null,null,"BAJO RIO GUELMAMBI","COSEJO COMUNITARIO DE SAN ISIDRO",null,null,null,null," HOGARES COMUNITARIOS DE BIENESTAR FAMILIAR, MUJER E INFANCIA - FAMI",80,13]
["AUSTRALIA","REGIONAL CUNDINAMARCA","CUNDINAMARCA","CORDOBA",null,null,null,null,null,null,null,null,null,null,2003,null,null,"OTRO",null,null,null,null,null,null,"Cocoillo","Alto Albí","015","CARAPANA (KARAPANA, MI TEA, MOXDOA, MUXTEA)",130,null,null,null,null,null,null,null,null,null,null,null,null,15,null,null,null,null,null,"BAZAN - LA BOCANA","COSEJO COMUNITARIO DE UNICOSTA",null,null,null,null,null,81]
["AUSTRIA","REGIONAL GUAINIA","GUAINIA","CUNDINAMARCA",null,null,null,null,null,null,null,null,null,null,2002,null,null,"NIETO(A)",null,null,null,null,null,null,"Consejo Comomuitario Veredas Unidas.","Alto Bonito Vira Vira","016","CHIMILA (CHIMISA, , ETTE E'NEKA, SHIMISA,SIMSA)",150,null,null,null,null,null,null,null,{"$f":"IF(FO4=\"DE 0 - 2 AÑOS (PESO/EDAD)\",CERO,IF(FO4=\"DE 2 - 5 AÑOS (PESO/TALLA)\",CEROACINCO,IF(FO4=\"DE 5 - 18 AÑOS (IMC/EDAD)\",CINCO,IF(FO4=\"MADRES GESTANTES (PESO/EDAD)\",MG,\"\"))))","v":""},null,null,null,null,16,null,null,null,null,null,"BELLAVISTA ANCHICAYA","COSEJO COMUNITARIO DE VILLA CONTO",null,null,null,null,null,82]
["AZERBAIJAN","REGIONAL GUAVIARE","GUAVIARE","GUAINIA",null,null,null,null,null,null,null,null,null,null,2001,null,null,"SUEGRO(A)",null,null,null,null,null,null,"Consejo Comun. Integración del Río Chuare","ALTO CARTAGENA","017","CHIRICOA (CHIRIKOA)",160,null,null,null,null,null,null,null,{"$f":"IF(FO4=\"INDI1\",CERO,IF(FO4=\"INDI2\",CEROACINCO,IF(FO4=\"INDI3\",CINCO,IF(FO4=\"INDI4\",MG,\"\"))))","v":""},null,null,null,null,17,null,null,null,null,null,"BELLAVISTA DUBAZA","CC DE TAPARAL"]
["BAHAMAS","REGIONAL HUILA","HUILA","GUAVIARE",null,null,null,null,null,null,null,null,null,null,2000,null,null,"AMIGO(A)",null,null,null,null,null,null,"Consejo Comunirario del Rio Napi.","Alto Lorenzo","018","CHITARERO",860,null,null,null,null,null,null,null,"=SI(Y(BO4>=0;BO4<6);INDI2;SI(CS4=\"SI\";INDI3;SI(Y(BO4>4;BO4<18);INDI4;\"\")))",null,null,null,null,18,null,null,null,null,null,"BOCAS DE ATRATO Y LEONCITO","CC BAJO POTEDO"]
["BAHREIN","REGIONAL LA GUAJIRA","LA GUAJIRA","HUILA",null,null,null,null,null,null,null,null,null,null,1999,null,null,"CUÑADO(A)",null,null,null,null,null,null,"Consejo Comunirario del Río San Francisco.","Alto Orito","019","COCAMA (COKAMA, KOKAMA)",170,null,null,null,null,null,null,null,null,null,null,null,null,19,null,null,null,null,null,"BOCAS DE CANA","CC GUADUALITO"]
["BANGLADESH","REGIONAL MAGDALENA","MAGDALENA","LA GUAJIRA",null,null,null,null,null,null,null,null,null,null,1998,null,null,null,null,null,null,null,null,null,"Consejo Comunitario Alto Guapi.","Alto Río Bojayá","020","COCONUCO (KOKONUKO)",180,null,null,null,null,null,null,null,null,null,null,null,null,20,null,null,null,null,null,"BOCAS DE TAPARAL","CC  ALTO GUAPI"]
["BARBADOS","REGIONAL META","META","MAGDALENA",null,null,null,null,null,null,null,null,null,null,1997,null,null,null,null,null,null,null,null,null,"Consejo Comunitario Alto Mira y Frontera","Alto Río Buey","021","COREGUAJE (COREBAHU, COREBAJU,  KOREGUAXE)",190,null,null,null,null,null,null,null,null,null,null,null,null,21,null,null,null,null,null,"BRAZITOS Y AMAZONAS","CONSEJO COMUNIRARIO DEL RIO NAPI"]
["BELARUS","REGIONAL NARINO","NARINO","META",null,null,null,null,null,null,null,null,null,null,1996,null,null,null,null,null,null,null,null,null,"Consejo Comunitario Alto Potedó","Alto Río Cuia","022","CUBEO ( COBEWA, HIPNWA, KANIWA, PANIWA)",220,null,null,null,null,null,null,null,null,null,null,null,null,22,null,null,null,null,null,"CABECERAS RIO SAN JUAN","CONSEJO COMUNIRARIO DEL RIO SAN FRANCISCO"]
["BELGICA","REGIONAL NORTE DE SANTANDER","NORTE DE SANTANDER","NARINO",null,null,null,null,null,null,null,null,null,null,1995,null,null,null,null,null,null,null,null,null,"Consejo Comunitario Alto Río Sequihonda","Alto Río Tagachi","023","CUIVA (MAIBEN, UAMONE, WAMONE,CUIBA,KUIBA,KUIVA))",230,null,null,null,null,null,null,null,null,null,null,null,null,23,null,null,null,null,null,"CALLE LARGA RIO DAGUA","CC EL PROGRESO"]
["BELICE","REGIONAL PUTUMAYO","PUTUMAYO","NORTE DE SANTANDER",null,null,null,null,null,null,null,null,null,null,1994,null,null,null,null,null,null,null,null,null,"Consejo Comunitario Bahía Málaga -La Plata: 7.713,9046+30.323,9228 Has","Alto San Jorge","024","CUNA TULE (GUNA DULE,  CUNA, CUNAUSAYA)",240,null,null,null,null,null,null,null,null,null,null,null,null,24,null,null,null,null,null,"CAMPO HERMOSO","CC DE CAMPO HERMOSO"]
["BENIN","REGIONAL QUINDIO","QUINDIO","PUTUMAYO",null,null,null,null,null,null,null,null,null,null,1993,null,null,null,null,null,null,null,null,null,"Consejo Comunitario Bajo Mira y Frontera","Alto Sinú, Esmeralda Cruz Grande e Iwagadó (Unificación)","025","CURRIPACO (KURRIPAKO)",250,null,null,null,null,null,null,null,null,null,null,null,null,25,null,null,null,null,null,"CANO BODEGAS","CC DE LA GRANDE"]
["BERMUDAS","REGIONAL RISARALDA","RISARALDA","QUINDIO",null,null,null,null,null,null,null,null,null,null,1992,null,null,null,null,null,null,null,null,null,"Consejo Comunitario Bajo Potedó.","Alto Unuma","026","DESANO ( KOTEDIA, UINA, WINA, UIRA, WIRA)",260,null,null,null,null,null,null,null,null,null,null,null,null,26,null,null,null,null,null,"CASIMIRO","CC VEREDAS UNIDAS: UN BIEN COMUN "]
["BIRMANIA (MYANMAR)","REGIONAL SANTANDER","SANTANDER","RISARALDA",null,null,null,null,null,null,null,null,null,null,1991,null,null,null,null,null,null,null,null,null,"Consejo Comunitario Bajo Río Guelmambí","Altomira","027","DUJOS (TAMAS, DUJOS DEL CAGUAN)",270,null,null,null,null,null,null,null,null,null,null,null,null,27,null,null,null,null,null,"CATANGUEROS","CC RIO CACARICA"]
["BOLIVIA","REGIONAL SUCRE","SUCRE","SANTANDER",null,null,null,null,null,null,null,null,null,null,1990,null,null,null,null,null,null,null,null,null,"Consejo Comunitario Bazan - La Bocana","Ambaló","028","EMBERÁ ",280,null,null,null,null,null,null,null,null,null,null,null,null,28,null,null,null,null,null,"CAUCANA","CC DE MAYORQUIN Y PAPAYAL"]
["BOSNIA-HERZEGOVINA","REGIONAL TOLIMA","TOLIMA","SUCRE",null,null,null,null,null,null,null,null,null,null,1989,null,null,null,null,null,null,null,null,null,"Consejo Comunitario Bocas de Atrato y Leoncito","Ame","029","EMBERÁ CHAMÍ (CHAMÍ) ",282,null,null,null,null,null,null,null,null,null,null,null,null,29,null,null,null,null,null,"CERTEGUI","CC DEL RIO CAJAMBRE"]
["BOTSWANA","REGIONAL VALLE DEL CAUCA","VALLE DEL CAUCA","TOLIMA",null,null,null,null,null,null,null,null,null,null,1988,null,null,null,null,null,null,null,null,null,"Consejo Comunitario Bocas de Caná","Amparradó- Alto Medio","030","EMBERÁ DOBIDA",284,null,null,null,null,null,null,null,null,null,null,null,null,30,null,null,null,null,null,"CHANZARA","CC DEL RIO RAPOSO "]
["BRASIL","REGIONAL VAUPES","VAUPES","VALLE DEL CAUCA",null,null,null,null,null,null,null,null,null,null,1987,null,null,null,null,null,null,null,null,null,"Consejo Comunitario Calle Larga Río Dagua","Anabá","031","EMBERÁ KATÍO (CATÍO, EMBERÁ ZENÚ)",281,null,null,null,null,null,null,null,null,null,null,null,null,31,null,null,null,null,null,"CHAPARROSA","CC DE ACAPA"]
["BRUNEI DARUSSALAM","REGIONAL VICHADA","VICHADA","VAUPES",null,null,null,null,null,null,null,null,null,null,1986,null,null,null,null,null,null,null,null,null,"Consejo Comunitario Catangueros","Anacarco","032","EPERARA SIAPIDARA (EPERA,  EEPERA PEDEE, EMBERA EPERA, SIAPIDARA)",283,null,null,null,null,null,null,null,null,null,null,null,null,32,null,null,null,null,null,"CHICAO","CC DE ACAPA"]
["BURKINA FASSO",null,null,"VICHADA",null,null,null,null,null,null,null,null,null,null,1985,null,null,null,null,null,null,null,null,null,"Consejo Comunitario Citronela Río Dagua","Andabú","033","GUANACA, GUANACO","300",null,null,null,null,null,null,null,null,null,null,null,null,33,null,null,null,null,null,"CITRONELA RIO DAGUA","CC DE ACAPA"]
["BURUNDI",null,null,null,null,null,null,null,null,null,null,null,null,null,1984,null,null,null,null,null,null,null,null,null,"Consejo Comunitario Cortina Verde Mandela","Andagueda","034","GUANE",810,null,null,null,null,null,null,null,null,null,null,null,null,34,null,null,null,null,null,"CLAVELLINO","CC BOCAS DE ATRATO Y LEONCITO"]
["BUTAN",null,null,null,null,null,null,null,null,null,null,null,null,null,1983,null,null,null,null,null,null,null,null,null,"Consejo Comunitario de \"ACADESAN\"","Angosturas","035","GUARIQUEMA ","252",null,null,null,null,null,null,null,null,null,null,null,null,35,null,null,null,null,null,"CONSEJO COMUN INTEGRACION DEL RIO CHUARE","CC EL PROGRESO DEL CAMPO"]
["CABO VERDE",null,null,null,null,null,null,null,null,null,null,null,null,null,1982,null,null,null,null,null,null,null,null,null,"Consejo Comunitario de ACAPA","Arara","036","GUAYABERO (JIW, CUNIMIA,  MITUA)",320,null,null,null,null,null,null,null,null,null,null,null,null,36,null,null,null,null,null,"CONSEJO COMUNIRARIO DEL RIO NAPI","CC MANOS AMIGAS DEL PATIA GRANDE"]
["CAMBOYA (KAMPUCHEA)",null,null,null,null,null,null,null,null,null,null,null,null,null,1981,null,null,null,null,null,null,null,null,null,"Consejo Comunitario de Agricultores del Patía Grande","Arara-Bacati-Cararu-Lagos de Jamaicuru","037","HITNU (ITNU, JITNU,  SARA)",400,null,null,null,null,null,null,null,null,null,null,null,null,37,null,null,null,null,null,"CONSEJO COMUNIRARIO DEL RIO SAN FRANCISCO","CC DEL RIO YURUMANGUI"]
["CAMERUN",null,null,null,null,null,null,null,null,null,null,null,null,null,1980,null,null,null,null,null,null,null,null,null,"Consejo Comunitario de Agua Clara","Arhuaco de la sierra nevada","038","HUPDU","432",null,null,null,null,null,null,null,null,null,null,null,null,38,null,null,null,null,null,"CONSEJO COMUTARIO DE GUAPI ABAJO","CC DE LOS MANGOS"]
["CANADA",null,null,null,null,null,null,null,null,null,null,null,null,null,1979,null,null,null,null,null,null,null,null,null,"Consejo Comunitario de Apartadó Buenavista.","Arquia","039","INDIGENAS BOLIVIA ",960,null,null,null,null,null,null,null,null,null,null,null,null,39,null,null,null,null,null,"CORDOBA Y SAN CIPRIANO","CC DEL RIO PEPE"]
["CHAD",null,null,null,null,null,null,null,null,null,null,null,null,null,1978,null,null,null,null,null,null,null,null,null,"Consejo Comunitario de Bellavista Dubaza","Arrecifal","040","INDÍGENAS BRASIL",940,null,null,null,null,null,null,null,null,null,null,null,null,40,null,null,null,null,null,"CORTINA VERDE MANDELA","CC DE AGRICULTORES DEL PATIA GRANDE"]
["CHILE",null,null,null,null,null,null,null,null,null,null,null,null,null,1977,null,null,null,null,null,null,null,null,null,"Consejo Comunitario de Brazitos y Amazonas","Awa de Cañaveral","041","INDÍGENAS ECUADOR (diferente de otavaleños)",900,null,null,null,null,null,null,null,null,null,null,null,null,41,null,null,null,null,null,"COSEJO COMUNITARIO DE SAN FRANCISCO DE CUGUCHO","CC MANATIES"]
["CHINA",null,null,null,null,null,null,null,null,null,null,null,null,null,1976,null,null,null,null,null,null,null,null,null,"Consejo Comunitario de Campo Hermoso.","Awa de los Guaduales","042","INDÍGENAS MEXICO",930,null,null,null,null,null,null,null,null,null,null,null,null,42,null,null,null,null,null,"COSEJO COMUNITARIO DE SAN ISIDRO","CC VILLA MARIA DE PURRICHA"]
["CHIPRE",null,null,null,null,null,null,null,null,null,null,null,null,null,1975,null,null,null,null,null,null,null,null,null,"Consejo Comunitario de Caño Bodegas","Bachaco Buena Vista","043","INDÍGENAS PANAMA",950,null,null,null,null,null,null,null,null,null,null,null,null,43,null,null,null,null,null,"COSEJO COMUNITARIO DE UNICOSTA","CC DE BELLAVISTA DUBAZA"]
["COMORAS",null,null,null,null,null,null,null,null,null,null,null,null,null,1974,null,null,null,null,null,null,null,null,null,"Consejo Comunitario de Casimiro","Bache","044","INDÍGENAS PERU",910,null,null,null,null,null,null,null,null,null,null,null,null,44,null,null,null,null,null,"COSEJO COMUNITARIO DE VILLA CONTO","CC DE PUERTO ECHEVERRY"]
["CONGO",null,null,null,null,null,null,null,null,null,null,null,null,null,1973,null,null,null,null,null,null,null,null,null,"Consejo Comunitario de Cértegui","Bajo Cáceres","045","INDÍGENAS VENEZUELA",920,null,null,null,null,null,null,null,null,null,null,null,null,45,null,null,null,null,null,"CUELLAR RIO SAN JUAN","CC SANQUIANGA"]
["COREA NORTE",null,null,null,null,null,null,null,null,null,null,null,null,null,1972,null,null,null,null,null,null,null,null,null,"Consejo Comunitario de Chanzará","Bajo Casa Cunte","046","INGA (IMGA, INGANOS)",340,null,null,null,null,null,null,null,null,null,null,null,null,46,null,null,null,null,null,"CUEVITAS","CC LA AMISTAD "]
["COREA SUR",null,null,null,null,null,null,null,null,null,null,null,null,null,1971,null,null,null,null,null,null,null,null,null,"Consejo Comunitario de Chicao.","Bajo Grande","047","JUHUP","433",null,null,null,null,null,null,null,null,null,null,null,null,47,null,null,null,null,null,"CUPICA","CC DE LA CUENCA DEL RIO SALAQUI"]
["COSTA DE MARFIL",null,null,null,null,null,null,null,null,null,null,null,null,null,1970,null,null,null,null,null,null,null,null,null,"Consejo Comunitario de Clavellino.","Bajo Río Guainía y Río Negro","048","JUPDA (UBDE, UDE, YUJUPDE, JUPDE) falta judpa","434",null,null,null,null,null,null,null,null,null,null,null,null,48,null,null,null,null,null,"DOS BOCAS","CC DE LA CUENCA DEL RIO QUIPARADO"]
["COSTA RICA",null,null,null,null,null,null,null,null,null,null,null,null,null,1969,null,null,null,null,null,null,null,null,null,"Consejo Comunitario de Cordoba y San Cipriano","Balsillas","049","JURUMI (HURUMI)","451",null,null,null,null,null,null,null,null,null,null,null,null,49,null,null,null,null,null,"EL AGUACATE","CC DE LOS RIOS LA LARGA Y TUMARADO"]
["CROACIA",null,null,null,null,null,null,null,null,null,null,null,null,null,1968,null,null,null,null,null,null,null,null,null,"Consejo Comunitario de Cuevitas","Balsillas Limón","050","KAKUA","431",null,null,null,null,null,null,null,null,null,null,null,null,50,null,null,null,null,null,"EL CUERVAL","CC DEL RIO DOMINGODO"]
["CUBA",null,null,null,null,null,null,null,null,null,null,null,null,null,1967,null,null,null,null,null,null,null,null,null,"Consejo Comunitario de Cupica","Banderas del Recaibo","051","KAMËNTSA  (CAMËNTSA, KAMSA, CACHE,  SIBUNDOY CACHE, SIBUNDOY)",350,null,null,null,null,null,null,null,null,null,null,null,null,null,null,null,null,null,null,"EL PLAYON DEL RIO SIGUI","CC DEL RIO CURVARADO"]
["DINAMARCA",null,null,null,null,null,null,null,null,null,null,null,null,null,1966,null,null,null,null,null,null,null,null,null,"Consejo Comunitario de Dos Bocas.","Barranco ceiba y laguna araguato","052","KAMKUAMO (KANKUAMO)",850,null,null,null,null,null,null,null,null,null,null,null,null,null,null,null,null,null,null,"EL PROGRESO","CC DEL RIO JIGUAMIANDO"]
["DJIBOUTI",null,null,null,null,null,null,null,null,null,null,null,null,null,1965,null,null,null,null,null,null,null,null,null,"Consejo Comunitario de Guayabal","Barranco colorado","053","KARIJONA (  CARIJONA, CARIFUNA, HIANACOTO UMAUA, KALIOHONA)",140,null,null,null,null,null,null,null,null,null,null,null,null,null,null,null,null,null,null,"EL PROGRESO DEL CAMPO","CC DE PEDEGUITA Y MANCILLA"]
["DOMINICA",null,null,null,null,null,null,null,null,null,null,null,null,null,1964,null,null,null,null,null,null,null,null,null,"Consejo Comunitario de Istmina y Parte del Medio San Juan","Barrancón","054","KAWIYARÍ (CABIYARÍ,  CAUIYARY, KABOYARI, KAWIARI)",110,null,null,null,null,null,null,null,null,null,null,null,null,null,null,null,null,null,null,"EL PROGRESO DEL RIO NERETE","CC DE VIGIA DE CURVARADO Y SANTA ROSA DE LIMON"]
["ECUADOR",null,null,null,null,null,null,null,null,null,null,null,null,null,1963,null,null,null,null,null,null,null,null,null,"Consejo Comunitario de La Brea","Barranquillita","055","KICHWA",840,null,null,null,null,null,null,null,null,null,null,null,null,null,null,null,null,null,null,"EL RECUERDO DE NUESTROS ANCESTROS DEL RIO MEJICANO","CC DEL RIO MONTANO"]
["EGIPTO",null,null,null,null,null,null,null,null,null,null,null,null,null,1962,null,null,null,null,null,null,null,null,null,"Consejo Comunitario de la Cordillera Occidental de Nariño COPDICONC","Barranquito Laguna Colorada","056","KIZGÓ (QUIZGO)","292",null,null,null,null,null,null,null,null,null,null,null,null,null,null,null,null,null,null,"GAMBOA","CC DE TURRIQUITADO"]
["EL SALVADOR",null,null,null,null,null,null,null,null,null,null,null,null,null,1961,null,null,null,null,null,null,null,null,null,"Consejo Comunitario de La Costa - CONCOSTA","Barzaloza","057","KOFÁN (COFAN)",360,null,null,null,null,null,null,null,null,null,null,null,null,null,null,null,null,null,null,"GENERAL DE LA COSTA PACIFICA DEL NORTE - LOS DELFINES","CC UNION PATIA VIEJO"]
["EMIRATOS ARABES UNIDOS",null,null,null,null,null,null,null,null,null,null,null,null,null,1960,null,null,null,null,null,null,null,null,null,"Consejo Comunitario de la Cuenca del Río Acandí Seco, el Cedro y Juancho","Bateas","058","KOGUI ( COGHI, KAGABA, KOGGIAN)",370,null,null,null,null,null,null,null,null,null,null,null,null,null,null,null,null,null,null,"GENERAL DEL MUNICIPÌO DE NUQUI - LOS RISCALES","CC UNION PATIA VIEJO"]
["ERITREA",null,null,null,null,null,null,null,null,null,null,null,null,null,1959,null,null,null,null,null,null,null,null,null,"Consejo Comunitario de la Cuenca del Río Acandí Zona Costera Norte","Bayoneros","059","LETUAMA ( DETUAMO,  LITUAMO) ",380,null,null,null,null,null,null,null,null,null,null,null,null,null,null,null,null,null,null,"GUADUALITO","CC DEL RIO SATINGA"]
["ESLOVAQUIA",null,null,null,null,null,null,null,null,null,null,null,null,null,1958,null,null,null,null,null,null,null,null,null,"Consejo Comunitario de la Cuenca del Río Iscuandé","Bellavista","060","MACAHUAN ( MACAHUA, MACAGUANE)","401",null,null,null,null,null,null,null,null,null,null,null,null,null,null,null,null,null,null,"GUAIMIA","CC DE TRUANDO MEDIO"]
["ESPANA",null,null,null,null,null,null,null,null,null,null,null,null,null,1957,null,null,null,null,null,null,null,null,null,"Consejo Comunitario de La Cuenca del Río Quiparadó","Bellavista-Union Pitalito","061","MAKAGUAJE (AUIRUBAIN, MAKAGUAXE)",390,null,null,null,null,null,null,null,null,null,null,null,null,null,null,null,null,null,null,"GUALMAR","CC SAN AGUSTIN DE TERRON "]
["ESTADOS UNIDOS",null,null,null,null,null,null,null,null,null,null,null,null,null,1956,null,null,null,null,null,null,null,null,null,"Consejo Comunitario de La Cuenca del Río Salaquí","Beltrán","062","MAKÚ (MACÚ)","431",null,null,null,null,null,null,null,null,null,null,null,null,null,null,null,null,null,null,"GUAYABAL","CC DEL RIO  PILIZA"]
["ESTONIA",null,null,null,null,null,null,null,null,null,null,null,null,null,1955,null,null,null,null,null,null,null,null,null,"Consejo Comunitario de la Cuenca del Río San Bernardo Patía Norte","Bernardino Panchí","063","MAKUNA (BUHAGANA, IDE MASA,  SIROA, TSIROA)",410,null,null,null,null,null,null,null,null,null,null,null,null,null,null,null,null,null,null,"IMBILPI DEL CARMEN","CC DE SAN ANDRES DE USARAGA"]
["ETIOPIA",null,null,null,null,null,null,null,null,null,null,null,null,null,1954,null,null,null,null,null,null,null,null,null,"Consejo Comunitario de la Cuenca del Río Tolo y Zona Costera Sur","Bete-Auro Bete Auro del Buey","064","MASIGUARE  (MASIWARE,MAIBEN)","440",null,null,null,null,null,null,null,null,null,null,null,null,null,null,null,null,null,null,"INTEGRACION DE TELEMBI","CC DE LA COSTA - CONCOSTA"]
["FIJI",null,null,null,null,null,null,null,null,null,null,null,null,null,1953,null,null,null,null,null,null,null,null,null,"Consejo Comunitario de La Grande","Blasiaku","065","MATAPÍ (JUPICHIYA)",450,null,null,null,null,null,null,null,null,null,null,null,null,null,null,null,null,null,null,"ISTMINA Y PARTE DEL MEDIO SAN JUAN","CC DE LA COSTA - CONCOSTA"]
["FILIPINAS",null,null,null,null,null,null,null,null,null,null,null,null,null,1952,null,null,null,null,null,null,null,null,null,"Consejo Comunitario de La Madre.","Bocana de Luzon","066","MAYA (GUATEMALA)",970,null,null,null,null,null,null,null,null,null,null,null,null,null,null,null,null,null,null,"LA AMISTAD","CC DE RENACER NEGRO"]
["FINLANDIA",null,null,null,null,null,null,null,null,null,null,null,null,null,1951,null,null,null,null,null,null,null,null,null,"Consejo Comunitario de Limones","Bocas de Tetuán","067","MIRAÑA (MIRAYA, MIRNHA)",460,null,null,null,null,null,null,null,null,null,null,null,null,null,null,null,null,null,null,"LA BREA","CONSEJO COMUTARIO DE GUAPI ABAJO"]
["FRANCIA",null,null,null,null,null,null,null,null,null,null,null,null,null,1950,null,null,null,null,null,null,null,null,null,"Consejo Comunitario de Llano Bajo","Bochoroma - Bochoromacito","068","MISAK (NAM MISAK, MISAG,GUAMBIANO,  HUAMIMEHAB, SILVIANO)","290",null,null,null,null,null,null,null,null,null,null,null,null,null,null,null,null,null,null,"LA CORDILLERA OCCIDENTAL DE NARINO COPDICONC","CC DEL RIO GUAJUI"]
["GABON",null,null,null,null,null,null,null,null,null,null,null,null,null,1949,null,null,null,null,null,null,null,null,null,"Consejo Comunitario de Los Mangos","Bonanza","069","MOKANA",820,null,null,null,null,null,null,null,null,null,null,null,null,null,null,null,null,null,null,"LA COSTA - CONCOSTA","CC DE PIZARRO"]
["GAMBIA",null,null,null,null,null,null,null,null,null,null,null,null,null,1948,null,null,null,null,null,null,null,null,null,"Consejo Comunitario de los Ríos La Larga y Tumaradó","Buchado Amparrado","070","MUINANE","731",null,null,null,null,null,null,null,null,null,null,null,null,null,null,null,null,null,null,"LA CUENCA BAJA DEL RIO CALIMA","CC DEL RIO BAUDO  ACABA"]
["GEORGIA",null,null,null,null,null,null,null,null,null,null,null,null,null,1947,null,null,null,null,null,null,null,null,null,"Consejo Comunitario de Mayorquín y Papayal.","Buenavista","071","MUISCA (CHIBCHA)",470,null,null,null,null,null,null,null,null,null,null,null,null,null,null,null,null,null,null,"LA CUENCA DEL RIO ACANDI SECO EL CEDRO Y JUANCHO","CC DEL RIO BAUDO  ACABA"]
["GHANA",null,null,null,null,null,null,null,null,null,null,null,null,null,1946,null,null,null,null,null,null,null,null,null,"Consejo Comunitario de Paimadó","Burujón","072","MURUÍ (UITOTO, MINIKA, WITOTO)",730,null,null,null,null,null,null,null,null,null,null,null,null,null,null,null,null,null,null,"LA CUENCA DEL RIO ACANDI ZONA COSTERA NORTE","CC DEL RIO BAUDO  ACABA"]
["GIBRALTAR",null,null,null,null,null,null,null,null,null,null,null,null,null,1945,null,null,null,null,null,null,null,null,null,"Consejo Comunitario de Pavasa","Businchama","073","NASA (NASA YUWE, PAEZ, YUWE)",500,null,null,null,null,null,null,null,null,null,null,null,null,null,null,null,null,null,null,"LA CUENCA DEL RIO ISCUANDE","CC DEL RIO BAUDO  ACABA"]
["GRANADA",null,null,null,null,null,null,null,null,null,null,null,null,null,1944,null,null,null,null,null,null,null,null,null,"Consejo Comunitario de Pedeguita y Mancilla","Cabeceras o Pto Pizario","074","NONUYA (NUNUYA)",480,null,null,null,null,null,null,null,null,null,null,null,null,null,null,null,null,null,null,"LA CUENCA DEL RIO QUIPARADO","CC DEL RIO BAUDO  ACABA"]
["GRECIA",null,null,null,null,null,null,null,null,null,null,null,null,null,1943,null,null,null,null,null,null,null,null,null,"Consejo Comunitario de Pizarro","Cachivera del Nare","075","NUKAK (NUKAK MAKÚ,  MAKUSA, MACO, KAKUA,HUPDU,JUHUP,JUPDA,UBDE,UDE,YUJUPDE. JUPDE, JUDPE)",430,null,null,null,null,null,null,null,null,null,null,null,null,null,null,null,null,null,null,"LA CUENCA DEL RIO SALAQUI","CC MAYOR DE NOVITA"]
["GROENLANDIA",null,null,null,null,null,null,null,null,null,null,null,null,null,1942,null,null,null,null,null,null,null,null,null,"Consejo Comunitario de Puerto Echeverry","Caicedonia","076","OCAINA ( DIOCAYO, OREBE)",490,null,null,null,null,null,null,null,null,null,null,null,null,null,null,null,null,null,null,"LA CUENCA DEL RIO SAN BERNARDO PATIA NORTE","CC MAYOR DEL CANTON DE SAN PABLO \"ACISANP\""]
["GUADALUPE",null,null,null,null,null,null,null,null,null,null,null,null,null,1941,null,null,null,null,null,null,null,null,null,"Consejo Comunitario de Renacer Negro","Caicemapa","077","OTAVALEÑO (OTAVALEÑA)",830,null,null,null,null,null,null,null,null,null,null,null,null,null,null,null,null,null,null,"LA CUENCA DEL RIO TOLO Y ZONA COSTERA SUR","CC MANOS UNIDAS DEL SOCORRO"]
["GUAM",null,null,null,null,null,null,null,null,null,null,null,null,null,1940,null,null,null,null,null,null,null,null,null,"Consejo Comunitario de Rompederos","Caimán Nuevo o Atlántico","078","PASEÉ","661",null,null,null,null,null,null,null,null,null,null,null,null,null,null,null,null,null,null,"LA ESPERANZA","CC DE VIRUDO"]
["GUATEMALA",null,null,null,null,null,null,null,null,null,null,null,null,null,1939,null,null,null,null,null,null,null,null,null,"Consejo Comunitario de Sabaletas","Caimanero de Jampapa","079","PASTOS (PASTO)",560,null,null,null,null,null,null,null,null,null,null,null,null,null,null,null,null,null,null,"LA ESPERANZA DEL RIO LA TOLA","CC DE PAVASA"]
["GUAYANA FRANCESA",null,null,null,null,null,null,null,null,null,null,null,null,null,1938,null,null,null,null,null,null,null,null,null,"Consejo Comunitario de San Andrés de Usaragá","Cajaros","080","PIAPOCO (TZASE, CUIPACO, DEJA,  UENAIUICA)",510,null,null,null,null,null,null,null,null,null,null,null,null,null,null,null,null,null,null,"LA GRAN MINGA DE LOS RIOS INGUAMBI Y ALBI","CC UNION DE CUENCAS DE ISAGUALPI"]
["GUINEA",null,null,null,null,null,null,null,null,null,null,null,null,null,1937,null,null,null,null,null,null,null,null,null,"Consejo Comunitario de San Francisco de Cugucho.","Calarcá","081","PIAROA (DEARUA,MAKO, UOTIE)",520,null,null,null,null,null,null,null,null,null,null,null,null,null,null,null,null,null,null,"LA GRANDE","CC DE \"ACADESAN\""]
["GUINEA ECUATORIAL",null,null,null,null,null,null,null,null,null,null,null,null,null,1936,null,null,null,null,null,null,null,null,null,"Consejo Comunitario de San Isidro.","Calderas","082","PIJAO (COYAIMA NATAGAIMA, COYAIMA, NATAGAIMA)",200,null,null,null,null,null,null,null,null,null,null,null,null,null,null,null,null,null,null,"LA MADRE","CC DE \"ACADESAN\""]
["GUINEA-BISSAU",null,null,null,null,null,null,null,null,null,null,null,null,null,1935,null,null,null,null,null,null,null,null,null,"Consejo Comunitario de San Marcos","Calenturas","083","PIRATAPUYO (PIRATAPUYA, PARATA PUYA, UAIKAMA)",530,null,null,null,null,null,null,null,null,null,null,null,null,null,null,null,null,null,null,"LA MAMUNCIA PARTE MEDIA DEL RIO MICAY","CC DE \"ACADESAN\""]
["GUYANA",null,null,null,null,null,null,null,null,null,null,null,null,null,1934,null,null,null,null,null,null,null,null,null,"Consejo Comunitario de Taparal.","Cali Barranquilla","084","PISAMIRA (PAPIUA, PISATAPUYO, WASINA, WASONA)",540,null,null,null,null,null,null,null,null,null,null,null,null,null,null,null,null,null,null,"LA NUEVA","CC DE \"ACADESAN\""]
["HAITI",null,null,null,null,null,null,null,null,null,null,null,null,null,1933,null,null,null,null,null,null,null,null,null,"Consejo Comunitario de Truando Medio","Calle Santa Rosa - Rio Saija","085","POLINDARA ","501",null,null,null,null,null,null,null,null,null,null,null,null,null,null,null,null,null,null,"LA NUPA DEL RIO CAUNAPI","CC DE CUEVITAS"]
["HOLANDA",null,null,null,null,null,null,null,null,null,null,null,null,null,1932,null,null,null,null,null,null,null,null,null,"Consejo Comunitario de Turriquitadó","Camaritagua","086","PUINAVE (GUAIPUNARE, PUINABE, UAPI, WANTYINHT)",550,null,null,null,null,null,null,null,null,null,null,null,null,null,null,null,null,null,null,"LA VOZ DE LOS NEGROS","CC DE CUPICA"]
["HONDURAS",null,null,null,null,null,null,null,null,null,null,null,null,null,1931,null,null,null,null,null,null,null,null,null,"Consejo Comunitario de Unicosta.","Campo alegre","087","QUILLACINGA ",565,null,null,null,null,null,null,null,null,null,null,null,null,null,null,null,null,null,null,"LIMONES","CC POR LA IDENTIDAD CULTURAL"]
["HONG KONG",null,null,null,null,null,null,null,null,null,null,null,null,null,1930,null,null,null,null,null,null,null,null,null,"Consejo Comunitario de Vígia de Curvaradó y Santa Rosa de Limón","Campoalegre","088","SÁLIVA (SALIBA)",570,null,null,null,null,null,null,null,null,null,null,null,null,null,null,null,null,null,null,"LLANO BAJO","CC POR LA IDENTIDAD CULTURAL"]
["HUNGRIA",null,null,null,null,null,null,null,null,null,null,null,null,null,1929,null,null,null,null,null,null,null,null,null,"Consejo Comunitario de Villa Conto.","Campoalegre Afilador","089","SIKUANI ( GUAJIBO, JIVI, SICUANI)",580,null,null,null,null,null,null,null,null,null,null,null,null,null,null,null,null,null,null,"LOS MANGOS","CC EL CUERVAL "]
["INDIA",null,null,null,null,null,null,null,null,null,null,null,null,null,1928,null,null,null,null,null,null,null,null,null,"Consejo Comunitario de Virudó","Campoalegre y Ripialito","090","SIONA (GANTEYA, GANTEYABAIN, GATUYAPAIN, KOKA KANU)",590,null,null,null,null,null,null,null,null,null,null,null,null,null,null,null,null,null,null,"LOS RIOS LA LARGA Y TUMARADO","CC DE PAIMADO"]
["INDONESIA",null,null,null,null,null,null,null,null,null,null,null,null,null,1927,null,null,null,null,null,null,null,null,null,"Consejo Comunitario del Río Baudó ACABA","Cananama","091","SIRIANO ( CIRNGA, CHIRANGA, SI RA,SURA MASA)",600,null,null,null,null,null,null,null,null,null,null,null,null,null,null,null,null,null,null,"MALAGUITA BAJO SAN JUAN","CC DE PAIMADO"]
["INGLATERRA",null,null,null,null,null,null,null,null,null,null,null,null,null,1926,null,null,null,null,null,null,null,null,null,"Consejo Comunitario del Río Cajambre.","Canime","092","TAIWANO (EDURIA, TAIUANO, TAJUANO)",610,null,null,null,null,null,null,null,null,null,null,null,null,null,null,null,null,null,null,"MANATIES","CC DE PAIMADO"]
["IRAK",null,null,null,null,null,null,null,null,null,null,null,null,null,1925,null,null,null,null,null,null,null,null,null,"Consejo Comunitario del Río Calima","Canoas","093","TANIGUA (TINIGUA)","621 ",null,null,null,null,null,null,null,null,null,null,null,null,null,null,null,null,null,null,"MANGLARES DEL RIO MICAY","CC DE CERTEGUI"]
["IRAN",null,null,null,null,null,null,null,null,null,null,null,null,null,1924,null,null,null,null,null,null,null,null,null,"Consejo Comunitario del Río Curvaradó","Cañaverales Antadó","094","TANIMUKA (OHAÑARA, OPAIMA, TANIMBOKA, UFAINA)",620,null,null,null,null,null,null,null,null,null,null,null,null,null,null,null,null,null,null,"MANOS AMIGAS DEL PATIA GRANDE","CC MAYOR DEL ALTO SAN JUAN \"ASOCASAN\""]
["IRLANDA (EIRE)",null,null,null,null,null,null,null,null,null,null,null,null,null,1923,null,null,null,null,null,null,null,null,null,"Consejo Comunitario del Río Domingodó","Caño Bachaco","095","TARIANO (TARIANA)",630,null,null,null,null,null,null,null,null,null,null,null,null,null,null,null,null,null,null,"MANOS UNIDAS DEL SOCORRO","CC MAYOR DEL ALTO SAN JUAN \"ASOCASAN\"CC DE LA COMUNIDAD NEGRA DE PUERTO RICO RISARALDA "]
["ISLA PITCAIRN",null,null,null,null,null,null,null,null,null,null,null,null,null,1922,null,null,null,null,null,null,null,null,null,"Consejo Comunitario del Río Guajuí","Caño Claro","096","TATUYO (JUNA, MAJA, PAMOA, SINA)",640,null,null,null,null,null,null,null,null,null,null,null,null,null,null,null,null,null,null,"MAYOR DE LA CUENCA MEDIA Y ALTA DEL RIO DAGUA","CC MAYOR DE UNION PANAMERICANA COCOMAUPA"]
["ISLANDIA",null,null,null,null,null,null,null,null,null,null,null,null,null,1921,null,null,null,null,null,null,null,null,null,"Consejo Comunitario del Rio Gualajo","Caño Guaripa","097","TIKUNA (TICUNA, TUKUNA)",660,null,null,null,null,null,null,null,null,null,null,null,null,null,null,null,null,null,null,"MAYOR DE NOVITA","CC DE LLANO BAJO"]
["ISLAS CAIMAN",null,null,null,null,null,null,null,null,null,null,null,null,null,1920,null,null,null,null,null,null,null,null,null,"Consejo Comunitario del Río Jiguamiandó","Caño Jabón","098","TOTORÓ",650,null,null,null,null,null,null,null,null,null,null,null,null,null,null,null,null,null,null,"MAYOR DE UNION PANAMERICANA COCOMAUPA","CC INTEGRACION DE TELEMBI"]
["ISLAS COCOS (KEELING)",null,null,null,null,null,null,null,null,null,null,null,null,null,1919,null,null,null,null,null,null,null,null,null,"Consejo Comunitario del Río Mejicano","Caño La Hormiga","099","TSIRIPU (TSHIRIPO, MARIPOSO, SIRIPU, SIRIPO)",670,null,null,null,null,null,null,null,null,null,null,null,null,null,null,null,null,null,null,"MAYOR DEL ALTO SAN JUAN \"ASOCASAN\"","CC DE LA BREA"]
["ISLAS COOK",null,null,null,null,null,null,null,null,null,null,null,null,null,1918,null,null,null,null,null,null,null,null,null,"Consejo Comunitario del Río Montaño","Caño Mesetas Dagua y Murciélago","100","TUKANO ( DASEA,  YEPA MASA)",680,null,null,null,null,null,null,null,null,null,null,null,null,null,null,null,null,null,null,"MAYOR DEL ALTO SAN JUAN \"ASOCASAN\" LA COMUNIDAD NEGRA DE PUERTO RICO RISARALDA","CC DE ISTMINA Y PARTE DEL MEDIO SAN JUAN"]
["ISLAS FEROE",null,null,null,null,null,null,null,null,null,null,null,null,null,1917,null,null,null,null,null,null,null,null,null,"Consejo Comunitario del Río Pepe","Caño mochuelo-Morichito - Hato Corozal","101","TUYUCA (TUYUKA, DOJKAPUARA)",700,null,null,null,null,null,null,null,null,null,null,null,null,null,null,null,null,null,null,"MAYOR DEL BAJO ATRATO","CC DE ISTMINA Y PARTE DEL MEDIO SAN JUAN"]
["ISLAS MARIANAS DEL NORTE",null,null,null,null,null,null,null,null,null,null,null,null,null,1916,null,null,null,null,null,null,null,null,null,"Consejo Comunitario del Río Pilizá","Caño negro","102","U`WA (UWA, LACHE, TUNEVO)",690,null,null,null,null,null,null,null,null,null,null,null,null,null,null,null,null,null,null,"MAYOR DEL CANTON DE SAN PABLO \"ACISANP\"","CC MAYOR DEL MUNICIPIO DE CONDOTO E IRO"]
["ISLAS MARSHALL",null,null,null,null,null,null,null,null,null,null,null,null,null,1915,null,null,null,null,null,null,null,null,null,"Consejo Comunitario del Río Raposo.","Caño Ovejas(Betania- Corocito)","103","WANANO (GUANANO, KOTORIA)",310,null,null,null,null,null,null,null,null,null,null,null,null,null,null,null,null,null,null,"MAYOR DEL MEDIO ATRATO ACIA","CC MAYOR DEL MUNICIPIO DE CONDOTO E IRO"]
["ISLAS NAVIDAD CHRISTMAS",null,null,null,null,null,null,null,null,null,null,null,null,null,1914,null,null,null,null,null,null,null,null,null,"Consejo Comunitario del Río Satinga","Caño padilla","104","WAYUU (GUAJIRO, GUJIRO, UAIRA)",720,null,null,null,null,null,null,null,null,null,null,null,null,null,null,null,null,null,null,"MAYOR DEL MUNICIPIO DE CONDOTO E IRO","CC DE CANO BODEGAS"]
["ISLAS PACIFICO (USA)",null,null,null,null,null,null,null,null,null,null,null,null,null,1913,null,null,null,null,null,null,null,null,null,"Consejo Comunitario del Rio Tablon Salado","Capa Lanas","105","WIPIWI","021",null,null,null,null,null,null,null,null,null,null,null,null,null,null,null,null,null,null,"MAYOR DEL MUNICIPIO DE JURADO","CC DE LIMONES"]
["ISLAS SALOMON",null,null,null,null,null,null,null,null,null,null,null,null,null,1912,null,null,null,null,null,null,null,null,null,"Consejo Comunitario del Río Yurumanguí","Caranacoa Yuri Laguna Morocoto","106","WIWA (ARZARIO, DUMANA, GUAMACA, MALAYO)","050",null,null,null,null,null,null,null,null,null,null,null,null,null,null,null,null,null,null,"MAYOR DEL RIO ANCHICAYA","CC DE BRAZITOS Y AMAZONAS"]
["ISLAS TURCAS Y CAICOS",null,null,null,null,null,null,null,null,null,null,null,null,null,1911,null,null,null,null,null,null,null,null,null,"Consejo Comunitario deLa Nueva.","Carlosama","107","WOUNAN ( NOANAMA, WAUNAN, WAUNANA,  WAUNMEU)",710,null,null,null,null,null,null,null,null,null,null,null,null,null,null,null,null,null,null,"MAYORQUIN Y PAPAYAL","CC DE AGUA CLARA"]
["ISLAS VIRGENES BRITANICAS",null,null,null,null,null,null,null,null,null,null,null,null,null,1910,null,null,null,null,null,null,null,null,null,"Consejo Comunitario El Aguacate","Carmentza Biya","108","YAGUA (MISHARA, NIHAMWO, NUJAMUO)",740,null,null,null,null,null,null,null,null,null,null,null,null,null,null,null,null,null,null,"NEGROS EN ACCION","CC UNION DEL RIO CHAGUI"]
["ISLAS VIRGENES NORTEAMERICANAS",null,null,null,null,null,null,null,null,null,null,null,null,null,1909,null,null,null,null,null,null,null,null,null,"Consejo Comunitario El Cuerval","Carpintero Palomas","109","YAMALERO ","025",null,null,null,null,null,null,null,null,null,null,null,null,null,null,null,null,null,null,"NEGROS UNIDOS","CC DE LA CUENCA DEL RIO SAN BERNARDO PATIA NORTE"]
["ISRAEL",null,null,null,null,null,null,null,null,null,null,null,null,null,1908,null,null,null,null,null,null,null,null,null,"Consejo Comunitario El Playon del Río Siguí","Carraipía","110","YANACONA (MITIMAE)",750,null,null,null,null,null,null,null,null,null,null,null,null,null,null,null,null,null,null,"NUEVA ALIANZA","CC DE SABALETAS"]
["ITALIA",null,null,null,null,null,null,null,null,null,null,null,null,null,1907,null,null,null,null,null,null,null,null,null,"Consejo Comunitario El Progreso del Campo","Carruzal","111","YARÍ","732",null,null,null,null,null,null,null,null,null,null,null,null,null,null,null,null,null,null,"NUEVA ESPERANZA","CC DE SAN MARCOS"]
["JAMAICA",null,null,null,null,null,null,null,null,null,null,null,null,null,1906,null,null,null,null,null,null,null,null,null,"Consejo Comunitario el Progreso del Río Nerete","Castilla Angostura","112","YARURO ","026",null,null,null,null,null,null,null,null,null,null,null,null,null,null,null,null,null,null,"ODEMAP MOSQUERA SUR","CC NEGROS UNIDOS"]
["JAPON",null,null,null,null,null,null,null,null,null,null,null,null,null,1905,null,null,null,null,null,null,null,null,null,"Consejo Comunitario El Progreso.","Catalaura","113","YAUNA (CAMEJEYA, KAMEJEYA)",760,null,null,null,null,null,null,null,null,null,null,null,null,null,null,null,null,null,null,"PAIMADO","CC MAYOR DEL RIO ANCHICAYA"]
["JORDANIA",null,null,null,null,null,null,null,null,null,null,null,null,null,1904,null,null,null,null,null,null,null,null,null,"Consejo Comunitario General de la Costa Pacífica del Norte - los Delfines","Catrú, dubasa, Ankoso","114","YERAL (ÑENGANTÚ)","941",null,null,null,null,null,null,null,null,null,null,null,null,null,null,null,null,null,null,"PARTE ALTA SUR DEL RIO SAIJA","CC GUAIMIA"]
["KAZAJSTAN",null,null,null,null,null,null,null,null,null,null,null,null,null,1903,null,null,null,null,null,null,null,null,null,"Consejo Comunitario General del Municipìo de Nuquí - Los Riscales","Cecilia Cocha","115","YUKPA (YUKO, YUCO)",780,null,null,null,null,null,null,null,null,null,null,null,null,null,null,null,null,null,null,"PARTE BAJA DEL RIO SAIJA","CC MAYOR DEL MUNICIPIO DE JURADO  "]
["KENIA",null,null,null,null,null,null,null,null,null,null,null,null,null,1902,null,null,null,null,null,null,null,null,null,"Consejo Comunitario Guadualito.","Centro Miraflores","116","YUKUNA (MAPAPI,  YUCUNA MAPAPI)",770,null,null,null,null,null,null,null,null,null,null,null,null,null,null,null,null,null,null,"PAVASA","CC GENERAL DE LA COSTA PACIFICA DEL NORTE - LOS DELFINES"]
["KIRGUIZISTAN",null,null,null,null,null,null,null,null,null,null,null,null,null,1901,null,null,null,null,null,null,null,null,null,"Consejo Comunitario Guaimía","Cerro de Hatonuevo","117","YURI (CARABAYO)",120,null,null,null,null,null,null,null,null,null,null,null,null,null,null,null,null,null,null,"PEDEGUITA Y MANCILLA","CC GENERAL DE LA COSTA PACIFICA DEL NORTE - LOS DELFINES"]
["KIRIBATI",null,null,null,null,null,null,null,null,null,null,null,null,null,1900,null,null,null,null,null,null,null,null,null,"Consejo Comunitario Gualmar","Cerrodeo","118","YURUTÍ (TAPUYA, TOTSOCA, WAI JIARA MASA, WAIKANA)",790,null,null,null,null,null,null,null,null,null,null,null,null,null,null,null,null,null,null,"PIEDRAS BACHICHI","CC CATANGUEROS"]
["KUWAIT",null,null,null,null,null,null,null,null,null,null,null,null,null,null,null,null,null,null,null,null,null,null,null,"Consejo Comunitario Imbilpí del Carmen","Chachajo (dos lotes)","119","ZENÚ (SENÚ)",800,null,null,null,null,null,null,null,null,null,null,null,null,null,null,null,null,null,null,"PIZARRO","CC NEGROS EN ACCION"]
["LAOS",null,null,null,null,null,null,null,null,null,null,null,null,null,null,null,null,null,null,null,null,null,null,null,"Consejo Comunitario Integración de Telembí","Chagpien - Tordó","120","INDIGENA SIN INFORMACIÓN",999,null,null,null,null,null,null,null,null,null,null,null,null,null,null,null,null,null,null,"POR EL DESARROLLO INTEGRAL","CC PARTE ALTA SUR DEL RIO SAIJA"]
["LESOTHO",null,null,null,null,null,null,null,null,null,null,null,null,null,null,null,null,null,null,null,null,null,null,null,"Consejo Comunitario La Amistad","CHAGUI, CHIMBUZA, VEGAS, SAN ANTONIO, OTROS","121","OTRO","OTRO",null,null,null,null,null,null,null,null,null,null,null,null,null,null,null,null,null,null,"POR LA IDENTIDAD CULTURAL","CC GENERAL DEL MUNICIPÌO DE NUQUI - LOS RISCALES"]
["LETONIA",null,null,null,null,null,null,null,null,null,null,null,null,null,null,null,null,null,null,null,null,null,null,null,"Consejo Comunitario la Esperanza del Río La Tola","Chaluayaco","122",null,null,null,null,null,null,null,null,null,null,null,null,null,null,null,null,null,null,null,null,"PORCE MEDIO","CC DE LA CUENCA BAJA DEL RIO CALIMA"]
["LIBANO",null,null,null,null,null,null,null,null,null,null,null,null,null,null,null,null,null,null,null,null,null,null,null,"Consejo Comunitario la Mamuncia, Parte Media del Río Micay","Chaparral y Barro Negro","123","Nota: Los nombres de los pueblos están depurados por viviana etayo y fueron entregados por ella el día 26 de enero de 2017",null,null,null,null,null,null,null,null,null,null,null,null,null,null,null,null,null,null,null,"PRO-DEFENSA DEL RIO TAPAJE","CC PARTE BAJA DEL RIO SAIJA"]
["LIBERIA",null,null,null,null,null,null,null,null,null,null,null,null,null,null,null,null,null,null,null,null,null,null,null,"Consejo Comunitario La Nupa del Río Caunapí","Chaquenoda","124",null,null,null,null,null,null,null,null,null,null,null,null,null,null,null,null,null,null,null,null,"PUEBLO NUEVO","CC LA ESPERANZA DEL RIO LA TOLA"]
["LIBIA (INCLUYE FEZZAN)",null,null,null,null,null,null,null,null,null,null,null,null,null,null,null,null,null,null,null,null,null,null,null,"Consejo Comunitario Manatíes","Chaquira","125",null,null,null,null,null,null,null,null,null,null,null,null,null,null,null,null,null,null,null,null,"PUERTO ECHEVERRY","CC DEL RIO GUALAJO"]
["LIECHTENSTEIN",null,null,null,null,null,null,null,null,null,null,null,null,null,null,null,null,null,null,null,null,null,null,null,"Consejo Comunitario Manglares del Río Micay","Charco Caimán","126",null,null,null,null,null,null,null,null,null,null,null,null,null,null,null,null,null,null,null,null,"RENACER NEGRO","CC DEL RIO TABLON SALADO"]
["LITUANIA",null,null,null,null,null,null,null,null,null,null,null,null,null,null,null,null,null,null,null,null,null,null,null,"Consejo Comunitario Manos Amigas del Patía Grande","Chenche Amayarco","127",null,null,null,null,null,null,null,null,null,null,null,null,null,null,null,null,null,null,null,null,"RESCATE LAS VARAS","CC LA NUPA DEL RIO CAUNAPI"]
["LUXEMBURGO",null,null,null,null,null,null,null,null,null,null,null,null,null,null,null,null,null,null,null,null,null,null,null,"Consejo Comunitario Manos Unidas del Socorro","Chenche Balsillas","128",null,null,null,null,null,null,null,null,null,null,null,null,null,null,null,null,null,null,null,null,"RIO BAUDO ACABA","CC UNION RIO ROSARIO"]
["MACAO",null,null,null,null,null,null,null,null,null,null,null,null,null,null,null,null,null,null,null,null,null,null,null,"Consejo Comunitario Mayor de la Cuenca Media y Alta del Río Dagua","Chenche Buenavista","129",null,null,null,null,null,null,null,null,null,null,null,null,null,null,null,null,null,null,null,null,"RIO CACARICA","CC PUEBLO NUEVO "]
["MACEDONIA",null,null,null,null,null,null,null,null,null,null,null,null,null,null,null,null,null,null,null,null,null,null,null,"CONSEJO COMUNITARIO MAYOR DE LA ORGANIZACIÓN CAMPESINA POPULAR DEL ALTO ATRATO - COCOMOPOCA","Chenche Buenos Aires","130",null,null,null,null,null,null,null,null,null,null,null,null,null,null,null,null,null,null,null,null,"RIO CAJAMBRE","CC PORCE MEDIO "]
["MADAGASCAR",null,null,null,null,null,null,null,null,null,null,null,null,null,null,null,null,null,null,null,null,null,null,null,"Consejo Comunitario Mayor de Novita","Chenche Buenos Aires Tradicional","131",null,null,null,null,null,null,null,null,null,null,null,null,null,null,null,null,null,null,null,null,"RIO CURVARADO","CC PORCE MEDIO "]
["MALAWI",null,null,null,null,null,null,null,null,null,null,null,null,null,null,null,null,null,null,null,null,null,null,null,"Consejo Comunitario Mayor de Unión Panamericana","Chenche Media Luna","132",null,null,null,null,null,null,null,null,null,null,null,null,null,null,null,null,null,null,null,null,"RIO DOMINGODO","CC PORCE MEDIO "]
["MALAYSIA",null,null,null,null,null,null,null,null,null,null,null,null,null,null,null,null,null,null,null,null,null,null,null,"Consejo Comunitario Mayor del Alto San Juan \"ASOCASAN\"","Chenche Socorro Los Guayabos","133",null,null,null,null,null,null,null,null,null,null,null,null,null,null,null,null,null,null,null,null,"RIO GUAJUI","CC EL AGUACATE"]
["MALDIVAS",null,null,null,null,null,null,null,null,null,null,null,null,null,null,null,null,null,null,null,null,null,null,null,"Consejo Comunitario Mayor del Alto San Juan \"ASOCASAN\"","Chicuambe Las Brisas","134",null,null,null,null,null,null,null,null,null,null,null,null,null,null,null,null,null,null,null,null,"RIO GUALAJO","CC EL AGUACATE"]
["MALI",null,null,null,null,null,null,null,null,null,null,null,null,null,null,null,null,null,null,null,null,null,null,null,"Consejo Comunitario Mayor del Bajo Atrato","Chidima Tolo","135",null,null,null,null,null,null,null,null,null,null,null,null,null,null,null,null,null,null,null,null,"RIO JIGUAMIANDO","CC BOCAS DE CANA"]
["MALTA",null,null,null,null,null,null,null,null,null,null,null,null,null,null,null,null,null,null,null,null,null,null,null,"Consejo Comunitario Mayor del Cantón de San Pablo \"ACISANP\"","Chigorodó Memba","136",null,null,null,null,null,null,null,null,null,null,null,null,null,null,null,null,null,null,null,null,"RIO MONTANO","CC BOCAS DE CANA"]
["MARRUECOS",null,null,null,null,null,null,null,null,null,null,null,null,null,null,null,null,null,null,null,null,null,null,null,"Consejo Comunitario Mayor del Medio Atrato ACIA","Chiguiro","137",null,null,null,null,null,null,null,null,null,null,null,null,null,null,null,null,null,null,null,null,"RIO PEPE","CC IMBILPI DEL CARMEN"]
["MARTINICA",null,null,null,null,null,null,null,null,null,null,null,null,null,null,null,null,null,null,null,null,null,null,null,"Consejo Comunitario Mayor del Medio Atrato ACIA.","Chimbagal","138",null,null,null,null,null,null,null,null,null,null,null,null,null,null,null,null,null,null,null,null,"RIO PILIZA","CC EL PROGRESO DEL RIO NERETE"]
["MAURICIO",null,null,null,null,null,null,null,null,null,null,null,null,null,null,null,null,null,null,null,null,null,null,null,"Consejo Comunitario Mayor del Municipio de Condoto e Iró","Chimborazo","139",null,null,null,null,null,null,null,null,null,null,null,null,null,null,null,null,null,null,null,null,"RIO RAPOSO","CC GUALMAR"]
["MAURITANIA",null,null,null,null,null,null,null,null,null,null,null,null,null,null,null,null,null,null,null,null,null,null,null,"Consejo Comunitario Mayor del Municipio de Juradó","Chimila de San angel","140",null,null,null,null,null,null,null,null,null,null,null,null,null,null,null,null,null,null,null,null,"RIO SATINGA","CC DE LA CORDILLERA OCCIDENTAL DE NARINO COPDICONC"]
["MEXICO",null,null,null,null,null,null,null,null,null,null,null,null,null,null,null,null,null,null,null,null,null,null,null,"Consejo Comunitario Mayor del Río Anchicaya","Chimurro y Nendo","141",null,null,null,null,null,null,null,null,null,null,null,null,null,null,null,null,null,null,null,null,"RIO TABLON SALADO","CC DE LA CORDILLERA OCCIDENTAL DE NARINO COPDICONC"]
["MICRONESIA",null,null,null,null,null,null,null,null,null,null,null,null,null,null,null,null,null,null,null,null,null,null,null,"Consejo Comunitario Negros en Acción","CHINGUIRITO - MIRA","142",null,null,null,null,null,null,null,null,null,null,null,null,null,null,null,null,null,null,null,null,"RIO YURUMANGUI","CC EL RECUERDO DE NUESTROS ANCESTROS DEL RIO MEJICANO"]
["MOLDAVIA",null,null,null,null,null,null,null,null,null,null,null,null,null,null,null,null,null,null,null,null,null,null,null,"Consejo Comunitario Negros Unidos","Chocón","143",null,null,null,null,null,null,null,null,null,null,null,null,null,null,null,null,null,null,null,null,"SABALETAS","CC CITRONELA RIO DAGUA"]
["MONACO",null,null,null,null,null,null,null,null,null,null,null,null,null,null,null,null,null,null,null,null,null,null,null,"Consejo Comunitario Odemap Mosquera Sur","Chololobo Matatú","144",null,null,null,null,null,null,null,null,null,null,null,null,null,null,null,null,null,null,null,null,"SAN AGUSTIN DE TERRON","CC ALTO POTEDO"]
["MONGOLIA",null,null,null,null,null,null,null,null,null,null,null,null,null,null,null,null,null,null,null,null,null,null,null,"Consejo Comunitario Parte Alta Sur del Río Saija","Chonara Huena","145",null,null,null,null,null,null,null,null,null,null,null,null,null,null,null,null,null,null,null,null,"SAN ANDRES DE USARAGA","CC CALLE LARGA RIO DAGUA"]
["MONSERRAT, ISLA",null,null,null,null,null,null,null,null,null,null,null,null,null,null,null,null,null,null,null,null,null,null,null,"Consejo Comunitario Parte Baja del Río Saija","Chontadural Cañero","146",null,null,null,null,null,null,null,null,null,null,null,null,null,null,null,null,null,null,null,null,"SAN JOC PARTE ALTA DEL RIO MICAY","CC ZACARIAS RIO DAGUA"]
["MOZAMBIQUE",null,null,null,null,null,null,null,null,null,null,null,null,null,null,null,null,null,null,null,null,null,null,null,"Consejo Comunitario por el Desarrollo Integral","Choromandó Alto y Medio","147",null,null,null,null,null,null,null,null,null,null,null,null,null,null,null,null,null,null,null,null,"SAN MARCOS","CC POR EL DESARROLLO INTEGRAL"]
["NAMIBIA",null,null,null,null,null,null,null,null,null,null,null,null,null,null,null,null,null,null,null,null,null,null,null,"Consejo Comunitario Por La Identidad Cultural","Chuscal y Tuguridocito","148",null,null,null,null,null,null,null,null,null,null,null,null,null,null,null,null,null,null,null,null,"SAN NICOLAS","CC SAN NICOLAS"]
["NAURU",null,null,null,null,null,null,null,null,null,null,null,null,null,null,null,null,null,null,null,null,null,null,null,"Consejo Comunitario Porce Medio","Cibariza","149",null,null,null,null,null,null,null,null,null,null,null,null,null,null,null,null,null,null,null,null,"SANQUIANGA","CC MAYOR DEL BAJO ATRATO"]
["NEPAL",null,null,null,null,null,null,null,null,null,null,null,null,null,null,null,null,null,null,null,null,null,null,null,"Consejo Comunitario Pro-defenza del Río Tapaje","Cocana","150",null,null,null,null,null,null,null,null,null,null,null,null,null,null,null,null,null,null,null,null,"SIVIRU","CC DE GUAYABAL"]
["NICARAGUA",null,null,null,null,null,null,null,null,null,null,null,null,null,null,null,null,null,null,null,null,null,null,null,"Consejo Comunitario Pueblo Nuevo","Comeyafu","151",null,null,null,null,null,null,null,null,null,null,null,null,null,null,null,null,null,null,null,null,"TABLON DULCE","CC BAJO MIRA Y FRONTERA"]
["NIGER",null,null,null,null,null,null,null,null,null,null,null,null,null,null,null,null,null,null,null,null,null,null,null,"Consejo Comunitario Río Cacarica.","Concordia","152",null,null,null,null,null,null,null,null,null,null,null,null,null,null,null,null,null,null,null,null,"TAPARAL","CC BAHIA MALAGA -LA PLATA"]
["NIGERIA",null,null,null,null,null,null,null,null,null,null,null,null,null,null,null,null,null,null,null,null,null,null,null,"Consejo Comunitario San Agustín de Terrón","Condagua","153",null,null,null,null,null,null,null,null,null,null,null,null,null,null,null,null,null,null,null,null,"TRUANDO MEDIO","CC EL PLAYON DEL RIO SIGUI"]
["NIUE, ISLA",null,null,null,null,null,null,null,null,null,null,null,null,null,null,null,null,null,null,null,null,null,null,null,"Consejo Comunitario San Joc Parte Alta del Río Micay","Consara - Mecaya","154",null,null,null,null,null,null,null,null,null,null,null,null,null,null,null,null,null,null,null,null,"TURRIQUITADO","CONSEJO COMUN INTEGRACION DEL RIO CHUARE"]
["NORFOLK, ISLA",null,null,null,null,null,null,null,null,null,null,null,null,null,null,null,null,null,null,null,null,null,null,null,"Consejo Comunitario San Nicolás","Cope del Río Ingara","155",null,null,null,null,null,null,null,null,null,null,null,null,null,null,null,null,null,null,null,null,"UNION DE CUENCAS DE ISAGUALPI","CC SAN JOC PARTE ALTA DEL RIO MICAY"]
["NORUEGA",null,null,null,null,null,null,null,null,null,null,null,null,null,null,null,null,null,null,null,null,null,null,null,"Consejo Comunitario Sanquianga","Coribí Bedadó","156",null,null,null,null,null,null,null,null,null,null,null,null,null,null,null,null,null,null,null,null,"UNION DEL RIO CHAGUI","CC BAJO RIO GUELMAMBI"]
["NUEVA CALEDONIA",null,null,null,null,null,null,null,null,null,null,null,null,null,null,null,null,null,null,null,null,null,null,null,"Consejo Comunitario Tablon Dulce","Corinto López Adentro","157",null,null,null,null,null,null,null,null,null,null,null,null,null,null,null,null,null,null,null,null,"UNION PATIA VIEJO","CC ALTO RIO SEQUIHONDA"]
["NUEVA ZELANDIA",null,null,null,null,null,null,null,null,null,null,null,null,null,null,null,null,null,null,null,null,null,null,null,"Consejo Comunitario Unión de Cuencas de Isagualpi","Corocito-Yopalito-Wacoyo","158",null,null,null,null,null,null,null,null,null,null,null,null,null,null,null,null,null,null,null,null,"UNION RIO ROSARIO","CC ALTO MIRA Y FRONTERA"]
["OMAN",null,null,null,null,null,null,null,null,null,null,null,null,null,null,null,null,null,null,null,null,null,null,null,"Consejo Comunitario Unión del Río Chaguí","Corocoro","159",null,null,null,null,null,null,null,null,null,null,null,null,null,null,null,null,null,null,null,null,"VEREDAS UNIDAS: UN BIEN COMUN","CC BAZAN - LA BOCANA"]
["PAKISTAN",null,null,null,null,null,null,null,null,null,null,null,null,null,null,null,null,null,null,null,null,null,null,null,"Consejo Comunitario Unión Patía Viejo.","Coropoya","160",null,null,null,null,null,null,null,null,null,null,null,null,null,null,null,null,null,null,null,null,"VIGIA DE CURVARADO Y SANTA ROSA DE LIMON","CC TABLON DULCE"]
["PALAU",null,null,null,null,null,null,null,null,null,null,null,null,null,null,null,null,null,null,null,null,null,null,null,"Consejo Comunitario Union Rio Rosario","Corozal y Tapaojo","161",null,null,null,null,null,null,null,null,null,null,null,null,null,null,null,null,null,null,null,null,"VILLA GRANDE","CC ODEMAP MOSQUERA SUR"]
["PALESTINA",null,null,null,null,null,null,null,null,null,null,null,null,null,null,null,null,null,null,null,null,null,null,null,"Consejo Comunitario Villa María de Purrichá","Cristianía","162",null,null,null,null,null,null,null,null,null,null,null,null,null,null,null,null,null,null,null,null,"VILLA MARIA DE PURRICHA","CC DE LA CUENCA DEL RIO ACANDI SECO EL CEDRO Y JUANCHO"]
["PANAMA",null,null,null,null,null,null,null,null,null,null,null,null,null,null,null,null,null,null,null,null,null,null,null,"Consejo Comunitario Zacarias Río Dagua","CUAIQUER INTEGRADO LA MILAGROSA","163",null,null,null,null,null,null,null,null,null,null,null,null,null,null,null,null,null,null,null,null,"VIRUDO","CC DE LA CUENCA DEL RIO ACANDI ZONA COSTERA NORTE"]
["PAPUASIA NUEVA GUINEA",null,null,null,null,null,null,null,null,null,null,null,null,null,null,null,null,null,null,null,null,null,null,null,"Consejo Comutario de Guapí Abajo","Cuambi-Yaslambi","164",null,null,null,null,null,null,null,null,null,null,null,null,null,null,null,null,null,null,null,null,"ZACARIAS RIO DAGUA","CC DE LA CUENCA DEL RIO TOLO Y ZONA COSTERA SUR"]
["PARAGUAY",null,null,null,null,null,null,null,null,null,null,null,null,null,null,null,null,null,null,null,null,null,null,null,"Cosejo Comunitario de Bocas de Taparal.","Cuasbi-La Faldada","165",null,null,null,null,null,null,null,null,null,null,null,null,null,null,null,null,null,null,null,null,null,"CC DE CHANZARA"]
["PERU",null,null,null,null,null,null,null,null,null,null,null,null,null,null,null,null,null,null,null,null,null,null,null,"Cuellar Río San Juan","Cuascuabi-Paldubi","166",null,null,null,null,null,null,null,null,null,null,null,null,null,null,null,null,null,null,null,null,null,"CC LA MAMUNCIA PARTE MEDIA DEL RIO MICAY"]
["POLINESIA FRANCESA",null,null,null,null,null,null,null,null,null,null,null,null,null,null,null,null,null,null,null,null,null,null,null,"EL BIEN DEL FUTURO","Cuatro de Noviembre","167",null,null,null,null,null,null,null,null,null,null,null,null,null,null,null,null,null,null,null,null,null,"CC DE LA CUENCA DEL RIO ISCUANDE"]
["POLONIA",null,null,null,null,null,null,null,null,null,null,null,null,null,null,null,null,null,null,null,null,null,null,null,"GAMBOA","Cuayare el Coco","168",null,null,null,null,null,null,null,null,null,null,null,null,null,null,null,null,null,null,null,null,null,"CC PRO-DEFENSA DEL RIO TAPAJE"]
["PORTUGAL",null,null,null,null,null,null,null,null,null,null,null,null,null,null,null,null,null,null,null,null,null,null,null,"La Barra","Cuchilla Palmar","169",null,null,null,null,null,null,null,null,null,null,null,null,null,null,null,null,null,null,null,null,null,"CC DE CASIMIRO"]
["PUERTO RICO",null,null,null,null,null,null,null,null,null,null,null,null,null,null,null,null,null,null,null,null,null,null,null,"LA BOQUILLA","Cuenca Media y Alta del Río Inírida","170",null,null,null,null,null,null,null,null,null,null,null,null,null,null,null,null,null,null,null,null,null,"CC MAYOR DE LA CUENCA MEDIA Y ALTA DEL RIO DAGUA"]
["QATAR",null,null,null,null,null,null,null,null,null,null,null,null,null,null,null,null,null,null,null,null,null,null,null,"LA ESPERANZA","Cuiloto II","171",null,null,null,null,null,null,null,null,null,null,null,null,null,null,null,null,null,null,null,null,null,"CC DE CORDOBA Y SAN CIPRIANO"]
["REPUBLICA CENTROAFRICANA",null,null,null,null,null,null,null,null,null,null,null,null,null,null,null,null,null,null,null,null,null,null,null,"La Gran Minga de los Ríos Inguambí y Albí","Cumaral - Guamuco","172",null,null,null,null,null,null,null,null,null,null,null,null,null,null,null,null,null,null,null,null,null,"CC MANGLARES DEL RIO MICAY"]
["REPUBLICA CHECA",null,null,null,null,null,null,null,null,null,null,null,null,null,null,null,null,null,null,null,null,null,null,null,"La Gran Unión Del Rio Telpí","Cumbal","173",null,null,null,null,null,null,null,null,null,null,null,null,null,null,null,null,null,null,null,null,null,"CC CORTINA VERDE MANDELA"]
["REPUBLICA DOMINICANA",null,null,null,null,null,null,null,null,null,null,null,null,null,null,null,null,null,null,null,null,null,null,null,"La Molana","Curare-Los ingleses","174",null,null,null,null,null,null,null,null,null,null,null,null,null,null,null,null,null,null,null,null,null,"CC LA GRAN MINGA DE LOS RIOS INGUAMBI Y ALBI"]
["REUNION",null,null,null,null,null,null,null,null,null,null,null,null,null,null,null,null,null,null,null,null,null,null,null,"La Nueva Reserva De Acanure","Cusay o la Colorada","175",null,null,null,null,null,null,null,null,null,null,null,null,null,null,null,null,null,null,null,null,null,"CC LA VOZ DE LOS NEGROS"]
["RUANDA",null,null,null,null,null,null,null,null,null,null,null,null,null,null,null,null,null,null,null,null,null,null,null,"LA VOZ DE LOS NEGROS","Cusumbe Aguablanca","176",null,null,null,null,null,null,null,null,null,null,null,null,null,null,null,null,null,null,null,null,null,"ALEJANDRO RINCON DEL RIO NAMBI"]
["RUMANIA",null,null,null,null,null,null,null,null,null,null,null,null,null,null,null,null,null,null,null,null,null,null,null,"Liberación Y Futuro","Cuti","177",null,null,null,null,null,null,null,null,null,null,null,null,null,null,null,null,null,null,null,null,null,"CC BELLAVISTA ANCHICAYA"]
["RUSIA",null,null,null,null,null,null,null,null,null,null,null,null,null,null,null,null,null,null,null,null,null,null,null,"MAKANKAMANÁ","Cxayu'ce Fiw","178",null,null,null,null,null,null,null,null,null,null,null,null,null,null,null,null,null,null,null,null,null,"MALAGUITA BAJO SAN JUAN"]
["SAHARA OCCIDENTAL",null,null,null,null,null,null,null,null,null,null,null,null,null,null,null,null,null,null,null,null,null,null,null,"Malaguita Bajo San Juan","Dachi Agore Drúa","179",null,null,null,null,null,null,null,null,null,null,null,null,null,null,null,null,null,null,null,null,null,"CC RESCATE LAS VARAS"]
["SAMOA",null,null,null,null,null,null,null,null,null,null,null,null,null,null,null,null,null,null,null,null,null,null,null,"NUEVA ALIANZA","Dachi Drua Chamí","180",null,null,null,null,null,null,null,null,null,null,null,null,null,null,null,null,null,null,null,null,null,"CUELLAR RIO SAN JUAN"]
["SAMOA NORTEAMERICANA",null,null,null,null,null,null,null,null,null,null,null,null,null,null,null,null,null,null,null,null,null,null,null,"NUEVA ESPERANZA","Dachi Drua Mundi","181",null,null,null,null,null,null,null,null,null,null,null,null,null,null,null,null,null,null,null,null,null,"CABECERAS RIO SAN JUAN"]
["SAN CRISTOBAL Y NIEVES",null,null,null,null,null,null,null,null,null,null,null,null,null,null,null,null,null,null,null,null,null,null,null,"Nueva Esperanza","Damasco Vides","182",null,null,null,null,null,null,null,null,null,null,null,null,null,null,null,null,null,null,null,null,null,"CC DE SIVIRU"]
["SAN MARINO",null,null,null,null,null,null,null,null,null,null,null,null,null,null,null,null,null,null,null,null,null,null,null,"Nueva Esperanza","Dearade Biakirude","183",null,null,null,null,null,null,null,null,null,null,null,null,null,null,null,null,null,null,null,null,null,"CC PIEDRAS BACHICHI"]
["SAN PEDRO Y MIGUELON",null,null,null,null,null,null,null,null,null,null,null,null,null,null,null,null,null,null,null,null,null,null,null,"Nuevo Renacer","Diamante","184",null,null,null,null,null,null,null,null,null,null,null,null,null,null,null,null,null,null,null,null,null,"CC NUEVA ALIANZA"]
["SAN VICENTE Y LAS GRANADINAS",null,null,null,null,null,null,null,null,null,null,null,null,null,null,null,null,null,null,null,null,null,null,null,"OBATALÁ","Do Imamma Tuma y Bella Luz","185",null,null,null,null,null,null,null,null,null,null,null,null,null,null,null,null,null,null,null,null,null,"CC LA ESPERANZA "]
["SANTA ELENA",null,null,null,null,null,null,null,null,null,null,null,null,null,null,null,null,null,null,null,null,null,null,null,"ORIKA ISLAS DEL ROSARIO","Dóbida Dogibi","186",null,null,null,null,null,null,null,null,null,null,null,null,null,null,null,null,null,null,null,null,null,"CC GAMBOA"]
["SANTA LUCIA",null,null,null,null,null,null,null,null,null,null,null,null,null,null,null,null,null,null,null,null,null,null,null,"PUERTO ESPAÑA Y MIRAMAR","Docordó Balsalito ( 2 lotes)","187",null,null,null,null,null,null,null,null,null,null,null,null,null,null,null,null,null,null,null,null,null,"CC CAUCANA"]
["SANTA SEDE - Ciudad del Vaticano",null,null,null,null,null,null,null,null,null,null,null,null,null,null,null,null,null,null,null,null,null,null,null,"Renacer Campesino","Dokerazavi","188",null,null,null,null,null,null,null,null,null,null,null,null,null,null,null,null,null,null,null,null,null,"CC VILLA GRANDE"]
["SANTO TOME Y PRINCIPE",null,null,null,null,null,null,null,null,null,null,null,null,null,null,null,null,null,null,null,null,null,null,null,"RENACER TELEMBÍ","Dominico-Dondoño-Apartadó","189",null,null,null,null,null,null,null,null,null,null,null,null,null,null,null,null,null,null,null,null,null,"CC NUEVA ESPERANZA"]
["SENEGAL",null,null,null,null,null,null,null,null,null,null,null,null,null,null,null,null,null,null,null,null,null,null,null,"RESCATE LAS VARAS","Doxura","190",null,null,null,null,null,null,null,null,null,null,null,null,null,null,null,null,null,null,null,null,null,"CC ALTO RIO DAGUA PACIFICO CIMARRONES DE CISNEROS"]
["SEYCHELLES",null,null,null,null,null,null,null,null,null,null,null,null,null,null,null,null,null,null,null,null,null,null,null,"SIVIRÙ","Drua-Do (Portales del Río)","191",null,null,null,null,null,null,null,null,null,null,null,null,null,null,null,null,null,null,null,null,null,"CC CHAPARROSA"]
["SIERRA LEONA",null,null,null,null,null,null,null,null,null,null,null,null,null,null,null,null,null,null,null,null,null,null,null,"VILLA GRANDE","Egua Guariacana","192"]
["SINGAPUR",null,null,null,null,null,null,null,null,null,null,null,null,null,null,null,null,null,null,null,null,null,null,null,null,"El Cedrito","193"]
["SIRIA, REPUBLICA ARABE DE",null,null,null,null,null,null,null,null,null,null,null,null,null,null,null,null,null,null,null,null,null,null,null,null,"EL CEDRO, LA BRAVA, LAS PEÑAS, PILVI Y LA PINTADA","194"]
["SLOVENIA",null,null,null,null,null,null,null,null,null,null,null,null,null,null,null,null,null,null,null,null,null,null,null,null,"El Concejo","195"]
["SOMALIA",null,null,null,null,null,null,null,null,null,null,null,null,null,null,null,null,null,null,null,null,null,null,null,null,"El Descanso","196"]
["SRI LANKA",null,null,null,null,null,null,null,null,null,null,null,null,null,null,null,null,null,null,null,null,null,null,null,null,"El Dieciocho","197"]
["SUDAFRICA, REPUBLICA DE",null,null,null,null,null,null,null,null,null,null,null,null,null,null,null,null,null,null,null,null,null,null,null,null,"El doce o Q. Borbollón","198"]
["SUDAN",null,null,null,null,null,null,null,null,null,null,null,null,null,null,null,null,null,null,null,null,null,null,null,null,"El Duya San Juanito Paravare","199"]
["SUECIA",null,null,null,null,null,null,null,null,null,null,null,null,null,null,null,null,null,null,null,null,null,null,null,null,"El Espingo","200"]
["SUIZA",null,null,null,null,null,null,null,null,null,null,null,null,null,null,null,null,null,null,null,null,null,null,null,null,"El Fiera","201"]
["SURINAM",null,null,null,null,null,null,null,null,null,null,null,null,null,null,null,null,null,null,null,null,null,null,null,null,"El Gran Sábalo","202"]
["SWAZILANDIA",null,null,null,null,null,null,null,null,null,null,null,null,null,null,null,null,null,null,null,null,null,null,null,null,"El Guayabal","203"]
["TADJIKISTAN",null,null,null,null,null,null,null,null,null,null,null,null,null,null,null,null,null,null,null,null,null,null,null,null,"El Hacha","204"]
["TAIWAN (FORMOSA)",null,null,null,null,null,null,null,null,null,null,null,null,null,null,null,null,null,null,null,null,null,null,null,null,"El Itilla","205"]
["TANZANIA",null,null,null,null,null,null,null,null,null,null,null,null,null,null,null,null,null,null,null,null,null,null,null,null,"El Medano","206"]
["TEKONDO",null,null,null,null,null,null,null,null,null,null,null,null,null,null,null,null,null,null,null,null,null,null,null,null,"El Oso","207"]
["TERRITORIO BRITANICO DEL OCEANO INDICO",null,null,null,null,null,null,null,null,null,null,null,null,null,null,null,null,null,null,null,null,null,null,null,null,"El Peñón","208"]
["THAILANDIA",null,null,null,null,null,null,null,null,null,null,null,null,null,null,null,null,null,null,null,null,null,null,null,null,"El Piñal","209"]
["TIMOR DEL ESTE",null,null,null,null,null,null,null,null,null,null,null,null,null,null,null,null,null,null,null,null,null,null,null,null,"El Portal","210"]
["TOGO",null,null,null,null,null,null,null,null,null,null,null,null,null,null,null,null,null,null,null,null,null,null,null,null,"El Porvenir La Barrialosa","211"]
["TOKELAU",null,null,null,null,null,null,null,null,null,null,null,null,null,null,null,null,null,null,null,null,null,null,null,null,"El Progreso","212"]
["TONGA",null,null,null,null,null,null,null,null,null,null,null,null,null,null,null,null,null,null,null,null,null,null,null,null,"El Quince","213"]
["TRINIDAD Y TOBAGO",null,null,null,null,null,null,null,null,null,null,null,null,null,null,null,null,null,null,null,null,null,null,null,null,"EL REFUGIO","214"]
["TUNICIA",null,null,null,null,null,null,null,null,null,null,null,null,null,null,null,null,null,null,null,null,null,null,null,null,"El rosario, Bellavista y yucatán","215"]
["TURKMENISTAN",null,null,null,null,null,null,null,null,null,null,null,null,null,null,null,null,null,null,null,null,null,null,null,null,"El Saladillo","216"]
["TURQUIA",null,null,null,null,null,null,null,null,null,null,null,null,null,null,null,null,null,null,null,null,null,null,null,null,"El salado","217"]
["TUVALU",null,null,null,null,null,null,null,null,null,null,null,null,null,null,null,null,null,null,null,null,null,null,null,null,"El Sande","218"]
["UCRANIA",null,null,null,null,null,null,null,null,null,null,null,null,null,null,null,null,null,null,null,null,null,null,null,null,"El Silencio","219"]
["UGANDA",null,null,null,null,null,null,null,null,null,null,null,null,null,null,null,null,null,null,null,null,null,null,null,null,"El Soldado Parate Bien","220"]
["URUGUAY",null,null,null,null,null,null,null,null,null,null,null,null,null,null,null,null,null,null,null,null,null,null,null,null,"El Suspiro Rincón el Socorro","221"]
["UZBEKISTAN",null,null,null,null,null,null,null,null,null,null,null,null,null,null,null,null,null,null,null,null,null,null,null,null,"El Tablero","222"]
["VANUATU",null,null,null,null,null,null,null,null,null,null,null,null,null,null,null,null,null,null,null,null,null,null,null,null,"El Tambo","223"]
["VENEZUELA",null,null,null,null,null,null,null,null,null,null,null,null,null,null,null,null,null,null,null,null,null,null,null,null,"El Tigre","224"]
["VIET NAM",null,null,null,null,null,null,null,null,null,null,null,null,null,null,null,null,null,null,null,null,null,null,null,null,"El Triunfo","225"]
["WALLIS Y FORTUNA",null,null,null,null,null,null,null,null,null,null,null,null,null,null,null,null,null,null,null,null,null,null,null,null,"El Turpial- La Victoria (Umapo)","226"]
["YEMEN",null,null,null,null,null,null,null,null,null,null,null,null,null,null,null,null,null,null,null,null,null,null,null,null,"El Veinte, Playalta y el Noventa.","227"]
["ZAIRE",null,null,null,null,null,null,null,null,null,null,null,null,null,null,null,null,null,null,null,null,null,null,null,null,"El Veintiuno","228"]
["ZAMBIA",null,null,null,null,null,null,null,null,null,null,null,null,null,null,null,null,null,null,null,null,null,null,null,null,"El Venado","229"]
["ZIMBABWE",null,null,null,null,null,null,null,null,null,null,null,null,null,null,null,null,null,null,null,null,null,null,null,null,"El Vergel","230"]
[null,null,null,null,null,null,null,null,null,null,null,null,null,null,null,null,null,null,null,null,null,null,null,null,null,"El vigia","231"]
[null,null,null,null,null,null,null,null,null,null,null,null,null,null,null,null,null,null,null,null,null,null,null,null,null,"El Zahino-Guayabito Muriaytuy","232"]
[null,null,null,null,null,null,null,null,null,null,null,null,null,null,null,null,null,null,null,null,null,null,null,null,null,"El Zamuro","233"]
[null,null,null,null,null,null,null,null,null,null,null,null,null,null,null,null,null,null,null,null,null,null,null,null,null,"Embera- Drúa","234"]
[null,null,null,null,null,null,null,null,null,null,null,null,null,null,null,null,null,null,null,null,null,null,null,null,null,"Eriom Garrapatas","235"]
[null,null,null,null,null,null,null,null,null,null,null,null,null,null,null,null,null,null,null,null,null,null,null,null,null,"Escopetera Pirza","236"]
[null,null,null,null,null,null,null,null,null,null,null,null,null,null,null,null,null,null,null,null,null,null,null,null,null,"Floral Tradicional","237"]
[null,null,null,null,null,null,null,null,null,null,null,null,null,null,null,null,null,null,null,null,null,null,null,null,null,"Flores Sombrero","238"]
[null,null,null,null,null,null,null,null,null,null,null,null,null,null,null,null,null,null,null,null,null,null,null,null,null,"Funes","239"]
[null,null,null,null,null,null,null,null,null,null,null,null,null,null,null,null,null,null,null,null,null,null,null,null,null,"Gausimal","240"]
[null,null,null,null,null,null,null,null,null,null,null,null,null,null,null,null,null,null,null,null,null,null,null,null,null,"Gegenadó","241"]
[null,null,null,null,null,null,null,null,null,null,null,null,null,null,null,null,null,null,null,null,null,null,null,null,null,"Gegorá, Quipará, Murandó, Tiravenado Y Jiguadó","242"]
[null,null,null,null,null,null,null,null,null,null,null,null,null,null,null,null,null,null,null,null,null,null,null,null,null,"Genareros ( La Esperanza, La Fortaleza y el Totumo)","243"]
[null,null,null,null,null,null,null,null,null,null,null,null,null,null,null,null,null,null,null,null,null,null,null,null,null,"Getucha","244"]
[null,null,null,null,null,null,null,null,null,null,null,null,null,null,null,null,null,null,null,null,null,null,null,null,null,"Gitó Docabú","245"]
[null,null,null,null,null,null,null,null,null,null,null,null,null,null,null,null,null,null,null,null,null,null,null,null,null,"Gorgonia","246"]
[null,null,null,null,null,null,null,null,null,null,null,null,null,null,null,null,null,null,null,null,null,null,null,null,null,"Gran Rosario","247"]
[null,null,null,null,null,null,null,null,null,null,null,null,null,null,null,null,null,null,null,null,null,null,null,null,null,"Guacamayas- Maipore","248"]
[null,null,null,null,null,null,null,null,null,null,null,null,null,null,null,null,null,null,null,null,null,null,null,null,null,"Guacamayas-Mamiyare","249"]
[null,null,null,null,null,null,null,null,null,null,null,null,null,null,null,null,null,null,null,null,null,null,null,null,null,"Guachicono","250"]
[null,null,null,null,null,null,null,null,null,null,null,null,null,null,null,null,null,null,null,null,null,null,null,null,null,"Guaco Bajo y Guaco Alto","251"]
[null,null,null,null,null,null,null,null,null,null,null,null,null,null,null,null,null,null,null,null,null,null,null,null,null,"Guadual-Cumbas-Magui-Imbima","252"]
[null,null,null,null,null,null,null,null,null,null,null,null,null,null,null,null,null,null,null,null,null,null,null,null,null,"Guadualito","253"]
[null,null,null,null,null,null,null,null,null,null,null,null,null,null,null,null,null,null,null,null,null,null,null,null,null,"Guaguando","254"]
[null,null,null,null,null,null,null,null,null,null,null,null,null,null,null,null,null,null,null,null,null,null,null,null,null,"Guaipa Centro","255"]
[null,null,null,null,null,null,null,null,null,null,null,null,null,null,null,null,null,null,null,null,null,null,null,null,null,"Guaipa Uno","256"]
[null,null,null,null,null,null,null,null,null,null,null,null,null,null,null,null,null,null,null,null,null,null,null,null,null,"Gualcala","257"]
[null,null,null,null,null,null,null,null,null,null,null,null,null,null,null,null,null,null,null,null,null,null,null,null,null,"Gualeras","258"]
[null,null,null,null,null,null,null,null,null,null,null,null,null,null,null,null,null,null,null,null,null,null,null,null,null,"Guambía","259"]
[null,null,null,null,null,null,null,null,null,null,null,null,null,null,null,null,null,null,null,null,null,null,null,null,null,"Guarandó - Carrisal","260"]
[null,null,null,null,null,null,null,null,null,null,null,null,null,null,null,null,null,null,null,null,null,null,null,null,null,"Guarapamba","261"]
[null,null,null,null,null,null,null,null,null,null,null,null,null,null,null,null,null,null,null,null,null,null,null,null,null,"Guatavita Tua","262"]
[null,null,null,null,null,null,null,null,null,null,null,null,null,null,null,null,null,null,null,null,null,null,null,null,null,"Guayabal de Partadó","263"]
[null,null,null,null,null,null,null,null,null,null,null,null,null,null,null,null,null,null,null,null,null,null,null,null,null,"Guayabero de La María","264"]
[null,null,null,null,null,null,null,null,null,null,null,null,null,null,null,null,null,null,null,null,null,null,null,null,null,"Guayacan Santa Rosa","265"]
[null,null,null,null,null,null,null,null,null,null,null,null,null,null,null,null,null,null,null,null,null,null,null,null,null,"Guelmambi-Caraño","266"]
[null,null,null,null,null,null,null,null,null,null,null,null,null,null,null,null,null,null,null,null,null,null,null,null,null,"Hericha","267"]
[null,null,null,null,null,null,null,null,null,null,null,null,null,null,null,null,null,null,null,null,null,null,null,null,null,"Hermerejildo Chakiama (La sucia)","268"]
[null,null,null,null,null,null,null,null,null,null,null,null,null,null,null,null,null,null,null,null,null,null,null,null,null,"Hilarquito","269"]
[null,null,null,null,null,null,null,null,null,null,null,null,null,null,null,null,null,null,null,null,null,null,null,null,null,"HONDA RÍO GUIZA","270"]
[null,null,null,null,null,null,null,null,null,null,null,null,null,null,null,null,null,null,null,null,null,null,null,null,null,"Honduras","271"]
[null,null,null,null,null,null,null,null,null,null,null,null,null,null,null,null,null,null,null,null,null,null,null,null,null,"Huellas","272"]
[null,null,null,null,null,null,null,null,null,null,null,null,null,null,null,null,null,null,null,null,null,null,null,null,null,"Huila","273"]
[null,null,null,null,null,null,null,null,null,null,null,null,null,null,null,null,null,null,null,null,null,null,null,null,null,"Huitiboc","274"]
[null,null,null,null,null,null,null,null,null,null,null,null,null,null,null,null,null,null,null,null,null,null,null,null,null,"Hurtado y Tegavera","275"]
[null,null,null,null,null,null,null,null,null,null,null,null,null,null,null,null,null,null,null,null,null,null,null,null,null,"Iguana","276"]
[null,null,null,null,null,null,null,null,null,null,null,null,null,null,null,null,null,null,null,null,null,null,null,null,null,"Imbá","277"]
[null,null,null,null,null,null,null,null,null,null,null,null,null,null,null,null,null,null,null,null,null,null,null,null,null,"Inda Guacaray","278"]
[null,null,null,null,null,null,null,null,null,null,null,null,null,null,null,null,null,null,null,null,null,null,null,null,null,"INDA ZABALETA","279"]
[null,null,null,null,null,null,null,null,null,null,null,null,null,null,null,null,null,null,null,null,null,null,null,null,null,"Infí","280"]
[null,null,null,null,null,null,null,null,null,null,null,null,null,null,null,null,null,null,null,null,null,null,null,null,null,"Inga Camsa de Mocoa","281"]
[null,null,null,null,null,null,null,null,null,null,null,null,null,null,null,null,null,null,null,null,null,null,null,null,null,"INGA DE APONTE","282"]
[null,null,null,null,null,null,null,null,null,null,null,null,null,null,null,null,null,null,null,null,null,null,null,null,null,"Inga de Mocoa","283"]
[null,null,null,null,null,null,null,null,null,null,null,null,null,null,null,null,null,null,null,null,null,null,null,null,null,"Inga de Wasipanga","284"]
[null,null,null,null,null,null,null,null,null,null,null,null,null,null,null,null,null,null,null,null,null,null,null,null,null,"Inkal Awá","285"]
[null,null,null,null,null,null,null,null,null,null,null,null,null,null,null,null,null,null,null,null,null,null,null,null,null,"Integrado del charco","286"]
[null,null,null,null,null,null,null,null,null,null,null,null,null,null,null,null,null,null,null,null,null,null,null,null,null,"Iroka","287"]
[null,null,null,null,null,null,null,null,null,null,null,null,null,null,null,null,null,null,null,null,null,null,null,null,null,"Ishu Awa","288"]
[null,null,null,null,null,null,null,null,null,null,null,null,null,null,null,null,null,null,null,null,null,null,null,null,null,"Isla de Ronda","289"]
[null,null,null,null,null,null,null,null,null,null,null,null,null,null,null,null,null,null,null,null,null,null,null,null,null,"Isla del Mono","290"]
[null,null,null,null,null,null,null,null,null,null,null,null,null,null,null,null,null,null,null,null,null,null,null,null,null,"Jácome","291"]
[null,null,null,null,null,null,null,null,null,null,null,null,null,null,null,null,null,null,null,null,null,null,null,null,null,"Jagual - Rio Chintadó","292"]
[null,null,null,null,null,null,null,null,null,null,null,null,null,null,null,null,null,null,null,null,null,null,null,null,null,"Jaidezabi","293"]
[null,null,null,null,null,null,null,null,null,null,null,null,null,null,null,null,null,null,null,null,null,null,null,null,null,"Jaikerazavi (Abibe Mutatá)","294"]
[null,null,null,null,null,null,null,null,null,null,null,null,null,null,null,null,null,null,null,null,null,null,null,null,null,"Jambaló","295"]
[null,null,null,null,null,null,null,null,null,null,null,null,null,null,null,null,null,null,null,null,null,null,null,null,null,"Jebalá","296"]
[null,null,null,null,null,null,null,null,null,null,null,null,null,null,null,null,null,null,null,null,null,null,null,null,null,"Jenaturado","297"]
[null,null,null,null,null,null,null,null,null,null,null,null,null,null,null,null,null,null,null,null,null,null,null,null,null,"Jengado Apartadó","298"]
[null,null,null,null,null,null,null,null,null,null,null,null,null,null,null,null,null,null,null,null,null,null,null,null,null,"Jericó Consaya","299"]
[null,null,null,null,null,null,null,null,null,null,null,null,null,null,null,null,null,null,null,null,null,null,null,null,null,"Jerusalén-San Luis-Alto Picudito","300"]
[null,null,null,null,null,null,null,null,null,null,null,null,null,null,null,null,null,null,null,null,null,null,null,null,null,"Jirijiri","301"]
[null,null,null,null,null,null,null,null,null,null,null,null,null,null,null,null,null,null,null,null,null,null,null,null,null,"Juan Tama","302"]
[null,null,null,null,null,null,null,null,null,null,null,null,null,null,null,null,null,null,null,null,null,null,null,null,null,"Julieros y Velasqueros","303"]
[null,null,null,null,null,null,null,null,null,null,null,null,null,null,null,null,null,null,null,null,null,null,null,null,null,"Jurado","304"]
[null,null,null,null,null,null,null,null,null,null,null,null,null,null,null,null,null,null,null,null,null,null,null,null,null,"Kankuamo","305"]
[null,null,null,null,null,null,null,null,null,null,null,null,null,null,null,null,null,null,null,null,null,null,null,null,null,"Kawaneruba","306"]
[null,null,null,null,null,null,null,null,null,null,null,null,null,null,null,null,null,null,null,null,null,null,null,null,null,"KEJUAMBÍ FELICIANA","307"]
[null,null,null,null,null,null,null,null,null,null,null,null,null,null,null,null,null,null,null,null,null,null,null,null,null,"Kilometro 6 Y 11 Carretera Leticia Tarapaca","308"]
[null,null,null,null,null,null,null,null,null,null,null,null,null,null,null,null,null,null,null,null,null,null,null,null,null,"Kogui- Malayo - Arhuaco","309"]
[null,null,null,null,null,null,null,null,null,null,null,null,null,null,null,null,null,null,null,null,null,null,null,null,null,"Kokonuco","310"]
[null,null,null,null,null,null,null,null,null,null,null,null,null,null,null,null,null,null,null,null,null,null,null,null,null,"Kwes Kiwe Nasa","311"]
[null,null,null,null,null,null,null,null,null,null,null,null,null,null,null,null,null,null,null,null,null,null,null,null,null,"Kwet Wala( Piedra Grande)","312"]
[null,null,null,null,null,null,null,null,null,null,null,null,null,null,null,null,null,null,null,null,null,null,null,null,null,"La Aguadita","313"]
[null,null,null,null,null,null,null,null,null,null,null,null,null,null,null,null,null,null,null,null,null,null,null,null,null,"La Albania","314"]
[null,null,null,null,null,null,null,null,null,null,null,null,null,null,null,null,null,null,null,null,null,null,null,null,null,"La Argelia","315"]
[null,null,null,null,null,null,null,null,null,null,null,null,null,null,null,null,null,null,null,null,null,null,null,null,null,"La Asunción","316"]
[null,null,null,null,null,null,null,null,null,null,null,null,null,null,null,null,null,null,null,null,null,null,null,null,null,"La Cerinda","317"]
[null,null,null,null,null,null,null,null,null,null,null,null,null,null,null,null,null,null,null,null,null,null,null,null,null,"La Cilia","318"]
[null,null,null,null,null,null,null,null,null,null,null,null,null,null,null,null,null,null,null,null,null,null,null,null,null,"La Concepción","319"]
[null,null,null,null,null,null,null,null,null,null,null,null,null,null,null,null,null,null,null,null,null,null,null,null,null,"La Cristalina","320"]
[null,null,null,null,null,null,null,null,null,null,null,null,null,null,null,null,null,null,null,null,null,null,null,null,null,"La Delfina","321"]
[null,null,null,null,null,null,null,null,null,null,null,null,null,null,null,null,null,null,null,null,null,null,null,null,null,"La Esmeralda","322"]
[null,null,null,null,null,null,null,null,null,null,null,null,null,null,null,null,null,null,null,null,null,null,null,null,null,"La Esperanza","323"]
[null,null,null,null,null,null,null,null,null,null,null,null,null,null,null,null,null,null,null,null,null,null,null,null,null,"La Estación Tálaga","324"]
[null,null,null,null,null,null,null,null,null,null,null,null,null,null,null,null,null,null,null,null,null,null,null,null,null,"La Flecha Altozano","325"]
[null,null,null,null,null,null,null,null,null,null,null,null,null,null,null,null,null,null,null,null,null,null,null,null,null,"La Floresta - La Española","326"]
[null,null,null,null,null,null,null,null,null,null,null,null,null,null,null,null,null,null,null,null,null,null,null,null,null,"La Floresta-Sta Rosa- San Francisco","327"]
[null,null,null,null,null,null,null,null,null,null,null,null,null,null,null,null,null,null,null,null,null,null,null,null,null,"La Florida","328"]
[null,null,null,null,null,null,null,null,null,null,null,null,null,null,null,null,null,null,null,null,null,null,null,null,null,"La fuga","329"]
[null,null,null,null,null,null,null,null,null,null,null,null,null,null,null,null,null,null,null,null,null,null,null,null,null,"La Gaitana","330"]
[null,null,null,null,null,null,null,null,null,null,null,null,null,null,null,null,null,null,null,null,null,null,null,null,null,"La Isla","331"]
[null,null,null,null,null,null,null,null,null,null,null,null,null,null,null,null,null,null,null,null,null,null,null,null,null,"La Italia","332"]
[null,null,null,null,null,null,null,null,null,null,null,null,null,null,null,null,null,null,null,null,null,null,null,null,null,"La Jagua-Guachal-Pitalito","333"]
[null,null,null,null,null,null,null,null,null,null,null,null,null,null,null,null,null,null,null,null,null,null,null,null,null,"La Julia","334"]
[null,null,null,null,null,null,null,null,null,null,null,null,null,null,null,null,null,null,null,null,null,null,null,null,null,"La Laguna - Siberia","335"]
[null,null,null,null,null,null,null,null,null,null,null,null,null,null,null,null,null,null,null,null,null,null,null,null,null,"La Leona","336"]
[null,null,null,null,null,null,null,null,null,null,null,null,null,null,null,null,null,null,null,null,null,null,null,null,null,"La Libertad 2","337"]
[null,null,null,null,null,null,null,null,null,null,null,null,null,null,null,null,null,null,null,null,null,null,null,null,null,"La Llanura","338"]
[null,null,null,null,null,null,null,null,null,null,null,null,null,null,null,null,null,null,null,null,null,null,null,null,null,"La Lomita","339"]
[null,null,null,null,null,null,null,null,null,null,null,null,null,null,null,null,null,null,null,null,null,null,null,null,null,"La María","340"]
[null,null,null,null,null,null,null,null,null,null,null,null,null,null,null,null,null,null,null,null,null,null,null,null,null,"La María ó Marcelino Tascón","341"]
[null,null,null,null,null,null,null,null,null,null,null,null,null,null,null,null,null,null,null,null,null,null,null,null,null,"La Mirla","342"]
[null,null,null,null,null,null,null,null,null,null,null,null,null,null,null,null,null,null,null,null,null,null,null,null,null,"La Paila - Naya","343"]
[null,null,null,null,null,null,null,null,null,null,null,null,null,null,null,null,null,null,null,null,null,null,null,null,null,"La Palma","344"]
[null,null,null,null,null,null,null,null,null,null,null,null,null,null,null,null,null,null,null,null,null,null,null,null,null,"La Pascua","345"]
[null,null,null,null,null,null,null,null,null,null,null,null,null,null,null,null,null,null,null,null,null,null,null,null,null,"La Paya","346"]
[null,null,null,null,null,null,null,null,null,null,null,null,null,null,null,null,null,null,null,null,null,null,null,null,null,"La Perecera","347"]
[null,null,null,null,null,null,null,null,null,null,null,null,null,null,null,null,null,null,null,null,null,null,null,null,null,"La Playa","348"]
[null,null,null,null,null,null,null,null,null,null,null,null,null,null,null,null,null,null,null,null,null,null,null,null,null,"La Puria","349"]
[null,null,null,null,null,null,null,null,null,null,null,null,null,null,null,null,null,null,null,null,null,null,null,null,null,"La Raya","350"]
[null,null,null,null,null,null,null,null,null,null,null,null,null,null,null,null,null,null,null,null,null,null,null,null,null,"La Reforma","351"]
[null,null,null,null,null,null,null,null,null,null,null,null,null,null,null,null,null,null,null,null,null,null,null,null,null,"La Sal","352"]
[null,null,null,null,null,null,null,null,null,null,null,null,null,null,null,null,null,null,null,null,null,null,null,null,null,"La Siberia","353"]
[null,null,null,null,null,null,null,null,null,null,null,null,null,null,null,null,null,null,null,null,null,null,null,null,null,"La Sortija","354"]
[null,null,null,null,null,null,null,null,null,null,null,null,null,null,null,null,null,null,null,null,null,null,null,null,null,"La Tatacoa","355"]
[null,null,null,null,null,null,null,null,null,null,null,null,null,null,null,null,null,null,null,null,null,null,null,null,null,"La Teófila","356"]
[null,null,null,null,null,null,null,null,null,null,null,null,null,null,null,null,null,null,null,null,null,null,null,null,null,"La Turbia","357"]
[null,null,null,null,null,null,null,null,null,null,null,null,null,null,null,null,null,null,null,null,null,null,null,null,null,"La Tutira Bonanza","358"]
[null,null,null,null,null,null,null,null,null,null,null,null,null,null,null,null,null,null,null,null,null,null,null,null,null,"La Vorágine-La Ilusión","359"]
[null,null,null,null,null,null,null,null,null,null,null,null,null,null,null,null,null,null,null,null,null,null,null,null,null,"La Yuquera","360"]
[null,null,null,null,null,null,null,null,null,null,null,null,null,null,null,null,null,null,null,null,null,null,null,null,null,"Lagarto Cocha","361"]
[null,null,null,null,null,null,null,null,null,null,null,null,null,null,null,null,null,null,null,null,null,null,null,null,null,"Lagos del Dorado Lagos del Palo y el Remanso","362"]
[null,null,null,null,null,null,null,null,null,null,null,null,null,null,null,null,null,null,null,null,null,null,null,null,null,"Laguna Niñal","363"]
[null,null,null,null,null,null,null,null,null,null,null,null,null,null,null,null,null,null,null,null,null,null,null,null,null,"Laguna Tranquila","364"]
[null,null,null,null,null,null,null,null,null,null,null,null,null,null,null,null,null,null,null,null,null,null,null,null,null,"Laguna-Curvina Sapuara","365"]
[null,null,null,null,null,null,null,null,null,null,null,null,null,null,null,null,null,null,null,null,null,null,null,null,null,"Laguna-El Coso- Cinco Caminos","366"]
[null,null,null,null,null,null,null,null,null,null,null,null,null,null,null,null,null,null,null,null,null,null,null,null,null,"Las Brisas","367"]
[null,null,null,null,null,null,null,null,null,null,null,null,null,null,null,null,null,null,null,null,null,null,null,null,null,"Las Delicias","368"]
[null,null,null,null,null,null,null,null,null,null,null,null,null,null,null,null,null,null,null,null,null,null,null,null,null,"Las Mercedes","369"]
[null,null,null,null,null,null,null,null,null,null,null,null,null,null,null,null,null,null,null,null,null,null,null,null,null,"Las Palmas","370"]
[null,null,null,null,null,null,null,null,null,null,null,null,null,null,null,null,null,null,null,null,null,null,null,null,null,"Las Playas","371"]
[null,null,null,null,null,null,null,null,null,null,null,null,null,null,null,null,null,null,null,null,null,null,null,null,null,"Llanobuco","372"]
[null,null,null,null,null,null,null,null,null,null,null,null,null,null,null,null,null,null,null,null,null,null,null,null,null,"Llanos del Yarí (Yaguara II )","373"]
[null,null,null,null,null,null,null,null,null,null,null,null,null,null,null,null,null,null,null,null,null,null,null,null,null,"Loa Angeles","374"]
[null,null,null,null,null,null,null,null,null,null,null,null,null,null,null,null,null,null,null,null,null,null,null,null,null,"Loma de Citabara","375"]
[null,null,null,null,null,null,null,null,null,null,null,null,null,null,null,null,null,null,null,null,null,null,null,null,null,"Lomamato","376"]
[null,null,null,null,null,null,null,null,null,null,null,null,null,null,null,null,null,null,null,null,null,null,null,null,null,"Lomas de Guaguarco","377"]
[null,null,null,null,null,null,null,null,null,null,null,null,null,null,null,null,null,null,null,null,null,null,null,null,null,"Lomas de Hilarco","378"]
[null,null,null,null,null,null,null,null,null,null,null,null,null,null,null,null,null,null,null,null,null,null,null,null,null,"Los Almendros","379"]
[null,null,null,null,null,null,null,null,null,null,null,null,null,null,null,null,null,null,null,null,null,null,null,null,null,"Los Iguanitos","380"]
[null,null,null,null,null,null,null,null,null,null,null,null,null,null,null,null,null,null,null,null,null,null,null,null,null,"Los Niasa","381"]
[null,null,null,null,null,null,null,null,null,null,null,null,null,null,null,null,null,null,null,null,null,null,null,null,null,"Los Pijaos","382"]
[null,null,null,null,null,null,null,null,null,null,null,null,null,null,null,null,null,null,null,null,null,null,null,null,null,"Los Planes","383"]
[null,null,null,null,null,null,null,null,null,null,null,null,null,null,null,null,null,null,null,null,null,null,null,null,null,"Macarieros San josé","384"]
[null,null,null,null,null,null,null,null,null,null,null,null,null,null,null,null,null,null,null,null,null,null,null,null,null,"Macuare","385"]
[null,null,null,null,null,null,null,null,null,null,null,null,null,null,null,null,null,null,null,null,null,null,null,null,null,"Macucuana","386"]
[null,null,null,null,null,null,null,null,null,null,null,null,null,null,null,null,null,null,null,null,null,null,null,null,null,"Maguaré","387"]
[null,null,null,null,null,null,null,null,null,null,null,null,null,null,null,null,null,null,null,null,null,null,null,null,null,"Maiz Blanco","388"]
[null,null,null,null,null,null,null,null,null,null,null,null,null,null,null,null,null,null,null,null,null,null,null,null,null,"Majore-Ambura","389"]
[null,null,null,null,null,null,null,null,null,null,null,null,null,null,null,null,null,null,null,null,null,null,null,null,null,"Mamey de Dipurdú","390"]
[null,null,null,null,null,null,null,null,null,null,null,null,null,null,null,null,null,null,null,null,null,null,null,null,null,"Mandiyaco","391"]
[null,null,null,null,null,null,null,null,null,null,null,null,null,null,null,null,null,null,null,null,null,null,null,null,null,"Mañature","392"]
[null,null,null,null,null,null,null,null,null,null,null,null,null,null,null,null,null,null,null,null,null,null,null,null,null,"Matecandela","393"]
[null,null,null,null,null,null,null,null,null,null,null,null,null,null,null,null,null,null,null,null,null,null,null,null,null,"Maticuri","394"]
[null,null,null,null,null,null,null,null,null,null,null,null,null,null,null,null,null,null,null,null,null,null,null,null,null,"Mayabangloma","395"]
[null,null,null,null,null,null,null,null,null,null,null,null,null,null,null,null,null,null,null,null,null,null,null,null,null,"Meche San Cayetano","396"]
[null,null,null,null,null,null,null,null,null,null,null,null,null,null,null,null,null,null,null,null,null,null,null,null,null,"Menkue-Misaya la pista","397"]
[null,null,null,null,null,null,null,null,null,null,null,null,null,null,null,null,null,null,null,null,null,null,null,null,null,"Mercadillo","398"]
[null,null,null,null,null,null,null,null,null,null,null,null,null,null,null,null,null,null,null,null,null,null,null,null,null,"Merey la Veraita","399"]
[null,null,null,null,null,null,null,null,null,null,null,null,null,null,null,null,null,null,null,null,null,null,null,null,null,"Mesa de Ortega","400"]
[null,null,null,null,null,null,null,null,null,null,null,null,null,null,null,null,null,null,null,null,null,null,null,null,null,"Mesai","401"]
[null,null,null,null,null,null,null,null,null,null,null,null,null,null,null,null,null,null,null,null,null,null,null,null,null,"Mesas de San Juan","402"]
[null,null,null,null,null,null,null,null,null,null,null,null,null,null,null,null,null,null,null,null,null,null,null,null,null,"Miasa de Partadó","403"]
[null,null,null,null,null,null,null,null,null,null,null,null,null,null,null,null,null,null,null,null,null,null,null,null,null,"Minitas miralindo","404"]
[null,null,null,null,null,null,null,null,null,null,null,null,null,null,null,null,null,null,null,null,null,null,null,null,null,"Miriti-Paraná (La Pradera)","405"]
[null,null,null,null,null,null,null,null,null,null,null,null,null,null,null,null,null,null,null,null,null,null,null,null,null,"Misak Piscitau","406"]
[null,null,null,null,null,null,null,null,null,null,null,null,null,null,null,null,null,null,null,null,null,null,null,null,null,"Mocagua - Macedonis El Vergel y Zaragoza","407"]
[null,null,null,null,null,null,null,null,null,null,null,null,null,null,null,null,null,null,null,null,null,null,null,null,null,"Mondó- Mondocito","408"]
[null,null,null,null,null,null,null,null,null,null,null,null,null,null,null,null,null,null,null,null,null,null,null,null,null,"Monochoa","409"]
[null,null,null,null,null,null,null,null,null,null,null,null,null,null,null,null,null,null,null,null,null,null,null,null,null,"Monte Harmón","410"]
[null,null,null,null,null,null,null,null,null,null,null,null,null,null,null,null,null,null,null,null,null,null,null,null,null,"Monzhomandó","411"]
[null,null,null,null,null,null,null,null,null,null,null,null,null,null,null,null,null,null,null,null,null,null,null,null,null,"Morrito","412"]
[null,null,null,null,null,null,null,null,null,null,null,null,null,null,null,null,null,null,null,null,null,null,null,null,null,"Motilón - Bari","413"]
[null,null,null,null,null,null,null,null,null,null,null,null,null,null,null,null,null,null,null,null,null,null,null,null,null,"Motordó","414"]
[null,null,null,null,null,null,null,null,null,null,null,null,null,null,null,null,null,null,null,null,null,null,null,null,null,"Muco Mayoragua","415"]
[null,null,null,null,null,null,null,null,null,null,null,null,null,null,null,null,null,null,null,null,null,null,null,null,null,"Muellamuez","416"]
[null,null,null,null,null,null,null,null,null,null,null,null,null,null,null,null,null,null,null,null,null,null,null,null,null,"Muisca de Fonquetá y Cerca de Piedra","417"]
[null,null,null,null,null,null,null,null,null,null,null,null,null,null,null,null,null,null,null,null,null,null,null,null,null,"Mungaradó","418"]
[null,null,null,null,null,null,null,null,null,null,null,null,null,null,null,null,null,null,null,null,null,null,null,null,null,"Munguidó","419"]
[null,null,null,null,null,null,null,null,null,null,null,null,null,null,null,null,null,null,null,null,null,null,null,null,null,"Murcialgo Altomira","420"]
[null,null,null,null,null,null,null,null,null,null,null,null,null,null,null,null,null,null,null,null,null,null,null,null,null,"Murindó","421"]
[null,null,null,null,null,null,null,null,null,null,null,null,null,null,null,null,null,null,null,null,null,null,null,null,null,"Murri-pantanos","422"]
[null,null,null,null,null,null,null,null,null,null,null,null,null,null,null,null,null,null,null,null,null,null,null,null,null,"Musse Ukwe","423"]
[null,null,null,null,null,null,null,null,null,null,null,null,null,null,null,null,null,null,null,null,null,null,null,null,null,"Nam Misak","424"]
[null,null,null,null,null,null,null,null,null,null,null,null,null,null,null,null,null,null,null,null,null,null,null,null,null,"Nanuya de Villazul","425"]
[null,null,null,null,null,null,null,null,null,null,null,null,null,null,null,null,null,null,null,null,null,null,null,null,null,"Napipi","426"]
[null,null,null,null,null,null,null,null,null,null,null,null,null,null,null,null,null,null,null,null,null,null,null,null,null,"Narikizavi","427"]
[null,null,null,null,null,null,null,null,null,null,null,null,null,null,null,null,null,null,null,null,null,null,null,null,null,"Nasa Chamb","428"]
[null,null,null,null,null,null,null,null,null,null,null,null,null,null,null,null,null,null,null,null,null,null,null,null,null,"Nasa Hu","429"]
[null,null,null,null,null,null,null,null,null,null,null,null,null,null,null,null,null,null,null,null,null,null,null,null,null,"Nasa Kiwe","430"]
[null,null,null,null,null,null,null,null,null,null,null,null,null,null,null,null,null,null,null,null,null,null,null,null,null,"Nasa Kiwe Tekh Ksxaw","431"]
[null,null,null,null,null,null,null,null,null,null,null,null,null,null,null,null,null,null,null,null,null,null,null,null,null,"Nasa Kwe´s Kiwe (Las Brisas)","432"]
[null,null,null,null,null,null,null,null,null,null,null,null,null,null,null,null,null,null,null,null,null,null,null,null,null,"NasaThá","433"]
[null,null,null,null,null,null,null,null,null,null,null,null,null,null,null,null,null,null,null,null,null,null,null,null,null,"Natacoy Pijao","434"]
[null,null,null,null,null,null,null,null,null,null,null,null,null,null,null,null,null,null,null,null,null,null,null,null,null,"Nataroco","435"]
[null,null,null,null,null,null,null,null,null,null,null,null,null,null,null,null,null,null,null,null,null,null,null,null,null,"Navera Drua","436"]
[null,null,null,null,null,null,null,null,null,null,null,null,null,null,null,null,null,null,null,null,null,null,null,null,null,"Nazaret","437"]
[null,null,null,null,null,null,null,null,null,null,null,null,null,null,null,null,null,null,null,null,null,null,null,null,null,"Nicolás Ramírez","438"]
[null,null,null,null,null,null,null,null,null,null,null,null,null,null,null,null,null,null,null,null,null,null,null,null,null,"Niñeras","439"]
[null,null,null,null,null,null,null,null,null,null,null,null,null,null,null,null,null,null,null,null,null,null,null,null,null,"Novirao","440"]
[null,null,null,null,null,null,null,null,null,null,null,null,null,null,null,null,null,null,null,null,null,null,null,null,null,"Nueva Esperanza","441"]
[null,null,null,null,null,null,null,null,null,null,null,null,null,null,null,null,null,null,null,null,null,null,null,null,null,"Nueva Esperanza del Tomo","442"]
[null,null,null,null,null,null,null,null,null,null,null,null,null,null,null,null,null,null,null,null,null,null,null,null,null,"Nuevo Amanecer La Meseta","443"]
[null,null,null,null,null,null,null,null,null,null,null,null,null,null,null,null,null,null,null,null,null,null,null,null,null,"Nuevo Horizonte","444"]
[null,null,null,null,null,null,null,null,null,null,null,null,null,null,null,null,null,null,null,null,null,null,null,null,null,"Nuevo Pitalito","445"]
[null,null,null,null,null,null,null,null,null,null,null,null,null,null,null,null,null,null,null,null,null,null,null,null,null,"Nukak Makú","446"]
[null,null,null,null,null,null,null,null,null,null,null,null,null,null,null,null,null,null,null,null,null,null,null,null,null,"Nulpe Medio - Alto Río San Juan","447"]
[null,null,null,null,null,null,null,null,null,null,null,null,null,null,null,null,null,null,null,null,null,null,null,null,null,"NUNALBÍ ALTO ULBÍ","448"]
[null,null,null,null,null,null,null,null,null,null,null,null,null,null,null,null,null,null,null,null,null,null,null,null,null,"Nusido","449"]
[null,null,null,null,null,null,null,null,null,null,null,null,null,null,null,null,null,null,null,null,null,null,null,null,null,"Nussi Purrú","450"]
[null,null,null,null,null,null,null,null,null,null,null,null,null,null,null,null,null,null,null,null,null,null,null,null,null,"Okochi","451"]
[null,null,null,null,null,null,null,null,null,null,null,null,null,null,null,null,null,null,null,null,null,null,null,null,null,"Olirco","452"]
[null,null,null,null,null,null,null,null,null,null,null,null,null,null,null,null,null,null,null,null,null,null,null,null,null,"Ondas del cafre","453"]
[null,null,null,null,null,null,null,null,null,null,null,null,null,null,null,null,null,null,null,null,null,null,null,null,null,"Opogado-Doguado","454"]
[null,null,null,null,null,null,null,null,null,null,null,null,null,null,null,null,null,null,null,null,null,null,null,null,null,"Ordó Sivirú-Agua Clara","455"]
[null,null,null,null,null,null,null,null,null,null,null,null,null,null,null,null,null,null,null,null,null,null,null,null,null,"Pablo muera","456"]
[null,null,null,null,null,null,null,null,null,null,null,null,null,null,null,null,null,null,null,null,null,null,null,null,null,"Pacande","457"]
[null,null,null,null,null,null,null,null,null,null,null,null,null,null,null,null,null,null,null,null,null,null,null,null,null,"Paez de la Gaitana","458"]
[null,null,null,null,null,null,null,null,null,null,null,null,null,null,null,null,null,null,null,null,null,null,null,null,null,"Paéz de las Mercedes","459"]
[null,null,null,null,null,null,null,null,null,null,null,null,null,null,null,null,null,null,null,null,null,null,null,null,null,"Paéz de Toez","460"]
[null,null,null,null,null,null,null,null,null,null,null,null,null,null,null,null,null,null,null,null,null,null,null,null,null,"Paéz del Líbano","461"]
[null,null,null,null,null,null,null,null,null,null,null,null,null,null,null,null,null,null,null,null,null,null,null,null,null,"Paina","462"]
[null,null,null,null,null,null,null,null,null,null,null,null,null,null,null,null,null,null,null,null,null,null,null,null,null,"Palermo","463"]
[null,null,null,null,null,null,null,null,null,null,null,null,null,null,null,null,null,null,null,null,null,null,null,null,null,"Paletará","464"]
[null,null,null,null,null,null,null,null,null,null,null,null,null,null,null,null,null,null,null,null,null,null,null,null,null,"Palma Alta","465"]
[null,null,null,null,null,null,null,null,null,null,null,null,null,null,null,null,null,null,null,null,null,null,null,null,null,"PALMAR DE IMBI","466"]
[null,null,null,null,null,null,null,null,null,null,null,null,null,null,null,null,null,null,null,null,null,null,null,null,null,"Panure","467"]
[null,null,null,null,null,null,null,null,null,null,null,null,null,null,null,null,null,null,null,null,null,null,null,null,null,"Paopayo(2 Lotes)","468"]
[null,null,null,null,null,null,null,null,null,null,null,null,null,null,null,null,null,null,null,null,null,null,null,null,null,"Papallaqta","469"]
[null,null,null,null,null,null,null,null,null,null,null,null,null,null,null,null,null,null,null,null,null,null,null,null,null,"Pared y Parecito","470"]
[null,null,null,null,null,null,null,null,null,null,null,null,null,null,null,null,null,null,null,null,null,null,null,null,null,"Parreros","471"]
[null,null,null,null,null,null,null,null,null,null,null,null,null,null,null,null,null,null,null,null,null,null,null,null,null,"Parte Alta del Río Guainía","472"]
[null,null,null,null,null,null,null,null,null,null,null,null,null,null,null,null,null,null,null,null,null,null,null,null,null,"Pasoancho","473"]
[null,null,null,null,null,null,null,null,null,null,null,null,null,null,null,null,null,null,null,null,null,null,null,null,null,"Pathyu","474"]
[null,null,null,null,null,null,null,null,null,null,null,null,null,null,null,null,null,null,null,null,null,null,null,null,null,"Patio Bonito","475"]
[null,null,null,null,null,null,null,null,null,null,null,null,null,null,null,null,null,null,null,null,null,null,null,null,null,"Paujil","476"]
[null,null,null,null,null,null,null,null,null,null,null,null,null,null,null,null,null,null,null,null,null,null,null,null,null,"PAVARANDO AMPARRADO MEDIO","477"]
[null,null,null,null,null,null,null,null,null,null,null,null,null,null,null,null,null,null,null,null,null,null,null,null,null,"Peña Blanca R. Truando","478"]
[null,null,null,null,null,null,null,null,null,null,null,null,null,null,null,null,null,null,null,null,null,null,null,null,null,"Peña La Alegría","479"]
[null,null,null,null,null,null,null,null,null,null,null,null,null,null,null,null,null,null,null,null,null,null,null,null,null,"Peñas del Olvido","480"]
[null,null,null,null,null,null,null,null,null,null,null,null,null,null,null,null,null,null,null,null,null,null,null,null,null,"Peranchito","481"]
[null,null,null,null,null,null,null,null,null,null,null,null,null,null,null,null,null,null,null,null,null,null,null,null,null,"Perancho","482"]
[null,null,null,null,null,null,null,null,null,null,null,null,null,null,null,null,null,null,null,null,null,null,null,null,null,"Perratpu","483"]
[null,null,null,null,null,null,null,null,null,null,null,null,null,null,null,null,null,null,null,null,null,null,null,null,null,"Pescadito","484"]
[null,null,null,null,null,null,null,null,null,null,null,null,null,null,null,null,null,null,null,null,null,null,null,null,null,"Pialapi-Pueblo Viejo-San Miguel Yare","485"]
[null,null,null,null,null,null,null,null,null,null,null,null,null,null,null,null,null,null,null,null,null,null,null,null,null,"Piaroa de Cachicamo","486"]
[null,null,null,null,null,null,null,null,null,null,null,null,null,null,null,null,null,null,null,null,null,null,null,null,null,"Pic Kue Ikh","487"]
[null,null,null,null,null,null,null,null,null,null,null,null,null,null,null,null,null,null,null,null,null,null,null,null,null,"Pichicora, Chicue, Pto alegre.","488"]
[null,null,null,null,null,null,null,null,null,null,null,null,null,null,null,null,null,null,null,null,null,null,null,null,null,"Pic-Kwe-Tha-Fiw","489"]
[null,null,null,null,null,null,null,null,null,null,null,null,null,null,null,null,null,null,null,null,null,null,null,null,null,"Piedra Sagrada La Gran Familia","490"]
[null,null,null,null,null,null,null,null,null,null,null,null,null,null,null,null,null,null,null,null,null,null,null,null,null,"Piedra Sellada Q. Tronquería","491"]
[null,null,null,null,null,null,null,null,null,null,null,null,null,null,null,null,null,null,null,null,null,null,null,null,null,"Piguambi Palangala","492"]
[null,null,null,null,null,null,null,null,null,null,null,null,null,null,null,null,null,null,null,null,null,null,null,null,null,"Pingullo - Sardinero","493"]
[null,null,null,null,null,null,null,null,null,null,null,null,null,null,null,null,null,null,null,null,null,null,null,null,null,"Pipalta-Palbi-Yaguapi","494"]
[null,null,null,null,null,null,null,null,null,null,null,null,null,null,null,null,null,null,null,null,null,null,null,null,null,"Planadas de Telembí","495"]
[null,null,null,null,null,null,null,null,null,null,null,null,null,null,null,null,null,null,null,null,null,null,null,null,null,"Playa Bendita","496"]
[null,null,null,null,null,null,null,null,null,null,null,null,null,null,null,null,null,null,null,null,null,null,null,null,null,"Playa Larga","497"]
[null,null,null,null,null,null,null,null,null,null,null,null,null,null,null,null,null,null,null,null,null,null,null,null,null,"Playas de Bojabá","498"]
[null,null,null,null,null,null,null,null,null,null,null,null,null,null,null,null,null,null,null,null,null,null,null,null,null,"Playita San Francisco","499"]
[null,null,null,null,null,null,null,null,null,null,null,null,null,null,null,null,null,null,null,null,null,null,null,null,null,"Poblazón","500"]
[null,null,null,null,null,null,null,null,null,null,null,null,null,null,null,null,null,null,null,null,null,null,null,null,null,"Pocara","501"]
[null,null,null,null,null,null,null,null,null,null,null,null,null,null,null,null,null,null,null,null,null,null,null,null,null,"Pocharco","502"]
[null,null,null,null,null,null,null,null,null,null,null,null,null,null,null,null,null,null,null,null,null,null,null,null,null,"Polindara","503"]
[null,null,null,null,null,null,null,null,null,null,null,null,null,null,null,null,null,null,null,null,null,null,null,null,null,"Polines","504"]
[null,null,null,null,null,null,null,null,null,null,null,null,null,null,null,null,null,null,null,null,null,null,null,null,null,"Porvenir- Kananguchal","505"]
[null,null,null,null,null,null,null,null,null,null,null,null,null,null,null,null,null,null,null,null,null,null,null,null,null,"Potrerito","506"]
[null,null,null,null,null,null,null,null,null,null,null,null,null,null,null,null,null,null,null,null,null,null,null,null,null,"Potrerito Doraye","507"]
[null,null,null,null,null,null,null,null,null,null,null,null,null,null,null,null,null,null,null,null,null,null,null,null,null,"Predio Putumayo","508"]
[null,null,null,null,null,null,null,null,null,null,null,null,null,null,null,null,null,null,null,null,null,null,null,null,null,"Provincial","509"]
[null,null,null,null,null,null,null,null,null,null,null,null,null,null,null,null,null,null,null,null,null,null,null,null,null,"Pto Libia Tripicay","510"]
[null,null,null,null,null,null,null,null,null,null,null,null,null,null,null,null,null,null,null,null,null,null,null,null,null,"Pto viejo y pto esperanza","511"]
[null,null,null,null,null,null,null,null,null,null,null,null,null,null,null,null,null,null,null,null,null,null,null,null,null,"Pto. Zábalo y Los Monos","512"]
[null,null,null,null,null,null,null,null,null,null,null,null,null,null,null,null,null,null,null,null,null,null,null,null,null,"Puado-Matarela-Lerma y Terdo","513"]
[null,null,null,null,null,null,null,null,null,null,null,null,null,null,null,null,null,null,null,null,null,null,null,null,null,"Pueblo Kokonuko","514"]
[null,null,null,null,null,null,null,null,null,null,null,null,null,null,null,null,null,null,null,null,null,null,null,null,null,"Pueblo Nuevo","515"]
[null,null,null,null,null,null,null,null,null,null,null,null,null,null,null,null,null,null,null,null,null,null,null,null,null,"Pueblo Nuevo Laguna Colorada","516"]
[null,null,null,null,null,null,null,null,null,null,null,null,null,null,null,null,null,null,null,null,null,null,null,null,null,"Puerto Antioquia","517"]
[null,null,null,null,null,null,null,null,null,null,null,null,null,null,null,null,null,null,null,null,null,null,null,null,null,"Puerto Córdoba","518"]
[null,null,null,null,null,null,null,null,null,null,null,null,null,null,null,null,null,null,null,null,null,null,null,null,null,"Puerto de Chichiliano","519"]
[null,null,null,null,null,null,null,null,null,null,null,null,null,null,null,null,null,null,null,null,null,null,null,null,null,"Puerto Limón","520"]
[null,null,null,null,null,null,null,null,null,null,null,null,null,null,null,null,null,null,null,null,null,null,null,null,null,"Puerto Monfort","521"]
[null,null,null,null,null,null,null,null,null,null,null,null,null,null,null,null,null,null,null,null,null,null,null,null,null,"Puerto Naranjo Peñas Rojas Cuerazo El Diamante","522"]
[null,null,null,null,null,null,null,null,null,null,null,null,null,null,null,null,null,null,null,null,null,null,null,null,null,"Puerto Nare","523"]
[null,null,null,null,null,null,null,null,null,null,null,null,null,null,null,null,null,null,null,null,null,null,null,null,null,"Puerto Nariño","524"]
[null,null,null,null,null,null,null,null,null,null,null,null,null,null,null,null,null,null,null,null,null,null,null,null,null,"Puerto Triunfo","525"]
[null,null,null,null,null,null,null,null,null,null,null,null,null,null,null,null,null,null,null,null,null,null,null,null,null,"Pueto Libre del Río Pepé","526"]
[null,null,null,null,null,null,null,null,null,null,null,null,null,null,null,null,null,null,null,null,null,null,null,null,null,"Puetro Alegre y La Divisa","527"]
[null,null,null,null,null,null,null,null,null,null,null,null,null,null,null,null,null,null,null,null,null,null,null,null,null,"Pulgande Campoalegre","528"]
[null,null,null,null,null,null,null,null,null,null,null,null,null,null,null,null,null,null,null,null,null,null,null,null,null,"Punta Bandera","529"]
[null,null,null,null,null,null,null,null,null,null,null,null,null,null,null,null,null,null,null,null,null,null,null,null,null,"Puracé","530"]
[null,null,null,null,null,null,null,null,null,null,null,null,null,null,null,null,null,null,null,null,null,null,null,null,null,"Puyeros","531"]
[null,null,null,null,null,null,null,null,null,null,null,null,null,null,null,null,null,null,null,null,null,null,null,null,null,"Quebrada Cañaveral","532"]
[null,null,null,null,null,null,null,null,null,null,null,null,null,null,null,null,null,null,null,null,null,null,null,null,null,"Quebrada Chicue-Rio Tangui","533"]
[null,null,null,null,null,null,null,null,null,null,null,null,null,null,null,null,null,null,null,null,null,null,null,null,null,"Quebrada Grande","534"]
[null,null,null,null,null,null,null,null,null,null,null,null,null,null,null,null,null,null,null,null,null,null,null,null,null,"Quebrada Quera","535"]
[null,null,null,null,null,null,null,null,null,null,null,null,null,null,null,null,null,null,null,null,null,null,null,null,null,"Quebraditas","536"]
[null,null,null,null,null,null,null,null,null,null,null,null,null,null,null,null,null,null,null,null,null,null,null,null,null,"Quicaya","537"]
[null,null,null,null,null,null,null,null,null,null,null,null,null,null,null,null,null,null,null,null,null,null,null,null,null,"Quintana Páez","538"]
[null,null,null,null,null,null,null,null,null,null,null,null,null,null,null,null,null,null,null,null,null,null,null,null,null,"Quizgó","539"]
[null,null,null,null,null,null,null,null,null,null,null,null,null,null,null,null,null,null,null,null,null,null,null,null,null,"Ramos-Mongon-Manchuria","540"]
[null,null,null,null,null,null,null,null,null,null,null,null,null,null,null,null,null,null,null,null,null,null,null,null,null,"Recinto Palmarosa","541"]
[null,null,null,null,null,null,null,null,null,null,null,null,null,null,null,null,null,null,null,null,null,null,null,null,null,"Refugio del Sol","542"]
[null,null,null,null,null,null,null,null,null,null,null,null,null,null,null,null,null,null,null,null,null,null,null,null,null,"Remanzo Chorro Bocón","543"]
[null,null,null,null,null,null,null,null,null,null,null,null,null,null,null,null,null,null,null,null,null,null,null,null,null,"Rincón Bogotá","544"]
[null,null,null,null,null,null,null,null,null,null,null,null,null,null,null,null,null,null,null,null,null,null,null,null,null,"Rincon de anchique","545"]
[null,null,null,null,null,null,null,null,null,null,null,null,null,null,null,null,null,null,null,null,null,null,null,null,null,"Rincón Velú","546"]
[null,null,null,null,null,null,null,null,null,null,null,null,null,null,null,null,null,null,null,null,null,null,null,null,null,"Río Atabapo e Inírida","547"]
[null,null,null,null,null,null,null,null,null,null,null,null,null,null,null,null,null,null,null,null,null,null,null,null,null,"Rio Bebara","548"]
[null,null,null,null,null,null,null,null,null,null,null,null,null,null,null,null,null,null,null,null,null,null,null,null,null,"Río Bebarama","549"]
[null,null,null,null,null,null,null,null,null,null,null,null,null,null,null,null,null,null,null,null,null,null,null,null,null,"Rio Chajerado","550"]
[null,null,null,null,null,null,null,null,null,null,null,null,null,null,null,null,null,null,null,null,null,null,null,null,null,"Rio Dagua","551"]
[null,null,null,null,null,null,null,null,null,null,null,null,null,null,null,null,null,null,null,null,null,null,null,null,null,"Rio Domingodó","552"]
[null,null,null,null,null,null,null,null,null,null,null,null,null,null,null,null,null,null,null,null,null,null,null,null,null,"Rio Guangui","553"]
[null,null,null,null,null,null,null,null,null,null,null,null,null,null,null,null,null,null,null,null,null,null,null,null,null,"Rio Icha y Quebrada Baratuo","554"]
[null,null,null,null,null,null,null,null,null,null,null,null,null,null,null,null,null,null,null,null,null,null,null,null,null,"Rio Icuarie Isana","555"]
[null,null,null,null,null,null,null,null,null,null,null,null,null,null,null,null,null,null,null,null,null,null,null,null,null,"Rio Jarapeto","556"]
[null,null,null,null,null,null,null,null,null,null,null,null,null,null,null,null,null,null,null,null,null,null,null,null,null,"Río La Playa","557"]
[null,null,null,null,null,null,null,null,null,null,null,null,null,null,null,null,null,null,null,null,null,null,null,null,null,"Rio Mumbú","558"]
[null,null,null,null,null,null,null,null,null,null,null,null,null,null,null,null,null,null,null,null,null,null,null,null,null,"Rio Naya","559"]
[null,null,null,null,null,null,null,null,null,null,null,null,null,null,null,null,null,null,null,null,null,null,null,null,null,"Río Negua","560"]
[null,null,null,null,null,null,null,null,null,null,null,null,null,null,null,null,null,null,null,null,null,null,null,null,null,"Rio nuquí","561"]
[null,null,null,null,null,null,null,null,null,null,null,null,null,null,null,null,null,null,null,null,null,null,null,null,null,"Rio Orpua","562"]
[null,null,null,null,null,null,null,null,null,null,null,null,null,null,null,null,null,null,null,null,null,null,null,null,null,"Rio Pangui","563"]
[null,null,null,null,null,null,null,null,null,null,null,null,null,null,null,null,null,null,null,null,null,null,null,null,null,"Río Pavasa y Q. Jella","564"]
[null,null,null,null,null,null,null,null,null,null,null,null,null,null,null,null,null,null,null,null,null,null,null,null,null,"Rio Pichima","565"]
[null,null,null,null,null,null,null,null,null,null,null,null,null,null,null,null,null,null,null,null,null,null,null,null,null,"Rio Purricha","566"]
[null,null,null,null,null,null,null,null,null,null,null,null,null,null,null,null,null,null,null,null,null,null,null,null,null,"Rio Quiparadó","567"]
[null,null,null,null,null,null,null,null,null,null,null,null,null,null,null,null,null,null,null,null,null,null,null,null,null,"Rio Satinga","568"]
[null,null,null,null,null,null,null,null,null,null,null,null,null,null,null,null,null,null,null,null,null,null,null,null,null,"Rio Siare","569"]
[null,null,null,null,null,null,null,null,null,null,null,null,null,null,null,null,null,null,null,null,null,null,null,null,null,"Rio Taparal","570"]
[null,null,null,null,null,null,null,null,null,null,null,null,null,null,null,null,null,null,null,null,null,null,null,null,null,"Rios Cotuhe-Putumayo","571"]
[null,null,null,null,null,null,null,null,null,null,null,null,null,null,null,null,null,null,null,null,null,null,null,null,null,"Rios jurubida-Chori alto baudó","572"]
[null,null,null,null,null,null,null,null,null,null,null,null,null,null,null,null,null,null,null,null,null,null,null,null,null,"Ríos Muco y Guarrojo","573"]
[null,null,null,null,null,null,null,null,null,null,null,null,null,null,null,null,null,null,null,null,null,null,null,null,null,"Rios Pato y Jengadó","574"]
[null,null,null,null,null,null,null,null,null,null,null,null,null,null,null,null,null,null,null,null,null,null,null,null,null,"Rios Tomo y Weberi","575"]
[null,null,null,null,null,null,null,null,null,null,null,null,null,null,null,null,null,null,null,null,null,null,null,null,null,"Rios torreido-Chimani","576"]
[null,null,null,null,null,null,null,null,null,null,null,null,null,null,null,null,null,null,null,null,null,null,null,null,null,"Ríos Uva Pogue, Quebrada Taparal","577"]
[null,null,null,null,null,null,null,null,null,null,null,null,null,null,null,null,null,null,null,null,null,null,null,null,null,"Ríos Valle y Boro Boro","578"]
[null,null,null,null,null,null,null,null,null,null,null,null,null,null,null,null,null,null,null,null,null,null,null,null,null,"Roqueros el Dorado","579"]
[null,null,null,null,null,null,null,null,null,null,null,null,null,null,null,null,null,null,null,null,null,null,null,null,null,"Rumiyaco","580"]
[null,null,null,null,null,null,null,null,null,null,null,null,null,null,null,null,null,null,null,null,null,null,null,null,null,"Sabaleta","581"]
[null,null,null,null,null,null,null,null,null,null,null,null,null,null,null,null,null,null,null,null,null,null,null,null,null,"Sabaletera San Onofre El Tigre","582"]
[null,null,null,null,null,null,null,null,null,null,null,null,null,null,null,null,null,null,null,null,null,null,null,null,null,"Sabanas de Curripao","583"]
[null,null,null,null,null,null,null,null,null,null,null,null,null,null,null,null,null,null,null,null,null,null,null,null,null,"Sajalito - San Benito","584"]
[null,null,null,null,null,null,null,null,null,null,null,null,null,null,null,null,null,null,null,null,null,null,null,null,null,"Salaquí Pavarandó","585"]
[null,null,null,null,null,null,null,null,null,null,null,null,null,null,null,null,null,null,null,null,null,null,null,null,null,"San Agustín","586"]
[null,null,null,null,null,null,null,null,null,null,null,null,null,null,null,null,null,null,null,null,null,null,null,null,null,"San Agustín - La Floresta","587"]
[null,null,null,null,null,null,null,null,null,null,null,null,null,null,null,null,null,null,null,null,null,null,null,null,null,"San Andres de Sotavento","588"]
[null,null,null,null,null,null,null,null,null,null,null,null,null,null,null,null,null,null,null,null,null,null,null,null,null,"San Andrés- Las Vegas-Villaunión","589"]
[null,null,null,null,null,null,null,null,null,null,null,null,null,null,null,null,null,null,null,null,null,null,null,null,null,"San Antonio","590"]
[null,null,null,null,null,null,null,null,null,null,null,null,null,null,null,null,null,null,null,null,null,null,null,null,null,"San Antonio de Calarma","591"]
[null,null,null,null,null,null,null,null,null,null,null,null,null,null,null,null,null,null,null,null,null,null,null,null,null,"San Antonio de los Lagos y San Sebastián","592"]
[null,null,null,null,null,null,null,null,null,null,null,null,null,null,null,null,null,null,null,null,null,null,null,null,null,"San Antonio del Fragua","593"]
[null,null,null,null,null,null,null,null,null,null,null,null,null,null,null,null,null,null,null,null,null,null,null,null,null,"San Diego","594"]
[null,null,null,null,null,null,null,null,null,null,null,null,null,null,null,null,null,null,null,null,null,null,null,null,null,"San Francisco","595"]
[null,null,null,null,null,null,null,null,null,null,null,null,null,null,null,null,null,null,null,null,null,null,null,null,null,"San Joaquín","596"]
[null,null,null,null,null,null,null,null,null,null,null,null,null,null,null,null,null,null,null,null,null,null,null,null,null,"San José","597"]
[null,null,null,null,null,null,null,null,null,null,null,null,null,null,null,null,null,null,null,null,null,null,null,null,null,"San José Amia de Pato","598"]
[null,null,null,null,null,null,null,null,null,null,null,null,null,null,null,null,null,null,null,null,null,null,null,null,null,"San José de Lipa o Caño Colorado","599"]
[null,null,null,null,null,null,null,null,null,null,null,null,null,null,null,null,null,null,null,null,null,null,null,null,null,"San José del Rio","600"]
[null,null,null,null,null,null,null,null,null,null,null,null,null,null,null,null,null,null,null,null,null,null,null,null,null,"San Juan de los Parentes","601"]
[null,null,null,null,null,null,null,null,null,null,null,null,null,null,null,null,null,null,null,null,null,null,null,null,null,"SAN JUAN PAMPON","602"]
[null,null,null,null,null,null,null,null,null,null,null,null,null,null,null,null,null,null,null,null,null,null,null,null,null,"San Lorenzo","603"]
[null,null,null,null,null,null,null,null,null,null,null,null,null,null,null,null,null,null,null,null,null,null,null,null,null,"San Luis","604"]
[null,null,null,null,null,null,null,null,null,null,null,null,null,null,null,null,null,null,null,null,null,null,null,null,null,"San Luis del Tomo","605"]
[null,null,null,null,null,null,null,null,null,null,null,null,null,null,null,null,null,null,null,null,null,null,null,null,null,"San Matías O Jai Ducama","606"]
[null,null,null,null,null,null,null,null,null,null,null,null,null,null,null,null,null,null,null,null,null,null,null,null,null,"San Miguel","607"]
[null,null,null,null,null,null,null,null,null,null,null,null,null,null,null,null,null,null,null,null,null,null,null,null,null,"San Miguel de la Castellana","608"]
[null,null,null,null,null,null,null,null,null,null,null,null,null,null,null,null,null,null,null,null,null,null,null,null,null,"San Pablo el Pará","609"]
[null,null,null,null,null,null,null,null,null,null,null,null,null,null,null,null,null,null,null,null,null,null,null,null,null,"San Quinini","610"]
[null,null,null,null,null,null,null,null,null,null,null,null,null,null,null,null,null,null,null,null,null,null,null,null,null,"San Rafael","611"]
[null,null,null,null,null,null,null,null,null,null,null,null,null,null,null,null,null,null,null,null,null,null,null,null,null,"Sanandocito","612"]
[null,null,null,null,null,null,null,null,null,null,null,null,null,null,null,null,null,null,null,null,null,null,null,null,null,"Sanquianguita","613"]
[null,null,null,null,null,null,null,null,null,null,null,null,null,null,null,null,null,null,null,null,null,null,null,null,null,"Santa Cruz de Pinuña Blanco","614"]
[null,null,null,null,null,null,null,null,null,null,null,null,null,null,null,null,null,null,null,null,null,null,null,null,null,"Santa María el Charcón","615"]
[null,null,null,null,null,null,null,null,null,null,null,null,null,null,null,null,null,null,null,null,null,null,null,null,null,"Santa Marta","616"]
[null,null,null,null,null,null,null,null,null,null,null,null,null,null,null,null,null,null,null,null,null,null,null,null,null,"Santa Marta Diamante","617"]
[null,null,null,null,null,null,null,null,null,null,null,null,null,null,null,null,null,null,null,null,null,null,null,null,null,"Santa Marta Inspección","618"]
[null,null,null,null,null,null,null,null,null,null,null,null,null,null,null,null,null,null,null,null,null,null,null,null,null,"Santa Marta Palmar","619"]
[null,null,null,null,null,null,null,null,null,null,null,null,null,null,null,null,null,null,null,null,null,null,null,null,null,"Santa Rita","620"]
[null,null,null,null,null,null,null,null,null,null,null,null,null,null,null,null,null,null,null,null,null,null,null,null,null,"Santa Rosa de Ijua","621"]
[null,null,null,null,null,null,null,null,null,null,null,null,null,null,null,null,null,null,null,null,null,null,null,null,null,"Santa Rosa del Guamuez","622"]
[null,null,null,null,null,null,null,null,null,null,null,null,null,null,null,null,null,null,null,null,null,null,null,null,null,"Santa Rosa Juanambú- Campo Alegre, Alpes Orientales, La Floresta Alto Coqueto.","623"]
[null,null,null,null,null,null,null,null,null,null,null,null,null,null,null,null,null,null,null,null,null,null,null,null,null,"Santa rosa, Cerro cucuy y otros","624"]
[null,null,null,null,null,null,null,null,null,null,null,null,null,null,null,null,null,null,null,null,null,null,null,null,null,"Santa Rosalía","625"]
[null,null,null,null,null,null,null,null,null,null,null,null,null,null,null,null,null,null,null,null,null,null,null,null,null,"Santa Rosita","626"]
[null,null,null,null,null,null,null,null,null,null,null,null,null,null,null,null,null,null,null,null,null,null,null,null,null,"Santa Sofía y El Progreso","627"]
[null,null,null,null,null,null,null,null,null,null,null,null,null,null,null,null,null,null,null,null,null,null,null,null,null,"Santa Teresita del Tuparro","628"]
[null,null,null,null,null,null,null,null,null,null,null,null,null,null,null,null,null,null,null,null,null,null,null,null,null,"Saracure y Río Cada","629"]
[null,null,null,null,null,null,null,null,null,null,null,null,null,null,null,null,null,null,null,null,null,null,null,null,null,"SAUNDE GUIGUAY","630"]
[null,null,null,null,null,null,null,null,null,null,null,null,null,null,null,null,null,null,null,null,null,null,null,null,null,"Selva de Matavén","631"]
[null,null,null,null,null,null,null,null,null,null,null,null,null,null,null,null,null,null,null,null,null,null,null,null,null,"Selva Verde","632"]
[null,null,null,null,null,null,null,null,null,null,null,null,null,null,null,null,null,null,null,null,null,null,null,null,null,"Sever","633"]
[null,null,null,null,null,null,null,null,null,null,null,null,null,null,null,null,null,null,null,null,null,null,null,null,null,"Sibundoy Parte Alta","634"]
[null,null,null,null,null,null,null,null,null,null,null,null,null,null,null,null,null,null,null,null,null,null,null,null,null,"Sikuani de Awaliba","635"]
[null,null,null,null,null,null,null,null,null,null,null,null,null,null,null,null,null,null,null,null,null,null,null,null,null,"Sikuani de Domo - Planas( San Rafael)","636"]
[null,null,null,null,null,null,null,null,null,null,null,null,null,null,null,null,null,null,null,null,null,null,null,null,null,"Sikuani de Iwiwi","637"]
[null,null,null,null,null,null,null,null,null,null,null,null,null,null,null,null,null,null,null,null,null,null,null,null,null,"Simorna o la Venada","638"]
[null,null,null,null,null,null,null,null,null,null,null,null,null,null,null,null,null,null,null,null,null,null,null,null,null,"SIRENA BERRECUY","639"]
[null,null,null,null,null,null,null,null,null,null,null,null,null,null,null,null,null,null,null,null,null,null,null,null,null,"Socorpa","640"]
[null,null,null,null,null,null,null,null,null,null,null,null,null,null,null,null,null,null,null,null,null,null,null,null,null,"Sta Cecilia Q. Oro Chocó","641"]
[null,null,null,null,null,null,null,null,null,null,null,null,null,null,null,null,null,null,null,null,null,null,null,null,null,"Sta María Pangala","642"]
[null,null,null,null,null,null,null,null,null,null,null,null,null,null,null,null,null,null,null,null,null,null,null,null,null,"Sta Marta de Curiche","643"]
[null,null,null,null,null,null,null,null,null,null,null,null,null,null,null,null,null,null,null,null,null,null,null,null,null,"Sta Rosa Sucumbíos El Diviso","644"]
[null,null,null,null,null,null,null,null,null,null,null,null,null,null,null,null,null,null,null,null,null,null,null,null,null,"Suratena","645"]
[null,null,null,null,null,null,null,null,null,null,null,null,null,null,null,null,null,null,null,null,null,null,null,null,null,"Tagual- La Po","646"]
[null,null,null,null,null,null,null,null,null,null,null,null,null,null,null,null,null,null,null,null,null,null,null,null,null,"Tama- Paez La Gabriela","647"]
[null,null,null,null,null,null,null,null,null,null,null,null,null,null,null,null,null,null,null,null,null,null,null,null,null,"Tamas del Caguán","648"]
[null,null,null,null,null,null,null,null,null,null,null,null,null,null,null,null,null,null,null,null,null,null,null,null,null,"Tamirco","649"]
[null,null,null,null,null,null,null,null,null,null,null,null,null,null,null,null,null,null,null,null,null,null,null,null,null,"Tanela","650"]
[null,null,null,null,null,null,null,null,null,null,null,null,null,null,null,null,null,null,null,null,null,null,null,null,null,"Tarena","651"]
[null,null,null,null,null,null,null,null,null,null,null,null,null,null,null,null,null,null,null,null,null,null,null,null,null,"Tierra Alta","652"]
[null,null,null,null,null,null,null,null,null,null,null,null,null,null,null,null,null,null,null,null,null,null,null,null,null,"Tinajas","653"]
[null,null,null,null,null,null,null,null,null,null,null,null,null,null,null,null,null,null,null,null,null,null,null,null,null,"Tiosilidio","654"]
[null,null,null,null,null,null,null,null,null,null,null,null,null,null,null,null,null,null,null,null,null,null,null,null,null,"Togorama","655"]
[null,null,null,null,null,null,null,null,null,null,null,null,null,null,null,null,null,null,null,null,null,null,null,null,null,"Tokolloro","656"]
[null,null,null,null,null,null,null,null,null,null,null,null,null,null,null,null,null,null,null,null,null,null,null,null,null,"Tonina-Sejal- San José - otros","657"]
[null,null,null,null,null,null,null,null,null,null,null,null,null,null,null,null,null,null,null,null,null,null,null,null,null,"Tortugaña, Telembi, Punde,Pitadero,Bravo, Tronquería,Zabaleta","658"]
[null,null,null,null,null,null,null,null,null,null,null,null,null,null,null,null,null,null,null,null,null,null,null,null,null,"Totarco Dinde Independiente","659"]
[null,null,null,null,null,null,null,null,null,null,null,null,null,null,null,null,null,null,null,null,null,null,null,null,null,"Totarco Dinde Tradicional","660"]
[null,null,null,null,null,null,null,null,null,null,null,null,null,null,null,null,null,null,null,null,null,null,null,null,null,"Totarco Niple","661"]
[null,null,null,null,null,null,null,null,null,null,null,null,null,null,null,null,null,null,null,null,null,null,null,null,null,"Totarco Piedras","662"]
[null,null,null,null,null,null,null,null,null,null,null,null,null,null,null,null,null,null,null,null,null,null,null,null,null,"Totarco Tamarindo","663"]
[null,null,null,null,null,null,null,null,null,null,null,null,null,null,null,null,null,null,null,null,null,null,null,null,null,"Totoró","664"]
[null,null,null,null,null,null,null,null,null,null,null,null,null,null,null,null,null,null,null,null,null,null,null,null,null,"Totumal","665"]
[null,null,null,null,null,null,null,null,null,null,null,null,null,null,null,null,null,null,null,null,null,null,null,null,null,"Trapiche del Río Pepe","666"]
[null,null,null,null,null,null,null,null,null,null,null,null,null,null,null,null,null,null,null,null,null,null,null,null,null,"Tres Esquinas","667"]
[null,null,null,null,null,null,null,null,null,null,null,null,null,null,null,null,null,null,null,null,null,null,null,null,null,"Triunfo Cristal","668"]
[null,null,null,null,null,null,null,null,null,null,null,null,null,null,null,null,null,null,null,null,null,null,null,null,null,"TRONQUERIA-PULGANDE-PALICITO","669"]
[null,null,null,null,null,null,null,null,null,null,null,null,null,null,null,null,null,null,null,null,null,null,null,null,null,"Trupiogacho y la Meseta","670"]
[null,null,null,null,null,null,null,null,null,null,null,null,null,null,null,null,null,null,null,null,null,null,null,null,null,"Tucán de Caño Giriza y Puerto La Palma","671"]
[null,null,null,null,null,null,null,null,null,null,null,null,null,null,null,null,null,null,null,null,null,null,null,null,null,"Tukunare","672"]
[null,null,null,null,null,null,null,null,null,null,null,null,null,null,null,null,null,null,null,null,null,null,null,null,null,"Tumbarao","673"]
[null,null,null,null,null,null,null,null,null,null,null,null,null,null,null,null,null,null,null,null,null,null,null,null,null,"Tumbichucue","674"]
[null,null,null,null,null,null,null,null,null,null,null,null,null,null,null,null,null,null,null,null,null,null,null,null,null,"Tungina y Apartadó","675"]
[null,null,null,null,null,null,null,null,null,null,null,null,null,null,null,null,null,null,null,null,null,null,null,null,null,"Ukumari Kankhe","676"]
[null,null,null,null,null,null,null,null,null,null,null,null,null,null,null,null,null,null,null,null,null,null,null,null,null,"Una Apuchçon","677"]
[null,null,null,null,null,null,null,null,null,null,null,null,null,null,null,null,null,null,null,null,null,null,null,null,null,"Unido Uwa","678"]
[null,null,null,null,null,null,null,null,null,null,null,null,null,null,null,null,null,null,null,null,null,null,null,null,null,"Unificado Chamí","679"]
[null,null,null,null,null,null,null,null,null,null,null,null,null,null,null,null,null,null,null,null,null,null,null,null,null,"Unión Chocó-San Cristobal","680"]
[null,null,null,null,null,null,null,null,null,null,null,null,null,null,null,null,null,null,null,null,null,null,null,null,null,"Uradá Jiguamiandó","681"]
[null,null,null,null,null,null,null,null,null,null,null,null,null,null,null,null,null,null,null,null,null,null,null,null,null,"Valdivia","682"]
[null,null,null,null,null,null,null,null,null,null,null,null,null,null,null,null,null,null,null,null,null,null,null,null,null,"Valle de Perdidas","683"]
[null,null,null,null,null,null,null,null,null,null,null,null,null,null,null,null,null,null,null,null,null,null,null,null,null,"Valles del Sol","684"]
[null,null,null,null,null,null,null,null,null,null,null,null,null,null,null,null,null,null,null,null,null,null,null,null,null,"Vania Chami de Argelia","685"]
[null,null,null,null,null,null,null,null,null,null,null,null,null,null,null,null,null,null,null,null,null,null,null,null,null,"Vaupés","686"]
[null,null,null,null,null,null,null,null,null,null,null,null,null,null,null,null,null,null,null,null,null,null,null,null,null,"Vegas de Santa Ana","687"]
[null,null,null,null,null,null,null,null,null,null,null,null,null,null,null,null,null,null,null,null,null,null,null,null,null,"Vegas de Segovia","688"]
[null,null,null,null,null,null,null,null,null,null,null,null,null,null,null,null,null,null,null,null,null,null,null,null,null,"Velú Centro","689"]
[null,null,null,null,null,null,null,null,null,null,null,null,null,null,null,null,null,null,null,null,null,null,null,null,null,"Vencedor- Pirirí-Guaimito-Matanegra","690"]
[null,null,null,null,null,null,null,null,null,null,null,null,null,null,null,null,null,null,null,null,null,null,null,null,null,"Villa Catalina de Puerto Rosario","691"]
[null,null,null,null,null,null,null,null,null,null,null,null,null,null,null,null,null,null,null,null,null,null,null,null,null,"Villa Lucía","692"]
[null,null,null,null,null,null,null,null,null,null,null,null,null,null,null,null,null,null,null,null,null,null,null,null,null,"Villa María de Anamú","693"]
[null,null,null,null,null,null,null,null,null,null,null,null,null,null,null,null,null,null,null,null,null,null,null,null,null,"Villanueva Juná","694"]
[null,null,null,null,null,null,null,null,null,null,null,null,null,null,null,null,null,null,null,null,null,null,null,null,null,"Vuelta del alivio","695"]
[null,null,null,null,null,null,null,null,null,null,null,null,null,null,null,null,null,null,null,null,null,null,null,null,null,"Vuelta del Río","696"]
[null,null,null,null,null,null,null,null,null,null,null,null,null,null,null,null,null,null,null,null,null,null,null,null,null,"Wachirado","697"]
[null,null,null,null,null,null,null,null,null,null,null,null,null,null,null,null,null,null,null,null,null,null,null,null,null,"Waliani","698"]
[null,null,null,null,null,null,null,null,null,null,null,null,null,null,null,null,null,null,null,null,null,null,null,null,null,"Wasipungo","699"]
[null,null,null,null,null,null,null,null,null,null,null,null,null,null,null,null,null,null,null,null,null,null,null,null,null,"Wasiruma","700"]
[null,null,null,null,null,null,null,null,null,null,null,null,null,null,null,null,null,null,null,null,null,null,null,null,null,"Wayuú Rodeito El Pozo","701"]
[null,null,null,null,null,null,null,null,null,null,null,null,null,null,null,null,null,null,null,null,null,null,null,null,null,"Witack Kwe","702"]
[null,null,null,null,null,null,null,null,null,null,null,null,null,null,null,null,null,null,null,null,null,null,null,null,null,"Witora o Huitora","703"]
[null,null,null,null,null,null,null,null,null,null,null,null,null,null,null,null,null,null,null,null,null,null,null,null,null,"Wopomuin Junain Maikou","704"]
[null,null,null,null,null,null,null,null,null,null,null,null,null,null,null,null,null,null,null,null,null,null,null,null,null,"Yaberadó (Abibe Chigorodó)","705"]
[null,null,null,null,null,null,null,null,null,null,null,null,null,null,null,null,null,null,null,null,null,null,null,null,null,"Yaco Molana","706"]
[null,null,null,null,null,null,null,null,null,null,null,null,null,null,null,null,null,null,null,null,null,null,null,null,null,"Yaogoje-Apaporis","707"]
[null,null,null,null,null,null,null,null,null,null,null,null,null,null,null,null,null,null,null,null,null,null,null,null,null,"Yarinal San Marcelino Amaron","708"]
[null,null,null,null,null,null,null,null,null,null,null,null,null,null,null,null,null,null,null,null,null,null,null,null,null,"Yarumal y el Barranco","709"]
[null,null,null,null,null,null,null,null,null,null,null,null,null,null,null,null,null,null,null,null,null,null,null,null,null,"Yavilla II","710"]
[null,null,null,null,null,null,null,null,null,null,null,null,null,null,null,null,null,null,null,null,null,null,null,null,null,"Yu Yik Kwe","711"]
[null,null,null,null,null,null,null,null,null,null,null,null,null,null,null,null,null,null,null,null,null,null,null,null,null,"Yunguillo","712"]
[null,null,null,null,null,null,null,null,null,null,null,null,null,null,null,null,null,null,null,null,null,null,null,null,null,"Yurayaco","713"]
[null,null,null,null,null,null,null,null,null,null,null,null,null,null,null,null,null,null,null,null,null,null,null,null,null,"Zanja Honda","714"]
[null,null,null,null,null,null,null,null,null,null,null,null,null,null,null,null,null,null,null,null,null,null,null,null,null,"Zaragoza Tamarindo","715"]
[null,null,null,null,null,null,null,null,null,null,null,null,null,null,null,null,null,null,null,null,null,null,null,null,null,"Zenú del volao","716"]
[null,null,null,null,null,null,null,null,null,null,null,null,null,null,null,null,null,null,null,null,null,null,null,null,null,"Zit-Set del Quecal","717"]
[null,null,null,null,null,null,null,null,null,null,null,null,null,null,null,null,null,null,null,null,null,null,null,null,null,"NO TIENE","NO TIENE"]
[null,null,null,null,null,null,null,null,null,null,null,null,null,null,null,null,null,null,null,null,null,null,null,null,null,"OTRO","OTRO"]

{"sheet":"FORMULAS","index":2,"n_rows":5,"n_cols":214,"rows_kept":5,"cut":false,"hidden":true,"merged":[[1,213,2,213],[0,1,0,2],[0,136,0,138],[1,0,1,4],[1,77,1,81],[1,82,1,84],[1,85,1,94],[1,96,1,98],[1,99,1,103],[1,105,1,107],[1,108,1,110],[1,150,1,151],[1,111,1,113],[1,114,1,116],[1,117,1,119],[1,120,1,122],[1,123,1,125],[1,126,1,128],[1,129,1,131],[1,132,1,134],[1,136,1,138],[1,139,1,140],[1,141,1,143],[1,198,1,200],[1,201,1,203],[1,204,1,207],[1,208,1,211],[1,172,1,175],[1,177,1,179],[1,180,1,182],[1,184,1,190],[1,191,1,192],[1,194,1,197]]}
[null,null,null,null,null,null,null,null,null,null,null,null,null,null,null,null,null,null,null,null,null,null,null,null,null,null,null,null,null,null,null,null,null,null,null,null,null,null,null,null,null,null,null,null,null,null,null,null,null,null,null,null,null,null,null,null,null,null,null,null,null,null,null,null,null,null,null,null,null,null,null,null,null,null,null,null,null,null,null,null,null,null,null,null,null,null,null,null,null,null,null,null,null,null,null,null,null,null,null,null,null,null,null,null,null,null,null,null,null,null,null,null,null,null,null,null,null,null,null,null,null,null,null,null,null,null,null,null,null,null,null,null,null,null,null,null,"Recuerden diligenciar el formulario físico para la entrega de las raciones alimentarias de emergencia con la huella."]
["CODIFICACION  DE ARCHIVO",null,null,null,null,"A. INFORMACION DEL LUGAR DE ATENCION",null,null,null,null,null,null,null,null,null,null,null,null,null,null,"B. DATOS DEL GRUPO FAMILIAR - RESPONSABLE DEL GRUPO FAMILIAR",null,null,null,null,null,null,null,null,null,null,null,null,null,null,null,null,null,null,"G. AYUDA HUMANITARIA DE TRANSICION COMPONENTE DE ALIMENTACION (ART. 65 LEY 1448 DE 2011)",null,null,null,null,null,null,"DATOS DEL GRUPO FAMILIAR - OTRAS VARIABLES DE VULNERABILIDAD",null,null,null,null,null,null,"B. INFORMACION DEL BENEFICIARIO",null,null,null,null,null,null,null,null,null,null,null,null,null,null,null,null,null,null,null,null,null,null,null,null,null,null,null,null,null,null,null,null,null,null,null,null,null,null,null,null,null,null,null,null,null,null,null,null,null,null,"C. HECHOS VICTIMIZANTES","C2 .SEÑALE EL HECHO DEL CUAL HA SIDO VICTIMA EN EL MARCO DEL CONFLICTO ARMADO",null,null,null,null,null,null,null,null,null,null,null,null,null,null,null,null,null,null,null,null,null,null,null,null,null,null,null,null,null,null,"D. RACION ALIMENTARIA DE EMERGENCIA",null,null,"E. ETAPAS DE LA ATENCION HUMANITARIA",null,"F. OTROS RIESGOS PRESUNTOS POSIBLES VULNERABLES DE DERECHOS",null,null,null,null,null,null,null,null,"F2. ACCIONES REALIZADAS:",null,null,null,null,null,"F3. REMISION A OTRAS ENTIDADES DEL SNARIV",null,null,null,null,"G. NUTRICION - INFORMACION ANTROPOMETRICA",null,null,null,null,null,null,null,null,null,null,"H. INFORMACION ANTROPOMETRICA (Informacion para menores de edad y madres Gestantes)",null,null,null,null,"I. BIENESTARINA",null,null,"J. CONEXIÓN CON EL SIM",null,null,null,"DATOS DEL PROFESIONAL - QUIEN DILIGENCIA EL FORMATO",null,null,null,null,null,null,"ACTUALIZACIÓN DEL TIPO DE DOCUMENTO",null,null,"AREAS DE DERECHO",null,null,null,null,null,null,"CASO",null,null,"LONGITUD",null,null,null,"LATITUD",null,null,null,null,"OBSERVACIONES"]
["NO. BENEFICIARIOS","NOMBRE ARCHIVO","FECHA DE ATENCION","REGIONAL ICBF","CODIGO DE LA REGIONAL","A1. DEPARTAMENTO DE ATENCION","A1. CODIGO DEL DEPARTAMENTO DE ATENCION","A2. MUNICIPIO / DISTRITO DE ATENCION","A2. CODIGO MUNICIPIO / DISTRITO DE ATENCION","A4. ZONA DE ATENCION","A5 - A8. TIPO DE ZONA DE ATENCION","A6 - A9. NOMBRE DE LA ZONA DE ATENCION","A7. NOMBRE DEL BARRIO \n(SI SE ENCUENTRA UBICADO EN ZONA URBANA)","A10. DIRECCION","A11. NUMERO TELEFONICO","A12. NUMERO CELULAR","A13. DEPARTAMENTO EXPULSOR","A13. CODIGO DEL DEPARTAMENTO EXPULSOR","A13. MUNICIPIO EXPULSOR","A13. CODIGO MUNICIPIO DE EXPULSOR","B1. PRIMER NOMBRE DEL RESPONSABLE DEL GRUPO FAMILIAR","B1. SEGUNDO NOMBRE  DEL RESPONSABLE DEL GRUPO FAMILIAR","B1. PRIMER APELLIDO  DEL RESPONSABLE DEL GRUPO FAMILIAR","B1. SEGUNDO APELLIDO  DEL RESPONSABLE DEL GRUPO FAMILIAR","B2. SEXO","B3. PAIS DE NACIMIENTO DEL RESPONSABLE DEL GRUPO FAMILIAR","B3. CODIGO PAIS DE NACIMIENTO DEL RESPONSABLE DEL GRUPO FAMILIAR","B3. DEPARTAMENTO DE NACIMIENTO DEL RESPONSABLE DEL GRUPO FAMILIAR","B3. CODIGO DEL DEPARTAMENTO DE NACIMIENTO DEL RESPONSABLE DEL GRUPO FAMILIAR","B3. MUNICIPIO/DISTRITO DE NACIMIENTO DEL RESPONSABLE DEL GRUPO FAMILIAR","B3.CODIGO MUNICIPIO DE NACIMIENTO DEL RESPONSABLE DEL GRUPO FAMILIAR","B4.FECHA DE NACIMIENTO","B6. TIPO DE DOCUMENTO DE IDENTIDAD DEL RESPONSABLE DEL BENEFICIARIO","B7. NUMERO DE DOCUMENTO DE IDENTIDAD DEL RESPONSABLE DEL GRUPO FAMILIAR","B8.FECHA DE EXPEDICION DEL DOCUMENTO DE IDENTIDAD \n(DILIGENCIAR SOLO SI ES DE NACIONALIDAD COLOMBIANA)","B9. DEPARTAMENTO DE EXPEDICION DEL DOCUMENTO DE IDENTIDAD\n(DILIGENCIAR SOLO SI ES DE NACIONALIDAD COLOMBIANA)","B9. CODIGO DEL DEPARTAMENTO DE RESIDENCIA DEL BENEFICIARIO","B9. MUNICIPIO DE EXPEDICION DEL DOCUMENTO DE IDENTIDAD\n(DILIGENCIAR SOLO SI ES DE NACIONALIDAD COLOMBIANA)","B9. CODIGO MUNICIPIO DE EXPEDICION DEL DOCUMENTO DE IDENTIDAD","G1. ¿CUENTA CON AYUDA HUMANITARIA DE TRANSICION COMPONENTE DE ALIMENTACION?","G2. ¿INVIRTIO LA AYUDA HUMANITARIA DE TRANSICION COMPONENTE DE ALIMENTACION EN COMPRAS DE:\nALIMENTOS?","G2. ¿INVIRTIO LA AYUDA HUMANITARIA DE TRANSICION COMPONENTE DE ALIMENTACION EN PAGO DE:\nSERVICIOS PUBLICOS?","G2. ¿INVIRTIO LA AYUDA HUMANITARIA DE TRANSICION COMPONENTE DE ALIMENTACION EN COMPRA DE:\nELEMENTOS DE ASEO?","G2. ¿INVIRTIO LA AYUDA HUMANITARIA DE TRANSICION COMPONENTE DE ALIMENTACION EN PAGO DE:\nTRANSPORTE?","G2. ¿INVIRTIO LA AYUDA HUMANITARIA DE TRANSICION COMPONENTE DE ALIMENTACION EN: \nOTRA NECESIDAD?","G2. ¿EN CUAL NECESIDAD  HA INVERTIDO LA AYUDA HUMANITARIA DE TRANSICION COMPONENTE DE ALIMENTACION ?\n(RESPONDA SI EN LA PREGUNTA ANTERIOR SELECCIONO LA OPCION \"SI\")","H1. SELECCIONE DE LA LISTA EL TIPO VIVIENDA","H2.. CONDICIONES DE VIVIENDA:\n¿CUENTA CON ACUEDUCTO?","H3. CONDICIONES DE VIVIENDA:\n¿CUENTA CON ALCANTARILLADO?","H4. CONDICIONES DE VIVIENDA:\n¿CUENTA CON POSO SEPTICO?","H5. CONDICIONES DE VIVIENDA:\n¿CUENTA CON ACCESO A AGUA POTABLE?","H6. ¿CUANTOS SON LOS MIEMBROS QUE CONFORMAN EL HOGAR?\n(INCLUYENDO EL RESPONSABLE DEL GRUPO FAMILIAR)","H6. ¿CUANTAS PERSONAS DEL HOGAR RECIBEN INGRESOS?","B1. SEÑALE EL PARENTESCO CON EL RESPONSABLE DEL GRUPO FAMILIAR","B2. PRIMER NOMBRE DEL INTEGRANTE","B2. SEGUNDO NOMBRE DEL INTEGRANTE","B2. PRIMER APELLIDO DEL INTEGRANTE ","B2. SEGUNDO APELLIDO DEL INTEGRANTE ","B3. SEXO","B4. PAIS DE NACIMIENTO DEL INTEGRANTE","B4. CODIGO PAIS DE NACIMIENTO DEL INTEGRANTE","B4. DEPARTAMENTO DE NACIMIENTO DEL INTEGRANTE","B4. CODIGO DEL DEPARTAMENTO DE NACIMIENTO DEL INTEGRANTE","B4. MUNICIPIO/DISTRITO DE NACIMIENTO DEL INTEGRANTE","B4. CODIGO MUNICIPIO DE NACIMIENTO DEL INTEGRANTE","B5. FECHA DE NACIMIENTO DEL INTEGRANTE","B6. EDAD (AÑOS)","B6. EDAD (MESES)","B7. TIPO DE DOCUMENTO DE IDENTIDAD DEL INTEGRANTE","B8. NUMERO DE DOCUMENTO DE IDENTIDAD DEL INTEGRANTE","B9.FECHA DE EXPEDICION DEL DOCUMENTO DE IDENTIDAD \n(DILIGENCIAR SOLO SI ES DE NACIONALIDAD COLOMBIANA)","B10. DEPARTAMENTO DE EXPEDICION DEL DOCUMENTO DE IDENTIDAD\n(DILIGENCIAR SOLO SI ES DE NACIONALIDAD COLOMBIANA)","B10. CODIGO DEPARTAMENTO DE EXPEDICION DEL DOCUMENTO DE IDENTIDAD","B10. MUNICIPIO DE EXPEDICION DEL DOCUMENTO DE IDENTIDAD\n(DILIGENCIAR SOLO SI ES DE NACIONALIDAD COLOMBIANA)","B10. CODIGO MUNICIPIO DE EXPEDICION DEL DOCUMENTO DE IDENTIDAD","B11. NUMERO TELEFONICO DEL INTEGRANTE","B12. NUMERO CELULAR DEL INTEGRANTE","B13. GRUPO ETNICO EN EL CUAL SE RECONOCE EL INTEGRANTE","B14. SI SE AUTORECONOCE COMO AFROCOLOMBIANO COMUNIDAD NEGRA O PALENQUERO INDIQUE A QUE TERRITORIO PERTENECE","B15. SI SE AUTORECONOCE COMO INDIGENA INDIQUE EL PUEBLO AL QUE PERTENECE ","B15. SI SE AUTORECONOCE COMO INDIGENA INDIQUE EL NOMBRE DEL RESGUARDO   AL QUE PERTENECE","B15. SI SE AUTORECONOCE COMO INDIGENA INDIQUE EL NOMBRE DE LA COMUNIDAD A LA QUE PERTENECE","B16. ¿HA PRESENTADO DECLARACION?","B17. ¿HA SIDO VICTIMA DE \nMAS \nDE UN DESPLAZAMIENTO?","B17. ¿DE CUANTOS DESPLAZAMIENTOS HA SIDO VICTIMA? ","B18. ¿PERSONA EN CONDICION ESPECIAL DE DISCAPACIDAD?","B19. PERSONA EN SITUACION DE DISCAPACIDAD (PARA BENEFICIARIOS CON DISCAPACIDAD) ¿LA DISCAPACIDAD ES DE  MOVILIDAD?","B19. PERSONA EN SITUACION DE DISCAPACIDAD (PARA BENEFICIARIOS CON DISCAPACIDAD) ¿LA DISCAPACIDAD \nES SENSORIAL VISUAL?","B19. PERSONA EN SITUACION DE DISCAPACIDAD (PARA BENEFICIARIOS CON DISCAPACIDAD) ¿LA DISCAPACIDAD \nES SENSORIAL AUDITIVA?","B19. PERSONA EN SITUACION DE DISCAPACIDAD (PARA BENEFICIARIOS CON DISCAPACIDAD) ¿LA DISCAPACIDAD \nES SENSORIAL GUSTO, OLFATO, TACTO?","B19. PERSONA EN SITUACION DE DISCAPACIDAD (PARA BENEFICIARIOS CON DISCAPACIDAD) ¿LA DISCAPACIDAD ES \nSISTEMICA?","B19. PERSONA EN SITUACION DE DISCAPACIDAD (PARA BENEFICIARIOS CON DISCAPACIDAD) ¿LA DISCAPACIDAD \nES MENTAL COGNITIVA?","B19. PERSONA EN SITUACION DE DISCAPACIDAD (PARA BENEFICIARIOS CON DISCAPACIDAD) ¿LA DISCAPACIDAD \nES MENTAL PSICOLOGICA?","B19. PERSONA EN SITUACION DE DISCAPACIDAD (PARA BENEFICIARIOS CON DISCAPACIDAD)  ¿LA DISCAPACIDAD \nES DE VOZ Y HABLA?","B19. PERSONA EN SITUACION DE DISCAPACIDAD (PARA BENEFICIARIOS CON DISCAPACIDAD)  ¿LA DISCAPACIDAD \nES DE PIEL, PELO Y UÑAS?","B20. SISTEMA GENERAL DE SEGURIDAD SOCIAL EN SALUD (SGSSS) \nDEL BENEFICIARIO","B21. SITUACIONES DIFERENCIALES \n¿ES MUJER GESTANTE?","B21. SITUACIONES DIFERENCIALES \n¿ES MADRE EN PERIODO DE LACTANCIA?","B21. SITUACIONES DIFERENCIALES \n¿ES ADULTO MAYOR?\n\n(ESTA PREGUNTA SE DILIGENCIA AUTOMATICAMENTE SEGUN RESPUESTAS DE SEXO Y EDAD)","B22. NIVEL DE ESCOLARIDAD\n(ULTIMO NIVEL ALCANZADO)","B22. ESCOLARIZADO ACTUALMENTE","B22. GRADO QUE CURSA ACTUALMENTE","B22. ULTIMO GRADO CURSADO","B22. AÑO EN EL QUE LO CURSO","C1 ¿HA SIDO VICTIMA DEL CONFLICTO ARMADO INTERNO?","C2. ABANDONO O DESPOJO FORZADO DE TIERRAS","C2. VICTIMA DE ACTO TERRORISTA (ATENTADOS - COMBATES - ENFRENTAMIENTOS - HOSTIGAMIENTOS)","C2. VICTIMAS DE AMENAZAS CONTRA DE LA VIDA O CONTRA SU INTEGRIDAD PERSONAL POR MIEMBROS DE GRUPOS ARMADOS ORGANIZDOS AL MARGEN DE LA LEY","C2. VICTIMAS DE ATAQUES EN CONTRA DEL DERECHO A LA LIBERTAD, INTEGRIDAD Y FORMACION SEXUAL","C2. NIÑOS, NIÑAS Y ADOLESCENTES NACIDOS COMO CONSECUENCIA DE ABUSO SEXUAL EN EL MARCO DE CONFLICTO ARMADO","C2. HUERFANOS A CAUSA DE LA VIOLENCIA ARMADA, HIJOS DE PADRES DESAPARECIDOS O SECUESTRADOS POR ACCION DE LOS GRUPOS ARMADOS ORGANIZADOS AL MARGEN DE LA LEY","C2. HOMICIDIO","C2. LA MADRE \nDE LA PERSONA FUE VICTIMA DE\nHOMICIDIO\n(SOLO SE RESPONDE SI LA RESPUESTA DE LA PREGUNTA HOMICIDIO ES \"SI\")","C2. EL PADRE \nDE LA PERSONA FUE VICTIMA DE\nHOMICIDIO\n(SOLO SE RESPONDE SI LA RESPUESTA DE LA PREGUNTA HOMICIDIO ES \"SI\")","C2. EL HIJO \nDE LA PERSONA FUE VICTIMA DE\nHOMICIDIO\n(SOLO SE RESPONDE SI LA RESPUESTA DE LA PREGUNTA HOMICIDIO ES \"SI\")","C2. LA HIJA \nDE LA PERSONA FUE VICTIMA DE\nHOMICIDIO\n(SOLO SE RESPONDE SI LA RESPUESTA DE LA PREGUNTA HOMICIDIO ES \"SI\")","C2. EL ABUELO \nDE LA PERSONA FUE VICTIMA DE\nHOMICIDIO\n(SOLO SE RESPONDE SI LA RESPUESTA DE LA PREGUNTA HOMICIDIO ES \"SI\")","C2. LA ABUELA \nDE LA PERSONA FUE VICTIMA DE\nHOMICIDIO\n(SOLO SE RESPONDE SI LA RESPUESTA DE LA PREGUNTA HOMICIDIO ES \"SI\")","C2. VICTIMAS DE MINAS ANTIPERSONAL, MUNISIONES SIN EXPLOTAR O ARTEFACTO EXPLOSIVO IMPROVISADO","C2. SECUESTRO","C2. LA MADRE \nDE LA PERSONA ES VICTIMA DE\nSECUESTRO\n(SOLO SE RESPONDE SI LA PREGUNTA SECUESTRO ES \"SI\")","C2. EL PADRE \nDE LA PERSONA ES VICTIMA DE\nSECUESTRO\n(SOLO SE RESPONDE SI LA PREGUNTA SECUESTRO ES \"SI\")","C2. EL HIJO \nDE LA PERSONA ES VICTIMA DE\nSECUESTRO\n(SOLO SE RESPONDE SI LA PREGUNTA SECUESTRO ES \"SI\")","C2. LA HIJA \nDE LA PERSONA ES VICTIMA DE\nSECUESTRO\n(SOLO SE RESPONDE SI LA PREGUNTA SECUESTRO ES \"SI\")","C2. EL ABUELO \nDE LA PERSONA ES VICTIMA DE\nSECUESTRO\n(SOLO SE RESPONDE SI LA PREGUNTA SECUESTRO ES \"SI\")","C2. LA ABUELA \nDE LA PERSONA ES VICTIMA DE\nSECUESTRO\n(SOLO SE RESPONDE SI LA PREGUNTA SECUESTRO ES \"SI\")","C2. TORTURA","C2. VICTIMAS DE RECLUTAMIENTO ILICITO (DESVINCULADOS DE GRUPOS ARMADOS ILEGALES)","C2. AMENAZADO DE RECLUTAMIENTO INMINENTE POR PARTE DE LOS GRUPOS ARMADOS ORGANIZADOS AL MARGEN DE LA LEY","C2. DESAPARICION FORZADA","C2. LA MADRE \nDE LA PERSONA ES VICTIMA DE\nDESAPARICION FORZADA\n(SOLO SE RESPONDE SI LA PREGUNTA DESAPARICION FORZADA ES \"SI\")","C2. EL PADRE \nDE LA PERSONA ES VICTIMA DE\nDESAPARICION FORZADA\n(SOLO SE RESPONDE SI LA PREGUNTA DESAPARICION FORZADA ES \"SI\")","C2. EL HIJO \nDE LA PERSONA ES VICTIMA DE\nDESAPARICION FORZADA\n(SOLO SE RESPONDE SI LA PREGUNTA DESAPARICION FORZADA ES \"SI\")","C2. LA HIJA \nDE LA PERSONA ES VICTIMA DE\nDESAPARICION FORZADA\n(SOLO SE RESPONDE SI LA PREGUNTA DESAPARICION FORZADA ES \"SI\")","C2. EL ABUELO \nDE LA PERSONA ES VICTIMA DE\nDESAPARICION FORZADA\n(SOLO SE RESPONDE SI LA PREGUNTA DESAPARICION FORZADA ES \"SI\")","C2. LA ABUELA \nDE LA PERSONA ES VICTIMA DE\nDESAPARICION FORZADA\n(SOLO SE RESPONDE SI LA PREGUNTA DESAPARICION FORZADA ES \"SI\")","D1. RECIBIO RACION ALIMENTARIA DE EMERGENCIA","D2. TIPO DE RACION RECIBIDA","D3. NUMERO DE RACION ENTREGADA","E1. ESTABLEZCA EN QUE FASE O ETAPA DE DESPLAZAMIENTO SE LE ESTA PRESTANDO LA ATENCION","E2. ESTABLEZCA EL TIPO DE DESPLAZAMIENTO","F1. OTROS RIESGOS ASOCIADOS AL DESPLAZAMIENTO FORZADO: \nEN RIESGO O CON DESNUTRICION","F1. OTROS RIESGOS ASOCIADOS AL DESPLAZAMIENTO FORZADO: \nVIOLENCIA INTRAFAMILIAR","F1. OTROS RIESGOS ASOCIADOS AL DESPLAZAMIENTO FORZADO: \nMALTRATO FISICO Y/O PSICOLOGICO","F1. OTROS RIESGOS ASOCIADOS AL DESPLAZAMIENTO FORZADO: \nVIOLENCIA SEXUAL","F1. OTROS RIESGOS ASOCIADOS AL DESPLAZAMIENTO FORZADO: \nVIOLENCIA COMUNITARIA","F1. OTROS RIESGOS ASOCIADOS AL DESPLAZAMIENTO FORZADO: \nNIÑO, NIÑA O ADOLESCENTE TRABAJADOR","F1. OTROS RIESGOS ASOCIADOS AL DESPLAZAMIENTO FORZADO: \nCONSUMO SPA","F1. OTROS RIESGOS ASOCIADOS AL DESPLAZAMIENTO FORZADO: \nVIDA EN CALLE","F1. OTROS RIESGOS ASOCIADOS AL DESPLAZAMIENTO FORZADO: \nCONFLICTO CON LA LEY","F2. ACCIONES REALIZADAS:\n DIAGNOSTICO INICIAL","F2. ACCIONES REALIZADAS: \nPRIMEROS AUXILIOS PSICOSOCIALES","F2. ACCIONES REALIZADAS: \nACTIVIDADES ARTISTICAS Y RECREATIVAS","F2. ACCIONES REALIZADAS: \nVALORACION Y ATENCION NUTRICIONAL","F2. ACCIONES REALIZADAS: \n REMISION A OTROS PROGRAMAS  DEL ICBF","F2. ACCIONES REALIZADAS: \nREMISION A OTRAS ENTIDADES DEL SNARIV O DEL SNBF","F3. ACCIONES REALIZADAS: REMISION A OTRAS ENTIDADES DEL SNARIV: \nSALUD","F3. ACCIONES REALIZADAS: REMISION A OTRAS ENTIDADES DEL SNARIV: \nEDUCACION","F3. ACCIONES REALIZADAS: REMISION A OTRAS ENTIDADES DEL SNARIV: \nREGISTRADURIA","F3. ACCIONES REALIZADAS: REMISION A OTRAS ENTIDADES DEL SNARIV: \nUNIDADES DE ATENCION A VICTIMAS","F3. ACCIONES REALIZADAS: REMISION A OTRAS ENTIDADES DEL SNARIV: \nOTROS","G1 ¿CUANTAS COMIDAS RECIBEN LOS NIÑOS, NIÑAS Y ADOLESCENTES AL DIA?","G2. ¿SE EVIDENCIA PREOCUPACIONES POR EL ABASTECIMIENTOS SUFICIENTE DE LOS ALIMENTOS Y DISMINUCION EN LA CALIDAD DE LOS ALIMENTOS?","G3. ¿LA INGESTA DE ALIMENTOS HA SIDO REDUCIDA EN LOS ADULTOS. HAY SENSACION DE HAMBRE?","G4. TODOS LOS MIEMBROS DEL HOGAR HAN REDUCIDO LA INGESTA DE ALIMENTOS HASTA QUE LOS NIÑOS, NIÑAS Y ADOLESCENTES EXPERIMENTAN HAMBRE?","G5. ¿ES USTED BENEFICIARIO DE UN PROGRAMA CON  ASISTENCIA ALIMENTARIA DEL ICBF?","G5. ¿CUAL ES EL PROGRAMA DE ASISTENCIA ALIMENTARIA DEL ICBF?\n(SOLO RESPONDA SI LA RESPUESTA ANTERIOR ES \"SI\")","G5. ¿ES USTED BENEFICIARIO DEL  PROGRAMA CON  ASISTENCIA ALIMENTARIA: \nFAMILIAS EN SU TIERRA FEST?","G5. ¿ES USTED BENEFICIARIO DEL  PROGRAMA CON  ASISTENCIA ALIMENTARIA: \nRED DE SEGURIDAD ALIMENTARIA RESA?","G5. ¿ES USTED BENEFICIARIO DEL  PROGRAMA CON  ASISTENCIA ALIMENTARIA: \nFAMILIAS EN ACCION?","G5. ¿ES USTED BENEFICIARIO DE OTRO PROGRAMA CON  ASISTENCIA ALIMENTARIA?","G5. ¿CUAL ES EL OTRO PROGRAMA CON  ASISTENCIA ALIMENTARIA?\n(SOLO RESPONDA SI LA RESPUESTA ANTERIOR ES \"SI\")","H1. PESO (KG)","H2. TALLA (CM)","H3. SEMANAS DE GESTACION","H4. INDICADOR\n(ESTA PREGUNTA SE DILIGENCIA AUTOMATICAMENTE SOLO SI EL INTEGRANTE ATENDIDO ES MENOR DE 18 AÑOS O MADRE GESTANTE)","H5. SELECCIONE EL DIAGNOSTICO DE ACUERDO CON EL INDICADOR\n(SOLO SE DILIGENCIA SI EL INTEGRANTE ATENDIDO ES MENOR DE 18 AÑOS O MADRE GESTANTE)","I1. RECIBIO BIENESTARINA","I2. CANTIDAD BIENESTARINA POLVO\n(BOLSAS 900 Gramos)\n","I3. CANTIDAD BIENESTARINA LIQUIDA\n(CAJAS 200 Mililitros)","J1. NUMERO DE ATENCION","J2. CODIGO\nRGF: Responsable del grupo familiar\nJH: Jefe de Hogar","J3. NUMERO DE LA PETICION\n(Solo se digita si viene dentro del listado)","VALIDACION FECHAS NACIMIENTO Y ATENCION","PRIMER NOMBRE","SEGUNDO NOMBRE","PRIMER APELLIDO","SEGUNDO APELLIDO","NUMERO DE DOCUMENTO","NUMERO CELULAR","CORREO ELECTRONICO INSTITUCIONAL","K1. ACTUALIZACION DEL TIPO DE DOCUMENTO DE IDENTIDAD DEL INTEGRANTE","K2. ACTUALIZACION DEL NUMERO DE DOCUMENTO DE IDENTIDAD DEL INTEGRANTE","VALIDACION CAMPOS INDISPENSABLES","VIDA Y SUPERVIVENCIA","EDUCACION Y DESARROLLO","PARTICIPACIÓN","PROTECCIÓN","CONSTATACIÓN DE DERECHOS","TIENE PLATINFA","REMISIONES AUTORIDAD COMPETENTE","ESTADO DEL CASO","FECHA DE CIERRE DEL CASO","MOTIVOS DE CIERRE DE CASO","Posicion Longitud","Grados Longitud","Minutos Longitud","Segundos Longitud","Posicion Latitud","Grados Latitud","Minutos Latitud","Segundos Latitud","Hora captura coordenada"]
[{"$f":"IF(C4<>\"\",1,\"\")","v":""},null,null,null,{"$f":"IFERROR(VLOOKUP(D4,'CODIGO REGIONALES'!$J$2:$L$33,3,0),\"\")","v":""},null,{"$f":"IF(ISNA(VLOOKUP(F4,Divipolas!$A$2:$B$1123,2,FALSE)),\"\",VLOOKUP(F4,Divipolas!$A$2:$B$1123,2,FALSE))","v":""},null,{"$f":"IF(ISNA(VLOOKUP((CONCATENATE(F4,H4)),Divipolas!$F$2:$G$1123,2,FALSE)),\"\",VLOOKUP((CONCATENATE(F4,H4)),Divipolas!$F$2:$G$1123,2,FALSE))","v":""},null,null,null,null,null,null,null,null,{"$f":"IF(ISNA(VLOOKUP(Q4,Divipolas!$A$2:$B$1123,2,FALSE)),\"\",VLOOKUP(Q4,Divipolas!$A$2:$B$1123,2,FALSE))","v":""},null,{"$f":"IF(ISNA(VLOOKUP((CONCATENATE(Q4,S4)),Divipolas!$F$2:$G$1123,2,FALSE)),\"\",VLOOKUP((CONCATENATE(Q4,S4)),Divipolas!$F$2:$G$1123,2,FALSE))","v":""},null,null,null,null,null,null,{"$f":"IF(ISNA(VLOOKUP(Z4,'CODIGO PAIS'!$A$2:$B$231,2,FALSE)),\"\",VLOOKUP(Z4,'CODIGO PAIS'!$A$2:$B$231,2,FALSE))","v":""},null,{"$f":"IF(ISNA(VLOOKUP(AB4,Divipolas!$A$2:$B$1123,2,FALSE)),\"\",VLOOKUP(AB4,Divipolas!$A$2:$B$1123,2,FALSE))","v":""},null,{"$f":"IF(ISNA(VLOOKUP((CONCATENATE(AB4,AD4)),Divipolas!$F$2:$G$1123,2,FALSE)),\"\",VLOOKUP((CONCATENATE(AB4,AD4)),Divipolas!$F$2:$G$1123,2,FALSE))","v":""},null,null,null,null,null,{"$f":"IF(ISNA(VLOOKUP(AJ4,Divipolas!$A$2:$B$1123,2,FALSE)),\"\",VLOOKUP(AJ4,Divipolas!$A$2:$B$1123,2,FALSE))","v":""},null,{"$f":"IF(ISNA(VLOOKUP((CONCATENATE(AJ4,AL4)),Divipolas!$F$2:$G$1123,2,FALSE)),\"\",VLOOKUP((CONCATENATE(AJ4,AL4)),Divipolas!$F$2:$G$1123,2,FALSE))","v":""},null,null,null,null,null,null,null,null,null,null,null,null,null,null,null,null,null,null,null,null,null,{"$f":"IF(ISNA(VLOOKUP(BH4,'CODIGO PAIS'!$A$2:$B$231,2,FALSE)),\"\",VLOOKUP(BH4,'CODIGO PAIS'!$A$2:$B$231,2,FALSE))","v":""},null,{"$f":"IF(ISNA(VLOOKUP(BJ4,Divipolas!$A$2:$B$1123,2,FALSE)),\"\",VLOOKUP(BJ4,Divipolas!$A$2:$B$1123,2,FALSE))","v":""},null,{"$f":"IF(ISNA(VLOOKUP((CONCATENATE(BJ4,BL4)),Divipolas!$F$2:$G$1123,2,FALSE)),\"\",VLOOKUP((CONCATENATE(BJ4,BL4)),Divipolas!$F$2:$G$1123,2,FALSE))","v":""},null,{"$f":"IF(OR(C4=\"\",BN4=\"\"),\"\",DATEDIF(BN4,C4,\"y\"))","v":""},{"$f":"IF(OR(C4=\"\",BN4=\"\"),\"\",DATEDIF(BN4,C4,\"ym\"))","v":""},null,null,null,null,{"$f":"IF(ISNA(VLOOKUP(BT4,Divipolas!$A$2:$B$1123,2,FALSE)),\"\",VLOOKUP(BT4,Divipolas!$A$2:$B$1123,2,FALSE))","v":""},null,{"$f":"IF(ISNA(VLOOKUP((CONCATENATE(BT4,BV4)),Divipolas!$F$2:$G$1123,2,FALSE)),\"\",VLOOKUP((CONCATENATE(BT4,BV4)),Divipolas!$F$2:$G$1123,2,FALSE))","v":""},null,null,null,null,null,null,null,null,null,null,null,null,null,null,null,null,null,null,null,null,null,null,null,{"$f":"IF(OR(BG4=\"\",BO4=\"\"),\"\",IF(AND(BG4=\"F\",BO4>=52),\"SI\",IF(AND(BG4=\"M\",BO4>=57),\"SI\",\"NO\")))","v":""},null,null,null,null,null,null,null,null,null,null,null,null,null,null,null,null,null,null,null,null,null,null,null,null,null,null,null,null,null,null,null,null,null,null,null,null,null,null,null,null,null,null,null,null,null,null,null,null,null,null,null,null,null,null,null,null,null,null,null,null,null,null,null,null,null,null,null,null,null,null,null,null,null,null,null,null,{"$f":"IF(C4<>\"\",(IF(AND((DATEDIF(BN4,C4,\"m\"))>=0,(DATEDIF(BN4,C4,\"m\"))<=59),INDI2,IF(CS4=\"SI\",INDI3,IF(AND((DATEDIF(BN4,C4,\"m\"))>59,(DATEDIF(BN4,C4,\"m\"))<=215),INDI4,\"\")))),\"\")","v":""},null,null,null,null,null,null,null,{"$f":"IF(C4=\"\",\"VERIFIQUE FECHAS\",IF(BN4=\"\",\"VERIFIQUE FECHAS\",IF(AF4=\"\",\"VERIFIQUE FECHAS\",IF(C4>=BN4,\"OK\",\"VERIFIQUE FECHAS\"))))","v":"VERIFIQUE FECHAS"},null,null,null,null,null,null,null,null,null,{"$f":"IF(D4=\"\",\"VERIFIQUE COLUMNA D\",IF(F4=\"\",\"VERIFIQUE COLUMNA F\",IF(H4=\"\",\"VERIFIQUE COLUMNA H\",IF(J4=\"\",\"VERIFIQUE COLUMNA J\",IF(K4=\"\",\"VERIFIQUE COLUMNA K\",IF(N4=\"\",\"VERIFIQUE COLUMNA N\",IF(U4=\"\",\"VERIFIQUE COLUMNA U\",IF(W4=\"\",\"VERIFIQUE COLUMNA W\",IF(Y4=\"\",\"VERIFIQUE COLUMNA Y\",IF(AF4=\"\",\"VERIFIQUE COLUMNA AF\",IF(AG4=\"\",\"VERIFIQUE COLUMNA AG\",IF(BB4=\"\",\"VERIFIQUE COLUMNA BB\",IF(BC4=\"\",\"VERIFIQUE COLUMNA BC\",IF(BE4=\"\",\"VERIFIQUE COLUMNA BE\",IF(BG4=\"\",\"VERIFIQUE COLUMNA BG\",IF(BN4=\"\",\"VERIFIQUE COLUMNA BN\",IF(BQ4=\"\",\"VERIFIQUE COLUMNA BQ\",IF(BZ4=\"\",\"VERIFIQUE COLUMNA BZ\",IF(EJ4=\"\",\"VERIFIQUE COLUMNA EJ\",IF(EK4=\"\",\"VERIFIQUE COLUMNA EK\",IF(FY4=\"\",\"VERIFIQUE COLUMNA FY\",IF(GC4=\"\",\"VERIFIQUE COLUMNA GC\",IF(GE4=\"\",\"VERIFIQUE COLUMNA GE\",\"Campos o.k.\")))))))))))))))))))))))","v":"VERIFIQUE COLUMNA D"}]
[{"$f":"IF(C5<>\"\",A4+1,\"\")","v":""},{"$f":"IF(AND($B$4<>\"\",C5<>\"\"),$B$4,\"\")","v":""},null,{"$f":"IF(AND(C5<>\"\",D4<>\"\"),D4,\"\")","v":""},{"$f":"IFERROR(VLOOKUP(D5,'CODIGO REGIONALES'!$J$2:$L$33,3,0),\"\")","v":""},{"$f":"IF(AND(C5<>\"\",F4<>\"\"),F4,\"\")","v":""},{"$f":"IF(ISNA(VLOOKUP(F5,Divipolas!$A$2:$B$1123,2,FALSE)),\"\",VLOOKUP(F5,Divipolas!$A$2:$B$1123,2,FALSE))","v":""},{"$f":"IF(AND(C5<>\"\",H4<>\"\"),H4,\"\")","v":""},{"$f":"IF(ISNA(VLOOKUP((CONCATENATE(F5,H5)),Divipolas!$F$2:$G$1123,2,FALSE)),\"\",VLOOKUP((CONCATENATE(F5,H5)),Divipolas!$F$2:$G$1123,2,FALSE))","v":""},{"$f":"IF(AND($C5<>\"\",J4<>\"\"),J4,\"\")","v":""},"","","","",{"$f":"IF(AND(C5<>\"\",O4<>\"\"),O4,\"\")","v":""},{"$f":"IF(AND(C5<>\"\",P4<>\"\"),P4,\"\")","v":""},{"$f":"IF(AND($C5<>\"\",Q4<>\"\"),Q4,\"\")","v":""},{"$f":"IF(ISNA(VLOOKUP(Q5,Divipolas!$A$2:$B$1123,2,FALSE)),\"\",VLOOKUP(Q5,Divipolas!$A$2:$B$1123,2,FALSE))","v":""},{"$f":"IF(AND($C5<>\"\",S4<>\"\"),S4,\"\")","v":""},{"$f":"IF(ISNA(VLOOKUP((CONCATENATE(Q5,S5)),Divipolas!$F$2:$G$1123,2,FALSE)),\"\",VLOOKUP((CONCATENATE(Q5,S5)),Divipolas!$F$2:$G$1123,2,FALSE))","v":""},{"$f":"IF(AND(BC5<>\"\",U4<>\"\"),U4,\"\")","v":""},{"$f":"IF(AND(BC5<>\"\",V4<>\"\"),V4,\"\")","v":""},{"$f":"IF(AND(BC5<>\"\",W4<>\"\"),W4,\"\")","v":""},{"$f":"IF(AND(BC5<>\"\",X4<>\"\"),X4,\"\")","v":""},{"$f":"IF(AND(BC5<>\"\",Y4<>\"\"),Y4,\"\")","v":""},{"$f":"IF(AND(BC5<>\"\",Z4<>\"\"),Z4,\"\")","v":""},{"$f":"IF(ISNA(VLOOKUP(Z5,'CODIGO PAIS'!$A$2:$B$231,2,FALSE)),\"\",VLOOKUP(Z5,'CODIGO PAIS'!$A$2:$B$231,2,FALSE))","v":""},{"$f":"IF(AND(BC5<>\"\",AB4<>\"\"),AB4,\"\")","v":""},{"$f":"IF(ISNA(VLOOKUP(AB5,Divipolas!$A$2:$B$1123,2,FALSE)),\"\",VLOOKUP(AB5,Divipolas!$A$2:$B$1123,2,FALSE))","v":""},{"$f":"IF(AND(BC5<>\"\",AD4<>\"\"),AD4,\"\")","v":""},{"$f":"IF(ISNA(VLOOKUP((CONCATENATE(AB5,AD5)),Divipolas!$F$2:$G$1123,2,FALSE)),\"\",VLOOKUP((CONCATENATE(AB5,AD5)),Divipolas!$F$2:$G$1123,2,FALSE))","v":""},{"$f":"IF(AND(BC5<>\"\",AF4<>\"\"),AF4,\"\")","v":""},{"$f":"IF(AND(BC5<>\"\",AG4<>\"\"),AG4,\"\")","v":""},{"$f":"IF(AND(BC5<>\"\",AH4<>\"\"),AH4,\"\")","v":""},{"$f":"IF(AND(BC5<>\"\",AI4<>\"\"),AI4,\"\")","v":""},{"$f":"IF(AND(BC5<>\"\",AJ4<>\"\"),AJ4,\"\")","v":""},{"$f":"IF(ISNA(VLOOKUP(AJ5,Divipolas!$A$2:$B$1123,2,FALSE)),\"\",VLOOKUP(AJ5,Divipolas!$A$2:$B$1123,2,FALSE))","v":""},{"$f":"IF(AND(BC5<>\"\",AL4<>\"\"),AL4,\"\")","v":""},{"$f":"IF(ISNA(VLOOKUP((CONCATENATE(AJ5,AL5)),Divipolas!$F$2:$G$1123,2,FALSE)),\"\",VLOOKUP((CONCATENATE(AJ5,AL5)),Divipolas!$F$2:$G$1123,2,FALSE))","v":""},{"$f":"IF(AND($BC5<>\"\",AN4<>\"\"),AN4,\"\")","v":""},"","","","","","",{"$f":"IF(AND($BC5<>\"\",AU4<>\"\"),AU4,\"\")","v":""},{"$f":"IF(AND(BC5<>\"\",AV4<>\"\"),AV4,\"\")","v":""},{"$f":"IF(AND(BC5<>\"\",AW4<>\"\"),AW4,\"\")","v":""},{"$f":"IF(AND(BC5<>\"\",AX4<>\"\"),AX4,\"\")","v":""},{"$f":"IF(AND(BC5<>\"\",AY4<>\"\"),AY4,\"\")","v":""},{"$f":"IF(AND(BC5<>\"\",AZ4<>\"\"),AZ4,\"\")","v":""},{"$f":"IF(AND(BC5<>\"\",BA4<>\"\"),BA4,\"\")","v":""},null,null,null,null,null,null,null,{"$f":"IF(ISNA(VLOOKUP(BH5,'CODIGO PAIS'!$A$2:$B$231,2,FALSE)),\"\",VLOOKUP(BH5,'CODIGO PAIS'!$A$2:$B$231,2,FALSE))","v":""},null,{"$f":"IF(ISNA(VLOOKUP(BJ5,Divipolas!$A$2:$B$1123,2,FALSE)),\"\",VLOOKUP(BJ5,Divipolas!$A$2:$B$1123,2,FALSE))","v":""},null,{"$f":"IF(ISNA(VLOOKUP((CONCATENATE(BJ5,BL5)),Divipolas!$F$2:$G$1123,2,FALSE)),\"\",VLOOKUP((CONCATENATE(BJ5,BL5)),Divipolas!$F$2:$G$1123,2,FALSE))","v":""},null,{"$f":"IF(OR(C5=\"\",BN5=\"\"),\"\",DATEDIF(BN5,C5,\"y\"))","v":""},{"$f":"IF(OR(C5=\"\",BN5=\"\"),\"\",DATEDIF(BN5,C5,\"ym\"))","v":""},null,null,null,null,{"$f":"IF(ISNA(VLOOKUP(BT5,Divipolas!$A$2:$B$1123,2,FALSE)),\"\",VLOOKUP(BT5,Divipolas!$A$2:$B$1123,2,FALSE))","v":""},null,{"$f":"IF(ISNA(VLOOKUP((CONCATENATE(BT5,BV5)),Divipolas!$F$2:$G$1123,2,FALSE)),\"\",VLOOKUP((CONCATENATE(BT5,BV5)),Divipolas!$F$2:$G$1123,2,FALSE))","v":""},null,null,null,null,null,null,null,null,null,null,null,null,null,null,null,null,null,null,null,null,null,null,null,{"$f":"IF(OR(BG5=\"\",BO5=\"\"),\"\",IF(AND(BG5=\"F\",BO5>=52),\"SI\",IF(AND(BG5=\"M\",BO5>=57),\"SI\",\"NO\")))","v":""},null,null,null,null,null,null,null,null,null,null,null,null,null,null,null,null,null,null,null,null,null,null,null,null,null,null,null,null,null,null,null,null,null,null,null,null,null,null,null,null,null,null,null,null,null,null,null,null,null,null,null,null,null,null,null,null,null,null,null,null,null,null,null,null,null,null,null,null,null,null,null,null,null,null,null,null,{"$f":"IF(C5<>\"\",(IF(AND((DATEDIF(BN5,C5,\"m\"))>=0,(DATEDIF(BN5,C5,\"m\"))<=59),INDI2,IF(CS5=\"SI\",INDI3,IF(AND((DATEDIF(BN5,C5,\"m\"))>59,(DATEDIF(BN5,C5,\"m\"))<=215),INDI4,\"\")))),\"\")","v":""},null,null,null,null,null,null,null,{"$f":"IF(C5=\"\",\"VERIFIQUE FECHAS\",IF(BN5=\"\",\"VERIFIQUE FECHAS\",IF(AF5=\"\",\"VERIFIQUE FECHAS\",IF(C5>=BN5,\"OK\",\"VERIFIQUE FECHAS\"))))","v":"VERIFIQUE FECHAS"},null,null,null,null,null,null,null,null,null,{"$f":"IF(D5=\"\",\"VERIFIQUE COLUMNA D\",IF(F5=\"\",\"VERIFIQUE COLUMNA F\",IF(H5=\"\",\"VERIFIQUE COLUMNA H\",IF(J5=\"\",\"VERIFIQUE COLUMNA J\",IF(K5=\"\",\"VERIFIQUE COLUMNA K\",IF(N5=\"\",\"VERIFIQUE COLUMNA N\",IF(U5=\"\",\"VERIFIQUE COLUMNA U\",IF(W5=\"\",\"VERIFIQUE COLUMNA W\",IF(Y5=\"\",\"VERIFIQUE COLUMNA Y\",IF(AF5=\"\",\"VERIFIQUE COLUMNA AF\",IF(AG5=\"\",\"VERIFIQUE COLUMNA AG\",IF(BB5=\"\",\"VERIFIQUE COLUMNA BB\",IF(BC5=\"\",\"VERIFIQUE COLUMNA BC\",IF(BE5=\"\",\"VERIFIQUE COLUMNA BE\",IF(BG5=\"\",\"VERIFIQUE COLUMNA BG\",IF(BN5=\"\",\"VERIFIQUE COLUMNA BN\",IF(BQ5=\"\",\"VERIFIQUE COLUMNA BQ\",IF(BZ5=\"\",\"VERIFIQUE COLUMNA BZ\",IF(EJ5=\"\",\"VERIFIQUE COLUMNA EJ\",IF(EK5=\"\",\"VERIFIQUE COLUMNA EK\",IF(FY5=\"\",\"VERIFIQUE COLUMNA FY\",IF(GC5=\"\",\"VERIFIQUE COLUMNA GC\",IF(GE5=\"\",\"VERIFIQUE COLUMNA GE\",\"Campos o.k.\")))))))))))))))))))))))","v":"VERIFIQUE COLUMNA D"}]

{"sheet":"CODIGO REGIONALES","index":3,"n_rows":210,"n_cols":12,"rows_kept":210,"cut":false,"hidden":true,"merged":[[0,0,0,5],[2,0,2,5]]}
["CENTROS ZONALES DEL ICBF",null,null,null,null,null,null,null,null,"NOMBRE REGIONAL","CODIGO REGIONAL","CODIGO REGIONAL CON 4 CARACTERES"]
[null,null,null,null,null,null,null,null,null,"REGIONAL ANTIOQUIA","05",{"$f":"CONCATENATE(\"00\",K2)","v":"0005"}]
["LISTADO DE  REGIONALES Y SUS CENTROS ZONALES  DEL ICBF",null,null,null,null,null,null,null,null,"REGIONAL ATLANTICO","08",{"$f":"CONCATENATE(\"00\",K3)","v":"0008"}]
["NOMBRE REGIONAL","CODIGO REGIONAL","NOMBRE CENTRO ZONAL","CODIGO CENTRO ZONAL","REG+CZ","CODIGO CENTRO ZONAL","CODIGO REGIONAL CON 4 CARACTERES",null,null,"REGIONAL BOGOTA","11","0011"]
["REGIONAL ANTIOQUIA","05","NORORIENTAL","0501",{"$f":"CONCATENATE(A5,C5)","v":"REGIONAL ANTIOQUIANORORIENTAL"},"0501","0005",null,null,"REGIONAL BOLIVAR","13","0013"]
["REGIONAL ANTIOQUIA","05","NOROCCIDENTAL","0502",{"$f":"CONCATENATE(A6,C6)","v":"REGIONAL ANTIOQUIANOROCCIDENTAL"},"0502","0005",null,null,"REGIONAL BOYACA","15","0015"]
["REGIONAL ANTIOQUIA","05","CENTRO","0503","REGIONAL ANTIOQUIACENTRO","0503","0005",null,null,"REGIONAL CALDAS","17","0017"]
["REGIONAL ANTIOQUIA","05","SUR ORIENTE","0504","REGIONAL ANTIOQUIASUR ORIENTE","0504","0005",null,null,"REGIONAL CAQUETA",18,"0018"]
["REGIONAL ANTIOQUIA","05","ABURRA NORTE","0505","REGIONAL ANTIOQUIAABURRA NORTE","0505","0005",null,null,"REGIONAL CAUCA","19","0019"]
["REGIONAL ANTIOQUIA","05","ABURRA SUR","0506","REGIONAL ANTIOQUIAABURRA SUR","0506","0005",null,null,"REGIONAL CESAR","20","0020"]
["REGIONAL ANTIOQUIA","05","BAJO CAUCA","0507","REGIONAL ANTIOQUIABAJO CAUCA","0507","0005",null,null,"REGIONAL CORDOBA","23","0023"]
["REGIONAL ANTIOQUIA","05","LA MESETA","0508","REGIONAL ANTIOQUIALA MESETA","0508","0005",null,null,"REGIONAL CUNDINAMARCA","25","0025"]
["REGIONAL ANTIOQUIA","05","MAGDALENA MEDIO","0509","REGIONAL ANTIOQUIAMAGDALENA MEDIO","0509","0005",null,null,"REGIONAL CHOCO","27","0027"]
["REGIONAL ANTIOQUIA","05","OCCIDENTE","0510","REGIONAL ANTIOQUIAOCCIDENTE","0510","0005",null,null,"REGIONAL HUILA","41","0041"]
["REGIONAL ANTIOQUIA","05","OCCIDENTE MEDIO","0511","REGIONAL ANTIOQUIAOCCIDENTE MEDIO","0511","0005",null,null,"REGIONAL LA GUAJIRA","44","0044"]
["REGIONAL ANTIOQUIA","05","ORIENTE","0512","REGIONAL ANTIOQUIAORIENTE","0512","0005",null,null,"REGIONAL MAGDALENA","47","0047"]
["REGIONAL ANTIOQUIA","05","PORCE NUS","0513","REGIONAL ANTIOQUIAPORCE NUS","0513","0005",null,null,"REGIONAL META","50","0050"]
["REGIONAL ANTIOQUIA","05","SUROESTE","0514","REGIONAL ANTIOQUIASUROESTE","0514","0005",null,null,"REGIONAL NARINO","52","0052"]
["REGIONAL ANTIOQUIA","05","PENDERISCO","0515","REGIONAL ANTIOQUIAPENDERISCO","0515","0005",null,null,"REGIONAL NORTE DE SANTANDER","54","0054"]
["REGIONAL ANTIOQUIA","05","URABA","0516","REGIONAL ANTIOQUIAURABA","0516","0005",null,null,"REGIONAL QUINDIO","63","0063"]
["REGIONAL ANTIOQUIA","05","ORIENTE MEDIO","0517","REGIONAL ANTIOQUIAORIENTE MEDIO","0517","0005",null,null,"REGIONAL RISARALDA","66","0066"]
["REGIONAL ATLANTICO","08","NORTE CENTRO HISTORICO","0801","REGIONAL ATLANTICONORTE CENTRO HISTORICO","0801","0008",null,null,"REGIONAL SANTANDER","68","0068"]
["REGIONAL ATLANTICO","08","SUROCCIDENTE","0802","REGIONAL ATLANTICOSUROCCIDENTE","0802","0008",null,null,"REGIONAL SUCRE","70","0070"]
["REGIONAL ATLANTICO","08","BARANOA","0803","REGIONAL ATLANTICOBARANOA","0803","0008",null,null,"REGIONAL TOLIMA","73","0073"]
["REGIONAL ATLANTICO","08","SABANALARGA","0804","REGIONAL ATLANTICOSABANALARGA","0804","0008",null,null,"REGIONAL VALLE DEL CAUCA","76","0076"]
["REGIONAL ATLANTICO","08","SABANAGRANDE","0805","REGIONAL ATLANTICOSABANAGRANDE","0805","0008",null,null,"REGIONAL ARAUCA","81","0081"]
["REGIONAL ATLANTICO","08","HIPODROMO","0806","REGIONAL ATLANTICOHIPODROMO","0806","0008",null,null,"REGIONAL CASANARE","85","0085"]
["REGIONAL ATLANTICO","08","SURORIENTE","0807","REGIONAL ATLANTICOSURORIENTE","0807","0008",null,null,"REGIONAL PUTUMAYO","86","0086"]
["REGIONAL BOGOTA","11","CIUDAD BOLIVAR","1101","REGIONAL BOGOTACIUDAD BOLIVAR","1101","0011",null,null,"REGIONAL AMAZONAS","91","0091"]
["REGIONAL BOGOTA","11","TUNJUELITO","1102","REGIONAL BOGOTATUNJUELITO","1102","0011",null,null,"REGIONAL GUAINIA","94","0094"]
["REGIONAL BOGOTA","11","USME","1103","REGIONAL BOGOTAUSME","1103","0011",null,null,"REGIONAL GUAVIARE","95","0095"]
["REGIONAL BOGOTA","11","SAN CRISTOBAL SUR","1104","REGIONAL BOGOTASAN CRISTOBAL SUR","1104","0011",null,null,"REGIONAL VAUPES","97","0097"]
["REGIONAL BOGOTA","11","KENNEDY","1105","REGIONAL BOGOTAKENNEDY","1105","0011",null,null,"REGIONAL VICHADA","99",{"$f":"CONCATENATE(\"00\",K33)","v":"0099"}]
["REGIONAL BOGOTA","11","REVIVIR","1106","REGIONAL BOGOTAREVIVIR","1106","0011"]
["REGIONAL BOGOTA","11","PUENTE ARANDA","1107","REGIONAL BOGOTAPUENTE ARANDA","1107","0011"]
["REGIONAL BOGOTA","11","BOSA","1108","REGIONAL BOGOTABOSA","1108","0011"]
["REGIONAL BOGOTA","11","RAFAEL URIBE","1109","REGIONAL BOGOTARAFAEL URIBE","1109","0011"]
["REGIONAL BOGOTA","11","SANTA FE","1110","REGIONAL BOGOTASANTA FE","1110","0011"]
["REGIONAL BOGOTA","11","FONTIBON","1111","REGIONAL BOGOTAFONTIBON","1111","0011"]
["REGIONAL BOGOTA","11","BARRIOS UNIDOS","1112","REGIONAL BOGOTABARRIOS UNIDOS","1112","0011"]
["REGIONAL BOGOTA","11","ENGATIVA","1113","REGIONAL BOGOTAENGATIVA","1113","0011"]
["REGIONAL BOGOTA","11","SUBA","1114","REGIONAL BOGOTASUBA","1114","0011"]
["REGIONAL BOGOTA","11","USAQUEN","1115","REGIONAL BOGOTAUSAQUEN","1115","0011"]
["REGIONAL BOGOTA","11","MARTIRES","1116","REGIONAL BOGOTAMARTIRES","1116","0011"]
["REGIONAL BOLIVAR","13","HISTORICO Y DEL CARIBE NORTE","1301","REGIONAL BOLIVARHISTORICO Y DEL CARIBE NORTE","1301","0013"]
["REGIONAL BOLIVAR","13","DE LA VIRGEN Y TURISTICO","1302","REGIONAL BOLIVARDE LA VIRGEN Y TURISTICO","1302","0013"]
["REGIONAL BOLIVAR","13","INDUSTRIAL DE LA BAHIA","1303","REGIONAL BOLIVARINDUSTRIAL DE LA BAHIA","1303","0013"]
["REGIONAL BOLIVAR","13","TURBACO","1304","REGIONAL BOLIVARTURBACO","1304","0013"]
["REGIONAL BOLIVAR","13","EL CARMEN DE BOLIVAR","1305","REGIONAL BOLIVAREL CARMEN DE BOLIVAR","1305","0013"]
["REGIONAL BOLIVAR","13","MAGANGUE","1306","REGIONAL BOLIVARMAGANGUE","1306","0013"]
["REGIONAL BOLIVAR","13","MOMPOX","1307","REGIONAL BOLIVARMOMPOX","1307","0013"]
["REGIONAL BOLIVAR","13","SIMITI","1308","REGIONAL BOLIVARSIMITI","1308","0013"]
["REGIONAL BOYACA","15","TUNJA 1","1501","REGIONAL BOYACATUNJA 1","1501","0015"]
["REGIONAL BOYACA","15","TUNJA 2","1502","REGIONAL BOYACATUNJA 2","1502","0015"]
["REGIONAL BOYACA","15","SOGAMOSO","1503","REGIONAL BOYACASOGAMOSO","1503","0015"]
["REGIONAL BOYACA","15","DUITAMA","1504","REGIONAL BOYACADUITAMA","1504","0015"]
["REGIONAL BOYACA","15","CHIQUINQUIRA","1505","REGIONAL BOYACACHIQUINQUIRA","1505","0015"]
["REGIONAL BOYACA","15","GARAGOA","1506","REGIONAL BOYACAGARAGOA","1506","0015"]
["REGIONAL BOYACA","15","PUERTO BOYACA","1507","REGIONAL BOYACAPUERTO BOYACA","1507","0015"]
["REGIONAL BOYACA","15","SOATA","1508","REGIONAL BOYACASOATA","1508","0015"]
["REGIONAL BOYACA","15","EL COCUY","1509","REGIONAL BOYACAEL COCUY","1509","0015"]
["REGIONAL BOYACA","15","MIRAFLORES","1510","REGIONAL BOYACAMIRAFLORES","1510","0015"]
["REGIONAL BOYACA","15","MONIQUIRA","1511","REGIONAL BOYACAMONIQUIRA","1511","0015"]
["REGIONAL BOYACA","15","OTANCHE","1512","REGIONAL BOYACAOTANCHE","1512","0015"]
["REGIONAL CALDAS","17","MANIZALES 1","1701","REGIONAL CALDASMANIZALES 1","1701","0017"]
["REGIONAL CALDAS","17","MANIZALES 2","1702","REGIONAL CALDASMANIZALES 2","1702","0017"]
["REGIONAL CALDAS","17","OCCIDENTE","1703","REGIONAL CALDASOCCIDENTE","1703","0017"]
["REGIONAL CALDAS","17","ORIENTE","1704","REGIONAL CALDASORIENTE","1704","0017"]
["REGIONAL CALDAS","17","NORTE","1705","REGIONAL CALDASNORTE","1705","0017"]
["REGIONAL CALDAS","17","SUR ORIENTE","1706",{"$f":"CONCATENATE(A70,C70)","v":"REGIONAL CALDASSUR ORIENTE"},"1706","0017"]
["REGIONAL CAQUETA",18,"FLORENCIA 1","1801","REGIONAL CAQUETAFLORENCIA 1","1801","0018"]
["REGIONAL CAQUETA","18","FLORENCIA 2","1802","REGIONAL CAQUETAFLORENCIA 2","1802","0018"]
["REGIONAL CAQUETA","18","PUERTO RICO","1803","REGIONAL CAQUETAPUERTO RICO","1803","0018"]
["REGIONAL CAQUETA","18","BELEN DE LOS ANDAQUIES","1804","REGIONAL CAQUETABELEN DE LOS ANDAQUIES","1804","0018"]
["REGIONAL CAUCA","19","POPAYAN","1901","REGIONAL CAUCAPOPAYAN","1901","0019"]
["REGIONAL CAUCA","19","CENTRO","1902","REGIONAL CAUCACENTRO","1902","0019"]
["REGIONAL CAUCA","19","INDIGENA","1903","REGIONAL CAUCAINDIGENA","1903","0019"]
["REGIONAL CAUCA","19","SUR","1904","REGIONAL CAUCASUR","1904","0019"]
["REGIONAL CAUCA","19","NORTE","1905","REGIONAL CAUCANORTE","1905","0019"]
["REGIONAL CAUCA","19","MACIZO COLOMBIANO","1906","REGIONAL CAUCAMACIZO COLOMBIANO","1906","0019"]
["REGIONAL CAUCA","19","COSTA PACIFICA","1907","REGIONAL CAUCACOSTA PACIFICA","1907","0019"]
["REGIONAL CESAR","20","VALLEDUPAR 1","2001","REGIONAL CESARVALLEDUPAR 1","2001","0020"]
["REGIONAL CESAR","20","VALLEDUPAR 2","2002","REGIONAL CESARVALLEDUPAR 2","2002","0020"]
["REGIONAL CESAR","20","CHIRIGUANA","2003","REGIONAL CESARCHIRIGUANA","2003","0020"]
["REGIONAL CESAR","20","AGUACHICA","2004","REGIONAL CESARAGUACHICA","2004","0020"]
["REGIONAL CESAR","20","AGUSTIN CODAZZI","2005","REGIONAL CESARAGUSTIN CODAZZI","2005","0020"]
["REGIONAL CORDOBA","23","MONTERIA 1","2301","REGIONAL CORDOBAMONTERIA 1","2301","0023"]
["REGIONAL CORDOBA","23","CERETE","2302","REGIONAL CORDOBACERETE","2302","0023"]
["REGIONAL CORDOBA","23","PLANETARICA","2303","REGIONAL CORDOBAPLANETARICA","2303","0023"]
["REGIONAL CORDOBA","23","TIERRALTA","2304","REGIONAL CORDOBATIERRALTA","2304","0023"]
["REGIONAL CORDOBA","23","MONTELIBANO","2305","REGIONAL CORDOBAMONTELIBANO","2305","0023"]
["REGIONAL CORDOBA","23","LORICA","2306","REGIONAL CORDOBALORICA","2306","0023"]
["REGIONAL CORDOBA","23","SAHAGUN","2307","REGIONAL CORDOBASAHAGUN","2307","0023"]
["REGIONAL CORDOBA","23","SAN ANDRES DE SOTAVENTO","2308","REGIONAL CORDOBASAN ANDRES DE SOTAVENTO","2308","0023"]
["REGIONAL CUNDINAMARCA","25","SOACHA","2501","REGIONAL CUNDINAMARCASOACHA","2501","0025"]
["REGIONAL CUNDINAMARCA","25","ZIPAQUIRA","2502","REGIONAL CUNDINAMARCAZIPAQUIRA","2502","0025"]
["REGIONAL CUNDINAMARCA","25","CHOCONTA","2503","REGIONAL CUNDINAMARCACHOCONTA","2503","0025"]
["REGIONAL CUNDINAMARCA","25","PACHO","2504","REGIONAL CUNDINAMARCAPACHO","2504","0025"]
["REGIONAL CUNDINAMARCA","25","VILLETA","2505","REGIONAL CUNDINAMARCAVILLETA","2505","0025"]
["REGIONAL CUNDINAMARCA","25","FACATATIVA","2506","REGIONAL CUNDINAMARCAFACATATIVA","2506","0025"]
["REGIONAL CUNDINAMARCA","25","FUSAGASUGA","2507","REGIONAL CUNDINAMARCAFUSAGASUGA","2507","0025"]
["REGIONAL CUNDINAMARCA","25","CAQUEZA","2508","REGIONAL CUNDINAMARCACAQUEZA","2508","0025"]
["REGIONAL CUNDINAMARCA","25","GACHETA","2509","REGIONAL CUNDINAMARCAGACHETA","2509","0025"]
["REGIONAL CUNDINAMARCA","25","GIRARDOT","2510","REGIONAL CUNDINAMARCAGIRARDOT","2510","0025"]
["REGIONAL CUNDINAMARCA","25","LA MESA","2511","REGIONAL CUNDINAMARCALA MESA","2511","0025"]
["REGIONAL CUNDINAMARCA","25","UBATE","2512","REGIONAL CUNDINAMARCAUBATE","2512","0025"]
["REGIONAL CUNDINAMARCA","25","SAN JUAN DE RIOSECO","2513","REGIONAL CUNDINAMARCASAN JUAN DE RIOSECO","2513","0025"]
["REGIONAL CHOCO","27","QUIBDO","2701","REGIONAL CHOCOQUIBDO","2701","0027"]
["REGIONAL CHOCO","27","ISTMINA","2702","REGIONAL CHOCOISTMINA","2702","0027"]
["REGIONAL CHOCO","27","BAHIA SOLANO","2703","REGIONAL CHOCOBAHIA SOLANO","2703","0027"]
["REGIONAL CHOCO","27","RIOSUCIO","2704","REGIONAL CHOCORIOSUCIO","2704","0027"]
["REGIONAL CHOCO","27","TADO","2705","REGIONAL CHOCOTADO","2705","0027"]
["REGIONAL HUILA","41","NEIVA","4101","REGIONAL HUILANEIVA","4101","0041"]
["REGIONAL HUILA","41","GARZON","4102","REGIONAL HUILAGARZON","4102","0041"]
["REGIONAL HUILA","41","LA PLATA","4103","REGIONAL HUILALA PLATA","4103","0041"]
["REGIONAL HUILA","41","PITALITO","4104","REGIONAL HUILAPITALITO","4104","0041"]
["REGIONAL HUILA","41","LA GAITANA","4105","REGIONAL HUILALA GAITANA","4105","0041"]
["REGIONAL LA GUAJIRA","44","RIOHACHA 1","4401","REGIONAL LA GUAJIRARIOHACHA 1","4401","0044"]
["REGIONAL LA GUAJIRA","44","RIOHACHA 2","4402","REGIONAL LA GUAJIRARIOHACHA 2","4402","0044"]
["REGIONAL LA GUAJIRA","44","FONSECA","4403","REGIONAL LA GUAJIRAFONSECA","4403","0044"]
["REGIONAL LA GUAJIRA","44","MANAURE","4404","REGIONAL LA GUAJIRAMANAURE","4404","0044"]
["REGIONAL LA GUAJIRA","44","MAICAO","4405","REGIONAL LA GUAJIRAMAICAO","4405","0044"]
["REGIONAL MAGDALENA","47","SANTA MARTA 1","4701","REGIONAL MAGDALENASANTA MARTA 1","4701","0047"]
["REGIONAL MAGDALENA","47","SANTA MARTA 2","4702","REGIONAL MAGDALENASANTA MARTA 2","4702","0047"]
["REGIONAL MAGDALENA","47","SANTA MARTA 3","4703","REGIONAL MAGDALENASANTA MARTA 3","4703","0047"]
["REGIONAL MAGDALENA","47","CIENAGA","4704","REGIONAL MAGDALENACIENAGA","4704","0047"]
["REGIONAL MAGDALENA","47","FUNDACION","4705",{"$f":"CONCATENATE(A127,C127)","v":"REGIONAL MAGDALENAFUNDACION"},"4705","0047"]
["REGIONAL MAGDALENA","47","PLATO","4706","REGIONAL MAGDALENAPLATO","4706","0047"]
["REGIONAL MAGDALENA","47","EL BANCO","4707","REGIONAL MAGDALENAEL BANCO","4707","0047"]
["REGIONAL MAGDALENA","47","SANTA ANA","4708","REGIONAL MAGDALENASANTA ANA","4708","0047"]
["REGIONAL META","50","VILLAVICENCIO 1","5001","REGIONAL METAVILLAVICENCIO 1","5001","0050"]
["REGIONAL META","50","VILLAVICENCIO 2","5002","REGIONAL METAVILLAVICENCIO 2","5002","0050"]
["REGIONAL META","50","GRANADA","5003","REGIONAL METAGRANADA","5003","0050"]
["REGIONAL META","50","ACACIAS","5004",{"$f":"CONCATENATE(A134,C134)","v":"REGIONAL METAACACIAS"},"5004","0050"]
["REGIONAL META","50","PUERTO LOPEZ","5005","REGIONAL METAPUERTO LOPEZ","5005","0050"]
["REGIONAL NARINO","52","PASTO 1","5201","REGIONAL NARINOPASTO 1","5201","0052"]
["REGIONAL NARINO","52","PASTO 2","5202","REGIONAL NARINOPASTO 2","5202","0052"]
["REGIONAL NARINO","52","TUMACO","5203","REGIONAL NARINOTUMACO","5203","0052"]
["REGIONAL NARINO","52","IPIALES","5204","REGIONAL NARINOIPIALES","5204","0052"]
["REGIONAL NARINO","52","TUQUERRES","5205","REGIONAL NARINOTUQUERRES","5205","0052"]
["REGIONAL NARINO","52","LA UNION","5206","REGIONAL NARINOLA UNION","5206","0052"]
["REGIONAL NARINO","52","BARBACOAS","5207","REGIONAL NARINOBARBACOAS","5207","0052"]
["REGIONAL NARINO","52","REMOLINO","5208","REGIONAL NARINOREMOLINO","5208","0052"]
["REGIONAL NORTE DE SANTANDER","54","CUCUTA 1","5401","REGIONAL NORTE DE SANTANDERCUCUTA 1","5401","0054"]
["REGIONAL NORTE DE SANTANDER","54","CUCUTA 2","5402","REGIONAL NORTE DE SANTANDERCUCUTA 2","5402","0054"]
["REGIONAL NORTE DE SANTANDER","54","CUCUTA 3","5403","REGIONAL NORTE DE SANTANDERCUCUTA 3","5403","0054"]
["REGIONAL NORTE DE SANTANDER","54","OCANA","5404","REGIONAL NORTE DE SANTANDEROCANA","5404","0054"]
["REGIONAL NORTE DE SANTANDER","54","PAMPLONA","5405","REGIONAL NORTE DE SANTANDERPAMPLONA","5405","0054"]
["REGIONAL NORTE DE SANTANDER","54","TIBU","5406","REGIONAL NORTE DE SANTANDERTIBU","5406","0054"]
["REGIONAL QUINDIO","63","ARMENIA SUR","6301","REGIONAL QUINDIOARMENIA SUR","6301","0063"]
["REGIONAL QUINDIO","63","ARMENIA NORTE","6302","REGIONAL QUINDIOARMENIA NORTE","6302","0063"]
["REGIONAL QUINDIO","63","CALARCA","6303","REGIONAL QUINDIOCALARCA","6303","0063"]
["REGIONAL RISARALDA","66","PEREIRA","6601","REGIONAL RISARALDAPEREIRA","6601","0066"]
["REGIONAL RISARALDA","66","LA VIRGINIA","6602","REGIONAL RISARALDALA VIRGINIA","6602","0066"]
["REGIONAL RISARALDA","66","DOS QUEBRADAS","6603","REGIONAL RISARALDADOS QUEBRADAS","6603","0066"]
["REGIONAL RISARALDA","66","BELEN DE UMBRIA","6604","REGIONAL RISARALDABELEN DE UMBRIA","6604","0066"]
["REGIONAL RISARALDA","66","SANTA ROSA DE CABAL","6605","REGIONAL RISARALDASANTA ROSA DE CABAL","6605","0066"]
["REGIONAL SANTANDER","68","BUCARAMANGA NORTE","6801","REGIONAL SANTANDERBUCARAMANGA NORTE","6801","0068"]
["REGIONAL SANTANDER","68","BUCARAMANGA SUR","6802","REGIONAL SANTANDERBUCARAMANGA SUR","6802","0068"]
["REGIONAL SANTANDER","68","CARLOS LLERAS RESTREPO","6803","REGIONAL SANTANDERCARLOS LLERAS RESTREPO","6803","0068"]
["REGIONAL SANTANDER","68","LUIS CARLOS GALAN SARMIENTO","6804","REGIONAL SANTANDERLUIS CARLOS GALAN SARMIENTO","6804","0068"]
["REGIONAL SANTANDER","68","YARIQUIES","6805","REGIONAL SANTANDERYARIQUIES","6805","0068"]
["REGIONAL SANTANDER","68","LA FLORESTA","6806","REGIONAL SANTANDERLA FLORESTA","6806","0068"]
["REGIONAL SANTANDER","68","SAN GIL","6807","REGIONAL SANTANDERSAN GIL","6807","0068"]
["REGIONAL SANTANDER","68","SOCORRO","6808","REGIONAL SANTANDERSOCORRO","6808","0068"]
["REGIONAL SANTANDER","68","VELEZ","6809","REGIONAL SANTANDERVELEZ","6809","0068"]
["REGIONAL SANTANDER","68","MALAGA","6810","REGIONAL SANTANDERMALAGA","6810","0068"]
["REGIONAL SUCRE","70","BOSTON","7001","REGIONAL SUCREBOSTON","7001","0070"]
["REGIONAL SUCRE","70","NORTE","7002","REGIONAL SUCRENORTE","7002","0070"]
["REGIONAL SUCRE","70","SINCELEJO","7003","REGIONAL SUCRESINCELEJO","7003","0070"]
["REGIONAL SUCRE","70","LA MOJANA","7004","REGIONAL SUCRELA MOJANA","7004","0070"]
["REGIONAL TOLIMA","73","JORDAN","7301","REGIONAL TOLIMAJORDAN","7301","0073"]
["REGIONAL TOLIMA","73","GALAN","7302","REGIONAL TOLIMAGALAN","7302","0073"]
["REGIONAL TOLIMA","73","IBAGUE","7303","REGIONAL TOLIMAIBAGUE","7303","0073"]
["REGIONAL TOLIMA","73","LIBANO","7304","REGIONAL TOLIMALIBANO","7304","0073"]
["REGIONAL TOLIMA","73","LERIDA","7305","REGIONAL TOLIMALERIDA","7305","0073"]
["REGIONAL TOLIMA","73","HONDA","7306","REGIONAL TOLIMAHONDA","7306","0073"]
["REGIONAL TOLIMA","73","ESPINAL","7307","REGIONAL TOLIMAESPINAL","7307","0073"]
["REGIONAL TOLIMA","73","CHAPARRAL","7308","REGIONAL TOLIMACHAPARRAL","7308","0073"]
["REGIONAL TOLIMA","73","PURIFICACION","7309","REGIONAL TOLIMAPURIFICACION","7309","0073"]
["REGIONAL VALLE DEL CAUCA","76","SURORIENTAL","7601","REGIONAL VALLE DEL CAUCASURORIENTAL","7601","0076"]
["REGIONAL VALLE DEL CAUCA","76","NORORIENTAL","7602","REGIONAL VALLE DEL CAUCANORORIENTAL","7602","0076"]
["REGIONAL VALLE DEL CAUCA","76","LADERA","7603","REGIONAL VALLE DEL CAUCALADERA","7603","0076"]
["REGIONAL VALLE DEL CAUCA","76","CENTRO","7604","REGIONAL VALLE DEL CAUCACENTRO","7604","0076"]
["REGIONAL VALLE DEL CAUCA","76","SUR","7605","REGIONAL VALLE DEL CAUCASUR","7605","0076"]
["REGIONAL VALLE DEL CAUCA","76","JAMUNDI","7606","REGIONAL VALLE DEL CAUCAJAMUNDI","7606","0076"]
["REGIONAL VALLE DEL CAUCA","76","YUMBO","7607","REGIONAL VALLE DEL CAUCAYUMBO","7607","0076"]
["REGIONAL VALLE DEL CAUCA","76","PALMIRA","7608","REGIONAL VALLE DEL CAUCAPALMIRA","7608","0076"]
["REGIONAL VALLE DEL CAUCA","76","BUGA","7609","REGIONAL VALLE DEL CAUCABUGA","7609","0076"]
["REGIONAL VALLE DEL CAUCA","76","TULUA","7610","REGIONAL VALLE DEL CAUCATULUA","7610","0076"]
["REGIONAL VALLE DEL CAUCA","76","SEVILLA","7611","REGIONAL VALLE DEL CAUCASEVILLA","7611","0076"]
["REGIONAL VALLE DEL CAUCA","76","ROLDANILLO","7612","REGIONAL VALLE DEL CAUCAROLDANILLO","7612","0076"]
["REGIONAL VALLE DEL CAUCA","76","CARTAGO","7613","REGIONAL VALLE DEL CAUCACARTAGO","7613","0076"]
["REGIONAL VALLE DEL CAUCA","76","BUENAVENTURA","7614","REGIONAL VALLE DEL CAUCABUENAVENTURA","7614","0076"]
["REGIONAL ARAUCA","81","ARAUCA","8101","REGIONAL ARAUCAARAUCA","8101","0081"]
["REGIONAL ARAUCA","81","SARAVENA","8102","REGIONAL ARAUCASARAVENA","8102","0081"]
["REGIONAL ARAUCA","81","TAME","8103","REGIONAL ARAUCATAME","8103","0081"]
["REGIONAL CASANARE","85","YOPAL","8501",{"$f":"CONCATENATE(A198,C198)","v":"REGIONAL CASANAREYOPAL"},"8501","0085"]
["REGIONAL CASANARE","85","PAZ DE ARIPORO","8502","REGIONAL CASANAREPAZ DE ARIPORO","8502","0085"]
["REGIONAL CASANARE","85","VILLANUEVA","8503","REGIONAL CASANAREVILLANUEVA","8503","0085"]
["REGIONAL PUTUMAYO","86","MOCOA","8601","REGIONAL PUTUMAYOMOCOA","8601","0086"]
["REGIONAL PUTUMAYO","86","SIBUNDOY","8602","REGIONAL PUTUMAYOSIBUNDOY","8602","0086"]
["REGIONAL PUTUMAYO","86","PUERTO ASIS","8603","REGIONAL PUTUMAYOPUERTO ASIS","8603","0086"]
["REGIONAL PUTUMAYO","86","LA HORMIGA","8604","REGIONAL PUTUMAYOLA HORMIGA","8604","0086"]
["REGIONAL SAN ANDRES","88","LOS ALMENDROS","8801","REGIONAL SAN ANDRESLOS ALMENDROS","8801","0088"]
["REGIONAL AMAZONAS","91","SECCIONAL AMAZONAS",9100,"REGIONAL AMAZONASSECCIONAL AMAZONAS","9101","0091"]
["REGIONAL GUAINIA","94","SECCIONAL GUANIA",9400,"REGIONAL GUAINIASECCIONAL GUANIA","9401","0094"]
["REGIONAL GUAVIARE","95","SECCIONAL GUAVIARE",9500,"REGIONAL GUAVIARESECCIONAL GUAVIARE","9501","0095"]
["REGIONAL VAUPES","97","SECCIONAL VAUPES",9700,"REGIONAL VAUPESSECCIONAL VAUPES","9701","0097"]
["REGIONAL VICHADA","99","SECCIOANL VICHADA",9900,"REGIONAL VICHADASECCIOANL VICHADA","9901 ","0099"]

{"sheet":"municipio","index":4,"n_rows":126,"n_cols":33,"rows_kept":126,"cut":false,"hidden":true,"merged":[]}
["AMAZONAS","ANTIOQUIA","ARAUCA","ARCH_DE_SAN ANDRES PROVIDENCIA_Y _SANTA_ CATALINA","ATLANTICO","BOGOTA_DC","BOLIVAR","BOYACA","CALDAS","CAQUETA","CASANARE","CAUCA","CESAR","CHOCO","CORDOBA","CUNDINAMARCA","GUAINIA","GUAVIARE","HUILA","LA GUAJIRA","MAGDALENA","META","NARINO","NORTE DE SANTANDER","PUTUMAYO","QUINDIO","RISARALDA","SANTANDER","SUCRE","TOLIMA","VALLE_DEL_CAUCA","VAUPES","VICHADA"]
["EL ENCANTO","ABEJORRAL","ARAUCA","PROVIDENCIA","BARANOA","BOGOTA DC","ACHI","ALMEIDA","AGUADAS","ALBANIA","AGUAZUL","ALMAGUER","AGUACHICA","ACANDI","AYAPEL","AGUA DE DIOS","BARRANCO MINAS","CALAMAR","ACEVEDO","ALBANIA","ALGARROBO","ACACIAS","ALBAN","ABREGO","COLON","ARMENIA","APIA","AGUADA","BUENAVISTA","ALPUJARRA","ALCALA","CARURU","CUMARIBO"]
["LA CHORRERA","ABRIAQUI","ARAUQUITA","SAN ANDRES","BARRANQUILLA",null,"ALTOS DEL ROSARIO","AQUITANIA","ANSERMA","BELEN DE LOS ANDAQUIES","CHAMEZA","ARGELIA","AGUSTIN CODAZZI","ALTO BAUDO","BUENAVISTA","ALBAN","CACAHUAL","EL RETORNO","AGRADO","BARRANCAS","ARACATACA","BARRANCA DE UPIA","ALDANA","ARBOLEDAS","MOCOA","BUENAVISTA","BALBOA","ALBANIA","CAIMITO","ALVARADO","ANDALUCIA","MITU","LA PRIMAVERA"]
["LA PEDRERA","ALEJANDRIA","CRAVO NORTE",null,"CAMPO DE LA CRUZ",null,"ARENAL","ARCABUCO","ARANZAZU","CARTAGENA DEL CHAIRA","HATO COROZAL","BALBOA","ASTREA","ATRATO","CANALETE","ANAPOIMA","INIRIDA","MIRAFLORES","AIPE","DIBULLA","ARIGUANI","CABUYARO","ANCUYA","BOCHALEMA","ORITO","CALARCA","BELEN DE UMBRIA","ARATOCA","CHALAN","AMBALEMA","ANSERMANUEVO","PACOA","PUERTO CARRENO"]
["LA VICTORIA","AMAGA","FORTUL",null,"CANDELARIA",null,"ARJONA","BELEN","BELALCAZAR","CURILLO","LA SALINA","BOLIVAR","BECERRIL","BAGADO","CERETE","ANOLAIMA","LA GUADALUPE","SAN JOSE DEL GUAVIARE","ALGECIRAS","DISTRACCION","CERRO SAN ANTONIO","CASTILLA LA NUEVA","ARBOLEDA","BUCARASICA","PUERTO ASIS","CIRCASIA","DOSQUEBRADAS","BARBOSA","COLOSO","ANZOATEGUI","ARGELIA","PAPUNAUA","SANTA ROSALIA"]
["LETICIA","AMALFI","PUERTO RONDON",null,"GALAPA",null,"ARROYOHONDO","BERBEO","CHINCHINA","EL DONCELLO","MANI","BUENOS AIRES","BOSCONIA","BAHIA SOLANO","CHIMA","APULO","MAPIRIPANA",null,"ALTAMIRA","EL MOLINO","CHIBOLO","CUBARRAL","BARBACOAS","CACHIRA","PUERTO CAICEDO","CORDOBA","GUATICA","BARICHARA","COROZAL","ARMERO","BOLIVAR","TARAIRA"]
["MIRITI - PARANA","ANDES","SARAVENA",null,"JUAN DE ACOSTA",null,"BARRANCO DE LOBA","BETEITIVA","FILADELFIA","EL PAUJIL","MONTERREY","CAJIBIO","CHIMICHAGUA","BAJO BAUDO","CHINU","ARBELAEZ","MORICHAL",null,"BARAYA","FONSECA","CIENAGA","CUMARAL","BELEN","CACOTA","PUERTO GUZMAN","FILANDIA","LA CELIA","BARRANCABERMEJA","COVENAS","ATACO","BUENAVENTURA","YAVARATE"]
["PUERTO ALEGRIA","ANGELOPOLIS","TAME",null,"LURUACO",null,"CALAMAR","BOAVITA","LA DORADA","FLORENCIA","NUNCHIA","CALDONO","CHIRIGUANA","BOJAYA","CIENAGA DE ORO","BELTRAN","PANA PANA",null,"CAMPOALEGRE","HATONUEVO","CONCORDIA","EL CALVARIO","BUESACO","CHINACOTA","PUERTO LEGUIZAMO","GENOVA","LA VIRGINIA","BETULIA","EL ROBLE","CAJAMARCA","BUGALAGRANDE"]
["PUERTO ARICA","ANGOSTURA",null,null,"MALAMBO",null,"CANTAGALLO","BOYACA","LA MERCED","LA MONTANITA","OROCUE","CALOTO","CURUMANI","CARMEN DEL DARIEN","COTORRA","BITUIMA","PUERTO COLOMBIA",null,"COLOMBIA","LA JAGUA DEL PILAR","EL BANCO","EL CASTILLO","CHACHAGUI","CHITAGA","SAN FRANCISCO","LA TEBAIDA","MARSELLA","BOLIVAR","GALERAS","CARMEN DE APICALA","CAICEDONIA"]
["PUERTO NARINO","ANORI",null,null,"MANATI",null,"CARTAGENA","BRICENO","MANIZALES","MILAN","PAZ DE ARIPORO","CORINTO","EL COPEY","CERTEGUI","LA APARTADA","BOJACA","SAN FELIPE",null,"ELIAS","MAICAO","EL PINON","EL DORADO","COLON","CONVENCION","SAN MIGUEL","MONTENEGRO","MISTRATO","BUCARAMANGA","GUARANDA","CASABIANCA","CALI"]
["PUERTO SANTANDER","ANZA",null,null,"PALMAR DE VARELA",null,"CICUCO","BUENAVISTA","MANZANARES","MORELIA","PORE","EL TAMBO","EL PASO","CONDOTO","LORICA","CABRERA",null,null,"GARZON","MANAURE","EL RETEN","FUENTE DE ORO","CONSACA","CUCUTA","SANTIAGO","PIJAO","PEREIRA","CABRERA","LA UNION","CHAPARRAL","CALIMA"]
["TARAPACA","APARTADO",null,null,"PIOJO",null,"CLEMENCIA","BUSBANZA","MARMATO","PUERTO RICO","RECETOR","FLORENCIA","GAMARRA","EL CANTON DEL SAN PABLO","LOS CORDOBAS","CACHIPAY",null,null,"GIGANTE","RIOHACHA","FUNDACION","GRANADA","CONTADERO","CUCUTILLA","SIBUNDOY","QUIMBAYA","PUEBLO RICO","CALIFORNIA","LOS PALMITOS","COELLO","CANDELARIA"]
[null,"ARBOLETES",null,null,"POLONUEVO",null,"CORDOBA","CALDAS","MARQUETALIA","SAN JOSE DEL FRAGUA","SABANALARGA","GUACHENE","GONZALEZ","EL CARMEN DE ATRATO","MOMIL","CAJICA",null,null,"GUADALUPE","SAN JUAN DEL CESAR","GUAMAL","GUAMAL","CORDOBA","DURANIA","VALLE DEL GUAMUEZ","SALENTO","QUINCHIA","CAPITANEJO","MAJAGUAL","COYAIMA","CARTAGO"]
[null,"ARGELIA",null,null,"PONEDERA",null,"EL CARMEN DE BOLIVAR","CAMPOHERMOSO","MARULANDA","SAN VICENTE DEL CAGUAN","SACAMA","GUAPI","LA GLORIA","EL LITORAL DEL SAN JUAN","MONTELIBANO","CAPARRAPI",null,null,"HOBO","URIBIA","NUEVA GRANADA","LA MACARENA","CUASPUD","EL CARMEN","VILLAGARZON",null,"SANTA ROSA DE CABAL","CARCASI","MORROA","CUNDAY","DAGUA"]
[null,"ARMENIA",null,null,"PUERTO COLOMBIA",null,"EL GUAMO","CERINZA","NEIRA","SOLANO","SAN LUIS DE PALENQUE","INZA","LA JAGUA DE IBIRICO","ISTMINA","MONTERIA","CAQUEZA",null,null,"IQUIRA","URUMITA","PEDRAZA","LEJANIAS","CUMBAL","EL TARRA",null,null,"SANTUARIO","CEPITA","OVEJAS","DOLORES","EL AGUILA"]
[null,"BARBOSA",null,null,"REPELON",null,"EL PENON","CHINAVITA","NORCASIA","SOLITA","TAMARA","JAMBALO","LA PAZ","JURADO","MONITOS","CARMEN DE CARUPA",null,null,"ISNOS","VILLANUEVA","PIJINO DEL CARMEN","MAPIRIPAN","CUMBITARA","EL ZULIA",null,null,null,"CERRITO","PALMITO","ESPINAL","EL CAIRO"]
[null,"BELLO",null,null,"SABANAGRANDE",null,"HATILLO DE LOBA","CHIQUINQUIRA","PACORA","VALPARAISO","TAURAMENA","LA SIERRA","MANAURE","LLORO","PLANETA RICA","CHAGUANI",null,null,"LA ARGENTINA",null,"PIVIJAY","MESETAS","EL CHARCO","GRAMALOTE",null,null,null,"CHARALA","SAMPUES","FALAN","EL CERRITO"]
[null,"BELMIRA",null,null,"SABANALARGA",null,"MAGANGUE","CHIQUIZA","PALESTINA",null,"TRINIDAD","LA VEGA","PAILITAS","MEDIO ATRATO","PUEBLO NUEVO","CHIA",null,null,"LA PLATA",null,"PLATO","PUERTO CONCORDIA","EL PENOL","HACARI",null,null,null,"CHARTA","SAN BENITO ABAD","FLANDES","EL DOVIO"]
[null,"BETANIA",null,null,"SANTA LUCIA",null,"MAHATES","CHISCAS","PENSILVANIA",null,"VILLANUEVA","LOPEZ","PELAYA","MEDIO BAUDO","PUERTO ESCONDIDO","CHIPAQUE",null,null,"NATAGA",null,"PUEBLOVIEJO","PUERTO GAITAN","EL ROSARIO","HERRAN",null,null,null,"CHIMA","SAN JUAN DE BETULIA","FRESNO","FLORIDA"]
[null,"BETULIA",null,null,"SANTO TOMAS",null,"MARGARITA","CHITA","RIOSUCIO",null,"YOPAL","MERCADERES","PUEBLO BELLO","MEDIO SAN JUAN","PUERTO LIBERTADOR","CHOACHI",null,null,"NEIVA",null,"REMOLINO","PUERTO LLERAS","EL TABLON DE GOMEZ","LA ESPERANZA",null,null,null,"CHIPATA","SAN LUIS DE SINCE","GUAMO","GINEBRA"]
[null,"BRICENO",null,null,"SOLEDAD",null,"MARIA LA BAJA","CHITARAQUE","RISARALDA",null,null,"MIRANDA","RIO DE ORO","NOVITA","PURISIMA","CHOCONTA",null,null,"OPORAPA",null,"SABANAS DE SAN ANGEL","PUERTO LOPEZ","EL TAMBO","LA PLAYA",null,null,null,"CIMITARRA","SAN MARCOS","HERVEO","GUACARI"]
[null,"BURITICA",null,null,"SUAN",null,"MOMPOS","CHIVATA","SALAMINA",null,null,"MORALES","SAN ALBERTO","NUQUI","SAHAGUN","COGUA",null,null,"PAICOL",null,"SALAMINA","PUERTO RICO","FRANCISCO PIZARRO","LABATECA",null,null,null,"CONCEPCION","SAN ONOFRE","HONDA","GUADALAJARA DE BUGA"]
[null,"CACERES",null,null,"TUBARA",null,"MONTECRISTO","CHIVOR","SAMANA",null,null,"PADILLA","SAN DIEGO","QUIBDO","SAN ANDRES SOTAVENTO","COTA",null,null,"PALERMO",null,"SAN SEBASTIAN DE BUENAVISTA","RESTREPO","FUNES","LOS PATIOS",null,null,null,"CONFINES","SAN PEDRO","IBAGUE","JAMUNDI"]
[null,"CAICEDO",null,null,"USIACURI",null,"MORALES","CIENEGA","SAN JOSE",null,null,"PAEZ","SAN MARTIN","RIO IRO","SAN ANTERO","CUCUNUBA",null,null,"PALESTINA",null,"SAN ZENON","SAN CARLOS DE GUAROA","GUACHUCAL","LOURDES",null,null,null,"CONTRATACION","SANTIAGO DE TOLU","ICONONZO","LA CUMBRE"]
[null,"CALDAS",null,null,null,null,"NOROSI","COMBITA","SUPIA",null,null,"PATIA","TAMALAMEQUE","RIO QUITO","SAN BERNARDO DEL VIENTO","EL COLEGIO",null,null,"PITAL",null,"SANTA ANA","SAN JUAN DE ARAMA","GUAITARILLA","MUTISCUA",null,null,null,"COROMORO","SINCELEJO","LERIDA","LA UNION"]
[null,"CAMPAMENTO",null,null,null,null,"PINILLOS","COPER","VICTORIA",null,null,"PIAMONTE","VALLEDUPAR","RIOSUCIO","SAN CARLOS","EL PENON",null,null,"PITALITO",null,"SANTA BARBARA DE PINTO","SAN JUANITO","GUALMATAN","OCANA",null,null,null,"CURITI","SUCRE","LIBANO","LA VICTORIA"]
[null,"CANASGORDAS",null,null,null,null,"REGIDOR","CORRALES","VILLAMARIA",null,null,"PIENDAMO",null,"SAN JOSE DEL PALMAR","SAN JOSE DE URE","EL ROSAL",null,null,"RIVERA",null,"SANTA MARTA","SAN MARTIN","ILES","PAMPLONA",null,null,null,"EL CARMEN DE CHUCURI","TOLU VIEJO","MELGAR","OBANDO"]
[null,"CARACOLI",null,null,null,null,"RIO VIEJO","COVARACHIA","VITERBO",null,null,"POPAYAN",null,"SIPI","SAN PELAYO","FACATATIVA",null,null,"SALADOBLANCO",null,"SITIONUEVO","URIBE","IMUES","PAMPLONITA",null,null,null,"EL GUACAMAYO",null,"MURILLO","PALMIRA"]
[null,"CARAMANTA",null,null,null,null,"SAN CRISTOBAL","CUBARA",null,null,null,"PUERTO TEJADA",null,"TADO","TIERRALTA","FOMEQUE",null,null,"SAN AGUSTIN",null,"TENERIFE","VILLAVICENCIO","IPIALES","PUERTO SANTANDER",null,null,null,"EL PENON",null,"NATAGAIMA","PRADERA"]
[null,"CAREPA",null,null,null,null,"SAN ESTANISLAO","CUCAITA",null,null,null,"PURACE",null,"UNGUIA","TUCHIN","FOSCA",null,null,"SANTA MARIA",null,"ZAPAYAN","VISTAHERMOSA","LA CRUZ","RAGONVALIA",null,null,null,"EL PLAYON",null,"ORTEGA","RESTREPO"]
[null,"CAROLINA",null,null,null,null,"SAN FERNANDO","CUITIVA",null,null,null,"ROSAS",null,"UNION PANAMERICANA","VALENCIA","FUNZA",null,null,"SUAZA",null,"ZONA BANANERA",null,"LA FLORIDA","SALAZAR",null,null,null,"ENCINO",null,"PALOCABILDO","RIOFRIO"]
[null,"CAUCASIA",null,null,null,null,"SAN JACINTO","DUITAMA",null,null,null,"SAN SEBASTIAN",null,null,null,"FUQUENE",null,null,"TARQUI",null,null,null,"LA LLANADA","SAN CALIXTO",null,null,null,"ENCISO",null,"PIEDRAS","ROLDANILLO"]
[null,"CHIGORODO",null,null,null,null,"SAN JACINTO DEL CAUCA","EL COCUY",null,null,null,"SANTA ROSA",null,null,null,"FUSAGASUGA",null,null,"TELLO",null,null,null,"LA TOLA","SAN CAYETANO",null,null,null,"FLORIAN",null,"PLANADAS","SAN PEDRO"]
[null,"CISNEROS",null,null,null,null,"SAN JUAN NEPOMUCENO","EL ESPINO",null,null,null,"SANTANDER DE QUILICHAO",null,null,null,"GACHALA",null,null,"TERUEL",null,null,null,"LA UNION","SANTIAGO",null,null,null,"FLORIDABLANCA",null,"PRADO","SEVILLA"]
[null,"CIUDAD BOLIVAR",null,null,null,null,"SAN MARTIN DE LOBA","FIRAVITOBA",null,null,null,"SILVIA",null,null,null,"GACHANCIPA",null,null,"TESALIA",null,null,null,"LEIVA","SARDINATA",null,null,null,"GALAN",null,"PURIFICACION","TORO"]
[null,"COCORNA",null,null,null,null,"SAN PABLO","FLORESTA",null,null,null,"SOTARA",null,null,null,"GACHETA",null,null,"TIMANA",null,null,null,"LINARES","SILOS",null,null,null,"GAMBITA",null,"RIOBLANCO","TRUJILLO"]
[null,"CONCEPCION",null,null,null,null,"SANTA CATALINA","GACHANTIVA",null,null,null,"SUAREZ",null,null,null,"GAMA",null,null,"VILLAVIEJA",null,null,null,"LOS ANDES","TEORAMA",null,null,null,"GIRON",null,"RONCESVALLES","TULUA"]
[null,"CONCORDIA",null,null,null,null,"SANTA ROSA","GAMEZA",null,null,null,"SUCRE",null,null,null,"GIRARDOT",null,null,"YAGUARA",null,null,null,"MAGUI","TIBU",null,null,null,"GUACA",null,"ROVIRA","ULLOA"]
[null,"COPACABANA",null,null,null,null,"SANTA ROSA DEL SUR","GARAGOA",null,null,null,"TIMBIO",null,null,null,"GRANADA",null,null,null,null,null,null,"MALLAMA","TOLEDO",null,null,null,"GUADALUPE",null,"SALDANA","VERSALLES"]
[null,"DABEIBA",null,null,null,null,"SIMITI","GUACAMAYAS",null,null,null,"TIMBIQUI",null,null,null,"GUACHETA",null,null,null,null,null,null,"MOSQUERA","VILLA CARO",null,null,null,"GUAPOTA",null,"SAN ANTONIO","VIJES"]
[null,"DONMATIAS",null,null,null,null,"SOPLAVIENTO","GUATEQUE",null,null,null,"TORIBIO",null,null,null,"GUADUAS",null,null,null,null,null,null,"NARINO","VILLA DEL ROSARIO",null,null,null,"GUAVATA",null,"SAN LUIS","YOTOCO"]
[null,"EBEJICO",null,null,null,null,"TALAIGUA NUEVO","GUAYATA",null,null,null,"TOTORO",null,null,null,"GUASCA",null,null,null,null,null,null,"OLAYA HERRERA",null,null,null,null,"GUEPSA",null,"SAN SEBASTIAN DE MARIQUITA","YUMBO"]
[null,"EL BAGRE",null,null,null,null,"TIQUISIO","GUICAN",null,null,null,"VILLA RICA",null,null,null,"GUATAQUI",null,null,null,null,null,null,"OSPINA",null,null,null,null,"HATO",null,"SANTA ISABEL","ZARZAL"]
[null,"EL CARMEN DE VIBORAL",null,null,null,null,"TURBACO","IZA",null,null,null,null,null,null,null,"GUATAVITA",null,null,null,null,null,null,"PASTO",null,null,null,null,"JESUS MARIA",null,"SUAREZ"]
[null,"EL SANTUARIO",null,null,null,null,"TURBANA","JENESANO",null,null,null,null,null,null,null,"GUAYABAL DE SIQUIMA",null,null,null,null,null,null,"POLICARPA",null,null,null,null,"JORDAN",null,"VALLE DE SAN JUAN"]
[null,"ENTRERRIOS",null,null,null,null,"VILLANUEVA","JERICO",null,null,null,null,null,null,null,"GUAYABETAL",null,null,null,null,null,null,"POTOSI",null,null,null,null,"LA BELLEZA",null,"VENADILLO"]
[null,"ENVIGADO",null,null,null,null,"ZAMBRANO","LA CAPILLA",null,null,null,null,null,null,null,"GUTIERREZ",null,null,null,null,null,null,"PROVIDENCIA",null,null,null,null,"LA PAZ",null,"VILLAHERMOSA"]
[null,"FREDONIA",null,null,null,null,null,"LA UVITA",null,null,null,null,null,null,null,"JERUSALEN",null,null,null,null,null,null,"PUERRES",null,null,null,null,"LANDAZURI",null,"VILLARRICA"]
[null,"FRONTINO",null,null,null,null,null,"LA VICTORIA",null,null,null,null,null,null,null,"JUNIN",null,null,null,null,null,null,"PUPIALES",null,null,null,null,"LEBRIJA"]
[null,"GIRALDO",null,null,null,null,null,"LABRANZAGRANDE",null,null,null,null,null,null,null,"LA CALERA",null,null,null,null,null,null,"RICAURTE",null,null,null,null,"LOS SANTOS"]
[null,"GIRARDOTA",null,null,null,null,null,"MACANAL",null,null,null,null,null,null,null,"LA MESA",null,null,null,null,null,null,"ROBERTO PAYAN",null,null,null,null,"MACARAVITA"]
[null,"GOMEZ PLATA",null,null,null,null,null,"MARIPI",null,null,null,null,null,null,null,"LA PALMA",null,null,null,null,null,null,"SAMANIEGO",null,null,null,null,"MALAGA"]
[null,"GRANADA",null,null,null,null,null,"MIRAFLORES",null,null,null,null,null,null,null,"LA PENA",null,null,null,null,null,null,"SAN ANDRES DE TUMACO",null,null,null,null,"MATANZA"]
[null,"GUADALUPE",null,null,null,null,null,"MONGUA",null,null,null,null,null,null,null,"LA VEGA",null,null,null,null,null,null,"SAN BERNARDO",null,null,null,null,"MOGOTES"]
[null,"GUARNE",null,null,null,null,null,"MONGUI",null,null,null,null,null,null,null,"LENGUAZAQUE",null,null,null,null,null,null,"SAN LORENZO",null,null,null,null,"MOLAGAVITA"]
[null,"GUATAPE",null,null,null,null,null,"MONIQUIRA",null,null,null,null,null,null,null,"MACHETA",null,null,null,null,null,null,"SAN PABLO",null,null,null,null,"OCAMONTE"]
[null,"HELICONIA",null,null,null,null,null,"MOTAVITA",null,null,null,null,null,null,null,"MADRID",null,null,null,null,null,null,"SAN PEDRO DE CARTAGO",null,null,null,null,"OIBA"]
[null,"HISPANIA",null,null,null,null,null,"MUZO",null,null,null,null,null,null,null,"MANTA",null,null,null,null,null,null,"SANDONA",null,null,null,null,"ONZAGA"]
[null,"ITAGUI",null,null,null,null,null,"NOBSA",null,null,null,null,null,null,null,"MEDINA",null,null,null,null,null,null,"SANTA BARBARA",null,null,null,null,"PALMAR"]
[null,"ITUANGO",null,null,null,null,null,"NUEVO COLON",null,null,null,null,null,null,null,"MOSQUERA",null,null,null,null,null,null,"SANTACRUZ",null,null,null,null,"PALMAS DEL SOCORRO"]
[null,"JARDIN",null,null,null,null,null,"OICATA",null,null,null,null,null,null,null,"NARINO",null,null,null,null,null,null,"SAPUYES",null,null,null,null,"PARAMO"]
[null,"JERICO",null,null,null,null,null,"OTANCHE",null,null,null,null,null,null,null,"NEMOCON",null,null,null,null,null,null,"TAMINANGO",null,null,null,null,"PIEDECUESTA"]
[null,"LA CEJA",null,null,null,null,null,"PACHAVITA",null,null,null,null,null,null,null,"NILO",null,null,null,null,null,null,"TANGUA",null,null,null,null,"PINCHOTE"]
[null,"LA ESTRELLA",null,null,null,null,null,"PAEZ",null,null,null,null,null,null,null,"NIMAIMA",null,null,null,null,null,null,"TUQUERRES",null,null,null,null,"PUENTE NACIONAL"]
[null,"LA PINTADA",null,null,null,null,null,"PAIPA",null,null,null,null,null,null,null,"NOCAIMA",null,null,null,null,null,null,"YACUANQUER",null,null,null,null,"PUERTO PARRA"]
[null,"LA UNION",null,null,null,null,null,"PAJARITO",null,null,null,null,null,null,null,"PACHO",null,null,null,null,null,null,null,null,null,null,null,"PUERTO WILCHES"]
[null,"LIBORINA",null,null,null,null,null,"PANQUEBA",null,null,null,null,null,null,null,"PAIME",null,null,null,null,null,null,null,null,null,null,null,"RIONEGRO"]
[null,"MACEO",null,null,null,null,null,"PAUNA",null,null,null,null,null,null,null,"PANDI",null,null,null,null,null,null,null,null,null,null,null,"SABANA DE TORRES"]
[null,"MARINILLA",null,null,null,null,null,"PAYA",null,null,null,null,null,null,null,"PARATEBUENO",null,null,null,null,null,null,null,null,null,null,null,"SAN ANDRES"]
[null,"MEDELLIN",null,null,null,null,null,"PAZ DE RIO",null,null,null,null,null,null,null,"PASCA",null,null,null,null,null,null,null,null,null,null,null,"SAN BENITO"]
[null,"MONTEBELLO",null,null,null,null,null,"PESCA",null,null,null,null,null,null,null,"PUERTO SALGAR",null,null,null,null,null,null,null,null,null,null,null,"SAN GIL"]
[null,"MURINDO",null,null,null,null,null,"PISBA",null,null,null,null,null,null,null,"PULI",null,null,null,null,null,null,null,null,null,null,null,"SAN JOAQUIN"]
[null,"MUTATA",null,null,null,null,null,"PUERTO BOYACA",null,null,null,null,null,null,null,"QUEBRADANEGRA",null,null,null,null,null,null,null,null,null,null,null,"SAN JOSE DE MIRANDA"]
[null,"NARINO",null,null,null,null,null,"QUIPAMA",null,null,null,null,null,null,null,"QUETAME",null,null,null,null,null,null,null,null,null,null,null,"SAN MIGUEL"]
[null,"NECHI",null,null,null,null,null,"RAMIRIQUI",null,null,null,null,null,null,null,"QUIPILE",null,null,null,null,null,null,null,null,null,null,null,"SAN VICENTE DE CHUCURI"]
[null,"NECOCLI",null,null,null,null,null,"RAQUIRA",null,null,null,null,null,null,null,"RICAURTE",null,null,null,null,null,null,null,null,null,null,null,"SANTA BARBARA"]
[null,"OLAYA",null,null,null,null,null,"RONDON",null,null,null,null,null,null,null,"SAN ANTONIO DEL TEQUENDAMA",null,null,null,null,null,null,null,null,null,null,null,"SANTA HELENA DEL OPON"]
[null,"PENOL",null,null,null,null,null,"SABOYA",null,null,null,null,null,null,null,"SAN BERNARDO",null,null,null,null,null,null,null,null,null,null,null,"SIMACOTA"]
[null,"PEQUE",null,null,null,null,null,"SACHICA",null,null,null,null,null,null,null,"SAN CAYETANO",null,null,null,null,null,null,null,null,null,null,null,"SOCORRO"]
[null,"PUEBLORRICO",null,null,null,null,null,"SAMACA",null,null,null,null,null,null,null,"SAN FRANCISCO",null,null,null,null,null,null,null,null,null,null,null,"SUAITA"]
[null,"PUERTO BERRIO",null,null,null,null,null,"SAN EDUARDO",null,null,null,null,null,null,null,"SAN JUAN DE RIO SECO",null,null,null,null,null,null,null,null,null,null,null,"SUCRE"]
[null,"PUERTO NARE",null,null,null,null,null,"SAN JOSE DE PARE",null,null,null,null,null,null,null,"SASAIMA",null,null,null,null,null,null,null,null,null,null,null,"SURATA"]
[null,"PUERTO TRIUNFO",null,null,null,null,null,"SAN LUIS DE GACENO",null,null,null,null,null,null,null,"SESQUILE",null,null,null,null,null,null,null,null,null,null,null,"TONA"]
[null,"REMEDIOS",null,null,null,null,null,"SAN MATEO",null,null,null,null,null,null,null,"SIBATE",null,null,null,null,null,null,null,null,null,null,null,"VALLE DE SAN JOSE"]
[null,"RETIRO",null,null,null,null,null,"SAN MIGUEL DE SEMA",null,null,null,null,null,null,null,"SILVANIA",null,null,null,null,null,null,null,null,null,null,null,"VELEZ"]
[null,"RIONEGRO",null,null,null,null,null,"SAN PABLO DE BORBUR",null,null,null,null,null,null,null,"SIMIJACA",null,null,null,null,null,null,null,null,null,null,null,"VETAS"]
[null,"SABANALARGA",null,null,null,null,null,"SANTA MARIA",null,null,null,null,null,null,null,"SOACHA",null,null,null,null,null,null,null,null,null,null,null,"VILLANUEVA"]
[null,"SABANETA",null,null,null,null,null,"SANTA ROSA DE VITERBO",null,null,null,null,null,null,null,"SOPO",null,null,null,null,null,null,null,null,null,null,null,"ZAPATOCA"]
[null,"SALGAR",null,null,null,null,null,"SANTA SOFIA",null,null,null,null,null,null,null,"SUBACHOQUE"]
[null,"SAN ANDRES DE CUERQUIA",null,null,null,null,null,"SANTANA",null,null,null,null,null,null,null,"SUESCA"]
[null,"SAN CARLOS",null,null,null,null,null,"SATIVANORTE",null,null,null,null,null,null,null,"SUPATA"]
[null,"SAN FRANCISCO",null,null,null,null,null,"SATIVASUR",null,null,null,null,null,null,null,"SUSA"]
[null,"SAN JERONIMO",null,null,null,null,null,"SIACHOQUE",null,null,null,null,null,null,null,"SUTATAUSA"]
[null,"SAN JOSE DE LA MONTANA",null,null,null,null,null,"SOATA",null,null,null,null,null,null,null,"TABIO"]
[null,"SAN JUAN DE URABA",null,null,null,null,null,"SOCHA",null,null,null,null,null,null,null,"TAUSA"]
[null,"SAN LUIS",null,null,null,null,null,"SOCOTA",null,null,null,null,null,null,null,"TENA"]
[null,"SAN PEDRO DE LOS MILAGROS",null,null,null,null,null,"SOGAMOSO",null,null,null,null,null,null,null,"TENJO"]
[null,"SAN PEDRO DE URABA",null,null,null,null,null,"SOMONDOCO",null,null,null,null,null,null,null,"TIBACUY"]
[null,"SAN RAFAEL",null,null,null,null,null,"SORA",null,null,null,null,null,null,null,"TIBIRITA"]
[null,"SAN ROQUE",null,null,null,null,null,"SORACA",null,null,null,null,null,null,null,"TOCAIMA"]
[null,"SAN VICENTE",null,null,null,null,null,"SOTAQUIRA",null,null,null,null,null,null,null,"TOCANCIPA"]
[null,"SANTA BARBARA",null,null,null,null,null,"SUSACON",null,null,null,null,null,null,null,"TOPAIPI"]
[null,"SANTA ROSA DE OSOS",null,null,null,null,null,"SUTAMARCHAN",null,null,null,null,null,null,null,"UBALA"]
[null,"SANTAFE DE ANTIOQUIA",null,null,null,null,null,"SUTATENZA",null,null,null,null,null,null,null,"UBAQUE"]
[null,"SANTO DOMINGO",null,null,null,null,null,"TASCO",null,null,null,null,null,null,null,"UNE"]
[null,"SEGOVIA",null,null,null,null,null,"TENZA",null,null,null,null,null,null,null,"UTICA"]
[null,"SONSON",null,null,null,null,null,"TIBANA",null,null,null,null,null,null,null,"VENECIA"]
[null,"SOPETRAN",null,null,null,null,null,"TIBASOSA",null,null,null,null,null,null,null,"VERGARA"]
[null,"TAMESIS",null,null,null,null,null,"TINJACA",null,null,null,null,null,null,null,"VIANI"]
[null,"TARAZA",null,null,null,null,null,"TIPACOQUE",null,null,null,null,null,null,null,"VILLA DE SAN DIEGO DE UBATE"]
[null,"TARSO",null,null,null,null,null,"TOCA",null,null,null,null,null,null,null,"VILLAGOMEZ"]
[null,"TITIRIBI",null,null,null,null,null,"TOGUI",null,null,null,null,null,null,null,"VILLAPINZON"]
[null,"TOLEDO",null,null,null,null,null,"TOPAGA",null,null,null,null,null,null,null,"VILLETA"]
[null,"TURBO",null,null,null,null,null,"TOTA",null,null,null,null,null,null,null,"VIOTA"]
[null,"URAMITA",null,null,null,null,null,"TUNJA",null,null,null,null,null,null,null,"YACOPI"]
[null,"URRAO",null,null,null,null,null,"TUNUNGUA",null,null,null,null,null,null,null,"ZIPACON"]
[null,"VALDIVIA",null,null,null,null,null,"TURMEQUE",null,null,null,null,null,null,null,"ZIPAQUIRA"]
[null,"VALPARAISO",null,null,null,null,null,"TUTA"]
[null,"VEGACHI",null,null,null,null,null,"TUTAZA"]
[null,"VENECIA",null,null,null,null,null,"UMBITA"]
[null,"VIGIA DEL FUERTE",null,null,null,null,null,"VENTAQUEMADA"]
[null,"YALI",null,null,null,null,null,"VILLA DE LEYVA"]
[null,"YARUMAL",null,null,null,null,null,"VIRACACHA"]
[null,"YOLOMBO",null,null,null,null,null,"ZETAQUIRA"]
[null,"YONDO"]
[null,"ZARAGOZA"]

{"sheet":"Divipolas","index":5,"n_rows":1123,"n_cols":12,"rows_kept":1123,"cut":false,"hidden":true,"merged":[]}
["DPTO","COD DPTO","DIVIPOLA","NOM MPIO","CODIGO MUNICIPIO","DEPTO+MPIO","COD MUNICIPIO",null,null,null,"DPTO","COD DPTO"]
["AMAZONAS","91","91001000","LETICIA",{"$f":"LEFT(C2,5)","v":"91001"},{"$f":"CONCATENATE(A2,D2)","v":"AMAZONASLETICIA"},{"$f":"LEFT(C2,5)","v":"91001"},null,"CHIGORODO",null,"AMAZONAS","91"]
["AMAZONAS","91","91263000","EL ENCANTO","91263","AMAZONASEL ENCANTO","91263",null,"MUTATA",null,"ANTIOQUIA","05"]
["AMAZONAS","91","91405000","LA CHORRERA","91405","AMAZONASLA CHORRERA","91405",null,"CAREPA",null,"ARAUCA","81"]
["AMAZONAS","91","91407000","LA PEDRERA","91407","AMAZONASLA PEDRERA","91407",null,"APARTADO",null,"ARCHIPIELAGO DE SAN ANDRES PROVIDENCIA Y SANTA CATALINA","88"]
["AMAZONAS","91","91430000","LA VICTORIA","91430","AMAZONASLA VICTORIA","91430",null,"TURBO",null,"ATLANTICO","08"]
["AMAZONAS","91","91460000","MIRITI - PARANA","91460","AMAZONASMIRITI - PARANA","91460",null,"EL CARMEN DE BOLIVAR",null,"BOGOTA","11"]
["AMAZONAS","91","91530000","PUERTO ALEGRIA","91530","AMAZONASPUERTO ALEGRIA","91530",null,"SAN JACINTO",null,"BOLIVAR","13"]
["AMAZONAS","91","91536000","PUERTO ARICA","91536","AMAZONASPUERTO ARICA","91536",null,"ZAMBRANO",null,"BOYACA","15"]
["AMAZONAS","91","91540000","PUERTO NARINO","91540","AMAZONASPUERTO NARINO","91540",null,"PUERTO GAITAN",null,"CALDAS","17"]
["AMAZONAS","91","91669000","PUERTO SANTANDER","91669","AMAZONASPUERTO SANTANDER","91669",null,"MAPIRIPAN",null,"CAQUETA","18"]
["AMAZONAS","91","91798000","TARAPACA","91798","AMAZONASTARAPACA","91798",null,"PUERTO LOPEZ",null,"CASANARE","85"]
["ANTIOQUIA","05","05001000","MEDELLIN","05001","ANTIOQUIAMEDELLIN","05001",null,"MOCOA",null,"CAUCA","19"]
["ANTIOQUIA","05","05002000","ABEJORRAL","05002","ANTIOQUIAABEJORRAL","05002",null,"SIBUNDOY",null,"CESAR","20"]
["ANTIOQUIA","05","05004000","ABRIAQUI","05004","ANTIOQUIAABRIAQUI","05004",null,"SAN MIGUEL",null,"CHOCO","27"]
["ANTIOQUIA","05","05021000","ALEJANDRIA","05021","ANTIOQUIAALEJANDRIA","05021",null,"PUERTO ASIS",null,"CORDOBA","23"]
["ANTIOQUIA","05","05030000","AMAGA","05030","ANTIOQUIAAMAGA","05030",null,"VILLAGARZON",null,"CUNDINAMARCA","25"]
["ANTIOQUIA","05","05031000","AMALFI","05031","ANTIOQUIAAMALFI","05031",null,"ARACATACA",null,"GUAINIA","94"]
["ANTIOQUIA","05","05034000","ANDES","05034","ANTIOQUIAANDES","05034",null,"EL PINON",null,"GUAVIARE","95"]
["ANTIOQUIA","05","05036000","ANGELOPOLIS","05036","ANTIOQUIAANGELOPOLIS","05036",null,"EL RETEN",null,"HUILA","41"]
["ANTIOQUIA","05","05038000","ANGOSTURA","05038","ANTIOQUIAANGOSTURA","05038",null,"FUNDACION",null,"LA GUAJIRA","44"]
["ANTIOQUIA","05","05040000","ANORI","05040","ANTIOQUIAANORI","05040",null,"PIVIJAY",null,"MAGDALENA","47"]
["ANTIOQUIA","05","05042000","SANTAFE DE ANTIOQUIA","05042","ANTIOQUIASANTAFE DE ANTIOQUIA","05042",null,"SABANA DE TORRES",null,"META","50"]
["ANTIOQUIA","05","05044000","ANZA","05044","ANTIOQUIAANZA","05044",null,"AGUACHICA",null,"NARINO","52"]
["ANTIOQUIA","05","05045000","APARTADO","05045","ANTIOQUIAAPARTADO","05045",null,"SAN PABLO",null,"NORTE DE SANTANDER","54"]
["ANTIOQUIA","05","05051000","ARBOLETES","05051","ANTIOQUIAARBOLETES","05051",null,"PUERTO WILCHES",null,"PUTUMAYO","86"]
["ANTIOQUIA","05","05055000","ARGELIA","05055","ANTIOQUIAARGELIA","05055",null,"CIMITARRA",null,"QUINDIO","63"]
["ANTIOQUIA","05","05059000","ARMENIA","05059","ANTIOQUIAARMENIA","05059",null,"BARRANCABERMEJA",null,"RISARALDA","66"]
["ANTIOQUIA","05","05079000","BARBOSA","05079","ANTIOQUIABARBOSA","05079",null,null,null,"SANTANDER","68"]
["ANTIOQUIA","05","05086000","BELMIRA","05086","ANTIOQUIABELMIRA","05086",null,null,null,"SUCRE","70"]
["ANTIOQUIA","05","05088000","BELLO","05088","ANTIOQUIABELLO","05088",null,null,null,"TOLIMA","73"]
["ANTIOQUIA","05","05091000","BETANIA","05091","ANTIOQUIABETANIA","05091",null,null,null,"VALLE DEL CAUCA","76"]
["ANTIOQUIA","05","05093000","BETULIA","05093","ANTIOQUIABETULIA","05093",null,null,null,"VAUPES","97"]
["ANTIOQUIA","05","05101000","CIUDAD BOLIVAR","05101","ANTIOQUIACIUDAD BOLIVAR","05101",null,null,null,"VICHADA","99"]
["ANTIOQUIA","05","05107000","BRICENO","05107","ANTIOQUIABRICENO","05107"]
["ANTIOQUIA","05","05113000","BURITICA","05113","ANTIOQUIABURITICA","05113"]
["ANTIOQUIA","05","05120000","CACERES","05120","ANTIOQUIACACERES","05120"]
["ANTIOQUIA","05","05125000","CAICEDO","05125","ANTIOQUIACAICEDO","05125"]
["ANTIOQUIA","05","05129000","CALDAS","05129","ANTIOQUIACALDAS","05129"]
["ANTIOQUIA","05","05134000","CAMPAMENTO","05134","ANTIOQUIACAMPAMENTO","05134"]
["ANTIOQUIA","05","05138000","CANASGORDAS","05138","ANTIOQUIACANASGORDAS","05138"]
["ANTIOQUIA","05","05142000","CARACOLI","05142","ANTIOQUIACARACOLI","05142"]
["ANTIOQUIA","05","05145000","CARAMANTA","05145","ANTIOQUIACARAMANTA","05145"]
["ANTIOQUIA","05","05147000","CAREPA","05147","ANTIOQUIACAREPA","05147"]
["ANTIOQUIA","05","05148000","EL CARMEN DE VIBORAL","05148","ANTIOQUIAEL CARMEN DE VIBORAL","05148"]
["ANTIOQUIA","05","05150000","CAROLINA","05150","ANTIOQUIACAROLINA","05150"]
["ANTIOQUIA","05","05154000","CAUCASIA","05154","ANTIOQUIACAUCASIA","05154"]
["ANTIOQUIA","05","05172000","CHIGORODO","05172","ANTIOQUIACHIGORODO","05172"]
["ANTIOQUIA","05","05190000","CISNEROS","05190","ANTIOQUIACISNEROS","05190"]
["ANTIOQUIA","05","05197000","COCORNA","05197","ANTIOQUIACOCORNA","05197"]
["ANTIOQUIA","05","05206000","CONCEPCION","05206","ANTIOQUIACONCEPCION","05206"]
["ANTIOQUIA","05","05209000","CONCORDIA","05209","ANTIOQUIACONCORDIA","05209"]
["ANTIOQUIA","05","05212000","COPACABANA","05212","ANTIOQUIACOPACABANA","05212"]
["ANTIOQUIA","05","05234000","DABEIBA","05234","ANTIOQUIADABEIBA","05234"]
["ANTIOQUIA","05","05237000","DONMATIAS","05237","ANTIOQUIADONMATIAS","05237"]
["ANTIOQUIA","05","05240000","EBEJICO","05240","ANTIOQUIAEBEJICO","05240"]
["ANTIOQUIA","05","05250000","EL BAGRE","05250","ANTIOQUIAEL BAGRE","05250"]
["ANTIOQUIA","05","05264000","ENTRERRIOS","05264","ANTIOQUIAENTRERRIOS","05264"]
["ANTIOQUIA","05","05266000","ENVIGADO","05266","ANTIOQUIAENVIGADO","05266"]
["ANTIOQUIA","05","05282000","FREDONIA","05282","ANTIOQUIAFREDONIA","05282"]
["ANTIOQUIA","05","05284000","FRONTINO","05284","ANTIOQUIAFRONTINO","05284"]
["ANTIOQUIA","05","05306000","GIRALDO","05306","ANTIOQUIAGIRALDO","05306"]
["ANTIOQUIA","05","05308000","GIRARDOTA","05308","ANTIOQUIAGIRARDOTA","05308"]
["ANTIOQUIA","05","05310000","GOMEZ PLATA","05310","ANTIOQUIAGOMEZ PLATA","05310"]
["ANTIOQUIA","05","05313000","GRANADA","05313","ANTIOQUIAGRANADA","05313"]
["ANTIOQUIA","05","05315000","GUADALUPE",{"$f":"LEFT(C66,5)","v":"05315"},{"$f":"CONCATENATE(A66,D66)","v":"ANTIOQUIAGUADALUPE"},{"$f":"LEFT(C66,5)","v":"05315"}]
["ANTIOQUIA","05","05318000","GUARNE","05318","ANTIOQUIAGUARNE","05318"]
["ANTIOQUIA","05","05321000","GUATAPE","05321","ANTIOQUIAGUATAPE","05321"]
["ANTIOQUIA","05","05347000","HELICONIA","05347","ANTIOQUIAHELICONIA","05347"]
["ANTIOQUIA","05","05353000","HISPANIA","05353","ANTIOQUIAHISPANIA","05353"]
["ANTIOQUIA","05","05360000","ITAGUI","05360","ANTIOQUIAITAGUI","05360"]
["ANTIOQUIA","05","05361000","ITUANGO","05361","ANTIOQUIAITUANGO","05361"]
["ANTIOQUIA","05","05364000","JARDIN","05364","ANTIOQUIAJARDIN","05364"]
["ANTIOQUIA","05","05368000","JERICO","05368","ANTIOQUIAJERICO","05368"]
["ANTIOQUIA","05","05376000","LA CEJA","05376","ANTIOQUIALA CEJA","05376"]
["ANTIOQUIA","05","05380000","LA ESTRELLA","05380","ANTIOQUIALA ESTRELLA","05380"]
["ANTIOQUIA","05","05390000","LA PINTADA","05390","ANTIOQUIALA PINTADA","05390"]
["ANTIOQUIA","05","05400000","LA UNION","05400","ANTIOQUIALA UNION","05400"]
["ANTIOQUIA","05","05411000","LIBORINA","05411","ANTIOQUIALIBORINA","05411"]
["ANTIOQUIA","05","05425000","MACEO","05425","ANTIOQUIAMACEO","05425"]
["ANTIOQUIA","05","05440000","MARINILLA","05440","ANTIOQUIAMARINILLA","05440"]
["ANTIOQUIA","05","05467000","MONTEBELLO","05467","ANTIOQUIAMONTEBELLO","05467"]
["ANTIOQUIA","05","05475000","MURINDO","05475","ANTIOQUIAMURINDO","05475"]
["ANTIOQUIA","05","05480000","MUTATA","05480","ANTIOQUIAMUTATA","05480"]
["ANTIOQUIA","05","05483000","NARINO","05483","ANTIOQUIANARINO","05483"]
["ANTIOQUIA","05","05490000","NECOCLI","05490","ANTIOQUIANECOCLI","05490"]
["ANTIOQUIA","05","05495000","NECHI","05495","ANTIOQUIANECHI","05495"]
["ANTIOQUIA","05","05501000","OLAYA","05501","ANTIOQUIAOLAYA","05501"]
["ANTIOQUIA","05","05541000","PENOL","05541","ANTIOQUIAPENOL","05541"]
["ANTIOQUIA","05","05543000","PEQUE","05543","ANTIOQUIAPEQUE","05543"]
["ANTIOQUIA","05","05576000","PUEBLORRICO","05576","ANTIOQUIAPUEBLORRICO","05576"]
["ANTIOQUIA","05","05579000","PUERTO BERRIO","05579","ANTIOQUIAPUERTO BERRIO","05579"]
["ANTIOQUIA","05","05585000","PUERTO NARE","05585","ANTIOQUIAPUERTO NARE","05585"]
["ANTIOQUIA","05","05591000","PUERTO TRIUNFO","05591","ANTIOQUIAPUERTO TRIUNFO","05591"]
["ANTIOQUIA","05","05604000","REMEDIOS","05604","ANTIOQUIAREMEDIOS","05604"]
["ANTIOQUIA","05","05607000","RETIRO","05607","ANTIOQUIARETIRO","05607"]
["ANTIOQUIA","05","05615000","RIONEGRO","05615","ANTIOQUIARIONEGRO","05615"]
["ANTIOQUIA","05","05628000","SABANALARGA","05628","ANTIOQUIASABANALARGA","05628"]
["ANTIOQUIA","05","05631000","SABANETA","05631","ANTIOQUIASABANETA","05631"]
["ANTIOQUIA","05","05642000","SALGAR","05642","ANTIOQUIASALGAR","05642"]
["ANTIOQUIA","05","05647000","SAN ANDRES DE CUERQUIA","05647","ANTIOQUIASAN ANDRES DE CUERQUIA","05647"]
["ANTIOQUIA","05","05649000","SAN CARLOS","05649","ANTIOQUIASAN CARLOS","05649"]
["ANTIOQUIA","05","05652000","SAN FRANCISCO","05652","ANTIOQUIASAN FRANCISCO","05652"]
["ANTIOQUIA","05","05656000","SAN JERONIMO","05656","ANTIOQUIASAN JERONIMO","05656"]
["ANTIOQUIA","05","05658000","SAN JOSE DE LA MONTANA","05658","ANTIOQUIASAN JOSE DE LA MONTANA","05658"]
["ANTIOQUIA","05","05659000","SAN JUAN DE URABA","05659","ANTIOQUIASAN JUAN DE URABA","05659"]
["ANTIOQUIA","05","05660000","SAN LUIS","05660","ANTIOQUIASAN LUIS","05660"]
["ANTIOQUIA","05","05664000","SAN PEDRO DE LOS MILAGROS","05664","ANTIOQUIASAN PEDRO DE LOS MILAGROS","05664"]
["ANTIOQUIA","05","05665000","SAN PEDRO DE URABA","05665","ANTIOQUIASAN PEDRO DE URABA","05665"]
["ANTIOQUIA","05","05667000","SAN RAFAEL","05667","ANTIOQUIASAN RAFAEL","05667"]
["ANTIOQUIA","05","05670000","SAN ROQUE","05670","ANTIOQUIASAN ROQUE","05670"]
["ANTIOQUIA","05","05674000","SAN VICENTE","05674","ANTIOQUIASAN VICENTE","05674"]
["ANTIOQUIA","05","05679000","SANTA BARBARA","05679","ANTIOQUIASANTA BARBARA","05679"]
["ANTIOQUIA","05","05686000","SANTA ROSA DE OSOS","05686","ANTIOQUIASANTA ROSA DE OSOS","05686"]
["ANTIOQUIA","05","05690000","SANTO DOMINGO","05690","ANTIOQUIASANTO DOMINGO","05690"]
["ANTIOQUIA","05","05697000","EL SANTUARIO","05697","ANTIOQUIAEL SANTUARIO","05697"]
["ANTIOQUIA","05","05736000","SEGOVIA","05736","ANTIOQUIASEGOVIA","05736"]
["ANTIOQUIA","05","05756000","SONSON","05756","ANTIOQUIASONSON","05756"]
["ANTIOQUIA","05","05761000","SOPETRAN","05761","ANTIOQUIASOPETRAN","05761"]
["ANTIOQUIA","05","05789000","TAMESIS","05789","ANTIOQUIATAMESIS","05789"]
["ANTIOQUIA","05","05790000","TARAZA","05790","ANTIOQUIATARAZA","05790"]
["ANTIOQUIA","05","05792000","TARSO","05792","ANTIOQUIATARSO","05792"]
["ANTIOQUIA","05","05809000","TITIRIBI","05809","ANTIOQUIATITIRIBI","05809"]
["ANTIOQUIA","05","05819000","TOLEDO","05819","ANTIOQUIATOLEDO","05819"]
["ANTIOQUIA","05","05837000","TURBO","05837","ANTIOQUIATURBO","05837"]
["ANTIOQUIA","05","05842000","URAMITA","05842","ANTIOQUIAURAMITA","05842"]
["ANTIOQUIA","05","05847000","URRAO","05847","ANTIOQUIAURRAO","05847"]
["ANTIOQUIA","05","05854000","VALDIVIA","05854","ANTIOQUIAVALDIVIA","05854"]
["ANTIOQUIA","05","05856000","VALPARAISO","05856","ANTIOQUIAVALPARAISO","05856"]
["ANTIOQUIA","05","05858000","VEGACHI",{"$f":"LEFT(C130,5)","v":"05858"},{"$f":"CONCATENATE(A130,D130)","v":"ANTIOQUIAVEGACHI"},{"$f":"LEFT(C130,5)","v":"05858"}]
["ANTIOQUIA","05","05861000","VENECIA","05861","ANTIOQUIAVENECIA","05861"]
["ANTIOQUIA","05","05873000","VIGIA DEL FUERTE","05873","ANTIOQUIAVIGIA DEL FUERTE","05873"]
["ANTIOQUIA","05","05885000","YALI","05885","ANTIOQUIAYALI","05885"]
["ANTIOQUIA","05","05887000","YARUMAL","05887","ANTIOQUIAYARUMAL","05887"]
["ANTIOQUIA","05","05890000","YOLOMBO","05890","ANTIOQUIAYOLOMBO","05890"]
["ANTIOQUIA","05","05893000","YONDO","05893","ANTIOQUIAYONDO","05893"]
["ANTIOQUIA","05","05895000","ZARAGOZA","05895","ANTIOQUIAZARAGOZA","05895"]
["ARAUCA","81","81001000","ARAUCA","81001","ARAUCAARAUCA","81001"]
["ARAUCA","81","81065000","ARAUQUITA","81065","ARAUCAARAUQUITA","81065"]
["ARAUCA","81","81220000","CRAVO NORTE","81220","ARAUCACRAVO NORTE","81220"]
["ARAUCA","81","81300000","FORTUL","81300","ARAUCAFORTUL","81300"]
["ARAUCA","81","81591000","PUERTO RONDON","81591","ARAUCAPUERTO RONDON","81591"]
["ARAUCA","81","81736000","SARAVENA","81736","ARAUCASARAVENA","81736"]
["ARAUCA","81","81794000","TAME","81794","ARAUCATAME","81794"]
["ARCHIPIELAGO DE SAN ANDRES PROVIDENCIA Y SANTA CATALINA","88","88001000","SAN ANDRES","88001","ARCHIPIELAGO DE SAN ANDRES PROVIDENCIA Y SANTA CATALINASAN ANDRES","88001"]
["ARCHIPIELAGO DE SAN ANDRES PROVIDENCIA Y SANTA CATALINA","88","88564000","PROVIDENCIA","88564","ARCHIPIELAGO DE SAN ANDRES PROVIDENCIA Y SANTA CATALINAPROVIDENCIA","88564"]
["ATLANTICO","08","08001000","BARRANQUILLA","08001","ATLANTICOBARRANQUILLA","08001"]
["ATLANTICO","08","08078000","BARANOA","08078","ATLANTICOBARANOA","08078"]
["ATLANTICO","08","08137000","CAMPO DE LA CRUZ","08137","ATLANTICOCAMPO DE LA CRUZ","08137"]
["ATLANTICO","08","08141000","CANDELARIA","08141","ATLANTICOCANDELARIA","08141"]
["ATLANTICO","08","08296000","GALAPA","08296","ATLANTICOGALAPA","08296"]
["ATLANTICO","08","08372000","JUAN DE ACOSTA","08372","ATLANTICOJUAN DE ACOSTA","08372"]
["ATLANTICO","08","08421000","LURUACO","08421","ATLANTICOLURUACO","08421"]
["ATLANTICO","08","08433000","MALAMBO","08433","ATLANTICOMALAMBO","08433"]
["ATLANTICO","08","08436000","MANATI","08436","ATLANTICOMANATI","08436"]
["ATLANTICO","08","08520000","PALMAR DE VARELA","08520","ATLANTICOPALMAR DE VARELA","08520"]
["ATLANTICO","08","08549000","PIOJO","08549","ATLANTICOPIOJO","08549"]
["ATLANTICO","08","08558000","POLONUEVO","08558","ATLANTICOPOLONUEVO","08558"]
["ATLANTICO","08","08560000","PONEDERA","08560","ATLANTICOPONEDERA","08560"]
["ATLANTICO","08","08573000","PUERTO COLOMBIA","08573","ATLANTICOPUERTO COLOMBIA","08573"]
["ATLANTICO","08","08606000","REPELON","08606","ATLANTICOREPELON","08606"]
["ATLANTICO","08","08634000","SABANAGRANDE","08634","ATLANTICOSABANAGRANDE","08634"]
["ATLANTICO","08","08638000","SABANALARGA","08638","ATLANTICOSABANALARGA","08638"]
["ATLANTICO","08","08675000","SANTA LUCIA","08675","ATLANTICOSANTA LUCIA","08675"]
["ATLANTICO","08","08685000","SANTO TOMAS","08685","ATLANTICOSANTO TOMAS","08685"]
["ATLANTICO","08","08758000","SOLEDAD","08758","ATLANTICOSOLEDAD","08758"]
["ATLANTICO","08","08770000","SUAN","08770","ATLANTICOSUAN","08770"]
["ATLANTICO","08","08832000","TUBARA","08832","ATLANTICOTUBARA","08832"]
["ATLANTICO","08","08849000","USIACURI","08849","ATLANTICOUSIACURI","08849"]
["BOGOTA","11","11001000","BOGOTA DC","11001","BOGOTABOGOTA DC","11001"]
["BOLIVAR","13","13001000","CARTAGENA","13001","BOLIVARCARTAGENA","13001"]
["BOLIVAR","13","13006000","ACHI","13006","BOLIVARACHI","13006"]
["BOLIVAR","13","13030000","ALTOS DEL ROSARIO","13030","BOLIVARALTOS DEL ROSARIO","13030"]
["BOLIVAR","13","13042000","ARENAL","13042","BOLIVARARENAL","13042"]
["BOLIVAR","13","13052000","ARJONA","13052","BOLIVARARJONA","13052"]
["BOLIVAR","13","13062000","ARROYOHONDO","13062","BOLIVARARROYOHONDO","13062"]
["BOLIVAR","13","13074000","BARRANCO DE LOBA","13074","BOLIVARBARRANCO DE LOBA","13074"]
["BOLIVAR","13","13140000","CALAMAR","13140","BOLIVARCALAMAR","13140"]
["BOLIVAR","13","13160000","CANTAGALLO","13160","BOLIVARCANTAGALLO","13160"]
["BOLIVAR","13","13188000","CICUCO","13188","BOLIVARCICUCO","13188"]
["BOLIVAR","13","13212000","CORDOBA","13212","BOLIVARCORDOBA","13212"]
["BOLIVAR","13","13222000","CLEMENCIA","13222","BOLIVARCLEMENCIA","13222"]
["BOLIVAR","13","13244000","EL CARMEN DE BOLIVAR","13244","BOLIVAREL CARMEN DE BOLIVAR","13244"]
["BOLIVAR","13","13248000","EL GUAMO","13248","BOLIVAREL GUAMO","13248"]
["BOLIVAR","13","13268000","EL PENON","13268","BOLIVAREL PENON","13268"]
["BOLIVAR","13","13300000","HATILLO DE LOBA","13300","BOLIVARHATILLO DE LOBA","13300"]
["BOLIVAR","13","13430000","MAGANGUE","13430","BOLIVARMAGANGUE","13430"]
["BOLIVAR","13","13433000","MAHATES","13433","BOLIVARMAHATES","13433"]
["BOLIVAR","13","13440000","MARGARITA","13440","BOLIVARMARGARITA","13440"]
["BOLIVAR","13","13442000","MARIA LA BAJA","13442","BOLIVARMARIA LA BAJA","13442"]
["BOLIVAR","13","13458000","MONTECRISTO","13458","BOLIVARMONTECRISTO","13458"]
["BOLIVAR","13","13468000","MOMPOS","13468","BOLIVARMOMPOS","13468"]
["BOLIVAR","13","13473000","MORALES","13473","BOLIVARMORALES","13473"]
["BOLIVAR","13","13490000","NOROSI",{"$f":"LEFT(C194,5)","v":"13490"},{"$f":"CONCATENATE(A194,D194)","v":"BOLIVARNOROSI"},{"$f":"LEFT(C194,5)","v":"13490"}]
["BOLIVAR","13","13549000","PINILLOS","13549","BOLIVARPINILLOS","13549"]
["BOLIVAR","13","13580000","REGIDOR","13580","BOLIVARREGIDOR","13580"]
["BOLIVAR","13","13600000","RIO VIEJO","13600","BOLIVARRIO VIEJO","13600"]
["BOLIVAR","13","13620000","SAN CRISTOBAL","13620","BOLIVARSAN CRISTOBAL","13620"]
["BOLIVAR","13","13647000","SAN ESTANISLAO","13647","BOLIVARSAN ESTANISLAO","13647"]
["BOLIVAR","13","13650000","SAN FERNANDO","13650","BOLIVARSAN FERNANDO","13650"]
["BOLIVAR","13","13654000","SAN JACINTO","13654","BOLIVARSAN JACINTO","13654"]
["BOLIVAR","13","13655000","SAN JACINTO DEL CAUCA","13655","BOLIVARSAN JACINTO DEL CAUCA","13655"]
["BOLIVAR","13","13657000","SAN JUAN NEPOMUCENO","13657","BOLIVARSAN JUAN NEPOMUCENO","13657"]
["BOLIVAR","13","13667000","SAN MARTIN DE LOBA","13667","BOLIVARSAN MARTIN DE LOBA","13667"]
["BOLIVAR","13","13670000","SAN PABLO","13670","BOLIVARSAN PABLO","13670"]
["BOLIVAR","13","13673000","SANTA CATALINA","13673","BOLIVARSANTA CATALINA","13673"]
["BOLIVAR","13","13683000","SANTA ROSA","13683","BOLIVARSANTA ROSA","13683"]
["BOLIVAR","13","13688000","SANTA ROSA DEL SUR","13688","BOLIVARSANTA ROSA DEL SUR","13688"]
["BOLIVAR","13","13744000","SIMITI","13744","BOLIVARSIMITI","13744"]
["BOLIVAR","13","13760000","SOPLAVIENTO","13760","BOLIVARSOPLAVIENTO","13760"]
["BOLIVAR","13","13780000","TALAIGUA NUEVO","13780","BOLIVARTALAIGUA NUEVO","13780"]
["BOLIVAR","13","13810000","TIQUISIO","13810","BOLIVARTIQUISIO","13810"]
["BOLIVAR","13","13836000","TURBACO","13836","BOLIVARTURBACO","13836"]
["BOLIVAR","13","13838000","TURBANA","13838","BOLIVARTURBANA","13838"]
["BOLIVAR","13","13873000","VILLANUEVA","13873","BOLIVARVILLANUEVA","13873"]
["BOLIVAR","13","13894000","ZAMBRANO","13894","BOLIVARZAMBRANO","13894"]
["BOYACA","15","15001000","TUNJA","15001","BOYACATUNJA","15001"]
["BOYACA","15","15022000","ALMEIDA","15022","BOYACAALMEIDA","15022"]
["BOYACA","15","15047000","AQUITANIA","15047","BOYACAAQUITANIA","15047"]
["BOYACA","15","15051000","ARCABUCO","15051","BOYACAARCABUCO","15051"]
["BOYACA","15","15087000","BELEN","15087","BOYACABELEN","15087"]
["BOYACA","15","15090000","BERBEO","15090","BOYACABERBEO","15090"]
["BOYACA","15","15092000","BETEITIVA","15092","BOYACABETEITIVA","15092"]
["BOYACA","15","15097000","BOAVITA","15097","BOYACABOAVITA","15097"]
["BOYACA","15","15104000","BOYACA","15104","BOYACABOYACA","15104"]
["BOYACA","15","15106000","BRICENO","15106","BOYACABRICENO","15106"]
["BOYACA","15","15109000","BUENAVISTA","15109","BOYACABUENAVISTA","15109"]
["BOYACA","15","15114000","BUSBANZA","15114","BOYACABUSBANZA","15114"]
["BOYACA","15","15131000","CALDAS","15131","BOYACACALDAS","15131"]
["BOYACA","15","15135000","CAMPOHERMOSO","15135","BOYACACAMPOHERMOSO","15135"]
["BOYACA","15","15162000","CERINZA","15162","BOYACACERINZA","15162"]
["BOYACA","15","15172000","CHINAVITA","15172","BOYACACHINAVITA","15172"]
["BOYACA","15","15176000","CHIQUINQUIRA","15176","BOYACACHIQUINQUIRA","15176"]
["BOYACA","15","15180000","CHISCAS","15180","BOYACACHISCAS","15180"]
["BOYACA","15","15183000","CHITA","15183","BOYACACHITA","15183"]
["BOYACA","15","15185000","CHITARAQUE","15185","BOYACACHITARAQUE","15185"]
["BOYACA","15","15187000","CHIVATA","15187","BOYACACHIVATA","15187"]
["BOYACA","15","15189000","CIENEGA","15189","BOYACACIENEGA","15189"]
["BOYACA","15","15204000","COMBITA","15204","BOYACACOMBITA","15204"]
["BOYACA","15","15212000","COPER","15212","BOYACACOPER","15212"]
["BOYACA","15","15215000","CORRALES","15215","BOYACACORRALES","15215"]
["BOYACA","15","15218000","COVARACHIA","15218","BOYACACOVARACHIA","15218"]
["BOYACA","15","15223000","CUBARA","15223","BOYACACUBARA","15223"]
["BOYACA","15","15224000","CUCAITA","15224","BOYACACUCAITA","15224"]
["BOYACA","15","15226000","CUITIVA","15226","BOYACACUITIVA","15226"]
["BOYACA","15","15232000","CHIQUIZA","15232","BOYACACHIQUIZA","15232"]
["BOYACA","15","15236000","CHIVOR","15236","BOYACACHIVOR","15236"]
["BOYACA","15","15238000","DUITAMA","15238","BOYACADUITAMA","15238"]
["BOYACA","15","15244000","EL COCUY","15244","BOYACAEL COCUY","15244"]
["BOYACA","15","15248000","EL ESPINO","15248","BOYACAEL ESPINO","15248"]
["BOYACA","15","15272000","FIRAVITOBA","15272","BOYACAFIRAVITOBA","15272"]
["BOYACA","15","15276000","FLORESTA","15276","BOYACAFLORESTA","15276"]
["BOYACA","15","15293000","GACHANTIVA","15293","BOYACAGACHANTIVA","15293"]
["BOYACA","15","15296000","GAMEZA","15296","BOYACAGAMEZA","15296"]
["BOYACA","15","15299000","GARAGOA","15299","BOYACAGARAGOA","15299"]
["BOYACA","15","15317000","GUACAMAYAS","15317","BOYACAGUACAMAYAS","15317"]
["BOYACA","15","15322000","GUATEQUE","15322","BOYACAGUATEQUE","15322"]
["BOYACA","15","15325000","GUAYATA",{"$f":"LEFT(C258,5)","v":"15325"},{"$f":"CONCATENATE(A258,D258)","v":"BOYACAGUAYATA"},{"$f":"LEFT(C258,5)","v":"15325"}]
["BOYACA","15","15332000","GUICAN","15332","BOYACAGUICAN","15332"]
["BOYACA","15","15362000","IZA","15362","BOYACAIZA","15362"]
["BOYACA","15","15367000","JENESANO","15367","BOYACAJENESANO","15367"]
["BOYACA","15","15368000","JERICO","15368","BOYACAJERICO","15368"]
["BOYACA","15","15377000","LABRANZAGRANDE","15377","BOYACALABRANZAGRANDE","15377"]
["BOYACA","15","15380000","LA CAPILLA","15380","BOYACALA CAPILLA","15380"]
["BOYACA","15","15401000","LA VICTORIA","15401","BOYACALA VICTORIA","15401"]
["BOYACA","15","15403000","LA UVITA","15403","BOYACALA UVITA","15403"]
["BOYACA","15","15407000","VILLA DE LEYVA","15407","BOYACAVILLA DE LEYVA","15407"]
["BOYACA","15","15425000","MACANAL","15425","BOYACAMACANAL","15425"]
["BOYACA","15","15442000","MARIPI","15442","BOYACAMARIPI","15442"]
["BOYACA","15","15455000","MIRAFLORES","15455","BOYACAMIRAFLORES","15455"]
["BOYACA","15","15464000","MONGUA","15464","BOYACAMONGUA","15464"]
["BOYACA","15","15466000","MONGUI","15466","BOYACAMONGUI","15466"]
["BOYACA","15","15469000","MONIQUIRA","15469","BOYACAMONIQUIRA","15469"]
["BOYACA","15","15476000","MOTAVITA","15476","BOYACAMOTAVITA","15476"]
["BOYACA","15","15480000","MUZO","15480","BOYACAMUZO","15480"]
["BOYACA","15","15491000","NOBSA","15491","BOYACANOBSA","15491"]
["BOYACA","15","15494000","NUEVO COLON","15494","BOYACANUEVO COLON","15494"]
["BOYACA","15","15500000","OICATA","15500","BOYACAOICATA","15500"]
["BOYACA","15","15507000","OTANCHE","15507","BOYACAOTANCHE","15507"]
["BOYACA","15","15511000","PACHAVITA","15511","BOYACAPACHAVITA","15511"]
["BOYACA","15","15514000","PAEZ","15514","BOYACAPAEZ","15514"]
["BOYACA","15","15516000","PAIPA","15516","BOYACAPAIPA","15516"]
["BOYACA","15","15518000","PAJARITO","15518","BOYACAPAJARITO","15518"]
["BOYACA","15","15522000","PANQUEBA","15522","BOYACAPANQUEBA","15522"]
["BOYACA","15","15531000","PAUNA","15531","BOYACAPAUNA","15531"]
["BOYACA","15","15533000","PAYA","15533","BOYACAPAYA","15533"]
["BOYACA","15","15537000","PAZ DE RIO","15537","BOYACAPAZ DE RIO","15537"]
["BOYACA","15","15542000","PESCA","15542","BOYACAPESCA","15542"]
["BOYACA","15","15550000","PISBA","15550","BOYACAPISBA","15550"]
["BOYACA","15","15572000","PUERTO BOYACA","15572","BOYACAPUERTO BOYACA","15572"]
["BOYACA","15","15580000","QUIPAMA","15580","BOYACAQUIPAMA","15580"]
["BOYACA","15","15599000","RAMIRIQUI","15599","BOYACARAMIRIQUI","15599"]
["BOYACA","15","15600000","RAQUIRA","15600","BOYACARAQUIRA","15600"]
["BOYACA","15","15621000","RONDON","15621","BOYACARONDON","15621"]
["BOYACA","15","15632000","SABOYA","15632","BOYACASABOYA","15632"]
["BOYACA","15","15638000","SACHICA","15638","BOYACASACHICA","15638"]
["BOYACA","15","15646000","SAMACA","15646","BOYACASAMACA","15646"]
["BOYACA","15","15660000","SAN EDUARDO","15660","BOYACASAN EDUARDO","15660"]
["BOYACA","15","15664000","SAN JOSE DE PARE","15664","BOYACASAN JOSE DE PARE","15664"]
["BOYACA","15","15667000","SAN LUIS DE GACENO","15667","BOYACASAN LUIS DE GACENO","15667"]
["BOYACA","15","15673000","SAN MATEO","15673","BOYACASAN MATEO","15673"]
["BOYACA","15","15676000","SAN MIGUEL DE SEMA","15676","BOYACASAN MIGUEL DE SEMA","15676"]
["BOYACA","15","15681000","SAN PABLO DE BORBUR","15681","BOYACASAN PABLO DE BORBUR","15681"]
["BOYACA","15","15686000","SANTANA","15686","BOYACASANTANA","15686"]
["BOYACA","15","15690000","SANTA MARIA","15690","BOYACASANTA MARIA","15690"]
["BOYACA","15","15693000","SANTA ROSA DE VITERBO","15693","BOYACASANTA ROSA DE VITERBO","15693"]
["BOYACA","15","15696000","SANTA SOFIA","15696","BOYACASANTA SOFIA","15696"]
["BOYACA","15","15720000","SATIVANORTE","15720","BOYACASATIVANORTE","15720"]
["BOYACA","15","15723000","SATIVASUR","15723","BOYACASATIVASUR","15723"]
["BOYACA","15","15740000","SIACHOQUE","15740","BOYACASIACHOQUE","15740"]
["BOYACA","15","15753000","SOATA","15753","BOYACASOATA","15753"]
["BOYACA","15","15755000","SOCOTA","15755","BOYACASOCOTA","15755"]
["BOYACA","15","15757000","SOCHA","15757","BOYACASOCHA","15757"]
["BOYACA","15","15759000","SOGAMOSO","15759","BOYACASOGAMOSO","15759"]
["BOYACA","15","15761000","SOMONDOCO","15761","BOYACASOMONDOCO","15761"]
["BOYACA","15","15762000","SORA","15762","BOYACASORA","15762"]
["BOYACA","15","15763000","SOTAQUIRA","15763","BOYACASOTAQUIRA","15763"]
["BOYACA","15","15764000","SORACA","15764","BOYACASORACA","15764"]
["BOYACA","15","15774000","SUSACON","15774","BOYACASUSACON","15774"]
["BOYACA","15","15776000","SUTAMARCHAN","15776","BOYACASUTAMARCHAN","15776"]
["BOYACA","15","15778000","SUTATENZA","15778","BOYACASUTATENZA","15778"]
["BOYACA","15","15790000","TASCO",{"$f":"LEFT(C322,5)","v":"15790"},{"$f":"CONCATENATE(A322,D322)","v":"BOYACATASCO"},{"$f":"LEFT(C322,5)","v":"15790"}]
["BOYACA","15","15798000","TENZA","15798","BOYACATENZA","15798"]
["BOYACA","15","15804000","TIBANA","15804","BOYACATIBANA","15804"]
["BOYACA","15","15806000","TIBASOSA","15806","BOYACATIBASOSA","15806"]
["BOYACA","15","15808000","TINJACA","15808","BOYACATINJACA","15808"]
["BOYACA","15","15810000","TIPACOQUE","15810","BOYACATIPACOQUE","15810"]
["BOYACA","15","15814000","TOCA","15814","BOYACATOCA","15814"]
["BOYACA","15","15816000","TOGUI","15816","BOYACATOGUI","15816"]
["BOYACA","15","15820000","TOPAGA","15820","BOYACATOPAGA","15820"]
["BOYACA","15","15822000","TOTA","15822","BOYACATOTA","15822"]
["BOYACA","15","15832000","TUNUNGUA","15832","BOYACATUNUNGUA","15832"]
["BOYACA","15","15835000","TURMEQUE","15835","BOYACATURMEQUE","15835"]
["BOYACA","15","15837000","TUTA","15837","BOYACATUTA","15837"]
["BOYACA","15","15839000","TUTAZA","15839","BOYACATUTAZA","15839"]
["BOYACA","15","15842000","UMBITA","15842","BOYACAUMBITA","15842"]
["BOYACA","15","15861000","VENTAQUEMADA","15861","BOYACAVENTAQUEMADA","15861"]
["BOYACA","15","15879000","VIRACACHA","15879","BOYACAVIRACACHA","15879"]
["BOYACA","15","15897000","ZETAQUIRA","15897","BOYACAZETAQUIRA","15897"]
["CALDAS","17","17001000","MANIZALES","17001","CALDASMANIZALES","17001"]
["CALDAS","17","17013000","AGUADAS","17013","CALDASAGUADAS","17013"]
["CALDAS","17","17042000","ANSERMA","17042","CALDASANSERMA","17042"]
["CALDAS","17","17050000","ARANZAZU","17050","CALDASARANZAZU","17050"]
["CALDAS","17","17088000","BELALCAZAR","17088","CALDASBELALCAZAR","17088"]
["CALDAS","17","17174000","CHINCHINA","17174","CALDASCHINCHINA","17174"]
["CALDAS","17","17272000","FILADELFIA","17272","CALDASFILADELFIA","17272"]
["CALDAS","17","17380000","LA DORADA","17380","CALDASLA DORADA","17380"]
["CALDAS","17","17388000","LA MERCED","17388","CALDASLA MERCED","17388"]
["CALDAS","17","17433000","MANZANARES","17433","CALDASMANZANARES","17433"]
["CALDAS","17","17442000","MARMATO","17442","CALDASMARMATO","17442"]
["CALDAS","17","17444000","MARQUETALIA","17444","CALDASMARQUETALIA","17444"]
["CALDAS","17","17446000","MARULANDA","17446","CALDASMARULANDA","17446"]
["CALDAS","17","17486000","NEIRA","17486","CALDASNEIRA","17486"]
["CALDAS","17","17495000","NORCASIA","17495","CALDASNORCASIA","17495"]
["CALDAS","17","17513000","PACORA","17513","CALDASPACORA","17513"]
["CALDAS","17","17524000","PALESTINA","17524","CALDASPALESTINA","17524"]
["CALDAS","17","17541000","PENSILVANIA","17541","CALDASPENSILVANIA","17541"]
["CALDAS","17","17614000","RIOSUCIO","17614","CALDASRIOSUCIO","17614"]
["CALDAS","17","17616000","RISARALDA","17616","CALDASRISARALDA","17616"]
["CALDAS","17","17653000","SALAMINA","17653","CALDASSALAMINA","17653"]
["CALDAS","17","17662000","SAMANA","17662","CALDASSAMANA","17662"]
["CALDAS","17","17665000","SAN JOSE","17665","CALDASSAN JOSE","17665"]
["CALDAS","17","17777000","SUPIA","17777","CALDASSUPIA","17777"]
["CALDAS","17","17867000","VICTORIA","17867","CALDASVICTORIA","17867"]
["CALDAS","17","17873000","VILLAMARIA","17873","CALDASVILLAMARIA","17873"]
["CALDAS","17","17877000","VITERBO","17877","CALDASVITERBO","17877"]
["CAQUETA","18","18001000","FLORENCIA","18001","CAQUETAFLORENCIA","18001"]
["CAQUETA","18","18029000","ALBANIA","18029","CAQUETAALBANIA","18029"]
["CAQUETA","18","18094000","BELEN DE LOS ANDAQUIES","18094","CAQUETABELEN DE LOS ANDAQUIES","18094"]
["CAQUETA","18","18150000","CARTAGENA DEL CHAIRA","18150","CAQUETACARTAGENA DEL CHAIRA","18150"]
["CAQUETA","18","18205000","CURILLO","18205","CAQUETACURILLO","18205"]
["CAQUETA","18","18247000","EL DONCELLO","18247","CAQUETAEL DONCELLO","18247"]
["CAQUETA","18","18256000","EL PAUJIL","18256","CAQUETAEL PAUJIL","18256"]
["CAQUETA","18","18410000","LA MONTANITA","18410","CAQUETALA MONTANITA","18410"]
["CAQUETA","18","18460000","MILAN","18460","CAQUETAMILAN","18460"]
["CAQUETA","18","18479000","MORELIA","18479","CAQUETAMORELIA","18479"]
["CAQUETA","18","18592000","PUERTO RICO","18592","CAQUETAPUERTO RICO","18592"]
["CAQUETA","18","18610000","SAN JOSE DEL FRAGUA","18610","CAQUETASAN JOSE DEL FRAGUA","18610"]
["CAQUETA","18","18753000","SAN VICENTE DEL CAGUAN","18753","CAQUETASAN VICENTE DEL CAGUAN","18753"]
["CAQUETA","18","18756000","SOLANO","18756","CAQUETASOLANO","18756"]
["CAQUETA","18","18785000","SOLITA","18785","CAQUETASOLITA","18785"]
["CAQUETA","18","18860000","VALPARAISO","18860","CAQUETAVALPARAISO","18860"]
["CASANARE","85","85001000","YOPAL","85001","CASANAREYOPAL","85001"]
["CASANARE","85","85010000","AGUAZUL","85010","CASANAREAGUAZUL","85010"]
["CASANARE","85","85015000","CHAMEZA","85015","CASANARECHAMEZA","85015"]
["CASANARE","85","85125000","HATO COROZAL",{"$f":"LEFT(C386,5)","v":"85125"},{"$f":"CONCATENATE(A386,D386)","v":"CASANAREHATO COROZAL"},{"$f":"LEFT(C386,5)","v":"85125"}]
["CASANARE","85","85136000","LA SALINA","85136","CASANARELA SALINA","85136"]
["CASANARE","85","85139000","MANI","85139","CASANAREMANI","85139"]
["CASANARE","85","85162000","MONTERREY","85162","CASANAREMONTERREY","85162"]
["CASANARE","85","85225000","NUNCHIA","85225","CASANARENUNCHIA","85225"]
["CASANARE","85","85230000","OROCUE","85230","CASANAREOROCUE","85230"]
["CASANARE","85","85250000","PAZ DE ARIPORO","85250","CASANAREPAZ DE ARIPORO","85250"]
["CASANARE","85","85263000","PORE","85263","CASANAREPORE","85263"]
["CASANARE","85","85279000","RECETOR","85279","CASANARERECETOR","85279"]
["CASANARE","85","85300000","SABANALARGA","85300","CASANARESABANALARGA","85300"]
["CASANARE","85","85315000","SACAMA","85315","CASANARESACAMA","85315"]
["CASANARE","85","85325000","SAN LUIS DE PALENQUE","85325","CASANARESAN LUIS DE PALENQUE","85325"]
["CASANARE","85","85400000","TAMARA","85400","CASANARETAMARA","85400"]
["CASANARE","85","85410000","TAURAMENA","85410","CASANARETAURAMENA","85410"]
["CASANARE","85","85430000","TRINIDAD","85430","CASANARETRINIDAD","85430"]
["CASANARE","85","85440000","VILLANUEVA","85440","CASANAREVILLANUEVA","85440"]
["CAUCA","19","19001000","POPAYAN","19001","CAUCAPOPAYAN","19001"]
["CAUCA","19","19022000","ALMAGUER","19022","CAUCAALMAGUER","19022"]
["CAUCA","19","19050000","ARGELIA","19050","CAUCAARGELIA","19050"]
["CAUCA","19","19075000","BALBOA","19075","CAUCABALBOA","19075"]
["CAUCA","19","19100000","BOLIVAR","19100","CAUCABOLIVAR","19100"]
["CAUCA","19","19110000","BUENOS AIRES","19110","CAUCABUENOS AIRES","19110"]
["CAUCA","19","19130000","CAJIBIO","19130","CAUCACAJIBIO","19130"]
["CAUCA","19","19137000","CALDONO","19137","CAUCACALDONO","19137"]
["CAUCA","19","19142000","CALOTO","19142","CAUCACALOTO","19142"]
["CAUCA","19","19212000","CORINTO","19212","CAUCACORINTO","19212"]
["CAUCA","19","19256000","EL TAMBO","19256","CAUCAEL TAMBO","19256"]
["CAUCA","19","19290000","FLORENCIA","19290","CAUCAFLORENCIA","19290"]
["CAUCA","19","19300000","GUACHENE","19300","CAUCAGUACHENE","19300"]
["CAUCA","19","19318000","GUAPI","19318","CAUCAGUAPI","19318"]
["CAUCA","19","19355000","INZA","19355","CAUCAINZA","19355"]
["CAUCA","19","19364000","JAMBALO","19364","CAUCAJAMBALO","19364"]
["CAUCA","19","19392000","LA SIERRA","19392","CAUCALA SIERRA","19392"]
["CAUCA","19","19397000","LA VEGA","19397","CAUCALA VEGA","19397"]
["CAUCA","19","19418000","LOPEZ","19418","CAUCALOPEZ","19418"]
["CAUCA","19","19450000","MERCADERES","19450","CAUCAMERCADERES","19450"]
["CAUCA","19","19455000","MIRANDA","19455","CAUCAMIRANDA","19455"]
["CAUCA","19","19473000","MORALES","19473","CAUCAMORALES","19473"]
["CAUCA","19","19513000","PADILLA","19513","CAUCAPADILLA","19513"]
["CAUCA","19","19517000","PAEZ","19517","CAUCAPAEZ","19517"]
["CAUCA","19","19532000","PATIA","19532","CAUCAPATIA","19532"]
["CAUCA","19","19533000","PIAMONTE","19533","CAUCAPIAMONTE","19533"]
["CAUCA","19","19548000","PIENDAMO","19548","CAUCAPIENDAMO","19548"]
["CAUCA","19","19573000","PUERTO TEJADA","19573","CAUCAPUERTO TEJADA","19573"]
["CAUCA","19","19585000","PURACE","19585","CAUCAPURACE","19585"]
["CAUCA","19","19622000","ROSAS","19622","CAUCAROSAS","19622"]
["CAUCA","19","19693000","SAN SEBASTIAN","19693","CAUCASAN SEBASTIAN","19693"]
["CAUCA","19","19698000","SANTANDER DE QUILICHAO","19698","CAUCASANTANDER DE QUILICHAO","19698"]
["CAUCA","19","19701000","SANTA ROSA","19701","CAUCASANTA ROSA","19701"]
["CAUCA","19","19743000","SILVIA","19743","CAUCASILVIA","19743"]
["CAUCA","19","19760000","SOTARA","19760","CAUCASOTARA","19760"]
["CAUCA","19","19780000","SUAREZ","19780","CAUCASUAREZ","19780"]
["CAUCA","19","19785000","SUCRE","19785","CAUCASUCRE","19785"]
["CAUCA","19","19807000","TIMBIO","19807","CAUCATIMBIO","19807"]
["CAUCA","19","19809000","TIMBIQUI","19809","CAUCATIMBIQUI","19809"]
["CAUCA","19","19821000","TORIBIO","19821","CAUCATORIBIO","19821"]
["CAUCA","19","19824000","TOTORO","19824","CAUCATOTORO","19824"]
["CAUCA","19","19845000","VILLA RICA","19845","CAUCAVILLA RICA","19845"]
["CESAR","20","20001000","VALLEDUPAR","20001","CESARVALLEDUPAR","20001"]
["CESAR","20","20011000","AGUACHICA","20011","CESARAGUACHICA","20011"]
["CESAR","20","20013000","AGUSTIN CODAZZI","20013","CESARAGUSTIN CODAZZI","20013"]
["CESAR","20","20032000","ASTREA","20032","CESARASTREA","20032"]
["CESAR","20","20045000","BECERRIL","20045","CESARBECERRIL","20045"]
["CESAR","20","20060000","BOSCONIA","20060","CESARBOSCONIA","20060"]
["CESAR","20","20175000","CHIMICHAGUA",{"$f":"LEFT(C450,5)","v":"20175"},{"$f":"CONCATENATE(A450,D450)","v":"CESARCHIMICHAGUA"},{"$f":"LEFT(C450,5)","v":"20175"}]
["CESAR","20","20178000","CHIRIGUANA","20178","CESARCHIRIGUANA","20178"]
["CESAR","20","20228000","CURUMANI","20228","CESARCURUMANI","20228"]
["CESAR","20","20238000","EL COPEY","20238","CESAREL COPEY","20238"]
["CESAR","20","20250000","EL PASO","20250","CESAREL PASO","20250"]
["CESAR","20","20295000","GAMARRA","20295","CESARGAMARRA","20295"]
["CESAR","20","20310000","GONZALEZ","20310","CESARGONZALEZ","20310"]
["CESAR","20","20383000","LA GLORIA","20383","CESARLA GLORIA","20383"]
["CESAR","20","20400000","LA JAGUA DE IBIRICO","20400","CESARLA JAGUA DE IBIRICO","20400"]
["CESAR","20","20443000","MANAURE","20443","CESARMANAURE","20443"]
["CESAR","20","20517000","PAILITAS","20517","CESARPAILITAS","20517"]
["CESAR","20","20550000","PELAYA","20550","CESARPELAYA","20550"]
["CESAR","20","20570000","PUEBLO BELLO","20570","CESARPUEBLO BELLO","20570"]
["CESAR","20","20614000","RIO DE ORO","20614","CESARRIO DE ORO","20614"]
["CESAR","20","20621000","LA PAZ","20621","CESARLA PAZ","20621"]
["CESAR","20","20710000","SAN ALBERTO","20710","CESARSAN ALBERTO","20710"]
["CESAR","20","20750000","SAN DIEGO","20750","CESARSAN DIEGO","20750"]
["CESAR","20","20770000","SAN MARTIN","20770","CESARSAN MARTIN","20770"]
["CESAR","20","20787000","TAMALAMEQUE","20787","CESARTAMALAMEQUE","20787"]
["CHOCO","27","27001000","QUIBDO","27001","CHOCOQUIBDO","27001"]
["CHOCO","27","27006000","ACANDI","27006","CHOCOACANDI","27006"]
["CHOCO","27","27025000","ALTO BAUDO","27025","CHOCOALTO BAUDO","27025"]
["CHOCO","27","27050000","ATRATO","27050","CHOCOATRATO","27050"]
["CHOCO","27","27073000","BAGADO","27073","CHOCOBAGADO","27073"]
["CHOCO","27","27075000","BAHIA SOLANO","27075","CHOCOBAHIA SOLANO","27075"]
["CHOCO","27","27077000","BAJO BAUDO","27077","CHOCOBAJO BAUDO","27077"]
["CHOCO","27","27099000","BOJAYA","27099","CHOCOBOJAYA","27099"]
["CHOCO","27","27135000","EL CANTON DEL SAN PABLO","27135","CHOCOEL CANTON DEL SAN PABLO","27135"]
["CHOCO","27","27150000","CARMEN DEL DARIEN","27150","CHOCOCARMEN DEL DARIEN","27150"]
["CHOCO","27","27160000","CERTEGUI","27160","CHOCOCERTEGUI","27160"]
["CHOCO","27","27205000","CONDOTO","27205","CHOCOCONDOTO","27205"]
["CHOCO","27","27245000","EL CARMEN DE ATRATO","27245","CHOCOEL CARMEN DE ATRATO","27245"]
["CHOCO","27","27250000","EL LITORAL DEL SAN JUAN","27250","CHOCOEL LITORAL DEL SAN JUAN","27250"]
["CHOCO","27","27361000","ISTMINA","27361","CHOCOISTMINA","27361"]
["CHOCO","27","27372000","JURADO","27372","CHOCOJURADO","27372"]
["CHOCO","27","27413000","LLORO","27413","CHOCOLLORO","27413"]
["CHOCO","27","27425000","MEDIO ATRATO","27425","CHOCOMEDIO ATRATO","27425"]
["CHOCO","27","27430000","MEDIO BAUDO","27430","CHOCOMEDIO BAUDO","27430"]
["CHOCO","27","27450000","MEDIO SAN JUAN","27450","CHOCOMEDIO SAN JUAN","27450"]
["CHOCO","27","27491000","NOVITA","27491","CHOCONOVITA","27491"]
["CHOCO","27","27495000","NUQUI","27495","CHOCONUQUI","27495"]
["CHOCO","27","27580000","RIO IRO","27580","CHOCORIO IRO","27580"]
["CHOCO","27","27600000","RIO QUITO","27600","CHOCORIO QUITO","27600"]
["CHOCO","27","27615000","RIOSUCIO","27615","CHOCORIOSUCIO","27615"]
["CHOCO","27","27660000","SAN JOSE DEL PALMAR","27660","CHOCOSAN JOSE DEL PALMAR","27660"]
["CHOCO","27","27745000","SIPI","27745","CHOCOSIPI","27745"]
["CHOCO","27","27787000","TADO","27787","CHOCOTADO","27787"]
["CHOCO","27","27800000","UNGUIA","27800","CHOCOUNGUIA","27800"]
["CHOCO","27","27810000","UNION PANAMERICANA","27810","CHOCOUNION PANAMERICANA","27810"]
["CORDOBA","23","23001000","MONTERIA","23001","CORDOBAMONTERIA","23001"]
["CORDOBA","23","23068000","AYAPEL","23068","CORDOBAAYAPEL","23068"]
["CORDOBA","23","23079000","BUENAVISTA","23079","CORDOBABUENAVISTA","23079"]
["CORDOBA","23","23090000","CANALETE","23090","CORDOBACANALETE","23090"]
["CORDOBA","23","23162000","CERETE","23162","CORDOBACERETE","23162"]
["CORDOBA","23","23168000","CHIMA","23168","CORDOBACHIMA","23168"]
["CORDOBA","23","23182000","CHINU","23182","CORDOBACHINU","23182"]
["CORDOBA","23","23189000","CIENAGA DE ORO","23189","CORDOBACIENAGA DE ORO","23189"]
["CORDOBA","23","23300000","COTORRA","23300","CORDOBACOTORRA","23300"]
["CORDOBA","23","23350000","LA APARTADA","23350","CORDOBALA APARTADA","23350"]
["CORDOBA","23","23417000","LORICA","23417","CORDOBALORICA","23417"]
["CORDOBA","23","23419000","LOS CORDOBAS","23419","CORDOBALOS CORDOBAS","23419"]
["CORDOBA","23","23464000","MOMIL","23464","CORDOBAMOMIL","23464"]
["CORDOBA","23","23466000","MONTELIBANO","23466","CORDOBAMONTELIBANO","23466"]
["CORDOBA","23","23500000","MONITOS","23500","CORDOBAMONITOS","23500"]
["CORDOBA","23","23555000","PLANETA RICA",{"$f":"LEFT(C514,5)","v":"23555"},{"$f":"CONCATENATE(A514,D514)","v":"CORDOBAPLANETA RICA"},{"$f":"LEFT(C514,5)","v":"23555"}]
["CORDOBA","23","23570000","PUEBLO NUEVO","23570","CORDOBAPUEBLO NUEVO","23570"]
["CORDOBA","23","23574000","PUERTO ESCONDIDO","23574","CORDOBAPUERTO ESCONDIDO","23574"]
["CORDOBA","23","23580000","PUERTO LIBERTADOR","23580","CORDOBAPUERTO LIBERTADOR","23580"]
["CORDOBA","23","23586000","PURISIMA","23586","CORDOBAPURISIMA","23586"]
["CORDOBA","23","23660000","SAHAGUN","23660","CORDOBASAHAGUN","23660"]
["CORDOBA","23","23670000","SAN ANDRES SOTAVENTO","23670","CORDOBASAN ANDRES SOTAVENTO","23670"]
["CORDOBA","23","23672000","SAN ANTERO","23672","CORDOBASAN ANTERO","23672"]
["CORDOBA","23","23675000","SAN BERNARDO DEL VIENTO","23675","CORDOBASAN BERNARDO DEL VIENTO","23675"]
["CORDOBA","23","23678000","SAN CARLOS","23678","CORDOBASAN CARLOS","23678"]
["CORDOBA","23","23682000","SAN JOSE DE URE","23682","CORDOBASAN JOSE DE URE","23682"]
["CORDOBA","23","23686000","SAN PELAYO","23686","CORDOBASAN PELAYO","23686"]
["CORDOBA","23","23807000","TIERRALTA","23807","CORDOBATIERRALTA","23807"]
["CORDOBA","23","23815000","TUCHIN","23815","CORDOBATUCHIN","23815"]
["CORDOBA","23","23855000","VALENCIA","23855","CORDOBAVALENCIA","23855"]
["CUNDINAMARCA","25","25754000","SOACHA","25754","CUNDINAMARCASOACHA","25754"]
["CUNDINAMARCA","25","25758000","SOPO","25758","CUNDINAMARCASOPO","25758"]
["CUNDINAMARCA","25","25769000","SUBACHOQUE","25769","CUNDINAMARCASUBACHOQUE","25769"]
["CUNDINAMARCA","25","25772000","SUESCA","25772","CUNDINAMARCASUESCA","25772"]
["CUNDINAMARCA","25","25777000","SUPATA","25777","CUNDINAMARCASUPATA","25777"]
["CUNDINAMARCA","25","25779000","SUSA","25779","CUNDINAMARCASUSA","25779"]
["CUNDINAMARCA","25","25781000","SUTATAUSA","25781","CUNDINAMARCASUTATAUSA","25781"]
["CUNDINAMARCA","25","25785000","TABIO","25785","CUNDINAMARCATABIO","25785"]
["CUNDINAMARCA","25","25793000","TAUSA","25793","CUNDINAMARCATAUSA","25793"]
["CUNDINAMARCA","25","25797000","TENA","25797","CUNDINAMARCATENA","25797"]
["CUNDINAMARCA","25","25799000","TENJO","25799","CUNDINAMARCATENJO","25799"]
["CUNDINAMARCA","25","25805000","TIBACUY","25805","CUNDINAMARCATIBACUY","25805"]
["CUNDINAMARCA","25","25807000","TIBIRITA","25807","CUNDINAMARCATIBIRITA","25807"]
["CUNDINAMARCA","25","25815000","TOCAIMA","25815","CUNDINAMARCATOCAIMA","25815"]
["CUNDINAMARCA","25","25817000","TOCANCIPA","25817","CUNDINAMARCATOCANCIPA","25817"]
["CUNDINAMARCA","25","25823000","TOPAIPI","25823","CUNDINAMARCATOPAIPI","25823"]
["CUNDINAMARCA","25","25839000","UBALA","25839","CUNDINAMARCAUBALA","25839"]
["CUNDINAMARCA","25","25841000","UBAQUE","25841","CUNDINAMARCAUBAQUE","25841"]
["CUNDINAMARCA","25","25843000","VILLA DE SAN DIEGO DE UBATE","25843","CUNDINAMARCAVILLA DE SAN DIEGO DE UBATE","25843"]
["CUNDINAMARCA","25","25845000","UNE","25845","CUNDINAMARCAUNE","25845"]
["CUNDINAMARCA","25","25851000","UTICA","25851","CUNDINAMARCAUTICA","25851"]
["CUNDINAMARCA","25","25862000","VERGARA","25862","CUNDINAMARCAVERGARA","25862"]
["CUNDINAMARCA","25","25867000","VIANI","25867","CUNDINAMARCAVIANI","25867"]
["CUNDINAMARCA","25","25871000","VILLAGOMEZ","25871","CUNDINAMARCAVILLAGOMEZ","25871"]
["CUNDINAMARCA","25","25873000","VILLAPINZON","25873","CUNDINAMARCAVILLAPINZON","25873"]
["CUNDINAMARCA","25","25875000","VILLETA","25875","CUNDINAMARCAVILLETA","25875"]
["CUNDINAMARCA","25","25878000","VIOTA","25878","CUNDINAMARCAVIOTA","25878"]
["CUNDINAMARCA","25","25885000","YACOPI","25885","CUNDINAMARCAYACOPI","25885"]
["CUNDINAMARCA","25","25898000","ZIPACON","25898","CUNDINAMARCAZIPACON","25898"]
["CUNDINAMARCA","25","25899000","ZIPAQUIRA","25899","CUNDINAMARCAZIPAQUIRA","25899"]
["CUNDINAMARCA","25","25001000","AGUA DE DIOS","25001","CUNDINAMARCAAGUA DE DIOS","25001"]
["CUNDINAMARCA","25","25019000","ALBAN","25019","CUNDINAMARCAALBAN","25019"]
["CUNDINAMARCA","25","25035000","ANAPOIMA","25035","CUNDINAMARCAANAPOIMA","25035"]
["CUNDINAMARCA","25","25040000","ANOLAIMA","25040","CUNDINAMARCAANOLAIMA","25040"]
["CUNDINAMARCA","25","25053000","ARBELAEZ","25053","CUNDINAMARCAARBELAEZ","25053"]
["CUNDINAMARCA","25","25086000","BELTRAN","25086","CUNDINAMARCABELTRAN","25086"]
["CUNDINAMARCA","25","25095000","BITUIMA","25095","CUNDINAMARCABITUIMA","25095"]
["CUNDINAMARCA","25","25099000","BOJACA","25099","CUNDINAMARCABOJACA","25099"]
["CUNDINAMARCA","25","25120000","CABRERA","25120","CUNDINAMARCACABRERA","25120"]
["CUNDINAMARCA","25","25123000","CACHIPAY","25123","CUNDINAMARCACACHIPAY","25123"]
["CUNDINAMARCA","25","25126000","CAJICA","25126","CUNDINAMARCACAJICA","25126"]
["CUNDINAMARCA","25","25148000","CAPARRAPI","25148","CUNDINAMARCACAPARRAPI","25148"]
["CUNDINAMARCA","25","25151000","CAQUEZA","25151","CUNDINAMARCACAQUEZA","25151"]
["CUNDINAMARCA","25","25154000","CARMEN DE CARUPA","25154","CUNDINAMARCACARMEN DE CARUPA","25154"]
["CUNDINAMARCA","25","25168000","CHAGUANI","25168","CUNDINAMARCACHAGUANI","25168"]
["CUNDINAMARCA","25","25175000","CHIA","25175","CUNDINAMARCACHIA","25175"]
["CUNDINAMARCA","25","25178000","CHIPAQUE","25178","CUNDINAMARCACHIPAQUE","25178"]
["CUNDINAMARCA","25","25181000","CHOACHI","25181","CUNDINAMARCACHOACHI","25181"]
["CUNDINAMARCA","25","25183000","CHOCONTA","25183","CUNDINAMARCACHOCONTA","25183"]
["CUNDINAMARCA","25","25200000","COGUA",{"$f":"LEFT(C578,5)","v":"25200"},{"$f":"CONCATENATE(A578,D578)","v":"CUNDINAMARCACOGUA"},{"$f":"LEFT(C578,5)","v":"25200"}]
["CUNDINAMARCA","25","25214000","COTA","25214","CUNDINAMARCACOTA","25214"]
["CUNDINAMARCA","25","25224000","CUCUNUBA","25224","CUNDINAMARCACUCUNUBA","25224"]
["CUNDINAMARCA","25","25245000","EL COLEGIO","25245","CUNDINAMARCAEL COLEGIO","25245"]
["CUNDINAMARCA","25","25258000","EL PENON","25258","CUNDINAMARCAEL PENON","25258"]
["CUNDINAMARCA","25","25260000","EL ROSAL","25260","CUNDINAMARCAEL ROSAL","25260"]
["CUNDINAMARCA","25","25269000","FACATATIVA","25269","CUNDINAMARCAFACATATIVA","25269"]
["CUNDINAMARCA","25","25279000","FOMEQUE","25279","CUNDINAMARCAFOMEQUE","25279"]
["CUNDINAMARCA","25","25281000","FOSCA","25281","CUNDINAMARCAFOSCA","25281"]
["CUNDINAMARCA","25","25286000","FUNZA","25286","CUNDINAMARCAFUNZA","25286"]
["CUNDINAMARCA","25","25288000","FUQUENE","25288","CUNDINAMARCAFUQUENE","25288"]
["CUNDINAMARCA","25","25290000","FUSAGASUGA","25290","CUNDINAMARCAFUSAGASUGA","25290"]
["CUNDINAMARCA","25","25293000","GACHALA","25293","CUNDINAMARCAGACHALA","25293"]
["CUNDINAMARCA","25","25295000","GACHANCIPA","25295","CUNDINAMARCAGACHANCIPA","25295"]
["CUNDINAMARCA","25","25297000","GACHETA","25297","CUNDINAMARCAGACHETA","25297"]
["CUNDINAMARCA","25","25299000","GAMA","25299","CUNDINAMARCAGAMA","25299"]
["CUNDINAMARCA","25","25307000","GIRARDOT","25307","CUNDINAMARCAGIRARDOT","25307"]
["CUNDINAMARCA","25","25312000","GRANADA","25312","CUNDINAMARCAGRANADA","25312"]
["CUNDINAMARCA","25","25317000","GUACHETA","25317","CUNDINAMARCAGUACHETA","25317"]
["CUNDINAMARCA","25","25320000","GUADUAS","25320","CUNDINAMARCAGUADUAS","25320"]
["CUNDINAMARCA","25","25322000","GUASCA","25322","CUNDINAMARCAGUASCA","25322"]
["CUNDINAMARCA","25","25324000","GUATAQUI","25324","CUNDINAMARCAGUATAQUI","25324"]
["CUNDINAMARCA","25","25326000","GUATAVITA","25326","CUNDINAMARCAGUATAVITA","25326"]
["CUNDINAMARCA","25","25328000","GUAYABAL DE SIQUIMA","25328","CUNDINAMARCAGUAYABAL DE SIQUIMA","25328"]
["CUNDINAMARCA","25","25335000","GUAYABETAL","25335","CUNDINAMARCAGUAYABETAL","25335"]
["CUNDINAMARCA","25","25339000","GUTIERREZ","25339","CUNDINAMARCAGUTIERREZ","25339"]
["CUNDINAMARCA","25","25368000","JERUSALEN","25368","CUNDINAMARCAJERUSALEN","25368"]
["CUNDINAMARCA","25","25372000","JUNIN","25372","CUNDINAMARCAJUNIN","25372"]
["CUNDINAMARCA","25","25377000","LA CALERA","25377","CUNDINAMARCALA CALERA","25377"]
["CUNDINAMARCA","25","25386000","LA MESA","25386","CUNDINAMARCALA MESA","25386"]
["CUNDINAMARCA","25","25394000","LA PALMA","25394","CUNDINAMARCALA PALMA","25394"]
["CUNDINAMARCA","25","25398000","LA PENA","25398","CUNDINAMARCALA PENA","25398"]
["CUNDINAMARCA","25","25402000","LA VEGA","25402","CUNDINAMARCALA VEGA","25402"]
["CUNDINAMARCA","25","25407000","LENGUAZAQUE","25407","CUNDINAMARCALENGUAZAQUE","25407"]
["CUNDINAMARCA","25","25426000","MACHETA","25426","CUNDINAMARCAMACHETA","25426"]
["CUNDINAMARCA","25","25430000","MADRID","25430","CUNDINAMARCAMADRID","25430"]
["CUNDINAMARCA","25","25436000","MANTA","25436","CUNDINAMARCAMANTA","25436"]
["CUNDINAMARCA","25","25438000","MEDINA","25438","CUNDINAMARCAMEDINA","25438"]
["CUNDINAMARCA","25","25473000","MOSQUERA","25473","CUNDINAMARCAMOSQUERA","25473"]
["CUNDINAMARCA","25","25483000","NARINO","25483","CUNDINAMARCANARINO","25483"]
["CUNDINAMARCA","25","25486000","NEMOCON","25486","CUNDINAMARCANEMOCON","25486"]
["CUNDINAMARCA","25","25488000","NILO","25488","CUNDINAMARCANILO","25488"]
["CUNDINAMARCA","25","25489000","NIMAIMA","25489","CUNDINAMARCANIMAIMA","25489"]
["CUNDINAMARCA","25","25491000","NOCAIMA","25491","CUNDINAMARCANOCAIMA","25491"]
["CUNDINAMARCA","25","25506000","VENECIA","25506","CUNDINAMARCAVENECIA","25506"]
["CUNDINAMARCA","25","25513000","PACHO","25513","CUNDINAMARCAPACHO","25513"]
["CUNDINAMARCA","25","25518000","PAIME","25518","CUNDINAMARCAPAIME","25518"]
["CUNDINAMARCA","25","25524000","PANDI","25524","CUNDINAMARCAPANDI","25524"]
["CUNDINAMARCA","25","25530000","PARATEBUENO","25530","CUNDINAMARCAPARATEBUENO","25530"]
["CUNDINAMARCA","25","25535000","PASCA","25535","CUNDINAMARCAPASCA","25535"]
["CUNDINAMARCA","25","25572000","PUERTO SALGAR","25572","CUNDINAMARCAPUERTO SALGAR","25572"]
["CUNDINAMARCA","25","25580000","PULI","25580","CUNDINAMARCAPULI","25580"]
["CUNDINAMARCA","25","25592000","QUEBRADANEGRA","25592","CUNDINAMARCAQUEBRADANEGRA","25592"]
["CUNDINAMARCA","25","25594000","QUETAME","25594","CUNDINAMARCAQUETAME","25594"]
["CUNDINAMARCA","25","25596000","QUIPILE","25596","CUNDINAMARCAQUIPILE","25596"]
["CUNDINAMARCA","25","25599000","APULO","25599","CUNDINAMARCAAPULO","25599"]
["CUNDINAMARCA","25","25612000","RICAURTE","25612","CUNDINAMARCARICAURTE","25612"]
["CUNDINAMARCA","25","25645000","SAN ANTONIO DEL TEQUENDAMA","25645","CUNDINAMARCASAN ANTONIO DEL TEQUENDAMA","25645"]
["CUNDINAMARCA","25","25649000","SAN BERNARDO","25649","CUNDINAMARCASAN BERNARDO","25649"]
["CUNDINAMARCA","25","25653000","SAN CAYETANO","25653","CUNDINAMARCASAN CAYETANO","25653"]
["CUNDINAMARCA","25","25658000","SAN FRANCISCO","25658","CUNDINAMARCASAN FRANCISCO","25658"]
["CUNDINAMARCA","25","25662000","SAN JUAN DE RIO SECO","25662","CUNDINAMARCASAN JUAN DE RIO SECO","25662"]
["CUNDINAMARCA","25","25718000","SASAIMA","25718","CUNDINAMARCASASAIMA","25718"]
["CUNDINAMARCA","25","25736000","SESQUILE","25736","CUNDINAMARCASESQUILE","25736"]
["CUNDINAMARCA","25","25740000","SIBATE",{"$f":"LEFT(C642,5)","v":"25740"},{"$f":"CONCATENATE(A642,D642)","v":"CUNDINAMARCASIBATE"},{"$f":"LEFT(C642,5)","v":"25740"}]
["CUNDINAMARCA","25","25743000","SILVANIA","25743","CUNDINAMARCASILVANIA","25743"]
["CUNDINAMARCA","25","25745000","SIMIJACA","25745","CUNDINAMARCASIMIJACA","25745"]
["GUAINIA","94","94001000","INIRIDA","94001","GUAINIAINIRIDA","94001"]
["GUAINIA","94","94343000","BARRANCO MINAS","94343","GUAINIABARRANCO MINAS","94343"]
["GUAINIA","94","94663000","MAPIRIPANA","94663","GUAINIAMAPIRIPANA","94663"]
["GUAINIA","94","94883000","SAN FELIPE","94883","GUAINIASAN FELIPE","94883"]
["GUAINIA","94","94884000","PUERTO COLOMBIA","94884","GUAINIAPUERTO COLOMBIA","94884"]
["GUAINIA","94","94885000","LA GUADALUPE","94885","GUAINIALA GUADALUPE","94885"]
["GUAINIA","94","94886000","CACAHUAL","94886","GUAINIACACAHUAL","94886"]
["GUAINIA","94","94887000","PANA PANA","94887","GUAINIAPANA PANA","94887"]
["GUAINIA","94","94888000","MORICHAL","94888","GUAINIAMORICHAL","94888"]
["GUAVIARE","95","95001000","SAN JOSE DEL GUAVIARE","95001","GUAVIARESAN JOSE DEL GUAVIARE","95001"]
["GUAVIARE","95","95015000","CALAMAR","95015","GUAVIARECALAMAR","95015"]
["GUAVIARE","95","95025000","EL RETORNO","95025","GUAVIAREEL RETORNO","95025"]
["GUAVIARE","95","95200000","MIRAFLORES","95200","GUAVIAREMIRAFLORES","95200"]
["HUILA","41","41001000","NEIVA","41001","HUILANEIVA","41001"]
["HUILA","41","41006000","ACEVEDO","41006","HUILAACEVEDO","41006"]
["HUILA","41","41013000","AGRADO","41013","HUILAAGRADO","41013"]
["HUILA","41","41016000","AIPE","41016","HUILAAIPE","41016"]
["HUILA","41","41020000","ALGECIRAS","41020","HUILAALGECIRAS","41020"]
["HUILA","41","41026000","ALTAMIRA","41026","HUILAALTAMIRA","41026"]
["HUILA","41","41078000","BARAYA","41078","HUILABARAYA","41078"]
["HUILA","41","41132000","CAMPOALEGRE","41132","HUILACAMPOALEGRE","41132"]
["HUILA","41","41206000","COLOMBIA","41206","HUILACOLOMBIA","41206"]
["HUILA","41","41244000","ELIAS","41244","HUILAELIAS","41244"]
["HUILA","41","41298000","GARZON","41298","HUILAGARZON","41298"]
["HUILA","41","41306000","GIGANTE","41306","HUILAGIGANTE","41306"]
["HUILA","41","41319000","GUADALUPE","41319","HUILAGUADALUPE","41319"]
["HUILA","41","41349000","HOBO","41349","HUILAHOBO","41349"]
["HUILA","41","41357000","IQUIRA","41357","HUILAIQUIRA","41357"]
["HUILA","41","41359000","ISNOS","41359","HUILAISNOS","41359"]
["HUILA","41","41378000","LA ARGENTINA","41378","HUILALA ARGENTINA","41378"]
["HUILA","41","41396000","LA PLATA","41396","HUILALA PLATA","41396"]
["HUILA","41","41483000","NATAGA","41483","HUILANATAGA","41483"]
["HUILA","41","41503000","OPORAPA","41503","HUILAOPORAPA","41503"]
["HUILA","41","41518000","PAICOL","41518","HUILAPAICOL","41518"]
["HUILA","41","41524000","PALERMO","41524","HUILAPALERMO","41524"]
["HUILA","41","41530000","PALESTINA","41530","HUILAPALESTINA","41530"]
["HUILA","41","41548000","PITAL","41548","HUILAPITAL","41548"]
["HUILA","41","41551000","PITALITO","41551","HUILAPITALITO","41551"]
["HUILA","41","41615000","RIVERA","41615","HUILARIVERA","41615"]
["HUILA","41","41660000","SALADOBLANCO","41660","HUILASALADOBLANCO","41660"]
["HUILA","41","41668000","SAN AGUSTIN","41668","HUILASAN AGUSTIN","41668"]
["HUILA","41","41676000","SANTA MARIA","41676","HUILASANTA MARIA","41676"]
["HUILA","41","41770000","SUAZA","41770","HUILASUAZA","41770"]
["HUILA","41","41791000","TARQUI","41791","HUILATARQUI","41791"]
["HUILA","41","41797000","TESALIA","41797","HUILATESALIA","41797"]
["HUILA","41","41799000","TELLO","41799","HUILATELLO","41799"]
["HUILA","41","41801000","TERUEL","41801","HUILATERUEL","41801"]
["HUILA","41","41807000","TIMANA","41807","HUILATIMANA","41807"]
["HUILA","41","41872000","VILLAVIEJA","41872","HUILAVILLAVIEJA","41872"]
["HUILA","41","41885000","YAGUARA","41885","HUILAYAGUARA","41885"]
["LA GUAJIRA","44","44001000","RIOHACHA","44001","LA GUAJIRARIOHACHA","44001"]
["LA GUAJIRA","44","44035000","ALBANIA","44035","LA GUAJIRAALBANIA","44035"]
["LA GUAJIRA","44","44078000","BARRANCAS","44078","LA GUAJIRABARRANCAS","44078"]
["LA GUAJIRA","44","44090000","DIBULLA","44090","LA GUAJIRADIBULLA","44090"]
["LA GUAJIRA","44","44098000","DISTRACCION","44098","LA GUAJIRADISTRACCION","44098"]
["LA GUAJIRA","44","44110000","EL MOLINO","44110","LA GUAJIRAEL MOLINO","44110"]
["LA GUAJIRA","44","44279000","FONSECA","44279","LA GUAJIRAFONSECA","44279"]
["LA GUAJIRA","44","44378000","HATONUEVO","44378","LA GUAJIRAHATONUEVO","44378"]
["LA GUAJIRA","44","44420000","LA JAGUA DEL PILAR","44420","LA GUAJIRALA JAGUA DEL PILAR","44420"]
["LA GUAJIRA","44","44430000","MAICAO","44430","LA GUAJIRAMAICAO","44430"]
["LA GUAJIRA","44","44560000","MANAURE","44560","LA GUAJIRAMANAURE","44560"]
["LA GUAJIRA","44","44650000","SAN JUAN DEL CESAR",{"$f":"LEFT(C706,5)","v":"44650"},{"$f":"CONCATENATE(A706,D706)","v":"LA GUAJIRASAN JUAN DEL CESAR"},{"$f":"LEFT(C706,5)","v":"44650"}]
["LA GUAJIRA","44","44847000","URIBIA","44847","LA GUAJIRAURIBIA","44847"]
["LA GUAJIRA","44","44855000","URUMITA","44855","LA GUAJIRAURUMITA","44855"]
["LA GUAJIRA","44","44874000","VILLANUEVA","44874","LA GUAJIRAVILLANUEVA","44874"]
["MAGDALENA","47","47001000","SANTA MARTA","47001","MAGDALENASANTA MARTA","47001"]
["MAGDALENA","47","47030000","ALGARROBO","47030","MAGDALENAALGARROBO","47030"]
["MAGDALENA","47","47053000","ARACATACA","47053","MAGDALENAARACATACA","47053"]
["MAGDALENA","47","47058000","ARIGUANI","47058","MAGDALENAARIGUANI","47058"]
["MAGDALENA","47","47161000","CERRO SAN ANTONIO","47161","MAGDALENACERRO SAN ANTONIO","47161"]
["MAGDALENA","47","47170000","CHIBOLO","47170","MAGDALENACHIBOLO","47170"]
["MAGDALENA","47","47189000","CIENAGA","47189","MAGDALENACIENAGA","47189"]
["MAGDALENA","47","47205000","CONCORDIA","47205","MAGDALENACONCORDIA","47205"]
["MAGDALENA","47","47245000","EL BANCO","47245","MAGDALENAEL BANCO","47245"]
["MAGDALENA","47","47258000","EL PINON","47258","MAGDALENAEL PINON","47258"]
["MAGDALENA","47","47268000","EL RETEN","47268","MAGDALENAEL RETEN","47268"]
["MAGDALENA","47","47288000","FUNDACION","47288","MAGDALENAFUNDACION","47288"]
["MAGDALENA","47","47318000","GUAMAL","47318","MAGDALENAGUAMAL","47318"]
["MAGDALENA","47","47460000","NUEVA GRANADA","47460","MAGDALENANUEVA GRANADA","47460"]
["MAGDALENA","47","47541000","PEDRAZA","47541","MAGDALENAPEDRAZA","47541"]
["MAGDALENA","47","47545000","PIJINO DEL CARMEN","47545","MAGDALENAPIJINO DEL CARMEN","47545"]
["MAGDALENA","47","47551000","PIVIJAY","47551","MAGDALENAPIVIJAY","47551"]
["MAGDALENA","47","47555000","PLATO","47555","MAGDALENAPLATO","47555"]
["MAGDALENA","47","47570000","PUEBLOVIEJO","47570","MAGDALENAPUEBLOVIEJO","47570"]
["MAGDALENA","47","47605000","REMOLINO","47605","MAGDALENAREMOLINO","47605"]
["MAGDALENA","47","47660000","SABANAS DE SAN ANGEL","47660","MAGDALENASABANAS DE SAN ANGEL","47660"]
["MAGDALENA","47","47675000","SALAMINA","47675","MAGDALENASALAMINA","47675"]
["MAGDALENA","47","47692000","SAN SEBASTIAN DE BUENAVISTA","47692","MAGDALENASAN SEBASTIAN DE BUENAVISTA","47692"]
["MAGDALENA","47","47703000","SAN ZENON","47703","MAGDALENASAN ZENON","47703"]
["MAGDALENA","47","47707000","SANTA ANA","47707","MAGDALENASANTA ANA","47707"]
["MAGDALENA","47","47720000","SANTA BARBARA DE PINTO","47720","MAGDALENASANTA BARBARA DE PINTO","47720"]
["MAGDALENA","47","47745000","SITIONUEVO","47745","MAGDALENASITIONUEVO","47745"]
["MAGDALENA","47","47798000","TENERIFE","47798","MAGDALENATENERIFE","47798"]
["MAGDALENA","47","47960000","ZAPAYAN","47960","MAGDALENAZAPAYAN","47960"]
["MAGDALENA","47","47980000","ZONA BANANERA","47980","MAGDALENAZONA BANANERA","47980"]
["META","50","50001000","VILLAVICENCIO","50001","METAVILLAVICENCIO","50001"]
["META","50","50006000","ACACIAS","50006","METAACACIAS","50006"]
["META","50","50110000","BARRANCA DE UPIA","50110","METABARRANCA DE UPIA","50110"]
["META","50","50124000","CABUYARO","50124","METACABUYARO","50124"]
["META","50","50150000","CASTILLA LA NUEVA","50150","METACASTILLA LA NUEVA","50150"]
["META","50","50223000","CUBARRAL","50223","METACUBARRAL","50223"]
["META","50","50226000","CUMARAL","50226","METACUMARAL","50226"]
["META","50","50245000","EL CALVARIO","50245","METAEL CALVARIO","50245"]
["META","50","50251000","EL CASTILLO","50251","METAEL CASTILLO","50251"]
["META","50","50270000","EL DORADO","50270","METAEL DORADO","50270"]
["META","50","50287000","FUENTE DE ORO","50287","METAFUENTE DE ORO","50287"]
["META","50","50313000","GRANADA","50313","METAGRANADA","50313"]
["META","50","50318000","GUAMAL","50318","METAGUAMAL","50318"]
["META","50","50325000","MAPIRIPAN","50325","METAMAPIRIPAN","50325"]
["META","50","50330000","MESETAS","50330","METAMESETAS","50330"]
["META","50","50350000","LA MACARENA","50350","METALA MACARENA","50350"]
["META","50","50370000","URIBE","50370","METAURIBE","50370"]
["META","50","50400000","LEJANIAS","50400","METALEJANIAS","50400"]
["META","50","50450000","PUERTO CONCORDIA","50450","METAPUERTO CONCORDIA","50450"]
["META","50","50568000","PUERTO GAITAN","50568","METAPUERTO GAITAN","50568"]
["META","50","50573000","PUERTO LOPEZ","50573","METAPUERTO LOPEZ","50573"]
["META","50","50577000","PUERTO LLERAS","50577","METAPUERTO LLERAS","50577"]
["META","50","50590000","PUERTO RICO","50590","METAPUERTO RICO","50590"]
["META","50","50606000","RESTREPO","50606","METARESTREPO","50606"]
["META","50","50680000","SAN CARLOS DE GUAROA","50680","METASAN CARLOS DE GUAROA","50680"]
["META","50","50683000","SAN JUAN DE ARAMA","50683","METASAN JUAN DE ARAMA","50683"]
["META","50","50686000","SAN JUANITO","50686","METASAN JUANITO","50686"]
["META","50","50689000","SAN MARTIN","50689","METASAN MARTIN","50689"]
["META","50","50711000","VISTAHERMOSA","50711","METAVISTAHERMOSA","50711"]
["NARINO","52","52001000","PASTO","52001","NARINOPASTO","52001"]
["NARINO","52","52019000","ALBAN",{"$f":"LEFT(C770,5)","v":"52019"},{"$f":"CONCATENATE(A770,D770)","v":"NARINOALBAN"},{"$f":"LEFT(C770,5)","v":"52019"}]
["NARINO","52","52022000","ALDANA","52022","NARINOALDANA","52022"]
["NARINO","52","52036000","ANCUYA","52036","NARINOANCUYA","52036"]
["NARINO","52","52051000","ARBOLEDA","52051","NARINOARBOLEDA","52051"]
["NARINO","52","52079000","BARBACOAS","52079","NARINOBARBACOAS","52079"]
["NARINO","52","52083000","BELEN","52083","NARINOBELEN","52083"]
["NARINO","52","52110000","BUESACO","52110","NARINOBUESACO","52110"]
["NARINO","52","52203000","COLON","52203","NARINOCOLON","52203"]
["NARINO","52","52207000","CONSACA","52207","NARINOCONSACA","52207"]
["NARINO","52","52210000","CONTADERO","52210","NARINOCONTADERO","52210"]
["NARINO","52","52215000","CORDOBA","52215","NARINOCORDOBA","52215"]
["NARINO","52","52224000","CUASPUD","52224","NARINOCUASPUD","52224"]
["NARINO","52","52227000","CUMBAL","52227","NARINOCUMBAL","52227"]
["NARINO","52","52233000","CUMBITARA","52233","NARINOCUMBITARA","52233"]
["NARINO","52","52240000","CHACHAGUI","52240","NARINOCHACHAGUI","52240"]
["NARINO","52","52250000","EL CHARCO","52250","NARINOEL CHARCO","52250"]
["NARINO","52","52254000","EL PENOL","52254","NARINOEL PENOL","52254"]
["NARINO","52","52256000","EL ROSARIO","52256","NARINOEL ROSARIO","52256"]
["NARINO","52","52258000","EL TABLON DE GOMEZ","52258","NARINOEL TABLON DE GOMEZ","52258"]
["NARINO","52","52260000","EL TAMBO","52260","NARINOEL TAMBO","52260"]
["NARINO","52","52287000","FUNES","52287","NARINOFUNES","52287"]
["NARINO","52","52317000","GUACHUCAL","52317","NARINOGUACHUCAL","52317"]
["NARINO","52","52320000","GUAITARILLA","52320","NARINOGUAITARILLA","52320"]
["NARINO","52","52323000","GUALMATAN","52323","NARINOGUALMATAN","52323"]
["NARINO","52","52352000","ILES","52352","NARINOILES","52352"]
["NARINO","52","52354000","IMUES","52354","NARINOIMUES","52354"]
["NARINO","52","52356000","IPIALES","52356","NARINOIPIALES","52356"]
["NARINO","52","52378000","LA CRUZ","52378","NARINOLA CRUZ","52378"]
["NARINO","52","52381000","LA FLORIDA","52381","NARINOLA FLORIDA","52381"]
["NARINO","52","52385000","LA LLANADA","52385","NARINOLA LLANADA","52385"]
["NARINO","52","52390000","LA TOLA","52390","NARINOLA TOLA","52390"]
["NARINO","52","52399000","LA UNION","52399","NARINOLA UNION","52399"]
["NARINO","52","52405000","LEIVA","52405","NARINOLEIVA","52405"]
["NARINO","52","52411000","LINARES","52411","NARINOLINARES","52411"]
["NARINO","52","52418000","LOS ANDES","52418","NARINOLOS ANDES","52418"]
["NARINO","52","52427000","MAGUI","52427","NARINOMAGUI","52427"]
["NARINO","52","52435000","MALLAMA","52435","NARINOMALLAMA","52435"]
["NARINO","52","52473000","MOSQUERA","52473","NARINOMOSQUERA","52473"]
["NARINO","52","52480000","NARINO","52480","NARINONARINO","52480"]
["NARINO","52","52490000","OLAYA HERRERA","52490","NARINOOLAYA HERRERA","52490"]
["NARINO","52","52506000","OSPINA","52506","NARINOOSPINA","52506"]
["NARINO","52","52520000","FRANCISCO PIZARRO","52520","NARINOFRANCISCO PIZARRO","52520"]
["NARINO","52","52540000","POLICARPA","52540","NARINOPOLICARPA","52540"]
["NARINO","52","52560000","POTOSI","52560","NARINOPOTOSI","52560"]
["NARINO","52","52565000","PROVIDENCIA","52565","NARINOPROVIDENCIA","52565"]
["NARINO","52","52573000","PUERRES","52573","NARINOPUERRES","52573"]
["NARINO","52","52585000","PUPIALES","52585","NARINOPUPIALES","52585"]
["NARINO","52","52612000","RICAURTE","52612","NARINORICAURTE","52612"]
["NARINO","52","52621000","ROBERTO PAYAN","52621","NARINOROBERTO PAYAN","52621"]
["NARINO","52","52678000","SAMANIEGO","52678","NARINOSAMANIEGO","52678"]
["NARINO","52","52683000","SANDONA","52683","NARINOSANDONA","52683"]
["NARINO","52","52685000","SAN BERNARDO","52685","NARINOSAN BERNARDO","52685"]
["NARINO","52","52687000","SAN LORENZO","52687","NARINOSAN LORENZO","52687"]
["NARINO","52","52693000","SAN PABLO","52693","NARINOSAN PABLO","52693"]
["NARINO","52","52694000","SAN PEDRO DE CARTAGO","52694","NARINOSAN PEDRO DE CARTAGO","52694"]
["NARINO","52","52696000","SANTA BARBARA","52696","NARINOSANTA BARBARA","52696"]
["NARINO","52","52699000","SANTACRUZ","52699","NARINOSANTACRUZ","52699"]
["NARINO","52","52720000","SAPUYES","52720","NARINOSAPUYES","52720"]
["NARINO","52","52786000","TAMINANGO","52786","NARINOTAMINANGO","52786"]
["NARINO","52","52788000","TANGUA","52788","NARINOTANGUA","52788"]
["NARINO","52","52835000","SAN ANDRES DE TUMACO","52835","NARINOSAN ANDRES DE TUMACO","52835"]
["NARINO","52","52838000","TUQUERRES","52838","NARINOTUQUERRES","52838"]
["NARINO","52","52885000","YACUANQUER","52885","NARINOYACUANQUER","52885"]
["NORTE DE SANTANDER","54","54001000","CUCUTA","54001","NORTE DE SANTANDERCUCUTA","54001"]
["NORTE DE SANTANDER","54","54003000","ABREGO",{"$f":"LEFT(C834,5)","v":"54003"},{"$f":"CONCATENATE(A834,D834)","v":"NORTE DE SANTANDERABREGO"},{"$f":"LEFT(C834,5)","v":"54003"}]
["NORTE DE SANTANDER","54","54051000","ARBOLEDAS","54051","NORTE DE SANTANDERARBOLEDAS","54051"]
["NORTE DE SANTANDER","54","54099000","BOCHALEMA","54099","NORTE DE SANTANDERBOCHALEMA","54099"]
["NORTE DE SANTANDER","54","54109000","BUCARASICA","54109","NORTE DE SANTANDERBUCARASICA","54109"]
["NORTE DE SANTANDER","54","54125000","CACOTA","54125","NORTE DE SANTANDERCACOTA","54125"]
["NORTE DE SANTANDER","54","54128000","CACHIRA","54128","NORTE DE SANTANDERCACHIRA","54128"]
["NORTE DE SANTANDER","54","54172000","CHINACOTA","54172","NORTE DE SANTANDERCHINACOTA","54172"]
["NORTE DE SANTANDER","54","54174000","CHITAGA","54174","NORTE DE SANTANDERCHITAGA","54174"]
["NORTE DE SANTANDER","54","54206000","CONVENCION","54206","NORTE DE SANTANDERCONVENCION","54206"]
["NORTE DE SANTANDER","54","54223000","CUCUTILLA","54223","NORTE DE SANTANDERCUCUTILLA","54223"]
["NORTE DE SANTANDER","54","54239000","DURANIA","54239","NORTE DE SANTANDERDURANIA","54239"]
["NORTE DE SANTANDER","54","54245000","EL CARMEN","54245","NORTE DE SANTANDEREL CARMEN","54245"]
["NORTE DE SANTANDER","54","54250000","EL TARRA","54250","NORTE DE SANTANDEREL TARRA","54250"]
["NORTE DE SANTANDER","54","54261000","EL ZULIA","54261","NORTE DE SANTANDEREL ZULIA","54261"]
["NORTE DE SANTANDER","54","54313000","GRAMALOTE","54313","NORTE DE SANTANDERGRAMALOTE","54313"]
["NORTE DE SANTANDER","54","54344000","HACARI","54344","NORTE DE SANTANDERHACARI","54344"]
["NORTE DE SANTANDER","54","54347000","HERRAN","54347","NORTE DE SANTANDERHERRAN","54347"]
["NORTE DE SANTANDER","54","54377000","LABATECA","54377","NORTE DE SANTANDERLABATECA","54377"]
["NORTE DE SANTANDER","54","54385000","LA ESPERANZA","54385","NORTE DE SANTANDERLA ESPERANZA","54385"]
["NORTE DE SANTANDER","54","54398000","LA PLAYA","54398","NORTE DE SANTANDERLA PLAYA","54398"]
["NORTE DE SANTANDER","54","54405000","LOS PATIOS","54405","NORTE DE SANTANDERLOS PATIOS","54405"]
["NORTE DE SANTANDER","54","54418000","LOURDES","54418","NORTE DE SANTANDERLOURDES","54418"]
["NORTE DE SANTANDER","54","54480000","MUTISCUA","54480","NORTE DE SANTANDERMUTISCUA","54480"]
["NORTE DE SANTANDER","54","54498000","OCANA","54498","NORTE DE SANTANDEROCANA","54498"]
["NORTE DE SANTANDER","54","54518000","PAMPLONA","54518","NORTE DE SANTANDERPAMPLONA","54518"]
["NORTE DE SANTANDER","54","54520000","PAMPLONITA","54520","NORTE DE SANTANDERPAMPLONITA","54520"]
["NORTE DE SANTANDER","54","54553000","PUERTO SANTANDER","54553","NORTE DE SANTANDERPUERTO SANTANDER","54553"]
["NORTE DE SANTANDER","54","54599000","RAGONVALIA","54599","NORTE DE SANTANDERRAGONVALIA","54599"]
["NORTE DE SANTANDER","54","54660000","SALAZAR","54660","NORTE DE SANTANDERSALAZAR","54660"]
["NORTE DE SANTANDER","54","54670000","SAN CALIXTO","54670","NORTE DE SANTANDERSAN CALIXTO","54670"]
["NORTE DE SANTANDER","54","54673000","SAN CAYETANO","54673","NORTE DE SANTANDERSAN CAYETANO","54673"]
["NORTE DE SANTANDER","54","54680000","SANTIAGO","54680","NORTE DE SANTANDERSANTIAGO","54680"]
["NORTE DE SANTANDER","54","54720000","SARDINATA","54720","NORTE DE SANTANDERSARDINATA","54720"]
["NORTE DE SANTANDER","54","54743000","SILOS","54743","NORTE DE SANTANDERSILOS","54743"]
["NORTE DE SANTANDER","54","54800000","TEORAMA","54800","NORTE DE SANTANDERTEORAMA","54800"]
["NORTE DE SANTANDER","54","54810000","TIBU","54810","NORTE DE SANTANDERTIBU","54810"]
["NORTE DE SANTANDER","54","54820000","TOLEDO","54820","NORTE DE SANTANDERTOLEDO","54820"]
["NORTE DE SANTANDER","54","54871000","VILLA CARO","54871","NORTE DE SANTANDERVILLA CARO","54871"]
["NORTE DE SANTANDER","54","54874000","VILLA DEL ROSARIO","54874","NORTE DE SANTANDERVILLA DEL ROSARIO","54874"]
["PUTUMAYO","86","86001000","MOCOA","86001","PUTUMAYOMOCOA","86001"]
["PUTUMAYO","86","86219000","COLON","86219","PUTUMAYOCOLON","86219"]
["PUTUMAYO","86","86320000","ORITO","86320","PUTUMAYOORITO","86320"]
["PUTUMAYO","86","86568000","PUERTO ASIS","86568","PUTUMAYOPUERTO ASIS","86568"]
["PUTUMAYO","86","86569000","PUERTO CAICEDO","86569","PUTUMAYOPUERTO CAICEDO","86569"]
["PUTUMAYO","86","86571000","PUERTO GUZMAN","86571","PUTUMAYOPUERTO GUZMAN","86571"]
["PUTUMAYO","86","86573000","PUERTO LEGUIZAMO","86573","PUTUMAYOPUERTO LEGUIZAMO","86573"]
["PUTUMAYO","86","86749000","SIBUNDOY","86749","PUTUMAYOSIBUNDOY","86749"]
["PUTUMAYO","86","86755000","SAN FRANCISCO","86755","PUTUMAYOSAN FRANCISCO","86755"]
["PUTUMAYO","86","86757000","SAN MIGUEL","86757","PUTUMAYOSAN MIGUEL","86757"]
["PUTUMAYO","86","86760000","SANTIAGO","86760","PUTUMAYOSANTIAGO","86760"]
["PUTUMAYO","86","86865000","VALLE DEL GUAMUEZ","86865","PUTUMAYOVALLE DEL GUAMUEZ","86865"]
["PUTUMAYO","86","86885000","VILLAGARZON","86885","PUTUMAYOVILLAGARZON","86885"]
["QUINDIO","63","63001000","ARMENIA","63001","QUINDIOARMENIA","63001"]
["QUINDIO","63","63111000","BUENAVISTA","63111","QUINDIOBUENAVISTA","63111"]
["QUINDIO","63","63130000","CALARCA","63130","QUINDIOCALARCA","63130"]
["QUINDIO","63","63190000","CIRCASIA","63190","QUINDIOCIRCASIA","63190"]
["QUINDIO","63","63212000","CORDOBA","63212","QUINDIOCORDOBA","63212"]
["QUINDIO","63","63272000","FILANDIA","63272","QUINDIOFILANDIA","63272"]
["QUINDIO","63","63302000","GENOVA","63302","QUINDIOGENOVA","63302"]
["QUINDIO","63","63401000","LA TEBAIDA","63401","QUINDIOLA TEBAIDA","63401"]
["QUINDIO","63","63470000","MONTENEGRO","63470","QUINDIOMONTENEGRO","63470"]
["QUINDIO","63","63548000","PIJAO","63548","QUINDIOPIJAO","63548"]
["QUINDIO","63","63594000","QUIMBAYA","63594","QUINDIOQUIMBAYA","63594"]
["QUINDIO","63","63690000","SALENTO","63690","QUINDIOSALENTO","63690"]
["RISARALDA","66","66001000","PEREIRA",{"$f":"LEFT(C898,5)","v":"66001"},{"$f":"CONCATENATE(A898,D898)","v":"RISARALDAPEREIRA"},{"$f":"LEFT(C898,5)","v":"66001"}]
["RISARALDA","66","66045000","APIA","66045","RISARALDAAPIA","66045"]
["RISARALDA","66","66075000","BALBOA","66075","RISARALDABALBOA","66075"]
["RISARALDA","66","66088000","BELEN DE UMBRIA","66088","RISARALDABELEN DE UMBRIA","66088"]
["RISARALDA","66","66170000","DOSQUEBRADAS","66170","RISARALDADOSQUEBRADAS","66170"]
["RISARALDA","66","66318000","GUATICA","66318","RISARALDAGUATICA","66318"]
["RISARALDA","66","66383000","LA CELIA","66383","RISARALDALA CELIA","66383"]
["RISARALDA","66","66400000","LA VIRGINIA","66400","RISARALDALA VIRGINIA","66400"]
["RISARALDA","66","66440000","MARSELLA","66440","RISARALDAMARSELLA","66440"]
["RISARALDA","66","66456000","MISTRATO","66456","RISARALDAMISTRATO","66456"]
["RISARALDA","66","66572000","PUEBLO RICO","66572","RISARALDAPUEBLO RICO","66572"]
["RISARALDA","66","66594000","QUINCHIA","66594","RISARALDAQUINCHIA","66594"]
["RISARALDA","66","66682000","SANTA ROSA DE CABAL","66682","RISARALDASANTA ROSA DE CABAL","66682"]
["RISARALDA","66","66687000","SANTUARIO","66687","RISARALDASANTUARIO","66687"]
["SANTANDER","68","68001000","BUCARAMANGA","68001","SANTANDERBUCARAMANGA","68001"]
["SANTANDER","68","68013000","AGUADA","68013","SANTANDERAGUADA","68013"]
["SANTANDER","68","68020000","ALBANIA","68020","SANTANDERALBANIA","68020"]
["SANTANDER","68","68051000","ARATOCA","68051","SANTANDERARATOCA","68051"]
["SANTANDER","68","68077000","BARBOSA","68077","SANTANDERBARBOSA","68077"]
["SANTANDER","68","68079000","BARICHARA","68079","SANTANDERBARICHARA","68079"]
["SANTANDER","68","68081000","BARRANCABERMEJA","68081","SANTANDERBARRANCABERMEJA","68081"]
["SANTANDER","68","68092000","BETULIA","68092","SANTANDERBETULIA","68092"]
["SANTANDER","68","68101000","BOLIVAR","68101","SANTANDERBOLIVAR","68101"]
["SANTANDER","68","68121000","CABRERA","68121","SANTANDERCABRERA","68121"]
["SANTANDER","68","68132000","CALIFORNIA","68132","SANTANDERCALIFORNIA","68132"]
["SANTANDER","68","68147000","CAPITANEJO","68147","SANTANDERCAPITANEJO","68147"]
["SANTANDER","68","68152000","CARCASI","68152","SANTANDERCARCASI","68152"]
["SANTANDER","68","68160000","CEPITA","68160","SANTANDERCEPITA","68160"]
["SANTANDER","68","68162000","CERRITO","68162","SANTANDERCERRITO","68162"]
["SANTANDER","68","68167000","CHARALA","68167","SANTANDERCHARALA","68167"]
["SANTANDER","68","68169000","CHARTA","68169","SANTANDERCHARTA","68169"]
["SANTANDER","68","68176000","CHIMA","68176","SANTANDERCHIMA","68176"]
["SANTANDER","68","68179000","CHIPATA","68179","SANTANDERCHIPATA","68179"]
["SANTANDER","68","68190000","CIMITARRA","68190","SANTANDERCIMITARRA","68190"]
["SANTANDER","68","68207000","CONCEPCION","68207","SANTANDERCONCEPCION","68207"]
["SANTANDER","68","68209000","CONFINES","68209","SANTANDERCONFINES","68209"]
["SANTANDER","68","68211000","CONTRATACION","68211","SANTANDERCONTRATACION","68211"]
["SANTANDER","68","68217000","COROMORO","68217","SANTANDERCOROMORO","68217"]
["SANTANDER","68","68229000","CURITI","68229","SANTANDERCURITI","68229"]
["SANTANDER","68","68235000","EL CARMEN DE CHUCURI","68235","SANTANDEREL CARMEN DE CHUCURI","68235"]
["SANTANDER","68","68245000","EL GUACAMAYO","68245","SANTANDEREL GUACAMAYO","68245"]
["SANTANDER","68","68250000","EL PENON","68250","SANTANDEREL PENON","68250"]
["SANTANDER","68","68255000","EL PLAYON","68255","SANTANDEREL PLAYON","68255"]
["SANTANDER","68","68264000","ENCINO","68264","SANTANDERENCINO","68264"]
["SANTANDER","68","68266000","ENCISO","68266","SANTANDERENCISO","68266"]
["SANTANDER","68","68271000","FLORIAN","68271","SANTANDERFLORIAN","68271"]
["SANTANDER","68","68276000","FLORIDABLANCA","68276","SANTANDERFLORIDABLANCA","68276"]
["SANTANDER","68","68296000","GALAN","68296","SANTANDERGALAN","68296"]
["SANTANDER","68","68298000","GAMBITA","68298","SANTANDERGAMBITA","68298"]
["SANTANDER","68","68307000","GIRON","68307","SANTANDERGIRON","68307"]
["SANTANDER","68","68318000","GUACA","68318","SANTANDERGUACA","68318"]
["SANTANDER","68","68320000","GUADALUPE","68320","SANTANDERGUADALUPE","68320"]
["SANTANDER","68","68322000","GUAPOTA","68322","SANTANDERGUAPOTA","68322"]
["SANTANDER","68","68324000","GUAVATA","68324","SANTANDERGUAVATA","68324"]
["SANTANDER","68","68327000","GUEPSA","68327","SANTANDERGUEPSA","68327"]
["SANTANDER","68","68344000","HATO","68344","SANTANDERHATO","68344"]
["SANTANDER","68","68368000","JESUS MARIA","68368","SANTANDERJESUS MARIA","68368"]
["SANTANDER","68","68370000","JORDAN","68370","SANTANDERJORDAN","68370"]
["SANTANDER","68","68377000","LA BELLEZA","68377","SANTANDERLA BELLEZA","68377"]
["SANTANDER","68","68385000","LANDAZURI","68385","SANTANDERLANDAZURI","68385"]
["SANTANDER","68","68397000","LA PAZ","68397","SANTANDERLA PAZ","68397"]
["SANTANDER","68","68406000","LEBRIJA","68406","SANTANDERLEBRIJA","68406"]
["SANTANDER","68","68418000","LOS SANTOS","68418","SANTANDERLOS SANTOS","68418"]
["SANTANDER","68","68425000","MACARAVITA","68425","SANTANDERMACARAVITA","68425"]
["SANTANDER","68","68432000","MALAGA",{"$f":"LEFT(C962,5)","v":"68432"},{"$f":"CONCATENATE(A962,D962)","v":"SANTANDERMALAGA"},{"$f":"LEFT(C962,5)","v":"68432"}]
["SANTANDER","68","68444000","MATANZA","68444","SANTANDERMATANZA","68444"]
["SANTANDER","68","68464000","MOGOTES","68464","SANTANDERMOGOTES","68464"]
["SANTANDER","68","68468000","MOLAGAVITA","68468","SANTANDERMOLAGAVITA","68468"]
["SANTANDER","68","68498000","OCAMONTE","68498","SANTANDEROCAMONTE","68498"]
["SANTANDER","68","68500000","OIBA","68500","SANTANDEROIBA","68500"]
["SANTANDER","68","68502000","ONZAGA","68502","SANTANDERONZAGA","68502"]
["SANTANDER","68","68522000","PALMAR","68522","SANTANDERPALMAR","68522"]
["SANTANDER","68","68524000","PALMAS DEL SOCORRO","68524","SANTANDERPALMAS DEL SOCORRO","68524"]
["SANTANDER","68","68533000","PARAMO","68533","SANTANDERPARAMO","68533"]
["SANTANDER","68","68547000","PIEDECUESTA","68547","SANTANDERPIEDECUESTA","68547"]
["SANTANDER","68","68549000","PINCHOTE","68549","SANTANDERPINCHOTE","68549"]
["SANTANDER","68","68572000","PUENTE NACIONAL","68572","SANTANDERPUENTE NACIONAL","68572"]
["SANTANDER","68","68573000","PUERTO PARRA","68573","SANTANDERPUERTO PARRA","68573"]
["SANTANDER","68","68575000","PUERTO WILCHES","68575","SANTANDERPUERTO WILCHES","68575"]
["SANTANDER","68","68615000","RIONEGRO","68615","SANTANDERRIONEGRO","68615"]
["SANTANDER","68","68655000","SABANA DE TORRES","68655","SANTANDERSABANA DE TORRES","68655"]
["SANTANDER","68","68669000","SAN ANDRES","68669","SANTANDERSAN ANDRES","68669"]
["SANTANDER","68","68673000","SAN BENITO","68673","SANTANDERSAN BENITO","68673"]
["SANTANDER","68","68679000","SAN GIL","68679","SANTANDERSAN GIL","68679"]
["SANTANDER","68","68682000","SAN JOAQUIN","68682","SANTANDERSAN JOAQUIN","68682"]
["SANTANDER","68","68684000","SAN JOSE DE MIRANDA","68684","SANTANDERSAN JOSE DE MIRANDA","68684"]
["SANTANDER","68","68686000","SAN MIGUEL","68686","SANTANDERSAN MIGUEL","68686"]
["SANTANDER","68","68689000","SAN VICENTE DE CHUCURI","68689","SANTANDERSAN VICENTE DE CHUCURI","68689"]
["SANTANDER","68","68705000","SANTA BARBARA","68705","SANTANDERSANTA BARBARA","68705"]
["SANTANDER","68","68720000","SANTA HELENA DEL OPON","68720","SANTANDERSANTA HELENA DEL OPON","68720"]
["SANTANDER","68","68745000","SIMACOTA","68745","SANTANDERSIMACOTA","68745"]
["SANTANDER","68","68755000","SOCORRO","68755","SANTANDERSOCORRO","68755"]
["SANTANDER","68","68770000","SUAITA","68770","SANTANDERSUAITA","68770"]
["SANTANDER","68","68773000","SUCRE","68773","SANTANDERSUCRE","68773"]
["SANTANDER","68","68780000","SURATA","68780","SANTANDERSURATA","68780"]
["SANTANDER","68","68820000","TONA","68820","SANTANDERTONA","68820"]
["SANTANDER","68","68855000","VALLE DE SAN JOSE","68855","SANTANDERVALLE DE SAN JOSE","68855"]
["SANTANDER","68","68861000","VELEZ","68861","SANTANDERVELEZ","68861"]
["SANTANDER","68","68867000","VETAS","68867","SANTANDERVETAS","68867"]
["SANTANDER","68","68872000","VILLANUEVA","68872","SANTANDERVILLANUEVA","68872"]
["SANTANDER","68","68895000","ZAPATOCA","68895","SANTANDERZAPATOCA","68895"]
["SUCRE","70","70001000","SINCELEJO","70001","SUCRESINCELEJO","70001"]
["SUCRE","70","70110000","BUENAVISTA","70110","SUCREBUENAVISTA","70110"]
["SUCRE","70","70124000","CAIMITO","70124","SUCRECAIMITO","70124"]
["SUCRE","70","70204000","COLOSO","70204","SUCRECOLOSO","70204"]
["SUCRE","70","70215000","COROZAL","70215","SUCRECOROZAL","70215"]
["SUCRE","70","70221000","COVENAS","70221","SUCRECOVENAS","70221"]
["SUCRE","70","70230000","CHALAN","70230","SUCRECHALAN","70230"]
["SUCRE","70","70233000","EL ROBLE","70233","SUCREEL ROBLE","70233"]
["SUCRE","70","70235000","GALERAS","70235","SUCREGALERAS","70235"]
["SUCRE","70","70265000","GUARANDA","70265","SUCREGUARANDA","70265"]
["SUCRE","70","70400000","LA UNION","70400","SUCRELA UNION","70400"]
["SUCRE","70","70418000","LOS PALMITOS","70418","SUCRELOS PALMITOS","70418"]
["SUCRE","70","70429000","MAJAGUAL","70429","SUCREMAJAGUAL","70429"]
["SUCRE","70","70473000","MORROA","70473","SUCREMORROA","70473"]
["SUCRE","70","70508000","OVEJAS","70508","SUCREOVEJAS","70508"]
["SUCRE","70","70523000","PALMITO","70523","SUCREPALMITO","70523"]
["SUCRE","70","70670000","SAMPUES","70670","SUCRESAMPUES","70670"]
["SUCRE","70","70678000","SAN BENITO ABAD","70678","SUCRESAN BENITO ABAD","70678"]
["SUCRE","70","70702000","SAN JUAN DE BETULIA","70702","SUCRESAN JUAN DE BETULIA","70702"]
["SUCRE","70","70708000","SAN MARCOS","70708","SUCRESAN MARCOS","70708"]
["SUCRE","70","70713000","SAN ONOFRE","70713","SUCRESAN ONOFRE","70713"]
["SUCRE","70","70717000","SAN PEDRO","70717","SUCRESAN PEDRO","70717"]
["SUCRE","70","70742000","SAN LUIS DE SINCE","70742","SUCRESAN LUIS DE SINCE","70742"]
["SUCRE","70","70771000","SUCRE","70771","SUCRESUCRE","70771"]
["SUCRE","70","70820000","SANTIAGO DE TOLU","70820","SUCRESANTIAGO DE TOLU","70820"]
["SUCRE","70","70823000","TOLU VIEJO","70823","SUCRETOLU VIEJO","70823"]
["TOLIMA","73","73001000","IBAGUE","73001","TOLIMAIBAGUE","73001"]
["TOLIMA","73","73024000","ALPUJARRA",{"$f":"LEFT(C1026,5)","v":"73024"},{"$f":"CONCATENATE(A1026,D1026)","v":"TOLIMAALPUJARRA"},{"$f":"LEFT(C1026,5)","v":"73024"}]
["TOLIMA","73","73026000","ALVARADO","73026","TOLIMAALVARADO","73026"]
["TOLIMA","73","73030000","AMBALEMA","73030","TOLIMAAMBALEMA","73030"]
["TOLIMA","73","73043000","ANZOATEGUI","73043","TOLIMAANZOATEGUI","73043"]
["TOLIMA","73","73055000","ARMERO","73055","TOLIMAARMERO","73055"]
["TOLIMA","73","73067000","ATACO","73067","TOLIMAATACO","73067"]
["TOLIMA","73","73124000","CAJAMARCA","73124","TOLIMACAJAMARCA","73124"]
["TOLIMA","73","73148000","CARMEN DE APICALA","73148","TOLIMACARMEN DE APICALA","73148"]
["TOLIMA","73","73152000","CASABIANCA","73152","TOLIMACASABIANCA","73152"]
["TOLIMA","73","73168000","CHAPARRAL","73168","TOLIMACHAPARRAL","73168"]
["TOLIMA","73","73200000","COELLO","73200","TOLIMACOELLO","73200"]
["TOLIMA","73","73217000","COYAIMA","73217","TOLIMACOYAIMA","73217"]
["TOLIMA","73","73226000","CUNDAY","73226","TOLIMACUNDAY","73226"]
["TOLIMA","73","73236000","DOLORES","73236","TOLIMADOLORES","73236"]
["TOLIMA","73","73268000","ESPINAL","73268","TOLIMAESPINAL","73268"]
["TOLIMA","73","73270000","FALAN","73270","TOLIMAFALAN","73270"]
["TOLIMA","73","73275000","FLANDES","73275","TOLIMAFLANDES","73275"]
["TOLIMA","73","73283000","FRESNO","73283","TOLIMAFRESNO","73283"]
["TOLIMA","73","73319000","GUAMO","73319","TOLIMAGUAMO","73319"]
["TOLIMA","73","73347000","HERVEO","73347","TOLIMAHERVEO","73347"]
["TOLIMA","73","73349000","HONDA","73349","TOLIMAHONDA","73349"]
["TOLIMA","73","73352000","ICONONZO","73352","TOLIMAICONONZO","73352"]
["TOLIMA","73","73408000","LERIDA","73408","TOLIMALERIDA","73408"]
["TOLIMA","73","73411000","LIBANO","73411","TOLIMALIBANO","73411"]
["TOLIMA","73","73443000","SAN SEBASTIAN DE MARIQUITA","73443","TOLIMASAN SEBASTIAN DE MARIQUITA","73443"]
["TOLIMA","73","73449000","MELGAR","73449","TOLIMAMELGAR","73449"]
["TOLIMA","73","73461000","MURILLO","73461","TOLIMAMURILLO","73461"]
["TOLIMA","73","73483000","NATAGAIMA","73483","TOLIMANATAGAIMA","73483"]
["TOLIMA","73","73504000","ORTEGA","73504","TOLIMAORTEGA","73504"]
["TOLIMA","73","73520000","PALOCABILDO","73520","TOLIMAPALOCABILDO","73520"]
["TOLIMA","73","73547000","PIEDRAS","73547","TOLIMAPIEDRAS","73547"]
["TOLIMA","73","73555000","PLANADAS","73555","TOLIMAPLANADAS","73555"]
["TOLIMA","73","73563000","PRADO","73563","TOLIMAPRADO","73563"]
["TOLIMA","73","73585000","PURIFICACION","73585","TOLIMAPURIFICACION","73585"]
["TOLIMA","73","73616000","RIOBLANCO","73616","TOLIMARIOBLANCO","73616"]
["TOLIMA","73","73622000","RONCESVALLES","73622","TOLIMARONCESVALLES","73622"]
["TOLIMA","73","73624000","ROVIRA","73624","TOLIMAROVIRA","73624"]
["TOLIMA","73","73671000","SALDANA","73671","TOLIMASALDANA","73671"]
["TOLIMA","73","73675000","SAN ANTONIO","73675","TOLIMASAN ANTONIO","73675"]
["TOLIMA","73","73678000","SAN LUIS","73678","TOLIMASAN LUIS","73678"]
["TOLIMA","73","73686000","SANTA ISABEL","73686","TOLIMASANTA ISABEL","73686"]
["TOLIMA","73","73770000","SUAREZ","73770","TOLIMASUAREZ","73770"]
["TOLIMA","73","73854000","VALLE DE SAN JUAN","73854","TOLIMAVALLE DE SAN JUAN","73854"]
["TOLIMA","73","73861000","VENADILLO","73861","TOLIMAVENADILLO","73861"]
["TOLIMA","73","73870000","VILLAHERMOSA","73870","TOLIMAVILLAHERMOSA","73870"]
["TOLIMA","73","73873000","VILLARRICA","73873","TOLIMAVILLARRICA","73873"]
["VALLE DEL CAUCA","76","76670000","SAN PEDRO","76670","VALLE DEL CAUCASAN PEDRO","76670"]
["VALLE DEL CAUCA","76","76736000","SEVILLA","76736","VALLE DEL CAUCASEVILLA","76736"]
["VALLE DEL CAUCA","76","76823000","TORO","76823","VALLE DEL CAUCATORO","76823"]
["VALLE DEL CAUCA","76","76828000","TRUJILLO","76828","VALLE DEL CAUCATRUJILLO","76828"]
["VALLE DEL CAUCA","76","76834000","TULUA","76834","VALLE DEL CAUCATULUA","76834"]
["VALLE DEL CAUCA","76","76845000","ULLOA","76845","VALLE DEL CAUCAULLOA","76845"]
["VALLE DEL CAUCA","76","76863000","VERSALLES","76863","VALLE DEL CAUCAVERSALLES","76863"]
["VALLE DEL CAUCA","76","76869000","VIJES","76869","VALLE DEL CAUCAVIJES","76869"]
["VALLE DEL CAUCA","76","76890000","YOTOCO","76890","VALLE DEL CAUCAYOTOCO","76890"]
["VALLE DEL CAUCA","76","76892000","YUMBO","76892","VALLE DEL CAUCAYUMBO","76892"]
["VALLE DEL CAUCA","76","76895000","ZARZAL","76895","VALLE DEL CAUCAZARZAL","76895"]
["VALLE DEL CAUCA","76","76001000","CALI","76001","VALLE DEL CAUCACALI","76001"]
["VALLE DEL CAUCA","76","76020000","ALCALA","76020","VALLE DEL CAUCAALCALA","76020"]
["VALLE DEL CAUCA","76","76036000","ANDALUCIA","76036","VALLE DEL CAUCAANDALUCIA","76036"]
["VALLE DEL CAUCA","76","76041000","ANSERMANUEVO","76041","VALLE DEL CAUCAANSERMANUEVO","76041"]
["VALLE DEL CAUCA","76","76054000","ARGELIA","76054","VALLE DEL CAUCAARGELIA","76054"]
["VALLE DEL CAUCA","76","76100000","BOLIVAR","76100","VALLE DEL CAUCABOLIVAR","76100"]
["VALLE DEL CAUCA","76","76109000","BUENAVENTURA","76109","VALLE DEL CAUCABUENAVENTURA","76109"]
["VALLE DEL CAUCA","76","76111000","GUADALAJARA DE BUGA",{"$f":"LEFT(C1090,5)","v":"76111"},{"$f":"CONCATENATE(A1090,D1090)","v":"VALLE DEL CAUCAGUADALAJARA DE BUGA"},{"$f":"LEFT(C1090,5)","v":"76111"}]
["VALLE DEL CAUCA","76","76113000","BUGALAGRANDE","76113","VALLE DEL CAUCABUGALAGRANDE","76113"]
["VALLE DEL CAUCA","76","76122000","CAICEDONIA","76122","VALLE DEL CAUCACAICEDONIA","76122"]
["VALLE DEL CAUCA","76","76126000","CALIMA","76126","VALLE DEL CAUCACALIMA","76126"]
["VALLE DEL CAUCA","76","76130000","CANDELARIA","76130","VALLE DEL CAUCACANDELARIA","76130"]
["VALLE DEL CAUCA","76","76147000","CARTAGO","76147","VALLE DEL CAUCACARTAGO","76147"]
["VALLE DEL CAUCA","76","76233000","DAGUA","76233","VALLE DEL CAUCADAGUA","76233"]
["VALLE DEL CAUCA","76","76243000","EL AGUILA","76243","VALLE DEL CAUCAEL AGUILA","76243"]
["VALLE DEL CAUCA","76","76246000","EL CAIRO","76246","VALLE DEL CAUCAEL CAIRO","76246"]
["VALLE DEL CAUCA","76","76248000","EL CERRITO","76248","VALLE DEL CAUCAEL CERRITO","76248"]
["VALLE DEL CAUCA","76","76250000","EL DOVIO","76250","VALLE DEL CAUCAEL DOVIO","76250"]
["VALLE DEL CAUCA","76","76275000","FLORIDA","76275","VALLE DEL CAUCAFLORIDA","76275"]
["VALLE DEL CAUCA","76","76306000","GINEBRA","76306","VALLE DEL CAUCAGINEBRA","76306"]
["VALLE DEL CAUCA","76","76318000","GUACARI","76318","VALLE DEL CAUCAGUACARI","76318"]
["VALLE DEL CAUCA","76","76364000","JAMUNDI","76364","VALLE DEL CAUCAJAMUNDI","76364"]
["VALLE DEL CAUCA","76","76377000","LA CUMBRE","76377","VALLE DEL CAUCALA CUMBRE","76377"]
["VALLE DEL CAUCA","76","76400000","LA UNION","76400","VALLE DEL CAUCALA UNION","76400"]
["VALLE DEL CAUCA","76","76403000","LA VICTORIA","76403","VALLE DEL CAUCALA VICTORIA","76403"]
["VALLE DEL CAUCA","76","76497000","OBANDO","76497","VALLE DEL CAUCAOBANDO","76497"]
["VALLE DEL CAUCA","76","76520000","PALMIRA","76520","VALLE DEL CAUCAPALMIRA","76520"]
["VALLE DEL CAUCA","76","76563000","PRADERA","76563","VALLE DEL CAUCAPRADERA","76563"]
["VALLE DEL CAUCA","76","76606000","RESTREPO","76606","VALLE DEL CAUCARESTREPO","76606"]
["VALLE DEL CAUCA","76","76616000","RIOFRIO","76616","VALLE DEL CAUCARIOFRIO","76616"]
["VALLE DEL CAUCA","76","76622000","ROLDANILLO","76622","VALLE DEL CAUCAROLDANILLO","76622"]
["VAUPES","97","97001000","MITU","97001","VAUPESMITU","97001"]
["VAUPES","97","97161000","CARURU","97161","VAUPESCARURU","97161"]
["VAUPES","97","97511000","PACOA","97511","VAUPESPACOA","97511"]
["VAUPES","97","97666000","TARAIRA","97666","VAUPESTARAIRA","97666"]
["VAUPES","97","97777000","PAPUNAUA","97777","VAUPESPAPUNAUA","97777"]
["VAUPES","97","97889000","YAVARATE","97889","VAUPESYAVARATE","97889"]
["VICHADA","99","99001000","PUERTO CARRENO","99001","VICHADAPUERTO CARRENO","99001"]
["VICHADA","99","99524000","LA PRIMAVERA","99524","VICHADALA PRIMAVERA","99524"]
["VICHADA","99","99624000","SANTA ROSALIA","99624","VICHADASANTA ROSALIA","99624"]
["VICHADA","99","99773000","CUMARIBO","99773","VICHADACUMARIBO","99773"]

{"sheet":"CODIGO PAIS","index":6,"n_rows":231,"n_cols":2,"rows_kept":231,"cut":false,"hidden":true,"merged":[]}
["PAIS","CODIGO"]
["COLOMBIA",169]
["AFGANISTAN",13]
["ALBANIA",17]
["ALEMANIA",23]
["ALGERIA",59]
["ANDORRA",37]
["ANGOLA",40]
["ANGUILLA",41]
["ANTIGUA Y BARBUDA",43]
["ANTILLAS HOLANDESAS",47]
["ARABIA SAUDITA",53]
["ARGENTINA",63]
["ARMENIA",26]
["ARUBA",27]
["AUSTRALIA",69]
["AUSTRIA",72]
["AZERBAIJAN",74]
["BAHAMAS",77]
["BAHREIN",80]
["BANGLADESH",81]
["BARBADOS",83]
["BELARUS",91]
["BELGICA",87]
["BELICE",88]
["BENIN",229]
["BERMUDAS",90]
["BIRMANIA (MYANMAR)",93]
["BOLIVIA",97]
["BOSNIA-HERZEGOVINA",29]
["BOTSWANA",101]
["BRASIL",105]
["BRUNEI DARUSSALAM",108]
["BURKINA FASSO",31]
["BURUNDI",115]
["BUTAN",119]
["CABO VERDE",127]
["CAMBOYA (KAMPUCHEA)",141]
["CAMERUN",145]
["CANADA",149]
["CHAD",203]
["CHILE",211]
["CHINA",215]
["CHIPRE",221]
["COMORAS",173]
["CONGO",177]
["COREA NORTE",187]
["COREA SUR",589]
["COSTA DE MARFIL",193]
["COSTA RICA",10]
["CROACIA",198]
["CUBA",199]
["DINAMARCA",232]
["DJIBOUTI",783]
["DOMINICA",235]
["ECUADOR",120]
["EGIPTO",240]
["EL SALVADOR",242]
["EMIRATOS ARABES UNIDOS",244]
["ERITREA",243]
["ESLOVAQUIA",246]
["ESPAÑA",245]
["ESTADOS UNIDOS",249]
["ESTONIA",251]
["ETIOPIA",253]
["FIJI",870]
["FILIPINAS",267]
["FINLANDIA",271]
["FRANCIA",275]
["GABON",281]
["GAMBIA",285]
["GEORGIA",287]
["GHANA",289]
["GIBRALTAR",293]
["GRANADA",297]
["GRECIA",301]
["GROENLANDIA",305]
["GUADALUPE",309]
["GUAM",313]
["GUATEMALA",317]
["GUAYANA FRANCESA",325]
["GUINEA",329]
["GUINEA ECUATORIAL",331]
["GUINEA-BISSAU",334]
["GUYANA",337]
["HAITI",341]
["HOLANDA",573]
["HONDURAS",345]
["HONG KONG",351]
["HUNGRIA",355]
["INDIA",361]
["INDONESIA",365]
["INGLATERRA",628]
["IRAK",369]
["IRAN",372]
["IRLANDA (EIRE)",375]
["ISLA PITCAIRN",593]
["ISLANDIA",379]
["ISLAS CAIMAN",137]
["ISLAS COCOS (KEELING)",165]
["ISLAS COOK",183]
["ISLAS FEROE",259]
["ISLAS MARIANAS DEL NORTE",469]
["ISLAS MARSHALL",472]
["ISLAS NAVIDAD CHRISTMAS",511]
["ISLAS PACIFICO (USA)",566]
["ISLAS SALOMON",677]
["ISLAS TURCAS Y CAICOS",823]
["ISLAS VIRGENES BRITANICAS",863]
["ISLAS VIRGENES NORTEAMERICANAS",866]
["ISRAEL",383]
["ITALIA",386]
["JAMAICA",391]
["JAPON",399]
["JORDANIA",403]
["KAZAJSTAN",406]
["KENIA",410]
["KIRGUIZISTAN",412]
["KIRIBATI",411]
["KUWAIT",413]
["LAOS",420]
["LESOTHO",426]
["LETONIA",429]
["LIBANO",431]
["LIBERIA",434]
["LIBIA (INCLUYE FEZZAN)",438]
["LIECHTENSTEIN",440]
["LITUANIA",443]
["LUXEMBURGO",445]
["MACAO",447]
["MACEDONIA",448]
["MADAGASCAR",450]
["MALAWI",458]
["MALAYSIA",455]
["MALDIVAS",461]
["MALI",464]
["MALTA",467]
["MARRUECOS",474]
["MARTINICA",477]
["MAURICIO",485]
["MAURITANIA",488]
["MEXICO",493]
["MICRONESIA",494]
["MOLDAVIA",496]
["MONACO",498]
["MONGOLIA",497]
["MONSERRAT, ISLA",501]
["MOZAMBIQUE",505]
["NAMIBIA",507]
["NAURU",508]
["NEPAL",517]
["NICARAGUA",521]
["NIGER",525]
["NIGERIA",528]
["NIUE, ISLA",531]
["NORFOLK, ISLA",535]
["NORUEGA",538]
["NUEVA CALEDONIA",542]
["NUEVA ZELANDIA",548]
["OMAN",556]
["PAKISTAN",576]
["PALAU",578]
["PALESTINA",897]
["PANAMA",100]
["PAPUASIA NUEVA GUINEA",545]
["PARAGUAY",586]
["PERU",190]
["POLINESIA FRANCESA",599]
["POLONIA",603]
["PORTUGAL",607]
["PUERTO RICO",611]
["QATAR",618]
["REPUBLICA CENTROAFRICANA",640]
["REPUBLICA CHECA",644]
["REPUBLICA DOMINICANA",647]
["REUNION",660]
["RUANDA",675]
["RUMANIA",670]
["RUSIA",676]
["SAHARA OCCIDENTAL",685]
["SAMOA",687]
["SAMOA NORTEAMERICANA",690]
["SAN CRISTOBAL Y NIEVES",695]
["SAN MARINO",697]
["SAN PEDRO Y MIGUELON",700]
["SAN VICENTE Y LAS GRANADINAS",705]
["SANTA ELENA",710]
["SANTA LUCIA",715]
["SANTA SEDE - Ciudad del Vaticano",159]
["SANTO TOME Y PRINCIPE",720]
["SENEGAL",728]
["SEYCHELLES",731]
["SIERRA LEONA",735]
["SINGAPUR",741]
["SIRIA, REPUBLICA ARABE DE",744]
["SLOVENIA",247]
["SOMALIA",748]
["SRI LANKA",750]
["SUDAFRICA, REPUBLICA DE",756]
["SUDAN",759]
["SUECIA",764]
["SUIZA",767]
["SURINAM",770]
["SWAZILANDIA",773]
["TADJIKISTAN",774]
["TAIWAN (FORMOSA)",218]
["TANZANIA",780]
["TEKONDO",111]
["TERRITORIO BRITANICO DEL OCEANO INDICO",787]
["THAILANDIA",776]
["TIMOR DEL ESTE",788]
["TOGO",800]
["TOKELAU",805]
["TONGA",810]
["TRINIDAD Y TOBAGO",815]
["TUNICIA",820]
["TURKMENISTAN",825]
["TURQUIA",827]
["TUVALU",828]
["UCRANIA",830]
["UGANDA",833]
["URUGUAY",845]
["UZBEKISTAN",847]
["VANUATU",551]
["VENEZUELA",850]
["VIET NAM",855]
["WALLIS Y FORTUNA",875]
["YEMEN",880]
["ZAIRE",888]
["ZAMBIA",890]
["ZIMBABWE",665]