Workbook
Name _ftn1: 'RED LAN'!#REF!
Name _ftn1: 'RED WLAN'!#REF!
Name _ftn1: TOTAL!#REF!
Name _ftn2: 'RED LAN'!#REF!
Name _ftn2: 'RED WLAN'!#REF!
Name _ftn2: TOTAL!#REF!
Name _ftn3: 'RED LAN'!#REF!
Name _ftn3: 'RED WLAN'!#REF!
Name _ftn3: TOTAL!#REF!
Name _ftnref1: 'RED LAN'!#REF!
Name _ftnref1: 'RED WLAN'!#REF!
Name _ftnref1: TOTAL!#REF!
Name _ftnref2: 'RED LAN'!#REF!
Name _ftnref2: 'RED WLAN'!#REF!
Name _ftnref2: TOTAL!#REF!
Name _ftnref3: 'RED LAN'!#REF!
Name _ftnref3: 'RED WLAN'!#REF!
Name _ftnref3: TOTAL!#REF!
Name Decision: [1]lista!$A$6:$A$7
Name Decision: [2]lista!$A$6:$A$7
Name Decision: [3]lista!$A$6:$A$7
Name Decision: [3]lista!$A$6:$A$7
Name Decision: [3]lista!$A$6:$A$7
Name Decision: [2]lista!$A$6:$A$7
Name PARTICIPACION: [1]lista!$A$15:$A$17
Name PARTICIPACION: [2]lista!$A$15:$A$17
Name PARTICIPACION: [3]lista!$A$15:$A$17
Name PARTICIPACION: [3]lista!$A$15:$A$17
Name PARTICIPACION: [3]lista!$A$15:$A$17
Name PARTICIPACION: [2]lista!$A$15:$A$17
Name Procedencia: [1]lista!$A$2:$A$3
Name Procedencia: [2]lista!$A$2:$A$3
Name Procedencia: [3]lista!$A$2:$A$3
Name Procedencia: [3]lista!$A$2:$A$3
Name Procedencia: [3]lista!$A$2:$A$3
Name Procedencia: [2]lista!$A$2:$A$3
Name RESPUESTAS: #REF!
Name RESPUESTAS: #REF!
Name tipo: [1]lista!$A$11:$A$13
Name tipo: [2]lista!$A$11:$A$13
Name tipo: [3]lista!$A$11:$A$13
Name tipo: [3]lista!$A$11:$A$13
Name tipo: [3]lista!$A$11:$A$13
Name tipo: [2]lista!$A$11:$A$13
Name x: [4]lista!$A$11:$A$13
Name x: [5]lista!$A$11:$A$13
Name x: [3]lista!$A$11:$A$13
Name x: [3]lista!$A$11:$A$13
Name x: [3]lista!$A$11:$A$13
Name x: [5]lista!$A$11:$A$13

Sheet INFO GENERAL Y FINANCIERA 
B8: Formato Información General Y Financiera De Proveedores
B10: Ciudad | R10: Fecha Dd/mm/aa | AA10: Persona Natural
AA11: Persona Jurídica
B12: 1. Información General
B13: 1.1. Identificación.
B14: Personas naturales | I14: Nombre Comercial | AF14: Cédula
B16: Personas jurídicas | I16: Razón Social | AF16: DV
B18: Dirección | AA18: Fax | AF18: Ciudad
B20: Pagina Web | AA20: Sector al que pertenece
B22: 1.2. Personas De Contacto
B23: Gerente General | P23: E-mail | AA23: Ext. | AF23: Celular
B25: Director Comercial | P25: E-mail | AA25: Ext. | AF25: Celular
B27: Asesor Comercial | P27: E-mail | AA27: Ext. | AF27: Celular
B29: 1.3. Productos Y Servicios Inscritos En El Rup De Acuerdo Con El Unspsc
B30: Incluir Listado Con Breve Descripción De Los Productos Y/o Servicios Que Ofrece La Compañía, Registrados En El Rup (agregue Las Filas Necesarias) | AF30: Código de Naciones Unidas
B36: 1.4. Códigos CIIU | AF36: 1.5. Número De Empleados
B37: Código De Actividad | I37: Descripción Actividad Económica CIIU | AA37: Tarifa ICA
B41: 2. Información Financiera
B42: Nombre Del Indicador | O42: Cuenta | W42: Valores En Pesos a Diciembre 31 De 2014 | AE42: Indicador | AI42: Veces- Porcentaje
B43: Capacidad Financiera | E43: índice De Liquidez | O43: Activo Corriente --> | AE43: =+IFERROR(W43/W44,0) -> 0 | AI43: Veces
O44: Pasivo Corriente -->
E45: Índice De Endeudamiento | O45: Pasivo Total--> | AE45: =+IFERROR(W45/W46,0) -> 0 | AI45: Porcentaje
O46: Activo Total-->
E47: Razón De Cobertura De Intereses | O47: Utilidad Operacional--> | AE47: =+IFERROR(W47/W48,0) -> 0 | AI47: Veces
O48: Gastos De Interés-->
E49: Capital de Trabajo | O49: Activo Corriente--> | AE49: =+W49-W50 -> 0 | AI49: Pesos
O50: Pasivo corriente-->
B51: Capacidad Organizacional | E51: Rentabilidad Del Patrimonio | O51: Utilidad Operacional--> | AE51: =+IFERROR(W51/W52,0) -> 0 | AI51: Porcentaje
O52: Patrimonio-->
E53: Rentabilidad Del Activo | O53: Utilidad Operacional--> | AE53: =+IFERROR(W53/W54,0) -> 0 | AI53: Porcentaje
O54: Activo Total-->
B55: Nota: Para las empresas inspeccionadas, vigiladas o controladas por la Supersociedades, la información consignada en este numeral será validada con la reportada a la Supersociedades y disponible para consulta en Internet mediante el Sistema de Información y Riesgo Empresarial de la Supersociedades (SIREM). Si se evidencian diferencias en los valores consignados en este formato y los reportados a la Supersociedades se tomará como referencia la información del SIREM.
B56: Otra información relevante de la empresa (consigne en este espacio otra información que considere de interés)

Sheet TOTAL
B8: FORMATO DE COTIZACIÓN NETWORKING - RED WLAN (Hoja 1/3)
B9: Empresa: | C9: ='RED LAN'!C9:G9 -> 0 | E9: Fecha: | F9: =IFERROR('RED LAN'!S9:V9,0) -> 0
B10: Contacto: | C10: ='RED LAN'!C10:G10 -> 0 | E10: Tel. Cel.: | F10: =IFERROR('RED LAN'!S10:V10,0) -> 0
B11: E-Mail: | C11: ='RED LAN'!C11:G11 -> 0 | E11: Tel. Fijo: | F11: =IFERROR('RED LAN'!S11:V11,0) -> 0
B13: Instrucciones para el diligenciamiento del formato de cotización
B14: • Revisar todos los requerimientos que se exponen en el documento "Ficha de Condiciones Técnicas Escenciales para la Prestación del Servicio y/o Entrega del Bien" (FCT) y Anexos; y formular su cotización en concordancia con este, garantizando que los bienes y/o servicios ofrecidos cumplan en su totalidad con las especificaciones técnicas descritas en la FCT. • El valor de la cotización deber ser expresado en PESOS COLOMBIANOS. • Los valores unitarios deberán aproximarse por exceso o por defecto al entero más cercano. Si la cifra no está aproximada y aparece con centavos, el ICBF aproximará al entero inferior. • No modificar, agregar o quitar ningún ítem o sub-ítem.
B16: TOTAL COTIZACIÓN NETWORKING
B17: RED | D17: OPCIÓN 1 | E17: OPCIÓN 2 | F17: OPCIÓN 3
D19: Precio TOTAL IVA incluido | E19: Precio TOTAL IVA incluido | F19: Precio TOTAL IVA incluido
B20: RED LAN (viene de hoja RED LAN) | D20: ='RED LAN'!J53 -> 0 | E20: ='RED LAN'!P53 -> 0 | F20: ='RED LAN'!V53 -> 0
B21: RED WLAN (viene de hoja RED WLAN) | D21: ='RED WLAN'!F40 -> 0 | E21: ='RED WLAN'!H40 -> 0 | F21: ='RED WLAN'!J40 -> 0
B22: TOTAL | D22: =SUM(D20:D21) -> 0 | E22: =SUM(E20:E21) -> 0 | F22: =SUM(F20:F21) -> 0
B24: La presente cotización:
B25: • Incluye todos los costos y gastos directos e indirectos en que debe incurrir el contratista durante la ejecución del contrato de acuerdo con las especificaciones de la Ficha de Condiciones Técnicas, las obligaciones tributarias de acuerdo con las normas aplicables para el tipo de servicio y contrato correspondiente, y los costos de las pólizas. • Se remite como parte del estudio de mercado, previo a la contratación, y no implica ninguna obligación de contratar. • Tiene una vigencia de 90 días a partir de la fecha de diligenciamiento.
B26: Inscripción en el Registro Único de Proponentes: Las personas naturales y jurídicas, nacionales o extranjeras, con domicilio en Colombia, interesadas en participar en procesos de contratación convocados por las entidades estatales, deben estar inscritas en el RUP, salvo las excepciones previstas de forma taxativa en la ley (Artículo 2.2.1.1.1.5.1 del Decreto 1082 de 2015). Se aclara que esta inscripción no se requiere para remitir cotización durante el estudio de mercado.

Sheet RED LAN
B8: FORMATO DE COTIZACIÓN NETWORKING - RED LAN (HOJA 2/3)
B9: Empresa: | H9: Nit: | R9: Fecha:
B10: Contacto: | H10: Dirección: | R10: Tel. Cel.:
B11: E-Mail: | H11: Cargo: | R11: Tel. Fijo:
B13: Instrucciones para el diligenciamiento del formato de cotización
B14: • Por favor diligenciar solo las celdas en AMARILLO. • Revisar todos los requerimientos que se exponen en el documento "Ficha de Condiciones Técnicas Escenciales para la Prestación del Servicio y/o Entrega del Bien" (FCT) y Anexos; y formular su cotización en concordancia con este, garantizando que los bienes y/o servicios ofrecidos cumplan en su totalidad con las especificaciones técnicas descritas en la FCT. • Asignar precio sin incluir el IVA en las celdas de la columna "Valor unitario antes de IVA ciudad capital" , "Valor unitario antes de IVA ciudades intermedias" y "Valor unitario antes de IVA ciudades lejanas" y asignar la tarifa de IVA que corresponda en las celdas de la columna "Tarifa IVA%", para las tres opciones de cantidades requeridas. • El valor de la cotización deber ser expresado en PESOS COLOMBIANOS. • Los valores unitarios deberán aproximarse por exceso o por defecto al entero más cercano. Si la cifra no está aproximada y aparece con centavos, el ICBF aproximará al entero inferior. • No modificar, agregar o quitar ningún ítem o sub-ítem.
B15: Notas: (1) Cotizar el precio de los de los productos requeridos para las opciones 1, 2 y 3, de acuerdo con el anexo No 1 "Cantidad proyectada SWITCHES - ACCESS POINT a nivel nacional. (2) Las ciudades capitales hacen referencia a ciudad capital de departamento, las ciudades intermedias hacen referencia a sedes ubicadas a 100 Km de la ciudad capital del departamento y las ciudades lejanas a sedes ubicadas a mas de 100 Km de la ciudad capital del departamento. (3) El costo de los productos y servicios detallados en la FCT que no estén especificados en la presente cotización se entienden incluidos en el precio de los productos aquí cotizados.( Distribución, Charlas técnicas, soporte técnico y demás)
B17: 1. VALOR UNITARIO SIN IVA
B18: Producto | C18: Descripción | D18: Tarifa IVA % | E18: OPCIÓN 1 | K18: OPCIÓN 2 | Q18: OPCIÓN 3
E20: Cantidad Ciudad capital | F20: Precio unitario sin IVA ciuda capital (Nota 2) | G20: Cantidad ciudad intermedia | H20: Precio unitario sin IVA ciudad intermedia (Nota 2) | I20: Cantidad ciudad lejana | J20: Precio unitario sin IVA ciudad lejana (Nota 2) | K20: Cantidad Ciudad capital | L20: Precio unitario sin IVA ciuda capital (Nota 2) | M20: Cantidad ciudad intermedia | N20: Precio unitario sin IVA ciudad intermedia (Nota 2) | O20: Cantidad ciudad lejana | P20: Precio unitario sin IVA ciudad lejana (Nota 2) | Q20: Cantidad Ciudad capital | R20: Precio unitario sin IVA ciuda capital (Nota 2) | S20: Cantidad ciudad intermedia | T20: Precio unitario sin IVA ciudad intermedia (Nota 2) | U20: Cantidad ciudad lejana | V20: Precio unitario sin IVA ciudad lejana (Nota 2)
B21: Switches | C21: 48 Poe + | E21: 219 | G21: 29 | I21: 21 | K21: 100 | M21: 29 | O21: 21 | Q21: 55 | S21: 12 | U21: 13
C22: 24 Poe + | E22: 46 | G22: 32 | I22: 44 | K22: 8 | M22: 15 | O22: 27 | Q22: 2 | S22: 7 | U22: 11
C23: Core (en alta disponibilidad) | E23: 2 | G23: 0 | H23: No aplica | I23: 0 | J23: No aplica | K23: 2 | M23: 0 | N23: No aplica | O23: 0 | P23: No aplica | Q23: 2 | S23: 0 | T23: No aplica | U23: 0 | V23: No aplica
B24: Accesorios | C24: SFP(gibits) | E24: 140 | G24: 0 | H24: No aplica | I24: 0 | J24: No aplica | K24: 70 | M24: 0 | N24: No aplica | O24: 0 | P24: No aplica | Q24: 35 | S24: 0 | T24: No aplica | U24: 0 | V24: No aplica
C25: Cables de Stacking 1 - 1.5 metros con sus conectores | E25: 168 | G25: 0 | H25: No aplica | I25: 2 | K25: 84 | M25: 0 | N25: No aplica | O25: 1 | Q25: 40 | S25: 0 | T25: No aplica | U25: 0 | V25: No aplica
C26: Cables stacking 1.5 - 3 metros con sus conectores | E26: 40 | G26: 0 | H26: No aplica | I26: 0 | J26: No aplica | K26: 20 | M26: 0 | N26: No aplica | O26: 0 | P26: No aplica | Q26: 10 | S26: 0 | T26: No aplica | U26: 0 | V26: No aplica
B27: Software de administración de la Red LAN | E27: =E21+G21+I21+E22+G22+E23+I22 -> 393 | G27: No aplica | K27: =K21+M21+O21+K22+M22+K23+O22 -> 202 | M27: No aplica | Q27: =Q21+S21+U21+Q22+S22+Q23+U22 -> 102 | S27: No aplica
B29: 2. VALOR UNITARIO IVA INCLUIDO
B30: Producto | C30: Descripción | D30: OPCIÓN 1 | K30: OPCIÓN 2 | Q30: OPCIÓN 3
D32: Cantidad Ciudad capital | F32: Precio unitario IVA incluido ciuda capital | G32: Cantidad ciudad intermedia | H32: Precio unitario IVA incluido ciudad intermedia | I32: Cantidad ciudad lejana | J32: Precio unitario IVA incluido ciudad lejana | K32: Cantidad Ciudad capital | L32: Precio unitario IVA incluido ciuda capital | M32: Cantidad ciudad intermedia | N32: Precio unitario IVA incluido ciudad intermedia | O32: Cantidad ciudad lejana | P32: Precio unitario IVA incluido ciudad lejana | Q32: Cantidad Ciudad capital | R32: Precio unitario IVA incluido ciuda capital | S32: Cantidad ciudad intermedia | T32: Precio unitario IVA incluido ciudad intermedia | U32: Cantidad ciudad lejana | V32: Precio unitario IVA incluido ciudad lejana
B33: Switches | C33: 48 Poe + | D33: =+E21 -> 219 | F33: =ROUND(+F21*(1+$D21),0) -> 0 | G33: =G21 -> 29 | H33: =ROUND(+H21*(1+$D21),0) -> 0 | I33: =I21 -> 21 | J33: =ROUND(+J21*(1+$D21),0) -> 0 | K33: =K21 -> 100 | L33: =ROUND(+L21*(1+$D21),0) -> 0 | M33: =M21 -> 29 | N33: =ROUND(+N21*(1+$D21),0) -> 0 | O33: =O21 -> 21 | P33: =ROUND(+P21*(1+$D21),0) -> 0 | Q33: =Q21 -> 55 | R33: =ROUND(+R21*(1+$D21),0) -> 0 | S33: =S21 -> 12 | T33: =ROUND(+T21*(1+$D21),0) -> 0 | U33: =U21 -> 13 | V33: =ROUND(+V21*(1+$D21),0) -> 0
C34: 24 Poe + | D34: =+E22 -> 46 | F34: =ROUND(+F22*(1+$D22),0) -> 0 | G34: =G22 -> 32 | H34: =ROUND(+H22*(1+$D22),0) -> 0 | I34: =I22 -> 44 | J34: =ROUND(+J22*(1+$D22),0) -> 0 | K34: =K22 -> 8 | L34: =ROUND(+L22*(1+$D22),0) -> 0 | M34: =M22 -> 15 | N34: =ROUND(+N22*(1+$D22),0) -> 0 | O34: =O22 -> 27 | P34: =ROUND(+P22*(1+$D22),0) -> 0 | Q34: =Q22 -> 2 | R34: =ROUND(+R22*(1+$D22),0) -> 0 | S34: =S22 -> 7 | T34: =ROUND(+T22*(1+$D22),0) -> 0 | U34: =U22 -> 11 | V34: =ROUND(+V22*(1+$D22),0) -> 0
C35: Core (en alta disponibilidad) | D35: =+E23 -> 2 | F35: =ROUND(+F23*(1+$D23),0) -> 0 | G35: =G23 -> 0 | H35: No aplica | I35: =I23 -> 0 | J35: No aplica | K35: =K23 -> 2 | L35: =ROUND(+L23*(1+$D23),0) -> 0 | M35: =M23 -> 0 | N35: No aplica | O35: =O23 -> 0 | P35: No aplica | Q35: =Q23 -> 2 | R35: =ROUND(+R23*(1+$D23),0) -> 0 | S35: =S23 -> 0 | T35: No aplica | U35: =U23 -> 0 | V35: No aplica
B36: Accesorios | C36: SFP (gibits) | D36: =+E24 -> 140 | F36: =ROUND(+F24*(1+$D24),0) -> 0 | G36: =G24 -> 0 | H36: No aplica | I36: =I24 -> 0 | J36: No aplica | K36: =K24 -> 70 | L36: =ROUND(+L24*(1+$D24),0) -> 0 | M36: =M24 -> 0 | N36: No aplica | O36: =O24 -> 0 | P36: No aplica | Q36: =Q24 -> 35 | R36: =ROUND(+R24*(1+$D24),0) -> 0 | S36: =S24 -> 0 | T36: No aplica | U36: =U24 -> 0 | V36: No aplica
C37: Cables de Stacking 1 - 1.5 metros con sus conectores | D37: =+E25 -> 168 | F37: =ROUND(+F25*(1+$D25),0) -> 0 | G37: =G25 -> 0 | H37: No aplica | I37: =I25 -> 2 | J37: =ROUND(+J25*(1+$D25),0) -> 0 | K37: =K25 -> 84 | L37: =ROUND(+L25*(1+$D25),0) -> 0 | M37: =M25 -> 0 | N37: No aplica | O37: =O25 -> 1 | P37: =ROUND(+P25*(1+$D25),0) -> 0 | Q37: =Q25 -> 40 | R37: =ROUND(+R25*(1+$D25),0) -> 0 | S37: =S25 -> 0 | T37: No aplica | U37: =U25 -> 0 | V37: No aplica
C38: Cables stacking 1.5 - 3 metros con sus conectores | D38: =+E26 -> 40 | F38: =ROUND(+F26*(1+$D26),0) -> 0 | G38: =G26 -> 0 | H38: No aplica | I38: =I26 -> 0 | J38: No aplica | K38: =K26 -> 20 | L38: =ROUND(+L26*(1+$D26),0) -> 0 | M38: =M26 -> 0 | N38: No aplica | O38: =O26 -> 0 | P38: No aplica | Q38: =Q26 -> 10 | R38: =ROUND(+R26*(1+$D26),0) -> 0 | S38: =S26 -> 0 | T38: No aplica | U38: =U26 -> 0 | V38: No aplica
B39: Software | C39: Administración de la Red LAN para los switches de acceso y switch core. | D39: =+E27 -> 393 | F39: =ROUND(+F27*(1+$D27),0) -> 0 | G39: No aplica | K39: =K27 -> 202 | L39: =ROUND(+L27*(1+$D27),0) -> 0 | M39: No aplica | Q39: =Q27 -> 102 | R39: =ROUND(+R27*(1+$D27),0) -> 0 | S39: No aplica
B41: 2. VALOR TOTAL IVA INCLUIDO
B42: Producto | C42: Descripción | D42: OPCIÓN 1 | K42: OPCIÓN 2 | Q42: OPCIÓN 3
D44: Cantidad Ciudad capital | F44: Precio total IVA incluido ciuda capital | G44: Cantidad ciudad intermedia | H44: Precio total IVA incluido ciudad intermedia | I44: Cantidad ciudad lejana | J44: Precio total IVA incluido ciudad lejana | K44: Cantidad Ciudad capital | L44: Precio total IVA incluido ciuda capital | M44: Cantidad ciudad intermedia | N44: Precio total IVA incluido ciudad intermedia | O44: Cantidad ciudad lejana | P44: Precio total IVA incluido ciudad lejana | Q44: Cantidad Ciudad capital | R44: Precio total IVA incluido ciuda capital | S44: Cantidad ciudad intermedia | T44: Precio total IVA incluido ciudad intermedia | U44: Cantidad ciudad lejana | V44: Precio total IVA incluido ciudad lejana
B45: Switches | C45: 48 Poe + | D45: =+D33 -> 219 | F45: =ROUND(+F33*D45,0) -> 0 | G45: =+G33 -> 29 | H45: =ROUND(+H33*G45,0) -> 0 | I45: =+I33 -> 21 | J45: =ROUND(+J33*I45,0) -> 0 | K45: =+K33 -> 100 | L45: =ROUND(+L33*K45,0) -> 0 | M45: =+M33 -> 29 | N45: =ROUND(+N33*M45,0) -> 0 | O45: =+O33 -> 21 | P45: =ROUND(+P33*O45,0) -> 0 | Q45: =+Q33 -> 55 | R45: =ROUND(+R33*Q45,0) -> 0 | S45: =+S33 -> 12 | T45: =ROUND(+T33*S45,0) -> 0 | U45: =+U33 -> 13 | V45: =ROUND(+V33*U45,0) -> 0
C46: 24 Poe + | D46: =+D34 -> 46 | F46: =ROUND(+F34*D46,0) -> 0 | G46: =+G34 -> 32 | H46: =ROUND(+H34*G46,0) -> 0 | I46: =+I34 -> 44 | J46: =ROUND(+J34*I46,0) -> 0 | K46: =+K34 -> 8 | L46: =ROUND(+L34*K46,0) -> 0 | M46: =+M34 -> 15 | N46: =ROUND(+N34*M46,0) -> 0 | O46: =+O34 -> 27 | P46: =ROUND(+P34*O46,0) -> 0 | Q46: =+Q34 -> 2 | R46: =ROUND(+R34*Q46,0) -> 0 | S46: =+S34 -> 7 | T46: =ROUND(+T34*S46,0) -> 0 | U46: =+U34 -> 11 | V46: =ROUND(+V34*U46,0) -> 0
C47: Core (en alta disponibilidad) | D47: =+D35 -> 2 | F47: =ROUND(+F35*D47,0) -> 0 | G47: =+G35 -> 0 | H47: No aplica | I47: =+I35 -> 0 | J47: No aplica | K47: =+K35 -> 2 | L47: =ROUND(+L35*K47,0) -> 0 | M47: =+M35 -> 0 | N47: No aplica | O47: =+O35 -> 0 | P47: No aplica | Q47: =+Q35 -> 2 | R47: =ROUND(+R35*Q47,0) -> 0 | S47: =+S35 -> 0 | T47: No aplica | U47: =+U35 -> 0 | V47: No aplica
B48: Accesorios | C48: SFP(gibits) | D48: =+D36 -> 140 | F48: =ROUND(+F36*D48,0) -> 0 | G48: =+G36 -> 0 | H48: No aplica | I48: =+I36 -> 0 | J48: No aplica | K48: =+K36 -> 70 | L48: =ROUND(+L36*K48,0) -> 0 | M48: =+M36 -> 0 | N48: No aplica | O48: =+O36 -> 0 | P48: No aplica | Q48: =+Q36 -> 35 | R48: =ROUND(+R36*Q48,0) -> 0 | S48: =+S36 -> 0 | T48: No aplica | U48: =+U36 -> 0 | V48: No aplica
C49: Cables de Stacking 1 - 1.5 metros con sus conectores | D49: =+D37 -> 168 | F49: =ROUND(+F37*D49,0) -> 0 | G49: =+G37 -> 0 | H49: No aplica | I49: =+I37 -> 2 | J49: =ROUND(+J37*I49,0) -> 0 | K49: =+K37 -> 84 | L49: =ROUND(+L37*K49,0) -> 0 | M49: =+M37 -> 0 | N49: No aplica | O49: =+O37 -> 1 | P49: =ROUND(+P37*O49,0) -> 0 | Q49: =+Q37 -> 40 | R49: =ROUND(+R37*Q49,0) -> 0 | S49: =+S37 -> 0 | T49: No aplica | U49: =+U37 -> 0 | V49: No aplica
C50: Cables stacking 1.5 - 3 metros con sus conectores | D50: =+D38 -> 40 | F50: =ROUND(+F38*D50,0) -> 0 | G50: =+G38 -> 0 | H50: No aplica | I50: =+I38 -> 0 | J50: No aplica | K50: =+K38 -> 20 | L50: =ROUND(+L38*K50,0) -> 0 | M50: =+M38 -> 0 | N50: No aplica | O50: =+O38 -> 0 | P50: No aplica | Q50: =+Q38 -> 10 | R50: =ROUND(+R38*Q50,0) -> 0 | S50: =+S38 -> 0 | T50: No aplica | U50: =+U38 -> 0 | V50: No aplica
B51: Software | C51: Administración de la Red LAN para los switches de acceso y switch core. | D51: =+D39 -> 393 | F51: =ROUND(+F39*D51,0) -> 0 | G51: No aplica | K51: =+K39 -> 202 | L51: =ROUND(+L39*K51,0) -> 0 | M51: No aplica | Q51: =+Q39 -> 102 | R51: =ROUND(+R39*Q51,0) -> 0 | S51: No aplica
B52: Subtotales | F52: =SUM(F45:F51) -> 0 | H52: =SUM(H45:H51) -> 0 | J52: =SUM(J45:J51) -> 0 | L52: =SUM(L45:L51) -> 0 | N52: =SUM(N45:N51) -> 0 | P52: =SUM(P45:P51) -> 0 | R52: =SUM(R45:R51) -> 0 | T52: =SUM(T45:T51) -> 0 | V52: =SUM(V45:V51) -> 0
B53: TOTAL RED LAN | J53: =J52+F52+H52 -> 0 | P53: =P52+L52+N52 -> 0 | V53: =V52+R52+T52 -> 0
B55: La presente cotización:
...

Sheet RED WLAN
B8: FORMATO DE COTIZACIÓN NETWORKING - RED WLAN (Hoja 3/3)
B9: Empresa: | E9: Empresa: | H9: Fecha:
B10: Contacto: | E10: Contacto: | H10: Tel. Cel.:
B11: E-Mail: | E11: E-Mail: | H11: Tel. Fijo:
B13: Instrucciones para el diligenciamiento del formato de cotización
B14: • Por favor diligenciar solo las celdas en AMARILLO. • Revisar todos los requerimientos que se exponen en el documento "Ficha de Condiciones Técnicas Escenciales para la Prestación del Servicio y/o Entrega del Bien" (FCT) y Anexos; y formular su cotización en concordancia con este, garantizando que los bienes y/o servicios ofrecidos cumplan en su totalidad con las especificaciones técnicas descritas en la FCT. • Asignar precio sin incluir el IVA en las celdas de la columna "Valor unitario antes de IVA ciudad capital" ,y asignar la tarifa de IVA que corresponda en las celdas de la columna "Tarifa IVA%", para las tres opciones de cantidades requeridas. • El valor de la cotización deber ser expresado en PESOS COLOMBIANOS. • Los valores unitarios deberán aproximarse por exceso o por defecto al entero más cercano. Si la cifra no está aproximada y aparece con centavos, el ICBF aproximará al entero inferior. • No modificar, agregar o quitar ningún ítem o sub-ítem.
B15: Notas: (1) Cotizar el precio de los productos requeridos, de acuerdo con el anexo No 1 "Cantidad proyectada SWITCHES - ACCESS POINT a nivel nacional. (2) Cotizar teniendo en cuenta nota (2) de la pestaña "RED LAN" (3) El costo de los productos y servicios detallados en la FCT que no estén especificados en la presente cotización se entienden incluidos en el precio de los productos aquí cotizados.( Distribución, Charlas técnicas, soporte técnico y demás)
B17: 1. VALOR UNITARIO SIN IVA
B18: Producto | C18: Descripción | D18: Tarifa IVA % | E18: OPCIÓN 1 | G18: OPCIÓN 2 | I18: OPCIÓN 3
E20: Cantidad Ciudad capital | F20: Precio unitario sin IVA ciuda capital (Nota 2) | G20: Cantidad Ciudad capital | H20: Precio unitario sin IVA ciuda capital (Nota 2) | I20: Cantidad Ciudad capital | J20: Precio unitario sin IVA ciuda capital (Nota 2)
B21: Access point | E21: 120 | G21: 60 | I21: 33
B22: Software | C22: Red inalámbrica WLAN | E22: =E21 -> 120 | G22: =G21 -> 60 | I22: =I21 -> 33
B23: Controladoras de la solución inalámbrica | E23: 2 | G23: 2 | I23: 2
B25: 2. VALOR UNITARIO IVA INCLUIDO
B26: Producto | C26: Descripción | D26: OPCIÓN 1 | G26: OPCIÓN 2 | I26: OPCIÓN 3
D28: Cantidad Ciudad capital | F28: Precio unitario IVA incluido ciuda capital | G28: Cantidad Ciudad capital | H28: Precio unitario IVA incluido ciuda capital | I28: Cantidad Ciudad capital | J28: Precio unitario IVA incluido ciuda capital
B29: Access point | D29: =+E21 -> 120 | F29: =ROUND(+F21*(1+$D21),0) -> 0 | G29: 60 | H29: =ROUND(+H21*(1+$D21),0) -> 0 | I29: =I21 -> 33 | J29: =ROUND(+J21*(1+$D21),0) -> 0
B30: Software | C30: Red inalámbrica WLAN | D30: =+E22 -> 120 | F30: =ROUND(+F22*(1+$D22),0) -> 0 | G30: 60 | H30: =ROUND(+H22*(1+$D22),0) -> 0 | I30: =I22 -> 33 | J30: =ROUND(+J22*(1+$D22),0) -> 0
B31: Controladoras de la solución inalámbrica | D31: 2 | F31: =ROUND(+F23*(1+$D23),0) -> 0 | G31: 2 | H31: =ROUND(+H23*(1+$D23),0) -> 0 | I31: =I23 -> 2 | J31: =ROUND(+J23*(1+$D23),0) -> 0
B33: 2. VALOR TOTAL IVA INCLUIDO
B34: Producto | C34: Descripción | D34: OPCIÓN 1 | G34: OPCIÓN 2 | I34: OPCIÓN 3
D36: Cantidad Ciudad capital | F36: Precio total IVA incluido ciuda capital | G36: Cantidad Ciudad capital | H36: Precio total IVA incluido ciuda capital | I36: Cantidad Ciudad capital | J36: Precio total IVA incluido ciuda capital
B37: Access point | D37: =+D29 -> 120 | F37: =ROUND(+F29*D37,0) -> 0 | G37: =+G29 -> 60 | H37: =ROUND(+H29*G37,0) -> 0 | I37: =I29 -> 33 | J37: =ROUND(+J29*I37,0) -> 0
B38: Software | C38: Red inalámbrica WLAN | D38: =+D30 -> 120 | F38: =ROUND(+F30*D38,0) -> 0 | G38: =+G30 -> 60 | H38: =ROUND(+H30*G38,0) -> 0 | I38: =I30 -> 33 | J38: =ROUND(+J30*I38,0) -> 0
B39: Controladoras de la solución inalámbrica | D39: =+D31 -> 2 | F39: =ROUND(+F31*D39,0) -> 0 | G39: =+G31 -> 2 | H39: =ROUND(+H31*G39,0) -> 0 | I39: =I31 -> 2 | J39: =ROUND(+J31*I39,0) -> 0
B40: TOTAL RED WLAN | F40: =SUM(F37:F39) -> 0 | H40: =SUM(H37:H39) -> 0 | J40: =SUM(J37:J39) -> 0
B42: La presente cotización:
B43: • Incluye todos los costos y gastos directos e indirectos en que debe incurrir el contratista durante la ejecución del contrato de acuerdo con las especificaciones de la Ficha de Condiciones Técnicas, las obligaciones tributarias de acuerdo con las normas aplicables para el tipo de servicio y contrato correspondiente, y los costos de las pólizas. • Se remite como parte del estudio de mercado, previo a la contratación, y no implica ninguna obligación de contratar. • Tiene una vigencia de 90 días a partir de la fecha de diligenciamiento.
B44: Inscripción en el Registro Único de Proponentes: Las personas naturales y jurídicas, nacionales o extranjeras, con domicilio en Colombia, interesadas en participar en procesos de contratación convocados por las entidades estatales, deben estar inscritas en el RUP, salvo las excepciones previstas de forma taxativa en la ley (Artículo 2.2.1.1.1.5.1 del Decreto 1082 de 2015). Se aclara que esta inscripción no se requiere para remitir cotización durante el estudio de mercado.

Sheet POLIZAS
B8: CONCEPTOS A TENER EN CUENTA
B11: El presente cuadro es de carácter informativo, no se debe diligenciar. Sin embargo se entiende que la cotización incluye la totalidad de los conceptos relacionados a continuación.
B13: PÓLIZAS PARA LEGALIZACIÓN DEL CONTRATO
B15: CONCEPTO | D15: COBERTURA | E15: PLAZO (En Meses)
B16: Garantía de Seriedad de la oferta | D16: 0.1 | E16: Plazo de Ejecución
B17: Cumplimiento | D17: 0.2 | E17: Plazo de ejecución + 4 meses mas
B18: Salarios, Prestaciones | D18: 0.1 | E18: Plazo de ejecución + 36 meses mas
B19: Calidad de los Servicios | D19: 0.2 | E19: Plazo de ejecución + 4 meses mas
B20: Responsabilidad civil extracontractual | D20: 0.1 | E20: Plazo de Ejecución
B21: Cobertura: Corresponde al porcentaje del valor total del contrato a amparar.

Sheet INFO EXPERIENCIA
B8: EXPERIENCIA EN CONTRATACION EN LOS ULTIMOS 5 AÑOS
B9: EXPERIENCIA EN CONTRATACIÓN EN LOS ÚLTIMOS 5 AÑOS
B11: Empresa: | F11: Nit: | I11: Fecha:
B12: Contacto: | F12: Cargo: | I12: Tel. celular:
B13: E-Mail: | F13: Dirección: | I13: Tel. fijo:
B15: Con el fin de conocer la experiencia con la que cuentan las empresas del sector relacionada con el objeto del presente estudio de mercado, agradecemos diligenciar el cuadro que sigue con base en los contratos suscritos en los últimos 5 años, cuyos objetos están relacionados con el objeto del presente estudio de mercado
B17: Tipo de entidad | C17: Entidad o Empresa | D17: Numero del contrato | E17: Objeto del contrato | F17: Fecha de suscripción (dd/mmm/aa) | G17: Plazo de ejecución (en años) | H17: Forma de participación (UT, consorcio, individual) | I17: % de participación | J17: Valor total ejecutado del contrato (de acuerdo con el % de participación)
B29: Nota: Agregar las filas necesarias para reportar la experiencia
