Workbook
Name Decision: [1]lista!$A$6:$A$7
Name PARTICIPACION: [1]lista!$A$15:$A$17
Name Procedencia: [1]lista!$A$2:$A$3
Name tipo: [1]lista!$A$11:$A$13
Name x: [2]lista!$A$11:$A$13

Sheet INFO GENERAL Y FINANCIERA
B8: Formato Información General Y Financiera De Proveedores
B10: Ciudad | M10: Fecha Dd/mm/aa | AD10: Persona Natural
AD11: Persona Jurídica
B12: 1. Información General
B13: 1.1. Identificación.
B14: Personas naturales | F14: Nombre Comercial | U14: Nombres y Apellidos | AK14: Cédula
B16: Personas jurídicas | F16: Razón Social | U16: NIT | AK16: DV
B18: Dirección | U18: Teléfono | AD18: Fax | AK18: Ciudad
B20: Pagina Web | U20: Años de Constitución | AD20: Sector al que pertenece
B22: 1.2. Personas De Contacto
B23: Gerente General | K23: E-mail | U23: Teléfono | AD23: Ext. | AK23: Celular
B25: Director Comercial | K25: E-mail | U25: Teléfono | AD25: Ext. | AK25: Celular
B27: Asesor Comercial | K27: E-mail | U27: Teléfono | AD27: Ext. | AK27: Celular
B29: 1.3. Productos Y Servicios Inscritos En El Rup De Acuerdo Con El Unspsc
B30: Incluir Listado Con Breve Descripción De Los Productos Y/o Servicios Que Ofrece La Compañía, Registrados En El Rup (agregue Las Filas Necesarias) | AK30: Código de Naciones Unidas
B36: 1.4. Códigos CIIU | AK36: 1.5. Número De Empleados
B37: Código De Actividad | F37: Descripción Actividad Económica CIIU | AD37: Tarifa ICA
B41: 2. Información Financiera - A Diciembre 31 De 2012
B42: Nombre Del Indicador | M42: Cuenta | U42: Valores En Pesos | AD42: Indicador
B43: Capacidad Financiera | F43: índice De Liquidez | M43: Activo Corriente --> | AD43: =+IFERROR(U43/U44,0) -> 0 | AK43: Veces
M44: Pasivo Corriente -->
F45: Índice De Endeudamiento | M45: Pasivo Total--> | AD45: =+IFERROR(U45/U46,0) -> 0 | AK45: Porcentaje
M46: Activo Total-->
F47: Razón De Cobertura De Intereses | M47: Utilidad Operacional--> | AD47: =+IFERROR(U47/U48,0) -> 0 | AK47: Veces
M48: Gastos De Interés-->
B49: Capacidad Organizacional | F49: Rentabilidad Del Patrimonio | M49: Utilidad Operacional--> | AD49: =+IFERROR(U49/U50,0) -> 0 | AK49: Porcentaje
M50: Patrimonio-->
F51: Rentabilidad Del Activo | M51: Utilidad Operacional--> | AD51: =+IFERROR(U51/U52,0) -> 0 | AK51: Porcentaje
M52: Activo Total-->
B53: Nota: Para las empresas inspeccionadas, vigiladas o controladas por la Supersociedades, la información consignada en este numeral será validada con la reportada a la Supersociedades y disponible para consulta en Internet mediante el Sistema de Información y Riesgo Empresarial de la Supersociedades (SIREM). Si se evidencian diferencias en los valores consignados en este formato y los reportados a la Supersociedades se tomará como referencia la información del SIREM.
B54: Otra información relevante de la empresa (consigne en este espacio otra información que considere de interés)

Sheet Mtto-vehiculos
B10: COTIZACIÓN- SERVICIO DE MANTENIMIENTO MECÁNICO PREVENTIVO Y CORRECTIVO INCLUIDO EL SUMINISTRO DE REPUESTOS DE LOS VEHÍCULOS AUTOMOTORES DE LA SEDE DE LA DIRECCIÓN GENERAL DEL ICBF.
B13: EMPRESA: | J13: NIT: | O13: FECHA:
B14: CONTACTO | J14: CARGO: | O14: TEL. CELULAR :
B15: E-MAIL: | J15: DIRECCIÓN: | O15: TELEFONO FIJO:
B17: Instrucciones para el diligenciamiento del formato de cotización
B18: • Por favor diligenciar solo las celdas en AMARILLO. Se deben llenar todas las casillas. • Revisar todos los requerimientos que se exponen en el documento "Ficha de Condiciones Técnicas" y Anexos; y formular su cotización en concordancia con este. • Asignar precio sin incluir el IVA en las celdas de las columnas "F, H, J, L, N, P, R, T, V, X, Z, AB, AD, AF, AH, AJ, AL" y asignar la tarifa de IVA que corresponda en la celda de la columna "D" • El valor de la cotización deber ser expresado en PESOS COLOMBIANOS. • Los valores unitarios deberán aproximarse por exceso o por defecto al entero más cercano. Si la cifra no está aproximada y aparece con centavos, el ICBF aproximará al entero inferior. • No modificar, agregar o quitar ningún ítem o sub-ítem.
B20: REPUESTOS | D20: Tárifa IVA (%) | E20: AUTOMOVILES | AC20: CAMIONETAS | AG20: VANS PASAJEROS
E21: Mazda 323 NEI modelo 1999 mecánico a gasolina | G21: Mazda 323 NEI modelo 2003 mecánico a gasolina | I21: Mazda allegro modelo 2003 mecánico a gasolina | K21: Mazda 626 NM Milenio modelo 1998 mecánico a gasolina | M21: Chevrolet astra modelo 2002 automático a gasolina | O21: Chevrolet optra modelo 2011 mecánico a gasolina | Q21: Chevrolet steem modelo 2003 mecánico a gasolina | S21: Renault laguna RT modelo 1995 mecánico a gasolina | U21: Renault Megane fase 2 modelo 2005 automático a gasolina | W21: Renault logan modelo 2008 mecánico a gasolina | Y21: Hongui Besturn B70 modelo 2013 mecánico a gasolina | AA21: Hongui Besturn H7modelo 2013 automático a gasolina | AC21: Jeep cherokee 4x4 modelo 2001 automático a gasolina/gas | AE21: Mazda CX-9 CYV 4x4 modelo 2007 automático a gasolina | AG21: Hiunday grace DLX (H-100) modelo 1998 mecánico a gasolina/gas
E22: Precio Unitario sin IVA | F22: Precio Unitario IVA incluido | G22: Precio Unitario sin IVA | H22: Precio Unitario IVA incluido | I22: Precio Unitario sin IVA | J22: Precio Unitario IVA incluido | K22: Precio Unitario sin IVA | L22: Precio Unitario IVA incluido | M22: Precio Unitario sin IVA | N22: Precio Unitario IVA incluido | O22: Precio Unitario sin IVA | P22: Precio Unitario IVA incluido | Q22: Precio Unitario sin IVA | R22: Precio Unitario IVA incluido | S22: Precio Unitario sin IVA | T22: Precio Unitario IVA incluido | U22: Precio Unitario sin IVA | V22: Precio Unitario IVA incluido | W22: Precio Unitario sin IVA | X22: Precio Unitario IVA incluido | Y22: Precio Unitario sin IVA | Z22: Precio Unitario IVA incluido | AA22: Precio Unitario sin IVA | AB22: Precio Unitario IVA incluido | AC22: Precio Unitario sin IVA | AD22: Precio Unitario IVA incluido | AE22: Precio Unitario sin IVA | AF22: Precio Unitario IVA incluido | AG22: Precio Unitario sin IVA | AH22: Precio Unitario IVA incluido
B23: No | C23: Item No 1-Repuestos rodadura
B24: 1 | C24: Juego rodamientos una llanta delantera | F24: =+ROUND(E24+(E24*$D24),0) -> 0 | H24: =+ROUND(G24+(G24*$D24),0) -> 0 | J24: =+ROUND(I24+(I24*$D24),0) -> 0 | L24: =+ROUND(K24+(K24*$D24),0) -> 0 | N24: =+ROUND(M24+(M24*$D24),0) -> 0 | P24: =+ROUND(O24+(O24*$D24),0) -> 0 | R24: =+ROUND(Q24+(Q24*$D24),0) -> 0 | T24: =+ROUND(S24+(S24*$D24),0) -> 0 | V24: =+ROUND(U24+(U24*$D24),0) -> 0 | X24: =+ROUND(W24+(W24*$D24),0) -> 0 | Z24: =+ROUND(Y24+(Y24*$D24),0) -> 0 | AB24: =+ROUND(AA24+(AA24*$D24),0) -> 0 | AD24: =+ROUND(AC24+(AC24*$D24),0) -> 0 | AF24: =+ROUND(AE24+(AE24*$D24),0) -> 0 | AH24: =+ROUND(AG24+(AG24*$D24),0) -> 0
B25: 2 | C25: Juego rodamientos una llanta trasera | F25: =+ROUND(E25+(E25*$D25),0) -> 0 | H25: =+ROUND(G25+(G25*$D25),0) -> 0 | J25: =+ROUND(I25+(I25*$D25),0) -> 0 | L25: =+ROUND(K25+(K25*$D25),0) -> 0 | N25: =+ROUND(M25+(M25*$D25),0) -> 0 | P25: =+ROUND(O25+(O25*$D25),0) -> 0 | R25: =+ROUND(Q25+(Q25*$D25),0) -> 0 | T25: =+ROUND(S25+(S25*$D25),0) -> 0 | V25: =+ROUND(U25+(U25*$D25),0) -> 0 | X25: =+ROUND(W25+(W25*$D25),0) -> 0 | Z25: =+ROUND(Y25+(Y25*$D25),0) -> 0 | AB25: =+ROUND(AA25+(AA25*$D25),0) -> 0 | AD25: =+ROUND(AC25+(AC25*$D25),0) -> 0 | AF25: =+ROUND(AE25+(AE25*$D25),0) -> 0 | AH25: =+ROUND(AG25+(AG25*$D25),0) -> 0
B26: 3 | C26: Retenedor rueda delantera | F26: =+ROUND(E26+(E26*$D26),0) -> 0 | H26: =+ROUND(G26+(G26*$D26),0) -> 0 | J26: =+ROUND(I26+(I26*$D26),0) -> 0 | L26: =+ROUND(K26+(K26*$D26),0) -> 0 | N26: =+ROUND(M26+(M26*$D26),0) -> 0 | P26: =+ROUND(O26+(O26*$D26),0) -> 0 | R26: =+ROUND(Q26+(Q26*$D26),0) -> 0 | T26: =+ROUND(S26+(S26*$D26),0) -> 0 | V26: =+ROUND(U26+(U26*$D26),0) -> 0 | X26: =+ROUND(W26+(W26*$D26),0) -> 0 | Z26: =+ROUND(Y26+(Y26*$D26),0) -> 0 | AB26: =+ROUND(AA26+(AA26*$D26),0) -> 0 | AD26: =+ROUND(AC26+(AC26*$D26),0) -> 0 | AF26: =+ROUND(AE26+(AE26*$D26),0) -> 0 | AH26: =+ROUND(AG26+(AG26*$D26),0) -> 0
B27: 4 | C27: Retenedor rueda trasera | F27: =+ROUND(E27+(E27*$D27),0) -> 0 | H27: =+ROUND(G27+(G27*$D27),0) -> 0 | J27: =+ROUND(I27+(I27*$D27),0) -> 0 | L27: =+ROUND(K27+(K27*$D27),0) -> 0 | N27: =+ROUND(M27+(M27*$D27),0) -> 0 | P27: =+ROUND(O27+(O27*$D27),0) -> 0 | R27: =+ROUND(Q27+(Q27*$D27),0) -> 0 | T27: =+ROUND(S27+(S27*$D27),0) -> 0 | V27: =+ROUND(U27+(U27*$D27),0) -> 0 | X27: =+ROUND(W27+(W27*$D27),0) -> 0 | Z27: =+ROUND(Y27+(Y27*$D27),0) -> 0 | AB27: =+ROUND(AA27+(AA27*$D27),0) -> 0 | AD27: =+ROUND(AC27+(AC27*$D27),0) -> 0 | AF27: =+ROUND(AE27+(AE27*$D27),0) -> 0 | AH27: =+ROUND(AG27+(AG27*$D27),0) -> 0
B28: No | C28: Item No 2-Repuestos motor
B29: 5 | C29: bomba de aceite | F29: =+ROUND(E29+(E29*$D29),0) -> 0 | H29: =+ROUND(G29+(G29*$D29),0) -> 0 | J29: =+ROUND(I29+(I29*$D29),0) -> 0 | L29: =+ROUND(K29+(K29*$D29),0) -> 0 | N29: =+ROUND(M29+(M29*$D29),0) -> 0 | P29: =+ROUND(O29+(O29*$D29),0) -> 0 | R29: =+ROUND(Q29+(Q29*$D29),0) -> 0 | T29: =+ROUND(S29+(S29*$D29),0) -> 0 | V29: =+ROUND(U29+(U29*$D29),0) -> 0 | X29: =+ROUND(W29+(W29*$D29),0) -> 0 | Z29: =+ROUND(Y29+(Y29*$D29),0) -> 0 | AB29: =+ROUND(AA29+(AA29*$D29),0) -> 0 | AD29: =+ROUND(AC29+(AC29*$D29),0) -> 0 | AF29: =+ROUND(AE29+(AE29*$D29),0) -> 0 | AH29: =+ROUND(AG29+(AG29*$D29),0) -> 0
B30: 6 | C30: Bomba de gasolina | F30: =+ROUND(E30+(E30*$D30),0) -> 0 | H30: =+ROUND(G30+(G30*$D30),0) -> 0 | J30: =+ROUND(I30+(I30*$D30),0) -> 0 | L30: =+ROUND(K30+(K30*$D30),0) -> 0 | N30: =+ROUND(M30+(M30*$D30),0) -> 0 | P30: =+ROUND(O30+(O30*$D30),0) -> 0 | R30: =+ROUND(Q30+(Q30*$D30),0) -> 0 | T30: =+ROUND(S30+(S30*$D30),0) -> 0 | V30: =+ROUND(U30+(U30*$D30),0) -> 0 | X30: =+ROUND(W30+(W30*$D30),0) -> 0 | Z30: =+ROUND(Y30+(Y30*$D30),0) -> 0 | AB30: =+ROUND(AA30+(AA30*$D30),0) -> 0 | AD30: =+ROUND(AC30+(AC30*$D30),0) -> 0 | AF30: =+ROUND(AE30+(AE30*$D30),0) -> 0 | AH30: =+ROUND(AG30+(AG30*$D30),0) -> 0
B31: 7 | C31: Correa o cadena de repartición | F31: =+ROUND(E31+(E31*$D31),0) -> 0 | H31: =+ROUND(G31+(G31*$D31),0) -> 0 | J31: =+ROUND(I31+(I31*$D31),0) -> 0 | L31: =+ROUND(K31+(K31*$D31),0) -> 0 | N31: =+ROUND(M31+(M31*$D31),0) -> 0 | P31: =+ROUND(O31+(O31*$D31),0) -> 0 | R31: =+ROUND(Q31+(Q31*$D31),0) -> 0 | T31: =+ROUND(S31+(S31*$D31),0) -> 0 | V31: =+ROUND(U31+(U31*$D31),0) -> 0 | X31: =+ROUND(W31+(W31*$D31),0) -> 0 | Z31: =+ROUND(Y31+(Y31*$D31),0) -> 0 | AB31: =+ROUND(AA31+(AA31*$D31),0) -> 0 | AD31: =+ROUND(AC31+(AC31*$D31),0) -> 0 | AF31: =+ROUND(AE31+(AE31*$D31),0) -> 0 | AH31: =+ROUND(AG31+(AG31*$D31),0) -> 0
B32: 8 | C32: Empaque de culata | F32: =+ROUND(E32+(E32*$D32),0) -> 0 | H32: =+ROUND(G32+(G32*$D32),0) -> 0 | J32: =+ROUND(I32+(I32*$D32),0) -> 0 | L32: =+ROUND(K32+(K32*$D32),0) -> 0 | N32: =+ROUND(M32+(M32*$D32),0) -> 0 | P32: =+ROUND(O32+(O32*$D32),0) -> 0 | R32: =+ROUND(Q32+(Q32*$D32),0) -> 0 | T32: =+ROUND(S32+(S32*$D32),0) -> 0 | V32: =+ROUND(U32+(U32*$D32),0) -> 0 | X32: =+ROUND(W32+(W32*$D32),0) -> 0 | Z32: =+ROUND(Y32+(Y32*$D32),0) -> 0 | AB32: =+ROUND(AA32+(AA32*$D32),0) -> 0 | AD32: =+ROUND(AC32+(AC32*$D32),0) -> 0 | AF32: =+ROUND(AE32+(AE32*$D32),0) -> 0 | AH32: =+ROUND(AG32+(AG32*$D32),0) -> 0
B33: 9 | C33: Empaque múltiple de escape | F33: =+ROUND(E33+(E33*$D33),0) -> 0 | H33: =+ROUND(G33+(G33*$D33),0) -> 0 | J33: =+ROUND(I33+(I33*$D33),0) -> 0 | L33: =+ROUND(K33+(K33*$D33),0) -> 0 | N33: =+ROUND(M33+(M33*$D33),0) -> 0 | P33: =+ROUND(O33+(O33*$D33),0) -> 0 | R33: =+ROUND(Q33+(Q33*$D33),0) -> 0 | T33: =+ROUND(S33+(S33*$D33),0) -> 0 | V33: =+ROUND(U33+(U33*$D33),0) -> 0 | X33: =+ROUND(W33+(W33*$D33),0) -> 0 | Z33: =+ROUND(Y33+(Y33*$D33),0) -> 0 | AB33: =+ROUND(AA33+(AA33*$D33),0) -> 0 | AD33: =+ROUND(AC33+(AC33*$D33),0) -> 0 | AF33: =+ROUND(AE33+(AE33*$D33),0) -> 0 | AH33: =+ROUND(AG33+(AG33*$D33),0) -> 0
B34: 10 | C34: Empaque múltiple de admisión | F34: =+ROUND(E34+(E34*$D34),0) -> 0 | H34: =+ROUND(G34+(G34*$D34),0) -> 0 | J34: =+ROUND(I34+(I34*$D34),0) -> 0 | L34: =+ROUND(K34+(K34*$D34),0) -> 0 | N34: =+ROUND(M34+(M34*$D34),0) -> 0 | P34: =+ROUND(O34+(O34*$D34),0) -> 0 | R34: =+ROUND(Q34+(Q34*$D34),0) -> 0 | T34: =+ROUND(S34+(S34*$D34),0) -> 0 | V34: =+ROUND(U34+(U34*$D34),0) -> 0 | X34: =+ROUND(W34+(W34*$D34),0) -> 0 | Z34: =+ROUND(Y34+(Y34*$D34),0) -> 0 | AB34: =+ROUND(AA34+(AA34*$D34),0) -> 0 | AD34: =+ROUND(AC34+(AC34*$D34),0) -> 0 | AF34: =+ROUND(AE34+(AE34*$D34),0) -> 0 | AH34: =+ROUND(AG34+(AG34*$D34),0) -> 0
B35: 11 | C35: empaque carter | F35: =+ROUND(E35+(E35*$D35),0) -> 0 | H35: =+ROUND(G35+(G35*$D35),0) -> 0 | J35: =+ROUND(I35+(I35*$D35),0) -> 0 | L35: =+ROUND(K35+(K35*$D35),0) -> 0 | N35: =+ROUND(M35+(M35*$D35),0) -> 0 | P35: =+ROUND(O35+(O35*$D35),0) -> 0 | R35: =+ROUND(Q35+(Q35*$D35),0) -> 0 | T35: =+ROUND(S35+(S35*$D35),0) -> 0 | V35: =+ROUND(U35+(U35*$D35),0) -> 0 | X35: =+ROUND(W35+(W35*$D35),0) -> 0 | Z35: =+ROUND(Y35+(Y35*$D35),0) -> 0 | AB35: =+ROUND(AA35+(AA35*$D35),0) -> 0 | AD35: =+ROUND(AC35+(AC35*$D35),0) -> 0 | AF35: =+ROUND(AE35+(AE35*$D35),0) -> 0 | AH35: =+ROUND(AG35+(AG35*$D35),0) -> 0
B36: 12 | C36: Inyector | F36: =+ROUND(E36+(E36*$D36),0) -> 0 | H36: =+ROUND(G36+(G36*$D36),0) -> 0 | J36: =+ROUND(I36+(I36*$D36),0) -> 0 | L36: =+ROUND(K36+(K36*$D36),0) -> 0 | N36: =+ROUND(M36+(M36*$D36),0) -> 0 | P36: =+ROUND(O36+(O36*$D36),0) -> 0 | R36: =+ROUND(Q36+(Q36*$D36),0) -> 0 | T36: =+ROUND(S36+(S36*$D36),0) -> 0 | V36: =+ROUND(U36+(U36*$D36),0) -> 0 | X36: =+ROUND(W36+(W36*$D36),0) -> 0 | Z36: =+ROUND(Y36+(Y36*$D36),0) -> 0 | AB36: =+ROUND(AA36+(AA36*$D36),0) -> 0 | AD36: =+ROUND(AC36+(AC36*$D36),0) -> 0 | AF36: =+ROUND(AE36+(AE36*$D36),0) -> 0 | AH36: =+ROUND(AG36+(AG36*$D36),0) -> 0
B37: 13 | C37: Exosto | F37: =+ROUND(E37+(E37*$D37),0) -> 0 | H37: =+ROUND(G37+(G37*$D37),0) -> 0 | J37: =+ROUND(I37+(I37*$D37),0) -> 0 | L37: =+ROUND(K37+(K37*$D37),0) -> 0 | N37: =+ROUND(M37+(M37*$D37),0) -> 0 | P37: =+ROUND(O37+(O37*$D37),0) -> 0 | R37: =+ROUND(Q37+(Q37*$D37),0) -> 0 | T37: =+ROUND(S37+(S37*$D37),0) -> 0 | V37: =+ROUND(U37+(U37*$D37),0) -> 0 | X37: =+ROUND(W37+(W37*$D37),0) -> 0 | Z37: =+ROUND(Y37+(Y37*$D37),0) -> 0 | AB37: =+ROUND(AA37+(AA37*$D37),0) -> 0 | AD37: =+ROUND(AC37+(AC37*$D37),0) -> 0 | AF37: =+ROUND(AE37+(AE37*$D37),0) -> 0 | AH37: =+ROUND(AG37+(AG37*$D37),0) -> 0
B38: 14 | C38: Silenciador | F38: =+ROUND(E38+(E38*$D38),0) -> 0 | H38: =+ROUND(G38+(G38*$D38),0) -> 0 | J38: =+ROUND(I38+(I38*$D38),0) -> 0 | L38: =+ROUND(K38+(K38*$D38),0) -> 0 | N38: =+ROUND(M38+(M38*$D38),0) -> 0 | P38: =+ROUND(O38+(O38*$D38),0) -> 0 | R38: =+ROUND(Q38+(Q38*$D38),0) -> 0 | T38: =+ROUND(S38+(S38*$D38),0) -> 0 | V38: =+ROUND(U38+(U38*$D38),0) -> 0 | X38: =+ROUND(W38+(W38*$D38),0) -> 0 | Z38: =+ROUND(Y38+(Y38*$D38),0) -> 0 | AB38: =+ROUND(AA38+(AA38*$D38),0) -> 0 | AD38: =+ROUND(AC38+(AC38*$D38),0) -> 0 | AF38: =+ROUND(AE38+(AE38*$D38),0) -> 0 | AH38: =+ROUND(AG38+(AG38*$D38),0) -> 0
B39: 15 | C39: Catalizador | F39: =+ROUND(E39+(E39*$D39),0) -> 0 | H39: =+ROUND(G39+(G39*$D39),0) -> 0 | J39: =+ROUND(I39+(I39*$D39),0) -> 0 | L39: =+ROUND(K39+(K39*$D39),0) -> 0 | N39: =+ROUND(M39+(M39*$D39),0) -> 0 | P39: =+ROUND(O39+(O39*$D39),0) -> 0 | R39: =+ROUND(Q39+(Q39*$D39),0) -> 0 | T39: =+ROUND(S39+(S39*$D39),0) -> 0 | V39: =+ROUND(U39+(U39*$D39),0) -> 0 | X39: =+ROUND(W39+(W39*$D39),0) -> 0 | Z39: =+ROUND(Y39+(Y39*$D39),0) -> 0 | AB39: =+ROUND(AA39+(AA39*$D39),0) -> 0 | AD39: =+ROUND(AC39+(AC39*$D39),0) -> 0 | AF39: =+ROUND(AE39+(AE39*$D39),0) -> 0 | AH39: =+ROUND(AG39+(AG39*$D39),0) -> 0
B40: 16 | C40: Correa de alternador | F40: =+ROUND(E40+(E40*$D40),0) -> 0 | H40: =+ROUND(G40+(G40*$D40),0) -> 0 | J40: =+ROUND(I40+(I40*$D40),0) -> 0 | L40: =+ROUND(K40+(K40*$D40),0) -> 0 | N40: =+ROUND(M40+(M40*$D40),0) -> 0 | P40: =+ROUND(O40+(O40*$D40),0) -> 0 | R40: =+ROUND(Q40+(Q40*$D40),0) -> 0 | T40: =+ROUND(S40+(S40*$D40),0) -> 0 | V40: =+ROUND(U40+(U40*$D40),0) -> 0 | X40: =+ROUND(W40+(W40*$D40),0) -> 0 | Z40: =+ROUND(Y40+(Y40*$D40),0) -> 0 | AB40: =+ROUND(AA40+(AA40*$D40),0) -> 0 | AD40: =+ROUND(AC40+(AC40*$D40),0) -> 0 | AF40: =+ROUND(AE40+(AE40*$D40),0) -> 0 | AH40: =+ROUND(AG40+(AG40*$D40),0) -> 0
... B47: 23 | C47: juego de soportes de motor | F47: =+ROUND(E47+(E47*$D47),0) -> 0 | H47: =+ROUND(G47+(G47*$D47),0) -> 0 | J47: =+ROUND(I47+(I47*$D47),0) -> 0 | L47: =+ROUND(K47+(K47*$D47),0) -> 0 | N47: =+ROUND(M47+(M47*$D47),0) -> 0 | P47: =+ROUND(O47+(O47*$D47),0) -> 0 | R47: =+ROUND(Q47+(Q47*$D47),0) -> 0 | T47: =+ROUND(S47+(S47*$D47),0) -> 0 | V47: =+ROUND(U47+(U47*$D47),0) -> 0 | X47: =+ROUND(W47+(W47*$D47),0) -> 0 | Z47: =+ROUND(Y47+(Y47*$D47),0) -> 0 | AB47: =+ROUND(AA47+(AA47*$D47),0) -> 0 | AD47: =+ROUND(AC47+(AC47*$D47),0) -> 0 | AF47: =+ROUND(AE47+(AE47*$D47),0) -> 0 | AH47: =+ROUND(AG47+(AG47*$D47),0) -> 0
B48: No | C48: Item No 3-Repuestos frenos
B49: 24 | C49: Bandas | F49: =+ROUND(E49+(E49*$D49),0) -> 0 | H49: =+ROUND(G49+(G49*$D49),0) -> 0 | J49: =+ROUND(I49+(I49*$D49),0) -> 0 | L49: =+ROUND(K49+(K49*$D49),0) -> 0 | N49: =+ROUND(M49+(M49*$D49),0) -> 0 | P49: =+ROUND(O49+(O49*$D49),0) -> 0 | R49: =+ROUND(Q49+(Q49*$D49),0) -> 0 | T49: =+ROUND(S49+(S49*$D49),0) -> 0 | V49: =+ROUND(U49+(U49*$D49),0) -> 0 | X49: =+ROUND(W49+(W49*$D49),0) -> 0 | Z49: =+ROUND(Y49+(Y49*$D49),0) -> 0 | AB49: =+ROUND(AA49+(AA49*$D49),0) -> 0 | AD49: =+ROUND(AC49+(AC49*$D49),0) -> 0 | AF49: =+ROUND(AE49+(AE49*$D49),0) -> 0 | AH49: =+ROUND(AG49+(AG49*$D49),0) -> 0
B50: 25 | C50: Juego pastillas de freno delantero | F50: =+ROUND(E50+(E50*$D50),0) -> 0 | H50: =+ROUND(G50+(G50*$D50),0) -> 0 | J50: =+ROUND(I50+(I50*$D50),0) -> 0 | L50: =+ROUND(K50+(K50*$D50),0) -> 0 | N50: =+ROUND(M50+(M50*$D50),0) -> 0 | P50: =+ROUND(O50+(O50*$D50),0) -> 0 | R50: =+ROUND(Q50+(Q50*$D50),0) -> 0 | T50: =+ROUND(S50+(S50*$D50),0) -> 0 | V50: =+ROUND(U50+(U50*$D50),0) -> 0 | X50: =+ROUND(W50+(W50*$D50),0) -> 0 | Z50: =+ROUND(Y50+(Y50*$D50),0) -> 0 | AB50: =+ROUND(AA50+(AA50*$D50),0) -> 0 | AD50: =+ROUND(AC50+(AC50*$D50),0) -> 0 | AF50: =+ROUND(AE50+(AE50*$D50),0) -> 0 | AH50: =+ROUND(AG50+(AG50*$D50),0) -> 0
B51: 26 | C51: Juego pastillas freno trasero | F51: =+ROUND(E51+(E51*$D51),0) -> 0 | H51: =+ROUND(G51+(G51*$D51),0) -> 0 | J51: =+ROUND(I51+(I51*$D51),0) -> 0 | L51: =+ROUND(K51+(K51*$D51),0) -> 0 | N51: =+ROUND(M51+(M51*$D51),0) -> 0 | P51: =+ROUND(O51+(O51*$D51),0) -> 0 | R51: =+ROUND(Q51+(Q51*$D51),0) -> 0 | T51: =+ROUND(S51+(S51*$D51),0) -> 0 | V51: =+ROUND(U51+(U51*$D51),0) -> 0 | X51: =+ROUND(W51+(W51*$D51),0) -> 0 | Z51: =+ROUND(Y51+(Y51*$D51),0) -> 0 | AB51: =+ROUND(AA51+(AA51*$D51),0) -> 0 | AD51: =+ROUND(AC51+(AC51*$D51),0) -> 0 | AF51: =+ROUND(AE51+(AE51*$D51),0) -> 0 | AH51: =+ROUND(AG51+(AG51*$D51),0) -> 0
B52: 27 | C52: Campana freno | F52: =+ROUND(E52+(E52*$D52),0) -> 0 | H52: =+ROUND(G52+(G52*$D52),0) -> 0 | J52: =+ROUND(I52+(I52*$D52),0) -> 0 | L52: =+ROUND(K52+(K52*$D52),0) -> 0 | N52: =+ROUND(M52+(M52*$D52),0) -> 0 | P52: =+ROUND(O52+(O52*$D52),0) -> 0 | R52: =+ROUND(Q52+(Q52*$D52),0) -> 0 | T52: =+ROUND(S52+(S52*$D52),0) -> 0 | V52: =+ROUND(U52+(U52*$D52),0) -> 0 | X52: =+ROUND(W52+(W52*$D52),0) -> 0 | Z52: =+ROUND(Y52+(Y52*$D52),0) -> 0 | AB52: =+ROUND(AA52+(AA52*$D52),0) -> 0 | AD52: =+ROUND(AC52+(AC52*$D52),0) -> 0 | AF52: =+ROUND(AE52+(AE52*$D52),0) -> 0 | AH52: =+ROUND(AG52+(AG52*$D52),0) -> 0
B53: 28 | C53: Disco de freno delantero | F53: =+ROUND(E53+(E53*$D53),0) -> 0 | H53: =+ROUND(G53+(G53*$D53),0) -> 0 | J53: =+ROUND(I53+(I53*$D53),0) -> 0 | L53: =+ROUND(K53+(K53*$D53),0) -> 0 | N53: =+ROUND(M53+(M53*$D53),0) -> 0 | P53: =+ROUND(O53+(O53*$D53),0) -> 0 | R53: =+ROUND(Q53+(Q53*$D53),0) -> 0 | T53: =+ROUND(S53+(S53*$D53),0) -> 0 | V53: =+ROUND(U53+(U53*$D53),0) -> 0 | X53: =+ROUND(W53+(W53*$D53),0) -> 0 | Z53: =+ROUND(Y53+(Y53*$D53),0) -> 0 | AB53: =+ROUND(AA53+(AA53*$D53),0) -> 0 | AD53: =+ROUND(AC53+(AC53*$D53),0) -> 0 | AF53: =+ROUND(AE53+(AE53*$D53),0) -> 0 | AH53: =+ROUND(AG53+(AG53*$D53),0) -> 0
B54: 29 | C54: Kit caliper | F54: =+ROUND(E54+(E54*$D54),0) -> 0 | H54: =+ROUND(G54+(G54*$D54),0) -> 0 | J54: =+ROUND(I54+(I54*$D54),0) -> 0 | L54: =+ROUND(K54+(K54*$D54),0) -> 0 | N54: =+ROUND(M54+(M54*$D54),0) -> 0 | P54: =+ROUND(O54+(O54*$D54),0) -> 0 | R54: =+ROUND(Q54+(Q54*$D54),0) -> 0 | T54: =+ROUND(S54+(S54*$D54),0) -> 0 | V54: =+ROUND(U54+(U54*$D54),0) -> 0 | X54: =+ROUND(W54+(W54*$D54),0) -> 0 | Z54: =+ROUND(Y54+(Y54*$D54),0) -> 0 | AB54: =+ROUND(AA54+(AA54*$D54),0) -> 0 | AD54: =+ROUND(AC54+(AC54*$D54),0) -> 0 | AF54: =+ROUND(AE54+(AE54*$D54),0) -> 0 | AH54: =+ROUND(AG54+(AG54*$D54),0) -> 0
B55: 30 | C55: Cilindro freno | F55: =+ROUND(E55+(E55*$D55),0) -> 0 | H55: =+ROUND(G55+(G55*$D55),0) -> 0 | J55: =+ROUND(I55+(I55*$D55),0) -> 0 | L55: =+ROUND(K55+(K55*$D55),0) -> 0 | N55: =+ROUND(M55+(M55*$D55),0) -> 0 | P55: =+ROUND(O55+(O55*$D55),0) -> 0 | R55: =+ROUND(Q55+(Q55*$D55),0) -> 0 | T55: =+ROUND(S55+(S55*$D55),0) -> 0 | V55: =+ROUND(U55+(U55*$D55),0) -> 0 | X55: =+ROUND(W55+(W55*$D55),0) -> 0 | Z55: =+ROUND(Y55+(Y55*$D55),0) -> 0 | AB55: =+ROUND(AA55+(AA55*$D55),0) -> 0 | AD55: =+ROUND(AC55+(AC55*$D55),0) -> 0 | AF55: =+ROUND(AE55+(AE55*$D55),0) -> 0 | AH55: =+ROUND(AG55+(AG55*$D55),0) -> 0
B56: 31 | C56: Bomba de freno | F56: =+ROUND(E56+(E56*$D56),0) -> 0 | H56: =+ROUND(G56+(G56*$D56),0) -> 0 | J56: =+ROUND(I56+(I56*$D56),0) -> 0 | L56: =+ROUND(K56+(K56*$D56),0) -> 0 | N56: =+ROUND(M56+(M56*$D56),0) -> 0 | P56: =+ROUND(O56+(O56*$D56),0) -> 0 | R56: =+ROUND(Q56+(Q56*$D56),0) -> 0 | T56: =+ROUND(S56+(S56*$D56),0) -> 0 | V56: =+ROUND(U56+(U56*$D56),0) -> 0 | X56: =+ROUND(W56+(W56*$D56),0) -> 0 | Z56: =+ROUND(Y56+(Y56*$D56),0) -> 0 | AB56: =+ROUND(AA56+(AA56*$D56),0) -> 0 | AD56: =+ROUND(AC56+(AC56*$D56),0) -> 0 | AF56: =+ROUND(AE56+(AE56*$D56),0) -> 0 | AH56: =+ROUND(AG56+(AG56*$D56),0) -> 0
B57: 32 | C57: Disco de freno trasero | F57: =+ROUND(E57+(E57*$D57),0) -> 0 | H57: =+ROUND(G57+(G57*$D57),0) -> 0 | J57: =+ROUND(I57+(I57*$D57),0) -> 0 | L57: =+ROUND(K57+(K57*$D57),0) -> 0 | N57: =+ROUND(M57+(M57*$D57),0) -> 0 | P57: =+ROUND(O57+(O57*$D57),0) -> 0 | R57: =+ROUND(Q57+(Q57*$D57),0) -> 0 | T57: =+ROUND(S57+(S57*$D57),0) -> 0 | V57: =+ROUND(U57+(U57*$D57),0) -> 0 | X57: =+ROUND(W57+(W57*$D57),0) -> 0 | Z57: =+ROUND(Y57+(Y57*$D57),0) -> 0 | AB57: =+ROUND(AA57+(AA57*$D57),0) -> 0 | AD57: =+ROUND(AC57+(AC57*$D57),0) -> 0 | AF57: =+ROUND(AE57+(AE57*$D57),0) -> 0 | AH57: =+ROUND(AG57+(AG57*$D57),0) -> 0
B58: 33 | C58: Liquido de freno | F58: =+ROUND(E58+(E58*$D58),0) -> 0 | H58: =+ROUND(G58+(G58*$D58),0) -> 0 | J58: =+ROUND(I58+(I58*$D58),0) -> 0 | L58: =+ROUND(K58+(K58*$D58),0) -> 0 | N58: =+ROUND(M58+(M58*$D58),0) -> 0 | P58: =+ROUND(O58+(O58*$D58),0) -> 0 | R58: =+ROUND(Q58+(Q58*$D58),0) -> 0 | T58: =+ROUND(S58+(S58*$D58),0) -> 0 | V58: =+ROUND(U58+(U58*$D58),0) -> 0 | X58: =+ROUND(W58+(W58*$D58),0) -> 0 | Z58: =+ROUND(Y58+(Y58*$D58),0) -> 0 | AB58: =+ROUND(AA58+(AA58*$D58),0) -> 0 | AD58: =+ROUND(AC58+(AC58*$D58),0) -> 0 | AF58: =+ROUND(AE58+(AE58*$D58),0) -> 0 | AH58: =+ROUND(AG58+(AG58*$D58),0) -> 0
B59: 34 | C59: Booster | F59: =+ROUND(E59+(E59*$D59),0) -> 0 | H59: =+ROUND(G59+(G59*$D59),0) -> 0 | J59: =+ROUND(I59+(I59*$D59),0) -> 0 | L59: =+ROUND(K59+(K59*$D59),0) -> 0 | N59: =+ROUND(M59+(M59*$D59),0) -> 0 | P59: =+ROUND(O59+(O59*$D59),0) -> 0 | R59: =+ROUND(Q59+(Q59*$D59),0) -> 0 | T59: =+ROUND(S59+(S59*$D59),0) -> 0 | V59: =+ROUND(U59+(U59*$D59),0) -> 0 | X59: =+ROUND(W59+(W59*$D59),0) -> 0 | Z59: =+ROUND(Y59+(Y59*$D59),0) -> 0 | AB59: =+ROUND(AA59+(AA59*$D59),0) -> 0 | AD59: =+ROUND(AC59+(AC59*$D59),0) -> 0 | AF59: =+ROUND(AE59+(AE59*$D59),0) -> 0 | AH59: =+ROUND(AG59+(AG59*$D59),0) -> 0
...

Sheet POLIZAS
B9: CONCEPTOS A TENER EN CUENTA PARA REALIZAR LA COTIZACIÓN SERVICIO DE MANTENIMIENTO MECÁNICO PREVENTIVO Y CORRECTIVO INCLUIDO EL SUMINISTRO DE REPUESTOS DE LOS VEHÍCULOS AUTOMOTORES DE LA SEDE DE LA DIRECCIÓN GENERAL DEL ICBF.
B12: El presente cuadro es de carácter informativo, no se debe diligenciar. Sin embargo se entiende que la cotización incluye la totalidad de los conceptos relacionados a continuación.
B14: POLIZAS PARA LEGALIZACIÓN DEL CONTRATO
B16: CONCEPTO | D16: COBERTURA | E16: PLAZO (En Meses)
B17: Garantía de Seriedad de la oferta | D17: 0.1 | E17: Plazo de Ejecución
B18: Cumplimiento | D18: 0.2 | E18: Plazo de ejecución + 4 meses mas
B19: Salarios, Prestaciones | D19: 0.1 | E19: Plazo de ejecución + 36 meses mas
B20: Calidad de los Servicios | D20: 0.2 | E20: Plazo de ejecución + 4 meses mas
B21: Responsabilidad civil extracontraactual | D21: 0.1 | E21: Plazo de Ejecución
B22: Cobertura: Corresponde al porcentaje del valor total del contrato a amparar.

Sheet INFO EXPERIENCIA
B8: EXPERIENCIA EN CONTRATACION EN LOS ULTIMOS 5 AÑOS
B9: EXPERIENCIA EN CONTRATACIÓN EN LOS ÚLTIMOS 5 AÑOS
B11: Empresa: | C11: =IF('Mtto-vehiculos'!E13="","",'Mtto-vehiculos'!E13) | F11: Nit: | G11: =IF('Mtto-vehiculos'!K13="","",'Mtto-vehiculos'!K13) | I11: Fecha: | J11: =IF('Mtto-vehiculos'!P13="","",'Mtto-vehiculos'!P13)
B12: Contacto: | C12: =IF('Mtto-vehiculos'!E14="","",'Mtto-vehiculos'!E14) | F12: Cargo: | G12: =IF('Mtto-vehiculos'!K14="","",'Mtto-vehiculos'!K14) | I12: Tel. celular: | J12: =IF('Mtto-vehiculos'!P14="","",'Mtto-vehiculos'!P14)
B13: E-Mail: | C13: =IF('Mtto-vehiculos'!E15="","",'Mtto-vehiculos'!E15) | F13: Dirección: | G13: =IF('Mtto-vehiculos'!K15="","",'Mtto-vehiculos'!K15) | I13: Tel. fijo: | J13: =IF('Mtto-vehiculos'!P15="","",'Mtto-vehiculos'!P15)
B15: Con el fin de conocer la experiencia con la que cuentan las empresas del sector relacionada con el objeto del presente estudio de mercado, agradecemos diligenciar el cuadro que sigue con base en los contratos suscritos en los últimos 5 años, cuyos objetos están relacionados con el objeto del presente estudio de mercado
B17: Tipo de entidad | C17: Entidad o Empresa | D17: Numero del contrato | E17: Objeto del contrato | F17: Fecha de suscripción (dd/mmm/aa) | G17: Plazo de ejecución (en años) | H17: Forma de participación (UT, consorcio, individual) | I17: % de participación | J17: Valor total ejecutado del contrato (de acuerdo con el % de participación)
B29: Nota: Agregar las filas necesarias para reportar la experiencia
