Workbook
Name Decision: [1]lista!$A$6:$A$7
Name Decision: [2]lista!$A$6:$A$7
Name PARTICIPACION: [1]lista!$A$15:$A$17
Name PARTICIPACION: [2]lista!$A$15:$A$17
Name Procedencia: [1]lista!$A$2:$A$3
Name Procedencia: [2]lista!$A$2:$A$3
Name tipo: [1]lista!$A$11:$A$13
Name tipo: [2]lista!$A$11:$A$13
Name x: [3]lista!$A$11:$A$13

Sheet INFO GENERAL Y FINANCIERA
B8: Formato Información General Y Financiera De Proveedores
B10: Ciudad | M10: Fecha Dd/mm/aa | AD10: Persona Natural
AD11: Persona Jurídica
B12: 1. Información General
B13: 1.1. Identificación.
B14: Personas naturales | F14: Nombre Comercial | U14: Nombres y Apellidos | AK14: Cédula
B16: Personas jurídicas | F16: Razón Social | U16: NIT | AK16: DV
B18: Dirección | U18: Teléfono | AD18: Fax | AK18: Ciudad
B20: Pagina Web | U20: Años de Constitución | AD20: Sector al que pertenece
B22: 1.2. Personas De Contacto
B23: Gerente General | K23: E-mail | U23: Teléfono | AD23: Ext. | AK23: Celular
B25: Director Comercial | K25: E-mail | U25: Teléfono | AD25: Ext. | AK25: Celular
B27: Asesor Comercial | K27: E-mail | U27: Teléfono | AD27: Ext. | AK27: Celular
B29: 1.3. Productos Y Servicios Inscritos En El Rup De Acuerdo Con El Unspsc
B30: Incluir Listado Con Breve Descripción De Los Productos Y/o Servicios Que Ofrece La Compañía, Registrados En El Rup (agregue Las Filas Necesarias) | AK30: Código de Naciones Unidas
B36: 1.4. Códigos CIIU | AK36: 1.5. Número De Empleados
B37: Código De Actividad | F37: Descripción Actividad Económica CIIU | AD37: Tarifa ICA
B41: 2. Información Financiera - A Diciembre 31 De 2012
B42: Nombre Del Indicador | M42: Cuenta | U42: Valores En Pesos | AD42: Indicador
B43: Capacidad Financiera | F43: índice De Liquidez | M43: Activo Corriente --> | AD43: =+IFERROR(U43/U44,0) -> 0 | AK43: Veces
M44: Pasivo Corriente -->
F45: Índice De Endeudamiento | M45: Pasivo Total--> | AD45: =+IFERROR(U45/U46,0) -> 0 | AK45: Porcentaje
M46: Activo Total-->
F47: Razón De Cobertura De Intereses | M47: Utilidad Operacional--> | AD47: =+IFERROR(U47/U48,0) -> 0 | AK47: Veces
M48: Gastos De Interés-->
B49: Capacidad Organizacional | F49: Rentabilidad Del Patrimonio | M49: Utilidad Operacional--> | AD49: =+IFERROR(U49/U50,0) -> 0 | AK49: Porcentaje
M50: Patrimonio-->
F51: Rentabilidad Del Activo | M51: Utilidad Operacional--> | AD51: =+IFERROR(U51/U52,0) -> 0 | AK51: Porcentaje
M52: Activo Total-->
B53: Nota: Para las empresas inspeccionadas, vigiladas o controladas por la Supersociedades, la información consignada en este numeral será validada con la reportada a la Supersociedades y disponible para consulta en Internet mediante el Sistema de Información y Riesgo Empresarial de la Supersociedades (SIREM). Si se evidencian diferencias en los valores consignados en este formato y los reportados a la Supersociedades se tomará como referencia la información del SIREM.
B54: Otra información relevante de la empresa (consigne en este espacio otra información que considere de interés)

Sheet RESUMEN
B7: RESUMEN COSTOS PRODUCCIÓN Y DISTRIBUCION DE LOS ELEMENTOS QUE HACEN PARTE DEL KIT DE INSTRUMENTOS MUSICALES
B8: EMPRESA: | C8: =+'Elementos Kits'!E13 -> 0 | E8: NIT: | F8: =+'Elementos Kits'!G13 -> 0 | H8: FECHA: | I8: =+'Elementos Kits'!K13 -> 0
B9: CONTACTO | C9: =+'Elementos Kits'!E14 -> 0 | E9: CARGO: | F9: =+'Elementos Kits'!G14 -> 0 | H9: TEL. CELULAR : | I9: =+'Elementos Kits'!K14 -> 0
B10: E-MAIL: | C10: =+'Elementos Kits'!E15 -> 0 | E10: DIRECCIÓN: | F10: =+'Elementos Kits'!G15 -> 0 | H10: TELEFONO FIJO: | I10: =+'Elementos Kits'!K15 -> 0
B12: Zonas | C12: Cantidad de kits | D12: Costo unitario kit IVA incluido | E12: Costo total kit IVA incluido | F12: Costo unitario de distribución por kit | G12: Costo total de distribución por kit | H12: Costo unitario kit + distribución IVA inlcuido | I12: Costo total kit + distribución IVA inlcuido
B13: Zona 1 | C13: 11977 | D13: =+'Elementos Kits'!$I$42 -> 0 | E13: =+D13*C13 -> 0 | F13: =+'Distribución Kits'!L23 -> 0 | G13: =+F13*C13 -> 0 | H13: =+D13+F13 -> 0 | I13: =+E13+G13 -> 0
B14: Zona 2 | C14: 11833 | D14: =+'Elementos Kits'!$I$42 -> 0 | E14: =+D14*C14 -> 0 | F14: =+'Distribución Kits'!L30 -> 0 | G14: =+F14*C14 -> 0 | H14: =+D14+F14 -> 0 | I14: =+E14+G14 -> 0
B15: Zona 3 | C15: 11509 | D15: =+'Elementos Kits'!$I$42 -> 0 | E15: =+D15*C15 -> 0 | F15: =+'Distribución Kits'!L36 -> 0 | G15: =+F15*C15 -> 0 | H15: =+D15+F15 -> 0 | I15: =+E15+G15 -> 0
B16: Zona 4 | C16: 9096 | D16: =+'Elementos Kits'!$I$42 -> 0 | E16: =+D16*C16 -> 0 | F16: =+'Distribución Kits'!L40 -> 0 | G16: =+F16*C16 -> 0 | H16: =+D16+F16 -> 0 | I16: =+E16+G16 -> 0
B17: Zona 5 | C17: 3665 | D17: =+'Elementos Kits'!$I$42 -> 0 | E17: =+D17*C17 -> 0 | F17: =+'Distribución Kits'!L47 -> 0 | G17: =+F17*C17 -> 0 | H17: =+D17+F17 -> 0 | I17: =+E17+G17 -> 0
B18: Zona 6 | C18: 2568 | D18: =+'Elementos Kits'!$I$42 -> 0 | E18: =+D18*C18 -> 0 | F18: =+'Distribución Kits'!L52 -> 0 | G18: =+F18*C18 -> 0 | H18: =+D18+F18 -> 0 | I18: =+E18+G18 -> 0
B19: TOTALES | C19: =SUM(C13:C18) -> 50648 | E19: =SUM(E13:E18) -> 0 | G19: =SUM(G13:G18) -> 0
B20: COSTO TOTAL DE LOS KITS | I20: =+E19+G19 -> 0

Sheet Elementos Kits
B10: COTIZACIÓN - KITS DE INSTRUMENTOS MUSICALES - Elementos del Kit
B13: EMPRESA: | F13: NIT: | J13: FECHA:
B14: CONTACTO | F14: CARGO: | J14: TEL. CELULAR :
B15: E-MAIL: | F15: DIRECCIÓN: | J15: TELEFONO FIJO:
B17: Instrucciones para el diligenciamiento del formato de cotización
B18: • Por favor diligenciar solo las celdas en AMARILLO. Se deben llenar todas las casillas. • Revisar todos los requerimientos que se exponen en el documento "Ficha de Condiciones Técnicas" y Anexos; y formular su cotización en concordancia con este. • Asignar precio sin incluir el IVA en las celdas de la columna "G" y asignar la tarifa de IVA que corresponda en las celdas de la columna "H" • El valor de la cotización deber ser expresado en PESOS COLOMBIANOS. • Los valores unitarios deberán aproximarse por exceso o por defecto al entero más cercano. Si la cifra no está aproximada y aparece con centavos, el ICBF aproximará al entero inferior. • No modificar, agregar o quitar ningún ítem o sub-ítem.
B19: NOTA 1: El costo para cada uno de los elementos que conforman los kits aplica para las 6 zonas en las cuales se distribuyó el pais, de conformidad con lo establecido en la Ficha de Condiciones Técnicas. El precio NO debe incluir costo de distribución (especificar este costo en la hoja "Distribución") NOTA 2: La Entidad podrá modificar en un +/- 10% la cantidad de kits y elementos que conforman los kits de acuerdo a sus necesidades. De igual forma podrá eliminar alguno(s) de los elementos que conforman el Kit. Lo anterior deberá incluirse en la estimación de los precios cotizados, de tal forma que a pesar de realizar estas modificaciones la cotización aún sea válida.
B21: ZONAS | E21: 1, 2, 3, 4 ,5 y 6
B23: COSTO DEL KIT (sin incluir distribución)
B24: Kit de instrumentos musicales | F24: Cantidad total país | G24: Valor unitario sin IVA | H24: Tarifa IVA | I24: Valor unitario IVA incluido | J24: Valor total sin IVA | K24: Valor total IVA incluido
B25: ELEMENTOS DEL KIT | C25: Instrumentos | D25: 1 | E25: Metalófono | F25: 50648 | I25: =+ROUND(G25*(1+H25),0) -> 0 | J25: =+G25*F25 -> 0 | K25: =+I25*F25 -> 0
D26: 2 | E26: Par de chinchines | F26: 50648 | I26: =+ROUND(G26*(1+H26),0) -> 0 | J26: =+G26*F26 -> 0 | K26: =+I26*F26 -> 0
D27: 3 | E27: Tambor | F27: 50648 | I27: =+ROUND(G27*(1+H27),0) -> 0 | J27: =+G27*F27 -> 0 | K27: =+I27*F27 -> 0
D28: 4 | E28: Tambora | F28: 50648 | I28: =+ROUND(G28*(1+H28),0) -> 0 | J28: =+G28*F28 -> 0 | K28: =+I28*F28 -> 0
D29: 5 | E29: Guacharaca | F29: 50648 | I29: =+ROUND(G29*(1+H29),0) -> 0 | J29: =+G29*F29 -> 0 | K29: =+I29*F29 -> 0
D30: 6 | E30: Pandereta | F30: 50648 | I30: =+ROUND(G30*(1+H30),0) -> 0 | J30: =+G30*F30 -> 0 | K30: =+I30*F30 -> 0
D31: 7 | E31: Castañuelas | F31: 50648 | I31: =+ROUND(G31*(1+H31),0) -> 0 | J31: =+G31*F31 -> 0 | K31: =+I31*F31 -> 0
D32: 8 | E32: Par de Maracas | F32: 50648 | I32: =+ROUND(G32*(1+H32),0) -> 0 | J32: =+G32*F32 -> 0 | K32: =+I32*F32 -> 0
D33: 9 | E33: Par de claves | F33: 50648 | I33: =+ROUND(G33*(1+H33),0) -> 0 | J33: =+G33*F33 -> 0 | K33: =+I33*F33 -> 0
D34: 10 | E34: Esterilla | F34: 50648 | I34: =+ROUND(G34*(1+H34),0) -> 0 | J34: =+G34*F34 -> 0 | K34: =+I34*F34 -> 0
D35: 11 | E35: Pandero | F35: 50648 | I35: =+ROUND(G35*(1+H35),0) -> 0 | J35: =+G35*F35 -> 0 | K35: =+I35*F35 -> 0
D36: 12 | E36: Tablitas | F36: 50648 | I36: =+ROUND(G36*(1+H36),0) -> 0 | J36: =+G36*F36 -> 0 | K36: =+I36*F36 -> 0
D37: Subtotal instrumentos | I37: =SUM(I25:I36) -> 0 | J37: =SUM(J25:J36) -> 0 | K37: =SUM(K25:K36) -> 0
C38: Adicionales del kit | D38: 13 | E38: Empaque colectivo | F38: 50648 | I38: =+ROUND(G38*(1+H38),0) -> 0 | J38: =+G38*F38 -> 0 | K38: =+I38*F38 -> 0
D39: 14 | E39: Cartilla-Guía pedagójica | F39: 50648 | I39: =+ROUND(G39*(1+H39),0) -> 0 | J39: =+G39*F39 -> 0 | K39: =+I39*F39 -> 0
D40: 15 | E40: Sticker empaque colectivo | F40: 50648 | I40: =+ROUND(G40*(1+H40),0) -> 0 | J40: =+G40*F40 -> 0 | K40: =+I40*F40 -> 0
D41: Subtotal adicionales kit | I41: =SUM(K38:K40) -> 0 | J41: =SUM(L38:L40) -> 0 | K41: =SUM(M38:M40) -> 0
B42: COSTO ELEMENTOS DEL KIT | I42: =SUM(I41,I37) -> 0 | J42: =SUM(J41,J37) -> 0 | K42: =I37+I41 -> 0
B44: La presente cotización:
B45: • Incluye todos los costos y gastos directos e indirectos en que debe incurrir el contratista durante la ejecución del contrato de acuerdo con las especificaciones de la Ficha de Condiciones Técnicas, las obligaciones tributarias de acuerdo con las normas aplicables para el tipo de servicio y contrato correspondiente, y los costos de las pólizas. • Se remite como parte del estudio de mercado, previo a la contratación, y no implica ninguna obligación de contratar. • Tiene una vigencia de 90 dias a partir de la fecha de diligenciamiento.
B46: Inscripción en el Registro Único de Proponentes: Las personas naturales y jurídicas, nacionales o extranjeras, con domicilio en Colombia, interesadas en participar en procesos de contratación convocados por las entidades estatales, deben estar inscritas en el RUP, salvo las excepciones previstas de forma taxativa en la ley (Artículo 8 del Decreto 1510 de 2013). Se aclara que esta inscripción no se requiere para remitir cotización durante el estudio de mercado.

Sheet Distribución Kits
B10: COTIZACIÓN - KITS DE INSTRUMENTOS MUSICALES - Distribución de los Kits
B13: EMPRESA: | D13: =+'Elementos Kits'!E13:E13 -> 0 | E13: NIT: | F13: =+'Elementos Kits'!G13 -> 0 | G13: FECHA: | H13: =+'Elementos Kits'!K13 -> 0
B14: CONTACTO | D14: =+'Elementos Kits'!E14:E14 -> 0 | E14: CARGO: | F14: =+'Elementos Kits'!G14 -> 0 | G14: TEL. CELULAR : | H14: =+'Elementos Kits'!K14 -> 0
B15: E-MAIL: | D15: =+'Elementos Kits'!E15:E15 -> 0 | E15: DIRECCIÓN: | F15: =+'Elementos Kits'!G15 -> 0 | G15: TELEFONO FIJO: | H15: =+'Elementos Kits'!K15 -> 0
B17: Instrucciones para el diligenciamiento del formato de cotización
B18: • Por favor diligenciar solo las celdas en AMARILLO. Se deben llenar todas las casillas. • Revisar todos los requerimientos que se exponen en el documento "Ficha de Condiciones Técnicas" y Anexos; y formular su cotización en concordancia con este. • Asignar precio sin incluir el IVA en las celdas de la columna "F" y asignar la tarifa de IVA que corresponda en las celdas de la columna "G" • El valor de la cotización deber ser expresado en PESOS COLOMBIANOS. • Los valores unitarios deberán aproximarse por exceso o por defecto al entero más cercano. Si la cifra no está aproximada y aparece con centavos, el ICBF aproximará al entero inferior. • No modificar, agregar o quitar ningún ítem o sub-ítem.
B19: NOTA 3: Adicional a los elementos que componen el Kit de intrumentos musicales el contratista debe realizar la custodia y distribución de 1 CD y 1 (un) libro del tamaño 17cm x 17,5 cm x 1,5 cm el cual será suministrado por el ICBF, de conformidad con lo establecido en la Ficha de Condiciones Técnicas.
B21: COSTO DE DISTRIBUCIÓN | J21: Estimación promedio ponderado por Zona
E22: Cantidad Kits | F22: Costo unitario sin IVA | G22: Tarifa IVA | H22: Costo unitario IVA incluido | J22: Paticipación | L22: Costo Promedio ponderado
B23: ZONA 1 | D23: Bolívar | E23: 3266 | H23: =+ROUND(F23*(1+G23),0) -> 0 | J23: =E23/SUM($E$23:$E$29) -> 0.27268932 | K23: =J23*H23 -> 0 | L23: =SUM(K23:K29) -> 0
D24: Magdalena | E24: 2725 | H24: =+ROUND(F24*(1+G24),0) -> 0 | J24: =E24/SUM($E$23:$E$29) -> 0.22751941 | K24: =J24*H24 -> 0
D25: Atlántico | E25: 3064 | H25: =+ROUND(F25*(1+G25),0) -> 0 | J25: =E25/SUM($E$23:$E$29) -> 0.25582366 | K25: =J25*H25 -> 0
D26: La Guajira | E26: 563 | H26: =+ROUND(F26*(1+G26),0) -> 0 | J26: =E26/SUM($E$23:$E$29) -> 0.047006763 | K26: =J26*H26 -> 0
D27: Meta | E27: 682 | H27: =+ROUND(F27*(1+G27),0) -> 0 | J27: =E27/SUM($E$23:$E$29) -> 0.056942473 | K27: =J27*H27 -> 0
D28: Guainía | E28: 5 | H28: =+ROUND(F28*(1+G28),0) -> 0 | J28: =E28/SUM($E$23:$E$29) -> 0.00041746681 | K28: =J28*H28 -> 0
D29: Cesar | E29: 1672 | H29: =+ROUND(F29*(1+G29),0) -> 0 | J29: =E29/SUM($E$23:$E$29) -> 0.1396009 | K29: =J29*H29 -> 0
B30: ZONA 2 | D30: Cauca | E30: 2987 | H30: =+ROUND(F30*(1+G30),0) -> 0 | J30: =E30/SUM($E$30:$E$35) -> 0.25242965 | K30: =J30*H30 -> 0 | L30: =SUM(K30:K35) -> 0
D31: Valle del Cauca | E31: 3986 | H31: =+ROUND(F31*(1+G31),0) -> 0 | J31: =E31/SUM($E$30:$E$35) -> 0.33685456 | K31: =J31*H31 -> 0
D32: Nariño | E32: 2748 | H32: =+ROUND(F32*(1+G32),0) -> 0 | J32: =E32/SUM($E$30:$E$35) -> 0.23223189 | K32: =J32*H32 -> 0
D33: Caquetá | E33: 366 | H33: =+ROUND(F33*(1+G33),0) -> 0 | J33: =E33/SUM($E$30:$E$35) -> 0.030930449 | K33: =J33*H33 -> 0
D34: Huila | E34: 1712 | H34: =+ROUND(F34*(1+G34),0) -> 0 | J34: =E34/SUM($E$30:$E$35) -> 0.14468013 | K34: =J34*H34 -> 0
D35: San Andres | E35: 34 | H35: =+ROUND(F35*(1+G35),0) -> 0 | J35: =E35/SUM($E$30:$E$35) -> 0.0028733204 | K35: =J35*H35 -> 0
B36: ZONA 3 | D36: Choco | E36: 1052 | H36: =+ROUND(F36*(1+G36),0) -> 0 | J36: =E36/SUM($E$36:$E$39) -> 0.091406725 | K36: =J36*H36 -> 0 | L36: =SUM(K36:K39) -> 0
D37: Antioquia | E37: 5599 | H37: =+ROUND(F37*(1+G37),0) -> 0 | J37: =E37/SUM($E$36:$E$39) -> 0.48648883 | K37: =J37*H37 -> 0
D38: Cordoba | E38: 2926 | H38: =+ROUND(F38*(1+G38),0) -> 0 | J38: =E38/SUM($E$36:$E$39) -> 0.25423582 | K38: =J38*H38 -> 0
D39: Sucre | E39: 1932 | H39: =+ROUND(F39*(1+G39),0) -> 0 | J39: =E39/SUM($E$36:$E$39) -> 0.16786862 | K39: =J39*H39 -> 0
B40: ZONA 4 | D40: Cundinamarca | E40: 1395 | H40: =+ROUND(F40*(1+G40),0) -> 0 | J40: =E40/SUM($E$40:$E$46) -> 0.15336412 | K40: =J40*H40 -> 0 | L40: =SUM(K40:K46) -> 0
D41: Boyaca | E41: 1702 | H41: =+ROUND(F41*(1+G41),0) -> 0 | J41: =E41/SUM($E$40:$E$46) -> 0.18711522 | K41: =J41*H41 -> 0
D42: Bogotá | E42: 5761 | H42: =+ROUND(F42*(1+G42),0) -> 0 | J42: =E42/SUM($E$40:$E$46) -> 0.63335532 | K42: =J42*H42 -> 0
D43: Sede de la Dirección General | E43: 40 | H43: =+ROUND(F43*(1+G43),0) -> 0 | J43: =E43/SUM($E$40:$E$46) -> 0.0043975374 | K43: =J43*H43 -> 0
D44: Putumayo | E44: 134 | H44: =+ROUND(F44*(1+G44),0) -> 0 | J44: =E44/SUM($E$40:$E$46) -> 0.01473175 | K44: =J44*H44 -> 0
D45: Vaupés | E45: 38 | H45: =+ROUND(F45*(1+G45),0) -> 0 | J45: =E45/SUM($E$40:$E$46) -> 0.0041776605 | K45: =J45*H45 -> 0
D46: Guaviare | E46: 26 | H46: =+ROUND(F46*(1+G46),0) -> 0 | J46: =E46/SUM($E$40:$E$46) -> 0.0028583993 | K46: =J46*H46 -> 0
B47: ZONA 5 | D47: Santander | E47: 2086 | H47: =+ROUND(F47*(1+G47),0) -> 0 | J47: =E47/SUM($E$47:$E$51) -> 0.5691678 | K47: =J47*H47 -> 0 | L47: =SUM(K47:K51) -> 0
D48: Norte de Santander | E48: 1464 | H48: =+ROUND(F48*(1+G48),0) -> 0 | J48: =E48/SUM($E$47:$E$51) -> 0.3994543 | K48: =J48*H48 -> 0
D49: Arauca | E49: 75 | H49: =+ROUND(F49*(1+G49),0) -> 0 | J49: =E49/SUM($E$47:$E$51) -> 0.020463847 | K49: =J49*H49 -> 0
D50: Casanare | E50: 18 | H50: =+ROUND(F50*(1+G50),0) -> 0 | J50: =E50/SUM($E$47:$E$51) -> 0.0049113233 | K50: =J50*H50 -> 0
D51: Vichada | E51: 22 | H51: =+ROUND(F51*(1+G51),0) -> 0 | J51: =E51/SUM($E$47:$E$51) -> 0.0060027285 | K51: =J51*H51 -> 0
B52: ZONA 6 | D52: Risaralda | E52: 843 | H52: =+ROUND(F52*(1+G52),0) -> 0 | J52: =E52/SUM($E$52:$E$56) -> 0.32827103 | K52: =J52*H52 -> 0 | L52: =SUM(K52:K56) -> 0
D53: Caldas | E53: 552 | H53: =+ROUND(F53*(1+G53),0) -> 0 | J53: =E53/SUM($E$52:$E$56) -> 0.21495327 | K53: =J53*H53 -> 0
...

Sheet POLIZAS
B9: CONCEPTOS A TENER EN CUENTA PARA REALIZAR LA COTIZACIÓN DE KIST DE INSTRUMENTOS MUSICALES
B12: El presente cuadro es de carácter informativo, no se debe diligenciar. Sin embargo se entiende que la cotización incluye la totalidad de los conceptos relacionados a continuación.
B14: POLIZAS PARA LEGALIZACIÓN DEL CONTRATO
B16: CONCEPTO | D16: COBERTURA | E16: PLAZO (En Meses)
B17: Garantía de Seriedad de la oferta | D17: 0.1 | E17: Plazo de Ejecución
B18: Cumplimiento | D18: 0.2 | E18: Plazo de ejecución + 4 meses mas
B19: Salarios, Prestaciones | D19: 0.1 | E19: Plazo de ejecución + 36 meses mas
B20: Calidad de los Servicios | D20: 0.2 | E20: Plazo de ejecución + 4 meses mas
B21: Responsabilidad civil extracontraactual | D21: 0.1 | E21: Plazo de Ejecución
B22: Cobertura: Corresponde al porcentaje del valor total del contrato a amparar.

Sheet INFO EXPERIENCIA
B9: EXPERIENCIA EN CONTRATACIÓN EN LOS ÚLTIMOS 5 AÑOS
B11: Empresa: | C11: =IF('Elementos Kits'!E13="","",'Elementos Kits'!E13) | G11: Nit: | H11: =IF('Elementos Kits'!G13="","",'Elementos Kits'!G13) | L11: Fecha: | M11: =IF('Elementos Kits'!K13="","",'Elementos Kits'!K13)
B12: Contacto: | C12: =IF('Elementos Kits'!E14="","",'Elementos Kits'!E14) | G12: Cargo: | H12: =IF('Elementos Kits'!G14="","",'Elementos Kits'!G14) | L12: Tel. celular: | M12: =IF('Elementos Kits'!K14="","",'Elementos Kits'!K14)
B13: E-Mail: | C13: =IF('Elementos Kits'!E15="","",'Elementos Kits'!E15) | G13: Dirección: | H13: =IF('Elementos Kits'!G15="","",'Elementos Kits'!G15) | L13: Tel. fijo: | M13: =IF('Elementos Kits'!K15="","",'Elementos Kits'!K15)
B15: Con el fin de conocer la experiencia con la que cuentan las empresas del sector relacionada con el objeto del presente estudio de mercado, agradecemos diligenciar el cuadro que sigue con base en los contratos suscritos en los últimos 5 años, cuyos objetos están relacionados con el objeto del presente estudio de mercado
B17: Tipo de entidad | C17: Entidad o Empresa | D17: Numero del contrato | E17: Objeto del contrato | F17: Fecha de suscripción (dd/mmm/aa) | G17: Plazo de ejecución (en años) | H17: Forma de participación (UT, consorcio, individual) | I17: % de participación | J17: Valor total ejecutado del contrato (de acuerdo con el % de participación) | K17: El contrato incluyó la producción de instrumentos musicales? | L17: En caso que el contrato no incluyera la producción de instrumentos musicales, por favor indique que tipo de material Didáctico incluia. | M17: Cantidad de elementos incluidos en el contrato | N17: El contrato incluyó distribución de los elementos a 2 o más municipios?
B29: Nota: Agregar las filas necesarias para reportar la experiencia
