Workbook
Name Decision: [1]lista!$A$6:$A$7
Name PARTICIPACION: [1]lista!$A$15:$A$17
Name Procedencia: [1]lista!$A$2:$A$3
Name tipo: [1]lista!$A$11:$A$13
Name x: [2]lista!$A$11:$A$13

Sheet SDC ZONA 1 - MACRO (1 y 2)
B8: =+"SOLICITUD DE COTIZACIÓN - INTERVENTIRÍA DIA 2015 - "&UPPER(C18) -> SOLICITUD DE COTIZACIÓN - INTERVENTIRÍA DIA 2015 - ZONA 1
B10: EMPRESA: | D10: NIT: | G10: FECHA:
B11: CONTACTO | D11: CARGO: | G11: TEL. CELULAR :
B12: E-MAIL: | D12: DIRECCIÓN: | G12: TELEFONO FIJO:
B14: Instrucciones para el diligenciamiento del formato de cotización
B15: • Por favor diligenciar solo las celdas en AMARILLO. Se deben llenar todas las casillas. • Revisar todos los requerimientos que se exponen en el documento "Ficha de Condiciones Técnicas" y Anexos; y formular su cotización en concordancia con este. • Asignar precio sin incluir el IVA en las celdas de la columna "G". • El valor de la cotización deber ser expresado en PESOS COLOMBIANOS. • Los valores unitarios deberán aproximarse por exceso o por defecto al entero más cercano. Si la cifra no está aproximada y aparece con centavos, el ICBF aproximará al entero inferior. • No modificar, agregar o quitar ningún ítem o sub-ítem.
B16: Notas (1) De acuerdo con lo definido en la FCT, se estiman 10 ciclos de operación para el Programa DIA, de febrero a noviembre de 2015. El plazo de ejecución del contrato será desde el perfeccionamiento del Contrato hasta el 31 de diciembre de 2015 y su vigencia será el plazo de ejecución y cuatro (4) meses más. (2) Se estima que las visitas de seguimiento a unidades de servicio se realizarán en los meses de abril a noviembre de 2015. (3) La aplicación del instrumento de transporte se realiza 1 vez al mes durante los meses de duración del contrato, en los casos en los que se evidencie dicha unidad de observación en plantas, bodegas o unidades de servicio, por lo cual el instrumento se aplica durante las visitas a estas unidades de observación y no como una visita adicional. (4) Para las "visitas a unidades de servicio", "visitas de seguimiento" y "visitas de seguimiento a quejas y reclamos" se debe cotizar un único precio unitario de visita antes de IVA toda vez que son realizadas por los "profesionales de campo evaluación de estándares", los cuales no están incluidos en el concepto PERSONAL. Para las "visitas a Bodegas", "visitas a Plantas" y "visitas a Contratistas", así como para las "Reuniones de socialización con regionales ICBF", se debe cotizar un único valor unitario por visita, que corresponda a gastos de desplazamiento, puesto que los costos de Honorarios o Salarios de los profesionales que las realizan estan incluidos en el concepto "PERSONAL" dado que tienen obligaciones adicionales a la realización de visitas. (5) Para efectos de estimación del presupuesto, la cantidad de muestras a tomar por quejas y reclamos por zona, se divide entre galletas y lácteos, sumándo estos análisis a las cantidades de análisis mínimos requeridos para productos solidos y productos lácteos. Se pagarán unicamente los los análisis efectivamente realizados. (5) Aplica para Galleta Wafer y Galleta Sándwich (6) Aplica para Leche Entera Natural (7) Aplica para Leche Saborizada (8) Administración y Utilidad: Establecer los porcentajes que correspondan a estos dos factores. Con respecto a la Administración, incluir en éste los costos correspondientes a demás costos indirectos relacionados en el contrato entre ellos se deben tener en cuenta las pólizas para la legalización del contrato, gastos de oficina, papelería, gravamen al impuesto financiero (4 x mil) e imprevistos.
B18: Zona | C18: Zona 1 | G18: No. de ciclos (1) | H18: 10
B20: =+"PERSONAL - "&UPPER($C$18) -> PERSONAL - ZONA 1
B21: CARGO | E21: Personas Requeridas | F21: % de dedicación en el proyecto | G21: Valor mes (honorarios o salarios) Antes de IVA | H21: Costo Total (Periodo de ejecución) Antes de IVA
B22: Director | E22: 1 | F22: 1 | H22: =ROUND(E22*F22*G22*$H$18,0) -> 0
B23: Coordinador Técnico | E23: 1 | F23: 1 | H23: =ROUND(E23*F23*G23*$H$18,0) -> 0
B24: Profesional Administrativo y Financiero | E24: 1 | F24: 1 | H24: =ROUND(E24*F24*G24*$H$18,0) -> 0
B25: Profesional de Calidad | E25: 1 | F25: 1 | H25: =ROUND(E25*F25*G25*$H$18,0) -> 0
B26: Profesional en sistemas | E26: 1 | F26: 1 | H26: =ROUND(E26*F26*G26*$H$18,0) -> 0
B27: Profesional de Área Técnico nutricional | E27: 2 | F27: 1 | H27: =ROUND(E27*F27*G27*$H$18,0) -> 0
B28: Profesional en área social | E28: 2 | F28: 1 | H28: =ROUND(E28*F28*G28*$H$18,0) -> 0
B29: Profesional Residente | E29: 3 | F29: 1 | H29: =ROUND(E29*F29*G29*$H$18,0) -> 0
B30: Técnico administrativo correspondencia | E30: 1 | F30: 1 | H30: =ROUND(E30*F30*G30*$H$18,0) -> 0
B31: Técnico o tecnólogo Ambiental | E31: 1 | F31: 1 | H31: =ROUND(E31*F31*G31*$H$18,0) -> 0
B32: Técnico o tecnólogo en sistemas | E32: 1 | F32: 1 | H32: =ROUND(E32*F32*G32*$H$18,0) -> 0
B33: Auxiliar de archivo | E33: 3 | F33: 1 | H33: =ROUND(E33*F33*G33*$H$18,0) -> 0
B34: Auxiliar de actas de entrega, papelería y PMA | E34: 1 | F34: 1 | H34: =ROUND(E34*F34*G34*$H$18,0) -> 0
B35: =+"TOTAL "&B20 -> TOTAL PERSONAL - ZONA 1 | H35: =SUM(H22:H34) -> 0
B37: =+"VISITAS A UNIDADES DE OBSERVACIÓN - "&UPPER(C18) -> VISITAS A UNIDADES DE OBSERVACIÓN - ZONA 1
B38: Tipo de Visita (4) | D38: Frecuencia de las visitas durante plazo de ejecución | E38: Cantidad de unidades de observación | F38: Cantidad Total de Visitas | G38: Precio Unitario visita Antes de IVA (4) | H38: Precio Total Incluido IVA
B39: Visitas a unidades de servicio - programa DIA (3,4) | D39: 10 | E39: 255 | F39: =+E39*D39 -> 2550 | H39: =+SUM(F39:F41)*G39 -> 0
B40: Visitas de seguimiento a unidades de servicio - programa DIA (2,3,4) | D40: 8 | E40: 32 | F40: =+E40*D40 -> 256
B41: Visitas de seguimiento a quejas y reclamos - programa DIA | D41: 10 | E41: 1 | F41: =+E41*D41 -> 10
B42: GASTOS DE DESPLAZAMIENTO - Visitas a bodegas (3,4) | D42: 6 | E42: 4 | F42: =+E42*D42 -> 24 | H42: =+SUM(F42:F45)*G42 -> 0
B43: GASTOS DE DESPLAZAMIENTO - Visitas a plantas (3,4) | D43: 3 | E43: 2 | F43: =+E43*D43 -> 6
B44: GASTOS DE DESPLAZAMIENTO - Visitas a contratistas (4) | D44: 2 | E44: 2 | F44: =+E44*D44 -> 4
B45: GASTOS DE DESPLAZAMIENTO - Reuniones de socialización con regionales ICBF (4) | D45: 10 | E45: 6 | F45: =+E45*D45 -> 60
B47: =+"TOTAL "&B37 -> TOTAL VISITAS A UNIDADES DE OBSERVACIÓN - ZONA 1 | E47: =SUM(E39:E45) -> 302 | F47: =SUM(F39:F45) -> 2910 | H47: =SUM(H39:H45) -> 0
B49: =+"PLAN DE MUESTREO A PRODUCTOS - "&UPPER(C18) -> PLAN DE MUESTREO A PRODUCTOS - ZONA 1
B50: Tipo de Análisis | F50: Tomas de muestras totales mínimas (5) | G50: Precio Unitario visita Antes de IVA | H50: Precio Total Incluido IVA
B51: ANÁLISIS PARA PRODUCTOS SOLIDOS-GALLETAS
B52: FISICOQUÍMICOS | C52: Peso por ración | F52: =3+3+3+(10/2) -> 14 | H52: =+G52*F52 -> 0
C53: Hierro Aminoquelado | F53: =+$F$52 -> 14 | H53: =+G53*F53 -> 0
C54: Ácido Fólico | F54: =+$F$52 -> 14 | H54: =+G54*F54 -> 0
...

Sheet SDC ZONA 2 - MACRO (3 y 6)
B8: =+"SOLICITUD DE COTIZACIÓN - INTERVENTIRÍA DIA 2015 - "&UPPER(C18) -> SOLICITUD DE COTIZACIÓN - INTERVENTIRÍA DIA 2015 - ZONA 2
B10: EMPRESA: | C10: =+IF('SDC ZONA 1 - MACRO (1 y 2)'!C10="","",'SDC ZONA 1 - MACRO (1 y 2)'!C10) | D10: NIT: | E10: =+IF('SDC ZONA 1 - MACRO (1 y 2)'!E10="","",'SDC ZONA 1 - MACRO (1 y 2)'!E10) | G10: FECHA: | H10: =+IF('SDC ZONA 1 - MACRO (1 y 2)'!H10="","",'SDC ZONA 1 - MACRO (1 y 2)'!H10)
B11: CONTACTO | C11: =+IF('SDC ZONA 1 - MACRO (1 y 2)'!C11="","",'SDC ZONA 1 - MACRO (1 y 2)'!C11) | D11: CARGO: | E11: =+IF('SDC ZONA 1 - MACRO (1 y 2)'!E11="","",'SDC ZONA 1 - MACRO (1 y 2)'!E11) | G11: TEL. CELULAR : | H11: =+IF('SDC ZONA 1 - MACRO (1 y 2)'!H11="","",'SDC ZONA 1 - MACRO (1 y 2)'!H11)
B12: E-MAIL: | C12: =+IF('SDC ZONA 1 - MACRO (1 y 2)'!C12="","",'SDC ZONA 1 - MACRO (1 y 2)'!C12) | D12: DIRECCIÓN: | E12: =+IF('SDC ZONA 1 - MACRO (1 y 2)'!E12="","",'SDC ZONA 1 - MACRO (1 y 2)'!E12) | G12: TELEFONO FIJO: | H12: =+IF('SDC ZONA 1 - MACRO (1 y 2)'!H12="","",'SDC ZONA 1 - MACRO (1 y 2)'!H12)
B14: Instrucciones para el diligenciamiento del formato de cotización
B15: • Por favor diligenciar solo las celdas en AMARILLO. Se deben llenar todas las casillas. • Revisar todos los requerimientos que se exponen en el documento "Ficha de Condiciones Técnicas" y Anexos; y formular su cotización en concordancia con este. • Asignar precio sin incluir el IVA en las celdas de la columna "G". • El valor de la cotización deber ser expresado en PESOS COLOMBIANOS. • Los valores unitarios deberán aproximarse por exceso o por defecto al entero más cercano. Si la cifra no está aproximada y aparece con centavos, el ICBF aproximará al entero inferior. • No modificar, agregar o quitar ningún ítem o sub-ítem.
B16: Notas (1) De acuerdo con lo definido en la FCT, se estiman 10 ciclos de operación para el Programa DIA, de febrero a noviembre de 2015. El plazo de ejecución del contrato será desde el perfeccionamiento del Contrato hasta el 31 de diciembre de 2015 y su vigencia será el plazo de ejecución y cuatro (4) meses más. (2) Se estima que las visitas de seguimiento a unidades de servicio se realizarán en los meses de abril a noviembre de 2015. (3) La aplicación del instrumento de transporte se realiza 1 vez al mes durante los meses de duración del contrato, en los casos en los que se evidencie dicha unidad de observación en plantas, bodegas o unidades de servicio, por lo cual el instrumento se aplica durante las visitas a estas unidades de observación y no como una visita adicional. (4) Para las "visitas a unidades de servicio", "visitas de seguimiento" y "visitas de seguimiento a quejas y reclamos" se debe cotizar un único precio unitario de visita antes de IVA toda vez que son realizadas por los "profesionales de campo evaluación de estándares", los cuales no están incluidos en el concepto PERSONAL. Para las "visitas a Bodegas", "visitas a Plantas" y "visitas a Contratistas", así como para las "Reuniones de socialización con regionales ICBF", se debe cotizar un único valor unitario por visita, que corresponda a gastos de desplazamiento, puesto que los costos de Honorarios o Salarios de los profesionales que las realizan estan incluidos en el concepto "PERSONAL" dado que tienen obligaciones adicionales a la realización de visitas. (5) Para efectos de estimación del presupuesto, la cantidad de muestras a tomar por quejas y reclamos por zona, se divide entre galletas y lácteos, sumándo estos análisis a las cantidades de análisis mínimos requeridos para productos solidos y productos lácteos. Se pagarán unicamente los los análisis efectivamente realizados. (5) Aplica para Galleta Wafer y Galleta Sándwich (6) Aplica para Leche Entera Natural (7) Aplica para Leche Saborizada (8) Para el presente estudio de mercado, se contempla para la ciudad de Arauca realizar dos (2) segundas visitas de seguimiento durante la ejecución del contrato (9) Administración y Utilidad: Establecer los porcentajes que correspondan a estos dos factores. Con respecto a la Administración, incluir en éste los costos correspondientes a demás costos indirectos relacionados en el contrato entre ellos se deben tener en cuenta las pólizas para la legalización del contrato, gastos de oficina, papelería, gravamen al impuesto financiero (4 x mil) e imprevistos.
B18: Zona | C18: Zona 2 | G18: No. de ciclos (1) | H18: 10
B20: =+"PERSONAL - "&UPPER($C$18) -> PERSONAL - ZONA 2
B21: CARGO | E21: Personas Requeridas | F21: % de dedicación en el proyecto | G21: Valor mes (honorarios o salarios) Antes de IVA | H21: Costo Total (Periodo de ejecución) Antes de IVA
B22: Director | E22: 1 | F22: 1 | H22: =ROUND(E22*F22*G22*$H$18,0) -> 0
B23: Coordinador Técnico | E23: 1 | F23: 1 | H23: =ROUND(E23*F23*G23*$H$18,0) -> 0
B24: Profesional Administrativo y Financiero | E24: 1 | F24: 1 | H24: =ROUND(E24*F24*G24*$H$18,0) -> 0
B25: Profesional de Calidad | E25: 1 | F25: 1 | H25: =ROUND(E25*F25*G25*$H$18,0) -> 0
B26: Profesional en sistemas | E26: 1 | F26: 1 | H26: =ROUND(E26*F26*G26*$H$18,0) -> 0
B27: Profesional de Área Técnico nutricional | E27: 2 | F27: 1 | H27: =ROUND(E27*F27*G27*$H$18,0) -> 0
B28: Profesional en área social | E28: 2 | F28: 1 | H28: =ROUND(E28*F28*G28*$H$18,0) -> 0
B29: Profesional Residente | E29: 3 | F29: 1 | H29: =ROUND(E29*F29*G29*$H$18,0) -> 0
B30: Técnico administrativo correspondencia | E30: 1 | F30: 1 | H30: =ROUND(E30*F30*G30*$H$18,0) -> 0
B31: Técnico o tecnólogo Ambiental | E31: 1 | F31: 1 | H31: =ROUND(E31*F31*G31*$H$18,0) -> 0
B32: Técnico o tecnólogo en sistemas | E32: 1 | F32: 1 | H32: =ROUND(E32*F32*G32*$H$18,0) -> 0
B33: Auxiliar de archivo | E33: 3 | F33: 1 | H33: =ROUND(E33*F33*G33*$H$18,0) -> 0
B34: Auxiliar de actas de entrega, papelería y PMA | E34: 1 | F34: 1 | H34: =ROUND(E34*F34*G34*$H$18,0) -> 0
B35: =+"TOTAL "&B20 -> TOTAL PERSONAL - ZONA 2 | H35: =SUM(H22:H34) -> 0
B37: =+"VISITAS A UNIDADES DE OBSERVACIÓN - "&UPPER(C18) -> VISITAS A UNIDADES DE OBSERVACIÓN - ZONA 2
B38: Tipo de Visita (4) | D38: Frecuencia de las visitas durante plazo de ejecución | E38: Cantidad de unidades de observación | F38: Cantidad Total de Visitas | G38: Precio Unitario visita Antes de IVA (4) | H38: Precio Total Incluido IVA
B39: Visitas a unidades de servicio - programa DIA (3,4) | D39: 10 | E39: 238 | F39: 2380 | H39: =+SUM(F39:F41)*G39 -> 0
B40: Visitas de seguimiento a unidades de servicio - programa DIA (2,3,4,8) | D40: 8 | E40: 31 | F40: 242
B41: Visitas de seguimiento a quejas y reclamos - programa DIA | D41: 10 | E41: 1 | F41: 10
B42: GASTOS DE DESPLAZAMIENTO - Visitas a bodegas (3,4) | D42: 5 | E42: 4 | F42: 20 | H42: =+SUM(F42:F45)*G42 -> 0
B43: GASTOS DE DESPLAZAMIENTO - Visitas a plantas (3,4) | D43: 3 | E43: 2 | F43: 6
B44: GASTOS DE DESPLAZAMIENTO - Visitas a contratistas (4) | D44: 2 | E44: 2 | F44: 4
B45: GASTOS DE DESPLAZAMIENTO - Reuniones de socialización con regionales ICBF (4) | D45: 10 | E45: 5 | F45: 50
B47: =+"TOTAL "&B37 -> TOTAL VISITAS A UNIDADES DE OBSERVACIÓN - ZONA 2 | E47: =SUM(E39:E45) -> 283 | F47: =SUM(F39:F45) -> 2712 | H47: =SUM(H39:H45) -> 0
B49: =+"PLAN DE MUESTREO A PRODUCTOS - "&UPPER(C18) -> PLAN DE MUESTREO A PRODUCTOS - ZONA 2
B50: Tipo de Análisis | F50: Tomas de muestras totales mínimas (5) | G50: Precio Unitario visita Antes de IVA | H50: Precio Total Incluido IVA
B51: ANÁLISIS PARA PRODUCTOS SOLIDOS-GALLETAS
B52: FISICOQUÍMICOS | C52: Peso por ración | F52: =3+3+3+(10/2) -> 14 | H52: =+G52*F52 -> 0
C53: Hierro Aminoquelado | F53: =+$F$52 -> 14 | H53: =+G53*F53 -> 0
C54: Ácido Fólico | F54: =+$F$52 -> 14 | H54: =+G54*F54 -> 0
...

Sheet SDC ZONA 3 - MACRO (4 y 5)
B8: =+"SOLICITUD DE COTIZACIÓN - INTERVENTIRÍA DIA 2015 - "&UPPER(C18) -> SOLICITUD DE COTIZACIÓN - INTERVENTIRÍA DIA 2015 - ZONA 3
B10: EMPRESA: | C10: =+IF('SDC ZONA 1 - MACRO (1 y 2)'!C10="","",'SDC ZONA 1 - MACRO (1 y 2)'!C10) | D10: NIT: | E10: =+IF('SDC ZONA 1 - MACRO (1 y 2)'!E10="","",'SDC ZONA 1 - MACRO (1 y 2)'!E10) | G10: FECHA: | H10: =+IF('SDC ZONA 1 - MACRO (1 y 2)'!H10="","",'SDC ZONA 1 - MACRO (1 y 2)'!H10)
B11: CONTACTO | C11: =+IF('SDC ZONA 1 - MACRO (1 y 2)'!C11="","",'SDC ZONA 1 - MACRO (1 y 2)'!C11) | D11: CARGO: | E11: =+IF('SDC ZONA 1 - MACRO (1 y 2)'!E11="","",'SDC ZONA 1 - MACRO (1 y 2)'!E11) | G11: TEL. CELULAR : | H11: =+IF('SDC ZONA 1 - MACRO (1 y 2)'!H11="","",'SDC ZONA 1 - MACRO (1 y 2)'!H11)
B12: E-MAIL: | C12: =+IF('SDC ZONA 1 - MACRO (1 y 2)'!C12="","",'SDC ZONA 1 - MACRO (1 y 2)'!C12) | D12: DIRECCIÓN: | E12: =+IF('SDC ZONA 1 - MACRO (1 y 2)'!E12="","",'SDC ZONA 1 - MACRO (1 y 2)'!E12) | G12: TELEFONO FIJO: | H12: =+IF('SDC ZONA 1 - MACRO (1 y 2)'!H12="","",'SDC ZONA 1 - MACRO (1 y 2)'!H12)
B14: Instrucciones para el diligenciamiento del formato de cotización
B15: • Por favor diligenciar solo las celdas en AMARILLO. Se deben llenar todas las casillas. • Revisar todos los requerimientos que se exponen en el documento "Ficha de Condiciones Técnicas" y Anexos; y formular su cotización en concordancia con este. • Asignar precio sin incluir el IVA en las celdas de la columna "G". • El valor de la cotización deber ser expresado en PESOS COLOMBIANOS. • Los valores unitarios deberán aproximarse por exceso o por defecto al entero más cercano. Si la cifra no está aproximada y aparece con centavos, el ICBF aproximará al entero inferior. • No modificar, agregar o quitar ningún ítem o sub-ítem.
B16: Notas (1) De acuerdo con lo definido en la FCT, se estiman 10 ciclos de operación para el Programa DIA, de febrero a noviembre de 2015. El plazo de ejecución del contrato será desde el perfeccionamiento del Contrato hasta el 31 de diciembre de 2015 y su vigencia será el plazo de ejecución y cuatro (4) meses más. (2) Se estima que las visitas de seguimiento a unidades de servicio se realizarán en los meses de abril a noviembre de 2015. (3) La aplicación del instrumento de transporte se realiza 1 vez al mes durante los meses de duración del contrato, en los casos en los que se evidencie dicha unidad de observación en plantas, bodegas o unidades de servicio, por lo cual el instrumento se aplica durante las visitas a estas unidades de observación y no como una visita adicional. (4) Para las "visitas a unidades de servicio", "visitas de seguimiento" y "visitas de seguimiento a quejas y reclamos" se debe cotizar un único precio unitario de visita antes de IVA toda vez que son realizadas por los "profesionales de campo evaluación de estándares", los cuales no están incluidos en el concepto PERSONAL. Para las "visitas a Bodegas", "visitas a Plantas" y "visitas a Contratistas", así como para las "Reuniones de socialización con regionales ICBF", se debe cotizar un único valor unitario por visita, que corresponda a gastos de desplazamiento, puesto que los costos de Honorarios o Salarios de los profesionales que las realizan estan incluidos en el concepto "PERSONAL" dado que tienen obligaciones adicionales a la realización de visitas. (5) Para efectos de estimación del presupuesto, la cantidad de muestras a tomar por quejas y reclamos por zona, se divide entre galletas y lácteos, sumándo estos análisis a las cantidades de análisis mínimos requeridos para productos solidos y productos lácteos. Se pagarán unicamente los los análisis efectivamente realizados. (5) Aplica para Galleta Wafer y Galleta Sándwich (6) Aplica para Leche Entera Natural (7) Aplica para Leche Saborizada (8) Administración y Utilidad: Establecer los porcentajes que correspondan a estos dos factores. Con respecto a la Administración, incluir en éste los costos correspondientes a demás costos indirectos relacionados en el contrato entre ellos se deben tener en cuenta las pólizas para la legalización del contrato, gastos de oficina, papelería, gravamen al impuesto financiero (4 x mil) e imprevistos.
B18: Zona | C18: Zona 3 | G18: No. de ciclos (1) | H18: 10
B20: =+"PERSONAL - "&UPPER($C$18) -> PERSONAL - ZONA 3
B21: CARGO | E21: Personas Requeridas | F21: % de dedicación en el proyecto | G21: Valor mes (honorarios o salarios) Antes de IVA | H21: Costo Total (Periodo de ejecución) Antes de IVA
B22: Director | E22: 1 | F22: 1 | H22: =ROUND(E22*F22*G22*$H$18,0) -> 0
B23: Coordinador Técnico | E23: 1 | F23: 1 | H23: =ROUND(E23*F23*G23*$H$18,0) -> 0
B24: Profesional Administrativo y Financiero | E24: 1 | F24: 1 | H24: =ROUND(E24*F24*G24*$H$18,0) -> 0
B25: Profesional de Calidad | E25: 1 | F25: 1 | H25: =ROUND(E25*F25*G25*$H$18,0) -> 0
B26: Profesional en sistemas | E26: 1 | F26: 1 | H26: =ROUND(E26*F26*G26*$H$18,0) -> 0
B27: Profesional de Área Técnico nutricional | E27: 2 | F27: 1 | H27: =ROUND(E27*F27*G27*$H$18,0) -> 0
B28: Profesional en área social | E28: 2 | F28: 1 | H28: =ROUND(E28*F28*G28*$H$18,0) -> 0
B29: Profesional Residente | E29: 5 | F29: 1 | H29: =ROUND(E29*F29*G29*$H$18,0) -> 0
B30: Técnico administrativo correspondencia | E30: 1 | F30: 1 | H30: =ROUND(E30*F30*G30*$H$18,0) -> 0
B31: Técnico o tecnólogo Ambiental | E31: 1 | F31: 1 | H31: =ROUND(E31*F31*G31*$H$18,0) -> 0
B32: Técnico o tecnólogo en sistemas | E32: 1 | F32: 1 | H32: =ROUND(E32*F32*G32*$H$18,0) -> 0
B33: Auxiliar de archivo | E33: 3 | F33: 1 | H33: =ROUND(E33*F33*G33*$H$18,0) -> 0
B34: Auxiliar de actas de entrega, papelería y PMA | E34: 1 | F34: 1 | H34: =ROUND(E34*F34*G34*$H$18,0) -> 0
B35: =+"TOTAL "&B20 -> TOTAL PERSONAL - ZONA 3 | H35: =SUM(H22:H34) -> 0
B37: =+"VISITAS A UNIDADES DE OBSERVACIÓN - "&UPPER(C18) -> VISITAS A UNIDADES DE OBSERVACIÓN - ZONA 3
B38: Tipo de Visita (4) | D38: Frecuencia de las visitas durante plazo de ejecución | E38: Cantidad de unidades de observación | F38: Cantidad Total de Visitas | G38: Precio Unitario visita Antes de IVA (4) | H38: Precio Total Incluido IVA
B39: Visitas a unidades de servicio - programa DIA (3,4) | D39: 10 | E39: 187 | F39: 1870 | H39: =+SUM(F39:F41)*G39 -> 0
B40: Visitas de seguimiento a unidades de servicio - programa DIA (2,3,4) | D40: 8 | E40: 24 | F40: 192
B41: Visitas de seguimiento a quejas y reclamos - programa DIA | D41: 10 | E41: 1 | F41: 10
B42: GASTOS DE DESPLAZAMIENTO - Visitas a bodegas (3,4) | D42: 7 | E42: 4 | F42: 28 | H42: =+SUM(F42:F45)*G42 -> 0
B43: GASTOS DE DESPLAZAMIENTO - Visitas a plantas (3,4) | D43: 3 | E43: 2 | F43: 6
B44: GASTOS DE DESPLAZAMIENTO - Visitas a contratistas (4) | D44: 2 | E44: 2 | F44: 4
B45: GASTOS DE DESPLAZAMIENTO - Reuniones de socialización con regionales ICBF (4) | D45: 10 | E45: 11 | F45: 110
B47: =+"TOTAL "&B37 -> TOTAL VISITAS A UNIDADES DE OBSERVACIÓN - ZONA 3 | E47: =SUM(E39:E45) -> 231 | F47: =SUM(F39:F45) -> 2220 | H47: =SUM(H39:H45) -> 0
B49: =+"PLAN DE MUESTREO A PRODUCTOS - "&UPPER(C18) -> PLAN DE MUESTREO A PRODUCTOS - ZONA 3
B50: Tipo de Análisis | F50: Tomas de muestras totales mínimas (5) | G50: Precio Unitario visita Antes de IVA | H50: Precio Total Incluido IVA
B51: ANÁLISIS PARA PRODUCTOS SOLIDOS-GALLETAS
B52: FISICOQUÍMICOS | C52: Peso por ración | F52: =3+3+3+(10/2) -> 14 | H52: =+G52*F52 -> 0
C53: Hierro Aminoquelado | F53: =+$F$52 -> 14 | H53: =+G53*F53 -> 0
C54: Ácido Fólico | F54: =+$F$52 -> 14 | H54: =+G54*F54 -> 0
...

Sheet SDC ZONA 4 - MACRO (7 y 8)
B8: =+"SOLICITUD DE COTIZACIÓN - INTERVENTIRÍA DIA 2015 - "&UPPER(C18) -> SOLICITUD DE COTIZACIÓN - INTERVENTIRÍA DIA 2015 - ZONA 4
B10: EMPRESA: | C10: =+IF('SDC ZONA 1 - MACRO (1 y 2)'!C10="","",'SDC ZONA 1 - MACRO (1 y 2)'!C10) | D10: NIT: | E10: =+IF('SDC ZONA 1 - MACRO (1 y 2)'!E10="","",'SDC ZONA 1 - MACRO (1 y 2)'!E10) | G10: FECHA: | H10: =+IF('SDC ZONA 1 - MACRO (1 y 2)'!H10="","",'SDC ZONA 1 - MACRO (1 y 2)'!H10)
B11: CONTACTO | C11: =+IF('SDC ZONA 1 - MACRO (1 y 2)'!C11="","",'SDC ZONA 1 - MACRO (1 y 2)'!C11) | D11: CARGO: | E11: =+IF('SDC ZONA 1 - MACRO (1 y 2)'!E11="","",'SDC ZONA 1 - MACRO (1 y 2)'!E11) | G11: TEL. CELULAR : | H11: =+IF('SDC ZONA 1 - MACRO (1 y 2)'!H11="","",'SDC ZONA 1 - MACRO (1 y 2)'!H11)
B12: E-MAIL: | C12: =+IF('SDC ZONA 1 - MACRO (1 y 2)'!C12="","",'SDC ZONA 1 - MACRO (1 y 2)'!C12) | D12: DIRECCIÓN: | E12: =+IF('SDC ZONA 1 - MACRO (1 y 2)'!E12="","",'SDC ZONA 1 - MACRO (1 y 2)'!E12) | G12: TELEFONO FIJO: | H12: =+IF('SDC ZONA 1 - MACRO (1 y 2)'!H12="","",'SDC ZONA 1 - MACRO (1 y 2)'!H12)
B14: Instrucciones para el diligenciamiento del formato de cotización
B15: • Por favor diligenciar solo las celdas en AMARILLO. Se deben llenar todas las casillas. • Revisar todos los requerimientos que se exponen en el documento "Ficha de Condiciones Técnicas" y Anexos; y formular su cotización en concordancia con este. • Asignar precio sin incluir el IVA en las celdas de la columna "G". • El valor de la cotización deber ser expresado en PESOS COLOMBIANOS. • Los valores unitarios deberán aproximarse por exceso o por defecto al entero más cercano. Si la cifra no está aproximada y aparece con centavos, el ICBF aproximará al entero inferior. • No modificar, agregar o quitar ningún ítem o sub-ítem.
B16: Notas (1) De acuerdo con lo definido en la FCT, se estiman 10 ciclos de operación para el Programa DIA, de febrero a noviembre de 2015. El plazo de ejecución del contrato será desde el perfeccionamiento del Contrato hasta el 31 de diciembre de 2015 y su vigencia será el plazo de ejecución y cuatro (4) meses más. (2) Se estima que las visitas de seguimiento a unidades de servicio se realizarán en los meses de abril a noviembre de 2015. (3) La aplicación del instrumento de transporte se realiza 1 vez al mes durante los meses de duración del contrato, en los casos en los que se evidencie dicha unidad de observación en plantas, bodegas o unidades de servicio, por lo cual el instrumento se aplica durante las visitas a estas unidades de observación y no como una visita adicional. (4) Para las "visitas a unidades de servicio", "visitas de seguimiento" y "visitas de seguimiento a quejas y reclamos" se debe cotizar un único precio unitario de visita antes de IVA toda vez que son realizadas por los "profesionales de campo evaluación de estándares", los cuales no están incluidos en el concepto PERSONAL. Para las "visitas a Bodegas", "visitas a Plantas" y "visitas a Contratistas", así como para las "Reuniones de socialización con regionales ICBF", se debe cotizar un único valor unitario por visita, que corresponda a gastos de desplazamiento, puesto que los costos de Honorarios o Salarios de los profesionales que las realizan estan incluidos en el concepto "PERSONAL" dado que tienen obligaciones adicionales a la realización de visitas. (5) Para efectos de estimación del presupuesto, la cantidad de muestras a tomar por quejas y reclamos por zona, se divide entre galletas y lácteos, sumándo estos análisis a las cantidades de análisis mínimos requeridos para productos solidos y productos lácteos. Se pagarán unicamente los los análisis efectivamente realizados. (5) Aplica para Galleta Wafer y Galleta Sándwich (6) Aplica para Leche Entera Natural (7) Aplica para Leche Saborizada (8) Para el presente estudio de mercado, se contempla para la ciudad de Amazonas realizar dos (2) segundas visitas de seguimiento durante la ejecución del contrato (9) Administración y Utilidad: Establecer los porcentajes que correspondan a estos dos factores. Con respecto a la Administración, incluir en éste los costos correspondientes a demás costos indirectos relacionados en el contrato entre ellos se deben tener en cuenta las pólizas para la legalización del contrato, gastos de oficina, papelería, gravamen al impuesto financiero (4 x mil) e imprevistos.
B18: Zona | C18: Zona 4 | G18: No. de ciclos (1) | H18: 10
B20: =+"PERSONAL - "&UPPER($C$18) -> PERSONAL - ZONA 4
B21: CARGO | E21: Personas Requeridas | F21: % de dedicación en el proyecto | G21: Valor mes (honorarios o salarios) Antes de IVA | H21: Costo Total (Periodo de ejecución) Antes de IVA
B22: Director | E22: 1 | F22: 1 | H22: =ROUND(E22*F22*G22*$H$18,0) -> 0
B23: Coordinador Técnico | E23: 1 | F23: 1 | H23: =ROUND(E23*F23*G23*$H$18,0) -> 0
B24: Profesional Administrativo y Financiero | E24: 1 | F24: 1 | H24: =ROUND(E24*F24*G24*$H$18,0) -> 0
B25: Profesional de Calidad | E25: 1 | F25: 1 | H25: =ROUND(E25*F25*G25*$H$18,0) -> 0
B26: Profesional en sistemas | E26: 1 | F26: 1 | H26: =ROUND(E26*F26*G26*$H$18,0) -> 0
B27: Profesional de Área Técnico nutricional | E27: 2 | F27: 1 | H27: =ROUND(E27*F27*G27*$H$18,0) -> 0
B28: Profesional en área social | E28: 2 | F28: 1 | H28: =ROUND(E28*F28*G28*$H$18,0) -> 0
B29: Profesional Residente | E29: 4 | F29: 1 | H29: =ROUND(E29*F29*G29*$H$18,0) -> 0
B30: Técnico administrativo correspondencia | E30: 1 | F30: 1 | H30: =ROUND(E30*F30*G30*$H$18,0) -> 0
B31: Técnico o tecnólogo Ambiental | E31: 1 | F31: 1 | H31: =ROUND(E31*F31*G31*$H$18,0) -> 0
B32: Técnico o tecnólogo en sistemas | E32: 1 | F32: 1 | H32: =ROUND(E32*F32*G32*$H$18,0) -> 0
B33: Auxiliar de archivo | E33: 3 | F33: 1 | H33: =ROUND(E33*F33*G33*$H$18,0) -> 0
B34: Auxiliar de actas de entrega, papelería y PMA | E34: 1 | F34: 1 | H34: =ROUND(E34*F34*G34*$H$18,0) -> 0
B35: =+"TOTAL "&B20 -> TOTAL PERSONAL - ZONA 4 | H35: =SUM(H22:H34) -> 0
B37: =+"VISITAS A UNIDADES DE OBSERVACIÓN - "&UPPER(C18) -> VISITAS A UNIDADES DE OBSERVACIÓN - ZONA 4
B38: Tipo de Visita (4) | D38: Frecuencia de las visitas durante plazo de ejecución | E38: Cantidad de unidades de observación | F38: Cantidad Total de Visitas | G38: Precio Unitario visita Antes de IVA (4) | H38: Precio Total Incluido IVA
B39: Visitas a unidades de servicio - programa DIA (3,4) | D39: 10 | E39: 122 | F39: 1220 | H39: =+SUM(F39:F41)*G39 -> 0
B40: Visitas de seguimiento a unidades de servicio - programa DIA (2,3,4,8) | D40: 8 | E40: 16 | F40: 122
B41: Visitas de seguimiento a quejas y reclamos - programa DIA | D41: 10 | E41: 1 | F41: 10
B42: GASTOS DE DESPLAZAMIENTO - Visitas a bodegas (3,4) | D42: 6 | E42: 4 | F42: 24 | H42: =+SUM(F42:F45)*G42 -> 0
B43: GASTOS DE DESPLAZAMIENTO - Visitas a plantas (3,4) | D43: 3 | E43: 2 | F43: 6
B44: GASTOS DE DESPLAZAMIENTO - Visitas a contratistas (4) | D44: 2 | E44: 2 | F44: 4
B45: GASTOS DE DESPLAZAMIENTO - Reuniones de socialización con regionales ICBF (4) | D45: 10 | E45: 10 | F45: 100
B47: =+"TOTAL "&B37 -> TOTAL VISITAS A UNIDADES DE OBSERVACIÓN - ZONA 4 | E47: =SUM(E39:E45) -> 157 | F47: =SUM(F39:F45) -> 1486 | H47: =SUM(H39:H45) -> 0
B49: =+"PLAN DE MUESTREO A PRODUCTOS - "&UPPER(C18) -> PLAN DE MUESTREO A PRODUCTOS - ZONA 4
B50: Tipo de Análisis | F50: Tomas de muestras totales mínimas (5) | G50: Precio Unitario visita Antes de IVA | H50: Precio Total Incluido IVA
B51: ANÁLISIS PARA PRODUCTOS SOLIDOS-GALLETAS
B52: FISICOQUÍMICOS | C52: Peso por ración | F52: =3+3+3+(10/2) -> 14 | H52: =+G52*F52 -> 0
C53: Hierro Aminoquelado | F53: =+$F$52 -> 14 | H53: =+G53*F53 -> 0
C54: Ácido Fólico | F54: =+$F$52 -> 14 | H54: =+G54*F54 -> 0
...

Sheet ZONAS Y MACROREGIONES 
B9: Zonas | C9: Macroregiones | D9: Regionales
B10: 1 | C10: 1 y 2 | D10: 1 – Cesar, La Guajira, Magdalena
D11: 2 – Atlántico, Bolívar, San Andrés
B12: 2 | C12: 3 y 6 | D12: 3 –Córdoba, Sucre
D13: 6 – Arauca, Norte de Santander, Santander
B14: 3 | C14: 4 y 5 | D14: 4 – Caldas, Caquetá, Chocó, Huila, Quindío, Risaralda, Tolima
D15: 5 – Cauca, Nariño, Putumayo, Valle del Cauca
B16: 4 | C16: 7 y 8 | D16: 7 – Bogotá, Boyacá, Casanare, Cundinamarca, Guaviare, Meta
D17: 8 – Amazonas, Guainía, Vaupés, Vichada

Sheet INFO GENERAL Y FINANCIERA
B8: Formato Información General Y Financiera De Proveedores
B10: Ciudad | M10: Fecha Dd/mm/aa | AD10: Persona Natural
AD11: Persona Jurídica
B12: 1. Información General
B13: 1.1. Identificación.
B14: Personas naturales | F14: Nombre Comercial | U14: Nombres y Apellidos | AK14: Cédula
B16: Personas jurídicas | F16: Razón Social | U16: NIT | AK16: DV
B18: Dirección | U18: Teléfono | AD18: Fax | AK18: Ciudad
B20: Pagina Web | U20: Años de Constitución | AD20: Sector al que pertenece
B22: 1.2. Personas De Contacto
B23: Gerente General | K23: E-mail | U23: Teléfono | AD23: Ext. | AK23: Celular
B25: Director Comercial | K25: E-mail | U25: Teléfono | AD25: Ext. | AK25: Celular
B27: Asesor Comercial | K27: E-mail | U27: Teléfono | AD27: Ext. | AK27: Celular
B29: 1.3. Productos Y Servicios Inscritos En El Rup De Acuerdo Con El Unspsc
B30: Incluir Listado Con Breve Descripción De Los Productos Y/o Servicios Que Ofrece La Compañía, Registrados En El Rup (agregue Las Filas Necesarias) | AK30: Código de Naciones Unidas
B36: 1.4. Códigos CIIU | AK36: 1.5. Número De Empleados
B37: Código De Actividad | F37: Descripción Actividad Económica CIIU | AD37: Tarifa ICA
B41: 2. Información Financiera - A Diciembre 31 De 2013
B42: Nombre Del Indicador | M42: Cuenta | U42: Valores En Pesos | AD42: Indicador
B43: Capacidad Financiera | F43: índice De Liquidez | M43: Activo Corriente --> | AD43: =+IFERROR(U43/U44,0) -> 0 | AK43: Veces
M44: Pasivo Corriente -->
F45: Índice De Endeudamiento | M45: Pasivo Total--> | AD45: =+IFERROR(U45/U46,0) -> 0 | AK45: Porcentaje
M46: Activo Total-->
F47: Razón De Cobertura De Intereses | M47: Utilidad Operacional--> | AD47: =+IFERROR(U47/U48,0) -> 0 | AK47: Veces
M48: Gastos De Interés-->
F49: Capital de Trabajo | M49: Activo Corriente--> | AD49: =+U49-U50 -> 0 | AK49: Pesos
M50: Pasivo corriente-->
B51: Capacidad Organizacional | F51: Rentabilidad Del Patrimonio | M51: Utilidad Operacional--> | AD51: =+IFERROR(U51/U52,0) -> 0 | AK51: Porcentaje
M52: Patrimonio-->
F53: Rentabilidad Del Activo | M53: Utilidad Operacional--> | AD53: =+IFERROR(U53/U54,0) -> 0 | AK53: Porcentaje
M54: Activo Total-->
B55: Nota: Para las empresas inspeccionadas, vigiladas o controladas por la Supersociedades, la información consignada en este numeral será validada con la reportada a la Supersociedades y disponible para consulta en Internet mediante el Sistema de Información y Riesgo Empresarial de la Supersociedades (SIREM). Si se evidencian diferencias en los valores consignados en este formato y los reportados a la Supersociedades se tomará como referencia la información del SIREM.
B56: Otra información relevante de la empresa (consigne en este espacio otra información que considere de interés)

Sheet POLIZAS
B8: CONCEPTOS A TENER EN CUENTA PARA REALIZAR LA COTIZACIÓN DE DOTACIÓN INDUSTRIAL
B11: El presente cuadro es de carácter informativo, no se debe diligenciar. Sin embargo se entiende que la cotización incluye la totalidad de los conceptos relacionados a continuación.
B13: PÓLIZAS PARA LEGALIZACIÓN DEL CONTRATO
B15: CONCEPTO | D15: COBERTURA | E15: PLAZO (En Meses)
B16: Garantía de Seriedad de la oferta | D16: 0.1 | E16: Plazo de Ejecución
B17: Cumplimiento | D17: 0.2 | E17: Plazo de ejecución + 4 meses mas
B18: Salarios, Prestaciones | D18: 0.1 | E18: Plazo de ejecución + 36 meses mas
B19: Calidad de los Servicios | D19: 0.2 | E19: Plazo de ejecución + 4 meses mas
B20: Responsabilidad civil extracontractual | D20: 0.1 | E20: Plazo de Ejecución
B21: Cobertura: Corresponde al porcentaje del valor total del contrato a amparar.

Sheet INFO EXPERIENCIA
B8: EXPERIENCIA EN CONTRATACION EN LOS ULTIMOS 5 AÑOS
B9: EXPERIENCIA EN CONTRATACIÓN EN LOS ÚLTIMOS 5 AÑOS
B11: Empresa: | C11: =IF('SDC ZONA 1 - MACRO (1 y 2)'!C10="","",'SDC ZONA 1 - MACRO (1 y 2)'!C10) | F11: Nit: | G11: =IF('SDC ZONA 1 - MACRO (1 y 2)'!E10="","",'SDC ZONA 1 - MACRO (1 y 2)'!E10) | I11: Fecha: | J11: =IF('SDC ZONA 1 - MACRO (1 y 2)'!H10="","",'SDC ZONA 1 - MACRO (1 y 2)'!H10)
B12: Contacto: | C12: =IF('SDC ZONA 1 - MACRO (1 y 2)'!C11="","",'SDC ZONA 1 - MACRO (1 y 2)'!C11) | F12: Cargo: | G12: =IF('SDC ZONA 1 - MACRO (1 y 2)'!E11="","",'SDC ZONA 1 - MACRO (1 y 2)'!E11) | I12: Tel. celular: | J12: =IF('SDC ZONA 1 - MACRO (1 y 2)'!H11="","",'SDC ZONA 1 - MACRO (1 y 2)'!H11)
B13: E-Mail: | C13: =IF('SDC ZONA 1 - MACRO (1 y 2)'!C12="","",'SDC ZONA 1 - MACRO (1 y 2)'!C12) | F13: Dirección: | G13: =IF('SDC ZONA 1 - MACRO (1 y 2)'!E12="","",'SDC ZONA 1 - MACRO (1 y 2)'!E12) | I13: Tel. fijo: | J13: =IF('SDC ZONA 1 - MACRO (1 y 2)'!H12="","",'SDC ZONA 1 - MACRO (1 y 2)'!H12)
B15: Con el fin de conocer la experiencia con la que cuentan las empresas del sector relacionada con el objeto del presente estudio de mercado, agradecemos diligenciar el cuadro que sigue con base en los contratos suscritos en los últimos 5 años, cuyos objetos están relacionados con el objeto del presente estudio de mercado
B17: Tipo de entidad | C17: Entidad o Empresa | D17: Numero del contrato | E17: Objeto del contrato | F17: Fecha de suscripción (dd/mmm/aa) | G17: Plazo de ejecución (en años) | H17: Forma de participación (UT, consorcio, individual) | I17: % de participación | J17: Valor total ejecutado del contrato (de acuerdo con el % de participación)
B29: Nota: Agregar las filas necesarias para reportar la experiencia
