Workbook
Name Decision: [1]lista!$A$6:$A$7
Name PARTICIPACION: [1]lista!$A$15:$A$17
Name Procedencia: [1]lista!$A$2:$A$3
Name tipo: [1]lista!$A$11:$A$13
Name x: [2]lista!$A$11:$A$13

Sheet SDC 1
B2: República de Colombia Instituto Colombiano de Bienestar Familiar Cecilia de la Fuente de Lleras Dirección de Abastecimiento
B4: Cotización - Servicios bajo la modalidad de Outsourcing para el arrendamiento de un Data Center Externo, administración, gestión, monitoreo y control especializado de un Centro de Datos local propio de la entidad y de las soluciones de Almacenamiento, Respaldo, Servidores, Aplicaciones, Bases de Datos, Seguridad, valores agregados y conexos, para el Instituto Colombiano de Bienestar Familiar (ICBF).
B6: EMPRESA: | I6: DIRECCIÓN: | N6: NIT: | Q6: TEL. CELULAR :
B7: CONTACTO | F7: CARGO: | I7: E-MAIL: | N7: FECHA: | Q7: TELEFONO FIJO:
B9: Instrucciones para el diligenciamiento del formato de cotización
B10: • Por favor diligenciar solo las celdas en AMARILLO. Se deben llenar todas las casillas. • Revisar todos los requerimientos que se exponen en el documento "Ficha de Condiciones Técnicas" y Anexos (FCT); y formular su cotización en concordancia con este. • El valor de la cotización deber ser expresado en PESOS COLOMBIANOS. • Los valores unitarios deberán aproximarse por exceso o por defecto al entero más cercano. Si la cifra no está aproximada y aparece con centavos, el ICBF aproximará al entero inferior. • No modificar, agregar o quitar ningún ítem o sub-ítem. Notas: (1) El valor total de la cotización deberá incluir la totalidad de los meses contemplados en el plazo de ejecución del contrato (Numeral 9 de la FCT), teniendo en cuenta que durante la etapa de transición (primeros 15 dias de ejecución) no se generará factura. Se estima para el presente estudio de mercado que la etapa de transición será durante el mes de diciembre del 2014. Sin embargo, los meses facturables de operación del año 2015 dependerán de la fecha de legalización e inicio del contrato y del mes en el que efectivamente se realice la etapa de transición. Se precisa que los 7 meses facturables de operación contemplados para el año 2018, incluyen los 3 meses finales de entrega al futuro nuevo operador. (2) Corresponde a las cantidades requeridas actualmente por la Entidad. El contratista estará en la capacidad de atender requerimientos adicionales de la Entidad. (3) Para el presente Estudio de mercado se deberá cotizar el valor unitario o mensual según corresponda para el año 2015. Para los años 2016, 2017 y 2018 la actualización de precios será constante y se realizará de manera automática. (4) Corresponde al pago mensual por el suministro de la Renovación de soporte 7x24 de las soluciones de respaldo, el cual debe ser un valor mensual proporcional a los meses de duración de la etapa de operación a partir del mes de mayo de 2015. (El contrato de soporte actual 7x24 sobre la solución de respaldo en disco EMC AVAMAR finaliza el 30 de abril de 2015.) (para la vigencia 2015 se reconcoceran 8 meses - mayo a diciembre) (5) Para el presente estudio de mercado se requiere determinar el valor unitario por TB migrado, para el caso en el que la Entidad opte por tomar los servicios de migración de respaldos históricos a una solución distinta a la que actualmente tiene el ICBF, en este caso se pagará a EL CONTRATISTA mensualmente por TB migrado. (6) Corresponde al pago mensual por el suministro de la Renovación de soporte 7x24 de las soluciones de almacenamiento SAN y NAS, el cual debe ser un valor mensual proporcional a los meses de duración de la etapa de operación a partir del mes de abril de 2015. (El contrato de soporte actual 7x24 sobre las soluciones de almacenamiento finaliza el 23 de marzo de 2015.) (para la vigencia 2015 se reconcoceran 9 meses - abril a diciembre) (7) Para el presente estudio de mercado se requiere determinar el valor global, por la Implementación de la Herramienta System Center Operations Manager, se pagará a EL CONTRATISTA una sola vez un valor fijo global correspondiente a todas las actividades necesarias para la implementación, previa aceptación por parte del supervisor del contrato. (8) Suministrar Herramienta (s) en caso de que las herramientas del ICBF de forma comprobada técnicamente no cumplan algún requerimiento que se solicite: de acuerdo con lo definido en el numeral 6.10. de la FCT para el presente estudio de mercado los potenciales proveedores podrán cotizar una de las siguientes opciones o las dos: (Opción 1) Pago por uso del servicio de las herramientas durante el tiempo de ejecución del presente contrato. (Opción 2) Licenciamiento a perpetuidad de las herramientas que utilice EL CONTRATISTA en caso de ser necesario. La Entidad determinará, de acuerdo con el resultado del estudio y con análisis internos, la mejor opción para la Entidad, en cuanto a costo-beneficio.
R11: =+R13+O13+L13+I13 -> 43
G12: 2015 | J12: 2016 | M12: 2017 | P12: 2018 | S12: Total contratación
G13: =+"Meses facturables de Operación "&G12 -> Meses facturables de Operación 2015 | I13: 12 | J13: =+"Meses facturables de Operación "&J12 -> Meses facturables de Operación 2016 | L13: 12 | M13: =+"Meses facturables de Operación "&M12 -> Meses facturables de Operación 2017 | O13: 12 | P13: =+"Meses facturables de Operación "&P12 -> Meses facturables de Operación 2018 | R13: 7
B14: Servicio | C14: Subservicio I | D14: Detalle | E14: Unidad | F14: Cantidad por mes para cada año (2) | G14: Valor Unitario (3) | H14: Valor Mensual (3) | I14: Valor Total Anual | J14: Valor Unitario (3) | K14: Valor Mensual (3) | L14: Valor Total Anual | M14: Valor Unitario (3) | N14: Valor Mensual (3) | O14: Valor Total Anual | P14: Valor Unitario (3) | Q14: Valor Mensual (3) | R14: Valor Total Anual | U14: Control | V14: Control | W14: Control | X14: Control | Y14: Control
B15: SERVIDORES | C15: Servidores Fisicos | D15: Administración | E15: Servidor | F15: 79 | H15: =+G15*$F15 -> 0 | I15: =+H15*I$13 -> 0 | J15: =+G15 -> 0 | K15: =+J15*$F15 -> 0 | L15: =+K15*L$13 -> 0 | M15: =+J15 -> 0 | N15: =+M15*$F15 -> 0 | O15: =+N15*O$13 -> 0 | P15: =+M15 -> 0 | Q15: =+P15*$F15 -> 0 | R15: =+Q15*R$13 -> 0 | S15: =+R15+O15+L15+I15 -> 0 | U15: =+I15/I$13/$F15-G15 -> 0 | V15: =+L15/L$13/$F15-J15 -> 0 | W15: =+O15/O$13-N15 -> 0 | X15: =+R15/R$13-Q15 -> 0 | Y15: =+S15-R15-O15-L15-I15 -> 0
C16: Servidores Virtuales | D16: Administración | E16: Servidor | F16: 153 | H16: =+G16*$F16 -> 0 | I16: =+H16*I$13 -> 0 | J16: =+G16 -> 0 | K16: =+J16*$F16 -> 0 | L16: =+K16*L$13 -> 0 | M16: =+J16 -> 0 | N16: =+M16*$F16 -> 0 | O16: =+N16*O$13 -> 0 | P16: =+M16 -> 0 | Q16: =+P16*$F16 -> 0 | R16: =+Q16*R$13 -> 0 | S16: =+R16+O16+L16+I16 -> 0 | U16: =+I16/I$13/$F16-G16 -> 0 | V16: =+L16/L$13/$F16-J16 -> 0 | W16: =+O16/O$13-N16 -> 0 | X16: =+R16/R$13-Q16 -> 0 | Y16: =+S16-R16-O16-L16-I16 -> 0
C17: Controlador de Dominio | D17: Administración y Monitoreo | E17: Mes | F17: No Aplica | I17: =+H17*I$13 -> 0 | K17: =+H17 -> 0 | L17: =+K17*L$13 -> 0 | N17: =+K17 -> 0 | O17: =+N17*O$13 -> 0 | Q17: =+N17 -> 0 | R17: =+Q17*R$13 -> 0 | S17: =+R17+O17+L17+I17 -> 0 | U17: =+I17/I$13-H17 -> 0 | V17: =+L17/L$13-K17 -> 0 | W17: =+O17/O$13-N17 -> 0 | X17: =+R17/R$13-Q17 -> 0 | Y17: =+S17-R17-O17-L17-I17 -> 0
C18: Subtotal - Servidores | H18: =+SUM(H15:H17) -> 0 | I18: =+SUM(I15:I17) -> 0 | J18: =+L18/L13-K18 -> 0 | K18: =+SUM(K15:K17) -> 0 | L18: =+SUM(L15:L17) -> 0 | M18: =+O18/O13-N18 -> 0 | N18: =+SUM(N15:N17) -> 0 | O18: =+SUM(O15:O17) -> 0 | P18: =+R18/R13-Q18 -> 0 | Q18: =+SUM(Q15:Q17) -> 0 | R18: =+SUM(R15:R17) -> 0 | S18: =+R18+O18+L18+I18 -> 0 | U18: =+S18-R18-O18-L18-I18 -> 0
B19: APLICACIONES | C19: No aplica | D19: Administración | E19: Aplicación | F19: 68 | H19: =+G19*$F19 -> 0 | I19: =+H19*I$13 -> 0 | J19: =+G19 -> 0 | K19: =+J19*$F19 -> 0 | L19: =+K19*L$13 -> 0 | M19: =+J19 -> 0 | N19: =+M19*$F19 -> 0 | O19: =+N19*O$13 -> 0 | P19: =+M19 -> 0 | Q19: =+P19*$F19 -> 0 | R19: =+Q19*R$13 -> 0 | S19: =+R19+O19+L19+I19 -> 0 | U19: =+I19/I$13/$F19-G19 -> 0 | V19: =+L19/L$13/$F19-J19 -> 0 | W19: =+O19/O$13-N19 -> 0 | X19: =+R19/R$13-Q19 -> 0 | Y19: =+S19-R19-O19-L19-I19 -> 0
B20: BASES DE DATOS | C20: No aplica | D20: Administración | E20: Base de Datos | F20: 139 | H20: =+G20*$F20 -> 0 | I20: =+H20*I$13 -> 0 | J20: =+G20 -> 0 | K20: =+J20*$F20 -> 0 | L20: =+K20*L$13 -> 0 | M20: =+J20 -> 0 | N20: =+M20*$F20 -> 0 | O20: =+N20*O$13 -> 0 | P20: =+M20 -> 0 | Q20: =+P20*$F20 -> 0 | R20: =+Q20*R$13 -> 0 | S20: =+R20+O20+L20+I20 -> 0 | U20: =+I20/I$13/$F20-G20 -> 0 | V20: =+L20/L$13/$F20-J20 -> 0 | W20: =+O20/O$13-N20 -> 0 | X20: =+R20/R$13-Q20 -> 0 | Y20: =+S20-R20-O20-L20-I20 -> 0
B21: RESPALDO (BACKUP) | C21: Operación, administración del servicio de Backup y sus herramientas | D21: No aplica | E21: Mes | F21: No Aplica | I21: =+H21*I$13 -> 0 | K21: =+H21 -> 0 | L21: =+K21*L$13 -> 0 | N21: =+K21 -> 0 | O21: =+N21*O$13 -> 0 | Q21: =+N21 -> 0 | R21: =+Q21*R$13 -> 0 | S21: =+R21+O21+L21+I21 -> 0 | U21: =+I21/I$13-H21 -> 0 | V21: =+L21/L$13-K21 -> 0 | W21: =+O21/O$13-N21 -> 0 | X21: =+R21/R$13-Q21 -> 0 | Y21: =+S21-R21-O21-L21-I21 -> 0
C22: Renovación de soporte 7x24 de las soluciones de respaldo (4) | D22: No aplica | E22: Mes | F22: No Aplica | I22: =+H22*8 -> 0 | K22: =+H22 -> 0 | L22: =+K22*L$13 -> 0 | N22: =+K22 -> 0 | O22: =+N22*O$13 -> 0 | Q22: =+N22 -> 0 | R22: =+Q22*R$13 -> 0 | S22: =+R22+O22+L22+I22 -> 0 | U22: =+I22/8-H22 -> 0 | V22: =+L22/L$13-K22 -> 0 | W22: =+O22/O$13-N22 -> 0 | X22: =+R22/R$13-Q22 -> 0 | Y22: =+S22-R22-O22-L22-I22 -> 0
C23: Custodia de medios | D23: No aplica | E23: Mes | F23: No Aplica | I23: =+H23*I$13 -> 0 | K23: =+H23 -> 0 | L23: =+K23*L$13 -> 0 | N23: =+K23 -> 0 | O23: =+N23*O$13 -> 0 | Q23: =+N23 -> 0 | R23: =+Q23*R$13 -> 0 | S23: =+R23+O23+L23+I23 -> 0 | U23: =+I23/I$13-H23 -> 0 | V23: =+L23/L$13-K23 -> 0 | W23: =+O23/O$13-N23 -> 0 | X23: =+R23/R$13-Q23 -> 0 | Y23: =+S23-R23-O23-L23-I23 -> 0
C24: Terabyte migrado (5) | D24: No aplica | E24: Terabyte | F24: No Aplica | J24: =+G24 -> 0 | M24: =+J24 -> 0 | P24: =+M24 -> 0
C25: Subtotal - Respaldo (Backup) | H25: =+SUM(H21:H24) -> 0 | I25: =+SUM(I21:I24) -> 0 | K25: =+SUM(K21:K24) -> 0 | L25: =+SUM(L21:L24) -> 0 | N25: =+SUM(N21:N24) -> 0 | O25: =+SUM(O21:O24) -> 0 | Q25: =+SUM(Q21:Q24) -> 0 | R25: =+SUM(R21:R24) -> 0 | S25: =+R25+O25+L25+I25 -> 0 | U25: =+S25-R25-O25-L25-I25 -> 0
B26: ALMACENAMIENTO | C26: Almacenamiento SAN y NAS | D26: Operación y administración | E26: Mes | F26: No Aplica | I26: =+H26*I$13 -> 0 | K26: =+H26 -> 0 | L26: =+K26*L$13 -> 0 | N26: =+K26 -> 0 | O26: =+N26*O$13 -> 0 | Q26: =+N26 -> 0 | R26: =+Q26*R$13 -> 0 | S26: =+R26+O26+L26+I26 -> 0 | U26: =+I26/I$13-H26 -> 0 | V26: =+L26/L$13-K26 -> 0 | W26: =+O26/O$13-N26 -> 0 | X26: =+R26/R$13-Q26 -> 0 | Y26: =+S26-R26-O26-L26-I26 -> 0
C27: Renovación de soporte 7x24 de las soluciones de almacenamiento (6) | D27: No aplica | E27: Mes | F27: No Aplica | I27: =+H27*9 -> 0 | K27: =+H27 -> 0 | L27: =+K27*L$13 -> 0 | N27: =+K27 -> 0 | O27: =+N27*O$13 -> 0 | Q27: =+N27 -> 0 | R27: =+Q27*R$13 -> 0 | S27: =+R27+O27+L27+I27 -> 0 | U27: =+I27/9-H27 -> 0 | V27: =+L27/L$13-K27 -> 0 | W27: =+O27/O$13-N27 -> 0 | X27: =+R27/R$13-Q27 -> 0 | Y27: =+S27-R27-O27-L27-I27 -> 0
C28: Subtotal - Almacenamiento | H28: =+SUM(H26:H27) -> 0 | I28: =+SUM(I26:I27) -> 0 | K28: =+SUM(K26:K27) -> 0 | L28: =+SUM(L26:L27) -> 0 | N28: =+SUM(N26:N27) -> 0 | O28: =+SUM(O26:O27) -> 0 | Q28: =+SUM(Q26:Q27) -> 0 | R28: =+SUM(R26:R27) -> 0 | S28: =+R28+O28+L28+I28 -> 0 | U28: =+S28-R28-O28-L28-I28 -> 0
B29: CENTROS DE CÓMPUTO | C29: Centro de Computo | D29: Administración | E29: Mes | F29: No Aplica | I29: =+H29*I$13 -> 0 | K29: =+H29 -> 0 | L29: =+K29*L$13 -> 0 | N29: =+K29 -> 0 | O29: =+N29*O$13 -> 0 | Q29: =+N29 -> 0 | R29: =+Q29*R$13 -> 0 | S29: =+R29+O29+L29+I29 -> 0 | U29: =+I29/I$13-H29 -> 0 | V29: =+L29/L$13-K29 -> 0 | W29: =+O29/O$13-N29 -> 0 | X29: =+R29/R$13-Q29 -> 0 | Y29: =+S29-R29-O29-L29-I29 -> 0
B30: OFFICE 365 | C30: Federación y Entorno Hibrido | D30: administración y soporte | E30: Mes | F30: No Aplica | I30: =+H30*I$13 -> 0 | K30: =+H30 -> 0 | L30: =+K30*L$13 -> 0 | N30: =+K30 -> 0 | O30: =+N30*O$13 -> 0 | Q30: =+N30 -> 0 | R30: =+Q30*R$13 -> 0 | S30: =+R30+O30+L30+I30 -> 0 | U30: =+I30/I$13-H30 -> 0 | V30: =+L30/L$13-K30 -> 0 | W30: =+O30/O$13-N30 -> 0 | X30: =+R30/R$13-Q30 -> 0 | Y30: =+S30-R30-O30-L30-I30 -> 0
C31: Plataforma Hibrida Office 365 (Consolas de Administración On-Line / On-Premise) | D31: administración y soporte | E31: Mes | F31: No Aplica | I31: =+H31*I$13 -> 0 | K31: =+H31 -> 0 | L31: =+K31*L$13 -> 0 | N31: =+K31 -> 0 | O31: =+N31*O$13 -> 0 | Q31: =+N31 -> 0 | R31: =+Q31*R$13 -> 0 | S31: =+R31+O31+L31+I31 -> 0 | U31: =+I31/I$13-H31 -> 0 | V31: =+L31/L$13-K31 -> 0 | W31: =+O31/O$13-N31 -> 0 | X31: =+R31/R$13-Q31 -> 0 | Y31: =+S31-R31-O31-L31-I31 -> 0
C32: Correo Electrónico (On-Line / On-Premise) | D32: administración y soporte | E32: Mes | F32: No Aplica | I32: =+H32*I$13 -> 0 | K32: =+H32 -> 0 | L32: =+K32*L$13 -> 0 | N32: =+K32 -> 0 | O32: =+N32*O$13 -> 0 | Q32: =+N32 -> 0 | R32: =+Q32*R$13 -> 0 | S32: =+R32+O32+L32+I32 -> 0 | U32: =+I32/I$13-H32 -> 0 | V32: =+L32/L$13-K32 -> 0 | W32: =+O32/O$13-N32 -> 0 | X32: =+R32/R$13-Q32 -> 0 | Y32: =+S32-R32-O32-L32-I32 -> 0
C33: Lync (On-Line / On-Premise) | D33: administración y soporte | E33: Mes | F33: No Aplica | I33: =+H33*I$13 -> 0 | K33: =+H33 -> 0 | L33: =+K33*L$13 -> 0 | N33: =+K33 -> 0 | O33: =+N33*O$13 -> 0 | Q33: =+N33 -> 0 | R33: =+Q33*R$13 -> 0 | S33: =+R33+O33+L33+I33 -> 0 | U33: =+I33/I$13-H33 -> 0 | V33: =+L33/L$13-K33 -> 0 | W33: =+O33/O$13-N33 -> 0 | X33: =+R33/R$13-Q33 -> 0 | Y33: =+S33-R33-O33-L33-I33 -> 0
C34: Sharepoint (On-Line / On-Premise) | D34: administración y soporte | E34: Mes | F34: No Aplica | I34: =+H34*I$13 -> 0 | K34: =+H34 -> 0 | L34: =+K34*L$13 -> 0 | N34: =+K34 -> 0 | O34: =+N34*O$13 -> 0 | Q34: =+N34 -> 0 | R34: =+Q34*R$13 -> 0 | S34: =+R34+O34+L34+I34 -> 0 | U34: =+I34/I$13-H34 -> 0 | V34: =+L34/L$13-K34 -> 0 | W34: =+O34/O$13-N34 -> 0 | X34: =+R34/R$13-Q34 -> 0 | Y34: =+S34-R34-O34-L34-I34 -> 0
C35: Subtotal - Office 365 | H35: =+SUM(H30:H34) -> 0 | I35: =+SUM(I30:I34) -> 0 | K35: =+SUM(K30:K34) -> 0 | L35: =+SUM(L30:L34) -> 0 | N35: =+SUM(N30:N34) -> 0 | O35: =+SUM(O30:O34) -> 0 | Q35: =+SUM(Q30:Q34) -> 0 | R35: =+SUM(R30:R34) -> 0 | S35: =+R35+O35+L35+I35 -> 0 | U35: =+S35-R35-O35-L35-I35 -> 0
B36: HERRAMIENTAS DE GESTIÓN Y MONITOREO | C36: System Center Operations Manager (7) | D36: Implementación de la herramienta | E36: Valor Global | F36: No Aplica | S36: =+R36+O36+L36+I36 -> 0 | U36: =+SUM($J$36:$R$36) -> 0 | V36: =+SUM($J$36:$R$36) -> 0 | W36: =+SUM($J$36:$R$36) -> 0 | X36: =+SUM($J$36:$R$36) -> 0 | Y36: =+S36-R36-O36-L36-I36 -> 0
C37: Monitoreo y Administración de la Infraestructura Tecnológica del ICBF y Servicios expuesto en el numeral 6.10 | D37: Operación, Administración y Mantenimiento de las herramientas que están actualmente implementadas en el ICBF. | E37: Mes | F37: No Aplica | I37: =+H37*I$13 -> 0 | K37: =+H37 -> 0 | L37: =+K37*L$13 -> 0 | N37: =+K37 -> 0 | O37: =+N37*O$13 -> 0 | Q37: =+N37 -> 0 | R37: =+Q37*R$13 -> 0 | S37: =+R37+O37+L37+I37 -> 0 | U37: =+I37/I$13-H37 -> 0 | V37: =+L37/L$13-K37 -> 0 | W37: =+O37/O$13-N37 -> 0 | X37: =+R37/R$13-Q37 -> 0 | Y37: =+S37-R37-O37-L37-I37 -> 0
C38: Herramienta (s) adicionales en caso de ser requeridas (Opción 1 , Nota 8) | D38: No aplica | E38: Mes | F38: No Aplica | I38: =+H38*I$13 -> 0 | K38: =+H38 -> 0 | L38: =+K38*L$13 -> 0 | N38: =+K38 -> 0 | O38: =+N38*O$13 -> 0 | Q38: =+N38 -> 0 | R38: =+Q38*R$13 -> 0 | S38: =+R38+O38+L38+I38 -> 0 | U38: =+I38/I$13-H38 -> 0 | V38: =+L38/L$13-K38 -> 0 | W38: =+O38/O$13-N38 -> 0 | X38: =+R38/R$13-Q38 -> 0 | Y38: =+S38-R38-O38-L38-I38 -> 0
C39: Herramienta (s) adicionales en caso de ser requeridas (Opción 2 , Nota 8) | D39: No aplica | E39: Mes | F39: No Aplica | I39: =+H39*I$13 -> 0 | K39: =+H39 -> 0 | L39: =+K39*L$13 -> 0 | N39: =+K39 -> 0 | O39: =+N39*O$13 -> 0 | Q39: =+N39 -> 0 | R39: =+Q39*R$13 -> 0 | S39: =+R39+O39+L39+I39 -> 0 | U39: =+I39/I$13-H39 -> 0 | V39: =+L39/L$13-K39 -> 0 | W39: =+O39/O$13-N39 -> 0 | X39: =+R39/R$13-Q39 -> 0 | Y39: =+S39-R39-O39-L39-I39 -> 0
C40: Administración y monitoreo de Licenciamiento | D40: No aplica | E40: Mes | F40: No Aplica | I40: =+H40*I$13 -> 0 | K40: =+H40 -> 0 | L40: =+K40*L$13 -> 0 | N40: =+K40 -> 0 | O40: =+N40*O$13 -> 0 | Q40: =+N40 -> 0 | R40: =+Q40*R$13 -> 0 | S40: =+R40+O40+L40+I40 -> 0 | U40: =+I40/I$13-H40 -> 0 | V40: =+L40/L$13-K40 -> 0 | W40: =+O40/O$13-N40 -> 0 | X40: =+R40/R$13-Q40 -> 0 | Y40: =+S40-R40-O40-L40-I40 -> 0
C41: Subtotal - Herramientas de Gestión y Monitoreo (Escenario 1 - Opción 1 - Pago por servicio de las herramientas suministradas por el contratista | H41: =+SUM(H36:H38)+H40 -> 0 | I41: =+SUM(I36:I38)+I40 -> 0 | K41: =+SUM(K36:K38)+K40 -> 0 | L41: =+SUM(L36:L38)+L40 -> 0 | N41: =+SUM(N36:N38)+N40 -> 0 | O41: =+SUM(O36:O38)+O40 -> 0 | Q41: =+SUM(Q36:Q38)+Q40 -> 0 | R41: =+SUM(R36:R38)+R40 -> 0 | S41: =+SUM(S36:S38)+S40 -> 0 | U41: =+S41-R41-O41-L41-I41 -> 0
C42: Subtotal - Herramientas de Gestión y Monitoreo (Escenario 2 - Opción 2 - Licenciamiento a perpetuidad de las herramientas suministradas por el contratista | H42: =+SUM(H36:H37)+SUM(H39:H40) -> 0 | I42: =+SUM(I36:I37)+SUM(I39:I40) -> 0 | K42: =+SUM(K36:K37)+SUM(K39:K40) -> 0 | L42: =+SUM(L36:L37)+SUM(L39:L40) -> 0 | N42: =+SUM(N36:N37)+SUM(N39:N40) -> 0 | O42: =+SUM(O36:O37)+SUM(O39:O40) -> 0 | Q42: =+SUM(Q36:Q37)+SUM(Q39:Q40) -> 0 | R42: =+SUM(R36:R37)+SUM(R39:R40) -> 0 | S42: =+SUM(S36:S37)+SUM(S39:S40) -> 0 | U42: =+S42-R42-O42-L42-I42 -> 0
B43: TELEFONÍA IP | C43: No Aplica | D43: Administración | E43: Mes | F43: No Aplica | I43: =+H43*I$13 -> 0 | K43: =+H43 -> 0 | L43: =+K43*L$13 -> 0 | N43: =+K43 -> 0 | O43: =+N43*O$13 -> 0 | Q43: =+N43 -> 0 | R43: =+Q43*R$13 -> 0 | S43: =+R43+O43+L43+I43 -> 0 | U43: =+I43/I$13-H43 -> 0 | V43: =+L43/L$13-K43 -> 0 | W43: =+O43/O$13-N43 -> 0 | X43: =+R43/R$13-Q43 -> 0 | Y43: =+S43-R43-O43-L43-I43 -> 0
B44: SEGURIDAD INFORMÁTICA | C44: Seguridad Perimetral | D44: Suministro, instalación, configuraración, mantenimiento, monitoreo y gestión. | E44: Mes | F44: No Aplica | I44: =+H44*I$13 -> 0 | K44: =+H44 -> 0 | L44: =+K44*L$13 -> 0 | N44: =+K44 -> 0 | O44: =+N44*O$13 -> 0 | Q44: =+N44 -> 0 | R44: =+Q44*R$13 -> 0 | S44: =+R44+O44+L44+I44 -> 0 | U44: =+I44/I$13-H44 -> 0 | V44: =+L44/L$13-K44 -> 0 | W44: =+O44/O$13-N44 -> 0 | X44: =+R44/R$13-Q44 -> 0 | Y44: =+S44-R44-O44-L44-I44 -> 0
...

Sheet INFO GENERAL Y FINANCIERA
B8: Formato Información General Y Financiera De Proveedores
B10: Ciudad | M10: Fecha Dd/mm/aa | AD10: Persona Natural
AD11: Persona Jurídica
B12: 1. Información General
B13: 1.1. Identificación.
B14: Personas naturales | F14: Nombre Comercial | U14: Nombres y Apellidos | AK14: Cédula
B16: Personas jurídicas | F16: Razón Social | U16: NIT | AK16: DV
B18: Dirección | U18: Teléfono | AD18: Fax | AK18: Ciudad
B20: Pagina Web | U20: Años de Constitución | AD20: Sector al que pertenece
B22: 1.2. Personas De Contacto
B23: Gerente General | K23: E-mail | U23: Teléfono | AD23: Ext. | AK23: Celular
B25: Director Comercial | K25: E-mail | U25: Teléfono | AD25: Ext. | AK25: Celular
B27: Asesor Comercial | K27: E-mail | U27: Teléfono | AD27: Ext. | AK27: Celular
B29: 1.3. Productos Y Servicios Inscritos En El Rup De Acuerdo Con El Unspsc
B30: Incluir Listado Con Breve Descripción De Los Productos Y/o Servicios Que Ofrece La Compañía, Registrados En El Rup (agregue Las Filas Necesarias) | AK30: Código de Naciones Unidas
B36: 1.4. Códigos CIIU | AK36: 1.5. Número De Empleados
B37: Código De Actividad | F37: Descripción Actividad Económica CIIU | AD37: Tarifa ICA
B41: 2. Información Financiera - A Diciembre 31 De 2013
B42: Nombre Del Indicador | M42: Cuenta | U42: Valores En Pesos | AD42: Indicador
B43: Capacidad Financiera | F43: índice De Liquidez | M43: Activo Corriente --> | AD43: =+IFERROR(U43/U44,0) -> 0 | AK43: Veces
M44: Pasivo Corriente -->
F45: Índice De Endeudamiento | M45: Pasivo Total--> | AD45: =+IFERROR(U45/U46,0) -> 0 | AK45: Porcentaje
M46: Activo Total-->
F47: Razón De Cobertura De Intereses | M47: Utilidad Operacional--> | AD47: =+IFERROR(U47/U48,0) -> 0 | AK47: Veces
M48: Gastos De Interés-->
B49: Capacidad Organizacional | F49: Rentabilidad Del Patrimonio | M49: Utilidad Operacional--> | AD49: =+IFERROR(U49/U50,0) -> 0 | AK49: Porcentaje
M50: Patrimonio-->
F51: Rentabilidad Del Activo | M51: Utilidad Operacional--> | AD51: =+IFERROR(U51/U52,0) -> 0 | AK51: Porcentaje
M52: Activo Total-->
B53: Nota: Para las empresas inspeccionadas, vigiladas o controladas por la Supersociedades, la información consignada en este numeral será validada con la reportada a la Supersociedades y disponible para consulta en Internet mediante el Sistema de Información y Riesgo Empresarial de la Supersociedades (SIREM). Si se evidencian diferencias en los valores consignados en este formato y los reportados a la Supersociedades se tomará como referencia la información del SIREM.
B54: Otra información relevante de la empresa (consigne en este espacio otra información que considere de interés)

Sheet POLIZAS
B9: CONCEPTOS A TENER EN CUENTA PARA REALIZAR LA COTIZACIÓN DE DOTACIÓN INDUSTRIAL
B12: El presente cuadro es de carácter informativo, no se debe diligenciar. Sin embargo se entiende que la cotización incluye la totalidad de los conceptos relacionados a continuación.
B14: POLIZAS PARA LEGALIZACIÓN DEL CONTRATO
B16: CONCEPTO | D16: COBERTURA | E16: PLAZO (En Meses)
B17: Garantía de Seriedad de la oferta | D17: 0.1 | E17: Plazo de Ejecución
B18: Buen Manejo y correcta inversión del anticipo | D18: 1 | E18: Plazo de Ejecución y Termino de liquidación del mismo
B19: Cumplimiento | D19: 0.2 | E19: Plazo de ejecución + 4 meses mas
B20: Salarios, Prestaciones | D20: 0.1 | E20: Plazo de ejecución + 36 meses mas
B21: Calidad de los Servicios | D21: 0.2 | E21: Plazo de ejecución + 4 meses mas
B22: Responsabilidad civil extracontraactual | D22: 0.1 | E22: Plazo de Ejecución
B23: Cobertura: Corresponde al porcentaje del valor total del contrato a amparar.

Sheet INFO EXPERIENCIA
B9: EXPERIENCIA EN CONTRATACIÓN EN LOS ÚLTIMOS 5 AÑOS
B11: Empresa: | C11: =+'SDC 1'!C6 -> 0 | F11: Nit: | G11: =+'SDC 1'!O6 -> 0 | I11: Fecha: | J11: =+'SDC 1'!O7 -> 0
B12: Contacto: | C12: =+'SDC 1'!C7 -> 0 | F12: Cargo: | G12: =+'SDC 1'!G7 -> 0 | I12: Tel. celular: | J12: =+'SDC 1'!R6 -> 0
B13: E-Mail: | C13: =+'SDC 1'!J7 -> 0 | F13: Dirección: | G13: =+'SDC 1'!J6 -> 0 | I13: Tel. fijo: | J13: =+'SDC 1'!R7 -> 0
B15: Con el fin de conocer la experiencia con la que cuentan las empresas del sector relacionada con el objeto del presente estudio de mercado, agradecemos diligenciar el cuadro que sigue con base en los contratos suscritos en los últimos 5 años, cuyos objetos están relacionados con el objeto del presente estudio de mercado
B17: Tipo de entidad | C17: Entidad o Empresa | D17: Numero del contrato | E17: Objeto del contrato | F17: Fecha de suscripción (dd/mmm/aa) | G17: Plazo de ejecución (en años) | H17: Forma de participación (UT, consorcio, individual) | I17: % de participación | J17: Valor total ejecutado del contrato (de acuerdo con el % de participación)
B29: Nota: Agregar las filas necesarias para reportar la experiencia
