Workbook

Sheet GALLETAS MACROS 1 - 8 (60)
A1: MACRO | B1: REGIONALES | C1: BENEFICIARIOS TIPO 2 | D1: VIGENCIA 2014
D2: CICLO 1 | G2: CICLO 2 | J2: CICLO 3 | M2: TOTAL 3 CICLOS
D3: Galletas tipo cracker | E3: Galletas tipo sándwich sabor mora | F3: Galletas tipo wafer sabor vainilla | G3: Galletas tipo cracker | H3: Galletas tipo sándwich sabor fresa | I3: Galletas tipo wafer sabor chocolate | J3: Galletas tipo cracker | K3: Galletas tipo sándwich sabor vainilla | L3: Galletas tipo wafer sabor coco | M3: Galletas tipo cracker | N3: Galletas tipo sándwich | O3: Galletas tipo wafer | P3: Total
D5: 8 | E5: 8 | F5: 4 | G5: 8 | H5: 8 | I5: 4 | J5: 8 | K5: 8 | L5: 4 | M5: 8 | N5: 8 | O5: 4 | P5: 60
A6: 1 | B6: Cesar | C6: 31937 | D6: =C6*$D$5 -> 255496 | E6: =C6*$E$5 -> 255496 | F6: =C6*$F$5 -> 127748 | G6: =C6*$G$5 -> 255496 | H6: =C6*$H$5 -> 255496 | I6: =C6*$I$5 -> 127748 | J6: =C6*$J$5 -> 255496 | K6: =C6*$K$5 -> 255496 | L6: =C6*$L$5 -> 127748 | M6: =+D6+G6+J6 -> 766488 | N6: =+E6+H6+K6 -> 766488 | O6: =+F6+I6+L6 -> 383244 | P6: =+M6+N6+O6 -> 1916220
B7: La Guajira | C7: 30880 | D7: =C7*$D$5 -> 247040 | E7: =C7*$E$5 -> 247040 | F7: =C7*$F$5 -> 123520 | G7: =C7*$G$5 -> 247040 | H7: =C7*$H$5 -> 247040 | I7: =C7*$I$5 -> 123520 | J7: =C7*$J$5 -> 247040 | K7: =C7*$K$5 -> 247040 | L7: =C7*$L$5 -> 123520 | M7: =+D7+G7+J7 -> 741120 | N7: =+E7+H7+K7 -> 741120 | O7: =+F7+I7+L7 -> 370560 | P7: =+M7+N7+O7 -> 1852800
B8: Magdalena | C8: 25790 | D8: =C8*$D$5 -> 206320 | E8: =C8*$E$5 -> 206320 | F8: =C8*$F$5 -> 103160 | G8: =C8*$G$5 -> 206320 | H8: =C8*$H$5 -> 206320 | I8: =C8*$I$5 -> 103160 | J8: =C8*$J$5 -> 206320 | K8: =C8*$K$5 -> 206320 | L8: =C8*$L$5 -> 103160 | M8: =+D8+G8+J8 -> 618960 | N8: =+E8+H8+K8 -> 618960 | O8: =+F8+I8+L8 -> 309480 | P8: =+M8+N8+O8 -> 1547400
A9: 2 | B9: Atlántico | C9: 22641 | D9: =C9*$D$5 -> 181128 | E9: =C9*$E$5 -> 181128 | F9: =C9*$F$5 -> 90564 | G9: =C9*$G$5 -> 181128 | H9: =C9*$H$5 -> 181128 | I9: =C9*$I$5 -> 90564 | J9: =C9*$J$5 -> 181128 | K9: =C9*$K$5 -> 181128 | L9: =C9*$L$5 -> 90564 | M9: =+D9+G9+J9 -> 543384 | N9: =+E9+H9+K9 -> 543384 | O9: =+F9+I9+L9 -> 271692 | P9: =+M9+N9+O9 -> 1358460
B10: Bolívar | C10: 39380 | D10: =C10*$D$5 -> 315040 | E10: =C10*$E$5 -> 315040 | F10: =C10*$F$5 -> 157520 | G10: =C10*$G$5 -> 315040 | H10: =C10*$H$5 -> 315040 | I10: =C10*$I$5 -> 157520 | J10: =C10*$J$5 -> 315040 | K10: =C10*$K$5 -> 315040 | L10: =C10*$L$5 -> 157520 | M10: =+D10+G10+J10 -> 945120 | N10: =+E10+H10+K10 -> 945120 | O10: =+F10+I10+L10 -> 472560 | P10: =+M10+N10+O10 -> 2362800
B11: San Andrés | C11: 1092 | D11: =C11*$D$5 -> 8736 | E11: =C11*$E$5 -> 8736 | F11: =C11*$F$5 -> 4368 | G11: =C11*$G$5 -> 8736 | H11: =C11*$H$5 -> 8736 | I11: =C11*$I$5 -> 4368 | J11: =C11*$J$5 -> 8736 | K11: =C11*$K$5 -> 8736 | L11: =C11*$L$5 -> 4368 | M11: =+D11+G11+J11 -> 26208 | N11: =+E11+H11+K11 -> 26208 | O11: =+F11+I11+L11 -> 13104 | P11: =+M11+N11+O11 -> 65520
A12: 3 | B12: Córdoba | C12: 41422 | D12: =C12*$D$5 -> 331376 | E12: =C12*$E$5 -> 331376 | F12: =C12*$F$5 -> 165688 | G12: =C12*$G$5 -> 331376 | H12: =C12*$H$5 -> 331376 | I12: =C12*$I$5 -> 165688 | J12: =C12*$J$5 -> 331376 | K12: =C12*$K$5 -> 331376 | L12: =C12*$L$5 -> 165688 | M12: =+D12+G12+J12 -> 994128 | N12: =+E12+H12+K12 -> 994128 | O12: =+F12+I12+L12 -> 497064 | P12: =+M12+N12+O12 -> 2485320
B13: Sucre | C13: 24837 | D13: =C13*$D$5 -> 198696 | E13: =C13*$E$5 -> 198696 | F13: =C13*$F$5 -> 99348 | G13: =C13*$G$5 -> 198696 | H13: =C13*$H$5 -> 198696 | I13: =C13*$I$5 -> 99348 | J13: =C13*$J$5 -> 198696 | K13: =C13*$K$5 -> 198696 | L13: =C13*$L$5 -> 99348 | M13: =+D13+G13+J13 -> 596088 | N13: =+E13+H13+K13 -> 596088 | O13: =+F13+I13+L13 -> 298044 | P13: =+M13+N13+O13 -> 1490220
A14: 4 | B14: Caldas | C14: 3782 | D14: =C14*$D$5 -> 30256 | E14: =C14*$E$5 -> 30256 | F14: =C14*$F$5 -> 15128 | G14: =C14*$G$5 -> 30256 | H14: =C14*$H$5 -> 30256 | I14: =C14*$I$5 -> 15128 | J14: =C14*$J$5 -> 30256 | K14: =C14*$K$5 -> 30256 | L14: =C14*$L$5 -> 15128 | M14: =+D14+G14+J14 -> 90768 | N14: =+E14+H14+K14 -> 90768 | O14: =+F14+I14+L14 -> 45384 | P14: =+M14+N14+O14 -> 226920
B15: Caquetá | C15: 12843 | D15: =C15*$D$5 -> 102744 | E15: =C15*$E$5 -> 102744 | F15: =C15*$F$5 -> 51372 | G15: =C15*$G$5 -> 102744 | H15: =C15*$H$5 -> 102744 | I15: =C15*$I$5 -> 51372 | J15: =C15*$J$5 -> 102744 | K15: =C15*$K$5 -> 102744 | L15: =C15*$L$5 -> 51372 | M15: =+D15+G15+J15 -> 308232 | N15: =+E15+H15+K15 -> 308232 | O15: =+F15+I15+L15 -> 154116 | P15: =+M15+N15+O15 -> 770580
B16: Chocó | C16: 12950 | D16: =C16*$D$5 -> 103600 | E16: =C16*$E$5 -> 103600 | F16: =C16*$F$5 -> 51800 | G16: =C16*$G$5 -> 103600 | H16: =C16*$H$5 -> 103600 | I16: =C16*$I$5 -> 51800 | J16: =C16*$J$5 -> 103600 | K16: =C16*$K$5 -> 103600 | L16: =C16*$L$5 -> 51800 | M16: =+D16+G16+J16 -> 310800 | N16: =+E16+H16+K16 -> 310800 | O16: =+F16+I16+L16 -> 155400 | P16: =+M16+N16+O16 -> 777000
B17: Huila | C17: 28031 | D17: =C17*$D$5 -> 224248 | E17: =C17*$E$5 -> 224248 | F17: =C17*$F$5 -> 112124 | G17: =C17*$G$5 -> 224248 | H17: =C17*$H$5 -> 224248 | I17: =C17*$I$5 -> 112124 | J17: =C17*$J$5 -> 224248 | K17: =C17*$K$5 -> 224248 | L17: =C17*$L$5 -> 112124 | M17: =+D17+G17+J17 -> 672744 | N17: =+E17+H17+K17 -> 672744 | O17: =+F17+I17+L17 -> 336372 | P17: =+M17+N17+O17 -> 1681860
B18: Quindío | C18: 3775 | D18: =C18*$D$5 -> 30200 | E18: =C18*$E$5 -> 30200 | F18: =C18*$F$5 -> 15100 | G18: =C18*$G$5 -> 30200 | H18: =C18*$H$5 -> 30200 | I18: =C18*$I$5 -> 15100 | J18: =C18*$J$5 -> 30200 | K18: =C18*$K$5 -> 30200 | L18: =C18*$L$5 -> 15100 | M18: =+D18+G18+J18 -> 90600 | N18: =+E18+H18+K18 -> 90600 | O18: =+F18+I18+L18 -> 45300 | P18: =+M18+N18+O18 -> 226500
B19: Risaralda | C19: 12393 | D19: =C19*$D$5 -> 99144 | E19: =C19*$E$5 -> 99144 | F19: =C19*$F$5 -> 49572 | G19: =C19*$G$5 -> 99144 | H19: =C19*$H$5 -> 99144 | I19: =C19*$I$5 -> 49572 | J19: =C19*$J$5 -> 99144 | K19: =C19*$K$5 -> 99144 | L19: =C19*$L$5 -> 49572 | M19: =+D19+G19+J19 -> 297432 | N19: =+E19+H19+K19 -> 297432 | O19: =+F19+I19+L19 -> 148716 | P19: =+M19+N19+O19 -> 743580
B20: Tolima | C20: 30299 | D20: =C20*$D$5 -> 242392 | E20: =C20*$E$5 -> 242392 | F20: =C20*$F$5 -> 121196 | G20: =C20*$G$5 -> 242392 | H20: =C20*$H$5 -> 242392 | I20: =C20*$I$5 -> 121196 | J20: =C20*$J$5 -> 242392 | K20: =C20*$K$5 -> 242392 | L20: =C20*$L$5 -> 121196 | M20: =+D20+G20+J20 -> 727176 | N20: =+E20+H20+K20 -> 727176 | O20: =+F20+I20+L20 -> 363588 | P20: =+M20+N20+O20 -> 1817940
A21: 5 | B21: Cauca | C21: 18714 | D21: =C21*$D$5 -> 149712 | E21: =C21*$E$5 -> 149712 | F21: =C21*$F$5 -> 74856 | G21: =C21*$G$5 -> 149712 | H21: =C21*$H$5 -> 149712 | I21: =C21*$I$5 -> 74856 | J21: =C21*$J$5 -> 149712 | K21: =C21*$K$5 -> 149712 | L21: =C21*$L$5 -> 74856 | M21: =+D21+G21+J21 -> 449136 | N21: =+E21+H21+K21 -> 449136 | O21: =+F21+I21+L21 -> 224568 | P21: =+M21+N21+O21 -> 1122840
B22: Nariño | C22: 24291 | D22: =C22*$D$5 -> 194328 | E22: =C22*$E$5 -> 194328 | F22: =C22*$F$5 -> 97164 | G22: =C22*$G$5 -> 194328 | H22: =C22*$H$5 -> 194328 | I22: =C22*$I$5 -> 97164 | J22: =C22*$J$5 -> 194328 | K22: =C22*$K$5 -> 194328 | L22: =C22*$L$5 -> 97164 | M22: =+D22+G22+J22 -> 582984 | N22: =+E22+H22+K22 -> 582984 | O22: =+F22+I22+L22 -> 291492 | P22: =+M22+N22+O22 -> 1457460
B23: Putumayo | C23: 7281 | D23: =C23*$D$5 -> 58248 | E23: =C23*$E$5 -> 58248 | F23: =C23*$F$5 -> 29124 | G23: =C23*$G$5 -> 58248 | H23: =C23*$H$5 -> 58248 | I23: =C23*$I$5 -> 29124 | J23: =C23*$J$5 -> 58248 | K23: =C23*$K$5 -> 58248 | L23: =C23*$L$5 -> 29124 | M23: =+D23+G23+J23 -> 174744 | N23: =+E23+H23+K23 -> 174744 | O23: =+F23+I23+L23 -> 87372 | P23: =+M23+N23+O23 -> 436860
B24: Valle del Cauca | C24: 39227 | D24: =C24*$D$5 -> 313816 | E24: =C24*$E$5 -> 313816 | F24: =C24*$F$5 -> 156908 | G24: =C24*$G$5 -> 313816 | H24: =C24*$H$5 -> 313816 | I24: =C24*$I$5 -> 156908 | J24: =C24*$J$5 -> 313816 | K24: =C24*$K$5 -> 313816 | L24: =C24*$L$5 -> 156908 | M24: =+D24+G24+J24 -> 941448 | N24: =+E24+H24+K24 -> 941448 | O24: =+F24+I24+L24 -> 470724 | P24: =+M24+N24+O24 -> 2353620
A25: 6 | B25: Arauca | C25: 7164 | D25: =C25*$D$5 -> 57312 | E25: =C25*$E$5 -> 57312 | F25: =C25*$F$5 -> 28656 | G25: =C25*$G$5 -> 57312 | H25: =C25*$H$5 -> 57312 | I25: =C25*$I$5 -> 28656 | J25: =C25*$J$5 -> 57312 | K25: =C25*$K$5 -> 57312 | L25: =C25*$L$5 -> 28656 | M25: =+D25+G25+J25 -> 171936 | N25: =+E25+H25+K25 -> 171936 | O25: =+F25+I25+L25 -> 85968 | P25: =+M25+N25+O25 -> 429840
B26: Norte de Santander | C26: 24512 | D26: =C26*$D$5 -> 196096 | E26: =C26*$E$5 -> 196096 | F26: =C26*$F$5 -> 98048 | G26: =C26*$G$5 -> 196096 | H26: =C26*$H$5 -> 196096 | I26: =C26*$I$5 -> 98048 | J26: =C26*$J$5 -> 196096 | K26: =C26*$K$5 -> 196096 | L26: =C26*$L$5 -> 98048 | M26: =+D26+G26+J26 -> 588288 | N26: =+E26+H26+K26 -> 588288 | O26: =+F26+I26+L26 -> 294144 | P26: =+M26+N26+O26 -> 1470720
B27: Santander | C27: 32937 | D27: =C27*$D$5 -> 263496 | E27: =C27*$E$5 -> 263496 | F27: =C27*$F$5 -> 131748 | G27: =C27*$G$5 -> 263496 | H27: =C27*$H$5 -> 263496 | I27: =C27*$I$5 -> 131748 | J27: =C27*$J$5 -> 263496 | K27: =C27*$K$5 -> 263496 | L27: =C27*$L$5 -> 131748 | M27: =+D27+G27+J27 -> 790488 | N27: =+E27+H27+K27 -> 790488 | O27: =+F27+I27+L27 -> 395244 | P27: =+M27+N27+O27 -> 1976220
A28: 7 | B28: Bogotá | C28: 27953 | D28: =C28*$D$5 -> 223624 | E28: =C28*$E$5 -> 223624 | F28: =C28*$F$5 -> 111812 | G28: =C28*$G$5 -> 223624 | H28: =C28*$H$5 -> 223624 | I28: =C28*$I$5 -> 111812 | J28: =C28*$J$5 -> 223624 | K28: =C28*$K$5 -> 223624 | L28: =C28*$L$5 -> 111812 | M28: =+D28+G28+J28 -> 670872 | N28: =+E28+H28+K28 -> 670872 | O28: =+F28+I28+L28 -> 335436 | P28: =+M28+N28+O28 -> 1677180
B29: Boyacá | C29: 18151 | D29: =C29*$D$5 -> 145208 | E29: =C29*$E$5 -> 145208 | F29: =C29*$F$5 -> 72604 | G29: =C29*$G$5 -> 145208 | H29: =C29*$H$5 -> 145208 | I29: =C29*$I$5 -> 72604 | J29: =C29*$J$5 -> 145208 | K29: =C29*$K$5 -> 145208 | L29: =C29*$L$5 -> 72604 | M29: =+D29+G29+J29 -> 435624 | N29: =+E29+H29+K29 -> 435624 | O29: =+F29+I29+L29 -> 217812 | P29: =+M29+N29+O29 -> 1089060
B30: Casanare | C30: 7401 | D30: =C30*$D$5 -> 59208 | E30: =C30*$E$5 -> 59208 | F30: =C30*$F$5 -> 29604 | G30: =C30*$G$5 -> 59208 | H30: =C30*$H$5 -> 59208 | I30: =C30*$I$5 -> 29604 | J30: =C30*$J$5 -> 59208 | K30: =C30*$K$5 -> 59208 | L30: =C30*$L$5 -> 29604 | M30: =+D30+G30+J30 -> 177624 | N30: =+E30+H30+K30 -> 177624 | O30: =+F30+I30+L30 -> 88812 | P30: =+M30+N30+O30 -> 444060
B31: Cundinamarca | C31: 25128 | D31: =C31*$D$5 -> 201024 | E31: =C31*$E$5 -> 201024 | F31: =C31*$F$5 -> 100512 | G31: =C31*$G$5 -> 201024 | H31: =C31*$H$5 -> 201024 | I31: =C31*$I$5 -> 100512 | J31: =C31*$J$5 -> 201024 | K31: =C31*$K$5 -> 201024 | L31: =C31*$L$5 -> 100512 | M31: =+D31+G31+J31 -> 603072 | N31: =+E31+H31+K31 -> 603072 | O31: =+F31+I31+L31 -> 301536 | P31: =+M31+N31+O31 -> 1507680
B32: Guaviare | C32: 2945 | D32: =C32*$D$5 -> 23560 | E32: =C32*$E$5 -> 23560 | F32: =C32*$F$5 -> 11780 | G32: =C32*$G$5 -> 23560 | H32: =C32*$H$5 -> 23560 | I32: =C32*$I$5 -> 11780 | J32: =C32*$J$5 -> 23560 | K32: =C32*$K$5 -> 23560 | L32: =C32*$L$5 -> 11780 | M32: =+D32+G32+J32 -> 70680 | N32: =+E32+H32+K32 -> 70680 | O32: =+F32+I32+L32 -> 35340 | P32: =+M32+N32+O32 -> 176700
B33: Meta | C33: 11789 | D33: =C33*$D$5 -> 94312 | E33: =C33*$E$5 -> 94312 | F33: =C33*$F$5 -> 47156 | G33: =C33*$G$5 -> 94312 | H33: =C33*$H$5 -> 94312 | I33: =C33*$I$5 -> 47156 | J33: =C33*$J$5 -> 94312 | K33: =C33*$K$5 -> 94312 | L33: =C33*$L$5 -> 47156 | M33: =+D33+G33+J33 -> 282936 | N33: =+E33+H33+K33 -> 282936 | O33: =+F33+I33+L33 -> 141468 | P33: =+M33+N33+O33 -> 707340
A34: 8 | B34: Amazonas | C34: 2298 | D34: =C34*$D$5 -> 18384 | E34: =C34*$E$5 -> 18384 | F34: =C34*$F$5 -> 9192 | G34: =C34*$G$5 -> 18384 | H34: =C34*$H$5 -> 18384 | I34: =C34*$I$5 -> 9192 | J34: =C34*$J$5 -> 18384 | K34: =C34*$K$5 -> 18384 | L34: =C34*$L$5 -> 9192 | M34: =+D34+G34+J34 -> 55152 | N34: =+E34+H34+K34 -> 55152 | O34: =+F34+I34+L34 -> 27576 | P34: =+M34+N34+O34 -> 137880
B35: Guainía | C35: 1444 | D35: =C35*$D$5 -> 11552 | E35: =C35*$E$5 -> 11552 | F35: =C35*$F$5 -> 5776 | G35: =C35*$G$5 -> 11552 | H35: =C35*$H$5 -> 11552 | I35: =C35*$I$5 -> 5776 | J35: =C35*$J$5 -> 11552 | K35: =C35*$K$5 -> 11552 | L35: =C35*$L$5 -> 5776 | M35: =+D35+G35+J35 -> 34656 | N35: =+E35+H35+K35 -> 34656 | O35: =+F35+I35+L35 -> 17328 | P35: =+M35+N35+O35 -> 86640
B36: Vaupés | C36: 902 | D36: =C36*$D$5 -> 7216 | E36: =C36*$E$5 -> 7216 | F36: =C36*$F$5 -> 3608 | G36: =C36*$G$5 -> 7216 | H36: =C36*$H$5 -> 7216 | I36: =C36*$I$5 -> 3608 | J36: =C36*$J$5 -> 7216 | K36: =C36*$K$5 -> 7216 | L36: =C36*$L$5 -> 3608 | M36: =+D36+G36+J36 -> 21648 | N36: =+E36+H36+K36 -> 21648 | O36: =+F36+I36+L36 -> 10824 | P36: =+M36+N36+O36 -> 54120
B37: Vichada | C37: 2989 | D37: =C37*$D$5 -> 23912 | E37: =C37*$E$5 -> 23912 | F37: =C37*$F$5 -> 11956 | G37: =C37*$G$5 -> 23912 | H37: =C37*$H$5 -> 23912 | I37: =C37*$I$5 -> 11956 | J37: =C37*$J$5 -> 23912 | K37: =C37*$K$5 -> 23912 | L37: =C37*$L$5 -> 11956 | M37: =+D37+G37+J37 -> 71736 | N37: =+E37+H37+K37 -> 71736 | O37: =+F37+I37+L37 -> 35868 | P37: =+M37+N37+O37 -> 179340
B38: Total Sede Nacional | C38: =SUM(C6:C37) -> 577178 | D38: =SUM(D6:D37) -> 4617424 | E38: =SUM(E6:E37) -> 4617424 | F38: =SUM(F6:F37) -> 2308712 | G38: =SUM(G6:G37) -> 4617424 | H38: =SUM(H6:H37) -> 4617424 | I38: =SUM(I6:I37) -> 2308712 | J38: =SUM(J6:J37) -> 4617424 | ... P38: =SUM(P6:P37) -> 34630680
B41: Ciclo | C41: =+C38*20 -> 11543560
B42: 3 ciclos | C42: =+C41*3 -> 34630680

Sheet CONSOLIDADO 60
A1: MACROS | B1: REGIONALES | F1: Galletas tipo cracker | G1: Galletas tipo sándwich sabor chocolate | H1: Galletas tipo wafer sabor mora | I1: Galletas tipo cracker | J1: Galletas tipo sándwich sabor fresa | K1: Galletas tipo wafer sabor chocolate | L1: Galletas tipo cracker | M1: Galletas tipo sándwich sabor vainilla | N1: Galletas tipo wafer sabor coco | O1: Galletas tipo cracker | P1: Galletas tipo sándwich | Q1: Galletas tipo wafer | R1: TOTAL GALLETAS
A2: 1 | B2: Cesar | C2: 10633 | D2: 20980 | E2: 31613 | F2: =E2*#REF! -> #REF! | G2: =E2*#REF! -> #REF! | H2: =E2*#REF! -> #REF! | I2: =+E2*#REF! -> #REF! | J2: =+E2*#REF! -> #REF! | K2: =+E2*#REF! -> #REF! | L2: =+E2*#REF! -> #REF! | M2: =+E2*#REF! -> #REF! | N2: =+E2*#REF! -> #REF! | O2: =+'GALLETAS MACROS 1 - 8 (60)'!M6 -> 766488 | P2: =+'GALLETAS MACROS 1 - 8 (60)'!N6 -> 766488 | Q2: =+'GALLETAS MACROS 1 - 8 (60)'!O6 -> 383244 | R2: =O2+P2+Q2 -> 1916220
B3: Guajira | C3: 5821 | D3: 24296 | E3: 30117 | F3: =E3*#REF! -> #REF! | G3: =E3*#REF! -> #REF! | H3: =E3*#REF! -> #REF! | I3: =+E3*#REF! -> #REF! | J3: =+E3*#REF! -> #REF! | K3: =+E3*#REF! -> #REF! | L3: =+E3*#REF! -> #REF! | M3: =+E3*#REF! -> #REF! | N3: =+E3*#REF! -> #REF! | O3: =+'GALLETAS MACROS 1 - 8 (60)'!M7 -> 741120 | P3: =+'GALLETAS MACROS 1 - 8 (60)'!N7 -> 741120 | Q3: =+'GALLETAS MACROS 1 - 8 (60)'!O7 -> 370560 | R3: =O3+P3+Q3 -> 1852800
B4: Magdalena | C4: 4503 | D4: 28505 | E4: 36992 | F4: =E4*#REF! -> #REF! | G4: =E4*#REF! -> #REF! | H4: =E4*#REF! -> #REF! | I4: =+E4*#REF! -> #REF! | J4: =+E4*#REF! -> #REF! | K4: =+E4*#REF! -> #REF! | L4: =+E4*#REF! -> #REF! | M4: =+E4*#REF! -> #REF! | N4: =+E4*#REF! -> #REF! | O4: =+'GALLETAS MACROS 1 - 8 (60)'!M8 -> 618960 | P4: =+'GALLETAS MACROS 1 - 8 (60)'!N8 -> 618960 | Q4: =+'GALLETAS MACROS 1 - 8 (60)'!O8 -> 309480 | R4: =O4+P4+Q4 -> 1547400
B5: TOTAL MACRO 1 | E5: =SUM(E2:E4) -> 98722 | O5: =SUM(O2:O4) -> 2126568 | P5: =SUM(P2:P4) -> 2126568 | Q5: =SUM(Q2:Q4) -> 1063284 | R5: =SUM(R2:R4) -> 5316420
A6: 2 | B6: Atlántico | C6: 6458 | D6: 49270 | E6: 32748 | F6: =E6*#REF! -> #REF! | G6: =E6*#REF! -> #REF! | H6: =E6*#REF! -> #REF! | I6: =+E6*#REF! -> #REF! | J6: =+E6*#REF! -> #REF! | K6: =+E6*#REF! -> #REF! | L6: =+E6*#REF! -> #REF! | M6: =+E6*#REF! -> #REF! | N6: =+E6*#REF! -> #REF! | O6: =+'GALLETAS MACROS 1 - 8 (60)'!M9 -> 543384 | P6: =+'GALLETAS MACROS 1 - 8 (60)'!N9 -> 543384 | Q6: =+'GALLETAS MACROS 1 - 8 (60)'!O9 -> 271692 | R6: =O6+P6+Q6 -> 1358460
B7: Bolivar | C7: 7189 | D7: 17638 | E7: 45636 | F7: =E7*#REF! -> #REF! | G7: =E7*#REF! -> #REF! | H7: =E7*#REF! -> #REF! | I7: =+E7*#REF! -> #REF! | J7: =+E7*#REF! -> #REF! | K7: =+E7*#REF! -> #REF! | L7: =+E7*#REF! -> #REF! | M7: =+E7*#REF! -> #REF! | N7: =+E7*#REF! -> #REF! | O7: =+'GALLETAS MACROS 1 - 8 (60)'!M10 -> 945120 | P7: =+'GALLETAS MACROS 1 - 8 (60)'!N10 -> 945120 | Q7: =+'GALLETAS MACROS 1 - 8 (60)'!O10 -> 472560 | R7: =O7+P7+Q7 -> 2362800
B8: San Andres | C8: 1432 | D8: 9985 | E8: 1292 | F8: =E8*#REF! -> #REF! | G8: =E8*#REF! -> #REF! | H8: =E8*#REF! -> #REF! | I8: =+E8*#REF! -> #REF! | J8: =+E8*#REF! -> #REF! | K8: =+E8*#REF! -> #REF! | L8: =+E8*#REF! -> #REF! | M8: =+E8*#REF! -> #REF! | N8: =+E8*#REF! -> #REF! | O8: =+'GALLETAS MACROS 1 - 8 (60)'!M11 -> 26208 | P8: =+'GALLETAS MACROS 1 - 8 (60)'!N11 -> 26208 | Q8: =+'GALLETAS MACROS 1 - 8 (60)'!O11 -> 13104 | R8: =O8+P8+Q8 -> 65520
B9: TOTAL MACRO 2 | O9: =SUM(O6:O8) -> 1514712 | P9: =SUM(P6:P8) -> 1514712 | Q9: =SUM(Q6:Q8) -> 757356 | R9: =SUM(R6:R8) -> 3786780
A10: 3 | B10: Córdoba | C10: 4812 | D10: 8488 | E10: 44371 | F10: =E10*#REF! -> #REF! | G10: =E10*#REF! -> #REF! | H10: =E10*#REF! -> #REF! | I10: =+E10*#REF! -> #REF! | J10: =+E10*#REF! -> #REF! | K10: =+E10*#REF! -> #REF! | L10: =+E10*#REF! -> #REF! | M10: =+E10*#REF! -> #REF! | N10: =+E10*#REF! -> #REF! | O10: =+'GALLETAS MACROS 1 - 8 (60)'!M12 -> 994128 | P10: =+'GALLETAS MACROS 1 - 8 (60)'!N12 -> 994128 | Q10: =+'GALLETAS MACROS 1 - 8 (60)'!O12 -> 497064 | R10: =+'GALLETAS MACROS 1 - 8 (60)'!P12 -> 2485320
B11: Sucre | C11: 4793 | D11: 25154 | E11: 24827 | F11: =E11*#REF! -> #REF! | G11: =E11*#REF! -> #REF! | H11: =E11*#REF! -> #REF! | I11: =+E11*#REF! -> #REF! | J11: =+E11*#REF! -> #REF! | K11: =+E11*#REF! -> #REF! | L11: =+E11*#REF! -> #REF! | M11: =+E11*#REF! -> #REF! | N11: =+E11*#REF! -> #REF! | O11: =+'GALLETAS MACROS 1 - 8 (60)'!M13 -> 596088 | P11: =+'GALLETAS MACROS 1 - 8 (60)'!N13 -> 596088 | Q11: =+'GALLETAS MACROS 1 - 8 (60)'!O13 -> 298044 | R11: =+'GALLETAS MACROS 1 - 8 (60)'!P13 -> 1490220
B12: TOTAL MACRO 3 | O12: =SUM(O10:O11) -> 1590216 | P12: =SUM(P10:P11) -> 1590216 | Q12: =SUM(Q10:Q11) -> 795108 | R12: =SUM(R10:R11) -> 3975540
A13: 4 | B13: Caldas | C13: 3352 | D13: 4005 | E13: 11315 | F13: =E13*#REF! -> #REF! | G13: =E13*#REF! -> #REF! | H13: =E13*#REF! -> #REF! | I13: =+E13*#REF! -> #REF! | J13: =+E13*#REF! -> #REF! | K13: =+E13*#REF! -> #REF! | L13: =+E13*#REF! -> #REF! | M13: =+E13*#REF! -> #REF! | N13: =+E13*#REF! -> #REF! | O13: =+'GALLETAS MACROS 1 - 8 (60)'!M14 -> 90768 | P13: =+'GALLETAS MACROS 1 - 8 (60)'!N14 -> 90768 | Q13: =+'GALLETAS MACROS 1 - 8 (60)'!O14 -> 45384 | R13: =O13+P13+Q13 -> 226920
B14: Caquetá | C14: 3570 | D14: 9597 | E14: 13300 | F14: =E14*#REF! -> #REF! | G14: =E14*#REF! -> #REF! | H14: =E14*#REF! -> #REF! | I14: =+E14*#REF! -> #REF! | J14: =+E14*#REF! -> #REF! | K14: =+E14*#REF! -> #REF! | L14: =+E14*#REF! -> #REF! | M14: =+E14*#REF! -> #REF! | N14: =+E14*#REF! -> #REF! | O14: =+'GALLETAS MACROS 1 - 8 (60)'!M15 -> 308232 | P14: =+'GALLETAS MACROS 1 - 8 (60)'!N15 -> 308232 | Q14: =+'GALLETAS MACROS 1 - 8 (60)'!O15 -> 154116 | R14: =O14+P14+Q14 -> 770580
B15: Choco | C15: 6857 | D15: 31949 | E15: 12612 | F15: =E15*#REF! -> #REF! | G15: =E15*#REF! -> #REF! | H15: =E15*#REF! -> #REF! | I15: =+E15*#REF! -> #REF! | J15: =+E15*#REF! -> #REF! | K15: =+E15*#REF! -> #REF! | L15: =+E15*#REF! -> #REF! | M15: =+E15*#REF! -> #REF! | N15: =+E15*#REF! -> #REF! | O15: =+'GALLETAS MACROS 1 - 8 (60)'!M16 -> 310800 | P15: =+'GALLETAS MACROS 1 - 8 (60)'!N16 -> 310800 | Q15: =+'GALLETAS MACROS 1 - 8 (60)'!O16 -> 155400 | R15: =O15+P15+Q15 -> 777000
B16: Huila | C16: 4624 | D16: 23476 | E16: 29947 | F16: =E16*#REF! -> #REF! | G16: =E16*#REF! -> #REF! | H16: =E16*#REF! -> #REF! | I16: =+E16*#REF! -> #REF! | J16: =+E16*#REF! -> #REF! | K16: =+E16*#REF! -> #REF! | L16: =+E16*#REF! -> #REF! | M16: =+E16*#REF! -> #REF! | N16: =+E16*#REF! -> #REF! | O16: =+'GALLETAS MACROS 1 - 8 (60)'!M17 -> 672744 | P16: =+'GALLETAS MACROS 1 - 8 (60)'!N17 -> 672744 | Q16: =+'GALLETAS MACROS 1 - 8 (60)'!O17 -> 336372 | R16: =O16+P16+Q16 -> 1681860
B17: Quindío | C17: 3732 | D17: 31520 | E17: 7357 | F17: =E17*#REF! -> #REF! | G17: =E17*#REF! -> #REF! | H17: =E17*#REF! -> #REF! | I17: =+E17*#REF! -> #REF! | J17: =+E17*#REF! -> #REF! | K17: =+E17*#REF! -> #REF! | L17: =+E17*#REF! -> #REF! | M17: =+E17*#REF! -> #REF! | N17: =+E17*#REF! -> #REF! | O17: =+'GALLETAS MACROS 1 - 8 (60)'!M18 -> 90600 | P17: =+'GALLETAS MACROS 1 - 8 (60)'!N18 -> 90600 | Q17: =+'GALLETAS MACROS 1 - 8 (60)'!O18 -> 45300 | R17: =O17+P17+Q17 -> 226500
B18: Risaralda | C18: 276 | D18: 7532 | E18: 13269 | F18: =E18*#REF! -> #REF! | G18: =E18*#REF! -> #REF! | H18: =E18*#REF! -> #REF! | I18: =+E18*#REF! -> #REF! | J18: =+E18*#REF! -> #REF! | K18: =+E18*#REF! -> #REF! | L18: =+E18*#REF! -> #REF! | M18: =+E18*#REF! -> #REF! | N18: =+E18*#REF! -> #REF! | O18: =+'GALLETAS MACROS 1 - 8 (60)'!M19 -> 297432 | P18: =+'GALLETAS MACROS 1 - 8 (60)'!N19 -> 297432 | Q18: =+'GALLETAS MACROS 1 - 8 (60)'!O19 -> 148716 | R18: =O18+P18+Q18 -> 743580
B19: Tolima | C19: 12924 | D19: 30907 | E19: 38806 | F19: =E19*#REF! -> #REF! | G19: =E19*#REF! -> #REF! | H19: =E19*#REF! -> #REF! | I19: =+E19*#REF! -> #REF! | J19: =+E19*#REF! -> #REF! | K19: =+E19*#REF! -> #REF! | L19: =+E19*#REF! -> #REF! | M19: =+E19*#REF! -> #REF! | N19: =+E19*#REF! -> #REF! | O19: =+'GALLETAS MACROS 1 - 8 (60)'!M20 -> 727176 | P19: =+'GALLETAS MACROS 1 - 8 (60)'!N20 -> 727176 | Q19: =+'GALLETAS MACROS 1 - 8 (60)'!O20 -> 363588 | R19: =O19+P19+Q19 -> 1817940
B20: TOTAL MACRO 4 | O20: =SUM(O13:O19) -> 2497752 | P20: =SUM(P13:P19) -> 2497752 | Q20: =SUM(Q13:Q19) -> 1248876 | R20: =SUM(R13:R19) -> 6244380
A21: 5 | B21: Cauca | C21: 1800 | D21: 5304 | E21: 28100 | F21: =E21*#REF! -> #REF! | G21: =E21*#REF! -> #REF! | H21: =E21*#REF! -> #REF! | I21: =+E21*#REF! -> #REF! | J21: =+E21*#REF! -> #REF! | K21: =+E21*#REF! -> #REF! | L21: =+E21*#REF! -> #REF! | M21: =+E21*#REF! -> #REF! | N21: =+E21*#REF! -> #REF! | O21: =+'GALLETAS MACROS 1 - 8 (60)'!M21 -> 449136 | P21: =+'GALLETAS MACROS 1 - 8 (60)'!N21 -> 449136 | Q21: =+'GALLETAS MACROS 1 - 8 (60)'!O21 -> 224568 | R21: =O21+P21+Q21 -> 1122840
B22: Nariño | C22: 8341 | D22: 16418 | E22: 35252 | F22: =E22*#REF! -> #REF! | G22: =E22*#REF! -> #REF! | H22: =E22*#REF! -> #REF! | I22: =+E22*#REF! -> #REF! | J22: =+E22*#REF! -> #REF! | K22: =+E22*#REF! -> #REF! | L22: =+E22*#REF! -> #REF! | M22: =+E22*#REF! -> #REF! | N22: =+E22*#REF! -> #REF! | O22: =+'GALLETAS MACROS 1 - 8 (60)'!M22 -> 582984 | P22: =+'GALLETAS MACROS 1 - 8 (60)'!N22 -> 582984 | Q22: =+'GALLETAS MACROS 1 - 8 (60)'!O22 -> 291492 | R22: =O22+P22+Q22 -> 1457460
B23: Putumayo | C23: 5013 | D23: 29774 | E23: 7808 | F23: =E23*#REF! -> #REF! | G23: =E23*#REF! -> #REF! | H23: =E23*#REF! -> #REF! | I23: =+E23*#REF! -> #REF! | J23: =+E23*#REF! -> #REF! | K23: =+E23*#REF! -> #REF! | L23: =+E23*#REF! -> #REF! | M23: =+E23*#REF! -> #REF! | N23: =+E23*#REF! -> #REF! | O23: =+'GALLETAS MACROS 1 - 8 (60)'!M23 -> 174744 | P23: =+'GALLETAS MACROS 1 - 8 (60)'!N23 -> 174744 | Q23: =+'GALLETAS MACROS 1 - 8 (60)'!O23 -> 87372 | R23: =O23+P23+Q23 -> 436860
B24: Valle del Cauca | C24: 25948 | D24: 0 | E24: 43831 | F24: =E24*#REF! -> #REF! | G24: =E24*#REF! -> #REF! | H24: =E24*#REF! -> #REF! | I24: =+E24*#REF! -> #REF! | J24: =+E24*#REF! -> #REF! | K24: =+E24*#REF! -> #REF! | L24: =+E24*#REF! -> #REF! | M24: =+E24*#REF! -> #REF! | N24: =+E24*#REF! -> #REF! | O24: =+'GALLETAS MACROS 1 - 8 (60)'!M24 -> 941448 | P24: =+'GALLETAS MACROS 1 - 8 (60)'!N24 -> 941448 | Q24: =+'GALLETAS MACROS 1 - 8 (60)'!O24 -> 470724 | R24: =O24+P24+Q24 -> 2353620
B25: TOTAL MACRO 5 | O25: =SUM(O21:O24) -> 2148312 | P25: =SUM(P21:P24) -> 2148312 | Q25: =SUM(Q21:Q24) -> 1074156 | R25: =SUM(R21:R24) -> 5370780
A26: 6 | B26: Arauca | C26: 956 | D26: 19957 | E26: 7104 | F26: =E26*#REF! -> #REF! | G26: =E26*#REF! -> #REF! | H26: =E26*#REF! -> #REF! | I26: =+E26*#REF! -> #REF! | J26: =+E26*#REF! -> #REF! | K26: =+E26*#REF! -> #REF! | L26: =+E26*#REF! -> #REF! | M26: =+E26*#REF! -> #REF! | N26: =+E26*#REF! -> #REF! | O26: =+'GALLETAS MACROS 1 - 8 (60)'!M25 -> 171936 | P26: =+'GALLETAS MACROS 1 - 8 (60)'!N25 -> 171936 | Q26: =+'GALLETAS MACROS 1 - 8 (60)'!O25 -> 85968 | R26: =O26+P26+Q26 -> 429840
B27: Norte de Santander | C27: 2077 | D27: 5832 | E27: 24759 | F27: =E27*#REF! -> #REF! | G27: =E27*#REF! -> #REF! | H27: =E27*#REF! -> #REF! | I27: =+E27*#REF! -> #REF! | J27: =+E27*#REF! -> #REF! | K27: =+E27*#REF! -> #REF! | L27: =+E27*#REF! -> #REF! | M27: =+E27*#REF! -> #REF! | N27: =+E27*#REF! -> #REF! | O27: =+'GALLETAS MACROS 1 - 8 (60)'!M26 -> 588288 | P27: =+'GALLETAS MACROS 1 - 8 (60)'!N26 -> 588288 | Q27: =+'GALLETAS MACROS 1 - 8 (60)'!O26 -> 294144 | R27: =O27+P27+Q27 -> 1470720
B28: Santander | C28: 0 | D28: 22326 | E28: 34787 | F28: =E28*#REF! -> #REF! | G28: =E28*#REF! -> #REF! | H28: =E28*#REF! -> #REF! | I28: =+E28*#REF! -> #REF! | J28: =+E28*#REF! -> #REF! | K28: =+E28*#REF! -> #REF! | L28: =+E28*#REF! -> #REF! | M28: =+E28*#REF! -> #REF! | N28: =+E28*#REF! -> #REF! | O28: =+'GALLETAS MACROS 1 - 8 (60)'!M27 -> 790488 | P28: =+'GALLETAS MACROS 1 - 8 (60)'!N27 -> 790488 | Q28: =+'GALLETAS MACROS 1 - 8 (60)'!O27 -> 395244 | R28: =O28+P28+Q28 -> 1976220
B29: TOTAL MACRO 6 | O29: =SUM(O26:O28) -> 1550712 | P29: =SUM(P26:P28) -> 1550712 | Q29: =SUM(Q26:Q28) -> 775356 | R29: =SUM(R26:R28) -> 3876780
A30: 7 | B30: Bogotá | C30: 2115 | D30: 803 | E30: 25948 | F30: 103792 | G30: 207584 | H30: 207584 | I30: 103792 | J30: 207584 | K30: 207584 | L30: 103792 | M30: 207584 | N30: 207584 | O30: =+'GALLETAS MACROS 1 - 8 (60)'!M28 -> 670872 | P30: =+'GALLETAS MACROS 1 - 8 (60)'!N28 -> 670872 | Q30: =+'GALLETAS MACROS 1 - 8 (60)'!O28 -> 335436 | R30: =+O30+P30+Q30 -> 1677180
B31: Boyacá | C31: 4561 | D31: 8861 | E31: 20913 | F31: 83652 | G31: 167304 | H31: 167304 | I31: 83652 | J31: 167304 | K31: 167304 | L31: 83652 | M31: 167304 | N31: 167304 | O31: =+'GALLETAS MACROS 1 - 8 (60)'!M29 -> 435624 | P31: =+'GALLETAS MACROS 1 - 8 (60)'!N29 -> 435624 | Q31: =+'GALLETAS MACROS 1 - 8 (60)'!O29 -> 217812 | R31: =+O31+P31+Q31 -> 1089060
B32: Casanare | C32: 938 | D32: 1292 | E32: 7909 | F32: 31636 | G32: 63272 | H32: 63272 | I32: 31636 | J32: 63272 | K32: 63272 | L32: 31636 | M32: 63272 | N32: 63272 | O32: =+'GALLETAS MACROS 1 - 8 (60)'!M30 -> 177624 | P32: =+'GALLETAS MACROS 1 - 8 (60)'!N30 -> 177624 | Q32: =+'GALLETAS MACROS 1 - 8 (60)'!O30 -> 88812 | R32: =+O32+P32+Q32 -> 444060
B33: Cundinamarca | C33: 765 | D33: 379 | E33: 22326 | F33: 89304 | G33: 178608 | H33: 178608 | I33: 89304 | J33: 178608 | K33: 178608 | L33: 89304 | M33: 178608 | N33: 178608 | O33: =+'GALLETAS MACROS 1 - 8 (60)'!M31 -> 603072 | P33: =+'GALLETAS MACROS 1 - 8 (60)'!N31 -> 603072 | Q33: =+'GALLETAS MACROS 1 - 8 (60)'!O31 -> 301536 | R33: =+O33+P33+Q33 -> 1507680
B34: Guaviare | C34: 598 | D34: 304 | E34: 2918 | F34: 11672 | G34: 23344 | H34: 23344 | I34: 11672 | J34: 23344 | K34: 23344 | L34: 11672 | M34: 23344 | N34: 23344 | O34: =+'GALLETAS MACROS 1 - 8 (60)'!M32 -> 70680 | P34: =+'GALLETAS MACROS 1 - 8 (60)'!N32 -> 70680 | Q34: =+'GALLETAS MACROS 1 - 8 (60)'!O32 -> 35340 | R34: =+O34+P34+Q34 -> 176700
B35: Meta | C35: 528 | D35: 2056 | E35: 13422 | F35: 53688 | G35: 107376 | H35: 107376 | I35: 53688 | J35: 107376 | K35: 107376 | L35: 53688 | M35: 107376 | N35: 107376 | O35: =+'GALLETAS MACROS 1 - 8 (60)'!M33 -> 282936 | P35: =+'GALLETAS MACROS 1 - 8 (60)'!N33 -> 282936 | Q35: =+'GALLETAS MACROS 1 - 8 (60)'!O33 -> 141468 | R35: =+O35+P35+Q35 -> 707340
B36: TOTAL MACRO 7 | O36: =SUM(O30:O35) -> 2240808 | P36: =SUM(P30:P35) -> 2240808 | Q36: =SUM(Q30:Q35) -> 1120404 | R36: =SUM(R30:R35) -> 5602020
A37: 8 | B37: Amazonas | O37: =+'GALLETAS MACROS 1 - 8 (60)'!M34 -> 55152 | P37: =+'GALLETAS MACROS 1 - 8 (60)'!N34 -> 55152 | Q37: =+'GALLETAS MACROS 1 - 8 (60)'!O34 -> 27576 | R37: =+O37+P37+Q37 -> 137880
B38: Guainia | O38: =+'GALLETAS MACROS 1 - 8 (60)'!M35 -> 34656 | P38: =+'GALLETAS MACROS 1 - 8 (60)'!N35 -> 34656 | Q38: =+'GALLETAS MACROS 1 - 8 (60)'!O35 -> 17328 | R38: =+O38+P38+Q38 -> 86640
B39: Vaupes | O39: =+'GALLETAS MACROS 1 - 8 (60)'!M36 -> 21648 | P39: =+'GALLETAS MACROS 1 - 8 (60)'!N36 -> 21648 | Q39: =+'GALLETAS MACROS 1 - 8 (60)'!O36 -> 10824 | R39: =+O39+P39+Q39 -> 54120
B40: Vichada | O40: =+'GALLETAS MACROS 1 - 8 (60)'!M37 -> 71736 | P40: =+'GALLETAS MACROS 1 - 8 (60)'!N37 -> 71736 | Q40: =+'GALLETAS MACROS 1 - 8 (60)'!O37 -> 35868 | R40: =+O40+P40+Q40 -> 179340
...

Sheet MENÚ POR CICLO 60 DIAS
A3: PRODUCTO GALLETAS | B3: CICLO 1 -2014
B4: FRECUENCIA 20 DÍAS
A5: Galletas tipo cracker | B5: 8
A6: Galletas tipo sándwich sabor Mora | B6: 8
A7: Galletas tipo wafer sabor Vainilla | B7: 4
A8: TOTAL DE GALLETAS POR CICLO | B8: 20
A10: PRODUCTO GALLETAS | B10: CICLO 2 -2014
B11: FRECUENCIA 20 DÍAS
A12: Galletas tipo cracker | B12: 8
A13: Galletas tipo sándwich sabor Fresa | B13: 8
A14: Galletas tipo wafer sabor Chocolate | B14: 4
A15: TOTAL DE GALLETAS POR CICLO | B15: 20
A17: PRODUCTO GALLETAS | B17: CICLO 3 - 2014
B18: FRECUENCIA 20 DÍAS
A19: Galletas tipo cracker | B19: 8
A20: Galletas tipo sándwich sabor Vainilla | B20: 8
A21: Galletas tipo wafer sabor Coco | B21: 4
A22: TOTAL DE GALLETAS POR CICLO | B22: 20
A26: Galletas tipo sándwich sabor Vainilla | B26: ciclo 1 y 5
A27: Galletas tipo sándwich sabor Chocolate | B27: ciclo 2 y 6
A28: Galletas tipo sándwich sabor Mora | B28: ciclo 3 y 7
A29: Galletas tipo sándwich sabor Fresa | B29: ciclo 4 y 8
A30: Galletas tipo sándwich sabor Vainilla | B30: ciclo 9
A32: Galletas tipo wafer sabor Coco | B32: ciclo 1 y 5
A33: Galletas tipo wafer sabor Fresa | B33: ciclo 2 y 6
A34: Galletas tipo wafer sabor Vainilla | B34: ciclo 3 y 7
A35: Galletas tipo wafer sabor Chocolate | B35: ciclo 4 y 8
A36: Galletas tipo wafer sabor Coco | B36: ciclo 9
