Workbook

Sheet GALLETAS MACROS 1 - 8 (40)
A1: MACRO | B1: REGIONALES | C1: BENEFICIARIOS TIPO 2 | D1: VIGENCIA 2014
D2: CICLO 1 | G2: CICLO 2 | J2: TOTAL 2 CICLOS
D3: Galletas tipo cracker | E3: Galletas tipo sándwich sabor mora | F3: Galletas tipo wafer sabor vainilla | G3: Galletas tipo cracker | H3: Galletas tipo sándwich sabor fresa | I3: Galletas tipo wafer sabor chocolate | J3: Galletas tipo cracker | K3: Galletas tipo sándwich | L3: Galletas tipo wafer | M3: Total
D5: 8 | E5: 8 | F5: 4 | G5: 8 | H5: 8 | I5: 4 | J5: 8 | K5: 8 | L5: 4 | M5: 60
A6: 1 | B6: Cesar | C6: 30452 | D6: =C6*$D$5 -> 243616 | E6: =C6*$E$5 -> 243616 | F6: =C6*$F$5 -> 121808 | G6: =C6*$G$5 -> 243616 | H6: =C6*$H$5 -> 243616 | I6: =C6*$I$5 -> 121808 | J6: =+D6+G6 -> 487232 | K6: =+E6+H6 -> 487232 | L6: =+F6+I6 -> 243616 | M6: =+J6+K6+L6 -> 1218080
B7: La Guajira | C7: 30880 | D7: =C7*$D$5 -> 247040 | E7: =C7*$E$5 -> 247040 | F7: =C7*$F$5 -> 123520 | G7: =C7*$G$5 -> 247040 | H7: =C7*$H$5 -> 247040 | I7: =C7*$I$5 -> 123520 | J7: =+D7+G7 -> 494080 | K7: =+E7+H7 -> 494080 | L7: =+F7+I7 -> 247040 | M7: =+J7+K7+L7 -> 1235200
B8: Magdalena | C8: 24878 | D8: =C8*$D$5 -> 199024 | E8: =C8*$E$5 -> 199024 | F8: =C8*$F$5 -> 99512 | G8: =C8*$G$5 -> 199024 | H8: =C8*$H$5 -> 199024 | I8: =C8*$I$5 -> 99512 | J8: =+D8+G8 -> 398048 | K8: =+E8+H8 -> 398048 | L8: =+F8+I8 -> 199024 | M8: =+J8+K8+L8 -> 995120
A9: 2 | B9: Atlántico | C9: 22854 | D9: =C9*$D$5 -> 182832 | E9: =C9*$E$5 -> 182832 | F9: =C9*$F$5 -> 91416 | G9: =C9*$G$5 -> 182832 | H9: =C9*$H$5 -> 182832 | I9: =C9*$I$5 -> 91416 | J9: =+D9+G9 -> 365664 | K9: =+E9+H9 -> 365664 | L9: =+F9+I9 -> 182832 | M9: =+J9+K9+L9 -> 914160
B10: Bolívar | C10: 36743 | D10: =C10*$D$5 -> 293944 | E10: =C10*$E$5 -> 293944 | F10: =C10*$F$5 -> 146972 | G10: =C10*$G$5 -> 293944 | H10: =C10*$H$5 -> 293944 | I10: =C10*$I$5 -> 146972 | J10: =+D10+G10 -> 587888 | K10: =+E10+H10 -> 587888 | L10: =+F10+I10 -> 293944 | M10: =+J10+K10+L10 -> 1469720
B11: San Andrés | C11: 1092 | D11: =C11*$D$5 -> 8736 | E11: =C11*$E$5 -> 8736 | F11: =C11*$F$5 -> 4368 | G11: =C11*$G$5 -> 8736 | H11: =C11*$H$5 -> 8736 | I11: =C11*$I$5 -> 4368 | J11: =+D11+G11 -> 17472 | K11: =+E11+H11 -> 17472 | L11: =+F11+I11 -> 8736 | M11: =+J11+K11+L11 -> 43680
A12: 3 | B12: Córdoba | C12: 41460 | D12: =C12*$D$5 -> 331680 | E12: =C12*$E$5 -> 331680 | F12: =C12*$F$5 -> 165840 | G12: =C12*$G$5 -> 331680 | H12: =C12*$H$5 -> 331680 | I12: =C12*$I$5 -> 165840 | J12: =+D12+G12 -> 663360 | K12: =+E12+H12 -> 663360 | L12: =+F12+I12 -> 331680 | M12: =+J12+K12+L12 -> 1658400
B13: Sucre | C13: 24837 | D13: =C13*$D$5 -> 198696 | E13: =C13*$E$5 -> 198696 | F13: =C13*$F$5 -> 99348 | G13: =C13*$G$5 -> 198696 | H13: =C13*$H$5 -> 198696 | I13: =C13*$I$5 -> 99348 | J13: =+D13+G13 -> 397392 | K13: =+E13+H13 -> 397392 | L13: =+F13+I13 -> 198696 | M13: =+J13+K13+L13 -> 993480
A14: 4 | B14: Caldas | C14: 3794 | D14: =C14*$D$5 -> 30352 | E14: =C14*$E$5 -> 30352 | F14: =C14*$F$5 -> 15176 | G14: =C14*$G$5 -> 30352 | H14: =C14*$H$5 -> 30352 | I14: =C14*$I$5 -> 15176 | J14: =+D14+G14 -> 60704 | K14: =+E14+H14 -> 60704 | L14: =+F14+I14 -> 30352 | M14: =+J14+K14+L14 -> 151760
B15: Caquetá | C15: 10567 | D15: =C15*$D$5 -> 84536 | E15: =C15*$E$5 -> 84536 | F15: =C15*$F$5 -> 42268 | G15: =C15*$G$5 -> 84536 | H15: =C15*$H$5 -> 84536 | I15: =C15*$I$5 -> 42268 | J15: =+D15+G15 -> 169072 | K15: =+E15+H15 -> 169072 | L15: =+F15+I15 -> 84536 | M15: =+J15+K15+L15 -> 422680
B16: Chocó | C16: 9974 | D16: =C16*$D$5 -> 79792 | E16: =C16*$E$5 -> 79792 | F16: =C16*$F$5 -> 39896 | G16: =C16*$G$5 -> 79792 | H16: =C16*$H$5 -> 79792 | I16: =C16*$I$5 -> 39896 | J16: =+D16+G16 -> 159584 | K16: =+E16+H16 -> 159584 | L16: =+F16+I16 -> 79792 | M16: =+J16+K16+L16 -> 398960
B17: Huila | C17: 23395 | D17: =C17*$D$5 -> 187160 | E17: =C17*$E$5 -> 187160 | F17: =C17*$F$5 -> 93580 | G17: =C17*$G$5 -> 187160 | H17: =C17*$H$5 -> 187160 | I17: =C17*$I$5 -> 93580 | J17: =+D17+G17 -> 374320 | K17: =+E17+H17 -> 374320 | L17: =+F17+I17 -> 187160 | M17: =+J17+K17+L17 -> 935800
B18: Quindío | C18: 3775 | D18: =C18*$D$5 -> 30200 | E18: =C18*$E$5 -> 30200 | F18: =C18*$F$5 -> 15100 | G18: =C18*$G$5 -> 30200 | H18: =C18*$H$5 -> 30200 | I18: =C18*$I$5 -> 15100 | J18: =+D18+G18 -> 60400 | K18: =+E18+H18 -> 60400 | L18: =+F18+I18 -> 30200 | M18: =+J18+K18+L18 -> 151000
B19: Risaralda | C19: 12559 | D19: =C19*$D$5 -> 100472 | E19: =C19*$E$5 -> 100472 | F19: =C19*$F$5 -> 50236 | G19: =C19*$G$5 -> 100472 | H19: =C19*$H$5 -> 100472 | I19: =C19*$I$5 -> 50236 | J19: =+D19+G19 -> 200944 | K19: =+E19+H19 -> 200944 | L19: =+F19+I19 -> 100472 | M19: =+J19+K19+L19 -> 502360
B20: Tolima | C20: 19373 | D20: =C20*$D$5 -> 154984 | E20: =C20*$E$5 -> 154984 | F20: =C20*$F$5 -> 77492 | G20: =C20*$G$5 -> 154984 | H20: =C20*$H$5 -> 154984 | I20: =C20*$I$5 -> 77492 | J20: =+D20+G20 -> 309968 | K20: =+E20+H20 -> 309968 | L20: =+F20+I20 -> 154984 | M20: =+J20+K20+L20 -> 774920
A21: 5 | B21: Cauca | C21: 18714 | D21: =C21*$D$5 -> 149712 | E21: =C21*$E$5 -> 149712 | F21: =C21*$F$5 -> 74856 | G21: =C21*$G$5 -> 149712 | H21: =C21*$H$5 -> 149712 | I21: =C21*$I$5 -> 74856 | J21: =+D21+G21 -> 299424 | K21: =+E21+H21 -> 299424 | L21: =+F21+I21 -> 149712 | M21: =+J21+K21+L21 -> 748560
B22: Nariño | C22: 24291 | D22: =C22*$D$5 -> 194328 | E22: =C22*$E$5 -> 194328 | F22: =C22*$F$5 -> 97164 | G22: =C22*$G$5 -> 194328 | H22: =C22*$H$5 -> 194328 | I22: =C22*$I$5 -> 97164 | J22: =+D22+G22 -> 388656 | K22: =+E22+H22 -> 388656 | L22: =+F22+I22 -> 194328 | M22: =+J22+K22+L22 -> 971640
B23: Putumayo | C23: 7307 | D23: =C23*$D$5 -> 58456 | E23: =C23*$E$5 -> 58456 | F23: =C23*$F$5 -> 29228 | G23: =C23*$G$5 -> 58456 | H23: =C23*$H$5 -> 58456 | I23: =C23*$I$5 -> 29228 | J23: =+D23+G23 -> 116912 | K23: =+E23+H23 -> 116912 | L23: =+F23+I23 -> 58456 | M23: =+J23+K23+L23 -> 292280
B24: Valle del Cauca | C24: 38642 | D24: =C24*$D$5 -> 309136 | E24: =C24*$E$5 -> 309136 | F24: =C24*$F$5 -> 154568 | G24: =C24*$G$5 -> 309136 | H24: =C24*$H$5 -> 309136 | I24: =C24*$I$5 -> 154568 | J24: =+D24+G24 -> 618272 | K24: =+E24+H24 -> 618272 | L24: =+F24+I24 -> 309136 | M24: =+J24+K24+L24 -> 1545680
A25: 6 | B25: Arauca | C25: 6814 | D25: =C25*$D$5 -> 54512 | E25: =C25*$E$5 -> 54512 | F25: =C25*$F$5 -> 27256 | G25: =C25*$G$5 -> 54512 | H25: =C25*$H$5 -> 54512 | I25: =C25*$I$5 -> 27256 | J25: =+D25+G25 -> 109024 | K25: =+E25+H25 -> 109024 | L25: =+F25+I25 -> 54512 | M25: =+J25+K25+L25 -> 272560
B26: Norte de Santander | C26: 24473 | D26: =C26*$D$5 -> 195784 | E26: =C26*$E$5 -> 195784 | F26: =C26*$F$5 -> 97892 | G26: =C26*$G$5 -> 195784 | H26: =C26*$H$5 -> 195784 | I26: =C26*$I$5 -> 97892 | J26: =+D26+G26 -> 391568 | K26: =+E26+H26 -> 391568 | L26: =+F26+I26 -> 195784 | M26: =+J26+K26+L26 -> 978920
B27: Santander | C27: 25201 | D27: =C27*$D$5 -> 201608 | E27: =C27*$E$5 -> 201608 | F27: =C27*$F$5 -> 100804 | G27: =C27*$G$5 -> 201608 | H27: =C27*$H$5 -> 201608 | I27: =C27*$I$5 -> 100804 | J27: =+D27+G27 -> 403216 | K27: =+E27+H27 -> 403216 | L27: =+F27+I27 -> 201608 | M27: =+J27+K27+L27 -> 1008040
A28: 7 | B28: Bogotá | C28: 17112 | D28: =C28*$D$5 -> 136896 | E28: =C28*$E$5 -> 136896 | F28: =C28*$F$5 -> 68448 | G28: =C28*$G$5 -> 136896 | H28: =C28*$H$5 -> 136896 | I28: =C28*$I$5 -> 68448 | J28: =+D28+G28 -> 273792 | K28: =+E28+H28 -> 273792 | L28: =+F28+I28 -> 136896 | M28: =+J28+K28+L28 -> 684480
B29: Boyacá | C29: 17517 | D29: =C29*$D$5 -> 140136 | E29: =C29*$E$5 -> 140136 | F29: =C29*$F$5 -> 70068 | G29: =C29*$G$5 -> 140136 | H29: =C29*$H$5 -> 140136 | I29: =C29*$I$5 -> 70068 | J29: =+D29+G29 -> 280272 | K29: =+E29+H29 -> 280272 | L29: =+F29+I29 -> 140136 | M29: =+J29+K29+L29 -> 700680
B30: Casanare | C30: 7980 | D30: =C30*$D$5 -> 63840 | E30: =C30*$E$5 -> 63840 | F30: =C30*$F$5 -> 31920 | G30: =C30*$G$5 -> 63840 | H30: =C30*$H$5 -> 63840 | I30: =C30*$I$5 -> 31920 | J30: =+D30+G30 -> 127680 | K30: =+E30+H30 -> 127680 | L30: =+F30+I30 -> 63840 | M30: =+J30+K30+L30 -> 319200
B31: Cundinamarca | C31: 25048 | D31: =C31*$D$5 -> 200384 | E31: =C31*$E$5 -> 200384 | F31: =C31*$F$5 -> 100192 | G31: =C31*$G$5 -> 200384 | H31: =C31*$H$5 -> 200384 | I31: =C31*$I$5 -> 100192 | J31: =+D31+G31 -> 400768 | K31: =+E31+H31 -> 400768 | L31: =+F31+I31 -> 200384 | M31: =+J31+K31+L31 -> 1001920
B32: Guaviare | C32: 2960 | D32: =C32*$D$5 -> 23680 | E32: =C32*$E$5 -> 23680 | F32: =C32*$F$5 -> 11840 | G32: =C32*$G$5 -> 23680 | H32: =C32*$H$5 -> 23680 | I32: =C32*$I$5 -> 11840 | J32: =+D32+G32 -> 47360 | K32: =+E32+H32 -> 47360 | L32: =+F32+I32 -> 23680 | M32: =+J32+K32+L32 -> 118400
B33: Meta | C33: 11869 | D33: =C33*$D$5 -> 94952 | E33: =C33*$E$5 -> 94952 | F33: =C33*$F$5 -> 47476 | G33: =C33*$G$5 -> 94952 | H33: =C33*$H$5 -> 94952 | I33: =C33*$I$5 -> 47476 | J33: =+D33+G33 -> 189904 | K33: =+E33+H33 -> 189904 | L33: =+F33+I33 -> 94952 | M33: =+J33+K33+L33 -> 474760
A34: 8 | B34: Amazonas | C34: 2298 | D34: =C34*$D$5 -> 18384 | E34: =C34*$E$5 -> 18384 | F34: =C34*$F$5 -> 9192 | G34: =C34*$G$5 -> 18384 | H34: =C34*$H$5 -> 18384 | I34: =C34*$I$5 -> 9192 | J34: =+D34+G34 -> 36768 | K34: =+E34+H34 -> 36768 | L34: =+F34+I34 -> 18384 | M34: =+J34+K34+L34 -> 91920
B35: Guainía | C35: 1444 | D35: =C35*$D$5 -> 11552 | E35: =C35*$E$5 -> 11552 | F35: =C35*$F$5 -> 5776 | G35: =C35*$G$5 -> 11552 | H35: =C35*$H$5 -> 11552 | I35: =C35*$I$5 -> 5776 | J35: =+D35+G35 -> 23104 | K35: =+E35+H35 -> 23104 | L35: =+F35+I35 -> 11552 | M35: =+J35+K35+L35 -> 57760
B36: Vaupés | C36: 902 | D36: =C36*$D$5 -> 7216 | E36: =C36*$E$5 -> 7216 | F36: =C36*$F$5 -> 3608 | G36: =C36*$G$5 -> 7216 | H36: =C36*$H$5 -> 7216 | I36: =C36*$I$5 -> 3608 | J36: =+D36+G36 -> 14432 | K36: =+E36+H36 -> 14432 | L36: =+F36+I36 -> 7216 | M36: =+J36+K36+L36 -> 36080
B37: Vichada | C37: 3004 | D37: =C37*$D$5 -> 24032 | E37: =C37*$E$5 -> 24032 | F37: =C37*$F$5 -> 12016 | G37: =C37*$G$5 -> 24032 | H37: =C37*$H$5 -> 24032 | I37: =C37*$I$5 -> 12016 | J37: =+D37+G37 -> 48064 | K37: =+E37+H37 -> 48064 | L37: =+F37+I37 -> 24032 | M37: =+J37+K37+L37 -> 120160
B38: Total Sede Nacional | C38: =SUM(C6:C37) -> 532209 | D38: =SUM(D6:D37) -> 4257672 | E38: =SUM(E6:E37) -> 4257672 | F38: =SUM(F6:F37) -> 2128836 | G38: =SUM(G6:G37) -> 4257672 | H38: =SUM(H6:H37) -> 4257672 | I38: =SUM(I6:I37) -> 2128836 | J38: =SUM(J6:J37) -> 8515344 | ... M38: =SUM(M6:M37) -> 21288360
B41: Ciclo | C41: =+C38*20 -> 10644180
B42: 2 ciclos | C42: =+C41*2 -> 21288360

Sheet CONSOLIDADO
A1: ZONA | B1: MACROS | C1: REGIONALES | G1: Galletas tipo cracker | H1: Galletas tipo sándwich sabor chocolate | I1: Galletas tipo wafer sabor mora | J1: Galletas tipo cracker | K1: Galletas tipo sándwich sabor fresa | L1: Galletas tipo wafer sabor chocolate | M1: Galletas tipo cracker | N1: Galletas tipo sándwich sabor vainilla | O1: Galletas tipo wafer sabor coco | P1: Galletas tipo cracker | Q1: Galletas tipo sándwich | R1: Galletas tipo wafer | S1: TOTAL GALLETAS
A2: 1 | B2: 1 | C2: Cesar | D2: 10633 | E2: 20980 | F2: 31613 | G2: =F2*#REF! -> #REF! | H2: =F2*#REF! -> #REF! | I2: =F2*#REF! -> #REF! | J2: =+F2*#REF! -> #REF! | K2: =+F2*#REF! -> #REF! | L2: =+F2*#REF! -> #REF! | M2: =+F2*#REF! -> #REF! | N2: =+F2*#REF! -> #REF! | O2: =+F2*#REF! -> #REF! | P2: =+'GALLETAS MACROS 1 - 8 (40)'!J6 -> 487232 | Q2: =+'GALLETAS MACROS 1 - 8 (40)'!K6 -> 487232 | R2: =+'GALLETAS MACROS 1 - 8 (40)'!L6 -> 243616 | S2: =SUM(P2:R2) -> 1218080
C3: Guajira | D3: 5821 | E3: 24296 | F3: 30117 | G3: =F3*#REF! -> #REF! | H3: =F3*#REF! -> #REF! | I3: =F3*#REF! -> #REF! | J3: =+F3*#REF! -> #REF! | K3: =+F3*#REF! -> #REF! | L3: =+F3*#REF! -> #REF! | M3: =+F3*#REF! -> #REF! | N3: =+F3*#REF! -> #REF! | O3: =+F3*#REF! -> #REF! | P3: =+'GALLETAS MACROS 1 - 8 (40)'!J7 -> 494080 | Q3: =+'GALLETAS MACROS 1 - 8 (40)'!K7 -> 494080 | R3: =+'GALLETAS MACROS 1 - 8 (40)'!L7 -> 247040 | S3: =P3+Q3+R3 -> 1235200
C4: Magdalena | D4: 4503 | E4: 28505 | F4: 36992 | G4: =F4*#REF! -> #REF! | H4: =F4*#REF! -> #REF! | I4: =F4*#REF! -> #REF! | J4: =+F4*#REF! -> #REF! | K4: =+F4*#REF! -> #REF! | L4: =+F4*#REF! -> #REF! | M4: =+F4*#REF! -> #REF! | N4: =+F4*#REF! -> #REF! | O4: =+F4*#REF! -> #REF! | P4: =+'GALLETAS MACROS 1 - 8 (40)'!J8 -> 398048 | Q4: =+'GALLETAS MACROS 1 - 8 (40)'!K8 -> 398048 | R4: =+'GALLETAS MACROS 1 - 8 (40)'!L8 -> 199024 | S4: =P4+Q4+R4 -> 995120
C5: TOTAL MACRO 1 | F5: =SUM(F2:F4) -> 98722 | P5: =SUM(P2:P4) -> 1379360 | Q5: =SUM(Q2:Q4) -> 1379360 | R5: =SUM(R2:R4) -> 689680 | S5: =SUM(S2:S4) -> 3448400
B6: 2 | C6: Atlántico | D6: 6458 | E6: 49270 | F6: 32748 | G6: =F6*#REF! -> #REF! | H6: =F6*#REF! -> #REF! | I6: =F6*#REF! -> #REF! | J6: =+F6*#REF! -> #REF! | K6: =+F6*#REF! -> #REF! | L6: =+F6*#REF! -> #REF! | M6: =+F6*#REF! -> #REF! | N6: =+F6*#REF! -> #REF! | O6: =+F6*#REF! -> #REF! | P6: =+'GALLETAS MACROS 1 - 8 (40)'!J9 -> 365664 | Q6: =+'GALLETAS MACROS 1 - 8 (40)'!K9 -> 365664 | R6: =+'GALLETAS MACROS 1 - 8 (40)'!L9 -> 182832 | S6: =P6+Q6+R6 -> 914160
C7: Bolivar | D7: 7189 | E7: 17638 | F7: 45636 | G7: =F7*#REF! -> #REF! | H7: =F7*#REF! -> #REF! | I7: =F7*#REF! -> #REF! | J7: =+F7*#REF! -> #REF! | K7: =+F7*#REF! -> #REF! | L7: =+F7*#REF! -> #REF! | M7: =+F7*#REF! -> #REF! | N7: =+F7*#REF! -> #REF! | O7: =+F7*#REF! -> #REF! | P7: =+'GALLETAS MACROS 1 - 8 (40)'!J10 -> 587888 | Q7: =+'GALLETAS MACROS 1 - 8 (40)'!K10 -> 587888 | R7: =+'GALLETAS MACROS 1 - 8 (40)'!L10 -> 293944 | S7: =P7+Q7+R7 -> 1469720
C8: San Andres | D8: 1432 | E8: 9985 | F8: 1292 | G8: =F8*#REF! -> #REF! | H8: =F8*#REF! -> #REF! | I8: =F8*#REF! -> #REF! | J8: =+F8*#REF! -> #REF! | K8: =+F8*#REF! -> #REF! | L8: =+F8*#REF! -> #REF! | M8: =+F8*#REF! -> #REF! | N8: =+F8*#REF! -> #REF! | O8: =+F8*#REF! -> #REF! | P8: =+'GALLETAS MACROS 1 - 8 (40)'!J11 -> 17472 | Q8: =+'GALLETAS MACROS 1 - 8 (40)'!K11 -> 17472 | R8: =+'GALLETAS MACROS 1 - 8 (40)'!L11 -> 8736 | S8: =P8+Q8+R8 -> 43680
C9: TOTAL MACRO 2 | P9: =SUM(P6:P8) -> 971024 | Q9: =SUM(Q6:Q8) -> 971024 | R9: =SUM(R6:R8) -> 485512 | S9: =SUM(S6:S8) -> 2427560
B10: TOTAL ZONA 1 | P10: =P5+P9 -> 2350384 | Q10: =Q5+Q9 -> 2350384 | R10: =R5+R9 -> 1175192 | S10: =S5+S9 -> 5875960
A11: 2 | B11: 3 | C11: Córdoba | D11: 4812 | E11: 8488 | F11: 44371 | G11: =F11*#REF! -> #REF! | H11: =F11*#REF! -> #REF! | I11: =F11*#REF! -> #REF! | J11: =+F11*#REF! -> #REF! | K11: =+F11*#REF! -> #REF! | L11: =+F11*#REF! -> #REF! | M11: =+F11*#REF! -> #REF! | N11: =+F11*#REF! -> #REF! | O11: =+F11*#REF! -> #REF! | P11: =+'GALLETAS MACROS 1 - 8 (40)'!J12 -> 663360 | Q11: =+'GALLETAS MACROS 1 - 8 (40)'!K12 -> 663360 | R11: =+'GALLETAS MACROS 1 - 8 (40)'!L12 -> 331680 | S11: =+'GALLETAS MACROS 1 - 8 (40)'!M12 -> 1658400
C12: Sucre | D12: 4793 | E12: 25154 | F12: 24827 | G12: =F12*#REF! -> #REF! | H12: =F12*#REF! -> #REF! | I12: =F12*#REF! -> #REF! | J12: =+F12*#REF! -> #REF! | K12: =+F12*#REF! -> #REF! | L12: =+F12*#REF! -> #REF! | M12: =+F12*#REF! -> #REF! | N12: =+F12*#REF! -> #REF! | O12: =+F12*#REF! -> #REF! | P12: =+'GALLETAS MACROS 1 - 8 (40)'!J13 -> 397392 | Q12: =+'GALLETAS MACROS 1 - 8 (40)'!K13 -> 397392 | R12: =+'GALLETAS MACROS 1 - 8 (40)'!L13 -> 198696 | S12: =+'GALLETAS MACROS 1 - 8 (40)'!M13 -> 993480
C13: TOTAL MACRO 3 | P13: =SUM(P11:P12) -> 1060752 | Q13: =SUM(Q11:Q12) -> 1060752 | R13: =SUM(R11:R12) -> 530376 | S13: =SUM(S11:S12) -> 2651880
B14: 6 | C14: Arauca | D14: 956 | E14: 19957 | F14: 7104 | G14: =F14*#REF! -> #REF! | H14: =F14*#REF! -> #REF! | I14: =F14*#REF! -> #REF! | J14: =+F14*#REF! -> #REF! | K14: =+F14*#REF! -> #REF! | L14: =+F14*#REF! -> #REF! | M14: =+F14*#REF! -> #REF! | N14: =+F14*#REF! -> #REF! | O14: =+F14*#REF! -> #REF! | P14: =+'GALLETAS MACROS 1 - 8 (40)'!J25 -> 109024 | Q14: =+'GALLETAS MACROS 1 - 8 (40)'!K25 -> 109024 | R14: =+'GALLETAS MACROS 1 - 8 (40)'!L25 -> 54512 | S14: =P14+Q14+R14 -> 272560
C15: Norte de Santander | D15: 2077 | E15: 5832 | F15: 24759 | G15: =F15*#REF! -> #REF! | H15: =F15*#REF! -> #REF! | I15: =F15*#REF! -> #REF! | J15: =+F15*#REF! -> #REF! | K15: =+F15*#REF! -> #REF! | L15: =+F15*#REF! -> #REF! | M15: =+F15*#REF! -> #REF! | N15: =+F15*#REF! -> #REF! | O15: =+F15*#REF! -> #REF! | P15: =+'GALLETAS MACROS 1 - 8 (40)'!J26 -> 391568 | Q15: =+'GALLETAS MACROS 1 - 8 (40)'!K26 -> 391568 | R15: =+'GALLETAS MACROS 1 - 8 (40)'!L26 -> 195784 | S15: =P15+Q15+R15 -> 978920
C16: Santander | D16: 0 | E16: 22326 | F16: 34787 | G16: =F16*#REF! -> #REF! | H16: =F16*#REF! -> #REF! | I16: =F16*#REF! -> #REF! | J16: =+F16*#REF! -> #REF! | K16: =+F16*#REF! -> #REF! | L16: =+F16*#REF! -> #REF! | M16: =+F16*#REF! -> #REF! | N16: =+F16*#REF! -> #REF! | O16: =+F16*#REF! -> #REF! | P16: =+'GALLETAS MACROS 1 - 8 (40)'!J27 -> 403216 | Q16: =+'GALLETAS MACROS 1 - 8 (40)'!K27 -> 403216 | R16: =+'GALLETAS MACROS 1 - 8 (40)'!L27 -> 201608 | S16: =P16+Q16+R16 -> 1008040
C17: TOTAL MACRO 6 | P17: =SUM(P14:P16) -> 903808 | Q17: =SUM(Q14:Q16) -> 903808 | R17: =SUM(R14:R16) -> 451904 | S17: =SUM(S14:S16) -> 2259520
B18: TOTAL ZONA 2 | P18: =P13+P17 -> 1964560 | Q18: =Q13+Q17 -> 1964560 | R18: =R13+R17 -> 982280 | S18: =S13+S17 -> 4911400
A19: 3 | B19: 4 | C19: Caldas | D19: 3352 | E19: 4005 | F19: 11315 | G19: =F19*#REF! -> #REF! | H19: =F19*#REF! -> #REF! | I19: =F19*#REF! -> #REF! | J19: =+F19*#REF! -> #REF! | K19: =+F19*#REF! -> #REF! | L19: =+F19*#REF! -> #REF! | M19: =+F19*#REF! -> #REF! | N19: =+F19*#REF! -> #REF! | O19: =+F19*#REF! -> #REF! | P19: =+'GALLETAS MACROS 1 - 8 (40)'!J14 -> 60704 | Q19: =+'GALLETAS MACROS 1 - 8 (40)'!K14 -> 60704 | R19: =+'GALLETAS MACROS 1 - 8 (40)'!L14 -> 30352 | S19: =P19+Q19+R19 -> 151760
C20: Caquetá | D20: 3570 | E20: 9597 | F20: 13300 | G20: =F20*#REF! -> #REF! | H20: =F20*#REF! -> #REF! | I20: =F20*#REF! -> #REF! | J20: =+F20*#REF! -> #REF! | K20: =+F20*#REF! -> #REF! | L20: =+F20*#REF! -> #REF! | M20: =+F20*#REF! -> #REF! | N20: =+F20*#REF! -> #REF! | O20: =+F20*#REF! -> #REF! | P20: =+'GALLETAS MACROS 1 - 8 (40)'!J15 -> 169072 | Q20: =+'GALLETAS MACROS 1 - 8 (40)'!K15 -> 169072 | R20: =+'GALLETAS MACROS 1 - 8 (40)'!L15 -> 84536 | S20: =P20+Q20+R20 -> 422680
C21: Choco | D21: 6857 | E21: 31949 | F21: 12612 | G21: =F21*#REF! -> #REF! | H21: =F21*#REF! -> #REF! | I21: =F21*#REF! -> #REF! | J21: =+F21*#REF! -> #REF! | K21: =+F21*#REF! -> #REF! | L21: =+F21*#REF! -> #REF! | M21: =+F21*#REF! -> #REF! | N21: =+F21*#REF! -> #REF! | O21: =+F21*#REF! -> #REF! | P21: =+'GALLETAS MACROS 1 - 8 (40)'!J16 -> 159584 | Q21: =+'GALLETAS MACROS 1 - 8 (40)'!K16 -> 159584 | R21: =+'GALLETAS MACROS 1 - 8 (40)'!L16 -> 79792 | S21: =P21+Q21+R21 -> 398960
C22: Huila | D22: 4624 | E22: 23476 | F22: 29947 | G22: =F22*#REF! -> #REF! | H22: =F22*#REF! -> #REF! | I22: =F22*#REF! -> #REF! | J22: =+F22*#REF! -> #REF! | K22: =+F22*#REF! -> #REF! | L22: =+F22*#REF! -> #REF! | M22: =+F22*#REF! -> #REF! | N22: =+F22*#REF! -> #REF! | O22: =+F22*#REF! -> #REF! | P22: =+'GALLETAS MACROS 1 - 8 (40)'!J17 -> 374320 | Q22: =+'GALLETAS MACROS 1 - 8 (40)'!K17 -> 374320 | R22: =+'GALLETAS MACROS 1 - 8 (40)'!L17 -> 187160 | S22: =P22+Q22+R22 -> 935800
C23: Quindío | D23: 3732 | E23: 31520 | F23: 7357 | G23: =F23*#REF! -> #REF! | H23: =F23*#REF! -> #REF! | I23: =F23*#REF! -> #REF! | J23: =+F23*#REF! -> #REF! | K23: =+F23*#REF! -> #REF! | L23: =+F23*#REF! -> #REF! | M23: =+F23*#REF! -> #REF! | N23: =+F23*#REF! -> #REF! | O23: =+F23*#REF! -> #REF! | P23: =+'GALLETAS MACROS 1 - 8 (40)'!J18 -> 60400 | Q23: =+'GALLETAS MACROS 1 - 8 (40)'!K18 -> 60400 | R23: =+'GALLETAS MACROS 1 - 8 (40)'!L18 -> 30200 | S23: =P23+Q23+R23 -> 151000
C24: Risaralda | D24: 276 | E24: 7532 | F24: 13269 | G24: =F24*#REF! -> #REF! | H24: =F24*#REF! -> #REF! | I24: =F24*#REF! -> #REF! | J24: =+F24*#REF! -> #REF! | K24: =+F24*#REF! -> #REF! | L24: =+F24*#REF! -> #REF! | M24: =+F24*#REF! -> #REF! | N24: =+F24*#REF! -> #REF! | O24: =+F24*#REF! -> #REF! | P24: =+'GALLETAS MACROS 1 - 8 (40)'!J19 -> 200944 | Q24: =+'GALLETAS MACROS 1 - 8 (40)'!K19 -> 200944 | R24: =+'GALLETAS MACROS 1 - 8 (40)'!L19 -> 100472 | S24: =P24+Q24+R24 -> 502360
C25: Tolima | D25: 12924 | E25: 30907 | F25: 38806 | G25: =F25*#REF! -> #REF! | H25: =F25*#REF! -> #REF! | I25: =F25*#REF! -> #REF! | J25: =+F25*#REF! -> #REF! | K25: =+F25*#REF! -> #REF! | L25: =+F25*#REF! -> #REF! | M25: =+F25*#REF! -> #REF! | N25: =+F25*#REF! -> #REF! | O25: =+F25*#REF! -> #REF! | P25: =+'GALLETAS MACROS 1 - 8 (40)'!J20 -> 309968 | Q25: =+'GALLETAS MACROS 1 - 8 (40)'!K20 -> 309968 | R25: =+'GALLETAS MACROS 1 - 8 (40)'!L20 -> 154984 | S25: =P25+Q25+R25 -> 774920
C26: TOTAL MACRO 4 | P26: =SUM(P19:P25) -> 1334992 | Q26: =SUM(Q19:Q25) -> 1334992 | R26: =SUM(R19:R25) -> 667496 | S26: =P26+Q26+R26 -> 3337480
B27: 5 | C27: Cauca | D27: 1800 | E27: 5304 | F27: 28100 | G27: =F27*#REF! -> #REF! | H27: =F27*#REF! -> #REF! | I27: =F27*#REF! -> #REF! | J27: =+F27*#REF! -> #REF! | K27: =+F27*#REF! -> #REF! | L27: =+F27*#REF! -> #REF! | M27: =+F27*#REF! -> #REF! | N27: =+F27*#REF! -> #REF! | O27: =+F27*#REF! -> #REF! | P27: =+'GALLETAS MACROS 1 - 8 (40)'!J21 -> 299424 | Q27: =+'GALLETAS MACROS 1 - 8 (40)'!K21 -> 299424 | R27: =+'GALLETAS MACROS 1 - 8 (40)'!L21 -> 149712 | S27: =P27+Q27+R27 -> 748560
C28: Nariño | D28: 8341 | E28: 16418 | F28: 35252 | G28: =F28*#REF! -> #REF! | H28: =F28*#REF! -> #REF! | I28: =F28*#REF! -> #REF! | J28: =+F28*#REF! -> #REF! | K28: =+F28*#REF! -> #REF! | L28: =+F28*#REF! -> #REF! | M28: =+F28*#REF! -> #REF! | N28: =+F28*#REF! -> #REF! | O28: =+F28*#REF! -> #REF! | P28: =+'GALLETAS MACROS 1 - 8 (40)'!J22 -> 388656 | Q28: =+'GALLETAS MACROS 1 - 8 (40)'!K22 -> 388656 | R28: =+'GALLETAS MACROS 1 - 8 (40)'!L22 -> 194328 | S28: =P28+Q28+R28 -> 971640
C29: Putumayo | D29: 5013 | E29: 29774 | F29: 7808 | G29: =F29*#REF! -> #REF! | H29: =F29*#REF! -> #REF! | I29: =F29*#REF! -> #REF! | J29: =+F29*#REF! -> #REF! | K29: =+F29*#REF! -> #REF! | L29: =+F29*#REF! -> #REF! | M29: =+F29*#REF! -> #REF! | N29: =+F29*#REF! -> #REF! | O29: =+F29*#REF! -> #REF! | P29: =+'GALLETAS MACROS 1 - 8 (40)'!J23 -> 116912 | Q29: =+'GALLETAS MACROS 1 - 8 (40)'!K23 -> 116912 | R29: =+'GALLETAS MACROS 1 - 8 (40)'!L23 -> 58456 | S29: =P29+Q29+R29 -> 292280
C30: Valle del Cauca | D30: 25948 | E30: 0 | F30: 43831 | G30: =F30*#REF! -> #REF! | H30: =F30*#REF! -> #REF! | I30: =F30*#REF! -> #REF! | J30: =+F30*#REF! -> #REF! | K30: =+F30*#REF! -> #REF! | L30: =+F30*#REF! -> #REF! | M30: =+F30*#REF! -> #REF! | N30: =+F30*#REF! -> #REF! | O30: =+F30*#REF! -> #REF! | P30: =+'GALLETAS MACROS 1 - 8 (40)'!J24 -> 618272 | Q30: =+'GALLETAS MACROS 1 - 8 (40)'!K24 -> 618272 | R30: =+'GALLETAS MACROS 1 - 8 (40)'!L24 -> 309136 | S30: =P30+Q30+R30 -> 1545680
C31: TOTAL MACRO 5 | P31: =SUM(P27:P30) -> 1423264 | Q31: =SUM(Q27:Q30) -> 1423264 | R31: =SUM(R27:R30) -> 711632 | S31: =SUM(S27:S30) -> 3558160
B32: TOTAL ZONA 3 | P32: =P31+P26 -> 2758256 | Q32: =Q31+Q26 -> 2758256 | R32: =R31+R26 -> 1379128 | S32: =S26+S31 -> 6895640
A33: 4 | B33: 7 | C33: Bogotá | D33: 2115 | E33: 803 | F33: 25948 | G33: 103792 | H33: 207584 | I33: 207584 | J33: 103792 | K33: 207584 | L33: 207584 | M33: 103792 | N33: 207584 | O33: 207584 | P33: =+'GALLETAS MACROS 1 - 8 (40)'!J28 -> 273792 | Q33: =+'GALLETAS MACROS 1 - 8 (40)'!K28 -> 273792 | R33: =+'GALLETAS MACROS 1 - 8 (40)'!L28 -> 136896 | S33: =+P33+Q33+R33 -> 684480
C34: Boyacá | D34: 4561 | E34: 8861 | F34: 20913 | G34: 83652 | H34: 167304 | I34: 167304 | J34: 83652 | K34: 167304 | L34: 167304 | M34: 83652 | N34: 167304 | O34: 167304 | P34: =+'GALLETAS MACROS 1 - 8 (40)'!J29 -> 280272 | Q34: =+'GALLETAS MACROS 1 - 8 (40)'!K29 -> 280272 | R34: =+'GALLETAS MACROS 1 - 8 (40)'!L29 -> 140136 | S34: =+P34+Q34+R34 -> 700680
C35: Casanare | D35: 938 | E35: 1292 | F35: 7909 | G35: 31636 | H35: 63272 | I35: 63272 | J35: 31636 | K35: 63272 | L35: 63272 | M35: 31636 | N35: 63272 | O35: 63272 | P35: =+'GALLETAS MACROS 1 - 8 (40)'!J30 -> 127680 | Q35: =+'GALLETAS MACROS 1 - 8 (40)'!K30 -> 127680 | R35: =+'GALLETAS MACROS 1 - 8 (40)'!L30 -> 63840 | S35: =+P35+Q35+R35 -> 319200
C36: Cundinamarca | D36: 765 | E36: 379 | F36: 22326 | G36: 89304 | H36: 178608 | I36: 178608 | J36: 89304 | K36: 178608 | L36: 178608 | M36: 89304 | N36: 178608 | O36: 178608 | P36: =+'GALLETAS MACROS 1 - 8 (40)'!J31 -> 400768 | Q36: =+'GALLETAS MACROS 1 - 8 (40)'!K31 -> 400768 | R36: =+'GALLETAS MACROS 1 - 8 (40)'!L31 -> 200384 | S36: =+P36+Q36+R36 -> 1001920
C37: Guaviare | D37: 598 | E37: 304 | F37: 2918 | G37: 11672 | H37: 23344 | I37: 23344 | J37: 11672 | K37: 23344 | L37: 23344 | M37: 11672 | N37: 23344 | O37: 23344 | P37: =+'GALLETAS MACROS 1 - 8 (40)'!J32 -> 47360 | Q37: =+'GALLETAS MACROS 1 - 8 (40)'!K32 -> 47360 | R37: =+'GALLETAS MACROS 1 - 8 (40)'!L32 -> 23680 | S37: =+P37+Q37+R37 -> 118400
C38: Meta | D38: 528 | E38: 2056 | F38: 13422 | G38: 53688 | H38: 107376 | I38: 107376 | J38: 53688 | K38: 107376 | L38: 107376 | M38: 53688 | N38: 107376 | O38: 107376 | P38: =+'GALLETAS MACROS 1 - 8 (40)'!J33 -> 189904 | Q38: =+'GALLETAS MACROS 1 - 8 (40)'!K33 -> 189904 | R38: =+'GALLETAS MACROS 1 - 8 (40)'!L33 -> 94952 | S38: =+P38+Q38+R38 -> 474760
C39: TOTAL MACRO 7 | P39: =SUM(P33:P38) -> 1319776 | Q39: =SUM(Q33:Q38) -> 1319776 | R39: =SUM(R33:R38) -> 659888 | S39: =+P39+Q39+R39 -> 3299440
B40: 8 | C40: Amazonas | P40: =+'GALLETAS MACROS 1 - 8 (40)'!J34 -> 36768 | Q40: =+'GALLETAS MACROS 1 - 8 (40)'!K34 -> 36768 | R40: =+'GALLETAS MACROS 1 - 8 (40)'!L34 -> 18384 | S40: =+P40+Q40+R40 -> 91920
...

Sheet MENÚ POR CICLO 40 DIAS
A3: PRODUCTO GALLETAS | B3: CICLO 1 -2014
B4: FRECUENCIA 20 DÍAS
A5: Galletas tipo cracker | B5: 8
A6: Galletas tipo sándwich sabor Mora | B6: 8
A7: Galletas tipo wafer sabor Vainilla | B7: 4
A8: TOTAL DE GALLETAS POR CICLO | B8: 20
A10: PRODUCTO GALLETAS | B10: CICLO 2 -2014
B11: FRECUENCIA 20 DÍAS
A12: Galletas tipo cracker | B12: 8
A13: Galletas tipo sándwich sabor Fresa | B13: 8
A14: Galletas tipo wafer sabor Chocolate | B14: 4
A15: TOTAL DE GALLETAS POR CICLO | B15: 20
A20: Galletas tipo sándwich sabor Vainilla | B20: ciclo 1 y 5
A21: Galletas tipo sándwich sabor Chocolate | B21: ciclo 2 y 6
A22: Galletas tipo sándwich sabor Mora | B22: ciclo 3 y 7
A23: Galletas tipo sándwich sabor Fresa | B23: ciclo 4 y 8
A24: Galletas tipo sándwich sabor Vainilla | B24: ciclo 9
A26: Galletas tipo wafer sabor Coco | B26: ciclo 1 y 5
A27: Galletas tipo wafer sabor Fresa | B27: ciclo 2 y 6
A28: Galletas tipo wafer sabor Vainilla | B28: ciclo 3 y 7
A29: Galletas tipo wafer sabor Chocolate | B29: ciclo 4 y 8
A30: Galletas tipo wafer sabor Coco | B30: ciclo 9
