Workbook

Sheet GALLETAS MACROS 1 - 8 (200)
A1: MACRO | B1: REGIONALES | C1: BENEFICIARIOS TIPO 2 | D1: VIGENCIA 2014
D2: CICLO 1 | G2: CICLO 2 | J2: CICLO 3 | M2: CICLO 4 | P2: CICLO 5 | S2: CICLO 6 | V2: CICLO 7 | Y2: CICLO 8 | AB2: CICLO 9 | AE2: CICLO 10 | AH2: TOTAL 10 CICLOS
D3: Galletas tipo cracker | E3: Galletas tipo sándwich sabor mora | F3: Galletas tipo wafer sabor Chocolate. | G3: Galletas tipo cracker | H3: Galletas tipo sándwich sabor fresa | I3: Galletas tipo wafer sabor Vainilla | J3: Galletas tipo cracker | K3: Galletas tipo sándwich sabor chocolate | L3: Galletas tipo wafer sabor coco | M3: Galletas tipo cracker | N3: Galletas tipo sándwich sabor mora | O3: Galletas tipo wafer sabor fresa | P3: Galletas tipo cracker | Q3: Galletas tipo sándwich sabor Vainilla | R3: Galletas tipo wafer sabor chocolate | S3: Galletas tipo cracker | T3: Galletas tipo sándwich sabor Mora | U3: Galletas tipo wafer sabor coco | V3: Galletas tipo cracker | W3: Galletas tipo sándwich sabor fresa | X3: Galletas tipo wafer sabor Vainilla | Y3: Galletas tipo cracker | Z3: Galletas tipo sándwich sabor chocolate | AA3: Galletas tipo wafer sabor coco | AB3: Galletas tipo cracker | AC3: Galletas tipo sándwich sabor fresa | AD3: Galletas tipo wafer sabor chocolate | AE3: Galletas tipo cracker | AF3: Galletas tipo sándwich sabor vainilla | AG3: Galletas tipo wafer sabor fresa | AH3: Galletas tipo cracker | AI3: Galletas tipo sándwich | AJ3: Galletas tipo wafer | AK3: Total
D5: 8 | E5: 8 | F5: 4 | G5: 8 | H5: 8 | I5: 4 | J5: 8 | K5: 8 | L5: 4 | M5: 8 | N5: 8 | O5: 4 | P5: 8 | Q5: 8 | R5: 4 | S5: 8 | T5: 8 | U5: 4 | V5: 8 | W5: 8 | X5: 4 | Y5: 8 | Z5: 8 | AA5: 4 | AB5: 8 | AC5: 8 | AD5: 4 | AE5: 8 | AF5: 8 | AG5: 4 | AH5: 8 | AI5: 8 | AJ5: 4 | AK5: 200
A6: 1 | B6: Cesar | C6: 27300 | D6: =C6*$D$5 -> 218400 | E6: =C6*$E$5 -> 218400 | F6: =C6*$F$5 -> 109200 | G6: =C6*$G$5 -> 218400 | H6: =C6*$H$5 -> 218400 | I6: =C6*$I$5 -> 109200 | J6: =C6*$J$5 -> 218400 | K6: =C6*$K$5 -> 218400 | L6: =C6*$L$5 -> 109200 | M6: =C6*$M$5 -> 218400 | N6: =C6*$N$5 -> 218400 | O6: =C6*$O$5 -> 109200 | P6: =C6*$P$5 -> 218400 | Q6: =C6*$Q$5 -> 218400 | R6: =C6*$R$5 -> 109200 | S6: =C6*$S$5 -> 218400 | T6: =C6*$T$5 -> 218400 | U6: =C6*$U$5 -> 109200 | V6: =C6*$V$5 -> 218400 | W6: =C6*$W$5 -> 218400 | X6: =C6*$X$5 -> 109200 | Y6: =C6*$Y$5 -> 218400 | Z6: =C6*$Z$5 -> 218400 | AA6: =C6*$AA$5 -> 109200 | AB6: =C6*$AB$5 -> 218400 | AC6: =C6*$AC$5 -> 218400 | AD6: =C6*$AD$5 -> 109200 | AE6: =C6*$AE$5 -> 218400 | AF6: =C6*$AF$5 -> 218400 | AG6: =C6*$AG$5 -> 109200 | AH6: =D6+G6+J6+M6+P6+S6+V6+Y6+AB6+AE6 -> 2184000 | AI6: =E6+H6+K6+N6+Q6+T6+W6+Z6+AC6+AF6 -> 2184000 | AJ6: =F6+I6+L6+O6+R6+U6+X6+AA6+AD6+AG6 -> 1092000 | AK6: =AJ6+AI6+AH6 -> 5460000
B7: La Guajira | C7: 30880 | D7: =C7*$D$5 -> 247040 | E7: =C7*$E$5 -> 247040 | F7: =C7*$F$5 -> 123520 | G7: =C7*$G$5 -> 247040 | H7: =C7*$H$5 -> 247040 | I7: =C7*$I$5 -> 123520 | J7: =C7*$J$5 -> 247040 | K7: =C7*$K$5 -> 247040 | L7: =C7*$L$5 -> 123520 | M7: =C7*$M$5 -> 247040 | N7: =C7*$N$5 -> 247040 | O7: =C7*$O$5 -> 123520 | P7: =C7*$P$5 -> 247040 | Q7: =C7*$Q$5 -> 247040 | R7: =C7*$R$5 -> 123520 | S7: =C7*$S$5 -> 247040 | T7: =C7*$T$5 -> 247040 | U7: =C7*$U$5 -> 123520 | V7: =C7*$V$5 -> 247040 | W7: =C7*$W$5 -> 247040 | X7: =C7*$X$5 -> 123520 | Y7: =C7*$Y$5 -> 247040 | Z7: =C7*$Z$5 -> 247040 | AA7: =C7*$AA$5 -> 123520 | AB7: =C7*$AB$5 -> 247040 | AC7: =C7*$AC$5 -> 247040 | AD7: =C7*$AD$5 -> 123520 | AE7: =C7*$AE$5 -> 247040 | AF7: =C7*$AF$5 -> 247040 | AG7: =C7*$AG$5 -> 123520 | AH7: =D7+G7+J7+M7+P7+S7+V7+Y7+AB7+AE7 -> 2470400 | AI7: =E7+H7+K7+N7+Q7+T7+W7+Z7+AC7+AF7 -> 2470400 | AJ7: =F7+I7+L7+O7+R7+U7+X7+AA7+AD7+AG7 -> 1235200 | AK7: =AJ7+AI7+AH7 -> 6176000
B8: Magdalena | C8: 22283 | D8: =C8*$D$5 -> 178264 | E8: =C8*$E$5 -> 178264 | F8: =C8*$F$5 -> 89132 | G8: =C8*$G$5 -> 178264 | H8: =C8*$H$5 -> 178264 | I8: =C8*$I$5 -> 89132 | J8: =C8*$J$5 -> 178264 | K8: =C8*$K$5 -> 178264 | L8: =C8*$L$5 -> 89132 | M8: =C8*$M$5 -> 178264 | N8: =C8*$N$5 -> 178264 | O8: =C8*$O$5 -> 89132 | P8: =C8*$P$5 -> 178264 | Q8: =C8*$Q$5 -> 178264 | R8: =C8*$R$5 -> 89132 | S8: =C8*$S$5 -> 178264 | T8: =C8*$T$5 -> 178264 | U8: =C8*$U$5 -> 89132 | V8: =C8*$V$5 -> 178264 | W8: =C8*$W$5 -> 178264 | X8: =C8*$X$5 -> 89132 | Y8: =C8*$Y$5 -> 178264 | Z8: =C8*$Z$5 -> 178264 | AA8: =C8*$AA$5 -> 89132 | AB8: =C8*$AB$5 -> 178264 | AC8: =C8*$AC$5 -> 178264 | AD8: =C8*$AD$5 -> 89132 | AE8: =C8*$AE$5 -> 178264 | AF8: =C8*$AF$5 -> 178264 | AG8: =C8*$AG$5 -> 89132 | AH8: =D8+G8+J8+M8+P8+S8+V8+Y8+AB8+AE8 -> 1782640 | AI8: =E8+H8+K8+N8+Q8+T8+W8+Z8+AC8+AF8 -> 1782640 | AJ8: =F8+I8+L8+O8+R8+U8+X8+AA8+AD8+AG8 -> 891320 | AK8: =AJ8+AI8+AH8 -> 4456600
A9: 2 | B9: Atlántico | C9: 20100 | D9: =C9*$D$5 -> 160800 | E9: =C9*$E$5 -> 160800 | F9: =C9*$F$5 -> 80400 | G9: =C9*$G$5 -> 160800 | H9: =C9*$H$5 -> 160800 | I9: =C9*$I$5 -> 80400 | J9: =C9*$J$5 -> 160800 | K9: =C9*$K$5 -> 160800 | L9: =C9*$L$5 -> 80400 | M9: =C9*$M$5 -> 160800 | N9: =C9*$N$5 -> 160800 | O9: =C9*$O$5 -> 80400 | P9: =C9*$P$5 -> 160800 | Q9: =C9*$Q$5 -> 160800 | R9: =C9*$R$5 -> 80400 | S9: =C9*$S$5 -> 160800 | T9: =C9*$T$5 -> 160800 | U9: =C9*$U$5 -> 80400 | V9: =C9*$V$5 -> 160800 | W9: =C9*$W$5 -> 160800 | X9: =C9*$X$5 -> 80400 | Y9: =C9*$Y$5 -> 160800 | Z9: =C9*$Z$5 -> 160800 | AA9: =C9*$AA$5 -> 80400 | AB9: =C9*$AB$5 -> 160800 | AC9: =C9*$AC$5 -> 160800 | AD9: =C9*$AD$5 -> 80400 | AE9: =C9*$AE$5 -> 160800 | AF9: =C9*$AF$5 -> 160800 | AG9: =C9*$AG$5 -> 80400 | AH9: =D9+G9+J9+M9+P9+S9+V9+Y9+AB9+AE9 -> 1608000 | AI9: =E9+H9+K9+N9+Q9+T9+W9+Z9+AC9+AF9 -> 1608000 | AJ9: =F9+I9+L9+O9+R9+U9+X9+AA9+AD9+AG9 -> 804000 | AK9: =AJ9+AI9+AH9 -> 4020000
B10: Bolívar | C10: 33203 | D10: =C10*$D$5 -> 265624 | E10: =C10*$E$5 -> 265624 | F10: =C10*$F$5 -> 132812 | G10: =C10*$G$5 -> 265624 | H10: =C10*$H$5 -> 265624 | I10: =C10*$I$5 -> 132812 | J10: =C10*$J$5 -> 265624 | K10: =C10*$K$5 -> 265624 | L10: =C10*$L$5 -> 132812 | M10: =C10*$M$5 -> 265624 | N10: =C10*$N$5 -> 265624 | O10: =C10*$O$5 -> 132812 | P10: =C10*$P$5 -> 265624 | Q10: =C10*$Q$5 -> 265624 | R10: =C10*$R$5 -> 132812 | S10: =C10*$S$5 -> 265624 | T10: =C10*$T$5 -> 265624 | U10: =C10*$U$5 -> 132812 | V10: =C10*$V$5 -> 265624 | W10: =C10*$W$5 -> 265624 | X10: =C10*$X$5 -> 132812 | Y10: =C10*$Y$5 -> 265624 | Z10: =C10*$Z$5 -> 265624 | AA10: =C10*$AA$5 -> 132812 | AB10: =C10*$AB$5 -> 265624 | AC10: =C10*$AC$5 -> 265624 | AD10: =C10*$AD$5 -> 132812 | AE10: =C10*$AE$5 -> 265624 | AF10: =C10*$AF$5 -> 265624 | AG10: =C10*$AG$5 -> 132812 | AH10: =D10+G10+J10+M10+P10+S10+V10+Y10+AB10+AE10 -> 2656240 | AI10: =E10+H10+K10+N10+Q10+T10+W10+Z10+AC10+AF10 -> 2656240 | AJ10: =F10+I10+L10+O10+R10+U10+X10+AA10+AD10+AG10 -> 1328120 | AK10: =AJ10+AI10+AH10 -> 6640600
B11: San Andrés | C11: 1086 | D11: =C11*$D$5 -> 8688 | E11: =C11*$E$5 -> 8688 | F11: =C11*$F$5 -> 4344 | G11: =C11*$G$5 -> 8688 | H11: =C11*$H$5 -> 8688 | I11: =C11*$I$5 -> 4344 | J11: =C11*$J$5 -> 8688 | K11: =C11*$K$5 -> 8688 | L11: =C11*$L$5 -> 4344 | M11: =C11*$M$5 -> 8688 | N11: =C11*$N$5 -> 8688 | O11: =C11*$O$5 -> 4344 | P11: =C11*$P$5 -> 8688 | Q11: =C11*$Q$5 -> 8688 | R11: =C11*$R$5 -> 4344 | S11: =C11*$S$5 -> 8688 | T11: =C11*$T$5 -> 8688 | U11: =C11*$U$5 -> 4344 | V11: =C11*$V$5 -> 8688 | W11: =C11*$W$5 -> 8688 | X11: =C11*$X$5 -> 4344 | Y11: =C11*$Y$5 -> 8688 | Z11: =C11*$Z$5 -> 8688 | AA11: =C11*$AA$5 -> 4344 | AB11: =C11*$AB$5 -> 8688 | AC11: =C11*$AC$5 -> 8688 | AD11: =C11*$AD$5 -> 4344 | AE11: =C11*$AE$5 -> 8688 | AF11: =C11*$AF$5 -> 8688 | AG11: =C11*$AG$5 -> 4344 | AH11: =D11+G11+J11+M11+P11+S11+V11+Y11+AB11+AE11 -> 86880 | AI11: =E11+H11+K11+N11+Q11+T11+W11+Z11+AC11+AF11 -> 86880 | AJ11: =F11+I11+L11+O11+R11+U11+X11+AA11+AD11+AG11 -> 43440 | AK11: =AJ11+AI11+AH11 -> 217200
A12: 3 | B12: Córdoba | C12: 36335 | D12: =C12*$D$5 -> 290680 | E12: =C12*$E$5 -> 290680 | F12: =C12*$F$5 -> 145340 | G12: =C12*$G$5 -> 290680 | H12: =C12*$H$5 -> 290680 | I12: =C12*$I$5 -> 145340 | J12: =C12*$J$5 -> 290680 | K12: =C12*$K$5 -> 290680 | L12: =C12*$L$5 -> 145340 | M12: =C12*$M$5 -> 290680 | N12: =C12*$N$5 -> 290680 | O12: =C12*$O$5 -> 145340 | P12: =C12*$P$5 -> 290680 | Q12: =C12*$Q$5 -> 290680 | R12: =C12*$R$5 -> 145340 | S12: =C12*$S$5 -> 290680 | T12: =C12*$T$5 -> 290680 | U12: =C12*$U$5 -> 145340 | V12: =C12*$V$5 -> 290680 | W12: =C12*$W$5 -> 290680 | X12: =C12*$X$5 -> 145340 | Y12: =C12*$Y$5 -> 290680 | Z12: =C12*$Z$5 -> 290680 | AA12: =C12*$AA$5 -> 145340 | AB12: =C12*$AB$5 -> 290680 | AC12: =C12*$AC$5 -> 290680 | AD12: =C12*$AD$5 -> 145340 | AE12: =C12*$AE$5 -> 290680 | AF12: =C12*$AF$5 -> 290680 | AG12: =C12*$AG$5 -> 145340 | AH12: =D12+G12+J12+M12+P12+S12+V12+Y12+AB12+AE12 -> 2906800 | AI12: =E12+H12+K12+N12+Q12+T12+W12+Z12+AC12+AF12 -> 2906800 | AJ12: =F12+I12+L12+O12+R12+U12+X12+AA12+AD12+AG12 -> 1453400 | AK12: =AJ12+AI12+AH12 -> 7267000
B13: Sucre | C13: 22354 | D13: =C13*$D$5 -> 178832 | E13: =C13*$E$5 -> 178832 | F13: =C13*$F$5 -> 89416 | G13: =C13*$G$5 -> 178832 | H13: =C13*$H$5 -> 178832 | I13: =C13*$I$5 -> 89416 | J13: =C13*$J$5 -> 178832 | K13: =C13*$K$5 -> 178832 | L13: =C13*$L$5 -> 89416 | M13: =C13*$M$5 -> 178832 | N13: =C13*$N$5 -> 178832 | O13: =C13*$O$5 -> 89416 | P13: =C13*$P$5 -> 178832 | Q13: =C13*$Q$5 -> 178832 | R13: =C13*$R$5 -> 89416 | S13: =C13*$S$5 -> 178832 | T13: =C13*$T$5 -> 178832 | U13: =C13*$U$5 -> 89416 | V13: =C13*$V$5 -> 178832 | W13: =C13*$W$5 -> 178832 | X13: =C13*$X$5 -> 89416 | Y13: =C13*$Y$5 -> 178832 | Z13: =C13*$Z$5 -> 178832 | AA13: =C13*$AA$5 -> 89416 | AB13: =C13*$AB$5 -> 178832 | AC13: =C13*$AC$5 -> 178832 | AD13: =C13*$AD$5 -> 89416 | AE13: =C13*$AE$5 -> 178832 | AF13: =C13*$AF$5 -> 178832 | AG13: =C13*$AG$5 -> 89416 | AH13: =D13+G13+J13+M13+P13+S13+V13+Y13+AB13+AE13 -> 1788320 | AI13: =E13+H13+K13+N13+Q13+T13+W13+Z13+AC13+AF13 -> 1788320 | AJ13: =F13+I13+L13+O13+R13+U13+X13+AA13+AD13+AG13 -> 894160 | AK13: =AJ13+AI13+AH13 -> 4470800
A14: 4 | B14: Caldas | C14: 2963 | D14: =C14*$D$5 -> 23704 | E14: =C14*$E$5 -> 23704 | F14: =C14*$F$5 -> 11852 | G14: =C14*$G$5 -> 23704 | H14: =C14*$H$5 -> 23704 | I14: =C14*$I$5 -> 11852 | J14: =C14*$J$5 -> 23704 | K14: =C14*$K$5 -> 23704 | L14: =C14*$L$5 -> 11852 | M14: =C14*$M$5 -> 23704 | N14: =C14*$N$5 -> 23704 | O14: =C14*$O$5 -> 11852 | P14: =C14*$P$5 -> 23704 | Q14: =C14*$Q$5 -> 23704 | R14: =C14*$R$5 -> 11852 | S14: =C14*$S$5 -> 23704 | T14: =C14*$T$5 -> 23704 | U14: =C14*$U$5 -> 11852 | V14: =C14*$V$5 -> 23704 | W14: =C14*$W$5 -> 23704 | X14: =C14*$X$5 -> 11852 | Y14: =C14*$Y$5 -> 23704 | Z14: =C14*$Z$5 -> 23704 | AA14: =C14*$AA$5 -> 11852 | AB14: =C14*$AB$5 -> 23704 | AC14: =C14*$AC$5 -> 23704 | AD14: =C14*$AD$5 -> 11852 | AE14: =C14*$AE$5 -> 23704 | AF14: =C14*$AF$5 -> 23704 | AG14: =C14*$AG$5 -> 11852 | AH14: =D14+G14+J14+M14+P14+S14+V14+Y14+AB14+AE14 -> 237040 | AI14: =E14+H14+K14+N14+Q14+T14+W14+Z14+AC14+AF14 -> 237040 | AJ14: =F14+I14+L14+O14+R14+U14+X14+AA14+AD14+AG14 -> 118520 | AK14: =AJ14+AI14+AH14 -> 592600
B15: Caquetá | C15: 10851 | D15: =C15*$D$5 -> 86808 | E15: =C15*$E$5 -> 86808 | F15: =C15*$F$5 -> 43404 | G15: =C15*$G$5 -> 86808 | H15: =C15*$H$5 -> 86808 | I15: =C15*$I$5 -> 43404 | J15: =C15*$J$5 -> 86808 | K15: =C15*$K$5 -> 86808 | L15: =C15*$L$5 -> 43404 | M15: =C15*$M$5 -> 86808 | N15: =C15*$N$5 -> 86808 | O15: =C15*$O$5 -> 43404 | P15: =C15*$P$5 -> 86808 | Q15: =C15*$Q$5 -> 86808 | R15: =C15*$R$5 -> 43404 | S15: =C15*$S$5 -> 86808 | T15: =C15*$T$5 -> 86808 | U15: =C15*$U$5 -> 43404 | V15: =C15*$V$5 -> 86808 | W15: =C15*$W$5 -> 86808 | X15: =C15*$X$5 -> 43404 | Y15: =C15*$Y$5 -> 86808 | Z15: =C15*$Z$5 -> 86808 | AA15: =C15*$AA$5 -> 43404 | AB15: =C15*$AB$5 -> 86808 | AC15: =C15*$AC$5 -> 86808 | AD15: =C15*$AD$5 -> 43404 | AE15: =C15*$AE$5 -> 86808 | AF15: =C15*$AF$5 -> 86808 | AG15: =C15*$AG$5 -> 43404 | AH15: =D15+G15+J15+M15+P15+S15+V15+Y15+AB15+AE15 -> 868080 | AI15: =E15+H15+K15+N15+Q15+T15+W15+Z15+AC15+AF15 -> 868080 | AJ15: =F15+I15+L15+O15+R15+U15+X15+AA15+AD15+AG15 -> 434040 | AK15: =AJ15+AI15+AH15 -> 2170200
B16: Chocó | C16: 4109 | D16: =C16*$D$5 -> 32872 | E16: =C16*$E$5 -> 32872 | F16: =C16*$F$5 -> 16436 | G16: =C16*$G$5 -> 32872 | H16: =C16*$H$5 -> 32872 | I16: =C16*$I$5 -> 16436 | J16: =C16*$J$5 -> 32872 | K16: =C16*$K$5 -> 32872 | L16: =C16*$L$5 -> 16436 | M16: =C16*$M$5 -> 32872 | N16: =C16*$N$5 -> 32872 | O16: =C16*$O$5 -> 16436 | P16: =C16*$P$5 -> 32872 | Q16: =C16*$Q$5 -> 32872 | R16: =C16*$R$5 -> 16436 | S16: =C16*$S$5 -> 32872 | T16: =C16*$T$5 -> 32872 | U16: =C16*$U$5 -> 16436 | V16: =C16*$V$5 -> 32872 | W16: =C16*$W$5 -> 32872 | X16: =C16*$X$5 -> 16436 | Y16: =C16*$Y$5 -> 32872 | Z16: =C16*$Z$5 -> 32872 | AA16: =C16*$AA$5 -> 16436 | AB16: =C16*$AB$5 -> 32872 | AC16: =C16*$AC$5 -> 32872 | AD16: =C16*$AD$5 -> 16436 | AE16: =C16*$AE$5 -> 32872 | AF16: =C16*$AF$5 -> 32872 | AG16: =C16*$AG$5 -> 16436 | AH16: =D16+G16+J16+M16+P16+S16+V16+Y16+AB16+AE16 -> 328720 | AI16: =E16+H16+K16+N16+Q16+T16+W16+Z16+AC16+AF16 -> 328720 | AJ16: =F16+I16+L16+O16+R16+U16+X16+AA16+AD16+AG16 -> 164360 | AK16: =AJ16+AI16+AH16 -> 821800
B17: Huila | C17: 21055 | D17: =C17*$D$5 -> 168440 | E17: =C17*$E$5 -> 168440 | F17: =C17*$F$5 -> 84220 | G17: =C17*$G$5 -> 168440 | H17: =C17*$H$5 -> 168440 | I17: =C17*$I$5 -> 84220 | J17: =C17*$J$5 -> 168440 | K17: =C17*$K$5 -> 168440 | L17: =C17*$L$5 -> 84220 | M17: =C17*$M$5 -> 168440 | N17: =C17*$N$5 -> 168440 | O17: =C17*$O$5 -> 84220 | P17: =C17*$P$5 -> 168440 | Q17: =C17*$Q$5 -> 168440 | R17: =C17*$R$5 -> 84220 | S17: =C17*$S$5 -> 168440 | T17: =C17*$T$5 -> 168440 | U17: =C17*$U$5 -> 84220 | V17: =C17*$V$5 -> 168440 | W17: =C17*$W$5 -> 168440 | X17: =C17*$X$5 -> 84220 | Y17: =C17*$Y$5 -> 168440 | Z17: =C17*$Z$5 -> 168440 | AA17: =C17*$AA$5 -> 84220 | AB17: =C17*$AB$5 -> 168440 | AC17: =C17*$AC$5 -> 168440 | AD17: =C17*$AD$5 -> 84220 | AE17: =C17*$AE$5 -> 168440 | AF17: =C17*$AF$5 -> 168440 | AG17: =C17*$AG$5 -> 84220 | AH17: =D17+G17+J17+M17+P17+S17+V17+Y17+AB17+AE17 -> 1684400 | AI17: =E17+H17+K17+N17+Q17+T17+W17+Z17+AC17+AF17 -> 1684400 | AJ17: =F17+I17+L17+O17+R17+U17+X17+AA17+AD17+AG17 -> 842200 | AK17: =AJ17+AI17+AH17 -> 4211000
B18: Quindío | C18: 3398 | D18: =C18*$D$5 -> 27184 | E18: =C18*$E$5 -> 27184 | F18: =C18*$F$5 -> 13592 | G18: =C18*$G$5 -> 27184 | H18: =C18*$H$5 -> 27184 | I18: =C18*$I$5 -> 13592 | J18: =C18*$J$5 -> 27184 | K18: =C18*$K$5 -> 27184 | L18: =C18*$L$5 -> 13592 | M18: =C18*$M$5 -> 27184 | N18: =C18*$N$5 -> 27184 | O18: =C18*$O$5 -> 13592 | P18: =C18*$P$5 -> 27184 | Q18: =C18*$Q$5 -> 27184 | R18: =C18*$R$5 -> 13592 | S18: =C18*$S$5 -> 27184 | T18: =C18*$T$5 -> 27184 | U18: =C18*$U$5 -> 13592 | V18: =C18*$V$5 -> 27184 | W18: =C18*$W$5 -> 27184 | X18: =C18*$X$5 -> 13592 | Y18: =C18*$Y$5 -> 27184 | Z18: =C18*$Z$5 -> 27184 | AA18: =C18*$AA$5 -> 13592 | AB18: =C18*$AB$5 -> 27184 | AC18: =C18*$AC$5 -> 27184 | AD18: =C18*$AD$5 -> 13592 | AE18: =C18*$AE$5 -> 27184 | AF18: =C18*$AF$5 -> 27184 | AG18: =C18*$AG$5 -> 13592 | AH18: =D18+G18+J18+M18+P18+S18+V18+Y18+AB18+AE18 -> 271840 | AI18: =E18+H18+K18+N18+Q18+T18+W18+Z18+AC18+AF18 -> 271840 | AJ18: =F18+I18+L18+O18+R18+U18+X18+AA18+AD18+AG18 -> 135920 | AK18: =AJ18+AI18+AH18 -> 679600
B19: Risaralda | C19: 11291 | D19: =C19*$D$5 -> 90328 | E19: =C19*$E$5 -> 90328 | F19: =C19*$F$5 -> 45164 | G19: =C19*$G$5 -> 90328 | H19: =C19*$H$5 -> 90328 | I19: =C19*$I$5 -> 45164 | J19: =C19*$J$5 -> 90328 | K19: =C19*$K$5 -> 90328 | L19: =C19*$L$5 -> 45164 | M19: =C19*$M$5 -> 90328 | N19: =C19*$N$5 -> 90328 | O19: =C19*$O$5 -> 45164 | P19: =C19*$P$5 -> 90328 | Q19: =C19*$Q$5 -> 90328 | R19: =C19*$R$5 -> 45164 | S19: =C19*$S$5 -> 90328 | T19: =C19*$T$5 -> 90328 | U19: =C19*$U$5 -> 45164 | V19: =C19*$V$5 -> 90328 | W19: =C19*$W$5 -> 90328 | X19: =C19*$X$5 -> 45164 | Y19: =C19*$Y$5 -> 90328 | Z19: =C19*$Z$5 -> 90328 | AA19: =C19*$AA$5 -> 45164 | AB19: =C19*$AB$5 -> 90328 | AC19: =C19*$AC$5 -> 90328 | AD19: =C19*$AD$5 -> 45164 | AE19: =C19*$AE$5 -> 90328 | AF19: =C19*$AF$5 -> 90328 | AG19: =C19*$AG$5 -> 45164 | AH19: =D19+G19+J19+M19+P19+S19+V19+Y19+AB19+AE19 -> 903280 | AI19: =E19+H19+K19+N19+Q19+T19+W19+Z19+AC19+AF19 -> 903280 | AJ19: =F19+I19+L19+O19+R19+U19+X19+AA19+AD19+AG19 -> 451640 | AK19: =AJ19+AI19+AH19 -> 2258200
B20: Tolima | C20: 15974 | D20: =C20*$D$5 -> 127792 | E20: =C20*$E$5 -> 127792 | F20: =C20*$F$5 -> 63896 | G20: =C20*$G$5 -> 127792 | H20: =C20*$H$5 -> 127792 | I20: =C20*$I$5 -> 63896 | J20: =C20*$J$5 -> 127792 | K20: =C20*$K$5 -> 127792 | L20: =C20*$L$5 -> 63896 | M20: =C20*$M$5 -> 127792 | N20: =C20*$N$5 -> 127792 | O20: =C20*$O$5 -> 63896 | P20: =C20*$P$5 -> 127792 | Q20: =C20*$Q$5 -> 127792 | R20: =C20*$R$5 -> 63896 | S20: =C20*$S$5 -> 127792 | T20: =C20*$T$5 -> 127792 | U20: =C20*$U$5 -> 63896 | V20: =C20*$V$5 -> 127792 | W20: =C20*$W$5 -> 127792 | X20: =C20*$X$5 -> 63896 | Y20: =C20*$Y$5 -> 127792 | Z20: =C20*$Z$5 -> 127792 | AA20: =C20*$AA$5 -> 63896 | AB20: =C20*$AB$5 -> 127792 | AC20: =C20*$AC$5 -> 127792 | AD20: =C20*$AD$5 -> 63896 | AE20: =C20*$AE$5 -> 127792 | AF20: =C20*$AF$5 -> 127792 | AG20: =C20*$AG$5 -> 63896 | AH20: =D20+G20+J20+M20+P20+S20+V20+Y20+AB20+AE20 -> 1277920 | AI20: =E20+H20+K20+N20+Q20+T20+W20+Z20+AC20+AF20 -> 1277920 | AJ20: =F20+I20+L20+O20+R20+U20+X20+AA20+AD20+AG20 -> 638960 | AK20: =AJ20+AI20+AH20 -> 3194800
A21: 5 | B21: Cauca | C21: 12982 | D21: =C21*$D$5 -> 103856 | E21: =C21*$E$5 -> 103856 | F21: =C21*$F$5 -> 51928 | G21: =C21*$G$5 -> 103856 | H21: =C21*$H$5 -> 103856 | I21: =C21*$I$5 -> 51928 | J21: =C21*$J$5 -> 103856 | K21: =C21*$K$5 -> 103856 | L21: =C21*$L$5 -> 51928 | M21: =C21*$M$5 -> 103856 | N21: =C21*$N$5 -> 103856 | O21: =C21*$O$5 -> 51928 | P21: =C21*$P$5 -> 103856 | Q21: =C21*$Q$5 -> 103856 | R21: =C21*$R$5 -> 51928 | S21: =C21*$S$5 -> 103856 | T21: =C21*$T$5 -> 103856 | U21: =C21*$U$5 -> 51928 | V21: =C21*$V$5 -> 103856 | W21: =C21*$W$5 -> 103856 | X21: =C21*$X$5 -> 51928 | Y21: =C21*$Y$5 -> 103856 | Z21: =C21*$Z$5 -> 103856 | AA21: =C21*$AA$5 -> 51928 | AB21: =C21*$AB$5 -> 103856 | AC21: =C21*$AC$5 -> 103856 | AD21: =C21*$AD$5 -> 51928 | AE21: =C21*$AE$5 -> 103856 | AF21: =C21*$AF$5 -> 103856 | AG21: =C21*$AG$5 -> 51928 | AH21: =D21+G21+J21+M21+P21+S21+V21+Y21+AB21+AE21 -> 1038560 | AI21: =E21+H21+K21+N21+Q21+T21+W21+Z21+AC21+AF21 -> 1038560 | AJ21: =F21+I21+L21+O21+R21+U21+X21+AA21+AD21+AG21 -> 519280 | AK21: =AJ21+AI21+AH21 -> 2596400
B22: Nariño | C22: 22024 | D22: =C22*$D$5 -> 176192 | E22: =C22*$E$5 -> 176192 | F22: =C22*$F$5 -> 88096 | G22: =C22*$G$5 -> 176192 | H22: =C22*$H$5 -> 176192 | I22: =C22*$I$5 -> 88096 | J22: =C22*$J$5 -> 176192 | K22: =C22*$K$5 -> 176192 | L22: =C22*$L$5 -> 88096 | M22: =C22*$M$5 -> 176192 | N22: =C22*$N$5 -> 176192 | O22: =C22*$O$5 -> 88096 | P22: =C22*$P$5 -> 176192 | Q22: =C22*$Q$5 -> 176192 | R22: =C22*$R$5 -> 88096 | S22: =C22*$S$5 -> 176192 | T22: =C22*$T$5 -> 176192 | U22: =C22*$U$5 -> 88096 | V22: =C22*$V$5 -> 176192 | W22: =C22*$W$5 -> 176192 | X22: =C22*$X$5 -> 88096 | Y22: =C22*$Y$5 -> 176192 | Z22: =C22*$Z$5 -> 176192 | AA22: =C22*$AA$5 -> 88096 | AB22: =C22*$AB$5 -> 176192 | AC22: =C22*$AC$5 -> 176192 | AD22: =C22*$AD$5 -> 88096 | AE22: =C22*$AE$5 -> 176192 | AF22: =C22*$AF$5 -> 176192 | AG22: =C22*$AG$5 -> 88096 | AH22: =D22+G22+J22+M22+P22+S22+V22+Y22+AB22+AE22 -> 1761920 | AI22: =E22+H22+K22+N22+Q22+T22+W22+Z22+AC22+AF22 -> 1761920 | AJ22: =F22+I22+L22+O22+R22+U22+X22+AA22+AD22+AG22 -> 880960 | AK22: =AJ22+AI22+AH22 -> 4404800
B23: Putumayo | C23: 6674 | D23: =C23*$D$5 -> 53392 | E23: =C23*$E$5 -> 53392 | F23: =C23*$F$5 -> 26696 | G23: =C23*$G$5 -> 53392 | H23: =C23*$H$5 -> 53392 | I23: =C23*$I$5 -> 26696 | J23: =C23*$J$5 -> 53392 | K23: =C23*$K$5 -> 53392 | L23: =C23*$L$5 -> 26696 | M23: =C23*$M$5 -> 53392 | N23: =C23*$N$5 -> 53392 | O23: =C23*$O$5 -> 26696 | P23: =C23*$P$5 -> 53392 | Q23: =C23*$Q$5 -> 53392 | R23: =C23*$R$5 -> 26696 | S23: =C23*$S$5 -> 53392 | T23: =C23*$T$5 -> 53392 | U23: =C23*$U$5 -> 26696 | V23: =C23*$V$5 -> 53392 | W23: =C23*$W$5 -> 53392 | X23: =C23*$X$5 -> 26696 | Y23: =C23*$Y$5 -> 53392 | Z23: =C23*$Z$5 -> 53392 | AA23: =C23*$AA$5 -> 26696 | AB23: =C23*$AB$5 -> 53392 | AC23: =C23*$AC$5 -> 53392 | AD23: =C23*$AD$5 -> 26696 | AE23: =C23*$AE$5 -> 53392 | AF23: =C23*$AF$5 -> 53392 | AG23: =C23*$AG$5 -> 26696 | AH23: =D23+G23+J23+M23+P23+S23+V23+Y23+AB23+AE23 -> 533920 | AI23: =E23+H23+K23+N23+Q23+T23+W23+Z23+AC23+AF23 -> 533920 | AJ23: =F23+I23+L23+O23+R23+U23+X23+AA23+AD23+AG23 -> 266960 | AK23: =AJ23+AI23+AH23 -> 1334800
B24: Valle del Cauca | C24: 34500 | D24: =C24*$D$5 -> 276000 | E24: =C24*$E$5 -> 276000 | F24: =C24*$F$5 -> 138000 | G24: =C24*$G$5 -> 276000 | H24: =C24*$H$5 -> 276000 | I24: =C24*$I$5 -> 138000 | J24: =C24*$J$5 -> 276000 | K24: =C24*$K$5 -> 276000 | L24: =C24*$L$5 -> 138000 | M24: =C24*$M$5 -> 276000 | N24: =C24*$N$5 -> 276000 | O24: =C24*$O$5 -> 138000 | P24: =C24*$P$5 -> 276000 | Q24: =C24*$Q$5 -> 276000 | R24: =C24*$R$5 -> 138000 | S24: =C24*$S$5 -> 276000 | T24: =C24*$T$5 -> 276000 | U24: =C24*$U$5 -> 138000 | V24: =C24*$V$5 -> 276000 | W24: =C24*$W$5 -> 276000 | X24: =C24*$X$5 -> 138000 | Y24: =C24*$Y$5 -> 276000 | Z24: =C24*$Z$5 -> 276000 | AA24: =C24*$AA$5 -> 138000 | AB24: =C24*$AB$5 -> 276000 | AC24: =C24*$AC$5 -> 276000 | AD24: =C24*$AD$5 -> 138000 | AE24: =C24*$AE$5 -> 276000 | AF24: =C24*$AF$5 -> 276000 | AG24: =C24*$AG$5 -> 138000 | AH24: =D24+G24+J24+M24+P24+S24+V24+Y24+AB24+AE24 -> 2760000 | AI24: =E24+H24+K24+N24+Q24+T24+W24+Z24+AC24+AF24 -> 2760000 | AJ24: =F24+I24+L24+O24+R24+U24+X24+AA24+AD24+AG24 -> 1380000 | AK24: =AJ24+AI24+AH24 -> 6900000
A25: 6 | B25: Arauca | C25: 5052 | D25: =C25*$D$5 -> 40416 | E25: =C25*$E$5 -> 40416 | F25: =C25*$F$5 -> 20208 | G25: =C25*$G$5 -> 40416 | H25: =C25*$H$5 -> 40416 | I25: =C25*$I$5 -> 20208 | J25: =C25*$J$5 -> 40416 | K25: =C25*$K$5 -> 40416 | L25: =C25*$L$5 -> 20208 | M25: =C25*$M$5 -> 40416 | N25: =C25*$N$5 -> 40416 | O25: =C25*$O$5 -> 20208 | P25: =C25*$P$5 -> 40416 | Q25: =C25*$Q$5 -> 40416 | R25: =C25*$R$5 -> 20208 | S25: =C25*$S$5 -> 40416 | T25: =C25*$T$5 -> 40416 | U25: =C25*$U$5 -> 20208 | V25: =C25*$V$5 -> 40416 | W25: =C25*$W$5 -> 40416 | X25: =C25*$X$5 -> 20208 | Y25: =C25*$Y$5 -> 40416 | Z25: =C25*$Z$5 -> 40416 | AA25: =C25*$AA$5 -> 20208 | AB25: =C25*$AB$5 -> 40416 | AC25: =C25*$AC$5 -> 40416 | AD25: =C25*$AD$5 -> 20208 | AE25: =C25*$AE$5 -> 40416 | AF25: =C25*$AF$5 -> 40416 | AG25: =C25*$AG$5 -> 20208 | AH25: =D25+G25+J25+M25+P25+S25+V25+Y25+AB25+AE25 -> 404160 | AI25: =E25+H25+K25+N25+Q25+T25+W25+Z25+AC25+AF25 -> 404160 | AJ25: =F25+I25+L25+O25+R25+U25+X25+AA25+AD25+AG25 -> 202080 | AK25: =AJ25+AI25+AH25 -> 1010400
B26: Norte de Santander | C26: 22029 | D26: =C26*$D$5 -> 176232 | E26: =C26*$E$5 -> 176232 | F26: =C26*$F$5 -> 88116 | G26: =C26*$G$5 -> 176232 | H26: =C26*$H$5 -> 176232 | I26: =C26*$I$5 -> 88116 | J26: =C26*$J$5 -> 176232 | K26: =C26*$K$5 -> 176232 | L26: =C26*$L$5 -> 88116 | M26: =C26*$M$5 -> 176232 | N26: =C26*$N$5 -> 176232 | O26: =C26*$O$5 -> 88116 | P26: =C26*$P$5 -> 176232 | Q26: =C26*$Q$5 -> 176232 | R26: =C26*$R$5 -> 88116 | S26: =C26*$S$5 -> 176232 | T26: =C26*$T$5 -> 176232 | U26: =C26*$U$5 -> 88116 | V26: =C26*$V$5 -> 176232 | W26: =C26*$W$5 -> 176232 | X26: =C26*$X$5 -> 88116 | Y26: =C26*$Y$5 -> 176232 | Z26: =C26*$Z$5 -> 176232 | AA26: =C26*$AA$5 -> 88116 | AB26: =C26*$AB$5 -> 176232 | AC26: =C26*$AC$5 -> 176232 | AD26: =C26*$AD$5 -> 88116 | AE26: =C26*$AE$5 -> 176232 | AF26: =C26*$AF$5 -> 176232 | AG26: =C26*$AG$5 -> 88116 | AH26: =D26+G26+J26+M26+P26+S26+V26+Y26+AB26+AE26 -> 1762320 | AI26: =E26+H26+K26+N26+Q26+T26+W26+Z26+AC26+AF26 -> 1762320 | AJ26: =F26+I26+L26+O26+R26+U26+X26+AA26+AD26+AG26 -> 881160 | AK26: =AJ26+AI26+AH26 -> 4405800
B27: Santander | C27: 26056 | D27: =C27*$D$5 -> 208448 | E27: =C27*$E$5 -> 208448 | F27: =C27*$F$5 -> 104224 | G27: =C27*$G$5 -> 208448 | H27: =C27*$H$5 -> 208448 | I27: =C27*$I$5 -> 104224 | J27: =C27*$J$5 -> 208448 | K27: =C27*$K$5 -> 208448 | L27: =C27*$L$5 -> 104224 | M27: =C27*$M$5 -> 208448 | N27: =C27*$N$5 -> 208448 | O27: =C27*$O$5 -> 104224 | P27: =C27*$P$5 -> 208448 | Q27: =C27*$Q$5 -> 208448 | R27: =C27*$R$5 -> 104224 | S27: =C27*$S$5 -> 208448 | T27: =C27*$T$5 -> 208448 | U27: =C27*$U$5 -> 104224 | V27: =C27*$V$5 -> 208448 | W27: =C27*$W$5 -> 208448 | X27: =C27*$X$5 -> 104224 | Y27: =C27*$Y$5 -> 208448 | Z27: =C27*$Z$5 -> 208448 | AA27: =C27*$AA$5 -> 104224 | AB27: =C27*$AB$5 -> 208448 | AC27: =C27*$AC$5 -> 208448 | AD27: =C27*$AD$5 -> 104224 | AE27: =C27*$AE$5 -> 208448 | AF27: =C27*$AF$5 -> 208448 | AG27: =C27*$AG$5 -> 104224 | AH27: =D27+G27+J27+M27+P27+S27+V27+Y27+AB27+AE27 -> 2084480 | AI27: =E27+H27+K27+N27+Q27+T27+W27+Z27+AC27+AF27 -> 2084480 | AJ27: =F27+I27+L27+O27+R27+U27+X27+AA27+AD27+AG27 -> 1042240 | AK27: =AJ27+AI27+AH27 -> 5211200
A28: 7 | B28: Boyacá | C28: 15782 | D28: =C28*$D$5 -> 126256 | E28: =C28*$E$5 -> 126256 | F28: =C28*$F$5 -> 63128 | G28: =C28*$G$5 -> 126256 | H28: =C28*$H$5 -> 126256 | I28: =C28*$I$5 -> 63128 | J28: =C28*$J$5 -> 126256 | K28: =C28*$K$5 -> 126256 | L28: =C28*$L$5 -> 63128 | M28: =C28*$M$5 -> 126256 | N28: =C28*$N$5 -> 126256 | O28: =C28*$O$5 -> 63128 | P28: =C28*$P$5 -> 126256 | Q28: =C28*$Q$5 -> 126256 | R28: =C28*$R$5 -> 63128 | S28: =C28*$S$5 -> 126256 | T28: =C28*$T$5 -> 126256 | U28: =C28*$U$5 -> 63128 | V28: =C28*$V$5 -> 126256 | W28: =C28*$W$5 -> 126256 | X28: =C28*$X$5 -> 63128 | Y28: =C28*$Y$5 -> 126256 | Z28: =C28*$Z$5 -> 126256 | AA28: =C28*$AA$5 -> 63128 | AB28: =C28*$AB$5 -> 126256 | AC28: =C28*$AC$5 -> 126256 | AD28: =C28*$AD$5 -> 63128 | AE28: =C28*$AE$5 -> 126256 | AF28: =C28*$AF$5 -> 126256 | AG28: =C28*$AG$5 -> 63128 | AH28: =D28+G28+J28+M28+P28+S28+V28+Y28+AB28+AE28 -> 1262560 | AI28: =E28+H28+K28+N28+Q28+T28+W28+Z28+AC28+AF28 -> 1262560 | AJ28: =F28+I28+L28+O28+R28+U28+X28+AA28+AD28+AG28 -> 631280 | AK28: =AJ28+AI28+AH28 -> 3156400
B29: Casanare | C29: 7182 | D29: =C29*$D$5 -> 57456 | E29: =C29*$E$5 -> 57456 | F29: =C29*$F$5 -> 28728 | G29: =C29*$G$5 -> 57456 | H29: =C29*$H$5 -> 57456 | I29: =C29*$I$5 -> 28728 | J29: =C29*$J$5 -> 57456 | K29: =C29*$K$5 -> 57456 | L29: =C29*$L$5 -> 28728 | M29: =C29*$M$5 -> 57456 | N29: =C29*$N$5 -> 57456 | O29: =C29*$O$5 -> 28728 | P29: =C29*$P$5 -> 57456 | Q29: =C29*$Q$5 -> 57456 | R29: =C29*$R$5 -> 28728 | S29: =C29*$S$5 -> 57456 | T29: =C29*$T$5 -> 57456 | U29: =C29*$U$5 -> 28728 | V29: =C29*$V$5 -> 57456 | W29: =C29*$W$5 -> 57456 | X29: =C29*$X$5 -> 28728 | Y29: =C29*$Y$5 -> 57456 | Z29: =C29*$Z$5 -> 57456 | AA29: =C29*$AA$5 -> 28728 | AB29: =C29*$AB$5 -> 57456 | AC29: =C29*$AC$5 -> 57456 | AD29: =C29*$AD$5 -> 28728 | AE29: =C29*$AE$5 -> 57456 | AF29: =C29*$AF$5 -> 57456 | AG29: =C29*$AG$5 -> 28728 | AH29: =D29+G29+J29+M29+P29+S29+V29+Y29+AB29+AE29 -> 574560 | AI29: =E29+H29+K29+N29+Q29+T29+W29+Z29+AC29+AF29 -> 574560 | AJ29: =F29+I29+L29+O29+R29+U29+X29+AA29+AD29+AG29 -> 287280 | AK29: =AJ29+AI29+AH29 -> 1436400
B30: Cundinamarca | C30: 22444 | D30: =C30*$D$5 -> 179552 | E30: =C30*$E$5 -> 179552 | F30: =C30*$F$5 -> 89776 | G30: =C30*$G$5 -> 179552 | H30: =C30*$H$5 -> 179552 | I30: =C30*$I$5 -> 89776 | J30: =C30*$J$5 -> 179552 | K30: =C30*$K$5 -> 179552 | L30: =C30*$L$5 -> 89776 | M30: =C30*$M$5 -> 179552 | N30: =C30*$N$5 -> 179552 | O30: =C30*$O$5 -> 89776 | P30: =C30*$P$5 -> 179552 | Q30: =C30*$Q$5 -> 179552 | R30: =C30*$R$5 -> 89776 | S30: =C30*$S$5 -> 179552 | T30: =C30*$T$5 -> 179552 | U30: =C30*$U$5 -> 89776 | V30: =C30*$V$5 -> 179552 | W30: =C30*$W$5 -> 179552 | X30: =C30*$X$5 -> 89776 | Y30: =C30*$Y$5 -> 179552 | Z30: =C30*$Z$5 -> 179552 | AA30: =C30*$AA$5 -> 89776 | AB30: =C30*$AB$5 -> 179552 | AC30: =C30*$AC$5 -> 179552 | AD30: =C30*$AD$5 -> 89776 | AE30: =C30*$AE$5 -> 179552 | AF30: =C30*$AF$5 -> 179552 | AG30: =C30*$AG$5 -> 89776 | AH30: =D30+G30+J30+M30+P30+S30+V30+Y30+AB30+AE30 -> 1795520 | AI30: =E30+H30+K30+N30+Q30+T30+W30+Z30+AC30+AF30 -> 1795520 | AJ30: =F30+I30+L30+O30+R30+U30+X30+AA30+AD30+AG30 -> 897760 | AK30: =AJ30+AI30+AH30 -> 4488800
B31: Guaviare | C31: 2957 | D31: =C31*$D$5 -> 23656 | E31: =C31*$E$5 -> 23656 | F31: =C31*$F$5 -> 11828 | G31: =C31*$G$5 -> 23656 | H31: =C31*$H$5 -> 23656 | I31: =C31*$I$5 -> 11828 | J31: =C31*$J$5 -> 23656 | K31: =C31*$K$5 -> 23656 | L31: =C31*$L$5 -> 11828 | M31: =C31*$M$5 -> 23656 | N31: =C31*$N$5 -> 23656 | O31: =C31*$O$5 -> 11828 | P31: =C31*$P$5 -> 23656 | Q31: =C31*$Q$5 -> 23656 | R31: =C31*$R$5 -> 11828 | S31: =C31*$S$5 -> 23656 | T31: =C31*$T$5 -> 23656 | U31: =C31*$U$5 -> 11828 | V31: =C31*$V$5 -> 23656 | W31: =C31*$W$5 -> 23656 | X31: =C31*$X$5 -> 11828 | Y31: =C31*$Y$5 -> 23656 | Z31: =C31*$Z$5 -> 23656 | AA31: =C31*$AA$5 -> 11828 | AB31: =C31*$AB$5 -> 23656 | AC31: =C31*$AC$5 -> 23656 | AD31: =C31*$AD$5 -> 11828 | AE31: =C31*$AE$5 -> 23656 | AF31: =C31*$AF$5 -> 23656 | AG31: =C31*$AG$5 -> 11828 | AH31: =D31+G31+J31+M31+P31+S31+V31+Y31+AB31+AE31 -> 236560 | AI31: =E31+H31+K31+N31+Q31+T31+W31+Z31+AC31+AF31 -> 236560 | AJ31: =F31+I31+L31+O31+R31+U31+X31+AA31+AD31+AG31 -> 118280 | AK31: =AJ31+AI31+AH31 -> 591400
B32: Meta | C32: 10621 | D32: =C32*$D$5 -> 84968 | E32: =C32*$E$5 -> 84968 | F32: =C32*$F$5 -> 42484 | G32: =C32*$G$5 -> 84968 | H32: =C32*$H$5 -> 84968 | I32: =C32*$I$5 -> 42484 | J32: =C32*$J$5 -> 84968 | K32: =C32*$K$5 -> 84968 | L32: =C32*$L$5 -> 42484 | M32: =C32*$M$5 -> 84968 | N32: =C32*$N$5 -> 84968 | O32: =C32*$O$5 -> 42484 | P32: =C32*$P$5 -> 84968 | Q32: =C32*$Q$5 -> 84968 | R32: =C32*$R$5 -> 42484 | S32: =C32*$S$5 -> 84968 | T32: =C32*$T$5 -> 84968 | U32: =C32*$U$5 -> 42484 | V32: =C32*$V$5 -> 84968 | W32: =C32*$W$5 -> 84968 | X32: =C32*$X$5 -> 42484 | Y32: =C32*$Y$5 -> 84968 | Z32: =C32*$Z$5 -> 84968 | AA32: =C32*$AA$5 -> 42484 | AB32: =C32*$AB$5 -> 84968 | AC32: =C32*$AC$5 -> 84968 | AD32: =C32*$AD$5 -> 42484 | AE32: =C32*$AE$5 -> 84968 | AF32: =C32*$AF$5 -> 84968 | AG32: =C32*$AG$5 -> 42484 | AH32: =D32+G32+J32+M32+P32+S32+V32+Y32+AB32+AE32 -> 849680 | AI32: =E32+H32+K32+N32+Q32+T32+W32+Z32+AC32+AF32 -> 849680 | AJ32: =F32+I32+L32+O32+R32+U32+X32+AA32+AD32+AG32 -> 424840 | AK32: =AJ32+AI32+AH32 -> 2124200
A33: 8 | B33: Amazonas | C33: 2298 | D33: =C33*$D$5 -> 18384 | E33: =C33*$E$5 -> 18384 | F33: =C33*$F$5 -> 9192 | G33: =C33*$G$5 -> 18384 | H33: =C33*$H$5 -> 18384 | I33: =C33*$I$5 -> 9192 | J33: =C33*$J$5 -> 18384 | K33: =C33*$K$5 -> 18384 | L33: =C33*$L$5 -> 9192 | M33: =C33*$M$5 -> 18384 | N33: =C33*$N$5 -> 18384 | O33: =C33*$O$5 -> 9192 | P33: =C33*$P$5 -> 18384 | Q33: =C33*$Q$5 -> 18384 | R33: =C33*$R$5 -> 9192 | S33: =C33*$S$5 -> 18384 | T33: =C33*$T$5 -> 18384 | U33: =C33*$U$5 -> 9192 | V33: =C33*$V$5 -> 18384 | W33: =C33*$W$5 -> 18384 | X33: =C33*$X$5 -> 9192 | Y33: =C33*$Y$5 -> 18384 | Z33: =C33*$Z$5 -> 18384 | AA33: =C33*$AA$5 -> 9192 | AB33: =C33*$AB$5 -> 18384 | AC33: =C33*$AC$5 -> 18384 | AD33: =C33*$AD$5 -> 9192 | AE33: =C33*$AE$5 -> 18384 | AF33: =C33*$AF$5 -> 18384 | AG33: =C33*$AG$5 -> 9192 | AH33: =D33+G33+J33+M33+P33+S33+V33+Y33+AB33+AE33 -> 183840 | AI33: =E33+H33+K33+N33+Q33+T33+W33+Z33+AC33+AF33 -> 183840 | AJ33: =F33+I33+L33+O33+R33+U33+X33+AA33+AD33+AG33 -> 91920 | AK33: =AJ33+AI33+AH33 -> 459600
B34: Guainía | C34: 1575 | D34: =C34*$D$5 -> 12600 | E34: =C34*$E$5 -> 12600 | F34: =C34*$F$5 -> 6300 | G34: =C34*$G$5 -> 12600 | H34: =C34*$H$5 -> 12600 | I34: =C34*$I$5 -> 6300 | J34: =C34*$J$5 -> 12600 | K34: =C34*$K$5 -> 12600 | L34: =C34*$L$5 -> 6300 | M34: =C34*$M$5 -> 12600 | N34: =C34*$N$5 -> 12600 | O34: =C34*$O$5 -> 6300 | P34: =C34*$P$5 -> 12600 | Q34: =C34*$Q$5 -> 12600 | R34: =C34*$R$5 -> 6300 | S34: =C34*$S$5 -> 12600 | T34: =C34*$T$5 -> 12600 | U34: =C34*$U$5 -> 6300 | V34: =C34*$V$5 -> 12600 | W34: =C34*$W$5 -> 12600 | X34: =C34*$X$5 -> 6300 | Y34: =C34*$Y$5 -> 12600 | Z34: =C34*$Z$5 -> 12600 | AA34: =C34*$AA$5 -> 6300 | AB34: =C34*$AB$5 -> 12600 | AC34: =C34*$AC$5 -> 12600 | AD34: =C34*$AD$5 -> 6300 | AE34: =C34*$AE$5 -> 12600 | AF34: =C34*$AF$5 -> 12600 | AG34: =C34*$AG$5 -> 6300 | AH34: =D34+G34+J34+M34+P34+S34+V34+Y34+AB34+AE34 -> 126000 | AI34: =E34+H34+K34+N34+Q34+T34+W34+Z34+AC34+AF34 -> 126000 | AJ34: =F34+I34+L34+O34+R34+U34+X34+AA34+AD34+AG34 -> 63000 | AK34: =AJ34+AI34+AH34 -> 315000
B35: Vaupés | C35: 902 | D35: =C35*$D$5 -> 7216 | E35: =C35*$E$5 -> 7216 | F35: =C35*$F$5 -> 3608 | G35: =C35*$G$5 -> 7216 | H35: =C35*$H$5 -> 7216 | I35: =C35*$I$5 -> 3608 | J35: =C35*$J$5 -> 7216 | K35: =C35*$K$5 -> 7216 | L35: =C35*$L$5 -> 3608 | M35: =C35*$M$5 -> 7216 | N35: =C35*$N$5 -> 7216 | O35: =C35*$O$5 -> 3608 | P35: =C35*$P$5 -> 7216 | Q35: =C35*$Q$5 -> 7216 | R35: =C35*$R$5 -> 3608 | S35: =C35*$S$5 -> 7216 | T35: =C35*$T$5 -> 7216 | U35: =C35*$U$5 -> 3608 | V35: =C35*$V$5 -> 7216 | W35: =C35*$W$5 -> 7216 | X35: =C35*$X$5 -> 3608 | Y35: =C35*$Y$5 -> 7216 | Z35: =C35*$Z$5 -> 7216 | AA35: =C35*$AA$5 -> 3608 | AB35: =C35*$AB$5 -> 7216 | AC35: =C35*$AC$5 -> 7216 | AD35: =C35*$AD$5 -> 3608 | AE35: =C35*$AE$5 -> 7216 | AF35: =C35*$AF$5 -> 7216 | AG35: =C35*$AG$5 -> 3608 | AH35: =D35+G35+J35+M35+P35+S35+V35+Y35+AB35+AE35 -> 72160 | AI35: =E35+H35+K35+N35+Q35+T35+W35+Z35+AC35+AF35 -> 72160 | AJ35: =F35+I35+L35+O35+R35+U35+X35+AA35+AD35+AG35 -> 36080 | AK35: =AJ35+AI35+AH35 -> 180400
B36: Vichada | C36: 3015 | D36: =C36*$D$5 -> 24120 | E36: =C36*$E$5 -> 24120 | F36: =C36*$F$5 -> 12060 | G36: =C36*$G$5 -> 24120 | H36: =C36*$H$5 -> 24120 | I36: =C36*$I$5 -> 12060 | J36: =C36*$J$5 -> 24120 | K36: =C36*$K$5 -> 24120 | L36: =C36*$L$5 -> 12060 | M36: =C36*$M$5 -> 24120 | N36: =C36*$N$5 -> 24120 | O36: =C36*$O$5 -> 12060 | P36: =C36*$P$5 -> 24120 | Q36: =C36*$Q$5 -> 24120 | R36: =C36*$R$5 -> 12060 | S36: =C36*$S$5 -> 24120 | T36: =C36*$T$5 -> 24120 | U36: =C36*$U$5 -> 12060 | V36: =C36*$V$5 -> 24120 | W36: =C36*$W$5 -> 24120 | X36: =C36*$X$5 -> 12060 | Y36: =C36*$Y$5 -> 24120 | Z36: =C36*$Z$5 -> 24120 | AA36: =C36*$AA$5 -> 12060 | AB36: =C36*$AB$5 -> 24120 | AC36: =C36*$AC$5 -> 24120 | AD36: =C36*$AD$5 -> 12060 | AE36: =C36*$AE$5 -> 24120 | AF36: =C36*$AF$5 -> 24120 | AG36: =C36*$AG$5 -> 12060 | AH36: =D36+G36+J36+M36+P36+S36+V36+Y36+AB36+AE36 -> 241200 | AI36: =E36+H36+K36+N36+Q36+T36+W36+Z36+AC36+AF36 -> 241200 | AJ36: =F36+I36+L36+O36+R36+U36+X36+AA36+AD36+AG36 -> 120600 | AK36: =AJ36+AI36+AH36 -> 603000
B37: Total Sede Nacional | C37: =SUM(C6:C36) -> 459275 | D37: =C37*$D$5 -> 3674200 | E37: =C37*$E$5 -> 3674200 | F37: =C37*$F$5 -> 1837100 | G37: =C37*$G$5 -> 3674200 | H37: =C37*$H$5 -> 3674200 | I37: =C37*$I$5 -> 1837100 | J37: =C37*$J$5 -> 3674200 | K37: =C37*$K$5 -> 3674200 | L37: =C37*$L$5 -> 1837100 | M37: =C37*$M$5 -> 3674200 | N37: =C37*$N$5 -> 3674200 | O37: =C37*$O$5 -> 1837100 | P37: =SUM(P6:P36) -> 3674200 | Q37: =SUM(Q6:Q36) -> 3674200 | R37: =SUM(R6:R36) -> 1837100 | S37: =SUM(S6:S36) -> 3674200 | T37: =SUM(T6:T36) -> 3674200 | U37: =SUM(U6:U36) -> 1837100 | V37: =SUM(V6:V36) -> 3674200 | W37: =SUM(W6:W36) -> 3674200 | ... AG37: =SUM(AG6:AG36) -> 1837100 | AH37: =D37+G37+J37+M37+P37+S37+V37+Y37+AB37+AE37 -> 36742000 | AI37: =E37+H37+K37+N37+Q37+T37+W37+Z37+AC37+AF37 -> 36742000 | AJ37: =F37+I37+L37+O37+R37+U37+X37+AA37+AD37+AG37 -> 18371000 | AK37: =SUM(AK6:AK36) -> 91855000
D38: =D37+E37+F37 -> 9185500 | G38: =G37+H37+I37 -> 9185500 | J38: =J37+K37+L37 -> 9185500 | M38: =M37+N37+O37 -> 9185500 | P38: =+P37+Q37+R37 -> 9185500 | S38: =+S37+T37+U37 -> 9185500 | V38: =+V37+X37+W37 -> 9185500 | Y38: =+Y37+Z37+AA37 -> 9185500 | AB38: =+AB37+AC37+AD37 -> 9185500

Sheet CONSOLIDADO
A1: FT16 - CANTIDAD DE GALLETAS
A2: ZONA | B2: MACROS | C2: REGIONALES | D2: Galletas tipo cracker | E2: Galletas tipo sándwich | F2: Galletas tipo wafer | G2: TOTAL GALLETAS
A3: 1 | B3: 1 | C3: Cesar | D3: =+'GALLETAS MACROS 1 - 8 (200)'!AH6 -> 2184000 | E3: =+'GALLETAS MACROS 1 - 8 (200)'!AI6 -> 2184000 | F3: =+'GALLETAS MACROS 1 - 8 (200)'!AJ6 -> 1092000 | G3: =SUM(D3:F3) -> 5460000
C4: Guajira | D4: =+'GALLETAS MACROS 1 - 8 (200)'!AH7 -> 2470400 | E4: =+'GALLETAS MACROS 1 - 8 (200)'!AI7 -> 2470400 | F4: =+'GALLETAS MACROS 1 - 8 (200)'!AJ7 -> 1235200 | G4: =D4+E4+F4 -> 6176000
C5: Magdalena | D5: =+'GALLETAS MACROS 1 - 8 (200)'!AH8 -> 1782640 | E5: =+'GALLETAS MACROS 1 - 8 (200)'!AI8 -> 1782640 | F5: =+'GALLETAS MACROS 1 - 8 (200)'!AJ8 -> 891320 | G5: =D5+E5+F5 -> 4456600
C6: TOTAL MACRO 1 | D6: =SUM(D3:D5) -> 6437040 | E6: =SUM(E3:E5) -> 6437040 | F6: =SUM(F3:F5) -> 3218520 | G6: =SUM(G3:G5) -> 16092600
B7: 2 | C7: Atlántico | D7: =+'GALLETAS MACROS 1 - 8 (200)'!AH9 -> 1608000 | E7: =+'GALLETAS MACROS 1 - 8 (200)'!AI9 -> 1608000 | F7: =+'GALLETAS MACROS 1 - 8 (200)'!AJ9 -> 804000 | G7: =D7+E7+F7 -> 4020000
C8: Bolivar | D8: =+'GALLETAS MACROS 1 - 8 (200)'!AH10 -> 2656240 | E8: =+'GALLETAS MACROS 1 - 8 (200)'!AI10 -> 2656240 | F8: =+'GALLETAS MACROS 1 - 8 (200)'!AJ10 -> 1328120 | G8: =D8+E8+F8 -> 6640600
C9: San Andres | D9: =+'GALLETAS MACROS 1 - 8 (200)'!AH11 -> 86880 | E9: =+'GALLETAS MACROS 1 - 8 (200)'!AI11 -> 86880 | F9: =+'GALLETAS MACROS 1 - 8 (200)'!AJ11 -> 43440 | G9: =D9+E9+F9 -> 217200
C10: TOTAL MACRO 2 | D10: =SUM(D7:D9) -> 4351120 | E10: =SUM(E7:E9) -> 4351120 | F10: =SUM(F7:F9) -> 2175560 | G10: =SUM(G7:G9) -> 10877800
B11: TOTAL ZONA 1 | D11: =D6+D10 -> 10788160 | E11: =E6+E10 -> 10788160 | F11: =F6+F10 -> 5394080 | G11: =+G6+G10 -> 26970400
A12: 2 | B12: 3 | C12: Córdoba | D12: =+'GALLETAS MACROS 1 - 8 (200)'!AH12 -> 2906800 | E12: =+'GALLETAS MACROS 1 - 8 (200)'!AI12 -> 2906800 | F12: =+'GALLETAS MACROS 1 - 8 (200)'!AJ12 -> 1453400 | G12: =+'GALLETAS MACROS 1 - 8 (200)'!AK12 -> 7267000
C13: Sucre | D13: =+'GALLETAS MACROS 1 - 8 (200)'!AH13 -> 1788320 | E13: =+'GALLETAS MACROS 1 - 8 (200)'!AI13 -> 1788320 | F13: =+'GALLETAS MACROS 1 - 8 (200)'!AJ13 -> 894160 | G13: =+'GALLETAS MACROS 1 - 8 (200)'!AK13 -> 4470800
C14: TOTAL MACRO 3 | D14: =SUM(D12:D13) -> 4695120 | E14: =SUM(E12:E13) -> 4695120 | F14: =SUM(F12:F13) -> 2347560 | G14: =SUM(G12:G13) -> 11737800
B15: 6 | C15: Arauca | D15: =+'GALLETAS MACROS 1 - 8 (200)'!AH25 -> 404160 | E15: =+'GALLETAS MACROS 1 - 8 (200)'!AI25 -> 404160 | F15: =+'GALLETAS MACROS 1 - 8 (200)'!AJ25 -> 202080 | G15: =D15+E15+F15 -> 1010400
C16: Norte de Santander | D16: =+'GALLETAS MACROS 1 - 8 (200)'!AH26 -> 1762320 | E16: =+'GALLETAS MACROS 1 - 8 (200)'!AI26 -> 1762320 | F16: =+'GALLETAS MACROS 1 - 8 (200)'!AJ26 -> 881160 | G16: =D16+E16+F16 -> 4405800
C17: Santander | D17: =+'GALLETAS MACROS 1 - 8 (200)'!AH27 -> 2084480 | E17: =+'GALLETAS MACROS 1 - 8 (200)'!AI27 -> 2084480 | F17: =+'GALLETAS MACROS 1 - 8 (200)'!AJ27 -> 1042240 | G17: =D17+E17+F17 -> 5211200
C18: TOTAL MACRO 6 | D18: =SUM(D15:D17) -> 4250960 | E18: =SUM(E15:E17) -> 4250960 | F18: =SUM(F15:F17) -> 2125480 | G18: =SUM(G15:G17) -> 10627400
B19: TOTAL ZONA 2 | D19: =D14+D18 -> 8946080 | E19: =E14+E18 -> 8946080 | F19: =F14+F18 -> 4473040 | G19: =+G14+G18 -> 22365200
A20: 3 | B20: 4 | C20: Caldas | D20: =+'GALLETAS MACROS 1 - 8 (200)'!AH14 -> 237040 | E20: =+'GALLETAS MACROS 1 - 8 (200)'!AI14 -> 237040 | F20: =+'GALLETAS MACROS 1 - 8 (200)'!AJ14 -> 118520 | G20: =D20+E20+F20 -> 592600
C21: Caquetá | D21: =+'GALLETAS MACROS 1 - 8 (200)'!AH15 -> 868080 | E21: =+'GALLETAS MACROS 1 - 8 (200)'!AI15 -> 868080 | F21: =+'GALLETAS MACROS 1 - 8 (200)'!AJ15 -> 434040 | G21: =D21+E21+F21 -> 2170200
C22: Choco | D22: =+'GALLETAS MACROS 1 - 8 (200)'!AH16 -> 328720 | E22: =+'GALLETAS MACROS 1 - 8 (200)'!AI16 -> 328720 | F22: =+'GALLETAS MACROS 1 - 8 (200)'!AJ16 -> 164360 | G22: =D22+E22+F22 -> 821800
C23: Huila | D23: =+'GALLETAS MACROS 1 - 8 (200)'!AH17 -> 1684400 | E23: =+'GALLETAS MACROS 1 - 8 (200)'!AI17 -> 1684400 | F23: =+'GALLETAS MACROS 1 - 8 (200)'!AJ17 -> 842200 | G23: =D23+E23+F23 -> 4211000
C24: Quindío | D24: =+'GALLETAS MACROS 1 - 8 (200)'!AH18 -> 271840 | E24: =+'GALLETAS MACROS 1 - 8 (200)'!AI18 -> 271840 | F24: =+'GALLETAS MACROS 1 - 8 (200)'!AJ18 -> 135920 | G24: =D24+E24+F24 -> 679600
C25: Risaralda | D25: =+'GALLETAS MACROS 1 - 8 (200)'!AH19 -> 903280 | E25: =+'GALLETAS MACROS 1 - 8 (200)'!AI19 -> 903280 | F25: =+'GALLETAS MACROS 1 - 8 (200)'!AJ19 -> 451640 | G25: =D25+E25+F25 -> 2258200
C26: Tolima | D26: =+'GALLETAS MACROS 1 - 8 (200)'!AH20 -> 1277920 | E26: =+'GALLETAS MACROS 1 - 8 (200)'!AI20 -> 1277920 | F26: =+'GALLETAS MACROS 1 - 8 (200)'!AJ20 -> 638960 | G26: =D26+E26+F26 -> 3194800
C27: TOTAL MACRO 4 | D27: =SUM(D20:D26) -> 5571280 | E27: =SUM(E20:E26) -> 5571280 | F27: =SUM(F20:F26) -> 2785640 | G27: =D27+E27+F27 -> 13928200
B28: 5 | C28: Cauca | D28: =+'GALLETAS MACROS 1 - 8 (200)'!AH21 -> 1038560 | E28: =+'GALLETAS MACROS 1 - 8 (200)'!AI21 -> 1038560 | F28: =+'GALLETAS MACROS 1 - 8 (200)'!AJ21 -> 519280 | G28: =D28+E28+F28 -> 2596400
C29: Nariño | D29: =+'GALLETAS MACROS 1 - 8 (200)'!AH22 -> 1761920 | E29: =+'GALLETAS MACROS 1 - 8 (200)'!AI22 -> 1761920 | F29: =+'GALLETAS MACROS 1 - 8 (200)'!AJ22 -> 880960 | G29: =D29+E29+F29 -> 4404800
C30: Putumayo | D30: =+'GALLETAS MACROS 1 - 8 (200)'!AH23 -> 533920 | E30: =+'GALLETAS MACROS 1 - 8 (200)'!AI23 -> 533920 | F30: =+'GALLETAS MACROS 1 - 8 (200)'!AJ23 -> 266960 | G30: =D30+E30+F30 -> 1334800
C31: Valle del Cauca | D31: =+'GALLETAS MACROS 1 - 8 (200)'!AH24 -> 2760000 | E31: =+'GALLETAS MACROS 1 - 8 (200)'!AI24 -> 2760000 | F31: =+'GALLETAS MACROS 1 - 8 (200)'!AJ24 -> 1380000 | G31: =D31+E31+F31 -> 6900000
C32: TOTAL MACRO 5 | D32: =SUM(D28:D31) -> 6094400 | E32: =SUM(E28:E31) -> 6094400 | F32: =SUM(F28:F31) -> 3047200 | G32: =SUM(G28:G31) -> 15236000
B33: TOTAL ZONA 3 | D33: =D32+D27 -> 11665680 | E33: =E32+E27 -> 11665680 | F33: =F32+F27 -> 5832840 | G33: =+G32+G27 -> 29164200
A34: 4 | B34: 7 | C34: Boyacá | D34: =+'GALLETAS MACROS 1 - 8 (200)'!AH28 -> 1262560 | E34: =+'GALLETAS MACROS 1 - 8 (200)'!AI28 -> 1262560 | F34: =+'GALLETAS MACROS 1 - 8 (200)'!AJ28 -> 631280 | G34: =+D34+E34+F34 -> 3156400
C35: Casanare | D35: =+'GALLETAS MACROS 1 - 8 (200)'!AH29 -> 574560 | E35: =+'GALLETAS MACROS 1 - 8 (200)'!AI29 -> 574560 | F35: =+'GALLETAS MACROS 1 - 8 (200)'!AJ29 -> 287280 | G35: =+D35+E35+F35 -> 1436400
C36: Cundinamarca | D36: =+'GALLETAS MACROS 1 - 8 (200)'!AH30 -> 1795520 | E36: =+'GALLETAS MACROS 1 - 8 (200)'!AI30 -> 1795520 | F36: =+'GALLETAS MACROS 1 - 8 (200)'!AJ30 -> 897760 | G36: =+D36+E36+F36 -> 4488800
C37: Guaviare | D37: =+'GALLETAS MACROS 1 - 8 (200)'!AH31 -> 236560 | E37: =+'GALLETAS MACROS 1 - 8 (200)'!AI31 -> 236560 | F37: =+'GALLETAS MACROS 1 - 8 (200)'!AJ31 -> 118280 | G37: =+D37+E37+F37 -> 591400
C38: Meta | D38: =+'GALLETAS MACROS 1 - 8 (200)'!AH32 -> 849680 | E38: =+'GALLETAS MACROS 1 - 8 (200)'!AI32 -> 849680 | F38: =+'GALLETAS MACROS 1 - 8 (200)'!AJ32 -> 424840 | G38: =+D38+E38+F38 -> 2124200
C39: TOTAL MACRO 7 | D39: =SUM(D34:D38) -> 4718880 | E39: =SUM(E34:E38) -> 4718880 | F39: =SUM(F34:F38) -> 2359440 | G39: =+D39+E39+F39 -> 11797200
B40: 8 | C40: Amazonas | D40: =+'GALLETAS MACROS 1 - 8 (200)'!AH33 -> 183840 | E40: =+'GALLETAS MACROS 1 - 8 (200)'!AI33 -> 183840 | F40: =+'GALLETAS MACROS 1 - 8 (200)'!AJ33 -> 91920 | G40: =+D40+E40+F40 -> 459600
C41: Guainia | D41: =+'GALLETAS MACROS 1 - 8 (200)'!AH34 -> 126000 | E41: =+'GALLETAS MACROS 1 - 8 (200)'!AI34 -> 126000 | F41: =+'GALLETAS MACROS 1 - 8 (200)'!AJ34 -> 63000 | G41: =+D41+E41+F41 -> 315000
C42: Vaupes | D42: =+'GALLETAS MACROS 1 - 8 (200)'!AH35 -> 72160 | E42: =+'GALLETAS MACROS 1 - 8 (200)'!AI35 -> 72160 | F42: =+'GALLETAS MACROS 1 - 8 (200)'!AJ35 -> 36080 | G42: =+D42+E42+F42 -> 180400
C43: Vichada | D43: =+'GALLETAS MACROS 1 - 8 (200)'!AH36 -> 241200 | E43: =+'GALLETAS MACROS 1 - 8 (200)'!AI36 -> 241200 | F43: =+'GALLETAS MACROS 1 - 8 (200)'!AJ36 -> 120600 | G43: =+D43+E43+F43 -> 603000
C44: TOTAL MACRO 8 | D44: =SUM(D40:D43) -> 623200 | E44: =SUM(E40:E43) -> 623200 | F44: =SUM(F40:F43) -> 311600 | G44: =SUM(G40:G43) -> 1558000
B45: TOTAL ZONA 4 | D45: =D39+D44 -> 5342080 | E45: =E44+E39 -> 5342080 | F45: =F44+F39 -> 2671040 | G45: =+G39+G44 -> 13355200
D46: =D45+D33+D19+D11 -> 36742000 | E46: =E45+E33+E19+E11 -> 36742000 | F46: =F45+F33+F19+F11 -> 18371000 | G46: =+G11+G19+G33+G45 -> 91855000
B69: TOTAL ZONA 4 | D69: =+D27+D32 -> 11665680 | E69: =+E27+E32 -> 11665680 | F69: =+F27+F32 -> 5832840 | G69: =+G27+G32 -> 29164200
B71: Total Nacional | D71: =+#REF!+#REF!+#REF!+D69 -> #REF! | E71: =+#REF!+#REF!+#REF!+E69 -> #REF! | F71: =+#REF!+#REF!+#REF!+F69 -> #REF! | G71: =+#REF!+#REF!+#REF!+G69 -> #REF!
