Workbook
Name DepCZ: [1]Hoja2!$D$1:$D$265
Name LISTADO: Hoja2!$C$3:$C$8
Name Reg: [1]Hoja2!$A$2:$A$35

Sheet Ficha de Estructuración
A1: FICHA DE ESTRUCTURACIÓN DEL EVENTO
A2: 1. DESCRIPCIÓN GENERAL DEL EVENTO
B4: 1.1. Nombre del evento:
B8: 1.2. Objetivo:
B12: 1.3. Competencia(s) a mejorar:
B16: 1.3.1 Componente de Competencia
B18: 1.4. Contenido:
A22: 2. POBLACIÓN
B24: 2.1. Población objetivo:
L27: Misional | U27: De Apoyo
B29: 2.2. Proveedor / Facilitador: | N29: Nombre
N30: Cargo
D31: Externo | N31: Dependencia
D32: Interno
A34: 3. APECTOS METODOLÓGICOS
B36: 3.1. Metodología:
B38: 3.2. Duración en horas: | M38: 3.3. Total participantes: | AB38: 3.4. Horario:
A40: 4. APECTOS LOGÍSTICOS
B42: 4.1. Lugar:
B44: 4.2. Fecha de inicio: | V44: 4.3. Fecha de finalización:
B46: 4.4. Ayudas audiovisuales: | V46: Cantidad | AF46: Otros:
V47: Cantidad
V48: Cantidad
V49: Cantidad
B51: 4.5. Valor total: | V51: 4.6. Valor unitario: | AI51: =+H51/W38 -> #DIV/0!

Sheet Carta de compromiso
A1: CARTA DE COMPROMISO
B5: ,
B6: Ciudad y fecha
B8: Dr.
B9: Director(a) de Gestión Humana
B13: Con el fin de fortalecer mis competencias y habilidades para desempeñar las funciones inherentes a mi empleo, me comprometo a:
B15: 1. | C15: Asistir, cursar y aprobar el evento:
C16: programado por el Instituto Colombiano de Bienestar Familiar ICBF, dentro de su Plan Institucional de Capacitación, con el fin de mantener altos estándares de calidad y eficacia organizacional.
B19: 2. | C19: Participar en un mínimo del 80% de las actividades programadas como requisito para el otorgamiento del diploma o certificación de participación, en caso que se expida.
B21: 3. | C21: Permanecer en el ICBF por lo menos seis (6) meses después de concluida la capacitación, salvo que la Entidad disponga lo contrario.
B23: 4. | C23: A solicitud de la Dirección de Gestión Humana, multiplicar los conocimientos y habilidades adquiridas a otros servidores públicos de la Entidad.
B26: En caso de no cumplir con lo anterior, AUTORIZO al Instituto Colombiano de Bienestar Familiar
B27: a descontar por el sistema de nómina, en un máximo de seis (6) cuotas, el valor de
B28: $_________________ | F28: correspondiente al valor total del evento de capacitación no concluido.
B32: Cordialmente,
B38: Firma servidor público | H38: Vo.Bo. Superior inmediato
C40: Nombre superior inmediato
C41: Nombre servidor público
C42: Cédula No. | H42: de
C43: Cargo
C44: Regional / Dependencia
C45: Teléfono (Extensión)

Sheet Listado de Asistencia
A1: LISTADO DE ASISTENCIA
B3: NOMBRE DEL EVENTO: | J3: FECHA
B5: HORA INICIAL: __________________________ | F5: HORA FINAL:____________________________ | J5: LUGAR
B8: No. | D8: NOMBRE | E8: CÉDULA | F8: CARGO | G8: ENTIDAD | H8: REGIONAL | I8: CENTRO ZONAL O DEPENDENCIA | J8: TIPO DE VINCULACIÓN | L8: FIRMA
J9: PLANTA | K9: CONTRATO | L9: AM | M9: PM
B10: 1
B11: 2
B12: 3
B13: 4
B14: 5
B15: 6
B16: 7
B17: 8
B18: 9
B19: 10
B20: 11
B21: 12
... B33: 24

Sheet Encuesta de Satisfacción
A4: ENCUESTA DE SATISFACCIÓN - EVENTOS DE CAPACITACIÓN
B6: NOMBRE DEL EVENTO:
B8: FECHA:
B11: 1. CONOCIMIENTO DEL TEMA
C13: Antes de tomar el curso mi conocimiento sobre el tema era:
C16: Considero que mi conocimiento sobre el tema después de finalizar el curso es:
B20: 2. EVALUACIÓN DE LOS CONFERENCISTAS
D22: NOMBRE(s):
D24: Factor | X24: Muy Alto | AA24: Alto | AD24: Medio | AG24: Bajo
D25: ¿El tema fue presentado de una manera clara e interesante para los participantes?
D26: ¿La metodología utilizada facilitó el aprendizaje?
D27: ¿El facilitador permitió la participación y aporte de las personas?
D28: ¿El facilitador permitió el desarrollo de un clima positivo y constructivo?
D29: ¿El facilitador resolvió adecuada y claramente las inquietudes presentadas?
D30: La utilización de ayudas audiovisuales facilitó el aprendizaje?
D31: El facilitador fue puntual durante el evento?
D32: El facilitador cumplió con los cronogramas establecidos para el evento?
B35: 3. CONTENIDOS DEL EVENTO
C37: De los temas expuestos identifique los que considere se deben reforzar
D39: Tema
B45: 4. BALANCE GENERAL DEL EVENTO
C47: Los objetivos del evento fueron claros al inicio del mismo?
C50: En qué nivel se cumplieron tales objetivos?
C53: En general, el evento me pareció:
B56: 5. ASPECTOS LOGÍSTICOS
D58: Factores | R58: Excelente | V58: Bueno | Z58: Satisfactorio | AE58: Insatisfactorio
D59: Salón
D60: Ayudas audiovisuales
D61: Material didáctico
B64: 6. SUGERENCIAS, OBSERVACIONES O COMENTARIOS
B75: 7. NOMBRE (opcional):
C76: Regional o Dependencia:
C77: Centro Zonal

Sheet Tabulación encuesta (1)
A1: Nombre del evento:
A2: Fecha inicio: | C2: Fecha finalización:
C3: No. Participantes:
A4: No. encuestas diligenciadas
A5: PARTICIPANTES | C5: 1 | D5: 2 | E5: 3 | F5: 4 | G5: 5 | H5: 6 | I5: 7 | J5: 8 | K5: 9 | L5: 10 | M5: 11 | N5: 12 | O5: 13 | P5: 14 | Q5: 15 | R5: 16 | S5: 17 | T5: 18 | U5: 19 | V5: 20 | W5: 21 | X5: 22 | Y5: 23 | Z5: 24 | AA5: 25 | AB5: 26 | AC5: 27 | AD5: 28 | AE5: 29 | AF5: 30 | AG5: 31 | AH5: 32 | AI5: 33 | AJ5: 34 | AK5: 35 | AL5: 36 | AM5: 37 | AN5: 38 | AO5: 39 | AP5: 40 | AQ5: 41 | AR5: 42 | AS5: 43 | AT5: 44 | AU5: 45 | AV5: 46 | AW5: 47 | AX5: 48 | AY5: 49 | AZ5: 50 | BA5: Total | BB5: %
A6: 1. CONOCIMIENTO DEL TEMA | BE6: ANTES | BF6: DESPUÉS
A7: Mi conocimiento sobre el tema antes de iniciar el curso era: | B7: Muy alto | BA7: =COUNTA(C7:AZ7) -> 0 | BB7: =+BA7/$B$4 -> #DIV/0! | BD7: =+B7 -> Muy alto | BE7: =+BB7 -> #DIV/0! | BF7: =+BB11 -> #DIV/0!
B8: Alto | BA8: =COUNTA(C8:AZ8) -> 0 | BB8: =+BA8/$B$4 -> #DIV/0! | BD8: =+B8 -> Alto | BE8: =+BB8 -> #DIV/0! | BF8: =+BB12 -> #DIV/0!
B9: Medio | BA9: =COUNTA(C9:AZ9) -> 0 | BB9: =+BA9/$B$4 -> #DIV/0! | BD9: =+B9 -> Medio | BE9: =+BB9 -> #DIV/0! | BF9: =+BB13 -> #DIV/0!
B10: Bajo | BA10: =COUNTA(C10:AZ10) -> 0 | BB10: =+BA10/$B$4 -> #DIV/0! | BD10: =+B10 -> Bajo | BE10: =+BB10 -> #DIV/0! | BF10: =+BB14 -> #DIV/0! | BG10: Incremento
A11: Considero que mi conocimiento sobre el tema después de finalizar el curso es: | B11: Muy alto | BA11: =COUNTA(C11:AZ11) -> 0 | BB11: =+BA11/$B$4 -> #DIV/0! | BD11: Promedio | BE11: =(+BA10+BA9*2+BA8*3+BA7*4)/(B4*4) -> #DIV/0! | BF11: =(+BA14*1+BA13*2+BA12*3+BA11*4)/(B4*4) -> #DIV/0! | BG11: =+BF11-BE11 -> #DIV/0!
B12: Alto | BA12: =COUNTA(C12:AZ12) -> 0 | BB12: =+BA12/$B$4 -> #DIV/0!
B13: Medio | BA13: =COUNTA(C13:AZ13) -> 0 | BB13: =+BA13/$B$4 -> #DIV/0!
B14: Bajo | BA14: =COUNTA(C14:AZ14) -> 0 | BB14: =+BA14/$B$4 -> #DIV/0!
A15: 2. EVALUACIÓN DEL CONFERENCISTA | BE15: Tema | BF15: Metodología | BG15: Participación | BH15: Clima | BI15: Inquietudes | BJ15: Ayudas | BK15: Puntualidad | BL15: Cronograma
A16: ¿El tema fue presentado de una manera clara e interesante para los participantes? | B16: Muy alto | BA16: =COUNTA(C16:AZ16) -> 0 | BB16: =+BA16/$B$4 -> #DIV/0! | BD16: =+B16 -> Muy alto | BE16: =+BB16 -> #DIV/0! | BF16: =+BB20 -> #DIV/0! | BG16: =+BB24 -> #DIV/0! | BH16: =+BB28 -> #DIV/0! | BI16: =+BB32 -> #DIV/0! | BJ16: =+BB36 -> #DIV/0! | BK16: =+BB40 -> #DIV/0! | BL16: =+BB44 -> #DIV/0!
B17: Alto | BA17: =COUNTA(C17:AZ17) -> 0 | BB17: =+BA17/$B$4 -> #DIV/0! | BD17: =+B17 -> Alto | BE17: =+BB17 -> #DIV/0! | BF17: =+BB21 -> #DIV/0! | BG17: =+BB25 -> #DIV/0! | BH17: =+BB29 -> #DIV/0! | BI17: =+BB33 -> #DIV/0! | BJ17: =+BB37 -> #DIV/0! | BK17: =+BB41 -> #DIV/0! | BL17: =+BB45 -> #DIV/0!
B18: Medio | BA18: =COUNTA(C18:AZ18) -> 0 | BB18: =+BA18/$B$4 -> #DIV/0! | BD18: =+B18 -> Medio | BE18: =+BB18 -> #DIV/0! | BF18: =+BB22 -> #DIV/0! | BG18: =+BB26 -> #DIV/0! | BH18: =+BB30 -> #DIV/0! | BI18: =+BB34 -> #DIV/0! | BJ18: =+BB38 -> #DIV/0! | BK18: =+BB42 -> #DIV/0! | BL18: =+BB46 -> #DIV/0!
B19: Bajo | BA19: =COUNTA(C19:AZ19) -> 0 | BB19: =+BA19/$B$4 -> #DIV/0! | BD19: =+B19 -> Bajo | BE19: =+BB19 -> #DIV/0! | BF19: =+BB23 -> #DIV/0! | BG19: =+BB27 -> #DIV/0! | BH19: =+BB31 -> #DIV/0! | BI19: =+BB35 -> #DIV/0! | BJ19: =+BB39 -> #DIV/0! | BK19: =+BB43 -> #DIV/0! | BL19: =+BB47 -> #DIV/0!
A20: ¿La metodología utilizada facilitó el aprendizaje? | B20: Muy alto | BA20: =COUNTA(C20:AZ20) -> 0 | BB20: =+BA20/$B$4 -> #DIV/0! | BE20: =+BE15 -> Tema | BF20: =+BF15 -> Metodología | BG20: =+BG15 -> Participación | BH20: =+BH15 -> Clima | BI20: =+BI15 -> Inquietudes | BJ20: =+BJ15 -> Ayudas | BK20: =+BK15 -> Puntualidad | BL20: =+BL15 -> Cronograma | BM20: Promedio total
B21: Alto | BA21: =COUNTA(C21:AZ21) -> 0 | BB21: =+BA21/$B$4 -> #DIV/0! | BD21: Promedio | BE21: =(+BA19*1+BA18*2+BA17*3+BA16*4)/(B4*4) -> #DIV/0! | BF21: =(+$BA23+$BA22*2+$BA21*3+$BA20*4)/(B4*4) -> #DIV/0! | BG21: =(+$BA27+$BA26*2+$BA25*3+$BA24*4)/(B4*4) -> #DIV/0! | BH21: =(+$BA31+$BA30*2+$BA29*3+$BA28*4)/(B4*4) -> #DIV/0! | BI21: =(+$BA35+$BA34*2+$BA33*3+$BA32*4)/(B4*4) -> #DIV/0! | BJ21: =(+$BA39+$BA38*2+$BA37*3+$BA36*4)/(B4*4) -> #DIV/0! | BK21: =(+$BA43+$BA42*2+$BA41*3+$BA40*4)/(B4*4) -> #DIV/0! | BL21: =(+$BA47+$BA46*2+$BA45*3+$BA44*4)/(B4*4) -> #DIV/0! | BM21: =SUM(BE21:BL21)/8 -> #DIV/0!
B22: Medio | BA22: =COUNTA(C22:AZ22) -> 0 | BB22: =+BA22/$B$4 -> #DIV/0!
B23: Bajo | BA23: =COUNTA(C23:AZ23) -> 0 | BB23: =+BA23/$B$4 -> #DIV/0!
A24: ¿El facilitador permitió la participación y aporte de las personas? | B24: Muy alto | BA24: =COUNTA(C24:AZ24) -> 0 | BB24: =+BA24/$B$4 -> #DIV/0!
B25: Alto | BA25: =COUNTA(C25:AZ25) -> 0 | BB25: =+BA25/$B$4 -> #DIV/0!
B26: Medio | BA26: =COUNTA(C26:AZ26) -> 0 | BB26: =+BA26/$B$4 -> #DIV/0!
B27: Bajo | BA27: =COUNTA(C27:AZ27) -> 0 | BB27: =+BA27/$B$4 -> #DIV/0!
A28: ¿El facilitador permitió el desarrollo de un clima positivo y constructivo? | B28: Muy alto | BA28: =COUNTA(C28:AZ28) -> 0 | BB28: =+BA28/$B$4 -> #DIV/0!
B29: Alto | BA29: =COUNTA(C29:AZ29) -> 0 | BB29: =+BA29/$B$4 -> #DIV/0!
B30: Medio | BA30: =COUNTA(C30:AZ30) -> 0 | BB30: =+BA30/$B$4 -> #DIV/0!
B31: Bajo | BA31: =COUNTA(C31:AZ31) -> 0 | BB31: =+BA31/$B$4 -> #DIV/0!
A32: ¿El facilitador resolvió de manera adecuada y claramente las inquietudes presentadas? | B32: Muy alto | BA32: =COUNTA(C32:AZ32) -> 0 | BB32: =+BA32/$B$4 -> #DIV/0!
B33: Alto | BA33: =COUNTA(C33:AZ33) -> 0 | BB33: =+BA33/$B$4 -> #DIV/0!
B34: Medio | BA34: =COUNTA(C34:AZ34) -> 0 | BB34: =+BA34/$B$4 -> #DIV/0!
B35: Bajo | BA35: =COUNTA(C35:AZ35) -> 0 | BB35: =+BA35/$B$4 -> #DIV/0!
A36: ¿La utilización de ayudas audiovisuales facilitó el aprendizaje? | B36: Muy alto | BA36: =COUNTA(C36:AZ36) -> 0 | BB36: =+BA36/$B$4 -> #DIV/0!
B37: Alto | BA37: =COUNTA(C37:AZ37) -> 0 | BB37: =+BA37/$B$4 -> #DIV/0!
B38: Medio | BA38: =COUNTA(C38:AZ38) -> 0 | BB38: =+BA38/$B$4 -> #DIV/0!
B39: Bajo | BA39: =COUNTA(C39:AZ39) -> 0 | BB39: =+BA39/$B$4 -> #DIV/0!
A40: ¿El facilitador fue puntual durante el evento? | B40: Muy alto | BA40: =COUNTA(C40:AZ40) -> 0 | BB40: =+BA40/$B$4 -> #DIV/0!
...

Sheet Tabulación encuesta (2)
B2: DIRECCIÓN DE GESTIÓN HUMANA
B3: EVALUACIÓN DE SATISFACCIÓN
B7: Nombre del evento:
B9: Fecha: | T9: No. de participantes: | AC9: =+'Tabulación encuesta (1)'!H3 -> 0
B11: No. de encuestas diligenciadas: | O11: =+'Tabulación encuesta (1)'!B4 -> 0 | T11: Encuestas / Participantes: | AE11: =+O11/AC9 -> #DIV/0!
B14: 1. CONOCIMIENTO DEL TEMA
C31: Los participantes manifestaron que, en promedio, su nivel de conocimiento aumentó en un | AG31: =+'Tabulación encuesta (1)'!BG11 -> #DIV/0!
B35: 2. EVALUACIÓN DEL CONFERENCISTA
D55: Muy alto: 100% | J55: Alto: Entre el 75% y el 99% | S55: Medio: Entre el 50% y 74% | AC55: Bajo: Entre 25% y 49%
C57: La evaluación promedio del conferencista fue alta, con un | Y57: =+'Tabulación encuesta (1)'!BM21 -> #DIV/0!
C58: Los aspectos sobresalientes fueron
B65: 3. CONTENIDOS DEL EVENTO
W67: El contenido del evento fue valorado por los participantes como excelente en un XX% y bueno en un XX%.
C80: Se considera necesario reforzar lo siguiente:
B87: 4. BALANCE GENERAL DEL EVENTO
W89: Los objetivos fueron claros al inicio del evento?
W92: El | X92: XXX%
W93: de los encuestados manifestó que los objetivos fueron comunicados en forma clara antes de iniciar el evento.
C102: En qué nivel se cumplieron los objetivos del evento?
C105: El | D105: XXX%
C106: de los encuestados manifestó que los objetivos se cumplieron entre un nivel alto y muy alto.
W116: En general, el evento me pareció?
W117: El XXX% de los encuestados calificó el evento como Excelente y el XXX% lo calificó como bueno.
B130: 5. ASPECTOS LOGÍSTICOS
C148: Los aspectos logísticos estuvieron XXX calificados, obteniendo calificaciones entre XXX yXXX.
B154: 6. SUGERENCIAS O COMENTARIOS
C156: Las principales sugerencias o comentarios de los participantes fueron:

Sheet Evaluación de Eficacia
A2: PROCESO DE GESTION HUMANA
A4: EVALUACIÓN DE EFICACIA
A6: Fecha
A8: Nombre del evento
A10: Regional / Dependencia
A11: Nombre
A12: Cargo
B14: Pregunta 1:
B16: a. | Q16: c.
B18: b. | Q18: d.
B20: Pregunta 2:
B22: a. | Q22: c.
B24: b. | Q24: d.
B26: Pregunta 3:
B28: a. | Q28: c.
B30: b. | Q30: d.
B32: Pregunta 4:
B34: a. | Q34: c.
B36: b. | Q36: d.
B38: Pregunta 5:
B40: 1.
B45: 2.

Sheet Respuestas
A2: PROCESO DE GESTION HUMANA
A4: EVALUACIÓN DE EFICACIA / RESPUESTAS
A6: Fecha
A8: Nombre del evento
A10: Regional / Dependencia
A11: Nombre
A12: Cargo
B14: Pregunta 1: | D14: =+'Evaluación de Eficacia'!D14 -> 0
B16: a. | C16: =+'Evaluación de Eficacia'!C16 -> 0 | Q16: c. | R16: =+'Evaluación de Eficacia'!R16 -> 0
B18: b. | C18: =+'Evaluación de Eficacia'!C18 -> 0 | Q18: d. | R18: =+'Evaluación de Eficacia'!R18 -> 0
B20: Pregunta 2: | D20: =+'Evaluación de Eficacia'!D20 -> 0
B22: a. | C22: =+'Evaluación de Eficacia'!C22 -> 0 | Q22: c. | R22: =+'Evaluación de Eficacia'!R22 -> 0
B24: b. | C24: =+'Evaluación de Eficacia'!C24 -> 0 | Q24: d. | R24: =+'Evaluación de Eficacia'!R24 -> 0
B26: Pregunta 3: | D26: =+'Evaluación de Eficacia'!D26 -> 0
B28: a. | C28: =+'Evaluación de Eficacia'!C28 -> 0 | Q28: c. | R28: =+'Evaluación de Eficacia'!R28 -> 0
B30: b. | C30: =+'Evaluación de Eficacia'!C30 -> 0 | Q30: d. | R30: =+'Evaluación de Eficacia'!R30 -> 0
B32: Pregunta 4: | D32: =+'Evaluación de Eficacia'!D32 -> 0
B34: a. | C34: =+'Evaluación de Eficacia'!C34 -> 0 | Q34: c. | R34: =+'Evaluación de Eficacia'!R34 -> 0
B36: b. | C36: =+'Evaluación de Eficacia'!C36 -> 0 | Q36: d. | R36: =+'Evaluación de Eficacia'!R36 -> 0
B38: Pregunta 5:
B40: 1.
B45: 2.

Sheet Evaluación de Impacto
A1: Gestión Humana
A3: INSTRUMENTO PARA MEDIR EL IMPACTO DE LA CAPACITACIÓN
A5: Objetivo: Medir el nivel de conocimiento adquirido durante la capacitación por los servidores públicos y su aplicación en la práctica laboral. Esto corresponde al principio de la instrucción programada, donde la persona capacitada recibe un conocimiento y su aprendizaje es evaluado en el desempeño de sus actividades. Es importante considerar que el concepto de aprendizaje debe ser visto desde un punto de vista pedagógico, ya que se evalúa el aprendizaje de contenidos técnicos o metodológicos necesarios para la ejecución del trabajo.
A6: NOMBRE DEL EVENTO
A7: Fecha de la Capacitación: | G7: Día | J7: Mes | N7: Año
A9: Fecha de la Evaluación: | G9: Día | J9: Mes | N9: Año | V9: Según el procedimiento de capacitación, la medición debe realizarse tres meses después de realizado el evento
A11: Datos del Evaluado | U11: 12
A12: Nombre: | M12: Cargo | U12: Regional | AB12: Dependencia
U13: 12
A14: Datos del Evaluador | U14: 12
A15: Nombre: | M15: Cargo | U15: Dependencia
U16: 12
Y17: 2
Y18: 2
D19: 1 | E19: EL SERVIDOR PÚBLICO APLICA LOS CONOCIMIENTOS ADQUIRIDOS | Y19: 2
D20: 2 | Y20: 2
D21: 3 | Y21: 2
D22: 4 | Y22: 2
D23: 5
E24: EL SERVIDOR PÚBLICO MEJORÓ EN SU DESEMPEÑO LABORAL | Y24: 2
E29: SE EVIDENCIA MEJORAMIENTO EN LAS COMPETENCIAS DESPUÉS DE LA CAPACITACIÓN | Y29: 1
E34: AL EFECTUAR RETROALIMENTACIÓN CON EL EVALUADO, MUESTRA CONOCIMIENTOS SOBRE EL TEMA CAPACITADO | Y34: 4
E38: RESULTADOS DE LA EVALUACIÓN
E39: =IF(S39<=2.5,B96,IF(S39<=3.5,B95,B94)) -> LA CAPACITACIÓN NO FUE EFECTIVA | S39: =(Y19+Y24+Y29+Y34)/4 -> 2.25
A43: Firma del Evaluador | S43: Firma del Evaluado
A46: Nota: Criterios de calificación
A47: De 1 a 2.5: La capacitación no fue efectiva (Se requiere reprogramar la capacitación y replantear los objetivos de la misma)
A48: De 2.6 a 3.5: Se requiere reforzar la capacitación (Se debe replantear nuevos objetivos de capacitación y realizar seguimiento con Evaluación del Desempeño)
A49: De 3.6 a 5: Se evidencia la efectividad de la Capacitación
A94: 1 | B94: SE EVIDENCIA IMPACTO DE LA CAPACITACIÓN | Q94: <=3,5
B95: SE REQUIERE REFORZAR LA CAPACITACIÓN | Q95: 2,6-3,5
B96: LA CAPACITACIÓN NO FUE EFECTIVA | Q96: <=2,5

Sheet Reporte capacitación
A1: REPÚBLICA DE COLOMBIA
A2: DEPARTAMENTO ADMINISTRATIVO PARA LA PROSPERIDAD SOCIAL
A3: INSTITUTO COLOMBIANO DE BIENESTAR FAMILIAR
A4: CECILIA DE LA FUENTE DE LLERAS
A5: GESTIÓN HUMANA
A8: No. | B8: NOMBRE DEL EVENTO PROGRAMADO PLAN DE CAPACITACIÓN (máximo 80 caracteres) | C8: TIPO DE CAPACITACION | D8: COMPONENTE DE COMPETENCIA | E8: RECURSO (RUBRO 510 - ASISTENCIA TÉCNICA PREVENCIÓN /PROTECCIÓN /OIM /OTRAS) | F8: REGIONAL | G8: DEPENDENCIA Y/O CENTRO ZONAL | H8: DURACIÓN DEL EVENTO | I8: FECHA DEL EVENTO | K8: INVERSIÓN DE RECURSOS | M8: TIPO DE MACROPROCESO AL QUE PERTENECE | N8: NÚMERO DE CUPOS PROGRAMADOS | O8: NÚMERO DE CUPOS EJECUTADOS | P8: EVALUACIÓN DE EFICACIA (Sumatoria de la calificación de los participantes en el evento / Número final de participantes del evento) / 5 * 100 | Q8: OBSERVACIONES
H9: HORAS | I9: DÍA/MES/AÑO INICIO | J9: DÍA/MES/AÑO FINALIZACIÓN | K9: COMPROMISO | L9: VALOR EJECUTADO | P9: TOTAL
A10: 1
A11: 2
A12: 3
A13: 4
A14: 5
A15: 6
A16: 7
A17: 8
A18: 9
A19: 10
A20: 11
A21: 12
... A29: 20

Sheet Reporte Asistentes
A2: PROCESO GESTIÓN HUMANA
A4: FORMATO SEGUIMIENTO PIC
A8: No. | B8: NOMBRE DEL EVENTO PROGRAMADO PLAN DE CAPACITACIÓN (máximo 80 caracteres) | C8: NOMBRE DEL SERVIDOR CAPACITADO | D8: NÚMERO DE DOCUMENTO DE IDENTIDAD DEL SERVIDOR | E8: TIPO DE VINCULACION | G8: REGIONAL | H8: DEPENDENCIA Y/O CENTRO ZONAL | I8: CARGO | J8: PROFESIÓN | K8: DURACION EN HORAS
E9: PLANTA | F9: CONTRATO
A10: 1
A11: 2
A12: 3
A13: 4
A14: 5
A15: 6
A16: 7
A17: 8
A18: 9
A19: 10
A20: 11
A21: 12
... A209: 200

Sheet Hoja2
C3: Directivo
C4: Asesor
C5: Profesional
C6: Tecnico
C7: Asistencial
C8: Contratista
