Workbook
Name Decision: [1]lista!$A$6:$A$7
Name Decision: [1]lista!$A$6:$A$7
Name Decision: [1]lista!$A$6:$A$7
Name Decision: [2]lista!$A$6:$A$7
Name PARTICIPACION: [1]lista!$A$15:$A$17
Name PARTICIPACION: [1]lista!$A$15:$A$17
Name PARTICIPACION: [1]lista!$A$15:$A$17
Name PARTICIPACION: [2]lista!$A$15:$A$17
Name Procedencia: [1]lista!$A$2:$A$3
Name Procedencia: [1]lista!$A$2:$A$3
Name Procedencia: [1]lista!$A$2:$A$3
Name Procedencia: [2]lista!$A$2:$A$3
Name tipo: [1]lista!$A$11:$A$13
Name tipo: [1]lista!$A$11:$A$13
Name tipo: [1]lista!$A$11:$A$13
Name tipo: [2]lista!$A$11:$A$13
Name x: [3]lista!$A$11:$A$13
Name x: [3]lista!$A$11:$A$13
Name x: [3]lista!$A$11:$A$13
Name x: [4]lista!$A$11:$A$13

Sheet INFO GENERAL Y FINANCIERA
B8: Formato Información General Y Financiera De Proveedores
B10: Ciudad | M10: Fecha Dd/mm/aa | AD10: Persona Natural
AD11: Persona Juridica
B12: 1. Información General
B13: 1.1. Identificación.
B14: Personas naturales | F14: Nombre Comercial | U14: Nombres y Apellidos | AK14: Cédula
B16: Personas juridicas | F16: Razón Social | U16: NIT | AK16: DV
B18: Dirección | U18: Teléfono | AD18: Fax | AK18: Ciudad
B20: Pagina Web | U20: Años de Constitucion | AD20: Sector al que pertenece
B22: 1.2. Personas De Contacto
B23: Gerente General | K23: E-mail | U23: Telefono | AD23: Ext. | AK23: Celular
B25: Director Comercial | K25: E-mail | U25: Telefono | AD25: Ext. | AK25: Celular
B27: Asesor Comercial | K27: E-mail | U27: Telefono | AD27: Ext. | AK27: Celular
B29: 1.3. Productos Y Servicios Inscritos En El Rup De Acuerdo Con El Unspsc
B30: Incluir Listado Con Breve Descripción De Los Produtos Y/o Servicios Que Ofrece La Compañía, Registrados En El Rup (agregue Las Filas Necesarias) | AK30: Código de Naciones Unidas
B36: 1.4. Códigos CIIU | AK36: 1.5. Número De Empleados
B37: Código De Actividad | F37: Descripción Actividad Económica CIIU | AD37: Tarifa ICA
B41: 2. Información Financiera - A Diciembre 31 De 2012
B42: Nombre Del Indicador | M42: Cuenta | U42: Valores En Pesos | AD42: Indicador
B43: Capacidad Financiera | F43: indice De Liquidez | M43: Activo Corriente --> | AD43: =+IFERROR(U43/U44,0) -> 0 | AK43: Veces
M44: Pasivo Corriente -->
F45: Indice De Endeudamiento | M45: Pasivo Total--> | AD45: =+IFERROR(U45/U46,0) -> 0 | AK45: Porcentaje
M46: Activo Total-->
F47: Razón De Cobertura De Intereses | M47: Utilidad Operacional--> | AD47: =+IFERROR(U47/U48,0) -> 0 | AK47: Veces
M48: Gastos De Interes-->
B49: Capacidad Organizacional | F49: Rentabilidad Del Patrimonio | M49: Utilidad Operacional--> | AD49: =+IFERROR(U49/U50,0) -> 0 | AK49: Porcentaje
M50: Patrimonio-->
F51: Rentabilidad Del Activo | M51: Utilidad Operacional--> | AD51: =+IFERROR(U51/U52,0) -> 0 | AK51: Porcentaje
M52: Activo Total-->
B53: Nota: Para las empresas inspeccionadas, vigiladas o controladas por la Supersociedades, la información consignada en este numeral sera validada con la reportada a la Supersociedades y disponible para consulta en Intenet mediante el Sistema de Información y Riesgo Empresarial de la Supersociedades (SIREM). Si se evidencian diferencias en los valores consignados en este formato y los reportados a la Supersociedades se tomará como referencia la información del SIREM.
B54: Otra informacion relevante de la empresa (consigne en este espacio otra información que considere de interés)

Sheet EXAMENES MÉDICOS
B10: COTIZACIÓN - EXÁMENES MÉDICOS OCUPACIONALES
B12: EMPRESA: | D12: NIT: | F12: FECHA:
B13: CONTACTO | D13: CARGO: | F13: TEL. CELULAR
B14: E-MAIL: | D14: DIRECCIÓN: | F14: TELEFONO FIJO
B16: Instrucciones para el diligenciamiento del formato de cotización
B17: • Por favor diligenciar solo las celdas en AMARILLO. Se deben llenar todas las casillas. • Revisar todos los requerimientos que se exponen en el documento "Ficha de Condiciones Técnicas" y Anexos; y formular su cotización en concordancia con este. • Asignar precio sin incluir el IVA en las celdas de la columna "E" y asignar la tarifa de IVA que corresponda en las celdas de la columna "F" • El valor de la cotización deber ser expresado en PESOS COLOMBIANOS. • Los valores unitarios deberán aproximarse por exceso o por defecto al entero más cercano. Si la cifra no está aproximada y aparece con centavos, el ICBF aproximará al entero inferior. • No modificar, agregar o quitar ningún ítem o sub-ítem.
B18: Notas: (1) Se podrá presentar propuesta para la totalidad de los exámenes en una macro, varias macro o la totalidad de las macros. Es decir, no se aceptarán propuestas parciales por macroregión. (2) Con el fin de establecer la cantidad de examenes que se ajuste a la disponibilidad presupuestal de la Entidad, se solicita cotizar precios unitarios por examen de acuerdo con los siguientes rangos de cantidades para cada uno de los items a contratar.
B20: Macro Región (1) | C20: Tipo de examen | D20: Rango de cantidades por examen | E20: Valor unitario sin IVA (2) | F20: Tarifa IVA (%) | G20: Valor unitario IVA incluido
B21: 1. Macro Región Norte | C21: Exámenes médicos ocupacionales | D21: 1500 a 2000 | G21: =+ROUND(E21*(1+F21),0) -> 0
D22: 2001a 2500 | G22: =+ROUND(E22*(1+F22),0) -> 0
C23: Exámenes Médicos Ocupacionales de Ingreso y/o egreso | D23: 100 a 150 | G23: =+ROUND(E23*(1+F23),0) -> 0
D24: 151a 200 | G24: =+ROUND(E24*(1+F24),0) -> 0
C25: Optometría | D25: 1 a 20 | G25: =+ROUND(E25*(1+F25),0) -> 0
D26: 21 a 30 | G26: =+ROUND(E26*(1+F26),0) -> 0
C27: Audiometría | D27: 1 a 20 | G27: =+ROUND(E27*(1+F27),0) -> 0
D28: 21 a 30 | G28: =+ROUND(E28*(1+F28),0) -> 0
C29: Espirometria | D29: 50a100 | G29: =+ROUND(E29*(1+F29),0) -> 0
D30: 101a150 | G30: =+ROUND(E30*(1+F30),0) -> 0
C31: Exámenes trabajo en alturas Glicemia, cuadro hemático y perfil lipidico. | D31: 1 a 20 | G31: =+ROUND(E31*(1+F31),0) -> 0
D32: 21 a 30 | G32: =+ROUND(E32*(1+F32),0) -> 0
B33: 2.Macro Región Oriente | C33: Exámenes médicos ocupacionales | D33: 500 a 1000 | G33: =+ROUND(E33*(1+F33),0) -> 0
D34: 1001 a 1500 | G34: =+ROUND(E34*(1+F34),0) -> 0
C35: Exámenes Médicos Ocupacionales de Ingreso y/o egreso | D35: 50 a 100 | G35: =+ROUND(E35*(1+F35),0) -> 0
D36: 101a150 | G36: =+ROUND(E36*(1+F36),0) -> 0
C37: Optometría | D37: 1 a 10 | G37: =+ROUND(E37*(1+F37),0) -> 0
D38: 11 a 20 | G38: =+ROUND(E38*(1+F38),0) -> 0
C39: Audiometría | D39: 1 a 10 | G39: =+ROUND(E39*(1+F39),0) -> 0
D40: 11 a 20 | G40: =+ROUND(E40*(1+F40),0) -> 0
C41: Espirometria | D41: 50 a 100 | G41: =+ROUND(E41*(1+F41),0) -> 0
D42: 101 a 150 | G42: =+ROUND(E42*(1+F42),0) -> 0
C43: Exámenes trabajo en alturas Glicemia, cuadro hemático y perfil lipidico. | D43: 1 a 10 | G43: =+ROUND(E43*(1+F43),0) -> 0
D44: 11 a 20 | G44: =+ROUND(E44*(1+F44),0) -> 0
B45: 3.Macro Región Centro-Eje Cafetero | C45: Exámenes médicos ocupacionales | D45: 1000 a 1500 | G45: =+ROUND(E45*(1+F45),0) -> 0
D46: 1501 a 2000 | G46: =+ROUND(E46*(1+F46),0) -> 0
C47: Exámenes Médicos Ocupacionales de Ingreso y/o egreso | D47: 50 a 100 | G47: =+ROUND(E47*(1+F47),0) -> 0
D48: 101 a 150 | G48: =+ROUND(E48*(1+F48),0) -> 0
C49: Optometría | D49: 1 a 10 | G49: =+ROUND(E49*(1+F49),0) -> 0
D50: 11 a 20 | G50: =+ROUND(E50*(1+F50),0) -> 0
C51: Audiometría | D51: 1 a 10 | G51: =+ROUND(E51*(1+F51),0) -> 0
D52: 11 a 20 | G52: =+ROUND(E52*(1+F52),0) -> 0
...

Sheet INFO EXPERIENCIA
B8: EXPERIENCIA EN CONTRATACION EN LOS ULTIMOS 5 AÑOS
B9: EXPERIENCIA EN CONTRATACION EN LOS ULTIMOS 5 AÑOS
B11: Con el fin de conocer la experiencia con la que cuentan las empresas del sector relacionada con el objeto del presente estudio de mercado, agradecemos diligenciar el cuadro que sigue con base en los contratos suscritos en los últimos 5 años, cuyos objetos están relacionados con el objeto del presente estudio de mercado
B13: EXPERIENCIA- EXÁMENES MÉDICOS OCUPACIONALES
B15: EMPRESA: | C15: =+IF('EXAMENES MÉDICOS'!C12=0,"",'EXAMENES MÉDICOS'!C12) | F15: NIT: | G15: =+IF('EXAMENES MÉDICOS'!E12=0,"",'EXAMENES MÉDICOS'!E12) | I15: FECHA: | J15: =+IF('EXAMENES MÉDICOS'!G12=0,"",'EXAMENES MÉDICOS'!G12)
B16: CONTACTO | C16: =+IF('EXAMENES MÉDICOS'!C13=0,"",'EXAMENES MÉDICOS'!C13) | F16: CARGO: | G16: =+IF('EXAMENES MÉDICOS'!E13=0,"",'EXAMENES MÉDICOS'!E13) | I16: TEL. CELULAR | J16: =+IF('EXAMENES MÉDICOS'!G13=0,"",'EXAMENES MÉDICOS'!G13)
B17: E-MAIL: | C17: =+IF('EXAMENES MÉDICOS'!C14=0,"",'EXAMENES MÉDICOS'!C14) | F17: DIRECCIÓN: | G17: =+IF('EXAMENES MÉDICOS'!E14=0,"",'EXAMENES MÉDICOS'!E14) | I17: TELEFONO FIJO | J17: =+IF('EXAMENES MÉDICOS'!G14=0,"",'EXAMENES MÉDICOS'!G14)
B19: Tipo de entidad | C19: Entidad o Empresa | D19: Numero del contrato | E19: Objeto del contrato | F19: Fecha de suscripción (dd/mmm/aa) | G19: Plazo de ejecución (en años) | H19: Forma de participación (UT, consorcio, individual) | I19: % de participación | J19: Valor total ejecutado del contrato
B34: Nota: Agregar las filas necesarias para reportar la experiencia

Sheet POLIZAS
B9: CONCEPTOS A TENER EN CUENTA PARA REALIZAR LA COTIZACIÓN EXÁMENES MÉDICOS OCUPACIONALES
B12: El presente cuadro es de carácter informativo, no se debe diligenciar. Sin embargo se entiende que la cotización incluye la totalidad de los conceptos relacionados a continuación.
B14: POLIZAS PARA LEGALIZACIÓN DEL CONTRATO
B16: CONCEPTO | D16: COBERTURA | E16: PLAZO (En Meses)
B17: Garantía de Seriedad de la oferta | D17: 0.1 | E17: Plazo de Ejecución
B18: Cumplimiento | D18: 0.2 | E18: Plazo de ejecución + 4 meses mas
B19: Salarios, Prestaciones | D19: 0.1 | E19: Plazo de ejecución + 36 meses mas
B20: Calidad de los Servicios | D20: 0.2 | E20: Plazo de ejecución + 4 meses mas
B21: Responsabilidad civil extracontraactual | D21: 0.1 | E21: Plazo de Ejecución
B22: Cobertura: Corresponde al porcentaje del valor total del contrato a amparar.
