Workbook
Name Decision: [1]lista!$A$6:$A$7
Name Decision: [2]lista!$A$6:$A$7
Name MTC: '[3]Cons Cotizac - Examenes médicos'!$M$12:$R$12
Name PARTICIPACION: [1]lista!$A$15:$A$17
Name PARTICIPACION: [2]lista!$A$15:$A$17
Name Procedencia: [1]lista!$A$2:$A$3
Name Procedencia: [2]lista!$A$2:$A$3
Name tipo: [1]lista!$A$11:$A$13
Name tipo: [2]lista!$A$11:$A$13
Name x: [4]lista!$A$11:$A$13
Name x: [5]lista!$A$11:$A$13

Sheet COTIZACION
B10: FORMATO DE COTIZACIONES EQUIPOS DE COMPUTO
B12: EMPRESA | J12: NIT: | S12: FECHA:
B13: CONTACTO | J13: CARGO: | S13: TEL. CELULAR :
B14: E-MAIL: | J14: DIRECCIÓN: | S14: TEL. FIJO:
B16: Instrucciones para el diligenciamiento del formato de cotización
B17: • Por favor diligenciar solo las celdas en AMARILLO. Se deben llenar todas las casillas. • Revisar todos los requerimientos que se exponen en el documento "Ficha de Condiciones Técnicas" y Anexos; y formular su cotización en concordancia con este. • Asignar Marca propuesta en la columna "MARCA" (celdas columna "F") y asignar la referecia que corresponda en la columna "REFERENCIA" (celdas de la columna "G") • Asignar la tarifa de IVA que corresponda en la columna "Tarifa IVA" (celdas de las columnas "I,M,Q,U") y el precio sin incluir el IVA en las columnas "Precio Unitario sin IVA" (celdas de las columnas "J,N,R,V") de acuerdo con los rangos establecidos. • El valor de la cotización deber ser expresado en PESOS COLOMBIANOS. • Los valores unitarios deberán aproximarse por exceso o por defecto al entero más cercano. Si la cifra no está aproximada y aparece con centavos, el ICBF aproximará al entero inferior. • No modificar, agregar o quitar ningún ítem o sub-ítem.
B18: Nota 1: Artículo 1° del decreto 379 de 2007 / Exclusión del impuesto sobre las ventas para computadores. Para efectos de la exclusión del IVA en la importación o venta de computadores personales de escritorio o portátiles, consagrada en el artículo 424 del Estatuto Tributario, tal como fue adicionado por el artículo 31 de la Ley 1111 de 2006, se tendrá en cuenta que la misma aplica para aquellos computadores cuyo valor en aduanas no exceda de ochenta y dos (82) Unidades de Valor Tributario (UVT). Nota 2: Por favor especificar la marca y el modelo que ofrece el proveedor, si cuenta con diferentes marcas y/o modelos de un mismo elemento por favor relacionelos en filas separadas segun los espacios dispuestos para esto. Nota 3: Solo se compraran 100 unidades de combo teclado mouse sin importar los rangos. solo cotizar 100 unidades.
B20: UVT 2015 (1) | D20: 28279
B21: 82 (1) | D21: =+D20*82 -> 2318878
B23: 1 | C23: COMPUTADOR ESCRITORIO - ALL IN ONE
H24: Rango 1 | L24: Rango 2 | P24: Rango 3 | T24: Rango 4
B25: No. | C25: Item | F25: Marca (2) | G25: Referencia (2) | H25: Cantidad | I25: Tarifa IVA % | J25: Precio Unitario sin IVA | K25: Precio Unitario con IVA | L25: Cantidad | M25: Tarifa IVA % | N25: Precio Unitario sin IVA | O25: Precio Unitario con IVA | P25: Cantidad | Q25: Tarifa IVA % | R25: Precio Unitario sin IVA | S25: Precio Unitario con IVA | T25: Cantidad | U25: Tarifa IVA % | V25: Precio Unitario sin IVA | W25: Precio Unitario con IVA
B26: 1.1. | C26: Computador Escritorio All in One | H26: 1000-1500 | K26: =ROUND(J26*(1+I26),0) -> 0 | L26: 1501- 2000 | O26: =ROUND(N26*(1+M26),0) -> 0 | P26: 2001- 2500 | S26: =ROUND(R26*(1+Q26),0) -> 0 | T26: 2501- 3000 | W26: =ROUND(V26*(1+U26),0) -> 0
K27: =ROUND(J27*(1+I27),0) -> 0 | O27: =ROUND(N27*(1+M27),0) -> 0 | S27: =ROUND(R27*(1+Q27),0) -> 0 | W27: =ROUND(V27*(1+U27),0) -> 0
K28: =ROUND(J28*(1+I28),0) -> 0 | O28: =ROUND(N28*(1+M28),0) -> 0 | S28: =ROUND(R28*(1+Q28),0) -> 0 | W28: =ROUND(V28*(1+U28),0) -> 0
B29: 1.2. | C29: Guaya de seguridad | H29: 1000-1500 | K29: =ROUND(J29*(1+I29),0) -> 0 | L29: 1501- 2000 | O29: =ROUND(N29*(1+M29),0) -> 0 | P29: 2001- 2500 | S29: =ROUND(R29*(1+Q29),0) -> 0 | T29: 2501- 3000 | W29: =ROUND(V29*(1+U29),0) -> 0
K30: =ROUND(J30*(1+I30),0) -> 0 | O30: =ROUND(N30*(1+M30),0) -> 0 | S30: =ROUND(R30*(1+Q30),0) -> 0 | W30: =ROUND(V30*(1+U30),0) -> 0
K31: =ROUND(J31*(1+I31),0) -> 0 | O31: =ROUND(N31*(1+M31),0) -> 0 | S31: =ROUND(R31*(1+Q31),0) -> 0 | W31: =ROUND(V31*(1+U31),0) -> 0
B33: 2 | C33: COMPUTADOR ESCRITORIO - SMALL FORM FACTOR
H34: Rango 1 | L34: Rango 2 | P34: Rango 3 | T34: Rango 4
B35: No. | C35: Item | F35: Marca (2) | G35: Referencia (2) | H35: Cantidad | I35: Tarifa IVA % | J35: Precio Unitario sin IVA | K35: Precio Unitario con IVA | L35: Cantidad | M35: Tarifa IVA % | N35: Precio Unitario sin IVA | O35: Precio Unitario con IVA | P35: Cantidad | Q35: Tarifa IVA % | R35: Precio Unitario sin IVA | S35: Precio Unitario con IVA | T35: Cantidad | U35: Tarifa IVA % | V35: Precio Unitario sin IVA | W35: Precio Unitario con IVA
B36: 2.1. | C36: Computador Escritorio Small Form Factor | H36: 1000-1500 | K36: =ROUND(J36*(1+I36),0) -> 0 | L36: 1501- 2000 | O36: =ROUND(N36*(1+M36),0) -> 0 | P36: 2001- 2500 | S36: =ROUND(R36*(1+Q36),0) -> 0 | T36: 2501- 3000 | W36: =ROUND(V36*(1+U36),0) -> 0
K37: =ROUND(J37*(1+I37),0) -> 0 | O37: =ROUND(N37*(1+M37),0) -> 0 | S37: =ROUND(R37*(1+Q37),0) -> 0 | W37: =ROUND(V37*(1+U37),0) -> 0
K38: =ROUND(J38*(1+I38),0) -> 0 | O38: =ROUND(N38*(1+M38),0) -> 0 | S38: =ROUND(R38*(1+Q38),0) -> 0 | W38: =ROUND(V38*(1+U38),0) -> 0
B39: 2.2. | C39: Guaya de seguridad | H39: 1000-1500 | K39: =ROUND(J39*(1+I39),0) -> 0 | L39: 1501- 2000 | O39: =ROUND(N39*(1+M39),0) -> 0 | P39: 2001- 2500 | S39: =ROUND(R39*(1+Q39),0) -> 0 | T39: 2501- 3000 | W39: =ROUND(V39*(1+U39),0) -> 0
K40: =ROUND(J40*(1+I40),0) -> 0 | O40: =ROUND(N40*(1+M40),0) -> 0 | S40: =ROUND(R40*(1+Q40),0) -> 0 | W40: =ROUND(V40*(1+U40),0) -> 0
K41: =ROUND(J41*(1+I41),0) -> 0 | O41: =ROUND(N41*(1+M41),0) -> 0 | S41: =ROUND(R41*(1+Q41),0) -> 0 | W41: =ROUND(V41*(1+U41),0) -> 0
B42: 2.3. | C42: Diadema | H42: 1000-1500 | K42: =ROUND(J42*(1+I42),0) -> 0 | L42: 1501- 2000 | O42: =ROUND(N42*(1+M42),0) -> 0 | P42: 2001- 2500 | S42: =ROUND(R42*(1+Q42),0) -> 0 | T42: 2501- 3000 | W42: =ROUND(V42*(1+U42),0) -> 0
K43: =ROUND(J43*(1+I43),0) -> 0 | O43: =ROUND(N43*(1+M43),0) -> 0 | S43: =ROUND(R43*(1+Q43),0) -> 0 | W43: =ROUND(V43*(1+U43),0) -> 0
K44: =ROUND(J44*(1+I44),0) -> 0 | O44: =ROUND(N44*(1+M44),0) -> 0 | S44: =ROUND(R44*(1+Q44),0) -> 0 | W44: =ROUND(V44*(1+U44),0) -> 0
B46: 3 | C46: COMPUTADOR PORTATILES
H47: Rango 1 | L47: Rango 2 | P47: Rango 3 | T47: Rango 4
B48: No. | C48: Item | F48: Marca (2) | G48: Referencia (2) | H48: Cantidad | I48: Tarifa IVA % | J48: Precio Unitario sin IVA | K48: Precio Unitario con IVA | L48: Cantidad | M48: Tarifa IVA % | N48: Precio Unitario sin IVA | O48: Precio Unitario con IVA | P48: Cantidad | Q48: Tarifa IVA % | R48: Precio Unitario sin IVA | S48: Precio Unitario con IVA | T48: Cantidad | U48: Tarifa IVA % | V48: Precio Unitario sin IVA | W48: Precio Unitario con IVA
B49: 3.1. | C49: Computador Portatil Tipo 1 | H49: 1- 300 | K49: =ROUND(J49*(1+I49),0) -> 0 | L49: 301- 600 | O49: =ROUND(N49*(1+M49),0) -> 0 | P49: 601- 900 | S49: =ROUND(R49*(1+Q49),0) -> 0 | T49: 900- 1200 | W49: =ROUND(V49*(1+U49),0) -> 0
K50: =ROUND(J50*(1+I50),0) -> 0 | O50: =ROUND(N50*(1+M50),0) -> 0 | S50: =ROUND(R50*(1+Q50),0) -> 0 | W50: =ROUND(V50*(1+U50),0) -> 0
K51: =ROUND(J51*(1+I51),0) -> 0 | O51: =ROUND(N51*(1+M51),0) -> 0 | S51: =ROUND(R51*(1+Q51),0) -> 0 | W51: =ROUND(V51*(1+U51),0) -> 0
B52: 3.2. | C52: Guaya de seguridad | H52: 1- 300 | K52: =ROUND(J52*(1+I52),0) -> 0 | L52: 301- 600 | O52: =ROUND(N52*(1+M52),0) -> 0 | P52: 601- 900 | S52: =ROUND(R52*(1+Q52),0) -> 0 | T52: 900- 1200 | W52: =ROUND(V52*(1+U52),0) -> 0
K53: =ROUND(J53*(1+I53),0) -> 0 | O53: =ROUND(N53*(1+M53),0) -> 0 | S53: =ROUND(R53*(1+Q53),0) -> 0 | W53: =ROUND(V53*(1+U53),0) -> 0
K54: =ROUND(J54*(1+I54),0) -> 0 | O54: =ROUND(N54*(1+M54),0) -> 0 | S54: =ROUND(R54*(1+Q54),0) -> 0 | W54: =ROUND(V54*(1+U54),0) -> 0
B55: 3.3. | C55: Maletín (en tela) | H55: 1- 300 | K55: =ROUND(J55*(1+I55),0) -> 0 | L55: 301- 600 | O55: =ROUND(N55*(1+M55),0) -> 0 | P55: 601- 900 | S55: =ROUND(R55*(1+Q55),0) -> 0 | T55: 900- 1200 | W55: =ROUND(V55*(1+U55),0) -> 0
...

Sheet INFO GENERAL Y FINANCIERA
B8: Formato Información General Y Financiera De Proveedores
B10: Ciudad | M10: Fecha Dd/mm/aa | AD10: Persona Natural
AD11: Persona Jurídica
B12: 1. Información General
B13: 1.1. Identificación.
B14: Personas naturales | F14: Nombre Comercial | U14: Nombres y Apellidos | AK14: Cédula
B16: Personas jurídicas | F16: Razón Social | U16: NIT | AK16: DV
B18: Dirección | U18: Teléfono | AD18: Fax | AK18: Ciudad
B20: Pagina Web | U20: Años de Constitución | AD20: Sector al que pertenece
B22: 1.2. Personas De Contacto
B23: Gerente General | K23: E-mail | U23: Teléfono | AD23: Ext. | AK23: Celular
B25: Director Comercial | K25: E-mail | U25: Teléfono | AD25: Ext. | AK25: Celular
B27: Asesor Comercial | K27: E-mail | U27: Teléfono | AD27: Ext. | AK27: Celular
B29: 1.3. Productos Y Servicios Inscritos En El Rup De Acuerdo Con El Unspsc
B30: Incluir Listado Con Breve Descripción De Los Productos Y/o Servicios Que Ofrece La Compañía, Registrados En El Rup (agregue Las Filas Necesarias) | AK30: Código de Naciones Unidas
B36: 1.4. Códigos CIIU | AK36: 1.5. Número De Empleados
B37: Código De Actividad | F37: Descripción Actividad Económica CIIU | AD37: Tarifa ICA
B41: 2. Información Financiera
B42: Nombre Del Indicador | J42: Cuenta | R42: Valores En Pesos a Diciembre 31 De 2013 | Y42: Valores En Pesos a Diciembre 31 De 2014 | AF42: Indicador 2013 | AJ42: Indicador 2014 | AN42: Veces- Porcentaje
B43: Capacidad Financiera | D43: índice De Liquidez | J43: Activo Corriente --> | AF43: =+IFERROR(R43/R44,0) -> 0 | AJ43: =+IFERROR(Y43/Y44,0) -> 0 | AN43: Veces
J44: Pasivo Corriente -->
D45: Índice De Endeudamiento | J45: Pasivo Total--> | AF45: =+IFERROR(R45/R46,0) -> 0 | AJ45: =+IFERROR(Y45/Y46,0) -> 0 | AN45: Porcentaje
J46: Activo Total-->
D47: Razón De Cobertura De Intereses | J47: Utilidad Operacional--> | AF47: =+IFERROR(R47/R48,0) -> 0 | AJ47: =+IFERROR(Y47/Y48,0) -> 0 | AN47: Veces
J48: Gastos De Interés-->
D49: Capital de Trabajo | J49: Activo Corriente--> | AF49: =+R49-R50 -> 0 | AJ49: =+Y49-Y50 -> 0 | AN49: Pesos
J50: Pasivo corriente-->
B51: Capacidad Organizacional | D51: Rentabilidad Del Patrimonio | J51: Utilidad Operacional--> | AF51: =+IFERROR(R51/R52,0) -> 0 | AJ51: =+IFERROR(Y51/Y52,0) -> 0 | AN51: Porcentaje
J52: Patrimonio-->
D53: Rentabilidad Del Activo | J53: Utilidad Operacional--> | AF53: =+IFERROR(R53/R54,0) -> 0 | AJ53: =+IFERROR(Y53/Y54,0) -> 0 | AN53: Porcentaje
J54: Activo Total-->
B55: Nota: Para las empresas inspeccionadas, vigiladas o controladas por la Supersociedades, la información consignada en este numeral será validada con la reportada a la Supersociedades y disponible para consulta en Internet mediante el Sistema de Información y Riesgo Empresarial de la Supersociedades (SIREM). Si se evidencian diferencias en los valores consignados en este formato y los reportados a la Supersociedades se tomará como referencia la información del SIREM.
B56: Otra información relevante de la empresa (consigne en este espacio otra información que considere de interés)

Sheet INFO EXPERIENCIA
B8: EXPERIENCIA EN CONTRATACION EN LOS ULTIMOS 5 AÑOS
B9: EXPERIENCIA EN CONTRATACIÓN EN LOS ÚLTIMOS 5 AÑOS
B11: Empresa: | C11: =COTIZACION!D12 -> 0 | F11: Nit: | G11: =COTIZACION!L12 -> 0 | I11: Fecha: | J11: =COTIZACION!U12 -> 0
B12: Contacto: | C12: =COTIZACION!D13 -> 0 | F12: Cargo: | G12: =COTIZACION!L13 -> 0 | I12: Tel. celular: | J12: =COTIZACION!U13 -> 0
B13: E-Mail: | C13: =COTIZACION!D14 -> 0 | F13: Dirección: | G13: =COTIZACION!L14 -> 0 | I13: Tel. fijo: | J13: =COTIZACION!U14 -> 0
B15: Con el fin de conocer la experiencia con la que cuentan las empresas del sector relacionada con el objeto del presente estudio de mercado, agradecemos diligenciar el cuadro que sigue con base en los contratos suscritos en los últimos 5 años, cuyos objetos están relacionados con el objeto del presente estudio de mercado
B17: Tipo de entidad | C17: Entidad o Empresa | D17: Numero del contrato | E17: Objeto del contrato | F17: Fecha de suscripción (dd/mmm/aa) | G17: Plazo de ejecución (en años) | H17: Forma de participación (UT, consorcio, individual) | I17: % de participación | J17: Valor total ejecutado del contrato (de acuerdo con el % de participación)
B29: Nota: Agregar las filas necesarias para reportar la experiencia

Sheet POLIZAS
B8: CONCEPTOS A TENER EN CUENTA PARA REALIZAR LA COTIZACIÓN DE DOTACIÓN INDUSTRIAL
B11: El presente cuadro es de carácter informativo, no se debe diligenciar. Sin embargo se entiende que la cotización incluye la totalidad de los conceptos relacionados a continuación.
B13: PÓLIZAS PARA LEGALIZACIÓN DEL CONTRATO
B15: CONCEPTO | D15: COBERTURA | E15: PLAZO (En Meses)
B16: Garantía de Seriedad de la oferta | D16: 0.1 | E16: Plazo de Ejecución
B17: Cumplimiento | D17: 0.2 | E17: Plazo de ejecución + 4 meses mas
B18: Salarios, Prestaciones | D18: 0.1 | E18: Plazo de ejecución + 36 meses mas
B19: Calidad de los Servicios | D19: 0.2 | E19: Plazo de ejecución + 4 meses mas
B20: Responsabilidad civil extracontractual | D20: 0.1 | E20: Plazo de Ejecución
B21: Cobertura: Corresponde al porcentaje del valor total del contrato a amparar.
