Workbook
Name Decision: [1]lista!$A$6:$A$7
Name PARTICIPACION: [1]lista!$A$15:$A$17
Name Procedencia: [1]lista!$A$2:$A$3
Name tipo: [1]lista!$A$11:$A$13
Name x: [2]lista!$A$11:$A$13

Sheet Documento Digital
B10: COTIZACIÓN - SERVICIO DE GESTIÓN Y ADMINISTRACIÓN DE COMUNICACIONES OFICIALES EN SOPORTE DIGITAL
B12: EMPRESA: | G12: NIT: | J12: FECHA:
B13: CONTACTO | G13: CARGO: | J13: TEL. CELULAR :
B14: E-MAIL: | G14: DIRECCIÓN: | J14: TELEFONO FIJO:
B16: Instrucciones para el diligenciamiento del formato de cotización
B17: • Por favor diligenciar solo las celdas en AMARILLO. Se deben llenar todas las casillas. • Revisar todos los requerimientos que se exponen en el documento "Ficha de Condiciones Técnicas" y Anexos; y formular su cotización en concordancia con este. • Asignar precio sin incluir el IVA en las celdas de la columna "G" y asignar la tarifa de IVA que corresponda en las celdas de la columna "H" • El valor de la cotización deber ser expresado en PESOS COLOMBIANOS. • Los valores unitarios deberán aproximarse por exceso o por defecto al entero más cercano. Si la cifra no está aproximada y aparece con centavos, el ICBF aproximará al entero inferior. • No modificar, agregar o quitar ningún ítem o sub-ítem.
B19: Nota (1): El plazo de ejecución del contrato será de ocho (8) meses. La fase de inicio será de un (1) mes y la fase de producción o etapa de operación será de (7) meses
B20: Nota (2): Aunque el número total de Sedes Regionales y Centros Zonales a priorizar está definido en la FCT, el ICBF podrá variar la distribución, sin alterar el costo total, ni el presupuesto inicialmente establecido. Con la sola presentación de la oferta, se entiende aceptado por parte del contratista, el planteamiento anterior.
B21: Nota (3): PARA EL PRESENTE ESTUDIO DE MERCADO, y en desarrollo de los estudios previos del proceso de selección, la Entidad ha contemplado varias opciones para este servicio, con el propósito de analizar los resultados, a nivel de costos y beneficios, y determinar cuál es la opción más favorable para la Entidad. A continuación se resumen las diferentes opciones que se incluyen para este servicio:
B23: PUNTOS DE RECEPCIÓN
B25: Tiempo de ejecución 2014 (meses) (1) --> | H25: 7
B27: TIPO (Puntos de recepción) | F27: RANGO (Radicados mensuales) | H27: Cantidad (2) | I27: Precio Unitario Mes antes de IVA | J27: Tarifa IVA | K27: Valor unitario Mes Incluido IVA | L27: Total Incluido IVA
B28: TIPO A | F28: 5.501 a 8.000 | H28: 3 | K28: =+ROUND(I28*(1+J28),0) -> 0 | L28: =+K28*H28*$H$25 -> 0
B29: TIPO B | F29: 3.801 a 5.500 | H29: 1 | K29: =+ROUND(I29*(1+J29),0) -> 0 | L29: =+K29*H29*$H$25 -> 0
B30: TIPO C | F30: 1.901 a 3.800 | H30: 5 | K30: =+ROUND(I30*(1+J30),0) -> 0 | L30: =+K30*H30*$H$25 -> 0
B31: TIPO D | F31: 501 a 1.900 | H31: 25 | K31: =+ROUND(I31*(1+J31),0) -> 0 | L31: =+K31*H31*$H$25 -> 0
B32: TIPO E | F32: 1 a 500 | H32: 110 | K32: =+ROUND(I32*(1+J32),0) -> 0 | L32: =+K32*H32*$H$25 -> 0
G33: TOTAL No. PUNTOS | H33: =SUM(H28:H32) -> 144 | I33: TOTAL SERVICIO - PUNTOS DE RECEPCIÓN | L33: =SUM(L28:L32) -> 0
B36: HERRAMIENTA TECNOLÓGICA (Gestor documental) (3)
B38: OPCIÓN 1. Alquiler de la herramienta tecnológica (gestor documental) durante el plazo del contrato.
B40: OPCIÓN 1. HERRAMIENTA TECNOLÓGICA (Gestor documental) | C40: Tiempo de ejecución 2014 (meses) (1) --> | H40: =+H25 -> 7
C42: DESCRIPCIÓN | H42: Cantidad | I42: Precio Unitario Mes antes de IVA | J42: Tarifa IVA | K42: Valor unitario Mes Incluido IVA | L42: Total Incluido IVA
C43: Licencias (a la duración del contrato) | H43: 3000 | K43: =+ROUND(I43*(1+J43),0) -> 0 | L43: =+K43*H43*$H$40 -> 0
C45: DESCRIPCIÓN | I45: Valor Global antes de IVA | J45: Tarifa IVA | K45: Total Incluido IVA
C46: Configuración, parametrización e implementación del software | K46: =+ROUND(I46*(1+J46),0) -> 0
C48: VALOR TOTAL - HERRAMIENTA TECNOLÓGICA (Gestor documental) - OPCIÓN 1. | L48: =+K46+L43 -> 0
B50: OPCIÓN 2. Compra de la herramienta tecnológica (gestor documental).
B52: OPCIÓN 2. HERRAMIENTA TECNOLÓGICA (Gestor documental) | C52: DESCRIPCIÓN | H52: Cantidad | I52: Precio Unitario Mes antes de IVA | J52: Tarifa IVA | K52: Valor unitario Mes Incluido IVA | L52: Total Incluido IVA
C53: Licencias (a perpetudidad) | H53: 3000 | K53: =+ROUND(I53*(1+J53),0) -> 0 | L53: =+K53*H53 -> 0
C55: DESCRIPCIÓN | I55: Valor Global Antes de I.V.A. | J55: Tarifa IVA | K55: Total Incluido IVA
C56: Configuración, parametrización e implementación del software | K56: =+ROUND(I56*(1+J56),0) -> 0
C58: VALOR TOTAL - HERRAMIENTA TECNOLÓGICA (Gestor documental) - OPCIÓN 2. | L58: =+K56+L53 -> 0
B60: CENTRO DE DATOS (3)
B62: OPCIÓN 1 - Modadlidad de Hosting
B64: OPCIÓN 1 - MODALIDAD DE HOSTING | C64: Tiempo de ejecución 2014 (meses) (1) --> | H64: =+$H$25 -> 7
C66: DESCRIPCIÓN | I66: Valor Mes Antes de IVA | J66: Tarifa IVA | K66: Valor Mes Incluido IVA | L66: Total Incluido IVA
C67: Servicio de arrendamiento del Centro de datos, modalidad de hosting | K67: =+ROUND(I67*(1+J67),0) -> 0 | L67: =+K67*$H$64 -> 0
C69: VALOR TOTAL - CENTRO DE DATOS - OPCIÓN 1. | L69: =+L67 -> 0
B71: OPCIÓN 1 - Modadlidad Virtual
B73: OPCIÓN 2: MODALIDAD VIRTUAL | C73: Tiempo de ejecución 2014 (meses) (1) --> | H73: =+$H$25 -> 7
...

Sheet INFO GENERAL Y FINANCIERA
B8: Formato Información General Y Financiera De Proveedores
B10: Ciudad | M10: Fecha Dd/mm/aa | AD10: Persona Natural
AD11: Persona Jurídica
B12: 1. Información General
B13: 1.1. Identificación.
B14: Personas naturales | F14: Nombre Comercial | U14: Nombres y Apellidos | AK14: Cédula
B16: Personas jurídicas | F16: Razón Social | U16: NIT | AK16: DV
B18: Dirección | U18: Teléfono | AD18: Fax | AK18: Ciudad
B20: Pagina Web | U20: Años de Constitución | AD20: Sector al que pertenece
B22: 1.2. Personas De Contacto
B23: Gerente General | K23: E-mail | U23: Teléfono | AD23: Ext. | AK23: Celular
B25: Director Comercial | K25: E-mail | U25: Teléfono | AD25: Ext. | AK25: Celular
B27: Asesor Comercial | K27: E-mail | U27: Teléfono | AD27: Ext. | AK27: Celular
B29: 1.3. Productos Y Servicios Inscritos En El Rup De Acuerdo Con El Unspsc
B30: Incluir Listado Con Breve Descripción De Los Productos Y/o Servicios Que Ofrece La Compañía, Registrados En El Rup (agregue Las Filas Necesarias) | AK30: Código de Naciones Unidas
B36: 1.4. Códigos CIIU | AK36: 1.5. Número De Empleados
B37: Código De Actividad | F37: Descripción Actividad Económica CIIU | AD37: Tarifa ICA
B41: 2. Información Financiera - A Diciembre 31 De 2012
B42: Nombre Del Indicador | M42: Cuenta | U42: Valores En Pesos | AD42: Indicador
B43: Capacidad Financiera | F43: índice De Liquidez | M43: Activo Corriente --> | AD43: =+IFERROR(U43/U44,0) -> 0 | AK43: Veces
M44: Pasivo Corriente -->
F45: Índice De Endeudamiento | M45: Pasivo Total--> | AD45: =+IFERROR(U45/U46,0) -> 0 | AK45: Porcentaje
M46: Activo Total-->
F47: Razón De Cobertura De Intereses | M47: Utilidad Operacional--> | AD47: =+IFERROR(U47/U48,0) -> 0 | AK47: Veces
M48: Gastos De Interés-->
B49: Capacidad Organizacional | F49: Rentabilidad Del Patrimonio | M49: Utilidad Operacional--> | AD49: =+IFERROR(U49/U50,0) -> 0 | AK49: Porcentaje
M50: Patrimonio-->
F51: Rentabilidad Del Activo | M51: Utilidad Operacional--> | AD51: =+IFERROR(U51/U52,0) -> 0 | AK51: Porcentaje
M52: Activo Total-->
B53: Nota: Para las empresas inspeccionadas, vigiladas o controladas por la Supersociedades, la información consignada en este numeral será validada con la reportada a la Supersociedades y disponible para consulta en Internet mediante el Sistema de Información y Riesgo Empresarial de la Supersociedades (SIREM). Si se evidencian diferencias en los valores consignados en este formato y los reportados a la Supersociedades se tomará como referencia la información del SIREM.
B54: Otra información relevante de la empresa (consigne en este espacio otra información que considere de interés)

Sheet POLIZAS
B9: CONCEPTOS A TENER EN CUENTA PARA REALIZAR LA COTIZACIÓN DE DOTACIÓN INDUSTRIAL
B12: El presente cuadro es de carácter informativo, no se debe diligenciar. Sin embargo se entiende que la cotización incluye la totalidad de los conceptos relacionados a continuación.
B14: POLIZAS PARA LEGALIZACIÓN DEL CONTRATO
B16: CONCEPTO | D16: COBERTURA | E16: PLAZO (En Meses)
B17: Garantía de Seriedad de la oferta | D17: 0.1 | E17: Plazo de Ejecución
B18: Cumplimiento | D18: 0.2 | E18: Plazo de ejecución + 4 meses mas
B19: Salarios, Prestaciones | D19: 0.1 | E19: Plazo de ejecución + 36 meses mas
B20: Calidad de los Servicios | D20: 0.2 | E20: Plazo de ejecución + 4 meses mas
B21: Responsabilidad civil extracontraactual | D21: 0.1 | E21: Plazo de Ejecución
B22: Cobertura: Corresponde al porcentaje del valor total del contrato a amparar.

Sheet INFO EXPERIENCIA
B8: EXPERIENCIA EN CONTRATACION EN LOS ULTIMOS 5 AÑOS
B9: EXPERIENCIA EN CONTRATACIÓN EN LOS ÚLTIMOS 5 AÑOS
B11: Empresa: | C11: =IF('Documento Digital'!D12="","",'Documento Digital'!D12) | F11: Nit: | G11: =IF('Documento Digital'!H12:H12="","",'Documento Digital'!H12:H12) | I11: Fecha: | J11: =IF('Documento Digital'!K12="","",'Documento Digital'!K12)
B12: Contacto: | C12: =IF('Documento Digital'!D13="","",'Documento Digital'!D13) | F12: Cargo: | G12: =IF('Documento Digital'!H13:H13="","",'Documento Digital'!H13:H13) | I12: Tel. celular: | J12: =IF('Documento Digital'!K13="","",'Documento Digital'!K13)
B13: E-Mail: | C13: =IF('Documento Digital'!D14="","",'Documento Digital'!D14) | F13: Dirección: | G13: =IF('Documento Digital'!H14:H14="","",'Documento Digital'!H14:H14) | I13: Tel. fijo: | J13: =IF('Documento Digital'!K14="","",'Documento Digital'!K14)
B15: Con el fin de conocer la experiencia con la que cuentan las empresas del sector relacionada con el objeto del presente estudio de mercado, agradecemos diligenciar el cuadro que sigue con base en los contratos suscritos en los últimos 5 años, cuyos objetos están relacionados con el objeto del presente estudio de mercado
B17: Tipo de entidad | C17: Entidad o Empresa | D17: Numero del contrato | E17: Objeto del contrato | F17: Fecha de suscripción (dd/mmm/aa) | G17: Plazo de ejecución (en años) | H17: Forma de participación (UT, consorcio, individual) | I17: % de participación | J17: Valor total ejecutado del contrato (de acuerdo con el % de participación)
B29: Nota: Agregar las filas necesarias para reportar la experiencia
