Workbook
Name Decision: [1]lista!$A$6:$A$7
Name PARTICIPACION: [1]lista!$A$15:$A$17
Name Procedencia: [1]lista!$A$2:$A$3
Name tipo: [1]lista!$A$11:$A$13
Name x: [2]lista!$A$11:$A$13

Sheet INFO GENERAL Y FINANCIERA
B8: Formato Información General Y Financiera De Proveedores
B10: Ciudad | M10: Fecha Dd/mm/aa | AD10: Persona Natural
AD11: Persona Jurídica
B12: 1. Información General
B13: 1.1. Identificación.
B14: Personas naturales | F14: Nombre Comercial | U14: Nombres y Apellidos | AK14: Cédula
B16: Personas jurídicas | F16: Razón Social | U16: NIT | AK16: DV
B18: Dirección | U18: Teléfono | AD18: Fax | AK18: Ciudad
B20: Pagina Web | U20: Años de Constitución | AD20: Sector al que pertenece
B22: 1.2. Personas De Contacto
B23: Gerente General | K23: E-mail | U23: Teléfono | AD23: Ext. | AK23: Celular
B25: Director Comercial | K25: E-mail | U25: Teléfono | AD25: Ext. | AK25: Celular
B27: Asesor Comercial | K27: E-mail | U27: Teléfono | AD27: Ext. | AK27: Celular
B29: 1.3. Productos Y Servicios Inscritos En El Rup De Acuerdo Con El Unspsc
B30: Incluir Listado Con Breve Descripción De Los Productos Y/o Servicios Que Ofrece La Compañía, Registrados En El Rup (agregue Las Filas Necesarias) | AK30: Código de Naciones Unidas
B36: 1.4. Códigos CIIU | AK36: 1.5. Número De Empleados
B37: Código De Actividad | F37: Descripción Actividad Económica CIIU | AD37: Tarifa ICA
B41: 2. Información Financiera - A Diciembre 31 De 2012
B42: Nombre Del Indicador | M42: Cuenta | U42: Valores En Pesos | AD42: Indicador
B43: Capacidad Financiera | F43: índice De Liquidez | M43: Activo Corriente --> | AD43: =+IFERROR(U43/U44,0) -> 0 | AK43: Veces
M44: Pasivo Corriente -->
F45: Índice De Endeudamiento | M45: Pasivo Total--> | AD45: =+IFERROR(U45/U46,0) -> 0 | AK45: Porcentaje
M46: Activo Total-->
F47: Razón De Cobertura De Intereses | M47: Utilidad Operacional--> | AD47: =+IFERROR(U47/U48,0) -> 0 | AK47: Veces
M48: Gastos De Interés-->
B49: Capacidad Organizacional | F49: Rentabilidad Del Patrimonio | M49: Utilidad Operacional--> | AD49: =+IFERROR(U49/U50,0) -> 0 | AK49: Porcentaje
M50: Patrimonio-->
F51: Rentabilidad Del Activo | M51: Utilidad Operacional--> | AD51: =+IFERROR(U51/U52,0) -> 0 | AK51: Porcentaje
M52: Activo Total-->
B53: Nota: Para las empresas inspeccionadas, vigiladas o controladas por la Supersociedades, la información consignada en este numeral será validada con la reportada a la Supersociedades y disponible para consulta en Internet mediante el Sistema de Información y Riesgo Empresarial de la Supersociedades (SIREM). Si se evidencian diferencias en los valores consignados en este formato y los reportados a la Supersociedades se tomará como referencia la información del SIREM.
B54: Otra información relevante de la empresa (consigne en este espacio otra información que considere de interés)

Sheet ACOMPAÑANTE
B10: COTIZACIÓN ACOMPAÑANTE COMPLEMENTO NUTRICIONAL TIPO II | Q10: COTIZACIÓN ACOMPAÑANTE COMPLEMENTO NUTRICIONAL TIPO II
B12: EMPRESA: | H12: NIT: | N12: FECHA: | Q12: EMPRESA: | S12: =+D12 -> 0 | W12: NIT: | X12: =+I12 -> 0 | AC12: FECHA:
B13: CONTACTO | H13: CARGO: | N13: TEL. CELULAR : | Q13: CONTACTO | S13: =+D13 -> 0 | W13: CARGO: | X13: =+I13 -> 0 | AC13: TEL. CELULAR :
B14: E-MAIL: | H14: DIRECCIÓN: | N14: TELEFONO FIJO: | Q14: E-MAIL: | S14: =+D14 -> 0 | W14: DIRECCIÓN: | X14: =+I14 -> 0 | AC14: TELEFONO FIJO:
B16: Instrucciones para el diligenciamiento del formato de cotización
B17: • Por favor diligenciar solo las celdas en AMARILLO. Se deben llenar todas las casillas. • Revisar todos los requerimientos que se exponen en el documento "Ficha de Condiciones Técnicas" y Anexos; y formular su cotización en concordancia con este. • Asignar precio sin incluir el IVA en las celdas de la columna "O,P,Q " y asignar la tarifa de IVA que corresponda en las celdas de la columna "N" • El valor de la cotización deber ser expresado en PESOS COLOMBIANOS. • Los valores unitarios deberán aproximarse por exceso o por defecto al entero más cercano. Si la cifra no está aproximada y aparece con centavos, el ICBF aproximará al entero inferior. • No modificar, agregar o quitar ningún ítem o sub-ítem. | N17: Días hábiles x ciclo | O17: Días atención | P17: Cantidad de ciclos
N18: 20 | O18: =P18*N18 -> 60 | P18: 3
G22: 8 | H22: 8 | I22: 4
G23: CANTIDADES DE ACOMPAÑANTE | M23: Tarifa IVA % | N23: Costo Unitarios por cada tipo de acompañante | S23: COSTO TOTAL INCLUIDO IVA UN CICLO | V23: COSTO TOTAL INCLUIDO IVA TRES CICLO
B24: MACRO | C24: Regional | D24: Regional donde el ICBF entregará las galletas | E24: Municipio de entrega las galletas | F24: Total Beneficiarios Tipo II | G24: ACOMPAÑANTE UN CICLO | J24: ACOMPAÑANTE TRES CICLOS | Q24: MACRO | R24: Regional | S24: Galletas tipo cracker | T24: Galletas tipo sándwich | U24: Galletas tipo wafer | V24: Galletas tipo cracker | W24: Galletas tipo sándwich | X24: Galletas tipo wafer
G25: Galletas tipo cracker | H25: Galletas tipo sándwich | I25: Galletas tipo wafer | J25: Galletas tipo cracker | K25: Galletas tipo sándwich | L25: Galletas tipo wafer | N25: Galletas tipo cracker | O25: Galletas tipo sándwich | P25: Galletas tipo wafer
B26: 1 | C26: CESAR | D26: Cesar | E26: Valledupar | F26: 31937 | G26: =+SUM($F26)*G$22 -> 255496 | H26: =+SUM($F26)*H$22 -> 255496 | I26: =+SUM($F26)*I$22 -> 127748 | J26: =+G26*$P$18 -> 766488 | K26: =+H26*$P$18 -> 766488 | L26: =+I26*$P$18 -> 383244 | Q26: 1 | R26: CESAR | S26: =+ROUND(N26*(1+$M26),0)*G26 -> 0 | T26: =+ROUND(O26*(1+$M26),0)*H26 -> 0 | U26: =+ROUND(P26*(1+$M26),0)*I26 -> 0 | V26: =+S26*$P$18 -> 0 | W26: =+T26*$P$18 -> 0 | X26: =+U26*$P$18 -> 0
C27: LA GUAJIRA | F27: 30880 | G27: =+SUM($F27)*G$22 -> 247040 | H27: =+SUM($F27)*H$22 -> 247040 | I27: =+SUM($F27)*I$22 -> 123520 | J27: =+G27*$P$18 -> 741120 | K27: =+H27*$P$18 -> 741120 | L27: =+I27*$P$18 -> 370560 | R27: LA GUAJIRA | S27: =+ROUND(N27*(1+$M27),0)*G27 -> 0 | T27: =+ROUND(O27*(1+$M27),0)*H27 -> 0 | U27: =+ROUND(P27*(1+$M27),0)*I27 -> 0 | V27: =+S27*$P$18 -> 0 | W27: =+T27*$P$18 -> 0 | X27: =+U27*$P$18 -> 0
C28: MAGDALENA | D28: Magdalena | E28: Santa Marta | F28: 25790 | G28: =+SUM($F28)*G$22 -> 206320 | H28: =+SUM($F28)*H$22 -> 206320 | I28: =+SUM($F28)*I$22 -> 103160 | J28: =+G28*$P$18 -> 618960 | K28: =+H28*$P$18 -> 618960 | L28: =+I28*$P$18 -> 309480 | R28: MAGDALENA | S28: =+ROUND(N28*(1+$M28),0)*G28 -> 0 | T28: =+ROUND(O28*(1+$M28),0)*H28 -> 0 | U28: =+ROUND(P28*(1+$M28),0)*I28 -> 0 | V28: =+S28*$P$18 -> 0 | W28: =+T28*$P$18 -> 0 | X28: =+U28*$P$18 -> 0
C29: TOTAL | F29: =SUM(F26:F28) -> 88607 | G29: =SUM(G26:G28) -> 708856 | H29: =SUM(H26:H28) -> 708856 | I29: =SUM(I26:I28) -> 354428 | J29: =SUM(J26:J28) -> 2126568 | K29: =SUM(K26:K28) -> 2126568 | L29: =SUM(L26:L28) -> 1063284 | R29: TOTAL | S29: =SUM(S26:S28) -> 0 | T29: =SUM(T26:T28) -> 0 | U29: =SUM(U26:U28) -> 0 | V29: =SUM(V26:V28) -> 0 | W29: =SUM(W26:W28) -> 0 | X29: =SUM(X26:X28) -> 0
B30: 2 | C30: ATLANTICO | D30: Atlántico | E30: Barranquilla | F30: 22641 | G30: =+SUM($F30)*G$22 -> 181128 | H30: =+SUM($F30)*H$22 -> 181128 | I30: =+SUM($F30)*I$22 -> 90564 | J30: =+G30*$P$18 -> 543384 | K30: =+H30*$P$18 -> 543384 | L30: =+I30*$P$18 -> 271692 | Q30: 2 | R30: ATLANTICO | S30: =+ROUND(N30*(1+$M30),0)*G30 -> 0 | T30: =+ROUND(O30*(1+$M30),0)*H30 -> 0 | U30: =+ROUND(P30*(1+$M30),0)*I30 -> 0 | V30: =+S30*$P$18 -> 0 | W30: =+T30*$P$18 -> 0 | X30: =+U30*$P$18 -> 0
C31: BOLIVAR | D31: Bolívar | E31: Cartagena | F31: 39380 | G31: =+SUM($F31)*G$22 -> 315040 | H31: =+SUM($F31)*H$22 -> 315040 | I31: =+SUM($F31)*I$22 -> 157520 | J31: =+G31*$P$18 -> 945120 | K31: =+H31*$P$18 -> 945120 | L31: =+I31*$P$18 -> 472560 | R31: BOLIVAR | S31: =+ROUND(N31*(1+$M31),0)*G31 -> 0 | T31: =+ROUND(O31*(1+$M31),0)*H31 -> 0 | U31: =+ROUND(P31*(1+$M31),0)*I31 -> 0 | V31: =+S31*$P$18 -> 0 | W31: =+T31*$P$18 -> 0 | X31: =+U31*$P$18 -> 0
C32: SAN ANDRES | F32: 1092 | G32: =+SUM($F32)*G$22 -> 8736 | H32: =+SUM($F32)*H$22 -> 8736 | I32: =+SUM($F32)*I$22 -> 4368 | J32: =+G32*$P$18 -> 26208 | K32: =+H32*$P$18 -> 26208 | L32: =+I32*$P$18 -> 13104 | R32: SAN ANDRES | S32: =+ROUND(N32*(1+$M32),0)*G32 -> 0 | T32: =+ROUND(O32*(1+$M32),0)*H32 -> 0 | U32: =+ROUND(P32*(1+$M32),0)*I32 -> 0 | V32: =+S32*$P$18 -> 0 | W32: =+T32*$P$18 -> 0 | X32: =+U32*$P$18 -> 0
C33: TOTAL | F33: =SUM(F30:F32) -> 63113 | G33: =SUM(G30:G32) -> 504904 | H33: =SUM(H30:H32) -> 504904 | I33: =SUM(I30:I32) -> 252452 | J33: =SUM(J30:J32) -> 1514712 | K33: =SUM(K30:K32) -> 1514712 | L33: =SUM(L30:L32) -> 757356 | R33: TOTAL | S33: =SUM(S30:S32) -> 0 | T33: =SUM(T30:T32) -> 0 | U33: =SUM(U30:U32) -> 0 | V33: =SUM(V30:V32) -> 0 | W33: =SUM(W30:W32) -> 0 | X33: =SUM(X30:X32) -> 0
B34: 3 | C34: CORDOBA | D34: Córdoba | E34: Montería | F34: 41422 | G34: =+SUM($F34)*G$22 -> 331376 | H34: =+SUM($F34)*H$22 -> 331376 | I34: =+SUM($F34)*I$22 -> 165688 | J34: =+G34*$P$18 -> 994128 | K34: =+H34*$P$18 -> 994128 | L34: =+I34*$P$18 -> 497064 | Q34: 3 | R34: CORDOBA | S34: =+ROUND(N34*(1+$M34),0)*G34 -> 0 | T34: =+ROUND(O34*(1+$M34),0)*H34 -> 0 | U34: =+ROUND(P34*(1+$M34),0)*I34 -> 0 | V34: =+S34*$P$18 -> 0 | W34: =+T34*$P$18 -> 0 | X34: =+U34*$P$18 -> 0
C35: SUCRE | F35: 24837 | G35: =+SUM($F35)*G$22 -> 198696 | H35: =+SUM($F35)*H$22 -> 198696 | I35: =+SUM($F35)*I$22 -> 99348 | J35: =+G35*$P$18 -> 596088 | K35: =+H35*$P$18 -> 596088 | L35: =+I35*$P$18 -> 298044 | R35: SUCRE | S35: =+ROUND(N35*(1+$M35),0)*G35 -> 0 | T35: =+ROUND(O35*(1+$M35),0)*H35 -> 0 | U35: =+ROUND(P35*(1+$M35),0)*I35 -> 0 | V35: =+S35*$P$18 -> 0 | W35: =+T35*$P$18 -> 0 | X35: =+U35*$P$18 -> 0
C36: TOTAL | F36: =SUM(F34:F35) -> 66259 | G36: =SUM(G34:G35) -> 530072 | H36: =SUM(H34:H35) -> 530072 | I36: =SUM(I34:I35) -> 265036 | J36: =SUM(J34:J35) -> 1590216 | K36: =SUM(K34:K35) -> 1590216 | L36: =SUM(L34:L35) -> 795108 | R36: TOTAL | S36: =SUM(S34:S35) -> 0 | T36: =SUM(T34:T35) -> 0 | U36: =SUM(U34:U35) -> 0 | V36: =SUM(V34:V35) -> 0 | W36: =SUM(W34:W35) -> 0 | X36: =SUM(X34:X35) -> 0
B37: 4 | C37: CALDAS | D37: Risaralda | E37: Pereira | F37: 3782 | G37: =+SUM($F37)*G$22 -> 30256 | H37: =+SUM($F37)*H$22 -> 30256 | I37: =+SUM($F37)*I$22 -> 15128 | J37: =+G37*$P$18 -> 90768 | K37: =+H37*$P$18 -> 90768 | L37: =+I37*$P$18 -> 45384 | Q37: 4 | R37: CALDAS | S37: =+ROUND(N37*(1+$M37),0)*G37 -> 0 | T37: =+ROUND(O37*(1+$M37),0)*H37 -> 0 | U37: =+ROUND(P37*(1+$M37),0)*I37 -> 0 | V37: =+S37*$P$18 -> 0 | W37: =+T37*$P$18 -> 0 | X37: =+U37*$P$18 -> 0
C38: CAQUETA | F38: 12843 | G38: =+SUM($F38)*G$22 -> 102744 | H38: =+SUM($F38)*H$22 -> 102744 | I38: =+SUM($F38)*I$22 -> 51372 | J38: =+G38*$P$18 -> 308232 | K38: =+H38*$P$18 -> 308232 | L38: =+I38*$P$18 -> 154116 | R38: CAQUETA | S38: =+ROUND(N38*(1+$M38),0)*G38 -> 0 | T38: =+ROUND(O38*(1+$M38),0)*H38 -> 0 | U38: =+ROUND(P38*(1+$M38),0)*I38 -> 0 | V38: =+S38*$P$18 -> 0 | W38: =+T38*$P$18 -> 0 | X38: =+U38*$P$18 -> 0
C39: CHOCO | F39: 12950 | G39: =+SUM($F39)*G$22 -> 103600 | H39: =+SUM($F39)*H$22 -> 103600 | I39: =+SUM($F39)*I$22 -> 51800 | J39: =+G39*$P$18 -> 310800 | K39: =+H39*$P$18 -> 310800 | L39: =+I39*$P$18 -> 155400 | R39: CHOCO | S39: =+ROUND(N39*(1+$M39),0)*G39 -> 0 | T39: =+ROUND(O39*(1+$M39),0)*H39 -> 0 | U39: =+ROUND(P39*(1+$M39),0)*I39 -> 0 | V39: =+S39*$P$18 -> 0 | W39: =+T39*$P$18 -> 0 | X39: =+U39*$P$18 -> 0
C40: HUILA | F40: 28031 | G40: =+SUM($F40)*G$22 -> 224248 | H40: =+SUM($F40)*H$22 -> 224248 | I40: =+SUM($F40)*I$22 -> 112124 | J40: =+G40*$P$18 -> 672744 | K40: =+H40*$P$18 -> 672744 | L40: =+I40*$P$18 -> 336372 | R40: HUILA | S40: =+ROUND(N40*(1+$M40),0)*G40 -> 0 | T40: =+ROUND(O40*(1+$M40),0)*H40 -> 0 | U40: =+ROUND(P40*(1+$M40),0)*I40 -> 0 | V40: =+S40*$P$18 -> 0 | W40: =+T40*$P$18 -> 0 | X40: =+U40*$P$18 -> 0
C41: QUINDIO | D41: Huila | E41: Neiva | F41: 3775 | G41: =+SUM($F41)*G$22 -> 30200 | H41: =+SUM($F41)*H$22 -> 30200 | I41: =+SUM($F41)*I$22 -> 15100 | J41: =+G41*$P$18 -> 90600 | K41: =+H41*$P$18 -> 90600 | L41: =+I41*$P$18 -> 45300 | R41: QUINDIO | S41: =+ROUND(N41*(1+$M41),0)*G41 -> 0 | T41: =+ROUND(O41*(1+$M41),0)*H41 -> 0 | U41: =+ROUND(P41*(1+$M41),0)*I41 -> 0 | V41: =+S41*$P$18 -> 0 | W41: =+T41*$P$18 -> 0 | X41: =+U41*$P$18 -> 0
C42: RISARALDA | D42: Caquetá | E42: Florencia | F42: 12393 | G42: =+SUM($F42)*G$22 -> 99144 | H42: =+SUM($F42)*H$22 -> 99144 | I42: =+SUM($F42)*I$22 -> 49572 | J42: =+G42*$P$18 -> 297432 | K42: =+H42*$P$18 -> 297432 | L42: =+I42*$P$18 -> 148716 | R42: RISARALDA | S42: =+ROUND(N42*(1+$M42),0)*G42 -> 0 | T42: =+ROUND(O42*(1+$M42),0)*H42 -> 0 | U42: =+ROUND(P42*(1+$M42),0)*I42 -> 0 | V42: =+S42*$P$18 -> 0 | W42: =+T42*$P$18 -> 0 | X42: =+U42*$P$18 -> 0
C43: TOLIMA | D43: Tolima | E43: Ibagué | F43: 30299 | G43: =+SUM($F43)*G$22 -> 242392 | H43: =+SUM($F43)*H$22 -> 242392 | I43: =+SUM($F43)*I$22 -> 121196 | J43: =+G43*$P$18 -> 727176 | K43: =+H43*$P$18 -> 727176 | L43: =+I43*$P$18 -> 363588 | R43: TOLIMA | S43: =+ROUND(N43*(1+$M43),0)*G43 -> 0 | T43: =+ROUND(O43*(1+$M43),0)*H43 -> 0 | U43: =+ROUND(P43*(1+$M43),0)*I43 -> 0 | V43: =+S43*$P$18 -> 0 | W43: =+T43*$P$18 -> 0 | X43: =+U43*$P$18 -> 0
C44: TOTAL | F44: =SUM(F37:F43) -> 104073 | G44: =SUM(G37:G43) -> 832584 | H44: =SUM(H37:H43) -> 832584 | I44: =SUM(I37:I43) -> 416292 | J44: =SUM(J37:J43) -> 2497752 | K44: =SUM(K37:K43) -> 2497752 | L44: =SUM(L37:L43) -> 1248876 | R44: TOTAL | S44: =SUM(S37:S43) -> 0 | T44: =SUM(T37:T43) -> 0 | U44: =SUM(U37:U43) -> 0 | V44: =SUM(V37:V43) -> 0 | W44: =SUM(W37:W43) -> 0 | X44: =SUM(X37:X43) -> 0
B45: 5 | C45: CAUCA | D45: Nariño | E45: Pasto | F45: 18714 | G45: =+SUM($F45)*G$22 -> 149712 | H45: =+SUM($F45)*H$22 -> 149712 | I45: =+SUM($F45)*I$22 -> 74856 | J45: =+G45*$P$18 -> 449136 | K45: =+H45*$P$18 -> 449136 | L45: =+I45*$P$18 -> 224568 | Q45: 5 | R45: CAUCA | S45: =+ROUND(N45*(1+$M45),0)*G45 -> 0 | T45: =+ROUND(O45*(1+$M45),0)*H45 -> 0 | U45: =+ROUND(P45*(1+$M45),0)*I45 -> 0 | V45: =+S45*$P$18 -> 0 | W45: =+T45*$P$18 -> 0 | X45: =+U45*$P$18 -> 0
C46: NARIÑO | F46: 24291 | G46: =+SUM($F46)*G$22 -> 194328 | H46: =+SUM($F46)*H$22 -> 194328 | I46: =+SUM($F46)*I$22 -> 97164 | J46: =+G46*$P$18 -> 582984 | K46: =+H46*$P$18 -> 582984 | L46: =+I46*$P$18 -> 291492 | R46: NARIÑO | S46: =+ROUND(N46*(1+$M46),0)*G46 -> 0 | T46: =+ROUND(O46*(1+$M46),0)*H46 -> 0 | U46: =+ROUND(P46*(1+$M46),0)*I46 -> 0 | V46: =+S46*$P$18 -> 0 | W46: =+T46*$P$18 -> 0 | X46: =+U46*$P$18 -> 0
C47: PUTUMAYO | D47: Valle del Cauca | E47: Cali | F47: 7281 | G47: =+SUM($F47)*G$22 -> 58248 | H47: =+SUM($F47)*H$22 -> 58248 | I47: =+SUM($F47)*I$22 -> 29124 | J47: =+G47*$P$18 -> 174744 | K47: =+H47*$P$18 -> 174744 | L47: =+I47*$P$18 -> 87372 | R47: PUTUMAYO | S47: =+ROUND(N47*(1+$M47),0)*G47 -> 0 | T47: =+ROUND(O47*(1+$M47),0)*H47 -> 0 | U47: =+ROUND(P47*(1+$M47),0)*I47 -> 0 | V47: =+S47*$P$18 -> 0 | W47: =+T47*$P$18 -> 0 | X47: =+U47*$P$18 -> 0
C48: VALLE DEL CAUCA | D48: Valle del Cauca | E48: Cali | F48: 39227 | G48: =+SUM($F48)*G$22 -> 313816 | H48: =+SUM($F48)*H$22 -> 313816 | I48: =+SUM($F48)*I$22 -> 156908 | J48: =+G48*$P$18 -> 941448 | K48: =+H48*$P$18 -> 941448 | L48: =+I48*$P$18 -> 470724 | R48: VALLE DEL CAUCA | S48: =+ROUND(N48*(1+$M48),0)*G48 -> 0 | T48: =+ROUND(O48*(1+$M48),0)*H48 -> 0 | U48: =+ROUND(P48*(1+$M48),0)*I48 -> 0 | V48: =+S48*$P$18 -> 0 | W48: =+T48*$P$18 -> 0 | X48: =+U48*$P$18 -> 0
C49: TOTAL | F49: =SUM(F45:F48) -> 89513 | G49: =SUM(G45:G48) -> 716104 | H49: =SUM(H45:H48) -> 716104 | I49: =SUM(I45:I48) -> 358052 | J49: =SUM(J45:J48) -> 2148312 | K49: =SUM(K45:K48) -> 2148312 | L49: =SUM(L45:L48) -> 1074156 | R49: TOTAL | S49: =SUM(S45:S48) -> 0 | T49: =SUM(T45:T48) -> 0 | U49: =SUM(U45:U48) -> 0 | V49: =SUM(V45:V48) -> 0 | W49: =SUM(W45:W48) -> 0 | X49: =SUM(X45:X48) -> 0
B50: 6 | C50: ARAUCA | D50: Santander | E50: Bucaramanga | F50: 7164 | G50: =+SUM($F50)*G$22 -> 57312 | H50: =+SUM($F50)*H$22 -> 57312 | I50: =+SUM($F50)*I$22 -> 28656 | J50: =+G50*$P$18 -> 171936 | K50: =+H50*$P$18 -> 171936 | L50: =+I50*$P$18 -> 85968 | Q50: 6 | R50: ARAUCA | S50: =+ROUND(N50*(1+$M50),0)*G50 -> 0 | T50: =+ROUND(O50*(1+$M50),0)*H50 -> 0 | U50: =+ROUND(P50*(1+$M50),0)*I50 -> 0 | V50: =+S50*$P$18 -> 0 | W50: =+T50*$P$18 -> 0 | X50: =+U50*$P$18 -> 0
C51: NORTE DE SANTANDER | D51: N. de Santander | E51: Cúcuta | F51: 24512 | G51: =+SUM($F51)*G$22 -> 196096 | H51: =+SUM($F51)*H$22 -> 196096 | I51: =+SUM($F51)*I$22 -> 98048 | J51: =+G51*$P$18 -> 588288 | K51: =+H51*$P$18 -> 588288 | L51: =+I51*$P$18 -> 294144 | R51: NORTE DE SANTANDER | S51: =+ROUND(N51*(1+$M51),0)*G51 -> 0 | T51: =+ROUND(O51*(1+$M51),0)*H51 -> 0 | U51: =+ROUND(P51*(1+$M51),0)*I51 -> 0 | V51: =+S51*$P$18 -> 0 | W51: =+T51*$P$18 -> 0 | X51: =+U51*$P$18 -> 0
C52: SANTANDER | D52: Arauca | E52: Arauca | F52: 32937 | G52: =+SUM($F52)*G$22 -> 263496 | H52: =+SUM($F52)*H$22 -> 263496 | I52: =+SUM($F52)*I$22 -> 131748 | J52: =+G52*$P$18 -> 790488 | K52: =+H52*$P$18 -> 790488 | L52: =+I52*$P$18 -> 395244 | R52: SANTANDER | S52: =+ROUND(N52*(1+$M52),0)*G52 -> 0 | T52: =+ROUND(O52*(1+$M52),0)*H52 -> 0 | U52: =+ROUND(P52*(1+$M52),0)*I52 -> 0 | V52: =+S52*$P$18 -> 0 | W52: =+T52*$P$18 -> 0 | X52: =+U52*$P$18 -> 0
C53: TOTAL | F53: =SUM(F50:F52) -> 64613 | G53: =SUM(G50:G52) -> 516904 | H53: =SUM(H50:H52) -> 516904 | I53: =SUM(I50:I52) -> 258452 | J53: =SUM(J50:J52) -> 1550712 | K53: =SUM(K50:K52) -> 1550712 | L53: =SUM(L50:L52) -> 775356 | R53: TOTAL | S53: =SUM(S50:S52) -> 0 | T53: =SUM(T50:T52) -> 0 | U53: =SUM(U50:U52) -> 0 | V53: =SUM(V50:V52) -> 0 | W53: =SUM(W50:W52) -> 0 | X53: =SUM(X50:X52) -> 0
B54: 7 | C54: BOGOTA | D54: Boyacá | E54: Tunja | F54: 27953 | G54: =+SUM($F54)*G$22 -> 223624 | H54: =+SUM($F54)*H$22 -> 223624 | I54: =+SUM($F54)*I$22 -> 111812 | J54: =+G54*$P$18 -> 670872 | K54: =+H54*$P$18 -> 670872 | L54: =+I54*$P$18 -> 335436 | Q54: 7 | R54: BOGOTA | S54: =+ROUND(N54*(1+$M54),0)*G54 -> 0 | T54: =+ROUND(O54*(1+$M54),0)*H54 -> 0 | U54: =+ROUND(P54*(1+$M54),0)*I54 -> 0 | V54: =+S54*$P$18 -> 0 | W54: =+T54*$P$18 -> 0 | X54: =+U54*$P$18 -> 0
...

Sheet POLIZAS
B9: CONCEPTOS A TENER EN CUENTA PARA REALIZAR LA COTIZACIÓN DE DOTACIÓN INDUSTRIAL
B12: El presente cuadro es de carácter informativo, no se debe diligenciar. Sin embargo se entiende que la cotización incluye la totalidad de los conceptos relacionados a continuación.
B14: POLIZAS PARA LEGALIZACIÓN DEL CONTRATO
B16: CONCEPTO | D16: COBERTURA | E16: PLAZO (En Meses)
B17: Garantía de Seriedad de la oferta | D17: 0.1 | E17: Plazo de Ejecución
B18: Cumplimiento | D18: 0.2 | E18: Plazo de ejecución + 4 meses mas
B19: Salarios, Prestaciones | D19: 0.1 | E19: Plazo de ejecución + 36 meses mas
B20: Calidad de los Servicios | D20: 0.2 | E20: Plazo de ejecución + 4 meses mas
B21: Responsabilidad civil extracontraactual | D21: 0.1 | E21: Plazo de Ejecución
B22: Cobertura: Corresponde al porcentaje del valor total del contrato a amparar.

Sheet INFO EXPERIENCIA
B8: EXPERIENCIA EN CONTRATACION EN LOS ULTIMOS 5 AÑOS
B9: EXPERIENCIA EN CONTRATACIÓN EN LOS ÚLTIMOS 5 AÑOS
B11: Empresa: | C11: =+IF(ACOMPAÑANTE!D12="","",ACOMPAÑANTE!D12) | F11: Nit: | G11: =+IF(ACOMPAÑANTE!I12="","",ACOMPAÑANTE!I12) | I11: Fecha: | J11: =+IF(ACOMPAÑANTE!O12="","",ACOMPAÑANTE!O12)
B12: Contacto: | C12: =+IF(ACOMPAÑANTE!D13="","",ACOMPAÑANTE!D13) | F12: Cargo: | G12: =+IF(ACOMPAÑANTE!I13="","",ACOMPAÑANTE!I13) | I12: Tel. celular: | J12: =+IF(ACOMPAÑANTE!O13="","",ACOMPAÑANTE!O13)
B13: E-Mail: | C13: =+IF(ACOMPAÑANTE!D14="","",ACOMPAÑANTE!D14) | F13: Dirección: | G13: =+IF(ACOMPAÑANTE!I14="","",ACOMPAÑANTE!I14) | I13: Tel. fijo: | J13: =+IF(ACOMPAÑANTE!O14="","",ACOMPAÑANTE!O14)
B15: Con el fin de conocer la experiencia con la que cuentan las empresas del sector relacionada con el objeto del presente estudio de mercado, agradecemos diligenciar el cuadro que sigue con base en los contratos suscritos en los últimos 5 años, cuyos objetos están relacionados con el objeto del presente estudio de mercado
B17: Tipo de entidad | C17: Entidad o Empresa | D17: Numero del contrato | E17: Objeto del contrato | F17: Fecha de suscripción (dd/mmm/aa) | G17: Plazo de ejecución (en años) | H17: Forma de participación (UT, consorcio, individual) | I17: % de participación | J17: Valor total ejecutado del contrato (de acuerdo con el % de participación)
B29: Nota: Agregar las filas necesarias para reportar la experiencia
