Workbook
Name Decision: [1]lista!$A$6:$A$7
Name Decision: [1]lista!$A$6:$A$7
Name LISTA_TASAS: [2]RESUMEN!$B$22:$B$25
Name PARTICIPACION: [1]lista!$A$15:$A$17
Name PARTICIPACION: [1]lista!$A$15:$A$17
Name Procedencia: [1]lista!$A$2:$A$3
Name Procedencia: [1]lista!$A$2:$A$3
Name tipo: [1]lista!$A$11:$A$13
Name tipo: [1]lista!$A$11:$A$13
Name x: [3]lista!$A$11:$A$13

Sheet OPER BANCARIO Y FINAN
B8: COTIZACIÓN- OPERADOR BANCARIO Y FINANCIERO
B9: EMPRESA: | E9: NIT: | S9: FECHA:
B10: CONTACTO | E10: CARGO: | S10: TEL. CELULAR :
B11: E-MAIL: | E11: DIRECCIÓN: | S11: TELEFONO FIJO:
B12: Instrucciones para el diligenciamiento del formato de cotización
B13: • Por favor diligenciar solo las celdas en AMARILLO. Se deben llenar todas las casillas. • Revisar todos los requerimientos que se exponen en el documento "Ficha de Condiciones Técnicas" ; y formular su cotización en concordancia con este. • Asignar precio sin incluir el IVA en las celdas de la columna "S" y asignar la tarifa de IVA que corresponda en las celdas de la columna "R" • El valor de la cotización deber ser expresado en PESOS COLOMBIANOS. • Los valores unitarios deberán aproximarse por exceso o por defecto al entero más cercano. Si la cifra no está aproximada y aparece con centavos, el ICBF aproximará al entero inferior. • No modificar, agregar o quitar ningún ítem o sub-ítem.
B14: Notas
B15: (1) Tarifas a cuentas Banco Agrario - CENIT: Estas tarias se establecen de acuerdo con el tarifario CENIT - Anexo No. 4 Circular Reglamentaria Extrena DSEP - 152 del Banco de La República y se actualizarán con base en este. Las establecidas en el presente documento son las señaladas en la versión del 10/jun/14, disponible en http://www.banrep.gov.co/sites/default/files/reglamentacion/archivos/dsep_152_anexo4.pdf. BANCARIO - ANEXO 1 - SDC (2) Adicional CENIT: Corresponde a la tarifa por transacción por cada entrada monetaria que cobra el Banco República por la utilización del sistema CENIT. Este valor se debe adicionar a la tarifa por transacción. El valor relacionado incluye IVA. Se actualizará de acuerdo con la Circular Reglamentaria Externa DSP - 152. La establecidad en el presente documento son las señaladas en la versión del 25/abr/14, disponible en: http://www.banrep.gov.co/sites/default/files/reglamentacion/archivos/dsp_152_tarifas_transaccion.pdf BANCARIO - ANEXO 2- SDC (3) Grupos de Ciudades - Grupo 1 - 55 Ciudades, Grupo 2 - 31 Ciudades, Grupo 3 - Resto (Anexo No. 1 de la Circular Reglamentaria CENIT) (10/junio/14). Se actualizará a medida que Banco República publique cambios, disponible http://www.banrep.gov.co/es/contenidos/cobertura-geogr-fica BANCARIO - ANEXO 3- SDC (4) Las estadísticas para el concepto "Pagos masivos con cheques de gerencia (10 pagos o más en un mismo archivo plano)", hacen referencia al número de cheques (no de archivos planos). (5) Las estadísticas que se presentan corresponden a los meses de enero a junio 2014. Son punicamente para efectos de estimar el presupuesto y dimensionar la operación, pero podrán variar durante la ejecución del contrato.
C16: Descripción Operación | G16: Unidad | H16: Total Banco 1 | I16: Promedio Banco 1 | J16: Total Banco 2 | K16: Promedio Banco 2 | L16: Total Banco 3 | M16: Promedio Banco 3 | N16: Total Banco 4 | O16: Promedio Banco 4 | P16: Total Transacciones promedio semestral | Q16: Promedio mensual | R16: Tarifa IVA | S16: Precio Unitario Antes de IVA | T16: Precio Unitario incluido IVA | U16: Adicional CENIT (2)
B18: Servicios de Recaudo | C18: Planillas PILA | D18: Electrónica | F18: Propia | G18: Planilla | H18: =+'ANEXO 1 - FCT'!S6 -> 20727 | I18: =+'ANEXO 1 - FCT'!T6 -> 3454.5 | J18: =+'ANEXO 1 - FCT'!U6 -> 181467 | K18: =+'ANEXO 1 - FCT'!V6 -> 30244.5 | L18: =+'ANEXO 1 - FCT'!W6 -> 54991 | M18: =+'ANEXO 1 - FCT'!X6 -> 9165.1667 | N18: =+'ANEXO 1 - FCT'!Y6 -> 26425 | O18: =+'ANEXO 1 - FCT'!Z6 -> 0 | ... Q18: =+'ANEXO 1 - FCT'!AB6 -> 47268.333 | T18: =+ROUND(S18*(1+$R$18),0) -> 0 | U18: No aplica
F19: Otros | G19: Planilla | H19: =+'ANEXO 1 - FCT'!S7 -> 47115 | I19: =+'ANEXO 1 - FCT'!T7 -> 7852.5 | J19: =+'ANEXO 1 - FCT'!U7 -> 93396 | K19: =+'ANEXO 1 - FCT'!V7 -> 15566 | L19: =+'ANEXO 1 - FCT'!W7 -> 0 | M19: =+'ANEXO 1 - FCT'!X7 -> 0 | N19: =+'ANEXO 1 - FCT'!Y7 -> 0 | O19: =+'ANEXO 1 - FCT'!Z7 -> 0 | ... Q19: =+'ANEXO 1 - FCT'!AB7 -> 23418.5 | T19: =+ROUND(S19*(1+$R$18),0) -> 0
D20: Asistida | F20: Propia | G20: Planilla | H20: =+'ANEXO 1 - FCT'!S8 -> 62151 | I20: =+'ANEXO 1 - FCT'!T8 -> 10358.5 | J20: =+'ANEXO 1 - FCT'!U8 -> 42808 | K20: =+'ANEXO 1 - FCT'!V8 -> 7134.6667 | L20: =+'ANEXO 1 - FCT'!W8 -> 17203 | M20: =+'ANEXO 1 - FCT'!X8 -> 2867.1667 | N20: =+'ANEXO 1 - FCT'!Y8 -> 1503 | O20: =+'ANEXO 1 - FCT'!Z8 -> 250.5 | ... Q20: =+'ANEXO 1 - FCT'!AB8 -> 20610.833 | T20: =+ROUND(S20*(1+$R$18),0) -> 0
F21: Otros | G21: Planilla | H21: =+'ANEXO 1 - FCT'!S9 -> 195496 | I21: =+'ANEXO 1 - FCT'!T9 -> 32582.667 | J21: =+'ANEXO 1 - FCT'!U9 -> 140720 | K21: =+'ANEXO 1 - FCT'!V9 -> 23453.333 | L21: =+'ANEXO 1 - FCT'!W9 -> 0 | M21: =+'ANEXO 1 - FCT'!X9 -> 0 | N21: =+'ANEXO 1 - FCT'!Y9 -> 0 | O21: =+'ANEXO 1 - FCT'!Z9 -> 0 | ... Q21: =+'ANEXO 1 - FCT'!AB9 -> 56036 | T21: =+ROUND(S21*(1+$R$18),0) -> 0
C22: PILA Régimen de Excepción | D22: Consignación Cuenta Propia | F22: Local | G22: Transacción | H22: =+'ANEXO 1 - FCT'!S10 -> 1052 | I22: =+'ANEXO 1 - FCT'!T10 -> 175.33333 | J22: =+'ANEXO 1 - FCT'!U10 -> 458 | K22: =+'ANEXO 1 - FCT'!V10 -> 76.333333 | L22: =+'ANEXO 1 - FCT'!W10 -> 0 | M22: =+'ANEXO 1 - FCT'!X10 -> 0 | N22: =+'ANEXO 1 - FCT'!Y10 -> 1740 | O22: =+'ANEXO 1 - FCT'!Z10 -> 290 | ... Q22: =+'ANEXO 1 - FCT'!AB10 -> 541.66667 | T22: =+ROUND(S22*(1+$R$18),0) -> 0
F23: Nacional | G23: Transacción | H23: =+'ANEXO 1 - FCT'!S11 -> 0 | I23: =+'ANEXO 1 - FCT'!T11 -> 0 | J23: =+'ANEXO 1 - FCT'!U11 -> 77 | K23: =+'ANEXO 1 - FCT'!V11 -> 12.833333 | L23: =+'ANEXO 1 - FCT'!W11 -> 0 | M23: =+'ANEXO 1 - FCT'!X11 -> 0 | N23: =+'ANEXO 1 - FCT'!Y11 -> 0 | O23: =+'ANEXO 1 - FCT'!Z11 -> 0 | ... Q23: =+'ANEXO 1 - FCT'!AB11 -> 12.833333 | T23: =+ROUND(S23*(1+$R$18),0) -> 0
C24: Otros recaudos (cartera fiscalización, pruebas de filiación) | D24: Consignación Cuenta Propia | F24: Local | G24: Transacción | H24: =+'ANEXO 1 - FCT'!S12 -> 3 | I24: =+'ANEXO 1 - FCT'!T12 -> 0.5 | J24: =+'ANEXO 1 - FCT'!U12 -> 61 | K24: =+'ANEXO 1 - FCT'!V12 -> 10.166667 | L24: =+'ANEXO 1 - FCT'!W12 -> 0 | M24: =+'ANEXO 1 - FCT'!X12 -> 0 | N24: =+'ANEXO 1 - FCT'!Y12 -> 420 | O24: =+'ANEXO 1 - FCT'!Z12 -> 70 | ... Q24: =+'ANEXO 1 - FCT'!AB12 -> 80.666667 | T24: =+ROUND(S24*(1+$R$18),0) -> 0
F25: Nacional | G25: Transacción | H25: =+'ANEXO 1 - FCT'!S13 -> 0 | I25: =+'ANEXO 1 - FCT'!T13 -> 0 | J25: =+'ANEXO 1 - FCT'!U13 -> 16 | K25: =+'ANEXO 1 - FCT'!V13 -> 2.6666667 | L25: =+'ANEXO 1 - FCT'!W13 -> 2101 | M25: =+'ANEXO 1 - FCT'!X13 -> 350.16667 | N25: =+'ANEXO 1 - FCT'!Y13 -> 0 | O25: =+'ANEXO 1 - FCT'!Z13 -> 0 | ... Q25: =+'ANEXO 1 - FCT'!AB13 -> 352.83333 | T25: =+ROUND(S25*(1+$R$18),0) -> 0
B26: Pagos | C26: Mismo banco | D26: Proveedores, Progamas y Nómina | G26: Transacción | H26: =+'ANEXO 1 - FCT'!S14 -> 293 | I26: =+'ANEXO 1 - FCT'!T14 -> 48.833333 | J26: =+'ANEXO 1 - FCT'!U14 -> 10904 | K26: =+'ANEXO 1 - FCT'!V14 -> 1817.3333 | L26: =+'ANEXO 1 - FCT'!W14 -> 15728 | M26: =+'ANEXO 1 - FCT'!X14 -> 2621.3333 | N26: =+'ANEXO 1 - FCT'!Y14 -> 6354 | O26: =+'ANEXO 1 - FCT'!Z14 -> 1059 | ... Q26: =+'ANEXO 1 - FCT'!AB14 -> 5546.5 | T26: =+ROUND(S26*(1+$R$18),0) -> 0
C27: Otros bancos | D27: Cuentas ACH | E27: Ciudades Grupo 1 | G27: Transacción | H27: =+'ANEXO 1 - FCT'!S15 -> 7549 | I27: =+'ANEXO 1 - FCT'!T15 -> 1258.1667 | J27: =+'ANEXO 1 - FCT'!U15 -> 13630 | K27: =+'ANEXO 1 - FCT'!V15 -> 2271.6667 | L27: =+'ANEXO 1 - FCT'!W15 -> 15943 | M27: =+'ANEXO 1 - FCT'!X15 -> 2657.1667 | N27: =+'ANEXO 1 - FCT'!Y15 -> 12456 | O27: =+'ANEXO 1 - FCT'!Z15 -> 2076 | ... Q27: =+'ANEXO 1 - FCT'!AB15 -> 8263 | T27: =+ROUND(S27*(1+$R$18),0) -> 0
E28: Ciudades Grupo 2 | G28: Transacción | H28: =+'ANEXO 1 - FCT'!S16 -> 337 | I28: =+'ANEXO 1 - FCT'!T16 -> 56.166667 | J28: =+'ANEXO 1 - FCT'!U16 -> 567 | K28: =+'ANEXO 1 - FCT'!V16 -> 94.5 | L28: =+'ANEXO 1 - FCT'!W16 -> 793 | M28: =+'ANEXO 1 - FCT'!X16 -> 132.16667 | N28: =+'ANEXO 1 - FCT'!Y16 -> 282 | O28: =+'ANEXO 1 - FCT'!Z16 -> 47 | ... Q28: =+'ANEXO 1 - FCT'!AB16 -> 329.83333 | T28: =+ROUND(S28*(1+$R$18),0) -> 0
E29: Ciudades Grupo 3 | G29: Transacción | H29: =+'ANEXO 1 - FCT'!S17 -> 4314 | I29: =+'ANEXO 1 - FCT'!T17 -> 719 | J29: =+'ANEXO 1 - FCT'!U17 -> 1709 | K29: =+'ANEXO 1 - FCT'!V17 -> 284.83333 | L29: =+'ANEXO 1 - FCT'!W17 -> 3331 | M29: =+'ANEXO 1 - FCT'!X17 -> 555.16667 | N29: =+'ANEXO 1 - FCT'!Y17 -> 1740 | O29: =+'ANEXO 1 - FCT'!Z17 -> 290 | ... Q29: =+'ANEXO 1 - FCT'!AB17 -> 1849 | T29: =+ROUND(S29*(1+$R$18),0) -> 0
E30: Ciudades Grupo 4 | G30: Transacción
D31: Cuentas Banco Agrario (Según Anexo No. 4, Circular reglamentaria Externa DSP 152 - CENIT) (Notas 1,2,3) | E31: Ciudades Grupo 1 | F31: SI EAO tiene oficina en plaza EAR | G31: Transacción | H31: =+'ANEXO 1 - FCT'!S19 -> 129 | I31: =+'ANEXO 1 - FCT'!T19 -> 21.5 | J31: =+'ANEXO 1 - FCT'!U19 -> 143 | K31: =+'ANEXO 1 - FCT'!V19 -> 23.833333 | L31: =+'ANEXO 1 - FCT'!W19 -> 68 | M31: =+'ANEXO 1 - FCT'!X19 -> 11.333333 | N31: =+'ANEXO 1 - FCT'!Y19 -> 0 | O31: =+'ANEXO 1 - FCT'!Z19 -> 0 | ... Q31: =+'ANEXO 1 - FCT'!AB19 -> 56.666667 | T31: =+ROUND(S31*(1+$R$18),0) -> 0 | U31: =146 -> 146
F32: SI EAO NO tiene oficina en plaza EAR | G32: Transacción | H32: =+'ANEXO 1 - FCT'!S20 -> 0 | I32: =+'ANEXO 1 - FCT'!T20 -> 0 | J32: =+'ANEXO 1 - FCT'!U20 -> 0 | K32: =+'ANEXO 1 - FCT'!V20 -> 0 | L32: =+'ANEXO 1 - FCT'!W20 -> 0 | M32: =+'ANEXO 1 - FCT'!X20 -> 0 | N32: =+'ANEXO 1 - FCT'!Y20 -> 0 | O32: =+'ANEXO 1 - FCT'!Z20 -> 0 | ... Q32: =+'ANEXO 1 - FCT'!AB20 -> 0 | T32: =+ROUND(S32*(1+$R$18),0) -> 0
E33: Ciudades Grupo 2 | F33: Tarifa fija | G33: Transacción | H33: =+'ANEXO 1 - FCT'!S21 -> 0 | I33: =+'ANEXO 1 - FCT'!T21 -> 0 | J33: =+'ANEXO 1 - FCT'!U21 -> 34 | K33: =+'ANEXO 1 - FCT'!V21 -> 5.6666667 | L33: =+'ANEXO 1 - FCT'!W21 -> 0 | M33: =+'ANEXO 1 - FCT'!X21 -> 0 | N33: =+'ANEXO 1 - FCT'!Y21 -> 0 | O33: =+'ANEXO 1 - FCT'!Z21 -> 0 | ... Q33: =+'ANEXO 1 - FCT'!AB21 -> 5.6666667 | T33: =+ROUND(S33*(1+$R$18),0) -> 0
F34: SI EAO tiene oficina en plaza EAR | G34: Transacción | H34: =+'ANEXO 1 - FCT'!S22 -> 0 | I34: =+'ANEXO 1 - FCT'!T22 -> 0 | J34: =+'ANEXO 1 - FCT'!U22 -> 0 | K34: =+'ANEXO 1 - FCT'!V22 -> 0 | L34: =+'ANEXO 1 - FCT'!W22 -> 0 | M34: =+'ANEXO 1 - FCT'!X22 -> 0 | N34: =+'ANEXO 1 - FCT'!Y22 -> 0 | O34: =+'ANEXO 1 - FCT'!Z22 -> 0 | ... Q34: =+'ANEXO 1 - FCT'!AB22 -> 0 | S34: Aplica tarifa fija | T34: Aplica tarifa fija
F35: SI EAO NO tiene oficina en plaza EAR | G35: Transacción | H35: =+'ANEXO 1 - FCT'!S23 -> 0 | I35: =+'ANEXO 1 - FCT'!T23 -> 0 | J35: =+'ANEXO 1 - FCT'!U23 -> 0 | K35: =+'ANEXO 1 - FCT'!V23 -> 0 | L35: =+'ANEXO 1 - FCT'!W23 -> 0 | M35: =+'ANEXO 1 - FCT'!X23 -> 0 | N35: =+'ANEXO 1 - FCT'!Y23 -> 0 | O35: =+'ANEXO 1 - FCT'!Z23 -> 0 | ... Q35: =+'ANEXO 1 - FCT'!AB23 -> 0 | S35: Aplica tarifa fija | T35: Aplica tarifa fija
E36: Ciudades Grupo 3 | F36: En la plaza funciona mas de una EAR - Compartidas - | G36: Transacción | H36: =+'ANEXO 1 - FCT'!S24 -> 0 | I36: =+'ANEXO 1 - FCT'!T24 -> 0 | J36: =+'ANEXO 1 - FCT'!U24 -> 748 | K36: =+'ANEXO 1 - FCT'!V24 -> 124.66667 | L36: =+'ANEXO 1 - FCT'!W24 -> 347 | M36: =+'ANEXO 1 - FCT'!X24 -> 57.833333 | N36: =+'ANEXO 1 - FCT'!Y24 -> 0 | O36: =+'ANEXO 1 - FCT'!Z24 -> 0 | ... Q36: =+'ANEXO 1 - FCT'!AB24 -> 182.5 | T36: =+ROUND(S36*(1+$R$18),0) -> 0
F37: En la plaza funciona mas de una EAR - Unicas - | G37: Transacción | H37: =+'ANEXO 1 - FCT'!S25 -> 1273 | I37: =+'ANEXO 1 - FCT'!T25 -> 212.16667 | J37: =+'ANEXO 1 - FCT'!U25 -> 1068 | K37: =+'ANEXO 1 - FCT'!V25 -> 178 | L37: =+'ANEXO 1 - FCT'!W25 -> 444 | M37: =+'ANEXO 1 - FCT'!X25 -> 74 | N37: =+'ANEXO 1 - FCT'!Y25 -> 0 | O37: =+'ANEXO 1 - FCT'!Z25 -> 0 | ... Q37: =+'ANEXO 1 - FCT'!AB25 -> 464.16667 | T37: =+ROUND(S37*(1+$R$18),0) -> 0
B38: Servicios de pagos | C38: Otros (Impuestos, Parafiscales, Servicios Públicos,…) | G38: Transacción | H38: =+'ANEXO 1 - FCT'!S28 -> 433 | I38: =+'ANEXO 1 - FCT'!T28 -> 72.166667 | J38: =+'ANEXO 1 - FCT'!U28 -> 0 | K38: =+'ANEXO 1 - FCT'!V28 -> 0 | L38: =+'ANEXO 1 - FCT'!W28 -> 0 | M38: =+'ANEXO 1 - FCT'!X28 -> 0 | N38: =+'ANEXO 1 - FCT'!Y28 -> 0 | O38: =+'ANEXO 1 - FCT'!Z28 -> 0 | ... Q38: =+'ANEXO 1 - FCT'!AB28 -> 72.166667 | T38: =+ROUND(S38*(1+$R$18),0) -> 0 | U38: No aplica
B39: Transferencias Entre Cuentas del ICBF | C39: Cuentas Mismo Banco | G39: Transacción | H39: =+'ANEXO 1 - FCT'!S29 -> 2491 | I39: =+'ANEXO 1 - FCT'!T29 -> 415.16667 | J39: =+'ANEXO 1 - FCT'!U29 -> 461 | K39: =+'ANEXO 1 - FCT'!V29 -> 76.833333 | L39: =+'ANEXO 1 - FCT'!W29 -> 0 | M39: =+'ANEXO 1 - FCT'!X29 -> 0 | N39: =+'ANEXO 1 - FCT'!Y29 -> 2046 | O39: =+'ANEXO 1 - FCT'!Z29 -> 341 | ... Q39: =+'ANEXO 1 - FCT'!AB29 -> 833 | T39: =+ROUND(S39*(1+$R$18),0) -> 0
C40: Cuentas Otros Bancos CENIT | G40: Transacción | H40: =+'ANEXO 1 - FCT'!S30 -> 0 | I40: =+'ANEXO 1 - FCT'!T30 -> 0 | J40: =+'ANEXO 1 - FCT'!U30 -> 0 | K40: =+'ANEXO 1 - FCT'!V30 -> 0 | L40: =+'ANEXO 1 - FCT'!W30 -> 0 | M40: =+'ANEXO 1 - FCT'!X30 -> 0 | N40: =+'ANEXO 1 - FCT'!Y30 -> 0 | O40: =+'ANEXO 1 - FCT'!Z30 -> 0 | ... Q40: =+'ANEXO 1 - FCT'!AB30 -> 0 | T40: =+ROUND(S40*(1+$R$18),0) -> 0 | U40: 146
B41: Otros servicios | C41: Operaciones en Moneda Extranjera | F41: Recibo | G41: Transacción | H41: =+'ANEXO 1 - FCT'!S31 -> 0 | I41: =+'ANEXO 1 - FCT'!T31 -> 0 | J41: =+'ANEXO 1 - FCT'!U31 -> 0 | K41: =+'ANEXO 1 - FCT'!V31 -> 0 | L41: =+'ANEXO 1 - FCT'!W31 -> 0 | M41: =+'ANEXO 1 - FCT'!X31 -> 0 | N41: =+'ANEXO 1 - FCT'!Y31 -> 0 | O41: =+'ANEXO 1 - FCT'!Z31 -> 0 | ... Q41: =+'ANEXO 1 - FCT'!AB31 -> 0 | T41: =+ROUND(S41*(1+$R$18),0) -> 0 | U41: No aplica
F42: Envio | G42: Transacción | H42: =+'ANEXO 1 - FCT'!S32 -> 0 | I42: =+'ANEXO 1 - FCT'!T32 -> 0 | J42: =+'ANEXO 1 - FCT'!U32 -> 0 | K42: =+'ANEXO 1 - FCT'!V32 -> 0 | L42: =+'ANEXO 1 - FCT'!W32 -> 0 | M42: =+'ANEXO 1 - FCT'!X32 -> 0 | N42: =+'ANEXO 1 - FCT'!Y32 -> 0 | O42: =+'ANEXO 1 - FCT'!Z32 -> 0 | ... Q42: =+'ANEXO 1 - FCT'!AB32 -> 0 | T42: =+ROUND(S42*(1+$R$18),0) -> 0
C43: Banca Electrónica | E43: Acceso al portal web de la entidad | G43: Unidad | H43: =+'ANEXO 1 - FCT'!S33 -> 0 | I43: =+'ANEXO 1 - FCT'!T33 -> 0 | J43: =+'ANEXO 1 - FCT'!U33 -> 0 | K43: =+'ANEXO 1 - FCT'!V33 -> 0 | L43: =+'ANEXO 1 - FCT'!W33 -> 0 | M43: =+'ANEXO 1 - FCT'!X33 -> 0 | N43: =+'ANEXO 1 - FCT'!Y33 -> 0 | O43: =+'ANEXO 1 - FCT'!Z33 -> 0 | ... Q43: =+'ANEXO 1 - FCT'!AB33 -> 0 | T43: =+ROUND(S43*(1+$R$18),0) -> 0
E44: Token adicional | G44: Unidad | H44: =+'ANEXO 1 - FCT'!S34 -> 0 | I44: =+'ANEXO 1 - FCT'!T34 -> 0 | J44: =+'ANEXO 1 - FCT'!U34 -> 0 | K44: =+'ANEXO 1 - FCT'!V34 -> 0 | L44: =+'ANEXO 1 - FCT'!W34 -> 0 | M44: =+'ANEXO 1 - FCT'!X34 -> 0 | N44: =+'ANEXO 1 - FCT'!Y34 -> 0 | O44: =+'ANEXO 1 - FCT'!Z34 -> 0 | ... Q44: =+'ANEXO 1 - FCT'!AB34 -> 0 | T44: =+ROUND(S44*(1+$R$18),0) -> 0
C45: Chequera hasta 50 cheques | G45: Chequera | H45: =+'ANEXO 1 - FCT'!S35 -> 0 | I45: =+'ANEXO 1 - FCT'!T35 -> 0 | J45: =+'ANEXO 1 - FCT'!U35 -> 0 | K45: =+'ANEXO 1 - FCT'!V35 -> 0 | L45: =+'ANEXO 1 - FCT'!W35 -> 0 | M45: =+'ANEXO 1 - FCT'!X35 -> 0 | N45: =+'ANEXO 1 - FCT'!Y35 -> 0 | O45: =+'ANEXO 1 - FCT'!Z35 -> 0 | ... Q45: =+'ANEXO 1 - FCT'!AB35 -> 0 | T45: =+ROUND(S45*(1+$R$18),0) -> 0
C46: Chequera hasta 100 cheques | G46: Chequera | H46: =+'ANEXO 1 - FCT'!S36 -> 0 | I46: =+'ANEXO 1 - FCT'!T36 -> 0 | J46: =+'ANEXO 1 - FCT'!U36 -> 0 | K46: =+'ANEXO 1 - FCT'!V36 -> 0 | L46: =+'ANEXO 1 - FCT'!W36 -> 0 | M46: =+'ANEXO 1 - FCT'!X36 -> 0 | N46: =+'ANEXO 1 - FCT'!Y36 -> 0 | O46: =+'ANEXO 1 - FCT'!Z36 -> 0 | ... Q46: =+'ANEXO 1 - FCT'!AB36 -> 0 | T46: =+ROUND(S46*(1+$R$18),0) -> 0
C47: Chequera hasta 150 cheques | G47: Chequera | H47: =+'ANEXO 1 - FCT'!S37 -> 0 | I47: =+'ANEXO 1 - FCT'!T37 -> 0 | J47: =+'ANEXO 1 - FCT'!U37 -> 0 | K47: =+'ANEXO 1 - FCT'!V37 -> 0 | L47: =+'ANEXO 1 - FCT'!W37 -> 0 | M47: =+'ANEXO 1 - FCT'!X37 -> 0 | N47: =+'ANEXO 1 - FCT'!Y37 -> 0 | O47: =+'ANEXO 1 - FCT'!Z37 -> 0 | ... Q47: =+'ANEXO 1 - FCT'!AB37 -> 0 | T47: =+ROUND(S47*(1+$R$18),0) -> 0
C48: Compra Cheques de gerencia | G48: 1 cheque | H48: =+'ANEXO 1 - FCT'!S38 -> 2 | I48: =+'ANEXO 1 - FCT'!T38 -> 0.33333333 | J48: =+'ANEXO 1 - FCT'!U38 -> 71 | K48: =+'ANEXO 1 - FCT'!V38 -> 11.833333 | L48: =+'ANEXO 1 - FCT'!W38 -> 0 | M48: =+'ANEXO 1 - FCT'!X38 -> 0 | N48: =+'ANEXO 1 - FCT'!Y38 -> 0 | O48: =+'ANEXO 1 - FCT'!Z38 -> 0 | ... Q48: =+'ANEXO 1 - FCT'!AB38 -> 12.166667 | T48: =+ROUND(S48*(1+$R$18),0) -> 0
...

Sheet INFO GENERAL Y FINANCIERA
B8: Formato Información General Y Financiera De Proveedores
B10: Ciudad | M10: Fecha Dd/mm/aa | AD10: Persona Natural
AD11: Persona Jurídica
B12: 1. Información General
B13: 1.1. Identificación.
B14: Personas naturales | F14: Nombre Comercial | U14: Nombres y Apellidos | AK14: Cédula
B16: Personas jurídicas | F16: Razón Social | U16: NIT | AK16: DV
B18: Dirección | U18: Teléfono | AD18: Fax | AK18: Ciudad
B20: Pagina Web | U20: Años de Constitución | AD20: Sector al que pertenece
B22: 1.2. Personas De Contacto
B23: Gerente General | K23: E-mail | U23: Teléfono | AD23: Ext. | AK23: Celular
B25: Director Comercial | K25: E-mail | U25: Teléfono | AD25: Ext. | AK25: Celular
B27: Asesor Comercial | K27: E-mail | U27: Teléfono | AD27: Ext. | AK27: Celular
B29: 1.3. Productos Y Servicios Inscritos En El Rup De Acuerdo Con El Unspsc
B30: Incluir Listado Con Breve Descripción De Los Productos Y/o Servicios Que Ofrece La Compañía, Registrados En El Rup (agregue Las Filas Necesarias) | AK30: Código de Naciones Unidas
B36: 1.4. Códigos CIIU | AK36: 1.5. Número De Empleados
B37: Código De Actividad | F37: Descripción Actividad Económica CIIU | AD37: Tarifa ICA
B41: 2. Información Financiera - A Diciembre 31 De 2013
B42: Nombre Del Indicador | M42: Cuenta | U42: Valores En Pesos | AD42: Indicador
B43: Capacidad Financiera | F43: índice De Liquidez | M43: Activo Corriente --> | AD43: =+IFERROR(U43/U44,0) -> 0 | AK43: Veces
M44: Pasivo Corriente -->
F45: Índice De Endeudamiento | M45: Pasivo Total--> | AD45: =+IFERROR(U45/U46,0) -> 0 | AK45: Porcentaje
M46: Activo Total-->
F47: Razón De Cobertura De Intereses | M47: Utilidad Operacional--> | AD47: =+IFERROR(U47/U48,0) -> 0 | AK47: Veces
M48: Gastos De Interés-->
B49: Capacidad Organizacional | F49: Rentabilidad Del Patrimonio | M49: Utilidad Operacional--> | AD49: =+IFERROR(U49/U50,0) -> 0 | AK49: Porcentaje
M50: Patrimonio-->
F51: Rentabilidad Del Activo | M51: Utilidad Operacional--> | AD51: =+IFERROR(U51/U52,0) -> 0 | AK51: Porcentaje
M52: Activo Total-->
B53: Nota: Para las empresas inspeccionadas, vigiladas o controladas por la Supersociedades, la información consignada en este numeral será validada con la reportada a la Supersociedades y disponible para consulta en Internet mediante el Sistema de Información y Riesgo Empresarial de la Supersociedades (SIREM). Si se evidencian diferencias en los valores consignados en este formato y los reportados a la Supersociedades se tomará como referencia la información del SIREM.
B54: Otra información relevante de la empresa (consigne en este espacio otra información que considere de interés)

Sheet POLIZAS
B9: CONCEPTOS A TENER EN CUENTA PARA REALIZAR LA COTIZACIÓN DE DOTACIÓN INDUSTRIAL
B12: El presente cuadro es de carácter informativo, no se debe diligenciar. Sin embargo se entiende que la cotización incluye la totalidad de los conceptos relacionados a continuación.
B14: PÓLIZAS PARA LEGALIZACIÓN DEL CONTRATO
B16: CONCEPTO | D16: COBERTURA | E16: PLAZO (En Meses)
B17: Garantía de Seriedad de la oferta | D17: 0.1 | E17: Plazo de Ejecución
B18: Cumplimiento | D18: 0.2 | E18: Plazo de ejecución + 4 meses mas
B19: Salarios, Prestaciones | D19: 0.1 | E19: Plazo de ejecución + 36 meses mas
B20: Calidad de los Servicios | D20: 0.2 | E20: Plazo de ejecución + 4 meses mas
B21: Responsabilidad civil extracontractual | D21: 0.1 | E21: Plazo de Ejecución
B22: Cobertura: Corresponde al porcentaje del valor total del contrato a amparar.

Sheet INFO EXPERIENCIA
B8: EXPERIENCIA EN CONTRATACION EN LOS ULTIMOS 5 AÑOS
B9: EXPERIENCIA EN CONTRATACIÓN EN LOS ÚLTIMOS 5 AÑOS
B11: Empresa: | C11: =IF('OPER BANCARIO Y FINAN'!D9="","",'OPER BANCARIO Y FINAN'!D9) | F11: Nit: | G11: =IF('OPER BANCARIO Y FINAN'!F9="","",'OPER BANCARIO Y FINAN'!F9) | I11: Fecha: | J11: =IF('OPER BANCARIO Y FINAN'!T9="","",'OPER BANCARIO Y FINAN'!T9)
B12: Contacto: | C12: =IF('OPER BANCARIO Y FINAN'!D10="","",'OPER BANCARIO Y FINAN'!D10) | F12: Cargo: | G12: =IF('OPER BANCARIO Y FINAN'!F10="","",'OPER BANCARIO Y FINAN'!F10) | I12: Tel. celular: | J12: =IF('OPER BANCARIO Y FINAN'!T10="","",'OPER BANCARIO Y FINAN'!T10)
B13: E-Mail: | C13: =IF('OPER BANCARIO Y FINAN'!D11="","",'OPER BANCARIO Y FINAN'!D11) | F13: Dirección: | G13: =IF('OPER BANCARIO Y FINAN'!F11="","",'OPER BANCARIO Y FINAN'!F11) | I13: Tel. fijo: | J13: =IF('OPER BANCARIO Y FINAN'!T11="","",'OPER BANCARIO Y FINAN'!T11)
B15: Con el fin de conocer la experiencia con la que cuentan las empresas del sector relacionada con el objeto del presente estudio de mercado, agradecemos diligenciar el cuadro que sigue con base en los contratos suscritos en los últimos 5 años, cuyos objetos están relacionados con el objeto del presente estudio de mercado
B17: Tipo de entidad | C17: Entidad o Empresa | D17: Numero del contrato | E17: Objeto del contrato | F17: Fecha de suscripción (dd/mmm/aa) | G17: Plazo de ejecución (en años) | H17: Forma de participación (UT, consorcio, individual) | I17: % de participación | J17: Número de Registros | K17: Valor total ejecutado del contrato (de acuerdo con el % de participación)
B29: Nota: Agregar las filas necesarias para reportar la experiencia

Sheet ANEXO 1 - FCT
A1: ANEXO No. 1 -FCT
A2: ICBF - TARIFAS OPERADOR BANCARIO
S3: occidente | U3: colombia | W3: davivienda | Y3: otro
A4: Servicio | B4: Descripción Operación | F4: Unidad | G4: TRANS BD ENE14 | H4: TRANS BD FEB14 | I4: TRANS BD MAR14 | J4: TRANS BD ABR14 | K4: TRANS BD MAY14 | L4: TRANS BD JUN14 | M4: TRANS BD JUL14 | N4: TRANS BD AGO14 | O4: TRANS BD SEP14 | P4: TRANS BD OCT14 | Q4: TRANS BD NOV14 | R4: TRANS BD DIC14 | S4: TRANS BD CONSOL14 | T4: PROMEDIO 14 | U4: TRANS BD CONSOL14 | V4: PROMEDIO 14 | W4: TRANS BD CONSOL14 | X4: PROMEDIO 14 | Y4: TRANS BD CONSOL14 | Z4: PROMEDIO 14 | AA4: TRANS BD CONSOL PARA SEIS MESES | AB4: PROMEDIO MENSUAL
T5: 14 | V5: 14 | X5: 14 | Z5: 14 | AB5: 14
A6: Servicios de Recaudo | B6: Planillas PILA | C6: Electrónica | E6: Propia | F6: Transacción | G6: 46579 | H6: 47705 | I6: 49397 | J6: 47976 | K6: 47261 | L6: 44692 | M6: 0 | N6: 0 | O6: 0 | P6: 0 | Q6: 0 | R6: 0 | S6: 20727 | T6: 3454.5 | U6: 181467 | V6: 30244.5 | W6: 54991 | X6: 9165.1667 | Y6: 26425 | AA6: =+S6+U6+W6+Y6 -> 283610 | AB6: =+AA6/6 -> 47268.333
E7: Otros | F7: Transacción | G7: 22408 | H7: 23420 | I7: 23993 | J7: 23796 | K7: 23286 | L7: 23608 | M7: 0 | N7: 0 | O7: 0 | P7: 0 | Q7: 0 | R7: 0 | S7: 47115 | T7: 7852.5 | U7: 93396 | V7: 15566 | W7: 0 | X7: 0 | Y7: 0 | Z7: 0 | AA7: =+S7+U7+W7+Y7 -> 140511 | AB7: =+AA7/6 -> 23418.5
C8: Asistida | E8: Propia | F8: Transacción | G8: 21574 | H8: 20849 | I8: 21268 | J8: 20317 | K8: 20548 | L8: 19109 | M8: 0 | N8: 0 | O8: 0 | P8: 0 | Q8: 0 | R8: 0 | S8: 62151 | T8: 10358.5 | U8: 42808 | V8: 7134.6667 | W8: 17203 | X8: 2867.1667 | Y8: 1503 | Z8: 250.5 | AA8: =+S8+U8+W8+Y8 -> 123665 | AB8: =+AA8/6 -> 20610.833
E9: Otros | F9: Transacción | G9: 58255 | H9: 55229 | I9: 57817 | J9: 56057 | K9: 56345 | L9: 52513 | M9: 0 | N9: 0 | O9: 0 | P9: 0 | Q9: 0 | R9: 0 | S9: 195496 | T9: 32582.667 | U9: 140720 | V9: 23453.333 | W9: 0 | X9: 0 | Y9: 0 | Z9: 0 | AA9: =+S9+U9+W9+Y9 -> 336216 | AB9: =+AA9/6 -> 56036
B10: PILA Régimen de Excepción | C10: Consignación Cuenta Propia | E10: Local | F10: Transacción | G10: 570 | H10: 554 | I10: 574 | J10: 527 | K10: 500 | L10: 525 | M10: 0 | N10: 0 | O10: 0 | P10: 0 | Q10: 0 | R10: 0 | S10: 1052 | T10: 175.33333 | U10: 458 | V10: 76.333333 | W10: 0 | X10: 0 | Y10: 1740 | Z10: 290 | AA10: =+S10+U10+W10+Y10 -> 3250 | AB10: =+AA10/6 -> 541.66667
E11: Nacional | F11: Transacción | G11: 9 | H11: 15 | I11: 8 | J11: 19 | K11: 12 | L11: 14 | M11: 0 | N11: 0 | O11: 0 | P11: 0 | Q11: 0 | R11: 0 | S11: 0 | U11: 77 | V11: 12.833333 | W11: 0 | X11: 0 | Y11: 0 | Z11: 0 | AA11: =+S11+U11+W11+Y11 -> 77 | AB11: =+AA11/6 -> 12.833333
B12: Otros recaudos (cartera fiscalización, pruebas de filiación) | C12: Consignación Cuenta Propia | E12: Local | F12: Transacción | G12: 75 | H12: 83 | I12: 95 | J12: 83 | K12: 75 | L12: 73 | M12: 0 | N12: 0 | O12: 0 | P12: 0 | Q12: 0 | R12: 0 | S12: 3 | T12: 0.5 | U12: 61 | V12: 10.166667 | W12: 0 | X12: 0 | Y12: 420 | Z12: 70 | AA12: =+S12+U12+W12+Y12 -> 484 | AB12: =+AA12/6 -> 80.666667
E13: Nacional | F13: Transacción | G13: 261 | H13: 309 | I13: 429 | J13: 388 | K13: 342 | L13: 388 | M13: 0 | N13: 0 | O13: 0 | P13: 0 | Q13: 0 | R13: 0 | S13: 0 | U13: 16 | V13: 2.6666667 | W13: 2101 | X13: 350.16667 | Y13: 0 | AA13: =+S13+U13+W13+Y13 -> 2117 | AB13: =+AA13/6 -> 352.83333
A14: Pagos | B14: Mismo banco | C14: Proveedores, Progamas y Nómina | F14: Transacción | G14: 4065 | H14: 5904 | I14: 5375 | J14: 6046 | K14: 5830 | L14: 6059 | M14: 0 | N14: 0 | O14: 0 | P14: 0 | Q14: 0 | R14: 0 | S14: 293 | T14: 48.833333 | U14: 10904 | V14: 1817.3333 | W14: 15728 | X14: 2621.3333 | Y14: 6354 | Z14: 1059 | AA14: =+S14+U14+W14+Y14 -> 33279 | AB14: =+AA14/6 -> 5546.5
B15: Otros bancos | C15: Cuentas ACH (Nota 3) | D15: Ciudades Grupo 1 | F15: Transacción | G15: 4991 | H15: 12028 | I15: 8179 | J15: 8191 | K15: 8128 | L15: 8061 | M15: 0 | N15: 0 | O15: 0 | P15: 0 | Q15: 0 | R15: 0 | S15: 7549 | T15: 1258.1667 | U15: 13630 | V15: 2271.6667 | W15: 15943 | X15: 2657.1667 | Y15: 12456 | Z15: 2076 | AA15: =+S15+U15+W15+Y15 -> 49578 | AB15: =+AA15/6 -> 8263
D16: Ciudades Grupo 2 | F16: Transacción | G16: 172 | H16: 565 | I16: 282 | J16: 293 | K16: 310 | L16: 357 | M16: 0 | N16: 0 | O16: 0 | P16: 0 | Q16: 0 | R16: 0 | S16: 337 | T16: 56.166667 | U16: 567 | V16: 94.5 | W16: 793 | X16: 132.16667 | Y16: 282 | Z16: 47 | AA16: =+S16+U16+W16+Y16 -> 1979 | AB16: =+AA16/6 -> 329.83333
D17: Ciudades Grupo 3 | F17: Transacción | G17: 743 | H17: 2383 | I17: 1841 | J17: 2424 | K17: 1906 | L17: 1797 | M17: 0 | N17: 0 | O17: 0 | P17: 0 | Q17: 0 | R17: 0 | S17: 4314 | T17: 719 | U17: 1709 | V17: 284.83333 | W17: 3331 | X17: 555.16667 | Y17: 1740 | Z17: 290 | AA17: =+S17+U17+W17+Y17 -> 11094 | AB17: =+AA17/6 -> 1849
D18: Ciudades Grupo 4 | F18: Transacción
C19: Cuentas Banco Agrario (Según Anexo No. 4, Circular reglamentaria Externa DSP 152 - CENIT) (Notas 1,2,3) | D19: Ciudades Grupo 1 | E19: SI EAO tiene oficina en plaza EAR | F19: Transacción | G19: 21 | H19: 132 | I19: 60 | J19: 49 | K19: 32 | L19: 46 | M19: 0 | N19: 0 | O19: 0 | P19: 0 | Q19: 0 | R19: 0 | S19: 129 | T19: 21.5 | U19: 143 | V19: 23.833333 | W19: 68 | X19: 11.333333 | Y19: 0 | Z19: 0 | AA19: =+S19+U19+W19+Y19 -> 340 | AB19: =+AA19/6 -> 56.666667
E20: SI EAO NO tiene oficina en plaza EAR | F20: Transacción | G20: 0 | H20: 0 | I20: 0 | J20: 0 | K20: 0 | L20: 0 | M20: 0 | N20: 0 | O20: 0 | P20: 0 | Q20: 0 | R20: 0 | S20: 0 | T20: 0 | U20: 0 | V20: 0 | W20: 0 | X20: 0 | Y20: 0 | Z20: 0 | AA20: =+S20+U20+W20+Y20 -> 0 | AB20: =+AA20/6 -> 0
D21: Ciudades Grupo 2 | E21: Tarifa fija | F21: Transacción | G21: 0 | H21: 5 | I21: 13 | J21: 6 | K21: 1 | L21: 9 | M21: 0 | N21: 0 | O21: 0 | P21: 0 | Q21: 0 | R21: 0 | S21: 0 | T21: 0 | U21: 34 | V21: 5.6666667 | W21: 0 | X21: 0 | Y21: 0 | Z21: 0 | AA21: =+S21+U21+W21+Y21 -> 34 | AB21: =+AA21/6 -> 5.6666667
E22: SI EAO tiene oficina en plaza EAR | F22: Transacción | G22: 0 | H22: 0 | I22: 0 | J22: 0 | K22: 0 | L22: 0 | M22: 0 | N22: 0 | O22: 0 | P22: 0 | Q22: 0 | R22: 0 | S22: 0 | T22: 0 | U22: 0 | V22: 0 | W22: 0 | X22: 0 | Y22: 0 | Z22: 0 | AA22: =+S22+U22+W22+Y22 -> 0 | AB22: =+AA22/6 -> 0
E23: SI EAO NO tiene oficina en plaza EAR | F23: Transacción | G23: 0 | H23: 0 | I23: 0 | J23: 0 | K23: 0 | L23: 0 | M23: 0 | N23: 0 | O23: 0 | P23: 0 | Q23: 0 | R23: 0 | S23: 0 | T23: 0 | U23: 0 | V23: 0 | W23: 0 | X23: 0 | Y23: 0 | Z23: 0 | AA23: =+S23+U23+W23+Y23 -> 0 | AB23: =+AA23/6 -> 0
D24: Ciudades Grupo 3 | E24: En la plaza funciona mas de una EAR - Compartidas - | F24: Transacción | G24: 37 | H24: 372 | I24: 187 | J24: 141 | K24: 158 | L24: 200 | M24: 0 | N24: 0 | O24: 0 | P24: 0 | Q24: 0 | R24: 0 | S24: 0 | T24: 0 | U24: 748 | V24: 124.66667 | W24: 347 | X24: 57.833333 | AA24: =+S24+U24+W24+Y24 -> 1095 | AB24: =+AA24/6 -> 182.5
E25: En la plaza funciona mas de una EAR - Unicas - | F25: Transacción | S25: 1273 | T25: 212.16667 | U25: 1068 | V25: 178 | W25: 444 | X25: 74 | Y25: 0 | Z25: 0 | AA25: =+S25+U25+W25+Y25 -> 2785 | AB25: =+AA25/6 -> 464.16667
D26: Ciudades Grupo 4 | E26: En la plaza funciona mas de una EAR - Compartidas - | F26: Transacción | S26: 0 | T26: 0 | AA26: =+S26+U26+W26+Y26 -> 0 | AB26: =+AA26/6 -> 0
E27: En la plaza funciona mas de una EAR - Unicas - | F27: Transacción | G27: 52 | H27: 1154 | I27: 554 | J27: 455 | K27: 172 | L27: 398 | M27: 0 | N27: 0 | O27: 0 | P27: 0 | Q27: 0 | R27: 0 | S27: 0 | T27: 0 | AA27: =+S27+U27+W27+Y27 -> 0 | AB27: =+AA27/6 -> 0
A28: Servicios de pagos | B28: Otros (Impuestos, Parafiscales, Servicios Públicos,…) | F28: Transacción | G28: 30 | H28: 74 | I28: 59 | J28: 145 | K28: 70 | L28: 55 | M28: 0 | N28: 0 | O28: 0 | P28: 0 | Q28: 0 | R28: 0 | S28: 433 | T28: 72.166667 | U28: 0 | V28: 0 | W28: 0 | X28: 0 | Y28: 0 | Z28: 0 | AA28: =+S28+U28+W28+Y28 -> 433 | AB28: =+AA28/6 -> 72.166667
A29: Transferencias | B29: Cuentas Propias | F29: Transacción | G29: 683 | H29: 816 | I29: 887 | J29: 927 | K29: 844 | L29: 841 | M29: 0 | N29: 0 | O29: 0 | P29: 0 | Q29: 0 | R29: 0 | S29: 2491 | T29: 415.16667 | U29: 461 | V29: 76.833333 | W29: 0 | X29: 0 | Y29: 2046 | Z29: 341 | AA29: =+S29+U29+W29+Y29 -> 4998 | AB29: =+AA29/6 -> 833
B30: Otras Cuentas | F30: Transacción | G30: 0 | H30: 0 | I30: 0 | J30: 0 | K30: 0 | L30: 0 | M30: 0 | N30: 0 | O30: 0 | P30: 0 | Q30: 0 | R30: 0 | S30: 0 | T30: 0 | U30: 0 | V30: 0 | X30: 0 | Y30: 0 | Z30: 0 | AA30: =+S30+U30+W30+Y30 -> 0 | AB30: =+AA30/6 -> 0
A31: Otros servicios | B31: Operaciones en Moneda Extranjera (QUE OPERACIONES | E31: Recibo | F31: Transacción | G31: 0 | H31: 0 | I31: 0 | J31: 0 | K31: 0 | L31: 0 | M31: 0 | N31: 0 | O31: 0 | P31: 0 | Q31: 0 | R31: 0 | S31: 0 | T31: 0 | U31: 0 | V31: 0 | X31: 0 | Y31: 0 | Z31: 0 | AA31: =+S31+U31+W31+Y31 -> 0 | AB31: =+AA31/6 -> 0
E32: Envio | F32: Transacción | G32: 0 | H32: 0 | I32: 0 | J32: 0 | K32: 0 | L32: 0 | M32: 0 | N32: 0 | O32: 0 | P32: 0 | Q32: 0 | R32: 0 | S32: 0 | T32: 0 | U32: 0 | V32: 0 | X32: 0 | Y32: 0 | Z32: 0 | AA32: =+S32+U32+W32+Y32 -> 0 | AB32: =+AA32/6 -> 0
B33: Banca Electrónica | D33: Acceso al portal web de la entidad | F33: Unidad | G33: 0 | H33: 0 | I33: 0 | J33: 0 | K33: 0 | L33: 0 | M33: 0 | N33: 0 | O33: 0 | P33: 0 | Q33: 0 | R33: 0 | S33: 0 | T33: 0 | U33: 0 | V33: 0 | X33: 0 | Y33: 0 | Z33: 0 | AA33: =+S33+U33+W33+Y33 -> 0 | AB33: =+AA33/6 -> 0
D34: Token adicional | F34: Unidad | G34: 0 | H34: 0 | I34: 0 | J34: 0 | K34: 0 | L34: 0 | M34: 0 | N34: 0 | O34: 0 | P34: 0 | Q34: 0 | R34: 0 | S34: 0 | T34: 0 | U34: 0 | V34: 0 | X34: 0 | Y34: 0 | Z34: 0 | AA34: =+S34+U34+W34+Y34 -> 0 | AB34: =+AA34/6 -> 0
B35: Chequera de 50 cheques | F35: Chequera | S35: 0 | T35: 0 | U35: 0 | V35: 0 | AA35: =+S35+U35+W35+Y35 -> 0 | AB35: =+AA35/6 -> 0
B36: Chequera de 100 cheques | F36: Chequera | G36: 0 | H36: 0 | I36: 0 | J36: 0 | K36: 0 | L36: 0 | M36: 0 | N36: 0 | O36: 0 | P36: 0 | Q36: 0 | R36: 0 | S36: 0 | T36: 0 | U36: 0 | V36: 0 | X36: 0 | Y36: 0 | Z36: 0 | AA36: =+S36+U36+W36+Y36 -> 0 | AB36: =+AA36/6 -> 0
B37: Chequera de 150 cheques | F37: Chequera | S37: 0 | T37: 0 | U37: 0 | V37: 0 | AA37: =+S37+U37+W37+Y37 -> 0 | AB37: =+AA37/6 -> 0
B38: COMPRA Cheques de gerencia | F38: 1 cheque | G38: 12 | H38: 18 | I38: 21 | J38: 5 | K38: 8 | L38: 9 | M38: 0 | N38: 0 | O38: 0 | P38: 0 | Q38: 0 | R38: 0 | S38: 2 | T38: 0.33333333 | U38: 71 | V38: 11.833333 | X38: 0 | Y38: 0 | Z38: 0 | AA38: =+S38+U38+W38+Y38 -> 73 | AB38: =+AA38/6 -> 12.166667
B39: Pagos masivos con cheques de gerencia (10 pagos o más en un mismo archivo plano) | F39: 1 cheque | G39: 32 | H39: 27 | I39: 41 | J39: 34 | K39: 42 | L39: 27 | M39: 0 | N39: 0 | O39: 0 | P39: 0 | Q39: 0 | R39: 0 | S39: 203 | T39: 33.833333 | U39: 0 | V39: 0 | X39: 0 | Y39: 0 | Z39: 0 | AA39: =+S39+U39+W39+Y39 -> 203 | AB39: =+AA39/6 -> 33.833333
B40: Copias de extractos esporádicos o periódicos en papel o fax | F40: Extracto | G40: 0 | H40: 0 | I40: 0 | J40: 0 | K40: 0 | L40: 0 | M40: 0 | N40: 0 | O40: 0 | P40: 0 | Q40: 0 | R40: 0 | S40: 0 | T40: 0 | U40: 0 | V40: 0 | X40: 0 | Y40: 0 | Z40: 0 | AA40: =+S40+U40+W40+Y40 -> 0 | AB40: =+AA40/6 -> 0
...
